{"text_format":"1","workbook":"xlsx","n_sheets":19,"sheets":["Cover","Page 1","Page 2","Page 3","Page 4","Page 5","Page 6","Page 7","Page 8","Page 9","Page 10","Summary","Supplement","Fund Balance Reserve","Coding Errors","School listing","COA","Accounting Data","Instructions"],"not_rendered":{"charts":0,"images":2,"macros":1,"external_links":4,"defined_names":565,"comments":0,"pivot_tables":0},"unopened":[],"bounds":{"document_bytes":16777216,"sheet_cells":100000,"rows_first":2000,"rows_last":500,"rows_between":2000,"halvings":0,"cell_chars":16384,"cell_head_chars":4096},"cells_cut":0,"cells_raw":0,"read":"whole","date_system":"1900"}

{"sheet":"Cover","index":0,"n_rows":46,"n_cols":28,"rows_kept":46,"cut":false,"hidden":false,"merged":[[16,15,17,22],[18,15,18,22],[0,9,0,13],[0,14,0,15],[9,14,9,23],[12,15,13,22],[10,15,11,22],[14,0,14,13],[15,0,15,13],[0,16,0,17],[14,15,15,22],[0,3,0,6],[9,0,9,13],[13,0,13,13],[0,0,0,2],[10,11,10,13],[49,2,49,3],[49,4,49,6],[36,2,36,5],[36,8,36,11],[38,2,38,5],[38,8,38,11],[41,2,41,5],[39,8,39,11],[41,8,41,11],[32,2,32,4],[19,2,19,5],[31,2,31,4],[19,8,19,11],[16,0,16,13],[33,23,34,23],[31,15,32,22],[23,15,24,22],[27,15,27,22],[19,15,21,22],[28,15,30,22],[25,15,25,22],[22,15,22,22],[26,15,26,22],[33,15,34,22],[42,22,42,23],[40,22,40,23],[39,2,39,5],[48,2,48,6],[42,8,42,11],[45,8,45,11],[42,2,42,5],[44,8,44,11],[41,22,41,23]]}
["DISTRICT NAME",null,null,"Osborn Elementary School District",null,null,null,null,"COUNTY","Maricopa",null,null,null,null,"CTDS NUMBER",null,"070408000",null,null,null,null,null,null,null,null,"030305000","File origination date:","2023-10-03"]
[null,null,null,null,null,null,null,null,null,null,null,null,null,null,null,null,null,null,null,null,null,null,null,null,null,"100337000"]
[null,null,null,null,null,null,null,null,null,null,null,null,null,null,null,null,null,null,null,null,null,null,null,null,null,"100344000"]
[null,null,null,null,null,null,null,null,null,null,null,null,null,null,null,null,null,null,null,null,null,null,null,null,null,"130302000"]
[null,null,null,null,null,null,null,null,null,null,null,null,null,null,null,null,null,null,null,null,null,null,null,null,null,"130307000"]
[null,null,null,null,null,null,null,null,null,null,null,null,null,null,null,null,null,null,null,null,null,null,null,null,null,"060345000"]
[null,null,null,null,null,null,null,null,null,null,null,null,null,null,null,null,null,null,null,null,null,null,null,null,null,"050309000"]
[null,null,null,null,null,null,null,null,null,null,null,null,null,null,null,null,null,null,null,null,null,null,null,null,null,"020801000"]
[null,null,null,null,null,null,null,null,null,null,null,null,null,null,null,null,null,null,null,null,null,null,null,null,null,"030801000"]
["ANNUAL FINANCIAL REPORT",null,null,null,null,null,null,null,null,null,null,null,null,null,{"$f":"IF(OR(P11<>\"\",P13<>\" \",P15<>\" \",P17<>\" \",P19<>\" \",P20<>\" \",P23<>\" \",P24<>\" \",P26<>\" \",P27<>\" \",P28<>\" \",P29<>\" \",P32<>\" \"),\"ALERT: The following items need to be addressed before the AFR is submitted.\",\" \")","v":" "},null,null,null,null,null,null,null,null,null,null,"050802000"]
[null,null,null,null,null,null,null,null,null,null,null,null,null,null,null,{"$f":"IF('Page 2'!J46=0,\"\",IF(OR('Coding Errors'!G17<>\"\",'Coding Errors'!G29<>\"\",'Coding Errors'!G42<>\"\",'Coding Errors'!G56<>\"\",'Coding Errors'!G64<>\"\"),\"Corrections needed in accounting records - See highlighted cells on the Coding Errors tab.\",\"\"))","v":""},null,null,null,null,null,null,null,null,null,"070801000"]
[null,null,null,null,null,null,null,null,null,null,null,null,null,null,null,null,null,null,null,null,null,null,null,null,null,"070802000"]
[null,null,null,null,null,null,null,null,null,null,null,null,null,null,null,{"$f":"IF('Accounting Data'!AA1>0,\"The Rollup Fund column on the Accounting Data tab is not complete. Enter an appropriate fund code from the USFR Chart of Accounts in the Rollup Fund column for any Final Fund cell that is highlighted red.\",\" \")","v":" "},null,null,null,null,null,null,null,null,null,"080850000"]
["We, the Governing Board of the District, hereby certify the",null,null,null,null,null,null,null,null,null,null,null,null,null,null,null,null,null,null,null,null,null,null,null,null,"090835000"]
["Annual Financial Report and School Level Reporting Form per A.R.S. §15-904 ",null,null,null,null,null,null,null,null,null,null,null,null,null,null,{"$f":"IF(OR(CoverCTDS=Z1,CoverCTDS=Z2,CoverCTDS=Z3,CoverCTDS=Z4,CoverCTDS=Z5,CoverCTDS=Z6,CoverCTDS=Z7,CoverCTDS=Z21),\" \",IF(AND(F001TOTALEXP>0,'Page 6'!N13<=0,'Page 6'!Y43=FALSE),\"Page 6, Other Funds Section: Instructional Improvement Fund 020 side table is not complete.\",\" \"))","v":" "},null,null,null,null,null,null,null,null,null,"090836000"]
["for the Fiscal Year",null,null,null,null,null,null,null,null,null,null,null,null,null,null,null,null,null,null,null,null,null,null,null,null,"100811000"]
["2023",null,null,null,null,null,null,null,null,null,null,null,null,null,null,{"$f":"IF(F665Transf=0,\" \",IF(SUM('[1]Page 7'!J49+'[1]Page 7'!J50)=0,\"Page 6, Other Funds Section: Energy and Water Savings Fund transfers not budgeted for correctly on the expenditure budget.\",\" \"))","v":" "},null,null,null,null,null,null,null,null,null,"110801000"]
[null,null,null,null,null,null,null,null,null,null,null,null,null,null,null,null,null,null,null,null,null,null,null,null,null,"110802000"]
[null,null,null,null,null,null,null,null,null,null,null,null,null,null,null,{"$f":"IF(OR(CoverCTDS=Z1,CoverCTDS=Z2,CoverCTDS=Z3,CoverCTDS=Z4,CoverCTDS=Z5,CoverCTDS=Z6,CoverCTDS=Z7,CoverCTDS=Z8,CoverCTDS=Z9,CoverCTDS=Z10,CoverCTDS=Z11,CoverCTDS=Z12,CoverCTDS=Z13,CoverCTDS=Z14,CoverCTDS=Z15,CoverCTDS=Z16,CoverCTDS=Z17,CoverCTDS=Z18,CoverCTDS=Z19,CoverCTDS=Z20,CoverCTDS=Z21),\" \",IF(F001TOTALEXP>0,IF(AND(TotCurrExpFed<=0,'Page 7'!F36<=0),\"Page 7, Section D:Current Expenditures Table is not complete.\",\" \"),\" \"))","v":" "},null,null,null,null,null,null,null,null,null,"130801000"]
[null,null,"SIGNATURE/DATE",null,null,null,null,null,"SIGNATURE/DATE",null,null,null,null,null,null,{"$f":"IF(AND(F001P200TotActExp>0,TotMOSpEdExp<>ROUND(F001P200TotActExp,0)),\"Page 8, Section B: Amount in this table should agree to M&O page 2, line 24. Please ensure all M&O Fund, Program 200 and 300 SPED expenditures are included.\",\" \")","v":" "},null,null,null,null,null,null,null,null,null,"130802000"]
[null,null,null,null,null,null,null,null,null,null,null,null,null,null,null,null,null,null,null,null,null,null,null,null,null,"060203000"]
[null,null,null,null,null,null,null,null,null,null,null,null,null,null,null,null,null,null,null,null,null,null,null,null,null,140801000]
[null,null,null,null,null,null,null,null,null,null,null,null,null,null,null,{"$f":"IF(AND(F001TOTALEXP>0,CurrentYearSalary=0,PriorYearSalary=0,'Page 7'!T33=FALSE),\"Page 7, Section I is not complete.\",\" \")","v":" "}]
[null,null,null,null,null,null,null,null,null,null,null,null,null,null,null,{"$f":"IF(SUM('Page 9'!D43:D44)=0,\" \",IF(AND(((SUM('Page 9'!D35:D39,'Page 9'!F35:F39)/SUM('Page 9'!D43:D44))>10000),(SUM('Page 9'!D35:D39,'Page 9'!F35:F39)/SUM('Page 9'!D43:D44))<80000),\" \",\"Page 9: Teacher salary information and FTE does not appear to be appropriate.\"))","v":" "}]
[]
[null,null,null,null,null,null,null,null,null,null,null,null,null,null,null,{"$f":"IF(OR(CoverCTDS=Z1,CoverCTDS=Z2,CoverCTDS=Z3,CoverCTDS=Z4,CoverCTDS=Z5,CoverCTDS=Z6,CoverCTDS=Z7,CoverCTDS=Z8,CoverCTDS=Z9,CoverCTDS=Z13,CoverCTDS=Z14,CoverCTDS=Z18,CoverCTDS=Z21,CoverCTDS=Z22),\" \",IF(TotExpNPEFS>0,IF(SUM('Page 9'!D35:F39)<=0,\"Page 9: Teacher Salaries Table is not complete.\",\" \"),\" \"))","v":" "}]
[null,null,null,null,null,null,null,null,null,null,null,null,null,null,null,{"$f":"IF(OR(CoverCTDS=Z1,CoverCTDS=Z2,CoverCTDS=Z3,CoverCTDS=Z4,CoverCTDS=Z5,CoverCTDS=Z6,CoverCTDS=Z7,CoverCTDS=Z8,CoverCTDS=Z9,CoverCTDS=Z13,CoverCTDS=Z14,CoverCTDS=Z18,CoverCTDS=Z21),\" \",IF(TotExpNPEFS>0,IF(SUM('Page 9'!D42:D44)<=0,\"Page 9: Other Items Table is not complete.\",\" \"),\" \"))","v":" "}]
[null,null,null,null,null,null,null,null,null,null,null,null,null,null,null,{"$f":"IF(OR(CoverCTDS=Z1,CoverCTDS=Z2,CoverCTDS=Z3,CoverCTDS=Z6,CoverCTDS=Z7,CoverCTDS=Z8,CoverCTDS=Z13),\" \",IF(F001TOTALEXP=0,\" \",IF(SUM('Page 4'!H50:H54)>0,\" \",\"Page 4: Capital Assets Table is not complete.\")))","v":" "}]
[null,null,null,null,null,null,null,null,null,null,null,null,null,null,null,{"$f":"IF('Page 2'!J46=0,\" \",IF(OR('Page 1'!AA11=\"yes\",'Page 1'!AA26=\"yes\",'Page 1'!AA32=\"yes\",'Page 1'!AA38=\"yes\",'Page 1'!AA47=\"yes\",'Page 1'!AA53=\"yes\",'Page 4'!AB7=\"yes\",'Page 5'!AA6=\"yes\",'Page 6'!Y7=\"yes\",'Page 6'!Y41=\"yes\",'Page 7'!AA5=\"yes\",'Page 8'!AA5=\"yes\",'Page 9'!AA57=\"yes\",'Page 10'!AA41=\"yes\"),Z29,\" \"))","v":" "},null,null,null,null,null,null,null,null,null,"Manually entered cells have not been completed. Enter the applicable amount or account code\nin the cells with orange highlighting on Pages 1, 4, 5, 6, 7, 8, 9, or 10.\nSee the Data Uploading Instructions document for more information on manually completed cells."]
[null,null,null,null,null,null,null,null,null,null,null,null,null,null,null,"CVRDEBTSERV"]
[null,null,"The Annual Financial Report file(s) for FY 2023 uploaded to the Arizona Department of Education's website on"]
[null,null,"2023-10-13",null,null,"contain(s) the data for the AFR described above.",null,null,null,null,null,null,null,null,null,{"$f":"IF('Accounting Data'!C93564=\"\",\" \",\"Accounting data entered has too many rows for this file please contact the \nAccountability Services Division of the Auditor General's Office for a larger file.\")","v":" "}]
[null,null,"Date"]
[null,null,null,null,null,null,null,null,null,null,null,null,null,null,null,{"$f":"IF(AA34=\"X\",\"\",\"Districts must review the FY 2023 AFR Formula Corrections file and make any required formula corrections before finalizing and submitting the AFR. Select the X in the dropdown box in cell AA34 once this step is complete.\")","v":""},null,null,null,null,null,null,null,null,null,null,"X"]
[]
[]
[null,null,"Superintendent Signature",null,null,null,null,null,"Business Manager Signature"]
[]
[null,null,"Michael Robert",null,null,null,null,null,"Colleen Toscano"]
[null,null,"Superintendent (Typed Name)",null,null,null,null,null,"Business Manager (Typed Name)",null,null,null,null,null,null,"TOTAL EXPENDITURES BY FUND"]
[null,null,null,null,null,null,null,null,null,null,null,null,null,null,"1.","Maintenance & Operation (from page 2, line 32)",null,null,null,null,null,"$",{"$f":"F001TOTALEXP","v":18724306}]
[null,null,"Lisa Nye",null,null,null,null,null,"602-707-2002",null,null,null,null,null,"2.","Classroom Site Funds (from page 3, line 13)",null,null,null,null,null,"$",{"$f":"'Page 3'!M21","v":1109353}]
[null,null,"District Contact Employee",null,null,null,null,null,"Telephone Number",null,null,null,null,null,"3.","Unrestricted Capital Outlay (from page 4, UCO Fund line 10)",null,null,null,null,null,"$",{"$f":"F610TotActExp","v":1395749}]
[]
[null,null,null,null,null,null,null,null,"lnye@osbornsd.org"]
[null,null,null,null,null,null,null,null,"Email"]

{"sheet":"Page 1","index":1,"n_rows":67,"n_cols":27,"rows_kept":67,"cut":false,"hidden":false,"merged":[[12,11,12,12],[0,1,0,2],[0,6,0,8],[2,4,3,4],[2,5,3,5],[52,1,52,2],[37,1,37,2],[31,1,31,2],[25,1,25,2],[46,1,46,2]]}
["DISTRICT NAME",{"$f":"CoverDistrictName","v":"Osborn Elementary School District"},null,null,null,"COUNTY",{"$f":"County","v":"Maricopa"},null,null,null,"CTDS NUMBER",{"$f":"Cover!Q1","v":"070408000"}]
[]
[null,null,null,null,"MAINTENANCE AND OPERATION FUND 001","UNRESTRICTED CAPITAL OUTLAY FUND 610","ADJACENT WAYS","BOND BUILDING","DEBT SERVICE"]
["FUNDS AVAILABLE",null,null,null,null,null,"FUND 620","FUND 630","FUND 700 (4)"]
[" ",null,null,null,"ACTUAL","ACTUAL","ACTUAL","ACTUAL","ACTUAL"]
["Beginning Fund Balance (1)",null,null,"1.",{"$f":"'Accounting Data'!R2","v":740270},{"$f":"'Accounting Data'!R374","v":4835313},{"$f":"'Accounting Data'!R375","v":0},{"$f":"'Accounting Data'!R376","v":2407457},{"$f":"'Accounting Data'!R385","v":56812},"1."]
["REVENUES"]
["1000 Local"]
["1110  Property Taxes",null,null,"2.",{"$f":"-(SUMIFS('Accounting Data'!C2:C93564,'Accounting Data'!E2:E93564,\"001\",'Accounting Data'!J2:J93564,\"111?\"))","v":11645590},{"$f":"-(SUMIFS('Accounting Data'!C2:C93564,'Accounting Data'!E2:E93564,\"610\",'Accounting Data'!J2:J93564,\"111?\"))","v":2208259},{"$f":"-(SUMIFS('Accounting Data'!C2:C93564,'Accounting Data'!E2:E93564,\"620\",'Accounting Data'!J2:J93564,\"111?\"))","v":0},null,{"$f":"-(SUMIFS('Accounting Data'!C2:C93564,'Accounting Data'!E2:E93564,\"700\",'Accounting Data'!J2:J93564,\"111?\"))","v":7093987},"2.",-1,"The Maintenance and Operation Fund beginning fund balance includes the revolving "]
["1140  Penalties and Interest on Taxes",null,null,"3.",{"$f":"-(SUMIFS('Accounting Data'!C2:C93564,'Accounting Data'!E2:E93564,\"001\",'Accounting Data'!J2:J93564,\"114?\"))","v":0},null,null,null,null,"3.",null,"account cash balance of",null,1000,"at 7/1/22."]
["1280  Revenue in Lieu of Taxes",null,null,"4.",{"$f":"-(SUMIFS('Accounting Data'!C2:C93564,'Accounting Data'!E2:E93564,\"001\",'Accounting Data'!J2:J93564,\"128?\"))","v":59540},{"$f":"-(SUMIFS('Accounting Data'!C2:C93564,'Accounting Data'!E2:E93564,\"610\",'Accounting Data'!J2:J93564,\"128?\"))","v":6683},{"$f":"-(SUMIFS('Accounting Data'!C2:C93564,'Accounting Data'!E2:E93564,\"620\",'Accounting Data'!J2:J93564,\"128?\"))","v":0},null,{"$f":"-(SUMIFS('Accounting Data'!C2:C93564,'Accounting Data'!E2:E93564,\"700\",'Accounting Data'!J2:J93564,\"128?\"))","v":32313},"4.",null,null,null,null,null,null,null,null,null,null,null,null,null,null,null,null,{"$f":"IF(OR($N$10=\"\",$N$10=\"$\",$L$13=\"\",$L$13=\"$\",$N$16=\"\",$N$16=\"$\",$P$18=\"\",$P$18=\"$\"),\"yes\",\"\")","v":""}]
["1311  Tuition from Individuals Excluding Summer School",null,null,"5.",{"$f":"-(SUMIFS('Accounting Data'!C2:C93564,'Accounting Data'!E2:E93564,\"001\",'Accounting Data'!J2:J93564,\"1311\"))","v":0},{"$f":"-(SUMIFS('Accounting Data'!C2:C93564,'Accounting Data'!E2:E93564,\"610\",'Accounting Data'!J2:J93564,\"1311\"))","v":0},null,null,{"$f":"-(SUMIFS('Accounting Data'!C2:C93564,'Accounting Data'!E2:E93564,\"700\",'Accounting Data'!J2:J93564,\"1311\"))","v":0},"5.",-2,"The Government Property Lease Excise Tax revenue included on line 19 is"]
["1312  Tuition from Individuals for Summer School",null,null,"6.",{"$f":"-(SUMIFS('Accounting Data'!C2:C93564,'Accounting Data'!E2:E93564,\"001\",'Accounting Data'!J2:J93564,\"1312\"))","v":0},{"$f":"-(SUMIFS('Accounting Data'!C2:C93564,'Accounting Data'!E2:E93564,\"610\",'Accounting Data'!J2:J93564,\"1312\"))","v":0},null,null,{"$f":"-(SUMIFS('Accounting Data'!C2:C93564,'Accounting Data'!E2:E93564,\"700\",'Accounting Data'!J2:J93564,\"1312\"))","v":0},"6.",null,9519]
["1320  Tuition from Other Arizona Districts",null,null,"7.",{"$f":"-(SUMIFS('Accounting Data'!C2:C93564,'Accounting Data'!E2:E93564,\"001\",'Accounting Data'!J2:J93564,\"132?\"))","v":0},{"$f":"-(SUMIFS('Accounting Data'!C2:C93564,'Accounting Data'!E2:E93564,\"610\",'Accounting Data'!J2:J93564,\"132?\"))","v":0},null,null,{"$f":"-(SUMIFS('Accounting Data'!C2:C93564,'Accounting Data'!E2:E93564,\"700\",'Accounting Data'!J2:J93564,\"132?\"))","v":0},"7."]
["1330  Tuition from Out-of-State Districts ",null,null,"8.",{"$f":"-(SUMIFS('Accounting Data'!C2:C93564,'Accounting Data'!E2:E93564,\"001\",'Accounting Data'!J2:J93564,\"133?\"))","v":0},{"$f":"-(SUMIFS('Accounting Data'!C2:C93564,'Accounting Data'!E2:E93564,\"610\",'Accounting Data'!J2:J93564,\"133?\"))","v":0},null,null,{"$f":"-(SUMIFS('Accounting Data'!C2:C93564,'Accounting Data'!E2:E93564,\"700\",'Accounting Data'!J2:J93564,\"133?\"))","v":0},"8.",-3,"The Maintenance and Operation Fund ending fund balance includes the revolving  "]
["1340  Tuition from Other Private Sources (Other than Individuals)",null,null,"9.",{"$f":"-(SUMIFS('Accounting Data'!C2:C93564,'Accounting Data'!E2:E93564,\"001\",'Accounting Data'!J2:J93564,\"134?\"))","v":0},{"$f":"-(SUMIFS('Accounting Data'!C2:C93564,'Accounting Data'!E2:E93564,\"610\",'Accounting Data'!J2:J93564,\"134?\"))","v":0},null,null,{"$f":"-(SUMIFS('Accounting Data'!C2:C93564,'Accounting Data'!E2:E93564,\"700\",'Accounting Data'!J2:J93564,\"134?\"))","v":0},"9.",null,"account cash balance of",null,0,"at 6/30/23."]
["1350  Tuition from Other Government Sources Within Arizona",null,null,"10.",{"$f":"-(SUMIFS('Accounting Data'!C2:C93564,'Accounting Data'!E2:E93564,\"001\",'Accounting Data'!J2:J93564,\"135?\"))","v":8125},{"$f":"-(SUMIFS('Accounting Data'!C2:C93564,'Accounting Data'!E2:E93564,\"610\",'Accounting Data'!J2:J93564,\"135?\"))","v":0},null,null,{"$f":"-(SUMIFS('Accounting Data'!C2:C93564,'Accounting Data'!E2:E93564,\"700\",'Accounting Data'!J2:J93564,\"135?\"))","v":0},"10."]
["1360  Tuition from Other Government Sources Outside Arizona",null,null,"11.",{"$f":"-(SUMIFS('Accounting Data'!C2:C93564,'Accounting Data'!E2:E93564,\"001\",'Accounting Data'!J2:J93564,\"136?\"))","v":0},{"$f":"-(SUMIFS('Accounting Data'!C2:C93564,'Accounting Data'!E2:E93564,\"610\",'Accounting Data'!J2:J93564,\"136?\"))","v":0},null,null,{"$f":"-(SUMIFS('Accounting Data'!C2:C93564,'Accounting Data'!E2:E93564,\"700\",'Accounting Data'!J2:J93564,\"136?\"))","v":0},"11.",-4,"Debt Service Fund, interest expenditures amount:",null,null,null,1798700]
["1410  Transportation Fees from Individuals",null,null,"12.",{"$f":"-(SUMIFS('Accounting Data'!C2:C93564,'Accounting Data'!E2:E93564,\"001\",'Accounting Data'!J2:J93564,\"141?\"))","v":0},{"$f":"-(SUMIFS('Accounting Data'!C2:C93564,'Accounting Data'!E2:E93564,\"610\",'Accounting Data'!J2:J93564,\"141?\"))","v":0},null,null,{"$f":"-(SUMIFS('Accounting Data'!C2:C93564,'Accounting Data'!E2:E93564,\"700\",'Accounting Data'!J2:J93564,\"141?\"))","v":0},"12."]
["1420  Transportation Fees from Other Arizona Districts",null,null,"13.",{"$f":"-(SUMIFS('Accounting Data'!C2:C93564,'Accounting Data'!E2:E93564,\"001\",'Accounting Data'!J2:J93564,\"142?\"))","v":0},{"$f":"-(SUMIFS('Accounting Data'!C2:C93564,'Accounting Data'!E2:E93564,\"610\",'Accounting Data'!J2:J93564,\"142?\"))","v":0},null,null,{"$f":"-(SUMIFS('Accounting Data'!C2:C93564,'Accounting Data'!E2:E93564,\"700\",'Accounting Data'!J2:J93564,\"142?\"))","v":0},"13."]
["1430  Transportation Fees from Out-of-State Districts",null,null,"14.",{"$f":"-(SUMIFS('Accounting Data'!C2:C93564,'Accounting Data'!E2:E93564,\"001\",'Accounting Data'!J2:J93564,\"143?\"))","v":0},{"$f":"-(SUMIFS('Accounting Data'!C2:C93564,'Accounting Data'!E2:E93564,\"610\",'Accounting Data'!J2:J93564,\"143?\"))","v":0},null,null,{"$f":"-(SUMIFS('Accounting Data'!C2:C93564,'Accounting Data'!E2:E93564,\"700\",'Accounting Data'!J2:J93564,\"143?\"))","v":0},"14."]
["1440  Transportation Fees from Other Private Sources (Other than Individuals)",null,null,"15.",{"$f":"-(SUMIFS('Accounting Data'!C2:C93564,'Accounting Data'!E2:E93564,\"001\",'Accounting Data'!J2:J93564,\"144?\"))","v":0},{"$f":"-(SUMIFS('Accounting Data'!C2:C93564,'Accounting Data'!E2:E93564,\"610\",'Accounting Data'!J2:J93564,\"144?\"))","v":0},null,null,{"$f":"-(SUMIFS('Accounting Data'!C2:C93564,'Accounting Data'!E2:E93564,\"700\",'Accounting Data'!J2:J93564,\"144?\"))","v":0},"15."]
["1450  Transportation Fees from Other Government Sources Within Arizona",null,null,"16.",{"$f":"-(SUMIFS('Accounting Data'!C2:C93564,'Accounting Data'!E2:E93564,\"001\",'Accounting Data'!J2:J93564,\"145?\"))","v":0},{"$f":"-(SUMIFS('Accounting Data'!C2:C93564,'Accounting Data'!E2:E93564,\"610\",'Accounting Data'!J2:J93564,\"145?\"))","v":0},null,null,{"$f":"-(SUMIFS('Accounting Data'!C2:C93564,'Accounting Data'!E2:E93564,\"700\",'Accounting Data'!J2:J93564,\"145?\"))","v":0},"16."]
["1460  Transportation Fees from Other Government Sources Outside Arizona",null,null,"17.",{"$f":"-(SUMIFS('Accounting Data'!C2:C93564,'Accounting Data'!E2:E93564,\"001\",'Accounting Data'!J2:J93564,\"146?\"))","v":0},{"$f":"-(SUMIFS('Accounting Data'!C2:C93564,'Accounting Data'!E2:E93564,\"610\",'Accounting Data'!J2:J93564,\"146?\"))","v":0},null,null,{"$f":"-(SUMIFS('Accounting Data'!C2:C93564,'Accounting Data'!E2:E93564,\"700\",'Accounting Data'!J2:J93564,\"146?\"))","v":0},"17."]
["1500  Investment Income",null,null,"18.",{"$f":"-(SUMIFS('Accounting Data'!C2:C93564,'Accounting Data'!E2:E93564,\"001\",'Accounting Data'!J2:J93564,\"15??\"))","v":-94394},{"$f":"-(SUMIFS('Accounting Data'!C2:C93564,'Accounting Data'!E2:E93564,\"610\",'Accounting Data'!J2:J93564,\"15??\"))","v":104431},{"$f":"-(SUMIFS('Accounting Data'!C2:C93564,'Accounting Data'!E2:E93564,\"620\",'Accounting Data'!J2:J93564,\"15??\"))","v":0},{"$f":"-(SUMIFS('Accounting Data'!C2:C93564,'Accounting Data'!E2:E93564,\"630\",'Accounting Data'!J2:J93564,\"15??\"))","v":0},{"$f":"-(SUMIFS('Accounting Data'!C2:C93564,'Accounting Data'!E2:E93564,\"700\",'Accounting Data'!J2:J93564,\"15??\"))","v":91526},"18."]
["Other (Specify) (2)","1940 gov lease excise tax, 1980 prior year refund",null,"19.",{"$f":"-(SUMIFS('Accounting Data'!C2:C93564,'Accounting Data'!E2:E93564,\"001\",'Accounting Data'!J2:J93564,\"1???\"))-SUM(E9:E25)","v":20430},{"$f":"-(SUMIFS('Accounting Data'!C2:C93564,'Accounting Data'!E2:E93564,\"610\",'Accounting Data'!J2:J93564,\"1???\"))-SUM(F9:F25)","v":0},{"$f":"-(SUMIFS('Accounting Data'!C2:C93564,'Accounting Data'!E2:E93564,\"620\",'Accounting Data'!J2:J93564,\"1???\"))-(G9+G11+G25)","v":0},{"$f":"-(SUMIFS('Accounting Data'!C2:C93564,'Accounting Data'!E2:E93564,\"630\",'Accounting Data'!J2:J93564,\"1???\"))-H25","v":0},{"$f":"-(SUMIFS('Accounting Data'!C2:C93564,'Accounting Data'!E2:E93564,\"700\",'Accounting Data'!J2:J93564,\"1???\"))-SUM(I9:I25)","v":1},"19.",null,null,null,null,null,null,null,null,null,null,null,null,null,null,null,null,{"$f":"IF(OR(AND(E26<>0,B26=\"\"),AND(F26<>0,B26=\"\"),AND(G26<>0,B26=\"\"),AND(H26<>0,B26=\"\"),AND(I26<>0,B26=\"\")),\"Yes\",\"\")","v":""}]
["                        Subtotal (lines 2-19)",null,null,"20.",{"$f":"SUM(E9:E26)","v":11639291},{"$f":"F9+SUM(F11:F26)","v":2319373},{"$f":"G9+G11+SUM(G25:G26)","v":0},{"$f":"SUM(H25:H26)","v":0},{"$f":"I9+SUM(I11:I26)","v":7217827},"20."]
["2000 County"]
["2110  County School Fund",null,null,"21.",{"$f":"-(SUMIFS('Accounting Data'!C2:C93564,'Accounting Data'!E2:E93564,\"001\",'Accounting Data'!J2:J93564,\"211?\"))","v":0},{"$f":"-(SUMIFS('Accounting Data'!C2:C93564,'Accounting Data'!E2:E93564,\"610\",'Accounting Data'!J2:J93564,\"211?\"))","v":0},null,null,null,"21."]
["2120  County Equalization Assistance",null,null,"22.",{"$f":"-(SUMIFS('Accounting Data'!C2:C93564,'Accounting Data'!E2:E93564,\"001\",'Accounting Data'!J2:J93564,\"212?\"))","v":6576},{"$f":"-(SUMIFS('Accounting Data'!C2:C93564,'Accounting Data'!E2:E93564,\"610\",'Accounting Data'!J2:J93564,\"212?\"))","v":1223},null,null,null,"22."]
["2210  Special County School Reserve Fund",null,null,"23.",{"$f":"-(SUMIFS('Accounting Data'!C2:C93564,'Accounting Data'!E2:E93564,\"001\",'Accounting Data'!J2:J93564,\"221?\"))","v":0},{"$f":"-(SUMIFS('Accounting Data'!C2:C93564,'Accounting Data'!E2:E93564,\"610\",'Accounting Data'!J2:J93564,\"221?\"))","v":0},null,null,null,"23."]
["Other (Specify)",null,null,"24.",{"$f":"-(SUMIFS('Accounting Data'!C2:C93564,'Accounting Data'!E2:E93564,\"001\",'Accounting Data'!J2:J93564,\"2???\"))-SUM(E29:E31)","v":0},{"$f":"-(SUMIFS('Accounting Data'!C2:C93564,'Accounting Data'!E2:E93564,\"610\",'Accounting Data'!J2:J93564,\"2???\"))-SUM(F29:F31)","v":0},null,null,null,"24.",null,null,null,null,null,null,null,null,null,null,null,null,null,null,null,null,{"$f":"IF(OR(AND(E32<>0,B32=\"\"),AND(F32<>0,B32=\"\"),AND(G32<>0,B32=\"\"),AND(H32<>0,B32=\"\"),AND(I32<>0,B32=\"\")),\"Yes\",\"\")","v":""}]
["                        Subtotal (lines 21-24)",null,null,"25.",{"$f":"SUM(E29:E32)","v":6576},{"$f":"SUM(F29:F32)","v":1223},null,null,null,"25."]
["3000 State"]
["3100  Unrestricted",null,null,"26.",{"$f":"-(SUMIFS('Accounting Data'!C2:C93564,'Accounting Data'!E2:E93564,\"001\",'Accounting Data'!J2:J93564,\"310?\"))","v":155500},{"$f":"-(SUMIFS('Accounting Data'!C2:C93564,'Accounting Data'!E2:E93564,\"610\",'Accounting Data'!J2:J93564,\"310?\"))","v":0},null,null,null,"26."]
["3110  State Equalization Assistance",null,null,"27.",{"$f":"-(SUMIFS('Accounting Data'!C2:C93564,'Accounting Data'!E2:E93564,\"001\",'Accounting Data'!J2:J93564,\"311?\"))","v":7320143},{"$f":"-(SUMIFS('Accounting Data'!C2:C93564,'Accounting Data'!E2:E93564,\"610\",'Accounting Data'!J2:J93564,\"311?\"))","v":378330},null,null,null,"27."]
["3120  Additional State Aid",null,null,"28.",{"$f":"-(SUMIFS('Accounting Data'!C2:C93564,'Accounting Data'!E2:E93564,\"001\",'Accounting Data'!J2:J93564,\"312?\"))","v":670327},{"$f":"-(SUMIFS('Accounting Data'!C2:C93564,'Accounting Data'!E2:E93564,\"610\",'Accounting Data'!J2:J93564,\"312?\"))","v":34142},null,null,null,"28."]
["Other (Specify)","to account for rounding in AFR formulas - 3110 & 3120",null,"29.",{"$f":"-(SUMIFS('Accounting Data'!C2:C93564,'Accounting Data'!E2:E93564,\"001\",'Accounting Data'!J2:J93564,\"3???\"))-SUM(E35:E37)","v":0},{"$f":"-(SUMIFS('Accounting Data'!C2:C93564,'Accounting Data'!E2:E93564,\"610\",'Accounting Data'!J2:J93564,\"3???\"))-SUM(F35:F37)","v":1},null,null,{"$f":"-(SUMIFS('Accounting Data'!C2:C93564,'Accounting Data'!E2:E93564,\"700\",'Accounting Data'!J2:J93564,\"3???\"))","v":0},"29.",null,null,null,null,null,null,null,null,null,null,null,null,null,null,null,null,{"$f":"IF(OR(AND(E38<>0,B38=\"\"),AND(F38<>0,B38=\"\"),AND(G38<>0,B38=\"\"),AND(H38<>0,B38=\"\"),AND(I38<>0,B38=\"\")),\"Yes\",\"\")","v":""}]
["                        Subtotal (lines 26-29)",null,null,"30.",{"$f":"SUM(E35:E38)","v":8145970},{"$f":"SUM(F35:F38)","v":412473},null,null,{"$f":"I38","v":0},"30."]
["4000 Federal"]
["4100  Unrestricted Revenue Received Directly from the Federal Government",null,null,"31.",{"$f":"-(SUMIFS('Accounting Data'!C2:C93564,'Accounting Data'!E2:E93564,\"001\",'Accounting Data'!J2:J93564,\"41??\"))","v":0},null,null,null,null,"31."]
["4200  Unrestricted Revenue Received from the Federal Government through the State",null,null,"32.",{"$f":"-(SUMIFS('Accounting Data'!C2:C93564,'Accounting Data'!E2:E93564,\"001\",'Accounting Data'!J2:J93564,\"42??\"))","v":0},null,null,null,null,"32."]
[null,null,null,null,null,null,null,null,null,"33."]
["4700  Revenue Received from the Federal Government through Other Intermediate Agencies",null,null,"33.",{"$f":"-(SUMIFS('Accounting Data'!C2:C93564,'Accounting Data'!E2:E93564,\"001\",'Accounting Data'!J2:J93564,\"47??\"))","v":0},null,null,null,null,"33."]
["4800  Revenue in Lieu of Taxes",null,null,"34.",{"$f":"-(SUMIFS('Accounting Data'!C2:C93564,'Accounting Data'!E2:E93564,\"001\",'Accounting Data'!J2:J93564,\"48??\"))","v":0},null,null,null,null,"34."]
["4900  Revenue for/on Behalf of the District",null,null,"35.",{"$f":"-(SUMIFS('Accounting Data'!C2:C93564,'Accounting Data'!E2:E93564,\"001\",'Accounting Data'!J2:J93564,\"49??\"))","v":0},null,null,null,null,"35."]
["Other (Specify)",null,null,"36.",{"$f":"-(SUMIFS('Accounting Data'!C2:C93564,'Accounting Data'!E2:E93564,\"001\",'Accounting Data'!J2:J93564,\"4???\"))-SUM(E41:E46)","v":0},null,null,null,{"$f":"-(SUMIFS('Accounting Data'!C2:C93564,'Accounting Data'!E2:E93564,\"700\",'Accounting Data'!J2:J93564,\"4???\"))","v":0},"36.",null,null,null,null,null,null,null,null,null,null,null,null,null,null,null,null,{"$f":"IF(OR(AND(E47<>0,B47=\"\"),AND(F47<>0,B47=\"\"),AND(G47<>0,B47=\"\"),AND(H47<>0,B47=\"\"),AND(I47<>0,B47=\"\")),\"Yes\",\"\")","v":""}]
["                        Subtotal (lines 31-36)",null,null,"37.",{"$f":"SUM(E41:E42)+SUM(E44:E47)","v":0},null,null,null,{"$f":"I47","v":0},"37."]
[]
["Total Fund Revenue (lines 20, 25, 30, and 37)",null,null,"38.",{"$f":"E27+E33+E39+E48","v":19791837},{"$f":"F27+F33+F39+F48","v":2733069},{"$f":"G27+G33+G39+G48","v":0},{"$f":"H27+H33+H39+H48","v":0},{"$f":"I27+I33+I39+I48","v":7217827},"38."]
["5100  Issuance of Bonds",null,null,"39.",null,null,null,{"$f":"-(SUMIFS('Accounting Data'!C2:C93564,'Accounting Data'!E2:E93564,\"630\",'Accounting Data'!J2:J93564,\"51??\"))","v":0},{"$f":"-(SUMIFS('Accounting Data'!C2:C93564,'Accounting Data'!E2:E93564,\"700\",'Accounting Data'!J2:J93564,\"51??\"))","v":0},"39."]
["5200  Fund Transfers-In",null,null,"40.",{"$f":"-(SUMIFS('Accounting Data'!C2:C93564,'Accounting Data'!E2:E93564,\"001\",'Accounting Data'!J2:J93564,\"52??\"))","v":0},{"$f":"-(SUMIFS('Accounting Data'!C2:C93564,'Accounting Data'!E2:E93564,\"610\",'Accounting Data'!J2:J93564,\"52??\"))","v":0},{"$f":"-(SUMIFS('Accounting Data'!C2:C93564,'Accounting Data'!E2:E93564,\"620\",'Accounting Data'!J2:J93564,\"52??\"))","v":0},{"$f":"-(SUMIFS('Accounting Data'!C2:C93564,'Accounting Data'!E2:E93564,\"630\",'Accounting Data'!J2:J93564,\"52??\"))","v":0},{"$f":"-(SUMIFS('Accounting Data'!C2:C93564,'Accounting Data'!E2:E93564,\"700\",'Accounting Data'!J2:J93564,\"52??\"))","v":0},"40."]
["Other (Specify)",null,null,"41.",{"$f":"-(SUMIFS('Accounting Data'!C2:C93564,'Accounting Data'!E2:E93564,\"001\",'Accounting Data'!J2:J93564,\"5???\"))-F001TransIn","v":0},{"$f":"-(SUMIFS('Accounting Data'!C2:C93564,'Accounting Data'!E2:E93564,\"610\",'Accounting Data'!J2:J93564,\"5???\"))-F610TransIn","v":0},{"$f":"-(SUMIFS('Accounting Data'!C2:C93564,'Accounting Data'!E2:E93564,\"620\",'Accounting Data'!J2:J93564,\"5???\"))-F620TransfIn","v":0},{"$f":"-(SUMIFS('Accounting Data'!C2:C93564,'Accounting Data'!E2:E93564,\"630\",'Accounting Data'!J2:J93564,\"5???\"))-SUM(H51:H52)","v":0},{"$f":"-(SUMIFS('Accounting Data'!C2:C93564,'Accounting Data'!E2:E93564,\"700\",'Accounting Data'!J2:J93564,\"5???\"))-SUM(I51:I52)","v":0},"41.",null,null,null,null,null,null,null,null,null,null,null,null,null,null,null,null,{"$f":"IF(OR(AND(E53<>0,B53=\"\"),AND(F53<>0,B53=\"\"),AND(G53<>0,B53=\"\"),AND(H53<>0,B53=\"\"),AND(I53<>0,B53=\"\")),\"Yes\",\"\")","v":""}]
["TOTAL FUNDS AVAILABLE (lines 1 and 38 through 41)",null,null,"42.",{"$f":"SUM(E6+E50+E52+E53)","v":20532107},{"$f":"SUM(F6+F50+F52+F53)","v":7568382},{"$f":"SUM(G6+G50+G52+G53)","v":0},{"$f":"SUM(H6+H50+H51+H52+H53)","v":2407457},{"$f":"SUM(I6+I50+I51+I52+I53)","v":7274639},"42."]
["Total Expenditures ",null,null,"43.",{"$f":"F001TOTALEXP","v":18724306},{"$f":"F610TotActExp","v":1395749},{"$f":"SUMIFS('Accounting Data'!C2:C93564,'Accounting Data'!E2:E93564,\"620\",'Accounting Data'!J2:J93564,\"6???\")-SUMIFS('Accounting Data'!C2:C93564,'Accounting Data'!E2:E93564,\"620\",'Accounting Data'!J2:J93564,\"69??\")","v":0},{"$f":"SUMIFS('Accounting Data'!C2:C93564,'Accounting Data'!E2:E93564,\"630\",'Accounting Data'!J2:J93564,\"6???\")-SUMIFS('Accounting Data'!C2:C93564,'Accounting Data'!E2:E93564,\"630\",'Accounting Data'!J2:J93564,\"69??\")","v":1466999},{"$f":"SUMIFS('Accounting Data'!C2:C93564,'Accounting Data'!E2:E93564,\"700\",'Accounting Data'!J2:J93564,\"6???\")-SUMIFS('Accounting Data'!C2:C93564,'Accounting Data'!E2:E93564,\"700\",'Accounting Data'!J2:J93564,\"69??\")","v":7099700},"43."]
["6900  Other Financing Uses and Other Items Including Transfers-Out",null,null,"44.",{"$f":"SUMIFS('Accounting Data'!C2:C93564,'Accounting Data'!E2:E93564,\"001\",'Accounting Data'!J2:J93564,\"69??\")","v":0},{"$f":"SUMIFS('Accounting Data'!C2:C93564,'Accounting Data'!E2:E93564,\"610\",'Accounting Data'!J2:J93564,\"69??\")","v":0},{"$f":"SUMIFS('Accounting Data'!C2:C93564,'Accounting Data'!E2:E93564,\"620\",'Accounting Data'!J2:J93564,\"69??\")","v":0},{"$f":"SUMIFS('Accounting Data'!C2:C93564,'Accounting Data'!E2:E93564,\"630\",'Accounting Data'!J2:J93564,\"69??\")","v":0},{"$f":"SUMIFS('Accounting Data'!C2:C93564,'Accounting Data'!E2:E93564,\"700\",'Accounting Data'!J2:J93564,\"69??\")","v":0},"44."]
["TOTAL EXPENDITURES AND OTHER USES (lines 43 plus 44)",null,null,"45.",{"$f":"E55+E56","v":18724306},{"$f":"SUM(F55:F56)","v":1395749},{"$f":"SUM(G55:G56)","v":0},{"$f":"SUM(H55:H56)","v":1466999},{"$f":"SUM(I55:I56)","v":7099700},"45."]
["ENDING FUND BALANCE (line 42 minus line 45) (3)",null,null,"46.",{"$f":"SUM(E54-E57)","v":1807801},{"$f":"SUM(F54-F57)","v":6172633},{"$f":"SUM(G54-G57)","v":0},{"$f":"SUM(H54-H57)","v":940458},{"$f":"SUM(I54-I57)","v":174939},"46."]
[]
[]
[]
[]
[]
[]
[]
[]
[null,null,"`"]

{"sheet":"Page 2","index":2,"n_rows":46,"n_cols":13,"rows_kept":46,"cut":false,"hidden":false,"merged":[[8,3,9,3],[8,7,9,7],[8,9,9,9],[6,10,7,10],[8,10,9,10],[6,3,7,3],[6,4,7,4],[8,4,9,4],[0,1,0,3],[0,9,0,10],[1,0,1,10],[0,5,0,7],[3,8,3,10],[4,10,5,10],[6,5,7,5],[6,6,7,6],[8,8,9,8],[6,7,7,7],[4,8,5,8],[4,9,5,9],[6,8,7,8],[8,5,9,5],[8,6,9,6],[6,9,7,9],[24,3,25,3],[24,4,25,4],[24,5,25,5],[24,6,25,6],[24,7,25,7],[22,3,23,3],[22,4,23,4],[22,5,23,5],[22,6,23,6],[22,8,23,8],[22,9,23,9],[24,9,25,9],[34,7,35,7],[34,9,35,9],[34,8,35,8],[24,8,25,8],[22,7,23,7],[36,6,37,6],[34,5,35,5],[34,6,35,6],[42,3,43,3],[42,4,43,4],[42,5,43,5],[42,6,43,6],[38,3,39,3],[38,4,39,4],[38,5,39,5],[38,6,39,6],[34,3,35,3],[34,4,35,4],[36,3,37,3],[36,4,37,4],[36,5,37,5],[3,11,5,11],[6,11,7,11],[8,11,9,11],[22,11,23,11],[24,11,25,11],[36,8,37,8],[36,9,37,9],[36,7,37,7],[38,11,39,11],[42,11,43,11],[36,10,37,10],[38,10,39,10],[42,10,43,10],[42,9,43,9],[38,7,39,7],[38,8,39,8],[38,9,39,9],[42,7,43,7],[42,8,43,8],[22,10,23,10],[24,10,25,10],[34,10,35,10],[34,11,35,11],[36,11,37,11]]}
["DISTRICT NAME",{"$f":"CoverDistrictName","v":"Osborn Elementary School District"},null,null,"COUNTY",{"$f":"County","v":"Maricopa"},null,null,"CTDS NUMBER",{"$f":"Cover!Q1","v":"070408000"}]
["MAINTENANCE AND OPERATION FUND (001)—EXPENDITURES"]
[]
[null,null,null,null,"Employee","Purchased Services",null,null,"Totals",null,null,"% Increase/ Decrease in Actual"]
["Expenditures",null,null,"Salaries","Benefits","6300, 6400,","Supplies","Other","Budget","Actual","Prior Year Actual"]
[null,null,null,"6100","6200","6500",6600,6800]
["100 Regular Education",null,null,{"$f":"SUMIFS('Accounting Data'!C2:C93564,'Accounting Data'!E2:E93564,\"001\",'Accounting Data'!H2:H93564,\"1??\",'Accounting Data'!I2:I93564,\"1???\",'Accounting Data'!J2:J93564,\"61??\")","v":5024739},{"$f":"SUMIFS('Accounting Data'!C2:C93564,'Accounting Data'!E2:E93564,\"001\",'Accounting Data'!H2:H93564,\"1??\",'Accounting Data'!I2:I93564,\"1???\",'Accounting Data'!J2:J93564,\"62??\")","v":1494475},{"$f":"SUMIFS('Accounting Data'!C2:C93564,'Accounting Data'!E2:E93564,\"001\",'Accounting Data'!H2:H93564,\"1??\",'Accounting Data'!I2:I93564,\"1???\",'Accounting Data'!J2:J93564,\"63??\")+SUMIFS('Accounting Data'!C2:C93564,'Accounting Data'!E2:E93564,\"001\",'Accounting Data'!H2:H93564,\"1??\",'Accounting Data'!I2:I93564,\"1???\",'Accounting Data'!J2:J93564,\"64??\")+SUMIFS('Accounting Data'!C2:C93564,'Accounting Data'!E2:E93564,\"001\",'Accounting Data'!H2:H93564,\"1??\",'Accounting Data'!I2:I93564,\"1???\",'Accounting Data'!J2:J93564,\"65??\")","v":379673},{"$f":"SUMIFS('Accounting Data'!C2:C93564,'Accounting Data'!E2:E93564,\"001\",'Accounting Data'!H2:H93564,\"1??\",'Accounting Data'!I2:I93564,\"1???\",'Accounting Data'!J2:J93564,\"66??\")","v":102286},{"$f":"SUMIFS('Accounting Data'!C2:C93564,'Accounting Data'!E2:E93564,\"001\",'Accounting Data'!H2:H93564,\"1??\",'Accounting Data'!I2:I93564,\"1???\",'Accounting Data'!J2:J93564,\"68??\")","v":886},{"$f":"[1]!F001P100F1000","v":9303432},{"$f":"SUM(D7:H7)","v":7002059},{"$f":"[2]!F001P100F1000","v":6545975},{"$f":"IF(J7=K7,0,IF(K7>0,(J7-K7)/K7,\"--\"))","v":7.0000000000000007E-2}]
["   1000 Instruction",null,"1.",null,null,null,null,null,null,null,null,null,"1."]
["   2000 Support Services",null," ",{"$f":"SUMIFS('Accounting Data'!C2:C93564,'Accounting Data'!E2:E93564,\"001\",'Accounting Data'!H2:H93564,\"1??\",'Accounting Data'!I2:I93564,\"21??\",'Accounting Data'!J2:J93564,\"61??\")","v":353587},{"$f":"SUMIFS('Accounting Data'!C2:C93564,'Accounting Data'!E2:E93564,\"001\",'Accounting Data'!H2:H93564,\"1??\",'Accounting Data'!I2:I93564,\"21??\",'Accounting Data'!J2:J93564,\"62??\")","v":119342},{"$f":"SUMIFS('Accounting Data'!C2:C93564,'Accounting Data'!E2:E93564,\"001\",'Accounting Data'!H2:H93564,\"1??\",'Accounting Data'!I2:I93564,\"21??\",'Accounting Data'!J2:J93564,\"63??\")+SUMIFS('Accounting Data'!C2:C93564,'Accounting Data'!E2:E93564,\"001\",'Accounting Data'!H2:H93564,\"1??\",'Accounting Data'!I2:I93564,\"21??\",'Accounting Data'!J2:J93564,\"64??\")+SUMIFS('Accounting Data'!C2:C93564,'Accounting Data'!E2:E93564,\"001\",'Accounting Data'!H2:H93564,\"1??\",'Accounting Data'!I2:I93564,\"21??\",'Accounting Data'!J2:J93564,\"65??\")","v":1452},{"$f":"SUMIFS('Accounting Data'!C2:C93564,'Accounting Data'!E2:E93564,\"001\",'Accounting Data'!H2:H93564,\"1??\",'Accounting Data'!I2:I93564,\"21??\",'Accounting Data'!J2:J93564,\"66??\")","v":38824},{"$f":"SUMIFS('Accounting Data'!C2:C93564,'Accounting Data'!E2:E93564,\"001\",'Accounting Data'!H2:H93564,\"1??\",'Accounting Data'!I2:I93564,\"21??\",'Accounting Data'!J2:J93564,\"68??\")","v":0},{"$f":"[1]!F001P100F2100","v":458796},{"$f":"SUM(D9:H9)","v":513205},{"$f":"[2]!F001P100F2100","v":411540},{"$f":"IF(J9=K9,0,IF(K9>0,(J9-K9)/K9,\"--\"))","v":0.247}," "]
["      2100 Students",null,"2.",null,null,null,null,null,null,null,null,null,"2."]
["      2200 Instructional Staff",null,"3.",{"$f":"SUMIFS('Accounting Data'!C2:C93564,'Accounting Data'!E2:E93564,\"001\",'Accounting Data'!H2:H93564,\"1??\",'Accounting Data'!I2:I93564,\"22??\",'Accounting Data'!J2:J93564,\"61??\")","v":577925},{"$f":"SUMIFS('Accounting Data'!C2:C93564,'Accounting Data'!E2:E93564,\"001\",'Accounting Data'!H2:H93564,\"1??\",'Accounting Data'!I2:I93564,\"22??\",'Accounting Data'!J2:J93564,\"62??\")","v":220267},{"$f":"SUMIFS('Accounting Data'!C2:C93564,'Accounting Data'!E2:E93564,\"001\",'Accounting Data'!H2:H93564,\"1??\",'Accounting Data'!I2:I93564,\"22??\",'Accounting Data'!J2:J93564,\"63??\")+SUMIFS('Accounting Data'!C2:C93564,'Accounting Data'!E2:E93564,\"001\",'Accounting Data'!H2:H93564,\"1??\",'Accounting Data'!I2:I93564,\"22??\",'Accounting Data'!J2:J93564,\"64??\")+SUMIFS('Accounting Data'!C2:C93564,'Accounting Data'!E2:E93564,\"001\",'Accounting Data'!H2:H93564,\"1??\",'Accounting Data'!I2:I93564,\"22??\",'Accounting Data'!J2:J93564,\"65??\")","v":45592},{"$f":"SUMIFS('Accounting Data'!C2:C93564,'Accounting Data'!E2:E93564,\"001\",'Accounting Data'!H2:H93564,\"1??\",'Accounting Data'!I2:I93564,\"22??\",'Accounting Data'!J2:J93564,\"66??\")","v":8564},{"$f":"SUMIFS('Accounting Data'!C2:C93564,'Accounting Data'!E2:E93564,\"001\",'Accounting Data'!H2:H93564,\"1??\",'Accounting Data'!I2:I93564,\"22??\",'Accounting Data'!J2:J93564,\"68??\")","v":1572},{"$f":"[1]!F001P100F2200","v":569243},{"$f":"SUM(D11:H11)","v":853920},{"$f":"[2]!F001P100F2200","v":817493},{"$f":"IF(J11=K11,0,IF(K11>0,(J11-K11)/K11,\"--\"))","v":4.4999999999999998E-2},"3."]
["      2300 General Administration",null,"4.",{"$f":"SUMIFS('Accounting Data'!C2:C93564,'Accounting Data'!E2:E93564,\"001\",'Accounting Data'!H2:H93564,\"1??\",'Accounting Data'!I2:I93564,\"23??\",'Accounting Data'!J2:J93564,\"61??\")","v":245961},{"$f":"SUMIFS('Accounting Data'!C2:C93564,'Accounting Data'!E2:E93564,\"001\",'Accounting Data'!H2:H93564,\"1??\",'Accounting Data'!I2:I93564,\"23??\",'Accounting Data'!J2:J93564,\"62??\")","v":78089},{"$f":"SUMIFS('Accounting Data'!C2:C93564,'Accounting Data'!E2:E93564,\"001\",'Accounting Data'!H2:H93564,\"1??\",'Accounting Data'!I2:I93564,\"23??\",'Accounting Data'!J2:J93564,\"63??\")+SUMIFS('Accounting Data'!C2:C93564,'Accounting Data'!E2:E93564,\"001\",'Accounting Data'!H2:H93564,\"1??\",'Accounting Data'!I2:I93564,\"23??\",'Accounting Data'!J2:J93564,\"64??\")+SUMIFS('Accounting Data'!C2:C93564,'Accounting Data'!E2:E93564,\"001\",'Accounting Data'!H2:H93564,\"1??\",'Accounting Data'!I2:I93564,\"23??\",'Accounting Data'!J2:J93564,\"65??\")","v":70250},{"$f":"SUMIFS('Accounting Data'!C2:C93564,'Accounting Data'!E2:E93564,\"001\",'Accounting Data'!H2:H93564,\"1??\",'Accounting Data'!I2:I93564,\"23??\",'Accounting Data'!J2:J93564,\"66??\")","v":2988},{"$f":"SUMIFS('Accounting Data'!C2:C93564,'Accounting Data'!E2:E93564,\"001\",'Accounting Data'!H2:H93564,\"1??\",'Accounting Data'!I2:I93564,\"23??\",'Accounting Data'!J2:J93564,\"68??\")","v":31701},{"$f":"[1]!F001P100F2300","v":367968},{"$f":"SUM(D12:H12)","v":428989},{"$f":"[2]!F001P100F2300","v":375485},{"$f":"IF(J12=K12,0,IF(K12>0,(J12-K12)/K12,\"--\"))","v":0.14199999999999999},"4."]
["      2400 School Administration",null,"5.",{"$f":"SUMIFS('Accounting Data'!C2:C93564,'Accounting Data'!E2:E93564,\"001\",'Accounting Data'!H2:H93564,\"1??\",'Accounting Data'!I2:I93564,\"24??\",'Accounting Data'!J2:J93564,\"61??\")","v":857151},{"$f":"SUMIFS('Accounting Data'!C2:C93564,'Accounting Data'!E2:E93564,\"001\",'Accounting Data'!H2:H93564,\"1??\",'Accounting Data'!I2:I93564,\"24??\",'Accounting Data'!J2:J93564,\"62??\")","v":269691},{"$f":"SUMIFS('Accounting Data'!C2:C93564,'Accounting Data'!E2:E93564,\"001\",'Accounting Data'!H2:H93564,\"1??\",'Accounting Data'!I2:I93564,\"24??\",'Accounting Data'!J2:J93564,\"63??\")+SUMIFS('Accounting Data'!C2:C93564,'Accounting Data'!E2:E93564,\"001\",'Accounting Data'!H2:H93564,\"1??\",'Accounting Data'!I2:I93564,\"24??\",'Accounting Data'!J2:J93564,\"64??\")+SUMIFS('Accounting Data'!C2:C93564,'Accounting Data'!E2:E93564,\"001\",'Accounting Data'!H2:H93564,\"1??\",'Accounting Data'!I2:I93564,\"24??\",'Accounting Data'!J2:J93564,\"65??\")","v":0},{"$f":"SUMIFS('Accounting Data'!C2:C93564,'Accounting Data'!E2:E93564,\"001\",'Accounting Data'!H2:H93564,\"1??\",'Accounting Data'!I2:I93564,\"24??\",'Accounting Data'!J2:J93564,\"66??\")","v":336},{"$f":"SUMIFS('Accounting Data'!C2:C93564,'Accounting Data'!E2:E93564,\"001\",'Accounting Data'!H2:H93564,\"1??\",'Accounting Data'!I2:I93564,\"24??\",'Accounting Data'!J2:J93564,\"68??\")","v":2388},{"$f":"[1]!F001P100F2400","v":1039347},1129566,{"$f":"[2]!F001P100F2400","v":1029522},9.7000000000000003E-2,"5."]
["      2500 Central Services",null,"6.",{"$f":"SUMIFS('Accounting Data'!C2:C93564,'Accounting Data'!E2:E93564,\"001\",'Accounting Data'!H2:H93564,\"1??\",'Accounting Data'!I2:I93564,\"25??\",'Accounting Data'!J2:J93564,\"61??\")","v":612386},{"$f":"SUMIFS('Accounting Data'!C2:C93564,'Accounting Data'!E2:E93564,\"001\",'Accounting Data'!H2:H93564,\"1??\",'Accounting Data'!I2:I93564,\"25??\",'Accounting Data'!J2:J93564,\"62??\")","v":176873},{"$f":"SUMIFS('Accounting Data'!C2:C93564,'Accounting Data'!E2:E93564,\"001\",'Accounting Data'!H2:H93564,\"1??\",'Accounting Data'!I2:I93564,\"25??\",'Accounting Data'!J2:J93564,\"63??\")+SUMIFS('Accounting Data'!C2:C93564,'Accounting Data'!E2:E93564,\"001\",'Accounting Data'!H2:H93564,\"1??\",'Accounting Data'!I2:I93564,\"25??\",'Accounting Data'!J2:J93564,\"64??\")+SUMIFS('Accounting Data'!C2:C93564,'Accounting Data'!E2:E93564,\"001\",'Accounting Data'!H2:H93564,\"1??\",'Accounting Data'!I2:I93564,\"25??\",'Accounting Data'!J2:J93564,\"65??\")","v":109715},{"$f":"SUMIFS('Accounting Data'!C2:C93564,'Accounting Data'!E2:E93564,\"001\",'Accounting Data'!H2:H93564,\"1??\",'Accounting Data'!I2:I93564,\"25??\",'Accounting Data'!J2:J93564,\"66??\")","v":75922},{"$f":"SUMIFS('Accounting Data'!C2:C93564,'Accounting Data'!E2:E93564,\"001\",'Accounting Data'!H2:H93564,\"1??\",'Accounting Data'!I2:I93564,\"25??\",'Accounting Data'!J2:J93564,\"68??\")","v":21524},{"$f":"[1]!F001P100F2500","v":936771},996420,{"$f":"[2]!F001P100F2500","v":1033022},-3.5000000000000003E-2,"6."]
["      2600 Operation & Maintenance of Plant",null,"7.",{"$f":"SUMIFS('Accounting Data'!C2:C93564,'Accounting Data'!E2:E93564,\"001\",'Accounting Data'!H2:H93564,\"1??\",'Accounting Data'!I2:I93564,\"26??\",'Accounting Data'!J2:J93564,\"61??\")","v":124295},{"$f":"SUMIFS('Accounting Data'!C2:C93564,'Accounting Data'!E2:E93564,\"001\",'Accounting Data'!H2:H93564,\"1??\",'Accounting Data'!I2:I93564,\"26??\",'Accounting Data'!J2:J93564,\"62??\")","v":57321},{"$f":"SUMIFS('Accounting Data'!C2:C93564,'Accounting Data'!E2:E93564,\"001\",'Accounting Data'!H2:H93564,\"1??\",'Accounting Data'!I2:I93564,\"26??\",'Accounting Data'!J2:J93564,\"63??\")+SUMIFS('Accounting Data'!C2:C93564,'Accounting Data'!E2:E93564,\"001\",'Accounting Data'!H2:H93564,\"1??\",'Accounting Data'!I2:I93564,\"26??\",'Accounting Data'!J2:J93564,\"64??\")+SUMIFS('Accounting Data'!C2:C93564,'Accounting Data'!E2:E93564,\"001\",'Accounting Data'!H2:H93564,\"1??\",'Accounting Data'!I2:I93564,\"26??\",'Accounting Data'!J2:J93564,\"65??\")","v":964989},{"$f":"SUMIFS('Accounting Data'!C2:C93564,'Accounting Data'!E2:E93564,\"001\",'Accounting Data'!H2:H93564,\"1??\",'Accounting Data'!I2:I93564,\"26??\",'Accounting Data'!J2:J93564,\"66??\")","v":958173},{"$f":"SUMIFS('Accounting Data'!C2:C93564,'Accounting Data'!E2:E93564,\"001\",'Accounting Data'!H2:H93564,\"1??\",'Accounting Data'!I2:I93564,\"26??\",'Accounting Data'!J2:J93564,\"68??\")","v":500},{"$f":"[1]!F001P100F2600","v":1854966},2105278,{"$f":"[2]!F001P100F2600","v":2862602},-0.26500000000000001,"7."]
["      2900 Other",null,"8.",{"$f":"SUMIFS('Accounting Data'!C2:C93564,'Accounting Data'!E2:E93564,\"001\",'Accounting Data'!H2:H93564,\"1??\",'Accounting Data'!I2:I93564,\"29??\",'Accounting Data'!J2:J93564,\"61??\")","v":0},{"$f":"SUMIFS('Accounting Data'!C2:C93564,'Accounting Data'!E2:E93564,\"001\",'Accounting Data'!H2:H93564,\"1??\",'Accounting Data'!I2:I93564,\"29??\",'Accounting Data'!J2:J93564,\"62??\")","v":0},{"$f":"SUMIFS('Accounting Data'!C2:C93564,'Accounting Data'!E2:E93564,\"001\",'Accounting Data'!H2:H93564,\"1??\",'Accounting Data'!I2:I93564,\"29??\",'Accounting Data'!J2:J93564,\"63??\")+SUMIFS('Accounting Data'!C2:C93564,'Accounting Data'!E2:E93564,\"001\",'Accounting Data'!H2:H93564,\"1??\",'Accounting Data'!I2:I93564,\"29??\",'Accounting Data'!J2:J93564,\"64??\")+SUMIFS('Accounting Data'!C2:C93564,'Accounting Data'!E2:E93564,\"001\",'Accounting Data'!H2:H93564,\"1??\",'Accounting Data'!I2:I93564,\"29??\",'Accounting Data'!J2:J93564,\"65??\")","v":0},{"$f":"SUMIFS('Accounting Data'!C2:C93564,'Accounting Data'!E2:E93564,\"001\",'Accounting Data'!H2:H93564,\"1??\",'Accounting Data'!I2:I93564,\"29??\",'Accounting Data'!J2:J93564,\"66??\")","v":0},{"$f":"SUMIFS('Accounting Data'!C2:C93564,'Accounting Data'!E2:E93564,\"001\",'Accounting Data'!H2:H93564,\"1??\",'Accounting Data'!I2:I93564,\"29??\",'Accounting Data'!J2:J93564,\"68??\")","v":0},{"$f":"[1]!F001P100F2900","v":0},0,{"$f":"[2]!F001P100F2900","v":0},0,"8."]
["   3000 Operation of Noninstructional Services",null,"9.",{"$f":"SUMIFS('Accounting Data'!C2:C93564,'Accounting Data'!E2:E93564,\"001\",'Accounting Data'!H2:H93564,\"1??\",'Accounting Data'!I2:I93564,\"3???\",'Accounting Data'!J2:J93564,\"61??\")","v":0},{"$f":"SUMIFS('Accounting Data'!C2:C93564,'Accounting Data'!E2:E93564,\"001\",'Accounting Data'!H2:H93564,\"1??\",'Accounting Data'!I2:I93564,\"3???\",'Accounting Data'!J2:J93564,\"62??\")","v":0},{"$f":"SUMIFS('Accounting Data'!C2:C93564,'Accounting Data'!E2:E93564,\"001\",'Accounting Data'!H2:H93564,\"1??\",'Accounting Data'!I2:I93564,\"3???\",'Accounting Data'!J2:J93564,\"63??\")+SUMIFS('Accounting Data'!C2:C93564,'Accounting Data'!E2:E93564,\"001\",'Accounting Data'!H2:H93564,\"1??\",'Accounting Data'!I2:I93564,\"3???\",'Accounting Data'!J2:J93564,\"64??\")+SUMIFS('Accounting Data'!C2:C93564,'Accounting Data'!E2:E93564,\"001\",'Accounting Data'!H2:H93564,\"1??\",'Accounting Data'!I2:I93564,\"3???\",'Accounting Data'!J2:J93564,\"65??\")","v":21729},{"$f":"SUMIFS('Accounting Data'!C2:C93564,'Accounting Data'!E2:E93564,\"001\",'Accounting Data'!H2:H93564,\"1??\",'Accounting Data'!I2:I93564,\"3???\",'Accounting Data'!J2:J93564,\"66??\")","v":71455},{"$f":"SUMIFS('Accounting Data'!C2:C93564,'Accounting Data'!E2:E93564,\"001\",'Accounting Data'!H2:H93564,\"1??\",'Accounting Data'!I2:I93564,\"3???\",'Accounting Data'!J2:J93564,\"68??\")","v":0},{"$f":"[1]!F001P100F3000","v":75000},93184,{"$f":"[2]!F001P100F3000","v":46787},0.99199999999999999,"9."]
["610 School-Sponsored Cocurricular Activities",null,"10.",{"$f":"SUMIFS('Accounting Data'!C2:C93564,'Accounting Data'!E2:E93564,\"001\",'Accounting Data'!H2:H93564,\"61?\",'Accounting Data'!J2:J93564,\"61??\")","v":0},{"$f":"SUMIFS('Accounting Data'!C2:C93564,'Accounting Data'!E2:E93564,\"001\",'Accounting Data'!H2:H93564,\"61?\",'Accounting Data'!J2:J93564,\"62??\")","v":0},{"$f":"SUMIFS('Accounting Data'!C2:C93564,'Accounting Data'!E2:E93564,\"001\",'Accounting Data'!H2:H93564,\"61?\",'Accounting Data'!J2:J93564,\"63??\")+SUMIFS('Accounting Data'!C2:C93564,'Accounting Data'!E2:E93564,\"001\",'Accounting Data'!H2:H93564,\"61?\",'Accounting Data'!J2:J93564,\"64??\")+SUMIFS('Accounting Data'!C2:C93564,'Accounting Data'!E2:E93564,\"001\",'Accounting Data'!H2:H93564,\"61?\",'Accounting Data'!J2:J93564,\"65??\")","v":0},{"$f":"SUMIFS('Accounting Data'!C2:C93564,'Accounting Data'!E2:E93564,\"001\",'Accounting Data'!H2:H93564,\"61?\",'Accounting Data'!J2:J93564,\"66??\")","v":0},{"$f":"SUMIFS('Accounting Data'!C2:C93564,'Accounting Data'!E2:E93564,\"001\",'Accounting Data'!H2:H93564,\"61?\",'Accounting Data'!J2:J93564,\"68??\")","v":0},{"$f":"[1]!F001P610","v":0},0,{"$f":"[2]!F001P610","v":532},-1,"10."]
["620 School-Sponsored Athletics",null,"11.",{"$f":"SUMIFS('Accounting Data'!C2:C93564,'Accounting Data'!E2:E93564,\"001\",'Accounting Data'!H2:H93564,\"62?\",'Accounting Data'!J2:J93564,\"61??\")","v":8500},{"$f":"SUMIFS('Accounting Data'!C2:C93564,'Accounting Data'!E2:E93564,\"001\",'Accounting Data'!H2:H93564,\"62?\",'Accounting Data'!J2:J93564,\"62??\")","v":1311},{"$f":"SUMIFS('Accounting Data'!C2:C93564,'Accounting Data'!E2:E93564,\"001\",'Accounting Data'!H2:H93564,\"62?\",'Accounting Data'!J2:J93564,\"63??\")+SUMIFS('Accounting Data'!C2:C93564,'Accounting Data'!E2:E93564,\"001\",'Accounting Data'!H2:H93564,\"62?\",'Accounting Data'!J2:J93564,\"64??\")+SUMIFS('Accounting Data'!C2:C93564,'Accounting Data'!E2:E93564,\"001\",'Accounting Data'!H2:H93564,\"62?\",'Accounting Data'!J2:J93564,\"65??\")","v":0},{"$f":"SUMIFS('Accounting Data'!C2:C93564,'Accounting Data'!E2:E93564,\"001\",'Accounting Data'!H2:H93564,\"62?\",'Accounting Data'!J2:J93564,\"66??\")","v":0},{"$f":"SUMIFS('Accounting Data'!C2:C93564,'Accounting Data'!E2:E93564,\"001\",'Accounting Data'!H2:H93564,\"62?\",'Accounting Data'!J2:J93564,\"68??\")","v":3650},{"$f":"[1]!F001P620","v":21600},13461,{"$f":"[2]!F001P620","v":6110},1.2030000000000001,"11."]
["630 Other Instructional Programs",null,"12.",{"$f":"SUMIFS('Accounting Data'!C2:C93564,'Accounting Data'!E2:E93564,\"001\",'Accounting Data'!H2:H93564,\"63?\",'Accounting Data'!J2:J93564,\"61??\")","v":0},{"$f":"SUMIFS('Accounting Data'!C2:C93564,'Accounting Data'!E2:E93564,\"001\",'Accounting Data'!H2:H93564,\"63?\",'Accounting Data'!J2:J93564,\"62??\")","v":0},{"$f":"SUMIFS('Accounting Data'!C2:C93564,'Accounting Data'!E2:E93564,\"001\",'Accounting Data'!H2:H93564,\"63?\",'Accounting Data'!J2:J93564,\"63??\")+SUMIFS('Accounting Data'!C2:C93564,'Accounting Data'!E2:E93564,\"001\",'Accounting Data'!H2:H93564,\"63?\",'Accounting Data'!J2:J93564,\"64??\")+SUMIFS('Accounting Data'!C2:C93564,'Accounting Data'!E2:E93564,\"001\",'Accounting Data'!H2:H93564,\"63?\",'Accounting Data'!J2:J93564,\"65??\")","v":0},{"$f":"SUMIFS('Accounting Data'!C2:C93564,'Accounting Data'!E2:E93564,\"001\",'Accounting Data'!H2:H93564,\"63?\",'Accounting Data'!J2:J93564,\"66??\")","v":0},{"$f":"SUMIFS('Accounting Data'!C2:C93564,'Accounting Data'!E2:E93564,\"001\",'Accounting Data'!H2:H93564,\"63?\",'Accounting Data'!J2:J93564,\"68??\")","v":0},{"$f":"[1]!F001P630","v":0},0,{"$f":"[2]!F001P630","v":0},0,"12."]
["700, 800, 900 Other Programs",null,"13.",{"$f":"SUMIFS('Accounting Data'!C2:C93564,'Accounting Data'!E2:E93564,\"001\",'Accounting Data'!H2:H93564,\"7??\",'Accounting Data'!J2:J93564,\"61??\")+SUMIFS('Accounting Data'!C2:C93564,'Accounting Data'!E2:E93564,\"001\",'Accounting Data'!H2:H93564,\"8??\",'Accounting Data'!J2:J93564,\"61??\")+SUMIFS('Accounting Data'!C2:C93564,'Accounting Data'!E2:E93564,\"001\",'Accounting Data'!H2:H93564,\"9??\",'Accounting Data'!J2:J93564,\"61??\")","v":0},{"$f":"SUMIFS('Accounting Data'!C2:C93564,'Accounting Data'!E2:E93564,\"001\",'Accounting Data'!H2:H93564,\"7??\",'Accounting Data'!J2:J93564,\"62??\")+SUMIFS('Accounting Data'!C2:C93564,'Accounting Data'!E2:E93564,\"001\",'Accounting Data'!H2:H93564,\"8??\",'Accounting Data'!J2:J93564,\"62??\")+SUMIFS('Accounting Data'!C2:C93564,'Accounting Data'!E2:E93564,\"001\",'Accounting Data'!H2:H93564,\"9??\",'Accounting Data'!J2:J93564,\"62??\")","v":0},{"$f":"SUMIFS('Accounting Data'!C2:C93564,'Accounting Data'!E2:E93564,\"001\",'Accounting Data'!H2:H93564,\"7??\",'Accounting Data'!J2:J93564,\"63??\")+SUMIFS('Accounting Data'!C2:C93564,'Accounting Data'!E2:E93564,\"001\",'Accounting Data'!H2:H93564,\"7??\",'Accounting Data'!J2:J93564,\"64??\")+SUMIFS('Accounting Data'!C2:C93564,'Accounting Data'!E2:E93564,\"001\",'Accounting Data'!H2:H93564,\"7??\",'Accounting Data'!J2:J93564,\"65??\")+SUMIFS('Accounting Data'!C2:C93564,'Accounting Data'!E2:E93564,\"001\",'Accounting Data'!H2:H93564,\"8??\",'Accounting Data'!J2:J93564,\"63??\")+SUMIFS('Accounting Data'!C2:C93564,'Accounting Data'!E2:E93564,\"001\",'Accounting Data'!H2:H93564,\"8??\",'Accounting Data'!J2:J93564,\"64??\")+SUMIFS('Accounting Data'!C2:C93564,'Accounting Data'!E2:E93564,\"001\",'Accounting Data'!H2:H93564,\"8??\",'Accounting Data'!J2:J93564,\"65??\")+SUMIFS('Accounting Data'!C2:C93564,'Accounting Data'!E2:E93564,\"001\",'Accounting Data'!H2:H93564,\"9??\",'Accounting Data'!J2:J93564,\"63??\")+SUMIFS('Accounting Data'!C2:C93564,'Accounting Data'!E2:E93564,\"001\",'Accounting Data'!H2:H93564,\"9??\",'Accounting Data'!J2:J93564,\"64??\")+SUMIFS('Accounting Data'!C2:C93564,'Accounting Data'!E2:E93564,\"001\",'Accounting Data'!H2:H93564,\"9??\",'Accounting Data'!J2:J93564,\"65??\")","v":0},{"$f":"SUMIFS('Accounting Data'!C2:C93564,'Accounting Data'!E2:E93564,\"001\",'Accounting Data'!H2:H93564,\"7??\",'Accounting Data'!J2:J93564,\"66??\")+SUMIFS('Accounting Data'!C2:C93564,'Accounting Data'!E2:E93564,\"001\",'Accounting Data'!H2:H93564,\"8??\",'Accounting Data'!J2:J93564,\"66??\")+SUMIFS('Accounting Data'!C2:C93564,'Accounting Data'!E2:E93564,\"001\",'Accounting Data'!H2:H93564,\"9??\",'Accounting Data'!J2:J93564,\"66??\")","v":0},{"$f":"SUMIFS('Accounting Data'!C2:C93564,'Accounting Data'!E2:E93564,\"001\",'Accounting Data'!H2:H93564,\"7??\",'Accounting Data'!J2:J93564,\"68??\")+SUMIFS('Accounting Data'!C2:C93564,'Accounting Data'!E2:E93564,\"001\",'Accounting Data'!H2:H93564,\"8??\",'Accounting Data'!J2:J93564,\"68??\")+SUMIFS('Accounting Data'!C2:C93564,'Accounting Data'!E2:E93564,\"001\",'Accounting Data'!H2:H93564,\"9??\",'Accounting Data'!J2:J93564,\"68??\")","v":0},{"$f":"[1]!F001P700800900","v":0},0,{"$f":"[2]!F001P700800900","v":0},0,"13."]
["   Regular Education Subsection Subtotal (lines 1-13) ",null,"14.",{"$f":"D7+D9+SUM(D11:D17)+SUM(D18:D21)","v":7804544},{"$f":"E7+E9+SUM(E11:E17)+SUM(E18:E21)","v":2417369},{"$f":"F7+F9+SUM(F11:F17)+SUM(F18:F21)","v":1593400},{"$f":"G7+G9+SUM(G11:G17)+SUM(G18:G21)","v":1258548},{"$f":"H7+H9+SUM(H11:H17)+SUM(H18:H21)","v":62221},{"$f":"I7+I9+SUM(I11:I21)","v":14627123},{"$f":"J7+J9+SUM(J11:J21)","v":13136082},{"$f":"K7+K9+SUM(K11:K21)","v":13129068},1E-3,"14."]
["200 and 300 Special Education",null,null,{"$f":"SUMIFS('Accounting Data'!C2:C93564,'Accounting Data'!E2:E93564,\"001\",'Accounting Data'!H2:H93564,\"2??\",'Accounting Data'!I2:I93564,\"1???\",'Accounting Data'!J2:J93564,\"61??\")+SUMIFS('Accounting Data'!C2:C93564,'Accounting Data'!E2:E93564,\"001\",'Accounting Data'!H2:H93564,\"3??\",'Accounting Data'!I2:I93564,\"1???\",'Accounting Data'!J2:J93564,\"61??\")","v":1642916},{"$f":"SUMIFS('Accounting Data'!C2:C93564,'Accounting Data'!E2:E93564,\"001\",'Accounting Data'!H2:H93564,\"2??\",'Accounting Data'!I2:I93564,\"1???\",'Accounting Data'!J2:J93564,\"62??\")+SUMIFS('Accounting Data'!C2:C93564,'Accounting Data'!E2:E93564,\"001\",'Accounting Data'!H2:H93564,\"3??\",'Accounting Data'!I2:I93564,\"1???\",'Accounting Data'!J2:J93564,\"62??\")","v":526635},{"$f":"SUMIFS('Accounting Data'!C2:C93564,'Accounting Data'!E2:E93564,\"001\",'Accounting Data'!H2:H93564,\"2??\",'Accounting Data'!I2:I93564,\"1???\",'Accounting Data'!J2:J93564,\"63??\")+SUMIFS('Accounting Data'!C2:C93564,'Accounting Data'!E2:E93564,\"001\",'Accounting Data'!H2:H93564,\"2??\",'Accounting Data'!I2:I93564,\"1???\",'Accounting Data'!J2:J93564,\"64??\")+SUMIFS('Accounting Data'!C2:C93564,'Accounting Data'!E2:E93564,\"001\",'Accounting Data'!H2:H93564,\"2??\",'Accounting Data'!I2:I93564,\"1???\",'Accounting Data'!J2:J93564,\"65??\")+SUMIFS('Accounting Data'!C2:C93564,'Accounting Data'!E2:E93564,\"001\",'Accounting Data'!H2:H93564,\"3??\",'Accounting Data'!I2:I93564,\"1???\",'Accounting Data'!J2:J93564,\"63??\")+SUMIFS('Accounting Data'!C2:C93564,'Accounting Data'!E2:E93564,\"001\",'Accounting Data'!H2:H93564,\"3??\",'Accounting Data'!I2:I93564,\"1???\",'Accounting Data'!J2:J93564,\"64??\")+SUMIFS('Accounting Data'!C2:C93564,'Accounting Data'!E2:E93564,\"001\",'Accounting Data'!H2:H93564,\"3??\",'Accounting Data'!I2:I93564,\"1???\",'Accounting Data'!J2:J93564,\"65??\")","v":520011},{"$f":"SUMIFS('Accounting Data'!C2:C93564,'Accounting Data'!E2:E93564,\"001\",'Accounting Data'!H2:H93564,\"2??\",'Accounting Data'!I2:I93564,\"1???\",'Accounting Data'!J2:J93564,\"66??\")+SUMIFS('Accounting Data'!C2:C93564,'Accounting Data'!E2:E93564,\"001\",'Accounting Data'!H2:H93564,\"3??\",'Accounting Data'!I2:I93564,\"1???\",'Accounting Data'!J2:J93564,\"66??\")","v":10026},{"$f":"SUMIFS('Accounting Data'!C2:C93564,'Accounting Data'!E2:E93564,\"001\",'Accounting Data'!H2:H93564,\"2??\",'Accounting Data'!I2:I93564,\"1???\",'Accounting Data'!J2:J93564,\"68??\")+SUMIFS('Accounting Data'!C2:C93564,'Accounting Data'!E2:E93564,\"001\",'Accounting Data'!H2:H93564,\"3??\",'Accounting Data'!I2:I93564,\"1???\",'Accounting Data'!J2:J93564,\"68??\")","v":400},{"$f":"[1]!F001P200F1000","v":3843031},{"$f":"SUM(D23:H23)","v":2699988},{"$f":"[2]!F001P200F1000","v":2629072},{"$f":"IF(J23=K23,0,IF(K23>0,(J23-K23)/K23,\"--\"))","v":2.7E-2}]
["   1000 Instruction",null,"15.",null,null,null,null,null,null,null,null,null,"15."]
["   2000 Support Services",null,null,{"$f":"SUMIFS('Accounting Data'!C2:C93564,'Accounting Data'!E2:E93564,\"001\",'Accounting Data'!H2:H93564,\"2??\",'Accounting Data'!I2:I93564,\"21??\",'Accounting Data'!J2:J93564,\"61??\")+SUMIFS('Accounting Data'!C2:C93564,'Accounting Data'!E2:E93564,\"001\",'Accounting Data'!H2:H93564,\"3??\",'Accounting Data'!I2:I93564,\"21??\",'Accounting Data'!J2:J93564,\"61??\")","v":878971},{"$f":"SUMIFS('Accounting Data'!C2:C93564,'Accounting Data'!E2:E93564,\"001\",'Accounting Data'!H2:H93564,\"2??\",'Accounting Data'!I2:I93564,\"21??\",'Accounting Data'!J2:J93564,\"62??\")+SUMIFS('Accounting Data'!C2:C93564,'Accounting Data'!E2:E93564,\"001\",'Accounting Data'!H2:H93564,\"3??\",'Accounting Data'!I2:I93564,\"21??\",'Accounting Data'!J2:J93564,\"62??\")","v":232734},{"$f":"SUMIFS('Accounting Data'!C2:C93564,'Accounting Data'!E2:E93564,\"001\",'Accounting Data'!H2:H93564,\"2??\",'Accounting Data'!I2:I93564,\"21??\",'Accounting Data'!J2:J93564,\"63??\")+SUMIFS('Accounting Data'!C2:C93564,'Accounting Data'!E2:E93564,\"001\",'Accounting Data'!H2:H93564,\"2??\",'Accounting Data'!I2:I93564,\"21??\",'Accounting Data'!J2:J93564,\"64??\")+SUMIFS('Accounting Data'!C2:C93564,'Accounting Data'!E2:E93564,\"001\",'Accounting Data'!H2:H93564,\"2??\",'Accounting Data'!I2:I93564,\"21??\",'Accounting Data'!J2:J93564,\"65??\")+SUMIFS('Accounting Data'!C2:C93564,'Accounting Data'!E2:E93564,\"001\",'Accounting Data'!H2:H93564,\"3??\",'Accounting Data'!I2:I93564,\"21??\",'Accounting Data'!J2:J93564,\"63??\")+SUMIFS('Accounting Data'!C2:C93564,'Accounting Data'!E2:E93564,\"001\",'Accounting Data'!H2:H93564,\"3??\",'Accounting Data'!I2:I93564,\"21??\",'Accounting Data'!J2:J93564,\"64??\")+SUMIFS('Accounting Data'!C2:C93564,'Accounting Data'!E2:E93564,\"001\",'Accounting Data'!H2:H93564,\"3??\",'Accounting Data'!I2:I93564,\"21??\",'Accounting Data'!J2:J93564,\"65??\")","v":321121},{"$f":"SUMIFS('Accounting Data'!C2:C93564,'Accounting Data'!E2:E93564,\"001\",'Accounting Data'!H2:H93564,\"2??\",'Accounting Data'!I2:I93564,\"21??\",'Accounting Data'!J2:J93564,\"66??\")+SUMIFS('Accounting Data'!C2:C93564,'Accounting Data'!E2:E93564,\"001\",'Accounting Data'!H2:H93564,\"3??\",'Accounting Data'!I2:I93564,\"21??\",'Accounting Data'!J2:J93564,\"66??\")","v":14020},{"$f":"SUMIFS('Accounting Data'!C2:C93564,'Accounting Data'!E2:E93564,\"001\",'Accounting Data'!H2:H93564,\"2??\",'Accounting Data'!I2:I93564,\"21??\",'Accounting Data'!J2:J93564,\"68??\")+SUMIFS('Accounting Data'!C2:C93564,'Accounting Data'!E2:E93564,\"001\",'Accounting Data'!H2:H93564,\"3??\",'Accounting Data'!I2:I93564,\"21??\",'Accounting Data'!J2:J93564,\"68??\")","v":400},{"$f":"[1]!F001P200F2100","v":1378477},{"$f":"SUM(D25:H25)","v":1447246},{"$f":"[2]!F001P200F2100","v":1375621},{"$f":"IF(J25=K25,0,IF(K25>0,(J25-K25)/K25,\"--\"))","v":5.1999999999999998E-2}]
["      2100 Students",null,"16.",null,null,null,null,null,null,null,null,null,"16."]
["      2200 Instructional Staff",null,"17.",{"$f":"SUMIFS('Accounting Data'!C2:C93564,'Accounting Data'!E2:E93564,\"001\",'Accounting Data'!H2:H93564,\"2??\",'Accounting Data'!I2:I93564,\"22??\",'Accounting Data'!J2:J93564,\"61??\")+SUMIFS('Accounting Data'!C2:C93564,'Accounting Data'!E2:E93564,\"001\",'Accounting Data'!H2:H93564,\"3??\",'Accounting Data'!I2:I93564,\"22??\",'Accounting Data'!J2:J93564,\"61??\")","v":145278},{"$f":"SUMIFS('Accounting Data'!C2:C93564,'Accounting Data'!E2:E93564,\"001\",'Accounting Data'!H2:H93564,\"2??\",'Accounting Data'!I2:I93564,\"22??\",'Accounting Data'!J2:J93564,\"62??\")+SUMIFS('Accounting Data'!C2:C93564,'Accounting Data'!E2:E93564,\"001\",'Accounting Data'!H2:H93564,\"3??\",'Accounting Data'!I2:I93564,\"22??\",'Accounting Data'!J2:J93564,\"62??\")","v":40029},{"$f":"SUMIFS('Accounting Data'!C2:C93564,'Accounting Data'!E2:E93564,\"001\",'Accounting Data'!H2:H93564,\"2??\",'Accounting Data'!I2:I93564,\"22??\",'Accounting Data'!J2:J93564,\"63??\")+SUMIFS('Accounting Data'!C2:C93564,'Accounting Data'!E2:E93564,\"001\",'Accounting Data'!H2:H93564,\"2??\",'Accounting Data'!I2:I93564,\"22??\",'Accounting Data'!J2:J93564,\"64??\")+SUMIFS('Accounting Data'!C2:C93564,'Accounting Data'!E2:E93564,\"001\",'Accounting Data'!H2:H93564,\"2??\",'Accounting Data'!I2:I93564,\"22??\",'Accounting Data'!J2:J93564,\"65??\")+SUMIFS('Accounting Data'!C2:C93564,'Accounting Data'!E2:E93564,\"001\",'Accounting Data'!H2:H93564,\"3??\",'Accounting Data'!I2:I93564,\"22??\",'Accounting Data'!J2:J93564,\"63??\")+SUMIFS('Accounting Data'!C2:C93564,'Accounting Data'!E2:E93564,\"001\",'Accounting Data'!H2:H93564,\"3??\",'Accounting Data'!I2:I93564,\"22??\",'Accounting Data'!J2:J93564,\"64??\")+SUMIFS('Accounting Data'!C2:C93564,'Accounting Data'!E2:E93564,\"001\",'Accounting Data'!H2:H93564,\"3??\",'Accounting Data'!I2:I93564,\"22??\",'Accounting Data'!J2:J93564,\"65??\")","v":16492},{"$f":"SUMIFS('Accounting Data'!C2:C93564,'Accounting Data'!E2:E93564,\"001\",'Accounting Data'!H2:H93564,\"2??\",'Accounting Data'!I2:I93564,\"22??\",'Accounting Data'!J2:J93564,\"66??\")+SUMIFS('Accounting Data'!C2:C93564,'Accounting Data'!E2:E93564,\"001\",'Accounting Data'!H2:H93564,\"3??\",'Accounting Data'!I2:I93564,\"22??\",'Accounting Data'!J2:J93564,\"66??\")","v":0},{"$f":"SUMIFS('Accounting Data'!C2:C93564,'Accounting Data'!E2:E93564,\"001\",'Accounting Data'!H2:H93564,\"2??\",'Accounting Data'!I2:I93564,\"22??\",'Accounting Data'!J2:J93564,\"68??\")+SUMIFS('Accounting Data'!C2:C93564,'Accounting Data'!E2:E93564,\"001\",'Accounting Data'!H2:H93564,\"3??\",'Accounting Data'!I2:I93564,\"22??\",'Accounting Data'!J2:J93564,\"68??\")","v":0},{"$f":"[1]!F001P200F2200","v":235100},{"$f":"SUM(D27:H27)","v":201799},{"$f":"[2]!F001P200F2200","v":178879},{"$f":"IF(J27=K27,0,IF(K27>0,(J27-K27)/K27,\"--\"))","v":0.128},"17."]
["      2300 General Administration",null,"18.",{"$f":"SUMIFS('Accounting Data'!C2:C93564,'Accounting Data'!E2:E93564,\"001\",'Accounting Data'!H2:H93564,\"2??\",'Accounting Data'!I2:I93564,\"23??\",'Accounting Data'!J2:J93564,\"61??\")+SUMIFS('Accounting Data'!C2:C93564,'Accounting Data'!E2:E93564,\"001\",'Accounting Data'!H2:H93564,\"3??\",'Accounting Data'!I2:I93564,\"23??\",'Accounting Data'!J2:J93564,\"61??\")","v":0},{"$f":"SUMIFS('Accounting Data'!C2:C93564,'Accounting Data'!E2:E93564,\"001\",'Accounting Data'!H2:H93564,\"2??\",'Accounting Data'!I2:I93564,\"23??\",'Accounting Data'!J2:J93564,\"62??\")+SUMIFS('Accounting Data'!C2:C93564,'Accounting Data'!E2:E93564,\"001\",'Accounting Data'!H2:H93564,\"3??\",'Accounting Data'!I2:I93564,\"23??\",'Accounting Data'!J2:J93564,\"62??\")","v":0},{"$f":"SUMIFS('Accounting Data'!C2:C93564,'Accounting Data'!E2:E93564,\"001\",'Accounting Data'!H2:H93564,\"2??\",'Accounting Data'!I2:I93564,\"23??\",'Accounting Data'!J2:J93564,\"63??\")+SUMIFS('Accounting Data'!C2:C93564,'Accounting Data'!E2:E93564,\"001\",'Accounting Data'!H2:H93564,\"2??\",'Accounting Data'!I2:I93564,\"23??\",'Accounting Data'!J2:J93564,\"64??\")+SUMIFS('Accounting Data'!C2:C93564,'Accounting Data'!E2:E93564,\"001\",'Accounting Data'!H2:H93564,\"2??\",'Accounting Data'!I2:I93564,\"23??\",'Accounting Data'!J2:J93564,\"65??\")+SUMIFS('Accounting Data'!C2:C93564,'Accounting Data'!E2:E93564,\"001\",'Accounting Data'!H2:H93564,\"3??\",'Accounting Data'!I2:I93564,\"23??\",'Accounting Data'!J2:J93564,\"63??\")+SUMIFS('Accounting Data'!C2:C93564,'Accounting Data'!E2:E93564,\"001\",'Accounting Data'!H2:H93564,\"3??\",'Accounting Data'!I2:I93564,\"23??\",'Accounting Data'!J2:J93564,\"64??\")+SUMIFS('Accounting Data'!C2:C93564,'Accounting Data'!E2:E93564,\"001\",'Accounting Data'!H2:H93564,\"3??\",'Accounting Data'!I2:I93564,\"23??\",'Accounting Data'!J2:J93564,\"65??\")","v":0},{"$f":"SUMIFS('Accounting Data'!C2:C93564,'Accounting Data'!E2:E93564,\"001\",'Accounting Data'!H2:H93564,\"2??\",'Accounting Data'!I2:I93564,\"23??\",'Accounting Data'!J2:J93564,\"66??\")+SUMIFS('Accounting Data'!C2:C93564,'Accounting Data'!E2:E93564,\"001\",'Accounting Data'!H2:H93564,\"3??\",'Accounting Data'!I2:I93564,\"23??\",'Accounting Data'!J2:J93564,\"66??\")","v":0},{"$f":"SUMIFS('Accounting Data'!C2:C93564,'Accounting Data'!E2:E93564,\"001\",'Accounting Data'!H2:H93564,\"2??\",'Accounting Data'!I2:I93564,\"23??\",'Accounting Data'!J2:J93564,\"68??\")+SUMIFS('Accounting Data'!C2:C93564,'Accounting Data'!E2:E93564,\"001\",'Accounting Data'!H2:H93564,\"3??\",'Accounting Data'!I2:I93564,\"23??\",'Accounting Data'!J2:J93564,\"68??\")","v":0},{"$f":"[1]!F001P200F2300","v":0},0,{"$f":"[2]!F001P200F2300","v":0},{"$f":"IF(J28=K28,0,IF(K28>0,(J28-K28)/K28,\"--\"))","v":0},"18."]
["      2400 School Administration",null,"19.",{"$f":"SUMIFS('Accounting Data'!C2:C93564,'Accounting Data'!E2:E93564,\"001\",'Accounting Data'!H2:H93564,\"2??\",'Accounting Data'!I2:I93564,\"24??\",'Accounting Data'!J2:J93564,\"61??\")+SUMIFS('Accounting Data'!C2:C93564,'Accounting Data'!E2:E93564,\"001\",'Accounting Data'!H2:H93564,\"3??\",'Accounting Data'!I2:I93564,\"24??\",'Accounting Data'!J2:J93564,\"61??\")","v":0},{"$f":"SUMIFS('Accounting Data'!C2:C93564,'Accounting Data'!E2:E93564,\"001\",'Accounting Data'!H2:H93564,\"2??\",'Accounting Data'!I2:I93564,\"24??\",'Accounting Data'!J2:J93564,\"62??\")+SUMIFS('Accounting Data'!C2:C93564,'Accounting Data'!E2:E93564,\"001\",'Accounting Data'!H2:H93564,\"3??\",'Accounting Data'!I2:I93564,\"24??\",'Accounting Data'!J2:J93564,\"62??\")","v":0},{"$f":"SUMIFS('Accounting Data'!C2:C93564,'Accounting Data'!E2:E93564,\"001\",'Accounting Data'!H2:H93564,\"2??\",'Accounting Data'!I2:I93564,\"24??\",'Accounting Data'!J2:J93564,\"63??\")+SUMIFS('Accounting Data'!C2:C93564,'Accounting Data'!E2:E93564,\"001\",'Accounting Data'!H2:H93564,\"2??\",'Accounting Data'!I2:I93564,\"24??\",'Accounting Data'!J2:J93564,\"64??\")+SUMIFS('Accounting Data'!C2:C93564,'Accounting Data'!E2:E93564,\"001\",'Accounting Data'!H2:H93564,\"2??\",'Accounting Data'!I2:I93564,\"24??\",'Accounting Data'!J2:J93564,\"65??\")+SUMIFS('Accounting Data'!C2:C93564,'Accounting Data'!E2:E93564,\"001\",'Accounting Data'!H2:H93564,\"3??\",'Accounting Data'!I2:I93564,\"24??\",'Accounting Data'!J2:J93564,\"63??\")+SUMIFS('Accounting Data'!C2:C93564,'Accounting Data'!E2:E93564,\"001\",'Accounting Data'!H2:H93564,\"3??\",'Accounting Data'!I2:I93564,\"24??\",'Accounting Data'!J2:J93564,\"64??\")+SUMIFS('Accounting Data'!C2:C93564,'Accounting Data'!E2:E93564,\"001\",'Accounting Data'!H2:H93564,\"3??\",'Accounting Data'!I2:I93564,\"24??\",'Accounting Data'!J2:J93564,\"65??\")","v":0},{"$f":"SUMIFS('Accounting Data'!C2:C93564,'Accounting Data'!E2:E93564,\"001\",'Accounting Data'!H2:H93564,\"2??\",'Accounting Data'!I2:I93564,\"24??\",'Accounting Data'!J2:J93564,\"66??\")+SUMIFS('Accounting Data'!C2:C93564,'Accounting Data'!E2:E93564,\"001\",'Accounting Data'!H2:H93564,\"3??\",'Accounting Data'!I2:I93564,\"24??\",'Accounting Data'!J2:J93564,\"66??\")","v":0},{"$f":"SUMIFS('Accounting Data'!C2:C93564,'Accounting Data'!E2:E93564,\"001\",'Accounting Data'!H2:H93564,\"2??\",'Accounting Data'!I2:I93564,\"24??\",'Accounting Data'!J2:J93564,\"68??\")+SUMIFS('Accounting Data'!C2:C93564,'Accounting Data'!E2:E93564,\"001\",'Accounting Data'!H2:H93564,\"3??\",'Accounting Data'!I2:I93564,\"24??\",'Accounting Data'!J2:J93564,\"68??\")","v":0},{"$f":"[1]!F001P200F2400","v":0},0,{"$f":"[2]!F001P200F2400","v":1208},-1,"19."]
["      2500 Central Services",null,"20.",{"$f":"SUMIFS('Accounting Data'!C2:C93564,'Accounting Data'!E2:E93564,\"001\",'Accounting Data'!H2:H93564,\"2??\",'Accounting Data'!I2:I93564,\"25??\",'Accounting Data'!J2:J93564,\"61??\")+SUMIFS('Accounting Data'!C2:C93564,'Accounting Data'!E2:E93564,\"001\",'Accounting Data'!H2:H93564,\"3??\",'Accounting Data'!I2:I93564,\"25??\",'Accounting Data'!J2:J93564,\"61??\")","v":0},{"$f":"SUMIFS('Accounting Data'!C2:C93564,'Accounting Data'!E2:E93564,\"001\",'Accounting Data'!H2:H93564,\"2??\",'Accounting Data'!I2:I93564,\"25??\",'Accounting Data'!J2:J93564,\"62??\")+SUMIFS('Accounting Data'!C2:C93564,'Accounting Data'!E2:E93564,\"001\",'Accounting Data'!H2:H93564,\"3??\",'Accounting Data'!I2:I93564,\"25??\",'Accounting Data'!J2:J93564,\"62??\")","v":0},{"$f":"SUMIFS('Accounting Data'!C2:C93564,'Accounting Data'!E2:E93564,\"001\",'Accounting Data'!H2:H93564,\"2??\",'Accounting Data'!I2:I93564,\"25??\",'Accounting Data'!J2:J93564,\"63??\")+SUMIFS('Accounting Data'!C2:C93564,'Accounting Data'!E2:E93564,\"001\",'Accounting Data'!H2:H93564,\"2??\",'Accounting Data'!I2:I93564,\"25??\",'Accounting Data'!J2:J93564,\"64??\")+SUMIFS('Accounting Data'!C2:C93564,'Accounting Data'!E2:E93564,\"001\",'Accounting Data'!H2:H93564,\"2??\",'Accounting Data'!I2:I93564,\"25??\",'Accounting Data'!J2:J93564,\"65??\")+SUMIFS('Accounting Data'!C2:C93564,'Accounting Data'!E2:E93564,\"001\",'Accounting Data'!H2:H93564,\"3??\",'Accounting Data'!I2:I93564,\"25??\",'Accounting Data'!J2:J93564,\"63??\")+SUMIFS('Accounting Data'!C2:C93564,'Accounting Data'!E2:E93564,\"001\",'Accounting Data'!H2:H93564,\"3??\",'Accounting Data'!I2:I93564,\"25??\",'Accounting Data'!J2:J93564,\"64??\")+SUMIFS('Accounting Data'!C2:C93564,'Accounting Data'!E2:E93564,\"001\",'Accounting Data'!H2:H93564,\"3??\",'Accounting Data'!I2:I93564,\"25??\",'Accounting Data'!J2:J93564,\"65??\")","v":264},{"$f":"SUMIFS('Accounting Data'!C2:C93564,'Accounting Data'!E2:E93564,\"001\",'Accounting Data'!H2:H93564,\"2??\",'Accounting Data'!I2:I93564,\"25??\",'Accounting Data'!J2:J93564,\"66??\")+SUMIFS('Accounting Data'!C2:C93564,'Accounting Data'!E2:E93564,\"001\",'Accounting Data'!H2:H93564,\"3??\",'Accounting Data'!I2:I93564,\"25??\",'Accounting Data'!J2:J93564,\"66??\")","v":0},{"$f":"SUMIFS('Accounting Data'!C2:C93564,'Accounting Data'!E2:E93564,\"001\",'Accounting Data'!H2:H93564,\"2??\",'Accounting Data'!I2:I93564,\"25??\",'Accounting Data'!J2:J93564,\"68??\")+SUMIFS('Accounting Data'!C2:C93564,'Accounting Data'!E2:E93564,\"001\",'Accounting Data'!H2:H93564,\"3??\",'Accounting Data'!I2:I93564,\"25??\",'Accounting Data'!J2:J93564,\"68??\")","v":0},{"$f":"[1]!F001P200F2500","v":2500},264,{"$f":"[2]!F001P200F2500","v":2089},-0.874,"20."]
["      2600 Operation & Maintenance of Plant",null,"21.",{"$f":"SUMIFS('Accounting Data'!C2:C93564,'Accounting Data'!E2:E93564,\"001\",'Accounting Data'!H2:H93564,\"2??\",'Accounting Data'!I2:I93564,\"26??\",'Accounting Data'!J2:J93564,\"61??\")+SUMIFS('Accounting Data'!C2:C93564,'Accounting Data'!E2:E93564,\"001\",'Accounting Data'!H2:H93564,\"3??\",'Accounting Data'!I2:I93564,\"26??\",'Accounting Data'!J2:J93564,\"61??\")","v":0},{"$f":"SUMIFS('Accounting Data'!C2:C93564,'Accounting Data'!E2:E93564,\"001\",'Accounting Data'!H2:H93564,\"2??\",'Accounting Data'!I2:I93564,\"26??\",'Accounting Data'!J2:J93564,\"62??\")+SUMIFS('Accounting Data'!C2:C93564,'Accounting Data'!E2:E93564,\"001\",'Accounting Data'!H2:H93564,\"3??\",'Accounting Data'!I2:I93564,\"26??\",'Accounting Data'!J2:J93564,\"62??\")","v":0},{"$f":"SUMIFS('Accounting Data'!C2:C93564,'Accounting Data'!E2:E93564,\"001\",'Accounting Data'!H2:H93564,\"2??\",'Accounting Data'!I2:I93564,\"26??\",'Accounting Data'!J2:J93564,\"63??\")+SUMIFS('Accounting Data'!C2:C93564,'Accounting Data'!E2:E93564,\"001\",'Accounting Data'!H2:H93564,\"2??\",'Accounting Data'!I2:I93564,\"26??\",'Accounting Data'!J2:J93564,\"64??\")+SUMIFS('Accounting Data'!C2:C93564,'Accounting Data'!E2:E93564,\"001\",'Accounting Data'!H2:H93564,\"2??\",'Accounting Data'!I2:I93564,\"26??\",'Accounting Data'!J2:J93564,\"65??\")+SUMIFS('Accounting Data'!C2:C93564,'Accounting Data'!E2:E93564,\"001\",'Accounting Data'!H2:H93564,\"3??\",'Accounting Data'!I2:I93564,\"26??\",'Accounting Data'!J2:J93564,\"63??\")+SUMIFS('Accounting Data'!C2:C93564,'Accounting Data'!E2:E93564,\"001\",'Accounting Data'!H2:H93564,\"3??\",'Accounting Data'!I2:I93564,\"26??\",'Accounting Data'!J2:J93564,\"64??\")+SUMIFS('Accounting Data'!C2:C93564,'Accounting Data'!E2:E93564,\"001\",'Accounting Data'!H2:H93564,\"3??\",'Accounting Data'!I2:I93564,\"26??\",'Accounting Data'!J2:J93564,\"65??\")","v":0},{"$f":"SUMIFS('Accounting Data'!C2:C93564,'Accounting Data'!E2:E93564,\"001\",'Accounting Data'!H2:H93564,\"2??\",'Accounting Data'!I2:I93564,\"26??\",'Accounting Data'!J2:J93564,\"66??\")+SUMIFS('Accounting Data'!C2:C93564,'Accounting Data'!E2:E93564,\"001\",'Accounting Data'!H2:H93564,\"3??\",'Accounting Data'!I2:I93564,\"26??\",'Accounting Data'!J2:J93564,\"66??\")","v":0},{"$f":"SUMIFS('Accounting Data'!C2:C93564,'Accounting Data'!E2:E93564,\"001\",'Accounting Data'!H2:H93564,\"2??\",'Accounting Data'!I2:I93564,\"26??\",'Accounting Data'!J2:J93564,\"68??\")+SUMIFS('Accounting Data'!C2:C93564,'Accounting Data'!E2:E93564,\"001\",'Accounting Data'!H2:H93564,\"3??\",'Accounting Data'!I2:I93564,\"26??\",'Accounting Data'!J2:J93564,\"68??\")","v":0},{"$f":"[1]!F001P200F2600","v":500},0,{"$f":"[2]!F001P200F2600","v":0},0,"21."]
["      2900 Other",null,"22.",{"$f":"SUMIFS('Accounting Data'!C2:C93564,'Accounting Data'!E2:E93564,\"001\",'Accounting Data'!H2:H93564,\"2??\",'Accounting Data'!I2:I93564,\"29??\",'Accounting Data'!J2:J93564,\"61??\")+SUMIFS('Accounting Data'!C2:C93564,'Accounting Data'!E2:E93564,\"001\",'Accounting Data'!H2:H93564,\"3??\",'Accounting Data'!I2:I93564,\"29??\",'Accounting Data'!J2:J93564,\"61??\")","v":0},{"$f":"SUMIFS('Accounting Data'!C2:C93564,'Accounting Data'!E2:E93564,\"001\",'Accounting Data'!H2:H93564,\"2??\",'Accounting Data'!I2:I93564,\"29??\",'Accounting Data'!J2:J93564,\"62??\")+SUMIFS('Accounting Data'!C2:C93564,'Accounting Data'!E2:E93564,\"001\",'Accounting Data'!H2:H93564,\"3??\",'Accounting Data'!I2:I93564,\"29??\",'Accounting Data'!J2:J93564,\"62??\")","v":0},{"$f":"SUMIFS('Accounting Data'!C2:C93564,'Accounting Data'!E2:E93564,\"001\",'Accounting Data'!H2:H93564,\"2??\",'Accounting Data'!I2:I93564,\"29??\",'Accounting Data'!J2:J93564,\"63??\")+SUMIFS('Accounting Data'!C2:C93564,'Accounting Data'!E2:E93564,\"001\",'Accounting Data'!H2:H93564,\"2??\",'Accounting Data'!I2:I93564,\"29??\",'Accounting Data'!J2:J93564,\"64??\")+SUMIFS('Accounting Data'!C2:C93564,'Accounting Data'!E2:E93564,\"001\",'Accounting Data'!H2:H93564,\"2??\",'Accounting Data'!I2:I93564,\"29??\",'Accounting Data'!J2:J93564,\"65??\")+SUMIFS('Accounting Data'!C2:C93564,'Accounting Data'!E2:E93564,\"001\",'Accounting Data'!H2:H93564,\"3??\",'Accounting Data'!I2:I93564,\"29??\",'Accounting Data'!J2:J93564,\"63??\")+SUMIFS('Accounting Data'!C2:C93564,'Accounting Data'!E2:E93564,\"001\",'Accounting Data'!H2:H93564,\"3??\",'Accounting Data'!I2:I93564,\"29??\",'Accounting Data'!J2:J93564,\"64??\")+SUMIFS('Accounting Data'!C2:C93564,'Accounting Data'!E2:E93564,\"001\",'Accounting Data'!H2:H93564,\"3??\",'Accounting Data'!I2:I93564,\"29??\",'Accounting Data'!J2:J93564,\"65??\")","v":0},{"$f":"SUMIFS('Accounting Data'!C2:C93564,'Accounting Data'!E2:E93564,\"001\",'Accounting Data'!H2:H93564,\"2??\",'Accounting Data'!I2:I93564,\"29??\",'Accounting Data'!J2:J93564,\"66??\")+SUMIFS('Accounting Data'!C2:C93564,'Accounting Data'!E2:E93564,\"001\",'Accounting Data'!H2:H93564,\"3??\",'Accounting Data'!I2:I93564,\"29??\",'Accounting Data'!J2:J93564,\"66??\")","v":0},{"$f":"SUMIFS('Accounting Data'!C2:C93564,'Accounting Data'!E2:E93564,\"001\",'Accounting Data'!H2:H93564,\"2??\",'Accounting Data'!I2:I93564,\"29??\",'Accounting Data'!J2:J93564,\"68??\")+SUMIFS('Accounting Data'!C2:C93564,'Accounting Data'!E2:E93564,\"001\",'Accounting Data'!H2:H93564,\"3??\",'Accounting Data'!I2:I93564,\"29??\",'Accounting Data'!J2:J93564,\"68??\")","v":0},{"$f":"[1]!F001P200F2900","v":0},0,{"$f":"[2]!F001P200F2900","v":0},0,"22."]
["   3000 Operation of Noninstructional Services",null,"23.",{"$f":"SUMIFS('Accounting Data'!C2:C93564,'Accounting Data'!E2:E93564,\"001\",'Accounting Data'!H2:H93564,\"2??\",'Accounting Data'!I2:I93564,\"3???\",'Accounting Data'!J2:J93564,\"61??\")+SUMIFS('Accounting Data'!C2:C93564,'Accounting Data'!E2:E93564,\"001\",'Accounting Data'!H2:H93564,\"3??\",'Accounting Data'!I2:I93564,\"3???\",'Accounting Data'!J2:J93564,\"61??\")","v":0},{"$f":"SUMIFS('Accounting Data'!C2:C93564,'Accounting Data'!E2:E93564,\"001\",'Accounting Data'!H2:H93564,\"2??\",'Accounting Data'!I2:I93564,\"3???\",'Accounting Data'!J2:J93564,\"62??\")+SUMIFS('Accounting Data'!C2:C93564,'Accounting Data'!E2:E93564,\"001\",'Accounting Data'!H2:H93564,\"3??\",'Accounting Data'!I2:I93564,\"3???\",'Accounting Data'!J2:J93564,\"62??\")","v":0},{"$f":"SUMIFS('Accounting Data'!C2:C93564,'Accounting Data'!E2:E93564,\"001\",'Accounting Data'!H2:H93564,\"2??\",'Accounting Data'!I2:I93564,\"3???\",'Accounting Data'!J2:J93564,\"63??\")+SUMIFS('Accounting Data'!C2:C93564,'Accounting Data'!E2:E93564,\"001\",'Accounting Data'!H2:H93564,\"2??\",'Accounting Data'!I2:I93564,\"3???\",'Accounting Data'!J2:J93564,\"64??\")+SUMIFS('Accounting Data'!C2:C93564,'Accounting Data'!E2:E93564,\"001\",'Accounting Data'!H2:H93564,\"2??\",'Accounting Data'!I2:I93564,\"3???\",'Accounting Data'!J2:J93564,\"65??\")+SUMIFS('Accounting Data'!C2:C93564,'Accounting Data'!E2:E93564,\"001\",'Accounting Data'!H2:H93564,\"3??\",'Accounting Data'!I2:I93564,\"3???\",'Accounting Data'!J2:J93564,\"63??\")+SUMIFS('Accounting Data'!C2:C93564,'Accounting Data'!E2:E93564,\"001\",'Accounting Data'!H2:H93564,\"3??\",'Accounting Data'!I2:I93564,\"3???\",'Accounting Data'!J2:J93564,\"64??\")+SUMIFS('Accounting Data'!C2:C93564,'Accounting Data'!E2:E93564,\"001\",'Accounting Data'!H2:H93564,\"3??\",'Accounting Data'!I2:I93564,\"3???\",'Accounting Data'!J2:J93564,\"65??\")","v":0},{"$f":"SUMIFS('Accounting Data'!C2:C93564,'Accounting Data'!E2:E93564,\"001\",'Accounting Data'!H2:H93564,\"2??\",'Accounting Data'!I2:I93564,\"3???\",'Accounting Data'!J2:J93564,\"66??\")+SUMIFS('Accounting Data'!C2:C93564,'Accounting Data'!E2:E93564,\"001\",'Accounting Data'!H2:H93564,\"3??\",'Accounting Data'!I2:I93564,\"3???\",'Accounting Data'!J2:J93564,\"66??\")","v":0},{"$f":"SUMIFS('Accounting Data'!C2:C93564,'Accounting Data'!E2:E93564,\"001\",'Accounting Data'!H2:H93564,\"2??\",'Accounting Data'!I2:I93564,\"3???\",'Accounting Data'!J2:J93564,\"68??\")+SUMIFS('Accounting Data'!C2:C93564,'Accounting Data'!E2:E93564,\"001\",'Accounting Data'!H2:H93564,\"3??\",'Accounting Data'!I2:I93564,\"3???\",'Accounting Data'!J2:J93564,\"68??\")","v":0},{"$f":"[1]!F001P200F3000","v":0},0,{"$f":"[2]!F001P200F3000","v":0},0,"23."]
["   Subtotal (lines 15-23) ",null,"24.",{"$f":"D23+D25+SUM(D27:D33)","v":2667165},{"$f":"E23+E25+SUM(E27:E33)","v":799398},{"$f":"F23+F25+SUM(F27:F33)","v":857888},24046,800,{"$f":"I23+I25+SUM(I27:I33)","v":5459608},{"$f":"ROUND(J23+J25+SUM(J27:J33),0)","v":4349297},4186869,3.9E-2,"24."]
[null,null,null,{"$f":"SUMIFS('Accounting Data'!C2:C93564,'Accounting Data'!E2:E93564,\"001\",'Accounting Data'!H2:H93564,\"4??\",'Accounting Data'!J2:J93564,\"61??\")","v":691510},{"$f":"SUMIFS('Accounting Data'!C2:C93564,'Accounting Data'!E2:E93564,\"001\",'Accounting Data'!H2:H93564,\"4??\",'Accounting Data'!J2:J93564,\"62??\")","v":259212},{"$f":"SUMIFS('Accounting Data'!C2:C93564,'Accounting Data'!E2:E93564,\"001\",'Accounting Data'!H2:H93564,\"4??\",'Accounting Data'!J2:J93564,\"63??\")+SUMIFS('Accounting Data'!C2:C93564,'Accounting Data'!E2:E93564,\"001\",'Accounting Data'!H2:H93564,\"4??\",'Accounting Data'!J2:J93564,\"64??\")+SUMIFS('Accounting Data'!C2:C93564,'Accounting Data'!E2:E93564,\"001\",'Accounting Data'!H2:H93564,\"4??\",'Accounting Data'!J2:J93564,\"65??\")","v":61639},{"$f":"SUMIFS('Accounting Data'!C2:C93564,'Accounting Data'!E2:E93564,\"001\",'Accounting Data'!H2:H93564,\"4??\",'Accounting Data'!J2:J93564,\"66??\")","v":21083},{"$f":"SUMIFS('Accounting Data'!C2:C93564,'Accounting Data'!E2:E93564,\"001\",'Accounting Data'!H2:H93564,\"4??\",'Accounting Data'!J2:J93564,\"68??\")","v":13555},{"$f":"[1]!F001P400","v":1178773},{"$f":"SUM(D35:H35)","v":1046999},{"$f":"[2]!F001P400","v":898264},{"$f":"IF(J35=K35,0,IF(K35>0,(J35-K35)/K35,\"--\"))","v":0.16600000000000001},"26."]
["400 Pupil Transportation",null,"25.",null,null,null,null,null,null,null,null,null,"25."]
["510 Desegregation",null,null,{"$f":"[3]Districtwide!$D$66","v":0},{"$f":"[3]Districtwide!$E$66","v":0},{"$f":"[3]Districtwide!$F$66","v":0},{"$f":"[3]Districtwide!$G$66","v":0},{"$f":"[3]Districtwide!$H$66","v":0},{"$f":"[3]Districtwide!$I$66","v":0},{"$f":"[3]Districtwide!$J$66","v":0},{"$f":"[2]!F001P510","v":0},{"$f":"IF(J37=K37,0,IF(K37>0,(J37-K37)/K37,\"--\"))","v":0}]
["    (from Districtwide Desegregation Expenditures, page 2, line 44)",null,"26.",null,null,null,null,null,null,null,null,null,"26."]
["530 Dropout Prevention Programs",null,null,{"$f":"SUMIFS('Accounting Data'!C2:C93564,'Accounting Data'!E2:E93564,\"001\",'Accounting Data'!H2:H93564,\"53?\",'Accounting Data'!I2:I93564,\"1???\",'Accounting Data'!J2:J93564,\"61??\")","v":0},{"$f":"SUMIFS('Accounting Data'!C2:C93564,'Accounting Data'!E2:E93564,\"001\",'Accounting Data'!H2:H93564,\"53?\",'Accounting Data'!I2:I93564,\"1???\",'Accounting Data'!J2:J93564,\"62??\")","v":0},{"$f":"SUMIFS('Accounting Data'!C2:C93564,'Accounting Data'!E2:E93564,\"001\",'Accounting Data'!H2:H93564,\"53?\",'Accounting Data'!I2:I93564,\"1???\",'Accounting Data'!J2:J93564,\"63??\")+SUMIFS('Accounting Data'!C2:C93564,'Accounting Data'!E2:E93564,\"001\",'Accounting Data'!H2:H93564,\"53?\",'Accounting Data'!I2:I93564,\"1???\",'Accounting Data'!J2:J93564,\"64??\")+SUMIFS('Accounting Data'!C2:C93564,'Accounting Data'!E2:E93564,\"001\",'Accounting Data'!H2:H93564,\"53?\",'Accounting Data'!I2:I93564,\"1???\",'Accounting Data'!J2:J93564,\"65??\")","v":0},{"$f":"SUMIFS('Accounting Data'!C2:C93564,'Accounting Data'!E2:E93564,\"001\",'Accounting Data'!H2:H93564,\"53?\",'Accounting Data'!I2:I93564,\"1???\",'Accounting Data'!J2:J93564,\"66??\")","v":0},{"$f":"SUMIFS('Accounting Data'!C2:C93564,'Accounting Data'!E2:E93564,\"001\",'Accounting Data'!H2:H93564,\"53?\",'Accounting Data'!I2:I93564,\"1???\",'Accounting Data'!J2:J93564,\"68??\")","v":0},null,{"$f":"SUM(D39:H39)","v":0},{"$f":"[2]!F001P530F1000","v":0},{"$f":"IF(J39=K39,0,IF(K39>0,(J39-K39)/K39,\"--\"))","v":0}]
["   1000 Instruction",null,"27.",null,null,null,null,null,null,null,null,null,"27."]
["   2000-3000 Support Serv. & Oper. of Noninstructional Serv.",null,"28.",{"$f":"SUMIFS('Accounting Data'!C2:C93564,'Accounting Data'!E2:E93564,\"001\",'Accounting Data'!H2:H93564,\"53?\",'Accounting Data'!I2:I93564,\"2???\",'Accounting Data'!J2:J93564,\"61??\")+SUMIFS('Accounting Data'!C2:C93564,'Accounting Data'!E2:E93564,\"001\",'Accounting Data'!H2:H93564,\"53?\",'Accounting Data'!I2:I93564,\"3???\",'Accounting Data'!J2:J93564,\"61??\")","v":0},{"$f":"SUMIFS('Accounting Data'!C2:C93564,'Accounting Data'!E2:E93564,\"001\",'Accounting Data'!H2:H93564,\"53?\",'Accounting Data'!I2:I93564,\"2???\",'Accounting Data'!J2:J93564,\"62??\")+SUMIFS('Accounting Data'!C2:C93564,'Accounting Data'!E2:E93564,\"001\",'Accounting Data'!H2:H93564,\"53?\",'Accounting Data'!I2:I93564,\"3???\",'Accounting Data'!J2:J93564,\"62??\")","v":0},{"$f":"SUMIFS('Accounting Data'!C2:C93564,'Accounting Data'!E2:E93564,\"001\",'Accounting Data'!H2:H93564,\"53?\",'Accounting Data'!I2:I93564,\"2???\",'Accounting Data'!J2:J93564,\"63??\")+SUMIFS('Accounting Data'!C2:C93564,'Accounting Data'!E2:E93564,\"001\",'Accounting Data'!H2:H93564,\"53?\",'Accounting Data'!I2:I93564,\"2???\",'Accounting Data'!J2:J93564,\"64??\")+SUMIFS('Accounting Data'!C2:C93564,'Accounting Data'!E2:E93564,\"001\",'Accounting Data'!H2:H93564,\"53?\",'Accounting Data'!I2:I93564,\"2???\",'Accounting Data'!J2:J93564,\"65??\")+SUMIFS('Accounting Data'!C2:C93564,'Accounting Data'!E2:E93564,\"001\",'Accounting Data'!H2:H93564,\"53?\",'Accounting Data'!I2:I93564,\"3???\",'Accounting Data'!J2:J93564,\"63??\")+SUMIFS('Accounting Data'!C2:C93564,'Accounting Data'!E2:E93564,\"001\",'Accounting Data'!H2:H93564,\"53?\",'Accounting Data'!I2:I93564,\"3???\",'Accounting Data'!J2:J93564,\"64??\")+SUMIFS('Accounting Data'!C2:C93564,'Accounting Data'!E2:E93564,\"001\",'Accounting Data'!H2:H93564,\"53?\",'Accounting Data'!I2:I93564,\"3???\",'Accounting Data'!J2:J93564,\"65??\")","v":0},{"$f":"SUMIFS('Accounting Data'!C2:C93564,'Accounting Data'!E2:E93564,\"001\",'Accounting Data'!H2:H93564,\"53?\",'Accounting Data'!I2:I93564,\"2???\",'Accounting Data'!J2:J93564,\"66??\")+SUMIFS('Accounting Data'!C2:C93564,'Accounting Data'!E2:E93564,\"001\",'Accounting Data'!H2:H93564,\"53?\",'Accounting Data'!I2:I93564,\"3???\",'Accounting Data'!J2:J93564,\"66??\")","v":0},{"$f":"SUMIFS('Accounting Data'!C2:C93564,'Accounting Data'!E2:E93564,\"001\",'Accounting Data'!H2:H93564,\"53?\",'Accounting Data'!I2:I93564,\"2???\",'Accounting Data'!J2:J93564,\"68??\")+SUMIFS('Accounting Data'!C2:C93564,'Accounting Data'!E2:E93564,\"001\",'Accounting Data'!H2:H93564,\"53?\",'Accounting Data'!I2:I93564,\"3???\",'Accounting Data'!J2:J93564,\"68??\")","v":0},null,{"$f":"SUM(D41:H41)","v":0},{"$f":"[2]!F001P530F20003000","v":0},{"$f":"IF(J41=K41,0,IF(K41>0,(J41-K41)/K41,\"--\"))","v":0},"28."]
["   Subtotal (lines 27 and 28)",null,"29.",{"$f":"SUM(D39:D41)","v":0},{"$f":"SUM(E39:E41)","v":0},{"$f":"SUM(F39:F41)","v":0},{"$f":"SUM(G39:G41)","v":0},{"$f":"SUM(H39:H41)","v":0},{"$f":"[1]!F001P530","v":0},{"$f":"J39+J41","v":0},{"$f":"SUM(K39:K41)","v":0},{"$f":"IF(J42=K42,0,IF(K42>0,(J42-K42)/K42,\"--\"))","v":0},"29."]
["540 Joint Career and Technical Education and Vocational ",null," ",0,0,0,0,0,0,{"$f":"SUM(D43:H43)","v":0},{"$f":"[2]!F001P540","v":0},{"$f":"IF(J43=K43,0,IF(K43>0,(J43-K43)/K43,\"--\"))","v":0}]
["   Education Center ",null,"30.",null,null,null,null,null,null,null,null,null,"30."]
["550 K-3 Reading Program",null,"31.",{"$f":"SUMIFS('Accounting Data'!C2:C93564,'Accounting Data'!E2:E93564,\"001\",'Accounting Data'!H2:H93564,\"55?\",'Accounting Data'!J2:J93564,\"61??\")","v":159044},{"$f":"SUMIFS('Accounting Data'!C2:C93564,'Accounting Data'!E2:E93564,\"001\",'Accounting Data'!H2:H93564,\"55?\",'Accounting Data'!J2:J93564,\"62??\")","v":32884},{"$f":"SUMIFS('Accounting Data'!C2:C93564,'Accounting Data'!E2:E93564,\"001\",'Accounting Data'!H2:H93564,\"55?\",'Accounting Data'!J2:J93564,\"63??\")+SUMIFS('Accounting Data'!C2:C93564,'Accounting Data'!E2:E93564,\"001\",'Accounting Data'!H2:H93564,\"55?\",'Accounting Data'!J2:J93564,\"64??\")+SUMIFS('Accounting Data'!C2:C93564,'Accounting Data'!E2:E93564,\"001\",'Accounting Data'!H2:H93564,\"55?\",'Accounting Data'!J2:J93564,\"65??\")","v":0},{"$f":"SUMIFS('Accounting Data'!C2:C93564,'Accounting Data'!E2:E93564,\"001\",'Accounting Data'!H2:H93564,\"55?\",'Accounting Data'!J2:J93564,\"66??\")","v":0},{"$f":"SUMIFS('Accounting Data'!C2:C93564,'Accounting Data'!E2:E93564,\"001\",'Accounting Data'!H2:H93564,\"55?\",'Accounting Data'!J2:J93564,\"68??\")","v":0},{"$f":"[1]!F001P550","v":191928},{"$f":"SUM(D45:H45)","v":191928},{"$f":"[2]!F001P550TotActExp","v":190488},{"$f":"IF(J45=K45,0,IF(K45>0,(J45-K45)/K45,\"--\"))","v":8.0000000000000002E-3},"31."]
["Total Expenditures (lines 14, 24-26, 29-31)",null,"32.",{"$f":"D22+D34+D35+D37+D42+D43+D45","v":11322263},3508863,2512927,1303677,76576,{"$f":"I22+I34+I35+I37+I42+I43+I45","v":21457432},{"$f":"J22+J34+J35+J37+J42+J43+J45","v":18724306},18404689,{"$f":"IF(J46=K46,0,IF(K46>0,(J46-K46)/K46,\"--\"))","v":1.7000000000000001E-2},"32."]

{"sheet":"Page 3","index":3,"n_rows":21,"n_cols":17,"rows_kept":21,"cut":false,"hidden":false,"merged":[[2,14,4,14],[3,13,4,13],[0,13,0,14],[1,1,1,2],[3,11,4,11],[3,12,4,12],[0,1,0,5],[0,8,0,10],[2,11,2,13]]}
["DISTRICT NAME ",{"$f":"CoverDistrictName","v":"Osborn Elementary School District"},null,null,null,null,null,"COUNTY ",{"$f":"County","v":"Maricopa"},null,null,null,"CTDS NUMBER ",{"$f":"Cover!Q1","v":"070408000"}]
[null,null,null,null,"CLASSROOM SITE FUND—REVENUES, EXPENDITURES, AND FUND BALANCES"]
[null,null,null,"Beginning",null,null,null,null,null,null,"Debt Service","Total Expenditures",null,null,"% Increase/ Decrease in Actual","Ending"]
[null,null,null,"Fund ","Actual","Salaries","Employee Benefits","Purchased Services","Supplies","Property","and Miscellaneous","Budget","Actual                     ","Prior Year Actual                      ",null,"Fund"]
[null,null,null,"Balance","Revenues","6100","6200","6300, 6400,6500",6600,6700,6800,null,null,null,null,"Balance"]
["Classroom Site Fund 010"]
["Revenues"]
["CSF Revenue",null,"1.",null,{"$f":"-(SUMIFS('Accounting Data'!C2:C93564,'Accounting Data'!E2:E93564,\"010\",'Accounting Data'!J2:J93564,\"3???\"))","v":1956800},null,null,null,null,null,null,null,null,null,null,null,"1."]
["Interest Income and Other Revenues",null,"2.",null,{"$f":"-(SUMIFS('Accounting Data'!C2:C93564,'Accounting Data'!E2:E93564,\"010\",'Accounting Data'!J2:J93564,\"15??\")+SUMIFS('Accounting Data'!C2:C93564,'Accounting Data'!E2:E93564,\"010\",'Accounting Data'!J2:J93564,\"198?\")+(SUMIFS('Accounting Data'!C2:C93564,'Accounting Data'!E2:E93564,\"010\",'Accounting Data'!J2:J93564,\"199?\")))","v":43461},null,null,null,null,null,null,null,null,null,null,null,"2."]
["Total Revenues (lines 1 and 2)",null,"3.",null,{"$f":"SUM(E8:E9)","v":2000261},null,null,null,null,null,null,null,null,null,null,null,"3."]
["Expenditures"]
["     1000 Instruction",null,"4.",null,null,{"$f":"SUMIFS('Accounting Data'!C2:C93564,'Accounting Data'!E2:E93564,\"010\",'Accounting Data'!I2:I93564,\"1???\",'Accounting Data'!J2:J93564,\"61??\")","v":847856},{"$f":"SUMIFS('Accounting Data'!C2:C93564,'Accounting Data'!E2:E93564,\"010\",'Accounting Data'!I2:I93564,\"1???\",'Accounting Data'!J2:J93564,\"62??\")","v":214014},{"$f":"SUM(SUMIFS('Accounting Data'!C2:C93564,'Accounting Data'!E2:E93564,\"010\",'Accounting Data'!I2:I93564,\"1???\",'Accounting Data'!J2:J93564,{\"63??\",\"64??\",\"65??\"}))","v":0},{"$f":"SUMIFS('Accounting Data'!C2:C93564,'Accounting Data'!E2:E93564,\"010\",'Accounting Data'!I2:I93564,\"1???\",'Accounting Data'!J2:J93564,\"66??\")","v":0},{"$f":"SUMIFS('Accounting Data'!C2:C93564,'Accounting Data'!E2:E93564,\"010\",'Accounting Data'!I2:I93564,\"1???\",'Accounting Data'!J2:J93564,\"67??\")","v":0},{"$f":"SUMIFS('Accounting Data'!C2:C93564,'Accounting Data'!E2:E93564,\"010\",'Accounting Data'!I2:I93564,\"1???\",'Accounting Data'!J2:J93564,\"68??\")","v":0},{"$f":"[1]!F010F1000","v":3040848},{"$f":"SUM(F12:K12)","v":1061870},{"$f":"[2]!F010F1000","v":1186585},{"$f":"IF(M12=N12,0,IF(N12>0,(M12-N12)/N12,\"--\"))","v":-0.105},null,"4."]
["     2100 Support Services - Students",null,"5.",null,null,{"$f":"SUMIFS('Accounting Data'!C2:C93564,'Accounting Data'!E2:E93564,\"010\",'Accounting Data'!I2:I93564,\"21??\",'Accounting Data'!J2:J93564,\"61??\")","v":12000},{"$f":"SUMIFS('Accounting Data'!C2:C93564,'Accounting Data'!E2:E93564,\"010\",'Accounting Data'!I2:I93564,\"21??\",'Accounting Data'!J2:J93564,\"62??\")","v":2462},{"$f":"SUM(SUMIFS('Accounting Data'!C2:C93564,'Accounting Data'!E2:E93564,\"010\",'Accounting Data'!I2:I93564,\"21??\",'Accounting Data'!J2:J93564,{\"63??\",\"64??\",\"65??\"}))","v":0},{"$f":"SUMIFS('Accounting Data'!C2:C93564,'Accounting Data'!E2:E93564,\"010\",'Accounting Data'!I2:I93564,\"21??\",'Accounting Data'!J2:J93564,\"66??\")","v":0},{"$f":"SUMIFS('Accounting Data'!C2:C93564,'Accounting Data'!E2:E93564,\"010\",'Accounting Data'!I2:I93564,\"21??\",'Accounting Data'!J2:J93564,\"67??\")","v":0},{"$f":"SUMIFS('Accounting Data'!C2:C93564,'Accounting Data'!E2:E93564,\"010\",'Accounting Data'!I2:I93564,\"21??\",'Accounting Data'!J2:J93564,\"68??\")","v":0},{"$f":"[1]!F010F2100","v":355057},14462,{"$f":"[2]!F010F2100","v":29142},{"$f":"IF(M13=N13,0,IF(N13>0,(M13-N13)/N13,\"--\"))","v":-0.504},null,"5."]
["     2200 Support Services - Instructional Staff",null,"6.",null,null,{"$f":"SUMIFS('Accounting Data'!C2:C93564,'Accounting Data'!E2:E93564,\"010\",'Accounting Data'!I2:I93564,\"22??\",'Accounting Data'!J2:J93564,\"61??\")","v":26652},{"$f":"SUMIFS('Accounting Data'!C2:C93564,'Accounting Data'!E2:E93564,\"010\",'Accounting Data'!I2:I93564,\"22??\",'Accounting Data'!J2:J93564,\"62??\")","v":6369},{"$f":"SUM(SUMIFS('Accounting Data'!C2:C93564,'Accounting Data'!E2:E93564,\"010\",'Accounting Data'!I2:I93564,\"22??\",'Accounting Data'!J2:J93564,{\"63??\",\"64??\",\"65??\"}))","v":0},{"$f":"SUMIFS('Accounting Data'!C2:C93564,'Accounting Data'!E2:E93564,\"010\",'Accounting Data'!I2:I93564,\"22??\",'Accounting Data'!J2:J93564,\"66??\")","v":0},null,{"$f":"SUMIFS('Accounting Data'!C2:C93564,'Accounting Data'!E2:E93564,\"010\",'Accounting Data'!I2:I93564,\"22??\",'Accounting Data'!J2:J93564,\"68??\")","v":0},{"$f":"[1]!F010F2200","v":355988},33021,{"$f":"[2]!F010F2200","v":61905},-0.46700000000000003,null,"6."]
["     2300 Support Services - General Administration",null,"7.",null,null,null,null,{"$f":"SUMIFS('Accounting Data'!C2:C93564,'Accounting Data'!E2:E93564,\"010\",'Accounting Data'!I2:I93564,\"23??\",'Accounting Data'!J2:J93564,\"652?\")","v":0},null,null,null,{"$f":"[1]!F010F2310","v":0},0,{"$f":"[2]!F010F2300","v":0},0,null,"7."]
["     2500 Central Services",null,"8.",null,null,null,null,null,null,null,{"$f":"SUMIFS('Accounting Data'!C2:C93564,'Accounting Data'!E2:E93564,\"010\",'Accounting Data'!I2:I93564,\"25??\",'Accounting Data'!J2:J93564,\"68??\")","v":0},{"$f":"[1]!F010F2510","v":0},0,{"$f":"[2]!F010F2500","v":0},0,null,"8."]
["     3300 Community Services Operations ",null,"9.",null,null,{"$f":"SUMIFS('Accounting Data'!C2:C93564,'Accounting Data'!E2:E93564,\"010\",'Accounting Data'!I2:I93564,\"33??\",'Accounting Data'!J2:J93564,\"61??\")","v":0},{"$f":"SUMIFS('Accounting Data'!C2:C93564,'Accounting Data'!E2:E93564,\"010\",'Accounting Data'!I2:I93564,\"33??\",'Accounting Data'!J2:J93564,\"62??\")","v":0},{"$f":"SUM(SUMIFS('Accounting Data'!C2:C93564,'Accounting Data'!E2:E93564,\"010\",'Accounting Data'!I2:I93564,\"33??\",'Accounting Data'!J2:J93564,{\"63??\",\"64??\",\"65??\"}))","v":0},null,null,null,{"$f":"[1]!F010F3300","v":0},0,{"$f":"[2]!F010F3300","v":0},0,null,"9."]
["     4000 Facilities Acquisition and Construction",null,"10.",null,null,null,null,null,null,{"$f":"SUMIFS('Accounting Data'!C2:C93564,'Accounting Data'!E2:E93564,\"010\",'Accounting Data'!I2:I93564,\"4???\",'Accounting Data'!J2:J93564,\"67??\")","v":0},null,{"$f":"[1]!F010F4000","v":0},0,{"$f":"[2]!F010F4000","v":0},0,null,"10."]
["     5000 Debt Service ",null,"11.",null,null,null,null,null,null,null,{"$f":"SUMIFS('Accounting Data'!C2:C93564,'Accounting Data'!E2:E93564,\"010\",'Accounting Data'!I2:I93564,\"5???\",'Accounting Data'!J2:J93564,\"68??\")","v":0},{"$f":"[1]!F010F5000","v":0},0,{"$f":"[2]!F010F5000","v":0},0,null,"11."]
["Total Expenditures (lines 4-11)",null,"12.",null,null,{"$f":"SUM(F12:F19)","v":886508},222845,0,0,0,0,{"$f":"[1]!F010TotalExp","v":3751893},1109353,{"$f":"[2]!F010TotActExp","v":1277632},-0.13200000000000001,null,"12."]
["Total Classroom Site Fund",null,"13.",{"$f":"'Accounting Data'!R3","v":1858603},{"$f":"E10","v":2000261},{"$f":"F20","v":886508},{"$f":"G20","v":222845},0,0,0,0,3751893,1109353,{"$f":"N20","v":1277632},{"$f":"IF(M21=N21,0,IF(N21>0,(M21-N21)/N21,\"--\"))","v":-0.13200000000000001},{"$f":"D21+E21-M21","v":2749511},"13."]

{"sheet":"Page 4","index":4,"n_rows":56,"n_cols":28,"rows_kept":56,"cut":false,"hidden":false,"merged":[[25,0,25,1],[10,3,11,3],[8,7,9,7],[22,0,22,8],[8,6,9,6],[8,5,9,5],[10,5,11,5],[10,8,11,8],[8,3,9,3],[8,4,9,4],[10,4,11,4],[10,6,11,6],[10,7,11,7],[8,13,9,13],[10,13,11,13],[8,12,9,12],[10,12,11,12],[10,10,11,10],[8,11,9,11],[10,11,11,11],[8,10,9,10],[3,5,5,5],[24,9,24,10],[25,9,25,10],[51,7,52,7],[46,5,46,7],[47,5,47,7],[0,6,0,8],[0,11,0,12],[25,3,25,4],[24,5,24,6],[25,5,25,6],[24,7,24,8],[25,7,25,8],[24,3,24,4],[10,9,11,9],[8,9,9,9],[8,8,9,8],[0,1,0,4],[2,0,2,12],[1,0,1,12],[3,10,3,12],[5,8,6,8]]}
["DISTRICT NAME",{"$f":"CoverDistrictName","v":"Osborn Elementary School District"},null,null,null,"COUNTY",{"$f":"County","v":"Maricopa"},null,null,null,"CTDS NUMBER",{"$f":"Cover!Q1","v":"070408000"}]
["UNRESTRICTED CAPITAL OUTLAY (610) FUND—EXPENDITURES"]
[]
[null,null,null,null,"Library Books,","Short-term Noninstructional Software Subscription",null,null,null,null,"Totals",null,null,"%"]
[null,null,null,null," Textbooks, & ",null,null,"Redemption of ","Interest","All Other ",null,null,null,"Increase/"]
["Expenditures",null,null,"Rentals","Instructional Aids",null,"Property","Principal","6841, 6842, 6843,  6850","Object Codes","Budget","Actual","Prior Year Actual","Decrease"]
[null,null,null,6440,"6641-6643","6655",6700,"6831, 6832, 6833",null,"(excluding 6900)",null,null,null,"in Actual",null,null,null,null,null,null,null,null,null,null,null,null,null,{"$f":"IF(OR(AB8=\"yes\",AA42=\"yes\",AA50=\"yes\"),\"yes\",\"\")","v":""}]
["Unrestricted Capital Outlay Override  (1)",null,"1.",0,414411,225640,498899,0,0,13094,{"$f":"[1]!F610Override","v":1500000},{"$f":"SUM(D8:J8)","v":1152044},{"$f":"[2]!F610override","v":721962},{"$f":"IF(L8=M8,0,IF(M8>0,(L8-M8)/M8,\"--\"))","v":0.59599999999999997},"1.",null,null,null,null,null,null,null,null,null,null,null,null,{"$f":"IF(OR(D8=\"\",E8=\"\",G8=\"\",H8=\"\",I8=\"\",J8=\"\",K22=\"\"),\"yes\",\"\")","v":""}]
["Unrestricted Capital Outlay Fund 610  (2)",null,null,{"$f":"SUMIFS('Accounting Data'!C2:C93564,'Accounting Data'!E2:E93564,\"610\",'Accounting Data'!I2:I93564,\"1???\",'Accounting Data'!J2:J93564,\"644?\")","v":0},{"$f":"SUMIFS('Accounting Data'!C2:C93564,'Accounting Data'!E2:E93564,\"610\",'Accounting Data'!I2:I93564,\"1???\",'Accounting Data'!J2:J93564,\"6641\")+SUMIFS('Accounting Data'!C2:C93564,'Accounting Data'!E2:E93564,\"610\",'Accounting Data'!I2:I93564,\"1???\",'Accounting Data'!J2:J93564,\"6642\")+SUMIFS('Accounting Data'!C2:C93564,'Accounting Data'!E2:E93564,\"610\",'Accounting Data'!I2:I93564,\"1???\",'Accounting Data'!J2:J93564,\"6643\")","v":433789},null,{"$f":"SUMIFS('Accounting Data'!C2:C93564,'Accounting Data'!E2:E93564,\"610\",'Accounting Data'!I2:I93564,\"1???\",'Accounting Data'!J2:J93564,\"67??\")","v":375513},null,null,{"$f":"SUMIFS('Accounting Data'!C2:C93564,'Accounting Data'!E2:E93564,\"610\",'Accounting Data'!I2:I93564,\"1???\",'Accounting Data'!J2:J93564,\"6???\")-SUMIFS('Accounting Data'!C2:C93564,'Accounting Data'!E2:E93564,\"610\",'Accounting Data'!I2:I93564,\"1???\",'Accounting Data'!J2:J93564,\"69??\")-D9-E9-G9","v":40517},{"$f":"[1]!F610F1000","v":3172954},{"$f":"SUM(D9:G9)+J9","v":849819},{"$f":"[2]!F610F1000","v":477536},{"$f":"IF(L9=M9,0,IF(M9>0,(L9-M9)/M9,\"--\"))","v":0.78}]
["        1000   Instruction",null,"2.",null,null,null,null,null,null,null,null,null,null,null,"2."]
["        2000  Support Services",null,null,{"$f":"SUMIFS('Accounting Data'!C2:C93564,'Accounting Data'!E2:E93564,\"610\",'Accounting Data'!I2:I93564,\"21??\",'Accounting Data'!J2:J93564,\"644?\")+SUMIFS('Accounting Data'!C2:C93564,'Accounting Data'!E2:E93564,\"610\",'Accounting Data'!I2:I93564,\"22??\",'Accounting Data'!J2:J93564,\"644?\")","v":0},{"$f":"SUMIFS('Accounting Data'!C2:C93564,'Accounting Data'!E2:E93564,\"610\",'Accounting Data'!I2:I93564,\"21??\",'Accounting Data'!J2:J93564,\"6641\")+SUMIFS('Accounting Data'!C2:C93564,'Accounting Data'!E2:E93564,\"610\",'Accounting Data'!I2:I93564,\"21??\",'Accounting Data'!J2:J93564,\"6642\")+SUMIFS('Accounting Data'!C2:C93564,'Accounting Data'!E2:E93564,\"610\",'Accounting Data'!I2:I93564,\"21??\",'Accounting Data'!J2:J93564,\"6643\")+SUMIFS('Accounting Data'!C2:C93564,'Accounting Data'!E2:E93564,\"610\",'Accounting Data'!I2:I93564,\"22??\",'Accounting Data'!J2:J93564,\"6641\")+SUMIFS('Accounting Data'!C2:C93564,'Accounting Data'!E2:E93564,\"610\",'Accounting Data'!I2:I93564,\"22??\",'Accounting Data'!J2:J93564,\"6642\")+SUMIFS('Accounting Data'!C2:C93564,'Accounting Data'!E2:E93564,\"610\",'Accounting Data'!I2:I93564,\"22??\",'Accounting Data'!J2:J93564,\"6643\")","v":480},{"$f":"SUM(SUMIFS('Accounting Data'!C2:C93564,'Accounting Data'!E2:E93564,\"610\",'Accounting Data'!I2:I93564,{\"21??\",\"22??\"},'Accounting Data'!J2:J93564,\"6655\"))","v":148804},{"$f":"SUMIFS('Accounting Data'!C2:C93564,'Accounting Data'!E2:E93564,\"610\",'Accounting Data'!I2:I93564,\"21??\",'Accounting Data'!J2:J93564,\"67??\")+SUMIFS('Accounting Data'!C2:C93564,'Accounting Data'!E2:E93564,\"610\",'Accounting Data'!I2:I93564,\"22??\",'Accounting Data'!J2:J93564,\"67??\")","v":76834},null,null,{"$f":"(SUMIFS('Accounting Data'!C2:C93564,'Accounting Data'!E2:E93564,\"610\",'Accounting Data'!I2:I93564,\"21??\",'Accounting Data'!J2:J93564,\"6???\")+SUMIFS('Accounting Data'!C2:C93564,'Accounting Data'!E2:E93564,\"610\",'Accounting Data'!I2:I93564,\"22??\",'Accounting Data'!J2:J93564,\"6???\"))-(SUMIFS('Accounting Data'!C2:C93564,'Accounting Data'!E2:E93564,\"610\",'Accounting Data'!I2:I93564,\"21??\",'Accounting Data'!J2:J93564,\"69??\")+SUMIFS('Accounting Data'!C2:C93564,'Accounting Data'!E2:E93564,\"610\",'Accounting Data'!I2:I93564,\"22??\",'Accounting Data'!J2:J93564,\"69??\"))-D11-E11-G11-F11","v":-1},{"$f":"[1]!F610F21002200","v":750000},{"$f":"SUM(D11:G11)+J11","v":226117},{"$f":"[2]!F610F21002200","v":238641},{"$f":"IF(L11=M11,0,IF(M11>0,(L11-M11)/M11,\"--\"))","v":-5.1999999999999998E-2}]
["            2100, 2200  Students and Instructional Staff",null,"3.",null,null,null,null,null,null,null,null,null,null,null,"3."]
["            2300, 2400, 2500, 2900  Administration",null,"4.",{"$f":"SUMIFS('Accounting Data'!C2:C93564,'Accounting Data'!E2:E93564,\"610\",'Accounting Data'!I2:I93564,\"23??\",'Accounting Data'!J2:J93564,\"644?\")+SUMIFS('Accounting Data'!C2:C93564,'Accounting Data'!E2:E93564,\"610\",'Accounting Data'!I2:I93564,\"24??\",'Accounting Data'!J2:J93564,\"644?\")+SUMIFS('Accounting Data'!C2:C93564,'Accounting Data'!E2:E93564,\"610\",'Accounting Data'!I2:I93564,\"25??\",'Accounting Data'!J2:J93564,\"644?\")+SUMIFS('Accounting Data'!C2:C93564,'Accounting Data'!E2:E93564,\"610\",'Accounting Data'!I2:I93564,\"29??\",'Accounting Data'!J2:J93564,\"644?\")","v":0},null,{"$f":"SUM(SUMIFS('Accounting Data'!C2:C93564,'Accounting Data'!E2:E93564,\"610\",'Accounting Data'!I2:I93564,{\"23??\",\"24??\",\"25??\",\"29??\"},'Accounting Data'!J2:J93564,\"6655\"))","v":82845},{"$f":"SUMIFS('Accounting Data'!C2:C93564,'Accounting Data'!E2:E93564,\"610\",'Accounting Data'!I2:I93564,\"23??\",'Accounting Data'!J2:J93564,\"67??\")+SUMIFS('Accounting Data'!C2:C93564,'Accounting Data'!E2:E93564,\"610\",'Accounting Data'!I2:I93564,\"24??\",'Accounting Data'!J2:J93564,\"67??\")+SUMIFS('Accounting Data'!C2:C93564,'Accounting Data'!E2:E93564,\"610\",'Accounting Data'!I2:I93564,\"25??\",'Accounting Data'!J2:J93564,\"67??\")+SUMIFS('Accounting Data'!C2:C93564,'Accounting Data'!E2:E93564,\"610\",'Accounting Data'!I2:I93564,\"29??\",'Accounting Data'!J2:J93564,\"67??\")","v":86455},null,{"$f":"SUMIFS('Accounting Data'!C2:C93564,'Accounting Data'!E2:E93564,\"610\",'Accounting Data'!I2:I93564,\"25??\",'Accounting Data'!J2:J93564,\"6850\")","v":0},{"$f":"(SUMIFS('Accounting Data'!C2:C93564,'Accounting Data'!E2:E93564,\"610\",'Accounting Data'!I2:I93564,\"23??\",'Accounting Data'!J2:J93564,\"6???\")+SUMIFS('Accounting Data'!C2:C93564,'Accounting Data'!E2:E93564,\"610\",'Accounting Data'!I2:I93564,\"24??\",'Accounting Data'!J2:J93564,\"6???\")+SUMIFS('Accounting Data'!C2:C93564,'Accounting Data'!E2:E93564,\"610\",'Accounting Data'!I2:I93564,\"25??\",'Accounting Data'!J2:J93564,\"6???\")+SUMIFS('Accounting Data'!C2:C93564,'Accounting Data'!E2:E93564,\"610\",'Accounting Data'!I2:I93564,\"29??\",'Accounting Data'!J2:J93564,\"6???\"))-(SUMIFS('Accounting Data'!C2:C93564,'Accounting Data'!E2:E93564,\"610\",'Accounting Data'!I2:I93564,\"23??\",'Accounting Data'!J2:J93564,\"69??\")+SUMIFS('Accounting Data'!C2:C93564,'Accounting Data'!E2:E93564,\"610\",'Accounting Data'!I2:I93564,\"24??\",'Accounting Data'!J2:J93564,\"69??\")+SUMIFS('Accounting Data'!C2:C93564,'Accounting Data'!E2:E93564,\"610\",'Accounting Data'!I2:I93564,\"25??\",'Accounting Data'!J2:J93564,\"69??\")+SUMIFS('Accounting Data'!C2:C93564,'Accounting Data'!E2:E93564,\"610\",'Accounting Data'!I2:I93564,\"29??\",'Accounting Data'!J2:J93564,\"69??\"))-D13-G13-I13-F13","v":0},{"$f":"[1]!F610F2300240025002900","v":200000},{"$f":"D13+F13+G13+SUM(I13:J13)","v":169300},{"$f":"[2]!F610F2300240025002900","v":103255},{"$f":"IF(L13=M13,0,IF(M13>0,(L13-M13)/M13,\"--\"))","v":0.64},"4."]
["            2600  Operation & Maintenance of Plant",null,"5.",{"$f":"SUMIFS('Accounting Data'!C2:C93564,'Accounting Data'!E2:E93564,\"610\",'Accounting Data'!I2:I93564,\"26??\",'Accounting Data'!J2:J93564,\"644?\")","v":0},null,{"$f":"SUM(SUMIFS('Accounting Data'!C2:C93564,'Accounting Data'!E2:E93564,\"610\",'Accounting Data'!I2:I93564,\"26??\",'Accounting Data'!J2:J93564,\"6655\"))","v":16124},{"$f":"SUMIFS('Accounting Data'!C2:C93564,'Accounting Data'!E2:E93564,\"610\",'Accounting Data'!I2:I93564,\"26??\",'Accounting Data'!J2:J93564,\"67??\")","v":82406},null,null,{"$f":"SUMIFS('Accounting Data'!C2:C93564,'Accounting Data'!E2:E93564,\"610\",'Accounting Data'!I2:I93564,\"26??\",'Accounting Data'!J2:J93564,\"6???\")-SUMIFS('Accounting Data'!C2:C93564,'Accounting Data'!E2:E93564,\"610\",'Accounting Data'!I2:I93564,\"26??\",'Accounting Data'!J2:J93564,\"69??\")-D14-G14-F14","v":0},{"$f":"[1]!F610F2600","v":400000},{"$f":"D14+G14+J14+F14","v":98530},{"$f":"[2]!F610F2600","v":20738},{"$f":"IF(L14=M14,0,IF(M14>0,(L14-M14)/M14,\"--\"))","v":3.7509999999999999},"5."]
["            2700  Student Transportation",null,"6.",{"$f":"SUMIFS('Accounting Data'!C2:C93564,'Accounting Data'!E2:E93564,\"610\",'Accounting Data'!I2:I93564,\"27??\",'Accounting Data'!J2:J93564,\"644?\")","v":0},null,{"$f":"SUM(SUMIFS('Accounting Data'!C2:C93564,'Accounting Data'!E2:E93564,\"610\",'Accounting Data'!I2:I93564,\"27??\",'Accounting Data'!J2:J93564,\"6655\"))","v":0},{"$f":"SUMIFS('Accounting Data'!C2:C93564,'Accounting Data'!E2:E93564,\"610\",'Accounting Data'!I2:I93564,\"27??\",'Accounting Data'!J2:J93564,\"67??\")","v":4670},null,null,{"$f":"SUMIFS('Accounting Data'!C2:C93564,'Accounting Data'!E2:E93564,\"610\",'Accounting Data'!I2:I93564,\"27??\",'Accounting Data'!J2:J93564,\"6???\")-SUMIFS('Accounting Data'!C2:C93564,'Accounting Data'!E2:E93564,\"610\",'Accounting Data'!I2:I93564,\"27??\",'Accounting Data'!J2:J93564,\"69??\")-D15-G15-F15","v":-1},{"$f":"[1]!F610F2700","v":400000},{"$f":"D15+G15+J15+F15","v":4669},{"$f":"[2]!F610F2700","v":0},"--","6."]
["        3000  Operation of Noninstructional Services",null,"7.",{"$f":"SUMIFS('Accounting Data'!C2:C93564,'Accounting Data'!E2:E93564,\"610\",'Accounting Data'!I2:I93564,\"3???\",'Accounting Data'!J2:J93564,\"644?\")","v":0},null,{"$f":"SUM(SUMIFS('Accounting Data'!C2:C93564,'Accounting Data'!E2:E93564,\"610\",'Accounting Data'!I2:I93564,\"3???\",'Accounting Data'!J2:J93564,\"6655\"))","v":0},{"$f":"SUMIFS('Accounting Data'!C2:C93564,'Accounting Data'!E2:E93564,\"610\",'Accounting Data'!I2:I93564,\"3???\",'Accounting Data'!J2:J93564,\"67??\")","v":0},null,null,{"$f":"SUMIFS('Accounting Data'!C2:C93564,'Accounting Data'!E2:E93564,\"610\",'Accounting Data'!I2:I93564,\"3???\",'Accounting Data'!J2:J93564,\"6???\")-SUMIFS('Accounting Data'!C2:C93564,'Accounting Data'!E2:E93564,\"610\",'Accounting Data'!I2:I93564,\"3???\",'Accounting Data'!J2:J93564,\"69??\")-D16-G16-F16","v":0},{"$f":"[1]!F610F3000","v":100000},{"$f":"D16+G16+J16+F16","v":0},{"$f":"[2]!F610F3000","v":0},0,"7."]
["        4000  Facilities Acquisition and Construction",null,"8.",{"$f":"SUMIFS('Accounting Data'!C2:C93564,'Accounting Data'!E2:E93564,\"610\",'Accounting Data'!I2:I93564,\"4???\",'Accounting Data'!J2:J93564,\"644?\")","v":0},null,{"$f":"SUM(SUMIFS('Accounting Data'!C2:C93564,'Accounting Data'!E2:E93564,\"610\",'Accounting Data'!I2:I93564,\"4???\",'Accounting Data'!J2:J93564,\"6655\"))","v":0},{"$f":"SUMIFS('Accounting Data'!C2:C93564,'Accounting Data'!E2:E93564,\"610\",'Accounting Data'!I2:I93564,\"4???\",'Accounting Data'!J2:J93564,\"67??\")","v":0},null,null,{"$f":"SUMIFS('Accounting Data'!C2:C93564,'Accounting Data'!E2:E93564,\"610\",'Accounting Data'!I2:I93564,\"4???\",'Accounting Data'!J2:J93564,\"6???\")-SUMIFS('Accounting Data'!C2:C93564,'Accounting Data'!E2:E93564,\"610\",'Accounting Data'!I2:I93564,\"4???\",'Accounting Data'!J2:J93564,\"69??\")-D17-G17-F17","v":47314},{"$f":"[1]!F610F4000","v":80000},{"$f":"D17+G17+J17+F17","v":47314},{"$f":"[2]!F610F4000","v":86032},-0.45,"8."]
["        5000  Debt Service",null,"9.",null,null,null,null,{"$f":"SUMIFS('Accounting Data'!C2:C93564,'Accounting Data'!E2:E93564,\"610\",'Accounting Data'!I2:I93564,\"5???\",'Accounting Data'!J2:J93564,\"6831\")+SUMIFS('Accounting Data'!C2:C93564,'Accounting Data'!E2:E93564,\"610\",'Accounting Data'!I2:I93564,\"5???\",'Accounting Data'!J2:J93564,\"6832\")+SUMIFS('Accounting Data'!C2:C93564,'Accounting Data'!E2:E93564,\"610\",'Accounting Data'!I2:I93564,\"5???\",'Accounting Data'!J2:J93564,\"6833\")","v":0},{"$f":"SUMIFS('Accounting Data'!C2:C93564,'Accounting Data'!E2:E93564,\"610\",'Accounting Data'!I2:I93564,\"5???\",'Accounting Data'!J2:J93564,\"6841\")+SUMIFS('Accounting Data'!C2:C93564,'Accounting Data'!E2:E93564,\"610\",'Accounting Data'!I2:I93564,\"5???\",'Accounting Data'!J2:J93564,\"6842\")+SUMIFS('Accounting Data'!C2:C93564,'Accounting Data'!E2:E93564,\"610\",'Accounting Data'!I2:I93564,\"5???\",'Accounting Data'!J2:J93564,\"6843\")","v":0},null,{"$f":"[1]!F610F5000","v":0},{"$f":"SUM(H18:I18)","v":0},{"$f":"[2]!F610F5000","v":0},0,"9."]
["  Total Unrestricted Capital Outlay Fund (lines 2-9) ",null,"10.",{"$f":"D9+D11+SUM(D13:D17)","v":0},{"$f":"E9+E11","v":434269},{"$f":"SUM(F11:F17)","v":247773},{"$f":"G9+G11+SUM(G13:G17)","v":625878},{"$f":"H18","v":0},{"$f":"I13+I18","v":0},{"$f":"J9+J11+SUM(J13:J17)","v":87829},{"$f":"K9+K11+SUM(K13:K18)","v":5102954},{"$f":"L9+L11+SUM(L13:L18)","v":1395749},{"$f":"M9+M11+SUM(M13:M18)","v":926202},0.50700000000000001,"10."]
[]
["(1)  Amounts in the Unrestricted Capital Outlay Override, line 1 above, must also be included in the Unrestricted Capital Outlay Fund (610) individual line items."]
["(2)  Expenditures, if any, in the Unrestricted Capital Outlay Fund on lines 2-9 for the K-3 Reading Program as described in A.R.S. §15-211:",null,null,null,null,null,null,"Budget",{"$f":"[1]!UCOFundK3ReadExp","v":0},"Actual",0]
["OTHER FUNDS—REQUIRED CAPITAL EXPENDITURE DETAIL [A.R.S. §15-904(B)] "]
[]
[null,null,null,"UNRESTRICTED CAPITAL OUTLAY",null,"BOND BUILDING",null,"NEW SCHOOL FACILITIES",null,"ADJACENT WAYS"]
["Selected Expenditures by Object Code",null,null,"Fund 610",null,"Fund 630",null,"Fund 695",null,"Fund 620"]
[null,null,null,"BUDGET","ACTUAL","BUDGET","ACTUAL","BUDGET","ACTUAL","BUDGET","ACTUAL"]
["Total Fund Expenditures",null,"1.",{"$f":"[1]!F610TotalBudgFY","v":5102954},{"$f":"SUMIFS('Accounting Data'!C2:C93564,'Accounting Data'!E2:E93564,\"610\",'Accounting Data'!J2:J93564,\"6???\")-SUMIFS('Accounting Data'!C2:C93564,'Accounting Data'!E2:E93564,\"610\",'Accounting Data'!J2:J93564,\"69??\")","v":1395749},{"$f":"[1]!F630TotalBudgFY","v":2100000},{"$f":"SUMIFS('Accounting Data'!C2:C93564,'Accounting Data'!E2:E93564,\"630\",'Accounting Data'!J2:J93564,\"6???\")-SUMIFS('Accounting Data'!C2:C93564,'Accounting Data'!E2:E93564,\"630\",'Accounting Data'!J2:J93564,\"69??\")","v":1466999},{"$f":"[1]!F695TotalBudgFY","v":0},{"$f":"SUMIFS('Accounting Data'!C2:C93564,'Accounting Data'!E2:E93564,\"695\",'Accounting Data'!J2:J93564,\"6???\")-SUMIFS('Accounting Data'!C2:C93564,'Accounting Data'!E2:E93564,\"695\",'Accounting Data'!J2:J93564,\"69??\")","v":0},{"$f":"[1]!F620TotalBudgFY","v":0},{"$f":"SUMIFS('Accounting Data'!C2:C93564,'Accounting Data'!E2:E93564,\"620\",'Accounting Data'!J2:J93564,\"6???\")-SUMIFS('Accounting Data'!C2:C93564,'Accounting Data'!E2:E93564,\"620\",'Accounting Data'!J2:J93564,\"69??\")","v":0},"1."]
["        6150 Classified Salaries",null,"2.",{"$f":"[1]!F610BudgFYO6150","v":0},{"$f":"SUMIFS('Accounting Data'!C$2:C$93564,'Accounting Data'!E$2:E$93564,\"610\",'Accounting Data'!J$2:J$93564,\"615?\")+SUMIFS('Accounting Data'!C$2:C$93564,'Accounting Data'!E$2:E$93564,\"610\",'Accounting Data'!J$2:J$93564,\"616?\")+SUMIFS('Accounting Data'!C$2:C$93564,'Accounting Data'!E$2:E$93564,\"610\",'Accounting Data'!J$2:J$93564,\"617?\")+SUMIFS('Accounting Data'!C$2:C$93564,'Accounting Data'!E$2:E$93564,\"610\",'Accounting Data'!J$2:J$93564,\"618?\")+SUMIFS('Accounting Data'!C$2:C$93564,'Accounting Data'!E$2:E$93564,\"610\",'Accounting Data'!J$2:J$93564,\"619?\")","v":0},{"$f":"[1]!F630BudgFYO6150","v":0},{"$f":"SUMIFS('Accounting Data'!C$2:C$93564,'Accounting Data'!E$2:E$93564,\"630\",'Accounting Data'!J$2:J$93564,\"615?\")+SUMIFS('Accounting Data'!C$2:C$93564,'Accounting Data'!E$2:E$93564,\"630\",'Accounting Data'!J$2:J$93564,\"616?\")+SUMIFS('Accounting Data'!C$2:C$93564,'Accounting Data'!E$2:E$93564,\"630\",'Accounting Data'!J$2:J$93564,\"617?\")+SUMIFS('Accounting Data'!C$2:C$93564,'Accounting Data'!E$2:E$93564,\"630\",'Accounting Data'!J$2:J$93564,\"618?\")+SUMIFS('Accounting Data'!C$2:C$93564,'Accounting Data'!E$2:E$93564,\"630\",'Accounting Data'!J$2:J$93564,\"619?\")","v":0},{"$f":"[1]!F695BudgFYO6150","v":0},{"$f":"SUMIFS('Accounting Data'!C$2:C$93564,'Accounting Data'!E$2:E$93564,\"695\",'Accounting Data'!J$2:J$93564,\"615?\")+SUMIFS('Accounting Data'!C$2:C$93564,'Accounting Data'!E$2:E$93564,\"695\",'Accounting Data'!J$2:J$93564,\"616?\")+SUMIFS('Accounting Data'!C$2:C$93564,'Accounting Data'!E$2:E$93564,\"695\",'Accounting Data'!J$2:J$93564,\"617?\")+SUMIFS('Accounting Data'!C$2:C$93564,'Accounting Data'!E$2:E$93564,\"695\",'Accounting Data'!J$2:J$93564,\"618?\")+SUMIFS('Accounting Data'!C$2:C$93564,'Accounting Data'!E$2:E$93564,\"695\",'Accounting Data'!J$2:J$93564,\"619?\")","v":0},{"$f":"[1]!F620BudgFYO6150","v":0},{"$f":"SUMIFS('Accounting Data'!C$2:C$93564,'Accounting Data'!E$2:E$93564,\"620\",'Accounting Data'!J$2:J$93564,\"615?\")+SUMIFS('Accounting Data'!C$2:C$93564,'Accounting Data'!E$2:E$93564,\"620\",'Accounting Data'!J$2:J$93564,\"616?\")+SUMIFS('Accounting Data'!C$2:C$93564,'Accounting Data'!E$2:E$93564,\"620\",'Accounting Data'!J$2:J$93564,\"617?\")+SUMIFS('Accounting Data'!C$2:C$93564,'Accounting Data'!E$2:E$93564,\"620\",'Accounting Data'!J$2:J$93564,\"618?\")+SUMIFS('Accounting Data'!C$2:C$93564,'Accounting Data'!E$2:E$93564,\"620\",'Accounting Data'!J$2:J$93564,\"619?\")","v":0},"2."]
["        6200 Employee Benefits",null,"3.",{"$f":"[1]!F610BudgFYO6200","v":0},{"$f":"SUMIFS('Accounting Data'!C$2:C$93564,'Accounting Data'!E$2:E$93564,\"610\",'Accounting Data'!J$2:J$93564,\"62??\")","v":0},{"$f":"[1]!F630BudgFYO6200","v":0},{"$f":"SUMIFS('Accounting Data'!C$2:C$93564,'Accounting Data'!E$2:E$93564,\"630\",'Accounting Data'!J$2:J$93564,\"62??\")","v":0},{"$f":"[1]!F695BudgFYO6200","v":0},{"$f":"SUMIFS('Accounting Data'!C$2:C$93564,'Accounting Data'!E$2:E$93564,\"695\",'Accounting Data'!J$2:J$93564,\"62??\")","v":0},{"$f":"[1]!F620BudgFYO6200","v":0},{"$f":"SUMIFS('Accounting Data'!C$2:C$93564,'Accounting Data'!E$2:E$93564,\"620\",'Accounting Data'!J$2:J$93564,\"62??\")","v":0},"3."]
["        6450 Construction Services",null,"4.",{"$f":"[1]!F610BudgFYO6450","v":0},{"$f":"SUMIFS('Accounting Data'!C$2:C$93564,'Accounting Data'!E$2:E$93564,\"610\",'Accounting Data'!J$2:J$93564,\"645?\")","v":47314},{"$f":"[1]!F630BudgFYO6450","v":200000},{"$f":"SUMIFS('Accounting Data'!C$2:C$93564,'Accounting Data'!E$2:E$93564,\"630\",'Accounting Data'!J$2:J$93564,\"645?\")","v":844579},{"$f":"[1]!F695BudgFYO6450","v":0},{"$f":"SUMIFS('Accounting Data'!C$2:C$93564,'Accounting Data'!E$2:E$93564,\"695\",'Accounting Data'!J$2:J$93564,\"645?\")","v":0},{"$f":"[1]!F620BudgFYO6450","v":0},{"$f":"SUMIFS('Accounting Data'!C$2:C$93564,'Accounting Data'!E$2:E$93564,\"620\",'Accounting Data'!J$2:J$93564,\"645?\")","v":0},"4."]
["        6655 Short-term Noninstructional Software Subscription",null,"5.",null,{"$f":"SUMIFS('Accounting Data'!C$2:C$93564,'Accounting Data'!E$2:E$93564,\"610\",'Accounting Data'!J$2:J$93564,\"6655\")","v":288290},null,{"$f":"SUMIFS('Accounting Data'!C$2:C$93564,'Accounting Data'!E$2:E$93564,\"630\",'Accounting Data'!J$2:J$93564,\"6655\")","v":0},null,{"$f":"SUMIFS('Accounting Data'!C$2:C$93564,'Accounting Data'!E$2:E$93564,\"695\",'Accounting Data'!J$2:J$93564,\"6655\")","v":0},null,{"$f":"SUMIFS('Accounting Data'!C$2:C$93564,'Accounting Data'!E$2:E$93564,\"620\",'Accounting Data'!J$2:J$93564,\"6655\")","v":0},"5."]
["        6710 Land and Improvements",null,"6.",{"$f":"[1]!F610BudgFYO6710","v":0},{"$f":"SUMIFS('Accounting Data'!C$2:C$93564,'Accounting Data'!E$2:E$93564,\"610\",'Accounting Data'!J$2:J$93564,\"671?\")","v":0},{"$f":"[1]!F630BudgFYO6710","v":0},{"$f":"SUMIFS('Accounting Data'!C$2:C$93564,'Accounting Data'!E$2:E$93564,\"630\",'Accounting Data'!J$2:J$93564,\"671?\")","v":0},{"$f":"[1]!F695BudgFYO6710","v":0},{"$f":"SUMIFS('Accounting Data'!C$2:C$93564,'Accounting Data'!E$2:E$93564,\"695\",'Accounting Data'!J$2:J$93564,\"671?\")","v":0},{"$f":"[1]!F620BudgFYO6710","v":0},{"$f":"SUMIFS('Accounting Data'!C$2:C$93564,'Accounting Data'!E$2:E$93564,\"620\",'Accounting Data'!J$2:J$93564,\"671?\")","v":0},"6."]
["        6720 Buildings and Improvements",null,"7.",{"$f":"[1]!F610BudgFYO6720","v":0},{"$f":"SUMIFS('Accounting Data'!C$2:C$93564,'Accounting Data'!E$2:E$93564,\"610\",'Accounting Data'!J$2:J$93564,\"672?\")","v":0},{"$f":"[1]!F630BudgFYO6720","v":0},{"$f":"SUMIFS('Accounting Data'!C$2:C$93564,'Accounting Data'!E$2:E$93564,\"630\",'Accounting Data'!J$2:J$93564,\"672?\")","v":0},{"$f":"[1]!F695BudgFYO6720","v":0},{"$f":"SUMIFS('Accounting Data'!C$2:C$93564,'Accounting Data'!E$2:E$93564,\"695\",'Accounting Data'!J$2:J$93564,\"672?\")","v":0},{"$f":"[1]!F620BudgFYO6720","v":0},{"$f":"SUMIFS('Accounting Data'!C$2:C$93564,'Accounting Data'!E$2:E$93564,\"620\",'Accounting Data'!J$2:J$93564,\"672?\")","v":0},"7."]
["        673X Furniture and Equipment",null,"8.",{"$f":"[1]!F610BudgFYO6731","v":1000000},{"$f":"SUMIFS('Accounting Data'!C2:C93564,'Accounting Data'!E2:E93564,\"610\",'Accounting Data'!J2:J93564,\"6731\")+SUMIFS('Accounting Data'!C2:C93564,'Accounting Data'!E2:E93564,\"610\",'Accounting Data'!J2:J93564,\"6732\")+SUMIFS('Accounting Data'!C2:C93564,'Accounting Data'!E2:E93564,\"610\",'Accounting Data'!J2:J93564,\"6733\")","v":121029},{"$f":"[1]!F630BudgFYO6731","v":200000},{"$f":"SUMIFS('Accounting Data'!C2:C93564,'Accounting Data'!E2:E93564,\"630\",'Accounting Data'!J2:J93564,\"6731\")+SUMIFS('Accounting Data'!C2:C93564,'Accounting Data'!E2:E93564,\"630\",'Accounting Data'!J2:J93564,\"6732\")+SUMIFS('Accounting Data'!C2:C93564,'Accounting Data'!E2:E93564,\"630\",'Accounting Data'!J2:J93564,\"6733\")","v":0},{"$f":"[1]!F695BudgFYO6731","v":0},{"$f":"SUMIFS('Accounting Data'!C2:C93564,'Accounting Data'!E2:E93564,\"695\",'Accounting Data'!J2:J93564,\"6731\")+SUMIFS('Accounting Data'!C2:C93564,'Accounting Data'!E2:E93564,\"695\",'Accounting Data'!J2:J93564,\"6732\")+SUMIFS('Accounting Data'!C2:C93564,'Accounting Data'!E2:E93564,\"695\",'Accounting Data'!J2:J93564,\"6733\")","v":0},{"$f":"[1]!F620BudgFYO6731","v":0},{"$f":"SUMIFS('Accounting Data'!C2:C93564,'Accounting Data'!E2:E93564,\"620\",'Accounting Data'!J2:J93564,\"6731\")+SUMIFS('Accounting Data'!C2:C93564,'Accounting Data'!E2:E93564,\"620\",'Accounting Data'!J2:J93564,\"6732\")+SUMIFS('Accounting Data'!C2:C93564,'Accounting Data'!E2:E93564,\"620\",'Accounting Data'!J2:J93564,\"6733\")","v":0},"8."]
["        673X Vehicles ",null,"9.",{"$f":"[1]!F610BudgFYO6734","v":400000},{"$f":"SUMIFS('Accounting Data'!C2:C93564,'Accounting Data'!E2:E93564,\"610\",'Accounting Data'!J2:J93564,\"6734\")+SUMIFS('Accounting Data'!C2:C93564,'Accounting Data'!E2:E93564,\"610\",'Accounting Data'!J2:J93564,\"6735\")+SUMIFS('Accounting Data'!C2:C93564,'Accounting Data'!E2:E93564,\"610\",'Accounting Data'!J2:J93564,\"6736\")","v":0},{"$f":"[1]!F630BudgFYO6734","v":400000},{"$f":"SUMIFS('Accounting Data'!C2:C93564,'Accounting Data'!E2:E93564,\"630\",'Accounting Data'!J2:J93564,\"6734\")+SUMIFS('Accounting Data'!C2:C93564,'Accounting Data'!E2:E93564,\"630\",'Accounting Data'!J2:J93564,\"6735\")+SUMIFS('Accounting Data'!C2:C93564,'Accounting Data'!E2:E93564,\"630\",'Accounting Data'!J2:J93564,\"6736\")","v":0},{"$f":"[1]!F695BudgFYO6734","v":0},{"$f":"SUMIFS('Accounting Data'!C2:C93564,'Accounting Data'!E2:E93564,\"695\",'Accounting Data'!J2:J93564,\"6734\")+SUMIFS('Accounting Data'!C2:C93564,'Accounting Data'!E2:E93564,\"695\",'Accounting Data'!J2:J93564,\"6735\")+SUMIFS('Accounting Data'!C2:C93564,'Accounting Data'!E2:E93564,\"695\",'Accounting Data'!J2:J93564,\"6736\")","v":0},{"$f":"[1]!F620BudgFYO6734","v":0},{"$f":"SUMIFS('Accounting Data'!C2:C93564,'Accounting Data'!E2:E93564,\"620\",'Accounting Data'!J2:J93564,\"6734\")+SUMIFS('Accounting Data'!C2:C93564,'Accounting Data'!E2:E93564,\"620\",'Accounting Data'!J2:J93564,\"6735\")+SUMIFS('Accounting Data'!C2:C93564,'Accounting Data'!E2:E93564,\"620\",'Accounting Data'!J2:J93564,\"6736\")","v":0},"9."]
["        673X Technology-Related Hardware and Software",null,"10.",{"$f":"[1]!F610BudgFYO6737","v":1095912},{"$f":"SUMIFS('Accounting Data'!C2:C93564,'Accounting Data'!E2:E93564,\"610\",'Accounting Data'!J2:J93564,\"6737\")+SUMIFS('Accounting Data'!C2:C93564,'Accounting Data'!E2:E93564,\"610\",'Accounting Data'!J2:J93564,\"6738\")+SUMIFS('Accounting Data'!C2:C93564,'Accounting Data'!E2:E93564,\"610\",'Accounting Data'!J2:J93564,\"6739\")","v":504847},{"$f":"[1]!F630BudgFYO6737","v":1300000},{"$f":"SUMIFS('Accounting Data'!C2:C93564,'Accounting Data'!E2:E93564,\"630\",'Accounting Data'!J2:J93564,\"6737\")+SUMIFS('Accounting Data'!C2:C93564,'Accounting Data'!E2:E93564,\"630\",'Accounting Data'!J2:J93564,\"6738\")+SUMIFS('Accounting Data'!C2:C93564,'Accounting Data'!E2:E93564,\"630\",'Accounting Data'!J2:J93564,\"6739\")","v":622420},{"$f":"[1]!F695BudgFYO6737","v":0},{"$f":"SUMIFS('Accounting Data'!C2:C93564,'Accounting Data'!E2:E93564,\"695\",'Accounting Data'!J2:J93564,\"6737\")+SUMIFS('Accounting Data'!C2:C93564,'Accounting Data'!E2:E93564,\"695\",'Accounting Data'!J2:J93564,\"6738\")+SUMIFS('Accounting Data'!C2:C93564,'Accounting Data'!E2:E93564,\"695\",'Accounting Data'!J2:J93564,\"6739\")","v":0},{"$f":"[1]!F620BudgFYO6737","v":0},{"$f":"SUMIFS('Accounting Data'!C2:C93564,'Accounting Data'!E2:E93564,\"620\",'Accounting Data'!J2:J93564,\"6737\")+SUMIFS('Accounting Data'!C2:C93564,'Accounting Data'!E2:E93564,\"620\",'Accounting Data'!J2:J93564,\"6738\")+SUMIFS('Accounting Data'!C2:C93564,'Accounting Data'!E2:E93564,\"620\",'Accounting Data'!J2:J93564,\"6739\")","v":0},"10."]
["        6831, 6832, 6833 Redemption of Principal",null,"11.",{"$f":"[1]!F610BudgFYO6831","v":0},{"$f":"SUMIFS('Accounting Data'!C2:C93564,'Accounting Data'!E2:E93564,\"610\",'Accounting Data'!J2:J93564,\"6831\")+SUMIFS('Accounting Data'!C2:C93564,'Accounting Data'!E2:E93564,\"610\",'Accounting Data'!J2:J93564,\"6832\")+SUMIFS('Accounting Data'!C2:C93564,'Accounting Data'!E2:E93564,\"610\",'Accounting Data'!J2:J93564,\"6833\")","v":0},{"$f":"[1]!F630BudgFYO6831","v":0},{"$f":"SUMIFS('Accounting Data'!C2:C93564,'Accounting Data'!E2:E93564,\"630\",'Accounting Data'!J2:J93564,\"6831\")+SUMIFS('Accounting Data'!C2:C93564,'Accounting Data'!E2:E93564,\"630\",'Accounting Data'!J2:J93564,\"6832\")+SUMIFS('Accounting Data'!C2:C93564,'Accounting Data'!E2:E93564,\"630\",'Accounting Data'!J2:J93564,\"6833\")","v":0},{"$f":"[1]!F695BudgFYO6831","v":0},{"$f":"SUMIFS('Accounting Data'!C2:C93564,'Accounting Data'!E2:E93564,\"695\",'Accounting Data'!J2:J93564,\"6831\")+SUMIFS('Accounting Data'!C2:C93564,'Accounting Data'!E2:E93564,\"695\",'Accounting Data'!J2:J93564,\"6832\")+SUMIFS('Accounting Data'!C2:C93564,'Accounting Data'!E2:E93564,\"695\",'Accounting Data'!J2:J93564,\"6833\")","v":0},{"$f":"[1]!F620BudgFYO6831","v":0},{"$f":"SUMIFS('Accounting Data'!C2:C93564,'Accounting Data'!E2:E93564,\"620\",'Accounting Data'!J2:J93564,\"6831\")+SUMIFS('Accounting Data'!C2:C93564,'Accounting Data'!E2:E93564,\"620\",'Accounting Data'!J2:J93564,\"6832\")+SUMIFS('Accounting Data'!C2:C93564,'Accounting Data'!E2:E93564,\"620\",'Accounting Data'!J2:J93564,\"6833\")","v":0},"11."]
["        6841, 6842, 6843, 6850, 6860 Interest",null,"12.",{"$f":"[1]!F610BudgFYO6841","v":0},{"$f":"SUMIFS('Accounting Data'!C2:C93564,'Accounting Data'!E2:E93564,\"610\",'Accounting Data'!J2:J93564,\"6841\")+SUMIFS('Accounting Data'!C2:C93564,'Accounting Data'!E2:E93564,\"610\",'Accounting Data'!J2:J93564,\"6842\")+SUMIFS('Accounting Data'!C2:C93564,'Accounting Data'!E2:E93564,\"610\",'Accounting Data'!J2:J93564,\"6850\")+SUMIFS('Accounting Data'!C2:C93564,'Accounting Data'!E2:E93564,\"610\",'Accounting Data'!J2:J93564,\"6843\")","v":0},{"$f":"[1]!F630BudgFYO6841","v":0},{"$f":"SUMIFS('Accounting Data'!C2:C93564,'Accounting Data'!E2:E93564,\"630\",'Accounting Data'!J2:J93564,\"6841\")+SUMIFS('Accounting Data'!C2:C93564,'Accounting Data'!E2:E93564,\"630\",'Accounting Data'!J2:J93564,\"6842\")+SUMIFS('Accounting Data'!C2:C93564,'Accounting Data'!E2:E93564,\"630\",'Accounting Data'!J2:J93564,\"6850\")+SUMIFS('Accounting Data'!C2:C93564,'Accounting Data'!E2:E93564,\"630\",'Accounting Data'!J2:J93564,\"6860\")+SUMIFS('Accounting Data'!C2:C93564,'Accounting Data'!E2:E93564,\"630\",'Accounting Data'!J2:J93564,\"6843\")","v":0},{"$f":"[1]!F695BudgFYO6841","v":0},{"$f":"SUMIFS('Accounting Data'!C2:C93564,'Accounting Data'!E2:E93564,\"695\",'Accounting Data'!J2:J93564,\"6841\")+SUMIFS('Accounting Data'!C2:C93564,'Accounting Data'!E2:E93564,\"695\",'Accounting Data'!J2:J93564,\"6842\")+SUMIFS('Accounting Data'!C2:C93564,'Accounting Data'!E2:E93564,\"695\",'Accounting Data'!J2:J93564,\"6850\")+SUMIFS('Accounting Data'!C2:C93564,'Accounting Data'!E2:E93564,\"695\",'Accounting Data'!J2:J93564,\"6843\")","v":0},{"$f":"[1]!F620BudgFYO6841","v":0},{"$f":"SUMIFS('Accounting Data'!C2:C93564,'Accounting Data'!E2:E93564,\"620\",'Accounting Data'!J2:J93564,\"6841\")+SUMIFS('Accounting Data'!C2:C93564,'Accounting Data'!E2:E93564,\"620\",'Accounting Data'!J2:J93564,\"6842\")+SUMIFS('Accounting Data'!C2:C93564,'Accounting Data'!E2:E93564,\"620\",'Accounting Data'!J2:J93564,\"6850\")+SUMIFS('Accounting Data'!C2:C93564,'Accounting Data'!E2:E93564,\"620\",'Accounting Data'!J2:J93564,\"6843\")","v":0},"12."]
["        Total (lines 2-12)",null,"13.",{"$f":"SUM(D29:D39)","v":2495912},961480,2100000,1466999,0,0,0,0,"13."]
["Total amounts reported on lines 2 through 12 above for:"]
["       Renovation",null,"14.",{"$f":"[1]!F610BudgFYRenovation","v":0},13094,{"$f":"[1]!F630BudgFYRenovation","v":200000},844579,null,null,{"$f":"[1]!F620BudgFYRenovation","v":0},0,"14.",null,null,null,null,null,null,null,null,null,null,null,null,null,null,{"$f":"IF(OR(E42=\"\",E43=\"\",E44=\"\",G42=\"\",G43=\"\",G44=\"\",I43=\"\",I44=\"\",K42=\"\",K43=\"\",K44=\"\"),\"yes\",\"\")","v":""}]
["       New Construction",null,"15.",{"$f":"[1]!F610BudgFYNewConstruction","v":0},0,{"$f":"[1]!F630BudgFYNewConstruction","v":0},0,{"$f":"[1]!F695BudgFYNewConstruction","v":0},0,{"$f":"[1]!F620BudgFYNewConstruction","v":0},0,"15."]
["       Other",null,"16.",{"$f":"[1]!F610BudgFYOther","v":2495912},948386,{"$f":"[1]!F630BudgFYOther","v":1900000},622420,{"$f":"[1]!F695BudgFYOther","v":0},0,{"$f":"[1]!F620BudgFYOther","v":0},0,"16."]
["       Total (lines 14-16)",null,"17.",{"$f":"IF(ROUND(SUM(D42:D44),0)=ROUND(SUM(D29:D39),0),SUM(D42:D44),\"Must equal line 13\")","v":2495912},{"$f":"IF(ROUND(SUM(E42:E44),0)=ROUND(SUM(E29:E39),0),SUM(E42:E44),\"Must equal line 13\")","v":961480},{"$f":"IF(ROUND(SUM(F42:F44),0)=ROUND(SUM(F29:F39),0),SUM(F42:F44),\"Must equal line 13\")","v":2100000},{"$f":"IF(ROUND(SUM(G42:G44),0)=ROUND(SUM(G29:G39),0),SUM(G42:G44),\"Must equal line 13\")","v":1466999},{"$f":"IF(ROUND(SUM(H42:H44),0)=ROUND(SUM(H29:H39),0),SUM(H42:H44),\"Must equal line 13\")","v":0},{"$f":"IF(ROUND(SUM(I42:I44),2)=ROUND(SUM(I29:I39),0),SUM(I43:I44),\"Must equal line 13\")","v":0},{"$f":"IF(ROUND(SUM(J42:J44),0)=ROUND(SUM(J29:J39),0),SUM(J42:J44),\"Must equal line 13\")","v":0},{"$f":"IF(ROUND(SUM(K42:K44),0)=ROUND(SUM(K29:K39),0),SUM(K42:K44),\"Must equal line 13\")","v":0},"17."]
[]
["Funds 610, 630, 695, and 620",null,null,null,null,"CAPITAL ASSETS AS OF"]
["1. New construction cost per square foot",null,"$",0,null," JUNE 30, 2023"]
["2. Land acquisition costs",null,"$",0,null," "]
[null,null,null,null,null,"Land and Improvements",null,9704579,"1.",null,null,null,null,null,null,null,null,null,null,null,null,null,null,null,null,null,{"$f":"IF(OR(H50=\"\",H51=\"\",H52=\"\",H54=\"\",D48=\"\",D49=\"\"),\"yes\",\"\")","v":""}]
[null,null,null,null,null,"Buildings and Improvements",null,87902927,"2."]
[null,null,null,null,null,"Furniture, Equipment, Vehicles, ",null,3203574]
[null,null,null,null,null,"    and Technology",null,null,"3."]
[null,null,null,null,null,"Construction in Progress",null,11451,"4."]
[]
[null,null,null,null,null,"Total",null,{"$f":"IF(H52=\"$\",\"$\",SUM(H50:H54))","v":100822531},"5."]

{"sheet":"Page 5","index":5,"n_rows":55,"n_cols":27,"rows_kept":55,"cut":false,"hidden":false,"merged":[[50,0,52,10],[54,0,54,10],[0,1,0,4],[1,0,1,10],[4,6,5,6],[0,6,0,7],[4,10,7,10],[26,0,26,1]]}
["DISTRICT NAME",{"$f":"CoverDistrictName","v":"Osborn Elementary School District"},null,null,null,"COUNTY",{"$f":"County","v":"Maricopa"},null,"CTDS NUMBER",{"$f":"Cover!Q1","v":"070408000"},null,"Yes"]
["FEDERAL AND STATE PROJECTS",null,null,null,null,null,null,null,null,null,null,"No"]
[]
[]
[null,null,null,null,null,null,"NET OTHER FINANCING SOURCES AND USES",null,null," ","GENERAL FUND",null,null,null,"OTHER FINANCING","OTHER FINANCING"]
[null,null,null,null,"BEGINNING",null,null,null,null,"ENDING FUND",null,null,null,null,"SOURCES INCLUDING","USES INCLUDING",null,null,null,null,null,null,null,null,null,null,{"$f":"IF(OR(E23=\"\",E24=\"\",E25=\"\",E26=\"\",E27=\"\",E28=\"\",H23=\"\",H24=\"\",H26=\"\",H27=\"\",H28=\"\",K22=\"\",K23=\"\",K24=\"\",K27=\"\",K46=\"\"),\"yes\",\"\")","v":""}]
[null,null,null,null,"FUND BALANCE","REVENUES","INCLUDING TRANSFERS (1)","EXPENDITURES",null,"BALANCE",null,null,null,null,"TRANSFERS-IN","TRANSFERS-OUT"]
["FEDERAL PROJECTS ",null,null,null,"ACTUAL","ACTUAL","ACTUAL","BUDGET","ACTUAL","ACTUAL",null,null,null,null,"5000 (1)","6900 (1)"]
["100-130 ESEA Title I - Helping Disadvantaged Children",null,null,"1.",{"$f":"'Accounting Data'!R8","v":0},{"$f":"-(SUMIFS('Accounting Data'!C2:C93564,'Accounting Data'!E2:E93564,\"10?\",'Accounting Data'!J2:J93564,\"1???\")+SUMIFS('Accounting Data'!C2:C93564,'Accounting Data'!E2:E93564,\"11?\",'Accounting Data'!J2:J93564,\"1???\")+SUMIFS('Accounting Data'!C2:C93564,'Accounting Data'!E2:E93564,\"12?\",'Accounting Data'!J2:J93564,\"1???\")+SUMIFS('Accounting Data'!C2:C93564,'Accounting Data'!E2:E93564,\"13?\",'Accounting Data'!J2:J93564,\"1???\")+SUMIFS('Accounting Data'!C2:C93564,'Accounting Data'!E2:E93564,\"10?\",'Accounting Data'!J2:J93564,\"2???\")+SUMIFS('Accounting Data'!C2:C93564,'Accounting Data'!E2:E93564,\"11?\",'Accounting Data'!J2:J93564,\"2???\")+SUMIFS('Accounting Data'!C2:C93564,'Accounting Data'!E2:E93564,\"12?\",'Accounting Data'!J2:J93564,\"2???\")+SUMIFS('Accounting Data'!C2:C93564,'Accounting Data'!E2:E93564,\"13?\",'Accounting Data'!J2:J93564,\"2???\")+SUMIFS('Accounting Data'!C2:C93564,'Accounting Data'!E2:E93564,\"10?\",'Accounting Data'!J2:J93564,\"3???\")+SUMIFS('Accounting Data'!C2:C93564,'Accounting Data'!E2:E93564,\"11?\",'Accounting Data'!J2:J93564,\"3???\")+SUMIFS('Accounting Data'!C2:C93564,'Accounting Data'!E2:E93564,\"12?\",'Accounting Data'!J2:J93564,\"3???\")+SUMIFS('Accounting Data'!C2:C93564,'Accounting Data'!E2:E93564,\"13?\",'Accounting Data'!J2:J93564,\"3???\")+SUMIFS('Accounting Data'!C2:C93564,'Accounting Data'!E2:E93564,\"10?\",'Accounting Data'!J2:J93564,\"4???\")+SUMIFS('Accounting Data'!C2:C93564,'Accounting Data'!E2:E93564,\"11?\",'Accounting Data'!J2:J93564,\"4???\")+SUMIFS('Accounting Data'!C2:C93564,'Accounting Data'!E2:E93564,\"12?\",'Accounting Data'!J2:J93564,\"4???\")+SUMIFS('Accounting Data'!C2:C93564,'Accounting Data'!E2:E93564,\"13?\",'Accounting Data'!J2:J93564,\"4???\"))","v":1195626},{"$f":"O9-P9","v":-83349},{"$f":"[1]!F100130BudgFY","v":1500000},{"$f":"(SUMIFS('Accounting Data'!C2:C93564,'Accounting Data'!E2:E93564,\"10?\",'Accounting Data'!J2:J93564,\"6???\")+SUMIFS('Accounting Data'!C2:C93564,'Accounting Data'!E2:E93564,\"11?\",'Accounting Data'!J2:J93564,\"6???\")+SUMIFS('Accounting Data'!C2:C93564,'Accounting Data'!E2:E93564,\"12?\",'Accounting Data'!J2:J93564,\"6???\")+SUMIFS('Accounting Data'!C2:C93564,'Accounting Data'!E2:E93564,\"13?\",'Accounting Data'!J2:J93564,\"6???\"))-P9","v":1112277},{"$f":"E9+F9+G9-I9","v":0},null,"1.",null,"1.",{"$f":"-(SUMIFS('Accounting Data'!C2:C93564,'Accounting Data'!E2:E93564,\"10?\",'Accounting Data'!J2:J93564,\"5???\")+SUMIFS('Accounting Data'!C2:C93564,'Accounting Data'!E2:E93564,\"11?\",'Accounting Data'!J2:J93564,\"5???\")+SUMIFS('Accounting Data'!C2:C93564,'Accounting Data'!E2:E93564,\"12?\",'Accounting Data'!J2:J93564,\"5???\")+SUMIFS('Accounting Data'!C2:C93564,'Accounting Data'!E2:E93564,\"13?\",'Accounting Data'!J2:J93564,\"5???\"))","v":0},{"$f":"SUMIFS('Accounting Data'!C2:C93564,'Accounting Data'!E2:E93564,\"10?\",'Accounting Data'!J2:J93564,\"69??\")+SUMIFS('Accounting Data'!C2:C93564,'Accounting Data'!E2:E93564,\"11?\",'Accounting Data'!J2:J93564,\"69??\")+SUMIFS('Accounting Data'!C2:C93564,'Accounting Data'!E2:E93564,\"12?\",'Accounting Data'!J2:J93564,\"69??\")+SUMIFS('Accounting Data'!C2:C93564,'Accounting Data'!E2:E93564,\"13?\",'Accounting Data'!J2:J93564,\"69??\")","v":83349},"1."]
["140-150 ESEA Title II - Prof. Development and Technology",null,null,"2.",{"$f":"'Accounting Data'!R48","v":0},{"$f":"-(SUMIFS('Accounting Data'!C2:C93564,'Accounting Data'!E2:E93564,\"14?\",'Accounting Data'!J2:J93564,\"1???\")+SUMIFS('Accounting Data'!C2:C93564,'Accounting Data'!E2:E93564,\"15?\",'Accounting Data'!J2:J93564,\"1???\")+SUMIFS('Accounting Data'!C2:C93564,'Accounting Data'!E2:E93564,\"14?\",'Accounting Data'!J2:J93564,\"2???\")+SUMIFS('Accounting Data'!C2:C93564,'Accounting Data'!E2:E93564,\"15?\",'Accounting Data'!J2:J93564,\"2???\")+SUMIFS('Accounting Data'!C2:C93564,'Accounting Data'!E2:E93564,\"14?\",'Accounting Data'!J2:J93564,\"3???\")+SUMIFS('Accounting Data'!C2:C93564,'Accounting Data'!E2:E93564,\"15?\",'Accounting Data'!J2:J93564,\"3???\")+SUMIFS('Accounting Data'!C2:C93564,'Accounting Data'!E2:E93564,\"14?\",'Accounting Data'!J2:J93564,\"4???\")+SUMIFS('Accounting Data'!C2:C93564,'Accounting Data'!E2:E93564,\"15?\",'Accounting Data'!J2:J93564,\"4???\"))","v":176478},-12500,{"$f":"[1]!F140150BudgFY","v":145000},{"$f":"(SUMIFS('Accounting Data'!C2:C93564,'Accounting Data'!E2:E93564,\"14?\",'Accounting Data'!J2:J93564,\"6???\")+SUMIFS('Accounting Data'!C2:C93564,'Accounting Data'!E2:E93564,\"15?\",'Accounting Data'!J2:J93564,\"6???\"))-P10","v":163978},0,null,"2.",null,"2.",{"$f":"-(SUMIFS('Accounting Data'!C2:C93564,'Accounting Data'!E2:E93564,\"14?\",'Accounting Data'!J2:J93564,\"5???\")+SUMIFS('Accounting Data'!C2:C93564,'Accounting Data'!E2:E93564,\"15?\",'Accounting Data'!J2:J93564,\"5???\"))","v":0},{"$f":"SUMIFS('Accounting Data'!C2:C93564,'Accounting Data'!E2:E93564,\"14?\",'Accounting Data'!J2:J93564,\"69??\")+SUMIFS('Accounting Data'!C2:C93564,'Accounting Data'!E2:E93564,\"15?\",'Accounting Data'!J2:J93564,\"69??\")","v":12500},"2."]
["160 ESEA Title IV - 21st Century Schools",null,null,"3.",{"$f":"'Accounting Data'!R68","v":0},{"$f":"-(SUMIFS('Accounting Data'!C2:C93564,'Accounting Data'!E2:E93564,\"16?\",'Accounting Data'!J2:J93564,\"1???\")+SUMIFS('Accounting Data'!C2:C93564,'Accounting Data'!E2:E93564,\"16?\",'Accounting Data'!J2:J93564,\"2???\")+SUMIFS('Accounting Data'!C2:C93564,'Accounting Data'!E2:E93564,\"16?\",'Accounting Data'!J2:J93564,\"3???\")+SUMIFS('Accounting Data'!C2:C93564,'Accounting Data'!E2:E93564,\"16?\",'Accounting Data'!J2:J93564,\"4???\"))","v":674914},-31359,{"$f":"[1]!F160BudgFY","v":730000},{"$f":"SUMIFS('Accounting Data'!C2:C93564,'Accounting Data'!E2:E93564,\"16?\",'Accounting Data'!J2:J93564,\"6???\")-P11","v":643555},0,null,"3.",null,"3.",{"$f":"-(SUMIFS('Accounting Data'!C2:C93564,'Accounting Data'!E2:E93564,\"16?\",'Accounting Data'!J2:J93564,\"5???\"))","v":0},{"$f":"SUMIFS('Accounting Data'!C2:C93564,'Accounting Data'!E2:E93564,\"16?\",'Accounting Data'!J2:J93564,\"69??\")","v":31359},"3."]
["170-180 ESEA Title V - Promote Informed Parent Choice",null,null,"4.",{"$f":"'Accounting Data'!R78","v":0},{"$f":"-(SUMIFS('Accounting Data'!C2:C93564,'Accounting Data'!E2:E93564,\"17?\",'Accounting Data'!J2:J93564,\"1???\")+SUMIFS('Accounting Data'!C2:C93564,'Accounting Data'!E2:E93564,\"18?\",'Accounting Data'!J2:J93564,\"1???\")+SUMIFS('Accounting Data'!C2:C93564,'Accounting Data'!E2:E93564,\"17?\",'Accounting Data'!J2:J93564,\"2???\")+SUMIFS('Accounting Data'!C2:C93564,'Accounting Data'!E2:E93564,\"18?\",'Accounting Data'!J2:J93564,\"2???\")+SUMIFS('Accounting Data'!C2:C93564,'Accounting Data'!E2:E93564,\"17?\",'Accounting Data'!J2:J93564,\"3???\")+SUMIFS('Accounting Data'!C2:C93564,'Accounting Data'!E2:E93564,\"18?\",'Accounting Data'!J2:J93564,\"3???\")+SUMIFS('Accounting Data'!C2:C93564,'Accounting Data'!E2:E93564,\"17?\",'Accounting Data'!J2:J93564,\"4???\")+SUMIFS('Accounting Data'!C2:C93564,'Accounting Data'!E2:E93564,\"18?\",'Accounting Data'!J2:J93564,\"4???\"))","v":0},0,{"$f":"[1]!F170180BudgFY","v":0},{"$f":"(SUMIFS('Accounting Data'!C2:C93564,'Accounting Data'!E2:E93564,\"17?\",'Accounting Data'!J2:J93564,\"6???\")+SUMIFS('Accounting Data'!C2:C93564,'Accounting Data'!E2:E93564,\"18?\",'Accounting Data'!J2:J93564,\"6???\"))-P12","v":0},0,null,"4.",null,"4.",{"$f":"-(SUMIFS('Accounting Data'!C2:C93564,'Accounting Data'!E2:E93564,\"17?\",'Accounting Data'!J2:J93564,\"5???\")+SUMIFS('Accounting Data'!C2:C93564,'Accounting Data'!E2:E93564,\"18?\",'Accounting Data'!J2:J93564,\"5???\"))","v":0},{"$f":"SUMIFS('Accounting Data'!C2:C93564,'Accounting Data'!E2:E93564,\"17?\",'Accounting Data'!J2:J93564,\"69??\")+SUMIFS('Accounting Data'!C2:C93564,'Accounting Data'!E2:E93564,\"18?\",'Accounting Data'!J2:J93564,\"69??\")","v":0},"4."]
["190 ESEA Title III - Limited English & Immigrant Students",null,null,"5.",{"$f":"'Accounting Data'!R98","v":0},{"$f":"-(SUMIFS('Accounting Data'!C2:C93564,'Accounting Data'!E2:E93564,\"19?\",'Accounting Data'!J2:J93564,\"1???\")+SUMIFS('Accounting Data'!C2:C93564,'Accounting Data'!E2:E93564,\"19?\",'Accounting Data'!J2:J93564,\"2???\")+SUMIFS('Accounting Data'!C2:C93564,'Accounting Data'!E2:E93564,\"19?\",'Accounting Data'!J2:J93564,\"3???\")+SUMIFS('Accounting Data'!C2:C93564,'Accounting Data'!E2:E93564,\"19?\",'Accounting Data'!J2:J93564,\"4???\"))","v":72000},-5066,{"$f":"[1]!F190BudgFY","v":90000},{"$f":"SUMIFS('Accounting Data'!C2:C93564,'Accounting Data'!E2:E93564,\"19?\",'Accounting Data'!J2:J93564,\"6???\")-P13","v":66934},0,null,"5.",null,"5.",{"$f":"-(SUMIFS('Accounting Data'!C2:C93564,'Accounting Data'!E2:E93564,\"19?\",'Accounting Data'!J2:J93564,\"5???\"))","v":0},{"$f":"SUMIFS('Accounting Data'!C2:C93564,'Accounting Data'!E2:E93564,\"19?\",'Accounting Data'!J2:J93564,\"69??\")","v":5066},"5."]
["200 ESEA Title VII - Indian Education",null,null,"6.",{"$f":"'Accounting Data'!R108","v":0},{"$f":"-(SUMIFS('Accounting Data'!C2:C93564,'Accounting Data'!E2:E93564,\"20?\",'Accounting Data'!J2:J93564,\"1???\")+SUMIFS('Accounting Data'!C2:C93564,'Accounting Data'!E2:E93564,\"20?\",'Accounting Data'!J2:J93564,\"2???\")+SUMIFS('Accounting Data'!C2:C93564,'Accounting Data'!E2:E93564,\"20?\",'Accounting Data'!J2:J93564,\"3???\")+SUMIFS('Accounting Data'!C2:C93564,'Accounting Data'!E2:E93564,\"20?\",'Accounting Data'!J2:J93564,\"4???\"))","v":35897},-700,{"$f":"[1]!F200BudgFY","v":32000},{"$f":"SUMIFS('Accounting Data'!C2:C93564,'Accounting Data'!E2:E93564,\"20?\",'Accounting Data'!J2:J93564,\"6???\")-P14","v":35197},0,null,"6.",null,"6.",{"$f":"-(SUMIFS('Accounting Data'!C2:C93564,'Accounting Data'!E2:E93564,\"20?\",'Accounting Data'!J2:J93564,\"5???\"))","v":0},{"$f":"SUMIFS('Accounting Data'!C2:C93564,'Accounting Data'!E2:E93564,\"20?\",'Accounting Data'!J2:J93564,\"69??\")","v":700},"6."]
["210 ESEA Title VI - Flexibility and Accountability",null,null,"7.",{"$f":"'Accounting Data'!R118","v":0},{"$f":"-(SUMIFS('Accounting Data'!C2:C93564,'Accounting Data'!E2:E93564,\"21?\",'Accounting Data'!J2:J93564,\"1???\")+SUMIFS('Accounting Data'!C2:C93564,'Accounting Data'!E2:E93564,\"21?\",'Accounting Data'!J2:J93564,\"2???\")+SUMIFS('Accounting Data'!C2:C93564,'Accounting Data'!E2:E93564,\"21?\",'Accounting Data'!J2:J93564,\"3???\")+SUMIFS('Accounting Data'!C2:C93564,'Accounting Data'!E2:E93564,\"21?\",'Accounting Data'!J2:J93564,\"4???\"))","v":0},0,{"$f":"[1]!F210BudgFY","v":0},{"$f":"SUMIFS('Accounting Data'!C2:C93564,'Accounting Data'!E2:E93564,\"21?\",'Accounting Data'!J2:J93564,\"6???\")-P15","v":0},0,null,"7.",null,"7.",{"$f":"-(SUMIFS('Accounting Data'!C2:C93564,'Accounting Data'!E2:E93564,\"21?\",'Accounting Data'!J2:J93564,\"5???\"))","v":0},{"$f":"SUMIFS('Accounting Data'!C2:C93564,'Accounting Data'!E2:E93564,\"21?\",'Accounting Data'!J2:J93564,\"69??\")","v":0},"7."]
["220 IDEA Part B",null,null,"8.",{"$f":"'Accounting Data'!R128","v":0},{"$f":"-(SUMIFS('Accounting Data'!C2:C93564,'Accounting Data'!E2:E93564,\"22?\",'Accounting Data'!J2:J93564,\"1???\")+SUMIFS('Accounting Data'!C2:C93564,'Accounting Data'!E2:E93564,\"22?\",'Accounting Data'!J2:J93564,\"2???\")+SUMIFS('Accounting Data'!C2:C93564,'Accounting Data'!E2:E93564,\"22?\",'Accounting Data'!J2:J93564,\"3???\")+SUMIFS('Accounting Data'!C2:C93564,'Accounting Data'!E2:E93564,\"22?\",'Accounting Data'!J2:J93564,\"4???\"))","v":1011021},-64355,{"$f":"[1]!F220BudgFY","v":950000},{"$f":"SUMIFS('Accounting Data'!C2:C93564,'Accounting Data'!E2:E93564,\"22?\",'Accounting Data'!J2:J93564,\"6???\")-P16","v":946666},0,null,"8.",null,"8.",{"$f":"-(SUMIFS('Accounting Data'!C2:C93564,'Accounting Data'!E2:E93564,\"22?\",'Accounting Data'!J2:J93564,\"5???\"))","v":0},{"$f":"SUMIFS('Accounting Data'!C2:C93564,'Accounting Data'!E2:E93564,\"22?\",'Accounting Data'!J2:J93564,\"69??\")","v":64355},"8."]
["230 Johnson-O'Malley",null,null,"9.",{"$f":"'Accounting Data'!R138","v":0},{"$f":"-(SUMIFS('Accounting Data'!C2:C93564,'Accounting Data'!E2:E93564,\"23?\",'Accounting Data'!J2:J93564,\"1???\")+SUMIFS('Accounting Data'!C2:C93564,'Accounting Data'!E2:E93564,\"23?\",'Accounting Data'!J2:J93564,\"2???\")+SUMIFS('Accounting Data'!C2:C93564,'Accounting Data'!E2:E93564,\"23?\",'Accounting Data'!J2:J93564,\"3???\")+SUMIFS('Accounting Data'!C2:C93564,'Accounting Data'!E2:E93564,\"23?\",'Accounting Data'!J2:J93564,\"4???\"))","v":27012},-1900,{"$f":"[1]!F230BudgFY","v":45000},{"$f":"SUMIFS('Accounting Data'!C2:C93564,'Accounting Data'!E2:E93564,\"23?\",'Accounting Data'!J2:J93564,\"6???\")-P17","v":25112},0,null,"9.",null,"9.",{"$f":"-(SUMIFS('Accounting Data'!C2:C93564,'Accounting Data'!E2:E93564,\"23?\",'Accounting Data'!J2:J93564,\"5???\"))","v":0},{"$f":"SUMIFS('Accounting Data'!C2:C93564,'Accounting Data'!E2:E93564,\"23?\",'Accounting Data'!J2:J93564,\"69??\")","v":1900},"9."]
["240 Workforce Investment Act",null,null,"10.",{"$f":"'Accounting Data'!R148","v":0},{"$f":"-(SUMIFS('Accounting Data'!C2:C93564,'Accounting Data'!E2:E93564,\"24?\",'Accounting Data'!J2:J93564,\"1???\")+SUMIFS('Accounting Data'!C2:C93564,'Accounting Data'!E2:E93564,\"24?\",'Accounting Data'!J2:J93564,\"2???\")+SUMIFS('Accounting Data'!C2:C93564,'Accounting Data'!E2:E93564,\"24?\",'Accounting Data'!J2:J93564,\"3???\")+SUMIFS('Accounting Data'!C2:C93564,'Accounting Data'!E2:E93564,\"24?\",'Accounting Data'!J2:J93564,\"4???\"))","v":0},0,{"$f":"[1]!F240BudgFY","v":0},{"$f":"SUMIFS('Accounting Data'!C2:C93564,'Accounting Data'!E2:E93564,\"24?\",'Accounting Data'!J2:J93564,\"6???\")-P18","v":0},0,null,"10.",null,"10.",{"$f":"-(SUMIFS('Accounting Data'!C2:C93564,'Accounting Data'!E2:E93564,\"24?\",'Accounting Data'!J2:J93564,\"5???\"))","v":0},{"$f":"SUMIFS('Accounting Data'!C2:C93564,'Accounting Data'!E2:E93564,\"24?\",'Accounting Data'!J2:J93564,\"69??\")","v":0},"10."]
["250 AEA-Adult Education",null,null,"11.",{"$f":"'Accounting Data'!R158","v":0},{"$f":"-(SUMIFS('Accounting Data'!C2:C93564,'Accounting Data'!E2:E93564,\"25?\",'Accounting Data'!J2:J93564,\"1???\")+SUMIFS('Accounting Data'!C2:C93564,'Accounting Data'!E2:E93564,\"25?\",'Accounting Data'!J2:J93564,\"2???\")+SUMIFS('Accounting Data'!C2:C93564,'Accounting Data'!E2:E93564,\"25?\",'Accounting Data'!J2:J93564,\"3???\")+SUMIFS('Accounting Data'!C2:C93564,'Accounting Data'!E2:E93564,\"25?\",'Accounting Data'!J2:J93564,\"4???\"))","v":0},0,{"$f":"[1]!F250BudgFY","v":0},{"$f":"SUMIFS('Accounting Data'!C2:C93564,'Accounting Data'!E2:E93564,\"25?\",'Accounting Data'!J2:J93564,\"6???\")-P19","v":0},0,null,"11.",null,"11.",{"$f":"-(SUMIFS('Accounting Data'!C2:C93564,'Accounting Data'!E2:E93564,\"25?\",'Accounting Data'!J2:J93564,\"5???\"))","v":0},{"$f":"SUMIFS('Accounting Data'!C2:C93564,'Accounting Data'!E2:E93564,\"25?\",'Accounting Data'!J2:J93564,\"69??\")","v":0},"11."]
["260-270 Vocational Education - Basic Grants",null,null,"12.",{"$f":"'Accounting Data'!R168","v":0},{"$f":"-(SUMIFS('Accounting Data'!C2:C93564,'Accounting Data'!E2:E93564,\"26?\",'Accounting Data'!J2:J93564,\"1???\")+SUMIFS('Accounting Data'!C2:C93564,'Accounting Data'!E2:E93564,\"27?\",'Accounting Data'!J2:J93564,\"1???\")+SUMIFS('Accounting Data'!C2:C93564,'Accounting Data'!E2:E93564,\"26?\",'Accounting Data'!J2:J93564,\"2???\")+SUMIFS('Accounting Data'!C2:C93564,'Accounting Data'!E2:E93564,\"27?\",'Accounting Data'!J2:J93564,\"2???\")+SUMIFS('Accounting Data'!C2:C93564,'Accounting Data'!E2:E93564,\"26?\",'Accounting Data'!J2:J93564,\"3???\")+SUMIFS('Accounting Data'!C2:C93564,'Accounting Data'!E2:E93564,\"27?\",'Accounting Data'!J2:J93564,\"3???\")+SUMIFS('Accounting Data'!C2:C93564,'Accounting Data'!E2:E93564,\"26?\",'Accounting Data'!J2:J93564,\"4???\")+SUMIFS('Accounting Data'!C2:C93564,'Accounting Data'!E2:E93564,\"27?\",'Accounting Data'!J2:J93564,\"4???\"))","v":0},0,{"$f":"[1]!F260270BudgFY","v":0},{"$f":"(SUMIFS('Accounting Data'!C2:C58920,'Accounting Data'!E2:E58920,\"26?\",'Accounting Data'!J2:J58920,\"6???\")+SUMIFS('Accounting Data'!C2:C58920,'Accounting Data'!E2:E58920,\"27?\",'Accounting Data'!J2:J58920,\"6???\"))-P20","v":0},{"$f":"E20+F20+G20-I20","v":0},null,"12.",null,"12.",{"$f":"-(SUMIFS('Accounting Data'!C2:C93564,'Accounting Data'!E2:E93564,\"26?\",'Accounting Data'!J2:J93564,\"5???\")+SUMIFS('Accounting Data'!C2:C93564,'Accounting Data'!E2:E93564,\"27?\",'Accounting Data'!J2:J93564,\"5???\"))","v":0},{"$f":"SUMIFS('Accounting Data'!C2:C93564,'Accounting Data'!E2:E93564,\"26?\",'Accounting Data'!J2:J93564,\"69??\")+SUMIFS('Accounting Data'!C2:C93564,'Accounting Data'!E2:E93564,\"27?\",'Accounting Data'!J2:J93564,\"69??\")","v":0},"12."]
["280 ESEA Title X - Homeless Education",null,null,"13.",{"$f":"'Accounting Data'!R188","v":0},{"$f":"-(SUMIFS('Accounting Data'!C2:C93564,'Accounting Data'!E2:E93564,\"28?\",'Accounting Data'!J2:J93564,\"1???\")+SUMIFS('Accounting Data'!C2:C93564,'Accounting Data'!E2:E93564,\"28?\",'Accounting Data'!J2:J93564,\"2???\")+SUMIFS('Accounting Data'!C2:C93564,'Accounting Data'!E2:E93564,\"28?\",'Accounting Data'!J2:J93564,\"3???\")+SUMIFS('Accounting Data'!C2:C93564,'Accounting Data'!E2:E93564,\"28?\",'Accounting Data'!J2:J93564,\"4???\"))","v":26225},-1845,{"$f":"[1]!F280BudgFY","v":25000},{"$f":"SUMIFS('Accounting Data'!C2:C93564,'Accounting Data'!E2:E93564,\"28?\",'Accounting Data'!J2:J93564,\"6???\")-P21","v":24380},0,null,"13.",null,"13.",{"$f":"-(SUMIFS('Accounting Data'!C2:C93564,'Accounting Data'!E2:E93564,\"28?\",'Accounting Data'!J2:J93564,\"5???\"))","v":0},{"$f":"SUMIFS('Accounting Data'!C2:C93564,'Accounting Data'!E2:E93564,\"28?\",'Accounting Data'!J2:J93564,\"69??\")","v":1845},"13."]
["290 Medicaid Reimbursement",null,null,"14.",{"$f":"'Accounting Data'!R198","v":459474},{"$f":"-(SUMIFS('Accounting Data'!C2:C93564,'Accounting Data'!E2:E93564,\"29?\",'Accounting Data'!J2:J93564,\"1???\")+SUMIFS('Accounting Data'!C2:C93564,'Accounting Data'!E2:E93564,\"29?\",'Accounting Data'!J2:J93564,\"2???\")+SUMIFS('Accounting Data'!C2:C93564,'Accounting Data'!E2:E93564,\"29?\",'Accounting Data'!J2:J93564,\"3???\")+SUMIFS('Accounting Data'!C2:C93564,'Accounting Data'!E2:E93564,\"29?\",'Accounting Data'!J2:J93564,\"4???\"))","v":242780},0,{"$f":"[1]!F290BudgFY","v":425000},{"$f":"SUMIFS('Accounting Data'!C2:C93564,'Accounting Data'!E2:E93564,\"29?\",'Accounting Data'!J2:J93564,\"6???\")-P22","v":273133},429121,"Yes","14.",null,"14.",{"$f":"-(SUMIFS('Accounting Data'!C2:C93564,'Accounting Data'!E2:E93564,\"29?\",'Accounting Data'!J2:J93564,\"5???\"))","v":0},{"$f":"SUMIFS('Accounting Data'!C2:C93564,'Accounting Data'!E2:E93564,\"29?\",'Accounting Data'!J2:J93564,\"69??\")","v":0},"14."]
["349 National Forest Fees",null,null,"15.",0,{"$f":"-SUM((SUMIFS('Accounting Data'!C2:C93564,'Accounting Data'!E2:E93564,\"349\",'Accounting Data'!J2:J93564,{\"1???\",\"2???\",\"3???\",\"4???\"})))","v":0},{"$f":"O23-P23","v":0},0,{"$f":"SUMIFS('Accounting Data'!C2:C93564,'Accounting Data'!E2:E93564,\"349\",'Accounting Data'!J2:J93564,\"6???\")-P23","v":0},0,"No","15.",null,"15.",{"$f":"-(SUMIFS('Accounting Data'!C2:C93564,'Accounting Data'!E2:E93564,\"349\",'Accounting Data'!J2:J93564,\"5???\"))","v":0},{"$f":"SUMIFS('Accounting Data'!C2:C93564,'Accounting Data'!E2:E93564,\"349\",'Accounting Data'!J2:J93564,\"69??\")","v":0},"15."]
["353 Taylor Grazing Fees ",null,null,"16.",0,{"$f":"-SUM((SUMIFS('Accounting Data'!C2:C93564,'Accounting Data'!E2:E93564,\"353\",'Accounting Data'!J2:J93564,{\"1???\",\"2???\",\"3???\",\"4???\"})))","v":0},0,0,{"$f":"SUMIFS('Accounting Data'!C2:C93564,'Accounting Data'!E2:E93564,\"353\",'Accounting Data'!J2:J93564,\"6???\")-P24","v":0},0,"No","16.",null,"16.",{"$f":"-(SUMIFS('Accounting Data'!C2:C93564,'Accounting Data'!E2:E93564,\"353\",'Accounting Data'!J2:J93564,\"5???\"))","v":0},{"$f":"SUMIFS('Accounting Data'!C2:C93564,'Accounting Data'!E2:E93564,\"353\",'Accounting Data'!J2:J93564,\"69??\")","v":0},"16."]
["374 E-Rate",null,null,"17.",0,{"$f":"-(SUMIFS('Accounting Data'!C2:C93564,'Accounting Data'!E2:E93564,\"374\",'Accounting Data'!J2:J93564,\"1???\")+SUMIFS('Accounting Data'!C2:C93564,'Accounting Data'!E2:E93564,\"374\",'Accounting Data'!J2:J93564,\"2???\")+SUMIFS('Accounting Data'!C2:C93564,'Accounting Data'!E2:E93564,\"374\",'Accounting Data'!J2:J93564,\"3???\")+SUMIFS('Accounting Data'!C2:C93564,'Accounting Data'!E2:E93564,\"374\",'Accounting Data'!J2:J93564,\"4???\"))","v":285637},0,700000,{"$f":"SUMIFS('Accounting Data'!C2:C93564,'Accounting Data'!E2:E93564,\"374\",'Accounting Data'!J2:J93564,\"6???\")-P25","v":285637},0,null,"17.",null,"17.",{"$f":"-(SUMIFS('Accounting Data'!C2:C93564,'Accounting Data'!E2:E93564,\"374\",'Accounting Data'!J2:J93564,\"5???\"))","v":0},{"$f":"SUMIFS('Accounting Data'!C2:C93564,'Accounting Data'!E2:E93564,\"374\",'Accounting Data'!J2:J93564,\"69??\")","v":0},"17."]
["378 Impact Aid",null,null,"18.",0,{"$f":"-(SUMIFS('Accounting Data'!C2:C93564,'Accounting Data'!E2:E93564,\"378\",'Accounting Data'!J2:J93564,\"1???\")+SUMIFS('Accounting Data'!C2:C93564,'Accounting Data'!E2:E93564,\"378\",'Accounting Data'!J2:J93564,\"2???\")+SUMIFS('Accounting Data'!C2:C93564,'Accounting Data'!E2:E93564,\"378\",'Accounting Data'!J2:J93564,\"3???\")+SUMIFS('Accounting Data'!C2:C93564,'Accounting Data'!E2:E93564,\"378\",'Accounting Data'!J2:J93564,\"4???\"))","v":0},0,0,{"$f":"(SUMIFS('Accounting Data'!C2:C93564,'Accounting Data'!E2:E93564,\"378\",'Accounting Data'!J2:J93564,\"6???\"))-P26","v":0},0,"Yes","18.",null,"18.",{"$f":"-(SUMIFS('Accounting Data'!C2:C93564,'Accounting Data'!E2:E93564,\"378\",'Accounting Data'!J2:J93564,\"5???\"))","v":0},{"$f":"SUMIFS('Accounting Data'!C2:C93564,'Accounting Data'!E2:E93564,\"378\",'Accounting Data'!J2:J93564,\"69??\")","v":0},"18."]
["300-399 Other Federal Projects",null,null,"19.",148361.26,{"$f":"-(SUMIFS('Accounting Data'!C2:C93564,'Accounting Data'!E2:E93564,\"3??\",'Accounting Data'!J2:J93564,\"1???\")+SUMIFS('Accounting Data'!C2:C93564,'Accounting Data'!E2:E93564,\"3??\",'Accounting Data'!J2:J93564,\"2???\")+SUMIFS('Accounting Data'!C2:C93564,'Accounting Data'!E2:E93564,\"3??\",'Accounting Data'!J2:J93564,\"3???\")+SUMIFS('Accounting Data'!C2:C93564,'Accounting Data'!E2:E93564,\"3??\",'Accounting Data'!J2:J93564,\"4???\")+SUM(SUMIFS('Accounting Data'!C2:C93564,'Accounting Data'!E2:E93564,\"COVID\",'Accounting Data'!J2:J93564,{\"1???\",\"2???\",\"3???\",\"4???\"})))-SUM(F23:F26)","v":6538840},-108379,9920000,{"$f":"(SUMIFS('Accounting Data'!C2:C93564,'Accounting Data'!E2:E93564,\"3??\",'Accounting Data'!J2:J93564,\"6???\")+SUMIFS('Accounting Data'!C2:C93564,'Accounting Data'!E2:E93564,\"COVID\",'Accounting Data'!J2:J93564,\"6???\"))-SUM(I23:I26,P23:P27)","v":5677499},{"$f":"E27+F27+G27-I27","v":901323},"No","19.",null,"19.",{"$f":"-(SUMIFS('Accounting Data'!C2:C93564,'Accounting Data'!E2:E93564,\"3??\",'Accounting Data'!J2:J93564,\"5???\"))-(SUMIFS('Accounting Data'!C2:C93564,'Accounting Data'!E2:E93564,\"COVID\",'Accounting Data'!J2:J93564,\"5???\"))-SUM(O23:O26)","v":0},{"$f":"SUMIFS('Accounting Data'!C2:C93564,'Accounting Data'!E2:E93564,\"3??\",'Accounting Data'!J2:J93564,\"69??\")+SUMIFS('Accounting Data'!C2:C93564,'Accounting Data'!E2:E93564,\"COVID\",'Accounting Data'!J2:J93564,\"69??\")-SUM(P23:P26)","v":108379},"19."]
["699 Federal Impact Aid (Construction)",null,null,"20.",0,{"$f":"-(SUMIFS('Accounting Data'!C2:C93564,'Accounting Data'!E2:E93564,\"699\",'Accounting Data'!J2:J93564,\"1???\")+SUMIFS('Accounting Data'!C2:C93564,'Accounting Data'!E2:E93564,\"699\",'Accounting Data'!J2:J93564,\"2???\")+SUMIFS('Accounting Data'!C2:C93564,'Accounting Data'!E2:E93564,\"699\",'Accounting Data'!J2:J93564,\"3???\")+SUMIFS('Accounting Data'!C2:C93564,'Accounting Data'!E2:E93564,\"699\",'Accounting Data'!J2:J93564,\"4???\"))","v":0},0,0,{"$f":"SUMIFS('Accounting Data'!C2:C93564,'Accounting Data'!E2:E93564,\"699\",'Accounting Data'!J2:J93564,\"6???\")-P28","v":0},{"$f":"E28+F28+G28-I28","v":0},null,"20.",null,"20.",{"$f":"-(SUMIFS('Accounting Data'!C2:C93564,'Accounting Data'!E2:E93564,\"699\",'Accounting Data'!J2:J93564,\"5???\"))","v":0},{"$f":"SUMIFS('Accounting Data'!C2:C93564,'Accounting Data'!E2:E93564,\"699\",'Accounting Data'!J2:J93564,\"69??\")","v":0},"20."]
["Total Federal Project Funds (lines 1-20)",null,null,"21.",{"$f":"SUM(E9:E28)","v":607835},{"$f":"SUM(F9:F28)","v":10286430},-309453,14562000,9254368,1330444,null,"21."]
[]
["Total COVID-19 Federal Relief Funds included in lines above",null,null,"22.",{"$f":"'Accounting Data'!R542","v":0},{"$f":"-((SUM(SUMIFS('Accounting Data'!C2:C93564,'Accounting Data'!E2:E93564,\"COVID\",'Accounting Data'!J2:J93564,{\"1???\",\"2???\",\"3???\",\"4???\"})))+SUM(SUMIFS('Accounting Data'!C2:C93564,'Accounting Data'!E2:E93564,\"227\",'Accounting Data'!J2:J93564,{\"1???\",\"2???\",\"3???\",\"4???\"}))+SUM(SUMIFS('Accounting Data'!C2:C93564,'Accounting Data'!E2:E93564,\"228\",'Accounting Data'!J2:J93564,{\"1???\",\"2???\",\"3???\",\"4???\"})))","v":5484838},{"$f":"O31-P31","v":-105326},5978000,{"$f":"SUMIFS('Accounting Data'!C2:C93564,'Accounting Data'!E2:E93564,\"COVID\",'Accounting Data'!J2:J93564,\"6???\")+SUMIFS('Accounting Data'!C2:C93564,'Accounting Data'!E2:E93564,\"227\",'Accounting Data'!J2:J93564,\"6???\")+SUMIFS('Accounting Data'!C2:C93564,'Accounting Data'!E2:E93564,\"228\",'Accounting Data'!J2:J93564,\"6???\")-P31","v":5379512},{"$f":"E31+F31+G31-I31","v":0},null,"22.",null,"22.",{"$f":"-(SUM(SUMIFS('Accounting Data'!C2:C93564,'Accounting Data'!E2:E93564,{\"COVID\",\"227\",\"228\"},'Accounting Data'!J2:J93564,\"5???\")))","v":0},{"$f":"(SUM(SUMIFS('Accounting Data'!C2:C93564,'Accounting Data'!E2:E93564,{\"COVID\",\"227\",\"228\"},'Accounting Data'!J2:J93564,\"69??\")))","v":105326},"22."]
[]
[]
[]
["STATE PROJECTS",null,null,null,null,null,null,null,null,null,null,null,null,null,"OTHER FINANCING SOURCES (2)","OTHER FINANCING USES (2)"]
["400 Vocational Education",null,null,"23.",{"$f":"'Accounting Data'!R308","v":0},{"$f":"-(SUMIFS('Accounting Data'!C2:C93564,'Accounting Data'!E2:E93564,\"400\",'Accounting Data'!J2:J93564,\"1???\")+SUMIFS('Accounting Data'!C2:C93564,'Accounting Data'!E2:E93564,\"400\",'Accounting Data'!J2:J93564,\"2???\")+SUMIFS('Accounting Data'!C2:C93564,'Accounting Data'!E2:E93564,\"400\",'Accounting Data'!J2:J93564,\"3???\")+SUMIFS('Accounting Data'!C2:C93564,'Accounting Data'!E2:E93564,\"400\",'Accounting Data'!J2:J93564,\"4???\"))","v":0},{"$f":"O36-P36","v":0},{"$f":"[1]!F400BudgFY","v":0},{"$f":"SUMIFS('Accounting Data'!C2:C93564,'Accounting Data'!E2:E93564,\"400\",'Accounting Data'!J2:J93564,\"6???\")-P36","v":0},{"$f":"E36+F36-I36","v":0},null,"23.",null,"23.",{"$f":"-(SUMIFS('Accounting Data'!C2:C93564,'Accounting Data'!E2:E93564,\"400\",'Accounting Data'!J2:J93564,\"5???\"))","v":0},{"$f":"SUMIFS('Accounting Data'!C$2:C$93564,'Accounting Data'!E$2:E$93564,\"400\",'Accounting Data'!J$2:J$93564,\"69??\")","v":0},"23."]
["410 Early Childhood Block Grant",null,null,"24.",{"$f":"'Accounting Data'!R309","v":0},{"$f":"-(SUMIFS('Accounting Data'!C2:C93564,'Accounting Data'!E2:E93564,\"410\",'Accounting Data'!J2:J93564,\"1???\")+SUMIFS('Accounting Data'!C2:C93564,'Accounting Data'!E2:E93564,\"410\",'Accounting Data'!J2:J93564,\"2???\")+SUMIFS('Accounting Data'!C2:C93564,'Accounting Data'!E2:E93564,\"410\",'Accounting Data'!J2:J93564,\"3???\")+SUMIFS('Accounting Data'!C2:C93564,'Accounting Data'!E2:E93564,\"410\",'Accounting Data'!J2:J93564,\"4???\"))","v":0},0,{"$f":"[1]!F410BudgFY","v":0},{"$f":"SUMIFS('Accounting Data'!C2:C93564,'Accounting Data'!E2:E93564,\"410\",'Accounting Data'!J2:J93564,\"6???\")-P37","v":0},{"$f":"E37+F37-I37","v":0},null,"24",null,"24",{"$f":"-(SUMIFS('Accounting Data'!C2:C93564,'Accounting Data'!E2:E93564,\"410\",'Accounting Data'!J2:J93564,\"5???\"))","v":0},{"$f":"SUMIFS('Accounting Data'!C$2:C$93564,'Accounting Data'!E$2:E$93564,\"410\",'Accounting Data'!J$2:J$93564,\"69??\")","v":0},"24"]
["420 Ext. School Yr. - Pupils with Disabilities",null,null,"25.",{"$f":"'Accounting Data'!R310","v":0},{"$f":"-(SUMIFS('Accounting Data'!C2:C93564,'Accounting Data'!E2:E93564,\"420\",'Accounting Data'!J2:J93564,\"1???\")+SUMIFS('Accounting Data'!C2:C93564,'Accounting Data'!E2:E93564,\"420\",'Accounting Data'!J2:J93564,\"2???\")+SUMIFS('Accounting Data'!C2:C93564,'Accounting Data'!E2:E93564,\"420\",'Accounting Data'!J2:J93564,\"3???\")+SUMIFS('Accounting Data'!C2:C93564,'Accounting Data'!E2:E93564,\"420\",'Accounting Data'!J2:J93564,\"4???\"))","v":0},0,{"$f":"[1]!F420BudgFY","v":0},{"$f":"SUMIFS('Accounting Data'!C2:C93564,'Accounting Data'!E2:E93564,\"420\",'Accounting Data'!J2:J93564,\"6???\")-P38","v":0},0,null,"25.",null,"25.",{"$f":"-(SUMIFS('Accounting Data'!C2:C93564,'Accounting Data'!E2:E93564,\"420\",'Accounting Data'!J2:J93564,\"5???\"))","v":0},{"$f":"SUMIFS('Accounting Data'!C$2:C$93564,'Accounting Data'!E$2:E$93564,\"420\",'Accounting Data'!J$2:J$93564,\"69??\")","v":0},"25."]
["425 Adult Basic Education",null,null,"26.",{"$f":"'Accounting Data'!R311","v":0},{"$f":"-(SUMIFS('Accounting Data'!C2:C93564,'Accounting Data'!E2:E93564,\"425\",'Accounting Data'!J2:J93564,\"1???\")+SUMIFS('Accounting Data'!C2:C93564,'Accounting Data'!E2:E93564,\"425\",'Accounting Data'!J2:J93564,\"2???\")+SUMIFS('Accounting Data'!C2:C93564,'Accounting Data'!E2:E93564,\"425\",'Accounting Data'!J2:J93564,\"3???\")+SUMIFS('Accounting Data'!C2:C93564,'Accounting Data'!E2:E93564,\"425\",'Accounting Data'!J2:J93564,\"4???\"))","v":0},0,{"$f":"[1]!F425BudgFY","v":0},{"$f":"SUMIFS('Accounting Data'!C2:C93564,'Accounting Data'!E2:E93564,\"425\",'Accounting Data'!J2:J93564,\"6???\")-P39","v":0},0,null,"26.",null,"26.",{"$f":"-(SUMIFS('Accounting Data'!C2:C93564,'Accounting Data'!E2:E93564,\"425\",'Accounting Data'!J2:J93564,\"5???\"))","v":0},{"$f":"SUMIFS('Accounting Data'!C$2:C$93564,'Accounting Data'!E$2:E$93564,\"425\",'Accounting Data'!J$2:J$93564,\"69??\")","v":0},"26."]
["430 Chemical Abuse Prevention Programs",null,null,"27.",{"$f":"'Accounting Data'!R312","v":0},{"$f":"-(SUMIFS('Accounting Data'!C2:C93564,'Accounting Data'!E2:E93564,\"430\",'Accounting Data'!J2:J93564,\"1???\")+SUMIFS('Accounting Data'!C2:C93564,'Accounting Data'!E2:E93564,\"430\",'Accounting Data'!J2:J93564,\"2???\")+SUMIFS('Accounting Data'!C2:C93564,'Accounting Data'!E2:E93564,\"430\",'Accounting Data'!J2:J93564,\"3???\")+SUMIFS('Accounting Data'!C2:C93564,'Accounting Data'!E2:E93564,\"430\",'Accounting Data'!J2:J93564,\"4???\"))","v":0},0,{"$f":"[1]!F430BudgFY","v":0},{"$f":"SUMIFS('Accounting Data'!C2:C93564,'Accounting Data'!E2:E93564,\"430\",'Accounting Data'!J2:J93564,\"6???\")-P40","v":0},0,null,"27.",null,"27.",{"$f":"-(SUMIFS('Accounting Data'!C2:C93564,'Accounting Data'!E2:E93564,\"430\",'Accounting Data'!J2:J93564,\"5???\"))","v":0},{"$f":"SUMIFS('Accounting Data'!C$2:C$93564,'Accounting Data'!E$2:E$93564,\"430\",'Accounting Data'!J$2:J$93564,\"69??\")","v":0},"27."]
["435 Academic Contests",null,null,"28.",{"$f":"'Accounting Data'!R313","v":0},{"$f":"-(SUMIFS('Accounting Data'!C2:C93564,'Accounting Data'!E2:E93564,\"435\",'Accounting Data'!J2:J93564,\"1???\")+SUMIFS('Accounting Data'!C2:C93564,'Accounting Data'!E2:E93564,\"435\",'Accounting Data'!J2:J93564,\"2???\")+SUMIFS('Accounting Data'!C2:C93564,'Accounting Data'!E2:E93564,\"435\",'Accounting Data'!J2:J93564,\"3???\")+SUMIFS('Accounting Data'!C2:C93564,'Accounting Data'!E2:E93564,\"435\",'Accounting Data'!J2:J93564,\"4???\"))","v":0},0,{"$f":"[1]!F435BudgFY","v":0},{"$f":"SUMIFS('Accounting Data'!C2:C93564,'Accounting Data'!E2:E93564,\"435\",'Accounting Data'!J2:J93564,\"6???\")-P41","v":0},0,null,"28.",null,"28.",{"$f":"-(SUMIFS('Accounting Data'!C2:C93564,'Accounting Data'!E2:E93564,\"435\",'Accounting Data'!J2:J93564,\"5???\"))","v":0},{"$f":"SUMIFS('Accounting Data'!C$2:C$93564,'Accounting Data'!E$2:E$93564,\"435\",'Accounting Data'!J$2:J$93564,\"69??\")","v":0},"28."]
["450 Gifted Education",null,null,"29.",{"$f":"'Accounting Data'!R314","v":0},{"$f":"-(SUMIFS('Accounting Data'!C2:C93564,'Accounting Data'!E2:E93564,\"450\",'Accounting Data'!J2:J93564,\"1???\")+SUMIFS('Accounting Data'!C2:C93564,'Accounting Data'!E2:E93564,\"450\",'Accounting Data'!J2:J93564,\"2???\")+SUMIFS('Accounting Data'!C2:C93564,'Accounting Data'!E2:E93564,\"450\",'Accounting Data'!J2:J93564,\"3???\")+SUMIFS('Accounting Data'!C2:C93564,'Accounting Data'!E2:E93564,\"450\",'Accounting Data'!J2:J93564,\"4???\"))","v":0},0,{"$f":"[1]!F450BudgFY","v":0},{"$f":"SUMIFS('Accounting Data'!C2:C93564,'Accounting Data'!E2:E93564,\"450\",'Accounting Data'!J2:J93564,\"6???\")-P42","v":0},0,null,"29.",null,"29.",{"$f":"-(SUMIFS('Accounting Data'!C2:C93564,'Accounting Data'!E2:E93564,\"450\",'Accounting Data'!J2:J93564,\"5???\"))","v":0},{"$f":"SUMIFS('Accounting Data'!C$2:C$93564,'Accounting Data'!E$2:E$93564,\"450\",'Accounting Data'!J$2:J$93564,\"69??\")","v":0},"29."]
["456 College Credit Exam Incentives",null,null,"30.",{"$f":"'Accounting Data'!R315","v":0},{"$f":"-(SUMIFS('Accounting Data'!C2:C93564,'Accounting Data'!E2:E93564,\"456\",'Accounting Data'!J2:J93564,\"1???\")+SUMIFS('Accounting Data'!C2:C93564,'Accounting Data'!E2:E93564,\"456\",'Accounting Data'!J2:J93564,\"2???\")+SUMIFS('Accounting Data'!C2:C93564,'Accounting Data'!E2:E93564,\"456\",'Accounting Data'!J2:J93564,\"3???\")+SUMIFS('Accounting Data'!C2:C93564,'Accounting Data'!E2:E93564,\"456\",'Accounting Data'!J2:J93564,\"4???\"))","v":0},0,{"$f":"'[1]Page 6'!$J$33","v":0},{"$f":"SUMIFS('Accounting Data'!C2:C93564,'Accounting Data'!E2:E93564,\"456\",'Accounting Data'!J2:J93564,\"6???\")-P43","v":0},0,null,"30.",null,"30.",{"$f":"-(SUMIFS('Accounting Data'!C2:C93564,'Accounting Data'!E2:E93564,\"456\",'Accounting Data'!J2:J93564,\"5???\"))","v":0},{"$f":"SUMIFS('Accounting Data'!C$2:C$93564,'Accounting Data'!E$2:E$93564,\"456\",'Accounting Data'!J$2:J$93564,\"69??\")","v":0},"30."]
["457 Results-based Funding",null,null,"31.",{"$f":"'Accounting Data'!R316","v":485516},{"$f":"-(SUMIFS('Accounting Data'!C2:C93564,'Accounting Data'!E2:E93564,\"457\",'Accounting Data'!J2:J93564,\"1???\")+SUMIFS('Accounting Data'!C2:C93564,'Accounting Data'!E2:E93564,\"457\",'Accounting Data'!J2:J93564,\"2???\")+SUMIFS('Accounting Data'!C2:C93564,'Accounting Data'!E2:E93564,\"457\",'Accounting Data'!J2:J93564,\"3???\")+SUMIFS('Accounting Data'!C2:C93564,'Accounting Data'!E2:E93564,\"457\",'Accounting Data'!J2:J93564,\"4???\"))","v":134853},0,{"$f":"'[1]Page 6'!$J$34","v":400000},{"$f":"SUMIFS('Accounting Data'!C2:C93564,'Accounting Data'!E2:E93564,\"457\",'Accounting Data'!J2:J93564,\"6???\")-P44","v":194190},{"$f":"E44+F44-I44","v":426179},null,"31.",null,"31.",{"$f":"-(SUMIFS('Accounting Data'!C2:C93564,'Accounting Data'!E2:E93564,\"457\",'Accounting Data'!J2:J93564,\"5???\"))","v":0},{"$f":"SUMIFS('Accounting Data'!C$2:C$93564,'Accounting Data'!E$2:E$93564,\"457\",'Accounting Data'!J$2:J$93564,\"69??\")","v":0},"31."]
["460 Environmental Special Plate",null,null,"32.",{"$f":"'Accounting Data'!R317","v":0},{"$f":"-(SUMIFS('Accounting Data'!C2:C93564,'Accounting Data'!E2:E93564,\"460\",'Accounting Data'!J2:J93564,\"1???\")+SUMIFS('Accounting Data'!C2:C93564,'Accounting Data'!E2:E93564,\"460\",'Accounting Data'!J2:J93564,\"2???\")+SUMIFS('Accounting Data'!C2:C93564,'Accounting Data'!E2:E93564,\"460\",'Accounting Data'!J2:J93564,\"3???\")+SUMIFS('Accounting Data'!C2:C93564,'Accounting Data'!E2:E93564,\"460\",'Accounting Data'!J2:J93564,\"4???\"))","v":0},0,{"$f":"[1]!F460BudgFY","v":0},{"$f":"SUMIFS('Accounting Data'!C2:C93564,'Accounting Data'!E2:E93564,\"460\",'Accounting Data'!J2:J93564,\"6???\")-P45","v":0},{"$f":"E45+F45-I45","v":0},null,"32.",null,"32.",{"$f":"-(SUMIFS('Accounting Data'!C2:C93564,'Accounting Data'!E2:E93564,\"460\",'Accounting Data'!J2:J93564,\"5???\"))","v":0},{"$f":"SUMIFS('Accounting Data'!C$2:C$93564,'Accounting Data'!E$2:E$93564,\"460\",'Accounting Data'!J$2:J$93564,\"69??\")","v":0},"32."]
["465-499 Other State Projects",null,null,"33.",{"$f":"'Accounting Data'!R318","v":2315911},{"$f":"-(SUMIFS('Accounting Data'!C2:C93564,'Accounting Data'!E2:E93564,\"4??\",'Accounting Data'!J2:J93564,\"1???\")+SUMIFS('Accounting Data'!C2:C93564,'Accounting Data'!E2:E93564,\"4??\",'Accounting Data'!J2:J93564,\"2???\")+SUMIFS('Accounting Data'!C2:C93564,'Accounting Data'!E2:E93564,\"4??\",'Accounting Data'!J2:J93564,\"3???\")+SUMIFS('Accounting Data'!C2:C93564,'Accounting Data'!E2:E93564,\"4??\",'Accounting Data'!J2:J93564,\"4???\"))-SUM(F36:F45)","v":556596},0,{"$f":"[1]!F465499BudgFY","v":2600000},{"$f":"SUMIFS('Accounting Data'!C2:C93564,'Accounting Data'!E2:E93564,\"4??\",'Accounting Data'!J2:J93564,\"6???\")-SUM(I36:I45)-SUM(P36:P45)-P46","v":1109808},{"$f":"E46+F46-I46","v":1762699},"No","33.",null,"33.",{"$f":"-(SUMIFS('Accounting Data'!C2:C93564,'Accounting Data'!E2:E93564,\"4??\",'Accounting Data'!J2:J93564,\"5???\"))-SUM(O36:O45)","v":0},{"$f":"SUMIFS('Accounting Data'!C$2:C$93564,'Accounting Data'!E$2:E$93564,\"4??\",'Accounting Data'!J$2:J$93564,\"69??\")-SUM(P36:P45)","v":0},"33."]
["Total State Project Funds (lines 23-33)",null,null,"34.",{"$f":"SUM(E36:E46)","v":2801427},691449,0,3000000,1303998,2188878,null,"34."]
[]
["Total Federal and State Projects (lines 21 and 34)",null,null,"35.",{"$f":"SUM(E29+E47)","v":3409262},10977879,-309453,17562000,10558366,3519322,null,"35."]
[]
["(1) In accordance with the USFR Chart of Accounts, the Impact Aid Fund may transfer monies (object code 6930) to the M&O and Teacherage Funds; the Impact Aid Fund may also receive transfers-in (object code 5200) from the Impact Aid Revenue Bond Building and Impact Aid Revenue Bond Debt Service Funds; all other Federal Projects Funds may not receive any transfers-in and may only make transfers-out to the Indirect Costs Fund based on an approved indirect cost rate (object code 6910) and for any interest on federal program monies the district is not required to revert and chooses to transfer to the Indirect Cost Fund (object code 6930)."]
[]
[]
[]
["(2) In accordance with the USFR Chart of Accounts, transfers of monies between funds should be made only when specifically authorized by statute or allowed by a federal grant. Currently, there are no allowable transfers to or from any state projects."]

{"sheet":"Page 6","index":6,"n_rows":54,"n_cols":25,"rows_kept":54,"cut":false,"hidden":false,"merged":[[0,21,2,22],[4,6,4,7],[3,10,4,13],[15,10,16,13],[2,5,3,5],[0,1,0,3],[0,6,0,8],[2,6,2,7],[3,6,3,7],[34,10,34,11],[36,10,36,11],[38,10,38,11],[30,10,30,11],[32,10,33,11],[26,10,27,13]]}
["DISTRICT NAME",{"$f":"CoverDistrictName","v":"Osborn Elementary School District"},null,null,null,"COUNTY",{"$f":"County","v":"Maricopa"},null,null,null,"CTDS NUMBER",{"$f":"Cover!Q1","v":"070408000"}]
[]
[null,null,null,null,null,"NET OTHER FINANCING SOURCES AND USES",null,null,null,null,null,null,null,null,null,null,null,"OTHER FINANCING","OTHER FINANCING"]
[null,null,null,"BEGINNING",null,null,null,null,"ENDING FUND",null,{"$f":"IF(N13<>N14,\"Total detailed Instructional Improvement Fund expenditures reported on line 5 do not agree with your accounting records. Please verify entered amounts.\",\"\")","v":""},null,null,null,null,null,null,"SOURCES INCLUDING","USES INCLUDING"]
[null,null,null,"FUND BALANCE","REVENUES","INCLUDING TRANSFERS","EXPENDITURES",null,"BALANCE",null,null,null,null,null,null,null,null,"TRANSFERS-IN","TRANSFERS-OUT"]
["OTHER FUNDS",null,null,"ACTUAL","ACTUAL","ACTUAL","BUDGET","ACTUAL","ACTUAL",null,null,null,null,null,null,null,null,5000,6900]
["020 Instructional Improvement",null,"1.",{"$f":"'Accounting Data'!R4","v":14019},{"$f":"-(SUMIFS('Accounting Data'!C$2:C$93564,'Accounting Data'!E$2:E$93564,\"020\",'Accounting Data'!J$2:J$93564,\"1???\")+SUMIFS('Accounting Data'!C$2:C$93564,'Accounting Data'!E$2:E$93564,\"020\",'Accounting Data'!J$2:J$93564,\"2???\")+SUMIFS('Accounting Data'!C$2:C$93564,'Accounting Data'!E$2:E$93564,\"020\",'Accounting Data'!J$2:J$93564,\"3???\")+SUMIFS('Accounting Data'!C$2:C$93564,'Accounting Data'!E$2:E$93564,\"020\",'Accounting Data'!J$2:J$93564,\"4???\"))","v":213970},null,{"$f":"M13","v":130000},{"$f":"ROUND(SUMIFS('Accounting Data'!C2:C93564,'Accounting Data'!E2:E93564,\"020\",'Accounting Data'!J2:J93564,\"6???\")-SUMIFS('Accounting Data'!C2:C93564,'Accounting Data'!E2:E93564,\"020\",'Accounting Data'!J2:J93564,\"69??\"),0)","v":98802},{"$f":"D7+E7+F7-H7","v":129187},"1.","Instructional Improvement Fund 020",null,"BUDGET","ACTUAL",null,null,"1.",null,null,"1.",null,null,null,null,{"$f":"IF(OR(Y9=\"yes\",Y40=\"yes\",Y41=\"yes\"),\"yes\",\"\")","v":""}]
["050 County, City, and Town Grants",null,"2.",{"$f":"'Accounting Data'!R5","v":0},{"$f":"-(SUMIFS('Accounting Data'!C$2:C$93564,'Accounting Data'!E$2:E$93564,\"050\",'Accounting Data'!J$2:J$93564,\"1???\")+SUMIFS('Accounting Data'!C$2:C$93564,'Accounting Data'!E$2:E$93564,\"050\",'Accounting Data'!J$2:J$93564,\"2???\")+SUMIFS('Accounting Data'!C$2:C$93564,'Accounting Data'!E$2:E$93564,\"050\",'Accounting Data'!J$2:J$93564,\"3???\")+SUMIFS('Accounting Data'!C$2:C$93564,'Accounting Data'!E$2:E$93564,\"050\",'Accounting Data'!J$2:J$93564,\"4???\"))","v":0},{"$f":"R8-S8","v":0},{"$f":"[1]!F050BudgFY","v":0},{"$f":"(SUMIFS('Accounting Data'!C$2:C$93564,'Accounting Data'!E$2:E$93564,\"050\",'Accounting Data'!J$2:J$93564,\"6???\"))-(SUMIFS('Accounting Data'!C$2:C$93564,'Accounting Data'!E$2:E$93564,\"050\",'Accounting Data'!J$2:J$93564,\"69??\"))","v":0},{"$f":"D8+E8+F8-H8","v":0},"2.","Expenditures",null,null,null,null,null,"2.",{"$f":"-(SUMIFS('Accounting Data'!C$2:C$93564,'Accounting Data'!E$2:E$93564,\"050\",'Accounting Data'!J$2:J$93564,\"5???\"))","v":0},{"$f":"(SUMIFS('Accounting Data'!C$2:C$93564,'Accounting Data'!E$2:E$93564,\"050\",'Accounting Data'!J$2:J$93564,\"69??\"))","v":0},"2."]
["071 English Language Learner  (1)",null,"3.",{"$f":"'Accounting Data'!R6","v":0},{"$f":"-(SUMIFS('Accounting Data'!C$2:C$93564,'Accounting Data'!E$2:E$93564,\"071\",'Accounting Data'!J$2:J$93564,\"1???\")+SUMIFS('Accounting Data'!C$2:C$93564,'Accounting Data'!E$2:E$93564,\"071\",'Accounting Data'!J$2:J$93564,\"2???\")+SUMIFS('Accounting Data'!C$2:C$93564,'Accounting Data'!E$2:E$93564,\"071\",'Accounting Data'!J$2:J$93564,\"3???\")+SUMIFS('Accounting Data'!C$2:C$93564,'Accounting Data'!E$2:E$93564,\"071\",'Accounting Data'!J$2:J$93564,\"4???\"))","v":0},{"$f":"R9-S9","v":0},{"$f":"[1]!F071BudgFY","v":0},{"$f":"F071TOTALEXP","v":0},{"$f":"D9+E9+F9-H9","v":0},"3.","    Teacher Compensation Increases",null,{"$f":"[1]!F020TeachCompIncrBudgFY","v":100000},98802,"1.",null,"3.",{"$f":"-(SUMIFS('Accounting Data'!C$2:C$93564,'Accounting Data'!E$2:E$93564,\"071\",'Accounting Data'!J$2:J$93564,\"5???\"))","v":0},{"$f":"(SUMIFS('Accounting Data'!C$2:C$93564,'Accounting Data'!E$2:E$93564,\"071\",'Accounting Data'!J$2:J$93564,\"69??\"))","v":0},"3.",null,null,null,null,{"$f":"IF(OR(N9=\"\",N10=\"\",N11=\"\",N12=\"\"),\"yes\",\"\")","v":""}]
["072 Compensatory Instruction  (1)",null,"4.",{"$f":"'Accounting Data'!R7","v":0},{"$f":"-(SUMIFS('Accounting Data'!C$2:C$93564,'Accounting Data'!E$2:E$93564,\"072\",'Accounting Data'!J$2:J$93564,\"1???\")+SUMIFS('Accounting Data'!C$2:C$93564,'Accounting Data'!E$2:E$93564,\"072\",'Accounting Data'!J$2:J$93564,\"2???\")+SUMIFS('Accounting Data'!C$2:C$93564,'Accounting Data'!E$2:E$93564,\"072\",'Accounting Data'!J$2:J$93564,\"3???\")+SUMIFS('Accounting Data'!C$2:C$93564,'Accounting Data'!E$2:E$93564,\"072\",'Accounting Data'!J$2:J$93564,\"4???\"))","v":0},{"$f":"R10-S10","v":0},{"$f":"[1]!F072BudgFY","v":0},{"$f":"F072TOTALEXP","v":0},{"$f":"D10+E10+F10-H10","v":0},"4.","    Class Size Reduction",null,{"$f":"[1]!F020ClassSizeRedBudgFY","v":0},0,"2.",null,"4.",{"$f":"-(SUMIFS('Accounting Data'!C$2:C$93564,'Accounting Data'!E$2:E$93564,\"072\",'Accounting Data'!J$2:J$93564,\"5???\"))","v":0},{"$f":"(SUMIFS('Accounting Data'!C$2:C$93564,'Accounting Data'!E$2:E$93564,\"072\",'Accounting Data'!J$2:J$93564,\"69??\"))","v":0},"4."]
["500 School Plant ",null,"5.",{"$f":"'Accounting Data'!R353","v":572863},{"$f":"-(SUMIFS('Accounting Data'!C$2:C$93564,'Accounting Data'!E$2:E$93564,\"500\",'Accounting Data'!J$2:J$93564,\"1???\")+SUMIFS('Accounting Data'!C$2:C$93564,'Accounting Data'!E$2:E$93564,\"500\",'Accounting Data'!J$2:J$93564,\"2???\")+SUMIFS('Accounting Data'!C$2:C$93564,'Accounting Data'!E$2:E$93564,\"500\",'Accounting Data'!J$2:J$93564,\"3???\")+SUMIFS('Accounting Data'!C$2:C$93564,'Accounting Data'!E$2:E$93564,\"500\",'Accounting Data'!J$2:J$93564,\"4???\"))","v":44434},{"$f":"R11-S11","v":115},{"$f":"[1]!F500BudgFY","v":560000},{"$f":"(SUMIFS('Accounting Data'!C$2:C$93564,'Accounting Data'!E$2:E$93564,\"500\",'Accounting Data'!J$2:J$93564,\"6???\"))-(SUMIFS('Accounting Data'!C$2:C$93564,'Accounting Data'!E$2:E$93564,\"500\",'Accounting Data'!J$2:J$93564,\"69??\"))","v":46471},{"$f":"D11+E11+F11-H11","v":570941},"5.","    Dropout Prevention Programs",null,{"$f":"[1]!F020DropPrevProgBudgFY","v":0},0,"3.",null,"5.",{"$f":"-(SUMIFS('Accounting Data'!C$2:C$93564,'Accounting Data'!E$2:E$93564,\"500\",'Accounting Data'!J$2:J$93564,\"5???\"))","v":115},{"$f":"(SUMIFS('Accounting Data'!C$2:C$93564,'Accounting Data'!E$2:E$93564,\"500\",'Accounting Data'!J$2:J$93564,\"69??\"))","v":0},"5."]
["515 Civic Center",null,"6.",{"$f":"'Accounting Data'!R355","v":108335},{"$f":"-(SUMIFS('Accounting Data'!C$2:C$93564,'Accounting Data'!E$2:E$93564,\"515\",'Accounting Data'!J$2:J$93564,\"1???\")+SUMIFS('Accounting Data'!C$2:C$93564,'Accounting Data'!E$2:E$93564,\"515\",'Accounting Data'!J$2:J$93564,\"2???\")+SUMIFS('Accounting Data'!C$2:C$93564,'Accounting Data'!E$2:E$93564,\"515\",'Accounting Data'!J$2:J$93564,\"3???\")+SUMIFS('Accounting Data'!C$2:C$93564,'Accounting Data'!E$2:E$93564,\"515\",'Accounting Data'!J$2:J$93564,\"4???\"))","v":96604},{"$f":"R12-S12","v":0},{"$f":"[1]!F515BudgFY","v":112000},{"$f":"(SUMIFS('Accounting Data'!C$2:C$93564,'Accounting Data'!E$2:E$93564,\"515\",'Accounting Data'!J$2:J$93564,\"6???\"))-(SUMIFS('Accounting Data'!C$2:C$93564,'Accounting Data'!E$2:E$93564,\"515\",'Accounting Data'!J$2:J$93564,\"69??\"))","v":43884},161055,"6.","    Instructional Improvement Programs",null,{"$f":"[1]!F020InstrImprProgBudgFY","v":30000},0,"4.",null,"6.",{"$f":"-(SUMIFS('Accounting Data'!C$2:C$93564,'Accounting Data'!E$2:E$93564,\"515\",'Accounting Data'!J$2:J$93564,\"5???\"))","v":0},{"$f":"(SUMIFS('Accounting Data'!C$2:C$93564,'Accounting Data'!E$2:E$93564,\"515\",'Accounting Data'!J$2:J$93564,\"69??\"))","v":0},"6."]
["520 Community School",null,"7.",{"$f":"'Accounting Data'!R356","v":44524},{"$f":"-(SUMIFS('Accounting Data'!C$2:C$93564,'Accounting Data'!E$2:E$93564,\"520\",'Accounting Data'!J$2:J$93564,\"1???\")+SUMIFS('Accounting Data'!C$2:C$93564,'Accounting Data'!E$2:E$93564,\"520\",'Accounting Data'!J$2:J$93564,\"2???\")+SUMIFS('Accounting Data'!C$2:C$93564,'Accounting Data'!E$2:E$93564,\"520\",'Accounting Data'!J$2:J$93564,\"3???\")+SUMIFS('Accounting Data'!C$2:C$93564,'Accounting Data'!E$2:E$93564,\"520\",'Accounting Data'!J$2:J$93564,\"4???\"))","v":181945},0,{"$f":"[1]!F520BudgFY","v":150000},{"$f":"(SUMIFS('Accounting Data'!C$2:C$93564,'Accounting Data'!E$2:E$93564,\"520\",'Accounting Data'!J$2:J$93564,\"6???\"))-(SUMIFS('Accounting Data'!C$2:C$93564,'Accounting Data'!E$2:E$93564,\"520\",'Accounting Data'!J$2:J$93564,\"69??\"))","v":84599},141870,"7.","Total Expenditures (lines 1-4)",null,{"$f":"SUM(M9:M12)","v":130000},{"$f":"SUM(N9:N12)","v":98802},"5.",null,"7.",{"$f":"-(SUMIFS('Accounting Data'!C$2:C$93564,'Accounting Data'!E$2:E$93564,\"520\",'Accounting Data'!J$2:J$93564,\"5???\"))","v":0},{"$f":"(SUMIFS('Accounting Data'!C$2:C$93564,'Accounting Data'!E$2:E$93564,\"520\",'Accounting Data'!J$2:J$93564,\"69??\"))","v":0},"7."]
["525 Auxiliary Operations",null,"8.",{"$f":"'Accounting Data'!R357","v":25039},{"$f":"-(SUMIFS('Accounting Data'!C$2:C$93564,'Accounting Data'!E$2:E$93564,\"525\",'Accounting Data'!J$2:J$93564,\"1???\")+SUMIFS('Accounting Data'!C$2:C$93564,'Accounting Data'!E$2:E$93564,\"525\",'Accounting Data'!J$2:J$93564,\"2???\")+SUMIFS('Accounting Data'!C$2:C$93564,'Accounting Data'!E$2:E$93564,\"525\",'Accounting Data'!J$2:J$93564,\"3???\")+SUMIFS('Accounting Data'!C$2:C$93564,'Accounting Data'!E$2:E$93564,\"525\",'Accounting Data'!J$2:J$93564,\"4???\"))","v":11086},0,{"$f":"[1]!F525BudgFY","v":30000},{"$f":"(SUMIFS('Accounting Data'!C$2:C$93564,'Accounting Data'!E$2:E$93564,\"525\",'Accounting Data'!J$2:J$93564,\"6???\"))-(SUMIFS('Accounting Data'!C$2:C$93564,'Accounting Data'!E$2:E$93564,\"525\",'Accounting Data'!J$2:J$93564,\"69??\"))","v":13834},22291,"8.","Total Expenditures from accounting data",null,null,{"$f":"F020ActExp","v":98802},"6.",null,"8.",{"$f":"-(SUMIFS('Accounting Data'!C$2:C$93564,'Accounting Data'!E$2:E$93564,\"525\",'Accounting Data'!J$2:J$93564,\"5???\"))","v":0},{"$f":"(SUMIFS('Accounting Data'!C$2:C$93564,'Accounting Data'!E$2:E$93564,\"525\",'Accounting Data'!J$2:J$93564,\"69??\"))","v":0},"8."]
["526 Extracurricular Activities Fees Tax Credit",null,"9.",{"$f":"'Accounting Data'!R358","v":299084},{"$f":"-(SUMIFS('Accounting Data'!C$2:C$93564,'Accounting Data'!E$2:E$93564,\"526\",'Accounting Data'!J$2:J$93564,\"1???\")+SUMIFS('Accounting Data'!C$2:C$93564,'Accounting Data'!E$2:E$93564,\"526\",'Accounting Data'!J$2:J$93564,\"2???\")+SUMIFS('Accounting Data'!C$2:C$93564,'Accounting Data'!E$2:E$93564,\"526\",'Accounting Data'!J$2:J$93564,\"3???\")+SUMIFS('Accounting Data'!C$2:C$93564,'Accounting Data'!E$2:E$93564,\"526\",'Accounting Data'!J$2:J$93564,\"4???\"))","v":68067},0,{"$f":"[1]!F526BudgFY","v":300000},{"$f":"(SUMIFS('Accounting Data'!C$2:C$93564,'Accounting Data'!E$2:E$93564,\"526\",'Accounting Data'!J$2:J$93564,\"6???\"))-(SUMIFS('Accounting Data'!C$2:C$93564,'Accounting Data'!E$2:E$93564,\"526\",'Accounting Data'!J$2:J$93564,\"69??\"))","v":52878},314273,"9.",null,null,null,null,null,null,"9.",{"$f":"-(SUMIFS('Accounting Data'!C$2:C$93564,'Accounting Data'!E$2:E$93564,\"526\",'Accounting Data'!J$2:J$93564,\"5???\"))","v":0},{"$f":"(SUMIFS('Accounting Data'!C$2:C$93564,'Accounting Data'!E$2:E$93564,\"526\",'Accounting Data'!J$2:J$93564,\"69??\"))","v":0},"9."]
["530 Gifts and Donations",null,"10.",{"$f":"'Accounting Data'!R359","v":365442},{"$f":"-(SUMIFS('Accounting Data'!C$2:C$93564,'Accounting Data'!E$2:E$93564,\"530\",'Accounting Data'!J$2:J$93564,\"1???\")+SUMIFS('Accounting Data'!C$2:C$93564,'Accounting Data'!E$2:E$93564,\"530\",'Accounting Data'!J$2:J$93564,\"2???\")+SUMIFS('Accounting Data'!C$2:C$93564,'Accounting Data'!E$2:E$93564,\"530\",'Accounting Data'!J$2:J$93564,\"3???\")+SUMIFS('Accounting Data'!C$2:C$93564,'Accounting Data'!E$2:E$93564,\"530\",'Accounting Data'!J$2:J$93564,\"4???\"))","v":800127},0,{"$f":"[1]!F530BudgFY","v":200000},{"$f":"(SUMIFS('Accounting Data'!C$2:C$93564,'Accounting Data'!E$2:E$93564,\"530\",'Accounting Data'!J$2:J$93564,\"6???\"))-(SUMIFS('Accounting Data'!C$2:C$93564,'Accounting Data'!E$2:E$93564,\"530\",'Accounting Data'!J$2:J$93564,\"69??\"))","v":701745},463824,"10.","Check this box if your district did not have expenditures  in the Instructional Improvement Fund",null,null,null,null,null,"10.",{"$f":"-(SUMIFS('Accounting Data'!C$2:C$93564,'Accounting Data'!E$2:E$93564,\"530\",'Accounting Data'!J$2:J$93564,\"5???\"))","v":0},{"$f":"(SUMIFS('Accounting Data'!C$2:C$93564,'Accounting Data'!E$2:E$93564,\"530\",'Accounting Data'!J$2:J$93564,\"69??\"))","v":0},"10."]
["535 Career & Technical Education Projects",null,"11.",{"$f":"'Accounting Data'!R360","v":0},{"$f":"-(SUMIFS('Accounting Data'!C$2:C$93564,'Accounting Data'!E$2:E$93564,\"535\",'Accounting Data'!J$2:J$93564,\"1???\")+SUMIFS('Accounting Data'!C$2:C$93564,'Accounting Data'!E$2:E$93564,\"535\",'Accounting Data'!J$2:J$93564,\"2???\")+SUMIFS('Accounting Data'!C$2:C$93564,'Accounting Data'!E$2:E$93564,\"535\",'Accounting Data'!J$2:J$93564,\"3???\")+SUMIFS('Accounting Data'!C$2:C$93564,'Accounting Data'!E$2:E$93564,\"535\",'Accounting Data'!J$2:J$93564,\"4???\"))","v":0},0,{"$f":"[1]!F535BudgFY","v":0},{"$f":"(SUMIFS('Accounting Data'!C$2:C$93564,'Accounting Data'!E$2:E$93564,\"535\",'Accounting Data'!J$2:J$93564,\"6???\"))-(SUMIFS('Accounting Data'!C$2:C$93564,'Accounting Data'!E$2:E$93564,\"535\",'Accounting Data'!J$2:J$93564,\"69??\"))","v":0},0,"11.",null,null,null,null,null,null,"11.",{"$f":"-(SUMIFS('Accounting Data'!C$2:C$93564,'Accounting Data'!E$2:E$93564,\"535\",'Accounting Data'!J$2:J$93564,\"5???\"))","v":0},{"$f":"(SUMIFS('Accounting Data'!C$2:C$93564,'Accounting Data'!E$2:E$93564,\"535\",'Accounting Data'!J$2:J$93564,\"69??\"))","v":0},"11."]
["540 Fingerprint",null,"12.",{"$f":"'Accounting Data'!R361","v":10039},{"$f":"-(SUMIFS('Accounting Data'!C$2:C$93564,'Accounting Data'!E$2:E$93564,\"540\",'Accounting Data'!J$2:J$93564,\"1???\")+SUMIFS('Accounting Data'!C$2:C$93564,'Accounting Data'!E$2:E$93564,\"540\",'Accounting Data'!J$2:J$93564,\"2???\")+SUMIFS('Accounting Data'!C$2:C$93564,'Accounting Data'!E$2:E$93564,\"540\",'Accounting Data'!J$2:J$93564,\"3???\")+SUMIFS('Accounting Data'!C$2:C$93564,'Accounting Data'!E$2:E$93564,\"540\",'Accounting Data'!J$2:J$93564,\"4???\"))","v":1042},0,{"$f":"[1]!F540BudgFY","v":10000},{"$f":"(SUMIFS('Accounting Data'!C$2:C$93564,'Accounting Data'!E$2:E$93564,\"540\",'Accounting Data'!J$2:J$93564,\"6???\"))-(SUMIFS('Accounting Data'!C$2:C$93564,'Accounting Data'!E$2:E$93564,\"540\",'Accounting Data'!J$2:J$93564,\"69??\"))","v":658},10423,"12.",null,null,null,null,null,null,"12.",{"$f":"-(SUMIFS('Accounting Data'!C$2:C$93564,'Accounting Data'!E$2:E$93564,\"540\",'Accounting Data'!J$2:J$93564,\"5???\"))","v":0},{"$f":"(SUMIFS('Accounting Data'!C$2:C$93564,'Accounting Data'!E$2:E$93564,\"540\",'Accounting Data'!J$2:J$93564,\"69??\"))","v":0},"12."]
["545 School Opening",null,"13.",{"$f":"'Accounting Data'!R362","v":0},{"$f":"-(SUMIFS('Accounting Data'!C$2:C$93564,'Accounting Data'!E$2:E$93564,\"545\",'Accounting Data'!J$2:J$93564,\"1???\")+SUMIFS('Accounting Data'!C$2:C$93564,'Accounting Data'!E$2:E$93564,\"545\",'Accounting Data'!J$2:J$93564,\"2???\")+SUMIFS('Accounting Data'!C$2:C$93564,'Accounting Data'!E$2:E$93564,\"545\",'Accounting Data'!J$2:J$93564,\"3???\")+SUMIFS('Accounting Data'!C$2:C$93564,'Accounting Data'!E$2:E$93564,\"545\",'Accounting Data'!J$2:J$93564,\"4???\"))","v":0},0,{"$f":"[1]!F545BudgFY","v":0},{"$f":"(SUMIFS('Accounting Data'!C$2:C$93564,'Accounting Data'!E$2:E$93564,\"545\",'Accounting Data'!J$2:J$93564,\"6???\"))-(SUMIFS('Accounting Data'!C$2:C$93564,'Accounting Data'!E$2:E$93564,\"545\",'Accounting Data'!J$2:J$93564,\"69??\"))","v":0},0,"13.",null,null,null,null,null,null,"13.",{"$f":"-(SUMIFS('Accounting Data'!C$2:C$93564,'Accounting Data'!E$2:E$93564,\"545\",'Accounting Data'!J$2:J$93564,\"5???\"))","v":0},{"$f":"(SUMIFS('Accounting Data'!C$2:C$93564,'Accounting Data'!E$2:E$93564,\"545\",'Accounting Data'!J$2:J$93564,\"69??\"))","v":0},"13."]
["550 Insurance Proceeds",null,"14.",{"$f":"'Accounting Data'!R363","v":30088},{"$f":"-(SUMIFS('Accounting Data'!C$2:C$93564,'Accounting Data'!E$2:E$93564,\"550\",'Accounting Data'!J$2:J$93564,\"1???\")+SUMIFS('Accounting Data'!C$2:C$93564,'Accounting Data'!E$2:E$93564,\"550\",'Accounting Data'!J$2:J$93564,\"2???\")+SUMIFS('Accounting Data'!C$2:C$93564,'Accounting Data'!E$2:E$93564,\"550\",'Accounting Data'!J$2:J$93564,\"3???\")+SUMIFS('Accounting Data'!C$2:C$93564,'Accounting Data'!E$2:E$93564,\"550\",'Accounting Data'!J$2:J$93564,\"4???\"))","v":499},0,{"$f":"[1]!F550BudgFY","v":29000},{"$f":"(SUMIFS('Accounting Data'!C$2:C$93564,'Accounting Data'!E$2:E$93564,\"550\",'Accounting Data'!J$2:J$93564,\"6???\"))-(SUMIFS('Accounting Data'!C$2:C$93564,'Accounting Data'!E$2:E$93564,\"550\",'Accounting Data'!J$2:J$93564,\"69??\"))","v":0},30587,"14.",null,null,null,null,null,null,"14.",{"$f":"-(SUMIFS('Accounting Data'!C$2:C$93564,'Accounting Data'!E$2:E$93564,\"550\",'Accounting Data'!J$2:J$93564,\"5???\"))","v":0},{"$f":"(SUMIFS('Accounting Data'!C$2:C$93564,'Accounting Data'!E$2:E$93564,\"550\",'Accounting Data'!J$2:J$93564,\"69??\"))","v":0},"14."]
["555 Textbooks",null,"15.",{"$f":"'Accounting Data'!R364","v":16555},{"$f":"-(SUMIFS('Accounting Data'!C$2:C$93564,'Accounting Data'!E$2:E$93564,\"555\",'Accounting Data'!J$2:J$93564,\"1???\")+SUMIFS('Accounting Data'!C$2:C$93564,'Accounting Data'!E$2:E$93564,\"555\",'Accounting Data'!J$2:J$93564,\"2???\")+SUMIFS('Accounting Data'!C$2:C$93564,'Accounting Data'!E$2:E$93564,\"555\",'Accounting Data'!J$2:J$93564,\"3???\")+SUMIFS('Accounting Data'!C$2:C$93564,'Accounting Data'!E$2:E$93564,\"555\",'Accounting Data'!J$2:J$93564,\"4???\"))","v":484},0,{"$f":"[1]!F555BudgFY","v":16000},{"$f":"(SUMIFS('Accounting Data'!C$2:C$93564,'Accounting Data'!E$2:E$93564,\"555\",'Accounting Data'!J$2:J$93564,\"6???\"))-(SUMIFS('Accounting Data'!C$2:C$93564,'Accounting Data'!E$2:E$93564,\"555\",'Accounting Data'!J$2:J$93564,\"69??\"))","v":0},17039,"15.",null,null,null,null,null,null,"15.",{"$f":"-(SUMIFS('Accounting Data'!C$2:C$93564,'Accounting Data'!E$2:E$93564,\"555\",'Accounting Data'!J$2:J$93564,\"5???\"))","v":0},{"$f":"(SUMIFS('Accounting Data'!C$2:C$93564,'Accounting Data'!E$2:E$93564,\"555\",'Accounting Data'!J$2:J$93564,\"69??\"))","v":0},"15."]
["565 Litigation Recovery",null,"16.",{"$f":"'Accounting Data'!R365","v":4157},{"$f":"-(SUMIFS('Accounting Data'!C$2:C$93564,'Accounting Data'!E$2:E$93564,\"565\",'Accounting Data'!J$2:J$93564,\"1???\")+SUMIFS('Accounting Data'!C$2:C$93564,'Accounting Data'!E$2:E$93564,\"565\",'Accounting Data'!J$2:J$93564,\"2???\")+SUMIFS('Accounting Data'!C$2:C$93564,'Accounting Data'!E$2:E$93564,\"565\",'Accounting Data'!J$2:J$93564,\"3???\")+SUMIFS('Accounting Data'!C$2:C$93564,'Accounting Data'!E$2:E$93564,\"565\",'Accounting Data'!J$2:J$93564,\"4???\"))","v":69},0,{"$f":"[1]!F565BudgFY","v":4000},{"$f":"(SUMIFS('Accounting Data'!C$2:C$93564,'Accounting Data'!E$2:E$93564,\"565\",'Accounting Data'!J$2:J$93564,\"6???\"))-(SUMIFS('Accounting Data'!C$2:C$93564,'Accounting Data'!E$2:E$93564,\"565\",'Accounting Data'!J$2:J$93564,\"69??\"))","v":4200},26,"16.",null,null,null,null,null,null,"16.",{"$f":"-(SUMIFS('Accounting Data'!C$2:C$93564,'Accounting Data'!E$2:E$93564,\"565\",'Accounting Data'!J$2:J$93564,\"5???\"))","v":0},{"$f":"(SUMIFS('Accounting Data'!C$2:C$93564,'Accounting Data'!E$2:E$93564,\"565\",'Accounting Data'!J$2:J$93564,\"69??\"))","v":0},"16."]
["570 Indirect Costs",null,"17.",{"$f":"'Accounting Data'!R366","v":786815},{"$f":"-(SUMIFS('Accounting Data'!C$2:C$93564,'Accounting Data'!E$2:E$93564,\"570\",'Accounting Data'!J$2:J$93564,\"1???\")+SUMIFS('Accounting Data'!C$2:C$93564,'Accounting Data'!E$2:E$93564,\"570\",'Accounting Data'!J$2:J$93564,\"2???\")+SUMIFS('Accounting Data'!C$2:C$93564,'Accounting Data'!E$2:E$93564,\"570\",'Accounting Data'!J$2:J$93564,\"3???\")+SUMIFS('Accounting Data'!C$2:C$93564,'Accounting Data'!E$2:E$93564,\"570\",'Accounting Data'!J$2:J$93564,\"4???\"))","v":12525},612231,{"$f":"[1]!F570BudgFY","v":560000},{"$f":"(SUMIFS('Accounting Data'!C$2:C$93564,'Accounting Data'!E$2:E$93564,\"570\",'Accounting Data'!J$2:J$93564,\"6???\"))-(SUMIFS('Accounting Data'!C$2:C$93564,'Accounting Data'!E$2:E$93564,\"570\",'Accounting Data'!J$2:J$93564,\"69??\"))","v":334735},1076836,"17.",null,null,null,null,null,null,"17.",{"$f":"-(SUMIFS('Accounting Data'!C$2:C$93564,'Accounting Data'!E$2:E$93564,\"570\",'Accounting Data'!J$2:J$93564,\"5???\"))","v":612231},{"$f":"(SUMIFS('Accounting Data'!C$2:C$93564,'Accounting Data'!E$2:E$93564,\"570\",'Accounting Data'!J$2:J$93564,\"69??\"))","v":0},"17."]
["575 Unemployment Insurance",null,"18.",{"$f":"'Accounting Data'!R367","v":36058},{"$f":"-(SUMIFS('Accounting Data'!C$2:C$93564,'Accounting Data'!E$2:E$93564,\"575\",'Accounting Data'!J$2:J$93564,\"1???\")+SUMIFS('Accounting Data'!C$2:C$93564,'Accounting Data'!E$2:E$93564,\"575\",'Accounting Data'!J$2:J$93564,\"2???\")+SUMIFS('Accounting Data'!C$2:C$93564,'Accounting Data'!E$2:E$93564,\"575\",'Accounting Data'!J$2:J$93564,\"3???\")+SUMIFS('Accounting Data'!C$2:C$93564,'Accounting Data'!E$2:E$93564,\"575\",'Accounting Data'!J$2:J$93564,\"4???\"))","v":598},0,{"$f":"[1]!F575BudgFY","v":40000},{"$f":"(SUMIFS('Accounting Data'!C$2:C$93564,'Accounting Data'!E$2:E$93564,\"575\",'Accounting Data'!J$2:J$93564,\"6???\"))-(SUMIFS('Accounting Data'!C$2:C$93564,'Accounting Data'!E$2:E$93564,\"575\",'Accounting Data'!J$2:J$93564,\"69??\"))","v":12364},24292,"18.",null,null,null,null,null,null,"18.",{"$f":"-(SUMIFS('Accounting Data'!C$2:C$93564,'Accounting Data'!E$2:E$93564,\"575\",'Accounting Data'!J$2:J$93564,\"5???\"))","v":0},{"$f":"(SUMIFS('Accounting Data'!C$2:C$93564,'Accounting Data'!E$2:E$93564,\"575\",'Accounting Data'!J$2:J$93564,\"69??\"))","v":0},"18."]
["580 Teacherage",null,"19.",{"$f":"'Accounting Data'!R368","v":0},{"$f":"-(SUMIFS('Accounting Data'!C$2:C$93564,'Accounting Data'!E$2:E$93564,\"580\",'Accounting Data'!J$2:J$93564,\"1???\")+SUMIFS('Accounting Data'!C$2:C$93564,'Accounting Data'!E$2:E$93564,\"580\",'Accounting Data'!J$2:J$93564,\"2???\")+SUMIFS('Accounting Data'!C$2:C$93564,'Accounting Data'!E$2:E$93564,\"580\",'Accounting Data'!J$2:J$93564,\"3???\")+SUMIFS('Accounting Data'!C$2:C$93564,'Accounting Data'!E$2:E$93564,\"580\",'Accounting Data'!J$2:J$93564,\"4???\"))","v":0},0,{"$f":"[1]!F580BudgFY","v":0},{"$f":"(SUMIFS('Accounting Data'!C$2:C$93564,'Accounting Data'!E$2:E$93564,\"580\",'Accounting Data'!J$2:J$93564,\"6???\"))-(SUMIFS('Accounting Data'!C$2:C$93564,'Accounting Data'!E$2:E$93564,\"580\",'Accounting Data'!J$2:J$93564,\"69??\"))","v":0},0,"19.",null,null,null,null,null,null,"19.",{"$f":"-(SUMIFS('Accounting Data'!C$2:C$93564,'Accounting Data'!E$2:E$93564,\"580\",'Accounting Data'!J$2:J$93564,\"5???\"))","v":0},{"$f":"(SUMIFS('Accounting Data'!C$2:C$93564,'Accounting Data'!E$2:E$93564,\"580\",'Accounting Data'!J$2:J$93564,\"69??\"))","v":0},"19."]
["585 Insurance Refund",null,"20.",{"$f":"'Accounting Data'!R369","v":2896},{"$f":"-(SUMIFS('Accounting Data'!C$2:C$93564,'Accounting Data'!E$2:E$93564,\"585\",'Accounting Data'!J$2:J$93564,\"1???\")+SUMIFS('Accounting Data'!C$2:C$93564,'Accounting Data'!E$2:E$93564,\"585\",'Accounting Data'!J$2:J$93564,\"2???\")+SUMIFS('Accounting Data'!C$2:C$93564,'Accounting Data'!E$2:E$93564,\"585\",'Accounting Data'!J$2:J$93564,\"3???\")+SUMIFS('Accounting Data'!C$2:C$93564,'Accounting Data'!E$2:E$93564,\"585\",'Accounting Data'!J$2:J$93564,\"4???\"))","v":430},0,{"$f":"[1]!F585BudgFY","v":3000},{"$f":"(SUMIFS('Accounting Data'!C$2:C$93564,'Accounting Data'!E$2:E$93564,\"585\",'Accounting Data'!J$2:J$93564,\"6???\"))-(SUMIFS('Accounting Data'!C$2:C$93564,'Accounting Data'!E$2:E$93564,\"585\",'Accounting Data'!J$2:J$93564,\"69??\"))","v":0},3326,"20.",null,null,null,null,null,null,"20.",{"$f":"-(SUMIFS('Accounting Data'!C$2:C$93564,'Accounting Data'!E$2:E$93564,\"585\",'Accounting Data'!J$2:J$93564,\"5???\"))","v":0},{"$f":"(SUMIFS('Accounting Data'!C$2:C$93564,'Accounting Data'!E$2:E$93564,\"585\",'Accounting Data'!J$2:J$93564,\"69??\"))","v":0},"20."]
["590 Grants and Gifts to Teachers",null,"21.",{"$f":"'Accounting Data'!R370","v":0},{"$f":"-(SUMIFS('Accounting Data'!C$2:C$93564,'Accounting Data'!E$2:E$93564,\"590\",'Accounting Data'!J$2:J$93564,\"1???\")+SUMIFS('Accounting Data'!C$2:C$93564,'Accounting Data'!E$2:E$93564,\"590\",'Accounting Data'!J$2:J$93564,\"2???\")+SUMIFS('Accounting Data'!C$2:C$93564,'Accounting Data'!E$2:E$93564,\"590\",'Accounting Data'!J$2:J$93564,\"3???\")+SUMIFS('Accounting Data'!C$2:C$93564,'Accounting Data'!E$2:E$93564,\"590\",'Accounting Data'!J$2:J$93564,\"4???\"))","v":0},0,{"$f":"[1]!F590BudgFY","v":0},{"$f":"(SUMIFS('Accounting Data'!C$2:C$93564,'Accounting Data'!E$2:E$93564,\"590\",'Accounting Data'!J$2:J$93564,\"6???\"))-(SUMIFS('Accounting Data'!C$2:C$93564,'Accounting Data'!E$2:E$93564,\"590\",'Accounting Data'!J$2:J$93564,\"69??\"))","v":0},0,"21.",{"$f":"IF(N39<>N40,\"Total detailed Arizona Industry Credentials Incentive Fund expenditures reported on line 6 do not agree with your accounting records. Please verify entered amounts.\",\"\")","v":""},null,null,null,null,null,"21.",{"$f":"-(SUMIFS('Accounting Data'!C$2:C$93564,'Accounting Data'!E$2:E$93564,\"590\",'Accounting Data'!J$2:J$93564,\"5???\"))","v":0},{"$f":"(SUMIFS('Accounting Data'!C$2:C$93564,'Accounting Data'!E$2:E$93564,\"590\",'Accounting Data'!J$2:J$93564,\"69??\"))","v":0},"21."]
["595 Advertisement",null,"22.",{"$f":"'Accounting Data'!R371","v":0},{"$f":"-(SUMIFS('Accounting Data'!C$2:C$93564,'Accounting Data'!E$2:E$93564,\"595\",'Accounting Data'!J$2:J$93564,\"1???\")+SUMIFS('Accounting Data'!C$2:C$93564,'Accounting Data'!E$2:E$93564,\"595\",'Accounting Data'!J$2:J$93564,\"2???\")+SUMIFS('Accounting Data'!C$2:C$93564,'Accounting Data'!E$2:E$93564,\"595\",'Accounting Data'!J$2:J$93564,\"3???\")+SUMIFS('Accounting Data'!C$2:C$93564,'Accounting Data'!E$2:E$93564,\"595\",'Accounting Data'!J$2:J$93564,\"4???\"))","v":0},0,{"$f":"[1]!F595BudgFY","v":0},{"$f":"(SUMIFS('Accounting Data'!C$2:C$93564,'Accounting Data'!E$2:E$93564,\"595\",'Accounting Data'!J$2:J$93564,\"6???\"))-(SUMIFS('Accounting Data'!C$2:C$93564,'Accounting Data'!E$2:E$93564,\"595\",'Accounting Data'!J$2:J$93564,\"69??\"))","v":0},0,"22.",null,null,null,null,null,null,"22.",{"$f":"-(SUMIFS('Accounting Data'!C$2:C$93564,'Accounting Data'!E$2:E$93564,\"595\",'Accounting Data'!J$2:J$93564,\"5???\"))","v":0},{"$f":"(SUMIFS('Accounting Data'!C$2:C$93564,'Accounting Data'!E$2:E$93564,\"595\",'Accounting Data'!J$2:J$93564,\"69??\"))","v":0},"22."]
["596 Career Technical Education",null,"23.",{"$f":"'Accounting Data'!R372","v":0},{"$f":"-(SUMIFS('Accounting Data'!C$2:C$93564,'Accounting Data'!E$2:E$93564,\"596\",'Accounting Data'!J$2:J$93564,\"1???\")+SUMIFS('Accounting Data'!C$2:C$93564,'Accounting Data'!E$2:E$93564,\"596\",'Accounting Data'!J$2:J$93564,\"2???\")+SUMIFS('Accounting Data'!C$2:C$93564,'Accounting Data'!E$2:E$93564,\"596\",'Accounting Data'!J$2:J$93564,\"3???\")+SUMIFS('Accounting Data'!C$2:C$93564,'Accounting Data'!E$2:E$93564,\"596\",'Accounting Data'!J$2:J$93564,\"4???\"))","v":0},0,{"$f":"[1]!F596BudgFY","v":0},{"$f":"(SUMIFS('Accounting Data'!C$2:C$93564,'Accounting Data'!E$2:E$93564,\"596\",'Accounting Data'!J$2:J$93564,\"6???\"))-(SUMIFS('Accounting Data'!C$2:C$93564,'Accounting Data'!E$2:E$93564,\"596\",'Accounting Data'!J$2:J$93564,\"69??\"))","v":0},0,"23.",null,null,null,null,null,null,"23.",{"$f":"-(SUMIFS('Accounting Data'!C$2:C$93564,'Accounting Data'!E$2:E$93564,\"596\",'Accounting Data'!J$2:J$93564,\"5???\"))","v":0},{"$f":"(SUMIFS('Accounting Data'!C$2:C$93564,'Accounting Data'!E$2:E$93564,\"596\",'Accounting Data'!J$2:J$93564,\"69??\"))","v":0},"23."]
["597 Arizona Industry Credentials Incentive",null,"24.",{"$f":"'Accounting Data'!R373","v":0},{"$f":"-(SUMIFS('Accounting Data'!C$2:C$93564,'Accounting Data'!E$2:E$93564,\"597\",'Accounting Data'!J$2:J$93564,\"1???\")+SUMIFS('Accounting Data'!C$2:C$93564,'Accounting Data'!E$2:E$93564,\"597\",'Accounting Data'!J$2:J$93564,\"2???\")+SUMIFS('Accounting Data'!C$2:C$93564,'Accounting Data'!E$2:E$93564,\"597\",'Accounting Data'!J$2:J$93564,\"3???\")+SUMIFS('Accounting Data'!C$2:C$93564,'Accounting Data'!E$2:E$93564,\"597\",'Accounting Data'!J$2:J$93564,\"4???\"))","v":0},0,{"$f":"[1]!F597BudgFY","v":0},{"$f":"ROUND((SUMIFS('Accounting Data'!C$2:C$93564,'Accounting Data'!E$2:E$93564,\"597\",'Accounting Data'!J$2:J$93564,\"6???\"))-(SUMIFS('Accounting Data'!C$2:C$93564,'Accounting Data'!E$2:E$93564,\"597\",'Accounting Data'!J$2:J$93564,\"69??\")),0)","v":0},{"$f":"D30+E30+F30-H30","v":0},"24.","Arizona Industry Credentials Incentive Fund 597",null,"BUDGET","ACTUAL",null,null,"24.",{"$f":"-(SUMIFS('Accounting Data'!C$2:C$93564,'Accounting Data'!E$2:E$93564,\"597\",'Accounting Data'!J$2:J$93564,\"5???\"))","v":0},{"$f":"(SUMIFS('Accounting Data'!C$2:C$93564,'Accounting Data'!E$2:E$93564,\"597\",'Accounting Data'!J$2:J$93564,\"69??\"))","v":0},"24."]
["639 Impact Aid Revenue Bond Building",null,"25.",{"$f":"'Accounting Data'!R377","v":0},{"$f":"-(SUMIFS('Accounting Data'!C$2:C$93564,'Accounting Data'!E$2:E$93564,\"639\",'Accounting Data'!J$2:J$93564,\"1???\")+SUMIFS('Accounting Data'!C$2:C$93564,'Accounting Data'!E$2:E$93564,\"639\",'Accounting Data'!J$2:J$93564,\"2???\")+SUMIFS('Accounting Data'!C$2:C$93564,'Accounting Data'!E$2:E$93564,\"639\",'Accounting Data'!J$2:J$93564,\"3???\")+SUMIFS('Accounting Data'!C$2:C$93564,'Accounting Data'!E$2:E$93564,\"639\",'Accounting Data'!J$2:J$93564,\"4???\"))","v":0},0,{"$f":"[1]!F639BudgFY","v":0},{"$f":"(SUMIFS('Accounting Data'!C$2:C$93564,'Accounting Data'!E$2:E$93564,\"639\",'Accounting Data'!J$2:J$93564,\"6???\"))-(SUMIFS('Accounting Data'!C$2:C$93564,'Accounting Data'!E$2:E$93564,\"639\",'Accounting Data'!J$2:J$93564,\"69??\"))","v":0},{"$f":"D31+E31+F31-H31","v":0},"25.","Expenditures",null,null,null,null,null,"25.",{"$f":"-(SUMIFS('Accounting Data'!C$2:C$93564,'Accounting Data'!E$2:E$93564,\"639\",'Accounting Data'!J$2:J$93564,\"5???\"))","v":0},{"$f":"(SUMIFS('Accounting Data'!C$2:C$93564,'Accounting Data'!E$2:E$93564,\"639\",'Accounting Data'!J$2:J$93564,\"69??\"))","v":0},"25."]
["650 Gifts and Donations—Capital",null,"26.",{"$f":"'Accounting Data'!R378","v":0},{"$f":"-(SUMIFS('Accounting Data'!C$2:C$93564,'Accounting Data'!E$2:E$93564,\"650\",'Accounting Data'!J$2:J$93564,\"1???\")+SUMIFS('Accounting Data'!C$2:C$93564,'Accounting Data'!E$2:E$93564,\"650\",'Accounting Data'!J$2:J$93564,\"2???\")+SUMIFS('Accounting Data'!C$2:C$93564,'Accounting Data'!E$2:E$93564,\"650\",'Accounting Data'!J$2:J$93564,\"3???\")+SUMIFS('Accounting Data'!C$2:C$93564,'Accounting Data'!E$2:E$93564,\"650\",'Accounting Data'!J$2:J$93564,\"4???\"))","v":0},0,{"$f":"[1]!F650BudgFY","v":0},{"$f":"(SUMIFS('Accounting Data'!C$2:C$93564,'Accounting Data'!E$2:E$93564,\"650\",'Accounting Data'!J$2:J$93564,\"6???\"))-(SUMIFS('Accounting Data'!C$2:C$93564,'Accounting Data'!E$2:E$93564,\"650\",'Accounting Data'!J$2:J$93564,\"69??\"))","v":0},0,"26.","    Teacher instructional costs and professional development",null,null,0,"1.",null,"26.",{"$f":"-(SUMIFS('Accounting Data'!C$2:C$93564,'Accounting Data'!E$2:E$93564,\"650\",'Accounting Data'!J$2:J$93564,\"5???\"))","v":0},{"$f":"(SUMIFS('Accounting Data'!C$2:C$93564,'Accounting Data'!E$2:E$93564,\"650\",'Accounting Data'!J$2:J$93564,\"69??\"))","v":0},"26."]
["660 Condemnation",null,"27.",{"$f":"'Accounting Data'!R379","v":0},{"$f":"-(SUMIFS('Accounting Data'!C$2:C$93564,'Accounting Data'!E$2:E$93564,\"660\",'Accounting Data'!J$2:J$93564,\"1???\")+SUMIFS('Accounting Data'!C$2:C$93564,'Accounting Data'!E$2:E$93564,\"660\",'Accounting Data'!J$2:J$93564,\"2???\")+SUMIFS('Accounting Data'!C$2:C$93564,'Accounting Data'!E$2:E$93564,\"660\",'Accounting Data'!J$2:J$93564,\"3???\")+SUMIFS('Accounting Data'!C$2:C$93564,'Accounting Data'!E$2:E$93564,\"660\",'Accounting Data'!J$2:J$93564,\"4???\"))","v":0},0,{"$f":"[1]!F660BudgFY","v":0},{"$f":"(SUMIFS('Accounting Data'!C$2:C$93564,'Accounting Data'!E$2:E$93564,\"660\",'Accounting Data'!J$2:J$93564,\"6???\"))-(SUMIFS('Accounting Data'!C$2:C$93564,'Accounting Data'!E$2:E$93564,\"660\",'Accounting Data'!J$2:J$93564,\"69??\"))","v":0},0,"27.","    Student certification, credentialing, or                     \n         licensure costs",null,null,null,null,null,"27.",{"$f":"-(SUMIFS('Accounting Data'!C$2:C$93564,'Accounting Data'!E$2:E$93564,\"660\",'Accounting Data'!J$2:J$93564,\"5???\"))","v":0},{"$f":"(SUMIFS('Accounting Data'!C$2:C$93564,'Accounting Data'!E$2:E$93564,\"660\",'Accounting Data'!J$2:J$93564,\"69??\"))","v":0},"27."]
["665 Energy and Water Savings",null,"28.",{"$f":"'Accounting Data'!R380","v":65830},{"$f":"-(SUMIFS('Accounting Data'!C$2:C$93564,'Accounting Data'!E$2:E$93564,\"665\",'Accounting Data'!J$2:J$93564,\"1???\")+SUMIFS('Accounting Data'!C$2:C$93564,'Accounting Data'!E$2:E$93564,\"665\",'Accounting Data'!J$2:J$93564,\"2???\")+SUMIFS('Accounting Data'!C$2:C$93564,'Accounting Data'!E$2:E$93564,\"665\",'Accounting Data'!J$2:J$93564,\"3???\")+SUMIFS('Accounting Data'!C$2:C$93564,'Accounting Data'!E$2:E$93564,\"665\",'Accounting Data'!J$2:J$93564,\"4???\"))","v":3546},0,{"$f":"[1]!F665BudgFY","v":65000},{"$f":"(SUMIFS('Accounting Data'!C$2:C$93564,'Accounting Data'!E$2:E$93564,\"665\",'Accounting Data'!J$2:J$93564,\"6???\"))-(SUMIFS('Accounting Data'!C$2:C$93564,'Accounting Data'!E$2:E$93564,\"665\",'Accounting Data'!J$2:J$93564,\"69??\"))","v":0},69376,"28.",null,null,null,0,"2.",null,"28.",{"$f":"-(SUMIFS('Accounting Data'!C$2:C$93564,'Accounting Data'!E$2:E$93564,\"665\",'Accounting Data'!J$2:J$93564,\"5???\"))","v":0},{"$f":"(SUMIFS('Accounting Data'!C$2:C$93564,'Accounting Data'!E$2:E$93564,\"665\",'Accounting Data'!J$2:J$93564,\"69??\"))","v":0},"28."]
["686 Emergency Deficiencies Correction",null,"29.",{"$f":"'Accounting Data'!R381","v":0},{"$f":"-(SUMIFS('Accounting Data'!C$2:C$93564,'Accounting Data'!E$2:E$93564,\"686\",'Accounting Data'!J$2:J$93564,\"1???\")+SUMIFS('Accounting Data'!C$2:C$93564,'Accounting Data'!E$2:E$93564,\"686\",'Accounting Data'!J$2:J$93564,\"2???\")+SUMIFS('Accounting Data'!C$2:C$93564,'Accounting Data'!E$2:E$93564,\"686\",'Accounting Data'!J$2:J$93564,\"3???\")+SUMIFS('Accounting Data'!C$2:C$93564,'Accounting Data'!E$2:E$93564,\"686\",'Accounting Data'!J$2:J$93564,\"4???\"))","v":0},0,{"$f":"[1]!F686BudgFY","v":0},{"$f":"(SUMIFS('Accounting Data'!C$2:C$93564,'Accounting Data'!E$2:E$93564,\"686\",'Accounting Data'!J$2:J$93564,\"6???\"))-(SUMIFS('Accounting Data'!C$2:C$93564,'Accounting Data'!E$2:E$93564,\"686\",'Accounting Data'!J$2:J$93564,\"69??\"))","v":0},0,"29.","    Developmental costs",null,null,0,"3.",null,"29.",{"$f":"-(SUMIFS('Accounting Data'!C$2:C$93564,'Accounting Data'!E$2:E$93564,\"686\",'Accounting Data'!J$2:J$93564,\"5???\"))","v":0},{"$f":"(SUMIFS('Accounting Data'!C$2:C$93564,'Accounting Data'!E$2:E$93564,\"686\",'Accounting Data'!J$2:J$93564,\"69??\"))","v":0},"29."]
["691 Building Renewal Grant",null,"30.",{"$f":"'Accounting Data'!R382","v":0},{"$f":"-(SUMIFS('Accounting Data'!C$2:C$93564,'Accounting Data'!E$2:E$93564,\"691\",'Accounting Data'!J$2:J$93564,\"1???\")+SUMIFS('Accounting Data'!C$2:C$93564,'Accounting Data'!E$2:E$93564,\"691\",'Accounting Data'!J$2:J$93564,\"2???\")+SUMIFS('Accounting Data'!C$2:C$93564,'Accounting Data'!E$2:E$93564,\"691\",'Accounting Data'!J$2:J$93564,\"3???\")+SUMIFS('Accounting Data'!C$2:C$93564,'Accounting Data'!E$2:E$93564,\"691\",'Accounting Data'!J$2:J$93564,\"4???\"))","v":0},0,{"$f":"[1]!F691BudgFY","v":0},{"$f":"(SUMIFS('Accounting Data'!C$2:C$93564,'Accounting Data'!E$2:E$93564,\"691\",'Accounting Data'!J$2:J$93564,\"6???\"))-(SUMIFS('Accounting Data'!C$2:C$93564,'Accounting Data'!E$2:E$93564,\"691\",'Accounting Data'!J$2:J$93564,\"69??\"))","v":0},0,"30.","    Instructional hardware, software, or supplies",null,null,0,"4.",null,"30.",{"$f":"-(SUMIFS('Accounting Data'!C$2:C$93564,'Accounting Data'!E$2:E$93564,\"691\",'Accounting Data'!J$2:J$93564,\"5???\"))","v":0},{"$f":"(SUMIFS('Accounting Data'!C$2:C$93564,'Accounting Data'!E$2:E$93564,\"691\",'Accounting Data'!J$2:J$93564,\"69??\"))","v":0},"30."]
["695 New School Facilities",null,"31.",{"$f":"'Accounting Data'!R383","v":0},{"$f":"-(SUMIFS('Accounting Data'!C$2:C$93564,'Accounting Data'!E$2:E$93564,\"695\",'Accounting Data'!J$2:J$93564,\"1???\")+SUMIFS('Accounting Data'!C$2:C$93564,'Accounting Data'!E$2:E$93564,\"695\",'Accounting Data'!J$2:J$93564,\"2???\")+SUMIFS('Accounting Data'!C$2:C$93564,'Accounting Data'!E$2:E$93564,\"695\",'Accounting Data'!J$2:J$93564,\"3???\")+SUMIFS('Accounting Data'!C$2:C$93564,'Accounting Data'!E$2:E$93564,\"695\",'Accounting Data'!J$2:J$93564,\"4???\"))","v":0},null,{"$f":"[1]!F695TotalBudgFY","v":0},{"$f":"(SUMIFS('Accounting Data'!C$2:C$93564,'Accounting Data'!E$2:E$93564,\"695\",'Accounting Data'!J$2:J$93564,\"6???\"))-(SUMIFS('Accounting Data'!C$2:C$93564,'Accounting Data'!E$2:E$93564,\"695\",'Accounting Data'!J$2:J$93564,\"69??\"))","v":0},0,"31.","    Career exploration",null,null,0,"5.",null,"31.",null,null,"31."]
[null,null,null,null,null,null,null,{"$f":"(SUMIFS('Accounting Data'!C$2:C$93564,'Accounting Data'!E$2:E$93564,\"050\",'Accounting Data'!J$2:J$93564,\"6???\"))-(SUMIFS('Accounting Data'!C$2:C$93564,'Accounting Data'!E$2:E$93564,\"050\",'Accounting Data'!J$2:J$93564,\"69??\"))","v":0},null,"23.",null,null,null,null,null,null,"23.",null,null,"23."]
["720 Impact Aid Revenue Bond Debt Service",null,"32.",{"$f":"'Accounting Data'!R386","v":0},{"$f":"-(SUMIFS('Accounting Data'!C$2:C$93564,'Accounting Data'!E$2:E$93564,\"720\",'Accounting Data'!J$2:J$93564,\"1???\")+SUMIFS('Accounting Data'!C$2:C$93564,'Accounting Data'!E$2:E$93564,\"720\",'Accounting Data'!J$2:J$93564,\"2???\")+SUMIFS('Accounting Data'!C$2:C$93564,'Accounting Data'!E$2:E$93564,\"720\",'Accounting Data'!J$2:J$93564,\"3???\")+SUMIFS('Accounting Data'!C$2:C$93564,'Accounting Data'!E$2:E$93564,\"720\",'Accounting Data'!J$2:J$93564,\"4???\"))","v":0},{"$f":"R39-S39","v":0},{"$f":"[1]!F720BudgFY","v":0},{"$f":"(SUMIFS('Accounting Data'!C$2:C$93564,'Accounting Data'!E$2:E$93564,\"720\",'Accounting Data'!J$2:J$93564,\"6???\"))-(SUMIFS('Accounting Data'!C$2:C$93564,'Accounting Data'!E$2:E$93564,\"720\",'Accounting Data'!J$2:J$93564,\"69??\"))","v":0},0,"32.","Total Expenditures (lines 1-5)",null,{"$f":"[1]!F597BudgFY","v":0},{"$f":"SUM(N32:N37)","v":0},"6.",null,"32.",{"$f":"-(SUMIFS('Accounting Data'!C$2:C$93564,'Accounting Data'!E$2:E$93564,\"720\",'Accounting Data'!J$2:J$93564,\"5???\"))","v":0},{"$f":"(SUMIFS('Accounting Data'!C$2:C$93564,'Accounting Data'!E$2:E$93564,\"720\",'Accounting Data'!J$2:J$93564,\"69??\"))","v":0},"32."]
["750 Permanent Funds",null,"33.",0,{"$f":"-(SUM(SUMIFS('Accounting Data'!C$2:C$93564,'Accounting Data'!E$2:E$93564,\"75?\",'Accounting Data'!J$2:J$93564,{\"1???\",\"2???\",\"3???\",\"4???\"})))","v":0},{"$f":"R40-S40","v":0},0,{"$f":"(SUMIFS('Accounting Data'!C$2:C$93564,'Accounting Data'!E$2:E$93564,\"75?\",'Accounting Data'!J$2:J$93564,\"6???\"))-(SUMIFS('Accounting Data'!C$2:C$93564,'Accounting Data'!E$2:E$93564,\"75?\",'Accounting Data'!J$2:J$93564,\"69??\"))","v":0},0,"33.","Total Expenditures from accounting data",null,null,{"$f":"F597ActExp","v":0},"7.",null,"33.",{"$f":"-(SUMIFS('Accounting Data'!C2:C93564,'Accounting Data'!E2:E93564,\"75?\",'Accounting Data'!J2:J93564,\"5???\"))","v":0},{"$f":"(SUMIFS('Accounting Data'!C$2:C$93564,'Accounting Data'!E$2:E$93564,\"75?\",'Accounting Data'!J$2:J$93564,\"69??\"))","v":0},"33.",null,null,null,null,{"$f":"IF(OR(SIBegFunBal=\"\",F955BegFunBal=\"\",OPEBBegFunBal=\"\",ISFOthBegFunBal=\"\",SIActRev=\"\",F955ActRev=\"\",OPEBActRev=\"\",ISFOthActRev=\"\",SIActExp=\"\",F955ActExp=\"\",OPEBActExp=\"\",ISFOthActExp=\"\"),\"yes\",\"\")","v":""}]
["800-849 Trust and Custodial Funds",null,"34.",0,{"$f":"-(SUM(SUMIFS('Accounting Data'!C$2:C$93564,'Accounting Data'!E$2:E$93564,{\"80?\",\"81?\",\"82?\",\"83?\",\"84?\"},'Accounting Data'!J$2:J$93564,\"1???\"),SUMIFS('Accounting Data'!C$2:C$93564,'Accounting Data'!E$2:E$93564,{\"80?\",\"81?\",\"82?\",\"83?\",\"84?\"},'Accounting Data'!J$2:J$93564,\"2???\"),SUMIFS('Accounting Data'!C$2:C$93564,'Accounting Data'!E$2:E$93564,{\"80?\",\"81?\",\"82?\",\"83?\",\"84?\"},'Accounting Data'!J$2:J$93564,\"3???\"),SUMIFS('Accounting Data'!C$2:C$93564,'Accounting Data'!E$2:E$93564,{\"80?\",\"81?\",\"82?\",\"83?\",\"84?\"},'Accounting Data'!J$2:J$93564,\"4???\")))","v":0},{"$f":"R41-S41","v":0},0,{"$f":"(SUM(SUMIFS('Accounting Data'!C$2:C$93564,'Accounting Data'!E$2:E$93564,{\"80?\",\"81?\",\"82?\",\"83?\",\"84?\"},'Accounting Data'!J$2:J$93564,\"6???\")))-(SUM(SUMIFS('Accounting Data'!C$2:C$93564,'Accounting Data'!E$2:E$93564,{\"80?\",\"81?\",\"82?\",\"83?\",\"84?\"},'Accounting Data'!J$2:J$93564,\"69??\")))","v":0},{"$f":"D41+E41+F41-H41","v":0},"34.",null,null,null,null,null,null,"34.",{"$f":"-(SUM(SUMIFS('Accounting Data'!C$2:C$93564,'Accounting Data'!E$2:E$93564,{\"80?\",\"81?\",\"82?\",\"83?\",\"84?\"},'Accounting Data'!J$2:J$93564,\"5???\")))","v":0},{"$f":"-(SUM(SUMIFS('Accounting Data'!C$2:C$93564,'Accounting Data'!E$2:E$93564,{\"80?\",\"81?\",\"82?\",\"83?\",\"84?\"},'Accounting Data'!J$2:J$93564,\"69??\")))","v":0},"34.",null,null,null,null,{"$f":"IF(OR(AND(OthBegFunBal<>0,A46=\"Other ________________\"),AND(OthActRev<>0,A46=\"Other ________________\"),AND(OthTransf<>0,A46=\"Other ________________\"),AND(OthBudgExp<>0,A46=\"Other ________________\"),AND(OthActExp<>0,A46=\"Other ________________\")),\"Yes\",\"\")","v":""}]
["850 Student Activities",null,"35.",34580.11,{"$f":"-(SUMIFS('Accounting Data'!C$2:C$93564,'Accounting Data'!E$2:E$93564,\"850\",'Accounting Data'!J$2:J$93564,\"1???\")+SUMIFS('Accounting Data'!C$2:C$93564,'Accounting Data'!E$2:E$93564,\"850\",'Accounting Data'!J$2:J$93564,\"2???\")+SUMIFS('Accounting Data'!C$2:C$93564,'Accounting Data'!E$2:E$93564,\"850\",'Accounting Data'!J$2:J$93564,\"3???\")+SUMIFS('Accounting Data'!C$2:C$93564,'Accounting Data'!E$2:E$93564,\"850\",'Accounting Data'!J$2:J$93564,\"4???\"))","v":9686},null,{"$f":"[1]!F850BudgFY","v":38000},{"$f":"(SUMIFS('Accounting Data'!C$2:C$93564,'Accounting Data'!E$2:E$93564,\"850\",'Accounting Data'!J$2:J$93564,\"6???\"))-(SUMIFS('Accounting Data'!C$2:C$93564,'Accounting Data'!E$2:E$93564,\"850\",'Accounting Data'!J$2:J$93564,\"69??\"))","v":8129},{"$f":"D42+E42-H42","v":36137},"35.",null,null,null,null,null,null,"35.",null,null,"35."]
["855 Employee Insurance Program Withholdings",null,"36.",804337.42,{"$f":"-(SUMIFS('Accounting Data'!C2:C93564,'Accounting Data'!E2:E93564,\"855\",'Accounting Data'!J2:J93564,\"1???\")+SUMIFS('Accounting Data'!C2:C93564,'Accounting Data'!E2:E93564,\"855\",'Accounting Data'!J2:J93564,\"2???\")+SUMIFS('Accounting Data'!C2:C93564,'Accounting Data'!E2:E93564,\"855\",'Accounting Data'!J2:J93564,\"3???\")+SUMIFS('Accounting Data'!C2:C93564,'Accounting Data'!E2:E93564,\"855\",'Accounting Data'!J2:J93564,\"4???\"))","v":2481280},{"$f":"R43-S43","v":0},2500000,{"$f":"(SUMIFS('Accounting Data'!C2:C93564,'Accounting Data'!E2:E93564,\"855\",'Accounting Data'!J2:J93564,\"6???\"))-(SUMIFS('Accounting Data'!C2:C93564,'Accounting Data'!E2:E93564,\"855\",'Accounting Data'!J2:J93564,\"69??\"))","v":2670467},{"$f":"D43+E43+F43-H43","v":615150},"36.",null,null,null,null,null,null,"36.",{"$f":"-(SUMIFS('Accounting Data'!C$2:C$93564,'Accounting Data'!E$2:E$93564,\"855\",'Accounting Data'!J$2:J$93564,\"5???\"))","v":0},{"$f":"-(SUMIFS('Accounting Data'!C$2:C$93564,'Accounting Data'!E$2:E$93564,\"855\",'Accounting Data'!J$2:J$93564,\"69??\"))","v":0},"36.",null,null,null,null,{"$f":"O16=\"X\"","v":false}]
["865 State Income Tax Withholdings",null,"37.",0,{"$f":"-(SUMIFS('Accounting Data'!C2:C93564,'Accounting Data'!E2:E93564,\"865\",'Accounting Data'!J2:J93564,\"1???\")+SUMIFS('Accounting Data'!C2:C93564,'Accounting Data'!E2:E93564,\"865\",'Accounting Data'!J2:J93564,\"2???\")+SUMIFS('Accounting Data'!C2:C93564,'Accounting Data'!E2:E93564,\"865\",'Accounting Data'!J2:J93564,\"3???\")+SUMIFS('Accounting Data'!C2:C93564,'Accounting Data'!E2:E93564,\"865\",'Accounting Data'!J2:J93564,\"4???\"))","v":0},{"$f":"R44-S44","v":0},0,{"$f":"(SUMIFS('Accounting Data'!C2:C93564,'Accounting Data'!E2:E93564,\"865\",'Accounting Data'!J2:J93564,\"6???\"))-(SUMIFS('Accounting Data'!C2:C93564,'Accounting Data'!E2:E93564,\"865\",'Accounting Data'!J2:J93564,\"69??\"))","v":0},{"$f":"D44+E44+F44-H44","v":0},"37.",null,null,null,null,null,null,"37.",{"$f":"-(SUMIFS('Accounting Data'!C$2:C$93564,'Accounting Data'!E$2:E$93564,\"865\",'Accounting Data'!J$2:J$93564,\"5???\"))","v":0},{"$f":"-(SUMIFS('Accounting Data'!C$2:C$93564,'Accounting Data'!E$2:E$93564,\"865\",'Accounting Data'!J$2:J$93564,\"69??\"))","v":0},"37."]
["900-949 Enterprise Funds",null,"38.",0,{"$f":"-(SUM(SUMIFS('Accounting Data'!C$2:C$93564,'Accounting Data'!E$2:E$93564,{\"90?\",\"91?\",\"92?\",\"93?\",\"94?\"},'Accounting Data'!J$2:J$93564,\"1???\"),SUMIFS('Accounting Data'!C$2:C$93564,'Accounting Data'!E$2:E$93564,{\"90?\",\"91?\",\"92?\",\"93?\",\"94?\"},'Accounting Data'!J$2:J$93564,\"2???\"),SUMIFS('Accounting Data'!C$2:C$93564,'Accounting Data'!E$2:E$93564,{\"90?\",\"91?\",\"92?\",\"93?\",\"94?\"},'Accounting Data'!J$2:J$93564,\"3???\"),SUMIFS('Accounting Data'!C$2:C$93564,'Accounting Data'!E$2:E$93564,{\"90?\",\"91?\",\"92?\",\"93?\",\"94?\"},'Accounting Data'!J$2:J$93564,\"4???\")))","v":0},{"$f":"R45-S45","v":0},0,{"$f":"(SUM(SUMIFS('Accounting Data'!C$2:C$93564,'Accounting Data'!E$2:E$93564,{\"90?\",\"91?\",\"92?\",\"93?\",\"94?\"},'Accounting Data'!J$2:J$93564,\"6???\")))-(SUM(SUMIFS('Accounting Data'!C$2:C$93564,'Accounting Data'!E$2:E$93564,{\"90?\",\"91?\",\"92?\",\"93?\",\"94?\"},'Accounting Data'!J$2:J$93564,\"69??\")))","v":0},{"$f":"D45+E45+F45-H45","v":0},"38.",null,null,null,null,null,null,"38.",{"$f":"-(SUM(SUMIFS('Accounting Data'!C$2:C$93564,'Accounting Data'!E$2:E$93564,{\"90?\",\"91?\",\"92?\",\"93?\",\"94?\"},'Accounting Data'!J$2:J$93564,\"5???\")))","v":0},{"$f":"-(SUM(SUMIFS('Accounting Data'!C$2:C$93564,'Accounting Data'!E$2:E$93564,{\"90?\",\"91?\",\"92?\",\"93?\",\"94?\"},'Accounting Data'!J$2:J$93564,\"69??\")))","v":0},"38."]
["Other ________________",null,"39.",0,{"$f":"-(SUMIFS('Accounting Data'!C$2:C$93564,'Accounting Data'!E$2:E$93564,\"Other\",'Accounting Data'!J$2:J$93564,\"1???\")+SUMIFS('Accounting Data'!C$2:C$93564,'Accounting Data'!E$2:E$93564,\"Other\",'Accounting Data'!J$2:J$93564,\"2???\")+SUMIFS('Accounting Data'!C$2:C$93564,'Accounting Data'!E$2:E$93564,\"Other\",'Accounting Data'!J$2:J$93564,\"3???\")+SUMIFS('Accounting Data'!C$2:C$93564,'Accounting Data'!E$2:E$93564,\"Other\",'Accounting Data'!J$2:J$93564,\"4???\"))","v":0},{"$f":"R46-S46","v":0},0,{"$f":"(SUMIFS('Accounting Data'!C$2:C$93564,'Accounting Data'!E$2:E$93564,\"Other\",'Accounting Data'!J$2:J$93564,\"6???\"))-(SUMIFS('Accounting Data'!C$2:C$93564,'Accounting Data'!E$2:E$93564,\"Other\",'Accounting Data'!J$2:J$93564,\"69??\"))","v":0},{"$f":"D46+E46+F46-H46","v":0},"39.",null,null,null,null,null,null,"39.",{"$f":"-(SUMIFS('Accounting Data'!C$2:C$93564,'Accounting Data'!E$2:E$93564,\"Other\",'Accounting Data'!J$2:J$93564,\"5???\"))","v":0},{"$f":"(SUMIFS('Accounting Data'!C$2:C$93564,'Accounting Data'!E$2:E$93564,\"Other\",'Accounting Data'!J$2:J$93564,\"69??\"))","v":0},"39."]
["INTERNAL SERVICE FUNDS 950-989"]
["9__ Self Insurance",null,"1.",0,0,{"$f":"R48-S48","v":0},{"$f":"[1]!F9__SelfInsBudgFY","v":0},0,{"$f":"D48+E48+F48-H48","v":0},"1.",null,null,null,null,null,null,"1.",0,0,"1."]
["955 Intergovernmental Agreements",null,"2.",0,0,{"$f":"R49-S49","v":0},{"$f":"[1]!F955BudgFY","v":0},0,{"$f":"D49+E49+F49-H49","v":0},"2.",null,null,null,null,null,null,"2.",0,0,"2."]
["9__ OPEB",null,"3.",0,0,{"$f":"R50-S50","v":0},{"$f":"[1]!F9__OPEBBudgFY","v":0},0,{"$f":"D50+E50+F50-H50","v":0},"3.",null,null,null,null,null,null,"3.",0,0,"3."]
[9,null,"4.",0,0,{"$f":"R51-S51","v":0},{"$f":"[1]!F9__OtherBudgFY","v":0},0,{"$f":"D51+E51+F51-H51","v":0},"4.",null,null,null,null,null,null,"4.",0,0,"4."]
[]
[]
["(1) Actual Revenues and Actual Expenditures should agree with Supplement, Fund 071—line 13 and Fund 072—line 26."]

{"sheet":"Page 7","index":7,"n_rows":78,"n_cols":27,"rows_kept":78,"cut":false,"hidden":false,"merged":[[44,1,45,4],[0,8,0,9],[8,8,9,11],[0,2,0,5],[37,1,37,4],[36,1,36,4],[4,17,5,17],[4,16,5,16],[4,15,5,15],[17,13,20,13],[49,8,50,12],[42,8,42,14],[43,14,48,15],[25,8,29,16]]}
[null,"DISTRICT NAME",{"$f":"CoverDistrictName","v":"Osborn Elementary School District"},null,null,null,null,"COUNTY",{"$f":"County","v":"Maricopa"},null,null,"CTDS NUMBER",{"$f":"Cover!Q1","v":"070408000"}]
[]
[]
[]
["A.","Bonds and Short-term Debt",null,null,null,null,null,"F.  ","Total salaries and benefits expenditures related to an agreement with Department",null,null,null,null,null,null,null,null,null,null,null,null,null,null,null,null,null,{"$f":"IF(OR(AA25=\"yes\",AA16=\"yes\",AA9=\"yes\",AA7=\"yes\",AA27=\"yes\"),\"yes\",\"\")","v":""}]
[null,"1.  Bonds Outstanding, July 1, 2022",null,null,43200000,"1.",null,null,"of Labor to settle a decision based on the Fair Labor Standards Act",null,null,null,0]
[null,"2.  Bonds issued during FY 2023",null,null,0,"2.",null,null,null,null,null,null,null,null,null,null,null,null,null,null,null,null,null,null,null,null,{"$f":"IF(OR(E6=\"\",E7=\"\",E8=\"\",E11=\"\",E12=\"\"),\"yes\",\"\")","v":""}]
[null,"3.  Bonds retired during FY 2023",null,null,-5300000,"3."]
[null,"4.  Bonds Outstanding, June 30, 2023",null,null,{"$f":"E6+E7+E8","v":37900000},"4.",null,null,"Rewards, Discounts, Incentives, and Other Financial Consideration Received from Credit Card Companies (A.R.S. §35-391)",null,null,null,null,null,null,null,null,null,null,null,null,null,null,null,null,null,{"$f":"IF(OR(M6=\"\",M6=\"$\",M10=\"\",M14=\"\",M14=\"$\",M15=\"\",M15=\"$\",M16=\"\",M16=\"$\",CurrentYearSalary=\"\",F41=\"\",F41=\"$\",F42=\"\",F42=\"$\",F43=\"\",F44=\"\",F45=\"\"),\"yes\",\"\")","v":""}]
[null,null,null,null,null,null,null,"G.  ",null,null,null,null,0]
[null,"5.  Short-term Debt Outstanding, July 1, 2022",null,null,0,"5."]
[null,"6.  Short-term Debt Outstanding, June 30, 2023",null,null,0,"6."]
[null,null,null,null,null,null,null,"H.  ","Cash and Investments held at June 30, 2023"]
["B.","District Assessed Valuation and Other District Information",null,null,null,null,null,null,"1. Sinking funds",null,null,null,0]
[null,"1.  FY 2023 Assessed Valuations and Tax Rates",null,null,null,null,null,null,"2. Bond funds",null,null,null,940458]
[null,"a.   Primary",525071848,"Tax Rate  ",2.0577000000000001,null,null,null,"3. Other funds, except for any employee retirement funds",null,null,null,19710025,null,null,null,null,null,null,null,null,null,null,null,null,null,{"$f":"IF(OR(C16=\"\",C16=\"$\",C17=\"\",C17=\"$\",PrimaryTaxRate=\"\",SecondaryTaxRate=\"\",E18=\"\",E19=\"\",E20=\"\"),\"yes\",\"\")","v":""}]
[null,"b.   Secondary",887923918,"Tax Rate  ",2.1355]
[null,"2.  Number of Schools",null,null,6]
[null,"3.  Actual Days in Session",null,null,180]
[null,"4.  Area of School District (Square Miles) ",null,null,8,null,null,"I.","Average Teacher Salary (A.R.S. §15-903.E)"]
[null,"           (Report this WHETHER OR NOT district changed boundaries in FY 2023)",null,null,null,null,null,null,"1. Average salary of all teachers employed in FY 2023",null,null,null,53180]
[null,null,null,null,null,null,null,null,"2. Average salary of all teachers employed in FY 2022",null,null,null,{"$f":"[2]!CurrentYearSalary","v":49015},null,null,"Check this box if your district has no teachers (transporting districts and some CTEDs)."]
["C.","County Approved Liabilities incurred in excess of ",null,null,null,"Unrestricted",null,null,"3. Increase in average teacher salary from prior year",null,null,null,{"$f":"M21-M22","v":4165}]
[null,"district budget (A.R.S. §15-907)  ",null,null,"M & O","Capital Outlay",null,null,"4. Percentage increase",null,null,null,{"$f":"IF(PriorYearSalary<>0,M23/M22,0)","v":8.5000000000000006E-2}]
[null,"1.  Destruction or damage",null,null,0,0,"1.",null,"Comments on Average Salary Calculation (Optional):",null,null,null,null,null,null,null,null,null,null,null,null,null,null,null,null,null,{"$f":"IF(OR(E25=\"\",E26=\"\",E27=\"\",F25=\"\",F26=\"\",F27=\"\"),\"yes\",\"\")","v":""}]
[null,"2.  Excessive/unexpected legal expenses",null,null,0,0,"2.",null,"Comments on average salary calculation (Optional):   FY23 - All returning teachers received between 2.7% - 9.76% salary increase depending on degree and experience level. The historical percentage increases on the budget worksheet's do not take into account teacher turnover and retirements,  resulting in new hires with less experienced, often first year teachers, with entry level salary costs.  Osborn teachers avg salary has increased by 26% since FY2019.                                                                                                                                                                                                                                                                                    Prior year 2022 average has been adjusted to reflect final FY22 salary costs & final teacher FTEs. "]
[null,"3.  Mitigation or removal of health or safety hazard",null,null,0,0,"3.",null,null,null,null,null,null,null,null,null,null,null,null,null,null,null,null,null,null,null,{"$f":"IF(OR(L34=\"\",L35=\"\",L36=\"\",L37=\"\",L38=\"\",L39=\"\",L40=\"\",L41=\"\",M35=\"\",M36=\"\",M37=\"\",M45=\"\",M46=\"\"),\"yes\",\"\")","v":""}]
[]
["D.","Current Expenditures by Category  "]
[null,"1.  Classroom Instruction excl. Supplies (Function 1000, except line 2 amount)",null,null,null,15191660.939999999]
[null,"2.  Classroom Supplies (Function 1000, Object Code 6600)",null,null,null,738088.93]
[null,"3.  Administration (Functions 2300, 2400, 2500, & 2900)",null,null,null,3271827.53]
[null,"4.  Support Services—Students (Function 2100)",null,null,null,3052018.45,null,"J.","Certified Staff Salaries and FTE (Funds 001-799 excluding 575) ",null,null,"Salaries","FTE",null,null,null,null,null,null,{"$f":"O22=\"X\"","v":false}]
[null,"5.  All Other Support Services & Operations (Functions 2200, 2600, 2700, ",null,null,null,null,null,null,"1. Substitute Teachers (Functions 1000 & 2213)",null,null,398572]
[null,"     3100, & 3400)",null,null,null,10612200.300000001,null,null,"2. Classroom Teacher Base Salaries (Functions 1000 & 3300)",null,null,7345219,140.80000000000001]
[null,"6.  Total Current Expenditures",null,null,null,{"$f":"IF(F30=\"$\",\"$\",SUM(F30:F35))","v":32865796},null,null,"              a. Classroom teachers with fewer than 3 years of experience as defined by A.R.S. §15-941(E)",null,null,2481643,55.8]
[null,"7.  Total Current Expenditures from Federal Funds, excluding those funds \n     intended to replace local tax revenues (e.g., impact aid funds)",null,null,null,8967052,null,null,"              b. Classroom teachers with 3 or more years of experience as defined by A.R.S. §15-941(E)",null,null,4863576,85]
[null,"8.  Total Current Expenditures from State and Local Funds, including those \n     funds intended to replace local tax revenues (e.g., impact aid funds)",null,null,null,{"$f":"F36-F37","v":23898744},null,null,"3. Classroom Teacher Performance Pay (Functions 1000 & 3300)",null,null,322189]
[null,null,null,null,null,null,null,null,"4. Classroom Teacher Payments Not Related to Additional Duties (Function 1000 & 3300)",null,null,385764]
["E. ","Other long-term debt",null,null,null,null,null,null,"5. Classroom Teacher Payments Related to Additional Duties (All Functions)",null,null,862655]
[null,"1. Other Principal (object 6832)",null,null,null,0,null,null,"6. Other Certified Staff (All Functions)",null,null,2674930]
[null,"2. Other Interest (object 6842)",null,null,null,0]
[null,"3. Instructional software subscriptions (more than 12 months) Principal (object 6833)",null,null,null,0,null,null,"7. In FY 2023, did the district pay any of its classroom teachers for prior classroom experience outside of the school district using either of the following"]
[null,"4. Instructional software subscriptions (more than 12 months) Interest (object 6843)",null,null,null,0,null,null,"     two methods:",null,null,null,null,null,{"$f":"IF(M48<>SUM(L34:L35,L38:L41),\"Total certified salaries do not agree with your accounting records. Please verify the amounts.\",\"\")","v":""}]
[null,"5. Did the district enter into any new financed purchase agreements or more than 12-month lease agreements or software subscriptions during the fiscal year? (Yes or No)",null,null,null,"No",null,null,"a. Increasing base salary by granting years of experience on its salary schedule? (Yes or No)",null,null,null,"Yes"]
[null,null,null,null,null,null,null,null,"b. Making payments in addition to their base salary? (Yes or No)",null,null,null,"Yes"]
[]
[null,null,null,null,null,null,null,null,"Total Certified Salary Payments from accounting data",null,null,null,{"$f":"ROUND(SUM(SUMIFS('Accounting Data'!C2:C93564,'Accounting Data'!E2:E93564,{\"0??\",\"1??\",\"2??\",\"3??\",\"4??\",\"5??\",\"6??\",\"7??\",\"COVID\"},'Accounting Data'!J2:J93564,\"610?\"),SUMIFS('Accounting Data'!C2:C93564,'Accounting Data'!E2:E93564,{\"0??\",\"1??\",\"2??\",\"3??\",\"4??\",\"5??\",\"6??\",\"7??\",\"COVID\"},'Accounting Data'!J2:J93564,\"611?\"),SUMIFS('Accounting Data'!C2:C93564,'Accounting Data'!E2:E93564,{\"0??\",\"1??\",\"2??\",\"3??\",\"4??\",\"5??\",\"6??\",\"7??\",\"COVID\"},'Accounting Data'!J2:J93564,\"612?\"),SUMIFS('Accounting Data'!C2:C93564,'Accounting Data'!E2:E93564,{\"0??\",\"1??\",\"2??\",\"3??\",\"4??\",\"5??\",\"6??\",\"7??\",\"COVID\"},'Accounting Data'!J2:J93564,\"613?\"),SUMIFS('Accounting Data'!C2:C93564,'Accounting Data'!E2:E93564,{\"0??\",\"1??\",\"2??\",\"3??\",\"4??\",\"5??\",\"6??\",\"7??\",\"COVID\"},'Accounting Data'!J2:J93564,\"614?\"))-SUM(SUMIFS('Accounting Data'!C2:C93564,'Accounting Data'!E2:E93564,\"575\",'Accounting Data'!J2:J93564,{\"610?\",\"611?\",\"612?\",\"613?\",\"614?\"})),0)","v":11989329}]
[]
[null,null,null,null,null,null,null,null,"(1) This form mirrors changes to the certified salary expenditure object code range (6100 to 6149) added to the FY 2024 USFR Chart of Accounts that will be required starting in FY 2025."]
[]
[]
[]
[]
[]
[]
[]
[]
[]
[]
[]
[]
[]
[]
[]
[]
[]
[]
[]
[]
[]
[]
[]
[]
[]
[]
[]
[null,null,null,null,null,null,null,null,"      "]

{"sheet":"Page 8","index":8,"n_rows":49,"n_cols":27,"rows_kept":49,"cut":false,"hidden":false,"merged":[[28,13,28,16],[0,2,0,5],[0,7,0,12],[3,3,3,16],[33,8,33,12],[25,0,26,2],[37,8,37,12],[38,9,38,12],[48,8,49,16],[31,8,31,12],[32,9,32,12],[35,8,35,12],[36,9,36,12],[34,9,34,12]]}
[null,"DISTRICT NAME",{"$f":"CoverDistrictName","v":"Osborn Elementary School District"},null,null,null,"COUNTY",{"$f":"County","v":"Maricopa"},null,null,null,null,null,null,null,"CTDS NUMBER",{"$f":"Cover!Q1","v":"070408000"}]
[]
["A. ENROLLMENT OF GIFTED PUPILS BY GRADE (A.R.S. §15-779.02)"]
["    Areas of Identification [A.R.S. §15-203(A)(15)]",null,null,"GRADE"]
[null,null,null,"K",1,2,3,4,5,6,7,8,9,10,11,12,"TOTAL",null,null,null,null,null,null,null,null,null,{"$f":"IF(OR(AA6=\"yes\",AA7=\"yes\",AA8=\"yes\",AA16=\"yes\",AA17=\"yes\",AA33=\"yes\"),\"yes\",\"\")","v":""}]
[" 1. Quantitative Reasoning",null,null,0,2,4,5,2,4,2,1,4,0,0,0,0,{"$f":"SUM(D6:P6)","v":24},"1.",null,null,null,null,null,null,null,null,{"$f":"IF(OR(D6=\"\",E6=\"\",F6=\"\",G6=\"\",H6=\"\",I6=\"\",J6=\"\",K6=\"\",L6=\"\",M6=\"\",N6=\"\",O6=\"\",P6=\"\"),\"yes\",\"\")","v":""}]
[" 2. Verbal Reasoning",null,null,1,0,1,2,3,4,0,0,5,0,0,0,0,{"$f":"SUM(D7:P7)","v":16},"2.",null,null,null,null,null,null,null,null,{"$f":"IF(OR(D7=\"\",E7=\"\",F7=\"\",G7=\"\",H7=\"\",I7=\"\",J7=\"\",K7=\"\",L7=\"\",M7=\"\",N7=\"\",O7=\"\",P7=\"\"),\"yes\",\"\")","v":""}]
[" 3. Nonverbal Reasoning",null,null,2,1,1,7,5,3,5,1,6,0,0,0,0,{"$f":"SUM(D8:P8)","v":31},"3.",null,null,null,null,null,null,null,null,{"$f":"IF(OR(D8=\"\",E8=\"\",F8=\"\",G8=\"\",H8=\"\",I8=\"\",J8=\"\",K8=\"\",L8=\"\",M8=\"\",N8=\"\",O8=\"\",P8=\"\"),\"yes\",\"\")","v":""}]
[" 4. Total Duplicated Enrollment (lines 1-3)",null,null,{"$f":"SUM(D6:D8)","v":3},{"$f":"SUM(E6:E8)","v":3},6,14,10,11,7,2,{"$f":"SUM(L6:L8)","v":15},0,0,0,0,71,"4."]
[]
[]
["B. M&O SPECIAL EDUCATION PROGRAMS BY TYPE ",null,null,null,null,null,null,null,"         C.  MAINTENANCE AND OPERATION FUND EXPENDITURES FOR",null,null,null,null,null,null,null,null,null," "]
["   (A.R.S. § 15-761) ",null,null,"PROGRAM","PROGRAM",null,null,null,"               GIFTED PUPILS (ELEMENTARY, SECONDARY, AND TOTAL)   "]
[null,null,null,"200 & 300","200 & 300",null,null,null,null,"Actual Expenditures for all Gifted Programs:"]
[null,null,null,"BUDGET","ACTUAL",null,null,null,null,null,"K-8     $",491365]
[" 1. Total All Disability Classifications",null,null,{"$f":"[1]!F001P200Subtotal","v":5159608},3921563,"1.",null,null,null,null,"9-12    $",0,null,null,null,null,null,null,null,null,null,null,null,null,null,null,{"$f":"IF(OR(E16=\"\",E17=\"\",E18=\"\",E19=\"\",E20=\"\",E21=\"\",E22=\"\",E23=\"\",E27=\"\"),\"yes\",\"\")","v":""}]
[" 2. Gifted Education ",null,null,{"$f":"[1]!SPEDGiftedEdBudgFY","v":300000},427727,"2.",null,null,null,null,"       Total    $",{"$f":"SUM(L15:L16)","v":491365},null,null,null,null,null,null,null,null,null,null,null,null,null,null,{"$f":"IF(OR(L15=\"\",L16=\"\",O21=\"\",O22=\"\",N26=\"\"),\"yes\",\"\")","v":""}]
[" 3. Remedial Education",null,null,{"$f":"[1]!SPEDRemedialEdBudgFY","v":0},7,"3."]
[" 4. ELL Incremental Costs",null,null,{"$f":"[1]!SPEDELLIncCostBudgFY","v":0},0,"4.",null,null,"         D.  EXPENDITURES FOR AUDIT SERVICES"]
[" 5. ELL Compensatory Instruction",null,null,{"$f":"[1]!SPEDELLCompInstrBudgFY","v":0},0,"5.",null,null,null,null,null,null,null,"BUDGET","ACTUAL"]
[" 6. Vocational and Technological Education (non-CTED)",null,null,{"$f":"[1]!SPEDVocTechEdBudgFY","v":0},0,"6.",null,null,"1.","Nonfederal Audit Expenditures - M&O Fund",null,null,"6350",{"$f":"[1]!F001AuditBudg6350","v":30000},32000,"1."]
[" 7. Career Education",null,null,{"$f":"[1]!SPEDCareerEdBudgFY","v":0},0,"7.",null,null,"2.","Federal Audit Expenditures - All Funds ",null,null,6330,{"$f":"[1]!AllFundAuditBudg6330","v":0},0,"2."]
[" 8. Career Technical Education (CTED programs in 300 range)",null,null,{"$f":"[1]!JTEDBudgFY","v":0},0,"8."]
[" 9. Total (lines 1-8) ",null,null,{"$f":"SUM(D16:D23)","v":5459608},{"$f":"SUM(E16:E23)","v":4349297},"9."]
[null,null,null,null,null,null,null,null,"        E. MAINTENANCE AND OPERATION FUND EXPENDITURES FOR PERFORMANCE PAY (A.R.S. §15-920)"]
["10. IEP required pupil transportation costs\n      coded within Program 400",null,null,null,null,null,null,null,"                  Actual Expenditures made in FY 2023",null,null,null,"$",0]
[null,null,null,{"$f":"[1]!IEPTransportCosts","v":150000},145483.74,"10."]
[]
[null,null,null,null,null,null,null,null,"        F.  TUITION ",null,null,null,null,"Tuition Expenditures"]
[]
[null,null,null,null,null,null,null,null,"             Type 03 Districts Only",null,null,null,null,"Operations","Capital","Debt","Total"]
[null,null,null,null,null,null,null,null,"                1. Tuition to Other Arizona Districts "]
[null,null,null,null,null,null,null,null,null,"for high school students only (objects 6561 & 6565) ",null,null,null,0,0,0,{"$f":"SUM(N33:P33)","v":0},"1.",null,null,null,null,null,null,null,null,{"$f":"IF(OR(N33=\"\",O33=\"\",P33=\"\",N35=\"\",O35=\"\",N37=\"\",O37=\"\",P37=\"\",N39=\"\",O39=\"\",N41=\"\",O41=\"\",N42=\"\",O42=\"\",N44=\"\",O44=\"\",N45=\"\",O45=\"\",N46=\"\",O46=\"\"),\"yes\",\"\")","v":""}]
[null,null,null,null,null,null,null,null,"                2. Tuition to Other Arizona Districts"]
[null,null,null,null,null,null,null,null,null,"for all other students (objects 6561)",null,null,null,0,0,null,{"$f":"SUM(N35:O35)","v":0},"2."]
[null,null,null,null,null,null,null,null,"                3. Tuition to Out-of-State Districts "]
[null,null,null,null,null,null,null,null,null,"for high school students only (objects 6562 & 6565) ",null,null,null,0,0,0,{"$f":"SUM(N37:P37)","v":0},"3."]
[null,null,null,null,null,null,null,null,"                4. Tuition to Out-of-State Districts"]
[null,null,null,null,null,null,null,null,null,"for all other students (objects 6562)",null,null,null,0,0,null,{"$f":"SUM(N39:O39)","v":0},"4."]
[null,null,null,null,null,null,null,null,"             Non-Type 03 Districts"]
[null,null,null,null,null,null,null,null,"                5. Tuition to Other Arizona Districts (object 6561)",null,null,null,null,0,0,null,{"$f":"SUM(N41:O41)","v":0},"5."]
[null,null,null,null,null,null,null,null,"                6. Tuition to Out-of-State Districts (object 6562)",null,null,null,null,0,0,null,{"$f":"SUM(N42:O42)","v":0},"6."]
[null,null,null,null,null,null,null,null,"             All Districts"]
[null,null,null,null,null,null,null,null,"                7. Tuition to Private Schools (object 6563)",null,null,null,null,404115.7,0,null,{"$f":"SUM(N44:O44)","v":404116},"7."]
[null,null,null,null,null,null,null,null,"                8. Tuition to Ed Services\\Coops\\IGAs (object 6564)",null,null,null,null,0,0,null,{"$f":"SUM(N45:O45)","v":0},"8."]
[null,null,null,null,null,null,null,null,"                9. Tuition Other (object 6569) (1)",null,null,null,null,78113.22,0,null,{"$f":"SUM(N46:O46)","v":78113},"9."]
[null,null,null,null,null,null,null,null,"              10. Total (lines 1-9)",null,null,null,null,{"$f":"N33+N35+N37+N39+SUM(N41:N42)+SUM(N44:N46)","v":482229},{"$f":"O33+O35+O37+O39+SUM(O41:O42)+SUM(O44:O46)","v":0},{"$f":"P33+P37","v":0},{"$f":"Q33+Q35+Q37+Q39++SUM(Q41:Q42)+SUM(Q44:Q46)","v":482229},"10."]
[]
[null,null,null,null,null,null,null,null,"(1) Tuition paid to the State and other governmental organizations, such as the Arizona School for the Deaf and Blind, as reimbursement for providing specialized instructional services to students residing within the boundaries of the paying district."]

{"sheet":"Page 9","index":9,"n_rows":65,"n_cols":112,"rows_kept":65,"cut":false,"hidden":false,"merged":[[57,0,57,3],[52,0,52,2],[57,8,57,10],[51,0,51,2],[53,32,53,33],[50,25,50,33],[56,0,56,3],[6,25,6,31],[53,26,53,27],[53,28,53,29],[53,30,53,31],[27,25,27,37],[46,26,47,26],[46,27,47,27],[46,29,46,31],[51,26,51,27],[7,26,8,26],[51,28,51,29],[51,30,51,31],[51,32,51,33],[53,8,53,11],[47,8,47,11],[48,8,48,11],[55,0,55,3],[5,106,5,111],[25,84,26,84],[25,85,26,85],[11,88,12,88],[11,82,12,82],[25,83,26,83],[25,88,26,88],[11,87,12,87],[25,87,26,87],[10,81,10,87],[11,83,12,83],[7,98,8,98],[15,87,15,89],[19,81,19,95],[20,83,20,85],[20,87,20,89],[20,90,20,92],[20,93,20,95],[6,106,6,111],[25,86,26,86],[24,81,24,88],[15,93,15,95],[7,97,8,97],[6,97,6,103],[8,96,9,96],[25,82,26,82],[7,58,8,58],[11,81,12,81],[7,102,8,102],[7,103,8,103],[11,86,12,86],[7,77,7,79],[2,0,2,13],[18,15,23,15],[6,18,8,18],[8,53,8,55],[6,57,6,63],[7,57,8,57],[6,73,6,79],[11,85,12,85],[7,69,7,71],[6,65,6,71],[7,74,8,74],[7,75,8,75],[11,84,12,84],[15,90,15,92],[7,59,8,59],[7,60,8,60],[0,1,0,4],[4,2,4,11],[0,7,0,10],[31,3,33,3],[31,4,33,4],[29,3,30,4],[2,25,2,44],[7,29,7,31],[6,33,6,39],[7,34,8,34],[9,19,12,19],[7,41,7,55],[7,37,7,39],[15,21,17,21],[15,22,17,22],[16,19,17,19],[7,35,8,35],[50,0,50,2],[31,6,33,6],[31,5,33,5],[8,43,8,45],[8,47,8,49],[7,27,8,27],[46,0,46,2],[47,0,47,2],[45,25,45,31],[49,8,49,11],[59,8,59,11],[61,8,61,11],[60,8,60,11],[10,18,12,18],[30,16,31,16],[54,8,54,11],[52,8,52,11],[55,8,55,12],[7,112,8,112],[7,106,8,106],[7,107,8,107],[7,108,8,108],[7,109,8,109],[7,110,8,110],[7,111,8,111],[7,101,8,101],[7,99,8,99],[7,100,8,100],[7,61,7,63],[15,83,15,85],[7,67,8,67],[8,50,8,52],[7,66,8,66],[14,81,14,95]]}
["DISTRICT NAME",{"$f":"CoverDistrictName","v":"Osborn Elementary School District"},null,null,null,null,"COUNTY",{"$f":"County","v":"Maricopa"},null,null,null,null,"CTDS NUMBER",{"$f":"Cover!Q1","v":"070408000"}]
[]
["ADDITIONAL INFORMATION FOR NATIONAL PUBLIC EDUCATION FINANCIAL SURVEY (NPEFS) REPORTING",null,null,null,null,null,null,null,null,null,null,null,null,null,null,null,null,null,null,null,null,null,null,null,null,"The following tables are outside the printable range of the AFR, but are used in the formulas in the NPEFS table to pull amounts from the accounting data based on the fund, program, function and object criteria indicated on the tables."]
[]
[null,null,"Programs 100-630",null,null,null,null,null,null,null,null,null,"Programs 700-900"]
[null,null,null,null,"Purchased",null,null,null,"Judgments",null,null,"Miscellaneous and ",null,null,null,null,null,null,null,null,null,null,null,null,null,null,null,null,null,null,null,null,null,null,null,null,null,null,null,null,null,null,null,null,null,null,null,null,null,null,null,null,null,null,null,null,null,null,null,null,null,null,null,null,null,null,null,null,null,null,null,null,null,null,null,null,null,null,null,null,null,null,null,null,null,null,null,null,null,null,null,null,null,null,null,null,null,null,null,null,null,null,null,null,null,null,"Programs 700-999"]
[null,null,null,"Employee","Services",null,null,null,"Against a","Redemption of","Interest","Charges for","All",null,null,null,null,null,"Food service supplies expenses minus commodities",null,null,null,null,null,null,"Object 6100",null,null,null,null,null,null,null,"Object 6200",null,null,null,null,null,null,null,null,null,null,null,null,null,null,null,null,null,null,null,null,null,null,null,"Object 6600",null,null,null,null,null,null,null,"Object 6700",null,null,null,null,null,null,null,"Object 6810",null,null,null,null,null,null,null,null,null,null,null,null,null,null,null,null,null,null,null,null,null,null,null,"Object 6890",null,null,null,null,null,null,null,null,"All object codes "]
["Funds 001-799 (excluding 575) ",null,"Salaries","Benefits","6300, 6400,","Supplies","Property","Dues and Fees","District","Principal","6841, 6842,","District Services","Object Codes","Total",null,null,null,null,null,null,null,null,null,null,null,null,"All Funds ","Excluded Funds\n575, 800-999","Programs 700-900","Programs 700-900 Excluded Funds (to add back to avoid double exclusion)",null,null,null,null,"All Funds ","Excluded Funds \n575, 800-999","Programs 700-900","Programs 700-900 Excluded Funds (to add back to avoid double exclusion)",null,null,null,"Objects 6300, 6400 and 6500",null,null,null,null,null,null,null,null,null,null,null,null,null,null,null,"Function","All funds ","Excluded Funds \n575,800-999","Programs 700-900\nAll Funds","Programs 700-900 Excluded Funds (to add back to avoid double exclusion)",null,null,null,null,"All funds ","Funds 575,800-999","Programs 700-900","Programs 700-900 Excluded Funds (to add back to avoid double exclusion)",null,null,null,null,"All funds ","Funds 575,800-999","Programs 700-900","Programs 700-900 Excluded Funds (to add back to avoid double exclusion)",null,null,null,null,null,null,null,null,null,null,null,null,null,null,null,null,null,null,null,"Function","All funds ","Funds 575,800-999","Programs 700-900","Programs 700-900 Fund 575","Programs 700-900 Funds 800-899","Programs 700-900 Funds 900-999",null,null,"All funds and objects, programs 700-900","All funds and object 6900, programs 700-900","Funds 575 programs 700-900, and all objects.","Funds 800-999, programs 700-900, and all objects ","Funds 575, programs 700-900, and object 6900","Funds 800-999, programs 700-900, and object 6900"]
[null,null,6100,6200,6500,6600,6700,6810,6820,"6831, 6832, 6833","6843, 6850","6885, 6890","(excluding 6900)",null,null,null,null,null,null,null,null,null,null,null,null,"Function",null,null,"All Funds","Fund 575 ","Funds 800-899","Funds 900-999",null,"Function",null,null,"All Funds","Fund 575 ","Funds 800-899","Funds 900-999",null,"Function","All funds","Excluded Funds 575, 800-999",null,null,"Programs 700-900","Programs 700-900, Funds 575 ",null,null,"Programs 700-900, Funds 800-899",null,null,"Programs 700-900, Funds 900-999",null,null,null,null,null,null,null,"Fund 575","Funds 800-899","Funds 900-999",null,"Function",null,null,"All Funds","Fund 575","Funds 800-899","Funds 900-999",null,"Function",null,null,"All Funds","Fund 575","Funds 800-899","Funds 900-999",null,null,null,null,null,null,null,null,null,null,null,null,null,null,null,null,null,null,null,null,null,null,null,null,null,"Function"]
["1000 Instruction","1.",{"$f":"(AA10-AB10-AC10)+(AD10+AE10+AF10)","v":10749979},{"$f":"(AI10-AJ10-AK10)+(AL10+AM10+AN10)","v":3149090},{"$f":"(AQ10-AR10-AS10-AT10-AU10)+(AV10+AW10+AX10+AY10+AZ10+BA10+BB10+BC10+BD10)","v":1288254},{"$f":"(BG10-BH10-BI10)+(BJ10+BK10+BL10)","v":780048},{"$f":"(BO10-BP10-BQ10)+(BR10+BS10+BT10)","v":591850},{"$f":"(BW10-BX10-BY10)+(BZ10+CA10+CB10)","v":4475},null,null,null,{"$f":"(CU10-CV10-CW10)+(CX10+CY10+CZ10)","v":19778},{"$f":"(DC10-DD10)-((DE10+DF10)-(DG10+DH10))","v":0},{"$f":"SUM(C10:M10)","v":16583474},"1.",null,null,null,{"$f":"F20-'[4]Food Service AFR'!$D$13","v":748073},"Amount used for\nfood service allocation\n(lesser of restricted Fund 510 federal revenue or cell S14)",null,null,null,null,null,1000,{"$f":"ROUND(SUMIFS('Accounting Data'!C2:C93564,'Accounting Data'!I2:I93564,\"1???\",'Accounting Data'!J2:J93564,\"61??\"),0)","v":10749979},{"$f":"ROUND(SUMIFS('Accounting Data'!C2:C93564,'Accounting Data'!E2:E93564,\"575\",'Accounting Data'!I2:I93564,\"1???\",'Accounting Data'!J2:J93564,\"61??\")+SUMIFS('Accounting Data'!C2:C93564,'Accounting Data'!E2:E93564,\"8??\",'Accounting Data'!I2:I93564,\"1???\",'Accounting Data'!J2:J93564,\"61??\")+SUMIFS('Accounting Data'!C2:C93564,'Accounting Data'!E2:E93564,\"9??\",'Accounting Data'!I2:I93564,\"1???\",'Accounting Data'!J2:J93564,\"61??\"),0)","v":0},{"$f":"ROUND(SUMIFS('Accounting Data'!C2:C93564,'Accounting Data'!H2:H93564,\"7??\",'Accounting Data'!I2:I93564,\"1???\",'Accounting Data'!J2:J93564,\"61??\")+SUMIFS('Accounting Data'!C2:C93564,'Accounting Data'!H2:H93564,\"8??\",'Accounting Data'!I2:I93564,\"1???\",'Accounting Data'!J2:J93564,\"61??\")+SUMIFS('Accounting Data'!C2:C93564,'Accounting Data'!H2:H93564,\"9??\",'Accounting Data'!I2:I93564,\"1???\",'Accounting Data'!J2:J93564,\"61??\"),0)","v":0},{"$f":"ROUND(SUMIFS('Accounting Data'!C2:C93564,'Accounting Data'!E2:E93564,\"575\",'Accounting Data'!H2:H93564,\"7??\",'Accounting Data'!I2:I93564,\"1???\",'Accounting Data'!J2:J93564,\"61??\")+SUMIFS('Accounting Data'!C2:C93564,'Accounting Data'!E2:E93564,\"575\",'Accounting Data'!H2:H93564,\"8??\",'Accounting Data'!I2:I93564,\"1???\",'Accounting Data'!J2:J93564,\"61??\")+SUMIFS('Accounting Data'!C2:C93564,'Accounting Data'!E2:E93564,\"575\",'Accounting Data'!H2:H93564,\"9??\",'Accounting Data'!I2:I93564,\"1???\",'Accounting Data'!J2:J93564,\"61??\"),0)","v":0},{"$f":"ROUND(SUMIFS('Accounting Data'!C2:C93564,'Accounting Data'!E2:E93564,\"8??\",'Accounting Data'!H2:H93564,\"7??\",'Accounting Data'!I2:I93564,\"1???\",'Accounting Data'!J2:J93564,\"61??\")+SUMIFS('Accounting Data'!C2:C93564,'Accounting Data'!E2:E93564,\"8??\",'Accounting Data'!H2:H93564,\"8??\",'Accounting Data'!I2:I93564,\"1???\",'Accounting Data'!J2:J93564,\"61??\")+SUMIFS('Accounting Data'!C2:C93564,'Accounting Data'!E2:E93564,\"8??\",'Accounting Data'!H2:H93564,\"9??\",'Accounting Data'!I2:I93564,\"1???\",'Accounting Data'!J2:J93564,\"61??\"),0)","v":0},{"$f":"ROUND(SUMIFS('Accounting Data'!C2:C93564,'Accounting Data'!E2:E93564,\"9??\",'Accounting Data'!H2:H93564,\"7??\",'Accounting Data'!I2:I93564,\"1???\",'Accounting Data'!J2:J93564,\"61??\")+SUMIFS('Accounting Data'!C2:C93564,'Accounting Data'!E2:E93564,\"9??\",'Accounting Data'!H2:H93564,\"8??\",'Accounting Data'!I2:I93564,\"1???\",'Accounting Data'!J2:J93564,\"61??\")+SUMIFS('Accounting Data'!C2:C93564,'Accounting Data'!E2:E93564,\"9??\",'Accounting Data'!H2:H93564,\"9??\",'Accounting Data'!I2:I93564,\"1???\",'Accounting Data'!J2:J93564,\"61??\"),0)","v":0},null,1000,{"$f":"SUMIFS('Accounting Data'!C2:C93564,'Accounting Data'!I2:I93564,\"1???\",'Accounting Data'!J2:J93564,\"62??\")","v":3149090},{"$f":"SUMIFS('Accounting Data'!C2:C93564,'Accounting Data'!E2:E93564,\"575\",'Accounting Data'!I2:I93564,\"1???\",'Accounting Data'!J2:J93564,\"62??\")+SUMIFS('Accounting Data'!C2:C93564,'Accounting Data'!E2:E93564,\"8??\",'Accounting Data'!I2:I93564,\"1???\",'Accounting Data'!J2:J93564,\"62??\")+SUMIFS('Accounting Data'!C2:C93564,'Accounting Data'!E2:E93564,\"9??\",'Accounting Data'!I2:I93564,\"1???\",'Accounting Data'!J2:J93564,\"62??\")","v":0},{"$f":"SUMIFS('Accounting Data'!C2:C93564,'Accounting Data'!H2:H93564,\"7??\",'Accounting Data'!I2:I93564,\"1???\",'Accounting Data'!J2:J93564,\"62??\")+SUMIFS('Accounting Data'!C2:C93564,'Accounting Data'!H2:H93564,\"8??\",'Accounting Data'!I2:I93564,\"1???\",'Accounting Data'!J2:J93564,\"62??\")+SUMIFS('Accounting Data'!C2:C93564,'Accounting Data'!H2:H93564,\"9??\",'Accounting Data'!I2:I93564,\"1???\",'Accounting Data'!J2:J93564,\"62??\")","v":0},{"$f":"SUMIFS('Accounting Data'!C2:C93564,'Accounting Data'!E2:E93564,\"575\",'Accounting Data'!H2:H93564,\"7??\",'Accounting Data'!I2:I93564,\"1???\",'Accounting Data'!J2:J93564,\"62??\")+SUMIFS('Accounting Data'!C2:C93564,'Accounting Data'!E2:E93564,\"575\",'Accounting Data'!H2:H93564,\"8??\",'Accounting Data'!I2:I93564,\"1???\",'Accounting Data'!J2:J93564,\"62??\")+SUMIFS('Accounting Data'!C2:C93564,'Accounting Data'!E2:E93564,\"575\",'Accounting Data'!H2:H93564,\"9??\",'Accounting Data'!I2:I93564,\"1???\",'Accounting Data'!J2:J93564,\"62??\")","v":0},{"$f":"SUMIFS('Accounting Data'!C2:C93564,'Accounting Data'!E2:E93564,\"8??\",'Accounting Data'!H2:H93564,\"7??\",'Accounting Data'!I2:I93564,\"1???\",'Accounting Data'!J2:J93564,\"62??\")+SUMIFS('Accounting Data'!C2:C93564,'Accounting Data'!E2:E93564,\"8??\",'Accounting Data'!H2:H93564,\"8??\",'Accounting Data'!I2:I93564,\"1???\",'Accounting Data'!J2:J93564,\"62??\")+SUMIFS('Accounting Data'!C2:C93564,'Accounting Data'!E2:E93564,\"8??\",'Accounting Data'!H2:H93564,\"9??\",'Accounting Data'!I2:I93564,\"1???\",'Accounting Data'!J2:J93564,\"62??\")","v":0},{"$f":"SUMIFS('Accounting Data'!C2:C93564,'Accounting Data'!E2:E93564,\"9??\",'Accounting Data'!H2:H93564,\"7??\",'Accounting Data'!I2:I93564,\"1???\",'Accounting Data'!J2:J93564,\"62??\")+SUMIFS('Accounting Data'!C2:C93564,'Accounting Data'!E2:E93564,\"9??\",'Accounting Data'!H2:H93564,\"8??\",'Accounting Data'!I2:I93564,\"1???\",'Accounting Data'!J2:J93564,\"62??\")+SUMIFS('Accounting Data'!C2:C93564,'Accounting Data'!E2:E93564,\"9??\",'Accounting Data'!H2:H93564,\"9??\",'Accounting Data'!I2:I93564,\"1???\",'Accounting Data'!J2:J93564,\"62??\")","v":0},null,1000,{"$f":"SUMIFS('Accounting Data'!C2:C93564,'Accounting Data'!I2:I93564,\"1???\",'Accounting Data'!J2:J93564,\"63??\")+SUMIFS('Accounting Data'!C2:C93564,'Accounting Data'!I2:I93564,\"1???\",'Accounting Data'!J2:J93564,\"64??\")+SUMIFS('Accounting Data'!C2:C93564,'Accounting Data'!I2:I93564,\"1???\",'Accounting Data'!J2:J93564,\"65??\")","v":1288254},{"$f":"SUMIFS('Accounting Data'!C2:C93564,'Accounting Data'!E2:E93564,\"575\",'Accounting Data'!I2:I93564,\"1???\",'Accounting Data'!J2:J93564,\"63??\")+SUMIFS('Accounting Data'!C2:C93564,'Accounting Data'!E2:E93564,\"8??\",'Accounting Data'!I2:I93564,\"1???\",'Accounting Data'!J2:J93564,\"63??\")+SUMIFS('Accounting Data'!C2:C93564,'Accounting Data'!E2:E93564,\"9??\",'Accounting Data'!I2:I93564,\"1???\",'Accounting Data'!J2:J93564,\"63??\")","v":0},{"$f":"SUMIFS('Accounting Data'!C2:C93564,'Accounting Data'!E2:E93564,\"575\",'Accounting Data'!I2:I93564,\"1???\",'Accounting Data'!J2:J93564,\"64??\")+SUMIFS('Accounting Data'!C2:C93564,'Accounting Data'!E2:E93564,\"8??\",'Accounting Data'!I2:I93564,\"1???\",'Accounting Data'!J2:J93564,\"64??\")+SUMIFS('Accounting Data'!C2:C93564,'Accounting Data'!E2:E93564,\"9??\",'Accounting Data'!I2:I93564,\"1???\",'Accounting Data'!J2:J93564,\"64??\")","v":0},{"$f":"SUMIFS('Accounting Data'!C2:C93564,'Accounting Data'!E2:E93564,\"575\",'Accounting Data'!I2:I93564,\"1???\",'Accounting Data'!J2:J93564,\"65??\")+SUMIFS('Accounting Data'!C2:C93564,'Accounting Data'!E2:E93564,\"8??\",'Accounting Data'!I2:I93564,\"1???\",'Accounting Data'!J2:J93564,\"65??\")+SUMIFS('Accounting Data'!C2:C93564,'Accounting Data'!E2:E93564,\"9??\",'Accounting Data'!I2:I93564,\"1???\",'Accounting Data'!J2:J93564,\"65??\")","v":0},{"$f":"SUMIFS('Accounting Data'!C2:C93564,'Accounting Data'!H2:H93564,\"7??\",'Accounting Data'!I2:I93564,\"1???\",'Accounting Data'!J2:J93564,\"63??\")+SUMIFS('Accounting Data'!C2:C93564,'Accounting Data'!H2:H93564,\"8??\",'Accounting Data'!I2:I93564,\"1???\",'Accounting Data'!J2:J93564,\"63??\")+SUMIFS('Accounting Data'!C2:C93564,'Accounting Data'!H2:H93564,\"9??\",'Accounting Data'!I2:I93564,\"1???\",'Accounting Data'!J2:J93564,\"63??\")+SUMIFS('Accounting Data'!C2:C93564,'Accounting Data'!H2:H93564,\"7??\",'Accounting Data'!I2:I93564,\"1???\",'Accounting Data'!J2:J93564,\"64??\")+SUMIFS('Accounting Data'!C2:C93564,'Accounting Data'!H2:H93564,\"8??\",'Accounting Data'!I2:I93564,\"1???\",'Accounting Data'!J2:J93564,\"64??\")+SUMIFS('Accounting Data'!C2:C93564,'Accounting Data'!H2:H93564,\"9??\",'Accounting Data'!I2:I93564,\"1???\",'Accounting Data'!J2:J93564,\"64??\")+SUMIFS('Accounting Data'!C2:C93564,'Accounting Data'!H2:H93564,\"7??\",'Accounting Data'!I2:I93564,\"1???\",'Accounting Data'!J2:J93564,\"65??\")+SUMIFS('Accounting Data'!C2:C93564,'Accounting Data'!H2:H93564,\"8??\",'Accounting Data'!I2:I93564,\"1???\",'Accounting Data'!J2:J93564,\"65??\")+SUMIFS('Accounting Data'!C2:C93564,'Accounting Data'!H2:H93564,\"9??\",'Accounting Data'!I2:I93564,\"1???\",'Accounting Data'!J2:J93564,\"65??\")","v":0},{"$f":"SUMIFS('Accounting Data'!C2:C93564,'Accounting Data'!E2:E93564,\"575\",'Accounting Data'!H2:H93564,\"7??\",'Accounting Data'!I2:I93564,\"1???\",'Accounting Data'!J2:J93564,\"63??\")+SUMIFS('Accounting Data'!C2:C93564,'Accounting Data'!E2:E93564,\"575\",'Accounting Data'!H2:H93564,\"8??\",'Accounting Data'!I2:I93564,\"1???\",'Accounting Data'!J2:J93564,\"63??\")+SUMIFS('Accounting Data'!C2:C93564,'Accounting Data'!E2:E93564,\"575\",'Accounting Data'!H2:H93564,\"9??\",'Accounting Data'!I2:I93564,\"1???\",'Accounting Data'!J2:J93564,\"63??\")","v":0},{"$f":"SUMIFS('Accounting Data'!C2:C93564,'Accounting Data'!E2:E93564,\"575\",'Accounting Data'!H2:H93564,\"7??\",'Accounting Data'!I2:I93564,\"1???\",'Accounting Data'!J2:J93564,\"64??\")+SUMIFS('Accounting Data'!C2:C93564,'Accounting Data'!E2:E93564,\"575\",'Accounting Data'!H2:H93564,\"8??\",'Accounting Data'!I2:I93564,\"1???\",'Accounting Data'!J2:J93564,\"64??\")+SUMIFS('Accounting Data'!C2:C93564,'Accounting Data'!E2:E93564,\"575\",'Accounting Data'!H2:H93564,\"9??\",'Accounting Data'!I2:I93564,\"1???\",'Accounting Data'!J2:J93564,\"64??\")","v":0},{"$f":"SUMIFS('Accounting Data'!C2:C93564,'Accounting Data'!E2:E93564,\"575\",'Accounting Data'!H2:H93564,\"7??\",'Accounting Data'!I2:I93564,\"1???\",'Accounting Data'!J2:J93564,\"65??\")+SUMIFS('Accounting Data'!C2:C93564,'Accounting Data'!E2:E93564,\"575\",'Accounting Data'!H2:H93564,\"8??\",'Accounting Data'!I2:I93564,\"1???\",'Accounting Data'!J2:J93564,\"65??\")+SUMIFS('Accounting Data'!C2:C93564,'Accounting Data'!E2:E93564,\"575\",'Accounting Data'!H2:H93564,\"9??\",'Accounting Data'!I2:I93564,\"1???\",'Accounting Data'!J2:J93564,\"65??\")","v":0},{"$f":"SUMIFS('Accounting Data'!C2:C93564,'Accounting Data'!E2:E93564,\"8??\",'Accounting Data'!H2:H93564,\"7??\",'Accounting Data'!I2:I93564,\"1???\",'Accounting Data'!J2:J93564,\"63??\")+SUMIFS('Accounting Data'!C2:C93564,'Accounting Data'!E2:E93564,\"8??\",'Accounting Data'!H2:H93564,\"8??\",'Accounting Data'!I2:I93564,\"1???\",'Accounting Data'!J2:J93564,\"63??\")+SUMIFS('Accounting Data'!C2:C93564,'Accounting Data'!E2:E93564,\"8??\",'Accounting Data'!H2:H93564,\"9??\",'Accounting Data'!I2:I93564,\"1???\",'Accounting Data'!J2:J93564,\"63??\")","v":0},{"$f":"SUMIFS('Accounting Data'!C2:C93564,'Accounting Data'!E2:E93564,\"8??\",'Accounting Data'!H2:H93564,\"7??\",'Accounting Data'!I2:I93564,\"1???\",'Accounting Data'!J2:J93564,\"64??\")+SUMIFS('Accounting Data'!C2:C93564,'Accounting Data'!E2:E93564,\"8??\",'Accounting Data'!H2:H93564,\"8??\",'Accounting Data'!I2:I93564,\"1???\",'Accounting Data'!J2:J93564,\"64??\")+SUMIFS('Accounting Data'!C2:C93564,'Accounting Data'!E2:E93564,\"8??\",'Accounting Data'!H2:H93564,\"9??\",'Accounting Data'!I2:I93564,\"1???\",'Accounting Data'!J2:J93564,\"64??\")","v":0},{"$f":"SUMIFS('Accounting Data'!C2:C93564,'Accounting Data'!E2:E93564,\"8??\",'Accounting Data'!H2:H93564,\"7??\",'Accounting Data'!I2:I93564,\"1???\",'Accounting Data'!J2:J93564,\"65??\")+SUMIFS('Accounting Data'!C2:C93564,'Accounting Data'!E2:E93564,\"8??\",'Accounting Data'!H2:H93564,\"8??\",'Accounting Data'!I2:I93564,\"1???\",'Accounting Data'!J2:J93564,\"65??\")+SUMIFS('Accounting Data'!C2:C93564,'Accounting Data'!E2:E93564,\"8??\",'Accounting Data'!H2:H93564,\"9??\",'Accounting Data'!I2:I93564,\"1???\",'Accounting Data'!J2:J93564,\"65??\")","v":0},{"$f":"SUMIFS('Accounting Data'!C2:C93564,'Accounting Data'!E2:E93564,\"9??\",'Accounting Data'!H2:H93564,\"7??\",'Accounting Data'!I2:I93564,\"1???\",'Accounting Data'!J2:J93564,\"63??\")+SUMIFS('Accounting Data'!C2:C93564,'Accounting Data'!E2:E93564,\"9??\",'Accounting Data'!H2:H93564,\"8??\",'Accounting Data'!I2:I93564,\"1???\",'Accounting Data'!J2:J93564,\"63??\")+SUMIFS('Accounting Data'!C2:C93564,'Accounting Data'!E2:E93564,\"9??\",'Accounting Data'!H2:H93564,\"9??\",'Accounting Data'!I2:I93564,\"1???\",'Accounting Data'!J2:J93564,\"63??\")","v":0},{"$f":"SUMIFS('Accounting Data'!C2:C93564,'Accounting Data'!E2:E93564,\"9??\",'Accounting Data'!H2:H93564,\"7??\",'Accounting Data'!I2:I93564,\"1???\",'Accounting Data'!J2:J93564,\"64??\")+SUMIFS('Accounting Data'!C2:C93564,'Accounting Data'!E2:E93564,\"9??\",'Accounting Data'!H2:H93564,\"8??\",'Accounting Data'!I2:I93564,\"1???\",'Accounting Data'!J2:J93564,\"64??\")+SUMIFS('Accounting Data'!C2:C93564,'Accounting Data'!E2:E93564,\"9??\",'Accounting Data'!H2:H93564,\"9??\",'Accounting Data'!I2:I93564,\"1???\",'Accounting Data'!J2:J93564,\"64??\")","v":0},{"$f":"SUMIFS('Accounting Data'!C2:C93564,'Accounting Data'!E2:E93564,\"9??\",'Accounting Data'!H2:H93564,\"7??\",'Accounting Data'!I2:I93564,\"1???\",'Accounting Data'!J2:J93564,\"65??\")+SUMIFS('Accounting Data'!C2:C93564,'Accounting Data'!E2:E93564,\"9??\",'Accounting Data'!H2:H93564,\"8??\",'Accounting Data'!I2:I93564,\"1???\",'Accounting Data'!J2:J93564,\"65??\")+SUMIFS('Accounting Data'!C2:C93564,'Accounting Data'!E2:E93564,\"9??\",'Accounting Data'!H2:H93564,\"9??\",'Accounting Data'!I2:I93564,\"1???\",'Accounting Data'!J2:J93564,\"65??\")","v":0},null,1000,{"$f":"SUMIFS('Accounting Data'!C2:C93564,'Accounting Data'!I2:I93564,\"1???\",'Accounting Data'!J2:J93564,\"66??\")","v":780559},{"$f":"SUMIFS('Accounting Data'!$C$2:$C$93564,'Accounting Data'!$E$2:$E$93564,\"575\",'Accounting Data'!$I$2:$I$93564,\"1???\",'Accounting Data'!$J$2:$J$93564,\"66??\")+SUMIFS('Accounting Data'!$C$2:$C$93564,'Accounting Data'!$E$2:$E$93564,\"8??\",'Accounting Data'!$I$2:$I$93564,\"1???\",'Accounting Data'!$J$2:$J$93564,\"66??\")+SUMIFS('Accounting Data'!$C$2:$C$93564,'Accounting Data'!$E$2:$E$93564,\"9??\",'Accounting Data'!$I$2:$I$93564,\"1???\",'Accounting Data'!$J$2:$J$93564,\"66??\")","v":511},{"$f":"SUMIFS('Accounting Data'!$C$2:$C$93564,'Accounting Data'!$H$2:$H$93564,\"7??\",'Accounting Data'!$I$2:$I$93564,\"1???\",'Accounting Data'!$J$2:$J$93564,\"66??\")+SUMIFS('Accounting Data'!$C$2:$C$93564,'Accounting Data'!$H$2:$H$93564,\"8??\",'Accounting Data'!$I$2:$I$93564,\"1???\",'Accounting Data'!$J$2:$J$93564,\"66??\")+SUMIFS('Accounting Data'!$C$2:$C$93564,'Accounting Data'!$H$2:$H$93564,\"9??\",'Accounting Data'!$I$2:$I$93564,\"1???\",'Accounting Data'!$J$2:$J$93564,\"66??\")","v":0},{"$f":"SUMIFS('Accounting Data'!$C$2:$C$93564,'Accounting Data'!$E$2:$E$93564,\"575\",'Accounting Data'!$H$2:$H$93564,\"7??\",'Accounting Data'!$I$2:$I$93564,\"1???\",'Accounting Data'!$J$2:$J$93564,\"66??\")+SUMIFS('Accounting Data'!$C$2:$C$93564,'Accounting Data'!$E$2:$E$93564,\"575\",'Accounting Data'!$H$2:$H$93564,\"8??\",'Accounting Data'!$I$2:$I$93564,\"1???\",'Accounting Data'!$J$2:$J$93564,\"66??\")+SUMIFS('Accounting Data'!$C$2:$C$93564,'Accounting Data'!$E$2:$E$93564,\"575\",'Accounting Data'!$H$2:$H$93564,\"9??\",'Accounting Data'!$I$2:$I$93564,\"1???\",'Accounting Data'!$J$2:$J$93564,\"66??\")","v":0},{"$f":"SUMIFS('Accounting Data'!$C$2:$C$93564,'Accounting Data'!$E$2:$E$93564,\"8??\",'Accounting Data'!$H$2:$H$93564,\"7??\",'Accounting Data'!$I$2:$I$93564,\"1???\",'Accounting Data'!$J$2:$J$93564,\"66??\")+SUMIFS('Accounting Data'!$C$2:$C$93564,'Accounting Data'!$E$2:$E$93564,\"8??\",'Accounting Data'!$H$2:$H$93564,\"8??\",'Accounting Data'!$I$2:$I$93564,\"1???\",'Accounting Data'!$J$2:$J$93564,\"66??\")+SUMIFS('Accounting Data'!$C$2:$C$93564,'Accounting Data'!$E$2:$E$93564,\"8??\",'Accounting Data'!$H$2:$H$93564,\"9??\",'Accounting Data'!$I$2:$I$93564,\"1???\",'Accounting Data'!$J$2:$J$93564,\"66??\")","v":0},{"$f":"SUMIFS('Accounting Data'!$C$2:$C$93564,'Accounting Data'!$E$2:$E$93564,\"9??\",'Accounting Data'!$H$2:$H$93564,\"7??\",'Accounting Data'!$I$2:$I$93564,\"1???\",'Accounting Data'!$J$2:$J$93564,\"66??\")+SUMIFS('Accounting Data'!$C$2:$C$93564,'Accounting Data'!$E$2:$E$93564,\"9??\",'Accounting Data'!$H$2:$H$93564,\"8??\",'Accounting Data'!$I$2:$I$93564,\"1???\",'Accounting Data'!$J$2:$J$93564,\"66??\")+SUMIFS('Accounting Data'!$C$2:$C$93564,'Accounting Data'!$E$2:$E$93564,\"9??\",'Accounting Data'!$H$2:$H$93564,\"9??\",'Accounting Data'!$I$2:$I$93564,\"1???\",'Accounting Data'!$J$2:$J$93564,\"66??\")","v":0},null,1000,{"$f":"SUMIFS('Accounting Data'!C2:C93564,'Accounting Data'!I2:I93564,\"1???\",'Accounting Data'!J2:J93564,\"67??\")","v":591850},{"$f":"SUMIFS('Accounting Data'!$C$2:$C$93564,'Accounting Data'!$E$2:$E$93564,\"575\",'Accounting Data'!$I$2:$I$93564,\"1???\",'Accounting Data'!$J$2:$J$93564,\"67??\")+SUMIFS('Accounting Data'!$C$2:$C$93564,'Accounting Data'!$E$2:$E$93564,\"8??\",'Accounting Data'!$I$2:$I$93564,\"1???\",'Accounting Data'!$J$2:$J$93564,\"67??\")+SUMIFS('Accounting Data'!$C$2:$C$93564,'Accounting Data'!$E$2:$E$93564,\"9??\",'Accounting Data'!$I$2:$I$93564,\"1???\",'Accounting Data'!$J$2:$J$93564,\"67??\")","v":0},{"$f":"SUMIFS('Accounting Data'!$C$2:$C$93564,'Accounting Data'!$H$2:$H$93564,\"7??\",'Accounting Data'!$I$2:$I$93564,\"1???\",'Accounting Data'!$J$2:$J$93564,\"67??\")+SUMIFS('Accounting Data'!$C$2:$C$93564,'Accounting Data'!$H$2:$H$93564,\"8??\",'Accounting Data'!$I$2:$I$93564,\"1???\",'Accounting Data'!$J$2:$J$93564,\"67??\")+SUMIFS('Accounting Data'!$C$2:$C$93564,'Accounting Data'!$H$2:$H$93564,\"9??\",'Accounting Data'!$I$2:$I$93564,\"1???\",'Accounting Data'!$J$2:$J$93564,\"67??\")","v":0},{"$f":"SUMIFS('Accounting Data'!$C$2:$C$93564,'Accounting Data'!$E$2:$E$93564,\"575\",'Accounting Data'!$H$2:$H$93564,\"7??\",'Accounting Data'!$I$2:$I$93564,\"1???\",'Accounting Data'!$J$2:$J$93564,\"67??\")+SUMIFS('Accounting Data'!$C$2:$C$93564,'Accounting Data'!$E$2:$E$93564,\"575\",'Accounting Data'!$H$2:$H$93564,\"8??\",'Accounting Data'!$I$2:$I$93564,\"1???\",'Accounting Data'!$J$2:$J$93564,\"67??\")+SUMIFS('Accounting Data'!$C$2:$C$93564,'Accounting Data'!$E$2:$E$93564,\"575\",'Accounting Data'!$H$2:$H$93564,\"9??\",'Accounting Data'!$I$2:$I$93564,\"1???\",'Accounting Data'!$J$2:$J$93564,\"67??\")","v":0},{"$f":"SUMIFS('Accounting Data'!$C$2:$C$93564,'Accounting Data'!$E$2:$E$93564,\"8??\",'Accounting Data'!$H$2:$H$93564,\"7??\",'Accounting Data'!$I$2:$I$93564,\"1???\",'Accounting Data'!$J$2:$J$93564,\"67??\")+SUMIFS('Accounting Data'!$C$2:$C$93564,'Accounting Data'!$E$2:$E$93564,\"8??\",'Accounting Data'!$H$2:$H$93564,\"8??\",'Accounting Data'!$I$2:$I$93564,\"1???\",'Accounting Data'!$J$2:$J$93564,\"67??\")+SUMIFS('Accounting Data'!$C$2:$C$93564,'Accounting Data'!$E$2:$E$93564,\"8??\",'Accounting Data'!$H$2:$H$93564,\"9??\",'Accounting Data'!$I$2:$I$93564,\"1???\",'Accounting Data'!$J$2:$J$93564,\"67??\")","v":0},{"$f":"SUMIFS('Accounting Data'!$C$2:$C$93564,'Accounting Data'!$E$2:$E$93564,\"9??\",'Accounting Data'!$H$2:$H$93564,\"7??\",'Accounting Data'!$I$2:$I$93564,\"1???\",'Accounting Data'!$J$2:$J$93564,\"67??\")+SUMIFS('Accounting Data'!$C$2:$C$93564,'Accounting Data'!$E$2:$E$93564,\"9??\",'Accounting Data'!$H$2:$H$93564,\"8??\",'Accounting Data'!$I$2:$I$93564,\"1???\",'Accounting Data'!$J$2:$J$93564,\"67??\")+SUMIFS('Accounting Data'!$C$2:$C$93564,'Accounting Data'!$E$2:$E$93564,\"9??\",'Accounting Data'!$H$2:$H$93564,\"9??\",'Accounting Data'!$I$2:$I$93564,\"1???\",'Accounting Data'!$J$2:$J$93564,\"67??\")","v":0},null,1000,{"$f":"SUMIFS('Accounting Data'!C2:C93564,'Accounting Data'!I2:I93564,\"1???\",'Accounting Data'!J2:J93564,\"681?\")","v":4475},{"$f":"SUMIFS('Accounting Data'!$C$2:$C$93564,'Accounting Data'!$E$2:$E$93564,\"575\",'Accounting Data'!$I$2:$I$93564,\"1???\",'Accounting Data'!$J$2:$J$93564,\"681?\")+SUMIFS('Accounting Data'!$C$2:$C$93564,'Accounting Data'!$E$2:$E$93564,\"8??\",'Accounting Data'!$I$2:$I$93564,\"1???\",'Accounting Data'!$J$2:$J$93564,\"681?\")+SUMIFS('Accounting Data'!$C$2:$C$93564,'Accounting Data'!$E$2:$E$93564,\"9??\",'Accounting Data'!$I$2:$I$93564,\"1???\",'Accounting Data'!$J$2:$J$93564,\"681?\")","v":0},{"$f":"SUMIFS('Accounting Data'!$C$2:$C$93564,'Accounting Data'!$H$2:$H$93564,\"7??\",'Accounting Data'!$I$2:$I$93564,\"1???\",'Accounting Data'!$J$2:$J$93564,\"681?\")+SUMIFS('Accounting Data'!$C$2:$C$93564,'Accounting Data'!$H$2:$H$93564,\"8??\",'Accounting Data'!$I$2:$I$93564,\"1???\",'Accounting Data'!$J$2:$J$93564,\"681?\")+SUMIFS('Accounting Data'!$C$2:$C$93564,'Accounting Data'!$H$2:$H$93564,\"9??\",'Accounting Data'!$I$2:$I$93564,\"1???\",'Accounting Data'!$J$2:$J$93564,\"681?\")","v":0},{"$f":"SUMIFS('Accounting Data'!$C$2:$C$93564,'Accounting Data'!$E$2:$E$93564,\"575\",'Accounting Data'!$H$2:$H$93564,\"7??\",'Accounting Data'!$I$2:$I$93564,\"1???\",'Accounting Data'!$J$2:$J$93564,\"681?\")+SUMIFS('Accounting Data'!$C$2:$C$93564,'Accounting Data'!$E$2:$E$93564,\"575\",'Accounting Data'!$H$2:$H$93564,\"8??\",'Accounting Data'!$I$2:$I$93564,\"1???\",'Accounting Data'!$J$2:$J$93564,\"681?\")+SUMIFS('Accounting Data'!$C$2:$C$93564,'Accounting Data'!$E$2:$E$93564,\"575\",'Accounting Data'!$H$2:$H$93564,\"9??\",'Accounting Data'!$I$2:$I$93564,\"1???\",'Accounting Data'!$J$2:$J$93564,\"681?\")","v":0},{"$f":"SUMIFS('Accounting Data'!$C$2:$C$93564,'Accounting Data'!$E$2:$E$93564,\"8??\",'Accounting Data'!$H$2:$H$93564,\"7??\",'Accounting Data'!$I$2:$I$93564,\"1???\",'Accounting Data'!$J$2:$J$93564,\"681?\")+SUMIFS('Accounting Data'!$C$2:$C$93564,'Accounting Data'!$E$2:$E$93564,\"8??\",'Accounting Data'!$H$2:$H$93564,\"8??\",'Accounting Data'!$I$2:$I$93564,\"1???\",'Accounting Data'!$J$2:$J$93564,\"681?\")+SUMIFS('Accounting Data'!$C$2:$C$93564,'Accounting Data'!$E$2:$E$93564,\"8??\",'Accounting Data'!$H$2:$H$93564,\"9??\",'Accounting Data'!$I$2:$I$93564,\"1???\",'Accounting Data'!$J$2:$J$93564,\"681?\")","v":0},{"$f":"SUMIFS('Accounting Data'!$C$2:$C$93564,'Accounting Data'!$E$2:$E$93564,\"9??\",'Accounting Data'!$H$2:$H$93564,\"7??\",'Accounting Data'!$I$2:$I$93564,\"1???\",'Accounting Data'!$J$2:$J$93564,\"681?\")+SUMIFS('Accounting Data'!$C$2:$C$93564,'Accounting Data'!$E$2:$E$93564,\"9??\",'Accounting Data'!$H$2:$H$93564,\"8??\",'Accounting Data'!$I$2:$I$93564,\"1???\",'Accounting Data'!$J$2:$J$93564,\"681?\")+SUMIFS('Accounting Data'!$C$2:$C$93564,'Accounting Data'!$E$2:$E$93564,\"9??\",'Accounting Data'!$H$2:$H$93564,\"9??\",'Accounting Data'!$I$2:$I$93564,\"1???\",'Accounting Data'!$J$2:$J$93564,\"681?\")","v":0},null,null,null,null,null,null,null,null,null,null,null,null,null,null,null,null,null,1000,{"$f":"SUM(SUMIFS('Accounting Data'!C2:C93564,'Accounting Data'!I2:I93564,\"1???\",'Accounting Data'!J2:J93564,{\"689?\",\"6885\"}))","v":27396},{"$f":"SUM(SUMIFS('Accounting Data'!$C$2:$C$93564,'Accounting Data'!$E$2:$E$93564,\"575\",'Accounting Data'!$I$2:$I$93564,\"1???\",'Accounting Data'!$J$2:$J$93564,{\"689?\",\"6885\"}))+SUM(SUMIFS('Accounting Data'!$C$2:$C$93564,'Accounting Data'!$E$2:$E$93564,\"8??\",'Accounting Data'!$I$2:$I$93564,\"1???\",'Accounting Data'!$J$2:$J$93564,{\"689?\",\"6885\"}))+SUM(SUMIFS('Accounting Data'!$C$2:$C$93564,'Accounting Data'!$E$2:$E$93564,\"9??\",'Accounting Data'!$I$2:$I$93564,\"1???\",'Accounting Data'!$J$2:$J$93564,{\"689?\",\"6885\"}))","v":7618},{"$f":"SUM(SUMIFS('Accounting Data'!$C$2:$C$93564,'Accounting Data'!$H$2:$H$93564,\"7??\",'Accounting Data'!$I$2:$I$93564,\"1???\",'Accounting Data'!$J$2:$J$93564,{\"689?\",\"6885\"}))+SUM(SUMIFS('Accounting Data'!$C$2:$C$93564,'Accounting Data'!$H$2:$H$93564,\"8??\",'Accounting Data'!$I$2:$I$93564,\"1???\",'Accounting Data'!$J$2:$J$93564,{\"689?\",\"6885\"}))+SUM(SUMIFS('Accounting Data'!$C$2:$C$93564,'Accounting Data'!$H$2:$H$93564,\"9??\",'Accounting Data'!$I$2:$I$93564,\"1???\",'Accounting Data'!$J$2:$J$93564,{\"689?\",\"6885\"}))","v":0},{"$f":"SUM(SUMIFS('Accounting Data'!$C$2:$C$93564,'Accounting Data'!$E$2:$E$93564,\"575\",'Accounting Data'!$H$2:$H$93564,\"7??\",'Accounting Data'!$I$2:$I$93564,\"1???\",'Accounting Data'!$J$2:$J$93564,{\"689?\",\"6885\"}))+SUM(SUMIFS('Accounting Data'!$C$2:$C$93564,'Accounting Data'!$E$2:$E$93564,\"575\",'Accounting Data'!$H$2:$H$93564,\"8??\",'Accounting Data'!$I$2:$I$93564,\"1???\",'Accounting Data'!$J$2:$J$93564,{\"689?\",\"6885\"}))+SUM(SUMIFS('Accounting Data'!$C$2:$C$93564,'Accounting Data'!$E$2:$E$93564,\"575\",'Accounting Data'!$H$2:$H$93564,\"9??\",'Accounting Data'!$I$2:$I$93564,\"1???\",'Accounting Data'!$J$2:$J$93564,{\"689?\",\"6885\"}))","v":0},{"$f":"SUM(SUMIFS('Accounting Data'!$C$2:$C$93564,'Accounting Data'!$E$2:$E$93564,\"8??\",'Accounting Data'!$H$2:$H$93564,\"7??\",'Accounting Data'!$I$2:$I$93564,\"1???\",'Accounting Data'!$J$2:$J$93564,{\"689?\",\"6885\"}))+SUM(SUMIFS('Accounting Data'!$C$2:$C$93564,'Accounting Data'!$E$2:$E$93564,\"8??\",'Accounting Data'!$H$2:$H$93564,\"8??\",'Accounting Data'!$I$2:$I$93564,\"1???\",'Accounting Data'!$J$2:$J$93564,{\"689?\",\"6885\"}))+SUM(SUMIFS('Accounting Data'!$C$2:$C$93564,'Accounting Data'!$E$2:$E$93564,\"8??\",'Accounting Data'!$H$2:$H$93564,\"9??\",'Accounting Data'!$I$2:$I$93564,\"1???\",'Accounting Data'!$J$2:$J$93564,{\"689?\",\"6885\"}))","v":0},{"$f":"SUM(SUMIFS('Accounting Data'!$C$2:$C$93564,'Accounting Data'!$E$2:$E$93564,\"9??\",'Accounting Data'!$H$2:$H$93564,\"7??\",'Accounting Data'!$I$2:$I$93564,\"1???\",'Accounting Data'!$J$2:$J$93564,{\"689?\",\"6885\"}))+SUM(SUMIFS('Accounting Data'!$C$2:$C$93564,'Accounting Data'!$E$2:$E$93564,\"9??\",'Accounting Data'!$H$2:$H$93564,\"8??\",'Accounting Data'!$I$2:$I$93564,\"1???\",'Accounting Data'!$J$2:$J$93564,{\"689?\",\"6885\"}))+SUM(SUMIFS('Accounting Data'!$C$2:$C$93564,'Accounting Data'!$E$2:$E$93564,\"9??\",'Accounting Data'!$H$2:$H$93564,\"9??\",'Accounting Data'!$I$2:$I$93564,\"1???\",'Accounting Data'!$J$2:$J$93564,{\"689?\",\"6885\"}))","v":0},null,1000,{"$f":"SUMIFS('Accounting Data'!$C$2:$C$93564,'Accounting Data'!$H$2:$H$93564,\"7??\",'Accounting Data'!$I$2:$I$93564,\"1???\",'Accounting Data'!$J$2:$J$93564,\"6???\")+SUMIFS('Accounting Data'!$C$2:$C$93564,'Accounting Data'!$H$2:$H$93564,\"8??\",'Accounting Data'!$I$2:$I$93564,\"1???\",'Accounting Data'!$J$2:$J$93564,\"6???\")+SUMIFS('Accounting Data'!$C$2:$C$93564,'Accounting Data'!$H$2:$H$93564,\"9??\",'Accounting Data'!$I$2:$I$93564,\"1???\",'Accounting Data'!$J$2:$J$93564,\"6???\")","v":0},{"$f":"SUMIFS('Accounting Data'!$C$2:$C$93564,'Accounting Data'!$H$2:$H$93564,\"7??\",'Accounting Data'!$I$2:$I$93564,\"1???\",'Accounting Data'!$J$2:$J$93564,\"69??\")+SUMIFS('Accounting Data'!$C$2:$C$93564,'Accounting Data'!$H$2:$H$93564,\"8??\",'Accounting Data'!$I$2:$I$93564,\"1???\",'Accounting Data'!$J$2:$J$93564,\"69??\")+SUMIFS('Accounting Data'!$C$2:$C$93564,'Accounting Data'!$H$2:$H$93564,\"9??\",'Accounting Data'!$I$2:$I$93564,\"1???\",'Accounting Data'!$J$2:$J$93564,\"69??\")","v":0},{"$f":"SUMIFS('Accounting Data'!$C$2:$C$93564,'Accounting Data'!$E$2:$E$93564,\"575\",'Accounting Data'!$H$2:$H$93564,\"7??\",'Accounting Data'!$I$2:$I$93564,\"1???\",'Accounting Data'!$J$2:$J$93564,\"6???\")+SUMIFS('Accounting Data'!$C$2:$C$93564,'Accounting Data'!$E$2:$E$93564,\"575\",'Accounting Data'!$H$2:$H$93564,\"8??\",'Accounting Data'!$I$2:$I$93564,\"1???\",'Accounting Data'!$J$2:$J$93564,\"6???\")+SUMIFS('Accounting Data'!$C$2:$C$93564,'Accounting Data'!$E$2:$E$93564,\"575\",'Accounting Data'!$H$2:$H$93564,\"9??\",'Accounting Data'!$I$2:$I$93564,\"1???\",'Accounting Data'!$J$2:$J$93564,\"6???\")","v":0},{"$f":"SUMIFS('Accounting Data'!$C$2:$C$93564,'Accounting Data'!$E$2:$E$93564,\"8??\",'Accounting Data'!$H$2:$H$93564,\"7??\",'Accounting Data'!$I$2:$I$93564,\"1???\",'Accounting Data'!$J$2:$J$93564,\"6???\")+SUMIFS('Accounting Data'!$C$2:$C$93564,'Accounting Data'!$E$2:$E$93564,\"8??\",'Accounting Data'!$H$2:$H$93564,\"8??\",'Accounting Data'!$I$2:$I$93564,\"1???\",'Accounting Data'!$J$2:$J$93564,\"6???\")+SUMIFS('Accounting Data'!$C$2:$C$93564,'Accounting Data'!$E$2:$E$93564,\"8??\",'Accounting Data'!$H$2:$H$93564,\"9??\",'Accounting Data'!$I$2:$I$93564,\"1???\",'Accounting Data'!$J$2:$J$93564,\"6???\")+SUMIFS('Accounting Data'!$C$2:$C$93564,'Accounting Data'!$E$2:$E$93564,\"9??\",'Accounting Data'!$H$2:$H$93564,\"7??\",'Accounting Data'!$I$2:$I$93564,\"1???\",'Accounting Data'!$J$2:$J$93564,\"6???\")+SUMIFS('Accounting Data'!$C$2:$C$93564,'Accounting Data'!$E$2:$E$93564,\"9??\",'Accounting Data'!$H$2:$H$93564,\"8??\",'Accounting Data'!$I$2:$I$93564,\"1???\",'Accounting Data'!$J$2:$J$93564,\"6???\")+SUMIFS('Accounting Data'!$C$2:$C$93564,'Accounting Data'!$E$2:$E$93564,\"9??\",'Accounting Data'!$H$2:$H$93564,\"9??\",'Accounting Data'!$I$2:$I$93564,\"1???\",'Accounting Data'!$J$2:$J$93564,\"6???\")","v":0},{"$f":"SUMIFS('Accounting Data'!$C$2:$C$93564,'Accounting Data'!$E$2:$E$93564,\"575\",'Accounting Data'!$H$2:$H$93564,\"7??\",'Accounting Data'!$I$2:$I$93564,\"1???\",'Accounting Data'!$J$2:$J$93564,\"69??\")+SUMIFS('Accounting Data'!$C$2:$C$93564,'Accounting Data'!$E$2:$E$93564,\"575\",'Accounting Data'!$H$2:$H$93564,\"8??\",'Accounting Data'!$I$2:$I$93564,\"1???\",'Accounting Data'!$J$2:$J$93564,\"69??\")+SUMIFS('Accounting Data'!$C$2:$C$93564,'Accounting Data'!$E$2:$E$93564,\"575\",'Accounting Data'!$H$2:$H$93564,\"9??\",'Accounting Data'!$I$2:$I$93564,\"1???\",'Accounting Data'!$J$2:$J$93564,\"69??\")","v":0},{"$f":"SUMIFS('Accounting Data'!$C$2:$C$93564,'Accounting Data'!$E$2:$E$93564,\"8??\",'Accounting Data'!$H$2:$H$93564,\"7??\",'Accounting Data'!$I$2:$I$93564,\"1???\",'Accounting Data'!$J$2:$J$93564,\"69??\")+SUMIFS('Accounting Data'!$C$2:$C$93564,'Accounting Data'!$E$2:$E$93564,\"8??\",'Accounting Data'!$H$2:$H$93564,\"8??\",'Accounting Data'!$I$2:$I$93564,\"1???\",'Accounting Data'!$J$2:$J$93564,\"69??\")+SUMIFS('Accounting Data'!$C$2:$C$93564,'Accounting Data'!$E$2:$E$93564,\"8??\",'Accounting Data'!$H$2:$H$93564,\"9??\",'Accounting Data'!$I$2:$I$93564,\"1???\",'Accounting Data'!$J$2:$J$93564,\"69??\")+SUMIFS('Accounting Data'!$C$2:$C$93564,'Accounting Data'!$E$2:$E$93564,\"9??\",'Accounting Data'!$H$2:$H$93564,\"7??\",'Accounting Data'!$I$2:$I$93564,\"1???\",'Accounting Data'!$J$2:$J$93564,\"69??\")+SUMIFS('Accounting Data'!$C$2:$C$93564,'Accounting Data'!$E$2:$E$93564,\"9??\",'Accounting Data'!$H$2:$H$93564,\"8??\",'Accounting Data'!$I$2:$I$93564,\"1???\",'Accounting Data'!$J$2:$J$93564,\"69??\")+SUMIFS('Accounting Data'!$C$2:$C$93564,'Accounting Data'!$E$2:$E$93564,\"9??\",'Accounting Data'!$H$2:$H$93564,\"9??\",'Accounting Data'!$I$2:$I$93564,\"1???\",'Accounting Data'!$J$2:$J$93564,\"69??\")","v":0}]
["2000 Support Services",null,null,null,null,null,null,null,null,null,null,null,null,null,null,null,null,null,"Total food service expenses minus commodities",null,null,null,null,null,null,null,null,null,null,null,null,null,null,null,null,null,null,null,null,null,null,null,null,null,null,null,null,null,null,null,null,null,null,null,null,null,null,null,null,null,null,null,null,null,null,null,null,null,null,null,null,null,null,null,null,null,null,null,null,null,null,"Object 6820"]
["         2100 Students","2.",{"$f":"(AA12-AB12-AC12)+(AD12+AE12+AF12)","v":1964717},{"$f":"(AI12-AJ12-AK12)+(AL12+AM12+AN12)","v":559477},{"$f":"(AQ12-AR12-AS12-AT12-AU12)+(AV12+AW12+AX12+AY12+AZ12+BA12+BB12+BC12+BD12)","v":455798},{"$f":"(BG12-BH12-BI12)+(BJ12+BK12+BL12)","v":106496},{"$f":"(BO12-BP12-BQ12)+(BR12+BS12+BT12)","v":8751},{"$f":"(BW12-BX12-BY12)+(BZ12+CA12+CB12)","v":548},null,null,null,{"$f":"(CU12-CV12-CW12)+(CX12+CY12+CZ12)","v":-32072},{"$f":"(DC12-DD12)-((DE12+DF12)-(DG12+DH12))","v":0},{"$f":"SUM(C12:M12)","v":3063715},"2.",null,null,null,null,null,null,null,null,null,null,2100,{"$f":"SUMIFS('Accounting Data'!C2:C93564,'Accounting Data'!I2:I93564,\"21??\",'Accounting Data'!J2:J93564,\"61??\")","v":1964717},{"$f":"SUMIFS('Accounting Data'!C2:C93564,'Accounting Data'!E2:E93564,\"575\",'Accounting Data'!I2:I93564,\"21??\",'Accounting Data'!J2:J93564,\"61??\")+SUMIFS('Accounting Data'!C2:C93564,'Accounting Data'!E2:E93564,\"8??\",'Accounting Data'!I2:I93564,\"21??\",'Accounting Data'!J2:J93564,\"61??\")+SUMIFS('Accounting Data'!C2:C93564,'Accounting Data'!E2:E93564,\"9??\",'Accounting Data'!I2:I93564,\"21??\",'Accounting Data'!J2:J93564,\"61??\")","v":0},{"$f":"SUMIFS('Accounting Data'!C2:C93564,'Accounting Data'!H2:H93564,\"7??\",'Accounting Data'!I2:I93564,\"21??\",'Accounting Data'!J2:J93564,\"61??\")+SUMIFS('Accounting Data'!C2:C93564,'Accounting Data'!H2:H93564,\"8??\",'Accounting Data'!I2:I93564,\"21??\",'Accounting Data'!J2:J93564,\"61??\")+SUMIFS('Accounting Data'!C2:C93564,'Accounting Data'!H2:H93564,\"9??\",'Accounting Data'!I2:I93564,\"21??\",'Accounting Data'!J2:J93564,\"61??\")","v":0},{"$f":"SUMIFS('Accounting Data'!C2:C93564,'Accounting Data'!E2:E93564,\"575\",'Accounting Data'!H2:H93564,\"7??\",'Accounting Data'!I2:I93564,\"21??\",'Accounting Data'!J2:J93564,\"61??\")+SUMIFS('Accounting Data'!C2:C93564,'Accounting Data'!E2:E93564,\"575\",'Accounting Data'!H2:H93564,\"8??\",'Accounting Data'!I2:I93564,\"21??\",'Accounting Data'!J2:J93564,\"61??\")+SUMIFS('Accounting Data'!C2:C93564,'Accounting Data'!E2:E93564,\"575\",'Accounting Data'!H2:H93564,\"9??\",'Accounting Data'!I2:I93564,\"21??\",'Accounting Data'!J2:J93564,\"61??\")","v":0},{"$f":"SUMIFS('Accounting Data'!C2:C93564,'Accounting Data'!E2:E93564,\"8??\",'Accounting Data'!H2:H93564,\"7??\",'Accounting Data'!I2:I93564,\"21??\",'Accounting Data'!J2:J93564,\"61??\")+SUMIFS('Accounting Data'!C2:C93564,'Accounting Data'!E2:E93564,\"8??\",'Accounting Data'!H2:H93564,\"8??\",'Accounting Data'!I2:I93564,\"21??\",'Accounting Data'!J2:J93564,\"61??\")+SUMIFS('Accounting Data'!C2:C93564,'Accounting Data'!E2:E93564,\"8??\",'Accounting Data'!H2:H93564,\"9??\",'Accounting Data'!I2:I93564,\"21??\",'Accounting Data'!J2:J93564,\"61??\")","v":0},{"$f":"SUMIFS('Accounting Data'!C2:C93564,'Accounting Data'!E2:E93564,\"9??\",'Accounting Data'!H2:H93564,\"7??\",'Accounting Data'!I2:I93564,\"21??\",'Accounting Data'!J2:J93564,\"61??\")+SUMIFS('Accounting Data'!C2:C93564,'Accounting Data'!E2:E93564,\"9??\",'Accounting Data'!H2:H93564,\"8??\",'Accounting Data'!I2:I93564,\"21??\",'Accounting Data'!J2:J93564,\"61??\")+SUMIFS('Accounting Data'!C2:C93564,'Accounting Data'!E2:E93564,\"9??\",'Accounting Data'!H2:H93564,\"9??\",'Accounting Data'!I2:I93564,\"21??\",'Accounting Data'!J2:J93564,\"61??\")","v":0},null,2100,{"$f":"SUMIFS('Accounting Data'!C2:C93564,'Accounting Data'!I2:I93564,\"21??\",'Accounting Data'!J2:J93564,\"62??\")","v":559477},{"$f":"SUMIFS('Accounting Data'!C2:C93564,'Accounting Data'!E2:E93564,\"575\",'Accounting Data'!I2:I93564,\"21??\",'Accounting Data'!J2:J93564,\"62??\")+SUMIFS('Accounting Data'!C2:C93564,'Accounting Data'!E2:E93564,\"8??\",'Accounting Data'!I2:I93564,\"21??\",'Accounting Data'!J2:J93564,\"62??\")+SUMIFS('Accounting Data'!C2:C93564,'Accounting Data'!E2:E93564,\"9??\",'Accounting Data'!I2:I93564,\"21??\",'Accounting Data'!J2:J93564,\"62??\")","v":0},{"$f":"SUMIFS('Accounting Data'!C2:C93564,'Accounting Data'!H2:H93564,\"7??\",'Accounting Data'!I2:I93564,\"21??\",'Accounting Data'!J2:J93564,\"62??\")+SUMIFS('Accounting Data'!C2:C93564,'Accounting Data'!H2:H93564,\"8??\",'Accounting Data'!I2:I93564,\"21??\",'Accounting Data'!J2:J93564,\"62??\")+SUMIFS('Accounting Data'!C2:C93564,'Accounting Data'!H2:H93564,\"9??\",'Accounting Data'!I2:I93564,\"21??\",'Accounting Data'!J2:J93564,\"62??\")","v":0},{"$f":"SUMIFS('Accounting Data'!C2:C93564,'Accounting Data'!E2:E93564,\"575\",'Accounting Data'!H2:H93564,\"7??\",'Accounting Data'!I2:I93564,\"21??\",'Accounting Data'!J2:J93564,\"62??\")+SUMIFS('Accounting Data'!C2:C93564,'Accounting Data'!E2:E93564,\"575\",'Accounting Data'!H2:H93564,\"8??\",'Accounting Data'!I2:I93564,\"21??\",'Accounting Data'!J2:J93564,\"62??\")+SUMIFS('Accounting Data'!C2:C93564,'Accounting Data'!E2:E93564,\"575\",'Accounting Data'!H2:H93564,\"9??\",'Accounting Data'!I2:I93564,\"21??\",'Accounting Data'!J2:J93564,\"62??\")","v":0},{"$f":"SUMIFS('Accounting Data'!C2:C93564,'Accounting Data'!E2:E93564,\"8??\",'Accounting Data'!H2:H93564,\"7??\",'Accounting Data'!I2:I93564,\"21??\",'Accounting Data'!J2:J93564,\"62??\")+SUMIFS('Accounting Data'!C2:C93564,'Accounting Data'!E2:E93564,\"8??\",'Accounting Data'!H2:H93564,\"8??\",'Accounting Data'!I2:I93564,\"21??\",'Accounting Data'!J2:J93564,\"62??\")+SUMIFS('Accounting Data'!C2:C93564,'Accounting Data'!E2:E93564,\"8??\",'Accounting Data'!H2:H93564,\"9??\",'Accounting Data'!I2:I93564,\"21??\",'Accounting Data'!J2:J93564,\"62??\")","v":0},{"$f":"SUMIFS('Accounting Data'!C2:C93564,'Accounting Data'!E2:E93564,\"9??\",'Accounting Data'!H2:H93564,\"7??\",'Accounting Data'!I2:I93564,\"21??\",'Accounting Data'!J2:J93564,\"62??\")+SUMIFS('Accounting Data'!C2:C93564,'Accounting Data'!E2:E93564,\"9??\",'Accounting Data'!H2:H93564,\"8??\",'Accounting Data'!I2:I93564,\"21??\",'Accounting Data'!J2:J93564,\"62??\")+SUMIFS('Accounting Data'!C2:C93564,'Accounting Data'!E2:E93564,\"9??\",'Accounting Data'!H2:H93564,\"9??\",'Accounting Data'!I2:I93564,\"21??\",'Accounting Data'!J2:J93564,\"62??\")","v":0},null,2100,{"$f":"SUMIFS('Accounting Data'!C2:C93564,'Accounting Data'!I2:I93564,\"21??\",'Accounting Data'!J2:J93564,\"63??\")+SUMIFS('Accounting Data'!C2:C93564,'Accounting Data'!I2:I93564,\"21??\",'Accounting Data'!J2:J93564,\"64??\")+SUMIFS('Accounting Data'!C2:C93564,'Accounting Data'!I2:I93564,\"21??\",'Accounting Data'!J2:J93564,\"65??\")","v":455798},{"$f":"SUMIFS('Accounting Data'!C2:C93564,'Accounting Data'!E2:E93564,\"575\",'Accounting Data'!I2:I93564,\"21??\",'Accounting Data'!J2:J93564,\"63??\")+SUMIFS('Accounting Data'!C2:C93564,'Accounting Data'!E2:E93564,\"8??\",'Accounting Data'!I2:I93564,\"21??\",'Accounting Data'!J2:J93564,\"63??\")+SUMIFS('Accounting Data'!C2:C93564,'Accounting Data'!E2:E93564,\"9??\",'Accounting Data'!I2:I93564,\"21??\",'Accounting Data'!J2:J93564,\"63??\")","v":0},{"$f":"SUMIFS('Accounting Data'!C2:C93564,'Accounting Data'!E2:E93564,\"575\",'Accounting Data'!I2:I93564,\"21??\",'Accounting Data'!J2:J93564,\"64??\")+SUMIFS('Accounting Data'!C2:C93564,'Accounting Data'!E2:E93564,\"8??\",'Accounting Data'!I2:I93564,\"21??\",'Accounting Data'!J2:J93564,\"64??\")+SUMIFS('Accounting Data'!C2:C93564,'Accounting Data'!E2:E93564,\"9??\",'Accounting Data'!I2:I93564,\"21??\",'Accounting Data'!J2:J93564,\"64??\")","v":0},{"$f":"SUMIFS('Accounting Data'!C2:C93564,'Accounting Data'!E2:E93564,\"575\",'Accounting Data'!I2:I93564,\"21??\",'Accounting Data'!J2:J93564,\"65??\")+SUMIFS('Accounting Data'!C2:C93564,'Accounting Data'!E2:E93564,\"8??\",'Accounting Data'!I2:I93564,\"21??\",'Accounting Data'!J2:J93564,\"65??\")+SUMIFS('Accounting Data'!C2:C93564,'Accounting Data'!E2:E93564,\"9??\",'Accounting Data'!I2:I93564,\"21??\",'Accounting Data'!J2:J93564,\"65??\")","v":0},{"$f":"SUMIFS('Accounting Data'!C2:C93564,'Accounting Data'!H2:H93564,\"7??\",'Accounting Data'!I2:I93564,\"21??\",'Accounting Data'!J2:J93564,\"63??\")+SUMIFS('Accounting Data'!C2:C93564,'Accounting Data'!H2:H93564,\"8??\",'Accounting Data'!I2:I93564,\"21??\",'Accounting Data'!J2:J93564,\"63??\")+SUMIFS('Accounting Data'!C2:C93564,'Accounting Data'!H2:H93564,\"9??\",'Accounting Data'!I2:I93564,\"21??\",'Accounting Data'!J2:J93564,\"63??\")+SUMIFS('Accounting Data'!C2:C93564,'Accounting Data'!H2:H93564,\"7??\",'Accounting Data'!I2:I93564,\"21??\",'Accounting Data'!J2:J93564,\"64??\")+SUMIFS('Accounting Data'!C2:C93564,'Accounting Data'!H2:H93564,\"8??\",'Accounting Data'!I2:I93564,\"21??\",'Accounting Data'!J2:J93564,\"64??\")+SUMIFS('Accounting Data'!C2:C93564,'Accounting Data'!H2:H93564,\"9??\",'Accounting Data'!I2:I93564,\"21??\",'Accounting Data'!J2:J93564,\"64??\")+SUMIFS('Accounting Data'!C2:C93564,'Accounting Data'!H2:H93564,\"7??\",'Accounting Data'!I2:I93564,\"21??\",'Accounting Data'!J2:J93564,\"65??\")+SUMIFS('Accounting Data'!C2:C93564,'Accounting Data'!H2:H93564,\"8??\",'Accounting Data'!I2:I93564,\"21??\",'Accounting Data'!J2:J93564,\"65??\")+SUMIFS('Accounting Data'!C2:C93564,'Accounting Data'!H2:H93564,\"9??\",'Accounting Data'!I2:I93564,\"21??\",'Accounting Data'!J2:J93564,\"65??\")","v":0},{"$f":"SUMIFS('Accounting Data'!C2:C93564,'Accounting Data'!E2:E93564,\"575\",'Accounting Data'!H2:H93564,\"7??\",'Accounting Data'!I2:I93564,\"21??\",'Accounting Data'!J2:J93564,\"63??\")+SUMIFS('Accounting Data'!C2:C93564,'Accounting Data'!E2:E93564,\"575\",'Accounting Data'!H2:H93564,\"8??\",'Accounting Data'!I2:I93564,\"21??\",'Accounting Data'!J2:J93564,\"63??\")+SUMIFS('Accounting Data'!C2:C93564,'Accounting Data'!E2:E93564,\"575\",'Accounting Data'!H2:H93564,\"9??\",'Accounting Data'!I2:I93564,\"21??\",'Accounting Data'!J2:J93564,\"63??\")","v":0},{"$f":"SUMIFS('Accounting Data'!C2:C93564,'Accounting Data'!E2:E93564,\"575\",'Accounting Data'!H2:H93564,\"7??\",'Accounting Data'!I2:I93564,\"21??\",'Accounting Data'!J2:J93564,\"64??\")+SUMIFS('Accounting Data'!C2:C93564,'Accounting Data'!E2:E93564,\"575\",'Accounting Data'!H2:H93564,\"8??\",'Accounting Data'!I2:I93564,\"21??\",'Accounting Data'!J2:J93564,\"64??\")+SUMIFS('Accounting Data'!C2:C93564,'Accounting Data'!E2:E93564,\"575\",'Accounting Data'!H2:H93564,\"9??\",'Accounting Data'!I2:I93564,\"21??\",'Accounting Data'!J2:J93564,\"64??\")","v":0},{"$f":"SUMIFS('Accounting Data'!C2:C93564,'Accounting Data'!E2:E93564,\"575\",'Accounting Data'!H2:H93564,\"7??\",'Accounting Data'!I2:I93564,\"21??\",'Accounting Data'!J2:J93564,\"65??\")+SUMIFS('Accounting Data'!C2:C93564,'Accounting Data'!E2:E93564,\"575\",'Accounting Data'!H2:H93564,\"8??\",'Accounting Data'!I2:I93564,\"21??\",'Accounting Data'!J2:J93564,\"65??\")+SUMIFS('Accounting Data'!C2:C93564,'Accounting Data'!E2:E93564,\"575\",'Accounting Data'!H2:H93564,\"9??\",'Accounting Data'!I2:I93564,\"21??\",'Accounting Data'!J2:J93564,\"65??\")","v":0},{"$f":"SUMIFS('Accounting Data'!C2:C93564,'Accounting Data'!E2:E93564,\"8??\",'Accounting Data'!H2:H93564,\"7??\",'Accounting Data'!I2:I93564,\"21??\",'Accounting Data'!J2:J93564,\"63??\")+SUMIFS('Accounting Data'!C2:C93564,'Accounting Data'!E2:E93564,\"8??\",'Accounting Data'!H2:H93564,\"8??\",'Accounting Data'!I2:I93564,\"21??\",'Accounting Data'!J2:J93564,\"63??\")+SUMIFS('Accounting Data'!C2:C93564,'Accounting Data'!E2:E93564,\"8??\",'Accounting Data'!H2:H93564,\"9??\",'Accounting Data'!I2:I93564,\"21??\",'Accounting Data'!J2:J93564,\"63??\")","v":0},{"$f":"SUMIFS('Accounting Data'!C2:C93564,'Accounting Data'!E2:E93564,\"8??\",'Accounting Data'!H2:H93564,\"7??\",'Accounting Data'!I2:I93564,\"21??\",'Accounting Data'!J2:J93564,\"64??\")+SUMIFS('Accounting Data'!C2:C93564,'Accounting Data'!E2:E93564,\"8??\",'Accounting Data'!H2:H93564,\"8??\",'Accounting Data'!I2:I93564,\"21??\",'Accounting Data'!J2:J93564,\"64??\")+SUMIFS('Accounting Data'!C2:C93564,'Accounting Data'!E2:E93564,\"8??\",'Accounting Data'!H2:H93564,\"9??\",'Accounting Data'!I2:I93564,\"21??\",'Accounting Data'!J2:J93564,\"64??\")","v":0},{"$f":"SUMIFS('Accounting Data'!C2:C93564,'Accounting Data'!E2:E93564,\"8??\",'Accounting Data'!H2:H93564,\"7??\",'Accounting Data'!I2:I93564,\"21??\",'Accounting Data'!J2:J93564,\"65??\")+SUMIFS('Accounting Data'!C2:C93564,'Accounting Data'!E2:E93564,\"8??\",'Accounting Data'!H2:H93564,\"8??\",'Accounting Data'!I2:I93564,\"21??\",'Accounting Data'!J2:J93564,\"65??\")+SUMIFS('Accounting Data'!C2:C93564,'Accounting Data'!E2:E93564,\"8??\",'Accounting Data'!H2:H93564,\"9??\",'Accounting Data'!I2:I93564,\"21??\",'Accounting Data'!J2:J93564,\"65??\")","v":0},{"$f":"SUMIFS('Accounting Data'!C2:C93564,'Accounting Data'!E2:E93564,\"9??\",'Accounting Data'!H2:H93564,\"7??\",'Accounting Data'!I2:I93564,\"21??\",'Accounting Data'!J2:J93564,\"63??\")+SUMIFS('Accounting Data'!C2:C93564,'Accounting Data'!E2:E93564,\"9??\",'Accounting Data'!H2:H93564,\"8??\",'Accounting Data'!I2:I93564,\"21??\",'Accounting Data'!J2:J93564,\"63??\")+SUMIFS('Accounting Data'!C2:C93564,'Accounting Data'!E2:E93564,\"9??\",'Accounting Data'!H2:H93564,\"9??\",'Accounting Data'!I2:I93564,\"21??\",'Accounting Data'!J2:J93564,\"63??\")","v":0},{"$f":"SUMIFS('Accounting Data'!C2:C93564,'Accounting Data'!E2:E93564,\"9??\",'Accounting Data'!H2:H93564,\"7??\",'Accounting Data'!I2:I93564,\"21??\",'Accounting Data'!J2:J93564,\"64??\")+SUMIFS('Accounting Data'!C2:C93564,'Accounting Data'!E2:E93564,\"9??\",'Accounting Data'!H2:H93564,\"8??\",'Accounting Data'!I2:I93564,\"21??\",'Accounting Data'!J2:J93564,\"64??\")+SUMIFS('Accounting Data'!C2:C93564,'Accounting Data'!E2:E93564,\"9??\",'Accounting Data'!H2:H93564,\"9??\",'Accounting Data'!I2:I93564,\"21??\",'Accounting Data'!J2:J93564,\"64??\")","v":0},{"$f":"SUMIFS('Accounting Data'!C2:C93564,'Accounting Data'!E2:E93564,\"9??\",'Accounting Data'!H2:H93564,\"7??\",'Accounting Data'!I2:I93564,\"21??\",'Accounting Data'!J2:J93564,\"65??\")+SUMIFS('Accounting Data'!C2:C93564,'Accounting Data'!E2:E93564,\"9??\",'Accounting Data'!H2:H93564,\"8??\",'Accounting Data'!I2:I93564,\"21??\",'Accounting Data'!J2:J93564,\"65??\")+SUMIFS('Accounting Data'!C2:C93564,'Accounting Data'!E2:E93564,\"9??\",'Accounting Data'!H2:H93564,\"9??\",'Accounting Data'!I2:I93564,\"21??\",'Accounting Data'!J2:J93564,\"65??\")","v":0},null,2100,{"$f":"SUMIFS('Accounting Data'!C2:C93564,'Accounting Data'!I2:I93564,\"21??\",'Accounting Data'!J2:J93564,\"66??\")","v":106496},{"$f":"SUMIFS('Accounting Data'!$C$2:$C$93564,'Accounting Data'!$E$2:$E$93564,\"575\",'Accounting Data'!$I$2:$I$93564,\"21??\",'Accounting Data'!$J$2:$J$93564,\"66??\")+SUMIFS('Accounting Data'!$C$2:$C$93564,'Accounting Data'!$E$2:$E$93564,\"8??\",'Accounting Data'!$I$2:$I$93564,\"21??\",'Accounting Data'!$J$2:$J$93564,\"66??\")+SUMIFS('Accounting Data'!$C$2:$C$93564,'Accounting Data'!$E$2:$E$93564,\"9??\",'Accounting Data'!$I$2:$I$93564,\"21??\",'Accounting Data'!$J$2:$J$93564,\"66??\")","v":0},{"$f":"SUMIFS('Accounting Data'!$C$2:$C$93564,'Accounting Data'!$H$2:$H$93564,\"7??\",'Accounting Data'!$I$2:$I$93564,\"21??\",'Accounting Data'!$J$2:$J$93564,\"66??\")+SUMIFS('Accounting Data'!$C$2:$C$93564,'Accounting Data'!$H$2:$H$93564,\"8??\",'Accounting Data'!$I$2:$I$93564,\"21??\",'Accounting Data'!$J$2:$J$93564,\"66??\")+SUMIFS('Accounting Data'!$C$2:$C$93564,'Accounting Data'!$H$2:$H$93564,\"9??\",'Accounting Data'!$I$2:$I$93564,\"21??\",'Accounting Data'!$J$2:$J$93564,\"66??\")","v":0},{"$f":"SUMIFS('Accounting Data'!$C$2:$C$93564,'Accounting Data'!$E$2:$E$93564,\"575\",'Accounting Data'!$H$2:$H$93564,\"7??\",'Accounting Data'!$I$2:$I$93564,\"21??\",'Accounting Data'!$J$2:$J$93564,\"66??\")+SUMIFS('Accounting Data'!$C$2:$C$93564,'Accounting Data'!$E$2:$E$93564,\"575\",'Accounting Data'!$H$2:$H$93564,\"8??\",'Accounting Data'!$I$2:$I$93564,\"21??\",'Accounting Data'!$J$2:$J$93564,\"66??\")+SUMIFS('Accounting Data'!$C$2:$C$93564,'Accounting Data'!$E$2:$E$93564,\"575\",'Accounting Data'!$H$2:$H$93564,\"9??\",'Accounting Data'!$I$2:$I$93564,\"21??\",'Accounting Data'!$J$2:$J$93564,\"66??\")","v":0},{"$f":"SUMIFS('Accounting Data'!$C$2:$C$93564,'Accounting Data'!$E$2:$E$93564,\"8??\",'Accounting Data'!$H$2:$H$93564,\"7??\",'Accounting Data'!$I$2:$I$93564,\"21??\",'Accounting Data'!$J$2:$J$93564,\"66??\")+SUMIFS('Accounting Data'!$C$2:$C$93564,'Accounting Data'!$E$2:$E$93564,\"8??\",'Accounting Data'!$H$2:$H$93564,\"8??\",'Accounting Data'!$I$2:$I$93564,\"21??\",'Accounting Data'!$J$2:$J$93564,\"66??\")+SUMIFS('Accounting Data'!$C$2:$C$93564,'Accounting Data'!$E$2:$E$93564,\"8??\",'Accounting Data'!$H$2:$H$93564,\"9??\",'Accounting Data'!$I$2:$I$93564,\"21??\",'Accounting Data'!$J$2:$J$93564,\"66??\")","v":0},{"$f":"SUMIFS('Accounting Data'!$C$2:$C$93564,'Accounting Data'!$E$2:$E$93564,\"9??\",'Accounting Data'!$H$2:$H$93564,\"7??\",'Accounting Data'!$I$2:$I$93564,\"21??\",'Accounting Data'!$J$2:$J$93564,\"66??\")+SUMIFS('Accounting Data'!$C$2:$C$93564,'Accounting Data'!$E$2:$E$93564,\"9??\",'Accounting Data'!$H$2:$H$93564,\"8??\",'Accounting Data'!$I$2:$I$93564,\"21??\",'Accounting Data'!$J$2:$J$93564,\"66??\")+SUMIFS('Accounting Data'!$C$2:$C$93564,'Accounting Data'!$E$2:$E$93564,\"9??\",'Accounting Data'!$H$2:$H$93564,\"9??\",'Accounting Data'!$I$2:$I$93564,\"21??\",'Accounting Data'!$J$2:$J$93564,\"66??\")","v":0},null,2100,{"$f":"SUMIFS('Accounting Data'!C2:C93564,'Accounting Data'!I2:I93564,\"21??\",'Accounting Data'!J2:J93564,\"67??\")","v":8751},{"$f":"SUMIFS('Accounting Data'!$C$2:$C$93564,'Accounting Data'!$E$2:$E$93564,\"575\",'Accounting Data'!$I$2:$I$93564,\"21??\",'Accounting Data'!$J$2:$J$93564,\"67??\")+SUMIFS('Accounting Data'!$C$2:$C$93564,'Accounting Data'!$E$2:$E$93564,\"8??\",'Accounting Data'!$I$2:$I$93564,\"21??\",'Accounting Data'!$J$2:$J$93564,\"67??\")+SUMIFS('Accounting Data'!$C$2:$C$93564,'Accounting Data'!$E$2:$E$93564,\"9??\",'Accounting Data'!$I$2:$I$93564,\"21??\",'Accounting Data'!$J$2:$J$93564,\"67??\")","v":0},{"$f":"SUMIFS('Accounting Data'!$C$2:$C$93564,'Accounting Data'!$H$2:$H$93564,\"7??\",'Accounting Data'!$I$2:$I$93564,\"21??\",'Accounting Data'!$J$2:$J$93564,\"67??\")+SUMIFS('Accounting Data'!$C$2:$C$93564,'Accounting Data'!$H$2:$H$93564,\"8??\",'Accounting Data'!$I$2:$I$93564,\"21??\",'Accounting Data'!$J$2:$J$93564,\"67??\")+SUMIFS('Accounting Data'!$C$2:$C$93564,'Accounting Data'!$H$2:$H$93564,\"9??\",'Accounting Data'!$I$2:$I$93564,\"21??\",'Accounting Data'!$J$2:$J$93564,\"67??\")","v":0},{"$f":"SUMIFS('Accounting Data'!$C$2:$C$93564,'Accounting Data'!$E$2:$E$93564,\"575\",'Accounting Data'!$H$2:$H$93564,\"7??\",'Accounting Data'!$I$2:$I$93564,\"21??\",'Accounting Data'!$J$2:$J$93564,\"67??\")+SUMIFS('Accounting Data'!$C$2:$C$93564,'Accounting Data'!$E$2:$E$93564,\"575\",'Accounting Data'!$H$2:$H$93564,\"8??\",'Accounting Data'!$I$2:$I$93564,\"21??\",'Accounting Data'!$J$2:$J$93564,\"67??\")+SUMIFS('Accounting Data'!$C$2:$C$93564,'Accounting Data'!$E$2:$E$93564,\"575\",'Accounting Data'!$H$2:$H$93564,\"9??\",'Accounting Data'!$I$2:$I$93564,\"21??\",'Accounting Data'!$J$2:$J$93564,\"67??\")","v":0},{"$f":"SUMIFS('Accounting Data'!$C$2:$C$93564,'Accounting Data'!$E$2:$E$93564,\"8??\",'Accounting Data'!$H$2:$H$93564,\"7??\",'Accounting Data'!$I$2:$I$93564,\"21??\",'Accounting Data'!$J$2:$J$93564,\"67??\")+SUMIFS('Accounting Data'!$C$2:$C$93564,'Accounting Data'!$E$2:$E$93564,\"8??\",'Accounting Data'!$H$2:$H$93564,\"8??\",'Accounting Data'!$I$2:$I$93564,\"21??\",'Accounting Data'!$J$2:$J$93564,\"67??\")+SUMIFS('Accounting Data'!$C$2:$C$93564,'Accounting Data'!$E$2:$E$93564,\"8??\",'Accounting Data'!$H$2:$H$93564,\"9??\",'Accounting Data'!$I$2:$I$93564,\"21??\",'Accounting Data'!$J$2:$J$93564,\"67??\")","v":0},{"$f":"SUMIFS('Accounting Data'!$C$2:$C$93564,'Accounting Data'!$E$2:$E$93564,\"9??\",'Accounting Data'!$H$2:$H$93564,\"7??\",'Accounting Data'!$I$2:$I$93564,\"21??\",'Accounting Data'!$J$2:$J$93564,\"67??\")+SUMIFS('Accounting Data'!$C$2:$C$93564,'Accounting Data'!$E$2:$E$93564,\"9??\",'Accounting Data'!$H$2:$H$93564,\"8??\",'Accounting Data'!$I$2:$I$93564,\"21??\",'Accounting Data'!$J$2:$J$93564,\"67??\")+SUMIFS('Accounting Data'!$C$2:$C$93564,'Accounting Data'!$E$2:$E$93564,\"9??\",'Accounting Data'!$H$2:$H$93564,\"9??\",'Accounting Data'!$I$2:$I$93564,\"21??\",'Accounting Data'!$J$2:$J$93564,\"67??\")","v":0},null,2100,{"$f":"SUMIFS('Accounting Data'!C2:C93564,'Accounting Data'!I2:I93564,\"21??\",'Accounting Data'!J2:J93564,\"681?\")","v":548},{"$f":"SUMIFS('Accounting Data'!$C$2:$C$93564,'Accounting Data'!$E$2:$E$93564,\"575\",'Accounting Data'!$I$2:$I$93564,\"21??\",'Accounting Data'!$J$2:$J$93564,\"681?\")+SUMIFS('Accounting Data'!$C$2:$C$93564,'Accounting Data'!$E$2:$E$93564,\"8??\",'Accounting Data'!$I$2:$I$93564,\"21??\",'Accounting Data'!$J$2:$J$93564,\"681?\")+SUMIFS('Accounting Data'!$C$2:$C$93564,'Accounting Data'!$E$2:$E$93564,\"9??\",'Accounting Data'!$I$2:$I$93564,\"21??\",'Accounting Data'!$J$2:$J$93564,\"681?\")","v":0},{"$f":"SUMIFS('Accounting Data'!$C$2:$C$93564,'Accounting Data'!$H$2:$H$93564,\"7??\",'Accounting Data'!$I$2:$I$93564,\"21??\",'Accounting Data'!$J$2:$J$93564,\"681?\")+SUMIFS('Accounting Data'!$C$2:$C$93564,'Accounting Data'!$H$2:$H$93564,\"8??\",'Accounting Data'!$I$2:$I$93564,\"21??\",'Accounting Data'!$J$2:$J$93564,\"681?\")+SUMIFS('Accounting Data'!$C$2:$C$93564,'Accounting Data'!$H$2:$H$93564,\"9??\",'Accounting Data'!$I$2:$I$93564,\"21??\",'Accounting Data'!$J$2:$J$93564,\"681?\")","v":0},{"$f":"SUMIFS('Accounting Data'!$C$2:$C$93564,'Accounting Data'!$E$2:$E$93564,\"575\",'Accounting Data'!$H$2:$H$93564,\"7??\",'Accounting Data'!$I$2:$I$93564,\"21??\",'Accounting Data'!$J$2:$J$93564,\"681?\")+SUMIFS('Accounting Data'!$C$2:$C$93564,'Accounting Data'!$E$2:$E$93564,\"575\",'Accounting Data'!$H$2:$H$93564,\"8??\",'Accounting Data'!$I$2:$I$93564,\"21??\",'Accounting Data'!$J$2:$J$93564,\"681?\")+SUMIFS('Accounting Data'!$C$2:$C$93564,'Accounting Data'!$E$2:$E$93564,\"575\",'Accounting Data'!$H$2:$H$93564,\"9??\",'Accounting Data'!$I$2:$I$93564,\"21??\",'Accounting Data'!$J$2:$J$93564,\"681?\")","v":0},{"$f":"SUMIFS('Accounting Data'!$C$2:$C$93564,'Accounting Data'!$E$2:$E$93564,\"8??\",'Accounting Data'!$H$2:$H$93564,\"7??\",'Accounting Data'!$I$2:$I$93564,\"21??\",'Accounting Data'!$J$2:$J$93564,\"681?\")+SUMIFS('Accounting Data'!$C$2:$C$93564,'Accounting Data'!$E$2:$E$93564,\"8??\",'Accounting Data'!$H$2:$H$93564,\"8??\",'Accounting Data'!$I$2:$I$93564,\"21??\",'Accounting Data'!$J$2:$J$93564,\"681?\")+SUMIFS('Accounting Data'!$C$2:$C$93564,'Accounting Data'!$E$2:$E$93564,\"8??\",'Accounting Data'!$H$2:$H$93564,\"9??\",'Accounting Data'!$I$2:$I$93564,\"21??\",'Accounting Data'!$J$2:$J$93564,\"681?\")","v":0},{"$f":"SUMIFS('Accounting Data'!$C$2:$C$93564,'Accounting Data'!$E$2:$E$93564,\"9??\",'Accounting Data'!$H$2:$H$93564,\"7??\",'Accounting Data'!$I$2:$I$93564,\"21??\",'Accounting Data'!$J$2:$J$93564,\"681?\")+SUMIFS('Accounting Data'!$C$2:$C$93564,'Accounting Data'!$E$2:$E$93564,\"9??\",'Accounting Data'!$H$2:$H$93564,\"8??\",'Accounting Data'!$I$2:$I$93564,\"21??\",'Accounting Data'!$J$2:$J$93564,\"681?\")+SUMIFS('Accounting Data'!$C$2:$C$93564,'Accounting Data'!$E$2:$E$93564,\"9??\",'Accounting Data'!$H$2:$H$93564,\"9??\",'Accounting Data'!$I$2:$I$93564,\"21??\",'Accounting Data'!$J$2:$J$93564,\"681?\")","v":0},null,"Function","All funds ","Funds 575,800-999","Programs 700-900","Programs 700-900 Funds 575","Programs 700-900 Funds 800-899","Programs 700-900 Funds 900-99",null,null,null,null,null,null,null,null,null,2100,{"$f":"SUM(SUMIFS('Accounting Data'!C2:C93564,'Accounting Data'!I2:I93564,\"21??\",'Accounting Data'!J2:J93564,{\"689?\",\"6885\"}))","v":-32072},{"$f":"SUM(SUMIFS('Accounting Data'!$C$2:$C$93564,'Accounting Data'!$E$2:$E$93564,\"575\",'Accounting Data'!$I$2:$I$93564,\"21??\",'Accounting Data'!$J$2:$J$93564,{\"689?\",\"6885\"}))+SUM(SUMIFS('Accounting Data'!$C$2:$C$93564,'Accounting Data'!$E$2:$E$93564,\"8??\",'Accounting Data'!$I$2:$I$93564,\"21??\",'Accounting Data'!$J$2:$J$93564,{\"689?\",\"6885\"}))+SUM(SUMIFS('Accounting Data'!$C$2:$C$93564,'Accounting Data'!$E$2:$E$93564,\"9??\",'Accounting Data'!$I$2:$I$93564,\"21??\",'Accounting Data'!$J$2:$J$93564,{\"689?\",\"6885\"}))","v":0},{"$f":"SUM(SUMIFS('Accounting Data'!$C$2:$C$93564,'Accounting Data'!$H$2:$H$93564,\"7??\",'Accounting Data'!$I$2:$I$93564,\"21??\",'Accounting Data'!$J$2:$J$93564,{\"689?\",\"6885\"}))+SUM(SUMIFS('Accounting Data'!$C$2:$C$93564,'Accounting Data'!$H$2:$H$93564,\"8??\",'Accounting Data'!$I$2:$I$93564,\"21??\",'Accounting Data'!$J$2:$J$93564,{\"689?\",\"6885\"}))+SUM(SUMIFS('Accounting Data'!$C$2:$C$93564,'Accounting Data'!$H$2:$H$93564,\"9??\",'Accounting Data'!$I$2:$I$93564,\"21??\",'Accounting Data'!$J$2:$J$93564,{\"689?\",\"6885\"}))","v":0},{"$f":"SUM(SUMIFS('Accounting Data'!$C$2:$C$93564,'Accounting Data'!$E$2:$E$93564,\"575\",'Accounting Data'!$H$2:$H$93564,\"7??\",'Accounting Data'!$I$2:$I$93564,\"21??\",'Accounting Data'!$J$2:$J$93564,{\"689?\",\"6885\"}))+SUM(SUMIFS('Accounting Data'!$C$2:$C$93564,'Accounting Data'!$E$2:$E$93564,\"575\",'Accounting Data'!$H$2:$H$93564,\"8??\",'Accounting Data'!$I$2:$I$93564,\"21??\",'Accounting Data'!$J$2:$J$93564,{\"689?\",\"6885\"}))+SUM(SUMIFS('Accounting Data'!$C$2:$C$93564,'Accounting Data'!$E$2:$E$93564,\"575\",'Accounting Data'!$H$2:$H$93564,\"9??\",'Accounting Data'!$I$2:$I$93564,\"21??\",'Accounting Data'!$J$2:$J$93564,{\"689?\",\"6885\"}))","v":0},{"$f":"SUM(SUMIFS('Accounting Data'!$C$2:$C$93564,'Accounting Data'!$E$2:$E$93564,\"8??\",'Accounting Data'!$H$2:$H$93564,\"7??\",'Accounting Data'!$I$2:$I$93564,\"21??\",'Accounting Data'!$J$2:$J$93564,{\"689?\",\"6885\"}))+SUM(SUMIFS('Accounting Data'!$C$2:$C$93564,'Accounting Data'!$E$2:$E$93564,\"8??\",'Accounting Data'!$H$2:$H$93564,\"8??\",'Accounting Data'!$I$2:$I$93564,\"21??\",'Accounting Data'!$J$2:$J$93564,{\"689?\",\"6885\"}))+SUM(SUMIFS('Accounting Data'!$C$2:$C$93564,'Accounting Data'!$E$2:$E$93564,\"8??\",'Accounting Data'!$H$2:$H$93564,\"9??\",'Accounting Data'!$I$2:$I$93564,\"21??\",'Accounting Data'!$J$2:$J$93564,{\"689?\",\"6885\"}))","v":0},{"$f":"SUM(SUMIFS('Accounting Data'!$C$2:$C$93564,'Accounting Data'!$E$2:$E$93564,\"9??\",'Accounting Data'!$H$2:$H$93564,\"7??\",'Accounting Data'!$I$2:$I$93564,\"21??\",'Accounting Data'!$J$2:$J$93564,{\"689?\",\"6885\"}))+SUM(SUMIFS('Accounting Data'!$C$2:$C$93564,'Accounting Data'!$E$2:$E$93564,\"9??\",'Accounting Data'!$H$2:$H$93564,\"8??\",'Accounting Data'!$I$2:$I$93564,\"21??\",'Accounting Data'!$J$2:$J$93564,{\"689?\",\"6885\"}))+SUM(SUMIFS('Accounting Data'!$C$2:$C$93564,'Accounting Data'!$E$2:$E$93564,\"9??\",'Accounting Data'!$H$2:$H$93564,\"9??\",'Accounting Data'!$I$2:$I$93564,\"21??\",'Accounting Data'!$J$2:$J$93564,{\"689?\",\"6885\"}))","v":0},null,2100,{"$f":"SUMIFS('Accounting Data'!$C$2:$C$93564,'Accounting Data'!$H$2:$H$93564,\"7??\",'Accounting Data'!$I$2:$I$93564,\"21??\",'Accounting Data'!$J$2:$J$93564,\"6???\")+SUMIFS('Accounting Data'!$C$2:$C$93564,'Accounting Data'!$H$2:$H$93564,\"8??\",'Accounting Data'!$I$2:$I$93564,\"21??\",'Accounting Data'!$J$2:$J$93564,\"6???\")+SUMIFS('Accounting Data'!$C$2:$C$93564,'Accounting Data'!$H$2:$H$93564,\"9??\",'Accounting Data'!$I$2:$I$93564,\"21??\",'Accounting Data'!$J$2:$J$93564,\"6???\")","v":0},{"$f":"SUMIFS('Accounting Data'!$C$2:$C$93564,'Accounting Data'!$H$2:$H$93564,\"7??\",'Accounting Data'!$I$2:$I$93564,\"21??\",'Accounting Data'!$J$2:$J$93564,\"69??\")+SUMIFS('Accounting Data'!$C$2:$C$93564,'Accounting Data'!$H$2:$H$93564,\"8??\",'Accounting Data'!$I$2:$I$93564,\"21??\",'Accounting Data'!$J$2:$J$93564,\"69??\")+SUMIFS('Accounting Data'!$C$2:$C$93564,'Accounting Data'!$H$2:$H$93564,\"9??\",'Accounting Data'!$I$2:$I$93564,\"21??\",'Accounting Data'!$J$2:$J$93564,\"69??\")","v":0},{"$f":"SUMIFS('Accounting Data'!$C$2:$C$93564,'Accounting Data'!$E$2:$E$93564,\"575\",'Accounting Data'!$H$2:$H$93564,\"7??\",'Accounting Data'!$I$2:$I$93564,\"21??\",'Accounting Data'!$J$2:$J$93564,\"6???\")+SUMIFS('Accounting Data'!$C$2:$C$93564,'Accounting Data'!$E$2:$E$93564,\"575\",'Accounting Data'!$H$2:$H$93564,\"8??\",'Accounting Data'!$I$2:$I$93564,\"21??\",'Accounting Data'!$J$2:$J$93564,\"6???\")+SUMIFS('Accounting Data'!$C$2:$C$93564,'Accounting Data'!$E$2:$E$93564,\"575\",'Accounting Data'!$H$2:$H$93564,\"9??\",'Accounting Data'!$I$2:$I$93564,\"21??\",'Accounting Data'!$J$2:$J$93564,\"6???\")","v":0},{"$f":"SUMIFS('Accounting Data'!$C$2:$C$93564,'Accounting Data'!$E$2:$E$93564,\"8??\",'Accounting Data'!$H$2:$H$93564,\"7??\",'Accounting Data'!$I$2:$I$93564,\"21??\",'Accounting Data'!$J$2:$J$93564,\"6???\")+SUMIFS('Accounting Data'!$C$2:$C$93564,'Accounting Data'!$E$2:$E$93564,\"8??\",'Accounting Data'!$H$2:$H$93564,\"8??\",'Accounting Data'!$I$2:$I$93564,\"21??\",'Accounting Data'!$J$2:$J$93564,\"6???\")+SUMIFS('Accounting Data'!$C$2:$C$93564,'Accounting Data'!$E$2:$E$93564,\"8??\",'Accounting Data'!$H$2:$H$93564,\"9??\",'Accounting Data'!$I$2:$I$93564,\"21??\",'Accounting Data'!$J$2:$J$93564,\"6???\")+SUMIFS('Accounting Data'!$C$2:$C$93564,'Accounting Data'!$E$2:$E$93564,\"9??\",'Accounting Data'!$H$2:$H$93564,\"7??\",'Accounting Data'!$I$2:$I$93564,\"21??\",'Accounting Data'!$J$2:$J$93564,\"6???\")+SUMIFS('Accounting Data'!$C$2:$C$93564,'Accounting Data'!$E$2:$E$93564,\"9??\",'Accounting Data'!$H$2:$H$93564,\"8??\",'Accounting Data'!$I$2:$I$93564,\"21??\",'Accounting Data'!$J$2:$J$93564,\"6???\")+SUMIFS('Accounting Data'!$C$2:$C$93564,'Accounting Data'!$E$2:$E$93564,\"9??\",'Accounting Data'!$H$2:$H$93564,\"9??\",'Accounting Data'!$I$2:$I$93564,\"21??\",'Accounting Data'!$J$2:$J$93564,\"6???\")","v":0},{"$f":"SUMIFS('Accounting Data'!$C$2:$C$93564,'Accounting Data'!$E$2:$E$93564,\"575\",'Accounting Data'!$H$2:$H$93564,\"7??\",'Accounting Data'!$I$2:$I$93564,\"21??\",'Accounting Data'!$J$2:$J$93564,\"69??\")+SUMIFS('Accounting Data'!$C$2:$C$93564,'Accounting Data'!$E$2:$E$93564,\"575\",'Accounting Data'!$H$2:$H$93564,\"8??\",'Accounting Data'!$I$2:$I$93564,\"21??\",'Accounting Data'!$J$2:$J$93564,\"69??\")+SUMIFS('Accounting Data'!$C$2:$C$93564,'Accounting Data'!$E$2:$E$93564,\"575\",'Accounting Data'!$H$2:$H$93564,\"9??\",'Accounting Data'!$I$2:$I$93564,\"21??\",'Accounting Data'!$J$2:$J$93564,\"69??\")","v":0},{"$f":"SUMIFS('Accounting Data'!$C$2:$C$93564,'Accounting Data'!$E$2:$E$93564,\"8??\",'Accounting Data'!$H$2:$H$93564,\"7??\",'Accounting Data'!$I$2:$I$93564,\"21??\",'Accounting Data'!$J$2:$J$93564,\"69??\")+SUMIFS('Accounting Data'!$C$2:$C$93564,'Accounting Data'!$E$2:$E$93564,\"8??\",'Accounting Data'!$H$2:$H$93564,\"8??\",'Accounting Data'!$I$2:$I$93564,\"21??\",'Accounting Data'!$J$2:$J$93564,\"69??\")+SUMIFS('Accounting Data'!$C$2:$C$93564,'Accounting Data'!$E$2:$E$93564,\"8??\",'Accounting Data'!$H$2:$H$93564,\"9??\",'Accounting Data'!$I$2:$I$93564,\"21??\",'Accounting Data'!$J$2:$J$93564,\"69??\")+SUMIFS('Accounting Data'!$C$2:$C$93564,'Accounting Data'!$E$2:$E$93564,\"9??\",'Accounting Data'!$H$2:$H$93564,\"7??\",'Accounting Data'!$I$2:$I$93564,\"21??\",'Accounting Data'!$J$2:$J$93564,\"69??\")+SUMIFS('Accounting Data'!$C$2:$C$93564,'Accounting Data'!$E$2:$E$93564,\"9??\",'Accounting Data'!$H$2:$H$93564,\"8??\",'Accounting Data'!$I$2:$I$93564,\"21??\",'Accounting Data'!$J$2:$J$93564,\"69??\")+SUMIFS('Accounting Data'!$C$2:$C$93564,'Accounting Data'!$E$2:$E$93564,\"9??\",'Accounting Data'!$H$2:$H$93564,\"9??\",'Accounting Data'!$I$2:$I$93564,\"21??\",'Accounting Data'!$J$2:$J$93564,\"69??\")","v":0}]
["         2200 Instructional Staff","3.",{"$f":"(AA13-AB13-AC13)+(AD13+AE13+AF13)","v":2406132},{"$f":"(AI13-AJ13-AK13)+(AL13+AM13+AN13)","v":710436},{"$f":"(AQ13-AR13-AS13-AT13-AU13)+(AV13+AW13+AX13+AY13+AZ13+BA13+BB13+BC13+BD13)","v":430306},{"$f":"(BG13-BH13-BI13)+(BJ13+BK13+BL13)","v":166299},{"$f":"(BO13-BP13-BQ13)+(BR13+BS13+BT13)","v":632183},{"$f":"(BW13-BX13-BY13)+(BZ13+CA13+CB13)","v":1572},null,null,null,{"$f":"(CU13-CV13-CW13)+(CX13+CY13+CZ13)","v":0},{"$f":"(DC13-DD13)-((DE13+DF13)-(DG13+DH13))","v":0},4346928,"3.",null,null,null,null,null,null,null,null,null,null,2200,{"$f":"SUMIFS('Accounting Data'!C2:C93564,'Accounting Data'!I2:I93564,\"22??\",'Accounting Data'!J2:J93564,\"61??\")","v":2406132},{"$f":"SUMIFS('Accounting Data'!C2:C93564,'Accounting Data'!E2:E93564,\"575\",'Accounting Data'!I2:I93564,\"22??\",'Accounting Data'!J2:J93564,\"61??\")+SUMIFS('Accounting Data'!C2:C93564,'Accounting Data'!E2:E93564,\"8??\",'Accounting Data'!I2:I93564,\"22??\",'Accounting Data'!J2:J93564,\"61??\")+SUMIFS('Accounting Data'!C2:C93564,'Accounting Data'!E2:E93564,\"9??\",'Accounting Data'!I2:I93564,\"22??\",'Accounting Data'!J2:J93564,\"61??\")","v":0},{"$f":"SUMIFS('Accounting Data'!C2:C93564,'Accounting Data'!H2:H93564,\"7??\",'Accounting Data'!I2:I93564,\"22??\",'Accounting Data'!J2:J93564,\"61??\")+SUMIFS('Accounting Data'!C2:C93564,'Accounting Data'!H2:H93564,\"8??\",'Accounting Data'!I2:I93564,\"22??\",'Accounting Data'!J2:J93564,\"61??\")+SUMIFS('Accounting Data'!C2:C93564,'Accounting Data'!H2:H93564,\"9??\",'Accounting Data'!I2:I93564,\"22??\",'Accounting Data'!J2:J93564,\"61??\")","v":0},{"$f":"SUMIFS('Accounting Data'!C2:C93564,'Accounting Data'!E2:E93564,\"575\",'Accounting Data'!H2:H93564,\"7??\",'Accounting Data'!I2:I93564,\"22??\",'Accounting Data'!J2:J93564,\"61??\")+SUMIFS('Accounting Data'!C2:C93564,'Accounting Data'!E2:E93564,\"575\",'Accounting Data'!H2:H93564,\"8??\",'Accounting Data'!I2:I93564,\"22??\",'Accounting Data'!J2:J93564,\"61??\")+SUMIFS('Accounting Data'!C2:C93564,'Accounting Data'!E2:E93564,\"575\",'Accounting Data'!H2:H93564,\"9??\",'Accounting Data'!I2:I93564,\"22??\",'Accounting Data'!J2:J93564,\"61??\")","v":0},{"$f":"SUMIFS('Accounting Data'!C2:C93564,'Accounting Data'!E2:E93564,\"8??\",'Accounting Data'!H2:H93564,\"7??\",'Accounting Data'!I2:I93564,\"22??\",'Accounting Data'!J2:J93564,\"61??\")+SUMIFS('Accounting Data'!C2:C93564,'Accounting Data'!E2:E93564,\"8??\",'Accounting Data'!H2:H93564,\"8??\",'Accounting Data'!I2:I93564,\"22??\",'Accounting Data'!J2:J93564,\"61??\")+SUMIFS('Accounting Data'!C2:C93564,'Accounting Data'!E2:E93564,\"8??\",'Accounting Data'!H2:H93564,\"9??\",'Accounting Data'!I2:I93564,\"22??\",'Accounting Data'!J2:J93564,\"61??\")","v":0},{"$f":"SUMIFS('Accounting Data'!C2:C93564,'Accounting Data'!E2:E93564,\"9??\",'Accounting Data'!H2:H93564,\"7??\",'Accounting Data'!I2:I93564,\"22??\",'Accounting Data'!J2:J93564,\"61??\")+SUMIFS('Accounting Data'!C2:C93564,'Accounting Data'!E2:E93564,\"9??\",'Accounting Data'!H2:H93564,\"8??\",'Accounting Data'!I2:I93564,\"22??\",'Accounting Data'!J2:J93564,\"61??\")+SUMIFS('Accounting Data'!C2:C93564,'Accounting Data'!E2:E93564,\"9??\",'Accounting Data'!H2:H93564,\"9??\",'Accounting Data'!I2:I93564,\"22??\",'Accounting Data'!J2:J93564,\"61??\")","v":0},null,2200,{"$f":"SUMIFS('Accounting Data'!C2:C93564,'Accounting Data'!I2:I93564,\"22??\",'Accounting Data'!J2:J93564,\"62??\")","v":710436},{"$f":"SUMIFS('Accounting Data'!C2:C93564,'Accounting Data'!E2:E93564,\"575\",'Accounting Data'!I2:I93564,\"22??\",'Accounting Data'!J2:J93564,\"62??\")+SUMIFS('Accounting Data'!C2:C93564,'Accounting Data'!E2:E93564,\"8??\",'Accounting Data'!I2:I93564,\"22??\",'Accounting Data'!J2:J93564,\"62??\")+SUMIFS('Accounting Data'!C2:C93564,'Accounting Data'!E2:E93564,\"9??\",'Accounting Data'!I2:I93564,\"22??\",'Accounting Data'!J2:J93564,\"62??\")","v":0},{"$f":"SUMIFS('Accounting Data'!C2:C93564,'Accounting Data'!H2:H93564,\"7??\",'Accounting Data'!I2:I93564,\"22??\",'Accounting Data'!J2:J93564,\"62??\")+SUMIFS('Accounting Data'!C2:C93564,'Accounting Data'!H2:H93564,\"8??\",'Accounting Data'!I2:I93564,\"22??\",'Accounting Data'!J2:J93564,\"62??\")+SUMIFS('Accounting Data'!C2:C93564,'Accounting Data'!H2:H93564,\"9??\",'Accounting Data'!I2:I93564,\"22??\",'Accounting Data'!J2:J93564,\"62??\")","v":0},{"$f":"SUMIFS('Accounting Data'!C2:C93564,'Accounting Data'!E2:E93564,\"575\",'Accounting Data'!H2:H93564,\"7??\",'Accounting Data'!I2:I93564,\"22??\",'Accounting Data'!J2:J93564,\"62??\")+SUMIFS('Accounting Data'!C2:C93564,'Accounting Data'!E2:E93564,\"575\",'Accounting Data'!H2:H93564,\"8??\",'Accounting Data'!I2:I93564,\"22??\",'Accounting Data'!J2:J93564,\"62??\")+SUMIFS('Accounting Data'!C2:C93564,'Accounting Data'!E2:E93564,\"575\",'Accounting Data'!H2:H93564,\"9??\",'Accounting Data'!I2:I93564,\"22??\",'Accounting Data'!J2:J93564,\"62??\")","v":0},{"$f":"SUMIFS('Accounting Data'!C2:C93564,'Accounting Data'!E2:E93564,\"8??\",'Accounting Data'!H2:H93564,\"7??\",'Accounting Data'!I2:I93564,\"22??\",'Accounting Data'!J2:J93564,\"62??\")+SUMIFS('Accounting Data'!C2:C93564,'Accounting Data'!E2:E93564,\"8??\",'Accounting Data'!H2:H93564,\"8??\",'Accounting Data'!I2:I93564,\"22??\",'Accounting Data'!J2:J93564,\"62??\")+SUMIFS('Accounting Data'!C2:C93564,'Accounting Data'!E2:E93564,\"8??\",'Accounting Data'!H2:H93564,\"9??\",'Accounting Data'!I2:I93564,\"22??\",'Accounting Data'!J2:J93564,\"62??\")","v":0},{"$f":"SUMIFS('Accounting Data'!C2:C93564,'Accounting Data'!E2:E93564,\"9??\",'Accounting Data'!H2:H93564,\"7??\",'Accounting Data'!I2:I93564,\"22??\",'Accounting Data'!J2:J93564,\"62??\")+SUMIFS('Accounting Data'!C2:C93564,'Accounting Data'!E2:E93564,\"9??\",'Accounting Data'!H2:H93564,\"8??\",'Accounting Data'!I2:I93564,\"22??\",'Accounting Data'!J2:J93564,\"62??\")+SUMIFS('Accounting Data'!C2:C93564,'Accounting Data'!E2:E93564,\"9??\",'Accounting Data'!H2:H93564,\"9??\",'Accounting Data'!I2:I93564,\"22??\",'Accounting Data'!J2:J93564,\"62??\")","v":0},null,2200,{"$f":"SUMIFS('Accounting Data'!C2:C93564,'Accounting Data'!I2:I93564,\"22??\",'Accounting Data'!J2:J93564,\"63??\")+SUMIFS('Accounting Data'!C2:C93564,'Accounting Data'!I2:I93564,\"22??\",'Accounting Data'!J2:J93564,\"64??\")+SUMIFS('Accounting Data'!C2:C93564,'Accounting Data'!I2:I93564,\"22??\",'Accounting Data'!J2:J93564,\"65??\")","v":430306},{"$f":"SUMIFS('Accounting Data'!C2:C93564,'Accounting Data'!E2:E93564,\"575\",'Accounting Data'!I2:I93564,\"22??\",'Accounting Data'!J2:J93564,\"63??\")+SUMIFS('Accounting Data'!C2:C93564,'Accounting Data'!E2:E93564,\"8??\",'Accounting Data'!I2:I93564,\"22??\",'Accounting Data'!J2:J93564,\"63??\")+SUMIFS('Accounting Data'!C2:C93564,'Accounting Data'!E2:E93564,\"9??\",'Accounting Data'!I2:I93564,\"22??\",'Accounting Data'!J2:J93564,\"63??\")","v":0},{"$f":"SUMIFS('Accounting Data'!C2:C93564,'Accounting Data'!E2:E93564,\"575\",'Accounting Data'!I2:I93564,\"22??\",'Accounting Data'!J2:J93564,\"64??\")+SUMIFS('Accounting Data'!C2:C93564,'Accounting Data'!E2:E93564,\"8??\",'Accounting Data'!I2:I93564,\"22??\",'Accounting Data'!J2:J93564,\"64??\")+SUMIFS('Accounting Data'!C2:C93564,'Accounting Data'!E2:E93564,\"9??\",'Accounting Data'!I2:I93564,\"22??\",'Accounting Data'!J2:J93564,\"64??\")","v":0},{"$f":"SUMIFS('Accounting Data'!C2:C93564,'Accounting Data'!E2:E93564,\"575\",'Accounting Data'!I2:I93564,\"22??\",'Accounting Data'!J2:J93564,\"65??\")+SUMIFS('Accounting Data'!C2:C93564,'Accounting Data'!E2:E93564,\"8??\",'Accounting Data'!I2:I93564,\"22??\",'Accounting Data'!J2:J93564,\"65??\")+SUMIFS('Accounting Data'!C2:C93564,'Accounting Data'!E2:E93564,\"9??\",'Accounting Data'!I2:I93564,\"22??\",'Accounting Data'!J2:J93564,\"65??\")","v":0},{"$f":"SUMIFS('Accounting Data'!C2:C93564,'Accounting Data'!H2:H93564,\"7??\",'Accounting Data'!I2:I93564,\"22??\",'Accounting Data'!J2:J93564,\"63??\")+SUMIFS('Accounting Data'!C2:C93564,'Accounting Data'!H2:H93564,\"8??\",'Accounting Data'!I2:I93564,\"22??\",'Accounting Data'!J2:J93564,\"63??\")+SUMIFS('Accounting Data'!C2:C93564,'Accounting Data'!H2:H93564,\"9??\",'Accounting Data'!I2:I93564,\"22??\",'Accounting Data'!J2:J93564,\"63??\")+SUMIFS('Accounting Data'!C2:C93564,'Accounting Data'!H2:H93564,\"7??\",'Accounting Data'!I2:I93564,\"22??\",'Accounting Data'!J2:J93564,\"64??\")+SUMIFS('Accounting Data'!C2:C93564,'Accounting Data'!H2:H93564,\"8??\",'Accounting Data'!I2:I93564,\"22??\",'Accounting Data'!J2:J93564,\"64??\")+SUMIFS('Accounting Data'!C2:C93564,'Accounting Data'!H2:H93564,\"9??\",'Accounting Data'!I2:I93564,\"22??\",'Accounting Data'!J2:J93564,\"64??\")+SUMIFS('Accounting Data'!C2:C93564,'Accounting Data'!H2:H93564,\"7??\",'Accounting Data'!I2:I93564,\"22??\",'Accounting Data'!J2:J93564,\"65??\")+SUMIFS('Accounting Data'!C2:C93564,'Accounting Data'!H2:H93564,\"8??\",'Accounting Data'!I2:I93564,\"22??\",'Accounting Data'!J2:J93564,\"65??\")+SUMIFS('Accounting Data'!C2:C93564,'Accounting Data'!H2:H93564,\"9??\",'Accounting Data'!I2:I93564,\"22??\",'Accounting Data'!J2:J93564,\"65??\")","v":0},{"$f":"SUMIFS('Accounting Data'!C2:C93564,'Accounting Data'!E2:E93564,\"575\",'Accounting Data'!H2:H93564,\"7??\",'Accounting Data'!I2:I93564,\"22??\",'Accounting Data'!J2:J93564,\"63??\")+SUMIFS('Accounting Data'!C2:C93564,'Accounting Data'!E2:E93564,\"575\",'Accounting Data'!H2:H93564,\"8??\",'Accounting Data'!I2:I93564,\"22??\",'Accounting Data'!J2:J93564,\"63??\")+SUMIFS('Accounting Data'!C2:C93564,'Accounting Data'!E2:E93564,\"575\",'Accounting Data'!H2:H93564,\"9??\",'Accounting Data'!I2:I93564,\"22??\",'Accounting Data'!J2:J93564,\"63??\")","v":0},{"$f":"SUMIFS('Accounting Data'!C2:C93564,'Accounting Data'!E2:E93564,\"575\",'Accounting Data'!H2:H93564,\"7??\",'Accounting Data'!I2:I93564,\"22??\",'Accounting Data'!J2:J93564,\"64??\")+SUMIFS('Accounting Data'!C2:C93564,'Accounting Data'!E2:E93564,\"575\",'Accounting Data'!H2:H93564,\"8??\",'Accounting Data'!I2:I93564,\"22??\",'Accounting Data'!J2:J93564,\"64??\")+SUMIFS('Accounting Data'!C2:C93564,'Accounting Data'!E2:E93564,\"575\",'Accounting Data'!H2:H93564,\"9??\",'Accounting Data'!I2:I93564,\"22??\",'Accounting Data'!J2:J93564,\"64??\")","v":0},{"$f":"SUMIFS('Accounting Data'!C2:C93564,'Accounting Data'!E2:E93564,\"575\",'Accounting Data'!H2:H93564,\"7??\",'Accounting Data'!I2:I93564,\"22??\",'Accounting Data'!J2:J93564,\"65??\")+SUMIFS('Accounting Data'!C2:C93564,'Accounting Data'!E2:E93564,\"575\",'Accounting Data'!H2:H93564,\"8??\",'Accounting Data'!I2:I93564,\"22??\",'Accounting Data'!J2:J93564,\"65??\")+SUMIFS('Accounting Data'!C2:C93564,'Accounting Data'!E2:E93564,\"575\",'Accounting Data'!H2:H93564,\"9??\",'Accounting Data'!I2:I93564,\"22??\",'Accounting Data'!J2:J93564,\"65??\")","v":0},{"$f":"SUMIFS('Accounting Data'!C2:C93564,'Accounting Data'!E2:E93564,\"8??\",'Accounting Data'!H2:H93564,\"7??\",'Accounting Data'!I2:I93564,\"22??\",'Accounting Data'!J2:J93564,\"63??\")+SUMIFS('Accounting Data'!C2:C93564,'Accounting Data'!E2:E93564,\"8??\",'Accounting Data'!H2:H93564,\"8??\",'Accounting Data'!I2:I93564,\"22??\",'Accounting Data'!J2:J93564,\"63??\")+SUMIFS('Accounting Data'!C2:C93564,'Accounting Data'!E2:E93564,\"8??\",'Accounting Data'!H2:H93564,\"9??\",'Accounting Data'!I2:I93564,\"22??\",'Accounting Data'!J2:J93564,\"63??\")","v":0},{"$f":"SUMIFS('Accounting Data'!C2:C93564,'Accounting Data'!E2:E93564,\"8??\",'Accounting Data'!H2:H93564,\"7??\",'Accounting Data'!I2:I93564,\"22??\",'Accounting Data'!J2:J93564,\"64??\")+SUMIFS('Accounting Data'!C2:C93564,'Accounting Data'!E2:E93564,\"8??\",'Accounting Data'!H2:H93564,\"8??\",'Accounting Data'!I2:I93564,\"22??\",'Accounting Data'!J2:J93564,\"64??\")+SUMIFS('Accounting Data'!C2:C93564,'Accounting Data'!E2:E93564,\"8??\",'Accounting Data'!H2:H93564,\"9??\",'Accounting Data'!I2:I93564,\"22??\",'Accounting Data'!J2:J93564,\"64??\")","v":0},{"$f":"SUMIFS('Accounting Data'!C2:C93564,'Accounting Data'!E2:E93564,\"8??\",'Accounting Data'!H2:H93564,\"7??\",'Accounting Data'!I2:I93564,\"22??\",'Accounting Data'!J2:J93564,\"65??\")+SUMIFS('Accounting Data'!C2:C93564,'Accounting Data'!E2:E93564,\"8??\",'Accounting Data'!H2:H93564,\"8??\",'Accounting Data'!I2:I93564,\"22??\",'Accounting Data'!J2:J93564,\"65??\")+SUMIFS('Accounting Data'!C2:C93564,'Accounting Data'!E2:E93564,\"8??\",'Accounting Data'!H2:H93564,\"9??\",'Accounting Data'!I2:I93564,\"22??\",'Accounting Data'!J2:J93564,\"65??\")","v":0},{"$f":"SUMIFS('Accounting Data'!C2:C93564,'Accounting Data'!E2:E93564,\"9??\",'Accounting Data'!H2:H93564,\"7??\",'Accounting Data'!I2:I93564,\"22??\",'Accounting Data'!J2:J93564,\"63??\")+SUMIFS('Accounting Data'!C2:C93564,'Accounting Data'!E2:E93564,\"9??\",'Accounting Data'!H2:H93564,\"8??\",'Accounting Data'!I2:I93564,\"22??\",'Accounting Data'!J2:J93564,\"63??\")+SUMIFS('Accounting Data'!C2:C93564,'Accounting Data'!E2:E93564,\"9??\",'Accounting Data'!H2:H93564,\"9??\",'Accounting Data'!I2:I93564,\"22??\",'Accounting Data'!J2:J93564,\"63??\")","v":0},{"$f":"SUMIFS('Accounting Data'!C2:C93564,'Accounting Data'!E2:E93564,\"9??\",'Accounting Data'!H2:H93564,\"7??\",'Accounting Data'!I2:I93564,\"22??\",'Accounting Data'!J2:J93564,\"64??\")+SUMIFS('Accounting Data'!C2:C93564,'Accounting Data'!E2:E93564,\"9??\",'Accounting Data'!H2:H93564,\"8??\",'Accounting Data'!I2:I93564,\"22??\",'Accounting Data'!J2:J93564,\"64??\")+SUMIFS('Accounting Data'!C2:C93564,'Accounting Data'!E2:E93564,\"9??\",'Accounting Data'!H2:H93564,\"9??\",'Accounting Data'!I2:I93564,\"22??\",'Accounting Data'!J2:J93564,\"64??\")","v":0},{"$f":"SUMIFS('Accounting Data'!C2:C93564,'Accounting Data'!E2:E93564,\"9??\",'Accounting Data'!H2:H93564,\"7??\",'Accounting Data'!I2:I93564,\"22??\",'Accounting Data'!J2:J93564,\"65??\")+SUMIFS('Accounting Data'!C2:C93564,'Accounting Data'!E2:E93564,\"9??\",'Accounting Data'!H2:H93564,\"8??\",'Accounting Data'!I2:I93564,\"22??\",'Accounting Data'!J2:J93564,\"65??\")+SUMIFS('Accounting Data'!C2:C93564,'Accounting Data'!E2:E93564,\"9??\",'Accounting Data'!H2:H93564,\"9??\",'Accounting Data'!I2:I93564,\"22??\",'Accounting Data'!J2:J93564,\"65??\")","v":0},null,2200,{"$f":"SUMIFS('Accounting Data'!C2:C93564,'Accounting Data'!I2:I93564,\"22??\",'Accounting Data'!J2:J93564,\"66??\")","v":166299},{"$f":"SUMIFS('Accounting Data'!$C$2:$C$93564,'Accounting Data'!$E$2:$E$93564,\"575\",'Accounting Data'!$I$2:$I$93564,\"22??\",'Accounting Data'!$J$2:$J$93564,\"66??\")+SUMIFS('Accounting Data'!$C$2:$C$93564,'Accounting Data'!$E$2:$E$93564,\"8??\",'Accounting Data'!$I$2:$I$93564,\"22??\",'Accounting Data'!$J$2:$J$93564,\"66??\")+SUMIFS('Accounting Data'!$C$2:$C$93564,'Accounting Data'!$E$2:$E$93564,\"9??\",'Accounting Data'!$I$2:$I$93564,\"22??\",'Accounting Data'!$J$2:$J$93564,\"66??\")","v":0},{"$f":"SUMIFS('Accounting Data'!$C$2:$C$93564,'Accounting Data'!$H$2:$H$93564,\"7??\",'Accounting Data'!$I$2:$I$93564,\"22??\",'Accounting Data'!$J$2:$J$93564,\"66??\")+SUMIFS('Accounting Data'!$C$2:$C$93564,'Accounting Data'!$H$2:$H$93564,\"8??\",'Accounting Data'!$I$2:$I$93564,\"22??\",'Accounting Data'!$J$2:$J$93564,\"66??\")+SUMIFS('Accounting Data'!$C$2:$C$93564,'Accounting Data'!$H$2:$H$93564,\"9??\",'Accounting Data'!$I$2:$I$93564,\"22??\",'Accounting Data'!$J$2:$J$93564,\"66??\")","v":0},{"$f":"SUMIFS('Accounting Data'!$C$2:$C$93564,'Accounting Data'!$E$2:$E$93564,\"575\",'Accounting Data'!$H$2:$H$93564,\"7??\",'Accounting Data'!$I$2:$I$93564,\"22??\",'Accounting Data'!$J$2:$J$93564,\"66??\")+SUMIFS('Accounting Data'!$C$2:$C$93564,'Accounting Data'!$E$2:$E$93564,\"575\",'Accounting Data'!$H$2:$H$93564,\"8??\",'Accounting Data'!$I$2:$I$93564,\"22??\",'Accounting Data'!$J$2:$J$93564,\"66??\")+SUMIFS('Accounting Data'!$C$2:$C$93564,'Accounting Data'!$E$2:$E$93564,\"575\",'Accounting Data'!$H$2:$H$93564,\"9??\",'Accounting Data'!$I$2:$I$93564,\"22??\",'Accounting Data'!$J$2:$J$93564,\"66??\")","v":0},{"$f":"SUMIFS('Accounting Data'!$C$2:$C$93564,'Accounting Data'!$E$2:$E$93564,\"8??\",'Accounting Data'!$H$2:$H$93564,\"7??\",'Accounting Data'!$I$2:$I$93564,\"22??\",'Accounting Data'!$J$2:$J$93564,\"66??\")+SUMIFS('Accounting Data'!$C$2:$C$93564,'Accounting Data'!$E$2:$E$93564,\"8??\",'Accounting Data'!$H$2:$H$93564,\"8??\",'Accounting Data'!$I$2:$I$93564,\"22??\",'Accounting Data'!$J$2:$J$93564,\"66??\")+SUMIFS('Accounting Data'!$C$2:$C$93564,'Accounting Data'!$E$2:$E$93564,\"8??\",'Accounting Data'!$H$2:$H$93564,\"9??\",'Accounting Data'!$I$2:$I$93564,\"22??\",'Accounting Data'!$J$2:$J$93564,\"66??\")","v":0},{"$f":"SUMIFS('Accounting Data'!$C$2:$C$93564,'Accounting Data'!$E$2:$E$93564,\"9??\",'Accounting Data'!$H$2:$H$93564,\"7??\",'Accounting Data'!$I$2:$I$93564,\"22??\",'Accounting Data'!$J$2:$J$93564,\"66??\")+SUMIFS('Accounting Data'!$C$2:$C$93564,'Accounting Data'!$E$2:$E$93564,\"9??\",'Accounting Data'!$H$2:$H$93564,\"8??\",'Accounting Data'!$I$2:$I$93564,\"22??\",'Accounting Data'!$J$2:$J$93564,\"66??\")+SUMIFS('Accounting Data'!$C$2:$C$93564,'Accounting Data'!$E$2:$E$93564,\"9??\",'Accounting Data'!$H$2:$H$93564,\"9??\",'Accounting Data'!$I$2:$I$93564,\"22??\",'Accounting Data'!$J$2:$J$93564,\"66??\")","v":0},null,2200,{"$f":"SUMIFS('Accounting Data'!C2:C93564,'Accounting Data'!I2:I93564,\"22??\",'Accounting Data'!J2:J93564,\"67??\")","v":632183},{"$f":"SUMIFS('Accounting Data'!$C$2:$C$93564,'Accounting Data'!$E$2:$E$93564,\"575\",'Accounting Data'!$I$2:$I$93564,\"22??\",'Accounting Data'!$J$2:$J$93564,\"67??\")+SUMIFS('Accounting Data'!$C$2:$C$93564,'Accounting Data'!$E$2:$E$93564,\"8??\",'Accounting Data'!$I$2:$I$93564,\"22??\",'Accounting Data'!$J$2:$J$93564,\"67??\")+SUMIFS('Accounting Data'!$C$2:$C$93564,'Accounting Data'!$E$2:$E$93564,\"9??\",'Accounting Data'!$I$2:$I$93564,\"22??\",'Accounting Data'!$J$2:$J$93564,\"67??\")","v":0},{"$f":"SUMIFS('Accounting Data'!$C$2:$C$93564,'Accounting Data'!$H$2:$H$93564,\"7??\",'Accounting Data'!$I$2:$I$93564,\"22??\",'Accounting Data'!$J$2:$J$93564,\"67??\")+SUMIFS('Accounting Data'!$C$2:$C$93564,'Accounting Data'!$H$2:$H$93564,\"8??\",'Accounting Data'!$I$2:$I$93564,\"22??\",'Accounting Data'!$J$2:$J$93564,\"67??\")+SUMIFS('Accounting Data'!$C$2:$C$93564,'Accounting Data'!$H$2:$H$93564,\"9??\",'Accounting Data'!$I$2:$I$93564,\"22??\",'Accounting Data'!$J$2:$J$93564,\"67??\")","v":0},{"$f":"SUMIFS('Accounting Data'!$C$2:$C$93564,'Accounting Data'!$E$2:$E$93564,\"575\",'Accounting Data'!$H$2:$H$93564,\"7??\",'Accounting Data'!$I$2:$I$93564,\"22??\",'Accounting Data'!$J$2:$J$93564,\"67??\")+SUMIFS('Accounting Data'!$C$2:$C$93564,'Accounting Data'!$E$2:$E$93564,\"575\",'Accounting Data'!$H$2:$H$93564,\"8??\",'Accounting Data'!$I$2:$I$93564,\"22??\",'Accounting Data'!$J$2:$J$93564,\"67??\")+SUMIFS('Accounting Data'!$C$2:$C$93564,'Accounting Data'!$E$2:$E$93564,\"575\",'Accounting Data'!$H$2:$H$93564,\"9??\",'Accounting Data'!$I$2:$I$93564,\"22??\",'Accounting Data'!$J$2:$J$93564,\"67??\")","v":0},{"$f":"SUMIFS('Accounting Data'!$C$2:$C$93564,'Accounting Data'!$E$2:$E$93564,\"8??\",'Accounting Data'!$H$2:$H$93564,\"7??\",'Accounting Data'!$I$2:$I$93564,\"22??\",'Accounting Data'!$J$2:$J$93564,\"67??\")+SUMIFS('Accounting Data'!$C$2:$C$93564,'Accounting Data'!$E$2:$E$93564,\"8??\",'Accounting Data'!$H$2:$H$93564,\"8??\",'Accounting Data'!$I$2:$I$93564,\"22??\",'Accounting Data'!$J$2:$J$93564,\"67??\")+SUMIFS('Accounting Data'!$C$2:$C$93564,'Accounting Data'!$E$2:$E$93564,\"8??\",'Accounting Data'!$H$2:$H$93564,\"9??\",'Accounting Data'!$I$2:$I$93564,\"22??\",'Accounting Data'!$J$2:$J$93564,\"67??\")","v":0},{"$f":"SUMIFS('Accounting Data'!$C$2:$C$93564,'Accounting Data'!$E$2:$E$93564,\"9??\",'Accounting Data'!$H$2:$H$93564,\"7??\",'Accounting Data'!$I$2:$I$93564,\"22??\",'Accounting Data'!$J$2:$J$93564,\"67??\")+SUMIFS('Accounting Data'!$C$2:$C$93564,'Accounting Data'!$E$2:$E$93564,\"9??\",'Accounting Data'!$H$2:$H$93564,\"8??\",'Accounting Data'!$I$2:$I$93564,\"22??\",'Accounting Data'!$J$2:$J$93564,\"67??\")+SUMIFS('Accounting Data'!$C$2:$C$93564,'Accounting Data'!$E$2:$E$93564,\"9??\",'Accounting Data'!$H$2:$H$93564,\"9??\",'Accounting Data'!$I$2:$I$93564,\"22??\",'Accounting Data'!$J$2:$J$93564,\"67??\")","v":0},null,2200,{"$f":"SUMIFS('Accounting Data'!C2:C93564,'Accounting Data'!I2:I93564,\"22??\",'Accounting Data'!J2:J93564,\"681?\")","v":1572},{"$f":"SUMIFS('Accounting Data'!$C$2:$C$93564,'Accounting Data'!$E$2:$E$93564,\"575\",'Accounting Data'!$I$2:$I$93564,\"22??\",'Accounting Data'!$J$2:$J$93564,\"681?\")+SUMIFS('Accounting Data'!$C$2:$C$93564,'Accounting Data'!$E$2:$E$93564,\"8??\",'Accounting Data'!$I$2:$I$93564,\"22??\",'Accounting Data'!$J$2:$J$93564,\"681?\")+SUMIFS('Accounting Data'!$C$2:$C$93564,'Accounting Data'!$E$2:$E$93564,\"9??\",'Accounting Data'!$I$2:$I$93564,\"22??\",'Accounting Data'!$J$2:$J$93564,\"681?\")","v":0},{"$f":"SUMIFS('Accounting Data'!$C$2:$C$93564,'Accounting Data'!$H$2:$H$93564,\"7??\",'Accounting Data'!$I$2:$I$93564,\"22??\",'Accounting Data'!$J$2:$J$93564,\"681?\")+SUMIFS('Accounting Data'!$C$2:$C$93564,'Accounting Data'!$H$2:$H$93564,\"8??\",'Accounting Data'!$I$2:$I$93564,\"22??\",'Accounting Data'!$J$2:$J$93564,\"681?\")+SUMIFS('Accounting Data'!$C$2:$C$93564,'Accounting Data'!$H$2:$H$93564,\"9??\",'Accounting Data'!$I$2:$I$93564,\"22??\",'Accounting Data'!$J$2:$J$93564,\"681?\")","v":0},{"$f":"SUMIFS('Accounting Data'!$C$2:$C$93564,'Accounting Data'!$E$2:$E$93564,\"575\",'Accounting Data'!$H$2:$H$93564,\"7??\",'Accounting Data'!$I$2:$I$93564,\"22??\",'Accounting Data'!$J$2:$J$93564,\"681?\")+SUMIFS('Accounting Data'!$C$2:$C$93564,'Accounting Data'!$E$2:$E$93564,\"575\",'Accounting Data'!$H$2:$H$93564,\"8??\",'Accounting Data'!$I$2:$I$93564,\"22??\",'Accounting Data'!$J$2:$J$93564,\"681?\")+SUMIFS('Accounting Data'!$C$2:$C$93564,'Accounting Data'!$E$2:$E$93564,\"575\",'Accounting Data'!$H$2:$H$93564,\"9??\",'Accounting Data'!$I$2:$I$93564,\"22??\",'Accounting Data'!$J$2:$J$93564,\"681?\")","v":0},{"$f":"SUMIFS('Accounting Data'!$C$2:$C$93564,'Accounting Data'!$E$2:$E$93564,\"8??\",'Accounting Data'!$H$2:$H$93564,\"7??\",'Accounting Data'!$I$2:$I$93564,\"22??\",'Accounting Data'!$J$2:$J$93564,\"681?\")+SUMIFS('Accounting Data'!$C$2:$C$93564,'Accounting Data'!$E$2:$E$93564,\"8??\",'Accounting Data'!$H$2:$H$93564,\"8??\",'Accounting Data'!$I$2:$I$93564,\"22??\",'Accounting Data'!$J$2:$J$93564,\"681?\")+SUMIFS('Accounting Data'!$C$2:$C$93564,'Accounting Data'!$E$2:$E$93564,\"8??\",'Accounting Data'!$H$2:$H$93564,\"9??\",'Accounting Data'!$I$2:$I$93564,\"22??\",'Accounting Data'!$J$2:$J$93564,\"681?\")","v":0},{"$f":"SUMIFS('Accounting Data'!$C$2:$C$93564,'Accounting Data'!$E$2:$E$93564,\"9??\",'Accounting Data'!$H$2:$H$93564,\"7??\",'Accounting Data'!$I$2:$I$93564,\"22??\",'Accounting Data'!$J$2:$J$93564,\"681?\")+SUMIFS('Accounting Data'!$C$2:$C$93564,'Accounting Data'!$E$2:$E$93564,\"9??\",'Accounting Data'!$H$2:$H$93564,\"8??\",'Accounting Data'!$I$2:$I$93564,\"22??\",'Accounting Data'!$J$2:$J$93564,\"681?\")+SUMIFS('Accounting Data'!$C$2:$C$93564,'Accounting Data'!$E$2:$E$93564,\"9??\",'Accounting Data'!$H$2:$H$93564,\"9??\",'Accounting Data'!$I$2:$I$93564,\"22??\",'Accounting Data'!$J$2:$J$93564,\"681?\")","v":0},null,null,null,null,null,null,null,null,null,null,null,null,null,null,null,null,null,2200,{"$f":"SUM(SUMIFS('Accounting Data'!C2:C93564,'Accounting Data'!I2:I93564,\"22??\",'Accounting Data'!J2:J93564,{\"689?\",\"6885\"}))","v":0},{"$f":"SUM(SUMIFS('Accounting Data'!$C$2:$C$93564,'Accounting Data'!$E$2:$E$93564,\"575\",'Accounting Data'!$I$2:$I$93564,\"22??\",'Accounting Data'!$J$2:$J$93564,{\"689?\",\"6885\"}))+SUM(SUMIFS('Accounting Data'!$C$2:$C$93564,'Accounting Data'!$E$2:$E$93564,\"8??\",'Accounting Data'!$I$2:$I$93564,\"22??\",'Accounting Data'!$J$2:$J$93564,{\"689?\",\"6885\"}))+SUM(SUMIFS('Accounting Data'!$C$2:$C$93564,'Accounting Data'!$E$2:$E$93564,\"9??\",'Accounting Data'!$I$2:$I$93564,\"22??\",'Accounting Data'!$J$2:$J$93564,{\"689?\",\"6885\"}))","v":0},{"$f":"SUM(SUMIFS('Accounting Data'!$C$2:$C$93564,'Accounting Data'!$H$2:$H$93564,\"7??\",'Accounting Data'!$I$2:$I$93564,\"22??\",'Accounting Data'!$J$2:$J$93564,{\"689?\",\"6885\"}))+SUM(SUMIFS('Accounting Data'!$C$2:$C$93564,'Accounting Data'!$H$2:$H$93564,\"8??\",'Accounting Data'!$I$2:$I$93564,\"22??\",'Accounting Data'!$J$2:$J$93564,{\"689?\",\"6885\"}))+SUM(SUMIFS('Accounting Data'!$C$2:$C$93564,'Accounting Data'!$H$2:$H$93564,\"9??\",'Accounting Data'!$I$2:$I$93564,\"22??\",'Accounting Data'!$J$2:$J$93564,{\"689?\",\"6885\"}))","v":0},{"$f":"SUM(SUMIFS('Accounting Data'!$C$2:$C$93564,'Accounting Data'!$E$2:$E$93564,\"575\",'Accounting Data'!$H$2:$H$93564,\"7??\",'Accounting Data'!$I$2:$I$93564,\"22??\",'Accounting Data'!$J$2:$J$93564,{\"689?\",\"6885\"}))+SUM(SUMIFS('Accounting Data'!$C$2:$C$93564,'Accounting Data'!$E$2:$E$93564,\"575\",'Accounting Data'!$H$2:$H$93564,\"8??\",'Accounting Data'!$I$2:$I$93564,\"22??\",'Accounting Data'!$J$2:$J$93564,{\"689?\",\"6885\"}))+SUM(SUMIFS('Accounting Data'!$C$2:$C$93564,'Accounting Data'!$E$2:$E$93564,\"575\",'Accounting Data'!$H$2:$H$93564,\"9??\",'Accounting Data'!$I$2:$I$93564,\"22??\",'Accounting Data'!$J$2:$J$93564,{\"689?\",\"6885\"}))","v":0},{"$f":"SUM(SUMIFS('Accounting Data'!$C$2:$C$93564,'Accounting Data'!$E$2:$E$93564,\"8??\",'Accounting Data'!$H$2:$H$93564,\"7??\",'Accounting Data'!$I$2:$I$93564,\"22??\",'Accounting Data'!$J$2:$J$93564,{\"689?\",\"6885\"}))+SUM(SUMIFS('Accounting Data'!$C$2:$C$93564,'Accounting Data'!$E$2:$E$93564,\"8??\",'Accounting Data'!$H$2:$H$93564,\"8??\",'Accounting Data'!$I$2:$I$93564,\"22??\",'Accounting Data'!$J$2:$J$93564,{\"689?\",\"6885\"}))+SUM(SUMIFS('Accounting Data'!$C$2:$C$93564,'Accounting Data'!$E$2:$E$93564,\"8??\",'Accounting Data'!$H$2:$H$93564,\"9??\",'Accounting Data'!$I$2:$I$93564,\"22??\",'Accounting Data'!$J$2:$J$93564,{\"689?\",\"6885\"}))","v":0},{"$f":"SUM(SUMIFS('Accounting Data'!$C$2:$C$93564,'Accounting Data'!$E$2:$E$93564,\"9??\",'Accounting Data'!$H$2:$H$93564,\"7??\",'Accounting Data'!$I$2:$I$93564,\"22??\",'Accounting Data'!$J$2:$J$93564,{\"689?\",\"6885\"}))+SUM(SUMIFS('Accounting Data'!$C$2:$C$93564,'Accounting Data'!$E$2:$E$93564,\"9??\",'Accounting Data'!$H$2:$H$93564,\"8??\",'Accounting Data'!$I$2:$I$93564,\"22??\",'Accounting Data'!$J$2:$J$93564,{\"689?\",\"6885\"}))+SUM(SUMIFS('Accounting Data'!$C$2:$C$93564,'Accounting Data'!$E$2:$E$93564,\"9??\",'Accounting Data'!$H$2:$H$93564,\"9??\",'Accounting Data'!$I$2:$I$93564,\"22??\",'Accounting Data'!$J$2:$J$93564,{\"689?\",\"6885\"}))","v":0},null,2200,{"$f":"SUMIFS('Accounting Data'!$C$2:$C$93564,'Accounting Data'!$H$2:$H$93564,\"7??\",'Accounting Data'!$I$2:$I$93564,\"22??\",'Accounting Data'!$J$2:$J$93564,\"6???\")+SUMIFS('Accounting Data'!$C$2:$C$93564,'Accounting Data'!$H$2:$H$93564,\"8??\",'Accounting Data'!$I$2:$I$93564,\"22??\",'Accounting Data'!$J$2:$J$93564,\"6???\")+SUMIFS('Accounting Data'!$C$2:$C$93564,'Accounting Data'!$H$2:$H$93564,\"9??\",'Accounting Data'!$I$2:$I$93564,\"22??\",'Accounting Data'!$J$2:$J$93564,\"6???\")","v":0},{"$f":"SUMIFS('Accounting Data'!$C$2:$C$93564,'Accounting Data'!$H$2:$H$93564,\"7??\",'Accounting Data'!$I$2:$I$93564,\"22??\",'Accounting Data'!$J$2:$J$93564,\"69??\")+SUMIFS('Accounting Data'!$C$2:$C$93564,'Accounting Data'!$H$2:$H$93564,\"8??\",'Accounting Data'!$I$2:$I$93564,\"22??\",'Accounting Data'!$J$2:$J$93564,\"69??\")+SUMIFS('Accounting Data'!$C$2:$C$93564,'Accounting Data'!$H$2:$H$93564,\"9??\",'Accounting Data'!$I$2:$I$93564,\"22??\",'Accounting Data'!$J$2:$J$93564,\"69??\")","v":0},{"$f":"SUMIFS('Accounting Data'!$C$2:$C$93564,'Accounting Data'!$E$2:$E$93564,\"575\",'Accounting Data'!$H$2:$H$93564,\"7??\",'Accounting Data'!$I$2:$I$93564,\"22??\",'Accounting Data'!$J$2:$J$93564,\"6???\")+SUMIFS('Accounting Data'!$C$2:$C$93564,'Accounting Data'!$E$2:$E$93564,\"575\",'Accounting Data'!$H$2:$H$93564,\"8??\",'Accounting Data'!$I$2:$I$93564,\"22??\",'Accounting Data'!$J$2:$J$93564,\"6???\")+SUMIFS('Accounting Data'!$C$2:$C$93564,'Accounting Data'!$E$2:$E$93564,\"575\",'Accounting Data'!$H$2:$H$93564,\"9??\",'Accounting Data'!$I$2:$I$93564,\"22??\",'Accounting Data'!$J$2:$J$93564,\"6???\")","v":0},{"$f":"SUMIFS('Accounting Data'!$C$2:$C$93564,'Accounting Data'!$E$2:$E$93564,\"8??\",'Accounting Data'!$H$2:$H$93564,\"7??\",'Accounting Data'!$I$2:$I$93564,\"22??\",'Accounting Data'!$J$2:$J$93564,\"6???\")+SUMIFS('Accounting Data'!$C$2:$C$93564,'Accounting Data'!$E$2:$E$93564,\"8??\",'Accounting Data'!$H$2:$H$93564,\"8??\",'Accounting Data'!$I$2:$I$93564,\"22??\",'Accounting Data'!$J$2:$J$93564,\"6???\")+SUMIFS('Accounting Data'!$C$2:$C$93564,'Accounting Data'!$E$2:$E$93564,\"8??\",'Accounting Data'!$H$2:$H$93564,\"9??\",'Accounting Data'!$I$2:$I$93564,\"22??\",'Accounting Data'!$J$2:$J$93564,\"6???\")+SUMIFS('Accounting Data'!$C$2:$C$93564,'Accounting Data'!$E$2:$E$93564,\"9??\",'Accounting Data'!$H$2:$H$93564,\"7??\",'Accounting Data'!$I$2:$I$93564,\"22??\",'Accounting Data'!$J$2:$J$93564,\"6???\")+SUMIFS('Accounting Data'!$C$2:$C$93564,'Accounting Data'!$E$2:$E$93564,\"9??\",'Accounting Data'!$H$2:$H$93564,\"8??\",'Accounting Data'!$I$2:$I$93564,\"22??\",'Accounting Data'!$J$2:$J$93564,\"6???\")+SUMIFS('Accounting Data'!$C$2:$C$93564,'Accounting Data'!$E$2:$E$93564,\"9??\",'Accounting Data'!$H$2:$H$93564,\"9??\",'Accounting Data'!$I$2:$I$93564,\"22??\",'Accounting Data'!$J$2:$J$93564,\"6???\")","v":0},{"$f":"SUMIFS('Accounting Data'!$C$2:$C$93564,'Accounting Data'!$E$2:$E$93564,\"575\",'Accounting Data'!$H$2:$H$93564,\"7??\",'Accounting Data'!$I$2:$I$93564,\"22??\",'Accounting Data'!$J$2:$J$93564,\"69??\")+SUMIFS('Accounting Data'!$C$2:$C$93564,'Accounting Data'!$E$2:$E$93564,\"575\",'Accounting Data'!$H$2:$H$93564,\"8??\",'Accounting Data'!$I$2:$I$93564,\"22??\",'Accounting Data'!$J$2:$J$93564,\"69??\")+SUMIFS('Accounting Data'!$C$2:$C$93564,'Accounting Data'!$E$2:$E$93564,\"575\",'Accounting Data'!$H$2:$H$93564,\"9??\",'Accounting Data'!$I$2:$I$93564,\"22??\",'Accounting Data'!$J$2:$J$93564,\"69??\")","v":0},{"$f":"SUMIFS('Accounting Data'!$C$2:$C$93564,'Accounting Data'!$E$2:$E$93564,\"8??\",'Accounting Data'!$H$2:$H$93564,\"7??\",'Accounting Data'!$I$2:$I$93564,\"22??\",'Accounting Data'!$J$2:$J$93564,\"69??\")+SUMIFS('Accounting Data'!$C$2:$C$93564,'Accounting Data'!$E$2:$E$93564,\"8??\",'Accounting Data'!$H$2:$H$93564,\"8??\",'Accounting Data'!$I$2:$I$93564,\"22??\",'Accounting Data'!$J$2:$J$93564,\"69??\")+SUMIFS('Accounting Data'!$C$2:$C$93564,'Accounting Data'!$E$2:$E$93564,\"8??\",'Accounting Data'!$H$2:$H$93564,\"9??\",'Accounting Data'!$I$2:$I$93564,\"22??\",'Accounting Data'!$J$2:$J$93564,\"69??\")+SUMIFS('Accounting Data'!$C$2:$C$93564,'Accounting Data'!$E$2:$E$93564,\"9??\",'Accounting Data'!$H$2:$H$93564,\"7??\",'Accounting Data'!$I$2:$I$93564,\"22??\",'Accounting Data'!$J$2:$J$93564,\"69??\")+SUMIFS('Accounting Data'!$C$2:$C$93564,'Accounting Data'!$E$2:$E$93564,\"9??\",'Accounting Data'!$H$2:$H$93564,\"8??\",'Accounting Data'!$I$2:$I$93564,\"22??\",'Accounting Data'!$J$2:$J$93564,\"69??\")+SUMIFS('Accounting Data'!$C$2:$C$93564,'Accounting Data'!$E$2:$E$93564,\"9??\",'Accounting Data'!$H$2:$H$93564,\"9??\",'Accounting Data'!$I$2:$I$93564,\"22??\",'Accounting Data'!$J$2:$J$93564,\"69??\")","v":0}]
["         2300 General Administration","4.",{"$f":"(AA14-AB14-AC14)+(AD14+AE14+AF14)","v":250761},{"$f":"(AI14-AJ14-AK14)+(AL14+AM14+AN14)","v":79073},{"$f":"(AQ14-AR14-AS14-AT14-AU14)+(AV14+AW14+AX14+AY14+AZ14+BA14+BB14+BC14+BD14)","v":80340},{"$f":"(BG14-BH14-BI14)+(BJ14+BK14+BL14)","v":2988},{"$f":"(BO14-BP14-BQ14)+(BR14+BS14+BT14)","v":0},{"$f":"(BW14-BX14-BY14)+(BZ14+CA14+CB14)","v":46931},{"$f":"(CE14-CF14-CG14)+(CH14+CI14+CJ14)","v":0},null,null,{"$f":"(CU14-CV14-CW14)+(CX14+CY14+CZ14)","v":3525},{"$f":"(DC14-DD14)-((DE14+DF14)-(DG14+DH14))","v":0},463618,"4.",null,null,null,{"$f":"SUM(C20+D20+E20+F20+G20+H20+L20)-'[4]Food Service AFR'!$D$13","v":1963945},{"$f":"MIN('[4]Food Service AFR'!$D$12,S14)","v":1963945},null,null,null,null,null,2300,{"$f":"SUMIFS('Accounting Data'!C2:C93564,'Accounting Data'!I2:I93564,\"23??\",'Accounting Data'!J2:J93564,\"61??\")","v":250761},{"$f":"SUMIFS('Accounting Data'!C2:C93564,'Accounting Data'!E2:E93564,\"575\",'Accounting Data'!I2:I93564,\"23??\",'Accounting Data'!J2:J93564,\"61??\")+SUMIFS('Accounting Data'!C2:C93564,'Accounting Data'!E2:E93564,\"8??\",'Accounting Data'!I2:I93564,\"23??\",'Accounting Data'!J2:J93564,\"61??\")+SUMIFS('Accounting Data'!C2:C93564,'Accounting Data'!E2:E93564,\"9??\",'Accounting Data'!I2:I93564,\"23??\",'Accounting Data'!J2:J93564,\"61??\")","v":0},{"$f":"SUMIFS('Accounting Data'!C2:C93564,'Accounting Data'!H2:H93564,\"7??\",'Accounting Data'!I2:I93564,\"23??\",'Accounting Data'!J2:J93564,\"61??\")+SUMIFS('Accounting Data'!C2:C93564,'Accounting Data'!H2:H93564,\"8??\",'Accounting Data'!I2:I93564,\"23??\",'Accounting Data'!J2:J93564,\"61??\")+SUMIFS('Accounting Data'!C2:C93564,'Accounting Data'!H2:H93564,\"9??\",'Accounting Data'!I2:I93564,\"23??\",'Accounting Data'!J2:J93564,\"61??\")","v":0},{"$f":"SUMIFS('Accounting Data'!C2:C93564,'Accounting Data'!E2:E93564,\"575\",'Accounting Data'!H2:H93564,\"7??\",'Accounting Data'!I2:I93564,\"23??\",'Accounting Data'!J2:J93564,\"61??\")+SUMIFS('Accounting Data'!C2:C93564,'Accounting Data'!E2:E93564,\"575\",'Accounting Data'!H2:H93564,\"8??\",'Accounting Data'!I2:I93564,\"23??\",'Accounting Data'!J2:J93564,\"61??\")+SUMIFS('Accounting Data'!C2:C93564,'Accounting Data'!E2:E93564,\"575\",'Accounting Data'!H2:H93564,\"9??\",'Accounting Data'!I2:I93564,\"23??\",'Accounting Data'!J2:J93564,\"61??\")","v":0},{"$f":"SUMIFS('Accounting Data'!C2:C93564,'Accounting Data'!E2:E93564,\"8??\",'Accounting Data'!H2:H93564,\"7??\",'Accounting Data'!I2:I93564,\"23??\",'Accounting Data'!J2:J93564,\"61??\")+SUMIFS('Accounting Data'!C2:C93564,'Accounting Data'!E2:E93564,\"8??\",'Accounting Data'!H2:H93564,\"8??\",'Accounting Data'!I2:I93564,\"23??\",'Accounting Data'!J2:J93564,\"61??\")+SUMIFS('Accounting Data'!C2:C93564,'Accounting Data'!E2:E93564,\"8??\",'Accounting Data'!H2:H93564,\"9??\",'Accounting Data'!I2:I93564,\"23??\",'Accounting Data'!J2:J93564,\"61??\")","v":0},{"$f":"SUMIFS('Accounting Data'!C2:C93564,'Accounting Data'!E2:E93564,\"9??\",'Accounting Data'!H2:H93564,\"7??\",'Accounting Data'!I2:I93564,\"23??\",'Accounting Data'!J2:J93564,\"61??\")+SUMIFS('Accounting Data'!C2:C93564,'Accounting Data'!E2:E93564,\"9??\",'Accounting Data'!H2:H93564,\"8??\",'Accounting Data'!I2:I93564,\"23??\",'Accounting Data'!J2:J93564,\"61??\")+SUMIFS('Accounting Data'!C2:C93564,'Accounting Data'!E2:E93564,\"9??\",'Accounting Data'!H2:H93564,\"9??\",'Accounting Data'!I2:I93564,\"23??\",'Accounting Data'!J2:J93564,\"61??\")","v":0},null,2300,{"$f":"SUMIFS('Accounting Data'!C2:C93564,'Accounting Data'!I2:I93564,\"23??\",'Accounting Data'!J2:J93564,\"62??\")","v":79073},{"$f":"SUMIFS('Accounting Data'!C2:C93564,'Accounting Data'!E2:E93564,\"575\",'Accounting Data'!I2:I93564,\"23??\",'Accounting Data'!J2:J93564,\"62??\")+SUMIFS('Accounting Data'!C2:C93564,'Accounting Data'!E2:E93564,\"8??\",'Accounting Data'!I2:I93564,\"23??\",'Accounting Data'!J2:J93564,\"62??\")+SUMIFS('Accounting Data'!C2:C93564,'Accounting Data'!E2:E93564,\"9??\",'Accounting Data'!I2:I93564,\"23??\",'Accounting Data'!J2:J93564,\"62??\")","v":0},{"$f":"SUMIFS('Accounting Data'!C2:C93564,'Accounting Data'!H2:H93564,\"7??\",'Accounting Data'!I2:I93564,\"23??\",'Accounting Data'!J2:J93564,\"62??\")+SUMIFS('Accounting Data'!C2:C93564,'Accounting Data'!H2:H93564,\"8??\",'Accounting Data'!I2:I93564,\"23??\",'Accounting Data'!J2:J93564,\"62??\")+SUMIFS('Accounting Data'!C2:C93564,'Accounting Data'!H2:H93564,\"9??\",'Accounting Data'!I2:I93564,\"23??\",'Accounting Data'!J2:J93564,\"62??\")","v":0},{"$f":"SUMIFS('Accounting Data'!C2:C93564,'Accounting Data'!E2:E93564,\"575\",'Accounting Data'!H2:H93564,\"7??\",'Accounting Data'!I2:I93564,\"23??\",'Accounting Data'!J2:J93564,\"62??\")+SUMIFS('Accounting Data'!C2:C93564,'Accounting Data'!E2:E93564,\"575\",'Accounting Data'!H2:H93564,\"8??\",'Accounting Data'!I2:I93564,\"23??\",'Accounting Data'!J2:J93564,\"62??\")+SUMIFS('Accounting Data'!C2:C93564,'Accounting Data'!E2:E93564,\"575\",'Accounting Data'!H2:H93564,\"9??\",'Accounting Data'!I2:I93564,\"23??\",'Accounting Data'!J2:J93564,\"62??\")","v":0},{"$f":"SUMIFS('Accounting Data'!C2:C93564,'Accounting Data'!E2:E93564,\"8??\",'Accounting Data'!H2:H93564,\"7??\",'Accounting Data'!I2:I93564,\"23??\",'Accounting Data'!J2:J93564,\"62??\")+SUMIFS('Accounting Data'!C2:C93564,'Accounting Data'!E2:E93564,\"8??\",'Accounting Data'!H2:H93564,\"8??\",'Accounting Data'!I2:I93564,\"23??\",'Accounting Data'!J2:J93564,\"62??\")+SUMIFS('Accounting Data'!C2:C93564,'Accounting Data'!E2:E93564,\"8??\",'Accounting Data'!H2:H93564,\"9??\",'Accounting Data'!I2:I93564,\"23??\",'Accounting Data'!J2:J93564,\"62??\")","v":0},{"$f":"SUMIFS('Accounting Data'!C2:C93564,'Accounting Data'!E2:E93564,\"9??\",'Accounting Data'!H2:H93564,\"7??\",'Accounting Data'!I2:I93564,\"23??\",'Accounting Data'!J2:J93564,\"62??\")+SUMIFS('Accounting Data'!C2:C93564,'Accounting Data'!E2:E93564,\"9??\",'Accounting Data'!H2:H93564,\"8??\",'Accounting Data'!I2:I93564,\"23??\",'Accounting Data'!J2:J93564,\"62??\")+SUMIFS('Accounting Data'!C2:C93564,'Accounting Data'!E2:E93564,\"9??\",'Accounting Data'!H2:H93564,\"9??\",'Accounting Data'!I2:I93564,\"23??\",'Accounting Data'!J2:J93564,\"62??\")","v":0},null,2300,{"$f":"SUMIFS('Accounting Data'!C2:C93564,'Accounting Data'!I2:I93564,\"23??\",'Accounting Data'!J2:J93564,\"63??\")+SUMIFS('Accounting Data'!C2:C93564,'Accounting Data'!I2:I93564,\"23??\",'Accounting Data'!J2:J93564,\"64??\")+SUMIFS('Accounting Data'!C2:C93564,'Accounting Data'!I2:I93564,\"23??\",'Accounting Data'!J2:J93564,\"65??\")","v":80340},{"$f":"SUMIFS('Accounting Data'!C2:C93564,'Accounting Data'!E2:E93564,\"575\",'Accounting Data'!I2:I93564,\"23??\",'Accounting Data'!J2:J93564,\"63??\")+SUMIFS('Accounting Data'!C2:C93564,'Accounting Data'!E2:E93564,\"8??\",'Accounting Data'!I2:I93564,\"23??\",'Accounting Data'!J2:J93564,\"63??\")+SUMIFS('Accounting Data'!C2:C93564,'Accounting Data'!E2:E93564,\"9??\",'Accounting Data'!I2:I93564,\"23??\",'Accounting Data'!J2:J93564,\"63??\")","v":0},{"$f":"SUMIFS('Accounting Data'!C2:C93564,'Accounting Data'!E2:E93564,\"575\",'Accounting Data'!I2:I93564,\"23??\",'Accounting Data'!J2:J93564,\"64??\")+SUMIFS('Accounting Data'!C2:C93564,'Accounting Data'!E2:E93564,\"8??\",'Accounting Data'!I2:I93564,\"23??\",'Accounting Data'!J2:J93564,\"64??\")+SUMIFS('Accounting Data'!C2:C93564,'Accounting Data'!E2:E93564,\"9??\",'Accounting Data'!I2:I93564,\"23??\",'Accounting Data'!J2:J93564,\"64??\")","v":0},{"$f":"SUMIFS('Accounting Data'!C2:C93564,'Accounting Data'!E2:E93564,\"575\",'Accounting Data'!I2:I93564,\"23??\",'Accounting Data'!J2:J93564,\"65??\")+SUMIFS('Accounting Data'!C2:C93564,'Accounting Data'!E2:E93564,\"8??\",'Accounting Data'!I2:I93564,\"23??\",'Accounting Data'!J2:J93564,\"65??\")+SUMIFS('Accounting Data'!C2:C93564,'Accounting Data'!E2:E93564,\"9??\",'Accounting Data'!I2:I93564,\"23??\",'Accounting Data'!J2:J93564,\"65??\")","v":0},{"$f":"SUMIFS('Accounting Data'!C2:C93564,'Accounting Data'!H2:H93564,\"7??\",'Accounting Data'!I2:I93564,\"23??\",'Accounting Data'!J2:J93564,\"63??\")+SUMIFS('Accounting Data'!C2:C93564,'Accounting Data'!H2:H93564,\"8??\",'Accounting Data'!I2:I93564,\"23??\",'Accounting Data'!J2:J93564,\"63??\")+SUMIFS('Accounting Data'!C2:C93564,'Accounting Data'!H2:H93564,\"9??\",'Accounting Data'!I2:I93564,\"23??\",'Accounting Data'!J2:J93564,\"63??\")+SUMIFS('Accounting Data'!C2:C93564,'Accounting Data'!H2:H93564,\"7??\",'Accounting Data'!I2:I93564,\"23??\",'Accounting Data'!J2:J93564,\"64??\")+SUMIFS('Accounting Data'!C2:C93564,'Accounting Data'!H2:H93564,\"8??\",'Accounting Data'!I2:I93564,\"23??\",'Accounting Data'!J2:J93564,\"64??\")+SUMIFS('Accounting Data'!C2:C93564,'Accounting Data'!H2:H93564,\"9??\",'Accounting Data'!I2:I93564,\"23??\",'Accounting Data'!J2:J93564,\"64??\")+SUMIFS('Accounting Data'!C2:C93564,'Accounting Data'!H2:H93564,\"7??\",'Accounting Data'!I2:I93564,\"23??\",'Accounting Data'!J2:J93564,\"65??\")+SUMIFS('Accounting Data'!C2:C93564,'Accounting Data'!H2:H93564,\"8??\",'Accounting Data'!I2:I93564,\"23??\",'Accounting Data'!J2:J93564,\"65??\")+SUMIFS('Accounting Data'!C2:C93564,'Accounting Data'!H2:H93564,\"9??\",'Accounting Data'!I2:I93564,\"23??\",'Accounting Data'!J2:J93564,\"65??\")","v":0},{"$f":"SUMIFS('Accounting Data'!C2:C93564,'Accounting Data'!E2:E93564,\"575\",'Accounting Data'!H2:H93564,\"7??\",'Accounting Data'!I2:I93564,\"23??\",'Accounting Data'!J2:J93564,\"63??\")+SUMIFS('Accounting Data'!C2:C93564,'Accounting Data'!E2:E93564,\"575\",'Accounting Data'!H2:H93564,\"8??\",'Accounting Data'!I2:I93564,\"23??\",'Accounting Data'!J2:J93564,\"63??\")+SUMIFS('Accounting Data'!C2:C93564,'Accounting Data'!E2:E93564,\"575\",'Accounting Data'!H2:H93564,\"9??\",'Accounting Data'!I2:I93564,\"23??\",'Accounting Data'!J2:J93564,\"63??\")","v":0},{"$f":"SUMIFS('Accounting Data'!C2:C93564,'Accounting Data'!E2:E93564,\"575\",'Accounting Data'!H2:H93564,\"7??\",'Accounting Data'!I2:I93564,\"23??\",'Accounting Data'!J2:J93564,\"64??\")+SUMIFS('Accounting Data'!C2:C93564,'Accounting Data'!E2:E93564,\"575\",'Accounting Data'!H2:H93564,\"8??\",'Accounting Data'!I2:I93564,\"23??\",'Accounting Data'!J2:J93564,\"64??\")+SUMIFS('Accounting Data'!C2:C93564,'Accounting Data'!E2:E93564,\"575\",'Accounting Data'!H2:H93564,\"9??\",'Accounting Data'!I2:I93564,\"23??\",'Accounting Data'!J2:J93564,\"64??\")","v":0},{"$f":"SUMIFS('Accounting Data'!C2:C93564,'Accounting Data'!E2:E93564,\"575\",'Accounting Data'!H2:H93564,\"7??\",'Accounting Data'!I2:I93564,\"23??\",'Accounting Data'!J2:J93564,\"65??\")+SUMIFS('Accounting Data'!C2:C93564,'Accounting Data'!E2:E93564,\"575\",'Accounting Data'!H2:H93564,\"8??\",'Accounting Data'!I2:I93564,\"23??\",'Accounting Data'!J2:J93564,\"65??\")+SUMIFS('Accounting Data'!C2:C93564,'Accounting Data'!E2:E93564,\"575\",'Accounting Data'!H2:H93564,\"9??\",'Accounting Data'!I2:I93564,\"23??\",'Accounting Data'!J2:J93564,\"65??\")","v":0},{"$f":"SUMIFS('Accounting Data'!C2:C93564,'Accounting Data'!E2:E93564,\"8??\",'Accounting Data'!H2:H93564,\"7??\",'Accounting Data'!I2:I93564,\"23??\",'Accounting Data'!J2:J93564,\"63??\")+SUMIFS('Accounting Data'!C2:C93564,'Accounting Data'!E2:E93564,\"8??\",'Accounting Data'!H2:H93564,\"8??\",'Accounting Data'!I2:I93564,\"23??\",'Accounting Data'!J2:J93564,\"63??\")+SUMIFS('Accounting Data'!C2:C93564,'Accounting Data'!E2:E93564,\"8??\",'Accounting Data'!H2:H93564,\"9??\",'Accounting Data'!I2:I93564,\"23??\",'Accounting Data'!J2:J93564,\"63??\")","v":0},{"$f":"SUMIFS('Accounting Data'!C2:C93564,'Accounting Data'!E2:E93564,\"8??\",'Accounting Data'!H2:H93564,\"7??\",'Accounting Data'!I2:I93564,\"23??\",'Accounting Data'!J2:J93564,\"64??\")+SUMIFS('Accounting Data'!C2:C93564,'Accounting Data'!E2:E93564,\"8??\",'Accounting Data'!H2:H93564,\"8??\",'Accounting Data'!I2:I93564,\"23??\",'Accounting Data'!J2:J93564,\"64??\")+SUMIFS('Accounting Data'!C2:C93564,'Accounting Data'!E2:E93564,\"8??\",'Accounting Data'!H2:H93564,\"9??\",'Accounting Data'!I2:I93564,\"23??\",'Accounting Data'!J2:J93564,\"64??\")","v":0},{"$f":"SUMIFS('Accounting Data'!C2:C93564,'Accounting Data'!E2:E93564,\"8??\",'Accounting Data'!H2:H93564,\"7??\",'Accounting Data'!I2:I93564,\"23??\",'Accounting Data'!J2:J93564,\"65??\")+SUMIFS('Accounting Data'!C2:C93564,'Accounting Data'!E2:E93564,\"8??\",'Accounting Data'!H2:H93564,\"8??\",'Accounting Data'!I2:I93564,\"23??\",'Accounting Data'!J2:J93564,\"65??\")+SUMIFS('Accounting Data'!C2:C93564,'Accounting Data'!E2:E93564,\"8??\",'Accounting Data'!H2:H93564,\"9??\",'Accounting Data'!I2:I93564,\"23??\",'Accounting Data'!J2:J93564,\"65??\")","v":0},{"$f":"SUMIFS('Accounting Data'!C2:C93564,'Accounting Data'!E2:E93564,\"9??\",'Accounting Data'!H2:H93564,\"7??\",'Accounting Data'!I2:I93564,\"23??\",'Accounting Data'!J2:J93564,\"63??\")+SUMIFS('Accounting Data'!C2:C93564,'Accounting Data'!E2:E93564,\"9??\",'Accounting Data'!H2:H93564,\"8??\",'Accounting Data'!I2:I93564,\"23??\",'Accounting Data'!J2:J93564,\"63??\")+SUMIFS('Accounting Data'!C2:C93564,'Accounting Data'!E2:E93564,\"9??\",'Accounting Data'!H2:H93564,\"9??\",'Accounting Data'!I2:I93564,\"23??\",'Accounting Data'!J2:J93564,\"63??\")","v":0},{"$f":"SUMIFS('Accounting Data'!C2:C93564,'Accounting Data'!E2:E93564,\"9??\",'Accounting Data'!H2:H93564,\"7??\",'Accounting Data'!I2:I93564,\"23??\",'Accounting Data'!J2:J93564,\"64??\")+SUMIFS('Accounting Data'!C2:C93564,'Accounting Data'!E2:E93564,\"9??\",'Accounting Data'!H2:H93564,\"8??\",'Accounting Data'!I2:I93564,\"23??\",'Accounting Data'!J2:J93564,\"64??\")+SUMIFS('Accounting Data'!C2:C93564,'Accounting Data'!E2:E93564,\"9??\",'Accounting Data'!H2:H93564,\"9??\",'Accounting Data'!I2:I93564,\"23??\",'Accounting Data'!J2:J93564,\"64??\")","v":0},{"$f":"SUMIFS('Accounting Data'!C2:C93564,'Accounting Data'!E2:E93564,\"9??\",'Accounting Data'!H2:H93564,\"7??\",'Accounting Data'!I2:I93564,\"23??\",'Accounting Data'!J2:J93564,\"65??\")+SUMIFS('Accounting Data'!C2:C93564,'Accounting Data'!E2:E93564,\"9??\",'Accounting Data'!H2:H93564,\"8??\",'Accounting Data'!I2:I93564,\"23??\",'Accounting Data'!J2:J93564,\"65??\")+SUMIFS('Accounting Data'!C2:C93564,'Accounting Data'!E2:E93564,\"9??\",'Accounting Data'!H2:H93564,\"9??\",'Accounting Data'!I2:I93564,\"23??\",'Accounting Data'!J2:J93564,\"65??\")","v":0},null,2300,{"$f":"SUMIFS('Accounting Data'!C2:C93564,'Accounting Data'!I2:I93564,\"23??\",'Accounting Data'!J2:J93564,\"66??\")","v":2988},{"$f":"SUMIFS('Accounting Data'!$C$2:$C$93564,'Accounting Data'!$E$2:$E$93564,\"575\",'Accounting Data'!$I$2:$I$93564,\"23??\",'Accounting Data'!$J$2:$J$93564,\"66??\")+SUMIFS('Accounting Data'!$C$2:$C$93564,'Accounting Data'!$E$2:$E$93564,\"8??\",'Accounting Data'!$I$2:$I$93564,\"23??\",'Accounting Data'!$J$2:$J$93564,\"66??\")+SUMIFS('Accounting Data'!$C$2:$C$93564,'Accounting Data'!$E$2:$E$93564,\"9??\",'Accounting Data'!$I$2:$I$93564,\"23??\",'Accounting Data'!$J$2:$J$93564,\"66??\")","v":0},{"$f":"SUMIFS('Accounting Data'!$C$2:$C$93564,'Accounting Data'!$H$2:$H$93564,\"7??\",'Accounting Data'!$I$2:$I$93564,\"23??\",'Accounting Data'!$J$2:$J$93564,\"66??\")+SUMIFS('Accounting Data'!$C$2:$C$93564,'Accounting Data'!$H$2:$H$93564,\"8??\",'Accounting Data'!$I$2:$I$93564,\"23??\",'Accounting Data'!$J$2:$J$93564,\"66??\")+SUMIFS('Accounting Data'!$C$2:$C$93564,'Accounting Data'!$H$2:$H$93564,\"9??\",'Accounting Data'!$I$2:$I$93564,\"23??\",'Accounting Data'!$J$2:$J$93564,\"66??\")","v":0},{"$f":"SUMIFS('Accounting Data'!$C$2:$C$93564,'Accounting Data'!$E$2:$E$93564,\"575\",'Accounting Data'!$H$2:$H$93564,\"7??\",'Accounting Data'!$I$2:$I$93564,\"23??\",'Accounting Data'!$J$2:$J$93564,\"66??\")+SUMIFS('Accounting Data'!$C$2:$C$93564,'Accounting Data'!$E$2:$E$93564,\"575\",'Accounting Data'!$H$2:$H$93564,\"8??\",'Accounting Data'!$I$2:$I$93564,\"23??\",'Accounting Data'!$J$2:$J$93564,\"66??\")+SUMIFS('Accounting Data'!$C$2:$C$93564,'Accounting Data'!$E$2:$E$93564,\"575\",'Accounting Data'!$H$2:$H$93564,\"9??\",'Accounting Data'!$I$2:$I$93564,\"23??\",'Accounting Data'!$J$2:$J$93564,\"66??\")","v":0},{"$f":"SUMIFS('Accounting Data'!$C$2:$C$93564,'Accounting Data'!$E$2:$E$93564,\"8??\",'Accounting Data'!$H$2:$H$93564,\"7??\",'Accounting Data'!$I$2:$I$93564,\"23??\",'Accounting Data'!$J$2:$J$93564,\"66??\")+SUMIFS('Accounting Data'!$C$2:$C$93564,'Accounting Data'!$E$2:$E$93564,\"8??\",'Accounting Data'!$H$2:$H$93564,\"8??\",'Accounting Data'!$I$2:$I$93564,\"23??\",'Accounting Data'!$J$2:$J$93564,\"66??\")+SUMIFS('Accounting Data'!$C$2:$C$93564,'Accounting Data'!$E$2:$E$93564,\"8??\",'Accounting Data'!$H$2:$H$93564,\"9??\",'Accounting Data'!$I$2:$I$93564,\"23??\",'Accounting Data'!$J$2:$J$93564,\"66??\")","v":0},{"$f":"SUMIFS('Accounting Data'!$C$2:$C$93564,'Accounting Data'!$E$2:$E$93564,\"9??\",'Accounting Data'!$H$2:$H$93564,\"7??\",'Accounting Data'!$I$2:$I$93564,\"23??\",'Accounting Data'!$J$2:$J$93564,\"66??\")+SUMIFS('Accounting Data'!$C$2:$C$93564,'Accounting Data'!$E$2:$E$93564,\"9??\",'Accounting Data'!$H$2:$H$93564,\"8??\",'Accounting Data'!$I$2:$I$93564,\"23??\",'Accounting Data'!$J$2:$J$93564,\"66??\")+SUMIFS('Accounting Data'!$C$2:$C$93564,'Accounting Data'!$E$2:$E$93564,\"9??\",'Accounting Data'!$H$2:$H$93564,\"9??\",'Accounting Data'!$I$2:$I$93564,\"23??\",'Accounting Data'!$J$2:$J$93564,\"66??\")","v":0},null,2300,{"$f":"SUMIFS('Accounting Data'!C2:C93564,'Accounting Data'!I2:I93564,\"23??\",'Accounting Data'!J2:J93564,\"67??\")","v":0},{"$f":"SUMIFS('Accounting Data'!$C$2:$C$93564,'Accounting Data'!$E$2:$E$93564,\"575\",'Accounting Data'!$I$2:$I$93564,\"23??\",'Accounting Data'!$J$2:$J$93564,\"67??\")+SUMIFS('Accounting Data'!$C$2:$C$93564,'Accounting Data'!$E$2:$E$93564,\"8??\",'Accounting Data'!$I$2:$I$93564,\"23??\",'Accounting Data'!$J$2:$J$93564,\"67??\")+SUMIFS('Accounting Data'!$C$2:$C$93564,'Accounting Data'!$E$2:$E$93564,\"9??\",'Accounting Data'!$I$2:$I$93564,\"23??\",'Accounting Data'!$J$2:$J$93564,\"67??\")","v":0},{"$f":"SUMIFS('Accounting Data'!$C$2:$C$93564,'Accounting Data'!$H$2:$H$93564,\"7??\",'Accounting Data'!$I$2:$I$93564,\"23??\",'Accounting Data'!$J$2:$J$93564,\"67??\")+SUMIFS('Accounting Data'!$C$2:$C$93564,'Accounting Data'!$H$2:$H$93564,\"8??\",'Accounting Data'!$I$2:$I$93564,\"23??\",'Accounting Data'!$J$2:$J$93564,\"67??\")+SUMIFS('Accounting Data'!$C$2:$C$93564,'Accounting Data'!$H$2:$H$93564,\"9??\",'Accounting Data'!$I$2:$I$93564,\"23??\",'Accounting Data'!$J$2:$J$93564,\"67??\")","v":0},{"$f":"SUMIFS('Accounting Data'!$C$2:$C$93564,'Accounting Data'!$E$2:$E$93564,\"575\",'Accounting Data'!$H$2:$H$93564,\"7??\",'Accounting Data'!$I$2:$I$93564,\"23??\",'Accounting Data'!$J$2:$J$93564,\"67??\")+SUMIFS('Accounting Data'!$C$2:$C$93564,'Accounting Data'!$E$2:$E$93564,\"575\",'Accounting Data'!$H$2:$H$93564,\"8??\",'Accounting Data'!$I$2:$I$93564,\"23??\",'Accounting Data'!$J$2:$J$93564,\"67??\")+SUMIFS('Accounting Data'!$C$2:$C$93564,'Accounting Data'!$E$2:$E$93564,\"575\",'Accounting Data'!$H$2:$H$93564,\"9??\",'Accounting Data'!$I$2:$I$93564,\"23??\",'Accounting Data'!$J$2:$J$93564,\"67??\")","v":0},{"$f":"SUMIFS('Accounting Data'!$C$2:$C$93564,'Accounting Data'!$E$2:$E$93564,\"8??\",'Accounting Data'!$H$2:$H$93564,\"7??\",'Accounting Data'!$I$2:$I$93564,\"23??\",'Accounting Data'!$J$2:$J$93564,\"67??\")+SUMIFS('Accounting Data'!$C$2:$C$93564,'Accounting Data'!$E$2:$E$93564,\"8??\",'Accounting Data'!$H$2:$H$93564,\"8??\",'Accounting Data'!$I$2:$I$93564,\"23??\",'Accounting Data'!$J$2:$J$93564,\"67??\")+SUMIFS('Accounting Data'!$C$2:$C$93564,'Accounting Data'!$E$2:$E$93564,\"8??\",'Accounting Data'!$H$2:$H$93564,\"9??\",'Accounting Data'!$I$2:$I$93564,\"23??\",'Accounting Data'!$J$2:$J$93564,\"67??\")","v":0},{"$f":"SUMIFS('Accounting Data'!$C$2:$C$93564,'Accounting Data'!$E$2:$E$93564,\"9??\",'Accounting Data'!$H$2:$H$93564,\"7??\",'Accounting Data'!$I$2:$I$93564,\"23??\",'Accounting Data'!$J$2:$J$93564,\"67??\")+SUMIFS('Accounting Data'!$C$2:$C$93564,'Accounting Data'!$E$2:$E$93564,\"9??\",'Accounting Data'!$H$2:$H$93564,\"8??\",'Accounting Data'!$I$2:$I$93564,\"23??\",'Accounting Data'!$J$2:$J$93564,\"67??\")+SUMIFS('Accounting Data'!$C$2:$C$93564,'Accounting Data'!$E$2:$E$93564,\"9??\",'Accounting Data'!$H$2:$H$93564,\"9??\",'Accounting Data'!$I$2:$I$93564,\"23??\",'Accounting Data'!$J$2:$J$93564,\"67??\")","v":0},null,2300,{"$f":"SUMIFS('Accounting Data'!C2:C93564,'Accounting Data'!I2:I93564,\"23??\",'Accounting Data'!J2:J93564,\"681?\")","v":46931},{"$f":"SUMIFS('Accounting Data'!$C$2:$C$93564,'Accounting Data'!$E$2:$E$93564,\"575\",'Accounting Data'!$I$2:$I$93564,\"23??\",'Accounting Data'!$J$2:$J$93564,\"681?\")+SUMIFS('Accounting Data'!$C$2:$C$93564,'Accounting Data'!$E$2:$E$93564,\"8??\",'Accounting Data'!$I$2:$I$93564,\"23??\",'Accounting Data'!$J$2:$J$93564,\"681?\")+SUMIFS('Accounting Data'!$C$2:$C$93564,'Accounting Data'!$E$2:$E$93564,\"9??\",'Accounting Data'!$I$2:$I$93564,\"23??\",'Accounting Data'!$J$2:$J$93564,\"681?\")","v":0},{"$f":"SUMIFS('Accounting Data'!$C$2:$C$93564,'Accounting Data'!$H$2:$H$93564,\"7??\",'Accounting Data'!$I$2:$I$93564,\"23??\",'Accounting Data'!$J$2:$J$93564,\"681?\")+SUMIFS('Accounting Data'!$C$2:$C$93564,'Accounting Data'!$H$2:$H$93564,\"8??\",'Accounting Data'!$I$2:$I$93564,\"23??\",'Accounting Data'!$J$2:$J$93564,\"681?\")+SUMIFS('Accounting Data'!$C$2:$C$93564,'Accounting Data'!$H$2:$H$93564,\"9??\",'Accounting Data'!$I$2:$I$93564,\"23??\",'Accounting Data'!$J$2:$J$93564,\"681?\")","v":0},{"$f":"SUMIFS('Accounting Data'!$C$2:$C$93564,'Accounting Data'!$E$2:$E$93564,\"575\",'Accounting Data'!$H$2:$H$93564,\"7??\",'Accounting Data'!$I$2:$I$93564,\"23??\",'Accounting Data'!$J$2:$J$93564,\"681?\")+SUMIFS('Accounting Data'!$C$2:$C$93564,'Accounting Data'!$E$2:$E$93564,\"575\",'Accounting Data'!$H$2:$H$93564,\"8??\",'Accounting Data'!$I$2:$I$93564,\"23??\",'Accounting Data'!$J$2:$J$93564,\"681?\")+SUMIFS('Accounting Data'!$C$2:$C$93564,'Accounting Data'!$E$2:$E$93564,\"575\",'Accounting Data'!$H$2:$H$93564,\"9??\",'Accounting Data'!$I$2:$I$93564,\"23??\",'Accounting Data'!$J$2:$J$93564,\"681?\")","v":0},{"$f":"SUMIFS('Accounting Data'!$C$2:$C$93564,'Accounting Data'!$E$2:$E$93564,\"8??\",'Accounting Data'!$H$2:$H$93564,\"7??\",'Accounting Data'!$I$2:$I$93564,\"23??\",'Accounting Data'!$J$2:$J$93564,\"681?\")+SUMIFS('Accounting Data'!$C$2:$C$93564,'Accounting Data'!$E$2:$E$93564,\"8??\",'Accounting Data'!$H$2:$H$93564,\"8??\",'Accounting Data'!$I$2:$I$93564,\"23??\",'Accounting Data'!$J$2:$J$93564,\"681?\")+SUMIFS('Accounting Data'!$C$2:$C$93564,'Accounting Data'!$E$2:$E$93564,\"8??\",'Accounting Data'!$H$2:$H$93564,\"9??\",'Accounting Data'!$I$2:$I$93564,\"23??\",'Accounting Data'!$J$2:$J$93564,\"681?\")","v":0},{"$f":"SUMIFS('Accounting Data'!$C$2:$C$93564,'Accounting Data'!$E$2:$E$93564,\"9??\",'Accounting Data'!$H$2:$H$93564,\"7??\",'Accounting Data'!$I$2:$I$93564,\"23??\",'Accounting Data'!$J$2:$J$93564,\"681?\")+SUMIFS('Accounting Data'!$C$2:$C$93564,'Accounting Data'!$E$2:$E$93564,\"9??\",'Accounting Data'!$H$2:$H$93564,\"8??\",'Accounting Data'!$I$2:$I$93564,\"23??\",'Accounting Data'!$J$2:$J$93564,\"681?\")+SUMIFS('Accounting Data'!$C$2:$C$93564,'Accounting Data'!$E$2:$E$93564,\"9??\",'Accounting Data'!$H$2:$H$93564,\"9??\",'Accounting Data'!$I$2:$I$93564,\"23??\",'Accounting Data'!$J$2:$J$93564,\"681?\")","v":0},null,2300,{"$f":"SUMIFS('Accounting Data'!C2:C93564,'Accounting Data'!I2:I93564,\"23??\",'Accounting Data'!J2:J93564,\"682?\")","v":0},{"$f":"SUMIFS('Accounting Data'!$C$2:$C$93564,'Accounting Data'!$E$2:$E$93564,\"575\",'Accounting Data'!$I$2:$I$93564,\"23??\",'Accounting Data'!$J$2:$J$93564,\"682?\")+SUMIFS('Accounting Data'!$C$2:$C$93564,'Accounting Data'!$E$2:$E$93564,\"8??\",'Accounting Data'!$I$2:$I$93564,\"23??\",'Accounting Data'!$J$2:$J$93564,\"682?\")+SUMIFS('Accounting Data'!$C$2:$C$93564,'Accounting Data'!$E$2:$E$93564,\"9??\",'Accounting Data'!$I$2:$I$93564,\"23??\",'Accounting Data'!$J$2:$J$93564,\"682?\")","v":0},{"$f":"SUMIFS('Accounting Data'!$C$2:$C$93564,'Accounting Data'!$H$2:$H$93564,\"7??\",'Accounting Data'!$I$2:$I$93564,\"23??\",'Accounting Data'!$J$2:$J$93564,\"682?\")+SUMIFS('Accounting Data'!$C$2:$C$93564,'Accounting Data'!$H$2:$H$93564,\"8??\",'Accounting Data'!$I$2:$I$93564,\"23??\",'Accounting Data'!$J$2:$J$93564,\"682?\")+SUMIFS('Accounting Data'!$C$2:$C$93564,'Accounting Data'!$H$2:$H$93564,\"9??\",'Accounting Data'!$I$2:$I$93564,\"23??\",'Accounting Data'!$J$2:$J$93564,\"682?\")","v":0},{"$f":"SUMIFS('Accounting Data'!$C$2:$C$93564,'Accounting Data'!$E$2:$E$93564,\"575\",'Accounting Data'!$H$2:$H$93564,\"7??\",'Accounting Data'!$I$2:$I$93564,\"23??\",'Accounting Data'!$J$2:$J$93564,\"682?\")+SUMIFS('Accounting Data'!$C$2:$C$93564,'Accounting Data'!$E$2:$E$93564,\"575\",'Accounting Data'!$H$2:$H$93564,\"8??\",'Accounting Data'!$I$2:$I$93564,\"23??\",'Accounting Data'!$J$2:$J$93564,\"682?\")+SUMIFS('Accounting Data'!$C$2:$C$93564,'Accounting Data'!$E$2:$E$93564,\"575\",'Accounting Data'!$H$2:$H$93564,\"9??\",'Accounting Data'!$I$2:$I$93564,\"23??\",'Accounting Data'!$J$2:$J$93564,\"682?\")","v":0},{"$f":"SUMIFS('Accounting Data'!$C$2:$C$93564,'Accounting Data'!$E$2:$E$93564,\"8??\",'Accounting Data'!$H$2:$H$93564,\"7??\",'Accounting Data'!$I$2:$I$93564,\"23??\",'Accounting Data'!$J$2:$J$93564,\"682?\")+SUMIFS('Accounting Data'!$C$2:$C$93564,'Accounting Data'!$E$2:$E$93564,\"8??\",'Accounting Data'!$H$2:$H$93564,\"8??\",'Accounting Data'!$I$2:$I$93564,\"23??\",'Accounting Data'!$J$2:$J$93564,\"682?\")+SUMIFS('Accounting Data'!$C$2:$C$93564,'Accounting Data'!$E$2:$E$93564,\"8??\",'Accounting Data'!$H$2:$H$93564,\"9??\",'Accounting Data'!$I$2:$I$93564,\"23??\",'Accounting Data'!$J$2:$J$93564,\"682?\")","v":0},{"$f":"SUMIFS('Accounting Data'!$C$2:$C$93564,'Accounting Data'!$E$2:$E$93564,\"9??\",'Accounting Data'!$H$2:$H$93564,\"7??\",'Accounting Data'!$I$2:$I$93564,\"23??\",'Accounting Data'!$J$2:$J$93564,\"682?\")+SUMIFS('Accounting Data'!$C$2:$C$93564,'Accounting Data'!$E$2:$E$93564,\"9??\",'Accounting Data'!$H$2:$H$93564,\"8??\",'Accounting Data'!$I$2:$I$93564,\"23??\",'Accounting Data'!$J$2:$J$93564,\"682?\")+SUMIFS('Accounting Data'!$C$2:$C$93564,'Accounting Data'!$E$2:$E$93564,\"9??\",'Accounting Data'!$H$2:$H$93564,\"9??\",'Accounting Data'!$I$2:$I$93564,\"23??\",'Accounting Data'!$J$2:$J$93564,\"682?\")","v":0},null,null,null,null,null,null,null,null,null,2300,{"$f":"SUM(SUMIFS('Accounting Data'!C2:C93564,'Accounting Data'!I2:I93564,\"23??\",'Accounting Data'!J2:J93564,{\"689?\",\"6885\"}))","v":3525},{"$f":"SUM(SUMIFS('Accounting Data'!$C$2:$C$93564,'Accounting Data'!$E$2:$E$93564,\"575\",'Accounting Data'!$I$2:$I$93564,\"23??\",'Accounting Data'!$J$2:$J$93564,{\"689?\",\"6885\"}))+SUM(SUMIFS('Accounting Data'!$C$2:$C$93564,'Accounting Data'!$E$2:$E$93564,\"8??\",'Accounting Data'!$I$2:$I$93564,\"23??\",'Accounting Data'!$J$2:$J$93564,{\"689?\",\"6885\"}))+SUM(SUMIFS('Accounting Data'!$C$2:$C$93564,'Accounting Data'!$E$2:$E$93564,\"9??\",'Accounting Data'!$I$2:$I$93564,\"23??\",'Accounting Data'!$J$2:$J$93564,{\"689?\",\"6885\"}))","v":0},{"$f":"SUM(SUMIFS('Accounting Data'!$C$2:$C$93564,'Accounting Data'!$H$2:$H$93564,\"7??\",'Accounting Data'!$I$2:$I$93564,\"23??\",'Accounting Data'!$J$2:$J$93564,{\"689?\",\"6885\"}))+SUM(SUMIFS('Accounting Data'!$C$2:$C$93564,'Accounting Data'!$H$2:$H$93564,\"8??\",'Accounting Data'!$I$2:$I$93564,\"23??\",'Accounting Data'!$J$2:$J$93564,{\"689?\",\"6885\"}))+SUM(SUMIFS('Accounting Data'!$C$2:$C$93564,'Accounting Data'!$H$2:$H$93564,\"9??\",'Accounting Data'!$I$2:$I$93564,\"23??\",'Accounting Data'!$J$2:$J$93564,{\"689?\",\"6885\"}))","v":0},{"$f":"SUM(SUMIFS('Accounting Data'!$C$2:$C$93564,'Accounting Data'!$E$2:$E$93564,\"575\",'Accounting Data'!$H$2:$H$93564,\"7??\",'Accounting Data'!$I$2:$I$93564,\"23??\",'Accounting Data'!$J$2:$J$93564,{\"689?\",\"6885\"}))+SUM(SUMIFS('Accounting Data'!$C$2:$C$93564,'Accounting Data'!$E$2:$E$93564,\"575\",'Accounting Data'!$H$2:$H$93564,\"8??\",'Accounting Data'!$I$2:$I$93564,\"23??\",'Accounting Data'!$J$2:$J$93564,{\"689?\",\"6885\"}))+SUM(SUMIFS('Accounting Data'!$C$2:$C$93564,'Accounting Data'!$E$2:$E$93564,\"575\",'Accounting Data'!$H$2:$H$93564,\"9??\",'Accounting Data'!$I$2:$I$93564,\"23??\",'Accounting Data'!$J$2:$J$93564,{\"689?\",\"6885\"}))","v":0},{"$f":"SUM(SUMIFS('Accounting Data'!$C$2:$C$93564,'Accounting Data'!$E$2:$E$93564,\"8??\",'Accounting Data'!$H$2:$H$93564,\"7??\",'Accounting Data'!$I$2:$I$93564,\"23??\",'Accounting Data'!$J$2:$J$93564,{\"689?\",\"6885\"}))+SUM(SUMIFS('Accounting Data'!$C$2:$C$93564,'Accounting Data'!$E$2:$E$93564,\"8??\",'Accounting Data'!$H$2:$H$93564,\"8??\",'Accounting Data'!$I$2:$I$93564,\"23??\",'Accounting Data'!$J$2:$J$93564,{\"689?\",\"6885\"}))+SUM(SUMIFS('Accounting Data'!$C$2:$C$93564,'Accounting Data'!$E$2:$E$93564,\"8??\",'Accounting Data'!$H$2:$H$93564,\"9??\",'Accounting Data'!$I$2:$I$93564,\"23??\",'Accounting Data'!$J$2:$J$93564,{\"689?\",\"6885\"}))","v":0},{"$f":"SUM(SUMIFS('Accounting Data'!$C$2:$C$93564,'Accounting Data'!$E$2:$E$93564,\"9??\",'Accounting Data'!$H$2:$H$93564,\"7??\",'Accounting Data'!$I$2:$I$93564,\"23??\",'Accounting Data'!$J$2:$J$93564,{\"689?\",\"6885\"}))+SUM(SUMIFS('Accounting Data'!$C$2:$C$93564,'Accounting Data'!$E$2:$E$93564,\"9??\",'Accounting Data'!$H$2:$H$93564,\"8??\",'Accounting Data'!$I$2:$I$93564,\"23??\",'Accounting Data'!$J$2:$J$93564,{\"689?\",\"6885\"}))+SUM(SUMIFS('Accounting Data'!$C$2:$C$93564,'Accounting Data'!$E$2:$E$93564,\"9??\",'Accounting Data'!$H$2:$H$93564,\"9??\",'Accounting Data'!$I$2:$I$93564,\"23??\",'Accounting Data'!$J$2:$J$93564,{\"689?\",\"6885\"}))","v":0},null,2300,{"$f":"SUMIFS('Accounting Data'!$C$2:$C$93564,'Accounting Data'!$H$2:$H$93564,\"7??\",'Accounting Data'!$I$2:$I$93564,\"23??\",'Accounting Data'!$J$2:$J$93564,\"6???\")+SUMIFS('Accounting Data'!$C$2:$C$93564,'Accounting Data'!$H$2:$H$93564,\"8??\",'Accounting Data'!$I$2:$I$93564,\"23??\",'Accounting Data'!$J$2:$J$93564,\"6???\")+SUMIFS('Accounting Data'!$C$2:$C$93564,'Accounting Data'!$H$2:$H$93564,\"9??\",'Accounting Data'!$I$2:$I$93564,\"23??\",'Accounting Data'!$J$2:$J$93564,\"6???\")","v":0},{"$f":"SUMIFS('Accounting Data'!$C$2:$C$93564,'Accounting Data'!$H$2:$H$93564,\"7??\",'Accounting Data'!$I$2:$I$93564,\"23??\",'Accounting Data'!$J$2:$J$93564,\"69??\")+SUMIFS('Accounting Data'!$C$2:$C$93564,'Accounting Data'!$H$2:$H$93564,\"8??\",'Accounting Data'!$I$2:$I$93564,\"23??\",'Accounting Data'!$J$2:$J$93564,\"69??\")+SUMIFS('Accounting Data'!$C$2:$C$93564,'Accounting Data'!$H$2:$H$93564,\"9??\",'Accounting Data'!$I$2:$I$93564,\"23??\",'Accounting Data'!$J$2:$J$93564,\"69??\")","v":0},{"$f":"SUMIFS('Accounting Data'!$C$2:$C$93564,'Accounting Data'!$E$2:$E$93564,\"575\",'Accounting Data'!$H$2:$H$93564,\"7??\",'Accounting Data'!$I$2:$I$93564,\"23??\",'Accounting Data'!$J$2:$J$93564,\"6???\")+SUMIFS('Accounting Data'!$C$2:$C$93564,'Accounting Data'!$E$2:$E$93564,\"575\",'Accounting Data'!$H$2:$H$93564,\"8??\",'Accounting Data'!$I$2:$I$93564,\"23??\",'Accounting Data'!$J$2:$J$93564,\"6???\")+SUMIFS('Accounting Data'!$C$2:$C$93564,'Accounting Data'!$E$2:$E$93564,\"575\",'Accounting Data'!$H$2:$H$93564,\"9??\",'Accounting Data'!$I$2:$I$93564,\"23??\",'Accounting Data'!$J$2:$J$93564,\"6???\")","v":0},{"$f":"SUMIFS('Accounting Data'!$C$2:$C$93564,'Accounting Data'!$E$2:$E$93564,\"8??\",'Accounting Data'!$H$2:$H$93564,\"7??\",'Accounting Data'!$I$2:$I$93564,\"23??\",'Accounting Data'!$J$2:$J$93564,\"6???\")+SUMIFS('Accounting Data'!$C$2:$C$93564,'Accounting Data'!$E$2:$E$93564,\"8??\",'Accounting Data'!$H$2:$H$93564,\"8??\",'Accounting Data'!$I$2:$I$93564,\"23??\",'Accounting Data'!$J$2:$J$93564,\"6???\")+SUMIFS('Accounting Data'!$C$2:$C$93564,'Accounting Data'!$E$2:$E$93564,\"8??\",'Accounting Data'!$H$2:$H$93564,\"9??\",'Accounting Data'!$I$2:$I$93564,\"23??\",'Accounting Data'!$J$2:$J$93564,\"6???\")+SUMIFS('Accounting Data'!$C$2:$C$93564,'Accounting Data'!$E$2:$E$93564,\"9??\",'Accounting Data'!$H$2:$H$93564,\"7??\",'Accounting Data'!$I$2:$I$93564,\"23??\",'Accounting Data'!$J$2:$J$93564,\"6???\")+SUMIFS('Accounting Data'!$C$2:$C$93564,'Accounting Data'!$E$2:$E$93564,\"9??\",'Accounting Data'!$H$2:$H$93564,\"8??\",'Accounting Data'!$I$2:$I$93564,\"23??\",'Accounting Data'!$J$2:$J$93564,\"6???\")+SUMIFS('Accounting Data'!$C$2:$C$93564,'Accounting Data'!$E$2:$E$93564,\"9??\",'Accounting Data'!$H$2:$H$93564,\"9??\",'Accounting Data'!$I$2:$I$93564,\"23??\",'Accounting Data'!$J$2:$J$93564,\"6???\")","v":0},{"$f":"SUMIFS('Accounting Data'!$C$2:$C$93564,'Accounting Data'!$E$2:$E$93564,\"575\",'Accounting Data'!$H$2:$H$93564,\"7??\",'Accounting Data'!$I$2:$I$93564,\"23??\",'Accounting Data'!$J$2:$J$93564,\"69??\")+SUMIFS('Accounting Data'!$C$2:$C$93564,'Accounting Data'!$E$2:$E$93564,\"575\",'Accounting Data'!$H$2:$H$93564,\"8??\",'Accounting Data'!$I$2:$I$93564,\"23??\",'Accounting Data'!$J$2:$J$93564,\"69??\")+SUMIFS('Accounting Data'!$C$2:$C$93564,'Accounting Data'!$E$2:$E$93564,\"575\",'Accounting Data'!$H$2:$H$93564,\"9??\",'Accounting Data'!$I$2:$I$93564,\"23??\",'Accounting Data'!$J$2:$J$93564,\"69??\")","v":0},{"$f":"SUMIFS('Accounting Data'!$C$2:$C$93564,'Accounting Data'!$E$2:$E$93564,\"8??\",'Accounting Data'!$H$2:$H$93564,\"7??\",'Accounting Data'!$I$2:$I$93564,\"23??\",'Accounting Data'!$J$2:$J$93564,\"69??\")+SUMIFS('Accounting Data'!$C$2:$C$93564,'Accounting Data'!$E$2:$E$93564,\"8??\",'Accounting Data'!$H$2:$H$93564,\"8??\",'Accounting Data'!$I$2:$I$93564,\"23??\",'Accounting Data'!$J$2:$J$93564,\"69??\")+SUMIFS('Accounting Data'!$C$2:$C$93564,'Accounting Data'!$E$2:$E$93564,\"8??\",'Accounting Data'!$H$2:$H$93564,\"9??\",'Accounting Data'!$I$2:$I$93564,\"23??\",'Accounting Data'!$J$2:$J$93564,\"69??\")+SUMIFS('Accounting Data'!$C$2:$C$93564,'Accounting Data'!$E$2:$E$93564,\"9??\",'Accounting Data'!$H$2:$H$93564,\"7??\",'Accounting Data'!$I$2:$I$93564,\"23??\",'Accounting Data'!$J$2:$J$93564,\"69??\")+SUMIFS('Accounting Data'!$C$2:$C$93564,'Accounting Data'!$E$2:$E$93564,\"9??\",'Accounting Data'!$H$2:$H$93564,\"8??\",'Accounting Data'!$I$2:$I$93564,\"23??\",'Accounting Data'!$J$2:$J$93564,\"69??\")+SUMIFS('Accounting Data'!$C$2:$C$93564,'Accounting Data'!$E$2:$E$93564,\"9??\",'Accounting Data'!$H$2:$H$93564,\"9??\",'Accounting Data'!$I$2:$I$93564,\"23??\",'Accounting Data'!$J$2:$J$93564,\"69??\")","v":0}]
["         2400 School Administration","5.",{"$f":"(AA15-AB15-AC15)+(AD15+AE15+AF15)","v":957875},{"$f":"(AI15-AJ15-AK15)+(AL15+AM15+AN15)","v":293957},{"$f":"(AQ15-AR15-AS15-AT15-AU15)+(AV15+AW15+AX15+AY15+AZ15+BA15+BB15+BC15+BD15)","v":1050},{"$f":"(BG15-BH15-BI15)+(BJ15+BK15+BL15)","v":336},{"$f":"(BO15-BP15-BQ15)+(BR15+BS15+BT15)","v":3969},{"$f":"(BW15-BX15-BY15)+(BZ15+CA15+CB15)","v":2388},null,null,null,{"$f":"(CU15-CV15-CW15)+(CX15+CY15+CZ15)","v":0},{"$f":"(DC15-DD15)-((DE15+DF15)-(DG15+DH15))","v":0},1259575,"5.",null,null,null,null,null,null,null,null,null,null,2400,{"$f":"SUMIFS('Accounting Data'!C2:C93564,'Accounting Data'!I2:I93564,\"24??\",'Accounting Data'!J2:J93564,\"61??\")","v":957875},{"$f":"SUMIFS('Accounting Data'!C2:C93564,'Accounting Data'!E2:E93564,\"575\",'Accounting Data'!I2:I93564,\"24??\",'Accounting Data'!J2:J93564,\"61??\")+SUMIFS('Accounting Data'!C2:C93564,'Accounting Data'!E2:E93564,\"8??\",'Accounting Data'!I2:I93564,\"24??\",'Accounting Data'!J2:J93564,\"61??\")+SUMIFS('Accounting Data'!C2:C93564,'Accounting Data'!E2:E93564,\"9??\",'Accounting Data'!I2:I93564,\"24??\",'Accounting Data'!J2:J93564,\"61??\")","v":0},{"$f":"SUMIFS('Accounting Data'!C2:C93564,'Accounting Data'!H2:H93564,\"7??\",'Accounting Data'!I2:I93564,\"24??\",'Accounting Data'!J2:J93564,\"61??\")+SUMIFS('Accounting Data'!C2:C93564,'Accounting Data'!H2:H93564,\"8??\",'Accounting Data'!I2:I93564,\"24??\",'Accounting Data'!J2:J93564,\"61??\")+SUMIFS('Accounting Data'!C2:C93564,'Accounting Data'!H2:H93564,\"9??\",'Accounting Data'!I2:I93564,\"24??\",'Accounting Data'!J2:J93564,\"61??\")","v":0},{"$f":"SUMIFS('Accounting Data'!C2:C93564,'Accounting Data'!E2:E93564,\"575\",'Accounting Data'!H2:H93564,\"7??\",'Accounting Data'!I2:I93564,\"24??\",'Accounting Data'!J2:J93564,\"61??\")+SUMIFS('Accounting Data'!C2:C93564,'Accounting Data'!E2:E93564,\"575\",'Accounting Data'!H2:H93564,\"8??\",'Accounting Data'!I2:I93564,\"24??\",'Accounting Data'!J2:J93564,\"61??\")+SUMIFS('Accounting Data'!C2:C93564,'Accounting Data'!E2:E93564,\"575\",'Accounting Data'!H2:H93564,\"9??\",'Accounting Data'!I2:I93564,\"24??\",'Accounting Data'!J2:J93564,\"61??\")","v":0},{"$f":"SUMIFS('Accounting Data'!C2:C93564,'Accounting Data'!E2:E93564,\"8??\",'Accounting Data'!H2:H93564,\"7??\",'Accounting Data'!I2:I93564,\"24??\",'Accounting Data'!J2:J93564,\"61??\")+SUMIFS('Accounting Data'!C2:C93564,'Accounting Data'!E2:E93564,\"8??\",'Accounting Data'!H2:H93564,\"8??\",'Accounting Data'!I2:I93564,\"24??\",'Accounting Data'!J2:J93564,\"61??\")+SUMIFS('Accounting Data'!C2:C93564,'Accounting Data'!E2:E93564,\"8??\",'Accounting Data'!H2:H93564,\"9??\",'Accounting Data'!I2:I93564,\"24??\",'Accounting Data'!J2:J93564,\"61??\")","v":0},{"$f":"SUMIFS('Accounting Data'!C2:C93564,'Accounting Data'!E2:E93564,\"9??\",'Accounting Data'!H2:H93564,\"7??\",'Accounting Data'!I2:I93564,\"24??\",'Accounting Data'!J2:J93564,\"61??\")+SUMIFS('Accounting Data'!C2:C93564,'Accounting Data'!E2:E93564,\"9??\",'Accounting Data'!H2:H93564,\"8??\",'Accounting Data'!I2:I93564,\"24??\",'Accounting Data'!J2:J93564,\"61??\")+SUMIFS('Accounting Data'!C2:C93564,'Accounting Data'!E2:E93564,\"9??\",'Accounting Data'!H2:H93564,\"9??\",'Accounting Data'!I2:I93564,\"24??\",'Accounting Data'!J2:J93564,\"61??\")","v":0},null,2400,{"$f":"SUMIFS('Accounting Data'!C2:C93564,'Accounting Data'!I2:I93564,\"24??\",'Accounting Data'!J2:J93564,\"62??\")","v":293957},{"$f":"SUMIFS('Accounting Data'!C2:C93564,'Accounting Data'!E2:E93564,\"575\",'Accounting Data'!I2:I93564,\"24??\",'Accounting Data'!J2:J93564,\"62??\")+SUMIFS('Accounting Data'!C2:C93564,'Accounting Data'!E2:E93564,\"8??\",'Accounting Data'!I2:I93564,\"24??\",'Accounting Data'!J2:J93564,\"62??\")+SUMIFS('Accounting Data'!C2:C93564,'Accounting Data'!E2:E93564,\"9??\",'Accounting Data'!I2:I93564,\"24??\",'Accounting Data'!J2:J93564,\"62??\")","v":0},{"$f":"SUMIFS('Accounting Data'!C2:C93564,'Accounting Data'!H2:H93564,\"7??\",'Accounting Data'!I2:I93564,\"24??\",'Accounting Data'!J2:J93564,\"62??\")+SUMIFS('Accounting Data'!C2:C93564,'Accounting Data'!H2:H93564,\"8??\",'Accounting Data'!I2:I93564,\"24??\",'Accounting Data'!J2:J93564,\"62??\")+SUMIFS('Accounting Data'!C2:C93564,'Accounting Data'!H2:H93564,\"9??\",'Accounting Data'!I2:I93564,\"24??\",'Accounting Data'!J2:J93564,\"62??\")","v":0},{"$f":"SUMIFS('Accounting Data'!C2:C93564,'Accounting Data'!E2:E93564,\"575\",'Accounting Data'!H2:H93564,\"7??\",'Accounting Data'!I2:I93564,\"24??\",'Accounting Data'!J2:J93564,\"62??\")+SUMIFS('Accounting Data'!C2:C93564,'Accounting Data'!E2:E93564,\"575\",'Accounting Data'!H2:H93564,\"8??\",'Accounting Data'!I2:I93564,\"24??\",'Accounting Data'!J2:J93564,\"62??\")+SUMIFS('Accounting Data'!C2:C93564,'Accounting Data'!E2:E93564,\"575\",'Accounting Data'!H2:H93564,\"9??\",'Accounting Data'!I2:I93564,\"24??\",'Accounting Data'!J2:J93564,\"62??\")","v":0},{"$f":"SUMIFS('Accounting Data'!C2:C93564,'Accounting Data'!E2:E93564,\"8??\",'Accounting Data'!H2:H93564,\"7??\",'Accounting Data'!I2:I93564,\"24??\",'Accounting Data'!J2:J93564,\"62??\")+SUMIFS('Accounting Data'!C2:C93564,'Accounting Data'!E2:E93564,\"8??\",'Accounting Data'!H2:H93564,\"8??\",'Accounting Data'!I2:I93564,\"24??\",'Accounting Data'!J2:J93564,\"62??\")+SUMIFS('Accounting Data'!C2:C93564,'Accounting Data'!E2:E93564,\"8??\",'Accounting Data'!H2:H93564,\"9??\",'Accounting Data'!I2:I93564,\"24??\",'Accounting Data'!J2:J93564,\"62??\")","v":0},{"$f":"SUMIFS('Accounting Data'!C2:C93564,'Accounting Data'!E2:E93564,\"9??\",'Accounting Data'!H2:H93564,\"7??\",'Accounting Data'!I2:I93564,\"24??\",'Accounting Data'!J2:J93564,\"62??\")+SUMIFS('Accounting Data'!C2:C93564,'Accounting Data'!E2:E93564,\"9??\",'Accounting Data'!H2:H93564,\"8??\",'Accounting Data'!I2:I93564,\"24??\",'Accounting Data'!J2:J93564,\"62??\")+SUMIFS('Accounting Data'!C2:C93564,'Accounting Data'!E2:E93564,\"9??\",'Accounting Data'!H2:H93564,\"9??\",'Accounting Data'!I2:I93564,\"24??\",'Accounting Data'!J2:J93564,\"62??\")","v":0},null,2400,{"$f":"SUMIFS('Accounting Data'!C2:C93564,'Accounting Data'!I2:I93564,\"24??\",'Accounting Data'!J2:J93564,\"63??\")+SUMIFS('Accounting Data'!C2:C93564,'Accounting Data'!I2:I93564,\"24??\",'Accounting Data'!J2:J93564,\"64??\")+SUMIFS('Accounting Data'!C2:C93564,'Accounting Data'!I2:I93564,\"24??\",'Accounting Data'!J2:J93564,\"65??\")","v":1050},{"$f":"SUMIFS('Accounting Data'!C2:C93564,'Accounting Data'!E2:E93564,\"575\",'Accounting Data'!I2:I93564,\"24??\",'Accounting Data'!J2:J93564,\"63??\")+SUMIFS('Accounting Data'!C2:C93564,'Accounting Data'!E2:E93564,\"8??\",'Accounting Data'!I2:I93564,\"24??\",'Accounting Data'!J2:J93564,\"63??\")+SUMIFS('Accounting Data'!C2:C93564,'Accounting Data'!E2:E93564,\"9??\",'Accounting Data'!I2:I93564,\"24??\",'Accounting Data'!J2:J93564,\"63??\")","v":0},{"$f":"SUMIFS('Accounting Data'!C2:C93564,'Accounting Data'!E2:E93564,\"575\",'Accounting Data'!I2:I93564,\"24??\",'Accounting Data'!J2:J93564,\"64??\")+SUMIFS('Accounting Data'!C2:C93564,'Accounting Data'!E2:E93564,\"8??\",'Accounting Data'!I2:I93564,\"24??\",'Accounting Data'!J2:J93564,\"64??\")+SUMIFS('Accounting Data'!C2:C93564,'Accounting Data'!E2:E93564,\"9??\",'Accounting Data'!I2:I93564,\"24??\",'Accounting Data'!J2:J93564,\"64??\")","v":0},{"$f":"SUMIFS('Accounting Data'!C2:C93564,'Accounting Data'!E2:E93564,\"575\",'Accounting Data'!I2:I93564,\"24??\",'Accounting Data'!J2:J93564,\"65??\")+SUMIFS('Accounting Data'!C2:C93564,'Accounting Data'!E2:E93564,\"8??\",'Accounting Data'!I2:I93564,\"24??\",'Accounting Data'!J2:J93564,\"65??\")+SUMIFS('Accounting Data'!C2:C93564,'Accounting Data'!E2:E93564,\"9??\",'Accounting Data'!I2:I93564,\"24??\",'Accounting Data'!J2:J93564,\"65??\")","v":0},{"$f":"SUMIFS('Accounting Data'!C2:C93564,'Accounting Data'!H2:H93564,\"7??\",'Accounting Data'!I2:I93564,\"24??\",'Accounting Data'!J2:J93564,\"63??\")+SUMIFS('Accounting Data'!C2:C93564,'Accounting Data'!H2:H93564,\"8??\",'Accounting Data'!I2:I93564,\"24??\",'Accounting Data'!J2:J93564,\"63??\")+SUMIFS('Accounting Data'!C2:C93564,'Accounting Data'!H2:H93564,\"9??\",'Accounting Data'!I2:I93564,\"24??\",'Accounting Data'!J2:J93564,\"63??\")+SUMIFS('Accounting Data'!C2:C93564,'Accounting Data'!H2:H93564,\"7??\",'Accounting Data'!I2:I93564,\"24??\",'Accounting Data'!J2:J93564,\"64??\")+SUMIFS('Accounting Data'!C2:C93564,'Accounting Data'!H2:H93564,\"8??\",'Accounting Data'!I2:I93564,\"24??\",'Accounting Data'!J2:J93564,\"64??\")+SUMIFS('Accounting Data'!C2:C93564,'Accounting Data'!H2:H93564,\"9??\",'Accounting Data'!I2:I93564,\"24??\",'Accounting Data'!J2:J93564,\"64??\")+SUMIFS('Accounting Data'!C2:C93564,'Accounting Data'!H2:H93564,\"7??\",'Accounting Data'!I2:I93564,\"24??\",'Accounting Data'!J2:J93564,\"65??\")+SUMIFS('Accounting Data'!C2:C93564,'Accounting Data'!H2:H93564,\"8??\",'Accounting Data'!I2:I93564,\"24??\",'Accounting Data'!J2:J93564,\"65??\")+SUMIFS('Accounting Data'!C2:C93564,'Accounting Data'!H2:H93564,\"9??\",'Accounting Data'!I2:I93564,\"24??\",'Accounting Data'!J2:J93564,\"65??\")","v":0},{"$f":"SUMIFS('Accounting Data'!C$2:C$93564,'Accounting Data'!E$2:E$93564,\"575\",'Accounting Data'!H$2:H$93564,\"7??\",'Accounting Data'!I$2:I$93564,\"24??\",'Accounting Data'!J$2:J$93564,\"63??\")+SUMIFS('Accounting Data'!C$2:C$93564,'Accounting Data'!E$2:E$93564,\"575\",'Accounting Data'!H$2:H$93564,\"8??\",'Accounting Data'!I$2:I$93564,\"24??\",'Accounting Data'!J$2:J$93564,\"63??\")+SUMIFS('Accounting Data'!C$2:C$93564,'Accounting Data'!E$2:E$93564,\"575\",'Accounting Data'!H$2:H$93564,\"9??\",'Accounting Data'!I$2:I$93564,\"24??\",'Accounting Data'!J$2:J$93564,\"63??\")","v":0},{"$f":"SUMIFS('Accounting Data'!C2:C93564,'Accounting Data'!E2:E93564,\"575\",'Accounting Data'!H2:H93564,\"7??\",'Accounting Data'!I2:I93564,\"24??\",'Accounting Data'!J2:J93564,\"64??\")+SUMIFS('Accounting Data'!C2:C93564,'Accounting Data'!E2:E93564,\"575\",'Accounting Data'!H2:H93564,\"8??\",'Accounting Data'!I2:I93564,\"24??\",'Accounting Data'!J2:J93564,\"64??\")+SUMIFS('Accounting Data'!C2:C93564,'Accounting Data'!E2:E93564,\"575\",'Accounting Data'!H2:H93564,\"9??\",'Accounting Data'!I2:I93564,\"24??\",'Accounting Data'!J2:J93564,\"64??\")","v":0},{"$f":"SUMIFS('Accounting Data'!C2:C93564,'Accounting Data'!E2:E93564,\"575\",'Accounting Data'!H2:H93564,\"7??\",'Accounting Data'!I2:I93564,\"24??\",'Accounting Data'!J2:J93564,\"65??\")+SUMIFS('Accounting Data'!C2:C93564,'Accounting Data'!E2:E93564,\"575\",'Accounting Data'!H2:H93564,\"8??\",'Accounting Data'!I2:I93564,\"24??\",'Accounting Data'!J2:J93564,\"65??\")+SUMIFS('Accounting Data'!C2:C93564,'Accounting Data'!E2:E93564,\"575\",'Accounting Data'!H2:H93564,\"9??\",'Accounting Data'!I2:I93564,\"24??\",'Accounting Data'!J2:J93564,\"65??\")","v":0},{"$f":"SUMIFS('Accounting Data'!C2:C93564,'Accounting Data'!E2:E93564,\"8??\",'Accounting Data'!H2:H93564,\"7??\",'Accounting Data'!I2:I93564,\"24??\",'Accounting Data'!J2:J93564,\"63??\")+SUMIFS('Accounting Data'!C2:C93564,'Accounting Data'!E2:E93564,\"8??\",'Accounting Data'!H2:H93564,\"8??\",'Accounting Data'!I2:I93564,\"24??\",'Accounting Data'!J2:J93564,\"63??\")+SUMIFS('Accounting Data'!C2:C93564,'Accounting Data'!E2:E93564,\"8??\",'Accounting Data'!H2:H93564,\"9??\",'Accounting Data'!I2:I93564,\"24??\",'Accounting Data'!J2:J93564,\"63??\")","v":0},{"$f":"SUMIFS('Accounting Data'!C2:C93564,'Accounting Data'!E2:E93564,\"8??\",'Accounting Data'!H2:H93564,\"7??\",'Accounting Data'!I2:I93564,\"24??\",'Accounting Data'!J2:J93564,\"64??\")+SUMIFS('Accounting Data'!C2:C93564,'Accounting Data'!E2:E93564,\"8??\",'Accounting Data'!H2:H93564,\"8??\",'Accounting Data'!I2:I93564,\"24??\",'Accounting Data'!J2:J93564,\"64??\")+SUMIFS('Accounting Data'!C2:C93564,'Accounting Data'!E2:E93564,\"8??\",'Accounting Data'!H2:H93564,\"9??\",'Accounting Data'!I2:I93564,\"24??\",'Accounting Data'!J2:J93564,\"64??\")","v":0},{"$f":"SUMIFS('Accounting Data'!C2:C93564,'Accounting Data'!E2:E93564,\"8??\",'Accounting Data'!H2:H93564,\"7??\",'Accounting Data'!I2:I93564,\"24??\",'Accounting Data'!J2:J93564,\"65??\")+SUMIFS('Accounting Data'!C2:C93564,'Accounting Data'!E2:E93564,\"8??\",'Accounting Data'!H2:H93564,\"8??\",'Accounting Data'!I2:I93564,\"24??\",'Accounting Data'!J2:J93564,\"65??\")+SUMIFS('Accounting Data'!C2:C93564,'Accounting Data'!E2:E93564,\"8??\",'Accounting Data'!H2:H93564,\"9??\",'Accounting Data'!I2:I93564,\"24??\",'Accounting Data'!J2:J93564,\"65??\")","v":0},{"$f":"SUMIFS('Accounting Data'!C2:C93564,'Accounting Data'!E2:E93564,\"9??\",'Accounting Data'!H2:H93564,\"7??\",'Accounting Data'!I2:I93564,\"24??\",'Accounting Data'!J2:J93564,\"63??\")+SUMIFS('Accounting Data'!C2:C93564,'Accounting Data'!E2:E93564,\"9??\",'Accounting Data'!H2:H93564,\"8??\",'Accounting Data'!I2:I93564,\"24??\",'Accounting Data'!J2:J93564,\"63??\")+SUMIFS('Accounting Data'!C2:C93564,'Accounting Data'!E2:E93564,\"9??\",'Accounting Data'!H2:H93564,\"9??\",'Accounting Data'!I2:I93564,\"24??\",'Accounting Data'!J2:J93564,\"63??\")","v":0},{"$f":"SUMIFS('Accounting Data'!C2:C93564,'Accounting Data'!E2:E93564,\"9??\",'Accounting Data'!H2:H93564,\"7??\",'Accounting Data'!I2:I93564,\"24??\",'Accounting Data'!J2:J93564,\"64??\")+SUMIFS('Accounting Data'!C2:C93564,'Accounting Data'!E2:E93564,\"9??\",'Accounting Data'!H2:H93564,\"8??\",'Accounting Data'!I2:I93564,\"24??\",'Accounting Data'!J2:J93564,\"64??\")+SUMIFS('Accounting Data'!C2:C93564,'Accounting Data'!E2:E93564,\"9??\",'Accounting Data'!H2:H93564,\"9??\",'Accounting Data'!I2:I93564,\"24??\",'Accounting Data'!J2:J93564,\"64??\")","v":0},{"$f":"SUMIFS('Accounting Data'!C2:C93564,'Accounting Data'!E2:E93564,\"9??\",'Accounting Data'!H2:H93564,\"7??\",'Accounting Data'!I2:I93564,\"24??\",'Accounting Data'!J2:J93564,\"65??\")+SUMIFS('Accounting Data'!C2:C93564,'Accounting Data'!E2:E93564,\"9??\",'Accounting Data'!H2:H93564,\"8??\",'Accounting Data'!I2:I93564,\"24??\",'Accounting Data'!J2:J93564,\"65??\")+SUMIFS('Accounting Data'!C2:C93564,'Accounting Data'!E2:E93564,\"9??\",'Accounting Data'!H2:H93564,\"9??\",'Accounting Data'!I2:I93564,\"24??\",'Accounting Data'!J2:J93564,\"65??\")","v":0},null,2400,{"$f":"SUMIFS('Accounting Data'!C2:C93564,'Accounting Data'!I2:I93564,\"24??\",'Accounting Data'!J2:J93564,\"66??\")","v":336},{"$f":"SUMIFS('Accounting Data'!$C$2:$C$93564,'Accounting Data'!$E$2:$E$93564,\"575\",'Accounting Data'!$I$2:$I$93564,\"24??\",'Accounting Data'!$J$2:$J$93564,\"66??\")+SUMIFS('Accounting Data'!$C$2:$C$93564,'Accounting Data'!$E$2:$E$93564,\"8??\",'Accounting Data'!$I$2:$I$93564,\"24??\",'Accounting Data'!$J$2:$J$93564,\"66??\")+SUMIFS('Accounting Data'!$C$2:$C$93564,'Accounting Data'!$E$2:$E$93564,\"9??\",'Accounting Data'!$I$2:$I$93564,\"24??\",'Accounting Data'!$J$2:$J$93564,\"66??\")","v":0},{"$f":"SUMIFS('Accounting Data'!$C$2:$C$93564,'Accounting Data'!$H$2:$H$93564,\"7??\",'Accounting Data'!$I$2:$I$93564,\"24??\",'Accounting Data'!$J$2:$J$93564,\"66??\")+SUMIFS('Accounting Data'!$C$2:$C$93564,'Accounting Data'!$H$2:$H$93564,\"8??\",'Accounting Data'!$I$2:$I$93564,\"24??\",'Accounting Data'!$J$2:$J$93564,\"66??\")+SUMIFS('Accounting Data'!$C$2:$C$93564,'Accounting Data'!$H$2:$H$93564,\"9??\",'Accounting Data'!$I$2:$I$93564,\"24??\",'Accounting Data'!$J$2:$J$93564,\"66??\")","v":0},{"$f":"SUMIFS('Accounting Data'!$C$2:$C$93564,'Accounting Data'!$E$2:$E$93564,\"575\",'Accounting Data'!$H$2:$H$93564,\"7??\",'Accounting Data'!$I$2:$I$93564,\"24??\",'Accounting Data'!$J$2:$J$93564,\"66??\")+SUMIFS('Accounting Data'!$C$2:$C$93564,'Accounting Data'!$E$2:$E$93564,\"575\",'Accounting Data'!$H$2:$H$93564,\"8??\",'Accounting Data'!$I$2:$I$93564,\"24??\",'Accounting Data'!$J$2:$J$93564,\"66??\")+SUMIFS('Accounting Data'!$C$2:$C$93564,'Accounting Data'!$E$2:$E$93564,\"575\",'Accounting Data'!$H$2:$H$93564,\"9??\",'Accounting Data'!$I$2:$I$93564,\"24??\",'Accounting Data'!$J$2:$J$93564,\"66??\")","v":0},{"$f":"SUMIFS('Accounting Data'!$C$2:$C$93564,'Accounting Data'!$E$2:$E$93564,\"8??\",'Accounting Data'!$H$2:$H$93564,\"7??\",'Accounting Data'!$I$2:$I$93564,\"24??\",'Accounting Data'!$J$2:$J$93564,\"66??\")+SUMIFS('Accounting Data'!$C$2:$C$93564,'Accounting Data'!$E$2:$E$93564,\"8??\",'Accounting Data'!$H$2:$H$93564,\"8??\",'Accounting Data'!$I$2:$I$93564,\"24??\",'Accounting Data'!$J$2:$J$93564,\"66??\")+SUMIFS('Accounting Data'!$C$2:$C$93564,'Accounting Data'!$E$2:$E$93564,\"8??\",'Accounting Data'!$H$2:$H$93564,\"9??\",'Accounting Data'!$I$2:$I$93564,\"24??\",'Accounting Data'!$J$2:$J$93564,\"66??\")","v":0},{"$f":"SUMIFS('Accounting Data'!$C$2:$C$93564,'Accounting Data'!$E$2:$E$93564,\"9??\",'Accounting Data'!$H$2:$H$93564,\"7??\",'Accounting Data'!$I$2:$I$93564,\"24??\",'Accounting Data'!$J$2:$J$93564,\"66??\")+SUMIFS('Accounting Data'!$C$2:$C$93564,'Accounting Data'!$E$2:$E$93564,\"9??\",'Accounting Data'!$H$2:$H$93564,\"8??\",'Accounting Data'!$I$2:$I$93564,\"24??\",'Accounting Data'!$J$2:$J$93564,\"66??\")+SUMIFS('Accounting Data'!$C$2:$C$93564,'Accounting Data'!$E$2:$E$93564,\"9??\",'Accounting Data'!$H$2:$H$93564,\"9??\",'Accounting Data'!$I$2:$I$93564,\"24??\",'Accounting Data'!$J$2:$J$93564,\"66??\")","v":0},null,2400,{"$f":"SUMIFS('Accounting Data'!C2:C93564,'Accounting Data'!I2:I93564,\"24??\",'Accounting Data'!J2:J93564,\"67??\")","v":3969},{"$f":"SUMIFS('Accounting Data'!$C$2:$C$93564,'Accounting Data'!$E$2:$E$93564,\"575\",'Accounting Data'!$I$2:$I$93564,\"24??\",'Accounting Data'!$J$2:$J$93564,\"67??\")+SUMIFS('Accounting Data'!$C$2:$C$93564,'Accounting Data'!$E$2:$E$93564,\"8??\",'Accounting Data'!$I$2:$I$93564,\"24??\",'Accounting Data'!$J$2:$J$93564,\"67??\")+SUMIFS('Accounting Data'!$C$2:$C$93564,'Accounting Data'!$E$2:$E$93564,\"9??\",'Accounting Data'!$I$2:$I$93564,\"24??\",'Accounting Data'!$J$2:$J$93564,\"67??\")","v":0},{"$f":"SUMIFS('Accounting Data'!$C$2:$C$93564,'Accounting Data'!$H$2:$H$93564,\"7??\",'Accounting Data'!$I$2:$I$93564,\"24??\",'Accounting Data'!$J$2:$J$93564,\"67??\")+SUMIFS('Accounting Data'!$C$2:$C$93564,'Accounting Data'!$H$2:$H$93564,\"8??\",'Accounting Data'!$I$2:$I$93564,\"24??\",'Accounting Data'!$J$2:$J$93564,\"67??\")+SUMIFS('Accounting Data'!$C$2:$C$93564,'Accounting Data'!$H$2:$H$93564,\"9??\",'Accounting Data'!$I$2:$I$93564,\"24??\",'Accounting Data'!$J$2:$J$93564,\"67??\")","v":0},{"$f":"SUMIFS('Accounting Data'!$C$2:$C$93564,'Accounting Data'!$E$2:$E$93564,\"575\",'Accounting Data'!$H$2:$H$93564,\"7??\",'Accounting Data'!$I$2:$I$93564,\"24??\",'Accounting Data'!$J$2:$J$93564,\"67??\")+SUMIFS('Accounting Data'!$C$2:$C$93564,'Accounting Data'!$E$2:$E$93564,\"575\",'Accounting Data'!$H$2:$H$93564,\"8??\",'Accounting Data'!$I$2:$I$93564,\"24??\",'Accounting Data'!$J$2:$J$93564,\"67??\")+SUMIFS('Accounting Data'!$C$2:$C$93564,'Accounting Data'!$E$2:$E$93564,\"575\",'Accounting Data'!$H$2:$H$93564,\"9??\",'Accounting Data'!$I$2:$I$93564,\"24??\",'Accounting Data'!$J$2:$J$93564,\"67??\")","v":0},{"$f":"SUMIFS('Accounting Data'!$C$2:$C$93564,'Accounting Data'!$E$2:$E$93564,\"8??\",'Accounting Data'!$H$2:$H$93564,\"7??\",'Accounting Data'!$I$2:$I$93564,\"24??\",'Accounting Data'!$J$2:$J$93564,\"67??\")+SUMIFS('Accounting Data'!$C$2:$C$93564,'Accounting Data'!$E$2:$E$93564,\"8??\",'Accounting Data'!$H$2:$H$93564,\"8??\",'Accounting Data'!$I$2:$I$93564,\"24??\",'Accounting Data'!$J$2:$J$93564,\"67??\")+SUMIFS('Accounting Data'!$C$2:$C$93564,'Accounting Data'!$E$2:$E$93564,\"8??\",'Accounting Data'!$H$2:$H$93564,\"9??\",'Accounting Data'!$I$2:$I$93564,\"24??\",'Accounting Data'!$J$2:$J$93564,\"67??\")","v":0},{"$f":"SUMIFS('Accounting Data'!$C$2:$C$93564,'Accounting Data'!$E$2:$E$93564,\"9??\",'Accounting Data'!$H$2:$H$93564,\"7??\",'Accounting Data'!$I$2:$I$93564,\"24??\",'Accounting Data'!$J$2:$J$93564,\"67??\")+SUMIFS('Accounting Data'!$C$2:$C$93564,'Accounting Data'!$E$2:$E$93564,\"9??\",'Accounting Data'!$H$2:$H$93564,\"8??\",'Accounting Data'!$I$2:$I$93564,\"24??\",'Accounting Data'!$J$2:$J$93564,\"67??\")+SUMIFS('Accounting Data'!$C$2:$C$93564,'Accounting Data'!$E$2:$E$93564,\"9??\",'Accounting Data'!$H$2:$H$93564,\"9??\",'Accounting Data'!$I$2:$I$93564,\"24??\",'Accounting Data'!$J$2:$J$93564,\"67??\")","v":0},null,2400,{"$f":"SUMIFS('Accounting Data'!C2:C93564,'Accounting Data'!I2:I93564,\"24??\",'Accounting Data'!J2:J93564,\"681?\")","v":2388},{"$f":"SUMIFS('Accounting Data'!$C$2:$C$93564,'Accounting Data'!$E$2:$E$93564,\"575\",'Accounting Data'!$I$2:$I$93564,\"24??\",'Accounting Data'!$J$2:$J$93564,\"681?\")+SUMIFS('Accounting Data'!$C$2:$C$93564,'Accounting Data'!$E$2:$E$93564,\"8??\",'Accounting Data'!$I$2:$I$93564,\"24??\",'Accounting Data'!$J$2:$J$93564,\"681?\")+SUMIFS('Accounting Data'!$C$2:$C$93564,'Accounting Data'!$E$2:$E$93564,\"9??\",'Accounting Data'!$I$2:$I$93564,\"24??\",'Accounting Data'!$J$2:$J$93564,\"681?\")","v":0},{"$f":"SUMIFS('Accounting Data'!$C$2:$C$93564,'Accounting Data'!$H$2:$H$93564,\"7??\",'Accounting Data'!$I$2:$I$93564,\"24??\",'Accounting Data'!$J$2:$J$93564,\"681?\")+SUMIFS('Accounting Data'!$C$2:$C$93564,'Accounting Data'!$H$2:$H$93564,\"8??\",'Accounting Data'!$I$2:$I$93564,\"24??\",'Accounting Data'!$J$2:$J$93564,\"681?\")+SUMIFS('Accounting Data'!$C$2:$C$93564,'Accounting Data'!$H$2:$H$93564,\"9??\",'Accounting Data'!$I$2:$I$93564,\"24??\",'Accounting Data'!$J$2:$J$93564,\"681?\")","v":0},{"$f":"SUMIFS('Accounting Data'!$C$2:$C$93564,'Accounting Data'!$E$2:$E$93564,\"575\",'Accounting Data'!$H$2:$H$93564,\"7??\",'Accounting Data'!$I$2:$I$93564,\"24??\",'Accounting Data'!$J$2:$J$93564,\"681?\")+SUMIFS('Accounting Data'!$C$2:$C$93564,'Accounting Data'!$E$2:$E$93564,\"575\",'Accounting Data'!$H$2:$H$93564,\"8??\",'Accounting Data'!$I$2:$I$93564,\"24??\",'Accounting Data'!$J$2:$J$93564,\"681?\")+SUMIFS('Accounting Data'!$C$2:$C$93564,'Accounting Data'!$E$2:$E$93564,\"575\",'Accounting Data'!$H$2:$H$93564,\"9??\",'Accounting Data'!$I$2:$I$93564,\"24??\",'Accounting Data'!$J$2:$J$93564,\"681?\")","v":0},{"$f":"SUMIFS('Accounting Data'!$C$2:$C$93564,'Accounting Data'!$E$2:$E$93564,\"8??\",'Accounting Data'!$H$2:$H$93564,\"7??\",'Accounting Data'!$I$2:$I$93564,\"24??\",'Accounting Data'!$J$2:$J$93564,\"681?\")+SUMIFS('Accounting Data'!$C$2:$C$93564,'Accounting Data'!$E$2:$E$93564,\"8??\",'Accounting Data'!$H$2:$H$93564,\"8??\",'Accounting Data'!$I$2:$I$93564,\"24??\",'Accounting Data'!$J$2:$J$93564,\"681?\")+SUMIFS('Accounting Data'!$C$2:$C$93564,'Accounting Data'!$E$2:$E$93564,\"8??\",'Accounting Data'!$H$2:$H$93564,\"9??\",'Accounting Data'!$I$2:$I$93564,\"24??\",'Accounting Data'!$J$2:$J$93564,\"681?\")","v":0},{"$f":"SUMIFS('Accounting Data'!$C$2:$C$93564,'Accounting Data'!$E$2:$E$93564,\"9??\",'Accounting Data'!$H$2:$H$93564,\"7??\",'Accounting Data'!$I$2:$I$93564,\"24??\",'Accounting Data'!$J$2:$J$93564,\"681?\")+SUMIFS('Accounting Data'!$C$2:$C$93564,'Accounting Data'!$E$2:$E$93564,\"9??\",'Accounting Data'!$H$2:$H$93564,\"8??\",'Accounting Data'!$I$2:$I$93564,\"24??\",'Accounting Data'!$J$2:$J$93564,\"681?\")+SUMIFS('Accounting Data'!$C$2:$C$93564,'Accounting Data'!$E$2:$E$93564,\"9??\",'Accounting Data'!$H$2:$H$93564,\"9??\",'Accounting Data'!$I$2:$I$93564,\"24??\",'Accounting Data'!$J$2:$J$93564,\"681?\")","v":0},null,"Object 6850",null,null,null,null,null,null,null,null,null,null,null,null,null,null,null,2400,{"$f":"SUM(SUMIFS('Accounting Data'!C2:C93564,'Accounting Data'!I2:I93564,\"24??\",'Accounting Data'!J2:J93564,{\"689?\",\"6885\"}))","v":0},{"$f":"SUM(SUMIFS('Accounting Data'!$C$2:$C$93564,'Accounting Data'!$E$2:$E$93564,\"575\",'Accounting Data'!$I$2:$I$93564,\"24??\",'Accounting Data'!$J$2:$J$93564,{\"689?\",\"6885\"}))+SUM(SUMIFS('Accounting Data'!$C$2:$C$93564,'Accounting Data'!$E$2:$E$93564,\"8??\",'Accounting Data'!$I$2:$I$93564,\"24??\",'Accounting Data'!$J$2:$J$93564,{\"689?\",\"6885\"}))+SUM(SUMIFS('Accounting Data'!$C$2:$C$93564,'Accounting Data'!$E$2:$E$93564,\"9??\",'Accounting Data'!$I$2:$I$93564,\"24??\",'Accounting Data'!$J$2:$J$93564,{\"689?\",\"6885\"}))","v":0},{"$f":"SUM(SUMIFS('Accounting Data'!$C$2:$C$93564,'Accounting Data'!$H$2:$H$93564,\"7??\",'Accounting Data'!$I$2:$I$93564,\"24??\",'Accounting Data'!$J$2:$J$93564,{\"689?\",\"6885\"}))+SUM(SUMIFS('Accounting Data'!$C$2:$C$93564,'Accounting Data'!$H$2:$H$93564,\"8??\",'Accounting Data'!$I$2:$I$93564,\"24??\",'Accounting Data'!$J$2:$J$93564,{\"689?\",\"6885\"}))+SUM(SUMIFS('Accounting Data'!$C$2:$C$93564,'Accounting Data'!$H$2:$H$93564,\"9??\",'Accounting Data'!$I$2:$I$93564,\"24??\",'Accounting Data'!$J$2:$J$93564,{\"689?\",\"6885\"}))","v":0},{"$f":"SUM(SUMIFS('Accounting Data'!$C$2:$C$93564,'Accounting Data'!$E$2:$E$93564,\"575\",'Accounting Data'!$H$2:$H$93564,\"7??\",'Accounting Data'!$I$2:$I$93564,\"24??\",'Accounting Data'!$J$2:$J$93564,{\"689?\",\"6885\"}))+SUM(SUMIFS('Accounting Data'!$C$2:$C$93564,'Accounting Data'!$E$2:$E$93564,\"575\",'Accounting Data'!$H$2:$H$93564,\"8??\",'Accounting Data'!$I$2:$I$93564,\"24??\",'Accounting Data'!$J$2:$J$93564,{\"689?\",\"6885\"}))+SUM(SUMIFS('Accounting Data'!$C$2:$C$93564,'Accounting Data'!$E$2:$E$93564,\"575\",'Accounting Data'!$H$2:$H$93564,\"9??\",'Accounting Data'!$I$2:$I$93564,\"24??\",'Accounting Data'!$J$2:$J$93564,{\"689?\",\"6885\"}))","v":0},{"$f":"SUM(SUMIFS('Accounting Data'!$C$2:$C$93564,'Accounting Data'!$E$2:$E$93564,\"8??\",'Accounting Data'!$H$2:$H$93564,\"7??\",'Accounting Data'!$I$2:$I$93564,\"24??\",'Accounting Data'!$J$2:$J$93564,{\"689?\",\"6885\"}))+SUM(SUMIFS('Accounting Data'!$C$2:$C$93564,'Accounting Data'!$E$2:$E$93564,\"8??\",'Accounting Data'!$H$2:$H$93564,\"8??\",'Accounting Data'!$I$2:$I$93564,\"24??\",'Accounting Data'!$J$2:$J$93564,{\"689?\",\"6885\"}))+SUM(SUMIFS('Accounting Data'!$C$2:$C$93564,'Accounting Data'!$E$2:$E$93564,\"8??\",'Accounting Data'!$H$2:$H$93564,\"9??\",'Accounting Data'!$I$2:$I$93564,\"24??\",'Accounting Data'!$J$2:$J$93564,{\"689?\",\"6885\"}))","v":0},{"$f":"SUM(SUMIFS('Accounting Data'!$C$2:$C$93564,'Accounting Data'!$E$2:$E$93564,\"9??\",'Accounting Data'!$H$2:$H$93564,\"7??\",'Accounting Data'!$I$2:$I$93564,\"24??\",'Accounting Data'!$J$2:$J$93564,{\"689?\",\"6885\"}))+SUM(SUMIFS('Accounting Data'!$C$2:$C$93564,'Accounting Data'!$E$2:$E$93564,\"9??\",'Accounting Data'!$H$2:$H$93564,\"8??\",'Accounting Data'!$I$2:$I$93564,\"24??\",'Accounting Data'!$J$2:$J$93564,{\"689?\",\"6885\"}))+SUM(SUMIFS('Accounting Data'!$C$2:$C$93564,'Accounting Data'!$E$2:$E$93564,\"9??\",'Accounting Data'!$H$2:$H$93564,\"9??\",'Accounting Data'!$I$2:$I$93564,\"24??\",'Accounting Data'!$J$2:$J$93564,{\"689?\",\"6885\"}))","v":0},null,2400,{"$f":"SUMIFS('Accounting Data'!$C$2:$C$93564,'Accounting Data'!$H$2:$H$93564,\"7??\",'Accounting Data'!$I$2:$I$93564,\"24??\",'Accounting Data'!$J$2:$J$93564,\"6???\")+SUMIFS('Accounting Data'!$C$2:$C$93564,'Accounting Data'!$H$2:$H$93564,\"8??\",'Accounting Data'!$I$2:$I$93564,\"24??\",'Accounting Data'!$J$2:$J$93564,\"6???\")+SUMIFS('Accounting Data'!$C$2:$C$93564,'Accounting Data'!$H$2:$H$93564,\"9??\",'Accounting Data'!$I$2:$I$93564,\"24??\",'Accounting Data'!$J$2:$J$93564,\"6???\")","v":0},{"$f":"SUMIFS('Accounting Data'!$C$2:$C$93564,'Accounting Data'!$H$2:$H$93564,\"7??\",'Accounting Data'!$I$2:$I$93564,\"24??\",'Accounting Data'!$J$2:$J$93564,\"69??\")+SUMIFS('Accounting Data'!$C$2:$C$93564,'Accounting Data'!$H$2:$H$93564,\"8??\",'Accounting Data'!$I$2:$I$93564,\"24??\",'Accounting Data'!$J$2:$J$93564,\"69??\")+SUMIFS('Accounting Data'!$C$2:$C$93564,'Accounting Data'!$H$2:$H$93564,\"9??\",'Accounting Data'!$I$2:$I$93564,\"24??\",'Accounting Data'!$J$2:$J$93564,\"69??\")","v":0},{"$f":"SUMIFS('Accounting Data'!$C$2:$C$93564,'Accounting Data'!$E$2:$E$93564,\"575\",'Accounting Data'!$H$2:$H$93564,\"7??\",'Accounting Data'!$I$2:$I$93564,\"24??\",'Accounting Data'!$J$2:$J$93564,\"6???\")+SUMIFS('Accounting Data'!$C$2:$C$93564,'Accounting Data'!$E$2:$E$93564,\"575\",'Accounting Data'!$H$2:$H$93564,\"8??\",'Accounting Data'!$I$2:$I$93564,\"24??\",'Accounting Data'!$J$2:$J$93564,\"6???\")+SUMIFS('Accounting Data'!$C$2:$C$93564,'Accounting Data'!$E$2:$E$93564,\"575\",'Accounting Data'!$H$2:$H$93564,\"9??\",'Accounting Data'!$I$2:$I$93564,\"24??\",'Accounting Data'!$J$2:$J$93564,\"6???\")","v":0},{"$f":"SUMIFS('Accounting Data'!$C$2:$C$93564,'Accounting Data'!$E$2:$E$93564,\"8??\",'Accounting Data'!$H$2:$H$93564,\"7??\",'Accounting Data'!$I$2:$I$93564,\"24??\",'Accounting Data'!$J$2:$J$93564,\"6???\")+SUMIFS('Accounting Data'!$C$2:$C$93564,'Accounting Data'!$E$2:$E$93564,\"8??\",'Accounting Data'!$H$2:$H$93564,\"8??\",'Accounting Data'!$I$2:$I$93564,\"24??\",'Accounting Data'!$J$2:$J$93564,\"6???\")+SUMIFS('Accounting Data'!$C$2:$C$93564,'Accounting Data'!$E$2:$E$93564,\"8??\",'Accounting Data'!$H$2:$H$93564,\"9??\",'Accounting Data'!$I$2:$I$93564,\"24??\",'Accounting Data'!$J$2:$J$93564,\"6???\")+SUMIFS('Accounting Data'!$C$2:$C$93564,'Accounting Data'!$E$2:$E$93564,\"9??\",'Accounting Data'!$H$2:$H$93564,\"7??\",'Accounting Data'!$I$2:$I$93564,\"24??\",'Accounting Data'!$J$2:$J$93564,\"6???\")+SUMIFS('Accounting Data'!$C$2:$C$93564,'Accounting Data'!$E$2:$E$93564,\"9??\",'Accounting Data'!$H$2:$H$93564,\"8??\",'Accounting Data'!$I$2:$I$93564,\"24??\",'Accounting Data'!$J$2:$J$93564,\"6???\")+SUMIFS('Accounting Data'!$C$2:$C$93564,'Accounting Data'!$E$2:$E$93564,\"9??\",'Accounting Data'!$H$2:$H$93564,\"9??\",'Accounting Data'!$I$2:$I$93564,\"24??\",'Accounting Data'!$J$2:$J$93564,\"6???\")","v":0},{"$f":"SUMIFS('Accounting Data'!$C$2:$C$93564,'Accounting Data'!$E$2:$E$93564,\"575\",'Accounting Data'!$H$2:$H$93564,\"7??\",'Accounting Data'!$I$2:$I$93564,\"24??\",'Accounting Data'!$J$2:$J$93564,\"69??\")+SUMIFS('Accounting Data'!$C$2:$C$93564,'Accounting Data'!$E$2:$E$93564,\"575\",'Accounting Data'!$H$2:$H$93564,\"8??\",'Accounting Data'!$I$2:$I$93564,\"24??\",'Accounting Data'!$J$2:$J$93564,\"69??\")+SUMIFS('Accounting Data'!$C$2:$C$93564,'Accounting Data'!$E$2:$E$93564,\"575\",'Accounting Data'!$H$2:$H$93564,\"9??\",'Accounting Data'!$I$2:$I$93564,\"24??\",'Accounting Data'!$J$2:$J$93564,\"69??\")","v":0},{"$f":"SUMIFS('Accounting Data'!$C$2:$C$93564,'Accounting Data'!$E$2:$E$93564,\"8??\",'Accounting Data'!$H$2:$H$93564,\"7??\",'Accounting Data'!$I$2:$I$93564,\"24??\",'Accounting Data'!$J$2:$J$93564,\"69??\")+SUMIFS('Accounting Data'!$C$2:$C$93564,'Accounting Data'!$E$2:$E$93564,\"8??\",'Accounting Data'!$H$2:$H$93564,\"8??\",'Accounting Data'!$I$2:$I$93564,\"24??\",'Accounting Data'!$J$2:$J$93564,\"69??\")+SUMIFS('Accounting Data'!$C$2:$C$93564,'Accounting Data'!$E$2:$E$93564,\"8??\",'Accounting Data'!$H$2:$H$93564,\"9??\",'Accounting Data'!$I$2:$I$93564,\"24??\",'Accounting Data'!$J$2:$J$93564,\"69??\")+SUMIFS('Accounting Data'!$C$2:$C$93564,'Accounting Data'!$E$2:$E$93564,\"9??\",'Accounting Data'!$H$2:$H$93564,\"7??\",'Accounting Data'!$I$2:$I$93564,\"24??\",'Accounting Data'!$J$2:$J$93564,\"69??\")+SUMIFS('Accounting Data'!$C$2:$C$93564,'Accounting Data'!$E$2:$E$93564,\"9??\",'Accounting Data'!$H$2:$H$93564,\"8??\",'Accounting Data'!$I$2:$I$93564,\"24??\",'Accounting Data'!$J$2:$J$93564,\"69??\")+SUMIFS('Accounting Data'!$C$2:$C$93564,'Accounting Data'!$E$2:$E$93564,\"9??\",'Accounting Data'!$H$2:$H$93564,\"9??\",'Accounting Data'!$I$2:$I$93564,\"24??\",'Accounting Data'!$J$2:$J$93564,\"69??\")","v":0}]
["         2500, 2900 Central Services, Other","6.",{"$f":"((AA16+AA17)-(AB16+AB17)-(AC16+AC17))+((AD16+AD17)+(AE16+AE17)+(AF16+AF17))","v":951695},{"$f":"((AI16+AI17)-(AJ16+AJ17)-(AK16+AK17))+((AL16+AL17)+(AM16+AM17)+(AN16+AN17))","v":278727},{"$f":"(SUM(AQ16:AQ17)-SUM(AR16:AT17)-SUM(AU16:AU17))+(SUM(AV16:AX17)+SUM(AY16:BA17)+SUM(BB16:BD17))","v":212802},{"$f":"((BG16+BG17)-(BH16+BH17)-(BI16+BI17))+((BJ16+BJ17)+(BK16+BK17)+(BL16+BL17))","v":158767},{"$f":"((BO16+BO17)-(BP16+BP17)-(BQ16+BQ17))+((BR16+BR17)+(BS16+BS17)+(BT16+BT17))","v":328359},{"$f":"((BW16+BW17)-(BX16+BX17)-(BY16+BY17))+((BZ16+BZ17)+(CA16+CA17)+(CB16+CB17))","v":19231},null,null,{"$f":"(CE17-CH17-CI17)+(CL17+CO17+CR17)","v":0},{"$f":"((CU16+CU17)-(CV16+CV17)-(CW16+CW17))+((CX16+CX17)+(CY16+CY17)+(CZ16+CZ17))","v":20113},{"$f":"(SUM(DC16:DC17)-SUM(DD16:DD17))-((SUM(DE16:DE17)+SUM(DF16:DF17))-(SUM(DG16:DG17)+SUM(DH16:DH17)))","v":0},1969694,"6.",null,null,null,"Impact Aid revenue allocation by object",null,null,"Impact aid revenue allocation\n(P25 * percentage)","Amount used in Impact aid allocation",null,null,2500,{"$f":"SUMIFS('Accounting Data'!C2:C93564,'Accounting Data'!I2:I93564,\"25??\",'Accounting Data'!J2:J93564,\"61??\")","v":951695},{"$f":"SUMIFS('Accounting Data'!C2:C93564,'Accounting Data'!E2:E93564,\"575\",'Accounting Data'!I2:I93564,\"25??\",'Accounting Data'!J2:J93564,\"61??\")+SUMIFS('Accounting Data'!C2:C93564,'Accounting Data'!E2:E93564,\"8??\",'Accounting Data'!I2:I93564,\"25??\",'Accounting Data'!J2:J93564,\"61??\")+SUMIFS('Accounting Data'!C2:C93564,'Accounting Data'!E2:E93564,\"9??\",'Accounting Data'!I2:I93564,\"25??\",'Accounting Data'!J2:J93564,\"61??\")","v":0},{"$f":"SUMIFS('Accounting Data'!C2:C93564,'Accounting Data'!H2:H93564,\"7??\",'Accounting Data'!I2:I93564,\"25??\",'Accounting Data'!J2:J93564,\"61??\")+SUMIFS('Accounting Data'!C2:C93564,'Accounting Data'!H2:H93564,\"8??\",'Accounting Data'!I2:I93564,\"25??\",'Accounting Data'!J2:J93564,\"61??\")+SUMIFS('Accounting Data'!C2:C93564,'Accounting Data'!H2:H93564,\"9??\",'Accounting Data'!I2:I93564,\"25??\",'Accounting Data'!J2:J93564,\"61??\")","v":0},{"$f":"SUMIFS('Accounting Data'!C2:C93564,'Accounting Data'!E2:E93564,\"575\",'Accounting Data'!H2:H93564,\"7??\",'Accounting Data'!I2:I93564,\"25??\",'Accounting Data'!J2:J93564,\"61??\")+SUMIFS('Accounting Data'!C2:C93564,'Accounting Data'!E2:E93564,\"575\",'Accounting Data'!H2:H93564,\"8??\",'Accounting Data'!I2:I93564,\"25??\",'Accounting Data'!J2:J93564,\"61??\")+SUMIFS('Accounting Data'!C2:C93564,'Accounting Data'!E2:E93564,\"575\",'Accounting Data'!H2:H93564,\"9??\",'Accounting Data'!I2:I93564,\"25??\",'Accounting Data'!J2:J93564,\"61??\")","v":0},{"$f":"SUMIFS('Accounting Data'!C2:C93564,'Accounting Data'!E2:E93564,\"8??\",'Accounting Data'!H2:H93564,\"7??\",'Accounting Data'!I2:I93564,\"25??\",'Accounting Data'!J2:J93564,\"61??\")+SUMIFS('Accounting Data'!C2:C93564,'Accounting Data'!E2:E93564,\"8??\",'Accounting Data'!H2:H93564,\"8??\",'Accounting Data'!I2:I93564,\"25??\",'Accounting Data'!J2:J93564,\"61??\")+SUMIFS('Accounting Data'!C2:C93564,'Accounting Data'!E2:E93564,\"8??\",'Accounting Data'!H2:H93564,\"9??\",'Accounting Data'!I2:I93564,\"25??\",'Accounting Data'!J2:J93564,\"61??\")","v":0},{"$f":"SUMIFS('Accounting Data'!C2:C93564,'Accounting Data'!E2:E93564,\"9??\",'Accounting Data'!H2:H93564,\"7??\",'Accounting Data'!I2:I93564,\"25??\",'Accounting Data'!J2:J93564,\"61??\")+SUMIFS('Accounting Data'!C2:C93564,'Accounting Data'!E2:E93564,\"9??\",'Accounting Data'!H2:H93564,\"8??\",'Accounting Data'!I2:I93564,\"25??\",'Accounting Data'!J2:J93564,\"61??\")+SUMIFS('Accounting Data'!C2:C93564,'Accounting Data'!E2:E93564,\"9??\",'Accounting Data'!H2:H93564,\"9??\",'Accounting Data'!I2:I93564,\"25??\",'Accounting Data'!J2:J93564,\"61??\")","v":0},null,2500,{"$f":"SUMIFS('Accounting Data'!C2:C93564,'Accounting Data'!I2:I93564,\"25??\",'Accounting Data'!J2:J93564,\"62??\")","v":278727},{"$f":"SUMIFS('Accounting Data'!C2:C93564,'Accounting Data'!E2:E93564,\"575\",'Accounting Data'!I2:I93564,\"25??\",'Accounting Data'!J2:J93564,\"62??\")+SUMIFS('Accounting Data'!C2:C93564,'Accounting Data'!E2:E93564,\"8??\",'Accounting Data'!I2:I93564,\"25??\",'Accounting Data'!J2:J93564,\"62??\")+SUMIFS('Accounting Data'!C2:C93564,'Accounting Data'!E2:E93564,\"9??\",'Accounting Data'!I2:I93564,\"25??\",'Accounting Data'!J2:J93564,\"62??\")","v":0},{"$f":"SUMIFS('Accounting Data'!C2:C93564,'Accounting Data'!H2:H93564,\"7??\",'Accounting Data'!I2:I93564,\"25??\",'Accounting Data'!J2:J93564,\"62??\")+SUMIFS('Accounting Data'!C2:C93564,'Accounting Data'!H2:H93564,\"8??\",'Accounting Data'!I2:I93564,\"25??\",'Accounting Data'!J2:J93564,\"62??\")+SUMIFS('Accounting Data'!C2:C93564,'Accounting Data'!H2:H93564,\"9??\",'Accounting Data'!I2:I93564,\"25??\",'Accounting Data'!J2:J93564,\"62??\")","v":0},{"$f":"SUMIFS('Accounting Data'!C2:C93564,'Accounting Data'!E2:E93564,\"575\",'Accounting Data'!H2:H93564,\"7??\",'Accounting Data'!I2:I93564,\"25??\",'Accounting Data'!J2:J93564,\"62??\")+SUMIFS('Accounting Data'!C2:C93564,'Accounting Data'!E2:E93564,\"575\",'Accounting Data'!H2:H93564,\"8??\",'Accounting Data'!I2:I93564,\"25??\",'Accounting Data'!J2:J93564,\"62??\")+SUMIFS('Accounting Data'!C2:C93564,'Accounting Data'!E2:E93564,\"575\",'Accounting Data'!H2:H93564,\"9??\",'Accounting Data'!I2:I93564,\"25??\",'Accounting Data'!J2:J93564,\"62??\")","v":0},{"$f":"SUMIFS('Accounting Data'!C2:C93564,'Accounting Data'!E2:E93564,\"8??\",'Accounting Data'!H2:H93564,\"7??\",'Accounting Data'!I2:I93564,\"25??\",'Accounting Data'!J2:J93564,\"62??\")+SUMIFS('Accounting Data'!C2:C93564,'Accounting Data'!E2:E93564,\"8??\",'Accounting Data'!H2:H93564,\"8??\",'Accounting Data'!I2:I93564,\"25??\",'Accounting Data'!J2:J93564,\"62??\")+SUMIFS('Accounting Data'!C2:C93564,'Accounting Data'!E2:E93564,\"8??\",'Accounting Data'!H2:H93564,\"9??\",'Accounting Data'!I2:I93564,\"25??\",'Accounting Data'!J2:J93564,\"62??\")","v":0},{"$f":"SUMIFS('Accounting Data'!C2:C93564,'Accounting Data'!E2:E93564,\"9??\",'Accounting Data'!H2:H93564,\"7??\",'Accounting Data'!I2:I93564,\"25??\",'Accounting Data'!J2:J93564,\"62??\")+SUMIFS('Accounting Data'!C2:C93564,'Accounting Data'!E2:E93564,\"9??\",'Accounting Data'!H2:H93564,\"8??\",'Accounting Data'!I2:I93564,\"25??\",'Accounting Data'!J2:J93564,\"62??\")+SUMIFS('Accounting Data'!C2:C93564,'Accounting Data'!E2:E93564,\"9??\",'Accounting Data'!H2:H93564,\"9??\",'Accounting Data'!I2:I93564,\"25??\",'Accounting Data'!J2:J93564,\"62??\")","v":0},null,2500,{"$f":"SUMIFS('Accounting Data'!C2:C93564,'Accounting Data'!I2:I93564,\"25??\",'Accounting Data'!J2:J93564,\"63??\")+SUMIFS('Accounting Data'!C2:C93564,'Accounting Data'!I2:I93564,\"25??\",'Accounting Data'!J2:J93564,\"64??\")+SUMIFS('Accounting Data'!C2:C93564,'Accounting Data'!I2:I93564,\"25??\",'Accounting Data'!J2:J93564,\"65??\")","v":212802},{"$f":"SUMIFS('Accounting Data'!C2:C93564,'Accounting Data'!E2:E93564,\"575\",'Accounting Data'!I2:I93564,\"25??\",'Accounting Data'!J2:J93564,\"63??\")+SUMIFS('Accounting Data'!C2:C93564,'Accounting Data'!E2:E93564,\"8??\",'Accounting Data'!I2:I93564,\"25??\",'Accounting Data'!J2:J93564,\"63??\")+SUMIFS('Accounting Data'!C2:C93564,'Accounting Data'!E2:E93564,\"9??\",'Accounting Data'!I2:I93564,\"25??\",'Accounting Data'!J2:J93564,\"63??\")","v":0},{"$f":"SUMIFS('Accounting Data'!C2:C93564,'Accounting Data'!E2:E93564,\"575\",'Accounting Data'!I2:I93564,\"25??\",'Accounting Data'!J2:J93564,\"64??\")+SUMIFS('Accounting Data'!C2:C93564,'Accounting Data'!E2:E93564,\"8??\",'Accounting Data'!I2:I93564,\"25??\",'Accounting Data'!J2:J93564,\"64??\")+SUMIFS('Accounting Data'!C2:C93564,'Accounting Data'!E2:E93564,\"9??\",'Accounting Data'!I2:I93564,\"25??\",'Accounting Data'!J2:J93564,\"64??\")","v":0},{"$f":"SUMIFS('Accounting Data'!C2:C93564,'Accounting Data'!E2:E93564,\"575\",'Accounting Data'!I2:I93564,\"25??\",'Accounting Data'!J2:J93564,\"65??\")+SUMIFS('Accounting Data'!C2:C93564,'Accounting Data'!E2:E93564,\"8??\",'Accounting Data'!I2:I93564,\"25??\",'Accounting Data'!J2:J93564,\"65??\")+SUMIFS('Accounting Data'!C2:C93564,'Accounting Data'!E2:E93564,\"9??\",'Accounting Data'!I2:I93564,\"25??\",'Accounting Data'!J2:J93564,\"65??\")","v":0},{"$f":"SUMIFS('Accounting Data'!C2:C93564,'Accounting Data'!H2:H93564,\"7??\",'Accounting Data'!I2:I93564,\"25??\",'Accounting Data'!J2:J93564,\"63??\")+SUMIFS('Accounting Data'!C2:C93564,'Accounting Data'!H2:H93564,\"8??\",'Accounting Data'!I2:I93564,\"25??\",'Accounting Data'!J2:J93564,\"63??\")+SUMIFS('Accounting Data'!C2:C93564,'Accounting Data'!H2:H93564,\"9??\",'Accounting Data'!I2:I93564,\"25??\",'Accounting Data'!J2:J93564,\"63??\")+SUMIFS('Accounting Data'!C2:C93564,'Accounting Data'!H2:H93564,\"7??\",'Accounting Data'!I2:I93564,\"25??\",'Accounting Data'!J2:J93564,\"64??\")+SUMIFS('Accounting Data'!C2:C93564,'Accounting Data'!H2:H93564,\"8??\",'Accounting Data'!I2:I93564,\"25??\",'Accounting Data'!J2:J93564,\"64??\")+SUMIFS('Accounting Data'!C2:C93564,'Accounting Data'!H2:H93564,\"9??\",'Accounting Data'!I2:I93564,\"25??\",'Accounting Data'!J2:J93564,\"64??\")+SUMIFS('Accounting Data'!C2:C93564,'Accounting Data'!H2:H93564,\"7??\",'Accounting Data'!I2:I93564,\"25??\",'Accounting Data'!J2:J93564,\"65??\")+SUMIFS('Accounting Data'!C2:C93564,'Accounting Data'!H2:H93564,\"8??\",'Accounting Data'!I2:I93564,\"25??\",'Accounting Data'!J2:J93564,\"65??\")+SUMIFS('Accounting Data'!C2:C93564,'Accounting Data'!H2:H93564,\"9??\",'Accounting Data'!I2:I93564,\"25??\",'Accounting Data'!J2:J93564,\"65??\")","v":0},{"$f":"SUMIFS('Accounting Data'!C2:C93564,'Accounting Data'!E2:E93564,\"575\",'Accounting Data'!H2:H93564,\"7??\",'Accounting Data'!I2:I93564,\"25??\",'Accounting Data'!J2:J93564,\"63??\")+SUMIFS('Accounting Data'!C2:C93564,'Accounting Data'!E2:E93564,\"575\",'Accounting Data'!H2:H93564,\"8??\",'Accounting Data'!I2:I93564,\"25??\",'Accounting Data'!J2:J93564,\"63??\")+SUMIFS('Accounting Data'!C2:C93564,'Accounting Data'!E2:E93564,\"575\",'Accounting Data'!H2:H93564,\"9??\",'Accounting Data'!I2:I93564,\"25??\",'Accounting Data'!J2:J93564,\"63??\")","v":0},{"$f":"SUMIFS('Accounting Data'!C2:C93564,'Accounting Data'!E2:E93564,\"575\",'Accounting Data'!H2:H93564,\"7??\",'Accounting Data'!I2:I93564,\"25??\",'Accounting Data'!J2:J93564,\"64??\")+SUMIFS('Accounting Data'!C2:C93564,'Accounting Data'!E2:E93564,\"575\",'Accounting Data'!H2:H93564,\"8??\",'Accounting Data'!I2:I93564,\"25??\",'Accounting Data'!J2:J93564,\"64??\")+SUMIFS('Accounting Data'!C2:C93564,'Accounting Data'!E2:E93564,\"575\",'Accounting Data'!H2:H93564,\"9??\",'Accounting Data'!I2:I93564,\"25??\",'Accounting Data'!J2:J93564,\"64??\")","v":0},{"$f":"SUMIFS('Accounting Data'!C2:C93564,'Accounting Data'!E2:E93564,\"575\",'Accounting Data'!H2:H93564,\"7??\",'Accounting Data'!I2:I93564,\"25??\",'Accounting Data'!J2:J93564,\"65??\")+SUMIFS('Accounting Data'!C2:C93564,'Accounting Data'!E2:E93564,\"575\",'Accounting Data'!H2:H93564,\"8??\",'Accounting Data'!I2:I93564,\"25??\",'Accounting Data'!J2:J93564,\"65??\")+SUMIFS('Accounting Data'!C2:C93564,'Accounting Data'!E2:E93564,\"575\",'Accounting Data'!H2:H93564,\"9??\",'Accounting Data'!I2:I93564,\"25??\",'Accounting Data'!J2:J93564,\"65??\")","v":0},{"$f":"SUMIFS('Accounting Data'!C2:C93564,'Accounting Data'!E2:E93564,\"8??\",'Accounting Data'!H2:H93564,\"7??\",'Accounting Data'!I2:I93564,\"25??\",'Accounting Data'!J2:J93564,\"63??\")+SUMIFS('Accounting Data'!C2:C93564,'Accounting Data'!E2:E93564,\"8??\",'Accounting Data'!H2:H93564,\"8??\",'Accounting Data'!I2:I93564,\"25??\",'Accounting Data'!J2:J93564,\"63??\")+SUMIFS('Accounting Data'!C2:C93564,'Accounting Data'!E2:E93564,\"8??\",'Accounting Data'!H2:H93564,\"9??\",'Accounting Data'!I2:I93564,\"25??\",'Accounting Data'!J2:J93564,\"63??\")","v":0},{"$f":"SUMIFS('Accounting Data'!C2:C93564,'Accounting Data'!E2:E93564,\"8??\",'Accounting Data'!H2:H93564,\"7??\",'Accounting Data'!I2:I93564,\"25??\",'Accounting Data'!J2:J93564,\"64??\")+SUMIFS('Accounting Data'!C2:C93564,'Accounting Data'!E2:E93564,\"8??\",'Accounting Data'!H2:H93564,\"8??\",'Accounting Data'!I2:I93564,\"25??\",'Accounting Data'!J2:J93564,\"64??\")+SUMIFS('Accounting Data'!C2:C93564,'Accounting Data'!E2:E93564,\"8??\",'Accounting Data'!H2:H93564,\"9??\",'Accounting Data'!I2:I93564,\"25??\",'Accounting Data'!J2:J93564,\"64??\")","v":0},{"$f":"SUMIFS('Accounting Data'!C2:C93564,'Accounting Data'!E2:E93564,\"8??\",'Accounting Data'!H2:H93564,\"7??\",'Accounting Data'!I2:I93564,\"25??\",'Accounting Data'!J2:J93564,\"65??\")+SUMIFS('Accounting Data'!C2:C93564,'Accounting Data'!E2:E93564,\"8??\",'Accounting Data'!H2:H93564,\"8??\",'Accounting Data'!I2:I93564,\"25??\",'Accounting Data'!J2:J93564,\"65??\")+SUMIFS('Accounting Data'!C2:C93564,'Accounting Data'!E2:E93564,\"8??\",'Accounting Data'!H2:H93564,\"9??\",'Accounting Data'!I2:I93564,\"25??\",'Accounting Data'!J2:J93564,\"65??\")","v":0},{"$f":"SUMIFS('Accounting Data'!C2:C93564,'Accounting Data'!E2:E93564,\"9??\",'Accounting Data'!H2:H93564,\"7??\",'Accounting Data'!I2:I93564,\"25??\",'Accounting Data'!J2:J93564,\"63??\")+SUMIFS('Accounting Data'!C2:C93564,'Accounting Data'!E2:E93564,\"9??\",'Accounting Data'!H2:H93564,\"8??\",'Accounting Data'!I2:I93564,\"25??\",'Accounting Data'!J2:J93564,\"63??\")+SUMIFS('Accounting Data'!C2:C93564,'Accounting Data'!E2:E93564,\"9??\",'Accounting Data'!H2:H93564,\"9??\",'Accounting Data'!I2:I93564,\"25??\",'Accounting Data'!J2:J93564,\"63??\")","v":0},{"$f":"SUMIFS('Accounting Data'!C2:C93564,'Accounting Data'!E2:E93564,\"9??\",'Accounting Data'!H2:H93564,\"7??\",'Accounting Data'!I2:I93564,\"25??\",'Accounting Data'!J2:J93564,\"64??\")+SUMIFS('Accounting Data'!C2:C93564,'Accounting Data'!E2:E93564,\"9??\",'Accounting Data'!H2:H93564,\"8??\",'Accounting Data'!I2:I93564,\"25??\",'Accounting Data'!J2:J93564,\"64??\")+SUMIFS('Accounting Data'!C2:C93564,'Accounting Data'!E2:E93564,\"9??\",'Accounting Data'!H2:H93564,\"9??\",'Accounting Data'!I2:I93564,\"25??\",'Accounting Data'!J2:J93564,\"64??\")","v":0},{"$f":"SUMIFS('Accounting Data'!C2:C93564,'Accounting Data'!E2:E93564,\"9??\",'Accounting Data'!H2:H93564,\"7??\",'Accounting Data'!I2:I93564,\"25??\",'Accounting Data'!J2:J93564,\"65??\")+SUMIFS('Accounting Data'!C2:C93564,'Accounting Data'!E2:E93564,\"9??\",'Accounting Data'!H2:H93564,\"8??\",'Accounting Data'!I2:I93564,\"25??\",'Accounting Data'!J2:J93564,\"65??\")+SUMIFS('Accounting Data'!C2:C93564,'Accounting Data'!E2:E93564,\"9??\",'Accounting Data'!H2:H93564,\"9??\",'Accounting Data'!I2:I93564,\"25??\",'Accounting Data'!J2:J93564,\"65??\")","v":0},null,2500,{"$f":"SUMIFS('Accounting Data'!C2:C93564,'Accounting Data'!I2:I93564,\"25??\",'Accounting Data'!J2:J93564,\"66??\")","v":158767},{"$f":"SUMIFS('Accounting Data'!$C$2:$C$93564,'Accounting Data'!$E$2:$E$93564,\"575\",'Accounting Data'!$I$2:$I$93564,\"25??\",'Accounting Data'!$J$2:$J$93564,\"66??\")+SUMIFS('Accounting Data'!$C$2:$C$93564,'Accounting Data'!$E$2:$E$93564,\"8??\",'Accounting Data'!$I$2:$I$93564,\"25??\",'Accounting Data'!$J$2:$J$93564,\"66??\")+SUMIFS('Accounting Data'!$C$2:$C$93564,'Accounting Data'!$E$2:$E$93564,\"9??\",'Accounting Data'!$I$2:$I$93564,\"25??\",'Accounting Data'!$J$2:$J$93564,\"66??\")","v":0},{"$f":"SUMIFS('Accounting Data'!$C$2:$C$93564,'Accounting Data'!$H$2:$H$93564,\"7??\",'Accounting Data'!$I$2:$I$93564,\"25??\",'Accounting Data'!$J$2:$J$93564,\"66??\")+SUMIFS('Accounting Data'!$C$2:$C$93564,'Accounting Data'!$H$2:$H$93564,\"8??\",'Accounting Data'!$I$2:$I$93564,\"25??\",'Accounting Data'!$J$2:$J$93564,\"66??\")+SUMIFS('Accounting Data'!$C$2:$C$93564,'Accounting Data'!$H$2:$H$93564,\"9??\",'Accounting Data'!$I$2:$I$93564,\"25??\",'Accounting Data'!$J$2:$J$93564,\"66??\")","v":0},{"$f":"SUMIFS('Accounting Data'!$C$2:$C$93564,'Accounting Data'!$E$2:$E$93564,\"575\",'Accounting Data'!$H$2:$H$93564,\"7??\",'Accounting Data'!$I$2:$I$93564,\"25??\",'Accounting Data'!$J$2:$J$93564,\"66??\")+SUMIFS('Accounting Data'!$C$2:$C$93564,'Accounting Data'!$E$2:$E$93564,\"575\",'Accounting Data'!$H$2:$H$93564,\"8??\",'Accounting Data'!$I$2:$I$93564,\"25??\",'Accounting Data'!$J$2:$J$93564,\"66??\")+SUMIFS('Accounting Data'!$C$2:$C$93564,'Accounting Data'!$E$2:$E$93564,\"575\",'Accounting Data'!$H$2:$H$93564,\"9??\",'Accounting Data'!$I$2:$I$93564,\"25??\",'Accounting Data'!$J$2:$J$93564,\"66??\")","v":0},{"$f":"SUMIFS('Accounting Data'!$C$2:$C$93564,'Accounting Data'!$E$2:$E$93564,\"8??\",'Accounting Data'!$H$2:$H$93564,\"7??\",'Accounting Data'!$I$2:$I$93564,\"25??\",'Accounting Data'!$J$2:$J$93564,\"66??\")+SUMIFS('Accounting Data'!$C$2:$C$93564,'Accounting Data'!$E$2:$E$93564,\"8??\",'Accounting Data'!$H$2:$H$93564,\"8??\",'Accounting Data'!$I$2:$I$93564,\"25??\",'Accounting Data'!$J$2:$J$93564,\"66??\")+SUMIFS('Accounting Data'!$C$2:$C$93564,'Accounting Data'!$E$2:$E$93564,\"8??\",'Accounting Data'!$H$2:$H$93564,\"9??\",'Accounting Data'!$I$2:$I$93564,\"25??\",'Accounting Data'!$J$2:$J$93564,\"66??\")","v":0},{"$f":"SUMIFS('Accounting Data'!$C$2:$C$93564,'Accounting Data'!$E$2:$E$93564,\"9??\",'Accounting Data'!$H$2:$H$93564,\"7??\",'Accounting Data'!$I$2:$I$93564,\"25??\",'Accounting Data'!$J$2:$J$93564,\"66??\")+SUMIFS('Accounting Data'!$C$2:$C$93564,'Accounting Data'!$E$2:$E$93564,\"9??\",'Accounting Data'!$H$2:$H$93564,\"8??\",'Accounting Data'!$I$2:$I$93564,\"25??\",'Accounting Data'!$J$2:$J$93564,\"66??\")+SUMIFS('Accounting Data'!$C$2:$C$93564,'Accounting Data'!$E$2:$E$93564,\"9??\",'Accounting Data'!$H$2:$H$93564,\"9??\",'Accounting Data'!$I$2:$I$93564,\"25??\",'Accounting Data'!$J$2:$J$93564,\"66??\")","v":0},null,2500,{"$f":"SUMIFS('Accounting Data'!C2:C93564,'Accounting Data'!I2:I93564,\"25??\",'Accounting Data'!J2:J93564,\"67??\")","v":328359},{"$f":"SUMIFS('Accounting Data'!$C$2:$C$93564,'Accounting Data'!$E$2:$E$93564,\"575\",'Accounting Data'!$I$2:$I$93564,\"25??\",'Accounting Data'!$J$2:$J$93564,\"67??\")+SUMIFS('Accounting Data'!$C$2:$C$93564,'Accounting Data'!$E$2:$E$93564,\"8??\",'Accounting Data'!$I$2:$I$93564,\"25??\",'Accounting Data'!$J$2:$J$93564,\"67??\")+SUMIFS('Accounting Data'!$C$2:$C$93564,'Accounting Data'!$E$2:$E$93564,\"9??\",'Accounting Data'!$I$2:$I$93564,\"25??\",'Accounting Data'!$J$2:$J$93564,\"67??\")","v":0},{"$f":"SUMIFS('Accounting Data'!$C$2:$C$93564,'Accounting Data'!$H$2:$H$93564,\"7??\",'Accounting Data'!$I$2:$I$93564,\"25??\",'Accounting Data'!$J$2:$J$93564,\"67??\")+SUMIFS('Accounting Data'!$C$2:$C$93564,'Accounting Data'!$H$2:$H$93564,\"8??\",'Accounting Data'!$I$2:$I$93564,\"25??\",'Accounting Data'!$J$2:$J$93564,\"67??\")+SUMIFS('Accounting Data'!$C$2:$C$93564,'Accounting Data'!$H$2:$H$93564,\"9??\",'Accounting Data'!$I$2:$I$93564,\"25??\",'Accounting Data'!$J$2:$J$93564,\"67??\")","v":0},{"$f":"SUMIFS('Accounting Data'!$C$2:$C$93564,'Accounting Data'!$E$2:$E$93564,\"575\",'Accounting Data'!$H$2:$H$93564,\"7??\",'Accounting Data'!$I$2:$I$93564,\"25??\",'Accounting Data'!$J$2:$J$93564,\"67??\")+SUMIFS('Accounting Data'!$C$2:$C$93564,'Accounting Data'!$E$2:$E$93564,\"575\",'Accounting Data'!$H$2:$H$93564,\"8??\",'Accounting Data'!$I$2:$I$93564,\"25??\",'Accounting Data'!$J$2:$J$93564,\"67??\")+SUMIFS('Accounting Data'!$C$2:$C$93564,'Accounting Data'!$E$2:$E$93564,\"575\",'Accounting Data'!$H$2:$H$93564,\"9??\",'Accounting Data'!$I$2:$I$93564,\"25??\",'Accounting Data'!$J$2:$J$93564,\"67??\")","v":0},{"$f":"SUMIFS('Accounting Data'!$C$2:$C$93564,'Accounting Data'!$E$2:$E$93564,\"8??\",'Accounting Data'!$H$2:$H$93564,\"7??\",'Accounting Data'!$I$2:$I$93564,\"25??\",'Accounting Data'!$J$2:$J$93564,\"67??\")+SUMIFS('Accounting Data'!$C$2:$C$93564,'Accounting Data'!$E$2:$E$93564,\"8??\",'Accounting Data'!$H$2:$H$93564,\"8??\",'Accounting Data'!$I$2:$I$93564,\"25??\",'Accounting Data'!$J$2:$J$93564,\"67??\")+SUMIFS('Accounting Data'!$C$2:$C$93564,'Accounting Data'!$E$2:$E$93564,\"8??\",'Accounting Data'!$H$2:$H$93564,\"9??\",'Accounting Data'!$I$2:$I$93564,\"25??\",'Accounting Data'!$J$2:$J$93564,\"67??\")","v":0},{"$f":"SUMIFS('Accounting Data'!$C$2:$C$93564,'Accounting Data'!$E$2:$E$93564,\"9??\",'Accounting Data'!$H$2:$H$93564,\"7??\",'Accounting Data'!$I$2:$I$93564,\"25??\",'Accounting Data'!$J$2:$J$93564,\"67??\")+SUMIFS('Accounting Data'!$C$2:$C$93564,'Accounting Data'!$E$2:$E$93564,\"9??\",'Accounting Data'!$H$2:$H$93564,\"8??\",'Accounting Data'!$I$2:$I$93564,\"25??\",'Accounting Data'!$J$2:$J$93564,\"67??\")+SUMIFS('Accounting Data'!$C$2:$C$93564,'Accounting Data'!$E$2:$E$93564,\"9??\",'Accounting Data'!$H$2:$H$93564,\"9??\",'Accounting Data'!$I$2:$I$93564,\"25??\",'Accounting Data'!$J$2:$J$93564,\"67??\")","v":0},null,2500,{"$f":"SUMIFS('Accounting Data'!C2:C93564,'Accounting Data'!I2:I93564,\"25??\",'Accounting Data'!J2:J93564,\"681?\")","v":19231},{"$f":"SUMIFS('Accounting Data'!$C$2:$C$93564,'Accounting Data'!$E$2:$E$93564,\"575\",'Accounting Data'!$I$2:$I$93564,\"25??\",'Accounting Data'!$J$2:$J$93564,\"681?\")+SUMIFS('Accounting Data'!$C$2:$C$93564,'Accounting Data'!$E$2:$E$93564,\"8??\",'Accounting Data'!$I$2:$I$93564,\"25??\",'Accounting Data'!$J$2:$J$93564,\"681?\")+SUMIFS('Accounting Data'!$C$2:$C$93564,'Accounting Data'!$E$2:$E$93564,\"9??\",'Accounting Data'!$I$2:$I$93564,\"25??\",'Accounting Data'!$J$2:$J$93564,\"681?\")","v":0},{"$f":"SUMIFS('Accounting Data'!$C$2:$C$93564,'Accounting Data'!$H$2:$H$93564,\"7??\",'Accounting Data'!$I$2:$I$93564,\"25??\",'Accounting Data'!$J$2:$J$93564,\"681?\")+SUMIFS('Accounting Data'!$C$2:$C$93564,'Accounting Data'!$H$2:$H$93564,\"8??\",'Accounting Data'!$I$2:$I$93564,\"25??\",'Accounting Data'!$J$2:$J$93564,\"681?\")+SUMIFS('Accounting Data'!$C$2:$C$93564,'Accounting Data'!$H$2:$H$93564,\"9??\",'Accounting Data'!$I$2:$I$93564,\"25??\",'Accounting Data'!$J$2:$J$93564,\"681?\")","v":0},{"$f":"SUMIFS('Accounting Data'!$C$2:$C$93564,'Accounting Data'!$E$2:$E$93564,\"575\",'Accounting Data'!$H$2:$H$93564,\"7??\",'Accounting Data'!$I$2:$I$93564,\"25??\",'Accounting Data'!$J$2:$J$93564,\"681?\")+SUMIFS('Accounting Data'!$C$2:$C$93564,'Accounting Data'!$E$2:$E$93564,\"575\",'Accounting Data'!$H$2:$H$93564,\"8??\",'Accounting Data'!$I$2:$I$93564,\"25??\",'Accounting Data'!$J$2:$J$93564,\"681?\")+SUMIFS('Accounting Data'!$C$2:$C$93564,'Accounting Data'!$E$2:$E$93564,\"575\",'Accounting Data'!$H$2:$H$93564,\"9??\",'Accounting Data'!$I$2:$I$93564,\"25??\",'Accounting Data'!$J$2:$J$93564,\"681?\")","v":0},{"$f":"SUMIFS('Accounting Data'!$C$2:$C$93564,'Accounting Data'!$E$2:$E$93564,\"8??\",'Accounting Data'!$H$2:$H$93564,\"7??\",'Accounting Data'!$I$2:$I$93564,\"25??\",'Accounting Data'!$J$2:$J$93564,\"681?\")+SUMIFS('Accounting Data'!$C$2:$C$93564,'Accounting Data'!$E$2:$E$93564,\"8??\",'Accounting Data'!$H$2:$H$93564,\"8??\",'Accounting Data'!$I$2:$I$93564,\"25??\",'Accounting Data'!$J$2:$J$93564,\"681?\")+SUMIFS('Accounting Data'!$C$2:$C$93564,'Accounting Data'!$E$2:$E$93564,\"8??\",'Accounting Data'!$H$2:$H$93564,\"9??\",'Accounting Data'!$I$2:$I$93564,\"25??\",'Accounting Data'!$J$2:$J$93564,\"681?\")","v":0},{"$f":"SUMIFS('Accounting Data'!$C$2:$C$93564,'Accounting Data'!$E$2:$E$93564,\"9??\",'Accounting Data'!$H$2:$H$93564,\"7??\",'Accounting Data'!$I$2:$I$93564,\"25??\",'Accounting Data'!$J$2:$J$93564,\"681?\")+SUMIFS('Accounting Data'!$C$2:$C$93564,'Accounting Data'!$E$2:$E$93564,\"9??\",'Accounting Data'!$H$2:$H$93564,\"8??\",'Accounting Data'!$I$2:$I$93564,\"25??\",'Accounting Data'!$J$2:$J$93564,\"681?\")+SUMIFS('Accounting Data'!$C$2:$C$93564,'Accounting Data'!$E$2:$E$93564,\"9??\",'Accounting Data'!$H$2:$H$93564,\"9??\",'Accounting Data'!$I$2:$I$93564,\"25??\",'Accounting Data'!$J$2:$J$93564,\"681?\")","v":0},null,"Function","All funds","Funds 575,800-899,900-999 ",null,null,"Programs 700-900","Funds 575, Programs 700-900",null,null,"Funds 800-899, Programs 700-900",null,null,"Funds 900-999, Programs 700-900",null,null,null,2500,{"$f":"SUM(SUMIFS('Accounting Data'!C2:C93564,'Accounting Data'!I2:I93564,\"25??\",'Accounting Data'!J2:J93564,{\"689?\",\"6885\"}))","v":20113},{"$f":"SUM(SUMIFS('Accounting Data'!$C$2:$C$93564,'Accounting Data'!$E$2:$E$93564,\"575\",'Accounting Data'!$I$2:$I$93564,\"25??\",'Accounting Data'!$J$2:$J$93564,{\"689?\",\"6885\"}))+SUM(SUMIFS('Accounting Data'!$C$2:$C$93564,'Accounting Data'!$E$2:$E$93564,\"8??\",'Accounting Data'!$I$2:$I$93564,\"25??\",'Accounting Data'!$J$2:$J$93564,{\"689?\",\"6885\"}))+SUM(SUMIFS('Accounting Data'!$C$2:$C$93564,'Accounting Data'!$E$2:$E$93564,\"9??\",'Accounting Data'!$I$2:$I$93564,\"25??\",'Accounting Data'!$J$2:$J$93564,{\"689?\",\"6885\"}))","v":0},{"$f":"SUM(SUMIFS('Accounting Data'!$C$2:$C$93564,'Accounting Data'!$H$2:$H$93564,\"7??\",'Accounting Data'!$I$2:$I$93564,\"25??\",'Accounting Data'!$J$2:$J$93564,{\"689?\",\"6885\"}))+SUM(SUMIFS('Accounting Data'!$C$2:$C$93564,'Accounting Data'!$H$2:$H$93564,\"8??\",'Accounting Data'!$I$2:$I$93564,\"25??\",'Accounting Data'!$J$2:$J$93564,{\"689?\",\"6885\"}))+SUM(SUMIFS('Accounting Data'!$C$2:$C$93564,'Accounting Data'!$H$2:$H$93564,\"9??\",'Accounting Data'!$I$2:$I$93564,\"25??\",'Accounting Data'!$J$2:$J$93564,{\"689?\",\"6885\"}))","v":0},{"$f":"SUM(SUMIFS('Accounting Data'!$C$2:$C$93564,'Accounting Data'!$E$2:$E$93564,\"575\",'Accounting Data'!$H$2:$H$93564,\"7??\",'Accounting Data'!$I$2:$I$93564,\"25??\",'Accounting Data'!$J$2:$J$93564,{\"689?\",\"6885\"}))+SUM(SUMIFS('Accounting Data'!$C$2:$C$93564,'Accounting Data'!$E$2:$E$93564,\"575\",'Accounting Data'!$H$2:$H$93564,\"8??\",'Accounting Data'!$I$2:$I$93564,\"25??\",'Accounting Data'!$J$2:$J$93564,{\"689?\",\"6885\"}))+SUM(SUMIFS('Accounting Data'!$C$2:$C$93564,'Accounting Data'!$E$2:$E$93564,\"575\",'Accounting Data'!$H$2:$H$93564,\"9??\",'Accounting Data'!$I$2:$I$93564,\"25??\",'Accounting Data'!$J$2:$J$93564,{\"689?\",\"6885\"}))","v":0},{"$f":"SUM(SUMIFS('Accounting Data'!$C$2:$C$93564,'Accounting Data'!$E$2:$E$93564,\"8??\",'Accounting Data'!$H$2:$H$93564,\"7??\",'Accounting Data'!$I$2:$I$93564,\"25??\",'Accounting Data'!$J$2:$J$93564,{\"689?\",\"6885\"}))+SUM(SUMIFS('Accounting Data'!$C$2:$C$93564,'Accounting Data'!$E$2:$E$93564,\"8??\",'Accounting Data'!$H$2:$H$93564,\"8??\",'Accounting Data'!$I$2:$I$93564,\"25??\",'Accounting Data'!$J$2:$J$93564,{\"689?\",\"6885\"}))+SUM(SUMIFS('Accounting Data'!$C$2:$C$93564,'Accounting Data'!$E$2:$E$93564,\"8??\",'Accounting Data'!$H$2:$H$93564,\"9??\",'Accounting Data'!$I$2:$I$93564,\"25??\",'Accounting Data'!$J$2:$J$93564,{\"689?\",\"6885\"}))","v":0},{"$f":"SUM(SUMIFS('Accounting Data'!$C$2:$C$93564,'Accounting Data'!$E$2:$E$93564,\"9??\",'Accounting Data'!$H$2:$H$93564,\"7??\",'Accounting Data'!$I$2:$I$93564,\"25??\",'Accounting Data'!$J$2:$J$93564,{\"689?\",\"6885\"}))+SUM(SUMIFS('Accounting Data'!$C$2:$C$93564,'Accounting Data'!$E$2:$E$93564,\"9??\",'Accounting Data'!$H$2:$H$93564,\"8??\",'Accounting Data'!$I$2:$I$93564,\"25??\",'Accounting Data'!$J$2:$J$93564,{\"689?\",\"6885\"}))+SUM(SUMIFS('Accounting Data'!$C$2:$C$93564,'Accounting Data'!$E$2:$E$93564,\"9??\",'Accounting Data'!$H$2:$H$93564,\"9??\",'Accounting Data'!$I$2:$I$93564,\"25??\",'Accounting Data'!$J$2:$J$93564,{\"689?\",\"6885\"}))","v":0},null,2500,{"$f":"SUMIFS('Accounting Data'!$C$2:$C$93564,'Accounting Data'!$H$2:$H$93564,\"7??\",'Accounting Data'!$I$2:$I$93564,\"25??\",'Accounting Data'!$J$2:$J$93564,\"6???\")+SUMIFS('Accounting Data'!$C$2:$C$93564,'Accounting Data'!$H$2:$H$93564,\"8??\",'Accounting Data'!$I$2:$I$93564,\"25??\",'Accounting Data'!$J$2:$J$93564,\"6???\")+SUMIFS('Accounting Data'!$C$2:$C$93564,'Accounting Data'!$H$2:$H$93564,\"9??\",'Accounting Data'!$I$2:$I$93564,\"25??\",'Accounting Data'!$J$2:$J$93564,\"6???\")","v":0},{"$f":"SUMIFS('Accounting Data'!$C$2:$C$93564,'Accounting Data'!$H$2:$H$93564,\"7??\",'Accounting Data'!$I$2:$I$93564,\"25??\",'Accounting Data'!$J$2:$J$93564,\"69??\")+SUMIFS('Accounting Data'!$C$2:$C$93564,'Accounting Data'!$H$2:$H$93564,\"8??\",'Accounting Data'!$I$2:$I$93564,\"25??\",'Accounting Data'!$J$2:$J$93564,\"69??\")+SUMIFS('Accounting Data'!$C$2:$C$93564,'Accounting Data'!$H$2:$H$93564,\"9??\",'Accounting Data'!$I$2:$I$93564,\"25??\",'Accounting Data'!$J$2:$J$93564,\"69??\")","v":0},{"$f":"SUMIFS('Accounting Data'!$C$2:$C$93564,'Accounting Data'!$E$2:$E$93564,\"575\",'Accounting Data'!$H$2:$H$93564,\"7??\",'Accounting Data'!$I$2:$I$93564,\"25??\",'Accounting Data'!$J$2:$J$93564,\"6???\")+SUMIFS('Accounting Data'!$C$2:$C$93564,'Accounting Data'!$E$2:$E$93564,\"575\",'Accounting Data'!$H$2:$H$93564,\"8??\",'Accounting Data'!$I$2:$I$93564,\"25??\",'Accounting Data'!$J$2:$J$93564,\"6???\")+SUMIFS('Accounting Data'!$C$2:$C$93564,'Accounting Data'!$E$2:$E$93564,\"575\",'Accounting Data'!$H$2:$H$93564,\"9??\",'Accounting Data'!$I$2:$I$93564,\"25??\",'Accounting Data'!$J$2:$J$93564,\"6???\")","v":0},{"$f":"SUMIFS('Accounting Data'!$C$2:$C$93564,'Accounting Data'!$E$2:$E$93564,\"8??\",'Accounting Data'!$H$2:$H$93564,\"7??\",'Accounting Data'!$I$2:$I$93564,\"25??\",'Accounting Data'!$J$2:$J$93564,\"6???\")+SUMIFS('Accounting Data'!$C$2:$C$93564,'Accounting Data'!$E$2:$E$93564,\"8??\",'Accounting Data'!$H$2:$H$93564,\"8??\",'Accounting Data'!$I$2:$I$93564,\"25??\",'Accounting Data'!$J$2:$J$93564,\"6???\")+SUMIFS('Accounting Data'!$C$2:$C$93564,'Accounting Data'!$E$2:$E$93564,\"8??\",'Accounting Data'!$H$2:$H$93564,\"9??\",'Accounting Data'!$I$2:$I$93564,\"25??\",'Accounting Data'!$J$2:$J$93564,\"6???\")+SUMIFS('Accounting Data'!$C$2:$C$93564,'Accounting Data'!$E$2:$E$93564,\"9??\",'Accounting Data'!$H$2:$H$93564,\"7??\",'Accounting Data'!$I$2:$I$93564,\"25??\",'Accounting Data'!$J$2:$J$93564,\"6???\")+SUMIFS('Accounting Data'!$C$2:$C$93564,'Accounting Data'!$E$2:$E$93564,\"9??\",'Accounting Data'!$H$2:$H$93564,\"8??\",'Accounting Data'!$I$2:$I$93564,\"25??\",'Accounting Data'!$J$2:$J$93564,\"6???\")+SUMIFS('Accounting Data'!$C$2:$C$93564,'Accounting Data'!$E$2:$E$93564,\"9??\",'Accounting Data'!$H$2:$H$93564,\"9??\",'Accounting Data'!$I$2:$I$93564,\"25??\",'Accounting Data'!$J$2:$J$93564,\"6???\")","v":0},{"$f":"SUMIFS('Accounting Data'!$C$2:$C$93564,'Accounting Data'!$E$2:$E$93564,\"575\",'Accounting Data'!$H$2:$H$93564,\"7??\",'Accounting Data'!$I$2:$I$93564,\"25??\",'Accounting Data'!$J$2:$J$93564,\"69??\")+SUMIFS('Accounting Data'!$C$2:$C$93564,'Accounting Data'!$E$2:$E$93564,\"575\",'Accounting Data'!$H$2:$H$93564,\"8??\",'Accounting Data'!$I$2:$I$93564,\"25??\",'Accounting Data'!$J$2:$J$93564,\"69??\")+SUMIFS('Accounting Data'!$C$2:$C$93564,'Accounting Data'!$E$2:$E$93564,\"575\",'Accounting Data'!$H$2:$H$93564,\"9??\",'Accounting Data'!$I$2:$I$93564,\"25??\",'Accounting Data'!$J$2:$J$93564,\"69??\")","v":0},{"$f":"SUMIFS('Accounting Data'!$C$2:$C$93564,'Accounting Data'!$E$2:$E$93564,\"8??\",'Accounting Data'!$H$2:$H$93564,\"7??\",'Accounting Data'!$I$2:$I$93564,\"25??\",'Accounting Data'!$J$2:$J$93564,\"69??\")+SUMIFS('Accounting Data'!$C$2:$C$93564,'Accounting Data'!$E$2:$E$93564,\"8??\",'Accounting Data'!$H$2:$H$93564,\"8??\",'Accounting Data'!$I$2:$I$93564,\"25??\",'Accounting Data'!$J$2:$J$93564,\"69??\")+SUMIFS('Accounting Data'!$C$2:$C$93564,'Accounting Data'!$E$2:$E$93564,\"8??\",'Accounting Data'!$H$2:$H$93564,\"9??\",'Accounting Data'!$I$2:$I$93564,\"25??\",'Accounting Data'!$J$2:$J$93564,\"69??\")+SUMIFS('Accounting Data'!$C$2:$C$93564,'Accounting Data'!$E$2:$E$93564,\"9??\",'Accounting Data'!$H$2:$H$93564,\"7??\",'Accounting Data'!$I$2:$I$93564,\"25??\",'Accounting Data'!$J$2:$J$93564,\"69??\")+SUMIFS('Accounting Data'!$C$2:$C$93564,'Accounting Data'!$E$2:$E$93564,\"9??\",'Accounting Data'!$H$2:$H$93564,\"8??\",'Accounting Data'!$I$2:$I$93564,\"25??\",'Accounting Data'!$J$2:$J$93564,\"69??\")+SUMIFS('Accounting Data'!$C$2:$C$93564,'Accounting Data'!$E$2:$E$93564,\"9??\",'Accounting Data'!$H$2:$H$93564,\"9??\",'Accounting Data'!$I$2:$I$93564,\"25??\",'Accounting Data'!$J$2:$J$93564,\"69??\")","v":0}]
["         2600 Operation and Maintenance of Plant","7.",{"$f":"(AA18-AB18-AC18)+(AD18+AE18+AF18)","v":1221679},{"$f":"(AI18-AJ18-AK18)+(AL18+AM18+AN18)","v":424717},{"$f":"(AQ18-AR18-AS18-AT18-AU18)+(AV18+AW18+AX18+AY18+AZ18+BA18+BB18+BC18+BD18)","v":1082987},{"$f":"(BG18-BH18-BI18)+(BJ18+BK18+BL18)","v":1012820},{"$f":"(BO18-BP18-BQ18)+(BR18+BS18+BT18)","v":82406},{"$f":"(BW18-BX18-BY18)+(BZ18+CA18+CB18)","v":500},null,null,null,{"$f":"(CU18-CV18-CW18)+(CX18+CY18+CZ18)","v":0},{"$f":"(DC18-DD18)-((DE18+DF18)-(DG18+DH18))","v":0},3825109,"7.",null,null,null,null,"Fund 378 expenditures\nby object code",null,null,null,null,null,2900,{"$f":"SUMIFS('Accounting Data'!C2:C93564,'Accounting Data'!I2:I93564,\"29??\",'Accounting Data'!J2:J93564,\"61??\")","v":0},{"$f":"SUMIFS('Accounting Data'!C2:C93564,'Accounting Data'!E2:E93564,\"575\",'Accounting Data'!I2:I93564,\"29??\",'Accounting Data'!J2:J93564,\"61??\")+SUMIFS('Accounting Data'!C2:C93564,'Accounting Data'!E2:E93564,\"8??\",'Accounting Data'!I2:I93564,\"29??\",'Accounting Data'!J2:J93564,\"61??\")+SUMIFS('Accounting Data'!C2:C93564,'Accounting Data'!E2:E93564,\"9??\",'Accounting Data'!I2:I93564,\"29??\",'Accounting Data'!J2:J93564,\"61??\")","v":0},{"$f":"SUMIFS('Accounting Data'!C2:C93564,'Accounting Data'!H2:H93564,\"7??\",'Accounting Data'!I2:I93564,\"29??\",'Accounting Data'!J2:J93564,\"61??\")+SUMIFS('Accounting Data'!C2:C93564,'Accounting Data'!H2:H93564,\"8??\",'Accounting Data'!I2:I93564,\"29??\",'Accounting Data'!J2:J93564,\"61??\")+SUMIFS('Accounting Data'!C2:C93564,'Accounting Data'!H2:H93564,\"9??\",'Accounting Data'!I2:I93564,\"29??\",'Accounting Data'!J2:J93564,\"61??\")","v":0},{"$f":"SUMIFS('Accounting Data'!C2:C93564,'Accounting Data'!E2:E93564,\"575\",'Accounting Data'!H2:H93564,\"7??\",'Accounting Data'!I2:I93564,\"29??\",'Accounting Data'!J2:J93564,\"61??\")+SUMIFS('Accounting Data'!C2:C93564,'Accounting Data'!E2:E93564,\"575\",'Accounting Data'!H2:H93564,\"8??\",'Accounting Data'!I2:I93564,\"29??\",'Accounting Data'!J2:J93564,\"61??\")+SUMIFS('Accounting Data'!C2:C93564,'Accounting Data'!E2:E93564,\"575\",'Accounting Data'!H2:H93564,\"9??\",'Accounting Data'!I2:I93564,\"29??\",'Accounting Data'!J2:J93564,\"61??\")","v":0},{"$f":"SUMIFS('Accounting Data'!C2:C93564,'Accounting Data'!E2:E93564,\"8??\",'Accounting Data'!H2:H93564,\"7??\",'Accounting Data'!I2:I93564,\"29??\",'Accounting Data'!J2:J93564,\"61??\")+SUMIFS('Accounting Data'!C2:C93564,'Accounting Data'!E2:E93564,\"8??\",'Accounting Data'!H2:H93564,\"8??\",'Accounting Data'!I2:I93564,\"29??\",'Accounting Data'!J2:J93564,\"61??\")+SUMIFS('Accounting Data'!C2:C93564,'Accounting Data'!E2:E93564,\"8??\",'Accounting Data'!H2:H93564,\"9??\",'Accounting Data'!I2:I93564,\"29??\",'Accounting Data'!J2:J93564,\"61??\")","v":0},{"$f":"SUMIFS('Accounting Data'!C2:C93564,'Accounting Data'!E2:E93564,\"9??\",'Accounting Data'!H2:H93564,\"7??\",'Accounting Data'!I2:I93564,\"29??\",'Accounting Data'!J2:J93564,\"61??\")+SUMIFS('Accounting Data'!C2:C93564,'Accounting Data'!E2:E93564,\"9??\",'Accounting Data'!H2:H93564,\"8??\",'Accounting Data'!I2:I93564,\"29??\",'Accounting Data'!J2:J93564,\"61??\")+SUMIFS('Accounting Data'!C2:C93564,'Accounting Data'!E2:E93564,\"9??\",'Accounting Data'!H2:H93564,\"9??\",'Accounting Data'!I2:I93564,\"29??\",'Accounting Data'!J2:J93564,\"61??\")","v":0},null,2900,{"$f":"SUMIFS('Accounting Data'!C2:C93564,'Accounting Data'!I2:I93564,\"29??\",'Accounting Data'!J2:J93564,\"62??\")","v":2682831},{"$f":"SUMIFS('Accounting Data'!C2:C93564,'Accounting Data'!E2:E93564,\"575\",'Accounting Data'!I2:I93564,\"29??\",'Accounting Data'!J2:J93564,\"62??\")+SUMIFS('Accounting Data'!C2:C93564,'Accounting Data'!E2:E93564,\"8??\",'Accounting Data'!I2:I93564,\"29??\",'Accounting Data'!J2:J93564,\"62??\")+SUMIFS('Accounting Data'!C2:C93564,'Accounting Data'!E2:E93564,\"9??\",'Accounting Data'!I2:I93564,\"29??\",'Accounting Data'!J2:J93564,\"62??\")","v":2682831},{"$f":"SUMIFS('Accounting Data'!C2:C93564,'Accounting Data'!H2:H93564,\"7??\",'Accounting Data'!I2:I93564,\"29??\",'Accounting Data'!J2:J93564,\"62??\")+SUMIFS('Accounting Data'!C2:C93564,'Accounting Data'!H2:H93564,\"8??\",'Accounting Data'!I2:I93564,\"29??\",'Accounting Data'!J2:J93564,\"62??\")+SUMIFS('Accounting Data'!C2:C93564,'Accounting Data'!H2:H93564,\"9??\",'Accounting Data'!I2:I93564,\"29??\",'Accounting Data'!J2:J93564,\"62??\")","v":0},{"$f":"SUMIFS('Accounting Data'!C2:C93564,'Accounting Data'!E2:E93564,\"575\",'Accounting Data'!H2:H93564,\"7??\",'Accounting Data'!I2:I93564,\"29??\",'Accounting Data'!J2:J93564,\"62??\")+SUMIFS('Accounting Data'!C2:C93564,'Accounting Data'!E2:E93564,\"575\",'Accounting Data'!H2:H93564,\"8??\",'Accounting Data'!I2:I93564,\"29??\",'Accounting Data'!J2:J93564,\"62??\")+SUMIFS('Accounting Data'!C2:C93564,'Accounting Data'!E2:E93564,\"575\",'Accounting Data'!H2:H93564,\"9??\",'Accounting Data'!I2:I93564,\"29??\",'Accounting Data'!J2:J93564,\"62??\")","v":0},{"$f":"SUMIFS('Accounting Data'!C2:C93564,'Accounting Data'!E2:E93564,\"8??\",'Accounting Data'!H2:H93564,\"7??\",'Accounting Data'!I2:I93564,\"29??\",'Accounting Data'!J2:J93564,\"62??\")+SUMIFS('Accounting Data'!C2:C93564,'Accounting Data'!E2:E93564,\"8??\",'Accounting Data'!H2:H93564,\"8??\",'Accounting Data'!I2:I93564,\"29??\",'Accounting Data'!J2:J93564,\"62??\")+SUMIFS('Accounting Data'!C2:C93564,'Accounting Data'!E2:E93564,\"8??\",'Accounting Data'!H2:H93564,\"9??\",'Accounting Data'!I2:I93564,\"29??\",'Accounting Data'!J2:J93564,\"62??\")","v":0},{"$f":"SUMIFS('Accounting Data'!C2:C93564,'Accounting Data'!E2:E93564,\"9??\",'Accounting Data'!H2:H93564,\"7??\",'Accounting Data'!I2:I93564,\"29??\",'Accounting Data'!J2:J93564,\"62??\")+SUMIFS('Accounting Data'!C2:C93564,'Accounting Data'!E2:E93564,\"9??\",'Accounting Data'!H2:H93564,\"8??\",'Accounting Data'!I2:I93564,\"29??\",'Accounting Data'!J2:J93564,\"62??\")+SUMIFS('Accounting Data'!C2:C93564,'Accounting Data'!E2:E93564,\"9??\",'Accounting Data'!H2:H93564,\"9??\",'Accounting Data'!I2:I93564,\"29??\",'Accounting Data'!J2:J93564,\"62??\")","v":0},null,2900,{"$f":"SUMIFS('Accounting Data'!C2:C93564,'Accounting Data'!I2:I93564,\"29??\",'Accounting Data'!J2:J93564,\"63??\")+SUMIFS('Accounting Data'!C2:C93564,'Accounting Data'!I2:I93564,\"29??\",'Accounting Data'!J2:J93564,\"64??\")+SUMIFS('Accounting Data'!C2:C93564,'Accounting Data'!I2:I93564,\"29??\",'Accounting Data'!J2:J93564,\"65??\")","v":0},{"$f":"SUMIFS('Accounting Data'!C2:C93564,'Accounting Data'!E2:E93564,\"575\",'Accounting Data'!I2:I93564,\"29??\",'Accounting Data'!J2:J93564,\"63??\")+SUMIFS('Accounting Data'!C2:C93564,'Accounting Data'!E2:E93564,\"8??\",'Accounting Data'!I2:I93564,\"29??\",'Accounting Data'!J2:J93564,\"63??\")+SUMIFS('Accounting Data'!C2:C93564,'Accounting Data'!E2:E93564,\"9??\",'Accounting Data'!I2:I93564,\"29??\",'Accounting Data'!J2:J93564,\"63??\")","v":0},{"$f":"SUMIFS('Accounting Data'!C2:C93564,'Accounting Data'!E2:E93564,\"575\",'Accounting Data'!I2:I93564,\"29??\",'Accounting Data'!J2:J93564,\"64??\")+SUMIFS('Accounting Data'!C2:C93564,'Accounting Data'!E2:E93564,\"8??\",'Accounting Data'!I2:I93564,\"29??\",'Accounting Data'!J2:J93564,\"64??\")+SUMIFS('Accounting Data'!C2:C93564,'Accounting Data'!E2:E93564,\"9??\",'Accounting Data'!I2:I93564,\"29??\",'Accounting Data'!J2:J93564,\"64??\")","v":0},{"$f":"SUMIFS('Accounting Data'!C2:C93564,'Accounting Data'!E2:E93564,\"575\",'Accounting Data'!I2:I93564,\"29??\",'Accounting Data'!J2:J93564,\"65??\")+SUMIFS('Accounting Data'!C2:C93564,'Accounting Data'!E2:E93564,\"8??\",'Accounting Data'!I2:I93564,\"29??\",'Accounting Data'!J2:J93564,\"65??\")+SUMIFS('Accounting Data'!C2:C93564,'Accounting Data'!E2:E93564,\"9??\",'Accounting Data'!I2:I93564,\"29??\",'Accounting Data'!J2:J93564,\"65??\")","v":0},{"$f":"SUMIFS('Accounting Data'!C2:C93564,'Accounting Data'!H2:H93564,\"7??\",'Accounting Data'!I2:I93564,\"29??\",'Accounting Data'!J2:J93564,\"63??\")+SUMIFS('Accounting Data'!C2:C93564,'Accounting Data'!H2:H93564,\"8??\",'Accounting Data'!I2:I93564,\"29??\",'Accounting Data'!J2:J93564,\"63??\")+SUMIFS('Accounting Data'!C2:C93564,'Accounting Data'!H2:H93564,\"9??\",'Accounting Data'!I2:I93564,\"29??\",'Accounting Data'!J2:J93564,\"63??\")+SUMIFS('Accounting Data'!C2:C93564,'Accounting Data'!H2:H93564,\"7??\",'Accounting Data'!I2:I93564,\"29??\",'Accounting Data'!J2:J93564,\"64??\")+SUMIFS('Accounting Data'!C2:C93564,'Accounting Data'!H2:H93564,\"8??\",'Accounting Data'!I2:I93564,\"29??\",'Accounting Data'!J2:J93564,\"64??\")+SUMIFS('Accounting Data'!C2:C93564,'Accounting Data'!H2:H93564,\"9??\",'Accounting Data'!I2:I93564,\"29??\",'Accounting Data'!J2:J93564,\"64??\")+SUMIFS('Accounting Data'!C2:C93564,'Accounting Data'!H2:H93564,\"7??\",'Accounting Data'!I2:I93564,\"29??\",'Accounting Data'!J2:J93564,\"65??\")+SUMIFS('Accounting Data'!C2:C93564,'Accounting Data'!H2:H93564,\"8??\",'Accounting Data'!I2:I93564,\"29??\",'Accounting Data'!J2:J93564,\"65??\")+SUMIFS('Accounting Data'!C2:C93564,'Accounting Data'!H2:H93564,\"9??\",'Accounting Data'!I2:I93564,\"29??\",'Accounting Data'!J2:J93564,\"65??\")","v":0},{"$f":"SUMIFS('Accounting Data'!C2:C93564,'Accounting Data'!E2:E93564,\"575\",'Accounting Data'!H2:H93564,\"7??\",'Accounting Data'!I2:I93564,\"29??\",'Accounting Data'!J2:J93564,\"63??\")+SUMIFS('Accounting Data'!C2:C93564,'Accounting Data'!E2:E93564,\"575\",'Accounting Data'!H2:H93564,\"8??\",'Accounting Data'!I2:I93564,\"29??\",'Accounting Data'!J2:J93564,\"63??\")+SUMIFS('Accounting Data'!C2:C93564,'Accounting Data'!E2:E93564,\"575\",'Accounting Data'!H2:H93564,\"9??\",'Accounting Data'!I2:I93564,\"29??\",'Accounting Data'!J2:J93564,\"63??\")","v":0},{"$f":"SUMIFS('Accounting Data'!C2:C93564,'Accounting Data'!E2:E93564,\"575\",'Accounting Data'!H2:H93564,\"7??\",'Accounting Data'!I2:I93564,\"29??\",'Accounting Data'!J2:J93564,\"64??\")+SUMIFS('Accounting Data'!C2:C93564,'Accounting Data'!E2:E93564,\"575\",'Accounting Data'!H2:H93564,\"8??\",'Accounting Data'!I2:I93564,\"29??\",'Accounting Data'!J2:J93564,\"64??\")+SUMIFS('Accounting Data'!C2:C93564,'Accounting Data'!E2:E93564,\"575\",'Accounting Data'!H2:H93564,\"9??\",'Accounting Data'!I2:I93564,\"29??\",'Accounting Data'!J2:J93564,\"64??\")","v":0},{"$f":"SUMIFS('Accounting Data'!C2:C93564,'Accounting Data'!E2:E93564,\"575\",'Accounting Data'!H2:H93564,\"7??\",'Accounting Data'!I2:I93564,\"29??\",'Accounting Data'!J2:J93564,\"65??\")+SUMIFS('Accounting Data'!C2:C93564,'Accounting Data'!E2:E93564,\"575\",'Accounting Data'!H2:H93564,\"8??\",'Accounting Data'!I2:I93564,\"29??\",'Accounting Data'!J2:J93564,\"65??\")+SUMIFS('Accounting Data'!C2:C93564,'Accounting Data'!E2:E93564,\"575\",'Accounting Data'!H2:H93564,\"9??\",'Accounting Data'!I2:I93564,\"29??\",'Accounting Data'!J2:J93564,\"65??\")","v":0},{"$f":"SUMIFS('Accounting Data'!C2:C93564,'Accounting Data'!E2:E93564,\"8??\",'Accounting Data'!H2:H93564,\"7??\",'Accounting Data'!I2:I93564,\"29??\",'Accounting Data'!J2:J93564,\"63??\")+SUMIFS('Accounting Data'!C2:C93564,'Accounting Data'!E2:E93564,\"8??\",'Accounting Data'!H2:H93564,\"8??\",'Accounting Data'!I2:I93564,\"29??\",'Accounting Data'!J2:J93564,\"63??\")+SUMIFS('Accounting Data'!C2:C93564,'Accounting Data'!E2:E93564,\"8??\",'Accounting Data'!H2:H93564,\"9??\",'Accounting Data'!I2:I93564,\"29??\",'Accounting Data'!J2:J93564,\"63??\")","v":0},{"$f":"SUMIFS('Accounting Data'!C2:C93564,'Accounting Data'!E2:E93564,\"8??\",'Accounting Data'!H2:H93564,\"7??\",'Accounting Data'!I2:I93564,\"29??\",'Accounting Data'!J2:J93564,\"64??\")+SUMIFS('Accounting Data'!C2:C93564,'Accounting Data'!E2:E93564,\"8??\",'Accounting Data'!H2:H93564,\"8??\",'Accounting Data'!I2:I93564,\"29??\",'Accounting Data'!J2:J93564,\"64??\")+SUMIFS('Accounting Data'!C2:C93564,'Accounting Data'!E2:E93564,\"8??\",'Accounting Data'!H2:H93564,\"9??\",'Accounting Data'!I2:I93564,\"29??\",'Accounting Data'!J2:J93564,\"64??\")","v":0},{"$f":"SUMIFS('Accounting Data'!C2:C93564,'Accounting Data'!E2:E93564,\"8??\",'Accounting Data'!H2:H93564,\"7??\",'Accounting Data'!I2:I93564,\"29??\",'Accounting Data'!J2:J93564,\"65??\")+SUMIFS('Accounting Data'!C2:C93564,'Accounting Data'!E2:E93564,\"8??\",'Accounting Data'!H2:H93564,\"8??\",'Accounting Data'!I2:I93564,\"29??\",'Accounting Data'!J2:J93564,\"65??\")+SUMIFS('Accounting Data'!C2:C93564,'Accounting Data'!E2:E93564,\"8??\",'Accounting Data'!H2:H93564,\"9??\",'Accounting Data'!I2:I93564,\"29??\",'Accounting Data'!J2:J93564,\"65??\")","v":0},{"$f":"SUMIFS('Accounting Data'!C2:C93564,'Accounting Data'!E2:E93564,\"9??\",'Accounting Data'!H2:H93564,\"7??\",'Accounting Data'!I2:I93564,\"29??\",'Accounting Data'!J2:J93564,\"63??\")+SUMIFS('Accounting Data'!C2:C93564,'Accounting Data'!E2:E93564,\"9??\",'Accounting Data'!H2:H93564,\"8??\",'Accounting Data'!I2:I93564,\"29??\",'Accounting Data'!J2:J93564,\"63??\")+SUMIFS('Accounting Data'!C2:C93564,'Accounting Data'!E2:E93564,\"9??\",'Accounting Data'!H2:H93564,\"9??\",'Accounting Data'!I2:I93564,\"29??\",'Accounting Data'!J2:J93564,\"63??\")","v":0},{"$f":"SUMIFS('Accounting Data'!C2:C93564,'Accounting Data'!E2:E93564,\"9??\",'Accounting Data'!H2:H93564,\"7??\",'Accounting Data'!I2:I93564,\"29??\",'Accounting Data'!J2:J93564,\"64??\")+SUMIFS('Accounting Data'!C2:C93564,'Accounting Data'!E2:E93564,\"9??\",'Accounting Data'!H2:H93564,\"8??\",'Accounting Data'!I2:I93564,\"29??\",'Accounting Data'!J2:J93564,\"64??\")+SUMIFS('Accounting Data'!C2:C93564,'Accounting Data'!E2:E93564,\"9??\",'Accounting Data'!H2:H93564,\"9??\",'Accounting Data'!I2:I93564,\"29??\",'Accounting Data'!J2:J93564,\"64??\")","v":0},{"$f":"SUMIFS('Accounting Data'!C2:C93564,'Accounting Data'!E2:E93564,\"9??\",'Accounting Data'!H2:H93564,\"7??\",'Accounting Data'!I2:I93564,\"29??\",'Accounting Data'!J2:J93564,\"65??\")+SUMIFS('Accounting Data'!C2:C93564,'Accounting Data'!E2:E93564,\"9??\",'Accounting Data'!H2:H93564,\"8??\",'Accounting Data'!I2:I93564,\"29??\",'Accounting Data'!J2:J93564,\"65??\")+SUMIFS('Accounting Data'!C2:C93564,'Accounting Data'!E2:E93564,\"9??\",'Accounting Data'!H2:H93564,\"9??\",'Accounting Data'!I2:I93564,\"29??\",'Accounting Data'!J2:J93564,\"65??\")","v":0},null,2900,{"$f":"SUMIFS('Accounting Data'!C2:C93564,'Accounting Data'!I2:I93564,\"29??\",'Accounting Data'!J2:J93564,\"66??\")","v":0},{"$f":"SUMIFS('Accounting Data'!$C$2:$C$93564,'Accounting Data'!$E$2:$E$93564,\"575\",'Accounting Data'!$I$2:$I$93564,\"29??\",'Accounting Data'!$J$2:$J$93564,\"66??\")+SUMIFS('Accounting Data'!$C$2:$C$93564,'Accounting Data'!$E$2:$E$93564,\"8??\",'Accounting Data'!$I$2:$I$93564,\"29??\",'Accounting Data'!$J$2:$J$93564,\"66??\")+SUMIFS('Accounting Data'!$C$2:$C$93564,'Accounting Data'!$E$2:$E$93564,\"9??\",'Accounting Data'!$I$2:$I$93564,\"29??\",'Accounting Data'!$J$2:$J$93564,\"66??\")","v":0},{"$f":"SUMIFS('Accounting Data'!$C$2:$C$93564,'Accounting Data'!$H$2:$H$93564,\"7??\",'Accounting Data'!$I$2:$I$93564,\"29??\",'Accounting Data'!$J$2:$J$93564,\"66??\")+SUMIFS('Accounting Data'!$C$2:$C$93564,'Accounting Data'!$H$2:$H$93564,\"8??\",'Accounting Data'!$I$2:$I$93564,\"29??\",'Accounting Data'!$J$2:$J$93564,\"66??\")+SUMIFS('Accounting Data'!$C$2:$C$93564,'Accounting Data'!$H$2:$H$93564,\"9??\",'Accounting Data'!$I$2:$I$93564,\"29??\",'Accounting Data'!$J$2:$J$93564,\"66??\")","v":0},{"$f":"SUMIFS('Accounting Data'!$C$2:$C$93564,'Accounting Data'!$E$2:$E$93564,\"575\",'Accounting Data'!$H$2:$H$93564,\"7??\",'Accounting Data'!$I$2:$I$93564,\"29??\",'Accounting Data'!$J$2:$J$93564,\"66??\")+SUMIFS('Accounting Data'!$C$2:$C$93564,'Accounting Data'!$E$2:$E$93564,\"575\",'Accounting Data'!$H$2:$H$93564,\"8??\",'Accounting Data'!$I$2:$I$93564,\"29??\",'Accounting Data'!$J$2:$J$93564,\"66??\")+SUMIFS('Accounting Data'!$C$2:$C$93564,'Accounting Data'!$E$2:$E$93564,\"575\",'Accounting Data'!$H$2:$H$93564,\"9??\",'Accounting Data'!$I$2:$I$93564,\"29??\",'Accounting Data'!$J$2:$J$93564,\"66??\")","v":0},{"$f":"SUMIFS('Accounting Data'!$C$2:$C$93564,'Accounting Data'!$E$2:$E$93564,\"8??\",'Accounting Data'!$H$2:$H$93564,\"7??\",'Accounting Data'!$I$2:$I$93564,\"29??\",'Accounting Data'!$J$2:$J$93564,\"66??\")+SUMIFS('Accounting Data'!$C$2:$C$93564,'Accounting Data'!$E$2:$E$93564,\"8??\",'Accounting Data'!$H$2:$H$93564,\"8??\",'Accounting Data'!$I$2:$I$93564,\"29??\",'Accounting Data'!$J$2:$J$93564,\"66??\")+SUMIFS('Accounting Data'!$C$2:$C$93564,'Accounting Data'!$E$2:$E$93564,\"8??\",'Accounting Data'!$H$2:$H$93564,\"9??\",'Accounting Data'!$I$2:$I$93564,\"29??\",'Accounting Data'!$J$2:$J$93564,\"66??\")","v":0},{"$f":"SUMIFS('Accounting Data'!$C$2:$C$93564,'Accounting Data'!$E$2:$E$93564,\"9??\",'Accounting Data'!$H$2:$H$93564,\"7??\",'Accounting Data'!$I$2:$I$93564,\"29??\",'Accounting Data'!$J$2:$J$93564,\"66??\")+SUMIFS('Accounting Data'!$C$2:$C$93564,'Accounting Data'!$E$2:$E$93564,\"9??\",'Accounting Data'!$H$2:$H$93564,\"8??\",'Accounting Data'!$I$2:$I$93564,\"29??\",'Accounting Data'!$J$2:$J$93564,\"66??\")+SUMIFS('Accounting Data'!$C$2:$C$93564,'Accounting Data'!$E$2:$E$93564,\"9??\",'Accounting Data'!$H$2:$H$93564,\"9??\",'Accounting Data'!$I$2:$I$93564,\"29??\",'Accounting Data'!$J$2:$J$93564,\"66??\")","v":0},null,2900,{"$f":"SUMIFS('Accounting Data'!C2:C93564,'Accounting Data'!I2:I93564,\"29??\",'Accounting Data'!J2:J93564,\"67??\")","v":0},{"$f":"SUMIFS('Accounting Data'!$C$2:$C$93564,'Accounting Data'!$E$2:$E$93564,\"575\",'Accounting Data'!$I$2:$I$93564,\"29??\",'Accounting Data'!$J$2:$J$93564,\"67??\")+SUMIFS('Accounting Data'!$C$2:$C$93564,'Accounting Data'!$E$2:$E$93564,\"8??\",'Accounting Data'!$I$2:$I$93564,\"29??\",'Accounting Data'!$J$2:$J$93564,\"67??\")+SUMIFS('Accounting Data'!$C$2:$C$93564,'Accounting Data'!$E$2:$E$93564,\"9??\",'Accounting Data'!$I$2:$I$93564,\"29??\",'Accounting Data'!$J$2:$J$93564,\"67??\")","v":0},{"$f":"SUMIFS('Accounting Data'!$C$2:$C$93564,'Accounting Data'!$H$2:$H$93564,\"7??\",'Accounting Data'!$I$2:$I$93564,\"29??\",'Accounting Data'!$J$2:$J$93564,\"67??\")+SUMIFS('Accounting Data'!$C$2:$C$93564,'Accounting Data'!$H$2:$H$93564,\"8??\",'Accounting Data'!$I$2:$I$93564,\"29??\",'Accounting Data'!$J$2:$J$93564,\"67??\")+SUMIFS('Accounting Data'!$C$2:$C$93564,'Accounting Data'!$H$2:$H$93564,\"9??\",'Accounting Data'!$I$2:$I$93564,\"29??\",'Accounting Data'!$J$2:$J$93564,\"67??\")","v":0},{"$f":"SUMIFS('Accounting Data'!$C$2:$C$93564,'Accounting Data'!$E$2:$E$93564,\"575\",'Accounting Data'!$H$2:$H$93564,\"7??\",'Accounting Data'!$I$2:$I$93564,\"29??\",'Accounting Data'!$J$2:$J$93564,\"67??\")+SUMIFS('Accounting Data'!$C$2:$C$93564,'Accounting Data'!$E$2:$E$93564,\"575\",'Accounting Data'!$H$2:$H$93564,\"8??\",'Accounting Data'!$I$2:$I$93564,\"29??\",'Accounting Data'!$J$2:$J$93564,\"67??\")+SUMIFS('Accounting Data'!$C$2:$C$93564,'Accounting Data'!$E$2:$E$93564,\"575\",'Accounting Data'!$H$2:$H$93564,\"9??\",'Accounting Data'!$I$2:$I$93564,\"29??\",'Accounting Data'!$J$2:$J$93564,\"67??\")","v":0},{"$f":"SUMIFS('Accounting Data'!$C$2:$C$93564,'Accounting Data'!$E$2:$E$93564,\"8??\",'Accounting Data'!$H$2:$H$93564,\"7??\",'Accounting Data'!$I$2:$I$93564,\"29??\",'Accounting Data'!$J$2:$J$93564,\"67??\")+SUMIFS('Accounting Data'!$C$2:$C$93564,'Accounting Data'!$E$2:$E$93564,\"8??\",'Accounting Data'!$H$2:$H$93564,\"8??\",'Accounting Data'!$I$2:$I$93564,\"29??\",'Accounting Data'!$J$2:$J$93564,\"67??\")+SUMIFS('Accounting Data'!$C$2:$C$93564,'Accounting Data'!$E$2:$E$93564,\"8??\",'Accounting Data'!$H$2:$H$93564,\"9??\",'Accounting Data'!$I$2:$I$93564,\"29??\",'Accounting Data'!$J$2:$J$93564,\"67??\")","v":0},{"$f":"SUMIFS('Accounting Data'!$C$2:$C$93564,'Accounting Data'!$E$2:$E$93564,\"9??\",'Accounting Data'!$H$2:$H$93564,\"7??\",'Accounting Data'!$I$2:$I$93564,\"29??\",'Accounting Data'!$J$2:$J$93564,\"67??\")+SUMIFS('Accounting Data'!$C$2:$C$93564,'Accounting Data'!$E$2:$E$93564,\"9??\",'Accounting Data'!$H$2:$H$93564,\"8??\",'Accounting Data'!$I$2:$I$93564,\"29??\",'Accounting Data'!$J$2:$J$93564,\"67??\")+SUMIFS('Accounting Data'!$C$2:$C$93564,'Accounting Data'!$E$2:$E$93564,\"9??\",'Accounting Data'!$H$2:$H$93564,\"9??\",'Accounting Data'!$I$2:$I$93564,\"29??\",'Accounting Data'!$J$2:$J$93564,\"67??\")","v":0},null,2900,{"$f":"SUMIFS('Accounting Data'!C2:C93564,'Accounting Data'!I2:I93564,\"29??\",'Accounting Data'!J2:J93564,\"681?\")","v":0},{"$f":"SUMIFS('Accounting Data'!$C$2:$C$93564,'Accounting Data'!$E$2:$E$93564,\"575\",'Accounting Data'!$I$2:$I$93564,\"29??\",'Accounting Data'!$J$2:$J$93564,\"681?\")+SUMIFS('Accounting Data'!$C$2:$C$93564,'Accounting Data'!$E$2:$E$93564,\"8??\",'Accounting Data'!$I$2:$I$93564,\"29??\",'Accounting Data'!$J$2:$J$93564,\"681?\")+SUMIFS('Accounting Data'!$C$2:$C$93564,'Accounting Data'!$E$2:$E$93564,\"9??\",'Accounting Data'!$I$2:$I$93564,\"29??\",'Accounting Data'!$J$2:$J$93564,\"681?\")","v":0},{"$f":"SUMIFS('Accounting Data'!$C$2:$C$93564,'Accounting Data'!$H$2:$H$93564,\"7??\",'Accounting Data'!$I$2:$I$93564,\"29??\",'Accounting Data'!$J$2:$J$93564,\"681?\")+SUMIFS('Accounting Data'!$C$2:$C$93564,'Accounting Data'!$H$2:$H$93564,\"8??\",'Accounting Data'!$I$2:$I$93564,\"29??\",'Accounting Data'!$J$2:$J$93564,\"681?\")+SUMIFS('Accounting Data'!$C$2:$C$93564,'Accounting Data'!$H$2:$H$93564,\"9??\",'Accounting Data'!$I$2:$I$93564,\"29??\",'Accounting Data'!$J$2:$J$93564,\"681?\")","v":0},{"$f":"SUMIFS('Accounting Data'!$C$2:$C$93564,'Accounting Data'!$E$2:$E$93564,\"575\",'Accounting Data'!$H$2:$H$93564,\"7??\",'Accounting Data'!$I$2:$I$93564,\"29??\",'Accounting Data'!$J$2:$J$93564,\"681?\")+SUMIFS('Accounting Data'!$C$2:$C$93564,'Accounting Data'!$E$2:$E$93564,\"575\",'Accounting Data'!$H$2:$H$93564,\"8??\",'Accounting Data'!$I$2:$I$93564,\"29??\",'Accounting Data'!$J$2:$J$93564,\"681?\")+SUMIFS('Accounting Data'!$C$2:$C$93564,'Accounting Data'!$E$2:$E$93564,\"575\",'Accounting Data'!$H$2:$H$93564,\"9??\",'Accounting Data'!$I$2:$I$93564,\"29??\",'Accounting Data'!$J$2:$J$93564,\"681?\")","v":0},{"$f":"SUMIFS('Accounting Data'!$C$2:$C$93564,'Accounting Data'!$E$2:$E$93564,\"8??\",'Accounting Data'!$H$2:$H$93564,\"7??\",'Accounting Data'!$I$2:$I$93564,\"29??\",'Accounting Data'!$J$2:$J$93564,\"681?\")+SUMIFS('Accounting Data'!$C$2:$C$93564,'Accounting Data'!$E$2:$E$93564,\"8??\",'Accounting Data'!$H$2:$H$93564,\"8??\",'Accounting Data'!$I$2:$I$93564,\"29??\",'Accounting Data'!$J$2:$J$93564,\"681?\")+SUMIFS('Accounting Data'!$C$2:$C$93564,'Accounting Data'!$E$2:$E$93564,\"8??\",'Accounting Data'!$H$2:$H$93564,\"9??\",'Accounting Data'!$I$2:$I$93564,\"29??\",'Accounting Data'!$J$2:$J$93564,\"681?\")","v":0},{"$f":"SUMIFS('Accounting Data'!$C$2:$C$93564,'Accounting Data'!$E$2:$E$93564,\"9??\",'Accounting Data'!$H$2:$H$93564,\"7??\",'Accounting Data'!$I$2:$I$93564,\"29??\",'Accounting Data'!$J$2:$J$93564,\"681?\")+SUMIFS('Accounting Data'!$C$2:$C$93564,'Accounting Data'!$E$2:$E$93564,\"9??\",'Accounting Data'!$H$2:$H$93564,\"8??\",'Accounting Data'!$I$2:$I$93564,\"29??\",'Accounting Data'!$J$2:$J$93564,\"681?\")+SUMIFS('Accounting Data'!$C$2:$C$93564,'Accounting Data'!$E$2:$E$93564,\"9??\",'Accounting Data'!$H$2:$H$93564,\"9??\",'Accounting Data'!$I$2:$I$93564,\"29??\",'Accounting Data'!$J$2:$J$93564,\"681?\")","v":0},null,2500,{"$f":"SUMIFS('Accounting Data'!C2:C93564,'Accounting Data'!I2:I93564,\"25??\",'Accounting Data'!J2:J93564,\"685?\")","v":0},null,null,{"$f":"SUMIFS('Accounting Data'!$C$2:$C$93564,'Accounting Data'!$E$2:$E$93564,\"575\",'Accounting Data'!$I$2:$I$93564,\"25??\",'Accounting Data'!$J$2:$J$93564,\"685?\")+SUMIFS('Accounting Data'!$C$2:$C$93564,'Accounting Data'!$E$2:$E$93564,\"8??\",'Accounting Data'!$I$2:$I$93564,\"25??\",'Accounting Data'!$J$2:$J$93564,\"685?\")+SUMIFS('Accounting Data'!$C$2:$C$93564,'Accounting Data'!$E$2:$E$93564,\"9??\",'Accounting Data'!$I$2:$I$93564,\"25??\",'Accounting Data'!$J$2:$J$93564,\"685?\")","v":0},{"$f":"SUMIFS('Accounting Data'!C2:C93564,'Accounting Data'!H2:H93564,\"7??\",'Accounting Data'!I2:I93564,\"25??\",'Accounting Data'!J2:J93564,\"685?\")+SUMIFS('Accounting Data'!C2:C93564,'Accounting Data'!H2:H93564,\"8??\",'Accounting Data'!I2:I93564,\"25??\",'Accounting Data'!J2:J93564,\"685?\")+SUMIFS('Accounting Data'!C2:C93564,'Accounting Data'!H2:H93564,\"9??\",'Accounting Data'!I2:I93564,\"25??\",'Accounting Data'!J2:J93564,\"685?\")","v":0},null,null,{"$f":"SUMIFS('Accounting Data'!$C$2:$C$93564,'Accounting Data'!$E$2:$E$93564,\"575\",'Accounting Data'!$H$2:$H$93564,\"7??\",'Accounting Data'!$I$2:$I$93564,\"25??\",'Accounting Data'!$J$2:$J$93564,\"685?\")+SUMIFS('Accounting Data'!$C$2:$C$93564,'Accounting Data'!$E$2:$E$93564,\"575\",'Accounting Data'!$H$2:$H$93564,\"8??\",'Accounting Data'!$I$2:$I$93564,\"25??\",'Accounting Data'!$J$2:$J$93564,\"685?\")+SUMIFS('Accounting Data'!$C$2:$C$93564,'Accounting Data'!$E$2:$E$93564,\"575\",'Accounting Data'!$H$2:$H$93564,\"9??\",'Accounting Data'!$I$2:$I$93564,\"25??\",'Accounting Data'!$J$2:$J$93564,\"685?\")","v":0},null,null,{"$f":"SUMIFS('Accounting Data'!$C$2:$C$93564,'Accounting Data'!$E$2:$E$93564,\"8??\",'Accounting Data'!$H$2:$H$93564,\"7??\",'Accounting Data'!$I$2:$I$93564,\"25??\",'Accounting Data'!$J$2:$J$93564,\"685?\")+SUMIFS('Accounting Data'!$C$2:$C$93564,'Accounting Data'!$E$2:$E$93564,\"8??\",'Accounting Data'!$H$2:$H$93564,\"8??\",'Accounting Data'!$I$2:$I$93564,\"25??\",'Accounting Data'!$J$2:$J$93564,\"685?\")+SUMIFS('Accounting Data'!$C$2:$C$93564,'Accounting Data'!$E$2:$E$93564,\"8??\",'Accounting Data'!$H$2:$H$93564,\"9??\",'Accounting Data'!$I$2:$I$93564,\"25??\",'Accounting Data'!$J$2:$J$93564,\"685?\")","v":0},null,null,{"$f":"SUMIFS('Accounting Data'!$C$2:$C$93564,'Accounting Data'!$E$2:$E$93564,\"9??\",'Accounting Data'!$H$2:$H$93564,\"7??\",'Accounting Data'!$I$2:$I$93564,\"25??\",'Accounting Data'!$J$2:$J$93564,\"685?\")+SUMIFS('Accounting Data'!$C$2:$C$93564,'Accounting Data'!$E$2:$E$93564,\"9??\",'Accounting Data'!$H$2:$H$93564,\"8??\",'Accounting Data'!$I$2:$I$93564,\"25??\",'Accounting Data'!$J$2:$J$93564,\"685?\")+SUMIFS('Accounting Data'!$C$2:$C$93564,'Accounting Data'!$E$2:$E$93564,\"9??\",'Accounting Data'!$H$2:$H$93564,\"9??\",'Accounting Data'!$I$2:$I$93564,\"25??\",'Accounting Data'!$J$2:$J$93564,\"685?\")","v":0},null,2900,{"$f":"SUM(SUMIFS('Accounting Data'!C2:C93564,'Accounting Data'!I2:I93564,\"29??\",'Accounting Data'!J2:J93564,{\"689?\",\"6885\"}))","v":0},{"$f":"SUM(SUMIFS('Accounting Data'!$C$2:$C$93564,'Accounting Data'!$E$2:$E$93564,\"575\",'Accounting Data'!$I$2:$I$93564,\"29??\",'Accounting Data'!$J$2:$J$93564,{\"689?\",\"6885\"}))+SUM(SUMIFS('Accounting Data'!$C$2:$C$93564,'Accounting Data'!$E$2:$E$93564,\"8??\",'Accounting Data'!$I$2:$I$93564,\"29??\",'Accounting Data'!$J$2:$J$93564,{\"689?\",\"6885\"}))+SUM(SUMIFS('Accounting Data'!$C$2:$C$93564,'Accounting Data'!$E$2:$E$93564,\"9??\",'Accounting Data'!$I$2:$I$93564,\"29??\",'Accounting Data'!$J$2:$J$93564,{\"689?\",\"6885\"}))","v":0},{"$f":"SUM(SUMIFS('Accounting Data'!$C$2:$C$93564,'Accounting Data'!$H$2:$H$93564,\"7??\",'Accounting Data'!$I$2:$I$93564,\"29??\",'Accounting Data'!$J$2:$J$93564,{\"689?\",\"6885\"}))+SUM(SUMIFS('Accounting Data'!$C$2:$C$93564,'Accounting Data'!$H$2:$H$93564,\"8??\",'Accounting Data'!$I$2:$I$93564,\"29??\",'Accounting Data'!$J$2:$J$93564,{\"689?\",\"6885\"}))+SUM(SUMIFS('Accounting Data'!$C$2:$C$93564,'Accounting Data'!$H$2:$H$93564,\"9??\",'Accounting Data'!$I$2:$I$93564,\"29??\",'Accounting Data'!$J$2:$J$93564,{\"689?\",\"6885\"}))","v":0},{"$f":"SUM(SUMIFS('Accounting Data'!$C$2:$C$93564,'Accounting Data'!$E$2:$E$93564,\"575\",'Accounting Data'!$H$2:$H$93564,\"7??\",'Accounting Data'!$I$2:$I$93564,\"29??\",'Accounting Data'!$J$2:$J$93564,{\"689?\",\"6885\"}))+SUM(SUMIFS('Accounting Data'!$C$2:$C$93564,'Accounting Data'!$E$2:$E$93564,\"575\",'Accounting Data'!$H$2:$H$93564,\"8??\",'Accounting Data'!$I$2:$I$93564,\"29??\",'Accounting Data'!$J$2:$J$93564,{\"689?\",\"6885\"}))+SUM(SUMIFS('Accounting Data'!$C$2:$C$93564,'Accounting Data'!$E$2:$E$93564,\"575\",'Accounting Data'!$H$2:$H$93564,\"9??\",'Accounting Data'!$I$2:$I$93564,\"29??\",'Accounting Data'!$J$2:$J$93564,{\"689?\",\"6885\"}))","v":0},{"$f":"SUM(SUMIFS('Accounting Data'!$C$2:$C$93564,'Accounting Data'!$E$2:$E$93564,\"8??\",'Accounting Data'!$H$2:$H$93564,\"7??\",'Accounting Data'!$I$2:$I$93564,\"29??\",'Accounting Data'!$J$2:$J$93564,{\"689?\",\"6885\"}))+SUM(SUMIFS('Accounting Data'!$C$2:$C$93564,'Accounting Data'!$E$2:$E$93564,\"8??\",'Accounting Data'!$H$2:$H$93564,\"8??\",'Accounting Data'!$I$2:$I$93564,\"29??\",'Accounting Data'!$J$2:$J$93564,{\"689?\",\"6885\"}))+SUM(SUMIFS('Accounting Data'!$C$2:$C$93564,'Accounting Data'!$E$2:$E$93564,\"8??\",'Accounting Data'!$H$2:$H$93564,\"9??\",'Accounting Data'!$I$2:$I$93564,\"29??\",'Accounting Data'!$J$2:$J$93564,{\"689?\",\"6885\"}))","v":0},{"$f":"SUM(SUMIFS('Accounting Data'!$C$2:$C$93564,'Accounting Data'!$E$2:$E$93564,\"9??\",'Accounting Data'!$H$2:$H$93564,\"7??\",'Accounting Data'!$I$2:$I$93564,\"29??\",'Accounting Data'!$J$2:$J$93564,{\"689?\",\"6885\"}))+SUM(SUMIFS('Accounting Data'!$C$2:$C$93564,'Accounting Data'!$E$2:$E$93564,\"9??\",'Accounting Data'!$H$2:$H$93564,\"8??\",'Accounting Data'!$I$2:$I$93564,\"29??\",'Accounting Data'!$J$2:$J$93564,{\"689?\",\"6885\"}))+SUM(SUMIFS('Accounting Data'!$C$2:$C$93564,'Accounting Data'!$E$2:$E$93564,\"9??\",'Accounting Data'!$H$2:$H$93564,\"9??\",'Accounting Data'!$I$2:$I$93564,\"29??\",'Accounting Data'!$J$2:$J$93564,{\"689?\",\"6885\"}))","v":0},null,2900,{"$f":"SUMIFS('Accounting Data'!$C$2:$C$93564,'Accounting Data'!$H$2:$H$93564,\"7??\",'Accounting Data'!$I$2:$I$93564,\"29??\",'Accounting Data'!$J$2:$J$93564,\"6???\")+SUMIFS('Accounting Data'!$C$2:$C$93564,'Accounting Data'!$H$2:$H$93564,\"8??\",'Accounting Data'!$I$2:$I$93564,\"29??\",'Accounting Data'!$J$2:$J$93564,\"6???\")+SUMIFS('Accounting Data'!$C$2:$C$93564,'Accounting Data'!$H$2:$H$93564,\"9??\",'Accounting Data'!$I$2:$I$93564,\"29??\",'Accounting Data'!$J$2:$J$93564,\"6???\")","v":0},{"$f":"SUMIFS('Accounting Data'!$C$2:$C$93564,'Accounting Data'!$H$2:$H$93564,\"7??\",'Accounting Data'!$I$2:$I$93564,\"29??\",'Accounting Data'!$J$2:$J$93564,\"69??\")+SUMIFS('Accounting Data'!$C$2:$C$93564,'Accounting Data'!$H$2:$H$93564,\"8??\",'Accounting Data'!$I$2:$I$93564,\"29??\",'Accounting Data'!$J$2:$J$93564,\"69??\")+SUMIFS('Accounting Data'!$C$2:$C$93564,'Accounting Data'!$H$2:$H$93564,\"9??\",'Accounting Data'!$I$2:$I$93564,\"29??\",'Accounting Data'!$J$2:$J$93564,\"69??\")","v":0},{"$f":"SUMIFS('Accounting Data'!$C$2:$C$93564,'Accounting Data'!$E$2:$E$93564,\"575\",'Accounting Data'!$H$2:$H$93564,\"7??\",'Accounting Data'!$I$2:$I$93564,\"29??\",'Accounting Data'!$J$2:$J$93564,\"6???\")+SUMIFS('Accounting Data'!$C$2:$C$93564,'Accounting Data'!$E$2:$E$93564,\"575\",'Accounting Data'!$H$2:$H$93564,\"8??\",'Accounting Data'!$I$2:$I$93564,\"29??\",'Accounting Data'!$J$2:$J$93564,\"6???\")+SUMIFS('Accounting Data'!$C$2:$C$93564,'Accounting Data'!$E$2:$E$93564,\"575\",'Accounting Data'!$H$2:$H$93564,\"9??\",'Accounting Data'!$I$2:$I$93564,\"29??\",'Accounting Data'!$J$2:$J$93564,\"6???\")","v":0},{"$f":"SUMIFS('Accounting Data'!$C$2:$C$93564,'Accounting Data'!$E$2:$E$93564,\"8??\",'Accounting Data'!$H$2:$H$93564,\"7??\",'Accounting Data'!$I$2:$I$93564,\"29??\",'Accounting Data'!$J$2:$J$93564,\"6???\")+SUMIFS('Accounting Data'!$C$2:$C$93564,'Accounting Data'!$E$2:$E$93564,\"8??\",'Accounting Data'!$H$2:$H$93564,\"8??\",'Accounting Data'!$I$2:$I$93564,\"29??\",'Accounting Data'!$J$2:$J$93564,\"6???\")+SUMIFS('Accounting Data'!$C$2:$C$93564,'Accounting Data'!$E$2:$E$93564,\"8??\",'Accounting Data'!$H$2:$H$93564,\"9??\",'Accounting Data'!$I$2:$I$93564,\"29??\",'Accounting Data'!$J$2:$J$93564,\"6???\")+SUMIFS('Accounting Data'!$C$2:$C$93564,'Accounting Data'!$E$2:$E$93564,\"9??\",'Accounting Data'!$H$2:$H$93564,\"7??\",'Accounting Data'!$I$2:$I$93564,\"29??\",'Accounting Data'!$J$2:$J$93564,\"6???\")+SUMIFS('Accounting Data'!$C$2:$C$93564,'Accounting Data'!$E$2:$E$93564,\"9??\",'Accounting Data'!$H$2:$H$93564,\"8??\",'Accounting Data'!$I$2:$I$93564,\"29??\",'Accounting Data'!$J$2:$J$93564,\"6???\")+SUMIFS('Accounting Data'!$C$2:$C$93564,'Accounting Data'!$E$2:$E$93564,\"9??\",'Accounting Data'!$H$2:$H$93564,\"9??\",'Accounting Data'!$I$2:$I$93564,\"29??\",'Accounting Data'!$J$2:$J$93564,\"6???\")","v":0},{"$f":"SUMIFS('Accounting Data'!$C$2:$C$93564,'Accounting Data'!$E$2:$E$93564,\"575\",'Accounting Data'!$H$2:$H$93564,\"7??\",'Accounting Data'!$I$2:$I$93564,\"29??\",'Accounting Data'!$J$2:$J$93564,\"69??\")+SUMIFS('Accounting Data'!$C$2:$C$93564,'Accounting Data'!$E$2:$E$93564,\"575\",'Accounting Data'!$H$2:$H$93564,\"8??\",'Accounting Data'!$I$2:$I$93564,\"29??\",'Accounting Data'!$J$2:$J$93564,\"69??\")+SUMIFS('Accounting Data'!$C$2:$C$93564,'Accounting Data'!$E$2:$E$93564,\"575\",'Accounting Data'!$H$2:$H$93564,\"9??\",'Accounting Data'!$I$2:$I$93564,\"29??\",'Accounting Data'!$J$2:$J$93564,\"69??\")","v":0},{"$f":"SUMIFS('Accounting Data'!$C$2:$C$93564,'Accounting Data'!$E$2:$E$93564,\"8??\",'Accounting Data'!$H$2:$H$93564,\"7??\",'Accounting Data'!$I$2:$I$93564,\"29??\",'Accounting Data'!$J$2:$J$93564,\"69??\")+SUMIFS('Accounting Data'!$C$2:$C$93564,'Accounting Data'!$E$2:$E$93564,\"8??\",'Accounting Data'!$H$2:$H$93564,\"8??\",'Accounting Data'!$I$2:$I$93564,\"29??\",'Accounting Data'!$J$2:$J$93564,\"69??\")+SUMIFS('Accounting Data'!$C$2:$C$93564,'Accounting Data'!$E$2:$E$93564,\"8??\",'Accounting Data'!$H$2:$H$93564,\"9??\",'Accounting Data'!$I$2:$I$93564,\"29??\",'Accounting Data'!$J$2:$J$93564,\"69??\")+SUMIFS('Accounting Data'!$C$2:$C$93564,'Accounting Data'!$E$2:$E$93564,\"9??\",'Accounting Data'!$H$2:$H$93564,\"7??\",'Accounting Data'!$I$2:$I$93564,\"29??\",'Accounting Data'!$J$2:$J$93564,\"69??\")+SUMIFS('Accounting Data'!$C$2:$C$93564,'Accounting Data'!$E$2:$E$93564,\"9??\",'Accounting Data'!$H$2:$H$93564,\"8??\",'Accounting Data'!$I$2:$I$93564,\"29??\",'Accounting Data'!$J$2:$J$93564,\"69??\")+SUMIFS('Accounting Data'!$C$2:$C$93564,'Accounting Data'!$E$2:$E$93564,\"9??\",'Accounting Data'!$H$2:$H$93564,\"9??\",'Accounting Data'!$I$2:$I$93564,\"29??\",'Accounting Data'!$J$2:$J$93564,\"69??\")","v":0}]
["         2700 Student Transportation","8.",{"$f":"(AA19-AB19-AC19)+(AD19+AE19+AF19)","v":891707},{"$f":"(AI19-AJ19-AK19)+(AL19+AM19+AN19)","v":322950},{"$f":"(AQ19-AR19-AS19-AT19-AU19)+(AV19+AW19+AX19+AY19+AZ19+BA19+BB19+BC19+BD19)","v":158066},{"$f":"(BG19-BH19-BI19)+(BJ19+BK19+BL19)","v":21083},{"$f":"(BO19-BP19-BQ19)+(BR19+BS19+BT19)","v":479000},{"$f":"(BW19-BX19-BY19)+(BZ19+CA19+CB19)","v":100},null,null,null,{"$f":"(CU19-CV19-CW19)+(CX19+CY19+CZ19)","v":13455},null,1886361,"8.",null,null,null,"Object code",null,"% of Total",null,null,null,null,2600,{"$f":"SUMIFS('Accounting Data'!C2:C93564,'Accounting Data'!I2:I93564,\"26??\",'Accounting Data'!J2:J93564,\"61??\")","v":1221679},{"$f":"SUMIFS('Accounting Data'!C2:C93564,'Accounting Data'!E2:E93564,\"575\",'Accounting Data'!I2:I93564,\"26??\",'Accounting Data'!J2:J93564,\"61??\")+SUMIFS('Accounting Data'!C2:C93564,'Accounting Data'!E2:E93564,\"8??\",'Accounting Data'!I2:I93564,\"26??\",'Accounting Data'!J2:J93564,\"61??\")+SUMIFS('Accounting Data'!C2:C93564,'Accounting Data'!E2:E93564,\"9??\",'Accounting Data'!I2:I93564,\"26??\",'Accounting Data'!J2:J93564,\"61??\")","v":0},{"$f":"SUMIFS('Accounting Data'!C2:C93564,'Accounting Data'!H2:H93564,\"7??\",'Accounting Data'!I2:I93564,\"26??\",'Accounting Data'!J2:J93564,\"61??\")+SUMIFS('Accounting Data'!C2:C93564,'Accounting Data'!H2:H93564,\"8??\",'Accounting Data'!I2:I93564,\"26??\",'Accounting Data'!J2:J93564,\"61??\")+SUMIFS('Accounting Data'!C2:C93564,'Accounting Data'!H2:H93564,\"9??\",'Accounting Data'!I2:I93564,\"26??\",'Accounting Data'!J2:J93564,\"61??\")","v":0},{"$f":"SUMIFS('Accounting Data'!C2:C93564,'Accounting Data'!E2:E93564,\"575\",'Accounting Data'!H2:H93564,\"7??\",'Accounting Data'!I2:I93564,\"26??\",'Accounting Data'!J2:J93564,\"61??\")+SUMIFS('Accounting Data'!C2:C93564,'Accounting Data'!E2:E93564,\"575\",'Accounting Data'!H2:H93564,\"8??\",'Accounting Data'!I2:I93564,\"26??\",'Accounting Data'!J2:J93564,\"61??\")+SUMIFS('Accounting Data'!C2:C93564,'Accounting Data'!E2:E93564,\"575\",'Accounting Data'!H2:H93564,\"9??\",'Accounting Data'!I2:I93564,\"26??\",'Accounting Data'!J2:J93564,\"61??\")","v":0},{"$f":"SUMIFS('Accounting Data'!C2:C93564,'Accounting Data'!E2:E93564,\"8??\",'Accounting Data'!H2:H93564,\"7??\",'Accounting Data'!I2:I93564,\"26??\",'Accounting Data'!J2:J93564,\"61??\")+SUMIFS('Accounting Data'!C2:C93564,'Accounting Data'!E2:E93564,\"8??\",'Accounting Data'!H2:H93564,\"8??\",'Accounting Data'!I2:I93564,\"26??\",'Accounting Data'!J2:J93564,\"61??\")+SUMIFS('Accounting Data'!C2:C93564,'Accounting Data'!E2:E93564,\"8??\",'Accounting Data'!H2:H93564,\"9??\",'Accounting Data'!I2:I93564,\"26??\",'Accounting Data'!J2:J93564,\"61??\")","v":0},{"$f":"SUMIFS('Accounting Data'!C2:C93564,'Accounting Data'!E2:E93564,\"9??\",'Accounting Data'!H2:H93564,\"7??\",'Accounting Data'!I2:I93564,\"26??\",'Accounting Data'!J2:J93564,\"61??\")+SUMIFS('Accounting Data'!C2:C93564,'Accounting Data'!E2:E93564,\"9??\",'Accounting Data'!H2:H93564,\"8??\",'Accounting Data'!I2:I93564,\"26??\",'Accounting Data'!J2:J93564,\"61??\")+SUMIFS('Accounting Data'!C2:C93564,'Accounting Data'!E2:E93564,\"9??\",'Accounting Data'!H2:H93564,\"9??\",'Accounting Data'!I2:I93564,\"26??\",'Accounting Data'!J2:J93564,\"61??\")","v":0},null,2600,{"$f":"SUMIFS('Accounting Data'!C2:C93564,'Accounting Data'!I2:I93564,\"26??\",'Accounting Data'!J2:J93564,\"62??\")","v":424717},{"$f":"SUMIFS('Accounting Data'!C2:C93564,'Accounting Data'!E2:E93564,\"575\",'Accounting Data'!I2:I93564,\"26??\",'Accounting Data'!J2:J93564,\"62??\")+SUMIFS('Accounting Data'!C2:C93564,'Accounting Data'!E2:E93564,\"8??\",'Accounting Data'!I2:I93564,\"26??\",'Accounting Data'!J2:J93564,\"62??\")+SUMIFS('Accounting Data'!C2:C93564,'Accounting Data'!E2:E93564,\"9??\",'Accounting Data'!I2:I93564,\"26??\",'Accounting Data'!J2:J93564,\"62??\")","v":0},{"$f":"SUMIFS('Accounting Data'!C2:C93564,'Accounting Data'!H2:H93564,\"7??\",'Accounting Data'!I2:I93564,\"26??\",'Accounting Data'!J2:J93564,\"62??\")+SUMIFS('Accounting Data'!C2:C93564,'Accounting Data'!H2:H93564,\"8??\",'Accounting Data'!I2:I93564,\"26??\",'Accounting Data'!J2:J93564,\"62??\")+SUMIFS('Accounting Data'!C2:C93564,'Accounting Data'!H2:H93564,\"9??\",'Accounting Data'!I2:I93564,\"26??\",'Accounting Data'!J2:J93564,\"62??\")","v":0},{"$f":"SUMIFS('Accounting Data'!C2:C93564,'Accounting Data'!E2:E93564,\"575\",'Accounting Data'!H2:H93564,\"7??\",'Accounting Data'!I2:I93564,\"26??\",'Accounting Data'!J2:J93564,\"62??\")+SUMIFS('Accounting Data'!C2:C93564,'Accounting Data'!E2:E93564,\"575\",'Accounting Data'!H2:H93564,\"8??\",'Accounting Data'!I2:I93564,\"26??\",'Accounting Data'!J2:J93564,\"62??\")+SUMIFS('Accounting Data'!C2:C93564,'Accounting Data'!E2:E93564,\"575\",'Accounting Data'!H2:H93564,\"9??\",'Accounting Data'!I2:I93564,\"26??\",'Accounting Data'!J2:J93564,\"62??\")","v":0},{"$f":"SUMIFS('Accounting Data'!C2:C93564,'Accounting Data'!E2:E93564,\"8??\",'Accounting Data'!H2:H93564,\"7??\",'Accounting Data'!I2:I93564,\"26??\",'Accounting Data'!J2:J93564,\"62??\")+SUMIFS('Accounting Data'!C2:C93564,'Accounting Data'!E2:E93564,\"8??\",'Accounting Data'!H2:H93564,\"8??\",'Accounting Data'!I2:I93564,\"26??\",'Accounting Data'!J2:J93564,\"62??\")+SUMIFS('Accounting Data'!C2:C93564,'Accounting Data'!E2:E93564,\"8??\",'Accounting Data'!H2:H93564,\"9??\",'Accounting Data'!I2:I93564,\"26??\",'Accounting Data'!J2:J93564,\"62??\")","v":0},{"$f":"SUMIFS('Accounting Data'!C2:C93564,'Accounting Data'!E2:E93564,\"9??\",'Accounting Data'!H2:H93564,\"7??\",'Accounting Data'!I2:I93564,\"26??\",'Accounting Data'!J2:J93564,\"62??\")+SUMIFS('Accounting Data'!C2:C93564,'Accounting Data'!E2:E93564,\"9??\",'Accounting Data'!H2:H93564,\"8??\",'Accounting Data'!I2:I93564,\"26??\",'Accounting Data'!J2:J93564,\"62??\")+SUMIFS('Accounting Data'!C2:C93564,'Accounting Data'!E2:E93564,\"9??\",'Accounting Data'!H2:H93564,\"9??\",'Accounting Data'!I2:I93564,\"26??\",'Accounting Data'!J2:J93564,\"62??\")","v":0},null,2600,{"$f":"SUMIFS('Accounting Data'!C2:C93564,'Accounting Data'!I2:I93564,\"26??\",'Accounting Data'!J2:J93564,\"63??\")+SUMIFS('Accounting Data'!C2:C93564,'Accounting Data'!I2:I93564,\"26??\",'Accounting Data'!J2:J93564,\"64??\")+SUMIFS('Accounting Data'!C2:C93564,'Accounting Data'!I2:I93564,\"26??\",'Accounting Data'!J2:J93564,\"65??\")","v":1082987},{"$f":"SUMIFS('Accounting Data'!C2:C93564,'Accounting Data'!E2:E93564,\"575\",'Accounting Data'!I2:I93564,\"26??\",'Accounting Data'!J2:J93564,\"63??\")+SUMIFS('Accounting Data'!C2:C93564,'Accounting Data'!E2:E93564,\"8??\",'Accounting Data'!I2:I93564,\"26??\",'Accounting Data'!J2:J93564,\"63??\")+SUMIFS('Accounting Data'!C2:C93564,'Accounting Data'!E2:E93564,\"9??\",'Accounting Data'!I2:I93564,\"26??\",'Accounting Data'!J2:J93564,\"63??\")","v":0},{"$f":"SUMIFS('Accounting Data'!C2:C93564,'Accounting Data'!E2:E93564,\"575\",'Accounting Data'!I2:I93564,\"26??\",'Accounting Data'!J2:J93564,\"64??\")+SUMIFS('Accounting Data'!C2:C93564,'Accounting Data'!E2:E93564,\"8??\",'Accounting Data'!I2:I93564,\"26??\",'Accounting Data'!J2:J93564,\"64??\")+SUMIFS('Accounting Data'!C2:C93564,'Accounting Data'!E2:E93564,\"9??\",'Accounting Data'!I2:I93564,\"26??\",'Accounting Data'!J2:J93564,\"64??\")","v":0},{"$f":"SUMIFS('Accounting Data'!C2:C93564,'Accounting Data'!E2:E93564,\"575\",'Accounting Data'!I2:I93564,\"26??\",'Accounting Data'!J2:J93564,\"65??\")+SUMIFS('Accounting Data'!C2:C93564,'Accounting Data'!E2:E93564,\"8??\",'Accounting Data'!I2:I93564,\"26??\",'Accounting Data'!J2:J93564,\"65??\")+SUMIFS('Accounting Data'!C2:C93564,'Accounting Data'!E2:E93564,\"9??\",'Accounting Data'!I2:I93564,\"26??\",'Accounting Data'!J2:J93564,\"65??\")","v":0},{"$f":"SUMIFS('Accounting Data'!C2:C93564,'Accounting Data'!H2:H93564,\"7??\",'Accounting Data'!I2:I93564,\"26??\",'Accounting Data'!J2:J93564,\"63??\")+SUMIFS('Accounting Data'!C2:C93564,'Accounting Data'!H2:H93564,\"8??\",'Accounting Data'!I2:I93564,\"26??\",'Accounting Data'!J2:J93564,\"63??\")+SUMIFS('Accounting Data'!C2:C93564,'Accounting Data'!H2:H93564,\"9??\",'Accounting Data'!I2:I93564,\"26??\",'Accounting Data'!J2:J93564,\"63??\")+SUMIFS('Accounting Data'!C2:C93564,'Accounting Data'!H2:H93564,\"7??\",'Accounting Data'!I2:I93564,\"26??\",'Accounting Data'!J2:J93564,\"64??\")+SUMIFS('Accounting Data'!C2:C93564,'Accounting Data'!H2:H93564,\"8??\",'Accounting Data'!I2:I93564,\"26??\",'Accounting Data'!J2:J93564,\"64??\")+SUMIFS('Accounting Data'!C2:C93564,'Accounting Data'!H2:H93564,\"9??\",'Accounting Data'!I2:I93564,\"26??\",'Accounting Data'!J2:J93564,\"64??\")+SUMIFS('Accounting Data'!C2:C93564,'Accounting Data'!H2:H93564,\"7??\",'Accounting Data'!I2:I93564,\"26??\",'Accounting Data'!J2:J93564,\"65??\")+SUMIFS('Accounting Data'!C2:C93564,'Accounting Data'!H2:H93564,\"8??\",'Accounting Data'!I2:I93564,\"26??\",'Accounting Data'!J2:J93564,\"65??\")+SUMIFS('Accounting Data'!C2:C93564,'Accounting Data'!H2:H93564,\"9??\",'Accounting Data'!I2:I93564,\"26??\",'Accounting Data'!J2:J93564,\"65??\")","v":0},{"$f":"SUMIFS('Accounting Data'!C2:C93564,'Accounting Data'!E2:E93564,\"575\",'Accounting Data'!H2:H93564,\"7??\",'Accounting Data'!I2:I93564,\"26??\",'Accounting Data'!J2:J93564,\"63??\")+SUMIFS('Accounting Data'!C2:C93564,'Accounting Data'!E2:E93564,\"575\",'Accounting Data'!H2:H93564,\"8??\",'Accounting Data'!I2:I93564,\"26??\",'Accounting Data'!J2:J93564,\"63??\")+SUMIFS('Accounting Data'!C2:C93564,'Accounting Data'!E2:E93564,\"575\",'Accounting Data'!H2:H93564,\"9??\",'Accounting Data'!I2:I93564,\"26??\",'Accounting Data'!J2:J93564,\"63??\")","v":0},{"$f":"SUMIFS('Accounting Data'!C2:C93564,'Accounting Data'!E2:E93564,\"575\",'Accounting Data'!H2:H93564,\"7??\",'Accounting Data'!I2:I93564,\"26??\",'Accounting Data'!J2:J93564,\"64??\")+SUMIFS('Accounting Data'!C2:C93564,'Accounting Data'!E2:E93564,\"575\",'Accounting Data'!H2:H93564,\"8??\",'Accounting Data'!I2:I93564,\"26??\",'Accounting Data'!J2:J93564,\"64??\")+SUMIFS('Accounting Data'!C2:C93564,'Accounting Data'!E2:E93564,\"575\",'Accounting Data'!H2:H93564,\"9??\",'Accounting Data'!I2:I93564,\"26??\",'Accounting Data'!J2:J93564,\"64??\")","v":0},{"$f":"SUMIFS('Accounting Data'!C2:C93564,'Accounting Data'!E2:E93564,\"575\",'Accounting Data'!H2:H93564,\"7??\",'Accounting Data'!I2:I93564,\"26??\",'Accounting Data'!J2:J93564,\"65??\")+SUMIFS('Accounting Data'!C2:C93564,'Accounting Data'!E2:E93564,\"575\",'Accounting Data'!H2:H93564,\"8??\",'Accounting Data'!I2:I93564,\"26??\",'Accounting Data'!J2:J93564,\"65??\")+SUMIFS('Accounting Data'!C2:C93564,'Accounting Data'!E2:E93564,\"575\",'Accounting Data'!H2:H93564,\"9??\",'Accounting Data'!I2:I93564,\"26??\",'Accounting Data'!J2:J93564,\"65??\")","v":0},{"$f":"SUMIFS('Accounting Data'!C2:C93564,'Accounting Data'!E2:E93564,\"8??\",'Accounting Data'!H2:H93564,\"7??\",'Accounting Data'!I2:I93564,\"26??\",'Accounting Data'!J2:J93564,\"63??\")+SUMIFS('Accounting Data'!C2:C93564,'Accounting Data'!E2:E93564,\"8??\",'Accounting Data'!H2:H93564,\"8??\",'Accounting Data'!I2:I93564,\"26??\",'Accounting Data'!J2:J93564,\"63??\")+SUMIFS('Accounting Data'!C2:C93564,'Accounting Data'!E2:E93564,\"8??\",'Accounting Data'!H2:H93564,\"9??\",'Accounting Data'!I2:I93564,\"26??\",'Accounting Data'!J2:J93564,\"63??\")","v":0},{"$f":"SUMIFS('Accounting Data'!C2:C93564,'Accounting Data'!E2:E93564,\"8??\",'Accounting Data'!H2:H93564,\"7??\",'Accounting Data'!I2:I93564,\"26??\",'Accounting Data'!J2:J93564,\"64??\")+SUMIFS('Accounting Data'!C2:C93564,'Accounting Data'!E2:E93564,\"8??\",'Accounting Data'!H2:H93564,\"8??\",'Accounting Data'!I2:I93564,\"26??\",'Accounting Data'!J2:J93564,\"64??\")+SUMIFS('Accounting Data'!C2:C93564,'Accounting Data'!E2:E93564,\"8??\",'Accounting Data'!H2:H93564,\"9??\",'Accounting Data'!I2:I93564,\"26??\",'Accounting Data'!J2:J93564,\"64??\")","v":0},{"$f":"SUMIFS('Accounting Data'!C2:C93564,'Accounting Data'!E2:E93564,\"8??\",'Accounting Data'!H2:H93564,\"7??\",'Accounting Data'!I2:I93564,\"26??\",'Accounting Data'!J2:J93564,\"65??\")+SUMIFS('Accounting Data'!C2:C93564,'Accounting Data'!E2:E93564,\"8??\",'Accounting Data'!H2:H93564,\"8??\",'Accounting Data'!I2:I93564,\"26??\",'Accounting Data'!J2:J93564,\"65??\")+SUMIFS('Accounting Data'!C2:C93564,'Accounting Data'!E2:E93564,\"8??\",'Accounting Data'!H2:H93564,\"9??\",'Accounting Data'!I2:I93564,\"26??\",'Accounting Data'!J2:J93564,\"65??\")","v":0},{"$f":"SUMIFS('Accounting Data'!C2:C93564,'Accounting Data'!E2:E93564,\"9??\",'Accounting Data'!H2:H93564,\"7??\",'Accounting Data'!I2:I93564,\"26??\",'Accounting Data'!J2:J93564,\"63??\")+SUMIFS('Accounting Data'!C2:C93564,'Accounting Data'!E2:E93564,\"9??\",'Accounting Data'!H2:H93564,\"8??\",'Accounting Data'!I2:I93564,\"26??\",'Accounting Data'!J2:J93564,\"63??\")+SUMIFS('Accounting Data'!C2:C93564,'Accounting Data'!E2:E93564,\"9??\",'Accounting Data'!H2:H93564,\"9??\",'Accounting Data'!I2:I93564,\"26??\",'Accounting Data'!J2:J93564,\"63??\")","v":0},{"$f":"SUMIFS('Accounting Data'!C2:C93564,'Accounting Data'!E2:E93564,\"9??\",'Accounting Data'!H2:H93564,\"7??\",'Accounting Data'!I2:I93564,\"26??\",'Accounting Data'!J2:J93564,\"64??\")+SUMIFS('Accounting Data'!C2:C93564,'Accounting Data'!E2:E93564,\"9??\",'Accounting Data'!H2:H93564,\"8??\",'Accounting Data'!I2:I93564,\"26??\",'Accounting Data'!J2:J93564,\"64??\")+SUMIFS('Accounting Data'!C2:C93564,'Accounting Data'!E2:E93564,\"9??\",'Accounting Data'!H2:H93564,\"9??\",'Accounting Data'!I2:I93564,\"26??\",'Accounting Data'!J2:J93564,\"64??\")","v":0},{"$f":"SUMIFS('Accounting Data'!C2:C93564,'Accounting Data'!E2:E93564,\"9??\",'Accounting Data'!H2:H93564,\"7??\",'Accounting Data'!I2:I93564,\"26??\",'Accounting Data'!J2:J93564,\"65??\")+SUMIFS('Accounting Data'!C2:C93564,'Accounting Data'!E2:E93564,\"9??\",'Accounting Data'!H2:H93564,\"8??\",'Accounting Data'!I2:I93564,\"26??\",'Accounting Data'!J2:J93564,\"65??\")+SUMIFS('Accounting Data'!C2:C93564,'Accounting Data'!E2:E93564,\"9??\",'Accounting Data'!H2:H93564,\"9??\",'Accounting Data'!I2:I93564,\"26??\",'Accounting Data'!J2:J93564,\"65??\")","v":0},null,2600,{"$f":"SUMIFS('Accounting Data'!C2:C93564,'Accounting Data'!I2:I93564,\"26??\",'Accounting Data'!J2:J93564,\"66??\")","v":1012820},{"$f":"SUMIFS('Accounting Data'!$C$2:$C$93564,'Accounting Data'!$E$2:$E$93564,\"575\",'Accounting Data'!$I$2:$I$93564,\"26??\",'Accounting Data'!$J$2:$J$93564,\"66??\")+SUMIFS('Accounting Data'!$C$2:$C$93564,'Accounting Data'!$E$2:$E$93564,\"8??\",'Accounting Data'!$I$2:$I$93564,\"26??\",'Accounting Data'!$J$2:$J$93564,\"66??\")+SUMIFS('Accounting Data'!$C$2:$C$93564,'Accounting Data'!$E$2:$E$93564,\"9??\",'Accounting Data'!$I$2:$I$93564,\"26??\",'Accounting Data'!$J$2:$J$93564,\"66??\")","v":0},{"$f":"SUMIFS('Accounting Data'!$C$2:$C$93564,'Accounting Data'!$H$2:$H$93564,\"7??\",'Accounting Data'!$I$2:$I$93564,\"26??\",'Accounting Data'!$J$2:$J$93564,\"66??\")+SUMIFS('Accounting Data'!$C$2:$C$93564,'Accounting Data'!$H$2:$H$93564,\"8??\",'Accounting Data'!$I$2:$I$93564,\"26??\",'Accounting Data'!$J$2:$J$93564,\"66??\")+SUMIFS('Accounting Data'!$C$2:$C$93564,'Accounting Data'!$H$2:$H$93564,\"9??\",'Accounting Data'!$I$2:$I$93564,\"26??\",'Accounting Data'!$J$2:$J$93564,\"66??\")","v":0},{"$f":"SUMIFS('Accounting Data'!$C$2:$C$93564,'Accounting Data'!$E$2:$E$93564,\"575\",'Accounting Data'!$H$2:$H$93564,\"7??\",'Accounting Data'!$I$2:$I$93564,\"26??\",'Accounting Data'!$J$2:$J$93564,\"66??\")+SUMIFS('Accounting Data'!$C$2:$C$93564,'Accounting Data'!$E$2:$E$93564,\"575\",'Accounting Data'!$H$2:$H$93564,\"8??\",'Accounting Data'!$I$2:$I$93564,\"26??\",'Accounting Data'!$J$2:$J$93564,\"66??\")+SUMIFS('Accounting Data'!$C$2:$C$93564,'Accounting Data'!$E$2:$E$93564,\"575\",'Accounting Data'!$H$2:$H$93564,\"9??\",'Accounting Data'!$I$2:$I$93564,\"26??\",'Accounting Data'!$J$2:$J$93564,\"66??\")","v":0},{"$f":"SUMIFS('Accounting Data'!$C$2:$C$93564,'Accounting Data'!$E$2:$E$93564,\"8??\",'Accounting Data'!$H$2:$H$93564,\"7??\",'Accounting Data'!$I$2:$I$93564,\"26??\",'Accounting Data'!$J$2:$J$93564,\"66??\")+SUMIFS('Accounting Data'!$C$2:$C$93564,'Accounting Data'!$E$2:$E$93564,\"8??\",'Accounting Data'!$H$2:$H$93564,\"8??\",'Accounting Data'!$I$2:$I$93564,\"26??\",'Accounting Data'!$J$2:$J$93564,\"66??\")+SUMIFS('Accounting Data'!$C$2:$C$93564,'Accounting Data'!$E$2:$E$93564,\"8??\",'Accounting Data'!$H$2:$H$93564,\"9??\",'Accounting Data'!$I$2:$I$93564,\"26??\",'Accounting Data'!$J$2:$J$93564,\"66??\")","v":0},{"$f":"SUMIFS('Accounting Data'!$C$2:$C$93564,'Accounting Data'!$E$2:$E$93564,\"9??\",'Accounting Data'!$H$2:$H$93564,\"7??\",'Accounting Data'!$I$2:$I$93564,\"26??\",'Accounting Data'!$J$2:$J$93564,\"66??\")+SUMIFS('Accounting Data'!$C$2:$C$93564,'Accounting Data'!$E$2:$E$93564,\"9??\",'Accounting Data'!$H$2:$H$93564,\"8??\",'Accounting Data'!$I$2:$I$93564,\"26??\",'Accounting Data'!$J$2:$J$93564,\"66??\")+SUMIFS('Accounting Data'!$C$2:$C$93564,'Accounting Data'!$E$2:$E$93564,\"9??\",'Accounting Data'!$H$2:$H$93564,\"9??\",'Accounting Data'!$I$2:$I$93564,\"26??\",'Accounting Data'!$J$2:$J$93564,\"66??\")","v":0},null,2600,{"$f":"SUMIFS('Accounting Data'!C2:C93564,'Accounting Data'!I2:I93564,\"26??\",'Accounting Data'!J2:J93564,\"67??\")","v":82406},{"$f":"SUMIFS('Accounting Data'!$C$2:$C$93564,'Accounting Data'!$E$2:$E$93564,\"575\",'Accounting Data'!$I$2:$I$93564,\"26??\",'Accounting Data'!$J$2:$J$93564,\"67??\")+SUMIFS('Accounting Data'!$C$2:$C$93564,'Accounting Data'!$E$2:$E$93564,\"8??\",'Accounting Data'!$I$2:$I$93564,\"26??\",'Accounting Data'!$J$2:$J$93564,\"67??\")+SUMIFS('Accounting Data'!$C$2:$C$93564,'Accounting Data'!$E$2:$E$93564,\"9??\",'Accounting Data'!$I$2:$I$93564,\"26??\",'Accounting Data'!$J$2:$J$93564,\"67??\")","v":0},{"$f":"SUMIFS('Accounting Data'!$C$2:$C$93564,'Accounting Data'!$H$2:$H$93564,\"7??\",'Accounting Data'!$I$2:$I$93564,\"26??\",'Accounting Data'!$J$2:$J$93564,\"67??\")+SUMIFS('Accounting Data'!$C$2:$C$93564,'Accounting Data'!$H$2:$H$93564,\"8??\",'Accounting Data'!$I$2:$I$93564,\"26??\",'Accounting Data'!$J$2:$J$93564,\"67??\")+SUMIFS('Accounting Data'!$C$2:$C$93564,'Accounting Data'!$H$2:$H$93564,\"9??\",'Accounting Data'!$I$2:$I$93564,\"26??\",'Accounting Data'!$J$2:$J$93564,\"67??\")","v":0},{"$f":"SUMIFS('Accounting Data'!$C$2:$C$93564,'Accounting Data'!$E$2:$E$93564,\"575\",'Accounting Data'!$H$2:$H$93564,\"7??\",'Accounting Data'!$I$2:$I$93564,\"26??\",'Accounting Data'!$J$2:$J$93564,\"67??\")+SUMIFS('Accounting Data'!$C$2:$C$93564,'Accounting Data'!$E$2:$E$93564,\"575\",'Accounting Data'!$H$2:$H$93564,\"8??\",'Accounting Data'!$I$2:$I$93564,\"26??\",'Accounting Data'!$J$2:$J$93564,\"67??\")+SUMIFS('Accounting Data'!$C$2:$C$93564,'Accounting Data'!$E$2:$E$93564,\"575\",'Accounting Data'!$H$2:$H$93564,\"9??\",'Accounting Data'!$I$2:$I$93564,\"26??\",'Accounting Data'!$J$2:$J$93564,\"67??\")","v":0},{"$f":"SUMIFS('Accounting Data'!$C$2:$C$93564,'Accounting Data'!$E$2:$E$93564,\"8??\",'Accounting Data'!$H$2:$H$93564,\"7??\",'Accounting Data'!$I$2:$I$93564,\"26??\",'Accounting Data'!$J$2:$J$93564,\"67??\")+SUMIFS('Accounting Data'!$C$2:$C$93564,'Accounting Data'!$E$2:$E$93564,\"8??\",'Accounting Data'!$H$2:$H$93564,\"8??\",'Accounting Data'!$I$2:$I$93564,\"26??\",'Accounting Data'!$J$2:$J$93564,\"67??\")+SUMIFS('Accounting Data'!$C$2:$C$93564,'Accounting Data'!$E$2:$E$93564,\"8??\",'Accounting Data'!$H$2:$H$93564,\"9??\",'Accounting Data'!$I$2:$I$93564,\"26??\",'Accounting Data'!$J$2:$J$93564,\"67??\")","v":0},{"$f":"SUMIFS('Accounting Data'!$C$2:$C$93564,'Accounting Data'!$E$2:$E$93564,\"9??\",'Accounting Data'!$H$2:$H$93564,\"7??\",'Accounting Data'!$I$2:$I$93564,\"26??\",'Accounting Data'!$J$2:$J$93564,\"67??\")+SUMIFS('Accounting Data'!$C$2:$C$93564,'Accounting Data'!$E$2:$E$93564,\"9??\",'Accounting Data'!$H$2:$H$93564,\"8??\",'Accounting Data'!$I$2:$I$93564,\"26??\",'Accounting Data'!$J$2:$J$93564,\"67??\")+SUMIFS('Accounting Data'!$C$2:$C$93564,'Accounting Data'!$E$2:$E$93564,\"9??\",'Accounting Data'!$H$2:$H$93564,\"9??\",'Accounting Data'!$I$2:$I$93564,\"26??\",'Accounting Data'!$J$2:$J$93564,\"67??\")","v":0},null,2600,{"$f":"SUMIFS('Accounting Data'!C2:C93564,'Accounting Data'!I2:I93564,\"26??\",'Accounting Data'!J2:J93564,\"681?\")","v":500},{"$f":"SUMIFS('Accounting Data'!$C$2:$C$93564,'Accounting Data'!$E$2:$E$93564,\"575\",'Accounting Data'!$I$2:$I$93564,\"26??\",'Accounting Data'!$J$2:$J$93564,\"681?\")+SUMIFS('Accounting Data'!$C$2:$C$93564,'Accounting Data'!$E$2:$E$93564,\"8??\",'Accounting Data'!$I$2:$I$93564,\"26??\",'Accounting Data'!$J$2:$J$93564,\"681?\")+SUMIFS('Accounting Data'!$C$2:$C$93564,'Accounting Data'!$E$2:$E$93564,\"9??\",'Accounting Data'!$I$2:$I$93564,\"26??\",'Accounting Data'!$J$2:$J$93564,\"681?\")","v":0},{"$f":"SUMIFS('Accounting Data'!$C$2:$C$93564,'Accounting Data'!$H$2:$H$93564,\"7??\",'Accounting Data'!$I$2:$I$93564,\"26??\",'Accounting Data'!$J$2:$J$93564,\"681?\")+SUMIFS('Accounting Data'!$C$2:$C$93564,'Accounting Data'!$H$2:$H$93564,\"8??\",'Accounting Data'!$I$2:$I$93564,\"26??\",'Accounting Data'!$J$2:$J$93564,\"681?\")+SUMIFS('Accounting Data'!$C$2:$C$93564,'Accounting Data'!$H$2:$H$93564,\"9??\",'Accounting Data'!$I$2:$I$93564,\"26??\",'Accounting Data'!$J$2:$J$93564,\"681?\")","v":0},{"$f":"SUMIFS('Accounting Data'!$C$2:$C$93564,'Accounting Data'!$E$2:$E$93564,\"575\",'Accounting Data'!$H$2:$H$93564,\"7??\",'Accounting Data'!$I$2:$I$93564,\"26??\",'Accounting Data'!$J$2:$J$93564,\"681?\")+SUMIFS('Accounting Data'!$C$2:$C$93564,'Accounting Data'!$E$2:$E$93564,\"575\",'Accounting Data'!$H$2:$H$93564,\"8??\",'Accounting Data'!$I$2:$I$93564,\"26??\",'Accounting Data'!$J$2:$J$93564,\"681?\")+SUMIFS('Accounting Data'!$C$2:$C$93564,'Accounting Data'!$E$2:$E$93564,\"575\",'Accounting Data'!$H$2:$H$93564,\"9??\",'Accounting Data'!$I$2:$I$93564,\"26??\",'Accounting Data'!$J$2:$J$93564,\"681?\")","v":0},{"$f":"SUMIFS('Accounting Data'!$C$2:$C$93564,'Accounting Data'!$E$2:$E$93564,\"8??\",'Accounting Data'!$H$2:$H$93564,\"7??\",'Accounting Data'!$I$2:$I$93564,\"26??\",'Accounting Data'!$J$2:$J$93564,\"681?\")+SUMIFS('Accounting Data'!$C$2:$C$93564,'Accounting Data'!$E$2:$E$93564,\"8??\",'Accounting Data'!$H$2:$H$93564,\"8??\",'Accounting Data'!$I$2:$I$93564,\"26??\",'Accounting Data'!$J$2:$J$93564,\"681?\")+SUMIFS('Accounting Data'!$C$2:$C$93564,'Accounting Data'!$E$2:$E$93564,\"8??\",'Accounting Data'!$H$2:$H$93564,\"9??\",'Accounting Data'!$I$2:$I$93564,\"26??\",'Accounting Data'!$J$2:$J$93564,\"681?\")","v":0},{"$f":"SUMIFS('Accounting Data'!$C$2:$C$93564,'Accounting Data'!$E$2:$E$93564,\"9??\",'Accounting Data'!$H$2:$H$93564,\"7??\",'Accounting Data'!$I$2:$I$93564,\"26??\",'Accounting Data'!$J$2:$J$93564,\"681?\")+SUMIFS('Accounting Data'!$C$2:$C$93564,'Accounting Data'!$E$2:$E$93564,\"9??\",'Accounting Data'!$H$2:$H$93564,\"8??\",'Accounting Data'!$I$2:$I$93564,\"26??\",'Accounting Data'!$J$2:$J$93564,\"681?\")+SUMIFS('Accounting Data'!$C$2:$C$93564,'Accounting Data'!$E$2:$E$93564,\"9??\",'Accounting Data'!$H$2:$H$93564,\"9??\",'Accounting Data'!$I$2:$I$93564,\"26??\",'Accounting Data'!$J$2:$J$93564,\"681?\")","v":0},null,null,null,null,null,null,null,null,null,null,null,null,null,null,null,null,null,2600,{"$f":"SUM(SUMIFS('Accounting Data'!C2:C93564,'Accounting Data'!I2:I93564,\"26??\",'Accounting Data'!J2:J93564,{\"689?\",\"6885\"}))","v":0},{"$f":"SUM(SUMIFS('Accounting Data'!$C$2:$C$93564,'Accounting Data'!$E$2:$E$93564,\"575\",'Accounting Data'!$I$2:$I$93564,\"26??\",'Accounting Data'!$J$2:$J$93564,{\"689?\",\"6885\"}))+SUM(SUMIFS('Accounting Data'!$C$2:$C$93564,'Accounting Data'!$E$2:$E$93564,\"8??\",'Accounting Data'!$I$2:$I$93564,\"26??\",'Accounting Data'!$J$2:$J$93564,{\"689?\",\"6885\"}))+SUM(SUMIFS('Accounting Data'!$C$2:$C$93564,'Accounting Data'!$E$2:$E$93564,\"9??\",'Accounting Data'!$I$2:$I$93564,\"26??\",'Accounting Data'!$J$2:$J$93564,{\"689?\",\"6885\"}))","v":0},{"$f":"SUM(SUMIFS('Accounting Data'!$C$2:$C$93564,'Accounting Data'!$H$2:$H$93564,\"7??\",'Accounting Data'!$I$2:$I$93564,\"26??\",'Accounting Data'!$J$2:$J$93564,{\"689?\",\"6885\"}))+SUM(SUMIFS('Accounting Data'!$C$2:$C$93564,'Accounting Data'!$H$2:$H$93564,\"8??\",'Accounting Data'!$I$2:$I$93564,\"26??\",'Accounting Data'!$J$2:$J$93564,{\"689?\",\"6885\"}))+SUM(SUMIFS('Accounting Data'!$C$2:$C$93564,'Accounting Data'!$H$2:$H$93564,\"9??\",'Accounting Data'!$I$2:$I$93564,\"26??\",'Accounting Data'!$J$2:$J$93564,{\"689?\",\"6885\"}))","v":0},{"$f":"SUM(SUMIFS('Accounting Data'!$C$2:$C$93564,'Accounting Data'!$E$2:$E$93564,\"575\",'Accounting Data'!$H$2:$H$93564,\"7??\",'Accounting Data'!$I$2:$I$93564,\"26??\",'Accounting Data'!$J$2:$J$93564,{\"689?\",\"6885\"}))+SUM(SUMIFS('Accounting Data'!$C$2:$C$93564,'Accounting Data'!$E$2:$E$93564,\"575\",'Accounting Data'!$H$2:$H$93564,\"8??\",'Accounting Data'!$I$2:$I$93564,\"26??\",'Accounting Data'!$J$2:$J$93564,{\"689?\",\"6885\"}))+SUM(SUMIFS('Accounting Data'!$C$2:$C$93564,'Accounting Data'!$E$2:$E$93564,\"575\",'Accounting Data'!$H$2:$H$93564,\"9??\",'Accounting Data'!$I$2:$I$93564,\"26??\",'Accounting Data'!$J$2:$J$93564,{\"689?\",\"6885\"}))","v":0},{"$f":"SUM(SUMIFS('Accounting Data'!$C$2:$C$93564,'Accounting Data'!$E$2:$E$93564,\"8??\",'Accounting Data'!$H$2:$H$93564,\"7??\",'Accounting Data'!$I$2:$I$93564,\"26??\",'Accounting Data'!$J$2:$J$93564,{\"689?\",\"6885\"}))+SUM(SUMIFS('Accounting Data'!$C$2:$C$93564,'Accounting Data'!$E$2:$E$93564,\"8??\",'Accounting Data'!$H$2:$H$93564,\"8??\",'Accounting Data'!$I$2:$I$93564,\"26??\",'Accounting Data'!$J$2:$J$93564,{\"689?\",\"6885\"}))+SUM(SUMIFS('Accounting Data'!$C$2:$C$93564,'Accounting Data'!$E$2:$E$93564,\"8??\",'Accounting Data'!$H$2:$H$93564,\"9??\",'Accounting Data'!$I$2:$I$93564,\"26??\",'Accounting Data'!$J$2:$J$93564,{\"689?\",\"6885\"}))","v":0},{"$f":"SUM(SUMIFS('Accounting Data'!$C$2:$C$93564,'Accounting Data'!$E$2:$E$93564,\"9??\",'Accounting Data'!$H$2:$H$93564,\"7??\",'Accounting Data'!$I$2:$I$93564,\"26??\",'Accounting Data'!$J$2:$J$93564,{\"689?\",\"6885\"}))+SUM(SUMIFS('Accounting Data'!$C$2:$C$93564,'Accounting Data'!$E$2:$E$93564,\"9??\",'Accounting Data'!$H$2:$H$93564,\"8??\",'Accounting Data'!$I$2:$I$93564,\"26??\",'Accounting Data'!$J$2:$J$93564,{\"689?\",\"6885\"}))+SUM(SUMIFS('Accounting Data'!$C$2:$C$93564,'Accounting Data'!$E$2:$E$93564,\"9??\",'Accounting Data'!$H$2:$H$93564,\"9??\",'Accounting Data'!$I$2:$I$93564,\"26??\",'Accounting Data'!$J$2:$J$93564,{\"689?\",\"6885\"}))","v":0},null,2600,{"$f":"SUMIFS('Accounting Data'!$C$2:$C$93564,'Accounting Data'!$H$2:$H$93564,\"7??\",'Accounting Data'!$I$2:$I$93564,\"26??\",'Accounting Data'!$J$2:$J$93564,\"6???\")+SUMIFS('Accounting Data'!$C$2:$C$93564,'Accounting Data'!$H$2:$H$93564,\"8??\",'Accounting Data'!$I$2:$I$93564,\"26??\",'Accounting Data'!$J$2:$J$93564,\"6???\")+SUMIFS('Accounting Data'!$C$2:$C$93564,'Accounting Data'!$H$2:$H$93564,\"9??\",'Accounting Data'!$I$2:$I$93564,\"26??\",'Accounting Data'!$J$2:$J$93564,\"6???\")","v":0},{"$f":"SUMIFS('Accounting Data'!$C$2:$C$93564,'Accounting Data'!$H$2:$H$93564,\"7??\",'Accounting Data'!$I$2:$I$93564,\"26??\",'Accounting Data'!$J$2:$J$93564,\"69??\")+SUMIFS('Accounting Data'!$C$2:$C$93564,'Accounting Data'!$H$2:$H$93564,\"8??\",'Accounting Data'!$I$2:$I$93564,\"26??\",'Accounting Data'!$J$2:$J$93564,\"69??\")+SUMIFS('Accounting Data'!$C$2:$C$93564,'Accounting Data'!$H$2:$H$93564,\"9??\",'Accounting Data'!$I$2:$I$93564,\"26??\",'Accounting Data'!$J$2:$J$93564,\"69??\")","v":0},{"$f":"SUMIFS('Accounting Data'!$C$2:$C$93564,'Accounting Data'!$E$2:$E$93564,\"575\",'Accounting Data'!$H$2:$H$93564,\"7??\",'Accounting Data'!$I$2:$I$93564,\"26??\",'Accounting Data'!$J$2:$J$93564,\"6???\")+SUMIFS('Accounting Data'!$C$2:$C$93564,'Accounting Data'!$E$2:$E$93564,\"575\",'Accounting Data'!$H$2:$H$93564,\"8??\",'Accounting Data'!$I$2:$I$93564,\"26??\",'Accounting Data'!$J$2:$J$93564,\"6???\")+SUMIFS('Accounting Data'!$C$2:$C$93564,'Accounting Data'!$E$2:$E$93564,\"575\",'Accounting Data'!$H$2:$H$93564,\"9??\",'Accounting Data'!$I$2:$I$93564,\"26??\",'Accounting Data'!$J$2:$J$93564,\"6???\")","v":0},{"$f":"SUMIFS('Accounting Data'!$C$2:$C$93564,'Accounting Data'!$E$2:$E$93564,\"8??\",'Accounting Data'!$H$2:$H$93564,\"7??\",'Accounting Data'!$I$2:$I$93564,\"26??\",'Accounting Data'!$J$2:$J$93564,\"6???\")+SUMIFS('Accounting Data'!$C$2:$C$93564,'Accounting Data'!$E$2:$E$93564,\"8??\",'Accounting Data'!$H$2:$H$93564,\"8??\",'Accounting Data'!$I$2:$I$93564,\"26??\",'Accounting Data'!$J$2:$J$93564,\"6???\")+SUMIFS('Accounting Data'!$C$2:$C$93564,'Accounting Data'!$E$2:$E$93564,\"8??\",'Accounting Data'!$H$2:$H$93564,\"9??\",'Accounting Data'!$I$2:$I$93564,\"26??\",'Accounting Data'!$J$2:$J$93564,\"6???\")+SUMIFS('Accounting Data'!$C$2:$C$93564,'Accounting Data'!$E$2:$E$93564,\"9??\",'Accounting Data'!$H$2:$H$93564,\"7??\",'Accounting Data'!$I$2:$I$93564,\"26??\",'Accounting Data'!$J$2:$J$93564,\"6???\")+SUMIFS('Accounting Data'!$C$2:$C$93564,'Accounting Data'!$E$2:$E$93564,\"9??\",'Accounting Data'!$H$2:$H$93564,\"8??\",'Accounting Data'!$I$2:$I$93564,\"26??\",'Accounting Data'!$J$2:$J$93564,\"6???\")+SUMIFS('Accounting Data'!$C$2:$C$93564,'Accounting Data'!$E$2:$E$93564,\"9??\",'Accounting Data'!$H$2:$H$93564,\"9??\",'Accounting Data'!$I$2:$I$93564,\"26??\",'Accounting Data'!$J$2:$J$93564,\"6???\")","v":0},{"$f":"SUMIFS('Accounting Data'!$C$2:$C$93564,'Accounting Data'!$E$2:$E$93564,\"575\",'Accounting Data'!$H$2:$H$93564,\"7??\",'Accounting Data'!$I$2:$I$93564,\"26??\",'Accounting Data'!$J$2:$J$93564,\"69??\")+SUMIFS('Accounting Data'!$C$2:$C$93564,'Accounting Data'!$E$2:$E$93564,\"575\",'Accounting Data'!$H$2:$H$93564,\"8??\",'Accounting Data'!$I$2:$I$93564,\"26??\",'Accounting Data'!$J$2:$J$93564,\"69??\")+SUMIFS('Accounting Data'!$C$2:$C$93564,'Accounting Data'!$E$2:$E$93564,\"575\",'Accounting Data'!$H$2:$H$93564,\"9??\",'Accounting Data'!$I$2:$I$93564,\"26??\",'Accounting Data'!$J$2:$J$93564,\"69??\")","v":0},{"$f":"SUMIFS('Accounting Data'!$C$2:$C$93564,'Accounting Data'!$E$2:$E$93564,\"8??\",'Accounting Data'!$H$2:$H$93564,\"7??\",'Accounting Data'!$I$2:$I$93564,\"26??\",'Accounting Data'!$J$2:$J$93564,\"69??\")+SUMIFS('Accounting Data'!$C$2:$C$93564,'Accounting Data'!$E$2:$E$93564,\"8??\",'Accounting Data'!$H$2:$H$93564,\"8??\",'Accounting Data'!$I$2:$I$93564,\"26??\",'Accounting Data'!$J$2:$J$93564,\"69??\")+SUMIFS('Accounting Data'!$C$2:$C$93564,'Accounting Data'!$E$2:$E$93564,\"8??\",'Accounting Data'!$H$2:$H$93564,\"9??\",'Accounting Data'!$I$2:$I$93564,\"26??\",'Accounting Data'!$J$2:$J$93564,\"69??\")+SUMIFS('Accounting Data'!$C$2:$C$93564,'Accounting Data'!$E$2:$E$93564,\"9??\",'Accounting Data'!$H$2:$H$93564,\"7??\",'Accounting Data'!$I$2:$I$93564,\"26??\",'Accounting Data'!$J$2:$J$93564,\"69??\")+SUMIFS('Accounting Data'!$C$2:$C$93564,'Accounting Data'!$E$2:$E$93564,\"9??\",'Accounting Data'!$H$2:$H$93564,\"8??\",'Accounting Data'!$I$2:$I$93564,\"26??\",'Accounting Data'!$J$2:$J$93564,\"69??\")+SUMIFS('Accounting Data'!$C$2:$C$93564,'Accounting Data'!$E$2:$E$93564,\"9??\",'Accounting Data'!$H$2:$H$93564,\"9??\",'Accounting Data'!$I$2:$I$93564,\"26??\",'Accounting Data'!$J$2:$J$93564,\"69??\")","v":0}]
["3000 Operation of Noninstructional Services",null,null,null,null,null,null,null,null,null,null,null,null,null,null,"Impact aid revenues received that were intended to replace local tax revenues",null,null,"6100",{"$f":"SUMIFS('Accounting Data'!$C$2:$C$93564,'Accounting Data'!$E$2:$E$93564,\"378\",'Accounting Data'!$I$2:$I$93564,\"1???\",'Accounting Data'!$J$2:$J$93564,\"61??\")+SUMIFS('Accounting Data'!$C$2:$C$93564,'Accounting Data'!$E$2:$E$93564,\"378\",'Accounting Data'!$I$2:$I$93564,\"2???\",'Accounting Data'!$J$2:$J$93564,\"61??\")+SUMIFS('Accounting Data'!$C$2:$C$93564,'Accounting Data'!$E$2:$E$93564,\"378\",'Accounting Data'!$I$2:$I$93564,\"3???\",'Accounting Data'!$J$2:$J$93564,\"61??\")","v":0},{"$f":"IF($T$28=0,0,T19/$T$28)","v":0},{"$f":"$P$25*U19","v":0},{"$f":"IF($P$25>$T$28,T19,V19)","v":0},null,null,2700,{"$f":"SUMIFS('Accounting Data'!C2:C93564,'Accounting Data'!I2:I93564,\"27??\",'Accounting Data'!J2:J93564,\"61??\")","v":891707},{"$f":"SUMIFS('Accounting Data'!C2:C93564,'Accounting Data'!E2:E93564,\"575\",'Accounting Data'!I2:I93564,\"27??\",'Accounting Data'!J2:J93564,\"61??\")+SUMIFS('Accounting Data'!C2:C93564,'Accounting Data'!E2:E93564,\"8??\",'Accounting Data'!I2:I93564,\"27??\",'Accounting Data'!J2:J93564,\"61??\")+SUMIFS('Accounting Data'!C2:C93564,'Accounting Data'!E2:E93564,\"9??\",'Accounting Data'!I2:I93564,\"27??\",'Accounting Data'!J2:J93564,\"61??\")","v":0},{"$f":"SUMIFS('Accounting Data'!C2:C93564,'Accounting Data'!H2:H93564,\"7??\",'Accounting Data'!I2:I93564,\"27??\",'Accounting Data'!J2:J93564,\"61??\")+SUMIFS('Accounting Data'!C2:C93564,'Accounting Data'!H2:H93564,\"8??\",'Accounting Data'!I2:I93564,\"27??\",'Accounting Data'!J2:J93564,\"61??\")+SUMIFS('Accounting Data'!C2:C93564,'Accounting Data'!H2:H93564,\"9??\",'Accounting Data'!I2:I93564,\"27??\",'Accounting Data'!J2:J93564,\"61??\")","v":0},{"$f":"SUMIFS('Accounting Data'!C2:C93564,'Accounting Data'!E2:E93564,\"575\",'Accounting Data'!H2:H93564,\"7??\",'Accounting Data'!I2:I93564,\"27??\",'Accounting Data'!J2:J93564,\"61??\")+SUMIFS('Accounting Data'!C2:C93564,'Accounting Data'!E2:E93564,\"575\",'Accounting Data'!H2:H93564,\"8??\",'Accounting Data'!I2:I93564,\"27??\",'Accounting Data'!J2:J93564,\"61??\")+SUMIFS('Accounting Data'!C2:C93564,'Accounting Data'!E2:E93564,\"575\",'Accounting Data'!H2:H93564,\"9??\",'Accounting Data'!I2:I93564,\"27??\",'Accounting Data'!J2:J93564,\"61??\")","v":0},{"$f":"SUMIFS('Accounting Data'!C2:C93564,'Accounting Data'!E2:E93564,\"8??\",'Accounting Data'!H2:H93564,\"7??\",'Accounting Data'!I2:I93564,\"27??\",'Accounting Data'!J2:J93564,\"61??\")+SUMIFS('Accounting Data'!C2:C93564,'Accounting Data'!E2:E93564,\"8??\",'Accounting Data'!H2:H93564,\"8??\",'Accounting Data'!I2:I93564,\"27??\",'Accounting Data'!J2:J93564,\"61??\")+SUMIFS('Accounting Data'!C2:C93564,'Accounting Data'!E2:E93564,\"8??\",'Accounting Data'!H2:H93564,\"9??\",'Accounting Data'!I2:I93564,\"27??\",'Accounting Data'!J2:J93564,\"61??\")","v":0},{"$f":"SUMIFS('Accounting Data'!C2:C93564,'Accounting Data'!E2:E93564,\"9??\",'Accounting Data'!H2:H93564,\"7??\",'Accounting Data'!I2:I93564,\"27??\",'Accounting Data'!J2:J93564,\"61??\")+SUMIFS('Accounting Data'!C2:C93564,'Accounting Data'!E2:E93564,\"9??\",'Accounting Data'!H2:H93564,\"8??\",'Accounting Data'!I2:I93564,\"27??\",'Accounting Data'!J2:J93564,\"61??\")+SUMIFS('Accounting Data'!C2:C93564,'Accounting Data'!E2:E93564,\"9??\",'Accounting Data'!H2:H93564,\"9??\",'Accounting Data'!I2:I93564,\"27??\",'Accounting Data'!J2:J93564,\"61??\")","v":0},null,2700,{"$f":"SUMIFS('Accounting Data'!C2:C93564,'Accounting Data'!I2:I93564,\"27??\",'Accounting Data'!J2:J93564,\"62??\")","v":322950},{"$f":"SUMIFS('Accounting Data'!C2:C93564,'Accounting Data'!E2:E93564,\"575\",'Accounting Data'!I2:I93564,\"27??\",'Accounting Data'!J2:J93564,\"62??\")+SUMIFS('Accounting Data'!C2:C93564,'Accounting Data'!E2:E93564,\"8??\",'Accounting Data'!I2:I93564,\"27??\",'Accounting Data'!J2:J93564,\"62??\")+SUMIFS('Accounting Data'!C2:C93564,'Accounting Data'!E2:E93564,\"9??\",'Accounting Data'!I2:I93564,\"27??\",'Accounting Data'!J2:J93564,\"62??\")","v":0},{"$f":"SUMIFS('Accounting Data'!C2:C93564,'Accounting Data'!H2:H93564,\"7??\",'Accounting Data'!I2:I93564,\"27??\",'Accounting Data'!J2:J93564,\"62??\")+SUMIFS('Accounting Data'!C2:C93564,'Accounting Data'!H2:H93564,\"8??\",'Accounting Data'!I2:I93564,\"27??\",'Accounting Data'!J2:J93564,\"62??\")+SUMIFS('Accounting Data'!C2:C93564,'Accounting Data'!H2:H93564,\"9??\",'Accounting Data'!I2:I93564,\"27??\",'Accounting Data'!J2:J93564,\"62??\")","v":0},{"$f":"SUMIFS('Accounting Data'!C2:C93564,'Accounting Data'!E2:E93564,\"575\",'Accounting Data'!H2:H93564,\"7??\",'Accounting Data'!I2:I93564,\"27??\",'Accounting Data'!J2:J93564,\"62??\")+SUMIFS('Accounting Data'!C2:C93564,'Accounting Data'!E2:E93564,\"575\",'Accounting Data'!H2:H93564,\"8??\",'Accounting Data'!I2:I93564,\"27??\",'Accounting Data'!J2:J93564,\"62??\")+SUMIFS('Accounting Data'!C2:C93564,'Accounting Data'!E2:E93564,\"575\",'Accounting Data'!H2:H93564,\"9??\",'Accounting Data'!I2:I93564,\"27??\",'Accounting Data'!J2:J93564,\"62??\")","v":0},{"$f":"SUMIFS('Accounting Data'!C2:C93564,'Accounting Data'!E2:E93564,\"8??\",'Accounting Data'!H2:H93564,\"7??\",'Accounting Data'!I2:I93564,\"27??\",'Accounting Data'!J2:J93564,\"62??\")+SUMIFS('Accounting Data'!C2:C93564,'Accounting Data'!E2:E93564,\"8??\",'Accounting Data'!H2:H93564,\"8??\",'Accounting Data'!I2:I93564,\"27??\",'Accounting Data'!J2:J93564,\"62??\")+SUMIFS('Accounting Data'!C2:C93564,'Accounting Data'!E2:E93564,\"8??\",'Accounting Data'!H2:H93564,\"9??\",'Accounting Data'!I2:I93564,\"27??\",'Accounting Data'!J2:J93564,\"62??\")","v":0},{"$f":"SUMIFS('Accounting Data'!C2:C93564,'Accounting Data'!E2:E93564,\"9??\",'Accounting Data'!H2:H93564,\"7??\",'Accounting Data'!I2:I93564,\"27??\",'Accounting Data'!J2:J93564,\"62??\")+SUMIFS('Accounting Data'!C2:C93564,'Accounting Data'!E2:E93564,\"9??\",'Accounting Data'!H2:H93564,\"8??\",'Accounting Data'!I2:I93564,\"27??\",'Accounting Data'!J2:J93564,\"62??\")+SUMIFS('Accounting Data'!C2:C93564,'Accounting Data'!E2:E93564,\"9??\",'Accounting Data'!H2:H93564,\"9??\",'Accounting Data'!I2:I93564,\"27??\",'Accounting Data'!J2:J93564,\"62??\")","v":0},null,2700,{"$f":"SUMIFS('Accounting Data'!C2:C93564,'Accounting Data'!I2:I93564,\"27??\",'Accounting Data'!J2:J93564,\"63??\")+SUMIFS('Accounting Data'!C2:C93564,'Accounting Data'!I2:I93564,\"27??\",'Accounting Data'!J2:J93564,\"64??\")+SUMIFS('Accounting Data'!C2:C93564,'Accounting Data'!I2:I93564,\"27??\",'Accounting Data'!J2:J93564,\"65??\")","v":158066},{"$f":"SUMIFS('Accounting Data'!C2:C93564,'Accounting Data'!E2:E93564,\"575\",'Accounting Data'!I2:I93564,\"27??\",'Accounting Data'!J2:J93564,\"63??\")+SUMIFS('Accounting Data'!C2:C93564,'Accounting Data'!E2:E93564,\"8??\",'Accounting Data'!I2:I93564,\"27??\",'Accounting Data'!J2:J93564,\"63??\")+SUMIFS('Accounting Data'!C2:C93564,'Accounting Data'!E2:E93564,\"9??\",'Accounting Data'!I2:I93564,\"27??\",'Accounting Data'!J2:J93564,\"63??\")","v":0},{"$f":"SUMIFS('Accounting Data'!C2:C93564,'Accounting Data'!E2:E93564,\"575\",'Accounting Data'!I2:I93564,\"27??\",'Accounting Data'!J2:J93564,\"64??\")+SUMIFS('Accounting Data'!C2:C93564,'Accounting Data'!E2:E93564,\"8??\",'Accounting Data'!I2:I93564,\"27??\",'Accounting Data'!J2:J93564,\"64??\")+SUMIFS('Accounting Data'!C2:C93564,'Accounting Data'!E2:E93564,\"9??\",'Accounting Data'!I2:I93564,\"27??\",'Accounting Data'!J2:J93564,\"64??\")","v":0},{"$f":"SUMIFS('Accounting Data'!C2:C93564,'Accounting Data'!E2:E93564,\"575\",'Accounting Data'!I2:I93564,\"27??\",'Accounting Data'!J2:J93564,\"65??\")+SUMIFS('Accounting Data'!C2:C93564,'Accounting Data'!E2:E93564,\"8??\",'Accounting Data'!I2:I93564,\"27??\",'Accounting Data'!J2:J93564,\"65??\")+SUMIFS('Accounting Data'!C2:C93564,'Accounting Data'!E2:E93564,\"9??\",'Accounting Data'!I2:I93564,\"27??\",'Accounting Data'!J2:J93564,\"65??\")","v":0},{"$f":"SUMIFS('Accounting Data'!C2:C93564,'Accounting Data'!H2:H93564,\"7??\",'Accounting Data'!I2:I93564,\"27??\",'Accounting Data'!J2:J93564,\"63??\")+SUMIFS('Accounting Data'!C2:C93564,'Accounting Data'!H2:H93564,\"8??\",'Accounting Data'!I2:I93564,\"27??\",'Accounting Data'!J2:J93564,\"63??\")+SUMIFS('Accounting Data'!C2:C93564,'Accounting Data'!H2:H93564,\"9??\",'Accounting Data'!I2:I93564,\"27??\",'Accounting Data'!J2:J93564,\"63??\")+SUMIFS('Accounting Data'!C2:C93564,'Accounting Data'!H2:H93564,\"7??\",'Accounting Data'!I2:I93564,\"27??\",'Accounting Data'!J2:J93564,\"64??\")+SUMIFS('Accounting Data'!C2:C93564,'Accounting Data'!H2:H93564,\"8??\",'Accounting Data'!I2:I93564,\"27??\",'Accounting Data'!J2:J93564,\"64??\")+SUMIFS('Accounting Data'!C2:C93564,'Accounting Data'!H2:H93564,\"9??\",'Accounting Data'!I2:I93564,\"27??\",'Accounting Data'!J2:J93564,\"64??\")+SUMIFS('Accounting Data'!C2:C93564,'Accounting Data'!H2:H93564,\"7??\",'Accounting Data'!I2:I93564,\"27??\",'Accounting Data'!J2:J93564,\"65??\")+SUMIFS('Accounting Data'!C2:C93564,'Accounting Data'!H2:H93564,\"8??\",'Accounting Data'!I2:I93564,\"27??\",'Accounting Data'!J2:J93564,\"65??\")+SUMIFS('Accounting Data'!C2:C93564,'Accounting Data'!H2:H93564,\"9??\",'Accounting Data'!I2:I93564,\"27??\",'Accounting Data'!J2:J93564,\"65??\")","v":0},{"$f":"SUMIFS('Accounting Data'!C2:C93564,'Accounting Data'!E2:E93564,\"575\",'Accounting Data'!H2:H93564,\"7??\",'Accounting Data'!I2:I93564,\"27??\",'Accounting Data'!J2:J93564,\"63??\")+SUMIFS('Accounting Data'!C2:C93564,'Accounting Data'!E2:E93564,\"575\",'Accounting Data'!H2:H93564,\"8??\",'Accounting Data'!I2:I93564,\"27??\",'Accounting Data'!J2:J93564,\"63??\")+SUMIFS('Accounting Data'!C2:C93564,'Accounting Data'!E2:E93564,\"575\",'Accounting Data'!H2:H93564,\"9??\",'Accounting Data'!I2:I93564,\"27??\",'Accounting Data'!J2:J93564,\"63??\")","v":0},{"$f":"SUMIFS('Accounting Data'!C2:C93564,'Accounting Data'!E2:E93564,\"575\",'Accounting Data'!H2:H93564,\"7??\",'Accounting Data'!I2:I93564,\"27??\",'Accounting Data'!J2:J93564,\"64??\")+SUMIFS('Accounting Data'!C2:C93564,'Accounting Data'!E2:E93564,\"575\",'Accounting Data'!H2:H93564,\"8??\",'Accounting Data'!I2:I93564,\"27??\",'Accounting Data'!J2:J93564,\"64??\")+SUMIFS('Accounting Data'!C2:C93564,'Accounting Data'!E2:E93564,\"575\",'Accounting Data'!H2:H93564,\"9??\",'Accounting Data'!I2:I93564,\"27??\",'Accounting Data'!J2:J93564,\"64??\")","v":0},{"$f":"SUMIFS('Accounting Data'!C2:C93564,'Accounting Data'!E2:E93564,\"575\",'Accounting Data'!H2:H93564,\"7??\",'Accounting Data'!I2:I93564,\"27??\",'Accounting Data'!J2:J93564,\"65??\")+SUMIFS('Accounting Data'!C2:C93564,'Accounting Data'!E2:E93564,\"575\",'Accounting Data'!H2:H93564,\"8??\",'Accounting Data'!I2:I93564,\"27??\",'Accounting Data'!J2:J93564,\"65??\")+SUMIFS('Accounting Data'!C2:C93564,'Accounting Data'!E2:E93564,\"575\",'Accounting Data'!H2:H93564,\"9??\",'Accounting Data'!I2:I93564,\"27??\",'Accounting Data'!J2:J93564,\"65??\")","v":0},{"$f":"SUMIFS('Accounting Data'!C2:C93564,'Accounting Data'!E2:E93564,\"8??\",'Accounting Data'!H2:H93564,\"7??\",'Accounting Data'!I2:I93564,\"27??\",'Accounting Data'!J2:J93564,\"63??\")+SUMIFS('Accounting Data'!C2:C93564,'Accounting Data'!E2:E93564,\"8??\",'Accounting Data'!H2:H93564,\"8??\",'Accounting Data'!I2:I93564,\"27??\",'Accounting Data'!J2:J93564,\"63??\")+SUMIFS('Accounting Data'!C2:C93564,'Accounting Data'!E2:E93564,\"8??\",'Accounting Data'!H2:H93564,\"9??\",'Accounting Data'!I2:I93564,\"27??\",'Accounting Data'!J2:J93564,\"63??\")","v":0},{"$f":"SUMIFS('Accounting Data'!C2:C93564,'Accounting Data'!E2:E93564,\"8??\",'Accounting Data'!H2:H93564,\"7??\",'Accounting Data'!I2:I93564,\"27??\",'Accounting Data'!J2:J93564,\"64??\")+SUMIFS('Accounting Data'!C2:C93564,'Accounting Data'!E2:E93564,\"8??\",'Accounting Data'!H2:H93564,\"8??\",'Accounting Data'!I2:I93564,\"27??\",'Accounting Data'!J2:J93564,\"64??\")+SUMIFS('Accounting Data'!C2:C93564,'Accounting Data'!E2:E93564,\"8??\",'Accounting Data'!H2:H93564,\"9??\",'Accounting Data'!I2:I93564,\"27??\",'Accounting Data'!J2:J93564,\"64??\")","v":0},{"$f":"SUMIFS('Accounting Data'!C2:C93564,'Accounting Data'!E2:E93564,\"8??\",'Accounting Data'!H2:H93564,\"7??\",'Accounting Data'!I2:I93564,\"27??\",'Accounting Data'!J2:J93564,\"65??\")+SUMIFS('Accounting Data'!C2:C93564,'Accounting Data'!E2:E93564,\"8??\",'Accounting Data'!H2:H93564,\"8??\",'Accounting Data'!I2:I93564,\"27??\",'Accounting Data'!J2:J93564,\"65??\")+SUMIFS('Accounting Data'!C2:C93564,'Accounting Data'!E2:E93564,\"8??\",'Accounting Data'!H2:H93564,\"9??\",'Accounting Data'!I2:I93564,\"27??\",'Accounting Data'!J2:J93564,\"65??\")","v":0},{"$f":"SUMIFS('Accounting Data'!C2:C93564,'Accounting Data'!E2:E93564,\"9??\",'Accounting Data'!H2:H93564,\"7??\",'Accounting Data'!I2:I93564,\"27??\",'Accounting Data'!J2:J93564,\"63??\")+SUMIFS('Accounting Data'!C2:C93564,'Accounting Data'!E2:E93564,\"9??\",'Accounting Data'!H2:H93564,\"8??\",'Accounting Data'!I2:I93564,\"27??\",'Accounting Data'!J2:J93564,\"63??\")+SUMIFS('Accounting Data'!C2:C93564,'Accounting Data'!E2:E93564,\"9??\",'Accounting Data'!H2:H93564,\"9??\",'Accounting Data'!I2:I93564,\"27??\",'Accounting Data'!J2:J93564,\"63??\")","v":0},{"$f":"SUMIFS('Accounting Data'!C2:C93564,'Accounting Data'!E2:E93564,\"9??\",'Accounting Data'!H2:H93564,\"7??\",'Accounting Data'!I2:I93564,\"27??\",'Accounting Data'!J2:J93564,\"64??\")+SUMIFS('Accounting Data'!C2:C93564,'Accounting Data'!E2:E93564,\"9??\",'Accounting Data'!H2:H93564,\"8??\",'Accounting Data'!I2:I93564,\"27??\",'Accounting Data'!J2:J93564,\"64??\")+SUMIFS('Accounting Data'!C2:C93564,'Accounting Data'!E2:E93564,\"9??\",'Accounting Data'!H2:H93564,\"9??\",'Accounting Data'!I2:I93564,\"27??\",'Accounting Data'!J2:J93564,\"64??\")","v":0},{"$f":"SUMIFS('Accounting Data'!C2:C93564,'Accounting Data'!E2:E93564,\"9??\",'Accounting Data'!H2:H93564,\"7??\",'Accounting Data'!I2:I93564,\"27??\",'Accounting Data'!J2:J93564,\"65??\")+SUMIFS('Accounting Data'!C2:C93564,'Accounting Data'!E2:E93564,\"9??\",'Accounting Data'!H2:H93564,\"8??\",'Accounting Data'!I2:I93564,\"27??\",'Accounting Data'!J2:J93564,\"65??\")+SUMIFS('Accounting Data'!C2:C93564,'Accounting Data'!E2:E93564,\"9??\",'Accounting Data'!H2:H93564,\"9??\",'Accounting Data'!I2:I93564,\"27??\",'Accounting Data'!J2:J93564,\"65??\")","v":0},null,2700,{"$f":"SUMIFS('Accounting Data'!C2:C93564,'Accounting Data'!I2:I93564,\"27??\",'Accounting Data'!J2:J93564,\"66??\")","v":21083},{"$f":"SUMIFS('Accounting Data'!$C$2:$C$93564,'Accounting Data'!$E$2:$E$93564,\"575\",'Accounting Data'!$I$2:$I$93564,\"27??\",'Accounting Data'!$J$2:$J$93564,\"66??\")+SUMIFS('Accounting Data'!$C$2:$C$93564,'Accounting Data'!$E$2:$E$93564,\"8??\",'Accounting Data'!$I$2:$I$93564,\"27??\",'Accounting Data'!$J$2:$J$93564,\"66??\")+SUMIFS('Accounting Data'!$C$2:$C$93564,'Accounting Data'!$E$2:$E$93564,\"9??\",'Accounting Data'!$I$2:$I$93564,\"27??\",'Accounting Data'!$J$2:$J$93564,\"66??\")","v":0},{"$f":"SUMIFS('Accounting Data'!$C$2:$C$93564,'Accounting Data'!$H$2:$H$93564,\"7??\",'Accounting Data'!$I$2:$I$93564,\"27??\",'Accounting Data'!$J$2:$J$93564,\"66??\")+SUMIFS('Accounting Data'!$C$2:$C$93564,'Accounting Data'!$H$2:$H$93564,\"8??\",'Accounting Data'!$I$2:$I$93564,\"27??\",'Accounting Data'!$J$2:$J$93564,\"66??\")+SUMIFS('Accounting Data'!$C$2:$C$93564,'Accounting Data'!$H$2:$H$93564,\"9??\",'Accounting Data'!$I$2:$I$93564,\"27??\",'Accounting Data'!$J$2:$J$93564,\"66??\")","v":0},{"$f":"SUMIFS('Accounting Data'!$C$2:$C$93564,'Accounting Data'!$E$2:$E$93564,\"575\",'Accounting Data'!$H$2:$H$93564,\"7??\",'Accounting Data'!$I$2:$I$93564,\"27??\",'Accounting Data'!$J$2:$J$93564,\"66??\")+SUMIFS('Accounting Data'!$C$2:$C$93564,'Accounting Data'!$E$2:$E$93564,\"575\",'Accounting Data'!$H$2:$H$93564,\"8??\",'Accounting Data'!$I$2:$I$93564,\"27??\",'Accounting Data'!$J$2:$J$93564,\"66??\")+SUMIFS('Accounting Data'!$C$2:$C$93564,'Accounting Data'!$E$2:$E$93564,\"575\",'Accounting Data'!$H$2:$H$93564,\"9??\",'Accounting Data'!$I$2:$I$93564,\"27??\",'Accounting Data'!$J$2:$J$93564,\"66??\")","v":0},{"$f":"SUMIFS('Accounting Data'!$C$2:$C$93564,'Accounting Data'!$E$2:$E$93564,\"8??\",'Accounting Data'!$H$2:$H$93564,\"7??\",'Accounting Data'!$I$2:$I$93564,\"27??\",'Accounting Data'!$J$2:$J$93564,\"66??\")+SUMIFS('Accounting Data'!$C$2:$C$93564,'Accounting Data'!$E$2:$E$93564,\"8??\",'Accounting Data'!$H$2:$H$93564,\"8??\",'Accounting Data'!$I$2:$I$93564,\"27??\",'Accounting Data'!$J$2:$J$93564,\"66??\")+SUMIFS('Accounting Data'!$C$2:$C$93564,'Accounting Data'!$E$2:$E$93564,\"8??\",'Accounting Data'!$H$2:$H$93564,\"9??\",'Accounting Data'!$I$2:$I$93564,\"27??\",'Accounting Data'!$J$2:$J$93564,\"66??\")","v":0},{"$f":"SUMIFS('Accounting Data'!$C$2:$C$93564,'Accounting Data'!$E$2:$E$93564,\"9??\",'Accounting Data'!$H$2:$H$93564,\"7??\",'Accounting Data'!$I$2:$I$93564,\"27??\",'Accounting Data'!$J$2:$J$93564,\"66??\")+SUMIFS('Accounting Data'!$C$2:$C$93564,'Accounting Data'!$E$2:$E$93564,\"9??\",'Accounting Data'!$H$2:$H$93564,\"8??\",'Accounting Data'!$I$2:$I$93564,\"27??\",'Accounting Data'!$J$2:$J$93564,\"66??\")+SUMIFS('Accounting Data'!$C$2:$C$93564,'Accounting Data'!$E$2:$E$93564,\"9??\",'Accounting Data'!$H$2:$H$93564,\"9??\",'Accounting Data'!$I$2:$I$93564,\"27??\",'Accounting Data'!$J$2:$J$93564,\"66??\")","v":0},null,2700,{"$f":"SUMIFS('Accounting Data'!C2:C93564,'Accounting Data'!I2:I93564,\"27??\",'Accounting Data'!J2:J93564,\"67??\")","v":479000},{"$f":"SUMIFS('Accounting Data'!$C$2:$C$93564,'Accounting Data'!$E$2:$E$93564,\"575\",'Accounting Data'!$I$2:$I$93564,\"27??\",'Accounting Data'!$J$2:$J$93564,\"67??\")+SUMIFS('Accounting Data'!$C$2:$C$93564,'Accounting Data'!$E$2:$E$93564,\"8??\",'Accounting Data'!$I$2:$I$93564,\"27??\",'Accounting Data'!$J$2:$J$93564,\"67??\")+SUMIFS('Accounting Data'!$C$2:$C$93564,'Accounting Data'!$E$2:$E$93564,\"9??\",'Accounting Data'!$I$2:$I$93564,\"27??\",'Accounting Data'!$J$2:$J$93564,\"67??\")","v":0},{"$f":"SUMIFS('Accounting Data'!$C$2:$C$93564,'Accounting Data'!$H$2:$H$93564,\"7??\",'Accounting Data'!$I$2:$I$93564,\"27??\",'Accounting Data'!$J$2:$J$93564,\"67??\")+SUMIFS('Accounting Data'!$C$2:$C$93564,'Accounting Data'!$H$2:$H$93564,\"8??\",'Accounting Data'!$I$2:$I$93564,\"27??\",'Accounting Data'!$J$2:$J$93564,\"67??\")+SUMIFS('Accounting Data'!$C$2:$C$93564,'Accounting Data'!$H$2:$H$93564,\"9??\",'Accounting Data'!$I$2:$I$93564,\"27??\",'Accounting Data'!$J$2:$J$93564,\"67??\")","v":0},{"$f":"SUMIFS('Accounting Data'!$C$2:$C$93564,'Accounting Data'!$E$2:$E$93564,\"575\",'Accounting Data'!$H$2:$H$93564,\"7??\",'Accounting Data'!$I$2:$I$93564,\"27??\",'Accounting Data'!$J$2:$J$93564,\"67??\")+SUMIFS('Accounting Data'!$C$2:$C$93564,'Accounting Data'!$E$2:$E$93564,\"575\",'Accounting Data'!$H$2:$H$93564,\"8??\",'Accounting Data'!$I$2:$I$93564,\"27??\",'Accounting Data'!$J$2:$J$93564,\"67??\")+SUMIFS('Accounting Data'!$C$2:$C$93564,'Accounting Data'!$E$2:$E$93564,\"575\",'Accounting Data'!$H$2:$H$93564,\"9??\",'Accounting Data'!$I$2:$I$93564,\"27??\",'Accounting Data'!$J$2:$J$93564,\"67??\")","v":0},{"$f":"SUMIFS('Accounting Data'!$C$2:$C$93564,'Accounting Data'!$E$2:$E$93564,\"8??\",'Accounting Data'!$H$2:$H$93564,\"7??\",'Accounting Data'!$I$2:$I$93564,\"27??\",'Accounting Data'!$J$2:$J$93564,\"67??\")+SUMIFS('Accounting Data'!$C$2:$C$93564,'Accounting Data'!$E$2:$E$93564,\"8??\",'Accounting Data'!$H$2:$H$93564,\"8??\",'Accounting Data'!$I$2:$I$93564,\"27??\",'Accounting Data'!$J$2:$J$93564,\"67??\")+SUMIFS('Accounting Data'!$C$2:$C$93564,'Accounting Data'!$E$2:$E$93564,\"8??\",'Accounting Data'!$H$2:$H$93564,\"9??\",'Accounting Data'!$I$2:$I$93564,\"27??\",'Accounting Data'!$J$2:$J$93564,\"67??\")","v":0},{"$f":"SUMIFS('Accounting Data'!$C$2:$C$93564,'Accounting Data'!$E$2:$E$93564,\"9??\",'Accounting Data'!$H$2:$H$93564,\"7??\",'Accounting Data'!$I$2:$I$93564,\"27??\",'Accounting Data'!$J$2:$J$93564,\"67??\")+SUMIFS('Accounting Data'!$C$2:$C$93564,'Accounting Data'!$E$2:$E$93564,\"9??\",'Accounting Data'!$H$2:$H$93564,\"8??\",'Accounting Data'!$I$2:$I$93564,\"27??\",'Accounting Data'!$J$2:$J$93564,\"67??\")+SUMIFS('Accounting Data'!$C$2:$C$93564,'Accounting Data'!$E$2:$E$93564,\"9??\",'Accounting Data'!$H$2:$H$93564,\"9??\",'Accounting Data'!$I$2:$I$93564,\"27??\",'Accounting Data'!$J$2:$J$93564,\"67??\")","v":0},null,2700,{"$f":"SUMIFS('Accounting Data'!C2:C93564,'Accounting Data'!I2:I93564,\"27??\",'Accounting Data'!J2:J93564,\"681?\")","v":100},{"$f":"SUMIFS('Accounting Data'!$C$2:$C$93564,'Accounting Data'!$E$2:$E$93564,\"575\",'Accounting Data'!$I$2:$I$93564,\"27??\",'Accounting Data'!$J$2:$J$93564,\"681?\")+SUMIFS('Accounting Data'!$C$2:$C$93564,'Accounting Data'!$E$2:$E$93564,\"8??\",'Accounting Data'!$I$2:$I$93564,\"27??\",'Accounting Data'!$J$2:$J$93564,\"681?\")+SUMIFS('Accounting Data'!$C$2:$C$93564,'Accounting Data'!$E$2:$E$93564,\"9??\",'Accounting Data'!$I$2:$I$93564,\"27??\",'Accounting Data'!$J$2:$J$93564,\"681?\")","v":0},{"$f":"SUMIFS('Accounting Data'!$C$2:$C$93564,'Accounting Data'!$H$2:$H$93564,\"7??\",'Accounting Data'!$I$2:$I$93564,\"27??\",'Accounting Data'!$J$2:$J$93564,\"681?\")+SUMIFS('Accounting Data'!$C$2:$C$93564,'Accounting Data'!$H$2:$H$93564,\"8??\",'Accounting Data'!$I$2:$I$93564,\"27??\",'Accounting Data'!$J$2:$J$93564,\"681?\")+SUMIFS('Accounting Data'!$C$2:$C$93564,'Accounting Data'!$H$2:$H$93564,\"9??\",'Accounting Data'!$I$2:$I$93564,\"27??\",'Accounting Data'!$J$2:$J$93564,\"681?\")","v":0},{"$f":"SUMIFS('Accounting Data'!$C$2:$C$93564,'Accounting Data'!$E$2:$E$93564,\"575\",'Accounting Data'!$H$2:$H$93564,\"7??\",'Accounting Data'!$I$2:$I$93564,\"27??\",'Accounting Data'!$J$2:$J$93564,\"681?\")+SUMIFS('Accounting Data'!$C$2:$C$93564,'Accounting Data'!$E$2:$E$93564,\"575\",'Accounting Data'!$H$2:$H$93564,\"8??\",'Accounting Data'!$I$2:$I$93564,\"27??\",'Accounting Data'!$J$2:$J$93564,\"681?\")+SUMIFS('Accounting Data'!$C$2:$C$93564,'Accounting Data'!$E$2:$E$93564,\"575\",'Accounting Data'!$H$2:$H$93564,\"9??\",'Accounting Data'!$I$2:$I$93564,\"27??\",'Accounting Data'!$J$2:$J$93564,\"681?\")","v":0},{"$f":"SUMIFS('Accounting Data'!$C$2:$C$93564,'Accounting Data'!$E$2:$E$93564,\"8??\",'Accounting Data'!$H$2:$H$93564,\"7??\",'Accounting Data'!$I$2:$I$93564,\"27??\",'Accounting Data'!$J$2:$J$93564,\"681?\")+SUMIFS('Accounting Data'!$C$2:$C$93564,'Accounting Data'!$E$2:$E$93564,\"8??\",'Accounting Data'!$H$2:$H$93564,\"8??\",'Accounting Data'!$I$2:$I$93564,\"27??\",'Accounting Data'!$J$2:$J$93564,\"681?\")+SUMIFS('Accounting Data'!$C$2:$C$93564,'Accounting Data'!$E$2:$E$93564,\"8??\",'Accounting Data'!$H$2:$H$93564,\"9??\",'Accounting Data'!$I$2:$I$93564,\"27??\",'Accounting Data'!$J$2:$J$93564,\"681?\")","v":0},{"$f":"SUMIFS('Accounting Data'!$C$2:$C$93564,'Accounting Data'!$E$2:$E$93564,\"9??\",'Accounting Data'!$H$2:$H$93564,\"7??\",'Accounting Data'!$I$2:$I$93564,\"27??\",'Accounting Data'!$J$2:$J$93564,\"681?\")+SUMIFS('Accounting Data'!$C$2:$C$93564,'Accounting Data'!$E$2:$E$93564,\"9??\",'Accounting Data'!$H$2:$H$93564,\"8??\",'Accounting Data'!$I$2:$I$93564,\"27??\",'Accounting Data'!$J$2:$J$93564,\"681?\")+SUMIFS('Accounting Data'!$C$2:$C$93564,'Accounting Data'!$E$2:$E$93564,\"9??\",'Accounting Data'!$H$2:$H$93564,\"9??\",'Accounting Data'!$I$2:$I$93564,\"27??\",'Accounting Data'!$J$2:$J$93564,\"681?\")","v":0},null,null,null,null,null,null,null,null,null,null,null,null,null,null,null,null,null,2700,{"$f":"SUM(SUMIFS('Accounting Data'!C2:C93564,'Accounting Data'!I2:I93564,\"27??\",'Accounting Data'!J2:J93564,{\"689?\",\"6885\"}))","v":13455},{"$f":"SUM(SUMIFS('Accounting Data'!$C$2:$C$93564,'Accounting Data'!$E$2:$E$93564,\"575\",'Accounting Data'!$I$2:$I$93564,\"27??\",'Accounting Data'!$J$2:$J$93564,{\"689?\",\"6885\"}))+SUM(SUMIFS('Accounting Data'!$C$2:$C$93564,'Accounting Data'!$E$2:$E$93564,\"8??\",'Accounting Data'!$I$2:$I$93564,\"27??\",'Accounting Data'!$J$2:$J$93564,{\"689?\",\"6885\"}))+SUM(SUMIFS('Accounting Data'!$C$2:$C$93564,'Accounting Data'!$E$2:$E$93564,\"9??\",'Accounting Data'!$I$2:$I$93564,\"27??\",'Accounting Data'!$J$2:$J$93564,{\"689?\",\"6885\"}))","v":0},{"$f":"SUM(SUMIFS('Accounting Data'!$C$2:$C$93564,'Accounting Data'!$H$2:$H$93564,\"7??\",'Accounting Data'!$I$2:$I$93564,\"27??\",'Accounting Data'!$J$2:$J$93564,{\"689?\",\"6885\"}))+SUM(SUMIFS('Accounting Data'!$C$2:$C$93564,'Accounting Data'!$H$2:$H$93564,\"8??\",'Accounting Data'!$I$2:$I$93564,\"27??\",'Accounting Data'!$J$2:$J$93564,{\"689?\",\"6885\"}))+SUM(SUMIFS('Accounting Data'!$C$2:$C$93564,'Accounting Data'!$H$2:$H$93564,\"9??\",'Accounting Data'!$I$2:$I$93564,\"27??\",'Accounting Data'!$J$2:$J$93564,{\"689?\",\"6885\"}))","v":0},{"$f":"SUM(SUMIFS('Accounting Data'!$C$2:$C$93564,'Accounting Data'!$E$2:$E$93564,\"575\",'Accounting Data'!$H$2:$H$93564,\"7??\",'Accounting Data'!$I$2:$I$93564,\"27??\",'Accounting Data'!$J$2:$J$93564,{\"689?\",\"6885\"}))+SUM(SUMIFS('Accounting Data'!$C$2:$C$93564,'Accounting Data'!$E$2:$E$93564,\"575\",'Accounting Data'!$H$2:$H$93564,\"8??\",'Accounting Data'!$I$2:$I$93564,\"27??\",'Accounting Data'!$J$2:$J$93564,{\"689?\",\"6885\"}))+SUM(SUMIFS('Accounting Data'!$C$2:$C$93564,'Accounting Data'!$E$2:$E$93564,\"575\",'Accounting Data'!$H$2:$H$93564,\"9??\",'Accounting Data'!$I$2:$I$93564,\"27??\",'Accounting Data'!$J$2:$J$93564,{\"689?\",\"6885\"}))","v":0},{"$f":"SUM(SUMIFS('Accounting Data'!$C$2:$C$93564,'Accounting Data'!$E$2:$E$93564,\"8??\",'Accounting Data'!$H$2:$H$93564,\"7??\",'Accounting Data'!$I$2:$I$93564,\"27??\",'Accounting Data'!$J$2:$J$93564,{\"689?\",\"6885\"}))+SUM(SUMIFS('Accounting Data'!$C$2:$C$93564,'Accounting Data'!$E$2:$E$93564,\"8??\",'Accounting Data'!$H$2:$H$93564,\"8??\",'Accounting Data'!$I$2:$I$93564,\"27??\",'Accounting Data'!$J$2:$J$93564,{\"689?\",\"6885\"}))+SUM(SUMIFS('Accounting Data'!$C$2:$C$93564,'Accounting Data'!$E$2:$E$93564,\"8??\",'Accounting Data'!$H$2:$H$93564,\"9??\",'Accounting Data'!$I$2:$I$93564,\"27??\",'Accounting Data'!$J$2:$J$93564,{\"689?\",\"6885\"}))","v":0},{"$f":"SUM(SUMIFS('Accounting Data'!$C$2:$C$93564,'Accounting Data'!$E$2:$E$93564,\"9??\",'Accounting Data'!$H$2:$H$93564,\"7??\",'Accounting Data'!$I$2:$I$93564,\"27??\",'Accounting Data'!$J$2:$J$93564,{\"689?\",\"6885\"}))+SUM(SUMIFS('Accounting Data'!$C$2:$C$93564,'Accounting Data'!$E$2:$E$93564,\"9??\",'Accounting Data'!$H$2:$H$93564,\"8??\",'Accounting Data'!$I$2:$I$93564,\"27??\",'Accounting Data'!$J$2:$J$93564,{\"689?\",\"6885\"}))+SUM(SUMIFS('Accounting Data'!$C$2:$C$93564,'Accounting Data'!$E$2:$E$93564,\"9??\",'Accounting Data'!$H$2:$H$93564,\"9??\",'Accounting Data'!$I$2:$I$93564,\"27??\",'Accounting Data'!$J$2:$J$93564,{\"689?\",\"6885\"}))","v":0}]
["         3100 Food Service Operations","9.",{"$f":"(AA21-AB21-AC21)+(AD21+AE21+AF21)","v":832207},{"$f":"(AI21-AJ21-AK21)+(AL21+AM21+AN21)","v":321779},{"$f":"(AQ21-AR21-AS21-AT21-AU21)+(AV21+AW21+AX21+AY21+AZ21+BA21+BB21+BC21+BD21)","v":41583},{"$f":"(BG21-BH21-BI21)+(BJ21+BK21+BL21)","v":922658},{"$f":"(BO21-BP21-BQ21)+(BR21+BS21+BT21)","v":9894},{"$f":"(BW21-BX21-BY21)+(BZ21+CA21+CB21)","v":10409},null,null,null,{"$f":"(CU21-CV21-CW21)+(CX21+CY21+CZ21)","v":0},{"$f":"(DC20-DD20)-((DE20+DF20)-(DG20+DH20))","v":0},2138530,"9.",null,null,null,"6200",{"$f":"SUMIFS('Accounting Data'!$C$2:$C$93564,'Accounting Data'!$E$2:$E$93564,\"378\",'Accounting Data'!$I$2:$I$93564,\"1???\",'Accounting Data'!$J$2:$J$93564,\"62??\")+SUMIFS('Accounting Data'!$C$2:$C$93564,'Accounting Data'!$E$2:$E$93564,\"378\",'Accounting Data'!$I$2:$I$93564,\"2???\",'Accounting Data'!$J$2:$J$93564,\"62??\")+SUMIFS('Accounting Data'!$C$2:$C$93564,'Accounting Data'!$E$2:$E$93564,\"378\",'Accounting Data'!$I$2:$I$93564,\"3???\",'Accounting Data'!$J$2:$J$93564,\"62??\")","v":0},{"$f":"IF($T$28=0,0,T20/$T$28)","v":0},{"$f":"$P$25*U20","v":0},{"$f":"IF($P$25>$T$28,T20,V20)","v":0},null,null,null,null,null,null,null,null,null,null,null,null,null,null,null,null,null,null,null,null,null,null,null,null,null,null,null,null,null,null,null,null,null,null,null,null,null,null,null,null,null,null,null,null,null,null,null,null,null,null,null,null,null,null,null,null,null,null,"Object 6841, 6842 & 6843",null,null,null,null,null,null,null,null,null,null,null,null,null,null,null,null,null,null,null,null,null,null,null,3100,{"$f":"SUMIFS('Accounting Data'!$C$2:$C$93564,'Accounting Data'!$H$2:$H$93564,\"7??\",'Accounting Data'!$I$2:$I$93564,\"31??\",'Accounting Data'!$J$2:$J$93564,\"6???\")+SUMIFS('Accounting Data'!$C$2:$C$93564,'Accounting Data'!$H$2:$H$93564,\"8??\",'Accounting Data'!$I$2:$I$93564,\"31??\",'Accounting Data'!$J$2:$J$93564,\"6???\")+SUMIFS('Accounting Data'!$C$2:$C$93564,'Accounting Data'!$H$2:$H$93564,\"9??\",'Accounting Data'!$I$2:$I$93564,\"31??\",'Accounting Data'!$J$2:$J$93564,\"6???\")","v":0},{"$f":"SUMIFS('Accounting Data'!$C$2:$C$93564,'Accounting Data'!$H$2:$H$93564,\"7??\",'Accounting Data'!$I$2:$I$93564,\"31??\",'Accounting Data'!$J$2:$J$93564,\"69??\")+SUMIFS('Accounting Data'!$C$2:$C$93564,'Accounting Data'!$H$2:$H$93564,\"8??\",'Accounting Data'!$I$2:$I$93564,\"31??\",'Accounting Data'!$J$2:$J$93564,\"69??\")+SUMIFS('Accounting Data'!$C$2:$C$93564,'Accounting Data'!$H$2:$H$93564,\"9??\",'Accounting Data'!$I$2:$I$93564,\"31??\",'Accounting Data'!$J$2:$J$93564,\"69??\")","v":0},{"$f":"SUMIFS('Accounting Data'!$C$2:$C$93564,'Accounting Data'!$E$2:$E$93564,\"575\",'Accounting Data'!$H$2:$H$93564,\"7??\",'Accounting Data'!$I$2:$I$93564,\"31??\",'Accounting Data'!$J$2:$J$93564,\"6???\")+SUMIFS('Accounting Data'!$C$2:$C$93564,'Accounting Data'!$E$2:$E$93564,\"575\",'Accounting Data'!$H$2:$H$93564,\"8??\",'Accounting Data'!$I$2:$I$93564,\"31??\",'Accounting Data'!$J$2:$J$93564,\"6???\")+SUMIFS('Accounting Data'!$C$2:$C$93564,'Accounting Data'!$E$2:$E$93564,\"575\",'Accounting Data'!$H$2:$H$93564,\"9??\",'Accounting Data'!$I$2:$I$93564,\"31??\",'Accounting Data'!$J$2:$J$93564,\"6???\")","v":0},{"$f":"SUMIFS('Accounting Data'!$C$2:$C$93564,'Accounting Data'!$E$2:$E$93564,\"8??\",'Accounting Data'!$H$2:$H$93564,\"7??\",'Accounting Data'!$I$2:$I$93564,\"31??\",'Accounting Data'!$J$2:$J$93564,\"6???\")+SUMIFS('Accounting Data'!$C$2:$C$93564,'Accounting Data'!$E$2:$E$93564,\"8??\",'Accounting Data'!$H$2:$H$93564,\"8??\",'Accounting Data'!$I$2:$I$93564,\"31??\",'Accounting Data'!$J$2:$J$93564,\"6???\")+SUMIFS('Accounting Data'!$C$2:$C$93564,'Accounting Data'!$E$2:$E$93564,\"8??\",'Accounting Data'!$H$2:$H$93564,\"9??\",'Accounting Data'!$I$2:$I$93564,\"31??\",'Accounting Data'!$J$2:$J$93564,\"6???\")+SUMIFS('Accounting Data'!$C$2:$C$93564,'Accounting Data'!$E$2:$E$93564,\"9??\",'Accounting Data'!$H$2:$H$93564,\"7??\",'Accounting Data'!$I$2:$I$93564,\"31??\",'Accounting Data'!$J$2:$J$93564,\"6???\")+SUMIFS('Accounting Data'!$C$2:$C$93564,'Accounting Data'!$E$2:$E$93564,\"9??\",'Accounting Data'!$H$2:$H$93564,\"8??\",'Accounting Data'!$I$2:$I$93564,\"31??\",'Accounting Data'!$J$2:$J$93564,\"6???\")+SUMIFS('Accounting Data'!$C$2:$C$93564,'Accounting Data'!$E$2:$E$93564,\"9??\",'Accounting Data'!$H$2:$H$93564,\"9??\",'Accounting Data'!$I$2:$I$93564,\"31??\",'Accounting Data'!$J$2:$J$93564,\"6???\")","v":0},{"$f":"SUMIFS('Accounting Data'!$C$2:$C$93564,'Accounting Data'!$E$2:$E$93564,\"575\",'Accounting Data'!$H$2:$H$93564,\"7??\",'Accounting Data'!$I$2:$I$93564,\"31??\",'Accounting Data'!$J$2:$J$93564,\"69??\")+SUMIFS('Accounting Data'!$C$2:$C$93564,'Accounting Data'!$E$2:$E$93564,\"575\",'Accounting Data'!$H$2:$H$93564,\"8??\",'Accounting Data'!$I$2:$I$93564,\"31??\",'Accounting Data'!$J$2:$J$93564,\"69??\")+SUMIFS('Accounting Data'!$C$2:$C$93564,'Accounting Data'!$E$2:$E$93564,\"575\",'Accounting Data'!$H$2:$H$93564,\"9??\",'Accounting Data'!$I$2:$I$93564,\"31??\",'Accounting Data'!$J$2:$J$93564,\"69??\")","v":0},{"$f":"SUMIFS('Accounting Data'!$C$2:$C$93564,'Accounting Data'!$E$2:$E$93564,\"8??\",'Accounting Data'!$H$2:$H$93564,\"7??\",'Accounting Data'!$I$2:$I$93564,\"31??\",'Accounting Data'!$J$2:$J$93564,\"69??\")+SUMIFS('Accounting Data'!$C$2:$C$93564,'Accounting Data'!$E$2:$E$93564,\"8??\",'Accounting Data'!$H$2:$H$93564,\"8??\",'Accounting Data'!$I$2:$I$93564,\"31??\",'Accounting Data'!$J$2:$J$93564,\"69??\")+SUMIFS('Accounting Data'!$C$2:$C$93564,'Accounting Data'!$E$2:$E$93564,\"8??\",'Accounting Data'!$H$2:$H$93564,\"9??\",'Accounting Data'!$I$2:$I$93564,\"31??\",'Accounting Data'!$J$2:$J$93564,\"69??\")+SUMIFS('Accounting Data'!$C$2:$C$93564,'Accounting Data'!$E$2:$E$93564,\"9??\",'Accounting Data'!$H$2:$H$93564,\"7??\",'Accounting Data'!$I$2:$I$93564,\"31??\",'Accounting Data'!$J$2:$J$93564,\"69??\")+SUMIFS('Accounting Data'!$C$2:$C$93564,'Accounting Data'!$E$2:$E$93564,\"9??\",'Accounting Data'!$H$2:$H$93564,\"8??\",'Accounting Data'!$I$2:$I$93564,\"31??\",'Accounting Data'!$J$2:$J$93564,\"69??\")+SUMIFS('Accounting Data'!$C$2:$C$93564,'Accounting Data'!$E$2:$E$93564,\"9??\",'Accounting Data'!$H$2:$H$93564,\"9??\",'Accounting Data'!$I$2:$I$93564,\"31??\",'Accounting Data'!$J$2:$J$93564,\"69??\")","v":0}]
["         3200 Enterprise Operations","10.",{"$f":"(AA22-AB22-AC22)+(AD22+AE22+AF22)","v":0},{"$f":"(AI22-AJ22-AK22)+(AL22+AM22+AN22)","v":0},{"$f":"(AQ22-AR22-AS22-AT22-AU22)+(AV22+AW22+AX22+AY22+AZ22+BA22+BB22+BC22+BD22)","v":0},{"$f":"(BG22-BH22-BI22)+(BJ22+BK22+BL22)","v":0},{"$f":"(BO22-BP22-BQ22)+(BR22+BS22+BT22)","v":0},{"$f":"(BW22-BX22-BY22)+(BZ22+CA22+CB22)","v":0},null,null,null,{"$f":"(CU22-CV22-CW22)+(CX22+CY22+CZ22)","v":0},{"$f":"(DC21-DD21)-((DE21+DF21)-(DG21+DH21))","v":0},0,"10.",null,null,null,"6300",{"$f":"SUMIFS('Accounting Data'!$C$2:$C$93564,'Accounting Data'!$E$2:$E$93564,\"378\",'Accounting Data'!$I$2:$I$93564,\"1???\",'Accounting Data'!$J$2:$J$93564,\"63??\")+SUMIFS('Accounting Data'!$C$2:$C$93564,'Accounting Data'!$E$2:$E$93564,\"378\",'Accounting Data'!$I$2:$I$93564,\"2???\",'Accounting Data'!$J$2:$J$93564,\"63??\")+SUMIFS('Accounting Data'!$C$2:$C$93564,'Accounting Data'!$E$2:$E$93564,\"378\",'Accounting Data'!$I$2:$I$93564,\"3???\",'Accounting Data'!$J$2:$J$93564,\"63??\")","v":0},{"$f":"IF($T$28=0,0,T21/$T$28)","v":0},{"$f":"$P$25*U21","v":0},0,null,null,3100,{"$f":"SUMIFS('Accounting Data'!C2:C93564,'Accounting Data'!I2:I93564,\"31??\",'Accounting Data'!J2:J93564,\"61??\")","v":832207},{"$f":"SUMIFS('Accounting Data'!C2:C93564,'Accounting Data'!E2:E93564,\"575\",'Accounting Data'!I2:I93564,\"31??\",'Accounting Data'!J2:J93564,\"61??\")+SUMIFS('Accounting Data'!C2:C93564,'Accounting Data'!E2:E93564,\"8??\",'Accounting Data'!I2:I93564,\"31??\",'Accounting Data'!J2:J93564,\"61??\")+SUMIFS('Accounting Data'!C2:C93564,'Accounting Data'!E2:E93564,\"9??\",'Accounting Data'!I2:I93564,\"31??\",'Accounting Data'!J2:J93564,\"61??\")","v":0},{"$f":"SUMIFS('Accounting Data'!C2:C93564,'Accounting Data'!H2:H93564,\"7??\",'Accounting Data'!I2:I93564,\"31??\",'Accounting Data'!J2:J93564,\"61??\")+SUMIFS('Accounting Data'!C2:C93564,'Accounting Data'!H2:H93564,\"8??\",'Accounting Data'!I2:I93564,\"31??\",'Accounting Data'!J2:J93564,\"61??\")+SUMIFS('Accounting Data'!C2:C93564,'Accounting Data'!H2:H93564,\"9??\",'Accounting Data'!I2:I93564,\"31??\",'Accounting Data'!J2:J93564,\"61??\")","v":0},{"$f":"SUMIFS('Accounting Data'!C2:C93564,'Accounting Data'!E2:E93564,\"575\",'Accounting Data'!H2:H93564,\"7??\",'Accounting Data'!I2:I93564,\"31??\",'Accounting Data'!J2:J93564,\"61??\")+SUMIFS('Accounting Data'!C2:C93564,'Accounting Data'!E2:E93564,\"575\",'Accounting Data'!H2:H93564,\"8??\",'Accounting Data'!I2:I93564,\"31??\",'Accounting Data'!J2:J93564,\"61??\")+SUMIFS('Accounting Data'!C2:C93564,'Accounting Data'!E2:E93564,\"575\",'Accounting Data'!H2:H93564,\"9??\",'Accounting Data'!I2:I93564,\"31??\",'Accounting Data'!J2:J93564,\"61??\")","v":0},{"$f":"SUMIFS('Accounting Data'!C2:C93564,'Accounting Data'!E2:E93564,\"8??\",'Accounting Data'!H2:H93564,\"7??\",'Accounting Data'!I2:I93564,\"31??\",'Accounting Data'!J2:J93564,\"61??\")+SUMIFS('Accounting Data'!C2:C93564,'Accounting Data'!E2:E93564,\"8??\",'Accounting Data'!H2:H93564,\"8??\",'Accounting Data'!I2:I93564,\"31??\",'Accounting Data'!J2:J93564,\"61??\")+SUMIFS('Accounting Data'!C2:C93564,'Accounting Data'!E2:E93564,\"8??\",'Accounting Data'!H2:H93564,\"9??\",'Accounting Data'!I2:I93564,\"31??\",'Accounting Data'!J2:J93564,\"61??\")","v":0},{"$f":"SUMIFS('Accounting Data'!C2:C93564,'Accounting Data'!E2:E93564,\"9??\",'Accounting Data'!H2:H93564,\"7??\",'Accounting Data'!I2:I93564,\"31??\",'Accounting Data'!J2:J93564,\"61??\")+SUMIFS('Accounting Data'!C2:C93564,'Accounting Data'!E2:E93564,\"9??\",'Accounting Data'!H2:H93564,\"8??\",'Accounting Data'!I2:I93564,\"31??\",'Accounting Data'!J2:J93564,\"61??\")+SUMIFS('Accounting Data'!C2:C93564,'Accounting Data'!E2:E93564,\"9??\",'Accounting Data'!H2:H93564,\"9??\",'Accounting Data'!I2:I93564,\"31??\",'Accounting Data'!J2:J93564,\"61??\")","v":0},null,3100,{"$f":"SUMIFS('Accounting Data'!C2:C93564,'Accounting Data'!I2:I93564,\"31??\",'Accounting Data'!J2:J93564,\"62??\")","v":321779},{"$f":"SUMIFS('Accounting Data'!C2:C93564,'Accounting Data'!E2:E93564,\"575\",'Accounting Data'!I2:I93564,\"31??\",'Accounting Data'!J2:J93564,\"62??\")+SUMIFS('Accounting Data'!C2:C93564,'Accounting Data'!E2:E93564,\"8??\",'Accounting Data'!I2:I93564,\"31??\",'Accounting Data'!J2:J93564,\"62??\")+SUMIFS('Accounting Data'!C2:C93564,'Accounting Data'!E2:E93564,\"9??\",'Accounting Data'!I2:I93564,\"31??\",'Accounting Data'!J2:J93564,\"62??\")","v":0},{"$f":"SUMIFS('Accounting Data'!C2:C93564,'Accounting Data'!H2:H93564,\"7??\",'Accounting Data'!I2:I93564,\"31??\",'Accounting Data'!J2:J93564,\"62??\")+SUMIFS('Accounting Data'!C2:C93564,'Accounting Data'!H2:H93564,\"8??\",'Accounting Data'!I2:I93564,\"31??\",'Accounting Data'!J2:J93564,\"62??\")+SUMIFS('Accounting Data'!C2:C93564,'Accounting Data'!H2:H93564,\"9??\",'Accounting Data'!I2:I93564,\"31??\",'Accounting Data'!J2:J93564,\"62??\")","v":0},{"$f":"SUMIFS('Accounting Data'!C2:C93564,'Accounting Data'!E2:E93564,\"575\",'Accounting Data'!H2:H93564,\"7??\",'Accounting Data'!I2:I93564,\"31??\",'Accounting Data'!J2:J93564,\"62??\")+SUMIFS('Accounting Data'!C2:C93564,'Accounting Data'!E2:E93564,\"575\",'Accounting Data'!H2:H93564,\"8??\",'Accounting Data'!I2:I93564,\"31??\",'Accounting Data'!J2:J93564,\"62??\")+SUMIFS('Accounting Data'!C2:C93564,'Accounting Data'!E2:E93564,\"575\",'Accounting Data'!H2:H93564,\"9??\",'Accounting Data'!I2:I93564,\"31??\",'Accounting Data'!J2:J93564,\"62??\")","v":0},{"$f":"SUMIFS('Accounting Data'!C2:C93564,'Accounting Data'!E2:E93564,\"8??\",'Accounting Data'!H2:H93564,\"7??\",'Accounting Data'!I2:I93564,\"31??\",'Accounting Data'!J2:J93564,\"62??\")+SUMIFS('Accounting Data'!C2:C93564,'Accounting Data'!E2:E93564,\"8??\",'Accounting Data'!H2:H93564,\"8??\",'Accounting Data'!I2:I93564,\"31??\",'Accounting Data'!J2:J93564,\"62??\")+SUMIFS('Accounting Data'!C2:C93564,'Accounting Data'!E2:E93564,\"8??\",'Accounting Data'!H2:H93564,\"9??\",'Accounting Data'!I2:I93564,\"31??\",'Accounting Data'!J2:J93564,\"62??\")","v":0},{"$f":"SUMIFS('Accounting Data'!C2:C93564,'Accounting Data'!E2:E93564,\"9??\",'Accounting Data'!H2:H93564,\"7??\",'Accounting Data'!I2:I93564,\"31??\",'Accounting Data'!J2:J93564,\"62??\")+SUMIFS('Accounting Data'!C2:C93564,'Accounting Data'!E2:E93564,\"9??\",'Accounting Data'!H2:H93564,\"8??\",'Accounting Data'!I2:I93564,\"31??\",'Accounting Data'!J2:J93564,\"62??\")+SUMIFS('Accounting Data'!C2:C93564,'Accounting Data'!E2:E93564,\"9??\",'Accounting Data'!H2:H93564,\"9??\",'Accounting Data'!I2:I93564,\"31??\",'Accounting Data'!J2:J93564,\"62??\")","v":0},null,3100,{"$f":"SUMIFS('Accounting Data'!C2:C93564,'Accounting Data'!I2:I93564,\"31??\",'Accounting Data'!J2:J93564,\"63??\")+SUMIFS('Accounting Data'!C2:C93564,'Accounting Data'!I2:I93564,\"31??\",'Accounting Data'!J2:J93564,\"64??\")+SUMIFS('Accounting Data'!C2:C93564,'Accounting Data'!I2:I93564,\"31??\",'Accounting Data'!J2:J93564,\"65??\")","v":41583},{"$f":"SUMIFS('Accounting Data'!C2:C93564,'Accounting Data'!E2:E93564,\"575\",'Accounting Data'!I2:I93564,\"31??\",'Accounting Data'!J2:J93564,\"63??\")+SUMIFS('Accounting Data'!C2:C93564,'Accounting Data'!E2:E93564,\"8??\",'Accounting Data'!I2:I93564,\"31??\",'Accounting Data'!J2:J93564,\"63??\")+SUMIFS('Accounting Data'!C2:C93564,'Accounting Data'!E2:E93564,\"9??\",'Accounting Data'!I2:I93564,\"31??\",'Accounting Data'!J2:J93564,\"63??\")","v":0},{"$f":"SUMIFS('Accounting Data'!C2:C93564,'Accounting Data'!E2:E93564,\"575\",'Accounting Data'!I2:I93564,\"31??\",'Accounting Data'!J2:J93564,\"64??\")+SUMIFS('Accounting Data'!C2:C93564,'Accounting Data'!E2:E93564,\"8??\",'Accounting Data'!I2:I93564,\"31??\",'Accounting Data'!J2:J93564,\"64??\")+SUMIFS('Accounting Data'!C2:C93564,'Accounting Data'!E2:E93564,\"9??\",'Accounting Data'!I2:I93564,\"31??\",'Accounting Data'!J2:J93564,\"64??\")","v":0},{"$f":"SUMIFS('Accounting Data'!C2:C93564,'Accounting Data'!E2:E93564,\"575\",'Accounting Data'!I2:I93564,\"31??\",'Accounting Data'!J2:J93564,\"65??\")+SUMIFS('Accounting Data'!C2:C93564,'Accounting Data'!E2:E93564,\"8??\",'Accounting Data'!I2:I93564,\"31??\",'Accounting Data'!J2:J93564,\"65??\")+SUMIFS('Accounting Data'!C2:C93564,'Accounting Data'!E2:E93564,\"9??\",'Accounting Data'!I2:I93564,\"31??\",'Accounting Data'!J2:J93564,\"65??\")","v":0},{"$f":"SUMIFS('Accounting Data'!C2:C93564,'Accounting Data'!H2:H93564,\"7??\",'Accounting Data'!I2:I93564,\"31??\",'Accounting Data'!J2:J93564,\"63??\")+SUMIFS('Accounting Data'!C2:C93564,'Accounting Data'!H2:H93564,\"8??\",'Accounting Data'!I2:I93564,\"31??\",'Accounting Data'!J2:J93564,\"63??\")+SUMIFS('Accounting Data'!C2:C93564,'Accounting Data'!H2:H93564,\"9??\",'Accounting Data'!I2:I93564,\"31??\",'Accounting Data'!J2:J93564,\"63??\")+SUMIFS('Accounting Data'!C2:C93564,'Accounting Data'!H2:H93564,\"7??\",'Accounting Data'!I2:I93564,\"31??\",'Accounting Data'!J2:J93564,\"64??\")+SUMIFS('Accounting Data'!C2:C93564,'Accounting Data'!H2:H93564,\"8??\",'Accounting Data'!I2:I93564,\"31??\",'Accounting Data'!J2:J93564,\"64??\")+SUMIFS('Accounting Data'!C2:C93564,'Accounting Data'!H2:H93564,\"9??\",'Accounting Data'!I2:I93564,\"31??\",'Accounting Data'!J2:J93564,\"64??\")+SUMIFS('Accounting Data'!C2:C93564,'Accounting Data'!H2:H93564,\"7??\",'Accounting Data'!I2:I93564,\"31??\",'Accounting Data'!J2:J93564,\"65??\")+SUMIFS('Accounting Data'!C2:C93564,'Accounting Data'!H2:H93564,\"8??\",'Accounting Data'!I2:I93564,\"31??\",'Accounting Data'!J2:J93564,\"65??\")+SUMIFS('Accounting Data'!C2:C93564,'Accounting Data'!H2:H93564,\"9??\",'Accounting Data'!I2:I93564,\"31??\",'Accounting Data'!J2:J93564,\"65??\")","v":0},{"$f":"SUMIFS('Accounting Data'!C2:C93564,'Accounting Data'!E2:E93564,\"575\",'Accounting Data'!H2:H93564,\"7??\",'Accounting Data'!I2:I93564,\"31??\",'Accounting Data'!J2:J93564,\"63??\")+SUMIFS('Accounting Data'!C2:C93564,'Accounting Data'!E2:E93564,\"575\",'Accounting Data'!H2:H93564,\"8??\",'Accounting Data'!I2:I93564,\"31??\",'Accounting Data'!J2:J93564,\"63??\")+SUMIFS('Accounting Data'!C2:C93564,'Accounting Data'!E2:E93564,\"575\",'Accounting Data'!H2:H93564,\"9??\",'Accounting Data'!I2:I93564,\"31??\",'Accounting Data'!J2:J93564,\"63??\")","v":0},{"$f":"SUMIFS('Accounting Data'!C2:C93564,'Accounting Data'!E2:E93564,\"575\",'Accounting Data'!H2:H93564,\"7??\",'Accounting Data'!I2:I93564,\"31??\",'Accounting Data'!J2:J93564,\"64??\")+SUMIFS('Accounting Data'!C2:C93564,'Accounting Data'!E2:E93564,\"575\",'Accounting Data'!H2:H93564,\"8??\",'Accounting Data'!I2:I93564,\"31??\",'Accounting Data'!J2:J93564,\"64??\")+SUMIFS('Accounting Data'!C2:C93564,'Accounting Data'!E2:E93564,\"575\",'Accounting Data'!H2:H93564,\"9??\",'Accounting Data'!I2:I93564,\"31??\",'Accounting Data'!J2:J93564,\"64??\")","v":0},{"$f":"SUMIFS('Accounting Data'!C2:C93564,'Accounting Data'!E2:E93564,\"575\",'Accounting Data'!H2:H93564,\"7??\",'Accounting Data'!I2:I93564,\"31??\",'Accounting Data'!J2:J93564,\"65??\")+SUMIFS('Accounting Data'!C2:C93564,'Accounting Data'!E2:E93564,\"575\",'Accounting Data'!H2:H93564,\"8??\",'Accounting Data'!I2:I93564,\"31??\",'Accounting Data'!J2:J93564,\"65??\")+SUMIFS('Accounting Data'!C2:C93564,'Accounting Data'!E2:E93564,\"575\",'Accounting Data'!H2:H93564,\"9??\",'Accounting Data'!I2:I93564,\"31??\",'Accounting Data'!J2:J93564,\"65??\")","v":0},{"$f":"SUMIFS('Accounting Data'!C2:C93564,'Accounting Data'!E2:E93564,\"8??\",'Accounting Data'!H2:H93564,\"7??\",'Accounting Data'!I2:I93564,\"31??\",'Accounting Data'!J2:J93564,\"63??\")+SUMIFS('Accounting Data'!C2:C93564,'Accounting Data'!E2:E93564,\"8??\",'Accounting Data'!H2:H93564,\"8??\",'Accounting Data'!I2:I93564,\"31??\",'Accounting Data'!J2:J93564,\"63??\")+SUMIFS('Accounting Data'!C2:C93564,'Accounting Data'!E2:E93564,\"8??\",'Accounting Data'!H2:H93564,\"9??\",'Accounting Data'!I2:I93564,\"31??\",'Accounting Data'!J2:J93564,\"63??\")","v":0},{"$f":"SUMIFS('Accounting Data'!C2:C93564,'Accounting Data'!E2:E93564,\"8??\",'Accounting Data'!H2:H93564,\"7??\",'Accounting Data'!I2:I93564,\"31??\",'Accounting Data'!J2:J93564,\"64??\")+SUMIFS('Accounting Data'!C2:C93564,'Accounting Data'!E2:E93564,\"8??\",'Accounting Data'!H2:H93564,\"8??\",'Accounting Data'!I2:I93564,\"31??\",'Accounting Data'!J2:J93564,\"64??\")+SUMIFS('Accounting Data'!C2:C93564,'Accounting Data'!E2:E93564,\"8??\",'Accounting Data'!H2:H93564,\"9??\",'Accounting Data'!I2:I93564,\"31??\",'Accounting Data'!J2:J93564,\"64??\")","v":0},{"$f":"SUMIFS('Accounting Data'!C2:C93564,'Accounting Data'!E2:E93564,\"8??\",'Accounting Data'!H2:H93564,\"7??\",'Accounting Data'!I2:I93564,\"31??\",'Accounting Data'!J2:J93564,\"65??\")+SUMIFS('Accounting Data'!C2:C93564,'Accounting Data'!E2:E93564,\"8??\",'Accounting Data'!H2:H93564,\"8??\",'Accounting Data'!I2:I93564,\"31??\",'Accounting Data'!J2:J93564,\"65??\")+SUMIFS('Accounting Data'!C2:C93564,'Accounting Data'!E2:E93564,\"8??\",'Accounting Data'!H2:H93564,\"9??\",'Accounting Data'!I2:I93564,\"31??\",'Accounting Data'!J2:J93564,\"65??\")","v":0},{"$f":"SUMIFS('Accounting Data'!C2:C93564,'Accounting Data'!E2:E93564,\"9??\",'Accounting Data'!H2:H93564,\"7??\",'Accounting Data'!I2:I93564,\"31??\",'Accounting Data'!J2:J93564,\"63??\")+SUMIFS('Accounting Data'!C2:C93564,'Accounting Data'!E2:E93564,\"9??\",'Accounting Data'!H2:H93564,\"8??\",'Accounting Data'!I2:I93564,\"31??\",'Accounting Data'!J2:J93564,\"63??\")+SUMIFS('Accounting Data'!C2:C93564,'Accounting Data'!E2:E93564,\"9??\",'Accounting Data'!H2:H93564,\"9??\",'Accounting Data'!I2:I93564,\"31??\",'Accounting Data'!J2:J93564,\"63??\")","v":0},{"$f":"SUMIFS('Accounting Data'!C2:C93564,'Accounting Data'!E2:E93564,\"9??\",'Accounting Data'!H2:H93564,\"7??\",'Accounting Data'!I2:I93564,\"31??\",'Accounting Data'!J2:J93564,\"64??\")+SUMIFS('Accounting Data'!C2:C93564,'Accounting Data'!E2:E93564,\"9??\",'Accounting Data'!H2:H93564,\"8??\",'Accounting Data'!I2:I93564,\"31??\",'Accounting Data'!J2:J93564,\"64??\")+SUMIFS('Accounting Data'!C2:C93564,'Accounting Data'!E2:E93564,\"9??\",'Accounting Data'!H2:H93564,\"9??\",'Accounting Data'!I2:I93564,\"31??\",'Accounting Data'!J2:J93564,\"64??\")","v":0},{"$f":"SUMIFS('Accounting Data'!C2:C93564,'Accounting Data'!E2:E93564,\"9??\",'Accounting Data'!H2:H93564,\"7??\",'Accounting Data'!I2:I93564,\"31??\",'Accounting Data'!J2:J93564,\"65??\")+SUMIFS('Accounting Data'!C2:C93564,'Accounting Data'!E2:E93564,\"9??\",'Accounting Data'!H2:H93564,\"8??\",'Accounting Data'!I2:I93564,\"31??\",'Accounting Data'!J2:J93564,\"65??\")+SUMIFS('Accounting Data'!C2:C93564,'Accounting Data'!E2:E93564,\"9??\",'Accounting Data'!H2:H93564,\"9??\",'Accounting Data'!I2:I93564,\"31??\",'Accounting Data'!J2:J93564,\"65??\")","v":0},null,3100,{"$f":"SUMIFS('Accounting Data'!C2:C93564,'Accounting Data'!I2:I93564,\"31??\",'Accounting Data'!J2:J93564,\"66??\")","v":922658},{"$f":"SUMIFS('Accounting Data'!$C$2:$C$93564,'Accounting Data'!$E$2:$E$93564,\"575\",'Accounting Data'!$I$2:$I$93564,\"31??\",'Accounting Data'!$J$2:$J$93564,\"66??\")+SUMIFS('Accounting Data'!$C$2:$C$93564,'Accounting Data'!$E$2:$E$93564,\"8??\",'Accounting Data'!$I$2:$I$93564,\"31??\",'Accounting Data'!$J$2:$J$93564,\"66??\")+SUMIFS('Accounting Data'!$C$2:$C$93564,'Accounting Data'!$E$2:$E$93564,\"9??\",'Accounting Data'!$I$2:$I$93564,\"31??\",'Accounting Data'!$J$2:$J$93564,\"66??\")","v":0},{"$f":"SUMIFS('Accounting Data'!$C$2:$C$93564,'Accounting Data'!$H$2:$H$93564,\"7??\",'Accounting Data'!$I$2:$I$93564,\"31??\",'Accounting Data'!$J$2:$J$93564,\"66??\")+SUMIFS('Accounting Data'!$C$2:$C$93564,'Accounting Data'!$H$2:$H$93564,\"8??\",'Accounting Data'!$I$2:$I$93564,\"31??\",'Accounting Data'!$J$2:$J$93564,\"66??\")+SUMIFS('Accounting Data'!$C$2:$C$93564,'Accounting Data'!$H$2:$H$93564,\"9??\",'Accounting Data'!$I$2:$I$93564,\"31??\",'Accounting Data'!$J$2:$J$93564,\"66??\")","v":0},{"$f":"SUMIFS('Accounting Data'!$C$2:$C$93564,'Accounting Data'!$E$2:$E$93564,\"575\",'Accounting Data'!$H$2:$H$93564,\"7??\",'Accounting Data'!$I$2:$I$93564,\"31??\",'Accounting Data'!$J$2:$J$93564,\"66??\")+SUMIFS('Accounting Data'!$C$2:$C$93564,'Accounting Data'!$E$2:$E$93564,\"575\",'Accounting Data'!$H$2:$H$93564,\"8??\",'Accounting Data'!$I$2:$I$93564,\"31??\",'Accounting Data'!$J$2:$J$93564,\"66??\")+SUMIFS('Accounting Data'!$C$2:$C$93564,'Accounting Data'!$E$2:$E$93564,\"575\",'Accounting Data'!$H$2:$H$93564,\"9??\",'Accounting Data'!$I$2:$I$93564,\"31??\",'Accounting Data'!$J$2:$J$93564,\"66??\")","v":0},{"$f":"SUMIFS('Accounting Data'!$C$2:$C$93564,'Accounting Data'!$E$2:$E$93564,\"8??\",'Accounting Data'!$H$2:$H$93564,\"7??\",'Accounting Data'!$I$2:$I$93564,\"31??\",'Accounting Data'!$J$2:$J$93564,\"66??\")+SUMIFS('Accounting Data'!$C$2:$C$93564,'Accounting Data'!$E$2:$E$93564,\"8??\",'Accounting Data'!$H$2:$H$93564,\"8??\",'Accounting Data'!$I$2:$I$93564,\"31??\",'Accounting Data'!$J$2:$J$93564,\"66??\")+SUMIFS('Accounting Data'!$C$2:$C$93564,'Accounting Data'!$E$2:$E$93564,\"8??\",'Accounting Data'!$H$2:$H$93564,\"9??\",'Accounting Data'!$I$2:$I$93564,\"31??\",'Accounting Data'!$J$2:$J$93564,\"66??\")","v":0},{"$f":"SUMIFS('Accounting Data'!$C$2:$C$93564,'Accounting Data'!$E$2:$E$93564,\"9??\",'Accounting Data'!$H$2:$H$93564,\"7??\",'Accounting Data'!$I$2:$I$93564,\"31??\",'Accounting Data'!$J$2:$J$93564,\"66??\")+SUMIFS('Accounting Data'!$C$2:$C$93564,'Accounting Data'!$E$2:$E$93564,\"9??\",'Accounting Data'!$H$2:$H$93564,\"8??\",'Accounting Data'!$I$2:$I$93564,\"31??\",'Accounting Data'!$J$2:$J$93564,\"66??\")+SUMIFS('Accounting Data'!$C$2:$C$93564,'Accounting Data'!$E$2:$E$93564,\"9??\",'Accounting Data'!$H$2:$H$93564,\"9??\",'Accounting Data'!$I$2:$I$93564,\"31??\",'Accounting Data'!$J$2:$J$93564,\"66??\")","v":0},null,3100,{"$f":"SUMIFS('Accounting Data'!C2:C93564,'Accounting Data'!I2:I93564,\"31??\",'Accounting Data'!J2:J93564,\"67??\")","v":9894},{"$f":"SUMIFS('Accounting Data'!$C$2:$C$93564,'Accounting Data'!$E$2:$E$93564,\"575\",'Accounting Data'!$I$2:$I$93564,\"31??\",'Accounting Data'!$J$2:$J$93564,\"67??\")+SUMIFS('Accounting Data'!$C$2:$C$93564,'Accounting Data'!$E$2:$E$93564,\"8??\",'Accounting Data'!$I$2:$I$93564,\"31??\",'Accounting Data'!$J$2:$J$93564,\"67??\")+SUMIFS('Accounting Data'!$C$2:$C$93564,'Accounting Data'!$E$2:$E$93564,\"9??\",'Accounting Data'!$I$2:$I$93564,\"31??\",'Accounting Data'!$J$2:$J$93564,\"67??\")","v":0},{"$f":"SUMIFS('Accounting Data'!$C$2:$C$93564,'Accounting Data'!$H$2:$H$93564,\"7??\",'Accounting Data'!$I$2:$I$93564,\"31??\",'Accounting Data'!$J$2:$J$93564,\"67??\")+SUMIFS('Accounting Data'!$C$2:$C$93564,'Accounting Data'!$H$2:$H$93564,\"8??\",'Accounting Data'!$I$2:$I$93564,\"31??\",'Accounting Data'!$J$2:$J$93564,\"67??\")+SUMIFS('Accounting Data'!$C$2:$C$93564,'Accounting Data'!$H$2:$H$93564,\"9??\",'Accounting Data'!$I$2:$I$93564,\"31??\",'Accounting Data'!$J$2:$J$93564,\"67??\")","v":0},{"$f":"SUMIFS('Accounting Data'!$C$2:$C$93564,'Accounting Data'!$E$2:$E$93564,\"575\",'Accounting Data'!$H$2:$H$93564,\"7??\",'Accounting Data'!$I$2:$I$93564,\"31??\",'Accounting Data'!$J$2:$J$93564,\"67??\")+SUMIFS('Accounting Data'!$C$2:$C$93564,'Accounting Data'!$E$2:$E$93564,\"575\",'Accounting Data'!$H$2:$H$93564,\"8??\",'Accounting Data'!$I$2:$I$93564,\"31??\",'Accounting Data'!$J$2:$J$93564,\"67??\")+SUMIFS('Accounting Data'!$C$2:$C$93564,'Accounting Data'!$E$2:$E$93564,\"575\",'Accounting Data'!$H$2:$H$93564,\"9??\",'Accounting Data'!$I$2:$I$93564,\"31??\",'Accounting Data'!$J$2:$J$93564,\"67??\")","v":0},{"$f":"SUMIFS('Accounting Data'!$C$2:$C$93564,'Accounting Data'!$E$2:$E$93564,\"8??\",'Accounting Data'!$H$2:$H$93564,\"7??\",'Accounting Data'!$I$2:$I$93564,\"31??\",'Accounting Data'!$J$2:$J$93564,\"67??\")+SUMIFS('Accounting Data'!$C$2:$C$93564,'Accounting Data'!$E$2:$E$93564,\"8??\",'Accounting Data'!$H$2:$H$93564,\"8??\",'Accounting Data'!$I$2:$I$93564,\"31??\",'Accounting Data'!$J$2:$J$93564,\"67??\")+SUMIFS('Accounting Data'!$C$2:$C$93564,'Accounting Data'!$E$2:$E$93564,\"8??\",'Accounting Data'!$H$2:$H$93564,\"9??\",'Accounting Data'!$I$2:$I$93564,\"31??\",'Accounting Data'!$J$2:$J$93564,\"67??\")","v":0},{"$f":"SUMIFS('Accounting Data'!$C$2:$C$93564,'Accounting Data'!$E$2:$E$93564,\"9??\",'Accounting Data'!$H$2:$H$93564,\"7??\",'Accounting Data'!$I$2:$I$93564,\"31??\",'Accounting Data'!$J$2:$J$93564,\"67??\")+SUMIFS('Accounting Data'!$C$2:$C$93564,'Accounting Data'!$E$2:$E$93564,\"9??\",'Accounting Data'!$H$2:$H$93564,\"8??\",'Accounting Data'!$I$2:$I$93564,\"31??\",'Accounting Data'!$J$2:$J$93564,\"67??\")+SUMIFS('Accounting Data'!$C$2:$C$93564,'Accounting Data'!$E$2:$E$93564,\"9??\",'Accounting Data'!$H$2:$H$93564,\"9??\",'Accounting Data'!$I$2:$I$93564,\"31??\",'Accounting Data'!$J$2:$J$93564,\"67??\")","v":0},null,3100,{"$f":"SUMIFS('Accounting Data'!C2:C93564,'Accounting Data'!I2:I93564,\"31??\",'Accounting Data'!J2:J93564,\"681?\")","v":10409},{"$f":"SUMIFS('Accounting Data'!$C$2:$C$93564,'Accounting Data'!$E$2:$E$93564,\"575\",'Accounting Data'!$I$2:$I$93564,\"31??\",'Accounting Data'!$J$2:$J$93564,\"681?\")+SUMIFS('Accounting Data'!$C$2:$C$93564,'Accounting Data'!$E$2:$E$93564,\"8??\",'Accounting Data'!$I$2:$I$93564,\"31??\",'Accounting Data'!$J$2:$J$93564,\"681?\")+SUMIFS('Accounting Data'!$C$2:$C$93564,'Accounting Data'!$E$2:$E$93564,\"9??\",'Accounting Data'!$I$2:$I$93564,\"31??\",'Accounting Data'!$J$2:$J$93564,\"681?\")","v":0},{"$f":"SUMIFS('Accounting Data'!$C$2:$C$93564,'Accounting Data'!$H$2:$H$93564,\"7??\",'Accounting Data'!$I$2:$I$93564,\"31??\",'Accounting Data'!$J$2:$J$93564,\"681?\")+SUMIFS('Accounting Data'!$C$2:$C$93564,'Accounting Data'!$H$2:$H$93564,\"8??\",'Accounting Data'!$I$2:$I$93564,\"31??\",'Accounting Data'!$J$2:$J$93564,\"681?\")+SUMIFS('Accounting Data'!$C$2:$C$93564,'Accounting Data'!$H$2:$H$93564,\"9??\",'Accounting Data'!$I$2:$I$93564,\"31??\",'Accounting Data'!$J$2:$J$93564,\"681?\")","v":0},{"$f":"SUMIFS('Accounting Data'!$C$2:$C$93564,'Accounting Data'!$E$2:$E$93564,\"575\",'Accounting Data'!$H$2:$H$93564,\"7??\",'Accounting Data'!$I$2:$I$93564,\"31??\",'Accounting Data'!$J$2:$J$93564,\"681?\")+SUMIFS('Accounting Data'!$C$2:$C$93564,'Accounting Data'!$E$2:$E$93564,\"575\",'Accounting Data'!$H$2:$H$93564,\"8??\",'Accounting Data'!$I$2:$I$93564,\"31??\",'Accounting Data'!$J$2:$J$93564,\"681?\")+SUMIFS('Accounting Data'!$C$2:$C$93564,'Accounting Data'!$E$2:$E$93564,\"575\",'Accounting Data'!$H$2:$H$93564,\"9??\",'Accounting Data'!$I$2:$I$93564,\"31??\",'Accounting Data'!$J$2:$J$93564,\"681?\")","v":0},{"$f":"SUMIFS('Accounting Data'!$C$2:$C$93564,'Accounting Data'!$E$2:$E$93564,\"8??\",'Accounting Data'!$H$2:$H$93564,\"7??\",'Accounting Data'!$I$2:$I$93564,\"31??\",'Accounting Data'!$J$2:$J$93564,\"681?\")+SUMIFS('Accounting Data'!$C$2:$C$93564,'Accounting Data'!$E$2:$E$93564,\"8??\",'Accounting Data'!$H$2:$H$93564,\"8??\",'Accounting Data'!$I$2:$I$93564,\"31??\",'Accounting Data'!$J$2:$J$93564,\"681?\")+SUMIFS('Accounting Data'!$C$2:$C$93564,'Accounting Data'!$E$2:$E$93564,\"8??\",'Accounting Data'!$H$2:$H$93564,\"9??\",'Accounting Data'!$I$2:$I$93564,\"31??\",'Accounting Data'!$J$2:$J$93564,\"681?\")","v":0},{"$f":"SUMIFS('Accounting Data'!$C$2:$C$93564,'Accounting Data'!$E$2:$E$93564,\"9??\",'Accounting Data'!$H$2:$H$93564,\"7??\",'Accounting Data'!$I$2:$I$93564,\"31??\",'Accounting Data'!$J$2:$J$93564,\"681?\")+SUMIFS('Accounting Data'!$C$2:$C$93564,'Accounting Data'!$E$2:$E$93564,\"9??\",'Accounting Data'!$H$2:$H$93564,\"8??\",'Accounting Data'!$I$2:$I$93564,\"31??\",'Accounting Data'!$J$2:$J$93564,\"681?\")+SUMIFS('Accounting Data'!$C$2:$C$93564,'Accounting Data'!$E$2:$E$93564,\"9??\",'Accounting Data'!$H$2:$H$93564,\"9??\",'Accounting Data'!$I$2:$I$93564,\"31??\",'Accounting Data'!$J$2:$J$93564,\"681?\")","v":0},null,"Function","All funds","Funds 575,800-899,900-999 ",null,null,"Programs 700-900","Funds 575, Programs 700-900",null,null,"Funds 800-899, Programs 700-900",null,null,"Funds 900-999, Programs 700-900",null,null,null,3100,{"$f":"SUM(SUMIFS('Accounting Data'!C2:C93564,'Accounting Data'!I2:I93564,\"31??\",'Accounting Data'!J2:J93564,{\"689?\",\"6885\"}))","v":0},{"$f":"SUM(SUMIFS('Accounting Data'!$C$2:$C$93564,'Accounting Data'!$E$2:$E$93564,\"575\",'Accounting Data'!$I$2:$I$93564,\"31??\",'Accounting Data'!$J$2:$J$93564,{\"689?\",\"6885\"}))+SUM(SUMIFS('Accounting Data'!$C$2:$C$93564,'Accounting Data'!$E$2:$E$93564,\"8??\",'Accounting Data'!$I$2:$I$93564,\"31??\",'Accounting Data'!$J$2:$J$93564,{\"689?\",\"6885\"}))+SUM(SUMIFS('Accounting Data'!$C$2:$C$93564,'Accounting Data'!$E$2:$E$93564,\"9??\",'Accounting Data'!$I$2:$I$93564,\"31??\",'Accounting Data'!$J$2:$J$93564,{\"689?\",\"6885\"}))","v":0},{"$f":"SUM(SUMIFS('Accounting Data'!$C$2:$C$93564,'Accounting Data'!$H$2:$H$93564,\"7??\",'Accounting Data'!$I$2:$I$93564,\"31??\",'Accounting Data'!$J$2:$J$93564,{\"689?\",\"6885\"}))+SUM(SUMIFS('Accounting Data'!$C$2:$C$93564,'Accounting Data'!$H$2:$H$93564,\"8??\",'Accounting Data'!$I$2:$I$93564,\"31??\",'Accounting Data'!$J$2:$J$93564,{\"689?\",\"6885\"}))+SUM(SUMIFS('Accounting Data'!$C$2:$C$93564,'Accounting Data'!$H$2:$H$93564,\"9??\",'Accounting Data'!$I$2:$I$93564,\"31??\",'Accounting Data'!$J$2:$J$93564,{\"689?\",\"6885\"}))","v":0},{"$f":"SUM(SUMIFS('Accounting Data'!$C$2:$C$93564,'Accounting Data'!$E$2:$E$93564,\"575\",'Accounting Data'!$H$2:$H$93564,\"7??\",'Accounting Data'!$I$2:$I$93564,\"31??\",'Accounting Data'!$J$2:$J$93564,{\"689?\",\"6885\"}))+SUM(SUMIFS('Accounting Data'!$C$2:$C$93564,'Accounting Data'!$E$2:$E$93564,\"575\",'Accounting Data'!$H$2:$H$93564,\"8??\",'Accounting Data'!$I$2:$I$93564,\"31??\",'Accounting Data'!$J$2:$J$93564,{\"689?\",\"6885\"}))+SUM(SUMIFS('Accounting Data'!$C$2:$C$93564,'Accounting Data'!$E$2:$E$93564,\"575\",'Accounting Data'!$H$2:$H$93564,\"9??\",'Accounting Data'!$I$2:$I$93564,\"31??\",'Accounting Data'!$J$2:$J$93564,{\"689?\",\"6885\"}))","v":0},{"$f":"SUM(SUMIFS('Accounting Data'!$C$2:$C$93564,'Accounting Data'!$E$2:$E$93564,\"8??\",'Accounting Data'!$H$2:$H$93564,\"7??\",'Accounting Data'!$I$2:$I$93564,\"31??\",'Accounting Data'!$J$2:$J$93564,{\"689?\",\"6885\"}))+SUM(SUMIFS('Accounting Data'!$C$2:$C$93564,'Accounting Data'!$E$2:$E$93564,\"8??\",'Accounting Data'!$H$2:$H$93564,\"8??\",'Accounting Data'!$I$2:$I$93564,\"31??\",'Accounting Data'!$J$2:$J$93564,{\"689?\",\"6885\"}))+SUM(SUMIFS('Accounting Data'!$C$2:$C$93564,'Accounting Data'!$E$2:$E$93564,\"8??\",'Accounting Data'!$H$2:$H$93564,\"9??\",'Accounting Data'!$I$2:$I$93564,\"31??\",'Accounting Data'!$J$2:$J$93564,{\"689?\",\"6885\"}))","v":0},{"$f":"SUM(SUMIFS('Accounting Data'!$C$2:$C$93564,'Accounting Data'!$E$2:$E$93564,\"9??\",'Accounting Data'!$H$2:$H$93564,\"7??\",'Accounting Data'!$I$2:$I$93564,\"31??\",'Accounting Data'!$J$2:$J$93564,{\"689?\",\"6885\"}))+SUM(SUMIFS('Accounting Data'!$C$2:$C$93564,'Accounting Data'!$E$2:$E$93564,\"9??\",'Accounting Data'!$H$2:$H$93564,\"8??\",'Accounting Data'!$I$2:$I$93564,\"31??\",'Accounting Data'!$J$2:$J$93564,{\"689?\",\"6885\"}))+SUM(SUMIFS('Accounting Data'!$C$2:$C$93564,'Accounting Data'!$E$2:$E$93564,\"9??\",'Accounting Data'!$H$2:$H$93564,\"9??\",'Accounting Data'!$I$2:$I$93564,\"31??\",'Accounting Data'!$J$2:$J$93564,{\"689?\",\"6885\"}))","v":0},null,3200,{"$f":"SUMIFS('Accounting Data'!$C$2:$C$93564,'Accounting Data'!$H$2:$H$93564,\"7??\",'Accounting Data'!$I$2:$I$93564,\"32??\",'Accounting Data'!$J$2:$J$93564,\"6???\")+SUMIFS('Accounting Data'!$C$2:$C$93564,'Accounting Data'!$H$2:$H$93564,\"8??\",'Accounting Data'!$I$2:$I$93564,\"32??\",'Accounting Data'!$J$2:$J$93564,\"6???\")+SUMIFS('Accounting Data'!$C$2:$C$93564,'Accounting Data'!$H$2:$H$93564,\"9??\",'Accounting Data'!$I$2:$I$93564,\"32??\",'Accounting Data'!$J$2:$J$93564,\"6???\")","v":0},{"$f":"SUMIFS('Accounting Data'!$C$2:$C$93564,'Accounting Data'!$H$2:$H$93564,\"7??\",'Accounting Data'!$I$2:$I$93564,\"32??\",'Accounting Data'!$J$2:$J$93564,\"69??\")+SUMIFS('Accounting Data'!$C$2:$C$93564,'Accounting Data'!$H$2:$H$93564,\"8??\",'Accounting Data'!$I$2:$I$93564,\"32??\",'Accounting Data'!$J$2:$J$93564,\"69??\")+SUMIFS('Accounting Data'!$C$2:$C$93564,'Accounting Data'!$H$2:$H$93564,\"9??\",'Accounting Data'!$I$2:$I$93564,\"32??\",'Accounting Data'!$J$2:$J$93564,\"69??\")","v":0},{"$f":"SUMIFS('Accounting Data'!$C$2:$C$93564,'Accounting Data'!$E$2:$E$93564,\"575\",'Accounting Data'!$H$2:$H$93564,\"7??\",'Accounting Data'!$I$2:$I$93564,\"32??\",'Accounting Data'!$J$2:$J$93564,\"6???\")+SUMIFS('Accounting Data'!$C$2:$C$93564,'Accounting Data'!$E$2:$E$93564,\"575\",'Accounting Data'!$H$2:$H$93564,\"8??\",'Accounting Data'!$I$2:$I$93564,\"32??\",'Accounting Data'!$J$2:$J$93564,\"6???\")+SUMIFS('Accounting Data'!$C$2:$C$93564,'Accounting Data'!$E$2:$E$93564,\"575\",'Accounting Data'!$H$2:$H$93564,\"9??\",'Accounting Data'!$I$2:$I$93564,\"32??\",'Accounting Data'!$J$2:$J$93564,\"6???\")","v":0},{"$f":"SUMIFS('Accounting Data'!$C$2:$C$93564,'Accounting Data'!$E$2:$E$93564,\"8??\",'Accounting Data'!$H$2:$H$93564,\"7??\",'Accounting Data'!$I$2:$I$93564,\"32??\",'Accounting Data'!$J$2:$J$93564,\"6???\")+SUMIFS('Accounting Data'!$C$2:$C$93564,'Accounting Data'!$E$2:$E$93564,\"8??\",'Accounting Data'!$H$2:$H$93564,\"8??\",'Accounting Data'!$I$2:$I$93564,\"32??\",'Accounting Data'!$J$2:$J$93564,\"6???\")+SUMIFS('Accounting Data'!$C$2:$C$93564,'Accounting Data'!$E$2:$E$93564,\"8??\",'Accounting Data'!$H$2:$H$93564,\"9??\",'Accounting Data'!$I$2:$I$93564,\"32??\",'Accounting Data'!$J$2:$J$93564,\"6???\")+SUMIFS('Accounting Data'!$C$2:$C$93564,'Accounting Data'!$E$2:$E$93564,\"9??\",'Accounting Data'!$H$2:$H$93564,\"7??\",'Accounting Data'!$I$2:$I$93564,\"32??\",'Accounting Data'!$J$2:$J$93564,\"6???\")+SUMIFS('Accounting Data'!$C$2:$C$93564,'Accounting Data'!$E$2:$E$93564,\"9??\",'Accounting Data'!$H$2:$H$93564,\"8??\",'Accounting Data'!$I$2:$I$93564,\"32??\",'Accounting Data'!$J$2:$J$93564,\"6???\")+SUMIFS('Accounting Data'!$C$2:$C$93564,'Accounting Data'!$E$2:$E$93564,\"9??\",'Accounting Data'!$H$2:$H$93564,\"9??\",'Accounting Data'!$I$2:$I$93564,\"32??\",'Accounting Data'!$J$2:$J$93564,\"6???\")","v":0},{"$f":"SUMIFS('Accounting Data'!$C$2:$C$93564,'Accounting Data'!$E$2:$E$93564,\"575\",'Accounting Data'!$H$2:$H$93564,\"7??\",'Accounting Data'!$I$2:$I$93564,\"32??\",'Accounting Data'!$J$2:$J$93564,\"69??\")+SUMIFS('Accounting Data'!$C$2:$C$93564,'Accounting Data'!$E$2:$E$93564,\"575\",'Accounting Data'!$H$2:$H$93564,\"8??\",'Accounting Data'!$I$2:$I$93564,\"32??\",'Accounting Data'!$J$2:$J$93564,\"69??\")+SUMIFS('Accounting Data'!$C$2:$C$93564,'Accounting Data'!$E$2:$E$93564,\"575\",'Accounting Data'!$H$2:$H$93564,\"9??\",'Accounting Data'!$I$2:$I$93564,\"32??\",'Accounting Data'!$J$2:$J$93564,\"69??\")","v":0},{"$f":"SUMIFS('Accounting Data'!$C$2:$C$93564,'Accounting Data'!$E$2:$E$93564,\"8??\",'Accounting Data'!$H$2:$H$93564,\"7??\",'Accounting Data'!$I$2:$I$93564,\"32??\",'Accounting Data'!$J$2:$J$93564,\"69??\")+SUMIFS('Accounting Data'!$C$2:$C$93564,'Accounting Data'!$E$2:$E$93564,\"8??\",'Accounting Data'!$H$2:$H$93564,\"8??\",'Accounting Data'!$I$2:$I$93564,\"32??\",'Accounting Data'!$J$2:$J$93564,\"69??\")+SUMIFS('Accounting Data'!$C$2:$C$93564,'Accounting Data'!$E$2:$E$93564,\"8??\",'Accounting Data'!$H$2:$H$93564,\"9??\",'Accounting Data'!$I$2:$I$93564,\"32??\",'Accounting Data'!$J$2:$J$93564,\"69??\")+SUMIFS('Accounting Data'!$C$2:$C$93564,'Accounting Data'!$E$2:$E$93564,\"9??\",'Accounting Data'!$H$2:$H$93564,\"7??\",'Accounting Data'!$I$2:$I$93564,\"32??\",'Accounting Data'!$J$2:$J$93564,\"69??\")+SUMIFS('Accounting Data'!$C$2:$C$93564,'Accounting Data'!$E$2:$E$93564,\"9??\",'Accounting Data'!$H$2:$H$93564,\"8??\",'Accounting Data'!$I$2:$I$93564,\"32??\",'Accounting Data'!$J$2:$J$93564,\"69??\")+SUMIFS('Accounting Data'!$C$2:$C$93564,'Accounting Data'!$E$2:$E$93564,\"9??\",'Accounting Data'!$H$2:$H$93564,\"9??\",'Accounting Data'!$I$2:$I$93564,\"32??\",'Accounting Data'!$J$2:$J$93564,\"69??\")","v":0}]
["         3300 Community Services Operations","11.",null,null,null,null,null,null,null,null,null,null,{"$f":"(DC22-DD22)-((DE22+DF22)-(DG22+DH22))","v":0},0,"11.",null,null,null,"6400",{"$f":"SUMIFS('Accounting Data'!$C$2:$C$93564,'Accounting Data'!$E$2:$E$93564,\"378\",'Accounting Data'!$I$2:$I$93564,\"1???\",'Accounting Data'!$J$2:$J$93564,\"64??\")+SUMIFS('Accounting Data'!$C$2:$C$93564,'Accounting Data'!$E$2:$E$93564,\"378\",'Accounting Data'!$I$2:$I$93564,\"2???\",'Accounting Data'!$J$2:$J$93564,\"64??\")+SUMIFS('Accounting Data'!$C$2:$C$93564,'Accounting Data'!$E$2:$E$93564,\"378\",'Accounting Data'!$I$2:$I$93564,\"3???\",'Accounting Data'!$J$2:$J$93564,\"64??\")","v":0},0,0,0,null,null,3200,{"$f":"SUMIFS('Accounting Data'!C2:C93564,'Accounting Data'!I2:I93564,\"32??\",'Accounting Data'!J2:J93564,\"61??\")","v":0},{"$f":"SUMIFS('Accounting Data'!C2:C93564,'Accounting Data'!E2:E93564,\"575\",'Accounting Data'!I2:I93564,\"32??\",'Accounting Data'!J2:J93564,\"61??\")+SUMIFS('Accounting Data'!C2:C93564,'Accounting Data'!E2:E93564,\"8??\",'Accounting Data'!I2:I93564,\"32??\",'Accounting Data'!J2:J93564,\"61??\")+SUMIFS('Accounting Data'!C2:C93564,'Accounting Data'!E2:E93564,\"9??\",'Accounting Data'!I2:I93564,\"32??\",'Accounting Data'!J2:J93564,\"61??\")","v":0},{"$f":"SUMIFS('Accounting Data'!C2:C93564,'Accounting Data'!H2:H93564,\"7??\",'Accounting Data'!I2:I93564,\"32??\",'Accounting Data'!J2:J93564,\"61??\")+SUMIFS('Accounting Data'!C2:C93564,'Accounting Data'!H2:H93564,\"8??\",'Accounting Data'!I2:I93564,\"32??\",'Accounting Data'!J2:J93564,\"61??\")+SUMIFS('Accounting Data'!C2:C93564,'Accounting Data'!H2:H93564,\"9??\",'Accounting Data'!I2:I93564,\"32??\",'Accounting Data'!J2:J93564,\"61??\")","v":0},{"$f":"SUMIFS('Accounting Data'!C2:C93564,'Accounting Data'!E2:E93564,\"575\",'Accounting Data'!H2:H93564,\"7??\",'Accounting Data'!I2:I93564,\"32??\",'Accounting Data'!J2:J93564,\"61??\")+SUMIFS('Accounting Data'!C2:C93564,'Accounting Data'!E2:E93564,\"575\",'Accounting Data'!H2:H93564,\"8??\",'Accounting Data'!I2:I93564,\"32??\",'Accounting Data'!J2:J93564,\"61??\")+SUMIFS('Accounting Data'!C2:C93564,'Accounting Data'!E2:E93564,\"575\",'Accounting Data'!H2:H93564,\"9??\",'Accounting Data'!I2:I93564,\"32??\",'Accounting Data'!J2:J93564,\"61??\")","v":0},{"$f":"SUMIFS('Accounting Data'!C2:C93564,'Accounting Data'!E2:E93564,\"8??\",'Accounting Data'!H2:H93564,\"7??\",'Accounting Data'!I2:I93564,\"32??\",'Accounting Data'!J2:J93564,\"61??\")+SUMIFS('Accounting Data'!C2:C93564,'Accounting Data'!E2:E93564,\"8??\",'Accounting Data'!H2:H93564,\"8??\",'Accounting Data'!I2:I93564,\"32??\",'Accounting Data'!J2:J93564,\"61??\")+SUMIFS('Accounting Data'!C2:C93564,'Accounting Data'!E2:E93564,\"8??\",'Accounting Data'!H2:H93564,\"9??\",'Accounting Data'!I2:I93564,\"32??\",'Accounting Data'!J2:J93564,\"61??\")","v":0},{"$f":"SUMIFS('Accounting Data'!C2:C93564,'Accounting Data'!E2:E93564,\"9??\",'Accounting Data'!H2:H93564,\"7??\",'Accounting Data'!I2:I93564,\"32??\",'Accounting Data'!J2:J93564,\"61??\")+SUMIFS('Accounting Data'!C2:C93564,'Accounting Data'!E2:E93564,\"9??\",'Accounting Data'!H2:H93564,\"8??\",'Accounting Data'!I2:I93564,\"32??\",'Accounting Data'!J2:J93564,\"61??\")+SUMIFS('Accounting Data'!C2:C93564,'Accounting Data'!E2:E93564,\"9??\",'Accounting Data'!H2:H93564,\"9??\",'Accounting Data'!I2:I93564,\"32??\",'Accounting Data'!J2:J93564,\"61??\")","v":0},null,3200,{"$f":"SUMIFS('Accounting Data'!C2:C93564,'Accounting Data'!I2:I93564,\"32??\",'Accounting Data'!J2:J93564,\"62??\")","v":0},{"$f":"SUMIFS('Accounting Data'!C2:C93564,'Accounting Data'!E2:E93564,\"575\",'Accounting Data'!I2:I93564,\"32??\",'Accounting Data'!J2:J93564,\"62??\")+SUMIFS('Accounting Data'!C2:C93564,'Accounting Data'!E2:E93564,\"8??\",'Accounting Data'!I2:I93564,\"32??\",'Accounting Data'!J2:J93564,\"62??\")+SUMIFS('Accounting Data'!C2:C93564,'Accounting Data'!E2:E93564,\"9??\",'Accounting Data'!I2:I93564,\"32??\",'Accounting Data'!J2:J93564,\"62??\")","v":0},{"$f":"SUMIFS('Accounting Data'!C2:C93564,'Accounting Data'!H2:H93564,\"7??\",'Accounting Data'!I2:I93564,\"32??\",'Accounting Data'!J2:J93564,\"62??\")+SUMIFS('Accounting Data'!C2:C93564,'Accounting Data'!H2:H93564,\"8??\",'Accounting Data'!I2:I93564,\"32??\",'Accounting Data'!J2:J93564,\"62??\")+SUMIFS('Accounting Data'!C2:C93564,'Accounting Data'!H2:H93564,\"9??\",'Accounting Data'!I2:I93564,\"32??\",'Accounting Data'!J2:J93564,\"62??\")","v":0},{"$f":"SUMIFS('Accounting Data'!C2:C93564,'Accounting Data'!E2:E93564,\"575\",'Accounting Data'!H2:H93564,\"7??\",'Accounting Data'!I2:I93564,\"32??\",'Accounting Data'!J2:J93564,\"62??\")+SUMIFS('Accounting Data'!C2:C93564,'Accounting Data'!E2:E93564,\"575\",'Accounting Data'!H2:H93564,\"8??\",'Accounting Data'!I2:I93564,\"32??\",'Accounting Data'!J2:J93564,\"62??\")+SUMIFS('Accounting Data'!C2:C93564,'Accounting Data'!E2:E93564,\"575\",'Accounting Data'!H2:H93564,\"9??\",'Accounting Data'!I2:I93564,\"32??\",'Accounting Data'!J2:J93564,\"62??\")","v":0},{"$f":"SUMIFS('Accounting Data'!C2:C93564,'Accounting Data'!E2:E93564,\"8??\",'Accounting Data'!H2:H93564,\"7??\",'Accounting Data'!I2:I93564,\"32??\",'Accounting Data'!J2:J93564,\"62??\")+SUMIFS('Accounting Data'!C2:C93564,'Accounting Data'!E2:E93564,\"8??\",'Accounting Data'!H2:H93564,\"8??\",'Accounting Data'!I2:I93564,\"32??\",'Accounting Data'!J2:J93564,\"62??\")+SUMIFS('Accounting Data'!C2:C93564,'Accounting Data'!E2:E93564,\"8??\",'Accounting Data'!H2:H93564,\"9??\",'Accounting Data'!I2:I93564,\"32??\",'Accounting Data'!J2:J93564,\"62??\")","v":0},{"$f":"SUMIFS('Accounting Data'!C2:C93564,'Accounting Data'!E2:E93564,\"9??\",'Accounting Data'!H2:H93564,\"7??\",'Accounting Data'!I2:I93564,\"32??\",'Accounting Data'!J2:J93564,\"62??\")+SUMIFS('Accounting Data'!C2:C93564,'Accounting Data'!E2:E93564,\"9??\",'Accounting Data'!H2:H93564,\"8??\",'Accounting Data'!I2:I93564,\"32??\",'Accounting Data'!J2:J93564,\"62??\")+SUMIFS('Accounting Data'!C2:C93564,'Accounting Data'!E2:E93564,\"9??\",'Accounting Data'!H2:H93564,\"9??\",'Accounting Data'!I2:I93564,\"32??\",'Accounting Data'!J2:J93564,\"62??\")","v":0},null,3200,{"$f":"SUMIFS('Accounting Data'!C2:C93564,'Accounting Data'!I2:I93564,\"32??\",'Accounting Data'!J2:J93564,\"63??\")+SUMIFS('Accounting Data'!C2:C93564,'Accounting Data'!I2:I93564,\"32??\",'Accounting Data'!J2:J93564,\"64??\")+SUMIFS('Accounting Data'!C2:C93564,'Accounting Data'!I2:I93564,\"32??\",'Accounting Data'!J2:J93564,\"65??\")","v":0},{"$f":"SUMIFS('Accounting Data'!C2:C93564,'Accounting Data'!E2:E93564,\"575\",'Accounting Data'!I2:I93564,\"32??\",'Accounting Data'!J2:J93564,\"63??\")+SUMIFS('Accounting Data'!C2:C93564,'Accounting Data'!E2:E93564,\"8??\",'Accounting Data'!I2:I93564,\"32??\",'Accounting Data'!J2:J93564,\"63??\")+SUMIFS('Accounting Data'!C2:C93564,'Accounting Data'!E2:E93564,\"9??\",'Accounting Data'!I2:I93564,\"32??\",'Accounting Data'!J2:J93564,\"63??\")","v":0},{"$f":"SUMIFS('Accounting Data'!C2:C93564,'Accounting Data'!E2:E93564,\"575\",'Accounting Data'!I2:I93564,\"32??\",'Accounting Data'!J2:J93564,\"64??\")+SUMIFS('Accounting Data'!C2:C93564,'Accounting Data'!E2:E93564,\"8??\",'Accounting Data'!I2:I93564,\"32??\",'Accounting Data'!J2:J93564,\"64??\")+SUMIFS('Accounting Data'!C2:C93564,'Accounting Data'!E2:E93564,\"9??\",'Accounting Data'!I2:I93564,\"32??\",'Accounting Data'!J2:J93564,\"64??\")","v":0},{"$f":"SUMIFS('Accounting Data'!C2:C93564,'Accounting Data'!E2:E93564,\"575\",'Accounting Data'!I2:I93564,\"32??\",'Accounting Data'!J2:J93564,\"65??\")+SUMIFS('Accounting Data'!C2:C93564,'Accounting Data'!E2:E93564,\"8??\",'Accounting Data'!I2:I93564,\"32??\",'Accounting Data'!J2:J93564,\"65??\")+SUMIFS('Accounting Data'!C2:C93564,'Accounting Data'!E2:E93564,\"9??\",'Accounting Data'!I2:I93564,\"32??\",'Accounting Data'!J2:J93564,\"65??\")","v":0},{"$f":"SUMIFS('Accounting Data'!C2:C93564,'Accounting Data'!H2:H93564,\"7??\",'Accounting Data'!I2:I93564,\"32??\",'Accounting Data'!J2:J93564,\"63??\")+SUMIFS('Accounting Data'!C2:C93564,'Accounting Data'!H2:H93564,\"8??\",'Accounting Data'!I2:I93564,\"32??\",'Accounting Data'!J2:J93564,\"63??\")+SUMIFS('Accounting Data'!C2:C93564,'Accounting Data'!H2:H93564,\"9??\",'Accounting Data'!I2:I93564,\"32??\",'Accounting Data'!J2:J93564,\"63??\")+SUMIFS('Accounting Data'!C2:C93564,'Accounting Data'!H2:H93564,\"7??\",'Accounting Data'!I2:I93564,\"32??\",'Accounting Data'!J2:J93564,\"64??\")+SUMIFS('Accounting Data'!C2:C93564,'Accounting Data'!H2:H93564,\"8??\",'Accounting Data'!I2:I93564,\"32??\",'Accounting Data'!J2:J93564,\"64??\")+SUMIFS('Accounting Data'!C2:C93564,'Accounting Data'!H2:H93564,\"9??\",'Accounting Data'!I2:I93564,\"32??\",'Accounting Data'!J2:J93564,\"64??\")+SUMIFS('Accounting Data'!C2:C93564,'Accounting Data'!H2:H93564,\"7??\",'Accounting Data'!I2:I93564,\"32??\",'Accounting Data'!J2:J93564,\"65??\")+SUMIFS('Accounting Data'!C2:C93564,'Accounting Data'!H2:H93564,\"8??\",'Accounting Data'!I2:I93564,\"32??\",'Accounting Data'!J2:J93564,\"65??\")+SUMIFS('Accounting Data'!C2:C93564,'Accounting Data'!H2:H93564,\"9??\",'Accounting Data'!I2:I93564,\"32??\",'Accounting Data'!J2:J93564,\"65??\")","v":0},{"$f":"SUMIFS('Accounting Data'!C2:C93564,'Accounting Data'!E2:E93564,\"575\",'Accounting Data'!H2:H93564,\"7??\",'Accounting Data'!I2:I93564,\"32??\",'Accounting Data'!J2:J93564,\"63??\")+SUMIFS('Accounting Data'!C2:C93564,'Accounting Data'!E2:E93564,\"575\",'Accounting Data'!H2:H93564,\"8??\",'Accounting Data'!I2:I93564,\"32??\",'Accounting Data'!J2:J93564,\"63??\")+SUMIFS('Accounting Data'!C2:C93564,'Accounting Data'!E2:E93564,\"575\",'Accounting Data'!H2:H93564,\"9??\",'Accounting Data'!I2:I93564,\"32??\",'Accounting Data'!J2:J93564,\"63??\")","v":0},{"$f":"SUMIFS('Accounting Data'!C2:C93564,'Accounting Data'!E2:E93564,\"575\",'Accounting Data'!H2:H93564,\"7??\",'Accounting Data'!I2:I93564,\"32??\",'Accounting Data'!J2:J93564,\"64??\")+SUMIFS('Accounting Data'!C2:C93564,'Accounting Data'!E2:E93564,\"575\",'Accounting Data'!H2:H93564,\"8??\",'Accounting Data'!I2:I93564,\"32??\",'Accounting Data'!J2:J93564,\"64??\")+SUMIFS('Accounting Data'!C2:C93564,'Accounting Data'!E2:E93564,\"575\",'Accounting Data'!H2:H93564,\"9??\",'Accounting Data'!I2:I93564,\"32??\",'Accounting Data'!J2:J93564,\"64??\")","v":0},{"$f":"SUMIFS('Accounting Data'!C2:C93564,'Accounting Data'!E2:E93564,\"575\",'Accounting Data'!H2:H93564,\"7??\",'Accounting Data'!I2:I93564,\"32??\",'Accounting Data'!J2:J93564,\"65??\")+SUMIFS('Accounting Data'!C2:C93564,'Accounting Data'!E2:E93564,\"575\",'Accounting Data'!H2:H93564,\"8??\",'Accounting Data'!I2:I93564,\"32??\",'Accounting Data'!J2:J93564,\"65??\")+SUMIFS('Accounting Data'!C2:C93564,'Accounting Data'!E2:E93564,\"575\",'Accounting Data'!H2:H93564,\"9??\",'Accounting Data'!I2:I93564,\"32??\",'Accounting Data'!J2:J93564,\"65??\")","v":0},{"$f":"SUMIFS('Accounting Data'!C2:C93564,'Accounting Data'!E2:E93564,\"8??\",'Accounting Data'!H2:H93564,\"7??\",'Accounting Data'!I2:I93564,\"32??\",'Accounting Data'!J2:J93564,\"63??\")+SUMIFS('Accounting Data'!C2:C93564,'Accounting Data'!E2:E93564,\"8??\",'Accounting Data'!H2:H93564,\"8??\",'Accounting Data'!I2:I93564,\"32??\",'Accounting Data'!J2:J93564,\"63??\")+SUMIFS('Accounting Data'!C2:C93564,'Accounting Data'!E2:E93564,\"8??\",'Accounting Data'!H2:H93564,\"9??\",'Accounting Data'!I2:I93564,\"32??\",'Accounting Data'!J2:J93564,\"63??\")","v":0},{"$f":"SUMIFS('Accounting Data'!C2:C93564,'Accounting Data'!E2:E93564,\"8??\",'Accounting Data'!H2:H93564,\"7??\",'Accounting Data'!I2:I93564,\"32??\",'Accounting Data'!J2:J93564,\"64??\")+SUMIFS('Accounting Data'!C2:C93564,'Accounting Data'!E2:E93564,\"8??\",'Accounting Data'!H2:H93564,\"8??\",'Accounting Data'!I2:I93564,\"32??\",'Accounting Data'!J2:J93564,\"64??\")+SUMIFS('Accounting Data'!C2:C93564,'Accounting Data'!E2:E93564,\"8??\",'Accounting Data'!H2:H93564,\"9??\",'Accounting Data'!I2:I93564,\"32??\",'Accounting Data'!J2:J93564,\"64??\")","v":0},{"$f":"SUMIFS('Accounting Data'!C2:C93564,'Accounting Data'!E2:E93564,\"8??\",'Accounting Data'!H2:H93564,\"7??\",'Accounting Data'!I2:I93564,\"32??\",'Accounting Data'!J2:J93564,\"65??\")+SUMIFS('Accounting Data'!C2:C93564,'Accounting Data'!E2:E93564,\"8??\",'Accounting Data'!H2:H93564,\"8??\",'Accounting Data'!I2:I93564,\"32??\",'Accounting Data'!J2:J93564,\"65??\")+SUMIFS('Accounting Data'!C2:C93564,'Accounting Data'!E2:E93564,\"8??\",'Accounting Data'!H2:H93564,\"9??\",'Accounting Data'!I2:I93564,\"32??\",'Accounting Data'!J2:J93564,\"65??\")","v":0},{"$f":"SUMIFS('Accounting Data'!C2:C93564,'Accounting Data'!E2:E93564,\"9??\",'Accounting Data'!H2:H93564,\"7??\",'Accounting Data'!I2:I93564,\"32??\",'Accounting Data'!J2:J93564,\"63??\")+SUMIFS('Accounting Data'!C2:C93564,'Accounting Data'!E2:E93564,\"9??\",'Accounting Data'!H2:H93564,\"8??\",'Accounting Data'!I2:I93564,\"32??\",'Accounting Data'!J2:J93564,\"63??\")+SUMIFS('Accounting Data'!C2:C93564,'Accounting Data'!E2:E93564,\"9??\",'Accounting Data'!H2:H93564,\"9??\",'Accounting Data'!I2:I93564,\"32??\",'Accounting Data'!J2:J93564,\"63??\")","v":0},{"$f":"SUMIFS('Accounting Data'!C2:C93564,'Accounting Data'!E2:E93564,\"9??\",'Accounting Data'!H2:H93564,\"7??\",'Accounting Data'!I2:I93564,\"32??\",'Accounting Data'!J2:J93564,\"64??\")+SUMIFS('Accounting Data'!C2:C93564,'Accounting Data'!E2:E93564,\"9??\",'Accounting Data'!H2:H93564,\"8??\",'Accounting Data'!I2:I93564,\"32??\",'Accounting Data'!J2:J93564,\"64??\")+SUMIFS('Accounting Data'!C2:C93564,'Accounting Data'!E2:E93564,\"9??\",'Accounting Data'!H2:H93564,\"9??\",'Accounting Data'!I2:I93564,\"32??\",'Accounting Data'!J2:J93564,\"64??\")","v":0},{"$f":"SUMIFS('Accounting Data'!C2:C93564,'Accounting Data'!E2:E93564,\"9??\",'Accounting Data'!H2:H93564,\"7??\",'Accounting Data'!I2:I93564,\"32??\",'Accounting Data'!J2:J93564,\"65??\")+SUMIFS('Accounting Data'!C2:C93564,'Accounting Data'!E2:E93564,\"9??\",'Accounting Data'!H2:H93564,\"8??\",'Accounting Data'!I2:I93564,\"32??\",'Accounting Data'!J2:J93564,\"65??\")+SUMIFS('Accounting Data'!C2:C93564,'Accounting Data'!E2:E93564,\"9??\",'Accounting Data'!H2:H93564,\"9??\",'Accounting Data'!I2:I93564,\"32??\",'Accounting Data'!J2:J93564,\"65??\")","v":0},null,3200,{"$f":"SUMIFS('Accounting Data'!C2:C93564,'Accounting Data'!I2:I93564,\"32??\",'Accounting Data'!J2:J93564,\"66??\")","v":0},{"$f":"SUMIFS('Accounting Data'!$C$2:$C$93564,'Accounting Data'!$E$2:$E$93564,\"575\",'Accounting Data'!$I$2:$I$93564,\"32??\",'Accounting Data'!$J$2:$J$93564,\"66??\")+SUMIFS('Accounting Data'!$C$2:$C$93564,'Accounting Data'!$E$2:$E$93564,\"8??\",'Accounting Data'!$I$2:$I$93564,\"32??\",'Accounting Data'!$J$2:$J$93564,\"66??\")+SUMIFS('Accounting Data'!$C$2:$C$93564,'Accounting Data'!$E$2:$E$93564,\"9??\",'Accounting Data'!$I$2:$I$93564,\"32??\",'Accounting Data'!$J$2:$J$93564,\"66??\")","v":0},{"$f":"SUMIFS('Accounting Data'!$C$2:$C$93564,'Accounting Data'!$H$2:$H$93564,\"7??\",'Accounting Data'!$I$2:$I$93564,\"32??\",'Accounting Data'!$J$2:$J$93564,\"66??\")+SUMIFS('Accounting Data'!$C$2:$C$93564,'Accounting Data'!$H$2:$H$93564,\"8??\",'Accounting Data'!$I$2:$I$93564,\"32??\",'Accounting Data'!$J$2:$J$93564,\"66??\")+SUMIFS('Accounting Data'!$C$2:$C$93564,'Accounting Data'!$H$2:$H$93564,\"9??\",'Accounting Data'!$I$2:$I$93564,\"32??\",'Accounting Data'!$J$2:$J$93564,\"66??\")","v":0},{"$f":"SUMIFS('Accounting Data'!$C$2:$C$93564,'Accounting Data'!$E$2:$E$93564,\"575\",'Accounting Data'!$H$2:$H$93564,\"7??\",'Accounting Data'!$I$2:$I$93564,\"32??\",'Accounting Data'!$J$2:$J$93564,\"66??\")+SUMIFS('Accounting Data'!$C$2:$C$93564,'Accounting Data'!$E$2:$E$93564,\"575\",'Accounting Data'!$H$2:$H$93564,\"8??\",'Accounting Data'!$I$2:$I$93564,\"32??\",'Accounting Data'!$J$2:$J$93564,\"66??\")+SUMIFS('Accounting Data'!$C$2:$C$93564,'Accounting Data'!$E$2:$E$93564,\"575\",'Accounting Data'!$H$2:$H$93564,\"9??\",'Accounting Data'!$I$2:$I$93564,\"32??\",'Accounting Data'!$J$2:$J$93564,\"66??\")","v":0},{"$f":"SUMIFS('Accounting Data'!$C$2:$C$93564,'Accounting Data'!$E$2:$E$93564,\"8??\",'Accounting Data'!$H$2:$H$93564,\"7??\",'Accounting Data'!$I$2:$I$93564,\"32??\",'Accounting Data'!$J$2:$J$93564,\"66??\")+SUMIFS('Accounting Data'!$C$2:$C$93564,'Accounting Data'!$E$2:$E$93564,\"8??\",'Accounting Data'!$H$2:$H$93564,\"8??\",'Accounting Data'!$I$2:$I$93564,\"32??\",'Accounting Data'!$J$2:$J$93564,\"66??\")+SUMIFS('Accounting Data'!$C$2:$C$93564,'Accounting Data'!$E$2:$E$93564,\"8??\",'Accounting Data'!$H$2:$H$93564,\"9??\",'Accounting Data'!$I$2:$I$93564,\"32??\",'Accounting Data'!$J$2:$J$93564,\"66??\")","v":0},{"$f":"SUMIFS('Accounting Data'!$C$2:$C$93564,'Accounting Data'!$E$2:$E$93564,\"9??\",'Accounting Data'!$H$2:$H$93564,\"7??\",'Accounting Data'!$I$2:$I$93564,\"32??\",'Accounting Data'!$J$2:$J$93564,\"66??\")+SUMIFS('Accounting Data'!$C$2:$C$93564,'Accounting Data'!$E$2:$E$93564,\"9??\",'Accounting Data'!$H$2:$H$93564,\"8??\",'Accounting Data'!$I$2:$I$93564,\"32??\",'Accounting Data'!$J$2:$J$93564,\"66??\")+SUMIFS('Accounting Data'!$C$2:$C$93564,'Accounting Data'!$E$2:$E$93564,\"9??\",'Accounting Data'!$H$2:$H$93564,\"9??\",'Accounting Data'!$I$2:$I$93564,\"32??\",'Accounting Data'!$J$2:$J$93564,\"66??\")","v":0},null,3200,{"$f":"SUMIFS('Accounting Data'!C2:C93564,'Accounting Data'!I2:I93564,\"32??\",'Accounting Data'!J2:J93564,\"67??\")","v":0},{"$f":"SUMIFS('Accounting Data'!$C$2:$C$93564,'Accounting Data'!$E$2:$E$93564,\"575\",'Accounting Data'!$I$2:$I$93564,\"32??\",'Accounting Data'!$J$2:$J$93564,\"67??\")+SUMIFS('Accounting Data'!$C$2:$C$93564,'Accounting Data'!$E$2:$E$93564,\"8??\",'Accounting Data'!$I$2:$I$93564,\"32??\",'Accounting Data'!$J$2:$J$93564,\"67??\")+SUMIFS('Accounting Data'!$C$2:$C$93564,'Accounting Data'!$E$2:$E$93564,\"9??\",'Accounting Data'!$I$2:$I$93564,\"32??\",'Accounting Data'!$J$2:$J$93564,\"67??\")","v":0},{"$f":"SUMIFS('Accounting Data'!$C$2:$C$93564,'Accounting Data'!$H$2:$H$93564,\"7??\",'Accounting Data'!$I$2:$I$93564,\"32??\",'Accounting Data'!$J$2:$J$93564,\"67??\")+SUMIFS('Accounting Data'!$C$2:$C$93564,'Accounting Data'!$H$2:$H$93564,\"8??\",'Accounting Data'!$I$2:$I$93564,\"32??\",'Accounting Data'!$J$2:$J$93564,\"67??\")+SUMIFS('Accounting Data'!$C$2:$C$93564,'Accounting Data'!$H$2:$H$93564,\"9??\",'Accounting Data'!$I$2:$I$93564,\"32??\",'Accounting Data'!$J$2:$J$93564,\"67??\")","v":0},{"$f":"SUMIFS('Accounting Data'!$C$2:$C$93564,'Accounting Data'!$E$2:$E$93564,\"575\",'Accounting Data'!$H$2:$H$93564,\"7??\",'Accounting Data'!$I$2:$I$93564,\"32??\",'Accounting Data'!$J$2:$J$93564,\"67??\")+SUMIFS('Accounting Data'!$C$2:$C$93564,'Accounting Data'!$E$2:$E$93564,\"575\",'Accounting Data'!$H$2:$H$93564,\"8??\",'Accounting Data'!$I$2:$I$93564,\"32??\",'Accounting Data'!$J$2:$J$93564,\"67??\")+SUMIFS('Accounting Data'!$C$2:$C$93564,'Accounting Data'!$E$2:$E$93564,\"575\",'Accounting Data'!$H$2:$H$93564,\"9??\",'Accounting Data'!$I$2:$I$93564,\"32??\",'Accounting Data'!$J$2:$J$93564,\"67??\")","v":0},{"$f":"SUMIFS('Accounting Data'!$C$2:$C$93564,'Accounting Data'!$E$2:$E$93564,\"8??\",'Accounting Data'!$H$2:$H$93564,\"7??\",'Accounting Data'!$I$2:$I$93564,\"32??\",'Accounting Data'!$J$2:$J$93564,\"67??\")+SUMIFS('Accounting Data'!$C$2:$C$93564,'Accounting Data'!$E$2:$E$93564,\"8??\",'Accounting Data'!$H$2:$H$93564,\"8??\",'Accounting Data'!$I$2:$I$93564,\"32??\",'Accounting Data'!$J$2:$J$93564,\"67??\")+SUMIFS('Accounting Data'!$C$2:$C$93564,'Accounting Data'!$E$2:$E$93564,\"8??\",'Accounting Data'!$H$2:$H$93564,\"9??\",'Accounting Data'!$I$2:$I$93564,\"32??\",'Accounting Data'!$J$2:$J$93564,\"67??\")","v":0},{"$f":"SUMIFS('Accounting Data'!$C$2:$C$93564,'Accounting Data'!$E$2:$E$93564,\"9??\",'Accounting Data'!$H$2:$H$93564,\"7??\",'Accounting Data'!$I$2:$I$93564,\"32??\",'Accounting Data'!$J$2:$J$93564,\"67??\")+SUMIFS('Accounting Data'!$C$2:$C$93564,'Accounting Data'!$E$2:$E$93564,\"9??\",'Accounting Data'!$H$2:$H$93564,\"8??\",'Accounting Data'!$I$2:$I$93564,\"32??\",'Accounting Data'!$J$2:$J$93564,\"67??\")+SUMIFS('Accounting Data'!$C$2:$C$93564,'Accounting Data'!$E$2:$E$93564,\"9??\",'Accounting Data'!$H$2:$H$93564,\"9??\",'Accounting Data'!$I$2:$I$93564,\"32??\",'Accounting Data'!$J$2:$J$93564,\"67??\")","v":0},null,3200,{"$f":"SUMIFS('Accounting Data'!C2:C93564,'Accounting Data'!I2:I93564,\"32??\",'Accounting Data'!J2:J93564,\"681?\")","v":0},{"$f":"SUMIFS('Accounting Data'!$C$2:$C$93564,'Accounting Data'!$E$2:$E$93564,\"575\",'Accounting Data'!$I$2:$I$93564,\"32??\",'Accounting Data'!$J$2:$J$93564,\"681?\")+SUMIFS('Accounting Data'!$C$2:$C$93564,'Accounting Data'!$E$2:$E$93564,\"8??\",'Accounting Data'!$I$2:$I$93564,\"32??\",'Accounting Data'!$J$2:$J$93564,\"681?\")+SUMIFS('Accounting Data'!$C$2:$C$93564,'Accounting Data'!$E$2:$E$93564,\"9??\",'Accounting Data'!$I$2:$I$93564,\"32??\",'Accounting Data'!$J$2:$J$93564,\"681?\")","v":0},{"$f":"SUMIFS('Accounting Data'!$C$2:$C$93564,'Accounting Data'!$H$2:$H$93564,\"7??\",'Accounting Data'!$I$2:$I$93564,\"32??\",'Accounting Data'!$J$2:$J$93564,\"681?\")+SUMIFS('Accounting Data'!$C$2:$C$93564,'Accounting Data'!$H$2:$H$93564,\"8??\",'Accounting Data'!$I$2:$I$93564,\"32??\",'Accounting Data'!$J$2:$J$93564,\"681?\")+SUMIFS('Accounting Data'!$C$2:$C$93564,'Accounting Data'!$H$2:$H$93564,\"9??\",'Accounting Data'!$I$2:$I$93564,\"32??\",'Accounting Data'!$J$2:$J$93564,\"681?\")","v":0},{"$f":"SUMIFS('Accounting Data'!$C$2:$C$93564,'Accounting Data'!$E$2:$E$93564,\"575\",'Accounting Data'!$H$2:$H$93564,\"7??\",'Accounting Data'!$I$2:$I$93564,\"32??\",'Accounting Data'!$J$2:$J$93564,\"681?\")+SUMIFS('Accounting Data'!$C$2:$C$93564,'Accounting Data'!$E$2:$E$93564,\"575\",'Accounting Data'!$H$2:$H$93564,\"8??\",'Accounting Data'!$I$2:$I$93564,\"32??\",'Accounting Data'!$J$2:$J$93564,\"681?\")+SUMIFS('Accounting Data'!$C$2:$C$93564,'Accounting Data'!$E$2:$E$93564,\"575\",'Accounting Data'!$H$2:$H$93564,\"9??\",'Accounting Data'!$I$2:$I$93564,\"32??\",'Accounting Data'!$J$2:$J$93564,\"681?\")","v":0},{"$f":"SUMIFS('Accounting Data'!$C$2:$C$93564,'Accounting Data'!$E$2:$E$93564,\"8??\",'Accounting Data'!$H$2:$H$93564,\"7??\",'Accounting Data'!$I$2:$I$93564,\"32??\",'Accounting Data'!$J$2:$J$93564,\"681?\")+SUMIFS('Accounting Data'!$C$2:$C$93564,'Accounting Data'!$E$2:$E$93564,\"8??\",'Accounting Data'!$H$2:$H$93564,\"8??\",'Accounting Data'!$I$2:$I$93564,\"32??\",'Accounting Data'!$J$2:$J$93564,\"681?\")+SUMIFS('Accounting Data'!$C$2:$C$93564,'Accounting Data'!$E$2:$E$93564,\"8??\",'Accounting Data'!$H$2:$H$93564,\"9??\",'Accounting Data'!$I$2:$I$93564,\"32??\",'Accounting Data'!$J$2:$J$93564,\"681?\")","v":0},{"$f":"SUMIFS('Accounting Data'!$C$2:$C$93564,'Accounting Data'!$E$2:$E$93564,\"9??\",'Accounting Data'!$H$2:$H$93564,\"7??\",'Accounting Data'!$I$2:$I$93564,\"32??\",'Accounting Data'!$J$2:$J$93564,\"681?\")+SUMIFS('Accounting Data'!$C$2:$C$93564,'Accounting Data'!$E$2:$E$93564,\"9??\",'Accounting Data'!$H$2:$H$93564,\"8??\",'Accounting Data'!$I$2:$I$93564,\"32??\",'Accounting Data'!$J$2:$J$93564,\"681?\")+SUMIFS('Accounting Data'!$C$2:$C$93564,'Accounting Data'!$E$2:$E$93564,\"9??\",'Accounting Data'!$H$2:$H$93564,\"9??\",'Accounting Data'!$I$2:$I$93564,\"32??\",'Accounting Data'!$J$2:$J$93564,\"681?\")","v":0},null,5000,{"$f":"SUMIFS('Accounting Data'!C2:C93564,'Accounting Data'!I2:I93564,\"5???\",'Accounting Data'!J2:J93564,\"6841\")+SUMIFS('Accounting Data'!C2:C93564,'Accounting Data'!I2:I93564,\"5???\",'Accounting Data'!J2:J93564,\"6842\")+SUMIFS('Accounting Data'!C2:C93564,'Accounting Data'!I2:I93564,\"5???\",'Accounting Data'!J2:J93564,\"6843\")","v":1798700},{"$f":"SUMIFS('Accounting Data'!$C$2:$C$93564,'Accounting Data'!$E$2:$E$93564,\"575\",'Accounting Data'!$I$2:$I$93564,\"5???\",'Accounting Data'!$J$2:$J$93564,\"6841\")+SUMIFS('Accounting Data'!$C$2:$C$93564,'Accounting Data'!$E$2:$E$93564,\"8??\",'Accounting Data'!$I$2:$I$93564,\"5???\",'Accounting Data'!$J$2:$J$93564,\"6841\")+SUMIFS('Accounting Data'!$C$2:$C$93564,'Accounting Data'!$E$2:$E$93564,\"9??\",'Accounting Data'!$I$2:$I$93564,\"5???\",'Accounting Data'!$J$2:$J$93564,\"6841\")","v":0},{"$f":"SUMIFS('Accounting Data'!$C$2:$C$93564,'Accounting Data'!$E$2:$E$93564,\"575\",'Accounting Data'!$I$2:$I$93564,\"5???\",'Accounting Data'!$J$2:$J$93564,\"6842\")+SUMIFS('Accounting Data'!$C$2:$C$93564,'Accounting Data'!$E$2:$E$93564,\"8??\",'Accounting Data'!$I$2:$I$93564,\"5???\",'Accounting Data'!$J$2:$J$93564,\"6842\")+SUMIFS('Accounting Data'!$C$2:$C$93564,'Accounting Data'!$E$2:$E$93564,\"9??\",'Accounting Data'!$I$2:$I$93564,\"5???\",'Accounting Data'!$J$2:$J$93564,\"6842\")","v":0},{"$f":"SUMIFS('Accounting Data'!$C$2:$C$93564,'Accounting Data'!$E$2:$E$93564,\"575\",'Accounting Data'!$I$2:$I$93564,\"5???\",'Accounting Data'!$J$2:$J$93564,\"6843\")+SUMIFS('Accounting Data'!$C$2:$C$93564,'Accounting Data'!$E$2:$E$93564,\"8??\",'Accounting Data'!$I$2:$I$93564,\"5???\",'Accounting Data'!$J$2:$J$93564,\"6843\")+SUMIFS('Accounting Data'!$C$2:$C$93564,'Accounting Data'!$E$2:$E$93564,\"9??\",'Accounting Data'!$I$2:$I$93564,\"5???\",'Accounting Data'!$J$2:$J$93564,\"6843\")","v":0},{"$f":"SUMIFS('Accounting Data'!C2:C93564,'Accounting Data'!H2:H93564,\"7??\",'Accounting Data'!I2:I93564,\"5???\",'Accounting Data'!J2:J93564,\"6841\")+SUMIFS('Accounting Data'!C2:C93564,'Accounting Data'!H2:H93564,\"8??\",'Accounting Data'!I2:I93564,\"5???\",'Accounting Data'!J2:J93564,\"6841\")+SUMIFS('Accounting Data'!C2:C93564,'Accounting Data'!H2:H93564,\"9??\",'Accounting Data'!I2:I93564,\"5???\",'Accounting Data'!J2:J93564,\"6841\")+SUMIFS('Accounting Data'!C2:C93564,'Accounting Data'!H2:H93564,\"7??\",'Accounting Data'!I2:I93564,\"5???\",'Accounting Data'!J2:J93564,\"6842\")+SUMIFS('Accounting Data'!C2:C93564,'Accounting Data'!H2:H93564,\"8??\",'Accounting Data'!I2:I93564,\"5???\",'Accounting Data'!J2:J93564,\"6842\")+SUMIFS('Accounting Data'!C2:C93564,'Accounting Data'!H2:H93564,\"9??\",'Accounting Data'!I2:I93564,\"5???\",'Accounting Data'!J2:J93564,\"6842\")+SUMIFS('Accounting Data'!C2:C93564,'Accounting Data'!H2:H93564,\"7??\",'Accounting Data'!I2:I93564,\"5???\",'Accounting Data'!J2:J93564,\"6843\")+SUMIFS('Accounting Data'!C2:C93564,'Accounting Data'!H2:H93564,\"8??\",'Accounting Data'!I2:I93564,\"5???\",'Accounting Data'!J2:J93564,\"6843\")+SUMIFS('Accounting Data'!C2:C93564,'Accounting Data'!H2:H93564,\"9??\",'Accounting Data'!I2:I93564,\"5???\",'Accounting Data'!J2:J93564,\"6843\")","v":0},{"$f":"SUMIFS('Accounting Data'!$C$2:$C$93564,'Accounting Data'!$E$2:$E$93564,\"575\",'Accounting Data'!$H$2:$H$93564,\"7??\",'Accounting Data'!$I$2:$I$93564,\"5???\",'Accounting Data'!$J$2:$J$93564,\"6841\")+SUMIFS('Accounting Data'!$C$2:$C$93564,'Accounting Data'!$E$2:$E$93564,\"575\",'Accounting Data'!$H$2:$H$93564,\"8??\",'Accounting Data'!$I$2:$I$93564,\"5???\",'Accounting Data'!$J$2:$J$93564,\"6841\")+SUMIFS('Accounting Data'!$C$2:$C$93564,'Accounting Data'!$E$2:$E$93564,\"575\",'Accounting Data'!$H$2:$H$93564,\"9??\",'Accounting Data'!$I$2:$I$93564,\"5???\",'Accounting Data'!$J$2:$J$93564,\"6841\")","v":0},{"$f":"SUMIFS('Accounting Data'!$C$2:$C$93564,'Accounting Data'!$E$2:$E$93564,\"575\",'Accounting Data'!$H$2:$H$93564,\"7??\",'Accounting Data'!$I$2:$I$93564,\"5???\",'Accounting Data'!$J$2:$J$93564,\"6842\")+SUMIFS('Accounting Data'!$C$2:$C$93564,'Accounting Data'!$E$2:$E$93564,\"575\",'Accounting Data'!$H$2:$H$93564,\"8??\",'Accounting Data'!$I$2:$I$93564,\"5???\",'Accounting Data'!$J$2:$J$93564,\"6842\")+SUMIFS('Accounting Data'!$C$2:$C$93564,'Accounting Data'!$E$2:$E$93564,\"575\",'Accounting Data'!$H$2:$H$93564,\"9??\",'Accounting Data'!$I$2:$I$93564,\"5???\",'Accounting Data'!$J$2:$J$93564,\"6842\")","v":0},{"$f":"SUMIFS('Accounting Data'!$C$2:$C$93564,'Accounting Data'!$E$2:$E$93564,\"575\",'Accounting Data'!$H$2:$H$93564,\"7??\",'Accounting Data'!$I$2:$I$93564,\"5???\",'Accounting Data'!$J$2:$J$93564,\"6843\")+SUMIFS('Accounting Data'!$C$2:$C$93564,'Accounting Data'!$E$2:$E$93564,\"575\",'Accounting Data'!$H$2:$H$93564,\"8??\",'Accounting Data'!$I$2:$I$93564,\"5???\",'Accounting Data'!$J$2:$J$93564,\"6843\")+SUMIFS('Accounting Data'!$C$2:$C$93564,'Accounting Data'!$E$2:$E$93564,\"575\",'Accounting Data'!$H$2:$H$93564,\"9??\",'Accounting Data'!$I$2:$I$93564,\"5???\",'Accounting Data'!$J$2:$J$93564,\"6843\")","v":0},{"$f":"SUMIFS('Accounting Data'!$C$2:$C$93564,'Accounting Data'!$E$2:$E$93564,\"8??\",'Accounting Data'!$H$2:$H$93564,\"7??\",'Accounting Data'!$I$2:$I$93564,\"5???\",'Accounting Data'!$J$2:$J$93564,\"6841\")+SUMIFS('Accounting Data'!$C$2:$C$93564,'Accounting Data'!$E$2:$E$93564,\"8??\",'Accounting Data'!$H$2:$H$93564,\"8??\",'Accounting Data'!$I$2:$I$93564,\"5???\",'Accounting Data'!$J$2:$J$93564,\"6841\")+SUMIFS('Accounting Data'!$C$2:$C$93564,'Accounting Data'!$E$2:$E$93564,\"8??\",'Accounting Data'!$H$2:$H$93564,\"9??\",'Accounting Data'!$I$2:$I$93564,\"5???\",'Accounting Data'!$J$2:$J$93564,\"6841\")","v":0},{"$f":"SUMIFS('Accounting Data'!$C$2:$C$93564,'Accounting Data'!$E$2:$E$93564,\"8??\",'Accounting Data'!$H$2:$H$93564,\"7??\",'Accounting Data'!$I$2:$I$93564,\"5???\",'Accounting Data'!$J$2:$J$93564,\"6842\")+SUMIFS('Accounting Data'!$C$2:$C$93564,'Accounting Data'!$E$2:$E$93564,\"8??\",'Accounting Data'!$H$2:$H$93564,\"8??\",'Accounting Data'!$I$2:$I$93564,\"5???\",'Accounting Data'!$J$2:$J$93564,\"6842\")+SUMIFS('Accounting Data'!$C$2:$C$93564,'Accounting Data'!$E$2:$E$93564,\"8??\",'Accounting Data'!$H$2:$H$93564,\"9??\",'Accounting Data'!$I$2:$I$93564,\"5???\",'Accounting Data'!$J$2:$J$93564,\"6842\")","v":0},{"$f":"SUMIFS('Accounting Data'!$C$2:$C$93564,'Accounting Data'!$E$2:$E$93564,\"8??\",'Accounting Data'!$H$2:$H$93564,\"7??\",'Accounting Data'!$I$2:$I$93564,\"5???\",'Accounting Data'!$J$2:$J$93564,\"6843\")+SUMIFS('Accounting Data'!$C$2:$C$93564,'Accounting Data'!$E$2:$E$93564,\"8??\",'Accounting Data'!$H$2:$H$93564,\"8??\",'Accounting Data'!$I$2:$I$93564,\"5???\",'Accounting Data'!$J$2:$J$93564,\"6843\")+SUMIFS('Accounting Data'!$C$2:$C$93564,'Accounting Data'!$E$2:$E$93564,\"8??\",'Accounting Data'!$H$2:$H$93564,\"9??\",'Accounting Data'!$I$2:$I$93564,\"5???\",'Accounting Data'!$J$2:$J$93564,\"6843\")","v":0},{"$f":"SUMIFS('Accounting Data'!$C$2:$C$93564,'Accounting Data'!$E$2:$E$93564,\"9??\",'Accounting Data'!$H$2:$H$93564,\"7??\",'Accounting Data'!$I$2:$I$93564,\"5???\",'Accounting Data'!$J$2:$J$93564,\"6841\")+SUMIFS('Accounting Data'!$C$2:$C$93564,'Accounting Data'!$E$2:$E$93564,\"9??\",'Accounting Data'!$H$2:$H$93564,\"8??\",'Accounting Data'!$I$2:$I$93564,\"5???\",'Accounting Data'!$J$2:$J$93564,\"6841\")+SUMIFS('Accounting Data'!$C$2:$C$93564,'Accounting Data'!$E$2:$E$93564,\"9??\",'Accounting Data'!$H$2:$H$93564,\"9??\",'Accounting Data'!$I$2:$I$93564,\"5???\",'Accounting Data'!$J$2:$J$93564,\"6841\")","v":0},{"$f":"SUMIFS('Accounting Data'!$C$2:$C$93564,'Accounting Data'!$E$2:$E$93564,\"9??\",'Accounting Data'!$H$2:$H$93564,\"7??\",'Accounting Data'!$I$2:$I$93564,\"5???\",'Accounting Data'!$J$2:$J$93564,\"6842\")+SUMIFS('Accounting Data'!$C$2:$C$93564,'Accounting Data'!$E$2:$E$93564,\"9??\",'Accounting Data'!$H$2:$H$93564,\"8??\",'Accounting Data'!$I$2:$I$93564,\"5???\",'Accounting Data'!$J$2:$J$93564,\"6842\")+SUMIFS('Accounting Data'!$C$2:$C$93564,'Accounting Data'!$E$2:$E$93564,\"9??\",'Accounting Data'!$H$2:$H$93564,\"9??\",'Accounting Data'!$I$2:$I$93564,\"5???\",'Accounting Data'!$J$2:$J$93564,\"6842\")","v":0},{"$f":"SUMIFS('Accounting Data'!$C$2:$C$93564,'Accounting Data'!$E$2:$E$93564,\"9??\",'Accounting Data'!$H$2:$H$93564,\"7??\",'Accounting Data'!$I$2:$I$93564,\"5???\",'Accounting Data'!$J$2:$J$93564,\"6843\")+SUMIFS('Accounting Data'!$C$2:$C$93564,'Accounting Data'!$E$2:$E$93564,\"9??\",'Accounting Data'!$H$2:$H$93564,\"8??\",'Accounting Data'!$I$2:$I$93564,\"5???\",'Accounting Data'!$J$2:$J$93564,\"6843\")+SUMIFS('Accounting Data'!$C$2:$C$93564,'Accounting Data'!$E$2:$E$93564,\"9??\",'Accounting Data'!$H$2:$H$93564,\"9??\",'Accounting Data'!$I$2:$I$93564,\"5???\",'Accounting Data'!$J$2:$J$93564,\"6843\")","v":0},null,3200,{"$f":"SUM(SUMIFS('Accounting Data'!C2:C93564,'Accounting Data'!I2:I93564,\"32??\",'Accounting Data'!J2:J93564,{\"689?\",\"6885\"}))","v":0},{"$f":"SUM(SUMIFS('Accounting Data'!$C$2:$C$93564,'Accounting Data'!$E$2:$E$93564,\"575\",'Accounting Data'!$I$2:$I$93564,\"32??\",'Accounting Data'!$J$2:$J$93564,{\"689?\",\"6885\"}))+SUM(SUMIFS('Accounting Data'!$C$2:$C$93564,'Accounting Data'!$E$2:$E$93564,\"8??\",'Accounting Data'!$I$2:$I$93564,\"32??\",'Accounting Data'!$J$2:$J$93564,{\"689?\",\"6885\"}))+SUM(SUMIFS('Accounting Data'!$C$2:$C$93564,'Accounting Data'!$E$2:$E$93564,\"9??\",'Accounting Data'!$I$2:$I$93564,\"32??\",'Accounting Data'!$J$2:$J$93564,{\"689?\",\"6885\"}))","v":0},{"$f":"SUM(SUMIFS('Accounting Data'!$C$2:$C$93564,'Accounting Data'!$H$2:$H$93564,\"7??\",'Accounting Data'!$I$2:$I$93564,\"32??\",'Accounting Data'!$J$2:$J$93564,{\"689?\",\"6885\"}))+SUM(SUMIFS('Accounting Data'!$C$2:$C$93564,'Accounting Data'!$H$2:$H$93564,\"8??\",'Accounting Data'!$I$2:$I$93564,\"32??\",'Accounting Data'!$J$2:$J$93564,{\"689?\",\"6885\"}))+SUM(SUMIFS('Accounting Data'!$C$2:$C$93564,'Accounting Data'!$H$2:$H$93564,\"9??\",'Accounting Data'!$I$2:$I$93564,\"32??\",'Accounting Data'!$J$2:$J$93564,{\"689?\",\"6885\"}))","v":0},{"$f":"SUM(SUMIFS('Accounting Data'!$C$2:$C$93564,'Accounting Data'!$E$2:$E$93564,\"575\",'Accounting Data'!$H$2:$H$93564,\"7??\",'Accounting Data'!$I$2:$I$93564,\"32??\",'Accounting Data'!$J$2:$J$93564,{\"689?\",\"6885\"}))+SUM(SUMIFS('Accounting Data'!$C$2:$C$93564,'Accounting Data'!$E$2:$E$93564,\"575\",'Accounting Data'!$H$2:$H$93564,\"8??\",'Accounting Data'!$I$2:$I$93564,\"32??\",'Accounting Data'!$J$2:$J$93564,{\"689?\",\"6885\"}))+SUM(SUMIFS('Accounting Data'!$C$2:$C$93564,'Accounting Data'!$E$2:$E$93564,\"575\",'Accounting Data'!$H$2:$H$93564,\"9??\",'Accounting Data'!$I$2:$I$93564,\"32??\",'Accounting Data'!$J$2:$J$93564,{\"689?\",\"6885\"}))","v":0},{"$f":"SUM(SUMIFS('Accounting Data'!$C$2:$C$93564,'Accounting Data'!$E$2:$E$93564,\"8??\",'Accounting Data'!$H$2:$H$93564,\"7??\",'Accounting Data'!$I$2:$I$93564,\"32??\",'Accounting Data'!$J$2:$J$93564,{\"689?\",\"6885\"}))+SUM(SUMIFS('Accounting Data'!$C$2:$C$93564,'Accounting Data'!$E$2:$E$93564,\"8??\",'Accounting Data'!$H$2:$H$93564,\"8??\",'Accounting Data'!$I$2:$I$93564,\"32??\",'Accounting Data'!$J$2:$J$93564,{\"689?\",\"6885\"}))+SUM(SUMIFS('Accounting Data'!$C$2:$C$93564,'Accounting Data'!$E$2:$E$93564,\"8??\",'Accounting Data'!$H$2:$H$93564,\"9??\",'Accounting Data'!$I$2:$I$93564,\"32??\",'Accounting Data'!$J$2:$J$93564,{\"689?\",\"6885\"}))","v":0},{"$f":"SUM(SUMIFS('Accounting Data'!$C$2:$C$93564,'Accounting Data'!$E$2:$E$93564,\"9??\",'Accounting Data'!$H$2:$H$93564,\"7??\",'Accounting Data'!$I$2:$I$93564,\"32??\",'Accounting Data'!$J$2:$J$93564,{\"689?\",\"6885\"}))+SUM(SUMIFS('Accounting Data'!$C$2:$C$93564,'Accounting Data'!$E$2:$E$93564,\"9??\",'Accounting Data'!$H$2:$H$93564,\"8??\",'Accounting Data'!$I$2:$I$93564,\"32??\",'Accounting Data'!$J$2:$J$93564,{\"689?\",\"6885\"}))+SUM(SUMIFS('Accounting Data'!$C$2:$C$93564,'Accounting Data'!$E$2:$E$93564,\"9??\",'Accounting Data'!$H$2:$H$93564,\"9??\",'Accounting Data'!$I$2:$I$93564,\"32??\",'Accounting Data'!$J$2:$J$93564,{\"689?\",\"6885\"}))","v":0},null,3300,{"$f":"SUMIFS('Accounting Data'!$C$2:$C$93564,'Accounting Data'!$I$2:$I$93564,\"33??\",'Accounting Data'!$J$2:$J$93564,\"6???\")","v":0},{"$f":"SUMIFS('Accounting Data'!$C$2:$C$93564,'Accounting Data'!$I$2:$I$93564,\"33??\",'Accounting Data'!$J$2:$J$93564,\"69??\")","v":0},{"$f":"SUMIFS('Accounting Data'!$C$2:$C$93564,'Accounting Data'!$E$2:$E$93564,\"575\",'Accounting Data'!$I$2:$I$93564,\"33??\",'Accounting Data'!$J$2:$J$93564,\"6???\")","v":0},{"$f":"SUMIFS('Accounting Data'!$C$2:$C$93564,'Accounting Data'!$E$2:$E$93564,\"8??\",'Accounting Data'!$I$2:$I$93564,\"33??\",'Accounting Data'!$J$2:$J$93564,\"6???\")+SUMIFS('Accounting Data'!$C$2:$C$93564,'Accounting Data'!$E$2:$E$93564,\"9??\",'Accounting Data'!$I$2:$I$93564,\"33??\",'Accounting Data'!$J$2:$J$93564,\"6???\")","v":0},{"$f":"SUMIFS('Accounting Data'!$C$2:$C$93564,'Accounting Data'!$E$2:$E$93564,\"575\",'Accounting Data'!$I$2:$I$93564,\"33??\",'Accounting Data'!$J$2:$J$93564,\"69??\")","v":0},{"$f":"SUMIFS('Accounting Data'!$C$2:$C$93564,'Accounting Data'!$E$2:$E$93564,\"8??\",'Accounting Data'!$I$2:$I$93564,\"33??\",'Accounting Data'!$J$2:$J$93564,\"69??\")+SUMIFS('Accounting Data'!$C$2:$C$93564,'Accounting Data'!$E$2:$E$93564,\"9??\",'Accounting Data'!$I$2:$I$93564,\"33??\",'Accounting Data'!$J$2:$J$93564,\"69??\")","v":0}]
["         3400 Bookstore Operations","12.",{"$f":"(AA24-AB24-AC24)+(AD24+AE24+AF24)","v":0},{"$f":"(AI24-AJ24-AK24)+(AL24+AM24+AN24)","v":0},{"$f":"(AQ24-AR24-AS24-AT24-AU24)+(AV24+AW24+AX24+AY24+AZ24+BA24+BB24+BC24+BD24)","v":0},{"$f":"(BG24-BH24-BI24)+(BJ24+BK24+BL24)","v":0},{"$f":"(BO24-BP24-BQ24)+(BR24+BS24+BT24)","v":0},{"$f":"(BW24-BX24-BY24)+(BZ24+CA24+CB24)","v":0},null,null,null,{"$f":"(CU24-CV24-CW24)+(CX24+CY24+CZ24)","v":0},{"$f":"(DC23-DD23)-((DE23+DF23)-(DG23+DH23))","v":0},{"$f":"SUM(C23:M23)","v":0},"12.",null,null,null,"6500",{"$f":"SUMIFS('Accounting Data'!$C$2:$C$93564,'Accounting Data'!$E$2:$E$93564,\"378\",'Accounting Data'!$I$2:$I$93564,\"1???\",'Accounting Data'!$J$2:$J$93564,\"65??\")+SUMIFS('Accounting Data'!$C$2:$C$93564,'Accounting Data'!$E$2:$E$93564,\"378\",'Accounting Data'!$I$2:$I$93564,\"2???\",'Accounting Data'!$J$2:$J$93564,\"65??\")+SUMIFS('Accounting Data'!$C$2:$C$93564,'Accounting Data'!$E$2:$E$93564,\"378\",'Accounting Data'!$I$2:$I$93564,\"3???\",'Accounting Data'!$J$2:$J$93564,\"65??\")","v":0},0,0,0,null,null,null,null,null,null,null,null,null,null,null,null,null,null,null,null,null,null,null,null,null,null,null,null,null,null,null,null,null,null,null,null,null,null,null,null,null,null,null,null,null,null,null,null,null,null,null,null,null,null,null,null,null,null,null,null,null,null,null,null,null,null,null,null,null,null,null,null,null,null,null,null,null,null,null,null,null,null,null,null,null,null,3400,{"$f":"SUMIFS('Accounting Data'!$C$2:$C$93564,'Accounting Data'!$H$2:$H$93564,\"7??\",'Accounting Data'!$I$2:$I$93564,\"34??\",'Accounting Data'!$J$2:$J$93564,\"6???\")+SUMIFS('Accounting Data'!$C$2:$C$93564,'Accounting Data'!$H$2:$H$93564,\"8??\",'Accounting Data'!$I$2:$I$93564,\"34??\",'Accounting Data'!$J$2:$J$93564,\"6???\")+SUMIFS('Accounting Data'!$C$2:$C$93564,'Accounting Data'!$H$2:$H$93564,\"9??\",'Accounting Data'!$I$2:$I$93564,\"34??\",'Accounting Data'!$J$2:$J$93564,\"6???\")","v":0},{"$f":"SUMIFS('Accounting Data'!$C$2:$C$93564,'Accounting Data'!$H$2:$H$93564,\"7??\",'Accounting Data'!$I$2:$I$93564,\"34??\",'Accounting Data'!$J$2:$J$93564,\"69??\")+SUMIFS('Accounting Data'!$C$2:$C$93564,'Accounting Data'!$H$2:$H$93564,\"8??\",'Accounting Data'!$I$2:$I$93564,\"34??\",'Accounting Data'!$J$2:$J$93564,\"69??\")+SUMIFS('Accounting Data'!$C$2:$C$93564,'Accounting Data'!$H$2:$H$93564,\"9??\",'Accounting Data'!$I$2:$I$93564,\"34??\",'Accounting Data'!$J$2:$J$93564,\"69??\")","v":0},{"$f":"SUMIFS('Accounting Data'!$C$2:$C$93564,'Accounting Data'!$E$2:$E$93564,\"575\",'Accounting Data'!$H$2:$H$93564,\"7??\",'Accounting Data'!$I$2:$I$93564,\"34??\",'Accounting Data'!$J$2:$J$93564,\"6???\")+SUMIFS('Accounting Data'!$C$2:$C$93564,'Accounting Data'!$E$2:$E$93564,\"575\",'Accounting Data'!$H$2:$H$93564,\"8??\",'Accounting Data'!$I$2:$I$93564,\"34??\",'Accounting Data'!$J$2:$J$93564,\"6???\")+SUMIFS('Accounting Data'!$C$2:$C$93564,'Accounting Data'!$E$2:$E$93564,\"575\",'Accounting Data'!$H$2:$H$93564,\"9??\",'Accounting Data'!$I$2:$I$93564,\"34??\",'Accounting Data'!$J$2:$J$93564,\"6???\")","v":0},{"$f":"SUMIFS('Accounting Data'!$C$2:$C$93564,'Accounting Data'!$E$2:$E$93564,\"8??\",'Accounting Data'!$H$2:$H$93564,\"7??\",'Accounting Data'!$I$2:$I$93564,\"34??\",'Accounting Data'!$J$2:$J$93564,\"6???\")+SUMIFS('Accounting Data'!$C$2:$C$93564,'Accounting Data'!$E$2:$E$93564,\"8??\",'Accounting Data'!$H$2:$H$93564,\"8??\",'Accounting Data'!$I$2:$I$93564,\"34??\",'Accounting Data'!$J$2:$J$93564,\"6???\")+SUMIFS('Accounting Data'!$C$2:$C$93564,'Accounting Data'!$E$2:$E$93564,\"8??\",'Accounting Data'!$H$2:$H$93564,\"9??\",'Accounting Data'!$I$2:$I$93564,\"34??\",'Accounting Data'!$J$2:$J$93564,\"6???\")+SUMIFS('Accounting Data'!$C$2:$C$93564,'Accounting Data'!$E$2:$E$93564,\"9??\",'Accounting Data'!$H$2:$H$93564,\"7??\",'Accounting Data'!$I$2:$I$93564,\"34??\",'Accounting Data'!$J$2:$J$93564,\"6???\")+SUMIFS('Accounting Data'!$C$2:$C$93564,'Accounting Data'!$E$2:$E$93564,\"9??\",'Accounting Data'!$H$2:$H$93564,\"8??\",'Accounting Data'!$I$2:$I$93564,\"34??\",'Accounting Data'!$J$2:$J$93564,\"6???\")+SUMIFS('Accounting Data'!$C$2:$C$93564,'Accounting Data'!$E$2:$E$93564,\"9??\",'Accounting Data'!$H$2:$H$93564,\"9??\",'Accounting Data'!$I$2:$I$93564,\"34??\",'Accounting Data'!$J$2:$J$93564,\"6???\")","v":0},{"$f":"SUMIFS('Accounting Data'!$C$2:$C$93564,'Accounting Data'!$E$2:$E$93564,\"575\",'Accounting Data'!$H$2:$H$93564,\"7??\",'Accounting Data'!$I$2:$I$93564,\"34??\",'Accounting Data'!$J$2:$J$93564,\"69??\")+SUMIFS('Accounting Data'!$C$2:$C$93564,'Accounting Data'!$E$2:$E$93564,\"575\",'Accounting Data'!$H$2:$H$93564,\"8??\",'Accounting Data'!$I$2:$I$93564,\"34??\",'Accounting Data'!$J$2:$J$93564,\"69??\")+SUMIFS('Accounting Data'!$C$2:$C$93564,'Accounting Data'!$E$2:$E$93564,\"575\",'Accounting Data'!$H$2:$H$93564,\"9??\",'Accounting Data'!$I$2:$I$93564,\"34??\",'Accounting Data'!$J$2:$J$93564,\"69??\")","v":0},{"$f":"SUMIFS('Accounting Data'!$C$2:$C$93564,'Accounting Data'!$E$2:$E$93564,\"8??\",'Accounting Data'!$H$2:$H$93564,\"7??\",'Accounting Data'!$I$2:$I$93564,\"34??\",'Accounting Data'!$J$2:$J$93564,\"69??\")+SUMIFS('Accounting Data'!$C$2:$C$93564,'Accounting Data'!$E$2:$E$93564,\"8??\",'Accounting Data'!$H$2:$H$93564,\"8??\",'Accounting Data'!$I$2:$I$93564,\"34??\",'Accounting Data'!$J$2:$J$93564,\"69??\")+SUMIFS('Accounting Data'!$C$2:$C$93564,'Accounting Data'!$E$2:$E$93564,\"8??\",'Accounting Data'!$H$2:$H$93564,\"9??\",'Accounting Data'!$I$2:$I$93564,\"34??\",'Accounting Data'!$J$2:$J$93564,\"69??\")+SUMIFS('Accounting Data'!$C$2:$C$93564,'Accounting Data'!$E$2:$E$93564,\"9??\",'Accounting Data'!$H$2:$H$93564,\"7??\",'Accounting Data'!$I$2:$I$93564,\"34??\",'Accounting Data'!$J$2:$J$93564,\"69??\")+SUMIFS('Accounting Data'!$C$2:$C$93564,'Accounting Data'!$E$2:$E$93564,\"9??\",'Accounting Data'!$H$2:$H$93564,\"8??\",'Accounting Data'!$I$2:$I$93564,\"34??\",'Accounting Data'!$J$2:$J$93564,\"69??\")+SUMIFS('Accounting Data'!$C$2:$C$93564,'Accounting Data'!$E$2:$E$93564,\"9??\",'Accounting Data'!$H$2:$H$93564,\"9??\",'Accounting Data'!$I$2:$I$93564,\"34??\",'Accounting Data'!$J$2:$J$93564,\"69??\")","v":0}]
["Total (lines 1-12)","13.",{"$f":"SUM(C10:C23)","v":20226752},{"$f":"SUM(D10:D23)","v":6140206},3751186,3171495,2136412,86154,0,null,{"$f":"SUM(K10:K23)","v":0},{"$f":"SUM(L10:L23)","v":24799},{"$f":"SUM(M10:M23)","v":0},{"$f":"SUM(N10:N23)","v":35537004},"13.",null,null,null,"6600",{"$f":"SUMIFS('Accounting Data'!$C$2:$C$93564,'Accounting Data'!$E$2:$E$93564,\"378\",'Accounting Data'!$I$2:$I$93564,\"1???\",'Accounting Data'!$J$2:$J$93564,\"66??\")+SUMIFS('Accounting Data'!$C$2:$C$93564,'Accounting Data'!$E$2:$E$93564,\"378\",'Accounting Data'!$I$2:$I$93564,\"2???\",'Accounting Data'!$J$2:$J$93564,\"66??\")+SUMIFS('Accounting Data'!$C$2:$C$93564,'Accounting Data'!$E$2:$E$93564,\"378\",'Accounting Data'!$I$2:$I$93564,\"3???\",'Accounting Data'!$J$2:$J$93564,\"66??\")","v":0},0,0,0,null,null,3400,{"$f":"SUMIFS('Accounting Data'!C2:C93564,'Accounting Data'!I2:I93564,\"34??\",'Accounting Data'!J2:J93564,\"61??\")","v":0},{"$f":"SUMIFS('Accounting Data'!C2:C93564,'Accounting Data'!E2:E93564,\"575\",'Accounting Data'!I2:I93564,\"34??\",'Accounting Data'!J2:J93564,\"61??\")+SUMIFS('Accounting Data'!C2:C93564,'Accounting Data'!E2:E93564,\"8??\",'Accounting Data'!I2:I93564,\"34??\",'Accounting Data'!J2:J93564,\"61??\")+SUMIFS('Accounting Data'!C2:C93564,'Accounting Data'!E2:E93564,\"9??\",'Accounting Data'!I2:I93564,\"34??\",'Accounting Data'!J2:J93564,\"61??\")","v":0},{"$f":"SUMIFS('Accounting Data'!C2:C93564,'Accounting Data'!H2:H93564,\"7??\",'Accounting Data'!I2:I93564,\"34??\",'Accounting Data'!J2:J93564,\"61??\")+SUMIFS('Accounting Data'!C2:C93564,'Accounting Data'!H2:H93564,\"8??\",'Accounting Data'!I2:I93564,\"34??\",'Accounting Data'!J2:J93564,\"61??\")+SUMIFS('Accounting Data'!C2:C93564,'Accounting Data'!H2:H93564,\"9??\",'Accounting Data'!I2:I93564,\"34??\",'Accounting Data'!J2:J93564,\"61??\")","v":0},{"$f":"SUMIFS('Accounting Data'!C2:C93564,'Accounting Data'!E2:E93564,\"575\",'Accounting Data'!H2:H93564,\"7??\",'Accounting Data'!I2:I93564,\"34??\",'Accounting Data'!J2:J93564,\"61??\")+SUMIFS('Accounting Data'!C2:C93564,'Accounting Data'!E2:E93564,\"575\",'Accounting Data'!H2:H93564,\"8??\",'Accounting Data'!I2:I93564,\"34??\",'Accounting Data'!J2:J93564,\"61??\")+SUMIFS('Accounting Data'!C2:C93564,'Accounting Data'!E2:E93564,\"575\",'Accounting Data'!H2:H93564,\"9??\",'Accounting Data'!I2:I93564,\"34??\",'Accounting Data'!J2:J93564,\"61??\")","v":0},{"$f":"SUMIFS('Accounting Data'!C2:C93564,'Accounting Data'!E2:E93564,\"8??\",'Accounting Data'!H2:H93564,\"7??\",'Accounting Data'!I2:I93564,\"34??\",'Accounting Data'!J2:J93564,\"61??\")+SUMIFS('Accounting Data'!C2:C93564,'Accounting Data'!E2:E93564,\"8??\",'Accounting Data'!H2:H93564,\"8??\",'Accounting Data'!I2:I93564,\"34??\",'Accounting Data'!J2:J93564,\"61??\")+SUMIFS('Accounting Data'!C2:C93564,'Accounting Data'!E2:E93564,\"8??\",'Accounting Data'!H2:H93564,\"9??\",'Accounting Data'!I2:I93564,\"34??\",'Accounting Data'!J2:J93564,\"61??\")","v":0},{"$f":"SUMIFS('Accounting Data'!C2:C93564,'Accounting Data'!E2:E93564,\"9??\",'Accounting Data'!H2:H93564,\"7??\",'Accounting Data'!I2:I93564,\"34??\",'Accounting Data'!J2:J93564,\"61??\")+SUMIFS('Accounting Data'!C2:C93564,'Accounting Data'!E2:E93564,\"9??\",'Accounting Data'!H2:H93564,\"8??\",'Accounting Data'!I2:I93564,\"34??\",'Accounting Data'!J2:J93564,\"61??\")+SUMIFS('Accounting Data'!C2:C93564,'Accounting Data'!E2:E93564,\"9??\",'Accounting Data'!H2:H93564,\"9??\",'Accounting Data'!I2:I93564,\"34??\",'Accounting Data'!J2:J93564,\"61??\")","v":0},null,3400,{"$f":"SUMIFS('Accounting Data'!C2:C93564,'Accounting Data'!I2:I93564,\"34??\",'Accounting Data'!J2:J93564,\"62??\")","v":0},{"$f":"SUMIFS('Accounting Data'!C2:C93564,'Accounting Data'!E2:E93564,\"575\",'Accounting Data'!I2:I93564,\"34??\",'Accounting Data'!J2:J93564,\"62??\")+SUMIFS('Accounting Data'!C2:C93564,'Accounting Data'!E2:E93564,\"8??\",'Accounting Data'!I2:I93564,\"34??\",'Accounting Data'!J2:J93564,\"62??\")+SUMIFS('Accounting Data'!C2:C93564,'Accounting Data'!E2:E93564,\"9??\",'Accounting Data'!I2:I93564,\"34??\",'Accounting Data'!J2:J93564,\"62??\")","v":0},{"$f":"SUMIFS('Accounting Data'!C2:C93564,'Accounting Data'!H2:H93564,\"7??\",'Accounting Data'!I2:I93564,\"34??\",'Accounting Data'!J2:J93564,\"62??\")+SUMIFS('Accounting Data'!C2:C93564,'Accounting Data'!H2:H93564,\"8??\",'Accounting Data'!I2:I93564,\"34??\",'Accounting Data'!J2:J93564,\"62??\")+SUMIFS('Accounting Data'!C2:C93564,'Accounting Data'!H2:H93564,\"9??\",'Accounting Data'!I2:I93564,\"34??\",'Accounting Data'!J2:J93564,\"62??\")","v":0},{"$f":"SUMIFS('Accounting Data'!C2:C93564,'Accounting Data'!E2:E93564,\"575\",'Accounting Data'!H2:H93564,\"7??\",'Accounting Data'!I2:I93564,\"34??\",'Accounting Data'!J2:J93564,\"62??\")+SUMIFS('Accounting Data'!C2:C93564,'Accounting Data'!E2:E93564,\"575\",'Accounting Data'!H2:H93564,\"8??\",'Accounting Data'!I2:I93564,\"34??\",'Accounting Data'!J2:J93564,\"62??\")+SUMIFS('Accounting Data'!C2:C93564,'Accounting Data'!E2:E93564,\"575\",'Accounting Data'!H2:H93564,\"9??\",'Accounting Data'!I2:I93564,\"34??\",'Accounting Data'!J2:J93564,\"62??\")","v":0},{"$f":"SUMIFS('Accounting Data'!C2:C93564,'Accounting Data'!E2:E93564,\"8??\",'Accounting Data'!H2:H93564,\"7??\",'Accounting Data'!I2:I93564,\"34??\",'Accounting Data'!J2:J93564,\"62??\")+SUMIFS('Accounting Data'!C2:C93564,'Accounting Data'!E2:E93564,\"8??\",'Accounting Data'!H2:H93564,\"8??\",'Accounting Data'!I2:I93564,\"34??\",'Accounting Data'!J2:J93564,\"62??\")+SUMIFS('Accounting Data'!C2:C93564,'Accounting Data'!E2:E93564,\"8??\",'Accounting Data'!H2:H93564,\"9??\",'Accounting Data'!I2:I93564,\"34??\",'Accounting Data'!J2:J93564,\"62??\")","v":0},{"$f":"SUMIFS('Accounting Data'!C2:C93564,'Accounting Data'!E2:E93564,\"9??\",'Accounting Data'!H2:H93564,\"7??\",'Accounting Data'!I2:I93564,\"34??\",'Accounting Data'!J2:J93564,\"62??\")+SUMIFS('Accounting Data'!C2:C93564,'Accounting Data'!E2:E93564,\"9??\",'Accounting Data'!H2:H93564,\"8??\",'Accounting Data'!I2:I93564,\"34??\",'Accounting Data'!J2:J93564,\"62??\")+SUMIFS('Accounting Data'!C2:C93564,'Accounting Data'!E2:E93564,\"9??\",'Accounting Data'!H2:H93564,\"9??\",'Accounting Data'!I2:I93564,\"34??\",'Accounting Data'!J2:J93564,\"62??\")","v":0},null,3400,{"$f":"SUMIFS('Accounting Data'!C2:C93564,'Accounting Data'!I2:I93564,\"34??\",'Accounting Data'!J2:J93564,\"63??\")+SUMIFS('Accounting Data'!C2:C93564,'Accounting Data'!I2:I93564,\"34??\",'Accounting Data'!J2:J93564,\"64??\")+SUMIFS('Accounting Data'!C2:C93564,'Accounting Data'!I2:I93564,\"34??\",'Accounting Data'!J2:J93564,\"65??\")","v":0},{"$f":"SUMIFS('Accounting Data'!C2:C93564,'Accounting Data'!E2:E93564,\"575\",'Accounting Data'!I2:I93564,\"34??\",'Accounting Data'!J2:J93564,\"63??\")+SUMIFS('Accounting Data'!C2:C93564,'Accounting Data'!E2:E93564,\"8??\",'Accounting Data'!I2:I93564,\"34??\",'Accounting Data'!J2:J93564,\"63??\")+SUMIFS('Accounting Data'!C2:C93564,'Accounting Data'!E2:E93564,\"9??\",'Accounting Data'!I2:I93564,\"34??\",'Accounting Data'!J2:J93564,\"63??\")","v":0},{"$f":"SUMIFS('Accounting Data'!C2:C93564,'Accounting Data'!E2:E93564,\"575\",'Accounting Data'!I2:I93564,\"34??\",'Accounting Data'!J2:J93564,\"64??\")+SUMIFS('Accounting Data'!C2:C93564,'Accounting Data'!E2:E93564,\"8??\",'Accounting Data'!I2:I93564,\"34??\",'Accounting Data'!J2:J93564,\"64??\")+SUMIFS('Accounting Data'!C2:C93564,'Accounting Data'!E2:E93564,\"9??\",'Accounting Data'!I2:I93564,\"34??\",'Accounting Data'!J2:J93564,\"64??\")","v":0},{"$f":"SUMIFS('Accounting Data'!C2:C93564,'Accounting Data'!E2:E93564,\"575\",'Accounting Data'!I2:I93564,\"34??\",'Accounting Data'!J2:J93564,\"65??\")+SUMIFS('Accounting Data'!C2:C93564,'Accounting Data'!E2:E93564,\"8??\",'Accounting Data'!I2:I93564,\"34??\",'Accounting Data'!J2:J93564,\"65??\")+SUMIFS('Accounting Data'!C2:C93564,'Accounting Data'!E2:E93564,\"9??\",'Accounting Data'!I2:I93564,\"34??\",'Accounting Data'!J2:J93564,\"65??\")","v":0},{"$f":"SUMIFS('Accounting Data'!C2:C93564,'Accounting Data'!H2:H93564,\"7??\",'Accounting Data'!I2:I93564,\"34??\",'Accounting Data'!J2:J93564,\"63??\")+SUMIFS('Accounting Data'!C2:C93564,'Accounting Data'!H2:H93564,\"8??\",'Accounting Data'!I2:I93564,\"34??\",'Accounting Data'!J2:J93564,\"63??\")+SUMIFS('Accounting Data'!C2:C93564,'Accounting Data'!H2:H93564,\"9??\",'Accounting Data'!I2:I93564,\"34??\",'Accounting Data'!J2:J93564,\"63??\")+SUMIFS('Accounting Data'!C2:C93564,'Accounting Data'!H2:H93564,\"7??\",'Accounting Data'!I2:I93564,\"34??\",'Accounting Data'!J2:J93564,\"64??\")+SUMIFS('Accounting Data'!C2:C93564,'Accounting Data'!H2:H93564,\"8??\",'Accounting Data'!I2:I93564,\"34??\",'Accounting Data'!J2:J93564,\"64??\")+SUMIFS('Accounting Data'!C2:C93564,'Accounting Data'!H2:H93564,\"9??\",'Accounting Data'!I2:I93564,\"34??\",'Accounting Data'!J2:J93564,\"64??\")+SUMIFS('Accounting Data'!C2:C93564,'Accounting Data'!H2:H93564,\"7??\",'Accounting Data'!I2:I93564,\"34??\",'Accounting Data'!J2:J93564,\"65??\")+SUMIFS('Accounting Data'!C2:C93564,'Accounting Data'!H2:H93564,\"8??\",'Accounting Data'!I2:I93564,\"34??\",'Accounting Data'!J2:J93564,\"65??\")+SUMIFS('Accounting Data'!C2:C93564,'Accounting Data'!H2:H93564,\"9??\",'Accounting Data'!I2:I93564,\"34??\",'Accounting Data'!J2:J93564,\"65??\")","v":0},{"$f":"SUMIFS('Accounting Data'!C2:C93564,'Accounting Data'!E2:E93564,\"575\",'Accounting Data'!H2:H93564,\"7??\",'Accounting Data'!I2:I93564,\"34??\",'Accounting Data'!J2:J93564,\"63??\")+SUMIFS('Accounting Data'!C2:C93564,'Accounting Data'!E2:E93564,\"575\",'Accounting Data'!H2:H93564,\"8??\",'Accounting Data'!I2:I93564,\"34??\",'Accounting Data'!J2:J93564,\"63??\")+SUMIFS('Accounting Data'!C2:C93564,'Accounting Data'!E2:E93564,\"575\",'Accounting Data'!H2:H93564,\"9??\",'Accounting Data'!I2:I93564,\"34??\",'Accounting Data'!J2:J93564,\"63??\")","v":0},{"$f":"SUMIFS('Accounting Data'!C2:C93564,'Accounting Data'!E2:E93564,\"575\",'Accounting Data'!H2:H93564,\"7??\",'Accounting Data'!I2:I93564,\"34??\",'Accounting Data'!J2:J93564,\"64??\")+SUMIFS('Accounting Data'!C2:C93564,'Accounting Data'!E2:E93564,\"575\",'Accounting Data'!H2:H93564,\"8??\",'Accounting Data'!I2:I93564,\"34??\",'Accounting Data'!J2:J93564,\"64??\")+SUMIFS('Accounting Data'!C2:C93564,'Accounting Data'!E2:E93564,\"575\",'Accounting Data'!H2:H93564,\"9??\",'Accounting Data'!I2:I93564,\"34??\",'Accounting Data'!J2:J93564,\"64??\")","v":0},{"$f":"SUMIFS('Accounting Data'!C2:C93564,'Accounting Data'!E2:E93564,\"575\",'Accounting Data'!H2:H93564,\"7??\",'Accounting Data'!I2:I93564,\"34??\",'Accounting Data'!J2:J93564,\"65??\")+SUMIFS('Accounting Data'!C2:C93564,'Accounting Data'!E2:E93564,\"575\",'Accounting Data'!H2:H93564,\"8??\",'Accounting Data'!I2:I93564,\"34??\",'Accounting Data'!J2:J93564,\"65??\")+SUMIFS('Accounting Data'!C2:C93564,'Accounting Data'!E2:E93564,\"575\",'Accounting Data'!H2:H93564,\"9??\",'Accounting Data'!I2:I93564,\"34??\",'Accounting Data'!J2:J93564,\"65??\")","v":0},{"$f":"SUMIFS('Accounting Data'!C2:C93564,'Accounting Data'!E2:E93564,\"8??\",'Accounting Data'!H2:H93564,\"7??\",'Accounting Data'!I2:I93564,\"34??\",'Accounting Data'!J2:J93564,\"63??\")+SUMIFS('Accounting Data'!C2:C93564,'Accounting Data'!E2:E93564,\"8??\",'Accounting Data'!H2:H93564,\"8??\",'Accounting Data'!I2:I93564,\"34??\",'Accounting Data'!J2:J93564,\"63??\")+SUMIFS('Accounting Data'!C2:C93564,'Accounting Data'!E2:E93564,\"8??\",'Accounting Data'!H2:H93564,\"9??\",'Accounting Data'!I2:I93564,\"34??\",'Accounting Data'!J2:J93564,\"63??\")","v":0},{"$f":"SUMIFS('Accounting Data'!C2:C93564,'Accounting Data'!E2:E93564,\"8??\",'Accounting Data'!H2:H93564,\"7??\",'Accounting Data'!I2:I93564,\"34??\",'Accounting Data'!J2:J93564,\"64??\")+SUMIFS('Accounting Data'!C2:C93564,'Accounting Data'!E2:E93564,\"8??\",'Accounting Data'!H2:H93564,\"8??\",'Accounting Data'!I2:I93564,\"34??\",'Accounting Data'!J2:J93564,\"64??\")+SUMIFS('Accounting Data'!C2:C93564,'Accounting Data'!E2:E93564,\"8??\",'Accounting Data'!H2:H93564,\"9??\",'Accounting Data'!I2:I93564,\"34??\",'Accounting Data'!J2:J93564,\"64??\")","v":0},{"$f":"SUMIFS('Accounting Data'!C2:C93564,'Accounting Data'!E2:E93564,\"8??\",'Accounting Data'!H2:H93564,\"7??\",'Accounting Data'!I2:I93564,\"34??\",'Accounting Data'!J2:J93564,\"65??\")+SUMIFS('Accounting Data'!C2:C93564,'Accounting Data'!E2:E93564,\"8??\",'Accounting Data'!H2:H93564,\"8??\",'Accounting Data'!I2:I93564,\"34??\",'Accounting Data'!J2:J93564,\"65??\")+SUMIFS('Accounting Data'!C2:C93564,'Accounting Data'!E2:E93564,\"8??\",'Accounting Data'!H2:H93564,\"9??\",'Accounting Data'!I2:I93564,\"34??\",'Accounting Data'!J2:J93564,\"65??\")","v":0},{"$f":"SUMIFS('Accounting Data'!C2:C93564,'Accounting Data'!E2:E93564,\"9??\",'Accounting Data'!H2:H93564,\"7??\",'Accounting Data'!I2:I93564,\"34??\",'Accounting Data'!J2:J93564,\"63??\")+SUMIFS('Accounting Data'!C2:C93564,'Accounting Data'!E2:E93564,\"9??\",'Accounting Data'!H2:H93564,\"8??\",'Accounting Data'!I2:I93564,\"34??\",'Accounting Data'!J2:J93564,\"63??\")+SUMIFS('Accounting Data'!C2:C93564,'Accounting Data'!E2:E93564,\"9??\",'Accounting Data'!H2:H93564,\"9??\",'Accounting Data'!I2:I93564,\"34??\",'Accounting Data'!J2:J93564,\"63??\")","v":0},{"$f":"SUMIFS('Accounting Data'!C2:C93564,'Accounting Data'!E2:E93564,\"9??\",'Accounting Data'!H2:H93564,\"7??\",'Accounting Data'!I2:I93564,\"34??\",'Accounting Data'!J2:J93564,\"64??\")+SUMIFS('Accounting Data'!C2:C93564,'Accounting Data'!E2:E93564,\"9??\",'Accounting Data'!H2:H93564,\"8??\",'Accounting Data'!I2:I93564,\"34??\",'Accounting Data'!J2:J93564,\"64??\")+SUMIFS('Accounting Data'!C2:C93564,'Accounting Data'!E2:E93564,\"9??\",'Accounting Data'!H2:H93564,\"9??\",'Accounting Data'!I2:I93564,\"34??\",'Accounting Data'!J2:J93564,\"64??\")","v":0},{"$f":"SUMIFS('Accounting Data'!C2:C93564,'Accounting Data'!E2:E93564,\"9??\",'Accounting Data'!H2:H93564,\"7??\",'Accounting Data'!I2:I93564,\"34??\",'Accounting Data'!J2:J93564,\"65??\")+SUMIFS('Accounting Data'!C2:C93564,'Accounting Data'!E2:E93564,\"9??\",'Accounting Data'!H2:H93564,\"8??\",'Accounting Data'!I2:I93564,\"34??\",'Accounting Data'!J2:J93564,\"65??\")+SUMIFS('Accounting Data'!C2:C93564,'Accounting Data'!E2:E93564,\"9??\",'Accounting Data'!H2:H93564,\"9??\",'Accounting Data'!I2:I93564,\"34??\",'Accounting Data'!J2:J93564,\"65??\")","v":0},null,3400,{"$f":"SUMIFS('Accounting Data'!C2:C93564,'Accounting Data'!I2:I93564,\"34??\",'Accounting Data'!J2:J93564,\"66??\")","v":0},{"$f":"SUMIFS('Accounting Data'!$C$2:$C$93564,'Accounting Data'!$E$2:$E$93564,\"575\",'Accounting Data'!$I$2:$I$93564,\"34??\",'Accounting Data'!$J$2:$J$93564,\"66??\")+SUMIFS('Accounting Data'!$C$2:$C$93564,'Accounting Data'!$E$2:$E$93564,\"8??\",'Accounting Data'!$I$2:$I$93564,\"34??\",'Accounting Data'!$J$2:$J$93564,\"66??\")+SUMIFS('Accounting Data'!$C$2:$C$93564,'Accounting Data'!$E$2:$E$93564,\"9??\",'Accounting Data'!$I$2:$I$93564,\"34??\",'Accounting Data'!$J$2:$J$93564,\"66??\")","v":0},{"$f":"SUMIFS('Accounting Data'!$C$2:$C$93564,'Accounting Data'!$H$2:$H$93564,\"7??\",'Accounting Data'!$I$2:$I$93564,\"34??\",'Accounting Data'!$J$2:$J$93564,\"66??\")+SUMIFS('Accounting Data'!$C$2:$C$93564,'Accounting Data'!$H$2:$H$93564,\"8??\",'Accounting Data'!$I$2:$I$93564,\"34??\",'Accounting Data'!$J$2:$J$93564,\"66??\")+SUMIFS('Accounting Data'!$C$2:$C$93564,'Accounting Data'!$H$2:$H$93564,\"9??\",'Accounting Data'!$I$2:$I$93564,\"34??\",'Accounting Data'!$J$2:$J$93564,\"66??\")","v":0},{"$f":"SUMIFS('Accounting Data'!$C$2:$C$93564,'Accounting Data'!$E$2:$E$93564,\"575\",'Accounting Data'!$H$2:$H$93564,\"7??\",'Accounting Data'!$I$2:$I$93564,\"34??\",'Accounting Data'!$J$2:$J$93564,\"66??\")+SUMIFS('Accounting Data'!$C$2:$C$93564,'Accounting Data'!$E$2:$E$93564,\"575\",'Accounting Data'!$H$2:$H$93564,\"8??\",'Accounting Data'!$I$2:$I$93564,\"34??\",'Accounting Data'!$J$2:$J$93564,\"66??\")+SUMIFS('Accounting Data'!$C$2:$C$93564,'Accounting Data'!$E$2:$E$93564,\"575\",'Accounting Data'!$H$2:$H$93564,\"9??\",'Accounting Data'!$I$2:$I$93564,\"34??\",'Accounting Data'!$J$2:$J$93564,\"66??\")","v":0},{"$f":"SUMIFS('Accounting Data'!$C$2:$C$93564,'Accounting Data'!$E$2:$E$93564,\"8??\",'Accounting Data'!$H$2:$H$93564,\"7??\",'Accounting Data'!$I$2:$I$93564,\"34??\",'Accounting Data'!$J$2:$J$93564,\"66??\")+SUMIFS('Accounting Data'!$C$2:$C$93564,'Accounting Data'!$E$2:$E$93564,\"8??\",'Accounting Data'!$H$2:$H$93564,\"8??\",'Accounting Data'!$I$2:$I$93564,\"34??\",'Accounting Data'!$J$2:$J$93564,\"66??\")+SUMIFS('Accounting Data'!$C$2:$C$93564,'Accounting Data'!$E$2:$E$93564,\"8??\",'Accounting Data'!$H$2:$H$93564,\"9??\",'Accounting Data'!$I$2:$I$93564,\"34??\",'Accounting Data'!$J$2:$J$93564,\"66??\")","v":0},{"$f":"SUMIFS('Accounting Data'!$C$2:$C$93564,'Accounting Data'!$E$2:$E$93564,\"9??\",'Accounting Data'!$H$2:$H$93564,\"7??\",'Accounting Data'!$I$2:$I$93564,\"34??\",'Accounting Data'!$J$2:$J$93564,\"66??\")+SUMIFS('Accounting Data'!$C$2:$C$93564,'Accounting Data'!$E$2:$E$93564,\"9??\",'Accounting Data'!$H$2:$H$93564,\"8??\",'Accounting Data'!$I$2:$I$93564,\"34??\",'Accounting Data'!$J$2:$J$93564,\"66??\")+SUMIFS('Accounting Data'!$C$2:$C$93564,'Accounting Data'!$E$2:$E$93564,\"9??\",'Accounting Data'!$H$2:$H$93564,\"9??\",'Accounting Data'!$I$2:$I$93564,\"34??\",'Accounting Data'!$J$2:$J$93564,\"66??\")","v":0},null,3400,{"$f":"SUMIFS('Accounting Data'!C2:C93564,'Accounting Data'!I2:I93564,\"34??\",'Accounting Data'!J2:J93564,\"67??\")","v":0},{"$f":"SUMIFS('Accounting Data'!$C$2:$C$93564,'Accounting Data'!$E$2:$E$93564,\"575\",'Accounting Data'!$I$2:$I$93564,\"34??\",'Accounting Data'!$J$2:$J$93564,\"67??\")+SUMIFS('Accounting Data'!$C$2:$C$93564,'Accounting Data'!$E$2:$E$93564,\"8??\",'Accounting Data'!$I$2:$I$93564,\"34??\",'Accounting Data'!$J$2:$J$93564,\"67??\")+SUMIFS('Accounting Data'!$C$2:$C$93564,'Accounting Data'!$E$2:$E$93564,\"9??\",'Accounting Data'!$I$2:$I$93564,\"34??\",'Accounting Data'!$J$2:$J$93564,\"67??\")","v":0},{"$f":"SUMIFS('Accounting Data'!$C$2:$C$93564,'Accounting Data'!$H$2:$H$93564,\"7??\",'Accounting Data'!$I$2:$I$93564,\"34??\",'Accounting Data'!$J$2:$J$93564,\"67??\")+SUMIFS('Accounting Data'!$C$2:$C$93564,'Accounting Data'!$H$2:$H$93564,\"8??\",'Accounting Data'!$I$2:$I$93564,\"34??\",'Accounting Data'!$J$2:$J$93564,\"67??\")+SUMIFS('Accounting Data'!$C$2:$C$93564,'Accounting Data'!$H$2:$H$93564,\"9??\",'Accounting Data'!$I$2:$I$93564,\"34??\",'Accounting Data'!$J$2:$J$93564,\"67??\")","v":0},{"$f":"SUMIFS('Accounting Data'!$C$2:$C$93564,'Accounting Data'!$E$2:$E$93564,\"575\",'Accounting Data'!$H$2:$H$93564,\"7??\",'Accounting Data'!$I$2:$I$93564,\"34??\",'Accounting Data'!$J$2:$J$93564,\"67??\")+SUMIFS('Accounting Data'!$C$2:$C$93564,'Accounting Data'!$E$2:$E$93564,\"575\",'Accounting Data'!$H$2:$H$93564,\"8??\",'Accounting Data'!$I$2:$I$93564,\"34??\",'Accounting Data'!$J$2:$J$93564,\"67??\")+SUMIFS('Accounting Data'!$C$2:$C$93564,'Accounting Data'!$E$2:$E$93564,\"575\",'Accounting Data'!$H$2:$H$93564,\"9??\",'Accounting Data'!$I$2:$I$93564,\"34??\",'Accounting Data'!$J$2:$J$93564,\"67??\")","v":0},{"$f":"SUMIFS('Accounting Data'!$C$2:$C$93564,'Accounting Data'!$E$2:$E$93564,\"8??\",'Accounting Data'!$H$2:$H$93564,\"7??\",'Accounting Data'!$I$2:$I$93564,\"34??\",'Accounting Data'!$J$2:$J$93564,\"67??\")+SUMIFS('Accounting Data'!$C$2:$C$93564,'Accounting Data'!$E$2:$E$93564,\"8??\",'Accounting Data'!$H$2:$H$93564,\"8??\",'Accounting Data'!$I$2:$I$93564,\"34??\",'Accounting Data'!$J$2:$J$93564,\"67??\")+SUMIFS('Accounting Data'!$C$2:$C$93564,'Accounting Data'!$E$2:$E$93564,\"8??\",'Accounting Data'!$H$2:$H$93564,\"9??\",'Accounting Data'!$I$2:$I$93564,\"34??\",'Accounting Data'!$J$2:$J$93564,\"67??\")","v":0},{"$f":"SUMIFS('Accounting Data'!$C$2:$C$93564,'Accounting Data'!$E$2:$E$93564,\"9??\",'Accounting Data'!$H$2:$H$93564,\"7??\",'Accounting Data'!$I$2:$I$93564,\"34??\",'Accounting Data'!$J$2:$J$93564,\"67??\")+SUMIFS('Accounting Data'!$C$2:$C$93564,'Accounting Data'!$E$2:$E$93564,\"9??\",'Accounting Data'!$H$2:$H$93564,\"8??\",'Accounting Data'!$I$2:$I$93564,\"34??\",'Accounting Data'!$J$2:$J$93564,\"67??\")+SUMIFS('Accounting Data'!$C$2:$C$93564,'Accounting Data'!$E$2:$E$93564,\"9??\",'Accounting Data'!$H$2:$H$93564,\"9??\",'Accounting Data'!$I$2:$I$93564,\"34??\",'Accounting Data'!$J$2:$J$93564,\"67??\")","v":0},null,3400,{"$f":"SUMIFS('Accounting Data'!C2:C93564,'Accounting Data'!I2:I93564,\"34??\",'Accounting Data'!J2:J93564,\"681?\")","v":0},{"$f":"SUMIFS('Accounting Data'!$C$2:$C$93564,'Accounting Data'!$E$2:$E$93564,\"575\",'Accounting Data'!$I$2:$I$93564,\"34??\",'Accounting Data'!$J$2:$J$93564,\"681?\")+SUMIFS('Accounting Data'!$C$2:$C$93564,'Accounting Data'!$E$2:$E$93564,\"8??\",'Accounting Data'!$I$2:$I$93564,\"34??\",'Accounting Data'!$J$2:$J$93564,\"681?\")+SUMIFS('Accounting Data'!$C$2:$C$93564,'Accounting Data'!$E$2:$E$93564,\"9??\",'Accounting Data'!$I$2:$I$93564,\"34??\",'Accounting Data'!$J$2:$J$93564,\"681?\")","v":0},{"$f":"SUMIFS('Accounting Data'!$C$2:$C$93564,'Accounting Data'!$H$2:$H$93564,\"7??\",'Accounting Data'!$I$2:$I$93564,\"34??\",'Accounting Data'!$J$2:$J$93564,\"681?\")+SUMIFS('Accounting Data'!$C$2:$C$93564,'Accounting Data'!$H$2:$H$93564,\"8??\",'Accounting Data'!$I$2:$I$93564,\"34??\",'Accounting Data'!$J$2:$J$93564,\"681?\")+SUMIFS('Accounting Data'!$C$2:$C$93564,'Accounting Data'!$H$2:$H$93564,\"9??\",'Accounting Data'!$I$2:$I$93564,\"34??\",'Accounting Data'!$J$2:$J$93564,\"681?\")","v":0},{"$f":"SUMIFS('Accounting Data'!$C$2:$C$93564,'Accounting Data'!$E$2:$E$93564,\"575\",'Accounting Data'!$H$2:$H$93564,\"7??\",'Accounting Data'!$I$2:$I$93564,\"34??\",'Accounting Data'!$J$2:$J$93564,\"681?\")+SUMIFS('Accounting Data'!$C$2:$C$93564,'Accounting Data'!$E$2:$E$93564,\"575\",'Accounting Data'!$H$2:$H$93564,\"8??\",'Accounting Data'!$I$2:$I$93564,\"34??\",'Accounting Data'!$J$2:$J$93564,\"681?\")+SUMIFS('Accounting Data'!$C$2:$C$93564,'Accounting Data'!$E$2:$E$93564,\"575\",'Accounting Data'!$H$2:$H$93564,\"9??\",'Accounting Data'!$I$2:$I$93564,\"34??\",'Accounting Data'!$J$2:$J$93564,\"681?\")","v":0},{"$f":"SUMIFS('Accounting Data'!$C$2:$C$93564,'Accounting Data'!$E$2:$E$93564,\"8??\",'Accounting Data'!$H$2:$H$93564,\"7??\",'Accounting Data'!$I$2:$I$93564,\"34??\",'Accounting Data'!$J$2:$J$93564,\"681?\")+SUMIFS('Accounting Data'!$C$2:$C$93564,'Accounting Data'!$E$2:$E$93564,\"8??\",'Accounting Data'!$H$2:$H$93564,\"8??\",'Accounting Data'!$I$2:$I$93564,\"34??\",'Accounting Data'!$J$2:$J$93564,\"681?\")+SUMIFS('Accounting Data'!$C$2:$C$93564,'Accounting Data'!$E$2:$E$93564,\"8??\",'Accounting Data'!$H$2:$H$93564,\"9??\",'Accounting Data'!$I$2:$I$93564,\"34??\",'Accounting Data'!$J$2:$J$93564,\"681?\")","v":0},{"$f":"SUMIFS('Accounting Data'!$C$2:$C$93564,'Accounting Data'!$E$2:$E$93564,\"9??\",'Accounting Data'!$H$2:$H$93564,\"7??\",'Accounting Data'!$I$2:$I$93564,\"34??\",'Accounting Data'!$J$2:$J$93564,\"681?\")+SUMIFS('Accounting Data'!$C$2:$C$93564,'Accounting Data'!$E$2:$E$93564,\"9??\",'Accounting Data'!$H$2:$H$93564,\"8??\",'Accounting Data'!$I$2:$I$93564,\"34??\",'Accounting Data'!$J$2:$J$93564,\"681?\")+SUMIFS('Accounting Data'!$C$2:$C$93564,'Accounting Data'!$E$2:$E$93564,\"9??\",'Accounting Data'!$H$2:$H$93564,\"9??\",'Accounting Data'!$I$2:$I$93564,\"34??\",'Accounting Data'!$J$2:$J$93564,\"681?\")","v":0},null,null,null,null,null,null,null,null,null,null,null,null,null,null,null,null,null,3400,{"$f":"SUM(SUMIFS('Accounting Data'!C2:C93564,'Accounting Data'!I2:I93564,\"34??\",'Accounting Data'!J2:J93564,{\"689?\",\"6885\"}))","v":0},{"$f":"SUM(SUMIFS('Accounting Data'!$C$2:$C$93564,'Accounting Data'!$E$2:$E$93564,\"575\",'Accounting Data'!$I$2:$I$93564,\"34??\",'Accounting Data'!$J$2:$J$93564,{\"689?\",\"6885\"}))+SUM(SUMIFS('Accounting Data'!$C$2:$C$93564,'Accounting Data'!$E$2:$E$93564,\"8??\",'Accounting Data'!$I$2:$I$93564,\"34??\",'Accounting Data'!$J$2:$J$93564,{\"689?\",\"6885\"}))+SUM(SUMIFS('Accounting Data'!$C$2:$C$93564,'Accounting Data'!$E$2:$E$93564,\"9??\",'Accounting Data'!$I$2:$I$93564,\"34??\",'Accounting Data'!$J$2:$J$93564,{\"689?\",\"6885\"}))","v":0},{"$f":"SUM(SUMIFS('Accounting Data'!$C$2:$C$93564,'Accounting Data'!$H$2:$H$93564,\"7??\",'Accounting Data'!$I$2:$I$93564,\"34??\",'Accounting Data'!$J$2:$J$93564,{\"689?\",\"6885\"}))+SUM(SUMIFS('Accounting Data'!$C$2:$C$93564,'Accounting Data'!$H$2:$H$93564,\"8??\",'Accounting Data'!$I$2:$I$93564,\"34??\",'Accounting Data'!$J$2:$J$93564,{\"689?\",\"6885\"}))+SUM(SUMIFS('Accounting Data'!$C$2:$C$93564,'Accounting Data'!$H$2:$H$93564,\"9??\",'Accounting Data'!$I$2:$I$93564,\"34??\",'Accounting Data'!$J$2:$J$93564,{\"689?\",\"6885\"}))","v":0},{"$f":"SUM(SUMIFS('Accounting Data'!$C$2:$C$93564,'Accounting Data'!$E$2:$E$93564,\"575\",'Accounting Data'!$H$2:$H$93564,\"7??\",'Accounting Data'!$I$2:$I$93564,\"34??\",'Accounting Data'!$J$2:$J$93564,{\"689?\",\"6885\"}))+SUM(SUMIFS('Accounting Data'!$C$2:$C$93564,'Accounting Data'!$E$2:$E$93564,\"575\",'Accounting Data'!$H$2:$H$93564,\"8??\",'Accounting Data'!$I$2:$I$93564,\"34??\",'Accounting Data'!$J$2:$J$93564,{\"689?\",\"6885\"}))+SUM(SUMIFS('Accounting Data'!$C$2:$C$93564,'Accounting Data'!$E$2:$E$93564,\"575\",'Accounting Data'!$H$2:$H$93564,\"9??\",'Accounting Data'!$I$2:$I$93564,\"34??\",'Accounting Data'!$J$2:$J$93564,{\"689?\",\"6885\"}))","v":0},{"$f":"SUM(SUMIFS('Accounting Data'!$C$2:$C$93564,'Accounting Data'!$E$2:$E$93564,\"8??\",'Accounting Data'!$H$2:$H$93564,\"7??\",'Accounting Data'!$I$2:$I$93564,\"34??\",'Accounting Data'!$J$2:$J$93564,{\"689?\",\"6885\"}))+SUM(SUMIFS('Accounting Data'!$C$2:$C$93564,'Accounting Data'!$E$2:$E$93564,\"8??\",'Accounting Data'!$H$2:$H$93564,\"8??\",'Accounting Data'!$I$2:$I$93564,\"34??\",'Accounting Data'!$J$2:$J$93564,{\"689?\",\"6885\"}))+SUM(SUMIFS('Accounting Data'!$C$2:$C$93564,'Accounting Data'!$E$2:$E$93564,\"8??\",'Accounting Data'!$H$2:$H$93564,\"9??\",'Accounting Data'!$I$2:$I$93564,\"34??\",'Accounting Data'!$J$2:$J$93564,{\"689?\",\"6885\"}))","v":0},{"$f":"SUM(SUMIFS('Accounting Data'!$C$2:$C$93564,'Accounting Data'!$E$2:$E$93564,\"9??\",'Accounting Data'!$H$2:$H$93564,\"7??\",'Accounting Data'!$I$2:$I$93564,\"34??\",'Accounting Data'!$J$2:$J$93564,{\"689?\",\"6885\"}))+SUM(SUMIFS('Accounting Data'!$C$2:$C$93564,'Accounting Data'!$E$2:$E$93564,\"9??\",'Accounting Data'!$H$2:$H$93564,\"8??\",'Accounting Data'!$I$2:$I$93564,\"34??\",'Accounting Data'!$J$2:$J$93564,{\"689?\",\"6885\"}))+SUM(SUMIFS('Accounting Data'!$C$2:$C$93564,'Accounting Data'!$E$2:$E$93564,\"9??\",'Accounting Data'!$H$2:$H$93564,\"9??\",'Accounting Data'!$I$2:$I$93564,\"34??\",'Accounting Data'!$J$2:$J$93564,{\"689?\",\"6885\"}))","v":0}]
["From Federal Funds","14.",{"$f":"(AA31+AB31+AC31)-(AD31+AE31+AF31+AG31+AH31+AI31+AJ31+AK31+AL31)-W19+IF(S10>0,IF(SUM(C20,D20,E20,S10,G20,H20,L20)>0,(T14)*(C20/(C20+D20+E20+S10+G20+H20+L20))),IF(SUM(C20,D20,E20,G20,H20,L20)>0,(T14)*(C20/(C20+D20+E20+G20+H20+L20)),0))","v":6833195},{"$f":"(AA32+AB32+AC32)-(AD32+AE32+AF32+AG32+AH32+AI32+AJ32+AK32+AL32)-W20+IF(S10>0,IF(SUM(C20,D20,E20,S10,G20,H20,L20)>0,(T14)*(D20/(C20+D20+E20+S10+G20+H20+L20))),IF(SUM(C20,D20,E20,G20,H20,L20)>0,(T14)*(D20/(C20+D20+E20+G20+H20+L20)),0))","v":2078560},{"$f":"(SUM(AA33:AA35)+SUM(AB33:AB35)+SUM(AC33:AC35))-(SUM(AD33:AD35)+SUM(AE33:AE35)+SUM(AF33:AF35)+SUM(AG33:AG35)+SUM(AH33:AH35)+SUM(AI33:AI35)+SUM(AJ33:AJ35)+SUM(AK33:AK35)+SUM(AL33:AL35))-W21-W22-W23+IF(S10>0,IF(SUM(C20,D20,E20,S10,G20,H20,L20)>0,(T14)*(E20/(C20+D20+E20+S10+G20+H20+L20))),IF(SUM(C20,D20,E20,G20,H20,L20)>0,(T14)*(E20/(C20+D20+E20+G20+H20+L20)),0))","v":1036050},{"$f":"(AA36+AB36+AC36)-(AD36+AE36+AF36+AG36+AH36+AI36+AJ36+AK36+AL36)-W24+IF(S10>0,'[4]Food Service AFR'!$D$13,F20)+IF(AND(SUM(C20,D20,E20,S10,G20,H20,L20)>0,S10>0),(T14)*(S10/(C20+D20+E20+S10+G20+H20+L20)))","v":1153183},{"$f":"(AA37+AB37+AC37)-(AD37+AE37+AF37+AG37+AH37+AI37+AJ37+AK37+AL37)-W25+IF(S10>0,IF(SUM(C20,D20,E20,S10,G20,H20,L20)>0,(T14)*(G20/(C20+D20+E20+S10+G20+H20+L20))),IF(SUM(C20,D20,E20,G20,H20,L20)>0,(T14)*(G20/(C20+D20+E20+G20+H20+L20)),0))","v":298115},{"$f":"(AA38+AB38+AC38)-(AD38+AE38+AF38+AG38+AH38+AI38+AJ38+AK38+AL38)-W26+IF(S10>0,IF(SUM(C20,D20,E20,S10,G20,H20,L20)>0,(T14)*(H20/(C20+D20+E20+S10+G20+H20+L20))),IF(SUM(C20,D20,E20,G20,H20,L20)>0,(T14)*(H20/(C20+D20+E20+G20+H20+L20)),0))","v":27906},{"$f":"AA53-AC53-AE53-AG53","v":0},null,{"$f":"AA55-AC55-AE55-AG55","v":0},{"$f":"(AA39+AB39+AC39)-(AD39+AE39+AF39+AG39+AH39+AI39+AJ39+AK39+AL39)-W27+IF(S10>0,IF(SUM(C20,D20,E20,S10,G20,H20,L20)>0,(T14)*(L20/(C20+D20+E20+S10+G20+H20+L20))),IF(SUM(C20,D20,E20,G20,H20,L20)>0,(T14)*(L20/(C20+D20+E20+G20+H20+L20)),0))","v":-33207},{"$f":"SUM(AA43:AI43)-SUM(AA44:AI44)","v":0},{"$f":"SUM(C25:M25)","v":11393802},"14.",0,null,null,"6700",{"$f":"SUMIFS('Accounting Data'!$C$2:$C$93564,'Accounting Data'!$E$2:$E$93564,\"378\",'Accounting Data'!$I$2:$I$93564,\"1???\",'Accounting Data'!$J$2:$J$93564,\"67??\")+SUMIFS('Accounting Data'!$C$2:$C$93564,'Accounting Data'!$E$2:$E$93564,\"378\",'Accounting Data'!$I$2:$I$93564,\"2???\",'Accounting Data'!$J$2:$J$93564,\"67??\")+SUMIFS('Accounting Data'!$C$2:$C$93564,'Accounting Data'!$E$2:$E$93564,\"378\",'Accounting Data'!$I$2:$I$93564,\"3???\",'Accounting Data'!$J$2:$J$93564,\"67??\")","v":0},0,0,0,null,null,null,null,null,null,null,null,null,null,null,null,null,null,null,null,null,null,null,null,null,null,null,null,null,null,null,null,null,null,null,null,null,null,null,null,null,null,null,null,null,null,null,null,null,null,null,null,null,null,null,null,null,null,null,null,null,null,"Object 6831, 6832 & 6833",null,null,null,null,null,null,null,null,null,null,null,null,null,null,null,4000,{"$f":"SUM(SUMIFS('Accounting Data'!C2:C93564,'Accounting Data'!I2:I93564,\"4???\",'Accounting Data'!J2:J93564,{\"689?\",\"6885\"}))","v":0},{"$f":"SUM(SUMIFS('Accounting Data'!$C$2:$C$93564,'Accounting Data'!$E$2:$E$93564,\"575\",'Accounting Data'!$I$2:$I$93564,\"4???\",'Accounting Data'!$J$2:$J$93564,{\"689?\",\"6885\"}))+SUM(SUMIFS('Accounting Data'!$C$2:$C$93564,'Accounting Data'!$E$2:$E$93564,\"8??\",'Accounting Data'!$I$2:$I$93564,\"4???\",'Accounting Data'!$J$2:$J$93564,{\"689?\",\"6885\"}))+SUM(SUMIFS('Accounting Data'!$C$2:$C$93564,'Accounting Data'!$E$2:$E$93564,\"9??\",'Accounting Data'!$I$2:$I$93564,\"4???\",'Accounting Data'!$J$2:$J$93564,{\"689?\",\"6885\"}))","v":0},{"$f":"SUM(SUMIFS('Accounting Data'!$C$2:$C$93564,'Accounting Data'!$H$2:$H$93564,\"7??\",'Accounting Data'!$I$2:$I$93564,\"4???\",'Accounting Data'!$J$2:$J$93564,{\"689?\",\"6885\"}))+SUM(SUMIFS('Accounting Data'!$C$2:$C$93564,'Accounting Data'!$H$2:$H$93564,\"8??\",'Accounting Data'!$I$2:$I$93564,\"4???\",'Accounting Data'!$J$2:$J$93564,{\"689?\",\"6885\"}))+SUM(SUMIFS('Accounting Data'!$C$2:$C$93564,'Accounting Data'!$H$2:$H$93564,\"9??\",'Accounting Data'!$I$2:$I$93564,\"4???\",'Accounting Data'!$J$2:$J$93564,{\"689?\",\"6885\"}))","v":0},{"$f":"SUM(SUMIFS('Accounting Data'!$C$2:$C$93564,'Accounting Data'!$E$2:$E$93564,\"575\",'Accounting Data'!$H$2:$H$93564,\"7??\",'Accounting Data'!$I$2:$I$93564,\"4???\",'Accounting Data'!$J$2:$J$93564,{\"689?\",\"6885\"}))+SUM(SUMIFS('Accounting Data'!$C$2:$C$93564,'Accounting Data'!$E$2:$E$93564,\"575\",'Accounting Data'!$H$2:$H$93564,\"8??\",'Accounting Data'!$I$2:$I$93564,\"4???\",'Accounting Data'!$J$2:$J$93564,{\"689?\",\"6885\"}))+SUM(SUMIFS('Accounting Data'!$C$2:$C$93564,'Accounting Data'!$E$2:$E$93564,\"575\",'Accounting Data'!$H$2:$H$93564,\"9??\",'Accounting Data'!$I$2:$I$93564,\"4???\",'Accounting Data'!$J$2:$J$93564,{\"689?\",\"6885\"}))","v":0},{"$f":"SUM(SUMIFS('Accounting Data'!$C$2:$C$93564,'Accounting Data'!$E$2:$E$93564,\"8??\",'Accounting Data'!$H$2:$H$93564,\"7??\",'Accounting Data'!$I$2:$I$93564,\"4???\",'Accounting Data'!$J$2:$J$93564,{\"689?\",\"6885\"}))+SUM(SUMIFS('Accounting Data'!$C$2:$C$93564,'Accounting Data'!$E$2:$E$93564,\"8??\",'Accounting Data'!$H$2:$H$93564,\"8??\",'Accounting Data'!$I$2:$I$93564,\"4???\",'Accounting Data'!$J$2:$J$93564,{\"689?\",\"6885\"}))+SUM(SUMIFS('Accounting Data'!$C$2:$C$93564,'Accounting Data'!$E$2:$E$93564,\"8??\",'Accounting Data'!$H$2:$H$93564,\"9??\",'Accounting Data'!$I$2:$I$93564,\"4???\",'Accounting Data'!$J$2:$J$93564,{\"689?\",\"6885\"}))","v":0},{"$f":"SUM(SUMIFS('Accounting Data'!$C$2:$C$93564,'Accounting Data'!$E$2:$E$93564,\"9??\",'Accounting Data'!$H$2:$H$93564,\"7??\",'Accounting Data'!$I$2:$I$93564,\"4???\",'Accounting Data'!$J$2:$J$93564,{\"689?\",\"6885\"}))+SUM(SUMIFS('Accounting Data'!$C$2:$C$93564,'Accounting Data'!$E$2:$E$93564,\"9??\",'Accounting Data'!$H$2:$H$93564,\"8??\",'Accounting Data'!$I$2:$I$93564,\"4???\",'Accounting Data'!$J$2:$J$93564,{\"689?\",\"6885\"}))+SUM(SUMIFS('Accounting Data'!$C$2:$C$93564,'Accounting Data'!$E$2:$E$93564,\"9??\",'Accounting Data'!$H$2:$H$93564,\"9??\",'Accounting Data'!$I$2:$I$93564,\"4???\",'Accounting Data'!$J$2:$J$93564,{\"689?\",\"6885\"}))","v":0},null,4000,{"$f":"SUMIFS('Accounting Data'!$C$2:$C$93564,'Accounting Data'!$H$2:$H$93564,\"7??\",'Accounting Data'!$I$2:$I$93564,\"4???\",'Accounting Data'!$J$2:$J$93564,\"6???\")+SUMIFS('Accounting Data'!$C$2:$C$93564,'Accounting Data'!$H$2:$H$93564,\"8??\",'Accounting Data'!$I$2:$I$93564,\"4???\",'Accounting Data'!$J$2:$J$93564,\"6???\")+SUMIFS('Accounting Data'!$C$2:$C$93564,'Accounting Data'!$H$2:$H$93564,\"9??\",'Accounting Data'!$I$2:$I$93564,\"4???\",'Accounting Data'!$J$2:$J$93564,\"6???\")","v":0},{"$f":"SUMIFS('Accounting Data'!$C$2:$C$93564,'Accounting Data'!$H$2:$H$93564,\"7??\",'Accounting Data'!$I$2:$I$93564,\"4???\",'Accounting Data'!$J$2:$J$93564,\"69??\")+SUMIFS('Accounting Data'!$C$2:$C$93564,'Accounting Data'!$H$2:$H$93564,\"8??\",'Accounting Data'!$I$2:$I$93564,\"4???\",'Accounting Data'!$J$2:$J$93564,\"69??\")+SUMIFS('Accounting Data'!$C$2:$C$93564,'Accounting Data'!$H$2:$H$93564,\"9??\",'Accounting Data'!$I$2:$I$93564,\"4???\",'Accounting Data'!$J$2:$J$93564,\"69??\")","v":0},{"$f":"SUMIFS('Accounting Data'!$C$2:$C$93564,'Accounting Data'!$E$2:$E$93564,\"575\",'Accounting Data'!$H$2:$H$93564,\"7??\",'Accounting Data'!$I$2:$I$93564,\"4???\",'Accounting Data'!$J$2:$J$93564,\"6???\")+SUMIFS('Accounting Data'!$C$2:$C$93564,'Accounting Data'!$E$2:$E$93564,\"575\",'Accounting Data'!$H$2:$H$93564,\"8??\",'Accounting Data'!$I$2:$I$93564,\"4???\",'Accounting Data'!$J$2:$J$93564,\"6???\")+SUMIFS('Accounting Data'!$C$2:$C$93564,'Accounting Data'!$E$2:$E$93564,\"575\",'Accounting Data'!$H$2:$H$93564,\"9??\",'Accounting Data'!$I$2:$I$93564,\"4???\",'Accounting Data'!$J$2:$J$93564,\"6???\")","v":0},{"$f":"SUMIFS('Accounting Data'!$C$2:$C$93564,'Accounting Data'!$E$2:$E$93564,\"8??\",'Accounting Data'!$H$2:$H$93564,\"7??\",'Accounting Data'!$I$2:$I$93564,\"4???\",'Accounting Data'!$J$2:$J$93564,\"6???\")+SUMIFS('Accounting Data'!$C$2:$C$93564,'Accounting Data'!$E$2:$E$93564,\"8??\",'Accounting Data'!$H$2:$H$93564,\"8??\",'Accounting Data'!$I$2:$I$93564,\"4???\",'Accounting Data'!$J$2:$J$93564,\"6???\")+SUMIFS('Accounting Data'!$C$2:$C$93564,'Accounting Data'!$E$2:$E$93564,\"8??\",'Accounting Data'!$H$2:$H$93564,\"9??\",'Accounting Data'!$I$2:$I$93564,\"4???\",'Accounting Data'!$J$2:$J$93564,\"6???\")+SUMIFS('Accounting Data'!$C$2:$C$93564,'Accounting Data'!$E$2:$E$93564,\"9??\",'Accounting Data'!$H$2:$H$93564,\"7??\",'Accounting Data'!$I$2:$I$93564,\"4???\",'Accounting Data'!$J$2:$J$93564,\"6???\")+SUMIFS('Accounting Data'!$C$2:$C$93564,'Accounting Data'!$E$2:$E$93564,\"9??\",'Accounting Data'!$H$2:$H$93564,\"8??\",'Accounting Data'!$I$2:$I$93564,\"4???\",'Accounting Data'!$J$2:$J$93564,\"6???\")+SUMIFS('Accounting Data'!$C$2:$C$93564,'Accounting Data'!$E$2:$E$93564,\"9??\",'Accounting Data'!$H$2:$H$93564,\"9??\",'Accounting Data'!$I$2:$I$93564,\"4???\",'Accounting Data'!$J$2:$J$93564,\"6???\")","v":0},{"$f":"SUMIFS('Accounting Data'!$C$2:$C$93564,'Accounting Data'!$E$2:$E$93564,\"575\",'Accounting Data'!$H$2:$H$93564,\"7??\",'Accounting Data'!$I$2:$I$93564,\"4???\",'Accounting Data'!$J$2:$J$93564,\"69??\")+SUMIFS('Accounting Data'!$C$2:$C$93564,'Accounting Data'!$E$2:$E$93564,\"575\",'Accounting Data'!$H$2:$H$93564,\"8??\",'Accounting Data'!$I$2:$I$93564,\"4???\",'Accounting Data'!$J$2:$J$93564,\"69??\")+SUMIFS('Accounting Data'!$C$2:$C$93564,'Accounting Data'!$E$2:$E$93564,\"575\",'Accounting Data'!$H$2:$H$93564,\"9??\",'Accounting Data'!$I$2:$I$93564,\"4???\",'Accounting Data'!$J$2:$J$93564,\"69??\")","v":0},{"$f":"SUMIFS('Accounting Data'!$C$2:$C$93564,'Accounting Data'!$E$2:$E$93564,\"8??\",'Accounting Data'!$H$2:$H$93564,\"7??\",'Accounting Data'!$I$2:$I$93564,\"4???\",'Accounting Data'!$J$2:$J$93564,\"69??\")+SUMIFS('Accounting Data'!$C$2:$C$93564,'Accounting Data'!$E$2:$E$93564,\"8??\",'Accounting Data'!$H$2:$H$93564,\"8??\",'Accounting Data'!$I$2:$I$93564,\"4???\",'Accounting Data'!$J$2:$J$93564,\"69??\")+SUMIFS('Accounting Data'!$C$2:$C$93564,'Accounting Data'!$E$2:$E$93564,\"8??\",'Accounting Data'!$H$2:$H$93564,\"9??\",'Accounting Data'!$I$2:$I$93564,\"4???\",'Accounting Data'!$J$2:$J$93564,\"69??\")+SUMIFS('Accounting Data'!$C$2:$C$93564,'Accounting Data'!$E$2:$E$93564,\"9??\",'Accounting Data'!$H$2:$H$93564,\"7??\",'Accounting Data'!$I$2:$I$93564,\"4???\",'Accounting Data'!$J$2:$J$93564,\"69??\")+SUMIFS('Accounting Data'!$C$2:$C$93564,'Accounting Data'!$E$2:$E$93564,\"9??\",'Accounting Data'!$H$2:$H$93564,\"8??\",'Accounting Data'!$I$2:$I$93564,\"4???\",'Accounting Data'!$J$2:$J$93564,\"69??\")+SUMIFS('Accounting Data'!$C$2:$C$93564,'Accounting Data'!$E$2:$E$93564,\"9??\",'Accounting Data'!$H$2:$H$93564,\"9??\",'Accounting Data'!$I$2:$I$93564,\"4???\",'Accounting Data'!$J$2:$J$93564,\"69??\")","v":0}]
["From State and Local Sources","15.",{"$f":"C24-C25","v":13393557},4061646,2715136,2018312,1838297,58248,0,null,{"$f":"K24-K25","v":0},{"$f":"L24-L25","v":58006},{"$f":"M24-M25","v":0},{"$f":"N24-N25","v":24143202},"15.",null,null,null,"6810",{"$f":"SUMIFS('Accounting Data'!$C$2:$C$93564,'Accounting Data'!$E$2:$E$93564,\"378\",'Accounting Data'!$I$2:$I$93564,\"1???\",'Accounting Data'!$J$2:$J$93564,\"681?\")+SUMIFS('Accounting Data'!$C$2:$C$93564,'Accounting Data'!$E$2:$E$93564,\"378\",'Accounting Data'!$I$2:$I$93564,\"2???\",'Accounting Data'!$J$2:$J$93564,\"681?\")+SUMIFS('Accounting Data'!$C$2:$C$93564,'Accounting Data'!$E$2:$E$93564,\"378\",'Accounting Data'!$I$2:$I$93564,\"3???\",'Accounting Data'!$J$2:$J$93564,\"681?\")","v":0},0,0,0,null,null,4000,{"$f":"SUMIFS('Accounting Data'!C2:C93564,'Accounting Data'!I2:I93564,\"4???\",'Accounting Data'!J2:J93564,\"61??\")","v":21227},{"$f":"SUMIFS('Accounting Data'!C2:C93564,'Accounting Data'!E2:E93564,\"575\",'Accounting Data'!I2:I93564,\"4???\",'Accounting Data'!J2:J93564,\"61??\")+SUMIFS('Accounting Data'!C2:C93564,'Accounting Data'!E2:E93564,\"8??\",'Accounting Data'!I2:I93564,\"4???\",'Accounting Data'!J2:J93564,\"61??\")+SUMIFS('Accounting Data'!C2:C93564,'Accounting Data'!E2:E93564,\"9??\",'Accounting Data'!I2:I93564,\"4???\",'Accounting Data'!J2:J93564,\"61??\")","v":0},{"$f":"SUMIFS('Accounting Data'!C2:C93564,'Accounting Data'!H2:H93564,\"7??\",'Accounting Data'!I2:I93564,\"4???\",'Accounting Data'!J2:J93564,\"61??\")+SUMIFS('Accounting Data'!C2:C93564,'Accounting Data'!H2:H93564,\"8??\",'Accounting Data'!I2:I93564,\"4???\",'Accounting Data'!J2:J93564,\"61??\")+SUMIFS('Accounting Data'!C2:C93564,'Accounting Data'!H2:H93564,\"9??\",'Accounting Data'!I2:I93564,\"4???\",'Accounting Data'!J2:J93564,\"61??\")","v":0},{"$f":"SUMIFS('Accounting Data'!C2:C93564,'Accounting Data'!E2:E93564,\"575\",'Accounting Data'!H2:H93564,\"7??\",'Accounting Data'!I2:I93564,\"4???\",'Accounting Data'!J2:J93564,\"61??\")+SUMIFS('Accounting Data'!C2:C93564,'Accounting Data'!E2:E93564,\"575\",'Accounting Data'!H2:H93564,\"8??\",'Accounting Data'!I2:I93564,\"4???\",'Accounting Data'!J2:J93564,\"61??\")+SUMIFS('Accounting Data'!C2:C93564,'Accounting Data'!E2:E93564,\"575\",'Accounting Data'!H2:H93564,\"9??\",'Accounting Data'!I2:I93564,\"4???\",'Accounting Data'!J2:J93564,\"61??\")","v":0},{"$f":"SUMIFS('Accounting Data'!C2:C93564,'Accounting Data'!E2:E93564,\"8??\",'Accounting Data'!H2:H93564,\"7??\",'Accounting Data'!I2:I93564,\"4???\",'Accounting Data'!J2:J93564,\"61??\")+SUMIFS('Accounting Data'!C2:C93564,'Accounting Data'!E2:E93564,\"8??\",'Accounting Data'!H2:H93564,\"8??\",'Accounting Data'!I2:I93564,\"4???\",'Accounting Data'!J2:J93564,\"61??\")+SUMIFS('Accounting Data'!C2:C93564,'Accounting Data'!E2:E93564,\"8??\",'Accounting Data'!H2:H93564,\"9??\",'Accounting Data'!I2:I93564,\"4???\",'Accounting Data'!J2:J93564,\"61??\")","v":0},{"$f":"SUMIFS('Accounting Data'!C2:C93564,'Accounting Data'!E2:E93564,\"9??\",'Accounting Data'!H2:H93564,\"7??\",'Accounting Data'!I2:I93564,\"4???\",'Accounting Data'!J2:J93564,\"61??\")+SUMIFS('Accounting Data'!C2:C93564,'Accounting Data'!E2:E93564,\"9??\",'Accounting Data'!H2:H93564,\"8??\",'Accounting Data'!I2:I93564,\"4???\",'Accounting Data'!J2:J93564,\"61??\")+SUMIFS('Accounting Data'!C2:C93564,'Accounting Data'!E2:E93564,\"9??\",'Accounting Data'!H2:H93564,\"9??\",'Accounting Data'!I2:I93564,\"4???\",'Accounting Data'!J2:J93564,\"61??\")","v":0},null,4000,{"$f":"SUMIFS('Accounting Data'!C2:C93564,'Accounting Data'!I2:I93564,\"4???\",'Accounting Data'!J2:J93564,\"62??\")","v":7405},{"$f":"SUMIFS('Accounting Data'!C2:C93564,'Accounting Data'!E2:E93564,\"575\",'Accounting Data'!I2:I93564,\"4???\",'Accounting Data'!J2:J93564,\"62??\")+SUMIFS('Accounting Data'!C2:C93564,'Accounting Data'!E2:E93564,\"8??\",'Accounting Data'!I2:I93564,\"4???\",'Accounting Data'!J2:J93564,\"62??\")+SUMIFS('Accounting Data'!C2:C93564,'Accounting Data'!E2:E93564,\"9??\",'Accounting Data'!I2:I93564,\"4???\",'Accounting Data'!J2:J93564,\"62??\")","v":0},{"$f":"SUMIFS('Accounting Data'!C2:C93564,'Accounting Data'!H2:H93564,\"7??\",'Accounting Data'!I2:I93564,\"4???\",'Accounting Data'!J2:J93564,\"62??\")+SUMIFS('Accounting Data'!C2:C93564,'Accounting Data'!H2:H93564,\"8??\",'Accounting Data'!I2:I93564,\"4???\",'Accounting Data'!J2:J93564,\"62??\")+SUMIFS('Accounting Data'!C2:C93564,'Accounting Data'!H2:H93564,\"9??\",'Accounting Data'!I2:I93564,\"4???\",'Accounting Data'!J2:J93564,\"62??\")","v":0},{"$f":"SUMIFS('Accounting Data'!C2:C93564,'Accounting Data'!E2:E93564,\"575\",'Accounting Data'!H2:H93564,\"7??\",'Accounting Data'!I2:I93564,\"4???\",'Accounting Data'!J2:J93564,\"62??\")+SUMIFS('Accounting Data'!C2:C93564,'Accounting Data'!E2:E93564,\"575\",'Accounting Data'!H2:H93564,\"8??\",'Accounting Data'!I2:I93564,\"4???\",'Accounting Data'!J2:J93564,\"62??\")+SUMIFS('Accounting Data'!C2:C93564,'Accounting Data'!E2:E93564,\"575\",'Accounting Data'!H2:H93564,\"9??\",'Accounting Data'!I2:I93564,\"4???\",'Accounting Data'!J2:J93564,\"62??\")","v":0},{"$f":"SUMIFS('Accounting Data'!C2:C93564,'Accounting Data'!E2:E93564,\"8??\",'Accounting Data'!H2:H93564,\"7??\",'Accounting Data'!I2:I93564,\"4???\",'Accounting Data'!J2:J93564,\"62??\")+SUMIFS('Accounting Data'!C2:C93564,'Accounting Data'!E2:E93564,\"8??\",'Accounting Data'!H2:H93564,\"8??\",'Accounting Data'!I2:I93564,\"4???\",'Accounting Data'!J2:J93564,\"62??\")+SUMIFS('Accounting Data'!C2:C93564,'Accounting Data'!E2:E93564,\"8??\",'Accounting Data'!H2:H93564,\"9??\",'Accounting Data'!I2:I93564,\"4???\",'Accounting Data'!J2:J93564,\"62??\")","v":0},{"$f":"SUMIFS('Accounting Data'!C2:C93564,'Accounting Data'!E2:E93564,\"9??\",'Accounting Data'!H2:H93564,\"7??\",'Accounting Data'!I2:I93564,\"4???\",'Accounting Data'!J2:J93564,\"62??\")+SUMIFS('Accounting Data'!C2:C93564,'Accounting Data'!E2:E93564,\"9??\",'Accounting Data'!H2:H93564,\"8??\",'Accounting Data'!I2:I93564,\"4???\",'Accounting Data'!J2:J93564,\"62??\")+SUMIFS('Accounting Data'!C2:C93564,'Accounting Data'!E2:E93564,\"9??\",'Accounting Data'!H2:H93564,\"9??\",'Accounting Data'!I2:I93564,\"4???\",'Accounting Data'!J2:J93564,\"62??\")","v":0},null,4000,{"$f":"SUMIFS('Accounting Data'!C2:C93564,'Accounting Data'!I2:I93564,\"4???\",'Accounting Data'!J2:J93564,\"63??\")+SUMIFS('Accounting Data'!C2:C93564,'Accounting Data'!I2:I93564,\"4???\",'Accounting Data'!J2:J93564,\"64??\")+SUMIFS('Accounting Data'!C2:C93564,'Accounting Data'!I2:I93564,\"4???\",'Accounting Data'!J2:J93564,\"65??\")","v":1054919},{"$f":"SUMIFS('Accounting Data'!C2:C93564,'Accounting Data'!E2:E93564,\"575\",'Accounting Data'!I2:I93564,\"4???\",'Accounting Data'!J2:J93564,\"63??\")+SUMIFS('Accounting Data'!C2:C93564,'Accounting Data'!E2:E93564,\"8??\",'Accounting Data'!I2:I93564,\"4???\",'Accounting Data'!J2:J93564,\"63??\")+SUMIFS('Accounting Data'!C2:C93564,'Accounting Data'!E2:E93564,\"9??\",'Accounting Data'!I2:I93564,\"4???\",'Accounting Data'!J2:J93564,\"63??\")","v":0},{"$f":"SUMIFS('Accounting Data'!C2:C93564,'Accounting Data'!E2:E93564,\"575\",'Accounting Data'!I2:I93564,\"4???\",'Accounting Data'!J2:J93564,\"64??\")+SUMIFS('Accounting Data'!C2:C93564,'Accounting Data'!E2:E93564,\"8??\",'Accounting Data'!I2:I93564,\"4???\",'Accounting Data'!J2:J93564,\"64??\")+SUMIFS('Accounting Data'!C2:C93564,'Accounting Data'!E2:E93564,\"9??\",'Accounting Data'!I2:I93564,\"4???\",'Accounting Data'!J2:J93564,\"64??\")","v":0},{"$f":"SUMIFS('Accounting Data'!C2:C93564,'Accounting Data'!E2:E93564,\"575\",'Accounting Data'!I2:I93564,\"4???\",'Accounting Data'!J2:J93564,\"65??\")+SUMIFS('Accounting Data'!C2:C93564,'Accounting Data'!E2:E93564,\"8??\",'Accounting Data'!I2:I93564,\"4???\",'Accounting Data'!J2:J93564,\"65??\")+SUMIFS('Accounting Data'!C2:C93564,'Accounting Data'!E2:E93564,\"9??\",'Accounting Data'!I2:I93564,\"4???\",'Accounting Data'!J2:J93564,\"65??\")","v":0},{"$f":"SUMIFS('Accounting Data'!C2:C93564,'Accounting Data'!H2:H93564,\"7??\",'Accounting Data'!I2:I93564,\"4???\",'Accounting Data'!J2:J93564,\"63??\")+SUMIFS('Accounting Data'!C2:C93564,'Accounting Data'!H2:H93564,\"8??\",'Accounting Data'!I2:I93564,\"4???\",'Accounting Data'!J2:J93564,\"63??\")+SUMIFS('Accounting Data'!C2:C93564,'Accounting Data'!H2:H93564,\"9??\",'Accounting Data'!I2:I93564,\"4???\",'Accounting Data'!J2:J93564,\"63??\")+SUMIFS('Accounting Data'!C2:C93564,'Accounting Data'!H2:H93564,\"7??\",'Accounting Data'!I2:I93564,\"4???\",'Accounting Data'!J2:J93564,\"64??\")+SUMIFS('Accounting Data'!C2:C93564,'Accounting Data'!H2:H93564,\"8??\",'Accounting Data'!I2:I93564,\"4???\",'Accounting Data'!J2:J93564,\"64??\")+SUMIFS('Accounting Data'!C2:C93564,'Accounting Data'!H2:H93564,\"9??\",'Accounting Data'!I2:I93564,\"4???\",'Accounting Data'!J2:J93564,\"64??\")+SUMIFS('Accounting Data'!C2:C93564,'Accounting Data'!H2:H93564,\"7??\",'Accounting Data'!I2:I93564,\"4???\",'Accounting Data'!J2:J93564,\"65??\")+SUMIFS('Accounting Data'!C2:C93564,'Accounting Data'!H2:H93564,\"8??\",'Accounting Data'!I2:I93564,\"4???\",'Accounting Data'!J2:J93564,\"65??\")+SUMIFS('Accounting Data'!C2:C93564,'Accounting Data'!H2:H93564,\"9??\",'Accounting Data'!I2:I93564,\"4???\",'Accounting Data'!J2:J93564,\"65??\")","v":0},{"$f":"SUMIFS('Accounting Data'!C2:C93564,'Accounting Data'!E2:E93564,\"575\",'Accounting Data'!H2:H93564,\"7??\",'Accounting Data'!I2:I93564,\"4???\",'Accounting Data'!J2:J93564,\"63??\")+SUMIFS('Accounting Data'!C2:C93564,'Accounting Data'!E2:E93564,\"575\",'Accounting Data'!H2:H93564,\"8??\",'Accounting Data'!I2:I93564,\"4???\",'Accounting Data'!J2:J93564,\"63??\")+SUMIFS('Accounting Data'!C2:C93564,'Accounting Data'!E2:E93564,\"575\",'Accounting Data'!H2:H93564,\"9??\",'Accounting Data'!I2:I93564,\"4???\",'Accounting Data'!J2:J93564,\"63??\")","v":0},{"$f":"SUMIFS('Accounting Data'!C2:C93564,'Accounting Data'!E2:E93564,\"575\",'Accounting Data'!H2:H93564,\"7??\",'Accounting Data'!I2:I93564,\"4???\",'Accounting Data'!J2:J93564,\"64??\")+SUMIFS('Accounting Data'!C2:C93564,'Accounting Data'!E2:E93564,\"575\",'Accounting Data'!H2:H93564,\"8??\",'Accounting Data'!I2:I93564,\"4???\",'Accounting Data'!J2:J93564,\"64??\")+SUMIFS('Accounting Data'!C2:C93564,'Accounting Data'!E2:E93564,\"575\",'Accounting Data'!H2:H93564,\"9??\",'Accounting Data'!I2:I93564,\"4???\",'Accounting Data'!J2:J93564,\"64??\")","v":0},{"$f":"SUMIFS('Accounting Data'!C2:C93564,'Accounting Data'!E2:E93564,\"575\",'Accounting Data'!H2:H93564,\"7??\",'Accounting Data'!I2:I93564,\"4???\",'Accounting Data'!J2:J93564,\"65??\")+SUMIFS('Accounting Data'!C2:C93564,'Accounting Data'!E2:E93564,\"575\",'Accounting Data'!H2:H93564,\"8??\",'Accounting Data'!I2:I93564,\"4???\",'Accounting Data'!J2:J93564,\"65??\")+SUMIFS('Accounting Data'!C2:C93564,'Accounting Data'!E2:E93564,\"575\",'Accounting Data'!H2:H93564,\"9??\",'Accounting Data'!I2:I93564,\"4???\",'Accounting Data'!J2:J93564,\"65??\")","v":0},{"$f":"SUMIFS('Accounting Data'!C2:C93564,'Accounting Data'!E2:E93564,\"8??\",'Accounting Data'!H2:H93564,\"7??\",'Accounting Data'!I2:I93564,\"4???\",'Accounting Data'!J2:J93564,\"63??\")+SUMIFS('Accounting Data'!C2:C93564,'Accounting Data'!E2:E93564,\"8??\",'Accounting Data'!H2:H93564,\"8??\",'Accounting Data'!I2:I93564,\"4???\",'Accounting Data'!J2:J93564,\"63??\")+SUMIFS('Accounting Data'!C2:C93564,'Accounting Data'!E2:E93564,\"8??\",'Accounting Data'!H2:H93564,\"9??\",'Accounting Data'!I2:I93564,\"4???\",'Accounting Data'!J2:J93564,\"63??\")","v":0},{"$f":"SUMIFS('Accounting Data'!C2:C93564,'Accounting Data'!E2:E93564,\"8??\",'Accounting Data'!H2:H93564,\"7??\",'Accounting Data'!I2:I93564,\"4???\",'Accounting Data'!J2:J93564,\"64??\")+SUMIFS('Accounting Data'!C2:C93564,'Accounting Data'!E2:E93564,\"8??\",'Accounting Data'!H2:H93564,\"8??\",'Accounting Data'!I2:I93564,\"4???\",'Accounting Data'!J2:J93564,\"64??\")+SUMIFS('Accounting Data'!C2:C93564,'Accounting Data'!E2:E93564,\"8??\",'Accounting Data'!H2:H93564,\"9??\",'Accounting Data'!I2:I93564,\"4???\",'Accounting Data'!J2:J93564,\"64??\")","v":0},{"$f":"SUMIFS('Accounting Data'!C2:C93564,'Accounting Data'!E2:E93564,\"8??\",'Accounting Data'!H2:H93564,\"7??\",'Accounting Data'!I2:I93564,\"4???\",'Accounting Data'!J2:J93564,\"65??\")+SUMIFS('Accounting Data'!C2:C93564,'Accounting Data'!E2:E93564,\"8??\",'Accounting Data'!H2:H93564,\"8??\",'Accounting Data'!I2:I93564,\"4???\",'Accounting Data'!J2:J93564,\"65??\")+SUMIFS('Accounting Data'!C2:C93564,'Accounting Data'!E2:E93564,\"8??\",'Accounting Data'!H2:H93564,\"9??\",'Accounting Data'!I2:I93564,\"4???\",'Accounting Data'!J2:J93564,\"65??\")","v":0},{"$f":"SUMIFS('Accounting Data'!C2:C93564,'Accounting Data'!E2:E93564,\"9??\",'Accounting Data'!H2:H93564,\"7??\",'Accounting Data'!I2:I93564,\"4???\",'Accounting Data'!J2:J93564,\"63??\")+SUMIFS('Accounting Data'!C2:C93564,'Accounting Data'!E2:E93564,\"9??\",'Accounting Data'!H2:H93564,\"8??\",'Accounting Data'!I2:I93564,\"4???\",'Accounting Data'!J2:J93564,\"63??\")+SUMIFS('Accounting Data'!C2:C93564,'Accounting Data'!E2:E93564,\"9??\",'Accounting Data'!H2:H93564,\"9??\",'Accounting Data'!I2:I93564,\"4???\",'Accounting Data'!J2:J93564,\"63??\")","v":0},{"$f":"SUMIFS('Accounting Data'!C2:C93564,'Accounting Data'!E2:E93564,\"9??\",'Accounting Data'!H2:H93564,\"7??\",'Accounting Data'!I2:I93564,\"4???\",'Accounting Data'!J2:J93564,\"64??\")+SUMIFS('Accounting Data'!C2:C93564,'Accounting Data'!E2:E93564,\"9??\",'Accounting Data'!H2:H93564,\"8??\",'Accounting Data'!I2:I93564,\"4???\",'Accounting Data'!J2:J93564,\"64??\")+SUMIFS('Accounting Data'!C2:C93564,'Accounting Data'!E2:E93564,\"9??\",'Accounting Data'!H2:H93564,\"9??\",'Accounting Data'!I2:I93564,\"4???\",'Accounting Data'!J2:J93564,\"64??\")","v":0},{"$f":"SUMIFS('Accounting Data'!C2:C93564,'Accounting Data'!E2:E93564,\"9??\",'Accounting Data'!H2:H93564,\"7??\",'Accounting Data'!I2:I93564,\"4???\",'Accounting Data'!J2:J93564,\"65??\")+SUMIFS('Accounting Data'!C2:C93564,'Accounting Data'!E2:E93564,\"9??\",'Accounting Data'!H2:H93564,\"8??\",'Accounting Data'!I2:I93564,\"4???\",'Accounting Data'!J2:J93564,\"65??\")+SUMIFS('Accounting Data'!C2:C93564,'Accounting Data'!E2:E93564,\"9??\",'Accounting Data'!H2:H93564,\"9??\",'Accounting Data'!I2:I93564,\"4???\",'Accounting Data'!J2:J93564,\"65??\")","v":0},null,4000,{"$f":"SUMIFS('Accounting Data'!C2:C93564,'Accounting Data'!I2:I93564,\"4???\",'Accounting Data'!J2:J93564,\"66??\")","v":0},{"$f":"SUMIFS('Accounting Data'!$C$2:$C$93564,'Accounting Data'!$E$2:$E$93564,\"575\",'Accounting Data'!$I$2:$I$93564,\"4???\",'Accounting Data'!$J$2:$J$93564,\"66??\")+SUMIFS('Accounting Data'!$C$2:$C$93564,'Accounting Data'!$E$2:$E$93564,\"8??\",'Accounting Data'!$I$2:$I$93564,\"4???\",'Accounting Data'!$J$2:$J$93564,\"66??\")+SUMIFS('Accounting Data'!$C$2:$C$93564,'Accounting Data'!$E$2:$E$93564,\"9??\",'Accounting Data'!$I$2:$I$93564,\"4???\",'Accounting Data'!$J$2:$J$93564,\"66??\")","v":0},{"$f":"SUMIFS('Accounting Data'!$C$2:$C$93564,'Accounting Data'!$H$2:$H$93564,\"7??\",'Accounting Data'!$I$2:$I$93564,\"4???\",'Accounting Data'!$J$2:$J$93564,\"66??\")+SUMIFS('Accounting Data'!$C$2:$C$93564,'Accounting Data'!$H$2:$H$93564,\"8??\",'Accounting Data'!$I$2:$I$93564,\"4???\",'Accounting Data'!$J$2:$J$93564,\"66??\")+SUMIFS('Accounting Data'!$C$2:$C$93564,'Accounting Data'!$H$2:$H$93564,\"9??\",'Accounting Data'!$I$2:$I$93564,\"4???\",'Accounting Data'!$J$2:$J$93564,\"66??\")","v":0},{"$f":"SUMIFS('Accounting Data'!$C$2:$C$93564,'Accounting Data'!$E$2:$E$93564,\"575\",'Accounting Data'!$H$2:$H$93564,\"7??\",'Accounting Data'!$I$2:$I$93564,\"4???\",'Accounting Data'!$J$2:$J$93564,\"66??\")+SUMIFS('Accounting Data'!$C$2:$C$93564,'Accounting Data'!$E$2:$E$93564,\"575\",'Accounting Data'!$H$2:$H$93564,\"8??\",'Accounting Data'!$I$2:$I$93564,\"4???\",'Accounting Data'!$J$2:$J$93564,\"66??\")+SUMIFS('Accounting Data'!$C$2:$C$93564,'Accounting Data'!$E$2:$E$93564,\"575\",'Accounting Data'!$H$2:$H$93564,\"9??\",'Accounting Data'!$I$2:$I$93564,\"4???\",'Accounting Data'!$J$2:$J$93564,\"66??\")","v":0},{"$f":"SUMIFS('Accounting Data'!$C$2:$C$93564,'Accounting Data'!$E$2:$E$93564,\"8??\",'Accounting Data'!$H$2:$H$93564,\"7??\",'Accounting Data'!$I$2:$I$93564,\"4???\",'Accounting Data'!$J$2:$J$93564,\"66??\")+SUMIFS('Accounting Data'!$C$2:$C$93564,'Accounting Data'!$E$2:$E$93564,\"8??\",'Accounting Data'!$H$2:$H$93564,\"8??\",'Accounting Data'!$I$2:$I$93564,\"4???\",'Accounting Data'!$J$2:$J$93564,\"66??\")+SUMIFS('Accounting Data'!$C$2:$C$93564,'Accounting Data'!$E$2:$E$93564,\"8??\",'Accounting Data'!$H$2:$H$93564,\"9??\",'Accounting Data'!$I$2:$I$93564,\"4???\",'Accounting Data'!$J$2:$J$93564,\"66??\")","v":0},{"$f":"SUMIFS('Accounting Data'!$C$2:$C$93564,'Accounting Data'!$E$2:$E$93564,\"9??\",'Accounting Data'!$H$2:$H$93564,\"7??\",'Accounting Data'!$I$2:$I$93564,\"4???\",'Accounting Data'!$J$2:$J$93564,\"66??\")+SUMIFS('Accounting Data'!$C$2:$C$93564,'Accounting Data'!$E$2:$E$93564,\"9??\",'Accounting Data'!$H$2:$H$93564,\"8??\",'Accounting Data'!$I$2:$I$93564,\"4???\",'Accounting Data'!$J$2:$J$93564,\"66??\")+SUMIFS('Accounting Data'!$C$2:$C$93564,'Accounting Data'!$E$2:$E$93564,\"9??\",'Accounting Data'!$H$2:$H$93564,\"9??\",'Accounting Data'!$I$2:$I$93564,\"4???\",'Accounting Data'!$J$2:$J$93564,\"66??\")","v":0},null,4000,{"$f":"SUMIFS('Accounting Data'!C2:C93564,'Accounting Data'!I2:I93564,\"4???\",'Accounting Data'!J2:J93564,\"67??\")","v":0},{"$f":"SUMIFS('Accounting Data'!$C$2:$C$93564,'Accounting Data'!$E$2:$E$93564,\"575\",'Accounting Data'!$I$2:$I$93564,\"4???\",'Accounting Data'!$J$2:$J$93564,\"67??\")+SUMIFS('Accounting Data'!$C$2:$C$93564,'Accounting Data'!$E$2:$E$93564,\"8??\",'Accounting Data'!$I$2:$I$93564,\"4???\",'Accounting Data'!$J$2:$J$93564,\"67??\")+SUMIFS('Accounting Data'!$C$2:$C$93564,'Accounting Data'!$E$2:$E$93564,\"9??\",'Accounting Data'!$I$2:$I$93564,\"4???\",'Accounting Data'!$J$2:$J$93564,\"67??\")","v":0},{"$f":"SUMIFS('Accounting Data'!$C$2:$C$93564,'Accounting Data'!$H$2:$H$93564,\"7??\",'Accounting Data'!$I$2:$I$93564,\"4???\",'Accounting Data'!$J$2:$J$93564,\"67??\")+SUMIFS('Accounting Data'!$C$2:$C$93564,'Accounting Data'!$H$2:$H$93564,\"8??\",'Accounting Data'!$I$2:$I$93564,\"4???\",'Accounting Data'!$J$2:$J$93564,\"67??\")+SUMIFS('Accounting Data'!$C$2:$C$93564,'Accounting Data'!$H$2:$H$93564,\"9??\",'Accounting Data'!$I$2:$I$93564,\"4???\",'Accounting Data'!$J$2:$J$93564,\"67??\")","v":0},{"$f":"SUMIFS('Accounting Data'!$C$2:$C$93564,'Accounting Data'!$E$2:$E$93564,\"575\",'Accounting Data'!$H$2:$H$93564,\"7??\",'Accounting Data'!$I$2:$I$93564,\"4???\",'Accounting Data'!$J$2:$J$93564,\"67??\")+SUMIFS('Accounting Data'!$C$2:$C$93564,'Accounting Data'!$E$2:$E$93564,\"575\",'Accounting Data'!$H$2:$H$93564,\"8??\",'Accounting Data'!$I$2:$I$93564,\"4???\",'Accounting Data'!$J$2:$J$93564,\"67??\")+SUMIFS('Accounting Data'!$C$2:$C$93564,'Accounting Data'!$E$2:$E$93564,\"575\",'Accounting Data'!$H$2:$H$93564,\"9??\",'Accounting Data'!$I$2:$I$93564,\"4???\",'Accounting Data'!$J$2:$J$93564,\"67??\")","v":0},{"$f":"SUMIFS('Accounting Data'!$C$2:$C$93564,'Accounting Data'!$E$2:$E$93564,\"8??\",'Accounting Data'!$H$2:$H$93564,\"7??\",'Accounting Data'!$I$2:$I$93564,\"4???\",'Accounting Data'!$J$2:$J$93564,\"67??\")+SUMIFS('Accounting Data'!$C$2:$C$93564,'Accounting Data'!$E$2:$E$93564,\"8??\",'Accounting Data'!$H$2:$H$93564,\"8??\",'Accounting Data'!$I$2:$I$93564,\"4???\",'Accounting Data'!$J$2:$J$93564,\"67??\")+SUMIFS('Accounting Data'!$C$2:$C$93564,'Accounting Data'!$E$2:$E$93564,\"8??\",'Accounting Data'!$H$2:$H$93564,\"9??\",'Accounting Data'!$I$2:$I$93564,\"4???\",'Accounting Data'!$J$2:$J$93564,\"67??\")","v":0},{"$f":"SUMIFS('Accounting Data'!$C$2:$C$93564,'Accounting Data'!$E$2:$E$93564,\"9??\",'Accounting Data'!$H$2:$H$93564,\"7??\",'Accounting Data'!$I$2:$I$93564,\"4???\",'Accounting Data'!$J$2:$J$93564,\"67??\")+SUMIFS('Accounting Data'!$C$2:$C$93564,'Accounting Data'!$E$2:$E$93564,\"9??\",'Accounting Data'!$H$2:$H$93564,\"8??\",'Accounting Data'!$I$2:$I$93564,\"4???\",'Accounting Data'!$J$2:$J$93564,\"67??\")+SUMIFS('Accounting Data'!$C$2:$C$93564,'Accounting Data'!$E$2:$E$93564,\"9??\",'Accounting Data'!$H$2:$H$93564,\"9??\",'Accounting Data'!$I$2:$I$93564,\"4???\",'Accounting Data'!$J$2:$J$93564,\"67??\")","v":0},null,4000,{"$f":"SUMIFS('Accounting Data'!C2:C93564,'Accounting Data'!I2:I93564,\"4???\",'Accounting Data'!J2:J93564,\"681?\")","v":0},{"$f":"SUMIFS('Accounting Data'!$C$2:$C$93564,'Accounting Data'!$E$2:$E$93564,\"575\",'Accounting Data'!$I$2:$I$93564,\"4???\",'Accounting Data'!$J$2:$J$93564,\"681?\")+SUMIFS('Accounting Data'!$C$2:$C$93564,'Accounting Data'!$E$2:$E$93564,\"8??\",'Accounting Data'!$I$2:$I$93564,\"4???\",'Accounting Data'!$J$2:$J$93564,\"681?\")+SUMIFS('Accounting Data'!$C$2:$C$93564,'Accounting Data'!$E$2:$E$93564,\"9??\",'Accounting Data'!$I$2:$I$93564,\"4???\",'Accounting Data'!$J$2:$J$93564,\"681?\")","v":0},{"$f":"SUMIFS('Accounting Data'!$C$2:$C$93564,'Accounting Data'!$H$2:$H$93564,\"7??\",'Accounting Data'!$I$2:$I$93564,\"4???\",'Accounting Data'!$J$2:$J$93564,\"681?\")+SUMIFS('Accounting Data'!$C$2:$C$93564,'Accounting Data'!$H$2:$H$93564,\"8??\",'Accounting Data'!$I$2:$I$93564,\"4???\",'Accounting Data'!$J$2:$J$93564,\"681?\")+SUMIFS('Accounting Data'!$C$2:$C$93564,'Accounting Data'!$H$2:$H$93564,\"9??\",'Accounting Data'!$I$2:$I$93564,\"4???\",'Accounting Data'!$J$2:$J$93564,\"681?\")","v":0},{"$f":"SUMIFS('Accounting Data'!$C$2:$C$93564,'Accounting Data'!$E$2:$E$93564,\"575\",'Accounting Data'!$H$2:$H$93564,\"7??\",'Accounting Data'!$I$2:$I$93564,\"4???\",'Accounting Data'!$J$2:$J$93564,\"681?\")+SUMIFS('Accounting Data'!$C$2:$C$93564,'Accounting Data'!$E$2:$E$93564,\"575\",'Accounting Data'!$H$2:$H$93564,\"8??\",'Accounting Data'!$I$2:$I$93564,\"4???\",'Accounting Data'!$J$2:$J$93564,\"681?\")+SUMIFS('Accounting Data'!$C$2:$C$93564,'Accounting Data'!$E$2:$E$93564,\"575\",'Accounting Data'!$H$2:$H$93564,\"9??\",'Accounting Data'!$I$2:$I$93564,\"4???\",'Accounting Data'!$J$2:$J$93564,\"681?\")","v":0},{"$f":"SUMIFS('Accounting Data'!$C$2:$C$93564,'Accounting Data'!$E$2:$E$93564,\"8??\",'Accounting Data'!$H$2:$H$93564,\"7??\",'Accounting Data'!$I$2:$I$93564,\"4???\",'Accounting Data'!$J$2:$J$93564,\"681?\")+SUMIFS('Accounting Data'!$C$2:$C$93564,'Accounting Data'!$E$2:$E$93564,\"8??\",'Accounting Data'!$H$2:$H$93564,\"8??\",'Accounting Data'!$I$2:$I$93564,\"4???\",'Accounting Data'!$J$2:$J$93564,\"681?\")+SUMIFS('Accounting Data'!$C$2:$C$93564,'Accounting Data'!$E$2:$E$93564,\"8??\",'Accounting Data'!$H$2:$H$93564,\"9??\",'Accounting Data'!$I$2:$I$93564,\"4???\",'Accounting Data'!$J$2:$J$93564,\"681?\")","v":0},{"$f":"SUMIFS('Accounting Data'!$C$2:$C$93564,'Accounting Data'!$E$2:$E$93564,\"9??\",'Accounting Data'!$H$2:$H$93564,\"7??\",'Accounting Data'!$I$2:$I$93564,\"4???\",'Accounting Data'!$J$2:$J$93564,\"681?\")+SUMIFS('Accounting Data'!$C$2:$C$93564,'Accounting Data'!$E$2:$E$93564,\"9??\",'Accounting Data'!$H$2:$H$93564,\"8??\",'Accounting Data'!$I$2:$I$93564,\"4???\",'Accounting Data'!$J$2:$J$93564,\"681?\")+SUMIFS('Accounting Data'!$C$2:$C$93564,'Accounting Data'!$E$2:$E$93564,\"9??\",'Accounting Data'!$H$2:$H$93564,\"9??\",'Accounting Data'!$I$2:$I$93564,\"4???\",'Accounting Data'!$J$2:$J$93564,\"681?\")","v":0},null,"Function","All funds ","Funds 575,800-999","Programs 700-900","Programs 700-900 Funds 575","Programs 700-900 Funds 800-899","Programs 700-900 Funds 900-999",null,null,null,null,null,null,null,null,null,null,null,null,null,null,null,null,null,5000,{"$f":"SUMIFS('Accounting Data'!$C$2:$C$93564,'Accounting Data'!$H$2:$H$93564,\"7??\",'Accounting Data'!$I$2:$I$93564,\"5???\",'Accounting Data'!$J$2:$J$93564,\"6???\")+SUMIFS('Accounting Data'!$C$2:$C$93564,'Accounting Data'!$H$2:$H$93564,\"8??\",'Accounting Data'!$I$2:$I$93564,\"5???\",'Accounting Data'!$J$2:$J$93564,\"6???\")+SUMIFS('Accounting Data'!$C$2:$C$93564,'Accounting Data'!$H$2:$H$93564,\"9??\",'Accounting Data'!$I$2:$I$93564,\"5???\",'Accounting Data'!$J$2:$J$93564,\"6???\")","v":0},{"$f":"SUMIFS('Accounting Data'!$C$2:$C$93564,'Accounting Data'!$H$2:$H$93564,\"7??\",'Accounting Data'!$I$2:$I$93564,\"5???\",'Accounting Data'!$J$2:$J$93564,\"69??\")+SUMIFS('Accounting Data'!$C$2:$C$93564,'Accounting Data'!$H$2:$H$93564,\"8??\",'Accounting Data'!$I$2:$I$93564,\"5???\",'Accounting Data'!$J$2:$J$93564,\"69??\")+SUMIFS('Accounting Data'!$C$2:$C$93564,'Accounting Data'!$H$2:$H$93564,\"9??\",'Accounting Data'!$I$2:$I$93564,\"5???\",'Accounting Data'!$J$2:$J$93564,\"69??\")","v":0},{"$f":"SUMIFS('Accounting Data'!$C$2:$C$93564,'Accounting Data'!$E$2:$E$93564,\"575\",'Accounting Data'!$H$2:$H$93564,\"7??\",'Accounting Data'!$I$2:$I$93564,\"5???\",'Accounting Data'!$J$2:$J$93564,\"6???\")+SUMIFS('Accounting Data'!$C$2:$C$93564,'Accounting Data'!$E$2:$E$93564,\"575\",'Accounting Data'!$H$2:$H$93564,\"8??\",'Accounting Data'!$I$2:$I$93564,\"5???\",'Accounting Data'!$J$2:$J$93564,\"6???\")+SUMIFS('Accounting Data'!$C$2:$C$93564,'Accounting Data'!$E$2:$E$93564,\"575\",'Accounting Data'!$H$2:$H$93564,\"9??\",'Accounting Data'!$I$2:$I$93564,\"5???\",'Accounting Data'!$J$2:$J$93564,\"6???\")","v":0},{"$f":"SUMIFS('Accounting Data'!$C$2:$C$93564,'Accounting Data'!$E$2:$E$93564,\"8??\",'Accounting Data'!$H$2:$H$93564,\"7??\",'Accounting Data'!$I$2:$I$93564,\"5???\",'Accounting Data'!$J$2:$J$93564,\"6???\")+SUMIFS('Accounting Data'!$C$2:$C$93564,'Accounting Data'!$E$2:$E$93564,\"8??\",'Accounting Data'!$H$2:$H$93564,\"8??\",'Accounting Data'!$I$2:$I$93564,\"5???\",'Accounting Data'!$J$2:$J$93564,\"6???\")+SUMIFS('Accounting Data'!$C$2:$C$93564,'Accounting Data'!$E$2:$E$93564,\"8??\",'Accounting Data'!$H$2:$H$93564,\"9??\",'Accounting Data'!$I$2:$I$93564,\"5???\",'Accounting Data'!$J$2:$J$93564,\"6???\")+SUMIFS('Accounting Data'!$C$2:$C$93564,'Accounting Data'!$E$2:$E$93564,\"9??\",'Accounting Data'!$H$2:$H$93564,\"7??\",'Accounting Data'!$I$2:$I$93564,\"5???\",'Accounting Data'!$J$2:$J$93564,\"6???\")+SUMIFS('Accounting Data'!$C$2:$C$93564,'Accounting Data'!$E$2:$E$93564,\"9??\",'Accounting Data'!$H$2:$H$93564,\"8??\",'Accounting Data'!$I$2:$I$93564,\"5???\",'Accounting Data'!$J$2:$J$93564,\"6???\")+SUMIFS('Accounting Data'!$C$2:$C$93564,'Accounting Data'!$E$2:$E$93564,\"9??\",'Accounting Data'!$H$2:$H$93564,\"9??\",'Accounting Data'!$I$2:$I$93564,\"5???\",'Accounting Data'!$J$2:$J$93564,\"6???\")","v":0},{"$f":"SUMIFS('Accounting Data'!$C$2:$C$93564,'Accounting Data'!$E$2:$E$93564,\"575\",'Accounting Data'!$H$2:$H$93564,\"7??\",'Accounting Data'!$I$2:$I$93564,\"5???\",'Accounting Data'!$J$2:$J$93564,\"69??\")+SUMIFS('Accounting Data'!$C$2:$C$93564,'Accounting Data'!$E$2:$E$93564,\"575\",'Accounting Data'!$H$2:$H$93564,\"8??\",'Accounting Data'!$I$2:$I$93564,\"5???\",'Accounting Data'!$J$2:$J$93564,\"69??\")+SUMIFS('Accounting Data'!$C$2:$C$93564,'Accounting Data'!$E$2:$E$93564,\"575\",'Accounting Data'!$H$2:$H$93564,\"9??\",'Accounting Data'!$I$2:$I$93564,\"5???\",'Accounting Data'!$J$2:$J$93564,\"69??\")","v":0},{"$f":"SUMIFS('Accounting Data'!$C$2:$C$93564,'Accounting Data'!$E$2:$E$93564,\"8??\",'Accounting Data'!$H$2:$H$93564,\"7??\",'Accounting Data'!$I$2:$I$93564,\"5???\",'Accounting Data'!$J$2:$J$93564,\"69??\")+SUMIFS('Accounting Data'!$C$2:$C$93564,'Accounting Data'!$E$2:$E$93564,\"8??\",'Accounting Data'!$H$2:$H$93564,\"8??\",'Accounting Data'!$I$2:$I$93564,\"5???\",'Accounting Data'!$J$2:$J$93564,\"69??\")+SUMIFS('Accounting Data'!$C$2:$C$93564,'Accounting Data'!$E$2:$E$93564,\"8??\",'Accounting Data'!$H$2:$H$93564,\"9??\",'Accounting Data'!$I$2:$I$93564,\"5???\",'Accounting Data'!$J$2:$J$93564,\"69??\")+SUMIFS('Accounting Data'!$C$2:$C$93564,'Accounting Data'!$E$2:$E$93564,\"9??\",'Accounting Data'!$H$2:$H$93564,\"7??\",'Accounting Data'!$I$2:$I$93564,\"5???\",'Accounting Data'!$J$2:$J$93564,\"69??\")+SUMIFS('Accounting Data'!$C$2:$C$93564,'Accounting Data'!$E$2:$E$93564,\"9??\",'Accounting Data'!$H$2:$H$93564,\"8??\",'Accounting Data'!$I$2:$I$93564,\"5???\",'Accounting Data'!$J$2:$J$93564,\"69??\")+SUMIFS('Accounting Data'!$C$2:$C$93564,'Accounting Data'!$E$2:$E$93564,\"9??\",'Accounting Data'!$H$2:$H$93564,\"9??\",'Accounting Data'!$I$2:$I$93564,\"5???\",'Accounting Data'!$J$2:$J$93564,\"69??\")","v":0}]
["4000 Facilities Acquisition and Construction","16.",{"$f":"(AA26-AB26-AC26)+(AD26+AE26+AF26)","v":21227},{"$f":"(AI26-AJ26-AK26)+(AL26+AM26+AN26)","v":7405},{"$f":"(AQ26-AR26-AS26-AT26-AU26)+(AV26+AW26+AX26+AY26+AZ26+BA26+BB26+BC26+BD26)","v":1054919},{"$f":"(BG26-BH26-BI26)+(BJ26+BK26+BL26)","v":0},{"$f":"(BO26-BP26-BQ26)+(BR26+BS26+BT26)","v":0},{"$f":"(BW26-BX26-BY26)+(BZ26+CA26+CB26)","v":0},null,null,null,{"$f":"(CU25-CV25-CW25)+(CX25+CY25+CZ25)","v":0},{"$f":"(DC25-DD25)-((DE25+DF25)-(DG25+DH25))","v":0},1083551,"16.",null,null,null,6890,{"$f":"SUMIFS('Accounting Data'!$C$2:$C$93564,'Accounting Data'!$E$2:$E$93564,\"378\",'Accounting Data'!$I$2:$I$93564,\"1???\",'Accounting Data'!$J$2:$J$93564,\"689?\")+SUMIFS('Accounting Data'!$C$2:$C$93564,'Accounting Data'!$E$2:$E$93564,\"378\",'Accounting Data'!$I$2:$I$93564,\"2???\",'Accounting Data'!$J$2:$J$93564,\"689?\")+SUMIFS('Accounting Data'!$C$2:$C$93564,'Accounting Data'!$E$2:$E$93564,\"378\",'Accounting Data'!$I$2:$I$93564,\"3???\",'Accounting Data'!$J$2:$J$93564,\"689?\")","v":0},0,0,0]
["5000 Debt Service","17.",null,null,null,null,null,null,null,{"$f":"(CE28-CF28-CG28)+(CH28+CI28+CJ28)","v":5300000},{"$f":"(CE22-CF22-CG22-CH22-CI22)+(CJ22+CK22+CL22+CM22+CN22+CO22+CP22+CQ22+CR22)","v":1798700},null,{"$f":"(DC26-DD26)-((DE26+DF26)-(DG26+DH26))","v":0},{"$f":"SUM(C28:M28)","v":7098700},"17.",null,null,null,"Total",{"$f":"SUM(T19:T27)","v":0},null,null,null,null,null,"Federal Funds: 100-399, 639, 699, and 720",null,null,null,null,null,null,null,null,null,null,null,null,null,null,null,null,null,null,null,null,null,null,null,null,null,null,null,null,null,null,null,null,null,null,null,null,null,null,null,null,null,null,null,null,null,null,null,null,null,null,null,null,null,null,null,5000,{"$f":"SUMIFS('Accounting Data'!C2:C93564,'Accounting Data'!I2:I93564,\"5???\",'Accounting Data'!J2:J93564,\"6831\")+SUMIFS('Accounting Data'!C2:C93564,'Accounting Data'!I2:I93564,\"5???\",'Accounting Data'!J2:J93564,\"6832\")+SUMIFS('Accounting Data'!C2:C93564,'Accounting Data'!I2:I93564,\"5???\",'Accounting Data'!J2:J93564,\"6833\")","v":5300000},{"$f":"SUMIFS('Accounting Data'!C2:C93564,'Accounting Data'!E2:E93564,\"575\",'Accounting Data'!I2:I93564,\"5???\",'Accounting Data'!J2:J93564,\"6831\")+SUMIFS('Accounting Data'!C2:C93564,'Accounting Data'!E2:E93564,\"8??\",'Accounting Data'!I2:I93564,\"5???\",'Accounting Data'!J2:J93564,\"6831\")+SUMIFS('Accounting Data'!C2:C93564,'Accounting Data'!E2:E93564,\"9??\",'Accounting Data'!I2:I93564,\"5???\",'Accounting Data'!J2:J93564,\"6831\")+SUMIFS('Accounting Data'!C2:C93564,'Accounting Data'!E2:E93564,\"575\",'Accounting Data'!I2:I93564,\"5???\",'Accounting Data'!J2:J93564,\"6832\")+SUMIFS('Accounting Data'!C2:C93564,'Accounting Data'!E2:E93564,\"8??\",'Accounting Data'!I2:I93564,\"5???\",'Accounting Data'!J2:J93564,\"6832\")+SUMIFS('Accounting Data'!C2:C93564,'Accounting Data'!E2:E93564,\"9??\",'Accounting Data'!I2:I93564,\"5???\",'Accounting Data'!J2:J93564,\"6832\")+SUMIFS('Accounting Data'!C2:C93564,'Accounting Data'!E2:E93564,\"575\",'Accounting Data'!I2:I93564,\"5???\",'Accounting Data'!J2:J93564,\"6833\")+SUMIFS('Accounting Data'!C2:C93564,'Accounting Data'!E2:E93564,\"8??\",'Accounting Data'!I2:I93564,\"5???\",'Accounting Data'!J2:J93564,\"6833\")+SUMIFS('Accounting Data'!C2:C93564,'Accounting Data'!E2:E93564,\"9??\",'Accounting Data'!I2:I93564,\"5???\",'Accounting Data'!J2:J93564,\"6833\")","v":0},{"$f":"SUMIFS('Accounting Data'!C2:C93564,'Accounting Data'!H2:H93564,\"7??\",'Accounting Data'!I2:I93564,\"5???\",'Accounting Data'!J2:J93564,\"6831\")+SUMIFS('Accounting Data'!C2:C93564,'Accounting Data'!H2:H93564,\"8??\",'Accounting Data'!I2:I93564,\"5???\",'Accounting Data'!J2:J93564,\"6831\")+SUMIFS('Accounting Data'!C2:C93564,'Accounting Data'!H2:H93564,\"9??\",'Accounting Data'!I2:I93564,\"5???\",'Accounting Data'!J2:J93564,\"6831\")+SUMIFS('Accounting Data'!C2:C93564,'Accounting Data'!H2:H93564,\"7??\",'Accounting Data'!I2:I93564,\"5???\",'Accounting Data'!J2:J93564,\"6832\")+SUMIFS('Accounting Data'!C2:C93564,'Accounting Data'!H2:H93564,\"8??\",'Accounting Data'!I2:I93564,\"5???\",'Accounting Data'!J2:J93564,\"6832\")+SUMIFS('Accounting Data'!C2:C93564,'Accounting Data'!H2:H93564,\"9??\",'Accounting Data'!I2:I93564,\"5???\",'Accounting Data'!J2:J93564,\"6832\")+SUMIFS('Accounting Data'!C2:C93564,'Accounting Data'!H2:H93564,\"7??\",'Accounting Data'!I2:I93564,\"5???\",'Accounting Data'!J2:J93564,\"6833\")+SUMIFS('Accounting Data'!C2:C93564,'Accounting Data'!H2:H93564,\"8??\",'Accounting Data'!I2:I93564,\"5???\",'Accounting Data'!J2:J93564,\"6833\")+SUMIFS('Accounting Data'!C2:C93564,'Accounting Data'!H2:H93564,\"9??\",'Accounting Data'!I2:I93564,\"5???\",'Accounting Data'!J2:J93564,\"6833\")","v":0},{"$f":"SUMIFS('Accounting Data'!C2:C93564,'Accounting Data'!E2:E93564,\"575\",'Accounting Data'!H2:H93564,\"7??\",'Accounting Data'!I2:I93564,\"5???\",'Accounting Data'!J2:J93564,\"6831\")+SUMIFS('Accounting Data'!C2:C93564,'Accounting Data'!E2:E93564,\"575\",'Accounting Data'!H2:H93564,\"8??\",'Accounting Data'!I2:I93564,\"5???\",'Accounting Data'!J2:J93564,\"6831\")+SUMIFS('Accounting Data'!C2:C93564,'Accounting Data'!E2:E93564,\"575\",'Accounting Data'!H2:H93564,\"9??\",'Accounting Data'!I2:I93564,\"5???\",'Accounting Data'!J2:J93564,\"6831\")+SUMIFS('Accounting Data'!C2:C93564,'Accounting Data'!E2:E93564,\"575\",'Accounting Data'!H2:H93564,\"7??\",'Accounting Data'!I2:I93564,\"5???\",'Accounting Data'!J2:J93564,\"6832\")+SUMIFS('Accounting Data'!C2:C93564,'Accounting Data'!E2:E93564,\"575\",'Accounting Data'!H2:H93564,\"8??\",'Accounting Data'!I2:I93564,\"5???\",'Accounting Data'!J2:J93564,\"6832\")+SUMIFS('Accounting Data'!C2:C93564,'Accounting Data'!E2:E93564,\"575\",'Accounting Data'!H2:H93564,\"9??\",'Accounting Data'!I2:I93564,\"5???\",'Accounting Data'!J2:J93564,\"6832\")+SUMIFS('Accounting Data'!C2:C93564,'Accounting Data'!E2:E93564,\"575\",'Accounting Data'!H2:H93564,\"7??\",'Accounting Data'!I2:I93564,\"5???\",'Accounting Data'!J2:J93564,\"6833\")+SUMIFS('Accounting Data'!C2:C93564,'Accounting Data'!E2:E93564,\"575\",'Accounting Data'!H2:H93564,\"8??\",'Accounting Data'!I2:I93564,\"5???\",'Accounting Data'!J2:J93564,\"6833\")+SUMIFS('Accounting Data'!C2:C93564,'Accounting Data'!E2:E93564,\"575\",'Accounting Data'!H2:H93564,\"9??\",'Accounting Data'!I2:I93564,\"5???\",'Accounting Data'!J2:J93564,\"6833\")","v":0},{"$f":"SUMIFS('Accounting Data'!C2:C93564,'Accounting Data'!E2:E93564,\"8??\",'Accounting Data'!H2:H93564,\"7??\",'Accounting Data'!I2:I93564,\"5???\",'Accounting Data'!J2:J93564,\"6831\")+SUMIFS('Accounting Data'!C2:C93564,'Accounting Data'!E2:E93564,\"8??\",'Accounting Data'!H2:H93564,\"8??\",'Accounting Data'!I2:I93564,\"5???\",'Accounting Data'!J2:J93564,\"6831\")+SUMIFS('Accounting Data'!C2:C93564,'Accounting Data'!E2:E93564,\"8??\",'Accounting Data'!H2:H93564,\"9??\",'Accounting Data'!I2:I93564,\"5???\",'Accounting Data'!J2:J93564,\"6831\")+SUMIFS('Accounting Data'!C2:C93564,'Accounting Data'!E2:E93564,\"8??\",'Accounting Data'!H2:H93564,\"7??\",'Accounting Data'!I2:I93564,\"5???\",'Accounting Data'!J2:J93564,\"6832\")+SUMIFS('Accounting Data'!C2:C93564,'Accounting Data'!E2:E93564,\"8??\",'Accounting Data'!H2:H93564,\"8??\",'Accounting Data'!I2:I93564,\"5???\",'Accounting Data'!J2:J93564,\"6832\")+SUMIFS('Accounting Data'!C2:C93564,'Accounting Data'!E2:E93564,\"8??\",'Accounting Data'!H2:H93564,\"9??\",'Accounting Data'!I2:I93564,\"5???\",'Accounting Data'!J2:J93564,\"6832\")+SUMIFS('Accounting Data'!C2:C93564,'Accounting Data'!E2:E93564,\"8??\",'Accounting Data'!H2:H93564,\"7??\",'Accounting Data'!I2:I93564,\"5???\",'Accounting Data'!J2:J93564,\"6833\")+SUMIFS('Accounting Data'!C2:C93564,'Accounting Data'!E2:E93564,\"8??\",'Accounting Data'!H2:H93564,\"8??\",'Accounting Data'!I2:I93564,\"5???\",'Accounting Data'!J2:J93564,\"6833\")+SUMIFS('Accounting Data'!C2:C93564,'Accounting Data'!E2:E93564,\"8??\",'Accounting Data'!H2:H93564,\"9??\",'Accounting Data'!I2:I93564,\"5???\",'Accounting Data'!J2:J93564,\"6833\")","v":0},{"$f":"SUMIFS('Accounting Data'!C2:C93564,'Accounting Data'!E2:E93564,\"9??\",'Accounting Data'!H2:H93564,\"7??\",'Accounting Data'!I2:I93564,\"5???\",'Accounting Data'!J2:J93564,\"6831\")+SUMIFS('Accounting Data'!C2:C93564,'Accounting Data'!E2:E93564,\"9??\",'Accounting Data'!H2:H93564,\"8??\",'Accounting Data'!I2:I93564,\"5???\",'Accounting Data'!J2:J93564,\"6831\")+SUMIFS('Accounting Data'!C2:C93564,'Accounting Data'!E2:E93564,\"9??\",'Accounting Data'!H2:H93564,\"9??\",'Accounting Data'!I2:I93564,\"5???\",'Accounting Data'!J2:J93564,\"6831\")+SUMIFS('Accounting Data'!C2:C93564,'Accounting Data'!E2:E93564,\"9??\",'Accounting Data'!H2:H93564,\"7??\",'Accounting Data'!I2:I93564,\"5???\",'Accounting Data'!J2:J93564,\"6832\")+SUMIFS('Accounting Data'!C2:C93564,'Accounting Data'!E2:E93564,\"9??\",'Accounting Data'!H2:H93564,\"8??\",'Accounting Data'!I2:I93564,\"5???\",'Accounting Data'!J2:J93564,\"6832\")+SUMIFS('Accounting Data'!C2:C93564,'Accounting Data'!E2:E93564,\"9??\",'Accounting Data'!H2:H93564,\"9??\",'Accounting Data'!I2:I93564,\"5???\",'Accounting Data'!J2:J93564,\"6832\")+SUMIFS('Accounting Data'!C2:C93564,'Accounting Data'!E2:E93564,\"9??\",'Accounting Data'!H2:H93564,\"7??\",'Accounting Data'!I2:I93564,\"5???\",'Accounting Data'!J2:J93564,\"6833\")+SUMIFS('Accounting Data'!C2:C93564,'Accounting Data'!E2:E93564,\"9??\",'Accounting Data'!H2:H93564,\"8??\",'Accounting Data'!I2:I93564,\"5???\",'Accounting Data'!J2:J93564,\"6833\")+SUMIFS('Accounting Data'!C2:C93564,'Accounting Data'!E2:E93564,\"9??\",'Accounting Data'!H2:H93564,\"9??\",'Accounting Data'!I2:I93564,\"5???\",'Accounting Data'!J2:J93564,\"6833\")","v":0}]
[null,null,null,null,null,null,null,null,null,null,null,null,null,null,null,null,null,null,null,null,null,null,null,null,null,null,"All programs","All programs","All programs","Program 700","Program 800","Program 900","Program 700","Program 800","Program 900","Program 700","Program 800","Program 900"]
[null,null,null,{"$f":"IF(Q33<>SUM(D35:E39),\"Total certified teachers and substitutes salaries do not agree with your accounting records.            Please verify the amounts.\",\"\")","v":""},null,null,null,null,null,null,null,null,null,null,null,null,null,null,null,null,null,null,null,null,null,"Object","Function 1000","Function 2000","Function 3000","Function 1000","Function 1000","Function 1000","Function 2000","Function 2000","Function 2000","Function 3000","Function 3000","Function 3000"]
["Teacher Salaries (Funds 001-799 excluding 575, Function 1000)",null,null,null,null,null,null,null,"Programs 700-900 Expenditure Detail (Funds 001-799, excluding 575)",null,null,null,null,null,null,null,"Certified teacher and substitute salaries",null,null,null,null,null,null,null,null,6100,{"$f":"SUMIFS('Accounting Data'!C2:C93564,'Accounting Data'!E2:E93564,\"1??\",'Accounting Data'!I2:I93564,\"1???\",'Accounting Data'!J2:J93564,\"61??\")+SUMIFS('Accounting Data'!C2:C93564,'Accounting Data'!E2:E93564,\"2??\",'Accounting Data'!I2:I93564,\"1???\",'Accounting Data'!J2:J93564,\"61??\")+SUMIFS('Accounting Data'!C2:C93564,'Accounting Data'!E2:E93564,\"3??\",'Accounting Data'!I2:I93564,\"1???\",'Accounting Data'!J2:J93564,\"61??\")+SUMIFS('Accounting Data'!C2:C93564,'Accounting Data'!E2:E93564,\"639\",'Accounting Data'!I2:I93564,\"1???\",'Accounting Data'!J2:J93564,\"61??\")+SUMIFS('Accounting Data'!C2:C93564,'Accounting Data'!E2:E93564,\"699\",'Accounting Data'!I2:I93564,\"1???\",'Accounting Data'!J2:J93564,\"61??\")+SUMIFS('Accounting Data'!C2:C93564,'Accounting Data'!E2:E93564,\"720\",'Accounting Data'!I2:I93564,\"1???\",'Accounting Data'!J2:J93564,\"61??\")+SUMIFS('Accounting Data'!C2:C93564,'Accounting Data'!E2:E93564,\"COVID\",'Accounting Data'!I2:I93564,\"1???\",'Accounting Data'!J2:J93564,\"61??\")","v":2498052},{"$f":"SUMIFS('Accounting Data'!C2:C93564,'Accounting Data'!E2:E93564,\"1??\",'Accounting Data'!I2:I93564,\"2???\",'Accounting Data'!J2:J93564,\"61??\")+SUMIFS('Accounting Data'!C2:C93564,'Accounting Data'!E2:E93564,\"2??\",'Accounting Data'!I2:I93564,\"2???\",'Accounting Data'!J2:J93564,\"61??\")+SUMIFS('Accounting Data'!C2:C93564,'Accounting Data'!E2:E93564,\"3??\",'Accounting Data'!I2:I93564,\"2???\",'Accounting Data'!J2:J93564,\"61??\")+SUMIFS('Accounting Data'!C2:C93564,'Accounting Data'!E2:E93564,\"639\",'Accounting Data'!I2:I93564,\"2???\",'Accounting Data'!J2:J93564,\"61??\")+SUMIFS('Accounting Data'!C2:C93564,'Accounting Data'!E2:E93564,\"699\",'Accounting Data'!I2:I93564,\"2???\",'Accounting Data'!J2:J93564,\"61??\")+SUMIFS('Accounting Data'!C2:C93564,'Accounting Data'!E2:E93564,\"720\",'Accounting Data'!I2:I93564,\"2???\",'Accounting Data'!J2:J93564,\"61??\")+SUMIFS('Accounting Data'!C2:C93564,'Accounting Data'!E2:E93564,\"COVID\",'Accounting Data'!I2:I93564,\"2???\",'Accounting Data'!J2:J93564,\"61??\")","v":3438274},{"$f":"SUMIFS('Accounting Data'!C2:C93564,'Accounting Data'!E2:E93564,\"1??\",'Accounting Data'!I2:I93564,\"3???\",'Accounting Data'!J2:J93564,\"61??\")+SUMIFS('Accounting Data'!C2:C93564,'Accounting Data'!E2:E93564,\"2??\",'Accounting Data'!I2:I93564,\"3???\",'Accounting Data'!J2:J93564,\"61??\")+SUMIFS('Accounting Data'!C2:C93564,'Accounting Data'!E2:E93564,\"3??\",'Accounting Data'!I2:I93564,\"3???\",'Accounting Data'!J2:J93564,\"61??\")+SUMIFS('Accounting Data'!C2:C93564,'Accounting Data'!E2:E93564,\"639\",'Accounting Data'!I2:I93564,\"3???\",'Accounting Data'!J2:J93564,\"61??\")+SUMIFS('Accounting Data'!C2:C93564,'Accounting Data'!E2:E93564,\"699\",'Accounting Data'!I2:I93564,\"3???\",'Accounting Data'!J2:J93564,\"61??\")+SUMIFS('Accounting Data'!C2:C93564,'Accounting Data'!E2:E93564,\"720\",'Accounting Data'!I2:I93564,\"3???\",'Accounting Data'!J2:J93564,\"61??\")+SUMIFS('Accounting Data'!C2:C93564,'Accounting Data'!E2:E93564,\"COVID\",'Accounting Data'!I2:I93564,\"3???\",'Accounting Data'!J2:J93564,\"61??\")","v":64662},{"$f":"SUMIFS('Accounting Data'!C2:C93564,'Accounting Data'!E2:E93564,\"1??\",'Accounting Data'!H2:H93564,\"7??\",'Accounting Data'!I2:I93564,\"1???\",'Accounting Data'!J2:J93564,\"61??\")+SUMIFS('Accounting Data'!C2:C93564,'Accounting Data'!E2:E93564,\"2??\",'Accounting Data'!H2:H93564,\"7??\",'Accounting Data'!I2:I93564,\"1???\",'Accounting Data'!J2:J93564,\"61??\")+SUMIFS('Accounting Data'!C2:C93564,'Accounting Data'!E2:E93564,\"3??\",'Accounting Data'!H2:H93564,\"7??\",'Accounting Data'!I2:I93564,\"1???\",'Accounting Data'!J2:J93564,\"61??\")+SUMIFS('Accounting Data'!C2:C93564,'Accounting Data'!E2:E93564,\"639\",'Accounting Data'!H2:H93564,\"7??\",'Accounting Data'!I2:I93564,\"1???\",'Accounting Data'!J2:J93564,\"61??\")+SUMIFS('Accounting Data'!C2:C93564,'Accounting Data'!E2:E93564,\"699\",'Accounting Data'!H2:H93564,\"7??\",'Accounting Data'!I2:I93564,\"1???\",'Accounting Data'!J2:J93564,\"61??\")+SUMIFS('Accounting Data'!C2:C93564,'Accounting Data'!E2:E93564,\"720\",'Accounting Data'!H2:H93564,\"7??\",'Accounting Data'!I2:I93564,\"1???\",'Accounting Data'!J2:J93564,\"61??\")+SUMIFS('Accounting Data'!C2:C93564,'Accounting Data'!E2:E93564,\"COVID\",'Accounting Data'!H2:H93564,\"7??\",'Accounting Data'!I2:I93564,\"1???\",'Accounting Data'!J2:J93564,\"61??\")","v":0},{"$f":"SUMIFS('Accounting Data'!C2:C93564,'Accounting Data'!E2:E93564,\"1??\",'Accounting Data'!H2:H93564,\"8??\",'Accounting Data'!I2:I93564,\"1???\",'Accounting Data'!J2:J93564,\"61??\")+SUMIFS('Accounting Data'!C2:C93564,'Accounting Data'!E2:E93564,\"2??\",'Accounting Data'!H2:H93564,\"8??\",'Accounting Data'!I2:I93564,\"1???\",'Accounting Data'!J2:J93564,\"61??\")+SUMIFS('Accounting Data'!C2:C93564,'Accounting Data'!E2:E93564,\"3??\",'Accounting Data'!H2:H93564,\"8??\",'Accounting Data'!I2:I93564,\"1???\",'Accounting Data'!J2:J93564,\"61??\")+SUMIFS('Accounting Data'!C2:C93564,'Accounting Data'!E2:E93564,\"639\",'Accounting Data'!H2:H93564,\"8??\",'Accounting Data'!I2:I93564,\"1???\",'Accounting Data'!J2:J93564,\"61??\")+SUMIFS('Accounting Data'!C2:C93564,'Accounting Data'!E2:E93564,\"699\",'Accounting Data'!H2:H93564,\"8??\",'Accounting Data'!I2:I93564,\"1???\",'Accounting Data'!J2:J93564,\"61??\")+SUMIFS('Accounting Data'!C2:C93564,'Accounting Data'!E2:E93564,\"720\",'Accounting Data'!H2:H93564,\"8??\",'Accounting Data'!I2:I93564,\"1???\",'Accounting Data'!J2:J93564,\"61??\")+SUMIFS('Accounting Data'!C2:C93564,'Accounting Data'!E2:E93564,\"COVID\",'Accounting Data'!H2:H93564,\"8??\",'Accounting Data'!I2:I93564,\"1???\",'Accounting Data'!J2:J93564,\"61??\")","v":0},{"$f":"SUMIFS('Accounting Data'!C2:C93564,'Accounting Data'!E2:E93564,\"1??\",'Accounting Data'!H2:H93564,\"9??\",'Accounting Data'!I2:I93564,\"1???\",'Accounting Data'!J2:J93564,\"61??\")+SUMIFS('Accounting Data'!C2:C93564,'Accounting Data'!E2:E93564,\"2??\",'Accounting Data'!H2:H93564,\"9??\",'Accounting Data'!I2:I93564,\"1???\",'Accounting Data'!J2:J93564,\"61??\")+SUMIFS('Accounting Data'!C2:C93564,'Accounting Data'!E2:E93564,\"3??\",'Accounting Data'!H2:H93564,\"9??\",'Accounting Data'!I2:I93564,\"1???\",'Accounting Data'!J2:J93564,\"61??\")+SUMIFS('Accounting Data'!C2:C93564,'Accounting Data'!E2:E93564,\"639\",'Accounting Data'!H2:H93564,\"9??\",'Accounting Data'!I2:I93564,\"1???\",'Accounting Data'!J2:J93564,\"61??\")+SUMIFS('Accounting Data'!C2:C93564,'Accounting Data'!E2:E93564,\"699\",'Accounting Data'!H2:H93564,\"9??\",'Accounting Data'!I2:I93564,\"1???\",'Accounting Data'!J2:J93564,\"61??\")+SUMIFS('Accounting Data'!C2:C93564,'Accounting Data'!E2:E93564,\"720\",'Accounting Data'!H2:H93564,\"9??\",'Accounting Data'!I2:I93564,\"1???\",'Accounting Data'!J2:J93564,\"61??\")+SUMIFS('Accounting Data'!C2:C93564,'Accounting Data'!E2:E93564,\"COVID\",'Accounting Data'!H2:H93564,\"9??\",'Accounting Data'!I2:I93564,\"1???\",'Accounting Data'!J2:J93564,\"61??\")","v":0},{"$f":"SUMIFS('Accounting Data'!C2:C93564,'Accounting Data'!E2:E93564,\"1??\",'Accounting Data'!H2:H93564,\"7??\",'Accounting Data'!I2:I93564,\"2???\",'Accounting Data'!J2:J93564,\"61??\")+SUMIFS('Accounting Data'!C2:C93564,'Accounting Data'!E2:E93564,\"2??\",'Accounting Data'!H2:H93564,\"7??\",'Accounting Data'!I2:I93564,\"2???\",'Accounting Data'!J2:J93564,\"61??\")+SUMIFS('Accounting Data'!C2:C93564,'Accounting Data'!E2:E93564,\"3??\",'Accounting Data'!H2:H93564,\"7??\",'Accounting Data'!I2:I93564,\"2???\",'Accounting Data'!J2:J93564,\"61??\")+SUMIFS('Accounting Data'!C2:C93564,'Accounting Data'!E2:E93564,\"639\",'Accounting Data'!H2:H93564,\"7??\",'Accounting Data'!I2:I93564,\"2???\",'Accounting Data'!J2:J93564,\"61??\")+SUMIFS('Accounting Data'!C2:C93564,'Accounting Data'!E2:E93564,\"699\",'Accounting Data'!H2:H93564,\"7??\",'Accounting Data'!I2:I93564,\"2???\",'Accounting Data'!J2:J93564,\"61??\")+SUMIFS('Accounting Data'!C2:C93564,'Accounting Data'!E2:E93564,\"720\",'Accounting Data'!H2:H93564,\"7??\",'Accounting Data'!I2:I93564,\"2???\",'Accounting Data'!J2:J93564,\"61??\")+SUMIFS('Accounting Data'!C2:C93564,'Accounting Data'!E2:E93564,\"COVID\",'Accounting Data'!H2:H93564,\"7??\",'Accounting Data'!I2:I93564,\"2???\",'Accounting Data'!J2:J93564,\"61??\")","v":0},{"$f":"SUMIFS('Accounting Data'!C2:C93564,'Accounting Data'!E2:E93564,\"1??\",'Accounting Data'!H2:H93564,\"8??\",'Accounting Data'!I2:I93564,\"2???\",'Accounting Data'!J2:J93564,\"61??\")+SUMIFS('Accounting Data'!C2:C93564,'Accounting Data'!E2:E93564,\"2??\",'Accounting Data'!H2:H93564,\"8??\",'Accounting Data'!I2:I93564,\"2???\",'Accounting Data'!J2:J93564,\"61??\")+SUMIFS('Accounting Data'!C2:C93564,'Accounting Data'!E2:E93564,\"3??\",'Accounting Data'!H2:H93564,\"8??\",'Accounting Data'!I2:I93564,\"2???\",'Accounting Data'!J2:J93564,\"61??\")+SUMIFS('Accounting Data'!C2:C93564,'Accounting Data'!E2:E93564,\"639\",'Accounting Data'!H2:H93564,\"8??\",'Accounting Data'!I2:I93564,\"2???\",'Accounting Data'!J2:J93564,\"61??\")+SUMIFS('Accounting Data'!C2:C93564,'Accounting Data'!E2:E93564,\"699\",'Accounting Data'!H2:H93564,\"8??\",'Accounting Data'!I2:I93564,\"2???\",'Accounting Data'!J2:J93564,\"61??\")+SUMIFS('Accounting Data'!C2:C93564,'Accounting Data'!E2:E93564,\"720\",'Accounting Data'!H2:H93564,\"8??\",'Accounting Data'!I2:I93564,\"2???\",'Accounting Data'!J2:J93564,\"61??\")+SUMIFS('Accounting Data'!C2:C93564,'Accounting Data'!E2:E93564,\"COVID\",'Accounting Data'!H2:H93564,\"8??\",'Accounting Data'!I2:I93564,\"2???\",'Accounting Data'!J2:J93564,\"61??\")","v":0},{"$f":"SUMIFS('Accounting Data'!C2:C93564,'Accounting Data'!E2:E93564,\"1??\",'Accounting Data'!H2:H93564,\"9??\",'Accounting Data'!I2:I93564,\"2???\",'Accounting Data'!J2:J93564,\"61??\")+SUMIFS('Accounting Data'!C2:C93564,'Accounting Data'!E2:E93564,\"2??\",'Accounting Data'!H2:H93564,\"9??\",'Accounting Data'!I2:I93564,\"2???\",'Accounting Data'!J2:J93564,\"61??\")+SUMIFS('Accounting Data'!C2:C93564,'Accounting Data'!E2:E93564,\"3??\",'Accounting Data'!H2:H93564,\"9??\",'Accounting Data'!I2:I93564,\"2???\",'Accounting Data'!J2:J93564,\"61??\")+SUMIFS('Accounting Data'!C2:C93564,'Accounting Data'!E2:E93564,\"639\",'Accounting Data'!H2:H93564,\"9??\",'Accounting Data'!I2:I93564,\"2???\",'Accounting Data'!J2:J93564,\"61??\")+SUMIFS('Accounting Data'!C2:C93564,'Accounting Data'!E2:E93564,\"699\",'Accounting Data'!H2:H93564,\"9??\",'Accounting Data'!I2:I93564,\"2???\",'Accounting Data'!J2:J93564,\"61??\")+SUMIFS('Accounting Data'!C2:C93564,'Accounting Data'!E2:E93564,\"720\",'Accounting Data'!H2:H93564,\"9??\",'Accounting Data'!I2:I93564,\"2???\",'Accounting Data'!J2:J93564,\"61??\")+SUMIFS('Accounting Data'!C2:C93564,'Accounting Data'!E2:E93564,\"COVID\",'Accounting Data'!H2:H93564,\"9??\",'Accounting Data'!I2:I93564,\"2???\",'Accounting Data'!J2:J93564,\"61??\")","v":0},{"$f":"SUMIFS('Accounting Data'!C2:C93564,'Accounting Data'!E2:E93564,\"1??\",'Accounting Data'!H2:H93564,\"7??\",'Accounting Data'!I2:I93564,\"3???\",'Accounting Data'!J2:J93564,\"61??\")+SUMIFS('Accounting Data'!C2:C93564,'Accounting Data'!E2:E93564,\"2??\",'Accounting Data'!H2:H93564,\"7??\",'Accounting Data'!I2:I93564,\"3???\",'Accounting Data'!J2:J93564,\"61??\")+SUMIFS('Accounting Data'!C2:C93564,'Accounting Data'!E2:E93564,\"3??\",'Accounting Data'!H2:H93564,\"7??\",'Accounting Data'!I2:I93564,\"3???\",'Accounting Data'!J2:J93564,\"61??\")+SUMIFS('Accounting Data'!C2:C93564,'Accounting Data'!E2:E93564,\"639\",'Accounting Data'!H2:H93564,\"7??\",'Accounting Data'!I2:I93564,\"3???\",'Accounting Data'!J2:J93564,\"61??\")+SUMIFS('Accounting Data'!C2:C93564,'Accounting Data'!E2:E93564,\"699\",'Accounting Data'!H2:H93564,\"7??\",'Accounting Data'!I2:I93564,\"3???\",'Accounting Data'!J2:J93564,\"61??\")+SUMIFS('Accounting Data'!C2:C93564,'Accounting Data'!E2:E93564,\"720\",'Accounting Data'!H2:H93564,\"7??\",'Accounting Data'!I2:I93564,\"3???\",'Accounting Data'!J2:J93564,\"61??\")+SUMIFS('Accounting Data'!C2:C93564,'Accounting Data'!E2:E93564,\"COVID\",'Accounting Data'!H2:H93564,\"7??\",'Accounting Data'!I2:I93564,\"3???\",'Accounting Data'!J2:J93564,\"61??\")","v":0},{"$f":"SUMIFS('Accounting Data'!C2:C93564,'Accounting Data'!E2:E93564,\"1??\",'Accounting Data'!H2:H93564,\"8??\",'Accounting Data'!I2:I93564,\"3???\",'Accounting Data'!J2:J93564,\"61??\")+SUMIFS('Accounting Data'!C2:C93564,'Accounting Data'!E2:E93564,\"2??\",'Accounting Data'!H2:H93564,\"8??\",'Accounting Data'!I2:I93564,\"3???\",'Accounting Data'!J2:J93564,\"61??\")+SUMIFS('Accounting Data'!C2:C93564,'Accounting Data'!E2:E93564,\"3??\",'Accounting Data'!H2:H93564,\"8??\",'Accounting Data'!I2:I93564,\"3???\",'Accounting Data'!J2:J93564,\"61??\")+SUMIFS('Accounting Data'!C2:C93564,'Accounting Data'!E2:E93564,\"639\",'Accounting Data'!H2:H93564,\"8??\",'Accounting Data'!I2:I93564,\"3???\",'Accounting Data'!J2:J93564,\"61??\")+SUMIFS('Accounting Data'!C2:C93564,'Accounting Data'!E2:E93564,\"699\",'Accounting Data'!H2:H93564,\"8??\",'Accounting Data'!I2:I93564,\"3???\",'Accounting Data'!J2:J93564,\"61??\")+SUMIFS('Accounting Data'!C2:C93564,'Accounting Data'!E2:E93564,\"720\",'Accounting Data'!H2:H93564,\"8??\",'Accounting Data'!I2:I93564,\"3???\",'Accounting Data'!J2:J93564,\"61??\")+SUMIFS('Accounting Data'!C2:C93564,'Accounting Data'!E2:E93564,\"COVID\",'Accounting Data'!H2:H93564,\"8??\",'Accounting Data'!I2:I93564,\"3???\",'Accounting Data'!J2:J93564,\"61??\")","v":0},{"$f":"SUMIFS('Accounting Data'!C2:C93564,'Accounting Data'!E2:E93564,\"1??\",'Accounting Data'!H2:H93564,\"9??\",'Accounting Data'!I2:I93564,\"3???\",'Accounting Data'!J2:J93564,\"61??\")+SUMIFS('Accounting Data'!C2:C93564,'Accounting Data'!E2:E93564,\"2??\",'Accounting Data'!H2:H93564,\"9??\",'Accounting Data'!I2:I93564,\"3???\",'Accounting Data'!J2:J93564,\"61??\")+SUMIFS('Accounting Data'!C2:C93564,'Accounting Data'!E2:E93564,\"3??\",'Accounting Data'!H2:H93564,\"9??\",'Accounting Data'!I2:I93564,\"3???\",'Accounting Data'!J2:J93564,\"61??\")+SUMIFS('Accounting Data'!C2:C93564,'Accounting Data'!E2:E93564,\"639\",'Accounting Data'!H2:H93564,\"9??\",'Accounting Data'!I2:I93564,\"3???\",'Accounting Data'!J2:J93564,\"61??\")+SUMIFS('Accounting Data'!C2:C93564,'Accounting Data'!E2:E93564,\"699\",'Accounting Data'!H2:H93564,\"9??\",'Accounting Data'!I2:I93564,\"3???\",'Accounting Data'!J2:J93564,\"61??\")+SUMIFS('Accounting Data'!C2:C93564,'Accounting Data'!E2:E93564,\"720\",'Accounting Data'!H2:H93564,\"9??\",'Accounting Data'!I2:I93564,\"3???\",'Accounting Data'!J2:J93564,\"61??\")+SUMIFS('Accounting Data'!C2:C93564,'Accounting Data'!E2:E93564,\"COVID\",'Accounting Data'!H2:H93564,\"9??\",'Accounting Data'!I2:I93564,\"3???\",'Accounting Data'!J2:J93564,\"61??\")","v":0}]
[null,null,null,"Certified Teachers \n(in Object 6100)","Certified Substitutes \n(in Object 6100)","Contract Teachers \n(in Object 6300)","Contract Substitutes \n(in Object 6300)",null,null,null,"Property","All Other",null,null,null,null,null,null,null,null,null,null,null,null,null,6200,{"$f":"SUMIFS('Accounting Data'!C2:C93564,'Accounting Data'!E2:E93564,\"1??\",'Accounting Data'!I2:I93564,\"1???\",'Accounting Data'!J2:J93564,\"62??\")+SUMIFS('Accounting Data'!C2:C93564,'Accounting Data'!E2:E93564,\"2??\",'Accounting Data'!I2:I93564,\"1???\",'Accounting Data'!J2:J93564,\"62??\")+SUMIFS('Accounting Data'!C2:C93564,'Accounting Data'!E2:E93564,\"3??\",'Accounting Data'!I2:I93564,\"1???\",'Accounting Data'!J2:J93564,\"62??\")+SUMIFS('Accounting Data'!C2:C93564,'Accounting Data'!E2:E93564,\"639\",'Accounting Data'!I2:I93564,\"1???\",'Accounting Data'!J2:J93564,\"62??\")+SUMIFS('Accounting Data'!C2:C93564,'Accounting Data'!E2:E93564,\"699\",'Accounting Data'!I2:I93564,\"1???\",'Accounting Data'!J2:J93564,\"62??\")+SUMIFS('Accounting Data'!C2:C93564,'Accounting Data'!E2:E93564,\"720\",'Accounting Data'!I2:I93564,\"1???\",'Accounting Data'!J2:J93564,\"62??\")+SUMIFS('Accounting Data'!C2:C93564,'Accounting Data'!E2:E93564,\"COVID\",'Accounting Data'!I2:I93564,\"1???\",'Accounting Data'!J2:J93564,\"62??\")","v":721314},{"$f":"SUMIFS('Accounting Data'!C2:C93564,'Accounting Data'!E2:E93564,\"1??\",'Accounting Data'!I2:I93564,\"2???\",'Accounting Data'!J2:J93564,\"62??\")+SUMIFS('Accounting Data'!C2:C93564,'Accounting Data'!E2:E93564,\"2??\",'Accounting Data'!I2:I93564,\"2???\",'Accounting Data'!J2:J93564,\"62??\")+SUMIFS('Accounting Data'!C2:C93564,'Accounting Data'!E2:E93564,\"3??\",'Accounting Data'!I2:I93564,\"2???\",'Accounting Data'!J2:J93564,\"62??\")+SUMIFS('Accounting Data'!C2:C93564,'Accounting Data'!E2:E93564,\"639\",'Accounting Data'!I2:I93564,\"2???\",'Accounting Data'!J2:J93564,\"62??\")+SUMIFS('Accounting Data'!C2:C93564,'Accounting Data'!E2:E93564,\"699\",'Accounting Data'!I2:I93564,\"2???\",'Accounting Data'!J2:J93564,\"62??\")+SUMIFS('Accounting Data'!C2:C93564,'Accounting Data'!E2:E93564,\"720\",'Accounting Data'!I2:I93564,\"2???\",'Accounting Data'!J2:J93564,\"62??\")+SUMIFS('Accounting Data'!C2:C93564,'Accounting Data'!E2:E93564,\"COVID\",'Accounting Data'!I2:I93564,\"2???\",'Accounting Data'!J2:J93564,\"62??\")","v":1021280},{"$f":"SUMIFS('Accounting Data'!C2:C93564,'Accounting Data'!E2:E93564,\"1??\",'Accounting Data'!I2:I93564,\"3???\",'Accounting Data'!J2:J93564,\"62??\")+SUMIFS('Accounting Data'!C2:C93564,'Accounting Data'!E2:E93564,\"2??\",'Accounting Data'!I2:I93564,\"3???\",'Accounting Data'!J2:J93564,\"62??\")+SUMIFS('Accounting Data'!C2:C93564,'Accounting Data'!E2:E93564,\"3??\",'Accounting Data'!I2:I93564,\"3???\",'Accounting Data'!J2:J93564,\"62??\")+SUMIFS('Accounting Data'!C2:C93564,'Accounting Data'!E2:E93564,\"639\",'Accounting Data'!I2:I93564,\"3???\",'Accounting Data'!J2:J93564,\"62??\")+SUMIFS('Accounting Data'!C2:C93564,'Accounting Data'!E2:E93564,\"699\",'Accounting Data'!I2:I93564,\"3???\",'Accounting Data'!J2:J93564,\"62??\")+SUMIFS('Accounting Data'!C2:C93564,'Accounting Data'!E2:E93564,\"720\",'Accounting Data'!I2:I93564,\"3???\",'Accounting Data'!J2:J93564,\"62??\")+SUMIFS('Accounting Data'!C2:C93564,'Accounting Data'!E2:E93564,\"COVID\",'Accounting Data'!I2:I93564,\"3???\",'Accounting Data'!J2:J93564,\"62??\")","v":14187},{"$f":"SUMIFS('Accounting Data'!C2:C93564,'Accounting Data'!E2:E93564,\"1??\",'Accounting Data'!H2:H93564,\"7??\",'Accounting Data'!I2:I93564,\"1???\",'Accounting Data'!J2:J93564,\"62??\")+SUMIFS('Accounting Data'!C2:C93564,'Accounting Data'!E2:E93564,\"2??\",'Accounting Data'!H2:H93564,\"7??\",'Accounting Data'!I2:I93564,\"1???\",'Accounting Data'!J2:J93564,\"62??\")+SUMIFS('Accounting Data'!C2:C93564,'Accounting Data'!E2:E93564,\"3??\",'Accounting Data'!H2:H93564,\"7??\",'Accounting Data'!I2:I93564,\"1???\",'Accounting Data'!J2:J93564,\"62??\")+SUMIFS('Accounting Data'!C2:C93564,'Accounting Data'!E2:E93564,\"639\",'Accounting Data'!H2:H93564,\"7??\",'Accounting Data'!I2:I93564,\"1???\",'Accounting Data'!J2:J93564,\"62??\")+SUMIFS('Accounting Data'!C2:C93564,'Accounting Data'!E2:E93564,\"699\",'Accounting Data'!H2:H93564,\"7??\",'Accounting Data'!I2:I93564,\"1???\",'Accounting Data'!J2:J93564,\"62??\")+SUMIFS('Accounting Data'!C2:C93564,'Accounting Data'!E2:E93564,\"720\",'Accounting Data'!H2:H93564,\"7??\",'Accounting Data'!I2:I93564,\"1???\",'Accounting Data'!J2:J93564,\"62??\")+SUMIFS('Accounting Data'!C2:C93564,'Accounting Data'!E2:E93564,\"COVID\",'Accounting Data'!H2:H93564,\"7??\",'Accounting Data'!I2:I93564,\"1???\",'Accounting Data'!J2:J93564,\"62??\")","v":0},{"$f":"SUMIFS('Accounting Data'!C2:C93564,'Accounting Data'!E2:E93564,\"1??\",'Accounting Data'!H2:H93564,\"8??\",'Accounting Data'!I2:I93564,\"1???\",'Accounting Data'!J2:J93564,\"62??\")+SUMIFS('Accounting Data'!C2:C93564,'Accounting Data'!E2:E93564,\"2??\",'Accounting Data'!H2:H93564,\"8??\",'Accounting Data'!I2:I93564,\"1???\",'Accounting Data'!J2:J93564,\"62??\")+SUMIFS('Accounting Data'!C2:C93564,'Accounting Data'!E2:E93564,\"3??\",'Accounting Data'!H2:H93564,\"8??\",'Accounting Data'!I2:I93564,\"1???\",'Accounting Data'!J2:J93564,\"62??\")+SUMIFS('Accounting Data'!C2:C93564,'Accounting Data'!E2:E93564,\"639\",'Accounting Data'!H2:H93564,\"8??\",'Accounting Data'!I2:I93564,\"1???\",'Accounting Data'!J2:J93564,\"62??\")+SUMIFS('Accounting Data'!C2:C93564,'Accounting Data'!E2:E93564,\"699\",'Accounting Data'!H2:H93564,\"8??\",'Accounting Data'!I2:I93564,\"1???\",'Accounting Data'!J2:J93564,\"62??\")+SUMIFS('Accounting Data'!C2:C93564,'Accounting Data'!E2:E93564,\"720\",'Accounting Data'!H2:H93564,\"8??\",'Accounting Data'!I2:I93564,\"1???\",'Accounting Data'!J2:J93564,\"62??\")+SUMIFS('Accounting Data'!C2:C93564,'Accounting Data'!E2:E93564,\"COVID\",'Accounting Data'!H2:H93564,\"8??\",'Accounting Data'!I2:I93564,\"1???\",'Accounting Data'!J2:J93564,\"62??\")","v":0},{"$f":"SUMIFS('Accounting Data'!C2:C93564,'Accounting Data'!E2:E93564,\"1??\",'Accounting Data'!H2:H93564,\"9??\",'Accounting Data'!I2:I93564,\"1???\",'Accounting Data'!J2:J93564,\"62??\")+SUMIFS('Accounting Data'!C2:C93564,'Accounting Data'!E2:E93564,\"2??\",'Accounting Data'!H2:H93564,\"9??\",'Accounting Data'!I2:I93564,\"1???\",'Accounting Data'!J2:J93564,\"62??\")+SUMIFS('Accounting Data'!C2:C93564,'Accounting Data'!E2:E93564,\"3??\",'Accounting Data'!H2:H93564,\"9??\",'Accounting Data'!I2:I93564,\"1???\",'Accounting Data'!J2:J93564,\"62??\")+SUMIFS('Accounting Data'!C2:C93564,'Accounting Data'!E2:E93564,\"639\",'Accounting Data'!H2:H93564,\"9??\",'Accounting Data'!I2:I93564,\"1???\",'Accounting Data'!J2:J93564,\"62??\")+SUMIFS('Accounting Data'!C2:C93564,'Accounting Data'!E2:E93564,\"699\",'Accounting Data'!H2:H93564,\"9??\",'Accounting Data'!I2:I93564,\"1???\",'Accounting Data'!J2:J93564,\"62??\")+SUMIFS('Accounting Data'!C2:C93564,'Accounting Data'!E2:E93564,\"720\",'Accounting Data'!H2:H93564,\"9??\",'Accounting Data'!I2:I93564,\"1???\",'Accounting Data'!J2:J93564,\"62??\")+SUMIFS('Accounting Data'!C2:C93564,'Accounting Data'!E2:E93564,\"COVID\",'Accounting Data'!H2:H93564,\"9??\",'Accounting Data'!I2:I93564,\"1???\",'Accounting Data'!J2:J93564,\"62??\")","v":0},{"$f":"SUMIFS('Accounting Data'!C2:C93564,'Accounting Data'!E2:E93564,\"1??\",'Accounting Data'!H2:H93564,\"7??\",'Accounting Data'!I2:I93564,\"2???\",'Accounting Data'!J2:J93564,\"62??\")+SUMIFS('Accounting Data'!C2:C93564,'Accounting Data'!E2:E93564,\"2??\",'Accounting Data'!H2:H93564,\"7??\",'Accounting Data'!I2:I93564,\"2???\",'Accounting Data'!J2:J93564,\"62??\")+SUMIFS('Accounting Data'!C2:C93564,'Accounting Data'!E2:E93564,\"3??\",'Accounting Data'!H2:H93564,\"7??\",'Accounting Data'!I2:I93564,\"2???\",'Accounting Data'!J2:J93564,\"62??\")+SUMIFS('Accounting Data'!C2:C93564,'Accounting Data'!E2:E93564,\"639\",'Accounting Data'!H2:H93564,\"7??\",'Accounting Data'!I2:I93564,\"2???\",'Accounting Data'!J2:J93564,\"62??\")+SUMIFS('Accounting Data'!C2:C93564,'Accounting Data'!E2:E93564,\"699\",'Accounting Data'!H2:H93564,\"7??\",'Accounting Data'!I2:I93564,\"2???\",'Accounting Data'!J2:J93564,\"62??\")+SUMIFS('Accounting Data'!C2:C93564,'Accounting Data'!E2:E93564,\"720\",'Accounting Data'!H2:H93564,\"7??\",'Accounting Data'!I2:I93564,\"2???\",'Accounting Data'!J2:J93564,\"62??\")+SUMIFS('Accounting Data'!C2:C93564,'Accounting Data'!E2:E93564,\"COVID\",'Accounting Data'!H2:H93564,\"7??\",'Accounting Data'!I2:I93564,\"2???\",'Accounting Data'!J2:J93564,\"62??\")","v":0},{"$f":"SUMIFS('Accounting Data'!C2:C93564,'Accounting Data'!E2:E93564,\"1??\",'Accounting Data'!H2:H93564,\"8??\",'Accounting Data'!I2:I93564,\"2???\",'Accounting Data'!J2:J93564,\"62??\")+SUMIFS('Accounting Data'!C2:C93564,'Accounting Data'!E2:E93564,\"2??\",'Accounting Data'!H2:H93564,\"8??\",'Accounting Data'!I2:I93564,\"2???\",'Accounting Data'!J2:J93564,\"62??\")+SUMIFS('Accounting Data'!C2:C93564,'Accounting Data'!E2:E93564,\"3??\",'Accounting Data'!H2:H93564,\"8??\",'Accounting Data'!I2:I93564,\"2???\",'Accounting Data'!J2:J93564,\"62??\")+SUMIFS('Accounting Data'!C2:C93564,'Accounting Data'!E2:E93564,\"639\",'Accounting Data'!H2:H93564,\"8??\",'Accounting Data'!I2:I93564,\"2???\",'Accounting Data'!J2:J93564,\"62??\")+SUMIFS('Accounting Data'!C2:C93564,'Accounting Data'!E2:E93564,\"699\",'Accounting Data'!H2:H93564,\"8??\",'Accounting Data'!I2:I93564,\"2???\",'Accounting Data'!J2:J93564,\"62??\")+SUMIFS('Accounting Data'!C2:C93564,'Accounting Data'!E2:E93564,\"720\",'Accounting Data'!H2:H93564,\"8??\",'Accounting Data'!I2:I93564,\"2???\",'Accounting Data'!J2:J93564,\"62??\")+SUMIFS('Accounting Data'!C2:C93564,'Accounting Data'!E2:E93564,\"COVID\",'Accounting Data'!H2:H93564,\"8??\",'Accounting Data'!I2:I93564,\"2???\",'Accounting Data'!J2:J93564,\"62??\")","v":0},{"$f":"SUMIFS('Accounting Data'!C2:C93564,'Accounting Data'!E2:E93564,\"1??\",'Accounting Data'!H2:H93564,\"9??\",'Accounting Data'!I2:I93564,\"2???\",'Accounting Data'!J2:J93564,\"62??\")+SUMIFS('Accounting Data'!C2:C93564,'Accounting Data'!E2:E93564,\"2??\",'Accounting Data'!H2:H93564,\"9??\",'Accounting Data'!I2:I93564,\"2???\",'Accounting Data'!J2:J93564,\"62??\")+SUMIFS('Accounting Data'!C2:C93564,'Accounting Data'!E2:E93564,\"3??\",'Accounting Data'!H2:H93564,\"9??\",'Accounting Data'!I2:I93564,\"2???\",'Accounting Data'!J2:J93564,\"62??\")+SUMIFS('Accounting Data'!C2:C93564,'Accounting Data'!E2:E93564,\"639\",'Accounting Data'!H2:H93564,\"9??\",'Accounting Data'!I2:I93564,\"2???\",'Accounting Data'!J2:J93564,\"62??\")+SUMIFS('Accounting Data'!C2:C93564,'Accounting Data'!E2:E93564,\"699\",'Accounting Data'!H2:H93564,\"9??\",'Accounting Data'!I2:I93564,\"2???\",'Accounting Data'!J2:J93564,\"62??\")+SUMIFS('Accounting Data'!C2:C93564,'Accounting Data'!E2:E93564,\"720\",'Accounting Data'!H2:H93564,\"9??\",'Accounting Data'!I2:I93564,\"2???\",'Accounting Data'!J2:J93564,\"62??\")+SUMIFS('Accounting Data'!C2:C93564,'Accounting Data'!E2:E93564,\"COVID\",'Accounting Data'!H2:H93564,\"9??\",'Accounting Data'!I2:I93564,\"2???\",'Accounting Data'!J2:J93564,\"62??\")","v":0},{"$f":"SUMIFS('Accounting Data'!C2:C93564,'Accounting Data'!E2:E93564,\"1??\",'Accounting Data'!H2:H93564,\"7??\",'Accounting Data'!I2:I93564,\"3???\",'Accounting Data'!J2:J93564,\"62??\")+SUMIFS('Accounting Data'!C2:C93564,'Accounting Data'!E2:E93564,\"2??\",'Accounting Data'!H2:H93564,\"7??\",'Accounting Data'!I2:I93564,\"3???\",'Accounting Data'!J2:J93564,\"62??\")+SUMIFS('Accounting Data'!C2:C93564,'Accounting Data'!E2:E93564,\"3??\",'Accounting Data'!H2:H93564,\"7??\",'Accounting Data'!I2:I93564,\"3???\",'Accounting Data'!J2:J93564,\"62??\")+SUMIFS('Accounting Data'!C2:C93564,'Accounting Data'!E2:E93564,\"639\",'Accounting Data'!H2:H93564,\"7??\",'Accounting Data'!I2:I93564,\"3???\",'Accounting Data'!J2:J93564,\"62??\")+SUMIFS('Accounting Data'!C2:C93564,'Accounting Data'!E2:E93564,\"699\",'Accounting Data'!H2:H93564,\"7??\",'Accounting Data'!I2:I93564,\"3???\",'Accounting Data'!J2:J93564,\"62??\")+SUMIFS('Accounting Data'!C2:C93564,'Accounting Data'!E2:E93564,\"720\",'Accounting Data'!H2:H93564,\"7??\",'Accounting Data'!I2:I93564,\"3???\",'Accounting Data'!J2:J93564,\"62??\")+SUMIFS('Accounting Data'!C2:C93564,'Accounting Data'!E2:E93564,\"COVID\",'Accounting Data'!H2:H93564,\"7??\",'Accounting Data'!I2:I93564,\"3???\",'Accounting Data'!J2:J93564,\"62??\")","v":0},{"$f":"SUMIFS('Accounting Data'!C2:C93564,'Accounting Data'!E2:E93564,\"1??\",'Accounting Data'!H2:H93564,\"8??\",'Accounting Data'!I2:I93564,\"3???\",'Accounting Data'!J2:J93564,\"62??\")+SUMIFS('Accounting Data'!C2:C93564,'Accounting Data'!E2:E93564,\"2??\",'Accounting Data'!H2:H93564,\"8??\",'Accounting Data'!I2:I93564,\"3???\",'Accounting Data'!J2:J93564,\"62??\")+SUMIFS('Accounting Data'!C2:C93564,'Accounting Data'!E2:E93564,\"3??\",'Accounting Data'!H2:H93564,\"8??\",'Accounting Data'!I2:I93564,\"3???\",'Accounting Data'!J2:J93564,\"62??\")+SUMIFS('Accounting Data'!C2:C93564,'Accounting Data'!E2:E93564,\"639\",'Accounting Data'!H2:H93564,\"8??\",'Accounting Data'!I2:I93564,\"3???\",'Accounting Data'!J2:J93564,\"62??\")+SUMIFS('Accounting Data'!C2:C93564,'Accounting Data'!E2:E93564,\"699\",'Accounting Data'!H2:H93564,\"8??\",'Accounting Data'!I2:I93564,\"3???\",'Accounting Data'!J2:J93564,\"62??\")+SUMIFS('Accounting Data'!C2:C93564,'Accounting Data'!E2:E93564,\"720\",'Accounting Data'!H2:H93564,\"8??\",'Accounting Data'!I2:I93564,\"3???\",'Accounting Data'!J2:J93564,\"62??\")+SUMIFS('Accounting Data'!C2:C93564,'Accounting Data'!E2:E93564,\"COVID\",'Accounting Data'!H2:H93564,\"8??\",'Accounting Data'!I2:I93564,\"3???\",'Accounting Data'!J2:J93564,\"62??\")","v":0},{"$f":"SUMIFS('Accounting Data'!C2:C93564,'Accounting Data'!E2:E93564,\"1??\",'Accounting Data'!H2:H93564,\"9??\",'Accounting Data'!I2:I93564,\"3???\",'Accounting Data'!J2:J93564,\"62??\")+SUMIFS('Accounting Data'!C2:C93564,'Accounting Data'!E2:E93564,\"2??\",'Accounting Data'!H2:H93564,\"9??\",'Accounting Data'!I2:I93564,\"3???\",'Accounting Data'!J2:J93564,\"62??\")+SUMIFS('Accounting Data'!C2:C93564,'Accounting Data'!E2:E93564,\"3??\",'Accounting Data'!H2:H93564,\"9??\",'Accounting Data'!I2:I93564,\"3???\",'Accounting Data'!J2:J93564,\"62??\")+SUMIFS('Accounting Data'!C2:C93564,'Accounting Data'!E2:E93564,\"639\",'Accounting Data'!H2:H93564,\"9??\",'Accounting Data'!I2:I93564,\"3???\",'Accounting Data'!J2:J93564,\"62??\")+SUMIFS('Accounting Data'!C2:C93564,'Accounting Data'!E2:E93564,\"699\",'Accounting Data'!H2:H93564,\"9??\",'Accounting Data'!I2:I93564,\"3???\",'Accounting Data'!J2:J93564,\"62??\")+SUMIFS('Accounting Data'!C2:C93564,'Accounting Data'!E2:E93564,\"720\",'Accounting Data'!H2:H93564,\"9??\",'Accounting Data'!I2:I93564,\"3???\",'Accounting Data'!J2:J93564,\"62??\")+SUMIFS('Accounting Data'!C2:C93564,'Accounting Data'!E2:E93564,\"COVID\",'Accounting Data'!H2:H93564,\"9??\",'Accounting Data'!I2:I93564,\"3???\",'Accounting Data'!J2:J93564,\"62??\")","v":0}]
[null,null,null,null,null,null,null,null,null,null,6700,"(excluding 6900)","Total",null,null,null,{"$f":"(((AA10-AB10-AC10)+(AD10+AE10+AF10))-((AA49-AB49-AC49)+(AD49+AE49+AF49)))","v":8787678},null,null,null,null,null,null,null,null,6300,{"$f":"SUMIFS('Accounting Data'!C2:C93564,'Accounting Data'!E2:E93564,\"1??\",'Accounting Data'!I2:I93564,\"1???\",'Accounting Data'!J2:J93564,\"63??\")+SUMIFS('Accounting Data'!C2:C93564,'Accounting Data'!E2:E93564,\"2??\",'Accounting Data'!I2:I93564,\"1???\",'Accounting Data'!J2:J93564,\"63??\")+SUMIFS('Accounting Data'!C2:C93564,'Accounting Data'!E2:E93564,\"3??\",'Accounting Data'!I2:I93564,\"1???\",'Accounting Data'!J2:J93564,\"63??\")+SUMIFS('Accounting Data'!C2:C93564,'Accounting Data'!E2:E93564,\"639\",'Accounting Data'!I2:I93564,\"1???\",'Accounting Data'!J2:J93564,\"63??\")+SUMIFS('Accounting Data'!C2:C93564,'Accounting Data'!E2:E93564,\"699\",'Accounting Data'!I2:I93564,\"1???\",'Accounting Data'!J2:J93564,\"63??\")+SUMIFS('Accounting Data'!C2:C93564,'Accounting Data'!E2:E93564,\"720\",'Accounting Data'!I2:I93564,\"1???\",'Accounting Data'!J2:J93564,\"63??\")+SUMIFS('Accounting Data'!C2:C93564,'Accounting Data'!E2:E93564,\"COVID\",'Accounting Data'!I2:I93564,\"1???\",'Accounting Data'!J2:J93564,\"63??\")","v":199187},{"$f":"SUMIFS('Accounting Data'!C2:C93564,'Accounting Data'!E2:E93564,\"1??\",'Accounting Data'!I2:I93564,\"2???\",'Accounting Data'!J2:J93564,\"63??\")+SUMIFS('Accounting Data'!C2:C93564,'Accounting Data'!E2:E93564,\"2??\",'Accounting Data'!I2:I93564,\"2???\",'Accounting Data'!J2:J93564,\"63??\")+SUMIFS('Accounting Data'!C2:C93564,'Accounting Data'!E2:E93564,\"3??\",'Accounting Data'!I2:I93564,\"2???\",'Accounting Data'!J2:J93564,\"63??\")+SUMIFS('Accounting Data'!C2:C93564,'Accounting Data'!E2:E93564,\"639\",'Accounting Data'!I2:I93564,\"2???\",'Accounting Data'!J2:J93564,\"63??\")+SUMIFS('Accounting Data'!C2:C93564,'Accounting Data'!E2:E93564,\"699\",'Accounting Data'!I2:I93564,\"2???\",'Accounting Data'!J2:J93564,\"63??\")+SUMIFS('Accounting Data'!C2:C93564,'Accounting Data'!E2:E93564,\"720\",'Accounting Data'!I2:I93564,\"2???\",'Accounting Data'!J2:J93564,\"63??\")+SUMIFS('Accounting Data'!C2:C93564,'Accounting Data'!E2:E93564,\"COVID\",'Accounting Data'!I2:I93564,\"2???\",'Accounting Data'!J2:J93564,\"63??\")","v":450147},{"$f":"SUMIFS('Accounting Data'!C2:C93564,'Accounting Data'!E2:E93564,\"1??\",'Accounting Data'!I2:I93564,\"3???\",'Accounting Data'!J2:J93564,\"63??\")+SUMIFS('Accounting Data'!C2:C93564,'Accounting Data'!E2:E93564,\"2??\",'Accounting Data'!I2:I93564,\"3???\",'Accounting Data'!J2:J93564,\"63??\")+SUMIFS('Accounting Data'!C2:C93564,'Accounting Data'!E2:E93564,\"3??\",'Accounting Data'!I2:I93564,\"3???\",'Accounting Data'!J2:J93564,\"63??\")+SUMIFS('Accounting Data'!C2:C93564,'Accounting Data'!E2:E93564,\"639\",'Accounting Data'!I2:I93564,\"3???\",'Accounting Data'!J2:J93564,\"63??\")+SUMIFS('Accounting Data'!C2:C93564,'Accounting Data'!E2:E93564,\"699\",'Accounting Data'!I2:I93564,\"3???\",'Accounting Data'!J2:J93564,\"63??\")+SUMIFS('Accounting Data'!C2:C93564,'Accounting Data'!E2:E93564,\"720\",'Accounting Data'!I2:I93564,\"3???\",'Accounting Data'!J2:J93564,\"63??\")+SUMIFS('Accounting Data'!C2:C93564,'Accounting Data'!E2:E93564,\"COVID\",'Accounting Data'!I2:I93564,\"3???\",'Accounting Data'!J2:J93564,\"63??\")","v":5057},{"$f":"SUMIFS('Accounting Data'!C2:C93564,'Accounting Data'!E2:E93564,\"1??\",'Accounting Data'!H2:H93564,\"7??\",'Accounting Data'!I2:I93564,\"1???\",'Accounting Data'!J2:J93564,\"63??\")+SUMIFS('Accounting Data'!C2:C93564,'Accounting Data'!E2:E93564,\"2??\",'Accounting Data'!H2:H93564,\"7??\",'Accounting Data'!I2:I93564,\"1???\",'Accounting Data'!J2:J93564,\"63??\")+SUMIFS('Accounting Data'!C2:C93564,'Accounting Data'!E2:E93564,\"3??\",'Accounting Data'!H2:H93564,\"7??\",'Accounting Data'!I2:I93564,\"1???\",'Accounting Data'!J2:J93564,\"63??\")+SUMIFS('Accounting Data'!C2:C93564,'Accounting Data'!E2:E93564,\"639\",'Accounting Data'!H2:H93564,\"7??\",'Accounting Data'!I2:I93564,\"1???\",'Accounting Data'!J2:J93564,\"63??\")+SUMIFS('Accounting Data'!C2:C93564,'Accounting Data'!E2:E93564,\"699\",'Accounting Data'!H2:H93564,\"7??\",'Accounting Data'!I2:I93564,\"1???\",'Accounting Data'!J2:J93564,\"63??\")+SUMIFS('Accounting Data'!C2:C93564,'Accounting Data'!E2:E93564,\"720\",'Accounting Data'!H2:H93564,\"7??\",'Accounting Data'!I2:I93564,\"1???\",'Accounting Data'!J2:J93564,\"63??\")+SUMIFS('Accounting Data'!C2:C93564,'Accounting Data'!E2:E93564,\"COVID\",'Accounting Data'!H2:H93564,\"7??\",'Accounting Data'!I2:I93564,\"1???\",'Accounting Data'!J2:J93564,\"63??\")","v":0},{"$f":"SUMIFS('Accounting Data'!C2:C93564,'Accounting Data'!E2:E93564,\"1??\",'Accounting Data'!H2:H93564,\"8??\",'Accounting Data'!I2:I93564,\"1???\",'Accounting Data'!J2:J93564,\"63??\")+SUMIFS('Accounting Data'!C2:C93564,'Accounting Data'!E2:E93564,\"2??\",'Accounting Data'!H2:H93564,\"8??\",'Accounting Data'!I2:I93564,\"1???\",'Accounting Data'!J2:J93564,\"63??\")+SUMIFS('Accounting Data'!C2:C93564,'Accounting Data'!E2:E93564,\"3??\",'Accounting Data'!H2:H93564,\"8??\",'Accounting Data'!I2:I93564,\"1???\",'Accounting Data'!J2:J93564,\"63??\")+SUMIFS('Accounting Data'!C2:C93564,'Accounting Data'!E2:E93564,\"639\",'Accounting Data'!H2:H93564,\"8??\",'Accounting Data'!I2:I93564,\"1???\",'Accounting Data'!J2:J93564,\"63??\")+SUMIFS('Accounting Data'!C2:C93564,'Accounting Data'!E2:E93564,\"699\",'Accounting Data'!H2:H93564,\"8??\",'Accounting Data'!I2:I93564,\"1???\",'Accounting Data'!J2:J93564,\"63??\")+SUMIFS('Accounting Data'!C2:C93564,'Accounting Data'!E2:E93564,\"720\",'Accounting Data'!H2:H93564,\"8??\",'Accounting Data'!I2:I93564,\"1???\",'Accounting Data'!J2:J93564,\"63??\")+SUMIFS('Accounting Data'!C2:C93564,'Accounting Data'!E2:E93564,\"COVID\",'Accounting Data'!H2:H93564,\"8??\",'Accounting Data'!I2:I93564,\"1???\",'Accounting Data'!J2:J93564,\"63??\")","v":0},{"$f":"SUMIFS('Accounting Data'!C2:C93564,'Accounting Data'!E2:E93564,\"1??\",'Accounting Data'!H2:H93564,\"9??\",'Accounting Data'!I2:I93564,\"1???\",'Accounting Data'!J2:J93564,\"63??\")+SUMIFS('Accounting Data'!C2:C93564,'Accounting Data'!E2:E93564,\"2??\",'Accounting Data'!H2:H93564,\"9??\",'Accounting Data'!I2:I93564,\"1???\",'Accounting Data'!J2:J93564,\"63??\")+SUMIFS('Accounting Data'!C2:C93564,'Accounting Data'!E2:E93564,\"3??\",'Accounting Data'!H2:H93564,\"9??\",'Accounting Data'!I2:I93564,\"1???\",'Accounting Data'!J2:J93564,\"63??\")+SUMIFS('Accounting Data'!C2:C93564,'Accounting Data'!E2:E93564,\"639\",'Accounting Data'!H2:H93564,\"9??\",'Accounting Data'!I2:I93564,\"1???\",'Accounting Data'!J2:J93564,\"63??\")+SUMIFS('Accounting Data'!C2:C93564,'Accounting Data'!E2:E93564,\"699\",'Accounting Data'!H2:H93564,\"9??\",'Accounting Data'!I2:I93564,\"1???\",'Accounting Data'!J2:J93564,\"63??\")+SUMIFS('Accounting Data'!C2:C93564,'Accounting Data'!E2:E93564,\"720\",'Accounting Data'!H2:H93564,\"9??\",'Accounting Data'!I2:I93564,\"1???\",'Accounting Data'!J2:J93564,\"63??\")+SUMIFS('Accounting Data'!C2:C93564,'Accounting Data'!E2:E93564,\"COVID\",'Accounting Data'!H2:H93564,\"9??\",'Accounting Data'!I2:I93564,\"1???\",'Accounting Data'!J2:J93564,\"63??\")","v":0},{"$f":"SUMIFS('Accounting Data'!C2:C93564,'Accounting Data'!E2:E93564,\"1??\",'Accounting Data'!H2:H93564,\"7??\",'Accounting Data'!I2:I93564,\"2???\",'Accounting Data'!J2:J93564,\"63??\")+SUMIFS('Accounting Data'!C2:C93564,'Accounting Data'!E2:E93564,\"2??\",'Accounting Data'!H2:H93564,\"7??\",'Accounting Data'!I2:I93564,\"2???\",'Accounting Data'!J2:J93564,\"63??\")+SUMIFS('Accounting Data'!C2:C93564,'Accounting Data'!E2:E93564,\"3??\",'Accounting Data'!H2:H93564,\"7??\",'Accounting Data'!I2:I93564,\"2???\",'Accounting Data'!J2:J93564,\"63??\")+SUMIFS('Accounting Data'!C2:C93564,'Accounting Data'!E2:E93564,\"639\",'Accounting Data'!H2:H93564,\"7??\",'Accounting Data'!I2:I93564,\"2???\",'Accounting Data'!J2:J93564,\"63??\")+SUMIFS('Accounting Data'!C2:C93564,'Accounting Data'!E2:E93564,\"699\",'Accounting Data'!H2:H93564,\"7??\",'Accounting Data'!I2:I93564,\"2???\",'Accounting Data'!J2:J93564,\"63??\")+SUMIFS('Accounting Data'!C2:C93564,'Accounting Data'!E2:E93564,\"720\",'Accounting Data'!H2:H93564,\"7??\",'Accounting Data'!I2:I93564,\"2???\",'Accounting Data'!J2:J93564,\"63??\")+SUMIFS('Accounting Data'!C2:C93564,'Accounting Data'!E2:E93564,\"COVID\",'Accounting Data'!H2:H93564,\"7??\",'Accounting Data'!I2:I93564,\"2???\",'Accounting Data'!J2:J93564,\"63??\")","v":0},{"$f":"SUMIFS('Accounting Data'!C2:C93564,'Accounting Data'!E2:E93564,\"1??\",'Accounting Data'!H2:H93564,\"8??\",'Accounting Data'!I2:I93564,\"2???\",'Accounting Data'!J2:J93564,\"63??\")+SUMIFS('Accounting Data'!C2:C93564,'Accounting Data'!E2:E93564,\"2??\",'Accounting Data'!H2:H93564,\"8??\",'Accounting Data'!I2:I93564,\"2???\",'Accounting Data'!J2:J93564,\"63??\")+SUMIFS('Accounting Data'!C2:C93564,'Accounting Data'!E2:E93564,\"3??\",'Accounting Data'!H2:H93564,\"8??\",'Accounting Data'!I2:I93564,\"2???\",'Accounting Data'!J2:J93564,\"63??\")+SUMIFS('Accounting Data'!C2:C93564,'Accounting Data'!E2:E93564,\"639\",'Accounting Data'!H2:H93564,\"8??\",'Accounting Data'!I2:I93564,\"2???\",'Accounting Data'!J2:J93564,\"63??\")+SUMIFS('Accounting Data'!C2:C93564,'Accounting Data'!E2:E93564,\"699\",'Accounting Data'!H2:H93564,\"8??\",'Accounting Data'!I2:I93564,\"2???\",'Accounting Data'!J2:J93564,\"63??\")+SUMIFS('Accounting Data'!C2:C93564,'Accounting Data'!E2:E93564,\"720\",'Accounting Data'!H2:H93564,\"8??\",'Accounting Data'!I2:I93564,\"2???\",'Accounting Data'!J2:J93564,\"63??\")+SUMIFS('Accounting Data'!C2:C93564,'Accounting Data'!E2:E93564,\"COVID\",'Accounting Data'!H2:H93564,\"8??\",'Accounting Data'!I2:I93564,\"2???\",'Accounting Data'!J2:J93564,\"63??\")","v":0},{"$f":"SUMIFS('Accounting Data'!C2:C93564,'Accounting Data'!E2:E93564,\"1??\",'Accounting Data'!H2:H93564,\"9??\",'Accounting Data'!I2:I93564,\"2???\",'Accounting Data'!J2:J93564,\"63??\")+SUMIFS('Accounting Data'!C2:C93564,'Accounting Data'!E2:E93564,\"2??\",'Accounting Data'!H2:H93564,\"9??\",'Accounting Data'!I2:I93564,\"2???\",'Accounting Data'!J2:J93564,\"63??\")+SUMIFS('Accounting Data'!C2:C93564,'Accounting Data'!E2:E93564,\"3??\",'Accounting Data'!H2:H93564,\"9??\",'Accounting Data'!I2:I93564,\"2???\",'Accounting Data'!J2:J93564,\"63??\")+SUMIFS('Accounting Data'!C2:C93564,'Accounting Data'!E2:E93564,\"639\",'Accounting Data'!H2:H93564,\"9??\",'Accounting Data'!I2:I93564,\"2???\",'Accounting Data'!J2:J93564,\"63??\")+SUMIFS('Accounting Data'!C2:C93564,'Accounting Data'!E2:E93564,\"699\",'Accounting Data'!H2:H93564,\"9??\",'Accounting Data'!I2:I93564,\"2???\",'Accounting Data'!J2:J93564,\"63??\")+SUMIFS('Accounting Data'!C2:C93564,'Accounting Data'!E2:E93564,\"720\",'Accounting Data'!H2:H93564,\"9??\",'Accounting Data'!I2:I93564,\"2???\",'Accounting Data'!J2:J93564,\"63??\")+SUMIFS('Accounting Data'!C2:C93564,'Accounting Data'!E2:E93564,\"COVID\",'Accounting Data'!H2:H93564,\"9??\",'Accounting Data'!I2:I93564,\"2???\",'Accounting Data'!J2:J93564,\"63??\")","v":0},{"$f":"SUMIFS('Accounting Data'!C2:C93564,'Accounting Data'!E2:E93564,\"1??\",'Accounting Data'!H2:H93564,\"7??\",'Accounting Data'!I2:I93564,\"3???\",'Accounting Data'!J2:J93564,\"63??\")+SUMIFS('Accounting Data'!C2:C93564,'Accounting Data'!E2:E93564,\"2??\",'Accounting Data'!H2:H93564,\"7??\",'Accounting Data'!I2:I93564,\"3???\",'Accounting Data'!J2:J93564,\"63??\")+SUMIFS('Accounting Data'!C2:C93564,'Accounting Data'!E2:E93564,\"3??\",'Accounting Data'!H2:H93564,\"7??\",'Accounting Data'!I2:I93564,\"3???\",'Accounting Data'!J2:J93564,\"63??\")+SUMIFS('Accounting Data'!C2:C93564,'Accounting Data'!E2:E93564,\"639\",'Accounting Data'!H2:H93564,\"7??\",'Accounting Data'!I2:I93564,\"3???\",'Accounting Data'!J2:J93564,\"63??\")+SUMIFS('Accounting Data'!C2:C93564,'Accounting Data'!E2:E93564,\"699\",'Accounting Data'!H2:H93564,\"7??\",'Accounting Data'!I2:I93564,\"3???\",'Accounting Data'!J2:J93564,\"63??\")+SUMIFS('Accounting Data'!C2:C93564,'Accounting Data'!E2:E93564,\"720\",'Accounting Data'!H2:H93564,\"7??\",'Accounting Data'!I2:I93564,\"3???\",'Accounting Data'!J2:J93564,\"63??\")+SUMIFS('Accounting Data'!C2:C93564,'Accounting Data'!E2:E93564,\"COVID\",'Accounting Data'!H2:H93564,\"7??\",'Accounting Data'!I2:I93564,\"3???\",'Accounting Data'!J2:J93564,\"63??\")","v":0},{"$f":"SUMIFS('Accounting Data'!C2:C93564,'Accounting Data'!E2:E93564,\"1??\",'Accounting Data'!H2:H93564,\"8??\",'Accounting Data'!I2:I93564,\"3???\",'Accounting Data'!J2:J93564,\"63??\")+SUMIFS('Accounting Data'!C2:C93564,'Accounting Data'!E2:E93564,\"2??\",'Accounting Data'!H2:H93564,\"8??\",'Accounting Data'!I2:I93564,\"3???\",'Accounting Data'!J2:J93564,\"63??\")+SUMIFS('Accounting Data'!C2:C93564,'Accounting Data'!E2:E93564,\"3??\",'Accounting Data'!H2:H93564,\"8??\",'Accounting Data'!I2:I93564,\"3???\",'Accounting Data'!J2:J93564,\"63??\")+SUMIFS('Accounting Data'!C2:C93564,'Accounting Data'!E2:E93564,\"639\",'Accounting Data'!H2:H93564,\"8??\",'Accounting Data'!I2:I93564,\"3???\",'Accounting Data'!J2:J93564,\"63??\")+SUMIFS('Accounting Data'!C2:C93564,'Accounting Data'!E2:E93564,\"699\",'Accounting Data'!H2:H93564,\"8??\",'Accounting Data'!I2:I93564,\"3???\",'Accounting Data'!J2:J93564,\"63??\")+SUMIFS('Accounting Data'!C2:C93564,'Accounting Data'!E2:E93564,\"720\",'Accounting Data'!H2:H93564,\"8??\",'Accounting Data'!I2:I93564,\"3???\",'Accounting Data'!J2:J93564,\"63??\")+SUMIFS('Accounting Data'!C2:C93564,'Accounting Data'!E2:E93564,\"COVID\",'Accounting Data'!H2:H93564,\"8??\",'Accounting Data'!I2:I93564,\"3???\",'Accounting Data'!J2:J93564,\"63??\")","v":0},{"$f":"SUMIFS('Accounting Data'!C2:C93564,'Accounting Data'!E2:E93564,\"1??\",'Accounting Data'!H2:H93564,\"9??\",'Accounting Data'!I2:I93564,\"3???\",'Accounting Data'!J2:J93564,\"63??\")+SUMIFS('Accounting Data'!C2:C93564,'Accounting Data'!E2:E93564,\"2??\",'Accounting Data'!H2:H93564,\"9??\",'Accounting Data'!I2:I93564,\"3???\",'Accounting Data'!J2:J93564,\"63??\")+SUMIFS('Accounting Data'!C2:C93564,'Accounting Data'!E2:E93564,\"3??\",'Accounting Data'!H2:H93564,\"9??\",'Accounting Data'!I2:I93564,\"3???\",'Accounting Data'!J2:J93564,\"63??\")+SUMIFS('Accounting Data'!C2:C93564,'Accounting Data'!E2:E93564,\"639\",'Accounting Data'!H2:H93564,\"9??\",'Accounting Data'!I2:I93564,\"3???\",'Accounting Data'!J2:J93564,\"63??\")+SUMIFS('Accounting Data'!C2:C93564,'Accounting Data'!E2:E93564,\"699\",'Accounting Data'!H2:H93564,\"9??\",'Accounting Data'!I2:I93564,\"3???\",'Accounting Data'!J2:J93564,\"63??\")+SUMIFS('Accounting Data'!C2:C93564,'Accounting Data'!E2:E93564,\"720\",'Accounting Data'!H2:H93564,\"9??\",'Accounting Data'!I2:I93564,\"3???\",'Accounting Data'!J2:J93564,\"63??\")+SUMIFS('Accounting Data'!C2:C93564,'Accounting Data'!E2:E93564,\"COVID\",'Accounting Data'!H2:H93564,\"9??\",'Accounting Data'!I2:I93564,\"3???\",'Accounting Data'!J2:J93564,\"63??\")","v":0}]
[null,null,null,null,null,null,null,null,"1. Program 700",null,{"$f":"(SUMIFS('Accounting Data'!C2:C93564,'Accounting Data'!H2:H93564,\"7??\",'Accounting Data'!J2:J93564,\"67??\"))-(SUMIFS('Accounting Data'!C2:C93564,'Accounting Data'!E2:E93564,\"575\",'Accounting Data'!H2:H93564,\"7??\",'Accounting Data'!J2:J93564,\"67??\")+SUMIFS('Accounting Data'!C2:C93564,'Accounting Data'!E2:E93564,\"8??\",'Accounting Data'!H2:H93564,\"7??\",'Accounting Data'!J2:J93564,\"67??\")+SUMIFS('Accounting Data'!C2:C93564,'Accounting Data'!E2:E93564,\"9??\",'Accounting Data'!H2:H93564,\"7??\",'Accounting Data'!J2:J93564,\"67??\"))","v":0},{"$f":"(SUMIFS('Accounting Data'!C2:C93564,'Accounting Data'!H2:H93564,\"7??\",'Accounting Data'!J2:J93564,\"6???\"))-(SUMIFS('Accounting Data'!C2:C93564,'Accounting Data'!E2:E93564,\"575\",'Accounting Data'!H2:H93564,\"7??\",'Accounting Data'!J2:J93564,\"6???\")+SUMIFS('Accounting Data'!C2:C93564,'Accounting Data'!E2:E93564,\"8??\",'Accounting Data'!H2:H93564,\"7??\",'Accounting Data'!J2:J93564,\"6???\")+SUMIFS('Accounting Data'!C2:C93564,'Accounting Data'!E2:E93564,\"9??\",'Accounting Data'!H2:H93564,\"7??\",'Accounting Data'!J2:J93564,\"6???\"))-(SUMIFS('Accounting Data'!C2:C93564,'Accounting Data'!H2:H93564,\"7??\",'Accounting Data'!J2:J93564,\"69??\"))+(SUMIFS('Accounting Data'!C2:C93564,'Accounting Data'!E2:E93564,\"575\",'Accounting Data'!H2:H93564,\"7??\",'Accounting Data'!J2:J93564,\"69??\")+SUMIFS('Accounting Data'!C2:C93564,'Accounting Data'!E2:E93564,\"8??\",'Accounting Data'!H2:H93564,\"7??\",'Accounting Data'!J2:J93564,\"69??\")+SUMIFS('Accounting Data'!C2:C93564,'Accounting Data'!E2:E93564,\"9??\",'Accounting Data'!H2:H93564,\"7??\",'Accounting Data'!J2:J93564,\"69??\"))-K34","v":0},{"$f":"K34+L34","v":0},"1.",null,null,null,null,null,null,null,null,null,null,null,6400,{"$f":"SUMIFS('Accounting Data'!C2:C93564,'Accounting Data'!E2:E93564,\"1??\",'Accounting Data'!I2:I93564,\"1???\",'Accounting Data'!J2:J93564,\"64??\")+SUMIFS('Accounting Data'!C2:C93564,'Accounting Data'!E2:E93564,\"2??\",'Accounting Data'!I2:I93564,\"1???\",'Accounting Data'!J2:J93564,\"64??\")+SUMIFS('Accounting Data'!C2:C93564,'Accounting Data'!E2:E93564,\"3??\",'Accounting Data'!I2:I93564,\"1???\",'Accounting Data'!J2:J93564,\"64??\")+SUMIFS('Accounting Data'!C2:C93564,'Accounting Data'!E2:E93564,\"639\",'Accounting Data'!I2:I93564,\"1???\",'Accounting Data'!J2:J93564,\"64??\")+SUMIFS('Accounting Data'!C2:C93564,'Accounting Data'!E2:E93564,\"699\",'Accounting Data'!I2:I93564,\"1???\",'Accounting Data'!J2:J93564,\"64??\")+SUMIFS('Accounting Data'!C2:C93564,'Accounting Data'!E2:E93564,\"720\",'Accounting Data'!I2:I93564,\"1???\",'Accounting Data'!J2:J93564,\"64??\")+SUMIFS('Accounting Data'!C2:C93564,'Accounting Data'!E2:E93564,\"COVID\",'Accounting Data'!I2:I93564,\"1???\",'Accounting Data'!J2:J93564,\"64??\")","v":0},{"$f":"SUMIFS('Accounting Data'!C2:C93564,'Accounting Data'!E2:E93564,\"1??\",'Accounting Data'!I2:I93564,\"2???\",'Accounting Data'!J2:J93564,\"64??\")+SUMIFS('Accounting Data'!C2:C93564,'Accounting Data'!E2:E93564,\"2??\",'Accounting Data'!I2:I93564,\"2???\",'Accounting Data'!J2:J93564,\"64??\")+SUMIFS('Accounting Data'!C2:C93564,'Accounting Data'!E2:E93564,\"3??\",'Accounting Data'!I2:I93564,\"2???\",'Accounting Data'!J2:J93564,\"64??\")+SUMIFS('Accounting Data'!C2:C93564,'Accounting Data'!E2:E93564,\"639\",'Accounting Data'!I2:I93564,\"2???\",'Accounting Data'!J2:J93564,\"64??\")+SUMIFS('Accounting Data'!C2:C93564,'Accounting Data'!E2:E93564,\"699\",'Accounting Data'!I2:I93564,\"2???\",'Accounting Data'!J2:J93564,\"64??\")+SUMIFS('Accounting Data'!C2:C93564,'Accounting Data'!E2:E93564,\"720\",'Accounting Data'!I2:I93564,\"2???\",'Accounting Data'!J2:J93564,\"64??\")+SUMIFS('Accounting Data'!C2:C93564,'Accounting Data'!E2:E93564,\"COVID\",'Accounting Data'!I2:I93564,\"2???\",'Accounting Data'!J2:J93564,\"64??\")","v":0},{"$f":"SUMIFS('Accounting Data'!C2:C93564,'Accounting Data'!E2:E93564,\"1??\",'Accounting Data'!I2:I93564,\"3???\",'Accounting Data'!J2:J93564,\"64??\")+SUMIFS('Accounting Data'!C2:C93564,'Accounting Data'!E2:E93564,\"2??\",'Accounting Data'!I2:I93564,\"3???\",'Accounting Data'!J2:J93564,\"64??\")+SUMIFS('Accounting Data'!C2:C93564,'Accounting Data'!E2:E93564,\"3??\",'Accounting Data'!I2:I93564,\"3???\",'Accounting Data'!J2:J93564,\"64??\")+SUMIFS('Accounting Data'!C2:C93564,'Accounting Data'!E2:E93564,\"639\",'Accounting Data'!I2:I93564,\"3???\",'Accounting Data'!J2:J93564,\"64??\")+SUMIFS('Accounting Data'!C2:C93564,'Accounting Data'!E2:E93564,\"699\",'Accounting Data'!I2:I93564,\"3???\",'Accounting Data'!J2:J93564,\"64??\")+SUMIFS('Accounting Data'!C2:C93564,'Accounting Data'!E2:E93564,\"720\",'Accounting Data'!I2:I93564,\"3???\",'Accounting Data'!J2:J93564,\"64??\")+SUMIFS('Accounting Data'!C2:C93564,'Accounting Data'!E2:E93564,\"COVID\",'Accounting Data'!I2:I93564,\"3???\",'Accounting Data'!J2:J93564,\"64??\")","v":0},{"$f":"SUMIFS('Accounting Data'!C2:C93564,'Accounting Data'!E2:E93564,\"1??\",'Accounting Data'!H2:H93564,\"7??\",'Accounting Data'!I2:I93564,\"1???\",'Accounting Data'!J2:J93564,\"64??\")+SUMIFS('Accounting Data'!C2:C93564,'Accounting Data'!E2:E93564,\"2??\",'Accounting Data'!H2:H93564,\"7??\",'Accounting Data'!I2:I93564,\"1???\",'Accounting Data'!J2:J93564,\"64??\")+SUMIFS('Accounting Data'!C2:C93564,'Accounting Data'!E2:E93564,\"3??\",'Accounting Data'!H2:H93564,\"7??\",'Accounting Data'!I2:I93564,\"1???\",'Accounting Data'!J2:J93564,\"64??\")+SUMIFS('Accounting Data'!C2:C93564,'Accounting Data'!E2:E93564,\"639\",'Accounting Data'!H2:H93564,\"7??\",'Accounting Data'!I2:I93564,\"1???\",'Accounting Data'!J2:J93564,\"64??\")+SUMIFS('Accounting Data'!C2:C93564,'Accounting Data'!E2:E93564,\"699\",'Accounting Data'!H2:H93564,\"7??\",'Accounting Data'!I2:I93564,\"1???\",'Accounting Data'!J2:J93564,\"64??\")+SUMIFS('Accounting Data'!C2:C93564,'Accounting Data'!E2:E93564,\"720\",'Accounting Data'!H2:H93564,\"7??\",'Accounting Data'!I2:I93564,\"1???\",'Accounting Data'!J2:J93564,\"64??\")+SUMIFS('Accounting Data'!C2:C93564,'Accounting Data'!E2:E93564,\"COVID\",'Accounting Data'!H2:H93564,\"7??\",'Accounting Data'!I2:I93564,\"1???\",'Accounting Data'!J2:J93564,\"64??\")","v":0},{"$f":"SUMIFS('Accounting Data'!C2:C93564,'Accounting Data'!E2:E93564,\"1??\",'Accounting Data'!H2:H93564,\"8??\",'Accounting Data'!I2:I93564,\"1???\",'Accounting Data'!J2:J93564,\"64??\")+SUMIFS('Accounting Data'!C2:C93564,'Accounting Data'!E2:E93564,\"2??\",'Accounting Data'!H2:H93564,\"8??\",'Accounting Data'!I2:I93564,\"1???\",'Accounting Data'!J2:J93564,\"64??\")+SUMIFS('Accounting Data'!C2:C93564,'Accounting Data'!E2:E93564,\"3??\",'Accounting Data'!H2:H93564,\"8??\",'Accounting Data'!I2:I93564,\"1???\",'Accounting Data'!J2:J93564,\"64??\")+SUMIFS('Accounting Data'!C2:C93564,'Accounting Data'!E2:E93564,\"639\",'Accounting Data'!H2:H93564,\"8??\",'Accounting Data'!I2:I93564,\"1???\",'Accounting Data'!J2:J93564,\"64??\")+SUMIFS('Accounting Data'!C2:C93564,'Accounting Data'!E2:E93564,\"699\",'Accounting Data'!H2:H93564,\"8??\",'Accounting Data'!I2:I93564,\"1???\",'Accounting Data'!J2:J93564,\"64??\")+SUMIFS('Accounting Data'!C2:C93564,'Accounting Data'!E2:E93564,\"720\",'Accounting Data'!H2:H93564,\"8??\",'Accounting Data'!I2:I93564,\"1???\",'Accounting Data'!J2:J93564,\"64??\")+SUMIFS('Accounting Data'!C2:C93564,'Accounting Data'!E2:E93564,\"COVID\",'Accounting Data'!H2:H93564,\"8??\",'Accounting Data'!I2:I93564,\"1???\",'Accounting Data'!J2:J93564,\"64??\")","v":0},{"$f":"SUMIFS('Accounting Data'!C2:C93564,'Accounting Data'!E2:E93564,\"1??\",'Accounting Data'!H2:H93564,\"9??\",'Accounting Data'!I2:I93564,\"1???\",'Accounting Data'!J2:J93564,\"64??\")+SUMIFS('Accounting Data'!C2:C93564,'Accounting Data'!E2:E93564,\"2??\",'Accounting Data'!H2:H93564,\"9??\",'Accounting Data'!I2:I93564,\"1???\",'Accounting Data'!J2:J93564,\"64??\")+SUMIFS('Accounting Data'!C2:C93564,'Accounting Data'!E2:E93564,\"3??\",'Accounting Data'!H2:H93564,\"9??\",'Accounting Data'!I2:I93564,\"1???\",'Accounting Data'!J2:J93564,\"64??\")+SUMIFS('Accounting Data'!C2:C93564,'Accounting Data'!E2:E93564,\"639\",'Accounting Data'!H2:H93564,\"9??\",'Accounting Data'!I2:I93564,\"1???\",'Accounting Data'!J2:J93564,\"64??\")+SUMIFS('Accounting Data'!C2:C93564,'Accounting Data'!E2:E93564,\"699\",'Accounting Data'!H2:H93564,\"9??\",'Accounting Data'!I2:I93564,\"1???\",'Accounting Data'!J2:J93564,\"64??\")+SUMIFS('Accounting Data'!C2:C93564,'Accounting Data'!E2:E93564,\"720\",'Accounting Data'!H2:H93564,\"9??\",'Accounting Data'!I2:I93564,\"1???\",'Accounting Data'!J2:J93564,\"64??\")+SUMIFS('Accounting Data'!C2:C93564,'Accounting Data'!E2:E93564,\"COVID\",'Accounting Data'!H2:H93564,\"9??\",'Accounting Data'!I2:I93564,\"1???\",'Accounting Data'!J2:J93564,\"64??\")","v":0},{"$f":"SUMIFS('Accounting Data'!C2:C93564,'Accounting Data'!E2:E93564,\"1??\",'Accounting Data'!H2:H93564,\"7??\",'Accounting Data'!I2:I93564,\"2???\",'Accounting Data'!J2:J93564,\"64??\")+SUMIFS('Accounting Data'!C2:C93564,'Accounting Data'!E2:E93564,\"2??\",'Accounting Data'!H2:H93564,\"7??\",'Accounting Data'!I2:I93564,\"2???\",'Accounting Data'!J2:J93564,\"64??\")+SUMIFS('Accounting Data'!C2:C93564,'Accounting Data'!E2:E93564,\"3??\",'Accounting Data'!H2:H93564,\"7??\",'Accounting Data'!I2:I93564,\"2???\",'Accounting Data'!J2:J93564,\"64??\")+SUMIFS('Accounting Data'!C2:C93564,'Accounting Data'!E2:E93564,\"639\",'Accounting Data'!H2:H93564,\"7??\",'Accounting Data'!I2:I93564,\"2???\",'Accounting Data'!J2:J93564,\"64??\")+SUMIFS('Accounting Data'!C2:C93564,'Accounting Data'!E2:E93564,\"699\",'Accounting Data'!H2:H93564,\"7??\",'Accounting Data'!I2:I93564,\"2???\",'Accounting Data'!J2:J93564,\"64??\")+SUMIFS('Accounting Data'!C2:C93564,'Accounting Data'!E2:E93564,\"720\",'Accounting Data'!H2:H93564,\"7??\",'Accounting Data'!I2:I93564,\"2???\",'Accounting Data'!J2:J93564,\"64??\")+SUMIFS('Accounting Data'!C2:C93564,'Accounting Data'!E2:E93564,\"COVID\",'Accounting Data'!H2:H93564,\"7??\",'Accounting Data'!I2:I93564,\"2???\",'Accounting Data'!J2:J93564,\"64??\")","v":0},{"$f":"SUMIFS('Accounting Data'!C2:C93564,'Accounting Data'!E2:E93564,\"1??\",'Accounting Data'!H2:H93564,\"8??\",'Accounting Data'!I2:I93564,\"2???\",'Accounting Data'!J2:J93564,\"64??\")+SUMIFS('Accounting Data'!C2:C93564,'Accounting Data'!E2:E93564,\"2??\",'Accounting Data'!H2:H93564,\"8??\",'Accounting Data'!I2:I93564,\"2???\",'Accounting Data'!J2:J93564,\"64??\")+SUMIFS('Accounting Data'!C2:C93564,'Accounting Data'!E2:E93564,\"3??\",'Accounting Data'!H2:H93564,\"8??\",'Accounting Data'!I2:I93564,\"2???\",'Accounting Data'!J2:J93564,\"64??\")+SUMIFS('Accounting Data'!C2:C93564,'Accounting Data'!E2:E93564,\"639\",'Accounting Data'!H2:H93564,\"8??\",'Accounting Data'!I2:I93564,\"2???\",'Accounting Data'!J2:J93564,\"64??\")+SUMIFS('Accounting Data'!C2:C93564,'Accounting Data'!E2:E93564,\"699\",'Accounting Data'!H2:H93564,\"8??\",'Accounting Data'!I2:I93564,\"2???\",'Accounting Data'!J2:J93564,\"64??\")+SUMIFS('Accounting Data'!C2:C93564,'Accounting Data'!E2:E93564,\"720\",'Accounting Data'!H2:H93564,\"8??\",'Accounting Data'!I2:I93564,\"2???\",'Accounting Data'!J2:J93564,\"64??\")+SUMIFS('Accounting Data'!C2:C93564,'Accounting Data'!E2:E93564,\"COVID\",'Accounting Data'!H2:H93564,\"8??\",'Accounting Data'!I2:I93564,\"2???\",'Accounting Data'!J2:J93564,\"64??\")","v":0},{"$f":"SUMIFS('Accounting Data'!C2:C93564,'Accounting Data'!E2:E93564,\"1??\",'Accounting Data'!H2:H93564,\"9??\",'Accounting Data'!I2:I93564,\"2???\",'Accounting Data'!J2:J93564,\"64??\")+SUMIFS('Accounting Data'!C2:C93564,'Accounting Data'!E2:E93564,\"2??\",'Accounting Data'!H2:H93564,\"9??\",'Accounting Data'!I2:I93564,\"2???\",'Accounting Data'!J2:J93564,\"64??\")+SUMIFS('Accounting Data'!C2:C93564,'Accounting Data'!E2:E93564,\"3??\",'Accounting Data'!H2:H93564,\"9??\",'Accounting Data'!I2:I93564,\"2???\",'Accounting Data'!J2:J93564,\"64??\")+SUMIFS('Accounting Data'!C2:C93564,'Accounting Data'!E2:E93564,\"639\",'Accounting Data'!H2:H93564,\"9??\",'Accounting Data'!I2:I93564,\"2???\",'Accounting Data'!J2:J93564,\"64??\")+SUMIFS('Accounting Data'!C2:C93564,'Accounting Data'!E2:E93564,\"699\",'Accounting Data'!H2:H93564,\"9??\",'Accounting Data'!I2:I93564,\"2???\",'Accounting Data'!J2:J93564,\"64??\")+SUMIFS('Accounting Data'!C2:C93564,'Accounting Data'!E2:E93564,\"720\",'Accounting Data'!H2:H93564,\"9??\",'Accounting Data'!I2:I93564,\"2???\",'Accounting Data'!J2:J93564,\"64??\")+SUMIFS('Accounting Data'!C2:C93564,'Accounting Data'!E2:E93564,\"COVID\",'Accounting Data'!H2:H93564,\"9??\",'Accounting Data'!I2:I93564,\"2???\",'Accounting Data'!J2:J93564,\"64??\")","v":0},{"$f":"SUMIFS('Accounting Data'!C2:C93564,'Accounting Data'!E2:E93564,\"1??\",'Accounting Data'!H2:H93564,\"7??\",'Accounting Data'!I2:I93564,\"3???\",'Accounting Data'!J2:J93564,\"64??\")+SUMIFS('Accounting Data'!C2:C93564,'Accounting Data'!E2:E93564,\"2??\",'Accounting Data'!H2:H93564,\"7??\",'Accounting Data'!I2:I93564,\"3???\",'Accounting Data'!J2:J93564,\"64??\")+SUMIFS('Accounting Data'!C2:C93564,'Accounting Data'!E2:E93564,\"3??\",'Accounting Data'!H2:H93564,\"7??\",'Accounting Data'!I2:I93564,\"3???\",'Accounting Data'!J2:J93564,\"64??\")+SUMIFS('Accounting Data'!C2:C93564,'Accounting Data'!E2:E93564,\"639\",'Accounting Data'!H2:H93564,\"7??\",'Accounting Data'!I2:I93564,\"3???\",'Accounting Data'!J2:J93564,\"64??\")+SUMIFS('Accounting Data'!C2:C93564,'Accounting Data'!E2:E93564,\"699\",'Accounting Data'!H2:H93564,\"7??\",'Accounting Data'!I2:I93564,\"3???\",'Accounting Data'!J2:J93564,\"64??\")+SUMIFS('Accounting Data'!C2:C93564,'Accounting Data'!E2:E93564,\"720\",'Accounting Data'!H2:H93564,\"7??\",'Accounting Data'!I2:I93564,\"3???\",'Accounting Data'!J2:J93564,\"64??\")+SUMIFS('Accounting Data'!C2:C93564,'Accounting Data'!E2:E93564,\"COVID\",'Accounting Data'!H2:H93564,\"7??\",'Accounting Data'!I2:I93564,\"3???\",'Accounting Data'!J2:J93564,\"64??\")","v":0},{"$f":"SUMIFS('Accounting Data'!C2:C93564,'Accounting Data'!E2:E93564,\"1??\",'Accounting Data'!H2:H93564,\"8??\",'Accounting Data'!I2:I93564,\"3???\",'Accounting Data'!J2:J93564,\"64??\")+SUMIFS('Accounting Data'!C2:C93564,'Accounting Data'!E2:E93564,\"2??\",'Accounting Data'!H2:H93564,\"8??\",'Accounting Data'!I2:I93564,\"3???\",'Accounting Data'!J2:J93564,\"64??\")+SUMIFS('Accounting Data'!C2:C93564,'Accounting Data'!E2:E93564,\"3??\",'Accounting Data'!H2:H93564,\"8??\",'Accounting Data'!I2:I93564,\"3???\",'Accounting Data'!J2:J93564,\"64??\")+SUMIFS('Accounting Data'!C2:C93564,'Accounting Data'!E2:E93564,\"639\",'Accounting Data'!H2:H93564,\"8??\",'Accounting Data'!I2:I93564,\"3???\",'Accounting Data'!J2:J93564,\"64??\")+SUMIFS('Accounting Data'!C2:C93564,'Accounting Data'!E2:E93564,\"699\",'Accounting Data'!H2:H93564,\"8??\",'Accounting Data'!I2:I93564,\"3???\",'Accounting Data'!J2:J93564,\"64??\")+SUMIFS('Accounting Data'!C2:C93564,'Accounting Data'!E2:E93564,\"720\",'Accounting Data'!H2:H93564,\"8??\",'Accounting Data'!I2:I93564,\"3???\",'Accounting Data'!J2:J93564,\"64??\")+SUMIFS('Accounting Data'!C2:C93564,'Accounting Data'!E2:E93564,\"COVID\",'Accounting Data'!H2:H93564,\"8??\",'Accounting Data'!I2:I93564,\"3???\",'Accounting Data'!J2:J93564,\"64??\")","v":0},{"$f":"SUMIFS('Accounting Data'!C2:C93564,'Accounting Data'!E2:E93564,\"1??\",'Accounting Data'!H2:H93564,\"9??\",'Accounting Data'!I2:I93564,\"3???\",'Accounting Data'!J2:J93564,\"64??\")+SUMIFS('Accounting Data'!C2:C93564,'Accounting Data'!E2:E93564,\"2??\",'Accounting Data'!H2:H93564,\"9??\",'Accounting Data'!I2:I93564,\"3???\",'Accounting Data'!J2:J93564,\"64??\")+SUMIFS('Accounting Data'!C2:C93564,'Accounting Data'!E2:E93564,\"3??\",'Accounting Data'!H2:H93564,\"9??\",'Accounting Data'!I2:I93564,\"3???\",'Accounting Data'!J2:J93564,\"64??\")+SUMIFS('Accounting Data'!C2:C93564,'Accounting Data'!E2:E93564,\"639\",'Accounting Data'!H2:H93564,\"9??\",'Accounting Data'!I2:I93564,\"3???\",'Accounting Data'!J2:J93564,\"64??\")+SUMIFS('Accounting Data'!C2:C93564,'Accounting Data'!E2:E93564,\"699\",'Accounting Data'!H2:H93564,\"9??\",'Accounting Data'!I2:I93564,\"3???\",'Accounting Data'!J2:J93564,\"64??\")+SUMIFS('Accounting Data'!C2:C93564,'Accounting Data'!E2:E93564,\"720\",'Accounting Data'!H2:H93564,\"9??\",'Accounting Data'!I2:I93564,\"3???\",'Accounting Data'!J2:J93564,\"64??\")+SUMIFS('Accounting Data'!C2:C93564,'Accounting Data'!E2:E93564,\"COVID\",'Accounting Data'!H2:H93564,\"9??\",'Accounting Data'!I2:I93564,\"3???\",'Accounting Data'!J2:J93564,\"64??\")","v":0}]
["1. Regular Education (Programs 100, 280, 520, and 550)",null,null,6671644.4900000002,322682.82,0,330617,"1.","2. Program 800",null,{"$f":"(SUMIFS('Accounting Data'!C2:C93564,'Accounting Data'!H2:H93564,\"8??\",'Accounting Data'!J2:J93564,\"67??\"))-(SUMIFS('Accounting Data'!C2:C93564,'Accounting Data'!E2:E93564,\"575\",'Accounting Data'!H2:H93564,\"8??\",'Accounting Data'!J2:J93564,\"67??\")+SUMIFS('Accounting Data'!C2:C93564,'Accounting Data'!E2:E93564,\"8??\",'Accounting Data'!H2:H93564,\"8??\",'Accounting Data'!J2:J93564,\"67??\")+SUMIFS('Accounting Data'!C2:C93564,'Accounting Data'!E2:E93564,\"9??\",'Accounting Data'!H2:H93564,\"8??\",'Accounting Data'!J2:J93564,\"67??\"))","v":0},{"$f":"(SUMIFS('Accounting Data'!C2:C93564,'Accounting Data'!H2:H93564,\"8??\",'Accounting Data'!J2:J93564,\"6???\"))-(SUMIFS('Accounting Data'!C2:C93564,'Accounting Data'!E2:E93564,\"575\",'Accounting Data'!H2:H93564,\"8??\",'Accounting Data'!J2:J93564,\"6???\")+SUMIFS('Accounting Data'!C2:C93564,'Accounting Data'!E2:E93564,\"8??\",'Accounting Data'!H2:H93564,\"8??\",'Accounting Data'!J2:J93564,\"6???\")+SUMIFS('Accounting Data'!C2:C93564,'Accounting Data'!E2:E93564,\"9??\",'Accounting Data'!H2:H93564,\"8??\",'Accounting Data'!J2:J93564,\"6???\"))-(SUMIFS('Accounting Data'!C2:C93564,'Accounting Data'!H2:H93564,\"8??\",'Accounting Data'!J2:J93564,\"69??\"))+(SUMIFS('Accounting Data'!C2:C93564,'Accounting Data'!E2:E93564,\"575\",'Accounting Data'!H2:H93564,\"8??\",'Accounting Data'!J2:J93564,\"69??\")+SUMIFS('Accounting Data'!C2:C93564,'Accounting Data'!E2:E93564,\"8??\",'Accounting Data'!H2:H93564,\"8??\",'Accounting Data'!J2:J93564,\"69??\")+SUMIFS('Accounting Data'!C2:C93564,'Accounting Data'!E2:E93564,\"9??\",'Accounting Data'!H2:H93564,\"8??\",'Accounting Data'!J2:J93564,\"69??\"))-K35","v":0},{"$f":"K35+L35","v":0},"2.",null,null,null,null,null,null,null,null,null,null,null,6500,{"$f":"SUMIFS('Accounting Data'!C2:C93564,'Accounting Data'!E2:E93564,\"1??\",'Accounting Data'!I2:I93564,\"1???\",'Accounting Data'!J2:J93564,\"65??\")+SUMIFS('Accounting Data'!C2:C93564,'Accounting Data'!E2:E93564,\"2??\",'Accounting Data'!I2:I93564,\"1???\",'Accounting Data'!J2:J93564,\"65??\")+SUMIFS('Accounting Data'!C2:C93564,'Accounting Data'!E2:E93564,\"3??\",'Accounting Data'!I2:I93564,\"1???\",'Accounting Data'!J2:J93564,\"65??\")+SUMIFS('Accounting Data'!C2:C93564,'Accounting Data'!E2:E93564,\"639\",'Accounting Data'!I2:I93564,\"1???\",'Accounting Data'!J2:J93564,\"65??\")+SUMIFS('Accounting Data'!C2:C93564,'Accounting Data'!E2:E93564,\"699\",'Accounting Data'!I2:I93564,\"1???\",'Accounting Data'!J2:J93564,\"65??\")+SUMIFS('Accounting Data'!C2:C93564,'Accounting Data'!E2:E93564,\"720\",'Accounting Data'!I2:I93564,\"1???\",'Accounting Data'!J2:J93564,\"65??\")+SUMIFS('Accounting Data'!C2:C93564,'Accounting Data'!E2:E93564,\"COVID\",'Accounting Data'!I2:I93564,\"1???\",'Accounting Data'!J2:J93564,\"65??\")","v":139494},{"$f":"SUMIFS('Accounting Data'!C2:C93564,'Accounting Data'!E2:E93564,\"1??\",'Accounting Data'!I2:I93564,\"2???\",'Accounting Data'!J2:J93564,\"65??\")+SUMIFS('Accounting Data'!C2:C93564,'Accounting Data'!E2:E93564,\"2??\",'Accounting Data'!I2:I93564,\"2???\",'Accounting Data'!J2:J93564,\"65??\")+SUMIFS('Accounting Data'!C2:C93564,'Accounting Data'!E2:E93564,\"3??\",'Accounting Data'!I2:I93564,\"2???\",'Accounting Data'!J2:J93564,\"65??\")+SUMIFS('Accounting Data'!C2:C93564,'Accounting Data'!E2:E93564,\"639\",'Accounting Data'!I2:I93564,\"2???\",'Accounting Data'!J2:J93564,\"65??\")+SUMIFS('Accounting Data'!C2:C93564,'Accounting Data'!E2:E93564,\"699\",'Accounting Data'!I2:I93564,\"2???\",'Accounting Data'!J2:J93564,\"65??\")+SUMIFS('Accounting Data'!C2:C93564,'Accounting Data'!E2:E93564,\"720\",'Accounting Data'!I2:I93564,\"2???\",'Accounting Data'!J2:J93564,\"65??\")+SUMIFS('Accounting Data'!C2:C93564,'Accounting Data'!E2:E93564,\"COVID\",'Accounting Data'!I2:I93564,\"2???\",'Accounting Data'!J2:J93564,\"65??\")","v":200582},{"$f":"SUMIFS('Accounting Data'!C2:C93564,'Accounting Data'!E2:E93564,\"1??\",'Accounting Data'!I2:I93564,\"3???\",'Accounting Data'!J2:J93564,\"65??\")+SUMIFS('Accounting Data'!C2:C93564,'Accounting Data'!E2:E93564,\"2??\",'Accounting Data'!I2:I93564,\"3???\",'Accounting Data'!J2:J93564,\"65??\")+SUMIFS('Accounting Data'!C2:C93564,'Accounting Data'!E2:E93564,\"3??\",'Accounting Data'!I2:I93564,\"3???\",'Accounting Data'!J2:J93564,\"65??\")+SUMIFS('Accounting Data'!C2:C93564,'Accounting Data'!E2:E93564,\"639\",'Accounting Data'!I2:I93564,\"3???\",'Accounting Data'!J2:J93564,\"65??\")+SUMIFS('Accounting Data'!C2:C93564,'Accounting Data'!E2:E93564,\"699\",'Accounting Data'!I2:I93564,\"3???\",'Accounting Data'!J2:J93564,\"65??\")+SUMIFS('Accounting Data'!C2:C93564,'Accounting Data'!E2:E93564,\"720\",'Accounting Data'!I2:I93564,\"3???\",'Accounting Data'!J2:J93564,\"65??\")+SUMIFS('Accounting Data'!C2:C93564,'Accounting Data'!E2:E93564,\"COVID\",'Accounting Data'!I2:I93564,\"3???\",'Accounting Data'!J2:J93564,\"65??\")","v":0},{"$f":"SUMIFS('Accounting Data'!C2:C93564,'Accounting Data'!E2:E93564,\"1??\",'Accounting Data'!H2:H93564,\"7??\",'Accounting Data'!I2:I93564,\"1???\",'Accounting Data'!J2:J93564,\"65??\")+SUMIFS('Accounting Data'!C2:C93564,'Accounting Data'!E2:E93564,\"2??\",'Accounting Data'!H2:H93564,\"7??\",'Accounting Data'!I2:I93564,\"1???\",'Accounting Data'!J2:J93564,\"65??\")+SUMIFS('Accounting Data'!C2:C93564,'Accounting Data'!E2:E93564,\"3??\",'Accounting Data'!H2:H93564,\"7??\",'Accounting Data'!I2:I93564,\"1???\",'Accounting Data'!J2:J93564,\"65??\")+SUMIFS('Accounting Data'!C2:C93564,'Accounting Data'!E2:E93564,\"639\",'Accounting Data'!H2:H93564,\"7??\",'Accounting Data'!I2:I93564,\"1???\",'Accounting Data'!J2:J93564,\"65??\")+SUMIFS('Accounting Data'!C2:C93564,'Accounting Data'!E2:E93564,\"699\",'Accounting Data'!H2:H93564,\"7??\",'Accounting Data'!I2:I93564,\"1???\",'Accounting Data'!J2:J93564,\"65??\")+SUMIFS('Accounting Data'!C2:C93564,'Accounting Data'!E2:E93564,\"720\",'Accounting Data'!H2:H93564,\"7??\",'Accounting Data'!I2:I93564,\"1???\",'Accounting Data'!J2:J93564,\"65??\")+SUMIFS('Accounting Data'!C2:C93564,'Accounting Data'!E2:E93564,\"COVID\",'Accounting Data'!H2:H93564,\"7??\",'Accounting Data'!I2:I93564,\"1???\",'Accounting Data'!J2:J93564,\"65??\")","v":0},{"$f":"SUMIFS('Accounting Data'!C2:C93564,'Accounting Data'!E2:E93564,\"1??\",'Accounting Data'!H2:H93564,\"8??\",'Accounting Data'!I2:I93564,\"1???\",'Accounting Data'!J2:J93564,\"65??\")+SUMIFS('Accounting Data'!C2:C93564,'Accounting Data'!E2:E93564,\"2??\",'Accounting Data'!H2:H93564,\"8??\",'Accounting Data'!I2:I93564,\"1???\",'Accounting Data'!J2:J93564,\"65??\")+SUMIFS('Accounting Data'!C2:C93564,'Accounting Data'!E2:E93564,\"3??\",'Accounting Data'!H2:H93564,\"8??\",'Accounting Data'!I2:I93564,\"1???\",'Accounting Data'!J2:J93564,\"65??\")+SUMIFS('Accounting Data'!C2:C93564,'Accounting Data'!E2:E93564,\"639\",'Accounting Data'!H2:H93564,\"8??\",'Accounting Data'!I2:I93564,\"1???\",'Accounting Data'!J2:J93564,\"65??\")+SUMIFS('Accounting Data'!C2:C93564,'Accounting Data'!E2:E93564,\"699\",'Accounting Data'!H2:H93564,\"8??\",'Accounting Data'!I2:I93564,\"1???\",'Accounting Data'!J2:J93564,\"65??\")+SUMIFS('Accounting Data'!C2:C93564,'Accounting Data'!E2:E93564,\"720\",'Accounting Data'!H2:H93564,\"8??\",'Accounting Data'!I2:I93564,\"1???\",'Accounting Data'!J2:J93564,\"65??\")+SUMIFS('Accounting Data'!C2:C93564,'Accounting Data'!E2:E93564,\"COVID\",'Accounting Data'!H2:H93564,\"8??\",'Accounting Data'!I2:I93564,\"1???\",'Accounting Data'!J2:J93564,\"65??\")","v":0},{"$f":"SUMIFS('Accounting Data'!C2:C93564,'Accounting Data'!E2:E93564,\"1??\",'Accounting Data'!H2:H93564,\"9??\",'Accounting Data'!I2:I93564,\"1???\",'Accounting Data'!J2:J93564,\"65??\")+SUMIFS('Accounting Data'!C2:C93564,'Accounting Data'!E2:E93564,\"2??\",'Accounting Data'!H2:H93564,\"9??\",'Accounting Data'!I2:I93564,\"1???\",'Accounting Data'!J2:J93564,\"65??\")+SUMIFS('Accounting Data'!C2:C93564,'Accounting Data'!E2:E93564,\"3??\",'Accounting Data'!H2:H93564,\"9??\",'Accounting Data'!I2:I93564,\"1???\",'Accounting Data'!J2:J93564,\"65??\")+SUMIFS('Accounting Data'!C2:C93564,'Accounting Data'!E2:E93564,\"639\",'Accounting Data'!H2:H93564,\"9??\",'Accounting Data'!I2:I93564,\"1???\",'Accounting Data'!J2:J93564,\"65??\")+SUMIFS('Accounting Data'!C2:C93564,'Accounting Data'!E2:E93564,\"699\",'Accounting Data'!H2:H93564,\"9??\",'Accounting Data'!I2:I93564,\"1???\",'Accounting Data'!J2:J93564,\"65??\")+SUMIFS('Accounting Data'!C2:C93564,'Accounting Data'!E2:E93564,\"720\",'Accounting Data'!H2:H93564,\"9??\",'Accounting Data'!I2:I93564,\"1???\",'Accounting Data'!J2:J93564,\"65??\")+SUMIFS('Accounting Data'!C2:C93564,'Accounting Data'!E2:E93564,\"COVID\",'Accounting Data'!H2:H93564,\"9??\",'Accounting Data'!I2:I93564,\"1???\",'Accounting Data'!J2:J93564,\"65??\")","v":0},{"$f":"SUMIFS('Accounting Data'!C2:C93564,'Accounting Data'!E2:E93564,\"1??\",'Accounting Data'!H2:H93564,\"7??\",'Accounting Data'!I2:I93564,\"2???\",'Accounting Data'!J2:J93564,\"65??\")+SUMIFS('Accounting Data'!C2:C93564,'Accounting Data'!E2:E93564,\"2??\",'Accounting Data'!H2:H93564,\"7??\",'Accounting Data'!I2:I93564,\"2???\",'Accounting Data'!J2:J93564,\"65??\")+SUMIFS('Accounting Data'!C2:C93564,'Accounting Data'!E2:E93564,\"3??\",'Accounting Data'!H2:H93564,\"7??\",'Accounting Data'!I2:I93564,\"2???\",'Accounting Data'!J2:J93564,\"65??\")+SUMIFS('Accounting Data'!C2:C93564,'Accounting Data'!E2:E93564,\"639\",'Accounting Data'!H2:H93564,\"7??\",'Accounting Data'!I2:I93564,\"2???\",'Accounting Data'!J2:J93564,\"65??\")+SUMIFS('Accounting Data'!C2:C93564,'Accounting Data'!E2:E93564,\"699\",'Accounting Data'!H2:H93564,\"7??\",'Accounting Data'!I2:I93564,\"2???\",'Accounting Data'!J2:J93564,\"65??\")+SUMIFS('Accounting Data'!C2:C93564,'Accounting Data'!E2:E93564,\"720\",'Accounting Data'!H2:H93564,\"7??\",'Accounting Data'!I2:I93564,\"2???\",'Accounting Data'!J2:J93564,\"65??\")+SUMIFS('Accounting Data'!C2:C93564,'Accounting Data'!E2:E93564,\"COVID\",'Accounting Data'!H2:H93564,\"7??\",'Accounting Data'!I2:I93564,\"2???\",'Accounting Data'!J2:J93564,\"65??\")","v":0},{"$f":"SUMIFS('Accounting Data'!C2:C93564,'Accounting Data'!E2:E93564,\"1??\",'Accounting Data'!H2:H93564,\"8??\",'Accounting Data'!I2:I93564,\"2???\",'Accounting Data'!J2:J93564,\"65??\")+SUMIFS('Accounting Data'!C2:C93564,'Accounting Data'!E2:E93564,\"2??\",'Accounting Data'!H2:H93564,\"8??\",'Accounting Data'!I2:I93564,\"2???\",'Accounting Data'!J2:J93564,\"65??\")+SUMIFS('Accounting Data'!C2:C93564,'Accounting Data'!E2:E93564,\"3??\",'Accounting Data'!H2:H93564,\"8??\",'Accounting Data'!I2:I93564,\"2???\",'Accounting Data'!J2:J93564,\"65??\")+SUMIFS('Accounting Data'!C2:C93564,'Accounting Data'!E2:E93564,\"639\",'Accounting Data'!H2:H93564,\"8??\",'Accounting Data'!I2:I93564,\"2???\",'Accounting Data'!J2:J93564,\"65??\")+SUMIFS('Accounting Data'!C2:C93564,'Accounting Data'!E2:E93564,\"699\",'Accounting Data'!H2:H93564,\"8??\",'Accounting Data'!I2:I93564,\"2???\",'Accounting Data'!J2:J93564,\"65??\")+SUMIFS('Accounting Data'!C2:C93564,'Accounting Data'!E2:E93564,\"720\",'Accounting Data'!H2:H93564,\"8??\",'Accounting Data'!I2:I93564,\"2???\",'Accounting Data'!J2:J93564,\"65??\")+SUMIFS('Accounting Data'!C2:C93564,'Accounting Data'!E2:E93564,\"COVID\",'Accounting Data'!H2:H93564,\"8??\",'Accounting Data'!I2:I93564,\"2???\",'Accounting Data'!J2:J93564,\"65??\")","v":0},{"$f":"SUMIFS('Accounting Data'!C2:C93564,'Accounting Data'!E2:E93564,\"1??\",'Accounting Data'!H2:H93564,\"9??\",'Accounting Data'!I2:I93564,\"2???\",'Accounting Data'!J2:J93564,\"65??\")+SUMIFS('Accounting Data'!C2:C93564,'Accounting Data'!E2:E93564,\"2??\",'Accounting Data'!H2:H93564,\"9??\",'Accounting Data'!I2:I93564,\"2???\",'Accounting Data'!J2:J93564,\"65??\")+SUMIFS('Accounting Data'!C2:C93564,'Accounting Data'!E2:E93564,\"3??\",'Accounting Data'!H2:H93564,\"9??\",'Accounting Data'!I2:I93564,\"2???\",'Accounting Data'!J2:J93564,\"65??\")+SUMIFS('Accounting Data'!C2:C93564,'Accounting Data'!E2:E93564,\"639\",'Accounting Data'!H2:H93564,\"9??\",'Accounting Data'!I2:I93564,\"2???\",'Accounting Data'!J2:J93564,\"65??\")+SUMIFS('Accounting Data'!C2:C93564,'Accounting Data'!E2:E93564,\"699\",'Accounting Data'!H2:H93564,\"9??\",'Accounting Data'!I2:I93564,\"2???\",'Accounting Data'!J2:J93564,\"65??\")+SUMIFS('Accounting Data'!C2:C93564,'Accounting Data'!E2:E93564,\"720\",'Accounting Data'!H2:H93564,\"9??\",'Accounting Data'!I2:I93564,\"2???\",'Accounting Data'!J2:J93564,\"65??\")+SUMIFS('Accounting Data'!C2:C93564,'Accounting Data'!E2:E93564,\"COVID\",'Accounting Data'!H2:H93564,\"9??\",'Accounting Data'!I2:I93564,\"2???\",'Accounting Data'!J2:J93564,\"65??\")","v":0},{"$f":"SUMIFS('Accounting Data'!C2:C93564,'Accounting Data'!E2:E93564,\"1??\",'Accounting Data'!H2:H93564,\"7??\",'Accounting Data'!I2:I93564,\"3???\",'Accounting Data'!J2:J93564,\"65??\")+SUMIFS('Accounting Data'!C2:C93564,'Accounting Data'!E2:E93564,\"2??\",'Accounting Data'!H2:H93564,\"7??\",'Accounting Data'!I2:I93564,\"3???\",'Accounting Data'!J2:J93564,\"65??\")+SUMIFS('Accounting Data'!C2:C93564,'Accounting Data'!E2:E93564,\"3??\",'Accounting Data'!H2:H93564,\"7??\",'Accounting Data'!I2:I93564,\"3???\",'Accounting Data'!J2:J93564,\"65??\")+SUMIFS('Accounting Data'!C2:C93564,'Accounting Data'!E2:E93564,\"639\",'Accounting Data'!H2:H93564,\"7??\",'Accounting Data'!I2:I93564,\"3???\",'Accounting Data'!J2:J93564,\"65??\")+SUMIFS('Accounting Data'!C2:C93564,'Accounting Data'!E2:E93564,\"699\",'Accounting Data'!H2:H93564,\"7??\",'Accounting Data'!I2:I93564,\"3???\",'Accounting Data'!J2:J93564,\"65??\")+SUMIFS('Accounting Data'!C2:C93564,'Accounting Data'!E2:E93564,\"720\",'Accounting Data'!H2:H93564,\"7??\",'Accounting Data'!I2:I93564,\"3???\",'Accounting Data'!J2:J93564,\"65??\")+SUMIFS('Accounting Data'!C2:C93564,'Accounting Data'!E2:E93564,\"COVID\",'Accounting Data'!H2:H93564,\"7??\",'Accounting Data'!I2:I93564,\"3???\",'Accounting Data'!J2:J93564,\"65??\")","v":0},{"$f":"SUMIFS('Accounting Data'!C2:C93564,'Accounting Data'!E2:E93564,\"1??\",'Accounting Data'!H2:H93564,\"8??\",'Accounting Data'!I2:I93564,\"3???\",'Accounting Data'!J2:J93564,\"65??\")+SUMIFS('Accounting Data'!C2:C93564,'Accounting Data'!E2:E93564,\"2??\",'Accounting Data'!H2:H93564,\"8??\",'Accounting Data'!I2:I93564,\"3???\",'Accounting Data'!J2:J93564,\"65??\")+SUMIFS('Accounting Data'!C2:C93564,'Accounting Data'!E2:E93564,\"3??\",'Accounting Data'!H2:H93564,\"8??\",'Accounting Data'!I2:I93564,\"3???\",'Accounting Data'!J2:J93564,\"65??\")+SUMIFS('Accounting Data'!C2:C93564,'Accounting Data'!E2:E93564,\"639\",'Accounting Data'!H2:H93564,\"8??\",'Accounting Data'!I2:I93564,\"3???\",'Accounting Data'!J2:J93564,\"65??\")+SUMIFS('Accounting Data'!C2:C93564,'Accounting Data'!E2:E93564,\"699\",'Accounting Data'!H2:H93564,\"8??\",'Accounting Data'!I2:I93564,\"3???\",'Accounting Data'!J2:J93564,\"65??\")+SUMIFS('Accounting Data'!C2:C93564,'Accounting Data'!E2:E93564,\"720\",'Accounting Data'!H2:H93564,\"8??\",'Accounting Data'!I2:I93564,\"3???\",'Accounting Data'!J2:J93564,\"65??\")+SUMIFS('Accounting Data'!C2:C93564,'Accounting Data'!E2:E93564,\"COVID\",'Accounting Data'!H2:H93564,\"8??\",'Accounting Data'!I2:I93564,\"3???\",'Accounting Data'!J2:J93564,\"65??\")","v":0},{"$f":"SUMIFS('Accounting Data'!C2:C93564,'Accounting Data'!E2:E93564,\"1??\",'Accounting Data'!H2:H93564,\"9??\",'Accounting Data'!I2:I93564,\"3???\",'Accounting Data'!J2:J93564,\"65??\")+SUMIFS('Accounting Data'!C2:C93564,'Accounting Data'!E2:E93564,\"2??\",'Accounting Data'!H2:H93564,\"9??\",'Accounting Data'!I2:I93564,\"3???\",'Accounting Data'!J2:J93564,\"65??\")+SUMIFS('Accounting Data'!C2:C93564,'Accounting Data'!E2:E93564,\"3??\",'Accounting Data'!H2:H93564,\"9??\",'Accounting Data'!I2:I93564,\"3???\",'Accounting Data'!J2:J93564,\"65??\")+SUMIFS('Accounting Data'!C2:C93564,'Accounting Data'!E2:E93564,\"639\",'Accounting Data'!H2:H93564,\"9??\",'Accounting Data'!I2:I93564,\"3???\",'Accounting Data'!J2:J93564,\"65??\")+SUMIFS('Accounting Data'!C2:C93564,'Accounting Data'!E2:E93564,\"699\",'Accounting Data'!H2:H93564,\"9??\",'Accounting Data'!I2:I93564,\"3???\",'Accounting Data'!J2:J93564,\"65??\")+SUMIFS('Accounting Data'!C2:C93564,'Accounting Data'!E2:E93564,\"720\",'Accounting Data'!H2:H93564,\"9??\",'Accounting Data'!I2:I93564,\"3???\",'Accounting Data'!J2:J93564,\"65??\")+SUMIFS('Accounting Data'!C2:C93564,'Accounting Data'!E2:E93564,\"COVID\",'Accounting Data'!H2:H93564,\"9??\",'Accounting Data'!I2:I93564,\"3???\",'Accounting Data'!J2:J93564,\"65??\")","v":0}]
["2. Special Education (Programs 200-230, 250, 512, 514, and 515)",null,null,1163488.05,75888.740000000005,193665.54,0,"2.","3. Program 900",null,{"$f":"(SUMIFS('Accounting Data'!C2:C93564,'Accounting Data'!H2:H93564,\"9??\",'Accounting Data'!J2:J93564,\"67??\"))-(SUMIFS('Accounting Data'!C2:C93564,'Accounting Data'!E2:E93564,\"575\",'Accounting Data'!H2:H93564,\"9??\",'Accounting Data'!J2:J93564,\"67??\")+SUMIFS('Accounting Data'!C2:C93564,'Accounting Data'!E2:E93564,\"8??\",'Accounting Data'!H2:H93564,\"9??\",'Accounting Data'!J2:J93564,\"67??\")+SUMIFS('Accounting Data'!C2:C93564,'Accounting Data'!E2:E93564,\"9??\",'Accounting Data'!H2:H93564,\"9??\",'Accounting Data'!J2:J93564,\"67??\"))","v":0},{"$f":"(SUMIFS('Accounting Data'!C2:C93564,'Accounting Data'!H2:H93564,\"9??\",'Accounting Data'!J2:J93564,\"6???\"))-(SUMIFS('Accounting Data'!C2:C93564,'Accounting Data'!E2:E93564,\"575\",'Accounting Data'!H2:H93564,\"9??\",'Accounting Data'!J2:J93564,\"6???\")+SUMIFS('Accounting Data'!C2:C93564,'Accounting Data'!E2:E93564,\"8??\",'Accounting Data'!H2:H93564,\"9??\",'Accounting Data'!J2:J93564,\"6???\")+SUMIFS('Accounting Data'!C2:C93564,'Accounting Data'!E2:E93564,\"9??\",'Accounting Data'!H2:H93564,\"9??\",'Accounting Data'!J2:J93564,\"6???\"))-(SUMIFS('Accounting Data'!C2:C93564,'Accounting Data'!H2:H93564,\"9??\",'Accounting Data'!J2:J93564,\"69??\"))+(SUMIFS('Accounting Data'!C2:C93564,'Accounting Data'!E2:E93564,\"575\",'Accounting Data'!H2:H93564,\"9??\",'Accounting Data'!J2:J93564,\"69??\")+SUMIFS('Accounting Data'!C2:C93564,'Accounting Data'!E2:E93564,\"8??\",'Accounting Data'!H2:H93564,\"9??\",'Accounting Data'!J2:J93564,\"69??\")+SUMIFS('Accounting Data'!C2:C93564,'Accounting Data'!E2:E93564,\"9??\",'Accounting Data'!H2:H93564,\"9??\",'Accounting Data'!J2:J93564,\"69??\"))-K36","v":0},{"$f":"K36+L36","v":0},"3.",null,null,null,null,null,null,null,null,null,null,null,6600,{"$f":"SUMIFS('Accounting Data'!C2:C93564,'Accounting Data'!E2:E93564,\"1??\",'Accounting Data'!I2:I93564,\"1???\",'Accounting Data'!J2:J93564,\"66??\")+SUMIFS('Accounting Data'!C2:C93564,'Accounting Data'!E2:E93564,\"2??\",'Accounting Data'!I2:I93564,\"1???\",'Accounting Data'!J2:J93564,\"66??\")+SUMIFS('Accounting Data'!C2:C93564,'Accounting Data'!E2:E93564,\"3??\",'Accounting Data'!I2:I93564,\"1???\",'Accounting Data'!J2:J93564,\"66??\")+SUMIFS('Accounting Data'!C2:C93564,'Accounting Data'!E2:E93564,\"639\",'Accounting Data'!I2:I93564,\"1???\",'Accounting Data'!J2:J93564,\"66??\")+SUMIFS('Accounting Data'!C2:C93564,'Accounting Data'!E2:E93564,\"699\",'Accounting Data'!I2:I93564,\"1???\",'Accounting Data'!J2:J93564,\"66??\")+SUMIFS('Accounting Data'!C2:C93564,'Accounting Data'!E2:E93564,\"720\",'Accounting Data'!I2:I93564,\"1???\",'Accounting Data'!J2:J93564,\"66??\")+SUMIFS('Accounting Data'!C2:C93564,'Accounting Data'!E2:E93564,\"COVID\",'Accounting Data'!I2:I93564,\"1???\",'Accounting Data'!J2:J93564,\"66??\")","v":134218},{"$f":"SUMIFS('Accounting Data'!C2:C93564,'Accounting Data'!E2:E93564,\"1??\",'Accounting Data'!I2:I93564,\"2???\",'Accounting Data'!J2:J93564,\"66??\")+SUMIFS('Accounting Data'!C2:C93564,'Accounting Data'!E2:E93564,\"2??\",'Accounting Data'!I2:I93564,\"2???\",'Accounting Data'!J2:J93564,\"66??\")+SUMIFS('Accounting Data'!C2:C93564,'Accounting Data'!E2:E93564,\"3??\",'Accounting Data'!I2:I93564,\"2???\",'Accounting Data'!J2:J93564,\"66??\")+SUMIFS('Accounting Data'!C2:C93564,'Accounting Data'!E2:E93564,\"639\",'Accounting Data'!I2:I93564,\"2???\",'Accounting Data'!J2:J93564,\"66??\")+SUMIFS('Accounting Data'!C2:C93564,'Accounting Data'!E2:E93564,\"699\",'Accounting Data'!I2:I93564,\"2???\",'Accounting Data'!J2:J93564,\"66??\")+SUMIFS('Accounting Data'!C2:C93564,'Accounting Data'!E2:E93564,\"720\",'Accounting Data'!I2:I93564,\"2???\",'Accounting Data'!J2:J93564,\"66??\")+SUMIFS('Accounting Data'!C2:C93564,'Accounting Data'!E2:E93564,\"COVID\",'Accounting Data'!I2:I93564,\"2???\",'Accounting Data'!J2:J93564,\"66??\")","v":96307},{"$f":"SUMIFS('Accounting Data'!C2:C93564,'Accounting Data'!E2:E93564,\"1??\",'Accounting Data'!I2:I93564,\"3???\",'Accounting Data'!J2:J93564,\"66??\")+SUMIFS('Accounting Data'!C2:C93564,'Accounting Data'!E2:E93564,\"2??\",'Accounting Data'!I2:I93564,\"3???\",'Accounting Data'!J2:J93564,\"66??\")+SUMIFS('Accounting Data'!C2:C93564,'Accounting Data'!E2:E93564,\"3??\",'Accounting Data'!I2:I93564,\"3???\",'Accounting Data'!J2:J93564,\"66??\")+SUMIFS('Accounting Data'!C2:C93564,'Accounting Data'!E2:E93564,\"639\",'Accounting Data'!I2:I93564,\"3???\",'Accounting Data'!J2:J93564,\"66??\")+SUMIFS('Accounting Data'!C2:C93564,'Accounting Data'!E2:E93564,\"699\",'Accounting Data'!I2:I93564,\"3???\",'Accounting Data'!J2:J93564,\"66??\")+SUMIFS('Accounting Data'!C2:C93564,'Accounting Data'!E2:E93564,\"720\",'Accounting Data'!I2:I93564,\"3???\",'Accounting Data'!J2:J93564,\"66??\")+SUMIFS('Accounting Data'!C2:C93564,'Accounting Data'!E2:E93564,\"COVID\",'Accounting Data'!I2:I93564,\"3???\",'Accounting Data'!J2:J93564,\"66??\")","v":0},{"$f":"SUMIFS('Accounting Data'!C2:C93564,'Accounting Data'!E2:E93564,\"1??\",'Accounting Data'!H2:H93564,\"7??\",'Accounting Data'!I2:I93564,\"1???\",'Accounting Data'!J2:J93564,\"66??\")+SUMIFS('Accounting Data'!C2:C93564,'Accounting Data'!E2:E93564,\"2??\",'Accounting Data'!H2:H93564,\"7??\",'Accounting Data'!I2:I93564,\"1???\",'Accounting Data'!J2:J93564,\"66??\")+SUMIFS('Accounting Data'!C2:C93564,'Accounting Data'!E2:E93564,\"3??\",'Accounting Data'!H2:H93564,\"7??\",'Accounting Data'!I2:I93564,\"1???\",'Accounting Data'!J2:J93564,\"66??\")+SUMIFS('Accounting Data'!C2:C93564,'Accounting Data'!E2:E93564,\"639\",'Accounting Data'!H2:H93564,\"7??\",'Accounting Data'!I2:I93564,\"1???\",'Accounting Data'!J2:J93564,\"66??\")+SUMIFS('Accounting Data'!C2:C93564,'Accounting Data'!E2:E93564,\"699\",'Accounting Data'!H2:H93564,\"7??\",'Accounting Data'!I2:I93564,\"1???\",'Accounting Data'!J2:J93564,\"66??\")+SUMIFS('Accounting Data'!C2:C93564,'Accounting Data'!E2:E93564,\"720\",'Accounting Data'!H2:H93564,\"7??\",'Accounting Data'!I2:I93564,\"1???\",'Accounting Data'!J2:J93564,\"66??\")+SUMIFS('Accounting Data'!C2:C93564,'Accounting Data'!E2:E93564,\"COVID\",'Accounting Data'!H2:H93564,\"7??\",'Accounting Data'!I2:I93564,\"1???\",'Accounting Data'!J2:J93564,\"66??\")","v":0},{"$f":"SUMIFS('Accounting Data'!C2:C93564,'Accounting Data'!E2:E93564,\"1??\",'Accounting Data'!H2:H93564,\"8??\",'Accounting Data'!I2:I93564,\"1???\",'Accounting Data'!J2:J93564,\"66??\")+SUMIFS('Accounting Data'!C2:C93564,'Accounting Data'!E2:E93564,\"2??\",'Accounting Data'!H2:H93564,\"8??\",'Accounting Data'!I2:I93564,\"1???\",'Accounting Data'!J2:J93564,\"66??\")+SUMIFS('Accounting Data'!C2:C93564,'Accounting Data'!E2:E93564,\"3??\",'Accounting Data'!H2:H93564,\"8??\",'Accounting Data'!I2:I93564,\"1???\",'Accounting Data'!J2:J93564,\"66??\")+SUMIFS('Accounting Data'!C2:C93564,'Accounting Data'!E2:E93564,\"639\",'Accounting Data'!H2:H93564,\"8??\",'Accounting Data'!I2:I93564,\"1???\",'Accounting Data'!J2:J93564,\"66??\")+SUMIFS('Accounting Data'!C2:C93564,'Accounting Data'!E2:E93564,\"699\",'Accounting Data'!H2:H93564,\"8??\",'Accounting Data'!I2:I93564,\"1???\",'Accounting Data'!J2:J93564,\"66??\")+SUMIFS('Accounting Data'!C2:C93564,'Accounting Data'!E2:E93564,\"720\",'Accounting Data'!H2:H93564,\"8??\",'Accounting Data'!I2:I93564,\"1???\",'Accounting Data'!J2:J93564,\"66??\")+SUMIFS('Accounting Data'!C2:C93564,'Accounting Data'!E2:E93564,\"COVID\",'Accounting Data'!H2:H93564,\"8??\",'Accounting Data'!I2:I93564,\"1???\",'Accounting Data'!J2:J93564,\"66??\")","v":0},{"$f":"SUMIFS('Accounting Data'!C2:C93564,'Accounting Data'!E2:E93564,\"1??\",'Accounting Data'!H2:H93564,\"9??\",'Accounting Data'!I2:I93564,\"1???\",'Accounting Data'!J2:J93564,\"66??\")+SUMIFS('Accounting Data'!C2:C93564,'Accounting Data'!E2:E93564,\"2??\",'Accounting Data'!H2:H93564,\"9??\",'Accounting Data'!I2:I93564,\"1???\",'Accounting Data'!J2:J93564,\"66??\")+SUMIFS('Accounting Data'!C2:C93564,'Accounting Data'!E2:E93564,\"3??\",'Accounting Data'!H2:H93564,\"9??\",'Accounting Data'!I2:I93564,\"1???\",'Accounting Data'!J2:J93564,\"66??\")+SUMIFS('Accounting Data'!C2:C93564,'Accounting Data'!E2:E93564,\"639\",'Accounting Data'!H2:H93564,\"9??\",'Accounting Data'!I2:I93564,\"1???\",'Accounting Data'!J2:J93564,\"66??\")+SUMIFS('Accounting Data'!C2:C93564,'Accounting Data'!E2:E93564,\"699\",'Accounting Data'!H2:H93564,\"9??\",'Accounting Data'!I2:I93564,\"1???\",'Accounting Data'!J2:J93564,\"66??\")+SUMIFS('Accounting Data'!C2:C93564,'Accounting Data'!E2:E93564,\"720\",'Accounting Data'!H2:H93564,\"9??\",'Accounting Data'!I2:I93564,\"1???\",'Accounting Data'!J2:J93564,\"66??\")+SUMIFS('Accounting Data'!C2:C93564,'Accounting Data'!E2:E93564,\"COVID\",'Accounting Data'!H2:H93564,\"9??\",'Accounting Data'!I2:I93564,\"1???\",'Accounting Data'!J2:J93564,\"66??\")","v":0},{"$f":"SUMIFS('Accounting Data'!C2:C93564,'Accounting Data'!E2:E93564,\"1??\",'Accounting Data'!H2:H93564,\"7??\",'Accounting Data'!I2:I93564,\"2???\",'Accounting Data'!J2:J93564,\"66??\")+SUMIFS('Accounting Data'!C2:C93564,'Accounting Data'!E2:E93564,\"2??\",'Accounting Data'!H2:H93564,\"7??\",'Accounting Data'!I2:I93564,\"2???\",'Accounting Data'!J2:J93564,\"66??\")+SUMIFS('Accounting Data'!C2:C93564,'Accounting Data'!E2:E93564,\"3??\",'Accounting Data'!H2:H93564,\"7??\",'Accounting Data'!I2:I93564,\"2???\",'Accounting Data'!J2:J93564,\"66??\")+SUMIFS('Accounting Data'!C2:C93564,'Accounting Data'!E2:E93564,\"639\",'Accounting Data'!H2:H93564,\"7??\",'Accounting Data'!I2:I93564,\"2???\",'Accounting Data'!J2:J93564,\"66??\")+SUMIFS('Accounting Data'!C2:C93564,'Accounting Data'!E2:E93564,\"699\",'Accounting Data'!H2:H93564,\"7??\",'Accounting Data'!I2:I93564,\"2???\",'Accounting Data'!J2:J93564,\"66??\")+SUMIFS('Accounting Data'!C2:C93564,'Accounting Data'!E2:E93564,\"720\",'Accounting Data'!H2:H93564,\"7??\",'Accounting Data'!I2:I93564,\"2???\",'Accounting Data'!J2:J93564,\"66??\")+SUMIFS('Accounting Data'!C2:C93564,'Accounting Data'!E2:E93564,\"COVID\",'Accounting Data'!H2:H93564,\"7??\",'Accounting Data'!I2:I93564,\"2???\",'Accounting Data'!J2:J93564,\"66??\")","v":0},{"$f":"SUMIFS('Accounting Data'!C2:C93564,'Accounting Data'!E2:E93564,\"1??\",'Accounting Data'!H2:H93564,\"8??\",'Accounting Data'!I2:I93564,\"2???\",'Accounting Data'!J2:J93564,\"66??\")+SUMIFS('Accounting Data'!C2:C93564,'Accounting Data'!E2:E93564,\"2??\",'Accounting Data'!H2:H93564,\"8??\",'Accounting Data'!I2:I93564,\"2???\",'Accounting Data'!J2:J93564,\"66??\")+SUMIFS('Accounting Data'!C2:C93564,'Accounting Data'!E2:E93564,\"3??\",'Accounting Data'!H2:H93564,\"8??\",'Accounting Data'!I2:I93564,\"2???\",'Accounting Data'!J2:J93564,\"66??\")+SUMIFS('Accounting Data'!C2:C93564,'Accounting Data'!E2:E93564,\"639\",'Accounting Data'!H2:H93564,\"8??\",'Accounting Data'!I2:I93564,\"2???\",'Accounting Data'!J2:J93564,\"66??\")+SUMIFS('Accounting Data'!C2:C93564,'Accounting Data'!E2:E93564,\"699\",'Accounting Data'!H2:H93564,\"8??\",'Accounting Data'!I2:I93564,\"2???\",'Accounting Data'!J2:J93564,\"66??\")+SUMIFS('Accounting Data'!C2:C93564,'Accounting Data'!E2:E93564,\"720\",'Accounting Data'!H2:H93564,\"8??\",'Accounting Data'!I2:I93564,\"2???\",'Accounting Data'!J2:J93564,\"66??\")+SUMIFS('Accounting Data'!C2:C93564,'Accounting Data'!E2:E93564,\"COVID\",'Accounting Data'!H2:H93564,\"8??\",'Accounting Data'!I2:I93564,\"2???\",'Accounting Data'!J2:J93564,\"66??\")","v":0},{"$f":"SUMIFS('Accounting Data'!C2:C93564,'Accounting Data'!E2:E93564,\"1??\",'Accounting Data'!H2:H93564,\"9??\",'Accounting Data'!I2:I93564,\"2???\",'Accounting Data'!J2:J93564,\"66??\")+SUMIFS('Accounting Data'!C2:C93564,'Accounting Data'!E2:E93564,\"2??\",'Accounting Data'!H2:H93564,\"9??\",'Accounting Data'!I2:I93564,\"2???\",'Accounting Data'!J2:J93564,\"66??\")+SUMIFS('Accounting Data'!C2:C93564,'Accounting Data'!E2:E93564,\"3??\",'Accounting Data'!H2:H93564,\"9??\",'Accounting Data'!I2:I93564,\"2???\",'Accounting Data'!J2:J93564,\"66??\")+SUMIFS('Accounting Data'!C2:C93564,'Accounting Data'!E2:E93564,\"639\",'Accounting Data'!H2:H93564,\"9??\",'Accounting Data'!I2:I93564,\"2???\",'Accounting Data'!J2:J93564,\"66??\")+SUMIFS('Accounting Data'!C2:C93564,'Accounting Data'!E2:E93564,\"699\",'Accounting Data'!H2:H93564,\"9??\",'Accounting Data'!I2:I93564,\"2???\",'Accounting Data'!J2:J93564,\"66??\")+SUMIFS('Accounting Data'!C2:C93564,'Accounting Data'!E2:E93564,\"720\",'Accounting Data'!H2:H93564,\"9??\",'Accounting Data'!I2:I93564,\"2???\",'Accounting Data'!J2:J93564,\"66??\")+SUMIFS('Accounting Data'!C2:C93564,'Accounting Data'!E2:E93564,\"COVID\",'Accounting Data'!H2:H93564,\"9??\",'Accounting Data'!I2:I93564,\"2???\",'Accounting Data'!J2:J93564,\"66??\")","v":0},{"$f":"SUMIFS('Accounting Data'!C2:C93564,'Accounting Data'!E2:E93564,\"1??\",'Accounting Data'!H2:H93564,\"7??\",'Accounting Data'!I2:I93564,\"3???\",'Accounting Data'!J2:J93564,\"66??\")+SUMIFS('Accounting Data'!C2:C93564,'Accounting Data'!E2:E93564,\"2??\",'Accounting Data'!H2:H93564,\"7??\",'Accounting Data'!I2:I93564,\"3???\",'Accounting Data'!J2:J93564,\"66??\")+SUMIFS('Accounting Data'!C2:C93564,'Accounting Data'!E2:E93564,\"3??\",'Accounting Data'!H2:H93564,\"7??\",'Accounting Data'!I2:I93564,\"3???\",'Accounting Data'!J2:J93564,\"66??\")+SUMIFS('Accounting Data'!C2:C93564,'Accounting Data'!E2:E93564,\"639\",'Accounting Data'!H2:H93564,\"7??\",'Accounting Data'!I2:I93564,\"3???\",'Accounting Data'!J2:J93564,\"66??\")+SUMIFS('Accounting Data'!C2:C93564,'Accounting Data'!E2:E93564,\"699\",'Accounting Data'!H2:H93564,\"7??\",'Accounting Data'!I2:I93564,\"3???\",'Accounting Data'!J2:J93564,\"66??\")+SUMIFS('Accounting Data'!C2:C93564,'Accounting Data'!E2:E93564,\"720\",'Accounting Data'!H2:H93564,\"7??\",'Accounting Data'!I2:I93564,\"3???\",'Accounting Data'!J2:J93564,\"66??\")+SUMIFS('Accounting Data'!C2:C93564,'Accounting Data'!E2:E93564,\"COVID\",'Accounting Data'!H2:H93564,\"7??\",'Accounting Data'!I2:I93564,\"3???\",'Accounting Data'!J2:J93564,\"66??\")","v":0},{"$f":"SUMIFS('Accounting Data'!C2:C93564,'Accounting Data'!E2:E93564,\"1??\",'Accounting Data'!H2:H93564,\"8??\",'Accounting Data'!I2:I93564,\"3???\",'Accounting Data'!J2:J93564,\"66??\")+SUMIFS('Accounting Data'!C2:C93564,'Accounting Data'!E2:E93564,\"2??\",'Accounting Data'!H2:H93564,\"8??\",'Accounting Data'!I2:I93564,\"3???\",'Accounting Data'!J2:J93564,\"66??\")+SUMIFS('Accounting Data'!C2:C93564,'Accounting Data'!E2:E93564,\"3??\",'Accounting Data'!H2:H93564,\"8??\",'Accounting Data'!I2:I93564,\"3???\",'Accounting Data'!J2:J93564,\"66??\")+SUMIFS('Accounting Data'!C2:C93564,'Accounting Data'!E2:E93564,\"639\",'Accounting Data'!H2:H93564,\"8??\",'Accounting Data'!I2:I93564,\"3???\",'Accounting Data'!J2:J93564,\"66??\")+SUMIFS('Accounting Data'!C2:C93564,'Accounting Data'!E2:E93564,\"699\",'Accounting Data'!H2:H93564,\"8??\",'Accounting Data'!I2:I93564,\"3???\",'Accounting Data'!J2:J93564,\"66??\")+SUMIFS('Accounting Data'!C2:C93564,'Accounting Data'!E2:E93564,\"720\",'Accounting Data'!H2:H93564,\"8??\",'Accounting Data'!I2:I93564,\"3???\",'Accounting Data'!J2:J93564,\"66??\")+SUMIFS('Accounting Data'!C2:C93564,'Accounting Data'!E2:E93564,\"COVID\",'Accounting Data'!H2:H93564,\"8??\",'Accounting Data'!I2:I93564,\"3???\",'Accounting Data'!J2:J93564,\"66??\")","v":0},{"$f":"SUMIFS('Accounting Data'!C2:C93564,'Accounting Data'!E2:E93564,\"1??\",'Accounting Data'!H2:H93564,\"9??\",'Accounting Data'!I2:I93564,\"3???\",'Accounting Data'!J2:J93564,\"66??\")+SUMIFS('Accounting Data'!C2:C93564,'Accounting Data'!E2:E93564,\"2??\",'Accounting Data'!H2:H93564,\"9??\",'Accounting Data'!I2:I93564,\"3???\",'Accounting Data'!J2:J93564,\"66??\")+SUMIFS('Accounting Data'!C2:C93564,'Accounting Data'!E2:E93564,\"3??\",'Accounting Data'!H2:H93564,\"9??\",'Accounting Data'!I2:I93564,\"3???\",'Accounting Data'!J2:J93564,\"66??\")+SUMIFS('Accounting Data'!C2:C93564,'Accounting Data'!E2:E93564,\"639\",'Accounting Data'!H2:H93564,\"9??\",'Accounting Data'!I2:I93564,\"3???\",'Accounting Data'!J2:J93564,\"66??\")+SUMIFS('Accounting Data'!C2:C93564,'Accounting Data'!E2:E93564,\"699\",'Accounting Data'!H2:H93564,\"9??\",'Accounting Data'!I2:I93564,\"3???\",'Accounting Data'!J2:J93564,\"66??\")+SUMIFS('Accounting Data'!C2:C93564,'Accounting Data'!E2:E93564,\"720\",'Accounting Data'!H2:H93564,\"9??\",'Accounting Data'!I2:I93564,\"3???\",'Accounting Data'!J2:J93564,\"66??\")+SUMIFS('Accounting Data'!C2:C93564,'Accounting Data'!E2:E93564,\"COVID\",'Accounting Data'!H2:H93564,\"9??\",'Accounting Data'!I2:I93564,\"3???\",'Accounting Data'!J2:J93564,\"66??\")","v":0}]
["3. Vocational Ed. and CTED (Programs 270, 300-399, and 540)",null,null,0,0,0,0,"3.","4. Total (lines 1-3)",null,{"$f":"SUM(K34:K36)","v":0},{"$f":"SUM(L34:L36)","v":0},{"$f":"(M34+M35+M36)","v":0},"4.",null,null,null,null,null,null,null,null,null,null,null,6700,{"$f":"SUMIFS('Accounting Data'!C2:C93564,'Accounting Data'!E2:E93564,\"1??\",'Accounting Data'!I2:I93564,\"1???\",'Accounting Data'!J2:J93564,\"67??\")+SUMIFS('Accounting Data'!C2:C93564,'Accounting Data'!E2:E93564,\"2??\",'Accounting Data'!I2:I93564,\"1???\",'Accounting Data'!J2:J93564,\"67??\")+SUMIFS('Accounting Data'!C2:C93564,'Accounting Data'!E2:E93564,\"3??\",'Accounting Data'!I2:I93564,\"1???\",'Accounting Data'!J2:J93564,\"67??\")+SUMIFS('Accounting Data'!C2:C93564,'Accounting Data'!E2:E93564,\"639\",'Accounting Data'!I2:I93564,\"1???\",'Accounting Data'!J2:J93564,\"67??\")+SUMIFS('Accounting Data'!C2:C93564,'Accounting Data'!E2:E93564,\"699\",'Accounting Data'!I2:I93564,\"1???\",'Accounting Data'!J2:J93564,\"67??\")+SUMIFS('Accounting Data'!C2:C93564,'Accounting Data'!E2:E93564,\"720\",'Accounting Data'!I2:I93564,\"1???\",'Accounting Data'!J2:J93564,\"67??\")+SUMIFS('Accounting Data'!C2:C93564,'Accounting Data'!E2:E93564,\"COVID\",'Accounting Data'!I2:I93564,\"1???\",'Accounting Data'!J2:J93564,\"67??\")","v":74894},{"$f":"SUMIFS('Accounting Data'!C2:C93564,'Accounting Data'!E2:E93564,\"1??\",'Accounting Data'!I2:I93564,\"2???\",'Accounting Data'!J2:J93564,\"67??\")+SUMIFS('Accounting Data'!C2:C93564,'Accounting Data'!E2:E93564,\"2??\",'Accounting Data'!I2:I93564,\"2???\",'Accounting Data'!J2:J93564,\"67??\")+SUMIFS('Accounting Data'!C2:C93564,'Accounting Data'!E2:E93564,\"3??\",'Accounting Data'!I2:I93564,\"2???\",'Accounting Data'!J2:J93564,\"67??\")+SUMIFS('Accounting Data'!C2:C93564,'Accounting Data'!E2:E93564,\"639\",'Accounting Data'!I2:I93564,\"2???\",'Accounting Data'!J2:J93564,\"67??\")+SUMIFS('Accounting Data'!C2:C93564,'Accounting Data'!E2:E93564,\"699\",'Accounting Data'!I2:I93564,\"2???\",'Accounting Data'!J2:J93564,\"67??\")+SUMIFS('Accounting Data'!C2:C93564,'Accounting Data'!E2:E93564,\"720\",'Accounting Data'!I2:I93564,\"2???\",'Accounting Data'!J2:J93564,\"67??\")+SUMIFS('Accounting Data'!C2:C93564,'Accounting Data'!E2:E93564,\"COVID\",'Accounting Data'!I2:I93564,\"2???\",'Accounting Data'!J2:J93564,\"67??\")","v":213327},{"$f":"SUMIFS('Accounting Data'!C2:C93564,'Accounting Data'!E2:E93564,\"1??\",'Accounting Data'!I2:I93564,\"3???\",'Accounting Data'!J2:J93564,\"67??\")+SUMIFS('Accounting Data'!C2:C93564,'Accounting Data'!E2:E93564,\"2??\",'Accounting Data'!I2:I93564,\"3???\",'Accounting Data'!J2:J93564,\"67??\")+SUMIFS('Accounting Data'!C2:C93564,'Accounting Data'!E2:E93564,\"3??\",'Accounting Data'!I2:I93564,\"3???\",'Accounting Data'!J2:J93564,\"67??\")+SUMIFS('Accounting Data'!C2:C93564,'Accounting Data'!E2:E93564,\"639\",'Accounting Data'!I2:I93564,\"3???\",'Accounting Data'!J2:J93564,\"67??\")+SUMIFS('Accounting Data'!C2:C93564,'Accounting Data'!E2:E93564,\"699\",'Accounting Data'!I2:I93564,\"3???\",'Accounting Data'!J2:J93564,\"67??\")+SUMIFS('Accounting Data'!C2:C93564,'Accounting Data'!E2:E93564,\"720\",'Accounting Data'!I2:I93564,\"3???\",'Accounting Data'!J2:J93564,\"67??\")+SUMIFS('Accounting Data'!C2:C93564,'Accounting Data'!E2:E93564,\"COVID\",'Accounting Data'!I2:I93564,\"3???\",'Accounting Data'!J2:J93564,\"67??\")","v":0},{"$f":"SUMIFS('Accounting Data'!C2:C93564,'Accounting Data'!E2:E93564,\"1??\",'Accounting Data'!H2:H93564,\"7??\",'Accounting Data'!I2:I93564,\"1???\",'Accounting Data'!J2:J93564,\"67??\")+SUMIFS('Accounting Data'!C2:C93564,'Accounting Data'!E2:E93564,\"2??\",'Accounting Data'!H2:H93564,\"7??\",'Accounting Data'!I2:I93564,\"1???\",'Accounting Data'!J2:J93564,\"67??\")+SUMIFS('Accounting Data'!C2:C93564,'Accounting Data'!E2:E93564,\"3??\",'Accounting Data'!H2:H93564,\"7??\",'Accounting Data'!I2:I93564,\"1???\",'Accounting Data'!J2:J93564,\"67??\")+SUMIFS('Accounting Data'!C2:C93564,'Accounting Data'!E2:E93564,\"639\",'Accounting Data'!H2:H93564,\"7??\",'Accounting Data'!I2:I93564,\"1???\",'Accounting Data'!J2:J93564,\"67??\")+SUMIFS('Accounting Data'!C2:C93564,'Accounting Data'!E2:E93564,\"699\",'Accounting Data'!H2:H93564,\"7??\",'Accounting Data'!I2:I93564,\"1???\",'Accounting Data'!J2:J93564,\"67??\")+SUMIFS('Accounting Data'!C2:C93564,'Accounting Data'!E2:E93564,\"720\",'Accounting Data'!H2:H93564,\"7??\",'Accounting Data'!I2:I93564,\"1???\",'Accounting Data'!J2:J93564,\"67??\")+SUMIFS('Accounting Data'!C2:C93564,'Accounting Data'!E2:E93564,\"COVID\",'Accounting Data'!H2:H93564,\"7??\",'Accounting Data'!I2:I93564,\"1???\",'Accounting Data'!J2:J93564,\"67??\")","v":0},{"$f":"SUMIFS('Accounting Data'!C2:C93564,'Accounting Data'!E2:E93564,\"1??\",'Accounting Data'!H2:H93564,\"8??\",'Accounting Data'!I2:I93564,\"1???\",'Accounting Data'!J2:J93564,\"67??\")+SUMIFS('Accounting Data'!C2:C93564,'Accounting Data'!E2:E93564,\"2??\",'Accounting Data'!H2:H93564,\"8??\",'Accounting Data'!I2:I93564,\"1???\",'Accounting Data'!J2:J93564,\"67??\")+SUMIFS('Accounting Data'!C2:C93564,'Accounting Data'!E2:E93564,\"3??\",'Accounting Data'!H2:H93564,\"8??\",'Accounting Data'!I2:I93564,\"1???\",'Accounting Data'!J2:J93564,\"67??\")+SUMIFS('Accounting Data'!C2:C93564,'Accounting Data'!E2:E93564,\"639\",'Accounting Data'!H2:H93564,\"8??\",'Accounting Data'!I2:I93564,\"1???\",'Accounting Data'!J2:J93564,\"67??\")+SUMIFS('Accounting Data'!C2:C93564,'Accounting Data'!E2:E93564,\"699\",'Accounting Data'!H2:H93564,\"8??\",'Accounting Data'!I2:I93564,\"1???\",'Accounting Data'!J2:J93564,\"67??\")+SUMIFS('Accounting Data'!C2:C93564,'Accounting Data'!E2:E93564,\"720\",'Accounting Data'!H2:H93564,\"8??\",'Accounting Data'!I2:I93564,\"1???\",'Accounting Data'!J2:J93564,\"67??\")+SUMIFS('Accounting Data'!C2:C93564,'Accounting Data'!E2:E93564,\"COVID\",'Accounting Data'!H2:H93564,\"8??\",'Accounting Data'!I2:I93564,\"1???\",'Accounting Data'!J2:J93564,\"67??\")","v":0},{"$f":"SUMIFS('Accounting Data'!C2:C93564,'Accounting Data'!E2:E93564,\"1??\",'Accounting Data'!H2:H93564,\"9??\",'Accounting Data'!I2:I93564,\"1???\",'Accounting Data'!J2:J93564,\"67??\")+SUMIFS('Accounting Data'!C2:C93564,'Accounting Data'!E2:E93564,\"2??\",'Accounting Data'!H2:H93564,\"9??\",'Accounting Data'!I2:I93564,\"1???\",'Accounting Data'!J2:J93564,\"67??\")+SUMIFS('Accounting Data'!C2:C93564,'Accounting Data'!E2:E93564,\"3??\",'Accounting Data'!H2:H93564,\"9??\",'Accounting Data'!I2:I93564,\"1???\",'Accounting Data'!J2:J93564,\"67??\")+SUMIFS('Accounting Data'!C2:C93564,'Accounting Data'!E2:E93564,\"639\",'Accounting Data'!H2:H93564,\"9??\",'Accounting Data'!I2:I93564,\"1???\",'Accounting Data'!J2:J93564,\"67??\")+SUMIFS('Accounting Data'!C2:C93564,'Accounting Data'!E2:E93564,\"699\",'Accounting Data'!H2:H93564,\"9??\",'Accounting Data'!I2:I93564,\"1???\",'Accounting Data'!J2:J93564,\"67??\")+SUMIFS('Accounting Data'!C2:C93564,'Accounting Data'!E2:E93564,\"720\",'Accounting Data'!H2:H93564,\"9??\",'Accounting Data'!I2:I93564,\"1???\",'Accounting Data'!J2:J93564,\"67??\")+SUMIFS('Accounting Data'!C2:C93564,'Accounting Data'!E2:E93564,\"COVID\",'Accounting Data'!H2:H93564,\"9??\",'Accounting Data'!I2:I93564,\"1???\",'Accounting Data'!J2:J93564,\"67??\")","v":0},{"$f":"SUMIFS('Accounting Data'!C2:C93564,'Accounting Data'!E2:E93564,\"1??\",'Accounting Data'!H2:H93564,\"7??\",'Accounting Data'!I2:I93564,\"2???\",'Accounting Data'!J2:J93564,\"67??\")+SUMIFS('Accounting Data'!C2:C93564,'Accounting Data'!E2:E93564,\"2??\",'Accounting Data'!H2:H93564,\"7??\",'Accounting Data'!I2:I93564,\"2???\",'Accounting Data'!J2:J93564,\"67??\")+SUMIFS('Accounting Data'!C2:C93564,'Accounting Data'!E2:E93564,\"3??\",'Accounting Data'!H2:H93564,\"7??\",'Accounting Data'!I2:I93564,\"2???\",'Accounting Data'!J2:J93564,\"67??\")+SUMIFS('Accounting Data'!C2:C93564,'Accounting Data'!E2:E93564,\"639\",'Accounting Data'!H2:H93564,\"7??\",'Accounting Data'!I2:I93564,\"2???\",'Accounting Data'!J2:J93564,\"67??\")+SUMIFS('Accounting Data'!C2:C93564,'Accounting Data'!E2:E93564,\"699\",'Accounting Data'!H2:H93564,\"7??\",'Accounting Data'!I2:I93564,\"2???\",'Accounting Data'!J2:J93564,\"67??\")+SUMIFS('Accounting Data'!C2:C93564,'Accounting Data'!E2:E93564,\"720\",'Accounting Data'!H2:H93564,\"7??\",'Accounting Data'!I2:I93564,\"2???\",'Accounting Data'!J2:J93564,\"67??\")+SUMIFS('Accounting Data'!C2:C93564,'Accounting Data'!E2:E93564,\"COVID\",'Accounting Data'!H2:H93564,\"7??\",'Accounting Data'!I2:I93564,\"2???\",'Accounting Data'!J2:J93564,\"67??\")","v":0},{"$f":"SUMIFS('Accounting Data'!C2:C93564,'Accounting Data'!E2:E93564,\"1??\",'Accounting Data'!H2:H93564,\"8??\",'Accounting Data'!I2:I93564,\"2???\",'Accounting Data'!J2:J93564,\"67??\")+SUMIFS('Accounting Data'!C2:C93564,'Accounting Data'!E2:E93564,\"2??\",'Accounting Data'!H2:H93564,\"8??\",'Accounting Data'!I2:I93564,\"2???\",'Accounting Data'!J2:J93564,\"67??\")+SUMIFS('Accounting Data'!C2:C93564,'Accounting Data'!E2:E93564,\"3??\",'Accounting Data'!H2:H93564,\"8??\",'Accounting Data'!I2:I93564,\"2???\",'Accounting Data'!J2:J93564,\"67??\")+SUMIFS('Accounting Data'!C2:C93564,'Accounting Data'!E2:E93564,\"639\",'Accounting Data'!H2:H93564,\"8??\",'Accounting Data'!I2:I93564,\"2???\",'Accounting Data'!J2:J93564,\"67??\")+SUMIFS('Accounting Data'!C2:C93564,'Accounting Data'!E2:E93564,\"699\",'Accounting Data'!H2:H93564,\"8??\",'Accounting Data'!I2:I93564,\"2???\",'Accounting Data'!J2:J93564,\"67??\")+SUMIFS('Accounting Data'!C2:C93564,'Accounting Data'!E2:E93564,\"720\",'Accounting Data'!H2:H93564,\"8??\",'Accounting Data'!I2:I93564,\"2???\",'Accounting Data'!J2:J93564,\"67??\")+SUMIFS('Accounting Data'!C2:C93564,'Accounting Data'!E2:E93564,\"COVID\",'Accounting Data'!H2:H93564,\"8??\",'Accounting Data'!I2:I93564,\"2???\",'Accounting Data'!J2:J93564,\"67??\")","v":0},{"$f":"SUMIFS('Accounting Data'!C2:C93564,'Accounting Data'!E2:E93564,\"1??\",'Accounting Data'!H2:H93564,\"9??\",'Accounting Data'!I2:I93564,\"2???\",'Accounting Data'!J2:J93564,\"67??\")+SUMIFS('Accounting Data'!C2:C93564,'Accounting Data'!E2:E93564,\"2??\",'Accounting Data'!H2:H93564,\"9??\",'Accounting Data'!I2:I93564,\"2???\",'Accounting Data'!J2:J93564,\"67??\")+SUMIFS('Accounting Data'!C2:C93564,'Accounting Data'!E2:E93564,\"3??\",'Accounting Data'!H2:H93564,\"9??\",'Accounting Data'!I2:I93564,\"2???\",'Accounting Data'!J2:J93564,\"67??\")+SUMIFS('Accounting Data'!C2:C93564,'Accounting Data'!E2:E93564,\"639\",'Accounting Data'!H2:H93564,\"9??\",'Accounting Data'!I2:I93564,\"2???\",'Accounting Data'!J2:J93564,\"67??\")+SUMIFS('Accounting Data'!C2:C93564,'Accounting Data'!E2:E93564,\"699\",'Accounting Data'!H2:H93564,\"9??\",'Accounting Data'!I2:I93564,\"2???\",'Accounting Data'!J2:J93564,\"67??\")+SUMIFS('Accounting Data'!C2:C93564,'Accounting Data'!E2:E93564,\"720\",'Accounting Data'!H2:H93564,\"9??\",'Accounting Data'!I2:I93564,\"2???\",'Accounting Data'!J2:J93564,\"67??\")+SUMIFS('Accounting Data'!C2:C93564,'Accounting Data'!E2:E93564,\"COVID\",'Accounting Data'!H2:H93564,\"9??\",'Accounting Data'!I2:I93564,\"2???\",'Accounting Data'!J2:J93564,\"67??\")","v":0},{"$f":"SUMIFS('Accounting Data'!C2:C93564,'Accounting Data'!E2:E93564,\"1??\",'Accounting Data'!H2:H93564,\"7??\",'Accounting Data'!I2:I93564,\"3???\",'Accounting Data'!J2:J93564,\"67??\")+SUMIFS('Accounting Data'!C2:C93564,'Accounting Data'!E2:E93564,\"2??\",'Accounting Data'!H2:H93564,\"7??\",'Accounting Data'!I2:I93564,\"3???\",'Accounting Data'!J2:J93564,\"67??\")+SUMIFS('Accounting Data'!C2:C93564,'Accounting Data'!E2:E93564,\"3??\",'Accounting Data'!H2:H93564,\"7??\",'Accounting Data'!I2:I93564,\"3???\",'Accounting Data'!J2:J93564,\"67??\")+SUMIFS('Accounting Data'!C2:C93564,'Accounting Data'!E2:E93564,\"639\",'Accounting Data'!H2:H93564,\"7??\",'Accounting Data'!I2:I93564,\"3???\",'Accounting Data'!J2:J93564,\"67??\")+SUMIFS('Accounting Data'!C2:C93564,'Accounting Data'!E2:E93564,\"699\",'Accounting Data'!H2:H93564,\"7??\",'Accounting Data'!I2:I93564,\"3???\",'Accounting Data'!J2:J93564,\"67??\")+SUMIFS('Accounting Data'!C2:C93564,'Accounting Data'!E2:E93564,\"720\",'Accounting Data'!H2:H93564,\"7??\",'Accounting Data'!I2:I93564,\"3???\",'Accounting Data'!J2:J93564,\"67??\")+SUMIFS('Accounting Data'!C2:C93564,'Accounting Data'!E2:E93564,\"COVID\",'Accounting Data'!H2:H93564,\"7??\",'Accounting Data'!I2:I93564,\"3???\",'Accounting Data'!J2:J93564,\"67??\")","v":0},{"$f":"SUMIFS('Accounting Data'!C2:C93564,'Accounting Data'!E2:E93564,\"1??\",'Accounting Data'!H2:H93564,\"8??\",'Accounting Data'!I2:I93564,\"3???\",'Accounting Data'!J2:J93564,\"67??\")+SUMIFS('Accounting Data'!C2:C93564,'Accounting Data'!E2:E93564,\"2??\",'Accounting Data'!H2:H93564,\"8??\",'Accounting Data'!I2:I93564,\"3???\",'Accounting Data'!J2:J93564,\"67??\")+SUMIFS('Accounting Data'!C2:C93564,'Accounting Data'!E2:E93564,\"3??\",'Accounting Data'!H2:H93564,\"8??\",'Accounting Data'!I2:I93564,\"3???\",'Accounting Data'!J2:J93564,\"67??\")+SUMIFS('Accounting Data'!C2:C93564,'Accounting Data'!E2:E93564,\"639\",'Accounting Data'!H2:H93564,\"8??\",'Accounting Data'!I2:I93564,\"3???\",'Accounting Data'!J2:J93564,\"67??\")+SUMIFS('Accounting Data'!C2:C93564,'Accounting Data'!E2:E93564,\"699\",'Accounting Data'!H2:H93564,\"8??\",'Accounting Data'!I2:I93564,\"3???\",'Accounting Data'!J2:J93564,\"67??\")+SUMIFS('Accounting Data'!C2:C93564,'Accounting Data'!E2:E93564,\"720\",'Accounting Data'!H2:H93564,\"8??\",'Accounting Data'!I2:I93564,\"3???\",'Accounting Data'!J2:J93564,\"67??\")+SUMIFS('Accounting Data'!C2:C93564,'Accounting Data'!E2:E93564,\"COVID\",'Accounting Data'!H2:H93564,\"8??\",'Accounting Data'!I2:I93564,\"3???\",'Accounting Data'!J2:J93564,\"67??\")","v":0},{"$f":"SUMIFS('Accounting Data'!C2:C93564,'Accounting Data'!E2:E93564,\"1??\",'Accounting Data'!H2:H93564,\"9??\",'Accounting Data'!I2:I93564,\"3???\",'Accounting Data'!J2:J93564,\"67??\")+SUMIFS('Accounting Data'!C2:C93564,'Accounting Data'!E2:E93564,\"2??\",'Accounting Data'!H2:H93564,\"9??\",'Accounting Data'!I2:I93564,\"3???\",'Accounting Data'!J2:J93564,\"67??\")+SUMIFS('Accounting Data'!C2:C93564,'Accounting Data'!E2:E93564,\"3??\",'Accounting Data'!H2:H93564,\"9??\",'Accounting Data'!I2:I93564,\"3???\",'Accounting Data'!J2:J93564,\"67??\")+SUMIFS('Accounting Data'!C2:C93564,'Accounting Data'!E2:E93564,\"639\",'Accounting Data'!H2:H93564,\"9??\",'Accounting Data'!I2:I93564,\"3???\",'Accounting Data'!J2:J93564,\"67??\")+SUMIFS('Accounting Data'!C2:C93564,'Accounting Data'!E2:E93564,\"699\",'Accounting Data'!H2:H93564,\"9??\",'Accounting Data'!I2:I93564,\"3???\",'Accounting Data'!J2:J93564,\"67??\")+SUMIFS('Accounting Data'!C2:C93564,'Accounting Data'!E2:E93564,\"720\",'Accounting Data'!H2:H93564,\"9??\",'Accounting Data'!I2:I93564,\"3???\",'Accounting Data'!J2:J93564,\"67??\")+SUMIFS('Accounting Data'!C2:C93564,'Accounting Data'!E2:E93564,\"COVID\",'Accounting Data'!H2:H93564,\"9??\",'Accounting Data'!I2:I93564,\"3???\",'Accounting Data'!J2:J93564,\"67??\")","v":0}]
["4. Other (Programs 240, 260, 265, 510, 511, 513, and 530)",null,null,393752.4,0,0,0,"4.",null,null,null,null,null,null,null,null,null,null,null,null,null,null,null,null,null,6810,{"$f":"SUMIFS('Accounting Data'!C2:C93564,'Accounting Data'!E2:E93564,\"1??\",'Accounting Data'!I2:I93564,\"1???\",'Accounting Data'!J2:J93564,\"681?\")+SUMIFS('Accounting Data'!C2:C93564,'Accounting Data'!E2:E93564,\"2??\",'Accounting Data'!I2:I93564,\"1???\",'Accounting Data'!J2:J93564,\"681?\")+SUMIFS('Accounting Data'!C2:C93564,'Accounting Data'!E2:E93564,\"3??\",'Accounting Data'!I2:I93564,\"1???\",'Accounting Data'!J2:J93564,\"681?\")+SUMIFS('Accounting Data'!C2:C93564,'Accounting Data'!E2:E93564,\"639\",'Accounting Data'!I2:I93564,\"1???\",'Accounting Data'!J2:J93564,\"681?\")+SUMIFS('Accounting Data'!C2:C93564,'Accounting Data'!E2:E93564,\"699\",'Accounting Data'!I2:I93564,\"1???\",'Accounting Data'!J2:J93564,\"681?\")+SUMIFS('Accounting Data'!C2:C93564,'Accounting Data'!E2:E93564,\"720\",'Accounting Data'!I2:I93564,\"1???\",'Accounting Data'!J2:J93564,\"681?\")+SUMIFS('Accounting Data'!C2:C93564,'Accounting Data'!E2:E93564,\"COVID\",'Accounting Data'!I2:I93564,\"1???\",'Accounting Data'!J2:J93564,\"681?\")","v":0},{"$f":"SUMIFS('Accounting Data'!C2:C93564,'Accounting Data'!E2:E93564,\"1??\",'Accounting Data'!I2:I93564,\"2???\",'Accounting Data'!J2:J93564,\"681?\")+SUMIFS('Accounting Data'!C2:C93564,'Accounting Data'!E2:E93564,\"2??\",'Accounting Data'!I2:I93564,\"2???\",'Accounting Data'!J2:J93564,\"681?\")+SUMIFS('Accounting Data'!C2:C93564,'Accounting Data'!E2:E93564,\"3??\",'Accounting Data'!I2:I93564,\"2???\",'Accounting Data'!J2:J93564,\"681?\")+SUMIFS('Accounting Data'!C2:C93564,'Accounting Data'!E2:E93564,\"639\",'Accounting Data'!I2:I93564,\"2???\",'Accounting Data'!J2:J93564,\"681?\")+SUMIFS('Accounting Data'!C2:C93564,'Accounting Data'!E2:E93564,\"699\",'Accounting Data'!I2:I93564,\"2???\",'Accounting Data'!J2:J93564,\"681?\")+SUMIFS('Accounting Data'!C2:C93564,'Accounting Data'!E2:E93564,\"720\",'Accounting Data'!I2:I93564,\"2???\",'Accounting Data'!J2:J93564,\"681?\")+SUMIFS('Accounting Data'!C2:C93564,'Accounting Data'!E2:E93564,\"COVID\",'Accounting Data'!I2:I93564,\"2???\",'Accounting Data'!J2:J93564,\"681?\")","v":17497},{"$f":"SUMIFS('Accounting Data'!C2:C93564,'Accounting Data'!E2:E93564,\"1??\",'Accounting Data'!I2:I93564,\"3???\",'Accounting Data'!J2:J93564,\"681?\")+SUMIFS('Accounting Data'!C2:C93564,'Accounting Data'!E2:E93564,\"2??\",'Accounting Data'!I2:I93564,\"3???\",'Accounting Data'!J2:J93564,\"681?\")+SUMIFS('Accounting Data'!C2:C93564,'Accounting Data'!E2:E93564,\"3??\",'Accounting Data'!I2:I93564,\"3???\",'Accounting Data'!J2:J93564,\"681?\")+SUMIFS('Accounting Data'!C2:C93564,'Accounting Data'!E2:E93564,\"639\",'Accounting Data'!I2:I93564,\"3???\",'Accounting Data'!J2:J93564,\"681?\")+SUMIFS('Accounting Data'!C2:C93564,'Accounting Data'!E2:E93564,\"699\",'Accounting Data'!I2:I93564,\"3???\",'Accounting Data'!J2:J93564,\"681?\")+SUMIFS('Accounting Data'!C2:C93564,'Accounting Data'!E2:E93564,\"720\",'Accounting Data'!I2:I93564,\"3???\",'Accounting Data'!J2:J93564,\"681?\")+SUMIFS('Accounting Data'!C2:C93564,'Accounting Data'!E2:E93564,\"COVID\",'Accounting Data'!I2:I93564,\"3???\",'Accounting Data'!J2:J93564,\"681?\")","v":0},{"$f":"SUMIFS('Accounting Data'!C2:C93564,'Accounting Data'!E2:E93564,\"1??\",'Accounting Data'!H2:H93564,\"7??\",'Accounting Data'!I2:I93564,\"1???\",'Accounting Data'!J2:J93564,\"681?\")+SUMIFS('Accounting Data'!C2:C93564,'Accounting Data'!E2:E93564,\"2??\",'Accounting Data'!H2:H93564,\"7??\",'Accounting Data'!I2:I93564,\"1???\",'Accounting Data'!J2:J93564,\"681?\")+SUMIFS('Accounting Data'!C2:C93564,'Accounting Data'!E2:E93564,\"3??\",'Accounting Data'!H2:H93564,\"7??\",'Accounting Data'!I2:I93564,\"1???\",'Accounting Data'!J2:J93564,\"681?\")+SUMIFS('Accounting Data'!C2:C93564,'Accounting Data'!E2:E93564,\"639\",'Accounting Data'!H2:H93564,\"7??\",'Accounting Data'!I2:I93564,\"1???\",'Accounting Data'!J2:J93564,\"681?\")+SUMIFS('Accounting Data'!C2:C93564,'Accounting Data'!E2:E93564,\"699\",'Accounting Data'!H2:H93564,\"7??\",'Accounting Data'!I2:I93564,\"1???\",'Accounting Data'!J2:J93564,\"681?\")+SUMIFS('Accounting Data'!C2:C93564,'Accounting Data'!E2:E93564,\"720\",'Accounting Data'!H2:H93564,\"7??\",'Accounting Data'!I2:I93564,\"1???\",'Accounting Data'!J2:J93564,\"681?\")+SUMIFS('Accounting Data'!C2:C93564,'Accounting Data'!E2:E93564,\"COVID\",'Accounting Data'!H2:H93564,\"7??\",'Accounting Data'!I2:I93564,\"1???\",'Accounting Data'!J2:J93564,\"681?\")","v":0},{"$f":"SUMIFS('Accounting Data'!C2:C93564,'Accounting Data'!E2:E93564,\"1??\",'Accounting Data'!H2:H93564,\"8??\",'Accounting Data'!I2:I93564,\"1???\",'Accounting Data'!J2:J93564,\"681?\")+SUMIFS('Accounting Data'!C2:C93564,'Accounting Data'!E2:E93564,\"2??\",'Accounting Data'!H2:H93564,\"8??\",'Accounting Data'!I2:I93564,\"1???\",'Accounting Data'!J2:J93564,\"681?\")+SUMIFS('Accounting Data'!C2:C93564,'Accounting Data'!E2:E93564,\"3??\",'Accounting Data'!H2:H93564,\"8??\",'Accounting Data'!I2:I93564,\"1???\",'Accounting Data'!J2:J93564,\"681?\")+SUMIFS('Accounting Data'!C2:C93564,'Accounting Data'!E2:E93564,\"639\",'Accounting Data'!H2:H93564,\"8??\",'Accounting Data'!I2:I93564,\"1???\",'Accounting Data'!J2:J93564,\"681?\")+SUMIFS('Accounting Data'!C2:C93564,'Accounting Data'!E2:E93564,\"699\",'Accounting Data'!H2:H93564,\"8??\",'Accounting Data'!I2:I93564,\"1???\",'Accounting Data'!J2:J93564,\"681?\")+SUMIFS('Accounting Data'!C2:C93564,'Accounting Data'!E2:E93564,\"720\",'Accounting Data'!H2:H93564,\"8??\",'Accounting Data'!I2:I93564,\"1???\",'Accounting Data'!J2:J93564,\"681?\")+SUMIFS('Accounting Data'!C2:C93564,'Accounting Data'!E2:E93564,\"COVID\",'Accounting Data'!H2:H93564,\"8??\",'Accounting Data'!I2:I93564,\"1???\",'Accounting Data'!J2:J93564,\"681?\")","v":0},{"$f":"SUMIFS('Accounting Data'!C2:C93564,'Accounting Data'!E2:E93564,\"1??\",'Accounting Data'!H2:H93564,\"9??\",'Accounting Data'!I2:I93564,\"1???\",'Accounting Data'!J2:J93564,\"681?\")+SUMIFS('Accounting Data'!C2:C93564,'Accounting Data'!E2:E93564,\"2??\",'Accounting Data'!H2:H93564,\"9??\",'Accounting Data'!I2:I93564,\"1???\",'Accounting Data'!J2:J93564,\"681?\")+SUMIFS('Accounting Data'!C2:C93564,'Accounting Data'!E2:E93564,\"3??\",'Accounting Data'!H2:H93564,\"9??\",'Accounting Data'!I2:I93564,\"1???\",'Accounting Data'!J2:J93564,\"681?\")+SUMIFS('Accounting Data'!C2:C93564,'Accounting Data'!E2:E93564,\"639\",'Accounting Data'!H2:H93564,\"9??\",'Accounting Data'!I2:I93564,\"1???\",'Accounting Data'!J2:J93564,\"681?\")+SUMIFS('Accounting Data'!C2:C93564,'Accounting Data'!E2:E93564,\"699\",'Accounting Data'!H2:H93564,\"9??\",'Accounting Data'!I2:I93564,\"1???\",'Accounting Data'!J2:J93564,\"681?\")+SUMIFS('Accounting Data'!C2:C93564,'Accounting Data'!E2:E93564,\"720\",'Accounting Data'!H2:H93564,\"9??\",'Accounting Data'!I2:I93564,\"1???\",'Accounting Data'!J2:J93564,\"681?\")+SUMIFS('Accounting Data'!C2:C93564,'Accounting Data'!E2:E93564,\"COVID\",'Accounting Data'!H2:H93564,\"9??\",'Accounting Data'!I2:I93564,\"1???\",'Accounting Data'!J2:J93564,\"681?\")","v":0},{"$f":"SUMIFS('Accounting Data'!C2:C93564,'Accounting Data'!E2:E93564,\"1??\",'Accounting Data'!H2:H93564,\"7??\",'Accounting Data'!I2:I93564,\"2???\",'Accounting Data'!J2:J93564,\"681?\")+SUMIFS('Accounting Data'!C2:C93564,'Accounting Data'!E2:E93564,\"2??\",'Accounting Data'!H2:H93564,\"7??\",'Accounting Data'!I2:I93564,\"2???\",'Accounting Data'!J2:J93564,\"681?\")+SUMIFS('Accounting Data'!C2:C93564,'Accounting Data'!E2:E93564,\"3??\",'Accounting Data'!H2:H93564,\"7??\",'Accounting Data'!I2:I93564,\"2???\",'Accounting Data'!J2:J93564,\"681?\")+SUMIFS('Accounting Data'!C2:C93564,'Accounting Data'!E2:E93564,\"639\",'Accounting Data'!H2:H93564,\"7??\",'Accounting Data'!I2:I93564,\"2???\",'Accounting Data'!J2:J93564,\"681?\")+SUMIFS('Accounting Data'!C2:C93564,'Accounting Data'!E2:E93564,\"699\",'Accounting Data'!H2:H93564,\"7??\",'Accounting Data'!I2:I93564,\"2???\",'Accounting Data'!J2:J93564,\"681?\")+SUMIFS('Accounting Data'!C2:C93564,'Accounting Data'!E2:E93564,\"720\",'Accounting Data'!H2:H93564,\"7??\",'Accounting Data'!I2:I93564,\"2???\",'Accounting Data'!J2:J93564,\"681?\")+SUMIFS('Accounting Data'!C2:C93564,'Accounting Data'!E2:E93564,\"COVID\",'Accounting Data'!H2:H93564,\"7??\",'Accounting Data'!I2:I93564,\"2???\",'Accounting Data'!J2:J93564,\"681?\")","v":0},{"$f":"SUMIFS('Accounting Data'!C2:C93564,'Accounting Data'!E2:E93564,\"1??\",'Accounting Data'!H2:H93564,\"8??\",'Accounting Data'!I2:I93564,\"2???\",'Accounting Data'!J2:J93564,\"681?\")+SUMIFS('Accounting Data'!C2:C93564,'Accounting Data'!E2:E93564,\"2??\",'Accounting Data'!H2:H93564,\"8??\",'Accounting Data'!I2:I93564,\"2???\",'Accounting Data'!J2:J93564,\"681?\")+SUMIFS('Accounting Data'!C2:C93564,'Accounting Data'!E2:E93564,\"3??\",'Accounting Data'!H2:H93564,\"8??\",'Accounting Data'!I2:I93564,\"2???\",'Accounting Data'!J2:J93564,\"681?\")+SUMIFS('Accounting Data'!C2:C93564,'Accounting Data'!E2:E93564,\"639\",'Accounting Data'!H2:H93564,\"8??\",'Accounting Data'!I2:I93564,\"2???\",'Accounting Data'!J2:J93564,\"681?\")+SUMIFS('Accounting Data'!C2:C93564,'Accounting Data'!E2:E93564,\"699\",'Accounting Data'!H2:H93564,\"8??\",'Accounting Data'!I2:I93564,\"2???\",'Accounting Data'!J2:J93564,\"681?\")+SUMIFS('Accounting Data'!C2:C93564,'Accounting Data'!E2:E93564,\"720\",'Accounting Data'!H2:H93564,\"8??\",'Accounting Data'!I2:I93564,\"2???\",'Accounting Data'!J2:J93564,\"681?\")+SUMIFS('Accounting Data'!C2:C93564,'Accounting Data'!E2:E93564,\"COVID\",'Accounting Data'!H2:H93564,\"8??\",'Accounting Data'!I2:I93564,\"2???\",'Accounting Data'!J2:J93564,\"681?\")","v":0},{"$f":"SUMIFS('Accounting Data'!C2:C93564,'Accounting Data'!E2:E93564,\"1??\",'Accounting Data'!H2:H93564,\"9??\",'Accounting Data'!I2:I93564,\"2???\",'Accounting Data'!J2:J93564,\"681?\")+SUMIFS('Accounting Data'!C2:C93564,'Accounting Data'!E2:E93564,\"2??\",'Accounting Data'!H2:H93564,\"9??\",'Accounting Data'!I2:I93564,\"2???\",'Accounting Data'!J2:J93564,\"681?\")+SUMIFS('Accounting Data'!C2:C93564,'Accounting Data'!E2:E93564,\"3??\",'Accounting Data'!H2:H93564,\"9??\",'Accounting Data'!I2:I93564,\"2???\",'Accounting Data'!J2:J93564,\"681?\")+SUMIFS('Accounting Data'!C2:C93564,'Accounting Data'!E2:E93564,\"639\",'Accounting Data'!H2:H93564,\"9??\",'Accounting Data'!I2:I93564,\"2???\",'Accounting Data'!J2:J93564,\"681?\")+SUMIFS('Accounting Data'!C2:C93564,'Accounting Data'!E2:E93564,\"699\",'Accounting Data'!H2:H93564,\"9??\",'Accounting Data'!I2:I93564,\"2???\",'Accounting Data'!J2:J93564,\"681?\")+SUMIFS('Accounting Data'!C2:C93564,'Accounting Data'!E2:E93564,\"720\",'Accounting Data'!H2:H93564,\"9??\",'Accounting Data'!I2:I93564,\"2???\",'Accounting Data'!J2:J93564,\"681?\")+SUMIFS('Accounting Data'!C2:C93564,'Accounting Data'!E2:E93564,\"COVID\",'Accounting Data'!H2:H93564,\"9??\",'Accounting Data'!I2:I93564,\"2???\",'Accounting Data'!J2:J93564,\"681?\")","v":0},{"$f":"SUMIFS('Accounting Data'!C2:C93564,'Accounting Data'!E2:E93564,\"1??\",'Accounting Data'!H2:H93564,\"7??\",'Accounting Data'!I2:I93564,\"3???\",'Accounting Data'!J2:J93564,\"681?\")+SUMIFS('Accounting Data'!C2:C93564,'Accounting Data'!E2:E93564,\"2??\",'Accounting Data'!H2:H93564,\"7??\",'Accounting Data'!I2:I93564,\"3???\",'Accounting Data'!J2:J93564,\"681?\")+SUMIFS('Accounting Data'!C2:C93564,'Accounting Data'!E2:E93564,\"3??\",'Accounting Data'!H2:H93564,\"7??\",'Accounting Data'!I2:I93564,\"3???\",'Accounting Data'!J2:J93564,\"681?\")+SUMIFS('Accounting Data'!C2:C93564,'Accounting Data'!E2:E93564,\"639\",'Accounting Data'!H2:H93564,\"7??\",'Accounting Data'!I2:I93564,\"3???\",'Accounting Data'!J2:J93564,\"681?\")+SUMIFS('Accounting Data'!C2:C93564,'Accounting Data'!E2:E93564,\"699\",'Accounting Data'!H2:H93564,\"7??\",'Accounting Data'!I2:I93564,\"3???\",'Accounting Data'!J2:J93564,\"681?\")+SUMIFS('Accounting Data'!C2:C93564,'Accounting Data'!E2:E93564,\"720\",'Accounting Data'!H2:H93564,\"7??\",'Accounting Data'!I2:I93564,\"3???\",'Accounting Data'!J2:J93564,\"681?\")+SUMIFS('Accounting Data'!C2:C93564,'Accounting Data'!E2:E93564,\"COVID\",'Accounting Data'!H2:H93564,\"7??\",'Accounting Data'!I2:I93564,\"3???\",'Accounting Data'!J2:J93564,\"681?\")","v":0},{"$f":"SUMIFS('Accounting Data'!C2:C93564,'Accounting Data'!E2:E93564,\"1??\",'Accounting Data'!H2:H93564,\"8??\",'Accounting Data'!I2:I93564,\"3???\",'Accounting Data'!J2:J93564,\"681?\")+SUMIFS('Accounting Data'!C2:C93564,'Accounting Data'!E2:E93564,\"2??\",'Accounting Data'!H2:H93564,\"8??\",'Accounting Data'!I2:I93564,\"3???\",'Accounting Data'!J2:J93564,\"681?\")+SUMIFS('Accounting Data'!C2:C93564,'Accounting Data'!E2:E93564,\"3??\",'Accounting Data'!H2:H93564,\"8??\",'Accounting Data'!I2:I93564,\"3???\",'Accounting Data'!J2:J93564,\"681?\")+SUMIFS('Accounting Data'!C2:C93564,'Accounting Data'!E2:E93564,\"639\",'Accounting Data'!H2:H93564,\"8??\",'Accounting Data'!I2:I93564,\"3???\",'Accounting Data'!J2:J93564,\"681?\")+SUMIFS('Accounting Data'!C2:C93564,'Accounting Data'!E2:E93564,\"699\",'Accounting Data'!H2:H93564,\"8??\",'Accounting Data'!I2:I93564,\"3???\",'Accounting Data'!J2:J93564,\"681?\")+SUMIFS('Accounting Data'!C2:C93564,'Accounting Data'!E2:E93564,\"720\",'Accounting Data'!H2:H93564,\"8??\",'Accounting Data'!I2:I93564,\"3???\",'Accounting Data'!J2:J93564,\"681?\")+SUMIFS('Accounting Data'!C2:C93564,'Accounting Data'!E2:E93564,\"COVID\",'Accounting Data'!H2:H93564,\"8??\",'Accounting Data'!I2:I93564,\"3???\",'Accounting Data'!J2:J93564,\"681?\")","v":0},{"$f":"SUMIFS('Accounting Data'!C2:C93564,'Accounting Data'!E2:E93564,\"1??\",'Accounting Data'!H2:H93564,\"9??\",'Accounting Data'!I2:I93564,\"3???\",'Accounting Data'!J2:J93564,\"681?\")+SUMIFS('Accounting Data'!C2:C93564,'Accounting Data'!E2:E93564,\"2??\",'Accounting Data'!H2:H93564,\"9??\",'Accounting Data'!I2:I93564,\"3???\",'Accounting Data'!J2:J93564,\"681?\")+SUMIFS('Accounting Data'!C2:C93564,'Accounting Data'!E2:E93564,\"3??\",'Accounting Data'!H2:H93564,\"9??\",'Accounting Data'!I2:I93564,\"3???\",'Accounting Data'!J2:J93564,\"681?\")+SUMIFS('Accounting Data'!C2:C93564,'Accounting Data'!E2:E93564,\"639\",'Accounting Data'!H2:H93564,\"9??\",'Accounting Data'!I2:I93564,\"3???\",'Accounting Data'!J2:J93564,\"681?\")+SUMIFS('Accounting Data'!C2:C93564,'Accounting Data'!E2:E93564,\"699\",'Accounting Data'!H2:H93564,\"9??\",'Accounting Data'!I2:I93564,\"3???\",'Accounting Data'!J2:J93564,\"681?\")+SUMIFS('Accounting Data'!C2:C93564,'Accounting Data'!E2:E93564,\"720\",'Accounting Data'!H2:H93564,\"9??\",'Accounting Data'!I2:I93564,\"3???\",'Accounting Data'!J2:J93564,\"681?\")+SUMIFS('Accounting Data'!C2:C93564,'Accounting Data'!E2:E93564,\"COVID\",'Accounting Data'!H2:H93564,\"9??\",'Accounting Data'!I2:I93564,\"3???\",'Accounting Data'!J2:J93564,\"681?\")","v":0}]
["5. Cocurricular Activities, Athletics, and Other (Program 600-630) ",null,null,160221.5,0,89575,0,"5.","Property Detail for Function 4000 (Funds 001-799, excluding 575)",null,null,null,null,null,null,null,null,null,null,null,null,null,null,null,null,6890,{"$f":"SUMIFS('Accounting Data'!C2:C93564,'Accounting Data'!E2:E93564,\"1??\",'Accounting Data'!I2:I93564,\"1???\",'Accounting Data'!J2:J93564,\"689?\")+SUMIFS('Accounting Data'!C2:C93564,'Accounting Data'!E2:E93564,\"2??\",'Accounting Data'!I2:I93564,\"1???\",'Accounting Data'!J2:J93564,\"689?\")+SUMIFS('Accounting Data'!C2:C93564,'Accounting Data'!E2:E93564,\"3??\",'Accounting Data'!I2:I93564,\"1???\",'Accounting Data'!J2:J93564,\"689?\")+SUMIFS('Accounting Data'!C2:C93564,'Accounting Data'!E2:E93564,\"639\",'Accounting Data'!I2:I93564,\"1???\",'Accounting Data'!J2:J93564,\"689?\")+SUMIFS('Accounting Data'!C2:C93564,'Accounting Data'!E2:E93564,\"699\",'Accounting Data'!I2:I93564,\"1???\",'Accounting Data'!J2:J93564,\"689?\")+SUMIFS('Accounting Data'!C2:C93564,'Accounting Data'!E2:E93564,\"720\",'Accounting Data'!I2:I93564,\"1???\",'Accounting Data'!J2:J93564,\"689?\")+SUMIFS('Accounting Data'!C2:C93564,'Accounting Data'!E2:E93564,\"COVID\",'Accounting Data'!I2:I93564,\"1???\",'Accounting Data'!J2:J93564,\"689?\")","v":0},{"$f":"SUMIFS('Accounting Data'!C2:C93564,'Accounting Data'!E2:E93564,\"1??\",'Accounting Data'!I2:I93564,\"2???\",'Accounting Data'!J2:J93564,\"689?\")+SUMIFS('Accounting Data'!C2:C93564,'Accounting Data'!E2:E93564,\"2??\",'Accounting Data'!I2:I93564,\"2???\",'Accounting Data'!J2:J93564,\"689?\")+SUMIFS('Accounting Data'!C2:C93564,'Accounting Data'!E2:E93564,\"3??\",'Accounting Data'!I2:I93564,\"2???\",'Accounting Data'!J2:J93564,\"689?\")+SUMIFS('Accounting Data'!C2:C93564,'Accounting Data'!E2:E93564,\"639\",'Accounting Data'!I2:I93564,\"2???\",'Accounting Data'!J2:J93564,\"689?\")+SUMIFS('Accounting Data'!C2:C93564,'Accounting Data'!E2:E93564,\"699\",'Accounting Data'!I2:I93564,\"2???\",'Accounting Data'!J2:J93564,\"689?\")+SUMIFS('Accounting Data'!C2:C93564,'Accounting Data'!E2:E93564,\"720\",'Accounting Data'!I2:I93564,\"2???\",'Accounting Data'!J2:J93564,\"689?\")+SUMIFS('Accounting Data'!C2:C93564,'Accounting Data'!E2:E93564,\"COVID\",'Accounting Data'!I2:I93564,\"2???\",'Accounting Data'!J2:J93564,\"689?\")","v":-33207},{"$f":"SUMIFS('Accounting Data'!C2:C93564,'Accounting Data'!E2:E93564,\"1??\",'Accounting Data'!I2:I93564,\"3???\",'Accounting Data'!J2:J93564,\"689?\")+SUMIFS('Accounting Data'!C2:C93564,'Accounting Data'!E2:E93564,\"2??\",'Accounting Data'!I2:I93564,\"3???\",'Accounting Data'!J2:J93564,\"689?\")+SUMIFS('Accounting Data'!C2:C93564,'Accounting Data'!E2:E93564,\"3??\",'Accounting Data'!I2:I93564,\"3???\",'Accounting Data'!J2:J93564,\"689?\")+SUMIFS('Accounting Data'!C2:C93564,'Accounting Data'!E2:E93564,\"639\",'Accounting Data'!I2:I93564,\"3???\",'Accounting Data'!J2:J93564,\"689?\")+SUMIFS('Accounting Data'!C2:C93564,'Accounting Data'!E2:E93564,\"699\",'Accounting Data'!I2:I93564,\"3???\",'Accounting Data'!J2:J93564,\"689?\")+SUMIFS('Accounting Data'!C2:C93564,'Accounting Data'!E2:E93564,\"720\",'Accounting Data'!I2:I93564,\"3???\",'Accounting Data'!J2:J93564,\"689?\")+SUMIFS('Accounting Data'!C2:C93564,'Accounting Data'!E2:E93564,\"COVID\",'Accounting Data'!I2:I93564,\"3???\",'Accounting Data'!J2:J93564,\"689?\")","v":0},{"$f":"SUMIFS('Accounting Data'!C2:C93564,'Accounting Data'!E2:E93564,\"1??\",'Accounting Data'!H2:H93564,\"7??\",'Accounting Data'!I2:I93564,\"1???\",'Accounting Data'!J2:J93564,\"689?\")+SUMIFS('Accounting Data'!C2:C93564,'Accounting Data'!E2:E93564,\"2??\",'Accounting Data'!H2:H93564,\"7??\",'Accounting Data'!I2:I93564,\"1???\",'Accounting Data'!J2:J93564,\"689?\")+SUMIFS('Accounting Data'!C2:C93564,'Accounting Data'!E2:E93564,\"3??\",'Accounting Data'!H2:H93564,\"7??\",'Accounting Data'!I2:I93564,\"1???\",'Accounting Data'!J2:J93564,\"689?\")+SUMIFS('Accounting Data'!C2:C93564,'Accounting Data'!E2:E93564,\"639\",'Accounting Data'!H2:H93564,\"7??\",'Accounting Data'!I2:I93564,\"1???\",'Accounting Data'!J2:J93564,\"689?\")+SUMIFS('Accounting Data'!C2:C93564,'Accounting Data'!E2:E93564,\"699\",'Accounting Data'!H2:H93564,\"7??\",'Accounting Data'!I2:I93564,\"1???\",'Accounting Data'!J2:J93564,\"689?\")+SUMIFS('Accounting Data'!C2:C93564,'Accounting Data'!E2:E93564,\"720\",'Accounting Data'!H2:H93564,\"7??\",'Accounting Data'!I2:I93564,\"1???\",'Accounting Data'!J2:J93564,\"689?\")+SUMIFS('Accounting Data'!C2:C93564,'Accounting Data'!E2:E93564,\"COVID\",'Accounting Data'!H2:H93564,\"7??\",'Accounting Data'!I2:I93564,\"1???\",'Accounting Data'!J2:J93564,\"689?\")","v":0},{"$f":"SUMIFS('Accounting Data'!C2:C93564,'Accounting Data'!E2:E93564,\"1??\",'Accounting Data'!H2:H93564,\"8??\",'Accounting Data'!I2:I93564,\"1???\",'Accounting Data'!J2:J93564,\"689?\")+SUMIFS('Accounting Data'!C2:C93564,'Accounting Data'!E2:E93564,\"2??\",'Accounting Data'!H2:H93564,\"8??\",'Accounting Data'!I2:I93564,\"1???\",'Accounting Data'!J2:J93564,\"689?\")+SUMIFS('Accounting Data'!C2:C93564,'Accounting Data'!E2:E93564,\"3??\",'Accounting Data'!H2:H93564,\"8??\",'Accounting Data'!I2:I93564,\"1???\",'Accounting Data'!J2:J93564,\"689?\")+SUMIFS('Accounting Data'!C2:C93564,'Accounting Data'!E2:E93564,\"639\",'Accounting Data'!H2:H93564,\"8??\",'Accounting Data'!I2:I93564,\"1???\",'Accounting Data'!J2:J93564,\"689?\")+SUMIFS('Accounting Data'!C2:C93564,'Accounting Data'!E2:E93564,\"699\",'Accounting Data'!H2:H93564,\"8??\",'Accounting Data'!I2:I93564,\"1???\",'Accounting Data'!J2:J93564,\"689?\")+SUMIFS('Accounting Data'!C2:C93564,'Accounting Data'!E2:E93564,\"720\",'Accounting Data'!H2:H93564,\"8??\",'Accounting Data'!I2:I93564,\"1???\",'Accounting Data'!J2:J93564,\"689?\")+SUMIFS('Accounting Data'!C2:C93564,'Accounting Data'!E2:E93564,\"COVID\",'Accounting Data'!H2:H93564,\"8??\",'Accounting Data'!I2:I93564,\"1???\",'Accounting Data'!J2:J93564,\"689?\")","v":0},{"$f":"SUMIFS('Accounting Data'!C2:C93564,'Accounting Data'!E2:E93564,\"1??\",'Accounting Data'!H2:H93564,\"9??\",'Accounting Data'!I2:I93564,\"1???\",'Accounting Data'!J2:J93564,\"689?\")+SUMIFS('Accounting Data'!C2:C93564,'Accounting Data'!E2:E93564,\"2??\",'Accounting Data'!H2:H93564,\"9??\",'Accounting Data'!I2:I93564,\"1???\",'Accounting Data'!J2:J93564,\"689?\")+SUMIFS('Accounting Data'!C2:C93564,'Accounting Data'!E2:E93564,\"3??\",'Accounting Data'!H2:H93564,\"9??\",'Accounting Data'!I2:I93564,\"1???\",'Accounting Data'!J2:J93564,\"689?\")+SUMIFS('Accounting Data'!C2:C93564,'Accounting Data'!E2:E93564,\"639\",'Accounting Data'!H2:H93564,\"9??\",'Accounting Data'!I2:I93564,\"1???\",'Accounting Data'!J2:J93564,\"689?\")+SUMIFS('Accounting Data'!C2:C93564,'Accounting Data'!E2:E93564,\"699\",'Accounting Data'!H2:H93564,\"9??\",'Accounting Data'!I2:I93564,\"1???\",'Accounting Data'!J2:J93564,\"689?\")+SUMIFS('Accounting Data'!C2:C93564,'Accounting Data'!E2:E93564,\"720\",'Accounting Data'!H2:H93564,\"9??\",'Accounting Data'!I2:I93564,\"1???\",'Accounting Data'!J2:J93564,\"689?\")+SUMIFS('Accounting Data'!C2:C93564,'Accounting Data'!E2:E93564,\"COVID\",'Accounting Data'!H2:H93564,\"9??\",'Accounting Data'!I2:I93564,\"1???\",'Accounting Data'!J2:J93564,\"689?\")","v":0},{"$f":"SUMIFS('Accounting Data'!C2:C93564,'Accounting Data'!E2:E93564,\"1??\",'Accounting Data'!H2:H93564,\"7??\",'Accounting Data'!I2:I93564,\"2???\",'Accounting Data'!J2:J93564,\"689?\")+SUMIFS('Accounting Data'!C2:C93564,'Accounting Data'!E2:E93564,\"2??\",'Accounting Data'!H2:H93564,\"7??\",'Accounting Data'!I2:I93564,\"2???\",'Accounting Data'!J2:J93564,\"689?\")+SUMIFS('Accounting Data'!C2:C93564,'Accounting Data'!E2:E93564,\"3??\",'Accounting Data'!H2:H93564,\"7??\",'Accounting Data'!I2:I93564,\"2???\",'Accounting Data'!J2:J93564,\"689?\")+SUMIFS('Accounting Data'!C2:C93564,'Accounting Data'!E2:E93564,\"639\",'Accounting Data'!H2:H93564,\"7??\",'Accounting Data'!I2:I93564,\"2???\",'Accounting Data'!J2:J93564,\"689?\")+SUMIFS('Accounting Data'!C2:C93564,'Accounting Data'!E2:E93564,\"699\",'Accounting Data'!H2:H93564,\"7??\",'Accounting Data'!I2:I93564,\"2???\",'Accounting Data'!J2:J93564,\"689?\")+SUMIFS('Accounting Data'!C2:C93564,'Accounting Data'!E2:E93564,\"720\",'Accounting Data'!H2:H93564,\"7??\",'Accounting Data'!I2:I93564,\"2???\",'Accounting Data'!J2:J93564,\"689?\")+SUMIFS('Accounting Data'!C2:C93564,'Accounting Data'!E2:E93564,\"COVID\",'Accounting Data'!H2:H93564,\"7??\",'Accounting Data'!I2:I93564,\"2???\",'Accounting Data'!J2:J93564,\"689?\")","v":0},{"$f":"SUMIFS('Accounting Data'!C2:C93564,'Accounting Data'!E2:E93564,\"1??\",'Accounting Data'!H2:H93564,\"8??\",'Accounting Data'!I2:I93564,\"2???\",'Accounting Data'!J2:J93564,\"689?\")+SUMIFS('Accounting Data'!C2:C93564,'Accounting Data'!E2:E93564,\"2??\",'Accounting Data'!H2:H93564,\"8??\",'Accounting Data'!I2:I93564,\"2???\",'Accounting Data'!J2:J93564,\"689?\")+SUMIFS('Accounting Data'!C2:C93564,'Accounting Data'!E2:E93564,\"3??\",'Accounting Data'!H2:H93564,\"8??\",'Accounting Data'!I2:I93564,\"2???\",'Accounting Data'!J2:J93564,\"689?\")+SUMIFS('Accounting Data'!C2:C93564,'Accounting Data'!E2:E93564,\"639\",'Accounting Data'!H2:H93564,\"8??\",'Accounting Data'!I2:I93564,\"2???\",'Accounting Data'!J2:J93564,\"689?\")+SUMIFS('Accounting Data'!C2:C93564,'Accounting Data'!E2:E93564,\"699\",'Accounting Data'!H2:H93564,\"8??\",'Accounting Data'!I2:I93564,\"2???\",'Accounting Data'!J2:J93564,\"689?\")+SUMIFS('Accounting Data'!C2:C93564,'Accounting Data'!E2:E93564,\"720\",'Accounting Data'!H2:H93564,\"8??\",'Accounting Data'!I2:I93564,\"2???\",'Accounting Data'!J2:J93564,\"689?\")+SUMIFS('Accounting Data'!C2:C93564,'Accounting Data'!E2:E93564,\"COVID\",'Accounting Data'!H2:H93564,\"8??\",'Accounting Data'!I2:I93564,\"2???\",'Accounting Data'!J2:J93564,\"689?\")","v":0},{"$f":"SUMIFS('Accounting Data'!C2:C93564,'Accounting Data'!E2:E93564,\"1??\",'Accounting Data'!H2:H93564,\"9??\",'Accounting Data'!I2:I93564,\"2???\",'Accounting Data'!J2:J93564,\"689?\")+SUMIFS('Accounting Data'!C2:C93564,'Accounting Data'!E2:E93564,\"2??\",'Accounting Data'!H2:H93564,\"9??\",'Accounting Data'!I2:I93564,\"2???\",'Accounting Data'!J2:J93564,\"689?\")+SUMIFS('Accounting Data'!C2:C93564,'Accounting Data'!E2:E93564,\"3??\",'Accounting Data'!H2:H93564,\"9??\",'Accounting Data'!I2:I93564,\"2???\",'Accounting Data'!J2:J93564,\"689?\")+SUMIFS('Accounting Data'!C2:C93564,'Accounting Data'!E2:E93564,\"639\",'Accounting Data'!H2:H93564,\"9??\",'Accounting Data'!I2:I93564,\"2???\",'Accounting Data'!J2:J93564,\"689?\")+SUMIFS('Accounting Data'!C2:C93564,'Accounting Data'!E2:E93564,\"699\",'Accounting Data'!H2:H93564,\"9??\",'Accounting Data'!I2:I93564,\"2???\",'Accounting Data'!J2:J93564,\"689?\")+SUMIFS('Accounting Data'!C2:C93564,'Accounting Data'!E2:E93564,\"720\",'Accounting Data'!H2:H93564,\"9??\",'Accounting Data'!I2:I93564,\"2???\",'Accounting Data'!J2:J93564,\"689?\")+SUMIFS('Accounting Data'!C2:C93564,'Accounting Data'!E2:E93564,\"COVID\",'Accounting Data'!H2:H93564,\"9??\",'Accounting Data'!I2:I93564,\"2???\",'Accounting Data'!J2:J93564,\"689?\")","v":0},{"$f":"SUMIFS('Accounting Data'!C2:C93564,'Accounting Data'!E2:E93564,\"1??\",'Accounting Data'!H2:H93564,\"7??\",'Accounting Data'!I2:I93564,\"3???\",'Accounting Data'!J2:J93564,\"689?\")+SUMIFS('Accounting Data'!C2:C93564,'Accounting Data'!E2:E93564,\"2??\",'Accounting Data'!H2:H93564,\"7??\",'Accounting Data'!I2:I93564,\"3???\",'Accounting Data'!J2:J93564,\"689?\")+SUMIFS('Accounting Data'!C2:C93564,'Accounting Data'!E2:E93564,\"3??\",'Accounting Data'!H2:H93564,\"7??\",'Accounting Data'!I2:I93564,\"3???\",'Accounting Data'!J2:J93564,\"689?\")+SUMIFS('Accounting Data'!C2:C93564,'Accounting Data'!E2:E93564,\"639\",'Accounting Data'!H2:H93564,\"7??\",'Accounting Data'!I2:I93564,\"3???\",'Accounting Data'!J2:J93564,\"689?\")+SUMIFS('Accounting Data'!C2:C93564,'Accounting Data'!E2:E93564,\"699\",'Accounting Data'!H2:H93564,\"7??\",'Accounting Data'!I2:I93564,\"3???\",'Accounting Data'!J2:J93564,\"689?\")+SUMIFS('Accounting Data'!C2:C93564,'Accounting Data'!E2:E93564,\"720\",'Accounting Data'!H2:H93564,\"7??\",'Accounting Data'!I2:I93564,\"3???\",'Accounting Data'!J2:J93564,\"689?\")+SUMIFS('Accounting Data'!C2:C93564,'Accounting Data'!E2:E93564,\"COVID\",'Accounting Data'!H2:H93564,\"7??\",'Accounting Data'!I2:I93564,\"3???\",'Accounting Data'!J2:J93564,\"689?\")","v":0},{"$f":"SUMIFS('Accounting Data'!C2:C93564,'Accounting Data'!E2:E93564,\"1??\",'Accounting Data'!H2:H93564,\"8??\",'Accounting Data'!I2:I93564,\"3???\",'Accounting Data'!J2:J93564,\"689?\")+SUMIFS('Accounting Data'!C2:C93564,'Accounting Data'!E2:E93564,\"2??\",'Accounting Data'!H2:H93564,\"8??\",'Accounting Data'!I2:I93564,\"3???\",'Accounting Data'!J2:J93564,\"689?\")+SUMIFS('Accounting Data'!C2:C93564,'Accounting Data'!E2:E93564,\"3??\",'Accounting Data'!H2:H93564,\"8??\",'Accounting Data'!I2:I93564,\"3???\",'Accounting Data'!J2:J93564,\"689?\")+SUMIFS('Accounting Data'!C2:C93564,'Accounting Data'!E2:E93564,\"639\",'Accounting Data'!H2:H93564,\"8??\",'Accounting Data'!I2:I93564,\"3???\",'Accounting Data'!J2:J93564,\"689?\")+SUMIFS('Accounting Data'!C2:C93564,'Accounting Data'!E2:E93564,\"699\",'Accounting Data'!H2:H93564,\"8??\",'Accounting Data'!I2:I93564,\"3???\",'Accounting Data'!J2:J93564,\"689?\")+SUMIFS('Accounting Data'!C2:C93564,'Accounting Data'!E2:E93564,\"720\",'Accounting Data'!H2:H93564,\"8??\",'Accounting Data'!I2:I93564,\"3???\",'Accounting Data'!J2:J93564,\"689?\")+SUMIFS('Accounting Data'!C2:C93564,'Accounting Data'!E2:E93564,\"COVID\",'Accounting Data'!H2:H93564,\"8??\",'Accounting Data'!I2:I93564,\"3???\",'Accounting Data'!J2:J93564,\"689?\")","v":0},{"$f":"SUMIFS('Accounting Data'!C2:C93564,'Accounting Data'!E2:E93564,\"1??\",'Accounting Data'!H2:H93564,\"9??\",'Accounting Data'!I2:I93564,\"3???\",'Accounting Data'!J2:J93564,\"689?\")+SUMIFS('Accounting Data'!C2:C93564,'Accounting Data'!E2:E93564,\"2??\",'Accounting Data'!H2:H93564,\"9??\",'Accounting Data'!I2:I93564,\"3???\",'Accounting Data'!J2:J93564,\"689?\")+SUMIFS('Accounting Data'!C2:C93564,'Accounting Data'!E2:E93564,\"3??\",'Accounting Data'!H2:H93564,\"9??\",'Accounting Data'!I2:I93564,\"3???\",'Accounting Data'!J2:J93564,\"689?\")+SUMIFS('Accounting Data'!C2:C93564,'Accounting Data'!E2:E93564,\"639\",'Accounting Data'!H2:H93564,\"9??\",'Accounting Data'!I2:I93564,\"3???\",'Accounting Data'!J2:J93564,\"689?\")+SUMIFS('Accounting Data'!C2:C93564,'Accounting Data'!E2:E93564,\"699\",'Accounting Data'!H2:H93564,\"9??\",'Accounting Data'!I2:I93564,\"3???\",'Accounting Data'!J2:J93564,\"689?\")+SUMIFS('Accounting Data'!C2:C93564,'Accounting Data'!E2:E93564,\"720\",'Accounting Data'!H2:H93564,\"9??\",'Accounting Data'!I2:I93564,\"3???\",'Accounting Data'!J2:J93564,\"689?\")+SUMIFS('Accounting Data'!C2:C93564,'Accounting Data'!E2:E93564,\"COVID\",'Accounting Data'!H2:H93564,\"9??\",'Accounting Data'!I2:I93564,\"3???\",'Accounting Data'!J2:J93564,\"689?\")","v":0}]
[null,null,null,null,null,null,null,null,"1. 6710 Land and Improvements",null,null,{"$f":"(SUMIFS('Accounting Data'!C2:C93564,'Accounting Data'!I2:I93564,\"4???\",'Accounting Data'!J2:J93564,\"671?\"))-(SUMIFS('Accounting Data'!C2:C93564,'Accounting Data'!E2:E93564,\"575\",'Accounting Data'!I2:I93564,\"4???\",'Accounting Data'!J2:J93564,\"671?\")+SUMIFS('Accounting Data'!C2:C93564,'Accounting Data'!E2:E93564,\"8??\",'Accounting Data'!I2:I93564,\"4???\",'Accounting Data'!J2:J93564,\"671?\")+SUMIFS('Accounting Data'!C2:C93564,'Accounting Data'!E2:E93564,\"9??\",'Accounting Data'!I2:I93564,\"4???\",'Accounting Data'!J2:J93564,\"671?\"))","v":0},"1."]
["Other Items (Funds 001-799, excluding 575)",null,null,null,null,null,null,null,"2. 6720 Buildings and Improvements",null,null,{"$f":"(SUMIFS('Accounting Data'!C2:C93564,'Accounting Data'!I2:I93564,\"4???\",'Accounting Data'!J2:J93564,\"672?\"))-(SUMIFS('Accounting Data'!C2:C93564,'Accounting Data'!E2:E93564,\"575\",'Accounting Data'!I2:I93564,\"4???\",'Accounting Data'!J2:J93564,\"672?\")+SUMIFS('Accounting Data'!C2:C93564,'Accounting Data'!E2:E93564,\"8??\",'Accounting Data'!I2:I93564,\"4???\",'Accounting Data'!J2:J93564,\"672?\")+SUMIFS('Accounting Data'!C2:C93564,'Accounting Data'!E2:E93564,\"9??\",'Accounting Data'!I2:I93564,\"4???\",'Accounting Data'!J2:J93564,\"672?\"))","v":0},"2.",null,null,null,null,null,null,null,null,null,null,null,null,null,"Program 700","Program 800","Program 900","Program 700","Program 800","Program 900","Program 700","Program 800","Program 900"]
["6. Textbooks used for Instruction (Function 1000, Object 6640)",null,null,516040.76,"6.",null,null,null,"3. 6731-39 Equipment",null,null,{"$f":"(SUMIFS('Accounting Data'!C2:C93564,'Accounting Data'!I2:I93564,\"4???\",'Accounting Data'!J2:J93564,\"673?\"))-(SUMIFS('Accounting Data'!C2:C93564,'Accounting Data'!E2:E93564,\"575\",'Accounting Data'!I2:I93564,\"4???\",'Accounting Data'!J2:J93564,\"673?\")+SUMIFS('Accounting Data'!C2:C93564,'Accounting Data'!E2:E93564,\"8??\",'Accounting Data'!I2:I93564,\"4???\",'Accounting Data'!J2:J93564,\"673?\")+SUMIFS('Accounting Data'!C2:C93564,'Accounting Data'!E2:E93564,\"9??\",'Accounting Data'!I2:I93564,\"4???\",'Accounting Data'!J2:J93564,\"673?\"))","v":0},"3.",null,null,null,null,null,null,null,null,null,null,null,null,"Object","Function 1000","Function 1000","Function 1000","Function 2000","Function 2000","Function 2000","Function 3000","Function 3000","Function 3000"]
["7. Number of FTE-Certified Teachers",null,null,160,"7.",null,null,null,"4. Total (lines 1-3)",null,null,{"$f":"SUM(L40:L42)","v":0},"4.",null,null,null,null,null,null,null,null,null,null,null,null,6000,{"$f":"SUMIFS('Accounting Data'!C2:C93564,'Accounting Data'!E2:E93564,\"1??\",'Accounting Data'!H2:H93564,\"7??\",'Accounting Data'!I2:I93564,\"1???\",'Accounting Data'!J2:J93564,\"6???\")+SUMIFS('Accounting Data'!C2:C93564,'Accounting Data'!E2:E93564,\"2??\",'Accounting Data'!H2:H93564,\"7??\",'Accounting Data'!I2:I93564,\"1???\",'Accounting Data'!J2:J93564,\"6???\")+SUMIFS('Accounting Data'!C2:C93564,'Accounting Data'!E2:E93564,\"3??\",'Accounting Data'!H2:H93564,\"7??\",'Accounting Data'!I2:I93564,\"1???\",'Accounting Data'!J2:J93564,\"6???\")+SUMIFS('Accounting Data'!C2:C93564,'Accounting Data'!E2:E93564,\"639\",'Accounting Data'!H2:H93564,\"7??\",'Accounting Data'!I2:I93564,\"1???\",'Accounting Data'!J2:J93564,\"6???\")+SUMIFS('Accounting Data'!C2:C93564,'Accounting Data'!E2:E93564,\"699\",'Accounting Data'!H2:H93564,\"7??\",'Accounting Data'!I2:I93564,\"1???\",'Accounting Data'!J2:J93564,\"6???\")+SUMIFS('Accounting Data'!C2:C93564,'Accounting Data'!E2:E93564,\"720\",'Accounting Data'!H2:H93564,\"7??\",'Accounting Data'!I2:I93564,\"1???\",'Accounting Data'!J2:J93564,\"6???\")+SUMIFS('Accounting Data'!C2:C93564,'Accounting Data'!E2:E93564,\"COVID\",'Accounting Data'!H2:H93564,\"7??\",'Accounting Data'!I2:I93564,\"1???\",'Accounting Data'!J2:J93564,\"6???\")","v":0},{"$f":"SUMIFS('Accounting Data'!C2:C93564,'Accounting Data'!E2:E93564,\"1??\",'Accounting Data'!H2:H93564,\"8??\",'Accounting Data'!I2:I93564,\"1???\",'Accounting Data'!J2:J93564,\"6???\")+SUMIFS('Accounting Data'!C2:C93564,'Accounting Data'!E2:E93564,\"2??\",'Accounting Data'!H2:H93564,\"8??\",'Accounting Data'!I2:I93564,\"1???\",'Accounting Data'!J2:J93564,\"6???\")+SUMIFS('Accounting Data'!C2:C93564,'Accounting Data'!E2:E93564,\"3??\",'Accounting Data'!H2:H93564,\"8??\",'Accounting Data'!I2:I93564,\"1???\",'Accounting Data'!J2:J93564,\"6???\")+SUMIFS('Accounting Data'!C2:C93564,'Accounting Data'!E2:E93564,\"639\",'Accounting Data'!H2:H93564,\"8??\",'Accounting Data'!I2:I93564,\"1???\",'Accounting Data'!J2:J93564,\"6???\")+SUMIFS('Accounting Data'!C2:C93564,'Accounting Data'!E2:E93564,\"699\",'Accounting Data'!H2:H93564,\"8??\",'Accounting Data'!I2:I93564,\"1???\",'Accounting Data'!J2:J93564,\"6???\")+SUMIFS('Accounting Data'!C2:C93564,'Accounting Data'!E2:E93564,\"720\",'Accounting Data'!H2:H93564,\"8??\",'Accounting Data'!I2:I93564,\"1???\",'Accounting Data'!J2:J93564,\"6???\")+SUMIFS('Accounting Data'!C2:C93564,'Accounting Data'!E2:E93564,\"COVID\",'Accounting Data'!H2:H93564,\"8??\",'Accounting Data'!I2:I93564,\"1???\",'Accounting Data'!J2:J93564,\"6???\")","v":0},{"$f":"SUMIFS('Accounting Data'!C2:C93564,'Accounting Data'!E2:E93564,\"1??\",'Accounting Data'!H2:H93564,\"9??\",'Accounting Data'!I2:I93564,\"1???\",'Accounting Data'!J2:J93564,\"6???\")+SUMIFS('Accounting Data'!C2:C93564,'Accounting Data'!E2:E93564,\"2??\",'Accounting Data'!H2:H93564,\"9??\",'Accounting Data'!I2:I93564,\"1???\",'Accounting Data'!J2:J93564,\"6???\")+SUMIFS('Accounting Data'!C2:C93564,'Accounting Data'!E2:E93564,\"3??\",'Accounting Data'!H2:H93564,\"9??\",'Accounting Data'!I2:I93564,\"1???\",'Accounting Data'!J2:J93564,\"6???\")+SUMIFS('Accounting Data'!C2:C93564,'Accounting Data'!E2:E93564,\"639\",'Accounting Data'!H2:H93564,\"9??\",'Accounting Data'!I2:I93564,\"1???\",'Accounting Data'!J2:J93564,\"6???\")+SUMIFS('Accounting Data'!C2:C93564,'Accounting Data'!E2:E93564,\"699\",'Accounting Data'!H2:H93564,\"9??\",'Accounting Data'!I2:I93564,\"1???\",'Accounting Data'!J2:J93564,\"6???\")+SUMIFS('Accounting Data'!C2:C93564,'Accounting Data'!E2:E93564,\"720\",'Accounting Data'!H2:H93564,\"9??\",'Accounting Data'!I2:I93564,\"1???\",'Accounting Data'!J2:J93564,\"6???\")+SUMIFS('Accounting Data'!C2:C93564,'Accounting Data'!E2:E93564,\"COVID\",'Accounting Data'!H2:H93564,\"9??\",'Accounting Data'!I2:I93564,\"1???\",'Accounting Data'!J2:J93564,\"6???\")","v":0},{"$f":"SUMIFS('Accounting Data'!C2:C93564,'Accounting Data'!E2:E93564,\"1??\",'Accounting Data'!H2:H93564,\"7??\",'Accounting Data'!I2:I93564,\"2???\",'Accounting Data'!J2:J93564,\"6???\")+SUMIFS('Accounting Data'!C2:C93564,'Accounting Data'!E2:E93564,\"2??\",'Accounting Data'!H2:H93564,\"7??\",'Accounting Data'!I2:I93564,\"2???\",'Accounting Data'!J2:J93564,\"6???\")+SUMIFS('Accounting Data'!C2:C93564,'Accounting Data'!E2:E93564,\"3??\",'Accounting Data'!H2:H93564,\"7??\",'Accounting Data'!I2:I93564,\"2???\",'Accounting Data'!J2:J93564,\"6???\")+SUMIFS('Accounting Data'!C2:C93564,'Accounting Data'!E2:E93564,\"639\",'Accounting Data'!H2:H93564,\"7??\",'Accounting Data'!I2:I93564,\"2???\",'Accounting Data'!J2:J93564,\"6???\")+SUMIFS('Accounting Data'!C2:C93564,'Accounting Data'!E2:E93564,\"699\",'Accounting Data'!H2:H93564,\"7??\",'Accounting Data'!I2:I93564,\"2???\",'Accounting Data'!J2:J93564,\"6???\")+SUMIFS('Accounting Data'!C2:C93564,'Accounting Data'!E2:E93564,\"720\",'Accounting Data'!H2:H93564,\"7??\",'Accounting Data'!I2:I93564,\"2???\",'Accounting Data'!J2:J93564,\"6???\")+SUMIFS('Accounting Data'!C2:C93564,'Accounting Data'!E2:E93564,\"COVID\",'Accounting Data'!H2:H93564,\"7??\",'Accounting Data'!I2:I93564,\"2???\",'Accounting Data'!J2:J93564,\"6???\")","v":0},{"$f":"SUMIFS('Accounting Data'!C2:C93564,'Accounting Data'!E2:E93564,\"1??\",'Accounting Data'!H2:H93564,\"8??\",'Accounting Data'!I2:I93564,\"2???\",'Accounting Data'!J2:J93564,\"6???\")+SUMIFS('Accounting Data'!C2:C93564,'Accounting Data'!E2:E93564,\"2??\",'Accounting Data'!H2:H93564,\"8??\",'Accounting Data'!I2:I93564,\"2???\",'Accounting Data'!J2:J93564,\"6???\")+SUMIFS('Accounting Data'!C2:C93564,'Accounting Data'!E2:E93564,\"3??\",'Accounting Data'!H2:H93564,\"8??\",'Accounting Data'!I2:I93564,\"2???\",'Accounting Data'!J2:J93564,\"6???\")+SUMIFS('Accounting Data'!C2:C93564,'Accounting Data'!E2:E93564,\"639\",'Accounting Data'!H2:H93564,\"8??\",'Accounting Data'!I2:I93564,\"2???\",'Accounting Data'!J2:J93564,\"6???\")+SUMIFS('Accounting Data'!C2:C93564,'Accounting Data'!E2:E93564,\"699\",'Accounting Data'!H2:H93564,\"8??\",'Accounting Data'!I2:I93564,\"2???\",'Accounting Data'!J2:J93564,\"6???\")+SUMIFS('Accounting Data'!C2:C93564,'Accounting Data'!E2:E93564,\"720\",'Accounting Data'!H2:H93564,\"8??\",'Accounting Data'!I2:I93564,\"2???\",'Accounting Data'!J2:J93564,\"6???\")+SUMIFS('Accounting Data'!C2:C93564,'Accounting Data'!E2:E93564,\"COVID\",'Accounting Data'!H2:H93564,\"8??\",'Accounting Data'!I2:I93564,\"2???\",'Accounting Data'!J2:J93564,\"6???\")","v":0},{"$f":"SUMIFS('Accounting Data'!C2:C93564,'Accounting Data'!E2:E93564,\"1??\",'Accounting Data'!H2:H93564,\"9??\",'Accounting Data'!I2:I93564,\"2???\",'Accounting Data'!J2:J93564,\"6???\")+SUMIFS('Accounting Data'!C2:C93564,'Accounting Data'!E2:E93564,\"2??\",'Accounting Data'!H2:H93564,\"9??\",'Accounting Data'!I2:I93564,\"2???\",'Accounting Data'!J2:J93564,\"6???\")+SUMIFS('Accounting Data'!C2:C93564,'Accounting Data'!E2:E93564,\"3??\",'Accounting Data'!H2:H93564,\"9??\",'Accounting Data'!I2:I93564,\"2???\",'Accounting Data'!J2:J93564,\"6???\")+SUMIFS('Accounting Data'!C2:C93564,'Accounting Data'!E2:E93564,\"639\",'Accounting Data'!H2:H93564,\"9??\",'Accounting Data'!I2:I93564,\"2???\",'Accounting Data'!J2:J93564,\"6???\")+SUMIFS('Accounting Data'!C2:C93564,'Accounting Data'!E2:E93564,\"699\",'Accounting Data'!H2:H93564,\"9??\",'Accounting Data'!I2:I93564,\"2???\",'Accounting Data'!J2:J93564,\"6???\")+SUMIFS('Accounting Data'!C2:C93564,'Accounting Data'!E2:E93564,\"720\",'Accounting Data'!H2:H93564,\"9??\",'Accounting Data'!I2:I93564,\"2???\",'Accounting Data'!J2:J93564,\"6???\")+SUMIFS('Accounting Data'!C2:C93564,'Accounting Data'!E2:E93564,\"COVID\",'Accounting Data'!H2:H93564,\"9??\",'Accounting Data'!I2:I93564,\"2???\",'Accounting Data'!J2:J93564,\"6???\")","v":0},{"$f":"SUMIFS('Accounting Data'!C2:C93564,'Accounting Data'!E2:E93564,\"1??\",'Accounting Data'!H2:H93564,\"7??\",'Accounting Data'!I2:I93564,\"3???\",'Accounting Data'!J2:J93564,\"6???\")+SUMIFS('Accounting Data'!C2:C93564,'Accounting Data'!E2:E93564,\"2??\",'Accounting Data'!H2:H93564,\"7??\",'Accounting Data'!I2:I93564,\"3???\",'Accounting Data'!J2:J93564,\"6???\")+SUMIFS('Accounting Data'!C2:C93564,'Accounting Data'!E2:E93564,\"3??\",'Accounting Data'!H2:H93564,\"7??\",'Accounting Data'!I2:I93564,\"3???\",'Accounting Data'!J2:J93564,\"6???\")+SUMIFS('Accounting Data'!C2:C93564,'Accounting Data'!E2:E93564,\"639\",'Accounting Data'!H2:H93564,\"7??\",'Accounting Data'!I2:I93564,\"3???\",'Accounting Data'!J2:J93564,\"6???\")+SUMIFS('Accounting Data'!C2:C93564,'Accounting Data'!E2:E93564,\"699\",'Accounting Data'!H2:H93564,\"7??\",'Accounting Data'!I2:I93564,\"3???\",'Accounting Data'!J2:J93564,\"6???\")+SUMIFS('Accounting Data'!C2:C93564,'Accounting Data'!E2:E93564,\"720\",'Accounting Data'!H2:H93564,\"7??\",'Accounting Data'!I2:I93564,\"3???\",'Accounting Data'!J2:J93564,\"6???\")+SUMIFS('Accounting Data'!C2:C93564,'Accounting Data'!E2:E93564,\"COVID\",'Accounting Data'!H2:H93564,\"7??\",'Accounting Data'!I2:I93564,\"3???\",'Accounting Data'!J2:J93564,\"6???\")","v":0},{"$f":"SUMIFS('Accounting Data'!C2:C93564,'Accounting Data'!E2:E93564,\"1??\",'Accounting Data'!H2:H93564,\"8??\",'Accounting Data'!I2:I93564,\"3???\",'Accounting Data'!J2:J93564,\"6???\")+SUMIFS('Accounting Data'!C2:C93564,'Accounting Data'!E2:E93564,\"2??\",'Accounting Data'!H2:H93564,\"8??\",'Accounting Data'!I2:I93564,\"3???\",'Accounting Data'!J2:J93564,\"6???\")+SUMIFS('Accounting Data'!C2:C93564,'Accounting Data'!E2:E93564,\"3??\",'Accounting Data'!H2:H93564,\"8??\",'Accounting Data'!I2:I93564,\"3???\",'Accounting Data'!J2:J93564,\"6???\")+SUMIFS('Accounting Data'!C2:C93564,'Accounting Data'!E2:E93564,\"639\",'Accounting Data'!H2:H93564,\"8??\",'Accounting Data'!I2:I93564,\"3???\",'Accounting Data'!J2:J93564,\"6???\")+SUMIFS('Accounting Data'!C2:C93564,'Accounting Data'!E2:E93564,\"699\",'Accounting Data'!H2:H93564,\"8??\",'Accounting Data'!I2:I93564,\"3???\",'Accounting Data'!J2:J93564,\"6???\")+SUMIFS('Accounting Data'!C2:C93564,'Accounting Data'!E2:E93564,\"720\",'Accounting Data'!H2:H93564,\"8??\",'Accounting Data'!I2:I93564,\"3???\",'Accounting Data'!J2:J93564,\"6???\")+SUMIFS('Accounting Data'!C2:C93564,'Accounting Data'!E2:E93564,\"COVID\",'Accounting Data'!H2:H93564,\"8??\",'Accounting Data'!I2:I93564,\"3???\",'Accounting Data'!J2:J93564,\"6???\")","v":0},{"$f":"SUMIFS('Accounting Data'!C2:C93564,'Accounting Data'!E2:E93564,\"1??\",'Accounting Data'!H2:H93564,\"9??\",'Accounting Data'!I2:I93564,\"3???\",'Accounting Data'!J2:J93564,\"6???\")+SUMIFS('Accounting Data'!C2:C93564,'Accounting Data'!E2:E93564,\"2??\",'Accounting Data'!H2:H93564,\"9??\",'Accounting Data'!I2:I93564,\"3???\",'Accounting Data'!J2:J93564,\"6???\")+SUMIFS('Accounting Data'!C2:C93564,'Accounting Data'!E2:E93564,\"3??\",'Accounting Data'!H2:H93564,\"9??\",'Accounting Data'!I2:I93564,\"3???\",'Accounting Data'!J2:J93564,\"6???\")+SUMIFS('Accounting Data'!C2:C93564,'Accounting Data'!E2:E93564,\"639\",'Accounting Data'!H2:H93564,\"9??\",'Accounting Data'!I2:I93564,\"3???\",'Accounting Data'!J2:J93564,\"6???\")+SUMIFS('Accounting Data'!C2:C93564,'Accounting Data'!E2:E93564,\"699\",'Accounting Data'!H2:H93564,\"9??\",'Accounting Data'!I2:I93564,\"3???\",'Accounting Data'!J2:J93564,\"6???\")+SUMIFS('Accounting Data'!C2:C93564,'Accounting Data'!E2:E93564,\"720\",'Accounting Data'!H2:H93564,\"9??\",'Accounting Data'!I2:I93564,\"3???\",'Accounting Data'!J2:J93564,\"6???\")+SUMIFS('Accounting Data'!C2:C93564,'Accounting Data'!E2:E93564,\"COVID\",'Accounting Data'!H2:H93564,\"9??\",'Accounting Data'!I2:I93564,\"3???\",'Accounting Data'!J2:J93564,\"6???\")","v":0}]
["8. Number of FTE-Contract Teachers",null,null,2,"8.",null,null,null,"5. 6450 Construction",null,null,{"$f":"(SUMIFS('Accounting Data'!C2:C93564,'Accounting Data'!I2:I93564,\"4???\",'Accounting Data'!J2:J93564,\"645?\"))-(SUMIFS('Accounting Data'!C2:C93564,'Accounting Data'!E2:E93564,\"575\",'Accounting Data'!I2:I93564,\"4???\",'Accounting Data'!J2:J93564,\"645?\")+SUMIFS('Accounting Data'!C2:C93564,'Accounting Data'!E2:E93564,\"8??\",'Accounting Data'!I2:I93564,\"4???\",'Accounting Data'!J2:J93564,\"645?\")+SUMIFS('Accounting Data'!C2:C93564,'Accounting Data'!E2:E93564,\"9??\",'Accounting Data'!I2:I93564,\"4???\",'Accounting Data'!J2:J93564,\"645?\"))","v":979678},"5.",null,null,null,null,null,null,null,null,null,null,null,null,6900,{"$f":"SUMIFS('Accounting Data'!C2:C93564,'Accounting Data'!E2:E93564,\"1??\",'Accounting Data'!H2:H93564,\"7??\",'Accounting Data'!I2:I93564,\"1???\",'Accounting Data'!J2:J93564,\"69??\")+SUMIFS('Accounting Data'!C2:C93564,'Accounting Data'!E2:E93564,\"2??\",'Accounting Data'!H2:H93564,\"7??\",'Accounting Data'!I2:I93564,\"1???\",'Accounting Data'!J2:J93564,\"69??\")+SUMIFS('Accounting Data'!C2:C93564,'Accounting Data'!E2:E93564,\"3??\",'Accounting Data'!H2:H93564,\"7??\",'Accounting Data'!I2:I93564,\"1???\",'Accounting Data'!J2:J93564,\"69??\")+SUMIFS('Accounting Data'!C2:C93564,'Accounting Data'!E2:E93564,\"639\",'Accounting Data'!H2:H93564,\"7??\",'Accounting Data'!I2:I93564,\"1???\",'Accounting Data'!J2:J93564,\"69??\")+SUMIFS('Accounting Data'!C2:C93564,'Accounting Data'!E2:E93564,\"699\",'Accounting Data'!H2:H93564,\"7??\",'Accounting Data'!I2:I93564,\"1???\",'Accounting Data'!J2:J93564,\"69??\")+SUMIFS('Accounting Data'!C2:C93564,'Accounting Data'!E2:E93564,\"720\",'Accounting Data'!H2:H93564,\"7??\",'Accounting Data'!I2:I93564,\"1???\",'Accounting Data'!J2:J93564,\"69??\")+SUMIFS('Accounting Data'!C2:C93564,'Accounting Data'!E2:E93564,\"COVID\",'Accounting Data'!H2:H93564,\"7??\",'Accounting Data'!I2:I93564,\"1???\",'Accounting Data'!J2:J93564,\"69??\")","v":0},{"$f":"SUMIFS('Accounting Data'!C2:C93564,'Accounting Data'!E2:E93564,\"1??\",'Accounting Data'!H2:H93564,\"8??\",'Accounting Data'!I2:I93564,\"1???\",'Accounting Data'!J2:J93564,\"69??\")+SUMIFS('Accounting Data'!C2:C93564,'Accounting Data'!E2:E93564,\"2??\",'Accounting Data'!H2:H93564,\"8??\",'Accounting Data'!I2:I93564,\"1???\",'Accounting Data'!J2:J93564,\"69??\")+SUMIFS('Accounting Data'!C2:C93564,'Accounting Data'!E2:E93564,\"3??\",'Accounting Data'!H2:H93564,\"8??\",'Accounting Data'!I2:I93564,\"1???\",'Accounting Data'!J2:J93564,\"69??\")+SUMIFS('Accounting Data'!C2:C93564,'Accounting Data'!E2:E93564,\"639\",'Accounting Data'!H2:H93564,\"8??\",'Accounting Data'!I2:I93564,\"1???\",'Accounting Data'!J2:J93564,\"69??\")+SUMIFS('Accounting Data'!C2:C93564,'Accounting Data'!E2:E93564,\"699\",'Accounting Data'!H2:H93564,\"8??\",'Accounting Data'!I2:I93564,\"1???\",'Accounting Data'!J2:J93564,\"69??\")+SUMIFS('Accounting Data'!C2:C93564,'Accounting Data'!E2:E93564,\"720\",'Accounting Data'!H2:H93564,\"8??\",'Accounting Data'!I2:I93564,\"1???\",'Accounting Data'!J2:J93564,\"69??\")+SUMIFS('Accounting Data'!C2:C93564,'Accounting Data'!E2:E93564,\"COVID\",'Accounting Data'!H2:H93564,\"8??\",'Accounting Data'!I2:I93564,\"1???\",'Accounting Data'!J2:J93564,\"69??\")","v":0},{"$f":"SUMIFS('Accounting Data'!C2:C93564,'Accounting Data'!E2:E93564,\"1??\",'Accounting Data'!H2:H93564,\"9??\",'Accounting Data'!I2:I93564,\"1???\",'Accounting Data'!J2:J93564,\"69??\")+SUMIFS('Accounting Data'!C2:C93564,'Accounting Data'!E2:E93564,\"2??\",'Accounting Data'!H2:H93564,\"9??\",'Accounting Data'!I2:I93564,\"1???\",'Accounting Data'!J2:J93564,\"69??\")+SUMIFS('Accounting Data'!C2:C93564,'Accounting Data'!E2:E93564,\"3??\",'Accounting Data'!H2:H93564,\"9??\",'Accounting Data'!I2:I93564,\"1???\",'Accounting Data'!J2:J93564,\"69??\")+SUMIFS('Accounting Data'!C2:C93564,'Accounting Data'!E2:E93564,\"639\",'Accounting Data'!H2:H93564,\"9??\",'Accounting Data'!I2:I93564,\"1???\",'Accounting Data'!J2:J93564,\"69??\")+SUMIFS('Accounting Data'!C2:C93564,'Accounting Data'!E2:E93564,\"699\",'Accounting Data'!H2:H93564,\"9??\",'Accounting Data'!I2:I93564,\"1???\",'Accounting Data'!J2:J93564,\"69??\")+SUMIFS('Accounting Data'!C2:C93564,'Accounting Data'!E2:E93564,\"720\",'Accounting Data'!H2:H93564,\"9??\",'Accounting Data'!I2:I93564,\"1???\",'Accounting Data'!J2:J93564,\"69??\")+SUMIFS('Accounting Data'!C2:C93564,'Accounting Data'!E2:E93564,\"COVID\",'Accounting Data'!H2:H93564,\"9??\",'Accounting Data'!I2:I93564,\"1???\",'Accounting Data'!J2:J93564,\"69??\")","v":0},{"$f":"SUMIFS('Accounting Data'!C2:C93564,'Accounting Data'!E2:E93564,\"1??\",'Accounting Data'!H2:H93564,\"7??\",'Accounting Data'!I2:I93564,\"2???\",'Accounting Data'!J2:J93564,\"69??\")+SUMIFS('Accounting Data'!C2:C93564,'Accounting Data'!E2:E93564,\"2??\",'Accounting Data'!H2:H93564,\"7??\",'Accounting Data'!I2:I93564,\"2???\",'Accounting Data'!J2:J93564,\"69??\")+SUMIFS('Accounting Data'!C2:C93564,'Accounting Data'!E2:E93564,\"3??\",'Accounting Data'!H2:H93564,\"7??\",'Accounting Data'!I2:I93564,\"2???\",'Accounting Data'!J2:J93564,\"69??\")+SUMIFS('Accounting Data'!C2:C93564,'Accounting Data'!E2:E93564,\"639\",'Accounting Data'!H2:H93564,\"7??\",'Accounting Data'!I2:I93564,\"2???\",'Accounting Data'!J2:J93564,\"69??\")+SUMIFS('Accounting Data'!C2:C93564,'Accounting Data'!E2:E93564,\"699\",'Accounting Data'!H2:H93564,\"7??\",'Accounting Data'!I2:I93564,\"2???\",'Accounting Data'!J2:J93564,\"69??\")+SUMIFS('Accounting Data'!C2:C93564,'Accounting Data'!E2:E93564,\"720\",'Accounting Data'!H2:H93564,\"7??\",'Accounting Data'!I2:I93564,\"2???\",'Accounting Data'!J2:J93564,\"69??\")+SUMIFS('Accounting Data'!C2:C93564,'Accounting Data'!E2:E93564,\"COVID\",'Accounting Data'!H2:H93564,\"7??\",'Accounting Data'!I2:I93564,\"2???\",'Accounting Data'!J2:J93564,\"69??\")","v":0},{"$f":"SUMIFS('Accounting Data'!C2:C93564,'Accounting Data'!E2:E93564,\"1??\",'Accounting Data'!H2:H93564,\"8??\",'Accounting Data'!I2:I93564,\"2???\",'Accounting Data'!J2:J93564,\"69??\")+SUMIFS('Accounting Data'!C2:C93564,'Accounting Data'!E2:E93564,\"2??\",'Accounting Data'!H2:H93564,\"8??\",'Accounting Data'!I2:I93564,\"2???\",'Accounting Data'!J2:J93564,\"69??\")+SUMIFS('Accounting Data'!C2:C93564,'Accounting Data'!E2:E93564,\"3??\",'Accounting Data'!H2:H93564,\"8??\",'Accounting Data'!I2:I93564,\"2???\",'Accounting Data'!J2:J93564,\"69??\")+SUMIFS('Accounting Data'!C2:C93564,'Accounting Data'!E2:E93564,\"639\",'Accounting Data'!H2:H93564,\"8??\",'Accounting Data'!I2:I93564,\"2???\",'Accounting Data'!J2:J93564,\"69??\")+SUMIFS('Accounting Data'!C2:C93564,'Accounting Data'!E2:E93564,\"699\",'Accounting Data'!H2:H93564,\"8??\",'Accounting Data'!I2:I93564,\"2???\",'Accounting Data'!J2:J93564,\"69??\")+SUMIFS('Accounting Data'!C2:C93564,'Accounting Data'!E2:E93564,\"720\",'Accounting Data'!H2:H93564,\"8??\",'Accounting Data'!I2:I93564,\"2???\",'Accounting Data'!J2:J93564,\"69??\")+SUMIFS('Accounting Data'!C2:C93564,'Accounting Data'!E2:E93564,\"COVID\",'Accounting Data'!H2:H93564,\"8??\",'Accounting Data'!I2:I93564,\"2???\",'Accounting Data'!J2:J93564,\"69??\")","v":0},{"$f":"SUMIFS('Accounting Data'!C2:C93564,'Accounting Data'!E2:E93564,\"1??\",'Accounting Data'!H2:H93564,\"9??\",'Accounting Data'!I2:I93564,\"2???\",'Accounting Data'!J2:J93564,\"69??\")+SUMIFS('Accounting Data'!C2:C93564,'Accounting Data'!E2:E93564,\"2??\",'Accounting Data'!H2:H93564,\"9??\",'Accounting Data'!I2:I93564,\"2???\",'Accounting Data'!J2:J93564,\"69??\")+SUMIFS('Accounting Data'!C2:C93564,'Accounting Data'!E2:E93564,\"3??\",'Accounting Data'!H2:H93564,\"9??\",'Accounting Data'!I2:I93564,\"2???\",'Accounting Data'!J2:J93564,\"69??\")+SUMIFS('Accounting Data'!C2:C93564,'Accounting Data'!E2:E93564,\"639\",'Accounting Data'!H2:H93564,\"9??\",'Accounting Data'!I2:I93564,\"2???\",'Accounting Data'!J2:J93564,\"69??\")+SUMIFS('Accounting Data'!C2:C93564,'Accounting Data'!E2:E93564,\"699\",'Accounting Data'!H2:H93564,\"9??\",'Accounting Data'!I2:I93564,\"2???\",'Accounting Data'!J2:J93564,\"69??\")+SUMIFS('Accounting Data'!C2:C93564,'Accounting Data'!E2:E93564,\"720\",'Accounting Data'!H2:H93564,\"9??\",'Accounting Data'!I2:I93564,\"2???\",'Accounting Data'!J2:J93564,\"69??\")+SUMIFS('Accounting Data'!C2:C93564,'Accounting Data'!E2:E93564,\"COVID\",'Accounting Data'!H2:H93564,\"9??\",'Accounting Data'!I2:I93564,\"2???\",'Accounting Data'!J2:J93564,\"69??\")","v":0},{"$f":"SUMIFS('Accounting Data'!C2:C93564,'Accounting Data'!E2:E93564,\"1??\",'Accounting Data'!H2:H93564,\"7??\",'Accounting Data'!I2:I93564,\"3???\",'Accounting Data'!J2:J93564,\"69??\")+SUMIFS('Accounting Data'!C2:C93564,'Accounting Data'!E2:E93564,\"2??\",'Accounting Data'!H2:H93564,\"7??\",'Accounting Data'!I2:I93564,\"3???\",'Accounting Data'!J2:J93564,\"69??\")+SUMIFS('Accounting Data'!C2:C93564,'Accounting Data'!E2:E93564,\"3??\",'Accounting Data'!H2:H93564,\"7??\",'Accounting Data'!I2:I93564,\"3???\",'Accounting Data'!J2:J93564,\"69??\")+SUMIFS('Accounting Data'!C2:C93564,'Accounting Data'!E2:E93564,\"639\",'Accounting Data'!H2:H93564,\"7??\",'Accounting Data'!I2:I93564,\"3???\",'Accounting Data'!J2:J93564,\"69??\")+SUMIFS('Accounting Data'!C2:C93564,'Accounting Data'!E2:E93564,\"699\",'Accounting Data'!H2:H93564,\"7??\",'Accounting Data'!I2:I93564,\"3???\",'Accounting Data'!J2:J93564,\"69??\")+SUMIFS('Accounting Data'!C2:C93564,'Accounting Data'!E2:E93564,\"720\",'Accounting Data'!H2:H93564,\"7??\",'Accounting Data'!I2:I93564,\"3???\",'Accounting Data'!J2:J93564,\"69??\")+SUMIFS('Accounting Data'!C2:C93564,'Accounting Data'!E2:E93564,\"COVID\",'Accounting Data'!H2:H93564,\"7??\",'Accounting Data'!I2:I93564,\"3???\",'Accounting Data'!J2:J93564,\"69??\")","v":0},{"$f":"SUMIFS('Accounting Data'!C2:C93564,'Accounting Data'!E2:E93564,\"1??\",'Accounting Data'!H2:H93564,\"8??\",'Accounting Data'!I2:I93564,\"3???\",'Accounting Data'!J2:J93564,\"69??\")+SUMIFS('Accounting Data'!C2:C93564,'Accounting Data'!E2:E93564,\"2??\",'Accounting Data'!H2:H93564,\"8??\",'Accounting Data'!I2:I93564,\"3???\",'Accounting Data'!J2:J93564,\"69??\")+SUMIFS('Accounting Data'!C2:C93564,'Accounting Data'!E2:E93564,\"3??\",'Accounting Data'!H2:H93564,\"8??\",'Accounting Data'!I2:I93564,\"3???\",'Accounting Data'!J2:J93564,\"69??\")+SUMIFS('Accounting Data'!C2:C93564,'Accounting Data'!E2:E93564,\"639\",'Accounting Data'!H2:H93564,\"8??\",'Accounting Data'!I2:I93564,\"3???\",'Accounting Data'!J2:J93564,\"69??\")+SUMIFS('Accounting Data'!C2:C93564,'Accounting Data'!E2:E93564,\"699\",'Accounting Data'!H2:H93564,\"8??\",'Accounting Data'!I2:I93564,\"3???\",'Accounting Data'!J2:J93564,\"69??\")+SUMIFS('Accounting Data'!C2:C93564,'Accounting Data'!E2:E93564,\"720\",'Accounting Data'!H2:H93564,\"8??\",'Accounting Data'!I2:I93564,\"3???\",'Accounting Data'!J2:J93564,\"69??\")+SUMIFS('Accounting Data'!C2:C93564,'Accounting Data'!E2:E93564,\"COVID\",'Accounting Data'!H2:H93564,\"8??\",'Accounting Data'!I2:I93564,\"3???\",'Accounting Data'!J2:J93564,\"69??\")","v":0},{"$f":"SUMIFS('Accounting Data'!C2:C93564,'Accounting Data'!E2:E93564,\"1??\",'Accounting Data'!H2:H93564,\"9??\",'Accounting Data'!I2:I93564,\"3???\",'Accounting Data'!J2:J93564,\"69??\")+SUMIFS('Accounting Data'!C2:C93564,'Accounting Data'!E2:E93564,\"2??\",'Accounting Data'!H2:H93564,\"9??\",'Accounting Data'!I2:I93564,\"3???\",'Accounting Data'!J2:J93564,\"69??\")+SUMIFS('Accounting Data'!C2:C93564,'Accounting Data'!E2:E93564,\"3??\",'Accounting Data'!H2:H93564,\"9??\",'Accounting Data'!I2:I93564,\"3???\",'Accounting Data'!J2:J93564,\"69??\")+SUMIFS('Accounting Data'!C2:C93564,'Accounting Data'!E2:E93564,\"639\",'Accounting Data'!H2:H93564,\"9??\",'Accounting Data'!I2:I93564,\"3???\",'Accounting Data'!J2:J93564,\"69??\")+SUMIFS('Accounting Data'!C2:C93564,'Accounting Data'!E2:E93564,\"699\",'Accounting Data'!H2:H93564,\"9??\",'Accounting Data'!I2:I93564,\"3???\",'Accounting Data'!J2:J93564,\"69??\")+SUMIFS('Accounting Data'!C2:C93564,'Accounting Data'!E2:E93564,\"720\",'Accounting Data'!H2:H93564,\"9??\",'Accounting Data'!I2:I93564,\"3???\",'Accounting Data'!J2:J93564,\"69??\")+SUMIFS('Accounting Data'!C2:C93564,'Accounting Data'!E2:E93564,\"COVID\",'Accounting Data'!H2:H93564,\"9??\",'Accounting Data'!I2:I93564,\"3???\",'Accounting Data'!J2:J93564,\"69??\")","v":0}]
[]
["Utilities and Energy Detail (Funds 001-799 excluding 575, Only Function 2600)",null,null,null,null,null,null,null,"Technology (Funds 001-799 excluding 575, All Functions)",null,null,null,null,null,null,null,null,null,null,null,null,null,null,null,null,"Object 6100"]
["1. 6410-6411 Utility Services",null,null,{"$f":"SUMIFS('Accounting Data'!C2:C93564,'Accounting Data'!I2:I93564,\"26??\",'Accounting Data'!J2:J93564,\"6410\")+SUMIFS('Accounting Data'!C2:C93564,'Accounting Data'!I2:I93564,\"26??\",'Accounting Data'!J2:J93564,\"6411\")-(SUMIFS('Accounting Data'!C2:C93564,'Accounting Data'!E2:E93564,\"575\",'Accounting Data'!I2:I93564,\"26??\",'Accounting Data'!J2:J93564,\"6410\")+SUMIFS('Accounting Data'!C2:C93564,'Accounting Data'!E2:E93564,\"8??\",'Accounting Data'!I2:I93564,\"26??\",'Accounting Data'!J2:J93564,\"6410\")+SUMIFS('Accounting Data'!C2:C93564,'Accounting Data'!E2:E93564,\"9??\",'Accounting Data'!I2:I93564,\"26??\",'Accounting Data'!J2:J93564,\"6410\")+SUMIFS('Accounting Data'!C2:C93564,'Accounting Data'!E2:E93564,\"575\",'Accounting Data'!I2:I93564,\"26??\",'Accounting Data'!J2:J93564,\"6411\")+SUMIFS('Accounting Data'!C2:C93564,'Accounting Data'!E2:E93564,\"8??\",'Accounting Data'!I2:I93564,\"26??\",'Accounting Data'!J2:J93564,\"6411\")+SUMIFS('Accounting Data'!C2:C93564,'Accounting Data'!E2:E93564,\"9??\",'Accounting Data'!I2:I93564,\"26??\",'Accounting Data'!J2:J93564,\"6411\"))","v":189222},"1.",null,null,null,"1. 6340 Technical Services",null,null,null,null,{"$f":"SUMIFS('Accounting Data'!C2:C93564,'Accounting Data'!J2:J93564,\"634?\")-(SUM(SUMIFS('Accounting Data'!C2:C93564,'Accounting Data'!E2:E93564,{\"575\",\"8??\",\"9??\"},'Accounting Data'!J2:J93564,\"634?\")))","v":80460},"1.",null,null,null,null,null,null,null,null,null,null,null,"All Funds ","Excluded Funds\n575, 800-999","Programs 700-900","Programs 700-900 Excluded Funds (to add back to avoid double exclusion)"]
["2. 6620-6629 Energy",null,null,{"$f":"SUMIFS('Accounting Data'!C2:C93564,'Accounting Data'!I2:I93564,\"26??\",'Accounting Data'!J2:J93564,\"662?\")-(SUMIFS('Accounting Data'!C2:C93564,'Accounting Data'!E2:E93564,\"575\",'Accounting Data'!I2:I93564,\"26??\",'Accounting Data'!J2:J93564,\"662?\")+SUMIFS('Accounting Data'!C2:C93564,'Accounting Data'!E2:E93564,\"8??\",'Accounting Data'!I2:I93564,\"26??\",'Accounting Data'!J2:J93564,\"662?\")+SUMIFS('Accounting Data'!C2:C93564,'Accounting Data'!E2:E93564,\"9??\",'Accounting Data'!I2:I93564,\"26??\",'Accounting Data'!J2:J93564,\"662?\"))","v":521099},"2.",null,null,null,"2. 6432 Technology-Related Repairs and Maintenance",null,null,null,null,{"$f":"SUMIFS('Accounting Data'!C2:C93564,'Accounting Data'!J2:J93564,\"6432\")-(SUM(SUMIFS('Accounting Data'!C2:C93564,'Accounting Data'!E2:E93564,{\"575\",\"8??\",\"9??\"},'Accounting Data'!J2:J93564,\"6432\")))","v":84022},"2.",null,null,null,null,null,null,null,null,null,null,"Function",null,null,"All Funds","Fund 575 ","Funds 800-899","Funds 900-999"]
[null,null,null,null,null,null,null,null,"3. 6443 Rental of Computers and Related Equipment",null,null,null,null,{"$f":"SUMIFS('Accounting Data'!C2:C93564,'Accounting Data'!J2:J93564,\"6443\")-(SUM(SUMIFS('Accounting Data'!C2:C93564,'Accounting Data'!E2:E93564,{\"575\",\"8??\",\"9??\"},'Accounting Data'!J2:J93564,\"6443\")))","v":0},"3.",null,null,null,null,null,null,null,null,null,null,1900,{"$f":"ROUND(SUMIFS('Accounting Data'!C2:C93564,'Accounting Data'!I2:I93564,\"19??\",'Accounting Data'!J2:J93564,\"61??\"),0)","v":1962301},{"$f":"ROUND(SUMIFS('Accounting Data'!C2:C93564,'Accounting Data'!E2:E93564,\"575\",'Accounting Data'!I2:I93564,\"19??\",'Accounting Data'!J2:J93564,\"61??\")+SUMIFS('Accounting Data'!C2:C93564,'Accounting Data'!E2:E93564,\"8??\",'Accounting Data'!I2:I93564,\"19??\",'Accounting Data'!J2:J93564,\"61??\")+SUMIFS('Accounting Data'!C2:C93564,'Accounting Data'!E2:E93564,\"9??\",'Accounting Data'!I2:I93564,\"19??\",'Accounting Data'!J2:J93564,\"61??\"),0)","v":0},{"$f":"ROUND(SUMIFS('Accounting Data'!C2:C93564,'Accounting Data'!H2:H93564,\"7??\",'Accounting Data'!I2:I93564,\"19??\",'Accounting Data'!J2:J93564,\"61??\")+SUMIFS('Accounting Data'!C2:C93564,'Accounting Data'!H2:H93564,\"8??\",'Accounting Data'!I2:I93564,\"19??\",'Accounting Data'!J2:J93564,\"61??\")+SUMIFS('Accounting Data'!C2:C93564,'Accounting Data'!H2:H93564,\"9??\",'Accounting Data'!I2:I93564,\"19??\",'Accounting Data'!J2:J93564,\"61??\"),0)","v":0},{"$f":"ROUND(SUMIFS('Accounting Data'!C2:C93564,'Accounting Data'!E2:E93564,\"575\",'Accounting Data'!H2:H93564,\"7??\",'Accounting Data'!I2:I93564,\"19??\",'Accounting Data'!J2:J93564,\"61??\")+SUMIFS('Accounting Data'!C2:C93564,'Accounting Data'!E2:E93564,\"575\",'Accounting Data'!H2:H93564,\"8??\",'Accounting Data'!I2:I93564,\"19??\",'Accounting Data'!J2:J93564,\"61??\")+SUMIFS('Accounting Data'!C2:C93564,'Accounting Data'!E2:E93564,\"575\",'Accounting Data'!H2:H93564,\"9??\",'Accounting Data'!I2:I93564,\"19??\",'Accounting Data'!J2:J93564,\"61??\"),0)","v":0},{"$f":"ROUND(SUMIFS('Accounting Data'!C2:C93564,'Accounting Data'!E2:E93564,\"8??\",'Accounting Data'!H2:H93564,\"7??\",'Accounting Data'!I2:I93564,\"19??\",'Accounting Data'!J2:J93564,\"61??\")+SUMIFS('Accounting Data'!C2:C93564,'Accounting Data'!E2:E93564,\"8??\",'Accounting Data'!H2:H93564,\"8??\",'Accounting Data'!I2:I93564,\"19??\",'Accounting Data'!J2:J93564,\"61??\")+SUMIFS('Accounting Data'!C2:C93564,'Accounting Data'!E2:E93564,\"8??\",'Accounting Data'!H2:H93564,\"9??\",'Accounting Data'!I2:I93564,\"19??\",'Accounting Data'!J2:J93564,\"61??\"),0)","v":0},{"$f":"ROUND(SUMIFS('Accounting Data'!C2:C93564,'Accounting Data'!E2:E93564,\"9??\",'Accounting Data'!H2:H93564,\"7??\",'Accounting Data'!I2:I93564,\"19??\",'Accounting Data'!J2:J93564,\"61??\")+SUMIFS('Accounting Data'!C2:C93564,'Accounting Data'!E2:E93564,\"9??\",'Accounting Data'!H2:H93564,\"8??\",'Accounting Data'!I2:I93564,\"19??\",'Accounting Data'!J2:J93564,\"61??\")+SUMIFS('Accounting Data'!C2:C93564,'Accounting Data'!E2:E93564,\"9??\",'Accounting Data'!H2:H93564,\"9??\",'Accounting Data'!I2:I93564,\"19??\",'Accounting Data'!J2:J93564,\"61??\"),0)","v":0}]
["CTED Districts Only (Funds 001-799 excluding 575, All Functions)",null,null,null,null,null,null,null,"4. 6531 Telecommunications",null,null,null,null,{"$f":"SUMIFS('Accounting Data'!C2:C93564,'Accounting Data'!J2:J93564,\"6531\")-(SUMIFS('Accounting Data'!C2:C93564,'Accounting Data'!E2:E93564,\"575\",'Accounting Data'!J2:J93564,\"6531\")+SUMIFS('Accounting Data'!C2:C93564,'Accounting Data'!E2:E93564,\"8??\",'Accounting Data'!J2:J93564,\"6531\")+SUMIFS('Accounting Data'!C2:C93564,'Accounting Data'!E2:E93564,\"9??\",'Accounting Data'!J2:J93564,\"6531\"))","v":128553},"4."]
["1. 6591 Services Purchased from Other Arizona Districts",null,null,{"$f":"IF(VALUE(LEFT(RIGHT(N1,7),2))=8,SUMIFS('Accounting Data'!C2:C93564,'Accounting Data'!J2:J93564,\"6591\"),0)","v":0},"1.",null,null,null,"5. 6641-43 Software reported in library books, texbooks, or instructional aids",null,null,null,null,517409.63,"5.",null,null,null,null,null,null,null,null,null,null,"Federal Funds: 100-399, 639, 600, and 720"]
["2. 6870 Pass-through Payments",null,null,{"$f":"IF(VALUE(LEFT(RIGHT(N1,7),2))=8,SUMIFS('Accounting Data'!C2:C93564,'Accounting Data'!J2:J93564,\"687?\"),0)","v":0},"2.",null,null,null,"6. 6650 and 6655 Supplies–Technology-Related and Short-term noninstructional software subscriptions",null,null,null,null,{"$f":"SUMIFS('Accounting Data'!C2:C93564,'Accounting Data'!J2:J93564,\"665?\")-(SUMIFS('Accounting Data'!C2:C93564,'Accounting Data'!E2:E93564,\"575\",'Accounting Data'!J2:J93564,\"665?\")+SUMIFS('Accounting Data'!C2:C93564,'Accounting Data'!E2:E93564,\"8??\",'Accounting Data'!J2:J93564,\"665?\")+SUMIFS('Accounting Data'!C2:C93564,'Accounting Data'!E2:E93564,\"9??\",'Accounting Data'!J2:J93564,\"665?\"))","v":308556},"6.",null,null,null,null,null,null,null,null,null,null,"Object","All programs, function 2300",null,"Program 700,  function 2300",null,"Program 800,  function 2300",null,"Program 900,  function 2300"]
["3. 6880 Sub-awards",null,null,{"$f":"IF(VALUE(LEFT(RIGHT(N1,7),2))=8,SUMIFS('Accounting Data'!C2:C93564,'Accounting Data'!J2:J93564,\"688?\"),0)","v":0},"3.",null,null,null,"7. 6737-38 Technology-Related Hardware & Software (less than $5,000)",null,null,null,null,{"$f":"(SUMIFS('Accounting Data'!C2:C93564,'Accounting Data'!J2:J93564,\"6737\")+SUMIFS('Accounting Data'!C2:C93564,'Accounting Data'!J2:J93564,\"6738\"))-(SUMIFS('Accounting Data'!C2:C93564,'Accounting Data'!E2:E93564,\"575\",'Accounting Data'!J2:J93564,\"6737\")+SUMIFS('Accounting Data'!C2:C93564,'Accounting Data'!E2:E93564,\"8??\",'Accounting Data'!J2:J93564,\"6737\")+SUMIFS('Accounting Data'!C2:C93564,'Accounting Data'!E2:E93564,\"9??\",'Accounting Data'!J2:J93564,\"6737\")+SUMIFS('Accounting Data'!C2:C93564,'Accounting Data'!E2:E93564,\"575\",'Accounting Data'!J2:J93564,\"6738\")+SUMIFS('Accounting Data'!C2:C93564,'Accounting Data'!E2:E93564,\"8??\",'Accounting Data'!J2:J93564,\"6738\")+SUMIFS('Accounting Data'!C2:C93564,'Accounting Data'!E2:E93564,\"9??\",'Accounting Data'!J2:J93564,\"6738\"))","v":868315},"7.",null,null,null,null,null,null,null,null,null,null,6820,{"$f":"SUMIFS('Accounting Data'!$C$2:$C$93564,'Accounting Data'!$E$2:$E$93564,\"1??\",'Accounting Data'!$I$2:$I$93564,\"23??\",'Accounting Data'!$J$2:$J$93564,\"682?\")+SUMIFS('Accounting Data'!$C$2:$C$93564,'Accounting Data'!$E$2:$E$93564,\"2??\",'Accounting Data'!$I$2:$I$93564,\"23??\",'Accounting Data'!$J$2:$J$93564,\"682?\")+SUMIFS('Accounting Data'!$C$2:$C$93564,'Accounting Data'!$E$2:$E$93564,\"3??\",'Accounting Data'!$I$2:$I$93564,\"23??\",'Accounting Data'!$J$2:$J$93564,\"682?\")+SUMIFS('Accounting Data'!$C$2:$C$93564,'Accounting Data'!$E$2:$E$93564,\"639\",'Accounting Data'!$I$2:$I$93564,\"23??\",'Accounting Data'!$J$2:$J$93564,\"682?\")+SUMIFS('Accounting Data'!$C$2:$C$93564,'Accounting Data'!$E$2:$E$93564,\"699\",'Accounting Data'!$I$2:$I$93564,\"23??\",'Accounting Data'!$J$2:$J$93564,\"682?\")+SUMIFS('Accounting Data'!$C$2:$C$93564,'Accounting Data'!$E$2:$E$93564,\"720\",'Accounting Data'!$I$2:$I$93564,\"23??\",'Accounting Data'!$J$2:$J$93564,\"682?\")+SUMIFS('Accounting Data'!$C$2:$C$93564,'Accounting Data'!$E$2:$E$93564,\"COVID\",'Accounting Data'!$I$2:$I$93564,\"23??\",'Accounting Data'!$J$2:$J$93564,\"682?\")","v":0},null,{"$f":"SUMIFS('Accounting Data'!$C$2:$C$93564,'Accounting Data'!$E$2:$E$93564,\"1??\",'Accounting Data'!$H$2:$H$93564,\"7??\",'Accounting Data'!$I$2:$I$93564,\"23??\",'Accounting Data'!$J$2:$J$93564,\"682?\")+SUMIFS('Accounting Data'!$C$2:$C$93564,'Accounting Data'!$E$2:$E$93564,\"2??\",'Accounting Data'!$H$2:$H$93564,\"7??\",'Accounting Data'!$I$2:$I$93564,\"23??\",'Accounting Data'!$J$2:$J$93564,\"682?\")+SUMIFS('Accounting Data'!$C$2:$C$93564,'Accounting Data'!$E$2:$E$93564,\"3??\",'Accounting Data'!$H$2:$H$93564,\"7??\",'Accounting Data'!$I$2:$I$93564,\"23??\",'Accounting Data'!$J$2:$J$93564,\"682?\")+SUMIFS('Accounting Data'!$C$2:$C$93564,'Accounting Data'!$E$2:$E$93564,\"639\",'Accounting Data'!$H$2:$H$93564,\"7??\",'Accounting Data'!$I$2:$I$93564,\"23??\",'Accounting Data'!$J$2:$J$93564,\"682?\")+SUMIFS('Accounting Data'!$C$2:$C$93564,'Accounting Data'!$E$2:$E$93564,\"699\",'Accounting Data'!$H$2:$H$93564,\"7??\",'Accounting Data'!$I$2:$I$93564,\"23??\",'Accounting Data'!$J$2:$J$93564,\"682?\")+SUMIFS('Accounting Data'!$C$2:$C$93564,'Accounting Data'!$E$2:$E$93564,\"720\",'Accounting Data'!$H$2:$H$93564,\"7??\",'Accounting Data'!$I$2:$I$93564,\"23??\",'Accounting Data'!$J$2:$J$93564,\"682?\")+SUMIFS('Accounting Data'!$C$2:$C$93564,'Accounting Data'!$E$2:$E$93564,\"COVID\",'Accounting Data'!$H$2:$H$93564,\"7??\",'Accounting Data'!$I$2:$I$93564,\"23??\",'Accounting Data'!$J$2:$J$93564,\"682?\")","v":0},null,{"$f":"SUMIFS('Accounting Data'!$C$2:$C$93564,'Accounting Data'!$E$2:$E$93564,\"1??\",'Accounting Data'!$H$2:$H$93564,\"8??\",'Accounting Data'!$I$2:$I$93564,\"23??\",'Accounting Data'!$J$2:$J$93564,\"682?\")+SUMIFS('Accounting Data'!$C$2:$C$93564,'Accounting Data'!$E$2:$E$93564,\"2??\",'Accounting Data'!$H$2:$H$93564,\"8??\",'Accounting Data'!$I$2:$I$93564,\"23??\",'Accounting Data'!$J$2:$J$93564,\"682?\")+SUMIFS('Accounting Data'!$C$2:$C$93564,'Accounting Data'!$E$2:$E$93564,\"3??\",'Accounting Data'!$H$2:$H$93564,\"8??\",'Accounting Data'!$I$2:$I$93564,\"23??\",'Accounting Data'!$J$2:$J$93564,\"682?\")+SUMIFS('Accounting Data'!$C$2:$C$93564,'Accounting Data'!$E$2:$E$93564,\"639\",'Accounting Data'!$H$2:$H$93564,\"8??\",'Accounting Data'!$I$2:$I$93564,\"23??\",'Accounting Data'!$J$2:$J$93564,\"682?\")+SUMIFS('Accounting Data'!$C$2:$C$93564,'Accounting Data'!$E$2:$E$93564,\"699\",'Accounting Data'!$H$2:$H$93564,\"8??\",'Accounting Data'!$I$2:$I$93564,\"23??\",'Accounting Data'!$J$2:$J$93564,\"682?\")+SUMIFS('Accounting Data'!$C$2:$C$93564,'Accounting Data'!$E$2:$E$93564,\"720\",'Accounting Data'!$H$2:$H$93564,\"8??\",'Accounting Data'!$I$2:$I$93564,\"23??\",'Accounting Data'!$J$2:$J$93564,\"682?\")+SUMIFS('Accounting Data'!$C$2:$C$93564,'Accounting Data'!$E$2:$E$93564,\"COVID\",'Accounting Data'!$H$2:$H$93564,\"8??\",'Accounting Data'!$I$2:$I$93564,\"23??\",'Accounting Data'!$J$2:$J$93564,\"682?\")","v":0},null,{"$f":"SUMIFS('Accounting Data'!$C$2:$C$93564,'Accounting Data'!$E$2:$E$93564,\"1??\",'Accounting Data'!$H$2:$H$93564,\"9??\",'Accounting Data'!$I$2:$I$93564,\"23??\",'Accounting Data'!$J$2:$J$93564,\"682?\")+SUMIFS('Accounting Data'!$C$2:$C$93564,'Accounting Data'!$E$2:$E$93564,\"2??\",'Accounting Data'!$H$2:$H$93564,\"9??\",'Accounting Data'!$I$2:$I$93564,\"23??\",'Accounting Data'!$J$2:$J$93564,\"682?\")+SUMIFS('Accounting Data'!$C$2:$C$93564,'Accounting Data'!$E$2:$E$93564,\"3??\",'Accounting Data'!$H$2:$H$93564,\"9??\",'Accounting Data'!$I$2:$I$93564,\"23??\",'Accounting Data'!$J$2:$J$93564,\"682?\")+SUMIFS('Accounting Data'!$C$2:$C$93564,'Accounting Data'!$E$2:$E$93564,\"639\",'Accounting Data'!$H$2:$H$93564,\"9??\",'Accounting Data'!$I$2:$I$93564,\"23??\",'Accounting Data'!$J$2:$J$93564,\"682?\")+SUMIFS('Accounting Data'!$C$2:$C$93564,'Accounting Data'!$E$2:$E$93564,\"699\",'Accounting Data'!$H$2:$H$93564,\"9??\",'Accounting Data'!$I$2:$I$93564,\"23??\",'Accounting Data'!$J$2:$J$93564,\"682?\")+SUMIFS('Accounting Data'!$C$2:$C$93564,'Accounting Data'!$E$2:$E$93564,\"720\",'Accounting Data'!$H$2:$H$93564,\"9??\",'Accounting Data'!$I$2:$I$93564,\"23??\",'Accounting Data'!$J$2:$J$93564,\"682?\")+SUMIFS('Accounting Data'!$C$2:$C$93564,'Accounting Data'!$E$2:$E$93564,\"COVID\",'Accounting Data'!$H$2:$H$93564,\"9??\",'Accounting Data'!$I$2:$I$93564,\"23??\",'Accounting Data'!$J$2:$J$93564,\"682?\")","v":0}]
[null,null,null,null,null,null,null,null,"8. Subtotal (Lines 1-7)",null,null,null,null,{"$f":"SUM(N47:N53)","v":1987316},"8.",null,null,null,null,null,null,null,null,null,null,"Object","All programs, function 2500",null,"Program 700,  function 2500",null,"Program 800,  function 2500",null,"Program 900,  function 2500"]
["Revenue from selected federal sources",null,null,null,null,null,null,null,"9. 6739 Technology-Related Hardware & Software ($5,000 or more)",null,null,null,null,{"$f":"SUMIFS('Accounting Data'!C2:C93564,'Accounting Data'!J2:J93564,\"6739\")-(SUMIFS('Accounting Data'!C2:C93564,'Accounting Data'!E2:E93564,\"575\",'Accounting Data'!J2:J93564,\"6739\")+SUMIFS('Accounting Data'!C2:C93564,'Accounting Data'!E2:E93564,\"8??\",'Accounting Data'!J2:J93564,\"6739\")+SUMIFS('Accounting Data'!C2:C93564,'Accounting Data'!E2:E93564,\"9??\",'Accounting Data'!J2:J93564,\"6739\"))","v":519048},"9.",null,null,null,null,null,null,null,null,null,null,6850,{"$f":"SUMIFS('Accounting Data'!$C$2:$C$93564,'Accounting Data'!$E$2:$E$93564,\"1??\",'Accounting Data'!$I$2:$I$93564,\"25??\",'Accounting Data'!$J$2:$J$93564,\"685?\")+SUMIFS('Accounting Data'!$C$2:$C$93564,'Accounting Data'!$E$2:$E$93564,\"2??\",'Accounting Data'!$I$2:$I$93564,\"25??\",'Accounting Data'!$J$2:$J$93564,\"685?\")+SUMIFS('Accounting Data'!$C$2:$C$93564,'Accounting Data'!$E$2:$E$93564,\"3??\",'Accounting Data'!$I$2:$I$93564,\"25??\",'Accounting Data'!$J$2:$J$93564,\"685?\")+SUMIFS('Accounting Data'!$C$2:$C$93564,'Accounting Data'!$E$2:$E$93564,\"639\",'Accounting Data'!$I$2:$I$93564,\"25??\",'Accounting Data'!$J$2:$J$93564,\"685?\")+SUMIFS('Accounting Data'!$C$2:$C$93564,'Accounting Data'!$E$2:$E$93564,\"699\",'Accounting Data'!$I$2:$I$93564,\"25??\",'Accounting Data'!$J$2:$J$93564,\"685?\")+SUMIFS('Accounting Data'!$C$2:$C$93564,'Accounting Data'!$E$2:$E$93564,\"720\",'Accounting Data'!$I$2:$I$93564,\"25??\",'Accounting Data'!$J$2:$J$93564,\"685?\")+SUMIFS('Accounting Data'!$C$2:$C$93564,'Accounting Data'!$E$2:$E$93564,\"COVID\",'Accounting Data'!$I$2:$I$93564,\"25??\",'Accounting Data'!$J$2:$J$93564,\"685?\")","v":0},null,{"$f":"SUMIFS('Accounting Data'!$C$2:$C$93564,'Accounting Data'!$E$2:$E$93564,\"1??\",'Accounting Data'!$H$2:$H$93564,\"7??\",'Accounting Data'!$I$2:$I$93564,\"25??\",'Accounting Data'!$J$2:$J$93564,\"685?\")+SUMIFS('Accounting Data'!$C$2:$C$93564,'Accounting Data'!$E$2:$E$93564,\"2??\",'Accounting Data'!$H$2:$H$93564,\"7??\",'Accounting Data'!$I$2:$I$93564,\"25??\",'Accounting Data'!$J$2:$J$93564,\"685?\")+SUMIFS('Accounting Data'!$C$2:$C$93564,'Accounting Data'!$E$2:$E$93564,\"3??\",'Accounting Data'!$H$2:$H$93564,\"7??\",'Accounting Data'!$I$2:$I$93564,\"25??\",'Accounting Data'!$J$2:$J$93564,\"685?\")+SUMIFS('Accounting Data'!$C$2:$C$93564,'Accounting Data'!$E$2:$E$93564,\"639\",'Accounting Data'!$H$2:$H$93564,\"7??\",'Accounting Data'!$I$2:$I$93564,\"25??\",'Accounting Data'!$J$2:$J$93564,\"685?\")+SUMIFS('Accounting Data'!$C$2:$C$93564,'Accounting Data'!$E$2:$E$93564,\"699\",'Accounting Data'!$H$2:$H$93564,\"7??\",'Accounting Data'!$I$2:$I$93564,\"25??\",'Accounting Data'!$J$2:$J$93564,\"685?\")+SUMIFS('Accounting Data'!$C$2:$C$93564,'Accounting Data'!$E$2:$E$93564,\"720\",'Accounting Data'!$H$2:$H$93564,\"7??\",'Accounting Data'!$I$2:$I$93564,\"25??\",'Accounting Data'!$J$2:$J$93564,\"685?\")+SUMIFS('Accounting Data'!$C$2:$C$93564,'Accounting Data'!$E$2:$E$93564,\"COVID\",'Accounting Data'!$H$2:$H$93564,\"7??\",'Accounting Data'!$I$2:$I$93564,\"25??\",'Accounting Data'!$J$2:$J$93564,\"685?\")","v":0},null,{"$f":"SUMIFS('Accounting Data'!$C$2:$C$93564,'Accounting Data'!$E$2:$E$93564,\"1??\",'Accounting Data'!$H$2:$H$93564,\"8??\",'Accounting Data'!$I$2:$I$93564,\"25??\",'Accounting Data'!$J$2:$J$93564,\"685?\")+SUMIFS('Accounting Data'!$C$2:$C$93564,'Accounting Data'!$E$2:$E$93564,\"2??\",'Accounting Data'!$H$2:$H$93564,\"8??\",'Accounting Data'!$I$2:$I$93564,\"25??\",'Accounting Data'!$J$2:$J$93564,\"685?\")+SUMIFS('Accounting Data'!$C$2:$C$93564,'Accounting Data'!$E$2:$E$93564,\"3??\",'Accounting Data'!$H$2:$H$93564,\"8??\",'Accounting Data'!$I$2:$I$93564,\"25??\",'Accounting Data'!$J$2:$J$93564,\"685?\")+SUMIFS('Accounting Data'!$C$2:$C$93564,'Accounting Data'!$E$2:$E$93564,\"639\",'Accounting Data'!$H$2:$H$93564,\"8??\",'Accounting Data'!$I$2:$I$93564,\"25??\",'Accounting Data'!$J$2:$J$93564,\"685?\")+SUMIFS('Accounting Data'!$C$2:$C$93564,'Accounting Data'!$E$2:$E$93564,\"699\",'Accounting Data'!$H$2:$H$93564,\"8??\",'Accounting Data'!$I$2:$I$93564,\"25??\",'Accounting Data'!$J$2:$J$93564,\"685?\")+SUMIFS('Accounting Data'!$C$2:$C$93564,'Accounting Data'!$E$2:$E$93564,\"720\",'Accounting Data'!$H$2:$H$93564,\"8??\",'Accounting Data'!$I$2:$I$93564,\"25??\",'Accounting Data'!$J$2:$J$93564,\"685?\")+SUMIFS('Accounting Data'!$C$2:$C$93564,'Accounting Data'!$E$2:$E$93564,\"COVID\",'Accounting Data'!$H$2:$H$93564,\"8??\",'Accounting Data'!$I$2:$I$93564,\"25??\",'Accounting Data'!$J$2:$J$93564,\"685?\")","v":0},null,{"$f":"SUMIFS('Accounting Data'!$C$2:$C$93564,'Accounting Data'!$E$2:$E$93564,\"1??\",'Accounting Data'!$H$2:$H$93564,\"9??\",'Accounting Data'!$I$2:$I$93564,\"25??\",'Accounting Data'!$J$2:$J$93564,\"685?\")+SUMIFS('Accounting Data'!$C$2:$C$93564,'Accounting Data'!$E$2:$E$93564,\"2??\",'Accounting Data'!$H$2:$H$93564,\"9??\",'Accounting Data'!$I$2:$I$93564,\"25??\",'Accounting Data'!$J$2:$J$93564,\"685?\")+SUMIFS('Accounting Data'!$C$2:$C$93564,'Accounting Data'!$E$2:$E$93564,\"3??\",'Accounting Data'!$H$2:$H$93564,\"9??\",'Accounting Data'!$I$2:$I$93564,\"25??\",'Accounting Data'!$J$2:$J$93564,\"685?\")+SUMIFS('Accounting Data'!$C$2:$C$93564,'Accounting Data'!$E$2:$E$93564,\"639\",'Accounting Data'!$H$2:$H$93564,\"9??\",'Accounting Data'!$I$2:$I$93564,\"25??\",'Accounting Data'!$J$2:$J$93564,\"685?\")+SUMIFS('Accounting Data'!$C$2:$C$93564,'Accounting Data'!$E$2:$E$93564,\"699\",'Accounting Data'!$H$2:$H$93564,\"9??\",'Accounting Data'!$I$2:$I$93564,\"25??\",'Accounting Data'!$J$2:$J$93564,\"685?\")+SUMIFS('Accounting Data'!$C$2:$C$93564,'Accounting Data'!$E$2:$E$93564,\"720\",'Accounting Data'!$H$2:$H$93564,\"9??\",'Accounting Data'!$I$2:$I$93564,\"25??\",'Accounting Data'!$J$2:$J$93564,\"685?\")+SUMIFS('Accounting Data'!$C$2:$C$93564,'Accounting Data'!$E$2:$E$93564,\"COVID\",'Accounting Data'!$H$2:$H$93564,\"9??\",'Accounting Data'!$I$2:$I$93564,\"25??\",'Accounting Data'!$J$2:$J$93564,\"685?\")","v":0}]
["1. ESEA Title IV - Student Support and Academic Enrichment Grants",null,null,null,78427,"1. ",null,null,"10. 6832 and 6842 Noninstructional software subscriptions (more than 12 months) Principal and Interest",null,null,null,null,0,"10."]
["2. ESEA Title IV - 21st Century Community Learning Centers",null,null,null,596486,"2.",null,null,"11. 6833 and 6843 Instructional software subscriptions (more than 12 months) Principal and Interest",null,null,null,null,{"$f":"SUMIFS('Accounting Data'!C2:C93564,'Accounting Data'!J2:J93564,\"6833\")-(SUM(SUMIFS('Accounting Data'!C2:C93564,'Accounting Data'!E2:E93564,{\"575\",\"8??\",\"9??\"},'Accounting Data'!J2:J93564,\"6833\")))+SUMIFS('Accounting Data'!C2:C93564,'Accounting Data'!J2:J93564,\"6843\")-(SUM(SUMIFS('Accounting Data'!C2:C93564,'Accounting Data'!E2:E93564,{\"575\",\"8??\",\"9??\"},'Accounting Data'!J2:J93564,\"6843\")))","v":0},"11.",null,null,null,null,null,null,null,null,null,null,null,{"$f":"IF(OR(AA58=\"yes\",AA59=\"yes\",AA60=\"yes\",AA61=\"yes\",AA62=\"yes\",AA63=\"yes\",AA65=\"yes\"),\"yes\",\"\")","v":""}]
["3. ESEA Title V - Rural Education - Rural and Low-Income School Program ",null,null,null,0,"3. ",null,null,null,null,null,null,null,null,null,null,null,null,null,null,null,null,null,null,null,null,{"$f":"IF(OR(D35=\"\",E35=\"\",F35=\"\",G35=\"\"),\"yes\",\"\")","v":""}]
["4. ESEA Title V - Rural Education - Small, Rural School Achievement Program",null,null,null,0,"4. ",null,null,"Support Services-Instruction Detail (Funds 001-799 excluding 575, All Objects)",null,null,null,null,null,null,null,null,null,null,null,null,null,null,null,null,null,{"$f":"IF(OR(D36=\"\",E36=\"\",F36=\"\",G36=\"\"),\"yes\",\"\")","v":""}]
[null,null,null,null,null,null,null,null,"1. 2210 Improvement of Instruction",null,null,null,{"$f":"SUMIFS('Accounting Data'!C2:C93564,'Accounting Data'!I2:I93564,\"221?\")-(SUM(SUMIFS('Accounting Data'!C2:C93564,'Accounting Data'!E2:E93564,{\"575\",\"8??\",\"9??\"},'Accounting Data'!I2:I93564,\"221?\")))","v":2527542},"1.",null,null,null,null,null,null,null,null,null,null,null,null,{"$f":"IF(OR(D37=\"\",E37=\"\",F37=\"\",G37=\"\"),\"yes\",\"\")","v":""}]
[null,null,null,null,null,null,null,null,"2. 2220 Library/Media Services",null,null,null,{"$f":"SUMIFS('Accounting Data'!C2:C93564,'Accounting Data'!I2:I93564,\"222?\")-(SUM(SUMIFS('Accounting Data'!C2:C93564,'Accounting Data'!E2:E93564,{\"575\",\"8??\",\"9??\"},'Accounting Data'!I2:I93564,\"222?\")))","v":2286},"2.",null,null,null,null,null,null,null,null,null,null,null,null,{"$f":"IF(OR(D38=\"\",E38=\"\",F38=\"\",G38=\"\"),\"yes\",\"\")","v":""}]
[null,null,null,null,null,null,null,null,null,null,null,null,null,null,null,null,null,null,null,null,null,null,null,null,null,null,{"$f":"IF(OR(D39=\"\",E39=\"\",F39=\"\",G39=\"\"),\"yes\",\"\")","v":""}]
[null,null,null,null,null,null,null,null,null,null,null,null,null,null,null,null,null,null,null,null,null,null,null,null,null,null,{"$f":"IF(OR(D42=\"\",D43=\"\",D44=\"\",E56=\"\",E57=\"\",E58=\"\",E59=\"\"),\"yes\",\"\")","v":""}]
[]
[null,null,null,null,null,null,null,null,null,null,null,null,null,null,null,null,null,null,null,null,null,null,null,null,null,null,{"$f":"IF(P25=\"\",\"yes\",\"\")","v":""}]

{"sheet":"Page 10","index":10,"n_rows":50,"n_cols":55,"rows_kept":50,"cut":false,"hidden":false,"merged":[[49,6,50,7],[40,0,40,2],[41,0,41,2],[59,1,59,2],[53,1,53,2],[54,1,54,2],[55,1,55,2],[56,1,56,2],[57,1,57,2],[58,1,58,2],[25,16,26,16],[27,16,28,16],[25,6,28,9],[52,1,52,2],[33,6,37,9],[34,0,34,3],[38,3,39,3],[38,4,39,4],[38,5,39,5],[38,6,39,6],[38,7,39,7],[39,0,39,2],[46,0,46,2],[48,8,50,12],[49,0,49,1],[51,1,51,2],[0,7,0,8],[4,0,5,0],[4,2,4,11],[4,13,8,13],[7,0,8,1],[0,1,0,4],[22,6,22,9],[42,0,42,2],[43,0,43,2],[44,0,44,2],[45,0,45,2],[22,0,22,2],[23,6,23,8]]}
["DISTRICT NAME",{"$f":"CoverDistrictName","v":"Osborn Elementary School District"},null,null,null,null,"COUNTY",{"$f":"Cover!J1","v":"Maricopa"},null,null,"CTDS NUMBER",{"$f":"CoverCTDS","v":"070408000"}]
[]
[null,null,"Additional information for National Public Education Financial Survey (NPEFS) reporting of COVID-19 federal relief funds"]
[]
[null,null,"Programs 100-630",null,null,null,null,null,null,null,null,null,"Programs 700-900","Total"]
[null,null,null,null,"Purchased",null,null,null,"Judgments"]
[null,null,null,"Employee","Services",null,null,null,"Against a","Interest on Short",null,null,"All"]
["Current Expenditures from COVID-19 federal relief funds",null,"Salaries","Benefits","6300, 6400,","Supplies","Property","Dues and Fees","District","Term Debt","Miscellaneous","Other","Object Codes"]
[null,null,6100,6200,6500,6600,6700,6810,6820,6850,6890,6800,"(excluding 6900)"]
["1000 Instruction","1.",1728720,457404,{"$f":"SUM(SUMIFS('Accounting Data'!C2:C93564,'Accounting Data'!E2:E93564,\"COVID\",'Accounting Data'!H2:H93564,{\"0??\",\"1??\",\"2??\",\"3??\",\"4??\",\"5??\",\"6??\"},'Accounting Data'!I2:I93564,\"1???\",'Accounting Data'!J2:J93564,\"63??\"))+SUM(SUMIFS('Accounting Data'!C2:C93564,'Accounting Data'!E2:E93564,\"COVID\",'Accounting Data'!H2:H93564,{\"0??\",\"1??\",\"2??\",\"3??\",\"4??\",\"5??\",\"6??\"},'Accounting Data'!I2:I93564,\"1???\",'Accounting Data'!J2:J93564,\"64??\"))+SUM(SUMIFS('Accounting Data'!C2:C93564,'Accounting Data'!E2:E93564,\"COVID\",'Accounting Data'!H2:H93564,{\"0??\",\"1??\",\"2??\",\"3??\",\"4??\",\"5??\",\"6??\"},'Accounting Data'!I2:I93564,\"1???\",'Accounting Data'!J2:J93564,\"65??\"))+SUM(SUMIFS('Accounting Data'!C2:C93564,'Accounting Data'!E2:E93564,\"227\",'Accounting Data'!H2:H93564,{\"0??\",\"1??\",\"2??\",\"3??\",\"4??\",\"5??\",\"6??\"},'Accounting Data'!I2:I93564,\"1???\",'Accounting Data'!J2:J93564,\"63??\"))+SUM(SUMIFS('Accounting Data'!C2:C93564,'Accounting Data'!E2:E93564,\"227\",'Accounting Data'!H2:H93564,{\"0??\",\"1??\",\"2??\",\"3??\",\"4??\",\"5??\",\"6??\"},'Accounting Data'!I2:I93564,\"1???\",'Accounting Data'!J2:J93564,\"64??\"))+SUM(SUMIFS('Accounting Data'!C2:C93564,'Accounting Data'!E2:E93564,\"227\",'Accounting Data'!H2:H93564,{\"0??\",\"1??\",\"2??\",\"3??\",\"4??\",\"5??\",\"6??\"},'Accounting Data'!I2:I93564,\"1???\",'Accounting Data'!J2:J93564,\"65??\"))+SUM(SUMIFS('Accounting Data'!C2:C93564,'Accounting Data'!E2:E93564,\"228\",'Accounting Data'!H2:H93564,{\"0??\",\"1??\",\"2??\",\"3??\",\"4??\",\"5??\",\"6??\"},'Accounting Data'!I2:I93564,\"1???\",'Accounting Data'!J2:J93564,\"63??\"))+SUM(SUMIFS('Accounting Data'!C2:C93564,'Accounting Data'!E2:E93564,\"228\",'Accounting Data'!H2:H93564,{\"0??\",\"1??\",\"2??\",\"3??\",\"4??\",\"5??\",\"6??\"},'Accounting Data'!I2:I93564,\"1???\",'Accounting Data'!J2:J93564,\"64??\"))+SUM(SUMIFS('Accounting Data'!C2:C93564,'Accounting Data'!E2:E93564,\"228\",'Accounting Data'!H2:H93564,{\"0??\",\"1??\",\"2??\",\"3??\",\"4??\",\"5??\",\"6??\"},'Accounting Data'!I2:I93564,\"1???\",'Accounting Data'!J2:J93564,\"65??\"))","v":106588},67597,104696,77,null,null,496,0,{"$f":"SUM(SUMIFS('Accounting Data'!C2:C93564,'Accounting Data'!E2:E93564,\"COVID\",'Accounting Data'!H2:H93564,{\"7??\",\"8??\",\"9??\"},'Accounting Data'!I2:I93564,\"1???\",'Accounting Data'!J2:J93564,\"6???\"))-SUM(SUMIFS('Accounting Data'!C2:C93564,'Accounting Data'!E2:E93564,\"COVID\",'Accounting Data'!H2:H93564,{\"7??\",\"8??\",\"9??\"},'Accounting Data'!I2:I93564,\"1???\",'Accounting Data'!J2:J93564,\"69??\"))+SUM(SUMIFS('Accounting Data'!C2:C93564,'Accounting Data'!E2:E93564,\"227\",'Accounting Data'!H2:H93564,{\"7??\",\"8??\",\"9??\"},'Accounting Data'!I2:I93564,\"1???\",'Accounting Data'!J2:J93564,\"6???\"))-SUM(SUMIFS('Accounting Data'!C2:C93564,'Accounting Data'!E2:E93564,\"227\",'Accounting Data'!H2:H93564,{\"7??\",\"8??\",\"9??\"},'Accounting Data'!I2:I93564,\"1???\",'Accounting Data'!J2:J93564,\"69??\"))+SUM(SUMIFS('Accounting Data'!C2:C93564,'Accounting Data'!E2:E93564,\"228\",'Accounting Data'!H2:H93564,{\"7??\",\"8??\",\"9??\"},'Accounting Data'!I2:I93564,\"1???\",'Accounting Data'!J2:J93564,\"6???\"))-SUM(SUMIFS('Accounting Data'!C2:C93564,'Accounting Data'!E2:E93564,\"228\",'Accounting Data'!H2:H93564,{\"7??\",\"8??\",\"9??\"},'Accounting Data'!I2:I93564,\"1???\",'Accounting Data'!J2:J93564,\"69??\"))","v":0},{"$f":"ROUND(SUM(C10:M10),0)","v":2465578}]
["2100, 2200 Student Support Services","2.",1061254,290918,178687,39264,1934,148,null,null,-33307,0,{"$f":"(SUM(SUMIFS('Accounting Data'!C2:C93564,'Accounting Data'!E2:E93564,\"COVID\",'Accounting Data'!H2:H93564,{\"7??\",\"8??\",\"9??\"},'Accounting Data'!I2:I93564,\"21??\",'Accounting Data'!J2:J93564,\"6???\"))-SUM(SUMIFS('Accounting Data'!C2:C93564,'Accounting Data'!E2:E93564,\"COVID\",'Accounting Data'!H2:H93564,{\"7??\",\"8??\",\"9??\"},'Accounting Data'!I2:I93564,\"21??\",'Accounting Data'!J2:J93564,\"69??\")))+(SUM(SUMIFS('Accounting Data'!C2:C93564,'Accounting Data'!E2:E93564,\"COVID\",'Accounting Data'!H2:H93564,{\"7??\",\"8??\",\"9??\"},'Accounting Data'!I2:I93564,\"22??\",'Accounting Data'!J2:J93564,\"6???\"))-SUM(SUMIFS('Accounting Data'!C2:C93564,'Accounting Data'!E2:E93564,\"COVID\",'Accounting Data'!H2:H93564,{\"7??\",\"8??\",\"9??\"},'Accounting Data'!I2:I93564,\"22??\",'Accounting Data'!J2:J93564,\"69??\")))+(SUM(SUMIFS('Accounting Data'!C2:C93564,'Accounting Data'!E2:E93564,\"227\",'Accounting Data'!H2:H93564,{\"7??\",\"8??\",\"9??\"},'Accounting Data'!I2:I93564,\"21??\",'Accounting Data'!J2:J93564,\"6???\"))-SUM(SUMIFS('Accounting Data'!C2:C93564,'Accounting Data'!E2:E93564,\"227\",'Accounting Data'!H2:H93564,{\"7??\",\"8??\",\"9??\"},'Accounting Data'!I2:I93564,\"21??\",'Accounting Data'!J2:J93564,\"69??\")))+(SUM(SUMIFS('Accounting Data'!C2:C93564,'Accounting Data'!E2:E93564,\"227\",'Accounting Data'!H2:H93564,{\"7??\",\"8??\",\"9??\"},'Accounting Data'!I2:I93564,\"22??\",'Accounting Data'!J2:J93564,\"6???\"))-SUM(SUMIFS('Accounting Data'!C2:C93564,'Accounting Data'!E2:E93564,\"227\",'Accounting Data'!H2:H93564,{\"7??\",\"8??\",\"9??\"},'Accounting Data'!I2:I93564,\"22??\",'Accounting Data'!J2:J93564,\"69??\")))+(SUM(SUMIFS('Accounting Data'!C2:C93564,'Accounting Data'!E2:E93564,\"228\",'Accounting Data'!H2:H93564,{\"7??\",\"8??\",\"9??\"},'Accounting Data'!I2:I93564,\"21??\",'Accounting Data'!J2:J93564,\"6???\"))-SUM(SUMIFS('Accounting Data'!C2:C93564,'Accounting Data'!E2:E93564,\"228\",'Accounting Data'!H2:H93564,{\"7??\",\"8??\",\"9??\"},'Accounting Data'!I2:I93564,\"21??\",'Accounting Data'!J2:J93564,\"69??\")))+(SUM(SUMIFS('Accounting Data'!C2:C93564,'Accounting Data'!E2:E93564,\"228\",'Accounting Data'!H2:H93564,{\"7??\",\"8??\",\"9??\"},'Accounting Data'!I2:I93564,\"22??\",'Accounting Data'!J2:J93564,\"6???\"))-SUM(SUMIFS('Accounting Data'!C2:C93564,'Accounting Data'!E2:E93564,\"228\",'Accounting Data'!H2:H93564,{\"7??\",\"8??\",\"9??\"},'Accounting Data'!I2:I93564,\"22??\",'Accounting Data'!J2:J93564,\"69??\")))","v":0},{"$f":"ROUND(SUM(C11:M11),0)","v":1538898},null,null,null,null,null,null,null,null,null,null,null,null,null,null,null,null,null,null,null,null,null,null,null,null,null,null,null,null,null,null,null,null,null,null,null,{"$f":"SUM(SUMIFS('Accounting Data'!C2:C93564,'Accounting Data'!E2:E93564,\"COVID\",'Accounting Data'!H2:H93564,{\"0??\",\"1??\",\"2??\",\"3??\",\"4??\",\"5??\",\"6??\"},'Accounting Data'!I2:I93564,\"21??\",'Accounting Data'!J2:J93564,\"63??\"))+SUM(SUMIFS('Accounting Data'!C2:C93564,'Accounting Data'!E2:E93564,\"COVID\",'Accounting Data'!H2:H93564,{\"0??\",\"1??\",\"2??\",\"3??\",\"4??\",\"5??\",\"6??\"},'Accounting Data'!I2:I93564,\"21??\",'Accounting Data'!J2:J93564,\"64??\"))+SUM(SUMIFS('Accounting Data'!C2:C93564,'Accounting Data'!E2:E93564,\"COVID\",'Accounting Data'!H2:H93564,{\"0??\",\"1??\",\"2??\",\"3??\",\"4??\",\"5??\",\"6??\"},'Accounting Data'!I2:I93564,\"21??\",'Accounting Data'!J2:J93564,\"65??\"))+SUM(SUMIFS('Accounting Data'!C2:C93564,'Accounting Data'!E2:E93564,\"227\",'Accounting Data'!H2:H93564,{\"0??\",\"1??\",\"2??\",\"3??\",\"4??\",\"5??\",\"6??\"},'Accounting Data'!I2:I93564,\"21??\",'Accounting Data'!J2:J93564,\"63??\"))+SUM(SUMIFS('Accounting Data'!C2:C93564,'Accounting Data'!E2:E93564,\"227\",'Accounting Data'!H2:H93564,{\"0??\",\"1??\",\"2??\",\"3??\",\"4??\",\"5??\",\"6??\"},'Accounting Data'!I2:I93564,\"21??\",'Accounting Data'!J2:J93564,\"64??\"))+SUM(SUMIFS('Accounting Data'!C2:C93564,'Accounting Data'!E2:E93564,\"227\",'Accounting Data'!H2:H93564,{\"0??\",\"1??\",\"2??\",\"3??\",\"4??\",\"5??\",\"6??\"},'Accounting Data'!I2:I93564,\"21??\",'Accounting Data'!J2:J93564,\"65??\"))+SUM(SUMIFS('Accounting Data'!C2:C93564,'Accounting Data'!E2:E93564,\"228\",'Accounting Data'!H2:H93564,{\"0??\",\"1??\",\"2??\",\"3??\",\"4??\",\"5??\",\"6??\"},'Accounting Data'!I2:I93564,\"21??\",'Accounting Data'!J2:J93564,\"63??\"))+SUM(SUMIFS('Accounting Data'!C2:C93564,'Accounting Data'!E2:E93564,\"228\",'Accounting Data'!H2:H93564,{\"0??\",\"1??\",\"2??\",\"3??\",\"4??\",\"5??\",\"6??\"},'Accounting Data'!I2:I93564,\"21??\",'Accounting Data'!J2:J93564,\"64??\"))+SUM(SUMIFS('Accounting Data'!C2:C93564,'Accounting Data'!E2:E93564,\"228\",'Accounting Data'!H2:H93564,{\"0??\",\"1??\",\"2??\",\"3??\",\"4??\",\"5??\",\"6??\"},'Accounting Data'!I2:I93564,\"21??\",'Accounting Data'!J2:J93564,\"65??\"))","v":72004},{"$f":"SUM(SUMIFS('Accounting Data'!C2:C93564,'Accounting Data'!E2:E93564,\"COVID\",'Accounting Data'!H2:H93564,{\"0??\",\"1??\",\"2??\",\"3??\",\"4??\",\"5??\",\"6??\"},'Accounting Data'!I2:I93564,\"22??\",'Accounting Data'!J2:J93564,\"63??\"))+SUM(SUMIFS('Accounting Data'!C2:C93564,'Accounting Data'!E2:E93564,\"COVID\",'Accounting Data'!H2:H93564,{\"0??\",\"1??\",\"2??\",\"3??\",\"4??\",\"5??\",\"6??\"},'Accounting Data'!I2:I93564,\"22??\",'Accounting Data'!J2:J93564,\"64??\"))+SUM(SUMIFS('Accounting Data'!C2:C93564,'Accounting Data'!E2:E93564,\"COVID\",'Accounting Data'!H2:H93564,{\"0??\",\"1??\",\"2??\",\"3??\",\"4??\",\"5??\",\"6??\"},'Accounting Data'!I2:I93564,\"22??\",'Accounting Data'!J2:J93564,\"65??\"))+SUM(SUMIFS('Accounting Data'!C2:C93564,'Accounting Data'!E2:E93564,\"227\",'Accounting Data'!H2:H93564,{\"0??\",\"1??\",\"2??\",\"3??\",\"4??\",\"5??\",\"6??\"},'Accounting Data'!I2:I93564,\"22??\",'Accounting Data'!J2:J93564,\"63??\"))+SUM(SUMIFS('Accounting Data'!C2:C93564,'Accounting Data'!E2:E93564,\"227\",'Accounting Data'!H2:H93564,{\"0??\",\"1??\",\"2??\",\"3??\",\"4??\",\"5??\",\"6??\"},'Accounting Data'!I2:I93564,\"22??\",'Accounting Data'!J2:J93564,\"64??\"))+SUM(SUMIFS('Accounting Data'!C2:C93564,'Accounting Data'!E2:E93564,\"227\",'Accounting Data'!H2:H93564,{\"0??\",\"1??\",\"2??\",\"3??\",\"4??\",\"5??\",\"6??\"},'Accounting Data'!I2:I93564,\"22??\",'Accounting Data'!J2:J93564,\"65??\"))+SUM(SUMIFS('Accounting Data'!C2:C93564,'Accounting Data'!E2:E93564,\"228\",'Accounting Data'!H2:H93564,{\"0??\",\"1??\",\"2??\",\"3??\",\"4??\",\"5??\",\"6??\"},'Accounting Data'!I2:I93564,\"22??\",'Accounting Data'!J2:J93564,\"63??\"))+SUM(SUMIFS('Accounting Data'!C2:C93564,'Accounting Data'!E2:E93564,\"228\",'Accounting Data'!H2:H93564,{\"0??\",\"1??\",\"2??\",\"3??\",\"4??\",\"5??\",\"6??\"},'Accounting Data'!I2:I93564,\"22??\",'Accounting Data'!J2:J93564,\"64??\"))+SUM(SUMIFS('Accounting Data'!C2:C93564,'Accounting Data'!E2:E93564,\"228\",'Accounting Data'!H2:H93564,{\"0??\",\"1??\",\"2??\",\"3??\",\"4??\",\"5??\",\"6??\"},'Accounting Data'!I2:I93564,\"22??\",'Accounting Data'!J2:J93564,\"65??\"))","v":63672}]
["2300, 2500, 2900 Other Support Services","3.",{"$f":"SUM(SUMIFS('Accounting Data'!C2:C93564,'Accounting Data'!E2:E93564,\"COVID\",'Accounting Data'!H2:H93564,{\"0??\",\"1??\",\"2??\",\"3??\",\"4??\",\"5??\",\"6??\"},'Accounting Data'!I2:I93564,\"23??\",'Accounting Data'!J2:J93564,\"61??\"))+SUM(SUMIFS('Accounting Data'!C2:C93564,'Accounting Data'!E2:E93564,\"COVID\",'Accounting Data'!H2:H93564,{\"0??\",\"1??\",\"2??\",\"3??\",\"4??\",\"5??\",\"6??\"},'Accounting Data'!I2:I93564,\"25??\",'Accounting Data'!J2:J93564,\"61??\"))+SUM(SUMIFS('Accounting Data'!C2:C93564,'Accounting Data'!E2:E93564,\"COVID\",'Accounting Data'!H2:H93564,{\"0??\",\"1??\",\"2??\",\"3??\",\"4??\",\"5??\",\"6??\"},'Accounting Data'!I2:I93564,\"29??\",'Accounting Data'!J2:J93564,\"61??\"))+SUM(SUMIFS('Accounting Data'!C2:C93564,'Accounting Data'!E2:E93564,\"227\",'Accounting Data'!H2:H93564,{\"0??\",\"1??\",\"2??\",\"3??\",\"4??\",\"5??\",\"6??\"},'Accounting Data'!I2:I93564,\"23??\",'Accounting Data'!J2:J93564,\"61??\"))+SUM(SUMIFS('Accounting Data'!C2:C93564,'Accounting Data'!E2:E93564,\"227\",'Accounting Data'!H2:H93564,{\"0??\",\"1??\",\"2??\",\"3??\",\"4??\",\"5??\",\"6??\"},'Accounting Data'!I2:I93564,\"25??\",'Accounting Data'!J2:J93564,\"61??\"))+SUM(SUMIFS('Accounting Data'!C2:C93564,'Accounting Data'!E2:E93564,\"227\",'Accounting Data'!H2:H93564,{\"0??\",\"1??\",\"2??\",\"3??\",\"4??\",\"5??\",\"6??\"},'Accounting Data'!I2:I93564,\"29??\",'Accounting Data'!J2:J93564,\"61??\"))+SUM(SUMIFS('Accounting Data'!C2:C93564,'Accounting Data'!E2:E93564,\"228\",'Accounting Data'!H2:H93564,{\"0??\",\"1??\",\"2??\",\"3??\",\"4??\",\"5??\",\"6??\"},'Accounting Data'!I2:I93564,\"23??\",'Accounting Data'!J2:J93564,\"61??\"))+SUM(SUMIFS('Accounting Data'!C2:C93564,'Accounting Data'!E2:E93564,\"228\",'Accounting Data'!H2:H93564,{\"0??\",\"1??\",\"2??\",\"3??\",\"4??\",\"5??\",\"6??\"},'Accounting Data'!I2:I93564,\"25??\",'Accounting Data'!J2:J93564,\"61??\"))+SUM(SUMIFS('Accounting Data'!C2:C93564,'Accounting Data'!E2:E93564,\"228\",'Accounting Data'!H2:H93564,{\"0??\",\"1??\",\"2??\",\"3??\",\"4??\",\"5??\",\"6??\"},'Accounting Data'!I2:I93564,\"29??\",'Accounting Data'!J2:J93564,\"61??\"))","v":109358},{"$f":"SUM(SUMIFS('Accounting Data'!C2:C93564,'Accounting Data'!E2:E93564,\"COVID\",'Accounting Data'!H2:H93564,{\"0??\",\"1??\",\"2??\",\"3??\",\"4??\",\"5??\",\"6??\"},'Accounting Data'!I2:I93564,\"23??\",'Accounting Data'!J2:J93564,\"62??\"))+SUM(SUMIFS('Accounting Data'!C2:C93564,'Accounting Data'!E2:E93564,\"COVID\",'Accounting Data'!H2:H93564,{\"0??\",\"1??\",\"2??\",\"3??\",\"4??\",\"5??\",\"6??\"},'Accounting Data'!I2:I93564,\"25??\",'Accounting Data'!J2:J93564,\"62??\"))+SUM(SUMIFS('Accounting Data'!C2:C93564,'Accounting Data'!E2:E93564,\"COVID\",'Accounting Data'!H2:H93564,{\"0??\",\"1??\",\"2??\",\"3??\",\"4??\",\"5??\",\"6??\"},'Accounting Data'!I2:I93564,\"29??\",'Accounting Data'!J2:J93564,\"62??\"))+SUM(SUMIFS('Accounting Data'!C2:C93564,'Accounting Data'!E2:E93564,\"227\",'Accounting Data'!H2:H93564,{\"0??\",\"1??\",\"2??\",\"3??\",\"4??\",\"5??\",\"6??\"},'Accounting Data'!I2:I93564,\"23??\",'Accounting Data'!J2:J93564,\"62??\"))+SUM(SUMIFS('Accounting Data'!C2:C93564,'Accounting Data'!E2:E93564,\"227\",'Accounting Data'!H2:H93564,{\"0??\",\"1??\",\"2??\",\"3??\",\"4??\",\"5??\",\"6??\"},'Accounting Data'!I2:I93564,\"25??\",'Accounting Data'!J2:J93564,\"62??\"))+SUM(SUMIFS('Accounting Data'!C2:C93564,'Accounting Data'!E2:E93564,\"227\",'Accounting Data'!H2:H93564,{\"0??\",\"1??\",\"2??\",\"3??\",\"4??\",\"5??\",\"6??\"},'Accounting Data'!I2:I93564,\"29??\",'Accounting Data'!J2:J93564,\"62??\"))+SUM(SUMIFS('Accounting Data'!C2:C93564,'Accounting Data'!E2:E93564,\"228\",'Accounting Data'!H2:H93564,{\"0??\",\"1??\",\"2??\",\"3??\",\"4??\",\"5??\",\"6??\"},'Accounting Data'!I2:I93564,\"23??\",'Accounting Data'!J2:J93564,\"62??\"))+SUM(SUMIFS('Accounting Data'!C2:C93564,'Accounting Data'!E2:E93564,\"228\",'Accounting Data'!H2:H93564,{\"0??\",\"1??\",\"2??\",\"3??\",\"4??\",\"5??\",\"6??\"},'Accounting Data'!I2:I93564,\"25??\",'Accounting Data'!J2:J93564,\"62??\"))+SUM(SUMIFS('Accounting Data'!C2:C93564,'Accounting Data'!E2:E93564,\"228\",'Accounting Data'!H2:H93564,{\"0??\",\"1??\",\"2??\",\"3??\",\"4??\",\"5??\",\"6??\"},'Accounting Data'!I2:I93564,\"29??\",'Accounting Data'!J2:J93564,\"62??\"))","v":28464},75659,{"$f":"SUM(SUMIFS('Accounting Data'!C2:C93564,'Accounting Data'!E2:E93564,\"COVID\",'Accounting Data'!H2:H93564,{\"0??\",\"1??\",\"2??\",\"3??\",\"4??\",\"5??\",\"6??\"},'Accounting Data'!I2:I93564,\"23??\",'Accounting Data'!J2:J93564,\"66??\"))+SUM(SUMIFS('Accounting Data'!C2:C93564,'Accounting Data'!E2:E93564,\"COVID\",'Accounting Data'!H2:H93564,{\"0??\",\"1??\",\"2??\",\"3??\",\"4??\",\"5??\",\"6??\"},'Accounting Data'!I2:I93564,\"25??\",'Accounting Data'!J2:J93564,\"66??\"))+SUM(SUMIFS('Accounting Data'!C2:C93564,'Accounting Data'!E2:E93564,\"COVID\",'Accounting Data'!H2:H93564,{\"0??\",\"1??\",\"2??\",\"3??\",\"4??\",\"5??\",\"6??\"},'Accounting Data'!I2:I93564,\"29??\",'Accounting Data'!J2:J93564,\"66??\"))+SUM(SUMIFS('Accounting Data'!C2:C93564,'Accounting Data'!E2:E93564,\"227\",'Accounting Data'!H2:H93564,{\"0??\",\"1??\",\"2??\",\"3??\",\"4??\",\"5??\",\"6??\"},'Accounting Data'!I2:I93564,\"23??\",'Accounting Data'!J2:J93564,\"66??\"))+SUM(SUMIFS('Accounting Data'!C2:C93564,'Accounting Data'!E2:E93564,\"227\",'Accounting Data'!H2:H93564,{\"0??\",\"1??\",\"2??\",\"3??\",\"4??\",\"5??\",\"6??\"},'Accounting Data'!I2:I93564,\"25??\",'Accounting Data'!J2:J93564,\"66??\"))+SUM(SUMIFS('Accounting Data'!C2:C93564,'Accounting Data'!E2:E93564,\"227\",'Accounting Data'!H2:H93564,{\"0??\",\"1??\",\"2??\",\"3??\",\"4??\",\"5??\",\"6??\"},'Accounting Data'!I2:I93564,\"29??\",'Accounting Data'!J2:J93564,\"66??\"))+SUM(SUMIFS('Accounting Data'!C2:C93564,'Accounting Data'!E2:E93564,\"228\",'Accounting Data'!H2:H93564,{\"0??\",\"1??\",\"2??\",\"3??\",\"4??\",\"5??\",\"6??\"},'Accounting Data'!I2:I93564,\"23??\",'Accounting Data'!J2:J93564,\"66??\"))+SUM(SUMIFS('Accounting Data'!C2:C93564,'Accounting Data'!E2:E93564,\"228\",'Accounting Data'!H2:H93564,{\"0??\",\"1??\",\"2??\",\"3??\",\"4??\",\"5??\",\"6??\"},'Accounting Data'!I2:I93564,\"25??\",'Accounting Data'!J2:J93564,\"66??\"))+SUM(SUMIFS('Accounting Data'!C2:C93564,'Accounting Data'!E2:E93564,\"228\",'Accounting Data'!H2:H93564,{\"0??\",\"1??\",\"2??\",\"3??\",\"4??\",\"5??\",\"6??\"},'Accounting Data'!I2:I93564,\"29??\",'Accounting Data'!J2:J93564,\"66??\"))","v":0},0,{"$f":"SUM(SUMIFS('Accounting Data'!C2:C93564,'Accounting Data'!E2:E93564,\"COVID\",'Accounting Data'!H2:H93564,{\"0??\",\"1??\",\"2??\",\"3??\",\"4??\",\"5??\",\"6??\"},'Accounting Data'!I2:I93564,\"23??\",'Accounting Data'!J2:J93564,\"681?\"))+SUM(SUMIFS('Accounting Data'!C2:C93564,'Accounting Data'!E2:E93564,\"COVID\",'Accounting Data'!H2:H93564,{\"0??\",\"1??\",\"2??\",\"3??\",\"4??\",\"5??\",\"6??\"},'Accounting Data'!I2:I93564,\"25??\",'Accounting Data'!J2:J93564,\"681?\"))+SUM(SUMIFS('Accounting Data'!C2:C93564,'Accounting Data'!E2:E93564,\"COVID\",'Accounting Data'!H2:H93564,{\"0??\",\"1??\",\"2??\",\"3??\",\"4??\",\"5??\",\"6??\"},'Accounting Data'!I2:I93564,\"29??\",'Accounting Data'!J2:J93564,\"681?\"))+SUM(SUMIFS('Accounting Data'!C2:C93564,'Accounting Data'!E2:E93564,\"227\",'Accounting Data'!H2:H93564,{\"0??\",\"1??\",\"2??\",\"3??\",\"4??\",\"5??\",\"6??\"},'Accounting Data'!I2:I93564,\"23??\",'Accounting Data'!J2:J93564,\"681?\"))+SUM(SUMIFS('Accounting Data'!C2:C93564,'Accounting Data'!E2:E93564,\"227\",'Accounting Data'!H2:H93564,{\"0??\",\"1??\",\"2??\",\"3??\",\"4??\",\"5??\",\"6??\"},'Accounting Data'!I2:I93564,\"25??\",'Accounting Data'!J2:J93564,\"681?\"))+SUM(SUMIFS('Accounting Data'!C2:C93564,'Accounting Data'!E2:E93564,\"227\",'Accounting Data'!H2:H93564,{\"0??\",\"1??\",\"2??\",\"3??\",\"4??\",\"5??\",\"6??\"},'Accounting Data'!I2:I93564,\"29??\",'Accounting Data'!J2:J93564,\"681?\"))+SUM(SUMIFS('Accounting Data'!C2:C93564,'Accounting Data'!E2:E93564,\"228\",'Accounting Data'!H2:H93564,{\"0??\",\"1??\",\"2??\",\"3??\",\"4??\",\"5??\",\"6??\"},'Accounting Data'!I2:I93564,\"23??\",'Accounting Data'!J2:J93564,\"681?\"))+SUM(SUMIFS('Accounting Data'!C2:C93564,'Accounting Data'!E2:E93564,\"228\",'Accounting Data'!H2:H93564,{\"0??\",\"1??\",\"2??\",\"3??\",\"4??\",\"5??\",\"6??\"},'Accounting Data'!I2:I93564,\"25??\",'Accounting Data'!J2:J93564,\"681?\"))+SUM(SUMIFS('Accounting Data'!C2:C93564,'Accounting Data'!E2:E93564,\"228\",'Accounting Data'!H2:H93564,{\"0??\",\"1??\",\"2??\",\"3??\",\"4??\",\"5??\",\"6??\"},'Accounting Data'!I2:I93564,\"29??\",'Accounting Data'!J2:J93564,\"681?\"))","v":17497},{"$f":"SUM(SUMIFS('Accounting Data'!C2:C93564,'Accounting Data'!E2:E93564,\"COVID\",'Accounting Data'!H2:H93564,{\"0??\",\"1??\",\"2??\",\"3??\",\"4??\",\"5??\",\"6??\"},'Accounting Data'!I2:I93564,\"23??\",'Accounting Data'!J2:J93564,\"682?\"))+SUM(SUMIFS('Accounting Data'!C2:C93564,'Accounting Data'!E2:E93564,\"COVID\",'Accounting Data'!H2:H93564,{\"0??\",\"1??\",\"2??\",\"3??\",\"4??\",\"5??\",\"6??\"},'Accounting Data'!I2:I93564,\"25??\",'Accounting Data'!J2:J93564,\"682?\"))+SUM(SUMIFS('Accounting Data'!C2:C93564,'Accounting Data'!E2:E93564,\"COVID\",'Accounting Data'!H2:H93564,{\"0??\",\"1??\",\"2??\",\"3??\",\"4??\",\"5??\",\"6??\"},'Accounting Data'!I2:I93564,\"29??\",'Accounting Data'!J2:J93564,\"682?\"))+SUM(SUMIFS('Accounting Data'!C2:C93564,'Accounting Data'!E2:E93564,\"227\",'Accounting Data'!H2:H93564,{\"0??\",\"1??\",\"2??\",\"3??\",\"4??\",\"5??\",\"6??\"},'Accounting Data'!I2:I93564,\"23??\",'Accounting Data'!J2:J93564,\"682?\"))+SUM(SUMIFS('Accounting Data'!C2:C93564,'Accounting Data'!E2:E93564,\"227\",'Accounting Data'!H2:H93564,{\"0??\",\"1??\",\"2??\",\"3??\",\"4??\",\"5??\",\"6??\"},'Accounting Data'!I2:I93564,\"25??\",'Accounting Data'!J2:J93564,\"682?\"))+SUM(SUMIFS('Accounting Data'!C2:C93564,'Accounting Data'!E2:E93564,\"227\",'Accounting Data'!H2:H93564,{\"0??\",\"1??\",\"2??\",\"3??\",\"4??\",\"5??\",\"6??\"},'Accounting Data'!I2:I93564,\"29??\",'Accounting Data'!J2:J93564,\"682?\"))+SUM(SUMIFS('Accounting Data'!C2:C93564,'Accounting Data'!E2:E93564,\"228\",'Accounting Data'!H2:H93564,{\"0??\",\"1??\",\"2??\",\"3??\",\"4??\",\"5??\",\"6??\"},'Accounting Data'!I2:I93564,\"23??\",'Accounting Data'!J2:J93564,\"682?\"))+SUM(SUMIFS('Accounting Data'!C2:C93564,'Accounting Data'!E2:E93564,\"228\",'Accounting Data'!H2:H93564,{\"0??\",\"1??\",\"2??\",\"3??\",\"4??\",\"5??\",\"6??\"},'Accounting Data'!I2:I93564,\"25??\",'Accounting Data'!J2:J93564,\"682?\"))+SUM(SUMIFS('Accounting Data'!C2:C93564,'Accounting Data'!E2:E93564,\"228\",'Accounting Data'!H2:H93564,{\"0??\",\"1??\",\"2??\",\"3??\",\"4??\",\"5??\",\"6??\"},'Accounting Data'!I2:I93564,\"29??\",'Accounting Data'!J2:J93564,\"682?\"))","v":0},{"$f":"SUM(SUMIFS('Accounting Data'!C2:C93564,'Accounting Data'!E2:E93564,\"COVID\",'Accounting Data'!H2:H93564,{\"0??\",\"1??\",\"2??\",\"3??\",\"4??\",\"5??\",\"6??\"},'Accounting Data'!I2:I93564,\"23??\",'Accounting Data'!J2:J93564,\"685?\"))+SUM(SUMIFS('Accounting Data'!C2:C93564,'Accounting Data'!E2:E93564,\"COVID\",'Accounting Data'!H2:H93564,{\"0??\",\"1??\",\"2??\",\"3??\",\"4??\",\"5??\",\"6??\"},'Accounting Data'!I2:I93564,\"25??\",'Accounting Data'!J2:J93564,\"685?\"))+SUM(SUMIFS('Accounting Data'!C2:C93564,'Accounting Data'!E2:E93564,\"COVID\",'Accounting Data'!H2:H93564,{\"0??\",\"1??\",\"2??\",\"3??\",\"4??\",\"5??\",\"6??\"},'Accounting Data'!I2:I93564,\"29??\",'Accounting Data'!J2:J93564,\"685?\"))+SUM(SUMIFS('Accounting Data'!C2:C93564,'Accounting Data'!E2:E93564,\"227\",'Accounting Data'!H2:H93564,{\"0??\",\"1??\",\"2??\",\"3??\",\"4??\",\"5??\",\"6??\"},'Accounting Data'!I2:I93564,\"23??\",'Accounting Data'!J2:J93564,\"685?\"))+SUM(SUMIFS('Accounting Data'!C2:C93564,'Accounting Data'!E2:E93564,\"227\",'Accounting Data'!H2:H93564,{\"0??\",\"1??\",\"2??\",\"3??\",\"4??\",\"5??\",\"6??\"},'Accounting Data'!I2:I93564,\"25??\",'Accounting Data'!J2:J93564,\"685?\"))+SUM(SUMIFS('Accounting Data'!C2:C93564,'Accounting Data'!E2:E93564,\"227\",'Accounting Data'!H2:H93564,{\"0??\",\"1??\",\"2??\",\"3??\",\"4??\",\"5??\",\"6??\"},'Accounting Data'!I2:I93564,\"29??\",'Accounting Data'!J2:J93564,\"685?\"))+SUM(SUMIFS('Accounting Data'!C2:C93564,'Accounting Data'!E2:E93564,\"228\",'Accounting Data'!H2:H93564,{\"0??\",\"1??\",\"2??\",\"3??\",\"4??\",\"5??\",\"6??\"},'Accounting Data'!I2:I93564,\"23??\",'Accounting Data'!J2:J93564,\"685?\"))+SUM(SUMIFS('Accounting Data'!C2:C93564,'Accounting Data'!E2:E93564,\"228\",'Accounting Data'!H2:H93564,{\"0??\",\"1??\",\"2??\",\"3??\",\"4??\",\"5??\",\"6??\"},'Accounting Data'!I2:I93564,\"25??\",'Accounting Data'!J2:J93564,\"685?\"))+SUM(SUMIFS('Accounting Data'!C2:C93564,'Accounting Data'!E2:E93564,\"228\",'Accounting Data'!H2:H93564,{\"0??\",\"1??\",\"2??\",\"3??\",\"4??\",\"5??\",\"6??\"},'Accounting Data'!I2:I93564,\"29??\",'Accounting Data'!J2:J93564,\"685?\"))","v":0},{"$f":"SUM(SUMIFS('Accounting Data'!C2:C93564,'Accounting Data'!E2:E93564,\"COVID\",'Accounting Data'!H2:H93564,{\"0??\",\"1??\",\"2??\",\"3??\",\"4??\",\"5??\",\"6??\"},'Accounting Data'!I2:I93564,\"23??\",'Accounting Data'!J2:J93564,\"689?\"))+SUM(SUMIFS('Accounting Data'!C2:C93564,'Accounting Data'!E2:E93564,\"COVID\",'Accounting Data'!H2:H93564,{\"0??\",\"1??\",\"2??\",\"3??\",\"4??\",\"5??\",\"6??\"},'Accounting Data'!I2:I93564,\"25??\",'Accounting Data'!J2:J93564,\"689?\"))+SUM(SUMIFS('Accounting Data'!C2:C93564,'Accounting Data'!E2:E93564,\"COVID\",'Accounting Data'!H2:H93564,{\"0??\",\"1??\",\"2??\",\"3??\",\"4??\",\"5??\",\"6??\"},'Accounting Data'!I2:I93564,\"29??\",'Accounting Data'!J2:J93564,\"689?\"))+SUM(SUMIFS('Accounting Data'!C2:C93564,'Accounting Data'!E2:E93564,\"227\",'Accounting Data'!H2:H93564,{\"0??\",\"1??\",\"2??\",\"3??\",\"4??\",\"5??\",\"6??\"},'Accounting Data'!I2:I93564,\"23??\",'Accounting Data'!J2:J93564,\"689?\"))+SUM(SUMIFS('Accounting Data'!C2:C93564,'Accounting Data'!E2:E93564,\"227\",'Accounting Data'!H2:H93564,{\"0??\",\"1??\",\"2??\",\"3??\",\"4??\",\"5??\",\"6??\"},'Accounting Data'!I2:I93564,\"25??\",'Accounting Data'!J2:J93564,\"689?\"))+SUM(SUMIFS('Accounting Data'!C2:C93564,'Accounting Data'!E2:E93564,\"227\",'Accounting Data'!H2:H93564,{\"0??\",\"1??\",\"2??\",\"3??\",\"4??\",\"5??\",\"6??\"},'Accounting Data'!I2:I93564,\"29??\",'Accounting Data'!J2:J93564,\"689?\"))+SUM(SUMIFS('Accounting Data'!C2:C93564,'Accounting Data'!E2:E93564,\"228\",'Accounting Data'!H2:H93564,{\"0??\",\"1??\",\"2??\",\"3??\",\"4??\",\"5??\",\"6??\"},'Accounting Data'!I2:I93564,\"23??\",'Accounting Data'!J2:J93564,\"689?\"))+SUM(SUMIFS('Accounting Data'!C2:C93564,'Accounting Data'!E2:E93564,\"228\",'Accounting Data'!H2:H93564,{\"0??\",\"1??\",\"2??\",\"3??\",\"4??\",\"5??\",\"6??\"},'Accounting Data'!I2:I93564,\"25??\",'Accounting Data'!J2:J93564,\"689?\"))+SUM(SUMIFS('Accounting Data'!C2:C93564,'Accounting Data'!E2:E93564,\"228\",'Accounting Data'!H2:H93564,{\"0??\",\"1??\",\"2??\",\"3??\",\"4??\",\"5??\",\"6??\"},'Accounting Data'!I2:I93564,\"29??\",'Accounting Data'!J2:J93564,\"689?\"))","v":0},{"$f":"SUM(SUMIFS('Accounting Data'!C2:C93564,'Accounting Data'!E2:E93564,\"COVID\",'Accounting Data'!H2:H93564,{\"0??\",\"1??\",\"2??\",\"3??\",\"4??\",\"5??\",\"6??\"},'Accounting Data'!I2:I93564,\"23??\",'Accounting Data'!J2:J93564,\"68??\"))+SUM(SUMIFS('Accounting Data'!C2:C93564,'Accounting Data'!E2:E93564,\"COVID\",'Accounting Data'!H2:H93564,{\"0??\",\"1??\",\"2??\",\"3??\",\"4??\",\"5??\",\"6??\"},'Accounting Data'!I2:I93564,\"25??\",'Accounting Data'!J2:J93564,\"68??\"))+SUM(SUMIFS('Accounting Data'!C2:C93564,'Accounting Data'!E2:E93564,\"COVID\",'Accounting Data'!H2:H93564,{\"0??\",\"1??\",\"2??\",\"3??\",\"4??\",\"5??\",\"6??\"},'Accounting Data'!I2:I93564,\"29??\",'Accounting Data'!J2:J93564,\"68??\"))+SUM(SUMIFS('Accounting Data'!C2:C93564,'Accounting Data'!E2:E93564,\"227\",'Accounting Data'!H2:H93564,{\"0??\",\"1??\",\"2??\",\"3??\",\"4??\",\"5??\",\"6??\"},'Accounting Data'!I2:I93564,\"23??\",'Accounting Data'!J2:J93564,\"68??\"))+SUM(SUMIFS('Accounting Data'!C2:C93564,'Accounting Data'!E2:E93564,\"227\",'Accounting Data'!H2:H93564,{\"0??\",\"1??\",\"2??\",\"3??\",\"4??\",\"5??\",\"6??\"},'Accounting Data'!I2:I93564,\"25??\",'Accounting Data'!J2:J93564,\"68??\"))+SUM(SUMIFS('Accounting Data'!C2:C93564,'Accounting Data'!E2:E93564,\"227\",'Accounting Data'!H2:H93564,{\"0??\",\"1??\",\"2??\",\"3??\",\"4??\",\"5??\",\"6??\"},'Accounting Data'!I2:I93564,\"29??\",'Accounting Data'!J2:J93564,\"68??\"))+SUM(SUMIFS('Accounting Data'!C2:C93564,'Accounting Data'!E2:E93564,\"228\",'Accounting Data'!H2:H93564,{\"0??\",\"1??\",\"2??\",\"3??\",\"4??\",\"5??\",\"6??\"},'Accounting Data'!I2:I93564,\"23??\",'Accounting Data'!J2:J93564,\"68??\"))+SUM(SUMIFS('Accounting Data'!C2:C93564,'Accounting Data'!E2:E93564,\"228\",'Accounting Data'!H2:H93564,{\"0??\",\"1??\",\"2??\",\"3??\",\"4??\",\"5??\",\"6??\"},'Accounting Data'!I2:I93564,\"25??\",'Accounting Data'!J2:J93564,\"68??\"))+SUM(SUMIFS('Accounting Data'!C2:C93564,'Accounting Data'!E2:E93564,\"228\",'Accounting Data'!H2:H93564,{\"0??\",\"1??\",\"2??\",\"3??\",\"4??\",\"5??\",\"6??\"},'Accounting Data'!I2:I93564,\"29??\",'Accounting Data'!J2:J93564,\"68??\"))-H12-I12-J12-K12","v":0},{"$f":"BA12+BB12+BC12","v":0},{"$f":"ROUND(SUM(C12:M12),0)","v":230978},null,null,null,null,null,null,null,null,null,null,null,null,null,null,null,null,null,null,null,null,null,null,null,null,null,null,null,null,null,null,null,null,null,null,null,{"$f":"SUM(SUMIFS('Accounting Data'!C2:C93564,'Accounting Data'!E2:E93564,\"COVID\",'Accounting Data'!H2:H93564,{\"0??\",\"1??\",\"2??\",\"3??\",\"4??\",\"5??\",\"6??\"},'Accounting Data'!I2:I93564,\"23??\",'Accounting Data'!J2:J93564,\"63??\"))+SUM(SUMIFS('Accounting Data'!C2:C93564,'Accounting Data'!E2:E93564,\"COVID\",'Accounting Data'!H2:H93564,{\"0??\",\"1??\",\"2??\",\"3??\",\"4??\",\"5??\",\"6??\"},'Accounting Data'!I2:I93564,\"23??\",'Accounting Data'!J2:J93564,\"64??\"))+SUM(SUMIFS('Accounting Data'!C2:C93564,'Accounting Data'!E2:E93564,\"COVID\",'Accounting Data'!H2:H93564,{\"0??\",\"1??\",\"2??\",\"3??\",\"4??\",\"5??\",\"6??\"},'Accounting Data'!I2:I93564,\"23??\",'Accounting Data'!J2:J93564,\"65??\"))+SUM(SUMIFS('Accounting Data'!C2:C93564,'Accounting Data'!E2:E93564,\"227\",'Accounting Data'!H2:H93564,{\"0??\",\"1??\",\"2??\",\"3??\",\"4??\",\"5??\",\"6??\"},'Accounting Data'!I2:I93564,\"23??\",'Accounting Data'!J2:J93564,\"63??\"))+SUM(SUMIFS('Accounting Data'!C2:C93564,'Accounting Data'!E2:E93564,\"227\",'Accounting Data'!H2:H93564,{\"0??\",\"1??\",\"2??\",\"3??\",\"4??\",\"5??\",\"6??\"},'Accounting Data'!I2:I93564,\"23??\",'Accounting Data'!J2:J93564,\"64??\"))+SUM(SUMIFS('Accounting Data'!C2:C93564,'Accounting Data'!E2:E93564,\"227\",'Accounting Data'!H2:H93564,{\"0??\",\"1??\",\"2??\",\"3??\",\"4??\",\"5??\",\"6??\"},'Accounting Data'!I2:I93564,\"23??\",'Accounting Data'!J2:J93564,\"65??\"))+SUM(SUMIFS('Accounting Data'!C2:C93564,'Accounting Data'!E2:E93564,\"228\",'Accounting Data'!H2:H93564,{\"0??\",\"1??\",\"2??\",\"3??\",\"4??\",\"5??\",\"6??\"},'Accounting Data'!I2:I93564,\"23??\",'Accounting Data'!J2:J93564,\"63??\"))+SUM(SUMIFS('Accounting Data'!C2:C93564,'Accounting Data'!E2:E93564,\"228\",'Accounting Data'!H2:H93564,{\"0??\",\"1??\",\"2??\",\"3??\",\"4??\",\"5??\",\"6??\"},'Accounting Data'!I2:I93564,\"23??\",'Accounting Data'!J2:J93564,\"64??\"))+SUM(SUMIFS('Accounting Data'!C2:C93564,'Accounting Data'!E2:E93564,\"228\",'Accounting Data'!H2:H93564,{\"0??\",\"1??\",\"2??\",\"3??\",\"4??\",\"5??\",\"6??\"},'Accounting Data'!I2:I93564,\"23??\",'Accounting Data'!J2:J93564,\"65??\"))","v":0},{"$f":"SUM(SUMIFS('Accounting Data'!C2:C93564,'Accounting Data'!E2:E93564,\"COVID\",'Accounting Data'!H2:H93564,{\"0??\",\"1??\",\"2??\",\"3??\",\"4??\",\"5??\",\"6??\"},'Accounting Data'!I2:I93564,\"25??\",'Accounting Data'!J2:J93564,\"63??\"))+SUM(SUMIFS('Accounting Data'!C2:C93564,'Accounting Data'!E2:E93564,\"COVID\",'Accounting Data'!H2:H93564,{\"0??\",\"1??\",\"2??\",\"3??\",\"4??\",\"5??\",\"6??\"},'Accounting Data'!I2:I93564,\"25??\",'Accounting Data'!J2:J93564,\"64??\"))+SUM(SUMIFS('Accounting Data'!C2:C93564,'Accounting Data'!E2:E93564,\"COVID\",'Accounting Data'!H2:H93564,{\"0??\",\"1??\",\"2??\",\"3??\",\"4??\",\"5??\",\"6??\"},'Accounting Data'!I2:I93564,\"25??\",'Accounting Data'!J2:J93564,\"65??\"))+SUM(SUMIFS('Accounting Data'!C2:C93564,'Accounting Data'!E2:E93564,\"227\",'Accounting Data'!H2:H93564,{\"0??\",\"1??\",\"2??\",\"3??\",\"4??\",\"5??\",\"6??\"},'Accounting Data'!I2:I93564,\"25??\",'Accounting Data'!J2:J93564,\"63??\"))+SUM(SUMIFS('Accounting Data'!C2:C93564,'Accounting Data'!E2:E93564,\"227\",'Accounting Data'!H2:H93564,{\"0??\",\"1??\",\"2??\",\"3??\",\"4??\",\"5??\",\"6??\"},'Accounting Data'!I2:I93564,\"25??\",'Accounting Data'!J2:J93564,\"64??\"))+SUM(SUMIFS('Accounting Data'!C2:C93564,'Accounting Data'!E2:E93564,\"227\",'Accounting Data'!H2:H93564,{\"0??\",\"1??\",\"2??\",\"3??\",\"4??\",\"5??\",\"6??\"},'Accounting Data'!I2:I93564,\"25??\",'Accounting Data'!J2:J93564,\"65??\"))+SUM(SUMIFS('Accounting Data'!C2:C93564,'Accounting Data'!E2:E93564,\"228\",'Accounting Data'!H2:H93564,{\"0??\",\"1??\",\"2??\",\"3??\",\"4??\",\"5??\",\"6??\"},'Accounting Data'!I2:I93564,\"25??\",'Accounting Data'!J2:J93564,\"63??\"))+SUM(SUMIFS('Accounting Data'!C2:C93564,'Accounting Data'!E2:E93564,\"228\",'Accounting Data'!H2:H93564,{\"0??\",\"1??\",\"2??\",\"3??\",\"4??\",\"5??\",\"6??\"},'Accounting Data'!I2:I93564,\"25??\",'Accounting Data'!J2:J93564,\"64??\"))+SUM(SUMIFS('Accounting Data'!C2:C93564,'Accounting Data'!E2:E93564,\"228\",'Accounting Data'!H2:H93564,{\"0??\",\"1??\",\"2??\",\"3??\",\"4??\",\"5??\",\"6??\"},'Accounting Data'!I2:I93564,\"25??\",'Accounting Data'!J2:J93564,\"65??\"))","v":75524.240000000005},{"$f":"SUM(SUMIFS('Accounting Data'!C2:C93564,'Accounting Data'!E2:E93564,\"COVID\",'Accounting Data'!H2:H93564,{\"0??\",\"1??\",\"2??\",\"3??\",\"4??\",\"5??\",\"6??\"},'Accounting Data'!I2:I93564,\"29??\",'Accounting Data'!J2:J93564,\"63??\"))+SUM(SUMIFS('Accounting Data'!C2:C93564,'Accounting Data'!E2:E93564,\"COVID\",'Accounting Data'!H2:H93564,{\"0??\",\"1??\",\"2??\",\"3??\",\"4??\",\"5??\",\"6??\"},'Accounting Data'!I2:I93564,\"29??\",'Accounting Data'!J2:J93564,\"64??\"))+SUM(SUMIFS('Accounting Data'!C2:C93564,'Accounting Data'!E2:E93564,\"COVID\",'Accounting Data'!H2:H93564,{\"0??\",\"1??\",\"2??\",\"3??\",\"4??\",\"5??\",\"6??\"},'Accounting Data'!I2:I93564,\"29??\",'Accounting Data'!J2:J93564,\"65??\"))+SUM(SUMIFS('Accounting Data'!C2:C93564,'Accounting Data'!E2:E93564,\"227\",'Accounting Data'!H2:H93564,{\"0??\",\"1??\",\"2??\",\"3??\",\"4??\",\"5??\",\"6??\"},'Accounting Data'!I2:I93564,\"29??\",'Accounting Data'!J2:J93564,\"63??\"))+SUM(SUMIFS('Accounting Data'!C2:C93564,'Accounting Data'!E2:E93564,\"227\",'Accounting Data'!H2:H93564,{\"0??\",\"1??\",\"2??\",\"3??\",\"4??\",\"5??\",\"6??\"},'Accounting Data'!I2:I93564,\"29??\",'Accounting Data'!J2:J93564,\"64??\"))+SUM(SUMIFS('Accounting Data'!C2:C93564,'Accounting Data'!E2:E93564,\"227\",'Accounting Data'!H2:H93564,{\"0??\",\"1??\",\"2??\",\"3??\",\"4??\",\"5??\",\"6??\"},'Accounting Data'!I2:I93564,\"29??\",'Accounting Data'!J2:J93564,\"65??\"))+SUM(SUMIFS('Accounting Data'!C2:C93564,'Accounting Data'!E2:E93564,\"228\",'Accounting Data'!H2:H93564,{\"0??\",\"1??\",\"2??\",\"3??\",\"4??\",\"5??\",\"6??\"},'Accounting Data'!I2:I93564,\"29??\",'Accounting Data'!J2:J93564,\"63??\"))+SUM(SUMIFS('Accounting Data'!C2:C93564,'Accounting Data'!E2:E93564,\"228\",'Accounting Data'!H2:H93564,{\"0??\",\"1??\",\"2??\",\"3??\",\"4??\",\"5??\",\"6??\"},'Accounting Data'!I2:I93564,\"29??\",'Accounting Data'!J2:J93564,\"64??\"))+SUM(SUMIFS('Accounting Data'!C2:C93564,'Accounting Data'!E2:E93564,\"228\",'Accounting Data'!H2:H93564,{\"0??\",\"1??\",\"2??\",\"3??\",\"4??\",\"5??\",\"6??\"},'Accounting Data'!I2:I93564,\"29??\",'Accounting Data'!J2:J93564,\"65??\"))","v":0},{"$f":"(SUM(SUMIFS('Accounting Data'!C2:C93564,'Accounting Data'!E2:E93564,\"COVID\",'Accounting Data'!H2:H93564,{\"7??\",\"8??\",\"9??\"},'Accounting Data'!I2:I93564,\"23??\",'Accounting Data'!J2:J93564,\"6???\"))-SUM(SUMIFS('Accounting Data'!C2:C93564,'Accounting Data'!E2:E93564,\"COVID\",'Accounting Data'!H2:H93564,{\"7??\",\"8??\",\"9??\"},'Accounting Data'!I2:I93564,\"23??\",'Accounting Data'!J2:J93564,\"69??\")))+(SUM(SUMIFS('Accounting Data'!C2:C93564,'Accounting Data'!E2:E93564,\"COVID\",'Accounting Data'!H2:H93564,{\"7??\",\"8??\",\"9??\"},'Accounting Data'!I2:I93564,\"25??\",'Accounting Data'!J2:J93564,\"6???\"))-SUM(SUMIFS('Accounting Data'!C2:C93564,'Accounting Data'!E2:E93564,\"COVID\",'Accounting Data'!H2:H93564,{\"7??\",\"8??\",\"9??\"},'Accounting Data'!I2:I93564,\"25??\",'Accounting Data'!J2:J93564,\"69??\")))+(SUM(SUMIFS('Accounting Data'!C2:C93564,'Accounting Data'!E2:E93564,\"COVID\",'Accounting Data'!H2:H93564,{\"7??\",\"8??\",\"9??\"},'Accounting Data'!I2:I93564,\"29??\",'Accounting Data'!J2:J93564,\"6???\"))-SUM(SUMIFS('Accounting Data'!C2:C93564,'Accounting Data'!E2:E93564,\"COVID\",'Accounting Data'!H2:H93564,{\"7??\",\"8??\",\"9??\"},'Accounting Data'!I2:I93564,\"29??\",'Accounting Data'!J2:J93564,\"69??\")))","v":0},{"$f":"(SUM(SUMIFS('Accounting Data'!C2:C93564,'Accounting Data'!E2:E93564,\"227\",'Accounting Data'!H2:H93564,{\"7??\",\"8??\",\"9??\"},'Accounting Data'!I2:I93564,\"23??\",'Accounting Data'!J2:J93564,\"6???\"))-SUM(SUMIFS('Accounting Data'!C2:C93564,'Accounting Data'!E2:E93564,\"227\",'Accounting Data'!H2:H93564,{\"7??\",\"8??\",\"9??\"},'Accounting Data'!I2:I93564,\"23??\",'Accounting Data'!J2:J93564,\"69??\")))+(SUM(SUMIFS('Accounting Data'!C2:C93564,'Accounting Data'!E2:E93564,\"227\",'Accounting Data'!H2:H93564,{\"7??\",\"8??\",\"9??\"},'Accounting Data'!I2:I93564,\"25??\",'Accounting Data'!J2:J93564,\"6???\"))-SUM(SUMIFS('Accounting Data'!C2:C93564,'Accounting Data'!E2:E93564,\"227\",'Accounting Data'!H2:H93564,{\"7??\",\"8??\",\"9??\"},'Accounting Data'!I2:I93564,\"25??\",'Accounting Data'!J2:J93564,\"69??\")))+(SUM(SUMIFS('Accounting Data'!C2:C93564,'Accounting Data'!E2:E93564,\"227\",'Accounting Data'!H2:H93564,{\"7??\",\"8??\",\"9??\"},'Accounting Data'!I2:I93564,\"29??\",'Accounting Data'!J2:J93564,\"6???\"))-SUM(SUMIFS('Accounting Data'!C2:C93564,'Accounting Data'!E2:E93564,\"227\",'Accounting Data'!H2:H93564,{\"7??\",\"8??\",\"9??\"},'Accounting Data'!I2:I93564,\"29??\",'Accounting Data'!J2:J93564,\"69??\")))","v":0},{"$f":"(SUM(SUMIFS('Accounting Data'!C2:C93564,'Accounting Data'!E2:E93564,\"228\",'Accounting Data'!H2:H93564,{\"7??\",\"8??\",\"9??\"},'Accounting Data'!I2:I93564,\"23??\",'Accounting Data'!J2:J93564,\"6???\"))-SUM(SUMIFS('Accounting Data'!C2:C93564,'Accounting Data'!E2:E93564,\"228\",'Accounting Data'!H2:H93564,{\"7??\",\"8??\",\"9??\"},'Accounting Data'!I2:I93564,\"23??\",'Accounting Data'!J2:J93564,\"69??\")))+(SUM(SUMIFS('Accounting Data'!C2:C93564,'Accounting Data'!E2:E93564,\"228\",'Accounting Data'!H2:H93564,{\"7??\",\"8??\",\"9??\"},'Accounting Data'!I2:I93564,\"25??\",'Accounting Data'!J2:J93564,\"6???\"))-SUM(SUMIFS('Accounting Data'!C2:C93564,'Accounting Data'!E2:E93564,\"228\",'Accounting Data'!H2:H93564,{\"7??\",\"8??\",\"9??\"},'Accounting Data'!I2:I93564,\"25??\",'Accounting Data'!J2:J93564,\"69??\")))+(SUM(SUMIFS('Accounting Data'!C2:C93564,'Accounting Data'!E2:E93564,\"228\",'Accounting Data'!H2:H93564,{\"7??\",\"8??\",\"9??\"},'Accounting Data'!I2:I93564,\"29??\",'Accounting Data'!J2:J93564,\"6???\"))-SUM(SUMIFS('Accounting Data'!C2:C93564,'Accounting Data'!E2:E93564,\"228\",'Accounting Data'!H2:H93564,{\"7??\",\"8??\",\"9??\"},'Accounting Data'!I2:I93564,\"29??\",'Accounting Data'!J2:J93564,\"69??\")))","v":0}]
["2400 School Administration","4.",{"$f":"SUM(SUMIFS('Accounting Data'!C2:C93564,'Accounting Data'!E2:E93564,\"COVID\",'Accounting Data'!H2:H93564,{\"0??\",\"1??\",\"2??\",\"3??\",\"4??\",\"5??\",\"6??\"},'Accounting Data'!I2:I93564,\"24??\",'Accounting Data'!J2:J93564,\"61??\"))+SUM(SUMIFS('Accounting Data'!C2:C93564,'Accounting Data'!E2:E93564,\"227\",'Accounting Data'!H2:H93564,{\"0??\",\"1??\",\"2??\",\"3??\",\"4??\",\"5??\",\"6??\"},'Accounting Data'!I2:I93564,\"24??\",'Accounting Data'!J2:J93564,\"61??\"))+SUM(SUMIFS('Accounting Data'!C2:C93564,'Accounting Data'!E2:E93564,\"228\",'Accounting Data'!H2:H93564,{\"0??\",\"1??\",\"2??\",\"3??\",\"4??\",\"5??\",\"6??\"},'Accounting Data'!I2:I93564,\"24??\",'Accounting Data'!J2:J93564,\"61??\"))","v":25260},{"$f":"SUM(SUMIFS('Accounting Data'!C2:C93564,'Accounting Data'!E2:E93564,\"COVID\",'Accounting Data'!H2:H93564,{\"0??\",\"1??\",\"2??\",\"3??\",\"4??\",\"5??\",\"6??\"},'Accounting Data'!I2:I93564,\"24??\",'Accounting Data'!J2:J93564,\"62??\"))+SUM(SUMIFS('Accounting Data'!C2:C93564,'Accounting Data'!E2:E93564,\"227\",'Accounting Data'!H2:H93564,{\"0??\",\"1??\",\"2??\",\"3??\",\"4??\",\"5??\",\"6??\"},'Accounting Data'!I2:I93564,\"24??\",'Accounting Data'!J2:J93564,\"62??\"))+SUM(SUMIFS('Accounting Data'!C2:C93564,'Accounting Data'!E2:E93564,\"227\",'Accounting Data'!H2:H93564,{\"0??\",\"1??\",\"2??\",\"3??\",\"4??\",\"5??\",\"6??\"},'Accounting Data'!I2:I93564,\"24??\",'Accounting Data'!J2:J93564,\"62??\"))","v":5120},{"$f":"SUM(SUMIFS('Accounting Data'!C2:C93564,'Accounting Data'!E2:E93564,\"COVID\",'Accounting Data'!H2:H93564,{\"0??\",\"1??\",\"2??\",\"3??\",\"4??\",\"5??\",\"6??\"},'Accounting Data'!I2:I93564,\"24??\",'Accounting Data'!J2:J93564,\"63??\"))+SUM(SUMIFS('Accounting Data'!C2:C93564,'Accounting Data'!E2:E93564,\"COVID\",'Accounting Data'!H2:H93564,{\"0??\",\"1??\",\"2??\",\"3??\",\"4??\",\"5??\",\"6??\"},'Accounting Data'!I2:I93564,\"24??\",'Accounting Data'!J2:J93564,\"64??\"))+SUM(SUMIFS('Accounting Data'!C2:C93564,'Accounting Data'!E2:E93564,\"COVID\",'Accounting Data'!H2:H93564,{\"0??\",\"1??\",\"2??\",\"3??\",\"4??\",\"5??\",\"6??\"},'Accounting Data'!I2:I93564,\"24??\",'Accounting Data'!J2:J93564,\"65??\"))+SUM(SUMIFS('Accounting Data'!C2:C93564,'Accounting Data'!E2:E93564,\"227\",'Accounting Data'!H2:H93564,{\"0??\",\"1??\",\"2??\",\"3??\",\"4??\",\"5??\",\"6??\"},'Accounting Data'!I2:I93564,\"24??\",'Accounting Data'!J2:J93564,\"63??\"))+SUM(SUMIFS('Accounting Data'!C2:C93564,'Accounting Data'!E2:E93564,\"227\",'Accounting Data'!H2:H93564,{\"0??\",\"1??\",\"2??\",\"3??\",\"4??\",\"5??\",\"6??\"},'Accounting Data'!I2:I93564,\"24??\",'Accounting Data'!J2:J93564,\"64??\"))+SUM(SUMIFS('Accounting Data'!C2:C93564,'Accounting Data'!E2:E93564,\"227\",'Accounting Data'!H2:H93564,{\"0??\",\"1??\",\"2??\",\"3??\",\"4??\",\"5??\",\"6??\"},'Accounting Data'!I2:I93564,\"24??\",'Accounting Data'!J2:J93564,\"65??\"))+SUM(SUMIFS('Accounting Data'!C2:C93564,'Accounting Data'!E2:E93564,\"228\",'Accounting Data'!H2:H93564,{\"0??\",\"1??\",\"2??\",\"3??\",\"4??\",\"5??\",\"6??\"},'Accounting Data'!I2:I93564,\"24??\",'Accounting Data'!J2:J93564,\"63??\"))+SUM(SUMIFS('Accounting Data'!C2:C93564,'Accounting Data'!E2:E93564,\"228\",'Accounting Data'!H2:H93564,{\"0??\",\"1??\",\"2??\",\"3??\",\"4??\",\"5??\",\"6??\"},'Accounting Data'!I2:I93564,\"24??\",'Accounting Data'!J2:J93564,\"64??\"))+SUM(SUMIFS('Accounting Data'!C2:C93564,'Accounting Data'!E2:E93564,\"228\",'Accounting Data'!H2:H93564,{\"0??\",\"1??\",\"2??\",\"3??\",\"4??\",\"5??\",\"6??\"},'Accounting Data'!I2:I93564,\"24??\",'Accounting Data'!J2:J93564,\"65??\"))","v":0},{"$f":"SUM(SUMIFS('Accounting Data'!C2:C93564,'Accounting Data'!E2:E93564,\"COVID\",'Accounting Data'!H2:H93564,{\"0??\",\"1??\",\"2??\",\"3??\",\"4??\",\"5??\",\"6??\"},'Accounting Data'!I2:I93564,\"24??\",'Accounting Data'!J2:J93564,\"66??\"))+SUM(SUMIFS('Accounting Data'!C2:C93564,'Accounting Data'!E2:E93564,\"227\",'Accounting Data'!H2:H93564,{\"0??\",\"1??\",\"2??\",\"3??\",\"4??\",\"5??\",\"6??\"},'Accounting Data'!I2:I93564,\"24??\",'Accounting Data'!J2:J93564,\"66??\"))+SUM(SUMIFS('Accounting Data'!C2:C93564,'Accounting Data'!E2:E93564,\"228\",'Accounting Data'!H2:H93564,{\"0??\",\"1??\",\"2??\",\"3??\",\"4??\",\"5??\",\"6??\"},'Accounting Data'!I2:I93564,\"24??\",'Accounting Data'!J2:J93564,\"66??\"))","v":0},{"$f":"SUM(SUMIFS('Accounting Data'!C2:C93564,'Accounting Data'!E2:E93564,\"COVID\",'Accounting Data'!H2:H93564,{\"0??\",\"1??\",\"2??\",\"3??\",\"4??\",\"5??\",\"6??\"},'Accounting Data'!I2:I93564,\"24??\",'Accounting Data'!J2:J93564,\"67??\"))+SUM(SUMIFS('Accounting Data'!C2:C93564,'Accounting Data'!E2:E93564,\"227\",'Accounting Data'!H2:H93564,{\"0??\",\"1??\",\"2??\",\"3??\",\"4??\",\"5??\",\"6??\"},'Accounting Data'!I2:I93564,\"24??\",'Accounting Data'!J2:J93564,\"67??\"))+SUM(SUMIFS('Accounting Data'!C2:C93564,'Accounting Data'!E2:E93564,\"228\",'Accounting Data'!H2:H93564,{\"0??\",\"1??\",\"2??\",\"3??\",\"4??\",\"5??\",\"6??\"},'Accounting Data'!I2:I93564,\"24??\",'Accounting Data'!J2:J93564,\"67??\"))","v":0},{"$f":"SUM(SUMIFS('Accounting Data'!C2:C93564,'Accounting Data'!E2:E93564,\"COVID\",'Accounting Data'!H2:H93564,{\"0??\",\"1??\",\"2??\",\"3??\",\"4??\",\"5??\",\"6??\"},'Accounting Data'!I2:I93564,\"24??\",'Accounting Data'!J2:J93564,\"681?\"))+SUM(SUMIFS('Accounting Data'!C2:C93564,'Accounting Data'!E2:E93564,\"227\",'Accounting Data'!H2:H93564,{\"0??\",\"1??\",\"2??\",\"3??\",\"4??\",\"5??\",\"6??\"},'Accounting Data'!I2:I93564,\"24??\",'Accounting Data'!J2:J93564,\"681?\"))+SUM(SUMIFS('Accounting Data'!C2:C93564,'Accounting Data'!E2:E93564,\"228\",'Accounting Data'!H2:H93564,{\"0??\",\"1??\",\"2??\",\"3??\",\"4??\",\"5??\",\"6??\"},'Accounting Data'!I2:I93564,\"24??\",'Accounting Data'!J2:J93564,\"681?\"))","v":0},null,null,{"$f":"SUM(SUMIFS('Accounting Data'!C2:C93564,'Accounting Data'!E2:E93564,\"COVID\",'Accounting Data'!H2:H93564,{\"0??\",\"1??\",\"2??\",\"3??\",\"4??\",\"5??\",\"6??\"},'Accounting Data'!I2:I93564,\"24??\",'Accounting Data'!J2:J93564,\"689?\"))+SUM(SUMIFS('Accounting Data'!C2:C93564,'Accounting Data'!E2:E93564,\"227\",'Accounting Data'!H2:H93564,{\"0??\",\"1??\",\"2??\",\"3??\",\"4??\",\"5??\",\"6??\"},'Accounting Data'!I2:I93564,\"24??\",'Accounting Data'!J2:J93564,\"689?\"))+SUM(SUMIFS('Accounting Data'!C2:C93564,'Accounting Data'!E2:E93564,\"228\",'Accounting Data'!H2:H93564,{\"0??\",\"1??\",\"2??\",\"3??\",\"4??\",\"5??\",\"6??\"},'Accounting Data'!I2:I93564,\"24??\",'Accounting Data'!J2:J93564,\"689?\"))","v":0},{"$f":"SUM(SUMIFS('Accounting Data'!C2:C93564,'Accounting Data'!E2:E93564,\"COVID\",'Accounting Data'!H2:H93564,{\"0??\",\"1??\",\"2??\",\"3??\",\"4??\",\"5??\",\"6??\"},'Accounting Data'!I2:I93564,\"24??\",'Accounting Data'!J2:J93564,\"68??\"))+SUM(SUMIFS('Accounting Data'!C2:C93564,'Accounting Data'!E2:E93564,\"227\",'Accounting Data'!H2:H93564,{\"0??\",\"1??\",\"2??\",\"3??\",\"4??\",\"5??\",\"6??\"},'Accounting Data'!I2:I93564,\"24??\",'Accounting Data'!J2:J93564,\"68??\"))+SUM(SUMIFS('Accounting Data'!C2:C93564,'Accounting Data'!E2:E93564,\"228\",'Accounting Data'!H2:H93564,{\"0??\",\"1??\",\"2??\",\"3??\",\"4??\",\"5??\",\"6??\"},'Accounting Data'!I2:I93564,\"24??\",'Accounting Data'!J2:J93564,\"68??\"))-H13-K13","v":0},{"$f":"SUM(SUMIFS('Accounting Data'!C2:C93564,'Accounting Data'!E2:E93564,\"COVID\",'Accounting Data'!H2:H93564,{\"7??\",\"8??\",\"9??\"},'Accounting Data'!I2:I93564,\"24??\",'Accounting Data'!J2:J93564,\"6???\"))-SUM(SUMIFS('Accounting Data'!C2:C93564,'Accounting Data'!E2:E93564,\"COVID\",'Accounting Data'!H2:H93564,{\"7??\",\"8??\",\"9??\"},'Accounting Data'!I2:I93564,\"24??\",'Accounting Data'!J2:J93564,\"69??\"))+SUM(SUMIFS('Accounting Data'!C2:C93564,'Accounting Data'!E2:E93564,\"227\",'Accounting Data'!H2:H93564,{\"7??\",\"8??\",\"9??\"},'Accounting Data'!I2:I93564,\"24??\",'Accounting Data'!J2:J93564,\"6???\"))-SUM(SUMIFS('Accounting Data'!C2:C93564,'Accounting Data'!E2:E93564,\"227\",'Accounting Data'!H2:H93564,{\"7??\",\"8??\",\"9??\"},'Accounting Data'!I2:I93564,\"24??\",'Accounting Data'!J2:J93564,\"69??\"))+SUM(SUMIFS('Accounting Data'!C2:C93564,'Accounting Data'!E2:E93564,\"228\",'Accounting Data'!H2:H93564,{\"7??\",\"8??\",\"9??\"},'Accounting Data'!I2:I93564,\"24??\",'Accounting Data'!J2:J93564,\"6???\"))-SUM(SUMIFS('Accounting Data'!C2:C93564,'Accounting Data'!E2:E93564,\"228\",'Accounting Data'!H2:H93564,{\"7??\",\"8??\",\"9??\"},'Accounting Data'!I2:I93564,\"24??\",'Accounting Data'!J2:J93564,\"69??\"))","v":0},{"$f":"ROUND(SUM(C13:M13),0)","v":30380}]
["2600 Operation and Maintenance of Plant","5.",1047547,349891,{"$f":"SUM(SUMIFS('Accounting Data'!C2:C93564,'Accounting Data'!E2:E93564,\"COVID\",'Accounting Data'!H2:H93564,{\"0??\",\"1??\",\"2??\",\"3??\",\"4??\",\"5??\",\"6??\"},'Accounting Data'!I2:I93564,\"26??\",'Accounting Data'!J2:J93564,\"63??\"))+SUM(SUMIFS('Accounting Data'!C2:C93564,'Accounting Data'!E2:E93564,\"COVID\",'Accounting Data'!H2:H93564,{\"0??\",\"1??\",\"2??\",\"3??\",\"4??\",\"5??\",\"6??\"},'Accounting Data'!I2:I93564,\"26??\",'Accounting Data'!J2:J93564,\"64??\"))+SUM(SUMIFS('Accounting Data'!C2:C93564,'Accounting Data'!E2:E93564,\"COVID\",'Accounting Data'!H2:H93564,{\"0??\",\"1??\",\"2??\",\"3??\",\"4??\",\"5??\",\"6??\"},'Accounting Data'!I2:I93564,\"26??\",'Accounting Data'!J2:J93564,\"65??\"))+SUM(SUMIFS('Accounting Data'!C2:C93564,'Accounting Data'!E2:E93564,\"227\",'Accounting Data'!H2:H93564,{\"0??\",\"1??\",\"2??\",\"3??\",\"4??\",\"5??\",\"6??\"},'Accounting Data'!I2:I93564,\"26??\",'Accounting Data'!J2:J93564,\"63??\"))+SUM(SUMIFS('Accounting Data'!C2:C93564,'Accounting Data'!E2:E93564,\"227\",'Accounting Data'!H2:H93564,{\"0??\",\"1??\",\"2??\",\"3??\",\"4??\",\"5??\",\"6??\"},'Accounting Data'!I2:I93564,\"26??\",'Accounting Data'!J2:J93564,\"64??\"))+SUM(SUMIFS('Accounting Data'!C2:C93564,'Accounting Data'!E2:E93564,\"227\",'Accounting Data'!H2:H93564,{\"0??\",\"1??\",\"2??\",\"3??\",\"4??\",\"5??\",\"6??\"},'Accounting Data'!I2:I93564,\"26??\",'Accounting Data'!J2:J93564,\"65??\"))+SUM(SUMIFS('Accounting Data'!C2:C93564,'Accounting Data'!E2:E93564,\"228\",'Accounting Data'!H2:H93564,{\"0??\",\"1??\",\"2??\",\"3??\",\"4??\",\"5??\",\"6??\"},'Accounting Data'!I2:I93564,\"26??\",'Accounting Data'!J2:J93564,\"63??\"))+SUM(SUMIFS('Accounting Data'!C2:C93564,'Accounting Data'!E2:E93564,\"228\",'Accounting Data'!H2:H93564,{\"0??\",\"1??\",\"2??\",\"3??\",\"4??\",\"5??\",\"6??\"},'Accounting Data'!I2:I93564,\"26??\",'Accounting Data'!J2:J93564,\"64??\"))+SUM(SUMIFS('Accounting Data'!C2:C93564,'Accounting Data'!E2:E93564,\"228\",'Accounting Data'!H2:H93564,{\"0??\",\"1??\",\"2??\",\"3??\",\"4??\",\"5??\",\"6??\"},'Accounting Data'!I2:I93564,\"26??\",'Accounting Data'!J2:J93564,\"65??\"))","v":0},38523,{"$f":"SUM(SUMIFS('Accounting Data'!C2:C93564,'Accounting Data'!E2:E93564,\"COVID\",'Accounting Data'!H2:H93564,{\"0??\",\"1??\",\"2??\",\"3??\",\"4??\",\"5??\",\"6??\"},'Accounting Data'!I2:I93564,\"26??\",'Accounting Data'!J2:J93564,\"67??\"))+SUM(SUMIFS('Accounting Data'!C2:C93564,'Accounting Data'!E2:E93564,\"227\",'Accounting Data'!H2:H93564,{\"0??\",\"1??\",\"2??\",\"3??\",\"4??\",\"5??\",\"6??\"},'Accounting Data'!I2:I93564,\"26??\",'Accounting Data'!J2:J93564,\"67??\"))+SUM(SUMIFS('Accounting Data'!C2:C93564,'Accounting Data'!E2:E93564,\"228\",'Accounting Data'!H2:H93564,{\"0??\",\"1??\",\"2??\",\"3??\",\"4??\",\"5??\",\"6??\"},'Accounting Data'!I2:I93564,\"26??\",'Accounting Data'!J2:J93564,\"67??\"))","v":0},{"$f":"SUM(SUMIFS('Accounting Data'!C2:C93564,'Accounting Data'!E2:E93564,\"COVID\",'Accounting Data'!H2:H93564,{\"0??\",\"1??\",\"2??\",\"3??\",\"4??\",\"5??\",\"6??\"},'Accounting Data'!I2:I93564,\"26??\",'Accounting Data'!J2:J93564,\"681?\"))+SUM(SUMIFS('Accounting Data'!C2:C93564,'Accounting Data'!E2:E93564,\"227\",'Accounting Data'!H2:H93564,{\"0??\",\"1??\",\"2??\",\"3??\",\"4??\",\"5??\",\"6??\"},'Accounting Data'!I2:I93564,\"26??\",'Accounting Data'!J2:J93564,\"681?\"))+SUM(SUMIFS('Accounting Data'!C2:C93564,'Accounting Data'!E2:E93564,\"228\",'Accounting Data'!H2:H93564,{\"0??\",\"1??\",\"2??\",\"3??\",\"4??\",\"5??\",\"6??\"},'Accounting Data'!I2:I93564,\"26??\",'Accounting Data'!J2:J93564,\"681?\"))","v":0},null,null,{"$f":"SUM(SUMIFS('Accounting Data'!C2:C93564,'Accounting Data'!E2:E93564,\"COVID\",'Accounting Data'!H2:H93564,{\"0??\",\"1??\",\"2??\",\"3??\",\"4??\",\"5??\",\"6??\"},'Accounting Data'!I2:I93564,\"26??\",'Accounting Data'!J2:J93564,\"689?\"))+SUM(SUMIFS('Accounting Data'!C2:C93564,'Accounting Data'!E2:E93564,\"227\",'Accounting Data'!H2:H93564,{\"0??\",\"1??\",\"2??\",\"3??\",\"4??\",\"5??\",\"6??\"},'Accounting Data'!I2:I93564,\"26??\",'Accounting Data'!J2:J93564,\"689?\"))+SUM(SUMIFS('Accounting Data'!C2:C93564,'Accounting Data'!E2:E93564,\"228\",'Accounting Data'!H2:H93564,{\"0??\",\"1??\",\"2??\",\"3??\",\"4??\",\"5??\",\"6??\"},'Accounting Data'!I2:I93564,\"26??\",'Accounting Data'!J2:J93564,\"689?\"))","v":0},{"$f":"SUM(SUMIFS('Accounting Data'!C2:C93564,'Accounting Data'!E2:E93564,\"COVID\",'Accounting Data'!H2:H93564,{\"0??\",\"1??\",\"2??\",\"3??\",\"4??\",\"5??\",\"6??\"},'Accounting Data'!I2:I93564,\"26??\",'Accounting Data'!J2:J93564,\"68??\"))+SUM(SUMIFS('Accounting Data'!C2:C93564,'Accounting Data'!E2:E93564,\"227\",'Accounting Data'!H2:H93564,{\"0??\",\"1??\",\"2??\",\"3??\",\"4??\",\"5??\",\"6??\"},'Accounting Data'!I2:I93564,\"26??\",'Accounting Data'!J2:J93564,\"68??\"))+SUM(SUMIFS('Accounting Data'!C2:C93564,'Accounting Data'!E2:E93564,\"228\",'Accounting Data'!H2:H93564,{\"0??\",\"1??\",\"2??\",\"3??\",\"4??\",\"5??\",\"6??\"},'Accounting Data'!I2:I93564,\"26??\",'Accounting Data'!J2:J93564,\"68??\"))-H14-K14","v":0},{"$f":"SUM(SUMIFS('Accounting Data'!C2:C93564,'Accounting Data'!E2:E93564,\"COVID\",'Accounting Data'!H2:H93564,{\"7??\",\"8??\",\"9??\"},'Accounting Data'!I2:I93564,\"26??\",'Accounting Data'!J2:J93564,\"6???\"))-SUM(SUMIFS('Accounting Data'!C2:C93564,'Accounting Data'!E2:E93564,\"COVID\",'Accounting Data'!H2:H93564,{\"7??\",\"8??\",\"9??\"},'Accounting Data'!I2:I93564,\"26??\",'Accounting Data'!J2:J93564,\"69??\"))+SUM(SUMIFS('Accounting Data'!C2:C93564,'Accounting Data'!E2:E93564,\"227\",'Accounting Data'!H2:H93564,{\"7??\",\"8??\",\"9??\"},'Accounting Data'!I2:I93564,\"26??\",'Accounting Data'!J2:J93564,\"6???\"))-SUM(SUMIFS('Accounting Data'!C2:C93564,'Accounting Data'!E2:E93564,\"227\",'Accounting Data'!H2:H93564,{\"7??\",\"8??\",\"9??\"},'Accounting Data'!I2:I93564,\"26??\",'Accounting Data'!J2:J93564,\"69??\"))+SUM(SUMIFS('Accounting Data'!C2:C93564,'Accounting Data'!E2:E93564,\"228\",'Accounting Data'!H2:H93564,{\"7??\",\"8??\",\"9??\"},'Accounting Data'!I2:I93564,\"26??\",'Accounting Data'!J2:J93564,\"6???\"))-SUM(SUMIFS('Accounting Data'!C2:C93564,'Accounting Data'!E2:E93564,\"228\",'Accounting Data'!H2:H93564,{\"7??\",\"8??\",\"9??\"},'Accounting Data'!I2:I93564,\"26??\",'Accounting Data'!J2:J93564,\"69??\"))","v":0},1435961]
["2700 Student Transportation","6.",{"$f":"SUM(SUMIFS('Accounting Data'!C2:C93564,'Accounting Data'!E2:E93564,\"COVID\",'Accounting Data'!H2:H93564,{\"0??\",\"1??\",\"2??\",\"3??\",\"4??\",\"5??\",\"6??\"},'Accounting Data'!I2:I93564,\"27??\",'Accounting Data'!J2:J93564,\"61??\"))+SUM(SUMIFS('Accounting Data'!C2:C93564,'Accounting Data'!E2:E93564,\"227\",'Accounting Data'!H2:H93564,{\"0??\",\"1??\",\"2??\",\"3??\",\"4??\",\"5??\",\"6??\"},'Accounting Data'!I2:I93564,\"27??\",'Accounting Data'!J2:J93564,\"61??\"))+SUM(SUMIFS('Accounting Data'!C2:C93564,'Accounting Data'!E2:E93564,\"228\",'Accounting Data'!H2:H93564,{\"0??\",\"1??\",\"2??\",\"3??\",\"4??\",\"5??\",\"6??\"},'Accounting Data'!I2:I93564,\"27??\",'Accounting Data'!J2:J93564,\"61??\"))","v":198349},{"$f":"SUM(SUMIFS('Accounting Data'!C2:C93564,'Accounting Data'!E2:E93564,\"COVID\",'Accounting Data'!H2:H93564,{\"0??\",\"1??\",\"2??\",\"3??\",\"4??\",\"5??\",\"6??\"},'Accounting Data'!I2:I93564,\"27??\",'Accounting Data'!J2:J93564,\"62??\"))+SUM(SUMIFS('Accounting Data'!C2:C93564,'Accounting Data'!E2:E93564,\"227\",'Accounting Data'!H2:H93564,{\"0??\",\"1??\",\"2??\",\"3??\",\"4??\",\"5??\",\"6??\"},'Accounting Data'!I2:I93564,\"27??\",'Accounting Data'!J2:J93564,\"62??\"))+SUM(SUMIFS('Accounting Data'!C2:C93564,'Accounting Data'!E2:E93564,\"228\",'Accounting Data'!H2:H93564,{\"0??\",\"1??\",\"2??\",\"3??\",\"4??\",\"5??\",\"6??\"},'Accounting Data'!I2:I93564,\"27??\",'Accounting Data'!J2:J93564,\"62??\"))","v":63362},32693,{"$f":"SUM(SUMIFS('Accounting Data'!C2:C93564,'Accounting Data'!E2:E93564,\"COVID\",'Accounting Data'!H2:H93564,{\"0??\",\"1??\",\"2??\",\"3??\",\"4??\",\"5??\",\"6??\"},'Accounting Data'!I2:I93564,\"27??\",'Accounting Data'!J2:J93564,\"66??\"))+SUM(SUMIFS('Accounting Data'!C2:C93564,'Accounting Data'!E2:E93564,\"227\",'Accounting Data'!H2:H93564,{\"0??\",\"1??\",\"2??\",\"3??\",\"4??\",\"5??\",\"6??\"},'Accounting Data'!I2:I93564,\"27??\",'Accounting Data'!J2:J93564,\"66??\"))+SUM(SUMIFS('Accounting Data'!C2:C93564,'Accounting Data'!E2:E93564,\"228\",'Accounting Data'!H2:H93564,{\"0??\",\"1??\",\"2??\",\"3??\",\"4??\",\"5??\",\"6??\"},'Accounting Data'!I2:I93564,\"27??\",'Accounting Data'!J2:J93564,\"66??\"))","v":0},{"$f":"SUM(SUMIFS('Accounting Data'!C2:C93564,'Accounting Data'!E2:E93564,\"COVID\",'Accounting Data'!H2:H93564,{\"0??\",\"1??\",\"2??\",\"3??\",\"4??\",\"5??\",\"6??\"},'Accounting Data'!I2:I93564,\"27??\",'Accounting Data'!J2:J93564,\"67??\"))+SUM(SUMIFS('Accounting Data'!C2:C93564,'Accounting Data'!E2:E93564,\"227\",'Accounting Data'!H2:H93564,{\"0??\",\"1??\",\"2??\",\"3??\",\"4??\",\"5??\",\"6??\"},'Accounting Data'!I2:I93564,\"27??\",'Accounting Data'!J2:J93564,\"67??\"))+SUM(SUMIFS('Accounting Data'!C2:C93564,'Accounting Data'!E2:E93564,\"228\",'Accounting Data'!H2:H93564,{\"0??\",\"1??\",\"2??\",\"3??\",\"4??\",\"5??\",\"6??\"},'Accounting Data'!I2:I93564,\"27??\",'Accounting Data'!J2:J93564,\"67??\"))","v":0},{"$f":"SUM(SUMIFS('Accounting Data'!C2:C93564,'Accounting Data'!E2:E93564,\"COVID\",'Accounting Data'!H2:H93564,{\"0??\",\"1??\",\"2??\",\"3??\",\"4??\",\"5??\",\"6??\"},'Accounting Data'!I2:I93564,\"27??\",'Accounting Data'!J2:J93564,\"681?\"))+SUM(SUMIFS('Accounting Data'!C2:C93564,'Accounting Data'!E2:E93564,\"227\",'Accounting Data'!H2:H93564,{\"0??\",\"1??\",\"2??\",\"3??\",\"4??\",\"5??\",\"6??\"},'Accounting Data'!I2:I93564,\"27??\",'Accounting Data'!J2:J93564,\"681?\"))+SUM(SUMIFS('Accounting Data'!C2:C93564,'Accounting Data'!E2:E93564,\"228\",'Accounting Data'!H2:H93564,{\"0??\",\"1??\",\"2??\",\"3??\",\"4??\",\"5??\",\"6??\"},'Accounting Data'!I2:I93564,\"27??\",'Accounting Data'!J2:J93564,\"681?\"))","v":0},null,null,{"$f":"SUM(SUMIFS('Accounting Data'!C2:C93564,'Accounting Data'!E2:E93564,\"COVID\",'Accounting Data'!H2:H93564,{\"0??\",\"1??\",\"2??\",\"3??\",\"4??\",\"5??\",\"6??\"},'Accounting Data'!I2:I93564,\"27??\",'Accounting Data'!J2:J93564,\"689?\"))+SUM(SUMIFS('Accounting Data'!C2:C93564,'Accounting Data'!E2:E93564,\"227\",'Accounting Data'!H2:H93564,{\"0??\",\"1??\",\"2??\",\"3??\",\"4??\",\"5??\",\"6??\"},'Accounting Data'!I2:I93564,\"27??\",'Accounting Data'!J2:J93564,\"689?\"))+SUM(SUMIFS('Accounting Data'!C2:C93564,'Accounting Data'!E2:E93564,\"228\",'Accounting Data'!H2:H93564,{\"0??\",\"1??\",\"2??\",\"3??\",\"4??\",\"5??\",\"6??\"},'Accounting Data'!I2:I93564,\"27??\",'Accounting Data'!J2:J93564,\"689?\"))","v":0},{"$f":"SUM(SUMIFS('Accounting Data'!C2:C93564,'Accounting Data'!E2:E93564,\"COVID\",'Accounting Data'!H2:H93564,{\"0??\",\"1??\",\"2??\",\"3??\",\"4??\",\"5??\",\"6??\"},'Accounting Data'!I2:I93564,\"27??\",'Accounting Data'!J2:J93564,\"68??\"))+SUM(SUMIFS('Accounting Data'!C2:C93564,'Accounting Data'!E2:E93564,\"227\",'Accounting Data'!H2:H93564,{\"0??\",\"1??\",\"2??\",\"3??\",\"4??\",\"5??\",\"6??\"},'Accounting Data'!I2:I93564,\"27??\",'Accounting Data'!J2:J93564,\"68??\"))+SUM(SUMIFS('Accounting Data'!C2:C93564,'Accounting Data'!E2:E93564,\"228\",'Accounting Data'!H2:H93564,{\"0??\",\"1??\",\"2??\",\"3??\",\"4??\",\"5??\",\"6??\"},'Accounting Data'!I2:I93564,\"27??\",'Accounting Data'!J2:J93564,\"68??\"))-H15-K15","v":0},{"$f":"SUM(SUMIFS('Accounting Data'!C2:C93564,'Accounting Data'!E2:E93564,\"COVID\",'Accounting Data'!H2:H93564,{\"7??\",\"8??\",\"9??\"},'Accounting Data'!I2:I93564,\"27??\",'Accounting Data'!J2:J93564,\"6???\"))-SUM(SUMIFS('Accounting Data'!C2:C93564,'Accounting Data'!E2:E93564,\"COVID\",'Accounting Data'!H2:H93564,{\"7??\",\"8??\",\"9??\"},'Accounting Data'!I2:I93564,\"27??\",'Accounting Data'!J2:J93564,\"69??\"))+SUM(SUMIFS('Accounting Data'!C2:C93564,'Accounting Data'!E2:E93564,\"227\",'Accounting Data'!H2:H93564,{\"7??\",\"8??\",\"9??\"},'Accounting Data'!I2:I93564,\"27??\",'Accounting Data'!J2:J93564,\"6???\"))-SUM(SUMIFS('Accounting Data'!C2:C93564,'Accounting Data'!E2:E93564,\"227\",'Accounting Data'!H2:H93564,{\"7??\",\"8??\",\"9??\"},'Accounting Data'!I2:I93564,\"27??\",'Accounting Data'!J2:J93564,\"69??\"))+SUM(SUMIFS('Accounting Data'!C2:C93564,'Accounting Data'!E2:E93564,\"228\",'Accounting Data'!H2:H93564,{\"7??\",\"8??\",\"9??\"},'Accounting Data'!I2:I93564,\"27??\",'Accounting Data'!J2:J93564,\"6???\"))-SUM(SUMIFS('Accounting Data'!C2:C93564,'Accounting Data'!E2:E93564,\"228\",'Accounting Data'!H2:H93564,{\"7??\",\"8??\",\"9??\"},'Accounting Data'!I2:I93564,\"27??\",'Accounting Data'!J2:J93564,\"69??\"))","v":0},294404]
["3100 Food Service Operations","7.",64662,14187,{"$f":"SUM(SUMIFS('Accounting Data'!C2:C93564,'Accounting Data'!E2:E93564,\"COVID\",'Accounting Data'!H2:H93564,{\"0??\",\"1??\",\"2??\",\"3??\",\"4??\",\"5??\",\"6??\"},'Accounting Data'!I2:I93564,\"31??\",'Accounting Data'!J2:J93564,\"63??\"))+SUM(SUMIFS('Accounting Data'!C2:C93564,'Accounting Data'!E2:E93564,\"COVID\",'Accounting Data'!H2:H93564,{\"0??\",\"1??\",\"2??\",\"3??\",\"4??\",\"5??\",\"6??\"},'Accounting Data'!I2:I93564,\"31??\",'Accounting Data'!J2:J93564,\"64??\"))+SUM(SUMIFS('Accounting Data'!C2:C93564,'Accounting Data'!E2:E93564,\"COVID\",'Accounting Data'!H2:H93564,{\"0??\",\"1??\",\"2??\",\"3??\",\"4??\",\"5??\",\"6??\"},'Accounting Data'!I2:I93564,\"31??\",'Accounting Data'!J2:J93564,\"65??\"))+SUM(SUMIFS('Accounting Data'!C2:C93564,'Accounting Data'!E2:E93564,\"227\",'Accounting Data'!H2:H93564,{\"0??\",\"1??\",\"2??\",\"3??\",\"4??\",\"5??\",\"6??\"},'Accounting Data'!I2:I93564,\"31??\",'Accounting Data'!J2:J93564,\"63??\"))+SUM(SUMIFS('Accounting Data'!C2:C93564,'Accounting Data'!E2:E93564,\"227\",'Accounting Data'!H2:H93564,{\"0??\",\"1??\",\"2??\",\"3??\",\"4??\",\"5??\",\"6??\"},'Accounting Data'!I2:I93564,\"31??\",'Accounting Data'!J2:J93564,\"64??\"))+SUM(SUMIFS('Accounting Data'!C2:C93564,'Accounting Data'!E2:E93564,\"227\",'Accounting Data'!H2:H93564,{\"0??\",\"1??\",\"2??\",\"3??\",\"4??\",\"5??\",\"6??\"},'Accounting Data'!I2:I93564,\"31??\",'Accounting Data'!J2:J93564,\"65??\"))+SUM(SUMIFS('Accounting Data'!C2:C93564,'Accounting Data'!E2:E93564,\"228\",'Accounting Data'!H2:H93564,{\"0??\",\"1??\",\"2??\",\"3??\",\"4??\",\"5??\",\"6??\"},'Accounting Data'!I2:I93564,\"31??\",'Accounting Data'!J2:J93564,\"63??\"))+SUM(SUMIFS('Accounting Data'!C2:C93564,'Accounting Data'!E2:E93564,\"228\",'Accounting Data'!H2:H93564,{\"0??\",\"1??\",\"2??\",\"3??\",\"4??\",\"5??\",\"6??\"},'Accounting Data'!I2:I93564,\"31??\",'Accounting Data'!J2:J93564,\"64??\"))+SUM(SUMIFS('Accounting Data'!C2:C93564,'Accounting Data'!E2:E93564,\"228\",'Accounting Data'!H2:H93564,{\"0??\",\"1??\",\"2??\",\"3??\",\"4??\",\"5??\",\"6??\"},'Accounting Data'!I2:I93564,\"31??\",'Accounting Data'!J2:J93564,\"65??\"))","v":0},{"$f":"SUM(SUMIFS('Accounting Data'!C2:C93564,'Accounting Data'!E2:E93564,\"COVID\",'Accounting Data'!H2:H93564,{\"0??\",\"1??\",\"2??\",\"3??\",\"4??\",\"5??\",\"6??\"},'Accounting Data'!I2:I93564,\"31??\",'Accounting Data'!J2:J93564,\"66??\"))+SUM(SUMIFS('Accounting Data'!C2:C93564,'Accounting Data'!E2:E93564,\"227\",'Accounting Data'!H2:H93564,{\"0??\",\"1??\",\"2??\",\"3??\",\"4??\",\"5??\",\"6??\"},'Accounting Data'!I2:I93564,\"31??\",'Accounting Data'!J2:J93564,\"66??\"))+SUM(SUMIFS('Accounting Data'!C2:C93564,'Accounting Data'!E2:E93564,\"228\",'Accounting Data'!H2:H93564,{\"0??\",\"1??\",\"2??\",\"3??\",\"4??\",\"5??\",\"6??\"},'Accounting Data'!I2:I93564,\"31??\",'Accounting Data'!J2:J93564,\"66??\"))","v":0},{"$f":"SUM(SUMIFS('Accounting Data'!C2:C93564,'Accounting Data'!E2:E93564,\"COVID\",'Accounting Data'!H2:H93564,{\"0??\",\"1??\",\"2??\",\"3??\",\"4??\",\"5??\",\"6??\"},'Accounting Data'!I2:I93564,\"31??\",'Accounting Data'!J2:J93564,\"67??\"))+SUM(SUMIFS('Accounting Data'!C2:C93564,'Accounting Data'!E2:E93564,\"227\",'Accounting Data'!H2:H93564,{\"0??\",\"1??\",\"2??\",\"3??\",\"4??\",\"5??\",\"6??\"},'Accounting Data'!I2:I93564,\"31??\",'Accounting Data'!J2:J93564,\"67??\"))+SUM(SUMIFS('Accounting Data'!C2:C93564,'Accounting Data'!E2:E93564,\"228\",'Accounting Data'!H2:H93564,{\"0??\",\"1??\",\"2??\",\"3??\",\"4??\",\"5??\",\"6??\"},'Accounting Data'!I2:I93564,\"31??\",'Accounting Data'!J2:J93564,\"67??\"))","v":0},{"$f":"SUM(SUMIFS('Accounting Data'!C2:C93564,'Accounting Data'!E2:E93564,\"COVID\",'Accounting Data'!H2:H93564,{\"0??\",\"1??\",\"2??\",\"3??\",\"4??\",\"5??\",\"6??\"},'Accounting Data'!I2:I93564,\"31??\",'Accounting Data'!J2:J93564,\"681?\"))+SUM(SUMIFS('Accounting Data'!C2:C93564,'Accounting Data'!E2:E93564,\"227\",'Accounting Data'!H2:H93564,{\"0??\",\"1??\",\"2??\",\"3??\",\"4??\",\"5??\",\"6??\"},'Accounting Data'!I2:I93564,\"31??\",'Accounting Data'!J2:J93564,\"681?\"))+SUM(SUMIFS('Accounting Data'!C2:C93564,'Accounting Data'!E2:E93564,\"228\",'Accounting Data'!H2:H93564,{\"0??\",\"1??\",\"2??\",\"3??\",\"4??\",\"5??\",\"6??\"},'Accounting Data'!I2:I93564,\"31??\",'Accounting Data'!J2:J93564,\"681?\"))","v":0},null,null,{"$f":"SUM(SUMIFS('Accounting Data'!C2:C93564,'Accounting Data'!E2:E93564,\"COVID\",'Accounting Data'!H2:H93564,{\"0??\",\"1??\",\"2??\",\"3??\",\"4??\",\"5??\",\"6??\"},'Accounting Data'!I2:I93564,\"31??\",'Accounting Data'!J2:J93564,\"689?\"))+SUM(SUMIFS('Accounting Data'!C2:C93564,'Accounting Data'!E2:E93564,\"227\",'Accounting Data'!H2:H93564,{\"0??\",\"1??\",\"2??\",\"3??\",\"4??\",\"5??\",\"6??\"},'Accounting Data'!I2:I93564,\"31??\",'Accounting Data'!J2:J93564,\"689?\"))+SUM(SUMIFS('Accounting Data'!C2:C93564,'Accounting Data'!E2:E93564,\"228\",'Accounting Data'!H2:H93564,{\"0??\",\"1??\",\"2??\",\"3??\",\"4??\",\"5??\",\"6??\"},'Accounting Data'!I2:I93564,\"31??\",'Accounting Data'!J2:J93564,\"689?\"))","v":0},{"$f":"SUM(SUMIFS('Accounting Data'!C2:C93564,'Accounting Data'!E2:E93564,\"COVID\",'Accounting Data'!H2:H93564,{\"0??\",\"1??\",\"2??\",\"3??\",\"4??\",\"5??\",\"6??\"},'Accounting Data'!I2:I93564,\"31??\",'Accounting Data'!J2:J93564,\"68??\"))+SUM(SUMIFS('Accounting Data'!C2:C93564,'Accounting Data'!E2:E93564,\"227\",'Accounting Data'!H2:H93564,{\"0??\",\"1??\",\"2??\",\"3??\",\"4??\",\"5??\",\"6??\"},'Accounting Data'!I2:I93564,\"31??\",'Accounting Data'!J2:J93564,\"68??\"))+SUM(SUMIFS('Accounting Data'!C2:C93564,'Accounting Data'!E2:E93564,\"228\",'Accounting Data'!H2:H93564,{\"0??\",\"1??\",\"2??\",\"3??\",\"4??\",\"5??\",\"6??\"},'Accounting Data'!I2:I93564,\"31??\",'Accounting Data'!J2:J93564,\"68??\"))-H16-K16","v":0},{"$f":"SUM(SUMIFS('Accounting Data'!C2:C93564,'Accounting Data'!E2:E93564,\"COVID\",'Accounting Data'!H2:H93564,{\"7??\",\"8??\",\"9??\"},'Accounting Data'!I2:I93564,\"31??\",'Accounting Data'!J2:J93564,\"6???\"))-SUM(SUMIFS('Accounting Data'!C2:C93564,'Accounting Data'!E2:E93564,\"COVID\",'Accounting Data'!H2:H93564,{\"7??\",\"8??\",\"9??\"},'Accounting Data'!I2:I93564,\"31??\",'Accounting Data'!J2:J93564,\"69??\"))+SUM(SUMIFS('Accounting Data'!C2:C93564,'Accounting Data'!E2:E93564,\"227\",'Accounting Data'!H2:H93564,{\"7??\",\"8??\",\"9??\"},'Accounting Data'!I2:I93564,\"31??\",'Accounting Data'!J2:J93564,\"6???\"))-SUM(SUMIFS('Accounting Data'!C2:C93564,'Accounting Data'!E2:E93564,\"227\",'Accounting Data'!H2:H93564,{\"7??\",\"8??\",\"9??\"},'Accounting Data'!I2:I93564,\"31??\",'Accounting Data'!J2:J93564,\"69??\"))+SUM(SUMIFS('Accounting Data'!C2:C93564,'Accounting Data'!E2:E93564,\"228\",'Accounting Data'!H2:H93564,{\"7??\",\"8??\",\"9??\"},'Accounting Data'!I2:I93564,\"31??\",'Accounting Data'!J2:J93564,\"6???\"))-SUM(SUMIFS('Accounting Data'!C2:C93564,'Accounting Data'!E2:E93564,\"228\",'Accounting Data'!H2:H93564,{\"7??\",\"8??\",\"9??\"},'Accounting Data'!I2:I93564,\"31??\",'Accounting Data'!J2:J93564,\"69??\"))","v":0},78849]
["3200 Enterprise Operations","8.",{"$f":"SUM(SUMIFS('Accounting Data'!C2:C93564,'Accounting Data'!E2:E93564,\"COVID\",'Accounting Data'!H2:H93564,{\"0??\",\"1??\",\"2??\",\"3??\",\"4??\",\"5??\",\"6??\"},'Accounting Data'!I2:I93564,\"32??\",'Accounting Data'!J2:J93564,\"61??\"))+SUM(SUMIFS('Accounting Data'!C2:C93564,'Accounting Data'!E2:E93564,\"227\",'Accounting Data'!H2:H93564,{\"0??\",\"1??\",\"2??\",\"3??\",\"4??\",\"5??\",\"6??\"},'Accounting Data'!I2:I93564,\"32??\",'Accounting Data'!J2:J93564,\"61??\"))+SUM(SUMIFS('Accounting Data'!C2:C93564,'Accounting Data'!E2:E93564,\"228\",'Accounting Data'!H2:H93564,{\"0??\",\"1??\",\"2??\",\"3??\",\"4??\",\"5??\",\"6??\"},'Accounting Data'!I2:I93564,\"32??\",'Accounting Data'!J2:J93564,\"61??\"))","v":0},{"$f":"SUM(SUMIFS('Accounting Data'!C2:C93564,'Accounting Data'!E2:E93564,\"COVID\",'Accounting Data'!H2:H93564,{\"0??\",\"1??\",\"2??\",\"3??\",\"4??\",\"5??\",\"6??\"},'Accounting Data'!I2:I93564,\"32??\",'Accounting Data'!J2:J93564,\"62??\"))+SUM(SUMIFS('Accounting Data'!C2:C93564,'Accounting Data'!E2:E93564,\"227\",'Accounting Data'!H2:H93564,{\"0??\",\"1??\",\"2??\",\"3??\",\"4??\",\"5??\",\"6??\"},'Accounting Data'!I2:I93564,\"32??\",'Accounting Data'!J2:J93564,\"62??\"))+SUM(SUMIFS('Accounting Data'!C2:C93564,'Accounting Data'!E2:E93564,\"228\",'Accounting Data'!H2:H93564,{\"0??\",\"1??\",\"2??\",\"3??\",\"4??\",\"5??\",\"6??\"},'Accounting Data'!I2:I93564,\"32??\",'Accounting Data'!J2:J93564,\"62??\"))","v":0},{"$f":"SUM(SUMIFS('Accounting Data'!C2:C93564,'Accounting Data'!E2:E93564,\"COVID\",'Accounting Data'!H2:H93564,{\"0??\",\"1??\",\"2??\",\"3??\",\"4??\",\"5??\",\"6??\"},'Accounting Data'!I2:I93564,\"32??\",'Accounting Data'!J2:J93564,\"63??\"))+SUM(SUMIFS('Accounting Data'!C2:C93564,'Accounting Data'!E2:E93564,\"COVID\",'Accounting Data'!H2:H93564,{\"0??\",\"1??\",\"2??\",\"3??\",\"4??\",\"5??\",\"6??\"},'Accounting Data'!I2:I93564,\"32??\",'Accounting Data'!J2:J93564,\"64??\"))+SUM(SUMIFS('Accounting Data'!C2:C93564,'Accounting Data'!E2:E93564,\"COVID\",'Accounting Data'!H2:H93564,{\"0??\",\"1??\",\"2??\",\"3??\",\"4??\",\"5??\",\"6??\"},'Accounting Data'!I2:I93564,\"32??\",'Accounting Data'!J2:J93564,\"65??\"))+SUM(SUMIFS('Accounting Data'!C2:C93564,'Accounting Data'!E2:E93564,\"227\",'Accounting Data'!H2:H93564,{\"0??\",\"1??\",\"2??\",\"3??\",\"4??\",\"5??\",\"6??\"},'Accounting Data'!I2:I93564,\"32??\",'Accounting Data'!J2:J93564,\"63??\"))+SUM(SUMIFS('Accounting Data'!C2:C93564,'Accounting Data'!E2:E93564,\"227\",'Accounting Data'!H2:H93564,{\"0??\",\"1??\",\"2??\",\"3??\",\"4??\",\"5??\",\"6??\"},'Accounting Data'!I2:I93564,\"32??\",'Accounting Data'!J2:J93564,\"64??\"))+SUM(SUMIFS('Accounting Data'!C2:C93564,'Accounting Data'!E2:E93564,\"227\",'Accounting Data'!H2:H93564,{\"0??\",\"1??\",\"2??\",\"3??\",\"4??\",\"5??\",\"6??\"},'Accounting Data'!I2:I93564,\"32??\",'Accounting Data'!J2:J93564,\"65??\"))+SUM(SUMIFS('Accounting Data'!C2:C93564,'Accounting Data'!E2:E93564,\"228\",'Accounting Data'!H2:H93564,{\"0??\",\"1??\",\"2??\",\"3??\",\"4??\",\"5??\",\"6??\"},'Accounting Data'!I2:I93564,\"32??\",'Accounting Data'!J2:J93564,\"63??\"))+SUM(SUMIFS('Accounting Data'!C2:C93564,'Accounting Data'!E2:E93564,\"228\",'Accounting Data'!H2:H93564,{\"0??\",\"1??\",\"2??\",\"3??\",\"4??\",\"5??\",\"6??\"},'Accounting Data'!I2:I93564,\"32??\",'Accounting Data'!J2:J93564,\"64??\"))+SUM(SUMIFS('Accounting Data'!C2:C93564,'Accounting Data'!E2:E93564,\"228\",'Accounting Data'!H2:H93564,{\"0??\",\"1??\",\"2??\",\"3??\",\"4??\",\"5??\",\"6??\"},'Accounting Data'!I2:I93564,\"32??\",'Accounting Data'!J2:J93564,\"65??\"))","v":0},{"$f":"SUM(SUMIFS('Accounting Data'!C2:C93564,'Accounting Data'!E2:E93564,\"COVID\",'Accounting Data'!H2:H93564,{\"0??\",\"1??\",\"2??\",\"3??\",\"4??\",\"5??\",\"6??\"},'Accounting Data'!I2:I93564,\"32??\",'Accounting Data'!J2:J93564,\"66??\"))+SUM(SUMIFS('Accounting Data'!C2:C93564,'Accounting Data'!E2:E93564,\"227\",'Accounting Data'!H2:H93564,{\"0??\",\"1??\",\"2??\",\"3??\",\"4??\",\"5??\",\"6??\"},'Accounting Data'!I2:I93564,\"32??\",'Accounting Data'!J2:J93564,\"66??\"))+SUM(SUMIFS('Accounting Data'!C2:C93564,'Accounting Data'!E2:E93564,\"228\",'Accounting Data'!H2:H93564,{\"0??\",\"1??\",\"2??\",\"3??\",\"4??\",\"5??\",\"6??\"},'Accounting Data'!I2:I93564,\"32??\",'Accounting Data'!J2:J93564,\"66??\"))","v":0},{"$f":"SUM(SUMIFS('Accounting Data'!C2:C93564,'Accounting Data'!E2:E93564,\"COVID\",'Accounting Data'!H2:H93564,{\"0??\",\"1??\",\"2??\",\"3??\",\"4??\",\"5??\",\"6??\"},'Accounting Data'!I2:I93564,\"32??\",'Accounting Data'!J2:J93564,\"67??\"))+SUM(SUMIFS('Accounting Data'!C2:C93564,'Accounting Data'!E2:E93564,\"227\",'Accounting Data'!H2:H93564,{\"0??\",\"1??\",\"2??\",\"3??\",\"4??\",\"5??\",\"6??\"},'Accounting Data'!I2:I93564,\"32??\",'Accounting Data'!J2:J93564,\"67??\"))+SUM(SUMIFS('Accounting Data'!C2:C93564,'Accounting Data'!E2:E93564,\"228\",'Accounting Data'!H2:H93564,{\"0??\",\"1??\",\"2??\",\"3??\",\"4??\",\"5??\",\"6??\"},'Accounting Data'!I2:I93564,\"32??\",'Accounting Data'!J2:J93564,\"67??\"))","v":0},{"$f":"SUM(SUMIFS('Accounting Data'!C2:C93564,'Accounting Data'!E2:E93564,\"COVID\",'Accounting Data'!H2:H93564,{\"0??\",\"1??\",\"2??\",\"3??\",\"4??\",\"5??\",\"6??\"},'Accounting Data'!I2:I93564,\"32??\",'Accounting Data'!J2:J93564,\"681?\"))+SUM(SUMIFS('Accounting Data'!C2:C93564,'Accounting Data'!E2:E93564,\"227\",'Accounting Data'!H2:H93564,{\"0??\",\"1??\",\"2??\",\"3??\",\"4??\",\"5??\",\"6??\"},'Accounting Data'!I2:I93564,\"32??\",'Accounting Data'!J2:J93564,\"681?\"))+SUM(SUMIFS('Accounting Data'!C2:C93564,'Accounting Data'!E2:E93564,\"228\",'Accounting Data'!H2:H93564,{\"0??\",\"1??\",\"2??\",\"3??\",\"4??\",\"5??\",\"6??\"},'Accounting Data'!I2:I93564,\"32??\",'Accounting Data'!J2:J93564,\"681?\"))","v":0},null,null,{"$f":"SUM(SUMIFS('Accounting Data'!C2:C93564,'Accounting Data'!E2:E93564,\"COVID\",'Accounting Data'!H2:H93564,{\"0??\",\"1??\",\"2??\",\"3??\",\"4??\",\"5??\",\"6??\"},'Accounting Data'!I2:I93564,\"32??\",'Accounting Data'!J2:J93564,\"689?\"))+SUM(SUMIFS('Accounting Data'!C2:C93564,'Accounting Data'!E2:E93564,\"227\",'Accounting Data'!H2:H93564,{\"0??\",\"1??\",\"2??\",\"3??\",\"4??\",\"5??\",\"6??\"},'Accounting Data'!I2:I93564,\"32??\",'Accounting Data'!J2:J93564,\"689?\"))+SUM(SUMIFS('Accounting Data'!C2:C93564,'Accounting Data'!E2:E93564,\"228\",'Accounting Data'!H2:H93564,{\"0??\",\"1??\",\"2??\",\"3??\",\"4??\",\"5??\",\"6??\"},'Accounting Data'!I2:I93564,\"32??\",'Accounting Data'!J2:J93564,\"689?\"))","v":0},{"$f":"SUM(SUMIFS('Accounting Data'!C2:C93564,'Accounting Data'!E2:E93564,\"COVID\",'Accounting Data'!H2:H93564,{\"0??\",\"1??\",\"2??\",\"3??\",\"4??\",\"5??\",\"6??\"},'Accounting Data'!I2:I93564,\"32??\",'Accounting Data'!J2:J93564,\"68??\"))+SUM(SUMIFS('Accounting Data'!C2:C93564,'Accounting Data'!E2:E93564,\"227\",'Accounting Data'!H2:H93564,{\"0??\",\"1??\",\"2??\",\"3??\",\"4??\",\"5??\",\"6??\"},'Accounting Data'!I2:I93564,\"32??\",'Accounting Data'!J2:J93564,\"68??\"))+SUM(SUMIFS('Accounting Data'!C2:C93564,'Accounting Data'!E2:E93564,\"228\",'Accounting Data'!H2:H93564,{\"0??\",\"1??\",\"2??\",\"3??\",\"4??\",\"5??\",\"6??\"},'Accounting Data'!I2:I93564,\"32??\",'Accounting Data'!J2:J93564,\"68??\"))-H17-K17","v":0},{"$f":"SUM(SUMIFS('Accounting Data'!C2:C93564,'Accounting Data'!E2:E93564,\"COVID\",'Accounting Data'!H2:H93564,{\"7??\",\"8??\",\"9??\"},'Accounting Data'!I2:I93564,\"32??\",'Accounting Data'!J2:J93564,\"6???\"))-SUM(SUMIFS('Accounting Data'!C2:C93564,'Accounting Data'!E2:E93564,\"COVID\",'Accounting Data'!H2:H93564,{\"7??\",\"8??\",\"9??\"},'Accounting Data'!I2:I93564,\"32??\",'Accounting Data'!J2:J93564,\"69??\"))+SUM(SUMIFS('Accounting Data'!C2:C93564,'Accounting Data'!E2:E93564,\"227\",'Accounting Data'!H2:H93564,{\"7??\",\"8??\",\"9??\"},'Accounting Data'!I2:I93564,\"32??\",'Accounting Data'!J2:J93564,\"6???\"))-SUM(SUMIFS('Accounting Data'!C2:C93564,'Accounting Data'!E2:E93564,\"227\",'Accounting Data'!H2:H93564,{\"7??\",\"8??\",\"9??\"},'Accounting Data'!I2:I93564,\"32??\",'Accounting Data'!J2:J93564,\"69??\"))+SUM(SUMIFS('Accounting Data'!C2:C93564,'Accounting Data'!E2:E93564,\"228\",'Accounting Data'!H2:H93564,{\"7??\",\"8??\",\"9??\"},'Accounting Data'!I2:I93564,\"32??\",'Accounting Data'!J2:J93564,\"6???\"))-SUM(SUMIFS('Accounting Data'!C2:C93564,'Accounting Data'!E2:E93564,\"228\",'Accounting Data'!H2:H93564,{\"7??\",\"8??\",\"9??\"},'Accounting Data'!I2:I93564,\"32??\",'Accounting Data'!J2:J93564,\"69??\"))","v":0},0]
["3300 Community Services Operations","9.",{"$f":"SUM(SUMIFS('Accounting Data'!C2:C93564,'Accounting Data'!E2:E93564,\"COVID\",'Accounting Data'!H2:H93564,{\"0??\",\"1??\",\"2??\",\"3??\",\"4??\",\"5??\",\"6??\"},'Accounting Data'!I2:I93564,\"33??\",'Accounting Data'!J2:J93564,\"61??\"))+SUM(SUMIFS('Accounting Data'!C2:C93564,'Accounting Data'!E2:E93564,\"227\",'Accounting Data'!H2:H93564,{\"0??\",\"1??\",\"2??\",\"3??\",\"4??\",\"5??\",\"6??\"},'Accounting Data'!I2:I93564,\"33??\",'Accounting Data'!J2:J93564,\"61??\"))+SUM(SUMIFS('Accounting Data'!C2:C93564,'Accounting Data'!E2:E93564,\"228\",'Accounting Data'!H2:H93564,{\"0??\",\"1??\",\"2??\",\"3??\",\"4??\",\"5??\",\"6??\"},'Accounting Data'!I2:I93564,\"33??\",'Accounting Data'!J2:J93564,\"61??\"))","v":0},{"$f":"SUM(SUMIFS('Accounting Data'!C2:C93564,'Accounting Data'!E2:E93564,\"COVID\",'Accounting Data'!H2:H93564,{\"0??\",\"1??\",\"2??\",\"3??\",\"4??\",\"5??\",\"6??\"},'Accounting Data'!I2:I93564,\"33??\",'Accounting Data'!J2:J93564,\"62??\"))+SUM(SUMIFS('Accounting Data'!C2:C93564,'Accounting Data'!E2:E93564,\"227\",'Accounting Data'!H2:H93564,{\"0??\",\"1??\",\"2??\",\"3??\",\"4??\",\"5??\",\"6??\"},'Accounting Data'!I2:I93564,\"33??\",'Accounting Data'!J2:J93564,\"62??\"))+SUM(SUMIFS('Accounting Data'!C2:C93564,'Accounting Data'!E2:E93564,\"228\",'Accounting Data'!H2:H93564,{\"0??\",\"1??\",\"2??\",\"3??\",\"4??\",\"5??\",\"6??\"},'Accounting Data'!I2:I93564,\"33??\",'Accounting Data'!J2:J93564,\"62??\"))","v":0},{"$f":"SUM(SUMIFS('Accounting Data'!C2:C93564,'Accounting Data'!E2:E93564,\"COVID\",'Accounting Data'!H2:H93564,{\"0??\",\"1??\",\"2??\",\"3??\",\"4??\",\"5??\",\"6??\"},'Accounting Data'!I2:I93564,\"33??\",'Accounting Data'!J2:J93564,\"63??\"))+SUM(SUMIFS('Accounting Data'!C2:C93564,'Accounting Data'!E2:E93564,\"COVID\",'Accounting Data'!H2:H93564,{\"0??\",\"1??\",\"2??\",\"3??\",\"4??\",\"5??\",\"6??\"},'Accounting Data'!I2:I93564,\"33??\",'Accounting Data'!J2:J93564,\"64??\"))+SUM(SUMIFS('Accounting Data'!C2:C93564,'Accounting Data'!E2:E93564,\"COVID\",'Accounting Data'!H2:H93564,{\"0??\",\"1??\",\"2??\",\"3??\",\"4??\",\"5??\",\"6??\"},'Accounting Data'!I2:I93564,\"33??\",'Accounting Data'!J2:J93564,\"65??\"))+SUM(SUMIFS('Accounting Data'!C2:C93564,'Accounting Data'!E2:E93564,\"227\",'Accounting Data'!H2:H93564,{\"0??\",\"1??\",\"2??\",\"3??\",\"4??\",\"5??\",\"6??\"},'Accounting Data'!I2:I93564,\"33??\",'Accounting Data'!J2:J93564,\"63??\"))+SUM(SUMIFS('Accounting Data'!C2:C93564,'Accounting Data'!E2:E93564,\"227\",'Accounting Data'!H2:H93564,{\"0??\",\"1??\",\"2??\",\"3??\",\"4??\",\"5??\",\"6??\"},'Accounting Data'!I2:I93564,\"33??\",'Accounting Data'!J2:J93564,\"64??\"))+SUM(SUMIFS('Accounting Data'!C2:C93564,'Accounting Data'!E2:E93564,\"227\",'Accounting Data'!H2:H93564,{\"0??\",\"1??\",\"2??\",\"3??\",\"4??\",\"5??\",\"6??\"},'Accounting Data'!I2:I93564,\"33??\",'Accounting Data'!J2:J93564,\"65??\"))+SUM(SUMIFS('Accounting Data'!C2:C93564,'Accounting Data'!E2:E93564,\"228\",'Accounting Data'!H2:H93564,{\"0??\",\"1??\",\"2??\",\"3??\",\"4??\",\"5??\",\"6??\"},'Accounting Data'!I2:I93564,\"33??\",'Accounting Data'!J2:J93564,\"63??\"))+SUM(SUMIFS('Accounting Data'!C2:C93564,'Accounting Data'!E2:E93564,\"228\",'Accounting Data'!H2:H93564,{\"0??\",\"1??\",\"2??\",\"3??\",\"4??\",\"5??\",\"6??\"},'Accounting Data'!I2:I93564,\"33??\",'Accounting Data'!J2:J93564,\"64??\"))+SUM(SUMIFS('Accounting Data'!C2:C93564,'Accounting Data'!E2:E93564,\"228\",'Accounting Data'!H2:H93564,{\"0??\",\"1??\",\"2??\",\"3??\",\"4??\",\"5??\",\"6??\"},'Accounting Data'!I2:I93564,\"33??\",'Accounting Data'!J2:J93564,\"65??\"))","v":0},{"$f":"SUM(SUMIFS('Accounting Data'!C2:C93564,'Accounting Data'!E2:E93564,\"COVID\",'Accounting Data'!H2:H93564,{\"0??\",\"1??\",\"2??\",\"3??\",\"4??\",\"5??\",\"6??\"},'Accounting Data'!I2:I93564,\"33??\",'Accounting Data'!J2:J93564,\"66??\"))+SUM(SUMIFS('Accounting Data'!C2:C93564,'Accounting Data'!E2:E93564,\"227\",'Accounting Data'!H2:H93564,{\"0??\",\"1??\",\"2??\",\"3??\",\"4??\",\"5??\",\"6??\"},'Accounting Data'!I2:I93564,\"33??\",'Accounting Data'!J2:J93564,\"66??\"))+SUM(SUMIFS('Accounting Data'!C2:C93564,'Accounting Data'!E2:E93564,\"228\",'Accounting Data'!H2:H93564,{\"0??\",\"1??\",\"2??\",\"3??\",\"4??\",\"5??\",\"6??\"},'Accounting Data'!I2:I93564,\"33??\",'Accounting Data'!J2:J93564,\"66??\"))","v":0},{"$f":"SUM(SUMIFS('Accounting Data'!C2:C93564,'Accounting Data'!E2:E93564,\"COVID\",'Accounting Data'!H2:H93564,{\"0??\",\"1??\",\"2??\",\"3??\",\"4??\",\"5??\",\"6??\"},'Accounting Data'!I2:I93564,\"33??\",'Accounting Data'!J2:J93564,\"67??\"))+SUM(SUMIFS('Accounting Data'!C2:C93564,'Accounting Data'!E2:E93564,\"227\",'Accounting Data'!H2:H93564,{\"0??\",\"1??\",\"2??\",\"3??\",\"4??\",\"5??\",\"6??\"},'Accounting Data'!I2:I93564,\"33??\",'Accounting Data'!J2:J93564,\"67??\"))+SUM(SUMIFS('Accounting Data'!C2:C93564,'Accounting Data'!E2:E93564,\"228\",'Accounting Data'!H2:H93564,{\"0??\",\"1??\",\"2??\",\"3??\",\"4??\",\"5??\",\"6??\"},'Accounting Data'!I2:I93564,\"33??\",'Accounting Data'!J2:J93564,\"67??\"))","v":0},{"$f":"SUM(SUMIFS('Accounting Data'!C2:C93564,'Accounting Data'!E2:E93564,\"COVID\",'Accounting Data'!H2:H93564,{\"0??\",\"1??\",\"2??\",\"3??\",\"4??\",\"5??\",\"6??\"},'Accounting Data'!I2:I93564,\"33??\",'Accounting Data'!J2:J93564,\"681?\"))+SUM(SUMIFS('Accounting Data'!C2:C93564,'Accounting Data'!E2:E93564,\"227\",'Accounting Data'!H2:H93564,{\"0??\",\"1??\",\"2??\",\"3??\",\"4??\",\"5??\",\"6??\"},'Accounting Data'!I2:I93564,\"33??\",'Accounting Data'!J2:J93564,\"681?\"))+SUM(SUMIFS('Accounting Data'!C2:C93564,'Accounting Data'!E2:E93564,\"228\",'Accounting Data'!H2:H93564,{\"0??\",\"1??\",\"2??\",\"3??\",\"4??\",\"5??\",\"6??\"},'Accounting Data'!I2:I93564,\"33??\",'Accounting Data'!J2:J93564,\"681?\"))","v":0},null,null,null,{"$f":"SUM(SUMIFS('Accounting Data'!C2:C93564,'Accounting Data'!E2:E93564,\"COVID\",'Accounting Data'!H2:H93564,{\"0??\",\"1??\",\"2??\",\"3??\",\"4??\",\"5??\",\"6??\"},'Accounting Data'!I2:I93564,\"33??\",'Accounting Data'!J2:J93564,\"68??\"))+SUM(SUMIFS('Accounting Data'!C2:C93564,'Accounting Data'!E2:E93564,\"227\",'Accounting Data'!H2:H93564,{\"0??\",\"1??\",\"2??\",\"3??\",\"4??\",\"5??\",\"6??\"},'Accounting Data'!I2:I93564,\"33??\",'Accounting Data'!J2:J93564,\"68??\"))+SUM(SUMIFS('Accounting Data'!C2:C93564,'Accounting Data'!E2:E93564,\"228\",'Accounting Data'!H2:H93564,{\"0??\",\"1??\",\"2??\",\"3??\",\"4??\",\"5??\",\"6??\"},'Accounting Data'!I2:I93564,\"33??\",'Accounting Data'!J2:J93564,\"68??\"))-H18","v":0},{"$f":"SUM(SUMIFS('Accounting Data'!C2:C93564,'Accounting Data'!E2:E93564,\"COVID\",'Accounting Data'!H2:H93564,{\"7??\",\"8??\",\"9??\"},'Accounting Data'!I2:I93564,\"33??\",'Accounting Data'!J2:J93564,\"6???\"))-SUM(SUMIFS('Accounting Data'!C2:C93564,'Accounting Data'!E2:E93564,\"COVID\",'Accounting Data'!H2:H93564,{\"7??\",\"8??\",\"9??\"},'Accounting Data'!I2:I93564,\"33??\",'Accounting Data'!J2:J93564,\"69??\"))+SUM(SUMIFS('Accounting Data'!C2:C93564,'Accounting Data'!E2:E93564,\"227\",'Accounting Data'!H2:H93564,{\"7??\",\"8??\",\"9??\"},'Accounting Data'!I2:I93564,\"33??\",'Accounting Data'!J2:J93564,\"6???\"))-SUM(SUMIFS('Accounting Data'!C2:C93564,'Accounting Data'!E2:E93564,\"227\",'Accounting Data'!H2:H93564,{\"7??\",\"8??\",\"9??\"},'Accounting Data'!I2:I93564,\"33??\",'Accounting Data'!J2:J93564,\"69??\"))+SUM(SUMIFS('Accounting Data'!C2:C93564,'Accounting Data'!E2:E93564,\"228\",'Accounting Data'!H2:H93564,{\"7??\",\"8??\",\"9??\"},'Accounting Data'!I2:I93564,\"33??\",'Accounting Data'!J2:J93564,\"6???\"))-SUM(SUMIFS('Accounting Data'!C2:C93564,'Accounting Data'!E2:E93564,\"228\",'Accounting Data'!H2:H93564,{\"7??\",\"8??\",\"9??\"},'Accounting Data'!I2:I93564,\"33??\",'Accounting Data'!J2:J93564,\"69??\"))","v":0},0]
["3400 Bookstore Operations","10.",{"$f":"SUM(SUMIFS('Accounting Data'!C2:C93564,'Accounting Data'!E2:E93564,\"COVID\",'Accounting Data'!H2:H93564,{\"0??\",\"1??\",\"2??\",\"3??\",\"4??\",\"5??\",\"6??\"},'Accounting Data'!I2:I93564,\"34??\",'Accounting Data'!J2:J93564,\"61??\"))+SUM(SUMIFS('Accounting Data'!C2:C93564,'Accounting Data'!E2:E93564,\"227\",'Accounting Data'!H2:H93564,{\"0??\",\"1??\",\"2??\",\"3??\",\"4??\",\"5??\",\"6??\"},'Accounting Data'!I2:I93564,\"34??\",'Accounting Data'!J2:J93564,\"61??\"))+SUM(SUMIFS('Accounting Data'!C2:C93564,'Accounting Data'!E2:E93564,\"228\",'Accounting Data'!H2:H93564,{\"0??\",\"1??\",\"2??\",\"3??\",\"4??\",\"5??\",\"6??\"},'Accounting Data'!I2:I93564,\"34??\",'Accounting Data'!J2:J93564,\"61??\"))","v":0},{"$f":"SUM(SUMIFS('Accounting Data'!C2:C93564,'Accounting Data'!E2:E93564,\"COVID\",'Accounting Data'!H2:H93564,{\"0??\",\"1??\",\"2??\",\"3??\",\"4??\",\"5??\",\"6??\"},'Accounting Data'!I2:I93564,\"34??\",'Accounting Data'!J2:J93564,\"62??\"))+SUM(SUMIFS('Accounting Data'!C2:C93564,'Accounting Data'!E2:E93564,\"227\",'Accounting Data'!H2:H93564,{\"0??\",\"1??\",\"2??\",\"3??\",\"4??\",\"5??\",\"6??\"},'Accounting Data'!I2:I93564,\"34??\",'Accounting Data'!J2:J93564,\"62??\"))+SUM(SUMIFS('Accounting Data'!C2:C93564,'Accounting Data'!E2:E93564,\"228\",'Accounting Data'!H2:H93564,{\"0??\",\"1??\",\"2??\",\"3??\",\"4??\",\"5??\",\"6??\"},'Accounting Data'!I2:I93564,\"34??\",'Accounting Data'!J2:J93564,\"62??\"))","v":0},{"$f":"SUM(SUMIFS('Accounting Data'!C2:C93564,'Accounting Data'!E2:E93564,\"COVID\",'Accounting Data'!H2:H93564,{\"0??\",\"1??\",\"2??\",\"3??\",\"4??\",\"5??\",\"6??\"},'Accounting Data'!I2:I93564,\"34??\",'Accounting Data'!J2:J93564,\"63??\"))+SUM(SUMIFS('Accounting Data'!C2:C93564,'Accounting Data'!E2:E93564,\"COVID\",'Accounting Data'!H2:H93564,{\"0??\",\"1??\",\"2??\",\"3??\",\"4??\",\"5??\",\"6??\"},'Accounting Data'!I2:I93564,\"34??\",'Accounting Data'!J2:J93564,\"64??\"))+SUM(SUMIFS('Accounting Data'!C2:C93564,'Accounting Data'!E2:E93564,\"COVID\",'Accounting Data'!H2:H93564,{\"0??\",\"1??\",\"2??\",\"3??\",\"4??\",\"5??\",\"6??\"},'Accounting Data'!I2:I93564,\"34??\",'Accounting Data'!J2:J93564,\"65??\"))+SUM(SUMIFS('Accounting Data'!C2:C93564,'Accounting Data'!E2:E93564,\"227\",'Accounting Data'!H2:H93564,{\"0??\",\"1??\",\"2??\",\"3??\",\"4??\",\"5??\",\"6??\"},'Accounting Data'!I2:I93564,\"34??\",'Accounting Data'!J2:J93564,\"63??\"))+SUM(SUMIFS('Accounting Data'!C2:C93564,'Accounting Data'!E2:E93564,\"227\",'Accounting Data'!H2:H93564,{\"0??\",\"1??\",\"2??\",\"3??\",\"4??\",\"5??\",\"6??\"},'Accounting Data'!I2:I93564,\"34??\",'Accounting Data'!J2:J93564,\"64??\"))+SUM(SUMIFS('Accounting Data'!C2:C93564,'Accounting Data'!E2:E93564,\"227\",'Accounting Data'!H2:H93564,{\"0??\",\"1??\",\"2??\",\"3??\",\"4??\",\"5??\",\"6??\"},'Accounting Data'!I2:I93564,\"34??\",'Accounting Data'!J2:J93564,\"65??\"))+SUM(SUMIFS('Accounting Data'!C2:C93564,'Accounting Data'!E2:E93564,\"228\",'Accounting Data'!H2:H93564,{\"0??\",\"1??\",\"2??\",\"3??\",\"4??\",\"5??\",\"6??\"},'Accounting Data'!I2:I93564,\"34??\",'Accounting Data'!J2:J93564,\"63??\"))+SUM(SUMIFS('Accounting Data'!C2:C93564,'Accounting Data'!E2:E93564,\"228\",'Accounting Data'!H2:H93564,{\"0??\",\"1??\",\"2??\",\"3??\",\"4??\",\"5??\",\"6??\"},'Accounting Data'!I2:I93564,\"34??\",'Accounting Data'!J2:J93564,\"64??\"))+SUM(SUMIFS('Accounting Data'!C2:C93564,'Accounting Data'!E2:E93564,\"228\",'Accounting Data'!H2:H93564,{\"0??\",\"1??\",\"2??\",\"3??\",\"4??\",\"5??\",\"6??\"},'Accounting Data'!I2:I93564,\"34??\",'Accounting Data'!J2:J93564,\"65??\"))","v":0},{"$f":"SUM(SUMIFS('Accounting Data'!C2:C93564,'Accounting Data'!E2:E93564,\"COVID\",'Accounting Data'!H2:H93564,{\"0??\",\"1??\",\"2??\",\"3??\",\"4??\",\"5??\",\"6??\"},'Accounting Data'!I2:I93564,\"34??\",'Accounting Data'!J2:J93564,\"66??\"))+SUM(SUMIFS('Accounting Data'!C2:C93564,'Accounting Data'!E2:E93564,\"227\",'Accounting Data'!H2:H93564,{\"0??\",\"1??\",\"2??\",\"3??\",\"4??\",\"5??\",\"6??\"},'Accounting Data'!I2:I93564,\"34??\",'Accounting Data'!J2:J93564,\"66??\"))+SUM(SUMIFS('Accounting Data'!C2:C93564,'Accounting Data'!E2:E93564,\"228\",'Accounting Data'!H2:H93564,{\"0??\",\"1??\",\"2??\",\"3??\",\"4??\",\"5??\",\"6??\"},'Accounting Data'!I2:I93564,\"34??\",'Accounting Data'!J2:J93564,\"66??\"))","v":0},{"$f":"SUM(SUMIFS('Accounting Data'!C2:C93564,'Accounting Data'!E2:E93564,\"COVID\",'Accounting Data'!H2:H93564,{\"0??\",\"1??\",\"2??\",\"3??\",\"4??\",\"5??\",\"6??\"},'Accounting Data'!I2:I93564,\"34??\",'Accounting Data'!J2:J93564,\"67??\"))+SUM(SUMIFS('Accounting Data'!C2:C93564,'Accounting Data'!E2:E93564,\"227\",'Accounting Data'!H2:H93564,{\"0??\",\"1??\",\"2??\",\"3??\",\"4??\",\"5??\",\"6??\"},'Accounting Data'!I2:I93564,\"34??\",'Accounting Data'!J2:J93564,\"67??\"))+SUM(SUMIFS('Accounting Data'!C2:C93564,'Accounting Data'!E2:E93564,\"228\",'Accounting Data'!H2:H93564,{\"0??\",\"1??\",\"2??\",\"3??\",\"4??\",\"5??\",\"6??\"},'Accounting Data'!I2:I93564,\"34??\",'Accounting Data'!J2:J93564,\"67??\"))","v":0},{"$f":"SUM(SUMIFS('Accounting Data'!C2:C93564,'Accounting Data'!E2:E93564,\"COVID\",'Accounting Data'!H2:H93564,{\"0??\",\"1??\",\"2??\",\"3??\",\"4??\",\"5??\",\"6??\"},'Accounting Data'!I2:I93564,\"34??\",'Accounting Data'!J2:J93564,\"681?\"))+SUM(SUMIFS('Accounting Data'!C2:C93564,'Accounting Data'!E2:E93564,\"227\",'Accounting Data'!H2:H93564,{\"0??\",\"1??\",\"2??\",\"3??\",\"4??\",\"5??\",\"6??\"},'Accounting Data'!I2:I93564,\"34??\",'Accounting Data'!J2:J93564,\"681?\"))+SUM(SUMIFS('Accounting Data'!C2:C93564,'Accounting Data'!E2:E93564,\"228\",'Accounting Data'!H2:H93564,{\"0??\",\"1??\",\"2??\",\"3??\",\"4??\",\"5??\",\"6??\"},'Accounting Data'!I2:I93564,\"34??\",'Accounting Data'!J2:J93564,\"681?\"))","v":0},null,null,{"$f":"SUM(SUMIFS('Accounting Data'!C2:C93564,'Accounting Data'!E2:E93564,\"COVID\",'Accounting Data'!H2:H93564,{\"0??\",\"1??\",\"2??\",\"3??\",\"4??\",\"5??\",\"6??\"},'Accounting Data'!I2:I93564,\"34??\",'Accounting Data'!J2:J93564,\"689?\"))+SUM(SUMIFS('Accounting Data'!C2:C93564,'Accounting Data'!E2:E93564,\"227\",'Accounting Data'!H2:H93564,{\"0??\",\"1??\",\"2??\",\"3??\",\"4??\",\"5??\",\"6??\"},'Accounting Data'!I2:I93564,\"34??\",'Accounting Data'!J2:J93564,\"689?\"))+SUM(SUMIFS('Accounting Data'!C2:C93564,'Accounting Data'!E2:E93564,\"228\",'Accounting Data'!H2:H93564,{\"0??\",\"1??\",\"2??\",\"3??\",\"4??\",\"5??\",\"6??\"},'Accounting Data'!I2:I93564,\"34??\",'Accounting Data'!J2:J93564,\"689?\"))","v":0},{"$f":"SUM(SUMIFS('Accounting Data'!C2:C93564,'Accounting Data'!E2:E93564,\"COVID\",'Accounting Data'!H2:H93564,{\"0??\",\"1??\",\"2??\",\"3??\",\"4??\",\"5??\",\"6??\"},'Accounting Data'!I2:I93564,\"34??\",'Accounting Data'!J2:J93564,\"68??\"))+SUM(SUMIFS('Accounting Data'!C2:C93564,'Accounting Data'!E2:E93564,\"227\",'Accounting Data'!H2:H93564,{\"0??\",\"1??\",\"2??\",\"3??\",\"4??\",\"5??\",\"6??\"},'Accounting Data'!I2:I93564,\"34??\",'Accounting Data'!J2:J93564,\"68??\"))+SUM(SUMIFS('Accounting Data'!C2:C93564,'Accounting Data'!E2:E93564,\"228\",'Accounting Data'!H2:H93564,{\"0??\",\"1??\",\"2??\",\"3??\",\"4??\",\"5??\",\"6??\"},'Accounting Data'!I2:I93564,\"34??\",'Accounting Data'!J2:J93564,\"68??\"))-H19-K19","v":0},{"$f":"SUM(SUMIFS('Accounting Data'!C2:C93564,'Accounting Data'!E2:E93564,\"COVID\",'Accounting Data'!H2:H93564,{\"7??\",\"8??\",\"9??\"},'Accounting Data'!I2:I93564,\"34??\",'Accounting Data'!J2:J93564,\"6???\"))-SUM(SUMIFS('Accounting Data'!C2:C93564,'Accounting Data'!E2:E93564,\"COVID\",'Accounting Data'!H2:H93564,{\"7??\",\"8??\",\"9??\"},'Accounting Data'!I2:I93564,\"34??\",'Accounting Data'!J2:J93564,\"69??\"))+SUM(SUMIFS('Accounting Data'!C2:C93564,'Accounting Data'!E2:E93564,\"227\",'Accounting Data'!H2:H93564,{\"7??\",\"8??\",\"9??\"},'Accounting Data'!I2:I93564,\"34??\",'Accounting Data'!J2:J93564,\"6???\"))-SUM(SUMIFS('Accounting Data'!C2:C93564,'Accounting Data'!E2:E93564,\"227\",'Accounting Data'!H2:H93564,{\"7??\",\"8??\",\"9??\"},'Accounting Data'!I2:I93564,\"34??\",'Accounting Data'!J2:J93564,\"69??\"))+SUM(SUMIFS('Accounting Data'!C2:C93564,'Accounting Data'!E2:E93564,\"228\",'Accounting Data'!H2:H93564,{\"7??\",\"8??\",\"9??\"},'Accounting Data'!I2:I93564,\"34??\",'Accounting Data'!J2:J93564,\"6???\"))-SUM(SUMIFS('Accounting Data'!C2:C93564,'Accounting Data'!E2:E93564,\"228\",'Accounting Data'!H2:H93564,{\"7??\",\"8??\",\"9??\"},'Accounting Data'!I2:I93564,\"34??\",'Accounting Data'!J2:J93564,\"69??\"))","v":0},0]
["Other ","11.",0,0,87785,0,0,0,{"$f":"SUM(SUMIFS('Accounting Data'!C2:C93564,'Accounting Data'!E2:E93564,\"COVID\",'Accounting Data'!H2:H93564,{\"0??\",\"1??\",\"2??\",\"3??\",\"4??\",\"5??\",\"6??\"},'Accounting Data'!J2:J93564,\"682?\"))+SUM(SUMIFS('Accounting Data'!C2:C93564,'Accounting Data'!E2:E93564,\"227\",'Accounting Data'!H2:H93564,{\"0??\",\"1??\",\"2??\",\"3??\",\"4??\",\"5??\",\"6??\"},'Accounting Data'!J2:J93564,\"682?\"))+SUM(SUMIFS('Accounting Data'!C2:C93564,'Accounting Data'!E2:E93564,\"228\",'Accounting Data'!H2:H93564,{\"0??\",\"1??\",\"2??\",\"3??\",\"4??\",\"5??\",\"6??\"},'Accounting Data'!J2:J93564,\"682?\"))-(SUM(I10:I19))","v":0},{"$f":"SUM(SUMIFS('Accounting Data'!C2:C93564,'Accounting Data'!E2:E93564,\"COVID\",'Accounting Data'!H2:H93564,{\"0??\",\"1??\",\"2??\",\"3??\",\"4??\",\"5??\",\"6??\"},'Accounting Data'!J2:J93564,\"685?\"))+SUM(SUMIFS('Accounting Data'!C2:C93564,'Accounting Data'!E2:E93564,\"227\",'Accounting Data'!H2:H93564,{\"0??\",\"1??\",\"2??\",\"3??\",\"4??\",\"5??\",\"6??\"},'Accounting Data'!J2:J93564,\"685?\"))+SUM(SUMIFS('Accounting Data'!C2:C93564,'Accounting Data'!E2:E93564,\"228\",'Accounting Data'!H2:H93564,{\"0??\",\"1??\",\"2??\",\"3??\",\"4??\",\"5??\",\"6??\"},'Accounting Data'!J2:J93564,\"685?\"))-(SUM(J10:J19))","v":0},0,0,{"$f":"SUM(SUMIFS('Accounting Data'!C2:C93564,'Accounting Data'!E2:E93564,\"COVID\",'Accounting Data'!H2:H93564,{\"7??\",\"8??\",\"9??\"},'Accounting Data'!J2:J93564,\"6???\"))-SUM(SUMIFS('Accounting Data'!C2:C93564,'Accounting Data'!E2:E93564,\"COVID\",'Accounting Data'!H2:H93564,{\"7??\",\"8??\",\"9??\"},'Accounting Data'!J2:J93564,\"69??\"))+SUM(SUMIFS('Accounting Data'!C2:C93564,'Accounting Data'!E2:E93564,\"227\",'Accounting Data'!H2:H93564,{\"7??\",\"8??\",\"9??\"},'Accounting Data'!J2:J93564,\"6???\"))-SUM(SUMIFS('Accounting Data'!C2:C93564,'Accounting Data'!E2:E93564,\"227\",'Accounting Data'!H2:H93564,{\"7??\",\"8??\",\"9??\"},'Accounting Data'!J2:J93564,\"69??\"))+SUM(SUMIFS('Accounting Data'!C2:C93564,'Accounting Data'!E2:E93564,\"228\",'Accounting Data'!H2:H93564,{\"7??\",\"8??\",\"9??\"},'Accounting Data'!J2:J93564,\"6???\"))-SUM(SUMIFS('Accounting Data'!C2:C93564,'Accounting Data'!E2:E93564,\"228\",'Accounting Data'!H2:H93564,{\"7??\",\"8??\",\"9??\"},'Accounting Data'!J2:J93564,\"69??\"))-(SUM(M10:M19))","v":0},{"$f":"ROUND(SUM(C20:M20),0)","v":87785}]
["Total (lines 1-12)","12.",{"$f":"ROUND(SUM(C10:C20),0)","v":4235150},{"$f":"ROUND(SUM(D10:D20),0)","v":1209346},{"$f":"ROUND(SUM(E10:E20),0)","v":481412},145384,106630,17722,0,0,{"$f":"ROUND(SUM(K10:K20),0)","v":-32811},0,{"$f":"ROUND(SUM(M10:M20),0)","v":0},{"$f":"ROUND(SUM(N10:N20),0)","v":6162833}]
[null,null,null,""]
["Technology Related Expenditures from COVID-19 federal relief funds",null,null,"Total spending detail","Classroom spending detail",null,"Other Financing Uses for federal relief funds"]
["1. 6340 Technical Services",null,null,{"$f":"SUMIFS('Accounting Data'!C2:C93564,'Accounting Data'!E2:E93564,\"COVID\",'Accounting Data'!J2:J93564,\"634?\")+SUMIFS('Accounting Data'!C2:C93564,'Accounting Data'!E2:E93564,\"227\",'Accounting Data'!J2:J93564,\"634?\")+SUMIFS('Accounting Data'!C2:C93564,'Accounting Data'!E2:E93564,\"228\",'Accounting Data'!J2:J93564,\"634?\")","v":75524},{"$f":"SUM(SUMIFS('Accounting Data'!C2:C93564,'Accounting Data'!E2:E93564,\"COVID\",'Accounting Data'!J2:J93564,\"6340\",'Accounting Data'!I2:I93564,{\"1???\",\"21??\",\"22??\"})+SUMIFS('Accounting Data'!C2:C93564,'Accounting Data'!E2:E93564,\"227\",'Accounting Data'!J2:J93564,\"6340\",'Accounting Data'!I2:I93564,{\"1???\",\"21??\",\"22??\"})+SUMIFS('Accounting Data'!C2:C93564,'Accounting Data'!E2:E93564,\"228\",'Accounting Data'!J2:J93564,\"6340\",'Accounting Data'!I2:I93564,{\"1???\",\"21??\",\"22??\"}))","v":0},null,"1. 6910 Indirect costs transfers-out",null,null,112849]
["2. 6432 Technology-Related Repairs and Maintenance",null,null,{"$f":"SUMIFS('Accounting Data'!C2:C93564,'Accounting Data'!E2:E93564,\"COVID\",'Accounting Data'!J2:J93564,\"6432\")+SUMIFS('Accounting Data'!C2:C93564,'Accounting Data'!E2:E93564,\"227\",'Accounting Data'!J2:J93564,\"6432\")+SUMIFS('Accounting Data'!C2:C93564,'Accounting Data'!E2:E93564,\"228\",'Accounting Data'!J2:J93564,\"6432\")","v":0},{"$f":"SUM(SUMIFS('Accounting Data'!C2:C93564,'Accounting Data'!E2:E93564,\"COVID\",'Accounting Data'!J2:J93564,\"6432\",'Accounting Data'!I2:I93564,{\"1???\",\"21??\",\"22??\"})+SUMIFS('Accounting Data'!C2:C93564,'Accounting Data'!E2:E93564,\"227\",'Accounting Data'!J2:J93564,\"6432\",'Accounting Data'!I2:I93564,{\"1???\",\"21??\",\"22??\"})+SUMIFS('Accounting Data'!C2:C93564,'Accounting Data'!E2:E93564,\"228\",'Accounting Data'!J2:J93564,\"6432\",'Accounting Data'!I2:I93564,{\"1???\",\"21??\",\"22??\"}))","v":0}]
["3. 6443 Rental of Computers and Related Equipment",null,null,{"$f":"SUMIFS('Accounting Data'!C2:C93564,'Accounting Data'!E2:E93564,\"COVID\",'Accounting Data'!J2:J93564,\"6443\")+SUMIFS('Accounting Data'!C2:C93564,'Accounting Data'!E2:E93564,\"227\",'Accounting Data'!J2:J93564,\"6443\")+SUMIFS('Accounting Data'!C2:C93564,'Accounting Data'!E2:E93564,\"228\",'Accounting Data'!J2:J93564,\"6443\")","v":0},{"$f":"SUM(SUMIFS('Accounting Data'!C2:C93564,'Accounting Data'!E2:E93564,\"COVID\",'Accounting Data'!J2:J93564,\"6443\",'Accounting Data'!I2:I93564,{\"1???\",\"21??\",\"22??\"})+SUMIFS('Accounting Data'!C2:C93564,'Accounting Data'!E2:E93564,\"227\",'Accounting Data'!J2:J93564,\"6443\",'Accounting Data'!I2:I93564,{\"1???\",\"21??\",\"22??\"})+SUMIFS('Accounting Data'!C2:C93564,'Accounting Data'!E2:E93564,\"228\",'Accounting Data'!J2:J93564,\"6443\",'Accounting Data'!I2:I93564,{\"1???\",\"21??\",\"22??\"}))","v":0},null,{"$f":"IF(OR(C20<0,D20<0,E20<0,F20<0,G20<0,H20<0,I20<0,J20<0,K20<0,L20<0,M20<0,N20<0),\"Line 11 in the current expenditures table should not contain negative amounts. Click the instruction link in cell A20 for more information.\",\"\")","v":""}]
["4. 6531 Telecommunications",null,null,{"$f":"SUMIFS('Accounting Data'!C2:C93564,'Accounting Data'!E2:E93564,\"COVID\",'Accounting Data'!J2:J93564,\"6531\")+SUMIFS('Accounting Data'!C2:C93564,'Accounting Data'!E2:E93564,\"227\",'Accounting Data'!J2:J93564,\"6531\")+SUMIFS('Accounting Data'!C2:C93564,'Accounting Data'!E2:E93564,\"228\",'Accounting Data'!J2:J93564,\"6531\")","v":1588},{"$f":"SUM(SUMIFS('Accounting Data'!C2:C93564,'Accounting Data'!E2:E93564,\"COVID\",'Accounting Data'!J2:J93564,\"6531\",'Accounting Data'!I2:I93564,{\"1???\",\"21??\",\"22??\"})+SUMIFS('Accounting Data'!C2:C93564,'Accounting Data'!E2:E93564,\"227\",'Accounting Data'!J2:J93564,\"6531\",'Accounting Data'!I2:I93564,{\"1???\",\"21??\",\"22??\"})+SUMIFS('Accounting Data'!C2:C93564,'Accounting Data'!E2:E93564,\"228\",'Accounting Data'!J2:J93564,\"6531\",'Accounting Data'!I2:I93564,{\"1???\",\"21??\",\"22??\"}))","v":1588}]
["5. 6650 Supplies–Technology-Related",null,null,{"$f":"SUMIFS('Accounting Data'!C2:C93564,'Accounting Data'!E2:E93564,\"COVID\",'Accounting Data'!J2:J93564,\"665?\")+SUMIFS('Accounting Data'!C2:C93564,'Accounting Data'!E2:E93564,\"227\",'Accounting Data'!J2:J93564,\"665?\")+SUMIFS('Accounting Data'!C2:C93564,'Accounting Data'!E2:E93564,\"228\",'Accounting Data'!J2:J93564,\"665?\")","v":0},{"$f":"SUM(SUMIFS('Accounting Data'!C2:C93564,'Accounting Data'!E2:E93564,\"COVID\",'Accounting Data'!J2:J93564,\"6650\",'Accounting Data'!I2:I93564,{\"1???\",\"21??\",\"22??\"})+SUMIFS('Accounting Data'!C2:C93564,'Accounting Data'!E2:E93564,\"227\",'Accounting Data'!J2:J93564,\"6650\",'Accounting Data'!I2:I93564,{\"1???\",\"21??\",\"22??\"})+SUMIFS('Accounting Data'!C2:C93564,'Accounting Data'!E2:E93564,\"228\",'Accounting Data'!J2:J93564,\"6650\",'Accounting Data'!I2:I93564,{\"1???\",\"21??\",\"22??\"}))","v":0}]
["6. 6737-38 Technology-Related Hardware & Software (less than $5,000)",null,null,7960,7960]
["7. 6739 Technology-Related Hardware & Software ($5,000 or more)",null,null,{"$f":"SUMIFS('Accounting Data'!C2:C93564,'Accounting Data'!E2:E93564,\"COVID\",'Accounting Data'!J2:J93564,\"6739\")+SUMIFS('Accounting Data'!C2:C93564,'Accounting Data'!E2:E93564,\"227\",'Accounting Data'!J2:J93564,\"6739\")+SUMIFS('Accounting Data'!C2:C93564,'Accounting Data'!E2:E93564,\"228\",'Accounting Data'!J2:J93564,\"6739\")","v":0},{"$f":"SUM(SUMIFS('Accounting Data'!C2:C93564,'Accounting Data'!E2:E93564,\"COVID\",'Accounting Data'!J2:J93564,\"6739\",'Accounting Data'!I2:I93564,{\"1???\",\"21??\",\"22??\"})+SUMIFS('Accounting Data'!C2:C93564,'Accounting Data'!E2:E93564,\"227\",'Accounting Data'!J2:J93564,\"6739\",'Accounting Data'!I2:I93564,{\"1???\",\"21??\",\"22??\"})+SUMIFS('Accounting Data'!C2:C93564,'Accounting Data'!E2:E93564,\"228\",'Accounting Data'!J2:J93564,\"6739\",'Accounting Data'!I2:I93564,{\"1???\",\"21??\",\"22??\"}))","v":0}]
["8. 6641-43 Software reported in library books, textbooks, or instructional aids ",null,null,27004,27004]
["9. 6832 and 6842  Noninstructional software subscriptions (more than 12 months) Principal and Interest",null,null,0]
["10. 6833 and 6843 Instructional software subscriptions (more than 12 months) Principal and Interest",null,null,{"$f":"SUMIFS('Accounting Data'!C2:C93564,'Accounting Data'!E2:E93564,\"COVID\",'Accounting Data'!J2:J93564,\"6843\")+SUMIFS('Accounting Data'!C2:C93564,'Accounting Data'!E2:E93564,\"227\",'Accounting Data'!J2:J93564,\"6843\")+SUMIFS('Accounting Data'!C2:C93564,'Accounting Data'!E2:E93564,\"228\",'Accounting Data'!J2:J93564,\"6843\")+SUMIFS('Accounting Data'!C2:C93564,'Accounting Data'!E2:E93564,\"COVID\",'Accounting Data'!J2:J93564,\"6833\")+SUMIFS('Accounting Data'!C2:C93564,'Accounting Data'!E2:E93564,\"227\",'Accounting Data'!J2:J93564,\"6833\")+SUMIFS('Accounting Data'!C2:C93564,'Accounting Data'!E2:E93564,\"228\",'Accounting Data'!J2:J93564,\"6833\")","v":0},{"$f":"D33","v":0}]
[null,null,null,null,null,null,{"$f":"IF(OR(C20<0,D20<0,E20<0,F20<0,G20<0,H20<0,I20<0,J20<0,K20<0,L20<0,M20<0,N20<0),\"Line 11 should not contain negative amounts. Click the instruction link in cell A20 for more information.\",\"\")","v":""}]
["Capital Outlay Expenditures detail for COVID-19 federal relief funds"]
["1. Programs 100-630, Function 4000, Objects 6100-6700 and 6890",null,null,87785]
["2. Programs 100-630, All functions, Object 67XX",null,null,106630]
[]
[null,null,null,"Total Award\n(all fiscal years)","FY 2020 and \nFY 2021\nExpenditures and Other Financing Uses","FY 2022\nExpenditures and Other Financing Uses","FY 2023\nExpenditures and Other Financing Uses","Amount\nremaining to\nspend"]
["COVID-19 federal relief funds"]
["1. Elementary and Secondary School Emergency Relief Funds (ESSER I)",null,null,1249529.48,1142101.46,101781.02,5647,{"$f":"ROUND(D41-E41-F41-G41,0)","v":0},null,null,null,null,null,null,null,null,null,null,null,null,null,null,null,null,null,null,{"$f":"IF(OR(AA42=\"yes\",AA43=\"yes\"),\"yes\",\"\")","v":""}]
["2. Elementary and Secondary School Emergency Relief Funds (ESSER II)",null,null,4751065.08,560480.63,1203700.27,1780182.04,1206702,null,null,null,null,null,null,null,null,null,null,null,null,null,null,null,null,null,null,{"$f":"IF(OR(D31=\"\",D32=\"\",D41=\"\",D42=\"\",D43=\"\",D44=\"\",D45=\"\",D46=\"\",E42=\"\",E43=\"\",E44=\"\",E45=\"\",E46=\"\"),\"yes\",\"\")","v":""}]
["3. Elementary and Secondary School Emergency Relief Funds (ESSER III)",null,null,10631117.289999999,353368.46,2785970.03,3699008.86,3792770,null,null,null,null,null,null,null,null,null,null,null,null,null,null,null,null,null,null,{"$f":"IF(OR(F41=\"\",F42=\"\",F43=\"\",F44=\"\",F45=\"\",F46=\"\",G42=\"\",G43=\"\",G44=\"\",G45=\"\",G46=\"\"),\"yes\",\"\")","v":""}]
["4. Governor’s Emergency Education Relief Funds (GEER) - includes Acceleration Academies Program",null,null,75000,20708.86,0,35516,18775]
["5. Coronavirus Relief Fund (CRF)—Enrollment Stability Grant (ESG) Program",null,null,1205137.6000000001,1205137.6000000001,0,0,0]
["6. Other COVID-19 Federal Relief Funds",null,null,{"$f":"41072.8+74142.66+158934.55+11872.68+934800+78772.45+125000","v":1424595},214549,227547,{"$f":"6050.29+65441.98+78772.45+44273.26+997.41+559792.85","v":755328},227171]
["7. Total",null,null,{"$f":"ROUND(SUM(D41:D46),0)","v":19336444},{"$f":"ROUND(SUM(E41:E46),0)","v":3496346},{"$f":"ROUND(SUM(F41:F46),0)","v":4318998},{"$f":"ROUND(SUM(G41:G46),0)","v":6275682},{"$f":"ROUND(SUM(H41:H46),0)","v":5245418}]
[]
[null,null,null,null,null,"Total FY 2023 expenditures + other financing uses",{"$f":"ROUND(SUM(N21+J24),0)","v":6275682},null,{"$f":"IF(OR(H41<0,H42<0,H43<0,H44<0,H45<0,H46<0),\"Column H should not contain negative amounts. Click the instruction link in cell H39 for more information.\",\"\")","v":""}]
[null,null,null,null,null,null,{"$f":"IF(G47<>G49,\"The amount in cell G47 should agree to the amount in cell G49\",\"\")","v":""}]

{"sheet":"Summary","index":11,"n_rows":68,"n_cols":13,"rows_kept":68,"cut":false,"hidden":false,"merged":[[60,8,60,9],[60,6,60,7],[60,4,60,5],[58,4,58,5],[58,6,58,7],[58,8,58,9],[67,4,67,5],[67,6,67,7],[67,8,67,9],[61,4,61,5],[61,6,61,7],[61,8,61,9],[64,6,64,7],[66,8,66,9],[66,6,66,7],[64,8,64,9],[65,6,65,7],[65,8,65,9],[66,4,66,5],[65,4,65,5],[64,4,64,5],[63,8,63,9],[63,6,63,7],[63,4,63,5],[62,8,62,9],[62,6,62,7],[62,4,62,5],[36,8,36,9],[37,4,37,5],[18,6,18,7],[18,8,18,9],[20,4,20,5],[19,8,19,9],[22,8,22,9],[22,4,22,5],[20,8,20,9],[18,4,18,5],[34,4,34,5],[34,6,34,7],[29,4,29,5],[29,6,29,7],[33,4,33,5],[36,4,36,5],[36,6,36,7],[28,8,28,9],[35,8,35,9],[33,8,33,9],[29,8,29,9],[9,11,10,14],[11,12,13,14],[23,8,23,9],[24,4,24,5],[24,8,24,9],[49,8,49,9],[47,4,47,5],[47,6,47,7],[32,4,32,5],[26,8,26,9],[45,4,45,5],[45,6,45,7],[45,8,45,9],[41,6,41,7],[41,8,41,9],[42,4,42,5],[42,6,42,7],[41,4,41,5],[42,8,42,9],[39,8,39,9],[40,8,40,9],[43,4,43,5],[43,6,43,7],[7,4,9,5],[56,4,56,5],[53,8,53,9],[53,4,53,5],[37,6,37,7],[37,8,37,9],[38,4,38,5],[38,6,38,7],[38,8,38,9],[39,4,39,5],[39,6,39,7],[54,4,54,5],[54,6,54,7],[54,8,54,9],[53,6,53,7],[47,8,47,9],[52,8,52,9],[48,4,48,5],[48,6,48,7],[48,8,48,9],[49,4,49,5],[49,6,49,7],[50,4,50,5],[46,8,46,9],[57,4,57,5],[55,8,55,9],[56,6,56,7],[57,6,57,7],[57,8,57,9],[56,8,56,9],[46,4,46,5],[23,6,23,7],[27,4,27,5],[27,6,27,7],[27,8,27,9],[25,4,25,5],[25,6,25,7],[25,8,25,9],[26,4,26,5],[26,6,26,7],[51,6,51,7],[51,8,51,9],[50,8,50,9],[52,6,52,7],[51,4,51,5],[52,4,52,5],[46,6,46,7],[43,8,43,9],[16,8,16,9],[34,8,34,9],[32,8,32,9],[30,6,30,7],[30,8,30,9],[28,4,28,5],[17,4,17,5],[44,6,44,7],[44,8,44,9],[31,8,31,9],[20,6,20,7],[22,6,22,7],[40,4,40,5],[40,6,40,7],[44,4,44,5],[28,6,28,7],[23,4,23,5],[7,2,9,2],[55,4,55,5],[55,6,55,7],[19,4,19,5],[19,6,19,7],[24,6,24,7],[11,4,11,5],[35,4,35,5],[35,6,35,7],[33,6,33,7],[31,4,31,5],[31,6,31,7],[30,4,30,5],[17,6,17,7],[15,6,15,7],[50,6,50,7],[32,6,32,7],[7,6,9,7],[13,6,13,7],[7,10,9,10],[8,8,8,9],[9,8,9,9],[10,4,10,5],[10,6,10,7],[10,8,10,9],[12,6,12,7],[15,4,15,5],[59,8,59,9],[59,6,59,7],[59,4,59,5],[15,8,15,9],[11,8,11,9],[12,8,12,9],[14,4,14,5],[14,6,14,7],[14,8,14,9],[12,4,12,5],[13,4,13,5],[11,6,11,7],[13,8,13,9],[17,8,17,9],[16,4,16,5],[16,6,16,7]]}
[null,null,null,null,null,null,"CTDS NUMBER",null,{"$f":"Cover!Q1","v":"070408000"},null,null,"Yes"]
["I certify that the Annual Financial Report of Osborn School  District, Maricopa",null,null,null,"Avg. Daily Membership",null,"2022",null,"2023",null,null,"No"]
["County, for fiscal year 2023 was approved by the Governing Board on October 12, 2023,  and that the",null,null,null,null,"Attending",2388.6716000000001,null,2271.5783999999999]
["complete Annual Financial Report may be reviewed by contacting  Lisa Nye  at the District Office,"]
["telephone 602-707-2002, during normal business hours.",null,null,null,null,"2023 Tax Rates:","Primary",null,"Secondary"]
[null,null,null,null,null,null,{"$f":"PrimaryTaxRate","v":2.0577000000000001},null,{"$f":"SecondaryTaxRate","v":2.1355}]
["Rev. 9/23 Arizona Department of Education and Auditor General",null,"President of the Governing Board"]
[null,null,"Revenues ","Net Other Financing ","Budgeted Expenditures",null,"Actual Expenditures",null,null,null,"General Fund"]
[null,"Beginning",null,"Sources and Uses ",null,null,null,null,"Ending"]
["Fund/Program","Fund Balance",null,"Including Transfers",null,null,null,null,"Fund Balance",null,null,"Additional fund balance reserve information \n(See Fund Balance Reserve tab for more detail)"]
["Regular Education",null,null,null,{"$f":"F001P100TotBudgExp","v":14627123},null,{"$f":"F001P100TotActExp","v":13136082}]
["Special Education",null,null,null,{"$f":"F001P200TotBudgExp","v":5459608},null,{"$f":"F001P200TotActExp","v":4349297},null,null,null,null,-1,{"$f":"\"The District \"&IF('Fund Balance Reserve'!F28=\"Yes\",\"has\",\"does not have\")&\" a process or policy to establish a targeted fund balance reserve for FY 2023.\"","v":"The District does not have a process or policy to establish a targeted fund balance reserve for FY 2023."}]
["Pupil Transportation",null,null,null,{"$f":"F001P400TotBudgExp","v":1178773},null,{"$f":"F001P400","v":1046999}]
["Desegregation",null,null,null,{"$f":"F001P510TotBudgExp","v":0},null,{"$f":"F001P510","v":0}]
["Dropout Prevention Programs",null,null,null,{"$f":"F001P530TotBudgExp","v":0},null,{"$f":"F001P530TotActExp","v":0},null,null,null,null,-2,"The District's targeted fund balance reserve for FY 2023 was:"]
["Joint Career & Tech. Ed. & Voc. Ed. Center",null,null,null,{"$f":"F001P540TotBudgExp","v":0},null,{"$f":"F001P540","v":0},null,null,null,null,null,{"$f":"'Fund Balance Reserve'!D43","v":0}]
["K-3 Reading Program",null,null,null,{"$f":"F001P550TotBudgExp","v":191928},null,{"$f":"F001P550TotActExp","v":191928}]
["Maintenance and Operation Total",{"$f":"F001BegFunBal","v":740270},{"$f":"F001TotRev","v":19791837},{"$f":"F001TransIn+F001OtherFinSources-F001OtherFinUses","v":0},{"$f":"F001TOTALBUDGEXP","v":21457432},null,{"$f":"F001TOTALEXP","v":18724306},null,{"$f":"B18+C18+D18-G18","v":1807801},null,"Yes",-3,"The District's actual fund balance reserve for FY 2023 was:"]
["Classroom Site Funds",{"$f":"'Page 3'!D21","v":1858603},{"$f":"'Page 3'!E21","v":2000261},null,{"$f":"'Page 3'!L21","v":3751893},null,{"$f":"'Page 3'!M21","v":1109353},null,{"$f":"B19+C19-G19","v":2749511},null,null,null,{"$f":"'Fund Balance Reserve'!E43","v":0}]
["Instructional Improvement",{"$f":"F020BegFunBal","v":14019},{"$f":"F020ActRev","v":213970},null,{"$f":"F020BudgExp","v":130000},null,{"$f":"F020ActExp","v":98802},null,{"$f":"B20+C20-G20","v":129187}]
["Unrestricted Capital Outlay",{"$f":"F610BegFunBal","v":4835313},{"$f":"F610TotRev","v":2733069},{"$f":"F610TransIn+F610OtherFinSources-F610OtherFinUses","v":0},{"$f":"F610TotBudgExp","v":5102954},null,{"$f":"F610TotActExp","v":1395749},null,6172633,null,"No",{"$f":"IF(M21=\"\",\"\",-4)","v":""},{"$f":"'Fund Balance Reserve'!F43","v":""}]
[null,null,null,null,null,null,null,null,null,null,null,{"$f":"IF(M22=\"\",\"\",-4)","v":""},{"$f":"'Fund Balance Reserve'!F43","v":""}]
["Adjacent Ways",{"$f":"F620BegFunBal","v":0},{"$f":"F620TotRev","v":0},{"$f":"F620TransfIn+F620OtherFinSources-F620OtherFinUses","v":0},{"$f":"F620BudgExp","v":0},null,{"$f":"F620TotExp","v":0},null,0]
["Bond Building",{"$f":"F630BegFunBal","v":2407457},{"$f":"F630TotRev","v":0},{"$f":"F630BondIssuance+F630TransIn+F630OtherFinSources-F630OtherFinUses","v":0},{"$f":"[1]!F630TotalBudgFY","v":2100000},null,{"$f":"F630TotExp","v":1466999},null,940458]
["Other Capital Funds ",{"$f":"F660BegFunBal+F665BegFunBal","v":65830},{"$f":"F660ActRev+F665ActRev","v":3546},{"$f":"F660Transf+F665Transf","v":0},{"$f":"F660BudgExp+F665BudgExp","v":65000},null,{"$f":"F660ActExp+F665ActExp","v":0},null,69376]
["New School Facilities",{"$f":"F695BegFunBal","v":0},{"$f":"F695ActRev","v":0},null,{"$f":"F695BudgExp","v":0},null,{"$f":"F695ActExp","v":0},null,{"$f":"B26+C26-G26","v":0}]
["Federal Projects",{"$f":"FedProjBegFunBal","v":607835},{"$f":"FedProjActRev","v":10286430},{"$f":"FedProjTransf","v":-309453},{"$f":"FedProjTotBudgExp","v":14562000},null,{"$f":"FedProjTotActExp","v":9254368},null,1330444]
["State Projects",{"$f":"StateProjBegFunBal","v":2801427},{"$f":"StateProjActRev","v":691449},{"$f":"StateProjOFSOFU","v":0},{"$f":"StateProjTotBudgExp","v":3000000},null,{"$f":"StateProjTotActExp","v":1303998},null,{"$f":"B28+C28+D28-G28","v":2188878}]
["County, City, and Town Grants",{"$f":"F050BegFunBal","v":0},{"$f":"F050ActRev","v":0},{"$f":"F050Transf","v":0},{"$f":"F050BudgExp","v":0},null,{"$f":"F050ActExp","v":0},null,0]
["English Language Learner",{"$f":"F071BegFunBal","v":0},{"$f":"F071ActRev","v":0},{"$f":"F071OFSOFU","v":0},{"$f":"F071BudgExp","v":0},null,{"$f":"F071ActExp","v":0},null,{"$f":"B30+C30+D30-G30","v":0}]
["Compensatory Instruction",{"$f":"F072BegFunBal","v":0},{"$f":"F072ActRev","v":0},{"$f":"F072OFSOFU","v":0},{"$f":"F072BudgExp","v":0},null,{"$f":"F072ActExp","v":0},null,{"$f":"B31+C31+D31-G31","v":0}]
["School Plant Fund",{"$f":"F500BegFunBal","v":572863},{"$f":"F500ActRev","v":44434},{"$f":"F500Transf","v":115},{"$f":"F500BudgExp","v":560000},null,{"$f":"F500ActExp","v":46471},null,570941,null,"No"]
["Food Service",{"$f":"[4]!FSBegFundBal","v":1531200},{"$f":"[4]!FSTotRev","v":2354737},{"$f":"[4]!FSTransferIn-[4]!FSTransferOut-[4]!FSIndirectCost","v":-302778},{"$f":"[4]!FSBudgetExp","v":2750000},null,{"$f":"[4]!FSActExp","v":1983974},null,1599185]
["Civic Center",{"$f":"F515BegFunBal","v":108335},{"$f":"F515ActRev","v":96604},{"$f":"F515Transf","v":0},{"$f":"F515BudgExp","v":112000},null,{"$f":"F515ActExp","v":43884},null,161055]
["Community School",{"$f":"F520BegFunBal","v":44524},{"$f":"F520ActRev","v":181945},{"$f":"F520Transf","v":0},{"$f":"F520BudgExp","v":150000},null,{"$f":"F520ActExp","v":84599},null,141870]
["Auxiliary Operations",{"$f":"F525BegFunBal","v":25039},{"$f":"F525ActRev","v":11086},{"$f":"F525Transf","v":0},{"$f":"F525BudgExp","v":30000},null,{"$f":"F525ActExp","v":13834},null,22291,null,"Yes"]
["Extracurricular Activities Fees",{"$f":"F526BegFunBal","v":299084},{"$f":"F526ActRev","v":68067},{"$f":"F526Transf","v":0},{"$f":"F526BudgExp","v":300000},null,{"$f":"F526ActExp","v":52878},null,314273]
["Gifts and Donations ",{"$f":"F530BegFunBal+F650BegFunBal","v":365442},{"$f":"F530ActRev+F650ActRev","v":800127},{"$f":"F530Transf+F650Transf","v":0},{"$f":"F530BudgExp+F650BudgExp","v":200000},null,{"$f":"F530ActExp+F650ActExp","v":701745},null,463824,null,"No"]
["Career & Technical Education Projects",{"$f":"F535BegFunBal","v":0},{"$f":"F535ActRev","v":0},{"$f":"F535Transf","v":0},{"$f":"F535BudgExp","v":0},null,{"$f":"F535ActExp","v":0},null,0]
["Fingerprint",{"$f":"F540BegFunBal","v":10039},{"$f":"F540ActRev","v":1042},{"$f":"F540Transf","v":0},{"$f":"F540BudgExp","v":10000},null,{"$f":"F540ActExp","v":658},null,10423]
["School Opening",{"$f":"F545BegFunBal","v":0},{"$f":"F545ActRev","v":0},{"$f":"F545Transf","v":0},{"$f":"F545BudgExp","v":0},null,{"$f":"F545ActExp","v":0},null,0,null,"No"]
["Insurance Proceeds",{"$f":"F550BegFunBal","v":30088},{"$f":"F550ActRev","v":499},{"$f":"F550Transf","v":0},{"$f":"F550BudgExp","v":29000},null,{"$f":"F550ActExp","v":0},null,30587,null,"No"]
["Textbooks",{"$f":"F555BegFunBal","v":16555},{"$f":"F555ActRev","v":484},{"$f":"F555Transf","v":0},{"$f":"F555BudgExp","v":16000},null,{"$f":"F555ActExp","v":0},null,17039]
["Litigation Recovery",{"$f":"F565BegFunBal","v":4157},{"$f":"F565ActRev","v":69},{"$f":"F565Transf","v":0},{"$f":"F565BudgExp","v":4000},null,{"$f":"F565ActExp","v":4200},null,26,null,"Yes"]
["Indirect Costs",{"$f":"F570BegFunBal","v":786815},{"$f":"F570ActRev","v":12525},{"$f":"F570Transf","v":612231},{"$f":"F570BudgExp","v":560000},null,{"$f":"F570ActExp","v":334735},null,1076836,null,"Yes"]
["Unemployment Insurance",{"$f":"F575BegFunBal","v":36058},{"$f":"F575ActRev","v":598},{"$f":"F575Transf","v":0},{"$f":"F575BudgExp","v":40000},null,{"$f":"F575ActExp","v":12364},null,24292]
["Teacherage",{"$f":"F580BegFunBal","v":0},{"$f":"F580ActRev","v":0},{"$f":"F580Transf","v":0},{"$f":"F580BudgExp","v":0},null,{"$f":"F580ActExp","v":0},null,0,null,"No"]
["Insurance Refund",{"$f":"F585BegFunBal","v":2896},{"$f":"F585ActRev","v":430},{"$f":"F585Transf","v":0},{"$f":"F585BudgExp","v":3000},null,{"$f":"F585ActExp","v":0},null,3326]
["Grants and Gifts to Teachers",{"$f":"F590BegFunBal","v":0},{"$f":"F590ActRev","v":0},{"$f":"F590Transf","v":0},{"$f":"F590BudgExp","v":0},null,{"$f":"F590ActExp","v":0},null,0]
["Advertisement ",{"$f":"F595BegFunBal","v":0},{"$f":"F595ActRev","v":0},{"$f":"F595Transf","v":0},{"$f":"F595BudgExp","v":0},null,{"$f":"F595ActExp","v":0},null,0,null,"No"]
["Career Technical Education",{"$f":"F596BegFunBal","v":0},{"$f":"F596ActRev","v":0},{"$f":"F596Transf","v":0},{"$f":"F596BudgExp","v":0},null,{"$f":"F596ActExp","v":0},null,{"$f":"B51+C51+D51-G51","v":0}]
["Arizona Industry Credentials Incentive",{"$f":"F597BegFunBal","v":0},{"$f":"F597ActRev","v":0},{"$f":"F597Transf","v":0},{"$f":"F597BudgExp","v":0},null,{"$f":"F597ActExp","v":0},null,{"$f":"B52+C52+D52-G52","v":0},null,"No"]
["Impact Aid Revenue Bond Building",{"$f":"F639BegFunBal","v":0},{"$f":"F639ActRev","v":0},{"$f":"F639Transf","v":0},{"$f":"F639BudgExp","v":0},null,{"$f":"F639ActExp","v":0},null,0]
["Debt Service",{"$f":"F700BegFunBal","v":56812},{"$f":"F700TotRev","v":7217827},{"$f":"F700BondIssuance+F700TransIn+F700OtherFinSources-F700OtherFinUses","v":0},{"$f":"[1]!F700BudgFY","v":7098700},null,{"$f":"F700TotExp","v":7099700},null,174939]
["Emergency Deficiencies Correction",{"$f":"F686BegFunBal","v":0},{"$f":"F686ActRev","v":0},{"$f":"F686Transf","v":0},{"$f":"F686BudgExp","v":0},null,{"$f":"F686ActExp","v":0},null,{"$f":"B55+C55+D55-G55","v":0}]
["Building Renewal Grant",{"$f":"F691BegFunBal","v":0},{"$f":"F691ActRev","v":0},{"$f":"F691Transf","v":0},{"$f":"F691BudgExp","v":0},null,{"$f":"F691ActExp","v":0},null,{"$f":"B56+C56+D56-G56","v":0}]
["Impact Aid Rev. Bond Debt Service",{"$f":"F720BegFunBal","v":0},{"$f":"F720ActRev","v":0},{"$f":"F720Transf","v":0},{"$f":"F720BudgExp","v":0},null,{"$f":"F720ActExp","v":0},null,0]
["Student Activities",{"$f":"F850BegFunBal","v":34580},{"$f":"F850ActRev","v":9686},{"$f":"F850Transf","v":0},{"$f":"F850BudgExp","v":38000},null,{"$f":"F850ActExp","v":8129},null,{"$f":"B58+C58-G58","v":36137}]
["Employee Insurance Program Withholdings",{"$f":"F855BegFunBal","v":804337},{"$f":"F855ActRev","v":2481280},{"$f":"F855Transf","v":0},{"$f":"F855BudgExp","v":2500000},null,{"$f":"F855ActExp","v":2670467},null,{"$f":"B59+C59+D59-G59","v":615150}]
["State Income Tax Withholdings",{"$f":"F865BegFunBal","v":0},{"$f":"F865ActRev","v":0},{"$f":"F865Transf","v":0},{"$f":"F865BudgExp","v":0},null,{"$f":"F865ActExp","v":0},null,0]
["Other Funds ",{"$f":"OthBegFunBal","v":0},{"$f":"OthActRev","v":0},{"$f":"OthTransf","v":0},{"$f":"OthBudgExp","v":0},null,{"$f":"OthActExp","v":0},null,{"$f":"B61+C61+D61-G61","v":0},null,"No"]
["Permanent Fund",{"$f":"F750BegFunBal","v":0},{"$f":"F750ActRev","v":0},{"$f":"F750Transf","v":0},{"$f":"F750BudgExp","v":0},null,{"$f":"F750ActExp","v":0},null,0]
["Trust and Custodial Funds",{"$f":"F800_849BegFunBal","v":0},{"$f":"F800_849ActRev","v":0},{"$f":"F800_849Transf","v":0},{"$f":"F800_849BudgExp","v":0},null,{"$f":"F800_849ActExp","v":0},null,0]
["Enterprise Funds",{"$f":"F900_949BegFunBal","v":0},{"$f":"F900_949ActRev","v":0},{"$f":"F900_949Transf","v":0},{"$f":"F900_949BudgExp","v":0},null,{"$f":"F900_949ActExp","v":0},null,0]
["Self-Insurance",{"$f":"SIBegFunBal","v":0},{"$f":"SIActRev","v":0},{"$f":"SITransf","v":0},{"$f":"SIBudgExp","v":0},null,{"$f":"SIActExp","v":0},null,0]
["Intergovernmental Agreements",{"$f":"F955BegFunBal","v":0},{"$f":"F955ActRev","v":0},{"$f":"F955Transf","v":0},{"$f":"F955BudgExp","v":0},null,{"$f":"F955ActExp","v":0},null,0]
["OPEB",{"$f":"OPEBBegFunBal","v":0},{"$f":"OPEBActRev","v":0},{"$f":"OPEBTransf","v":0},{"$f":"OPEBBudgExp","v":0},null,{"$f":"OPEBActExp","v":0},null,0]
["Other Internal Service Fund",{"$f":"ISFOthBegFunBal","v":0},{"$f":"ISFOthActRev","v":0},{"$f":"ISFOthTransf","v":0},{"$f":"ISFOthBudgExp","v":0},null,{"$f":"ISFOthActExp","v":0},null,0]

{"sheet":"Supplement","index":12,"n_rows":43,"n_cols":15,"rows_kept":43,"cut":false,"hidden":false,"merged":[[33,11,34,11],[33,12,34,12],[33,13,34,13],[7,0,7,2],[16,13,17,13],[14,12,15,12],[14,13,15,13],[16,11,17,11],[0,1,0,5],[0,12,0,13],[0,7,0,9],[3,0,3,13],[42,0,42,1],[31,3,32,3],[31,11,32,11],[31,12,32,12],[31,13,32,13],[33,3,34,3],[25,0,25,1],[14,3,15,3],[2,0,2,13],[14,11,15,11],[16,12,17,12],[16,3,17,3]]}
["DISTRICT NAME",{"$f":"CoverDistrictName","v":"Osborn Elementary School District"},null,null,null,null,"COUNTY",{"$f":"County","v":"Maricopa"},null,null,null,"CTDS NUMBER",{"$f":"Cover!Q1","v":"070408000"}]
[]
["SUPPLEMENT TO SCHOOL DISTRICT ANNUAL FINANCIAL REPORT FOR DISTRICTS THAT INCURRED EXPENDITURES FOR"]
["ENGLISH LANGUAGE LEARNERS (A.R.S. §§15-756.04 and 15-756.11)"]
[]
[null,null,null,null,null,null,null,"Purchased",null,null,null,"Total Expenditures"]
[null,null,null,"Beginning ",null,null,"Employee","Services",null,null,null,null,null,"Ending"]
["Revenue Object Codes/Expenditure Function Codes",null,null,"Fund","Actual ","Salaries","Benefits","6300, 6400,","Supplies","Property","Other","Budget","Actual ","Fund"]
[null,null,null,"Balance","Revenues","6100","6200","6500","6600","6700","6800",null,null,"Balance"]
["English Language Learner Fund 071"]
["Revenues "]
["        3200 Restricted Revenue from State Sources",null,"1.",null,{"$f":"-(SUMIFS('Accounting Data'!C2:C93564,'Accounting Data'!E2:E93564,\"071\",'Accounting Data'!J2:J93564,\"32??\"))","v":0},null,null,null,null,null,null,null,null,null,"1."]
["        Investment Income and Other Revenues",null,"2.",null,{"$f":"-(SUMIFS('Accounting Data'!C2:C93564,'Accounting Data'!E2:E93564,\"071\",'Accounting Data'!J2:J93564,\"15??\")+SUMIFS('Accounting Data'!C2:C93564,'Accounting Data'!E2:E93564,\"071\",'Accounting Data'!J2:J93564,\"198?\"))","v":0},null,null,null,null,null,null,null,null,null,"2."]
["Total Revenues (lines 1 and 2)",null,"3.",null,{"$f":"IF(SUM(E12:E13)=F071ActRev,SUM(E12:E13),\"Check Page 6, cell V9\")","v":0},null,null,null,null,null,null,null,null,null,"3."]
["Expenditures",null,null,null,null,null,null,null,null,null,null,{"$f":"[1]!F071F1000","v":0},{"$f":"SUM(F16:K16)","v":0}]
["   1000 Instruction",null,"4.",null,null,{"$f":"SUMIFS('Accounting Data'!C2:C93564,'Accounting Data'!E2:E93564,\"071\",'Accounting Data'!I2:I93564,\"1???\",'Accounting Data'!J2:J93564,\"61??\")","v":0},{"$f":"SUMIFS('Accounting Data'!C2:C93564,'Accounting Data'!E2:E93564,\"071\",'Accounting Data'!I2:I93564,\"1???\",'Accounting Data'!J2:J93564,\"62??\")","v":0},{"$f":"SUMIFS('Accounting Data'!C2:C93564,'Accounting Data'!E2:E93564,\"071\",'Accounting Data'!I2:I93564,\"1???\",'Accounting Data'!J2:J93564,\"63??\")+SUMIFS('Accounting Data'!C2:C93564,'Accounting Data'!E2:E93564,\"071\",'Accounting Data'!I2:I93564,\"1???\",'Accounting Data'!J2:J93564,\"64??\")+SUMIFS('Accounting Data'!C2:C93564,'Accounting Data'!E2:E93564,\"071\",'Accounting Data'!I2:I93564,\"1???\",'Accounting Data'!J2:J93564,\"65??\")","v":0},{"$f":"SUMIFS('Accounting Data'!C2:C93564,'Accounting Data'!E2:E93564,\"071\",'Accounting Data'!I2:I93564,\"1???\",'Accounting Data'!J2:J93564,\"66??\")","v":0},{"$f":"SUMIFS('Accounting Data'!C2:C93564,'Accounting Data'!E2:E93564,\"071\",'Accounting Data'!I2:I93564,\"1???\",'Accounting Data'!J2:J93564,\"67??\")","v":0},{"$f":"SUMIFS('Accounting Data'!C2:C93564,'Accounting Data'!E2:E93564,\"071\",'Accounting Data'!I2:I93564,\"1???\",'Accounting Data'!J2:J93564,\"68??\")","v":0},null,null,null,"4."]
["   2000 Support Services",null,null,null,null,null,null,null,null,null,null,{"$f":"[1]!F071F2100","v":0},{"$f":"SUM(F18:K18)","v":0},null," "]
["      2100 Students",null,"5.",null,null,{"$f":"SUMIFS('Accounting Data'!C$2:C$93564,'Accounting Data'!E$2:E$93564,\"071\",'Accounting Data'!I$2:I$93564,\"21??\",'Accounting Data'!J$2:J$93564,\"61??\")","v":0},{"$f":"SUMIFS('Accounting Data'!C$2:C$93564,'Accounting Data'!E$2:E$93564,\"071\",'Accounting Data'!I$2:I$93564,\"21??\",'Accounting Data'!J$2:J$93564,\"62??\")","v":0},{"$f":"SUMIFS('Accounting Data'!C2:C93564,'Accounting Data'!E2:E93564,\"071\",'Accounting Data'!I2:I93564,\"21??\",'Accounting Data'!J2:J93564,\"63??\")+SUMIFS('Accounting Data'!C2:C93564,'Accounting Data'!E2:E93564,\"071\",'Accounting Data'!I2:I93564,\"21??\",'Accounting Data'!J2:J93564,\"64??\")+SUMIFS('Accounting Data'!C2:C93564,'Accounting Data'!E2:E93564,\"071\",'Accounting Data'!I2:I93564,\"21??\",'Accounting Data'!J2:J93564,\"65??\")","v":0},{"$f":"SUMIFS('Accounting Data'!C$2:C$93564,'Accounting Data'!E$2:E$93564,\"071\",'Accounting Data'!I$2:I$93564,\"21??\",'Accounting Data'!J$2:J$93564,\"66??\")","v":0},{"$f":"SUMIFS('Accounting Data'!C$2:C$93564,'Accounting Data'!E$2:E$93564,\"071\",'Accounting Data'!I$2:I$93564,\"21??\",'Accounting Data'!J$2:J$93564,\"67??\")","v":0},{"$f":"SUMIFS('Accounting Data'!C$2:C$93564,'Accounting Data'!E$2:E$93564,\"071\",'Accounting Data'!I$2:I$93564,\"21??\",'Accounting Data'!J$2:J$93564,\"68??\")","v":0},null,null,null,"5."]
["      2200 Instructional Staff",null,"6.",null,null,{"$f":"SUMIFS('Accounting Data'!C$2:C$93564,'Accounting Data'!E$2:E$93564,\"071\",'Accounting Data'!I$2:I$93564,\"22??\",'Accounting Data'!J$2:J$93564,\"61??\")","v":0},{"$f":"SUMIFS('Accounting Data'!C$2:C$93564,'Accounting Data'!E$2:E$93564,\"071\",'Accounting Data'!I$2:I$93564,\"22??\",'Accounting Data'!J$2:J$93564,\"62??\")","v":0},{"$f":"SUMIFS('Accounting Data'!C2:C93564,'Accounting Data'!E2:E93564,\"071\",'Accounting Data'!I2:I93564,\"22??\",'Accounting Data'!J2:J93564,\"63??\")+SUMIFS('Accounting Data'!C2:C93564,'Accounting Data'!E2:E93564,\"071\",'Accounting Data'!I2:I93564,\"22??\",'Accounting Data'!J2:J93564,\"64??\")+SUMIFS('Accounting Data'!C2:C93564,'Accounting Data'!E2:E93564,\"071\",'Accounting Data'!I2:I93564,\"22??\",'Accounting Data'!J2:J93564,\"65??\")","v":0},{"$f":"SUMIFS('Accounting Data'!C$2:C$93564,'Accounting Data'!E$2:E$93564,\"071\",'Accounting Data'!I$2:I$93564,\"22??\",'Accounting Data'!J$2:J$93564,\"66??\")","v":0},{"$f":"SUMIFS('Accounting Data'!C$2:C$93564,'Accounting Data'!E$2:E$93564,\"071\",'Accounting Data'!I$2:I$93564,\"22??\",'Accounting Data'!J$2:J$93564,\"67??\")","v":0},{"$f":"SUMIFS('Accounting Data'!C$2:C$93564,'Accounting Data'!E$2:E$93564,\"071\",'Accounting Data'!I$2:I$93564,\"22??\",'Accounting Data'!J$2:J$93564,\"68??\")","v":0},{"$f":"[1]!F071F2200","v":0},{"$f":"SUM(F19:K19)","v":0},null,"6."]
["      2300 General Administration",null,"7.",null,null,{"$f":"SUMIFS('Accounting Data'!C$2:C$93564,'Accounting Data'!E$2:E$93564,\"071\",'Accounting Data'!I$2:I$93564,\"23??\",'Accounting Data'!J$2:J$93564,\"61??\")","v":0},{"$f":"SUMIFS('Accounting Data'!C$2:C$93564,'Accounting Data'!E$2:E$93564,\"071\",'Accounting Data'!I$2:I$93564,\"23??\",'Accounting Data'!J$2:J$93564,\"62??\")","v":0},{"$f":"SUMIFS('Accounting Data'!C2:C93564,'Accounting Data'!E2:E93564,\"071\",'Accounting Data'!I2:I93564,\"23??\",'Accounting Data'!J2:J93564,\"63??\")+SUMIFS('Accounting Data'!C2:C93564,'Accounting Data'!E2:E93564,\"071\",'Accounting Data'!I2:I93564,\"23??\",'Accounting Data'!J2:J93564,\"64??\")+SUMIFS('Accounting Data'!C2:C93564,'Accounting Data'!E2:E93564,\"071\",'Accounting Data'!I2:I93564,\"23??\",'Accounting Data'!J2:J93564,\"65??\")","v":0},{"$f":"SUMIFS('Accounting Data'!C$2:C$93564,'Accounting Data'!E$2:E$93564,\"071\",'Accounting Data'!I$2:I$93564,\"23??\",'Accounting Data'!J$2:J$93564,\"66??\")","v":0},{"$f":"SUMIFS('Accounting Data'!C$2:C$93564,'Accounting Data'!E$2:E$93564,\"071\",'Accounting Data'!I$2:I$93564,\"23??\",'Accounting Data'!J$2:J$93564,\"67??\")","v":0},{"$f":"SUMIFS('Accounting Data'!C$2:C$93564,'Accounting Data'!E$2:E$93564,\"071\",'Accounting Data'!I$2:I$93564,\"23??\",'Accounting Data'!J$2:J$93564,\"68??\")","v":0},{"$f":"[1]!F071F2300","v":0},{"$f":"SUM(F20:K20)","v":0},null,"7."]
["      2400 School Administration",null,"8.",null,null,{"$f":"SUMIFS('Accounting Data'!C$2:C$93564,'Accounting Data'!E$2:E$93564,\"071\",'Accounting Data'!I$2:I$93564,\"24??\",'Accounting Data'!J$2:J$93564,\"61??\")","v":0},{"$f":"SUMIFS('Accounting Data'!C$2:C$93564,'Accounting Data'!E$2:E$93564,\"071\",'Accounting Data'!I$2:I$93564,\"24??\",'Accounting Data'!J$2:J$93564,\"62??\")","v":0},{"$f":"SUMIFS('Accounting Data'!C2:C93564,'Accounting Data'!E2:E93564,\"071\",'Accounting Data'!I2:I93564,\"24??\",'Accounting Data'!J2:J93564,\"63??\")+SUMIFS('Accounting Data'!C2:C93564,'Accounting Data'!E2:E93564,\"071\",'Accounting Data'!I2:I93564,\"24??\",'Accounting Data'!J2:J93564,\"64??\")+SUMIFS('Accounting Data'!C2:C93564,'Accounting Data'!E2:E93564,\"071\",'Accounting Data'!I2:I93564,\"24??\",'Accounting Data'!J2:J93564,\"65??\")","v":0},{"$f":"SUMIFS('Accounting Data'!C$2:C$93564,'Accounting Data'!E$2:E$93564,\"071\",'Accounting Data'!I$2:I$93564,\"24??\",'Accounting Data'!J$2:J$93564,\"66??\")","v":0},{"$f":"SUMIFS('Accounting Data'!C$2:C$93564,'Accounting Data'!E$2:E$93564,\"071\",'Accounting Data'!I$2:I$93564,\"24??\",'Accounting Data'!J$2:J$93564,\"67??\")","v":0},{"$f":"SUMIFS('Accounting Data'!C$2:C$93564,'Accounting Data'!E$2:E$93564,\"071\",'Accounting Data'!I$2:I$93564,\"24??\",'Accounting Data'!J$2:J$93564,\"68??\")","v":0},{"$f":"[1]!F071F2400","v":0},0,null,"8."]
["      2500 Central Services",null,"9.",null,null,{"$f":"SUMIFS('Accounting Data'!C$2:C$93564,'Accounting Data'!E$2:E$93564,\"071\",'Accounting Data'!I$2:I$93564,\"25??\",'Accounting Data'!J$2:J$93564,\"61??\")","v":0},{"$f":"SUMIFS('Accounting Data'!C$2:C$93564,'Accounting Data'!E$2:E$93564,\"071\",'Accounting Data'!I$2:I$93564,\"25??\",'Accounting Data'!J$2:J$93564,\"62??\")","v":0},{"$f":"SUMIFS('Accounting Data'!C2:C93564,'Accounting Data'!E2:E93564,\"071\",'Accounting Data'!I2:I93564,\"25??\",'Accounting Data'!J2:J93564,\"63??\")+SUMIFS('Accounting Data'!C2:C93564,'Accounting Data'!E2:E93564,\"071\",'Accounting Data'!I2:I93564,\"25??\",'Accounting Data'!J2:J93564,\"64??\")+SUMIFS('Accounting Data'!C2:C93564,'Accounting Data'!E2:E93564,\"071\",'Accounting Data'!I2:I93564,\"25??\",'Accounting Data'!J2:J93564,\"65??\")","v":0},{"$f":"SUMIFS('Accounting Data'!C$2:C$93564,'Accounting Data'!E$2:E$93564,\"071\",'Accounting Data'!I$2:I$93564,\"25??\",'Accounting Data'!J$2:J$93564,\"66??\")","v":0},{"$f":"SUMIFS('Accounting Data'!C$2:C$93564,'Accounting Data'!E$2:E$93564,\"071\",'Accounting Data'!I$2:I$93564,\"25??\",'Accounting Data'!J$2:J$93564,\"67??\")","v":0},{"$f":"SUMIFS('Accounting Data'!C$2:C$93564,'Accounting Data'!E$2:E$93564,\"071\",'Accounting Data'!I$2:I$93564,\"25??\",'Accounting Data'!J$2:J$93564,\"68??\")","v":0},{"$f":"[1]!F071F2500","v":0},0,null,"9."]
["      2600 Operation & Maintenance of Plant",null,"10.",null,null,{"$f":"SUMIFS('Accounting Data'!C$2:C$93564,'Accounting Data'!E$2:E$93564,\"071\",'Accounting Data'!I$2:I$93564,\"26??\",'Accounting Data'!J$2:J$93564,\"61??\")","v":0},{"$f":"SUMIFS('Accounting Data'!C$2:C$93564,'Accounting Data'!E$2:E$93564,\"071\",'Accounting Data'!I$2:I$93564,\"26??\",'Accounting Data'!J$2:J$93564,\"62??\")","v":0},{"$f":"SUMIFS('Accounting Data'!C2:C93564,'Accounting Data'!E2:E93564,\"071\",'Accounting Data'!I2:I93564,\"26??\",'Accounting Data'!J2:J93564,\"63??\")+SUMIFS('Accounting Data'!C2:C93564,'Accounting Data'!E2:E93564,\"071\",'Accounting Data'!I2:I93564,\"26??\",'Accounting Data'!J2:J93564,\"64??\")+SUMIFS('Accounting Data'!C2:C93564,'Accounting Data'!E2:E93564,\"071\",'Accounting Data'!I2:I93564,\"26??\",'Accounting Data'!J2:J93564,\"65??\")","v":0},{"$f":"SUMIFS('Accounting Data'!C$2:C$93564,'Accounting Data'!E$2:E$93564,\"071\",'Accounting Data'!I$2:I$93564,\"26??\",'Accounting Data'!J$2:J$93564,\"66??\")","v":0},{"$f":"SUMIFS('Accounting Data'!C$2:C$93564,'Accounting Data'!E$2:E$93564,\"071\",'Accounting Data'!I$2:I$93564,\"26??\",'Accounting Data'!J$2:J$93564,\"67??\")","v":0},{"$f":"SUMIFS('Accounting Data'!C$2:C$93564,'Accounting Data'!E$2:E$93564,\"071\",'Accounting Data'!I$2:I$93564,\"26??\",'Accounting Data'!J$2:J$93564,\"68??\")","v":0},{"$f":"[1]!F071F2600","v":0},0,null,"10."]
["      2700 Student Transportation ",null,"11.",null,null,{"$f":"SUMIFS('Accounting Data'!C$2:C$93564,'Accounting Data'!E$2:E$93564,\"071\",'Accounting Data'!I$2:I$93564,\"27??\",'Accounting Data'!J$2:J$93564,\"61??\")","v":0},{"$f":"SUMIFS('Accounting Data'!C$2:C$93564,'Accounting Data'!E$2:E$93564,\"071\",'Accounting Data'!I$2:I$93564,\"27??\",'Accounting Data'!J$2:J$93564,\"62??\")","v":0},{"$f":"SUMIFS('Accounting Data'!C2:C93564,'Accounting Data'!E2:E93564,\"071\",'Accounting Data'!I2:I93564,\"27??\",'Accounting Data'!J2:J93564,\"63??\")+SUMIFS('Accounting Data'!C2:C93564,'Accounting Data'!E2:E93564,\"071\",'Accounting Data'!I2:I93564,\"27??\",'Accounting Data'!J2:J93564,\"64??\")+SUMIFS('Accounting Data'!C2:C93564,'Accounting Data'!E2:E93564,\"071\",'Accounting Data'!I2:I93564,\"27??\",'Accounting Data'!J2:J93564,\"65??\")","v":0},{"$f":"SUMIFS('Accounting Data'!C$2:C$93564,'Accounting Data'!E$2:E$93564,\"071\",'Accounting Data'!I$2:I$93564,\"27??\",'Accounting Data'!J$2:J$93564,\"66??\")","v":0},{"$f":"SUMIFS('Accounting Data'!C$2:C$93564,'Accounting Data'!E$2:E$93564,\"071\",'Accounting Data'!I$2:I$93564,\"27??\",'Accounting Data'!J$2:J$93564,\"67??\")","v":0},{"$f":"SUMIFS('Accounting Data'!C$2:C$93564,'Accounting Data'!E$2:E$93564,\"071\",'Accounting Data'!I$2:I$93564,\"27??\",'Accounting Data'!J$2:J$93564,\"68??\")","v":0},{"$f":"[1]!F071F2700","v":0},0,null,"11."]
["      2900 Other",null,"12.",null,null,{"$f":"SUMIFS('Accounting Data'!C$2:C$93564,'Accounting Data'!E$2:E$93564,\"071\",'Accounting Data'!I$2:I$93564,\"29??\",'Accounting Data'!J$2:J$93564,\"61??\")","v":0},{"$f":"SUMIFS('Accounting Data'!C$2:C$93564,'Accounting Data'!E$2:E$93564,\"071\",'Accounting Data'!I$2:I$93564,\"29??\",'Accounting Data'!J$2:J$93564,\"62??\")","v":0},{"$f":"SUMIFS('Accounting Data'!C2:C93564,'Accounting Data'!E2:E93564,\"071\",'Accounting Data'!I2:I93564,\"29??\",'Accounting Data'!J2:J93564,\"63??\")+SUMIFS('Accounting Data'!C2:C93564,'Accounting Data'!E2:E93564,\"071\",'Accounting Data'!I2:I93564,\"29??\",'Accounting Data'!J2:J93564,\"64??\")+SUMIFS('Accounting Data'!C2:C93564,'Accounting Data'!E2:E93564,\"071\",'Accounting Data'!I2:I93564,\"29??\",'Accounting Data'!J2:J93564,\"65??\")","v":0},{"$f":"SUMIFS('Accounting Data'!C$2:C$93564,'Accounting Data'!E$2:E$93564,\"071\",'Accounting Data'!I$2:I$93564,\"29??\",'Accounting Data'!J$2:J$93564,\"66??\")","v":0},{"$f":"SUMIFS('Accounting Data'!C$2:C$93564,'Accounting Data'!E$2:E$93564,\"071\",'Accounting Data'!I$2:I$93564,\"29??\",'Accounting Data'!J$2:J$93564,\"67??\")","v":0},{"$f":"SUMIFS('Accounting Data'!C$2:C$93564,'Accounting Data'!E$2:E$93564,\"071\",'Accounting Data'!I$2:I$93564,\"29??\",'Accounting Data'!J$2:J$93564,\"68??\")","v":0},{"$f":"[1]!F071F2900","v":0},0,null,"12."]
["Total (must agree with the AFR page 6, line 3)",null,"13.","BFB071SEI3",{"$f":"E14","v":0},{"$f":"F16+SUM(F18:F25)","v":0},0,0,0,0,0,{"$f":"L15+L17+SUM(L19:L25)","v":0},{"$f":"M15+M17+SUM(M19:M25)","v":0},"SEIFUNDENDING","13."]
["Compensatory Instruction Fund 072"]
["Revenues "]
["        3200 Restricted Revenue from State Sources",null,"14.",null,{"$f":"-(SUMIFS('Accounting Data'!C2:C93564,'Accounting Data'!E2:E93564,\"072\",'Accounting Data'!J2:J93564,\"32??\"))","v":0},null,null,null,null,null,null,null,null,null,"14"]
["        Investment Income and Other Revenues",null,"15.",null,{"$f":"-(SUMIFS('Accounting Data'!C2:C93564,'Accounting Data'!E2:E93564,\"072\",'Accounting Data'!J2:J93564,\"15??\")+SUMIFS('Accounting Data'!C2:C93564,'Accounting Data'!E2:E93564,\"072\",'Accounting Data'!J2:J93564,\"198?\"))","v":0},null,null,null,null,null,null,null,null,null,"15."]
["Total Revenues (lines 14 and 15)",null,"16.",null,{"$f":"IF(SUM(E29:E30)=F072ActRev,SUM(E29:E30),\"Check Page 6, cell V10\")","v":0},null,null,null,null,null,null,null,null,null,"16."]
["Expenditures",null,null,null,null,null,null,null,null,null,null,{"$f":"[1]!F072F1000","v":0},{"$f":"SUM(F33:K33)","v":0}]
["   1000 Instruction",null,"17.",null,null,{"$f":"SUMIFS('Accounting Data'!C2:C93564,'Accounting Data'!E2:E93564,\"072\",'Accounting Data'!I2:I93564,\"1???\",'Accounting Data'!J2:J93564,\"61??\")","v":0},{"$f":"SUMIFS('Accounting Data'!C2:C93564,'Accounting Data'!E2:E93564,\"072\",'Accounting Data'!I2:I93564,\"1???\",'Accounting Data'!J2:J93564,\"62??\")","v":0},{"$f":"SUMIFS('Accounting Data'!C2:C93564,'Accounting Data'!E2:E93564,\"072\",'Accounting Data'!I2:I93564,\"1???\",'Accounting Data'!J2:J93564,\"63??\")+SUMIFS('Accounting Data'!C2:C93564,'Accounting Data'!E2:E93564,\"072\",'Accounting Data'!I2:I93564,\"1???\",'Accounting Data'!J2:J93564,\"64??\")+SUMIFS('Accounting Data'!C2:C93564,'Accounting Data'!E2:E93564,\"072\",'Accounting Data'!I2:I93564,\"1???\",'Accounting Data'!J2:J93564,\"65??\")","v":0},{"$f":"SUMIFS('Accounting Data'!C2:C93564,'Accounting Data'!E2:E93564,\"072\",'Accounting Data'!I2:I93564,\"1???\",'Accounting Data'!J2:J93564,\"66??\")","v":0},{"$f":"SUMIFS('Accounting Data'!C2:C93564,'Accounting Data'!E2:E93564,\"072\",'Accounting Data'!I2:I93564,\"1???\",'Accounting Data'!J2:J93564,\"67??\")","v":0},{"$f":"SUMIFS('Accounting Data'!C2:C93564,'Accounting Data'!E2:E93564,\"072\",'Accounting Data'!I2:I93564,\"1???\",'Accounting Data'!J2:J93564,\"68??\")","v":0},null,null,null,"17."]
["   2000 Support Services",null,null,null,null,null,null,null,null,null,null,{"$f":"[1]!F072F2100","v":0},{"$f":"SUM(F35:K35)","v":0},null," "]
["      2100 Students",null,"18.",null,null,{"$f":"SUMIFS('Accounting Data'!C$2:C$93564,'Accounting Data'!E$2:E$93564,\"072\",'Accounting Data'!I$2:I$93564,\"21??\",'Accounting Data'!J$2:J$93564,\"61??\")","v":0},{"$f":"SUMIFS('Accounting Data'!C$2:C$93564,'Accounting Data'!E$2:E$93564,\"072\",'Accounting Data'!I$2:I$93564,\"21??\",'Accounting Data'!J$2:J$93564,\"62??\")","v":0},{"$f":"SUMIFS('Accounting Data'!C2:C93564,'Accounting Data'!E2:E93564,\"072\",'Accounting Data'!I2:I93564,\"21??\",'Accounting Data'!J2:J93564,\"63??\")+SUMIFS('Accounting Data'!C2:C93564,'Accounting Data'!E2:E93564,\"072\",'Accounting Data'!I2:I93564,\"21??\",'Accounting Data'!J2:J93564,\"64??\")+SUMIFS('Accounting Data'!C2:C93564,'Accounting Data'!E2:E93564,\"072\",'Accounting Data'!I2:I93564,\"21??\",'Accounting Data'!J2:J93564,\"65??\")","v":0},{"$f":"SUMIFS('Accounting Data'!C2:C93564,'Accounting Data'!E2:E93564,\"072\",'Accounting Data'!I2:I93564,\"21??\",'Accounting Data'!J2:J93564,\"66??\")","v":0},{"$f":"SUMIFS('Accounting Data'!C2:C93564,'Accounting Data'!E2:E93564,\"072\",'Accounting Data'!I2:I93564,\"21??\",'Accounting Data'!J2:J93564,\"67??\")","v":0},{"$f":"SUMIFS('Accounting Data'!C2:C93564,'Accounting Data'!E2:E93564,\"072\",'Accounting Data'!I2:I93564,\"21??\",'Accounting Data'!J2:J93564,\"68??\")","v":0},null,null,null,"18."]
["      2200 Instructional Staff",null,"19.",null,null,{"$f":"SUMIFS('Accounting Data'!C$2:C$93564,'Accounting Data'!E$2:E$93564,\"072\",'Accounting Data'!I$2:I$93564,\"22??\",'Accounting Data'!J$2:J$93564,\"61??\")","v":0},{"$f":"SUMIFS('Accounting Data'!C$2:C$93564,'Accounting Data'!E$2:E$93564,\"072\",'Accounting Data'!I$2:I$93564,\"22??\",'Accounting Data'!J$2:J$93564,\"62??\")","v":0},{"$f":"SUMIFS('Accounting Data'!C2:C93564,'Accounting Data'!E2:E93564,\"072\",'Accounting Data'!I2:I93564,\"22??\",'Accounting Data'!J2:J93564,\"63??\")+SUMIFS('Accounting Data'!C2:C93564,'Accounting Data'!E2:E93564,\"072\",'Accounting Data'!I2:I93564,\"22??\",'Accounting Data'!J2:J93564,\"64??\")+SUMIFS('Accounting Data'!C2:C93564,'Accounting Data'!E2:E93564,\"072\",'Accounting Data'!I2:I93564,\"22??\",'Accounting Data'!J2:J93564,\"65??\")","v":0},{"$f":"SUMIFS('Accounting Data'!C2:C93564,'Accounting Data'!E2:E93564,\"072\",'Accounting Data'!I2:I93564,\"22??\",'Accounting Data'!J2:J93564,\"66??\")","v":0},{"$f":"SUMIFS('Accounting Data'!C2:C93564,'Accounting Data'!E2:E93564,\"072\",'Accounting Data'!I2:I93564,\"22??\",'Accounting Data'!J2:J93564,\"67??\")","v":0},{"$f":"SUMIFS('Accounting Data'!C2:C93564,'Accounting Data'!E2:E93564,\"072\",'Accounting Data'!I2:I93564,\"22??\",'Accounting Data'!J2:J93564,\"68??\")","v":0},{"$f":"[1]!F072F2200","v":0},{"$f":"SUM(F36:K36)","v":0},null,"19."]
["      2300 General Administration",null,"20.",null,null,{"$f":"SUMIFS('Accounting Data'!C$2:C$93564,'Accounting Data'!E$2:E$93564,\"072\",'Accounting Data'!I$2:I$93564,\"23??\",'Accounting Data'!J$2:J$93564,\"61??\")","v":0},{"$f":"SUMIFS('Accounting Data'!C$2:C$93564,'Accounting Data'!E$2:E$93564,\"072\",'Accounting Data'!I$2:I$93564,\"23??\",'Accounting Data'!J$2:J$93564,\"62??\")","v":0},{"$f":"SUMIFS('Accounting Data'!C2:C93564,'Accounting Data'!E2:E93564,\"072\",'Accounting Data'!I2:I93564,\"23??\",'Accounting Data'!J2:J93564,\"63??\")+SUMIFS('Accounting Data'!C2:C93564,'Accounting Data'!E2:E93564,\"072\",'Accounting Data'!I2:I93564,\"23??\",'Accounting Data'!J2:J93564,\"64??\")+SUMIFS('Accounting Data'!C2:C93564,'Accounting Data'!E2:E93564,\"072\",'Accounting Data'!I2:I93564,\"23??\",'Accounting Data'!J2:J93564,\"65??\")","v":0},{"$f":"SUMIFS('Accounting Data'!C2:C93564,'Accounting Data'!E2:E93564,\"072\",'Accounting Data'!I2:I93564,\"23??\",'Accounting Data'!J2:J93564,\"66??\")","v":0},{"$f":"SUMIFS('Accounting Data'!C2:C93564,'Accounting Data'!E2:E93564,\"072\",'Accounting Data'!I2:I93564,\"23??\",'Accounting Data'!J2:J93564,\"67??\")","v":0},{"$f":"SUMIFS('Accounting Data'!C2:C93564,'Accounting Data'!E2:E93564,\"072\",'Accounting Data'!I2:I93564,\"23??\",'Accounting Data'!J2:J93564,\"68??\")","v":0},{"$f":"[1]!F072F2300","v":0},{"$f":"SUM(F37:K37)","v":0},null,"20."]
["      2400 School Administration",null,"21.",null,null,{"$f":"SUMIFS('Accounting Data'!C$2:C$93564,'Accounting Data'!E$2:E$93564,\"072\",'Accounting Data'!I$2:I$93564,\"24??\",'Accounting Data'!J$2:J$93564,\"61??\")","v":0},{"$f":"SUMIFS('Accounting Data'!C$2:C$93564,'Accounting Data'!E$2:E$93564,\"072\",'Accounting Data'!I$2:I$93564,\"24??\",'Accounting Data'!J$2:J$93564,\"62??\")","v":0},{"$f":"SUMIFS('Accounting Data'!C2:C93564,'Accounting Data'!E2:E93564,\"072\",'Accounting Data'!I2:I93564,\"24??\",'Accounting Data'!J2:J93564,\"63??\")+SUMIFS('Accounting Data'!C2:C93564,'Accounting Data'!E2:E93564,\"072\",'Accounting Data'!I2:I93564,\"24??\",'Accounting Data'!J2:J93564,\"64??\")+SUMIFS('Accounting Data'!C2:C93564,'Accounting Data'!E2:E93564,\"072\",'Accounting Data'!I2:I93564,\"24??\",'Accounting Data'!J2:J93564,\"65??\")","v":0},{"$f":"SUMIFS('Accounting Data'!C2:C93564,'Accounting Data'!E2:E93564,\"072\",'Accounting Data'!I2:I93564,\"24??\",'Accounting Data'!J2:J93564,\"66??\")","v":0},{"$f":"SUMIFS('Accounting Data'!C2:C93564,'Accounting Data'!E2:E93564,\"072\",'Accounting Data'!I2:I93564,\"24??\",'Accounting Data'!J2:J93564,\"67??\")","v":0},{"$f":"SUMIFS('Accounting Data'!C2:C93564,'Accounting Data'!E2:E93564,\"072\",'Accounting Data'!I2:I93564,\"24??\",'Accounting Data'!J2:J93564,\"68??\")","v":0},{"$f":"[1]!F072F2400","v":0},0,null,"21."]
["      2500 Central Services",null,"22.",null,null,{"$f":"SUMIFS('Accounting Data'!C$2:C$93564,'Accounting Data'!E$2:E$93564,\"072\",'Accounting Data'!I$2:I$93564,\"25??\",'Accounting Data'!J$2:J$93564,\"61??\")","v":0},{"$f":"SUMIFS('Accounting Data'!C$2:C$93564,'Accounting Data'!E$2:E$93564,\"072\",'Accounting Data'!I$2:I$93564,\"25??\",'Accounting Data'!J$2:J$93564,\"62??\")","v":0},{"$f":"SUMIFS('Accounting Data'!C2:C93564,'Accounting Data'!E2:E93564,\"072\",'Accounting Data'!I2:I93564,\"25??\",'Accounting Data'!J2:J93564,\"63??\")+SUMIFS('Accounting Data'!C2:C93564,'Accounting Data'!E2:E93564,\"072\",'Accounting Data'!I2:I93564,\"25??\",'Accounting Data'!J2:J93564,\"64??\")+SUMIFS('Accounting Data'!C2:C93564,'Accounting Data'!E2:E93564,\"072\",'Accounting Data'!I2:I93564,\"25??\",'Accounting Data'!J2:J93564,\"65??\")","v":0},{"$f":"SUMIFS('Accounting Data'!C2:C93564,'Accounting Data'!E2:E93564,\"072\",'Accounting Data'!I2:I93564,\"25??\",'Accounting Data'!J2:J93564,\"66??\")","v":0},{"$f":"SUMIFS('Accounting Data'!C2:C93564,'Accounting Data'!E2:E93564,\"072\",'Accounting Data'!I2:I93564,\"25??\",'Accounting Data'!J2:J93564,\"67??\")","v":0},{"$f":"SUMIFS('Accounting Data'!C2:C93564,'Accounting Data'!E2:E93564,\"072\",'Accounting Data'!I2:I93564,\"25??\",'Accounting Data'!J2:J93564,\"68??\")","v":0},{"$f":"[1]!F072F2500","v":0},0,null,"22."]
["      2600 Operation & Maintenance of Plant",null,"23.",null,null,{"$f":"SUMIFS('Accounting Data'!C$2:C$93564,'Accounting Data'!E$2:E$93564,\"072\",'Accounting Data'!I$2:I$93564,\"26??\",'Accounting Data'!J$2:J$93564,\"61??\")","v":0},{"$f":"SUMIFS('Accounting Data'!C$2:C$93564,'Accounting Data'!E$2:E$93564,\"072\",'Accounting Data'!I$2:I$93564,\"26??\",'Accounting Data'!J$2:J$93564,\"62??\")","v":0},{"$f":"SUMIFS('Accounting Data'!C2:C93564,'Accounting Data'!E2:E93564,\"072\",'Accounting Data'!I2:I93564,\"26??\",'Accounting Data'!J2:J93564,\"63??\")+SUMIFS('Accounting Data'!C2:C93564,'Accounting Data'!E2:E93564,\"072\",'Accounting Data'!I2:I93564,\"26??\",'Accounting Data'!J2:J93564,\"64??\")+SUMIFS('Accounting Data'!C2:C93564,'Accounting Data'!E2:E93564,\"072\",'Accounting Data'!I2:I93564,\"26??\",'Accounting Data'!J2:J93564,\"65??\")","v":0},{"$f":"SUMIFS('Accounting Data'!C2:C93564,'Accounting Data'!E2:E93564,\"072\",'Accounting Data'!I2:I93564,\"26??\",'Accounting Data'!J2:J93564,\"66??\")","v":0},{"$f":"SUMIFS('Accounting Data'!C2:C93564,'Accounting Data'!E2:E93564,\"072\",'Accounting Data'!I2:I93564,\"26??\",'Accounting Data'!J2:J93564,\"67??\")","v":0},{"$f":"SUMIFS('Accounting Data'!C2:C93564,'Accounting Data'!E2:E93564,\"072\",'Accounting Data'!I2:I93564,\"26??\",'Accounting Data'!J2:J93564,\"68??\")","v":0},{"$f":"[1]!F072F2600","v":0},0,null,"23."]
["      2700 Student Transportation ",null,"24.",null,null,{"$f":"SUMIFS('Accounting Data'!C$2:C$93564,'Accounting Data'!E$2:E$93564,\"072\",'Accounting Data'!I$2:I$93564,\"27??\",'Accounting Data'!J$2:J$93564,\"61??\")","v":0},{"$f":"SUMIFS('Accounting Data'!C$2:C$93564,'Accounting Data'!E$2:E$93564,\"072\",'Accounting Data'!I$2:I$93564,\"27??\",'Accounting Data'!J$2:J$93564,\"62??\")","v":0},{"$f":"SUMIFS('Accounting Data'!C2:C93564,'Accounting Data'!E2:E93564,\"072\",'Accounting Data'!I2:I93564,\"27??\",'Accounting Data'!J2:J93564,\"63??\")+SUMIFS('Accounting Data'!C2:C93564,'Accounting Data'!E2:E93564,\"072\",'Accounting Data'!I2:I93564,\"27??\",'Accounting Data'!J2:J93564,\"64??\")+SUMIFS('Accounting Data'!C2:C93564,'Accounting Data'!E2:E93564,\"072\",'Accounting Data'!I2:I93564,\"27??\",'Accounting Data'!J2:J93564,\"65??\")","v":0},{"$f":"SUMIFS('Accounting Data'!C2:C93564,'Accounting Data'!E2:E93564,\"072\",'Accounting Data'!I2:I93564,\"27??\",'Accounting Data'!J2:J93564,\"66??\")","v":0},{"$f":"SUMIFS('Accounting Data'!C2:C93564,'Accounting Data'!E2:E93564,\"072\",'Accounting Data'!I2:I93564,\"27??\",'Accounting Data'!J2:J93564,\"67??\")","v":0},{"$f":"SUMIFS('Accounting Data'!C2:C93564,'Accounting Data'!E2:E93564,\"072\",'Accounting Data'!I2:I93564,\"27??\",'Accounting Data'!J2:J93564,\"68??\")","v":0},{"$f":"[1]!F072F2700","v":0},0,null,"24."]
["      2900 Other",null,"25.",null,null,{"$f":"SUMIFS('Accounting Data'!C$2:C$93564,'Accounting Data'!E$2:E$93564,\"072\",'Accounting Data'!I$2:I$93564,\"29??\",'Accounting Data'!J$2:J$93564,\"61??\")","v":0},{"$f":"SUMIFS('Accounting Data'!C$2:C$93564,'Accounting Data'!E$2:E$93564,\"072\",'Accounting Data'!I$2:I$93564,\"29??\",'Accounting Data'!J$2:J$93564,\"62??\")","v":0},{"$f":"SUMIFS('Accounting Data'!C2:C93564,'Accounting Data'!E2:E93564,\"072\",'Accounting Data'!I2:I93564,\"29??\",'Accounting Data'!J2:J93564,\"63??\")+SUMIFS('Accounting Data'!C2:C93564,'Accounting Data'!E2:E93564,\"072\",'Accounting Data'!I2:I93564,\"29??\",'Accounting Data'!J2:J93564,\"64??\")+SUMIFS('Accounting Data'!C2:C93564,'Accounting Data'!E2:E93564,\"072\",'Accounting Data'!I2:I93564,\"29??\",'Accounting Data'!J2:J93564,\"65??\")","v":0},{"$f":"SUMIFS('Accounting Data'!C2:C93564,'Accounting Data'!E2:E93564,\"072\",'Accounting Data'!I2:I93564,\"29??\",'Accounting Data'!J2:J93564,\"66??\")","v":0},{"$f":"SUMIFS('Accounting Data'!C2:C93564,'Accounting Data'!E2:E93564,\"072\",'Accounting Data'!I2:I93564,\"29??\",'Accounting Data'!J2:J93564,\"67??\")","v":0},{"$f":"SUMIFS('Accounting Data'!C2:C93564,'Accounting Data'!E2:E93564,\"072\",'Accounting Data'!I2:I93564,\"29??\",'Accounting Data'!J2:J93564,\"68??\")","v":0},{"$f":"[1]!F072F2900","v":0},0,null,"25."]
["Total (must agree with the AFR page 6, line 4)",null,"26.","COMPINSBFB",{"$f":"E31","v":0},{"$f":"F33+SUM(F35:F42)","v":0},0,0,0,0,0,{"$f":"L32+L34+SUM(L36:L42)","v":0},{"$f":"M32+M34+SUM(M36:M42)","v":0},"COMPINSFUNDENDING","26."]

{"sheet":"Fund Balance Reserve","index":13,"n_rows":47,"n_cols":28,"rows_kept":47,"cut":false,"hidden":false,"merged":[[46,1,50,8],[5,1,6,1],[5,2,5,4],[5,5,5,8],[5,9,5,11],[29,0,29,5],[35,0,36,0],[31,1,31,8],[42,1,42,2],[42,5,42,8],[33,2,33,8],[11,0,11,1],[26,0,26,1],[27,1,27,4],[0,7,0,8],[5,16,6,16],[30,1,30,8],[38,6,38,8],[39,6,39,8],[35,1,36,1],[35,2,36,8],[39,4,39,5],[38,4,38,5],[5,15,6,15],[5,13,6,13],[5,14,6,14],[4,0,4,1],[4,2,4,16],[5,12,6,12]]}
[null,"DISTRICT NAME",{"$f":"CoverDistrictName","v":"Osborn Elementary School District"},null,null,null,"COUNTY",{"$f":"Cover!J1","v":"Maricopa"},null,null,"CTDS NUMBER",{"$f":"CoverCTDS","v":"070408000"}]
[]
["This tab presents information on the amount and planned use of the District's fund balance reserves to increase transparency and provide decision-makers, other stakeholders, and the public more complete financial information. It also presents information about policies or guidelines used to establish target fund balance reserve amounts."]
[]
[null,null,"Funds"]
[null,null,"General Fund*",null,null,"Capital Projects Fund",null,null,null,"Special Revenue Funds",null,null,"Debt Service Funds","Permanent Fund","Enterprise funds","Internal Services Funds","Total all funds"]
[null,null,"Maintenance and Operations Fund","Unrestricted Capital Outlay Fund \n(if included in the General Fund)","Other funds reported in the General Fund","Unrestricted Capital Outlay Fund (if not included in the General Fund)","Bond Building Funds","Adjacent Ways Fund","Other capital projects funds","Classroom Site Fund","Federal and State Grants","Other special revenue funds"]
["Prior year ending fund balance",null,null,null,null,null,null,null,null,null,null,null,null,null,null,null,null,null,null,null,null,null,null,null,null,null,null,"Yes"]
["1.","Ending fund balance reported in FY 2022 AFR",{"$f":"Summary!B18","v":740270},{"$f":"IF(Summary!K21=\"Yes\",Summary!B21,0)","v":0},{"$f":"SUMIF(Summary!K22:K68,\"Yes\",Summary!B22:B68)+SUMIF('Page 5'!K9:K28,\"Yes\",'Page 5'!E9:E28)+SUMIF('Page 5'!K36:K46,\"Yes\",'Page 5'!E36:E46)","v":1275485},{"$f":"IF(Summary!K21=\"No\",Summary!B21,0)","v":4835313},{"$f":"Summary!B24+Summary!B53","v":2407457},{"$f":"Summary!B23","v":0},{"$f":"Summary!B56+Summary!B55+'Page 5'!E28+Summary!B26+IF(Summary!K61=\"No\",Summary!B61,0)+IF(Summary!K32=\"No\",Summary!B32,0)+Summary!B25+IF(Summary!K42=\"No\",Summary!B42,0)","v":668781},{"$f":"Summary!B19","v":1858603},{"$f":"SUM('Page 5'!E9:E21,'Page 5'!E25,'Page 5'!E36:E45)+SUMIF('Page 5'!K22:K24,\"No\",'Page 5'!E22:E24)+SUMIF('Page 5'!K26:K27,\"No\",'Page 5'!E26:E27)+IF('Page 5'!K46=\"No\",'Page 5'!E46,0)","v":2949788},{"$f":"Summary!B34+Summary!B35+Summary!B31+Summary!B29+Summary!B37+Summary!B40+Summary!B33+Summary!B49+Summary!B20+Summary!B48+Summary!B39+Summary!B30+Summary!B43+IF(Summary!K50=\"No\",Summary!B50,0)+IF(Summary!K36=\"No\",Summary!B36,0)+IF(Summary!K38=\"No\",Summary!B38,0)+IF(Summary!K44=\"No\",Summary!B44,0)+IF(Summary!K47=\"No\",Summary!B47,0)+Summary!B51+Summary!B52+Summary!B58+IF(Summary!K41=\"No\",Summary!B41,0)+IF(Summary!K45=\"No\",Summary!B45,0)","v":2426674},{"$f":"Summary!B54+Summary!B57","v":56812},{"$f":"Summary!B62","v":0},{"$f":"IF(Summary!K64=\"No\",Summary!B64,0)","v":0},{"$f":"SUM(Summary!B65:'Summary'!B68)","v":0},{"$f":"SUM(C9:P9)","v":17219183},null,null,null,null,null,null,null,null,null,null,"No"]
["Current year ending fund balance"]
["2.","Total FY 2023 ending fund balance",{"$f":"Summary!I18","v":1807801},{"$f":"IF(Summary!K21=\"Yes\",Summary!I21,0)","v":0},{"$f":"SUMIF(Summary!K22:K68,\"Yes\",Summary!I22:I68)+SUMIF('Page 5'!K9:K28,\"Yes\",'Page 5'!J9:J28)+SUMIF('Page 5'!K36:K46,\"Yes\",'Page 5'!J36:J46)","v":1528274},{"$f":"IF(Summary!K21=\"No\",Summary!I21,0)","v":6172633},{"$f":"Summary!I24+Summary!I53","v":940458},{"$f":"Summary!I23","v":0},{"$f":"Summary!I56+Summary!I55+'Page 5'!J28+Summary!I26+IF(Summary!K61=\"No\",Summary!I61,0)+IF(Summary!K32=\"No\",Summary!I32,0)+Summary!I25+IF(Summary!K42=\"No\",Summary!I42,0)","v":670904},{"$f":"Summary!I19","v":2749511},{"$f":"SUM('Page 5'!J9:J21,'Page 5'!J25,'Page 5'!J36:J45)+SUMIF('Page 5'!K22:K24,\"No\",'Page 5'!J22:J24)+SUMIF('Page 5'!K26:K27,\"No\",'Page 5'!J26:J27)+IF('Page 5'!K46=\"No\",'Page 5'!J46,0)","v":3090201},{"$f":"Summary!I34+Summary!I35+Summary!I31+Summary!I29+Summary!I37+Summary!I40+Summary!I33+Summary!I49+Summary!I20+Summary!I48+Summary!I39+Summary!I30+Summary!I43+IF(Summary!K50=\"No\",Summary!I50,0)+IF(Summary!K36=\"No\",Summary!I36,0)+IF(Summary!K38=\"No\",Summary!I38,0)+IF(Summary!K44=\"No\",Summary!I44,0)+IF(Summary!K47=\"No\",Summary!I47,0)+Summary!I51+Summary!I52+Summary!I58+IF(Summary!K41=\"No\",Summary!I41,0)+IF(Summary!K45=\"No\",Summary!I45,0)","v":2876319},{"$f":"Summary!I54+Summary!I57","v":174939},{"$f":"Summary!I62","v":0},{"$f":"IF(Summary!K64=\"No\",Summary!I64,0)","v":0},{"$f":"SUM(Summary!I65:'Summary'!I68)","v":0},{"$f":"SUM(C11:P11)","v":20011040}]
["FY 2023 ending fund balance details:"]
["3.a","Fund deficit",0,0,0,0,0,0,0,0,0,0,0,0,0,0,{"$f":"SUM(C13:P13)","v":0}]
["3.b","Fund balance exceeding budget capacity in budget-controlled funds",0,0,null,0,null,0,null,0,0,null,null,null,null,null,0]
["3.c","Planned to be spent in FY 2024 to support budgeted spending",927801,0,828274,2500000,940458,0,670904,1249511,3090201,1376319,null,0,0,0,11583468]
["3.d","Maintained for debt retirement after FY 2024",null,null,null,null,null,null,null,null,null,0,174939,0,0,0,174939]
["3.e","Maintained for capital projects after FY 2024",null,0,0,3000000,0,0,0,0,0,0,null,0,0,0,3000000]
["3.f","Maintained for retirement contributions after FY2024",0,0,0,0,0,0,0,0,0,0,null,0,0,0,0]
["3.g","Maintained for self-insurance or OPEB after FY 2024",null,null,null,null,null,null,null,null,null,null,null,null,null,0,0]
["3.h","Maintained for future financial stability",880000,0,700000,672633,0,0,0,1500000,0,1500000,null,0,0,0,5252633]
["3.i","other purposes (Specify)",0,0,0,0,0,0,0,0,0,0,null,0,0,0,0]
["3.j","other purposes (Specify)",0,0,0,0,0,0,0,0,0,0,null,0,0,0,0]
["3.k","Total FY 2023 ending fund balance",{"$f":"IF(ROUND(SUM(C13:C22),0)=ROUND(C11,0),SUM(C13:C22),\"Must equal line 2\")","v":1807801},{"$f":"IF(ROUND(SUM(D13:D22),0)=ROUND(D11,0),SUM(D13:D22),\"Must equal line 2\")","v":0},{"$f":"IF(ROUND(SUM(E13:E22),0)=ROUND(E11,0),SUM(E13:E22),\"Must equal line 2\")","v":1528274},{"$f":"IF(ROUND(SUM(F13:F22),0)=ROUND(F11,0),SUM(F13:F22),\"Must equal line 2\")","v":6172633},{"$f":"IF(ROUND(SUM(G13:G22),0)=ROUND(G11,0),SUM(G13:G22),\"Must equal line 2\")","v":940458},{"$f":"IF(ROUND(SUM(H14:H22),0)=ROUND(H11,0),SUM(H13:H22),\"Must equal line 2\")","v":0},{"$f":"IF(ROUND(SUM(I13:I22),0)=ROUND(I11,0),SUM(I13:I22),\"Must equal line 2\")","v":670904},2749511,3090201,2876319,174939,0,0,0,20011040]
[]
["*See the Summary tab, column K, to identify which funds are included in the General Fund for financial statement reporting purposes."]
[]
["B. Fund balance policy",null,null,null,null,"District establishes a targeted fund balance reserve level? ","Governing Board policy number (indicate \"N/A\" if no policy exists):"]
["1.","Does the District have a process or policy it follows to establish a targeted (goal) fund balance reserve level that the District is working to maintain each year? (Yes or No in cell F28) If the District has an adopted Governing Board policy, enter the policy number in the box provided (cell G28).",null,null,null,"No"]
[]
["If question 1 was answered yes, answer questions 2 through 6 below. All Districts should respond to question 7."]
["2.","Describe the guidance the District used in establishing its adopted reserve level policy and/or used in planning for its FY 2023 targeted fund balance reserve levels: "]
[]
[]
["3.","What funds are included in the District's targeted fund balance reserve?"]
[]
["4.","What, if any, Section A, line 3 fund balance purposes are excluded from the District's targeted fund balance reserve?"]
[]
[]
[null,null,"Percentage",null,"Factor",null,"Additional Information"]
["5.","If the targeted fund balance amount was determined by applying a percentage to a set factor, identify that percentage and factor:",null,"of the Districts'"]
[]
[null,null,null,"Targeted fund balance reserve amount","Actual fund balance reserve amount"]
["6.","Indicate the total targeted fund balance reserve and actual fund balance reserve amounts for the end of FY 2023. ",null,null,null,{"$f":"IF(OR(D43=\"\",E43=\"\"),\"\",\"District's fund balance reserve \"&IF(D43<E43,\"exceeds\",IF(D43=E43,\"meets\",\"does not meet\"))&\" its targeted fund balance.\")","v":""}]
[]
["All Districts should respond to question 7."]
["7.","The District plans to take the following actions related to its ending fund balance in FY 2024 and thereafter:"]
[null,"The fund balance will used first ahead of other revenues toward FY2024 expenditures."]

{"sheet":"Coding Errors","index":14,"n_rows":97,"n_cols":30,"rows_kept":97,"cut":false,"hidden":false,"merged":[[2,1,3,6],[5,1,6,6],[8,1,9,6],[11,1,12,6],[13,5,13,6],[62,25,68,25],[62,20,68,20],[62,21,68,21],[62,22,68,22],[62,23,68,23],[62,24,68,24]]}
[null,"DISTRICT NAME",{"$f":"CoverDistrictName","v":"Osborn Elementary School District"},null,"COUNTY",{"$f":"County","v":"Maricopa"},null,"CTDS NUMBER",{"$f":"CoverCTDS","v":"070408000"}]
[]
[null,"This page identifies coding errors noted in the district's accounting records. The formulas on pages 1 through 4 and 9 will not include these miscoded amounts. Miscodings are identified in column G by pink or purple highlighting and must be corrected, before submitting the AFR, as described below."]
[]
[]
[null,"Amounts identified in pink highlighted cells will materially misstate the amounts reported on the respective pages. Districts with amounts shown in pink-shaded cells will need to make journal entries in their accounting records to bring total miscoded amounts for the fund or page, as applicable, below the respective threshold amount shown in Column J."]
[]
[]
[null,"Amounts identified in purple highlighted cells should not be coded to the fund or object used, as applicable. Districts with amounts shown in purple-shaded cells will need to make journal entries in their accounting records to correct the fund or object code, as applicable, for each line. "]
[]
[]
[null,"After corrections have been made in the accounting records, districts should upload the corrected version of their accounting records into the Accounting Data tab. Districts may use a new copy of the AFR file or should follow step 18 in the \"Checking and copying your data to the AFR file\" section of the Data Uploading Instructions (linked below). "]
[]
[null,"Data Uploading Instructions",null,null,null,"USFR Chart of Accounts"]
[]
[]
[null,"Revenue object code corrections needed for accurate reporting on Page 1",null,null,null,null,{"$f":"IF(OR(G20>J20,(G21+G22+G23)>J21,(G24+G25+G26)>J24,G27>J27),\"Material miscoding identified below\",\"\")","v":""}]
[]
[null,"Issue","Fund","Program","Function","Object","Identified Miscoding Amount",null,null,"Page 1 Thresholds"]
["1.","Federal revenues are not allowed in Fund 610","610",null,null,"4000-4999",{"$f":"-(SUMIFS('Accounting Data'!$C$2:$C$93564,'Accounting Data'!$E$2:$E$93564,\"610\",'Accounting Data'!$J$2:$J$93564,\"4???\"))","v":0},"1.","610",{"$f":"('Page 1'!$F$50)*0.1","v":273307}]
["2.","County revenues are not allowed in Fund 620","620",null,null,"2000-2999",{"$f":"-(SUMIFS('Accounting Data'!$C$2:$C$93564,'Accounting Data'!$E$2:$E$93564,\"620\",'Accounting Data'!$J$2:$J$93564,\"2???\"))","v":0},"2.","620",{"$f":"('Page 1'!$G$50)*0.1","v":0}]
["3.","State revenues are not allowed in Fund 620","620",null,null,"3000-3999",{"$f":"-(SUMIFS('Accounting Data'!$C$2:$C$93564,'Accounting Data'!$E$2:$E$93564,\"620\",'Accounting Data'!$J$2:$J$93564,\"3???\"))","v":0},"3."]
["4.","Federal revenues are not allowed in Fund 620","620",null,null,"4000-4999",{"$f":"-(SUMIFS('Accounting Data'!$C$2:$C$93564,'Accounting Data'!$E$2:$E$93564,\"620\",'Accounting Data'!$J$2:$J$93564,\"4???\"))","v":0},"4."]
["5.","County revenues are not allowed in Fund 630","630",null,null,"2000-2999",{"$f":"-(SUMIFS('Accounting Data'!$C$2:$C$93564,'Accounting Data'!$E$2:$E$93564,\"630\",'Accounting Data'!$J$2:$J$93564,\"2???\"))","v":0},"5.","630",{"$f":"('Page 1'!$H$50)*0.1","v":0}]
["6.","State revenues are not allowed in Fund 630","630",null,null,"3000-3999",{"$f":"-(SUMIFS('Accounting Data'!$C$2:$C$93564,'Accounting Data'!$E$2:$E$93564,\"630\",'Accounting Data'!$J$2:$J$93564,\"3???\"))","v":0},"6."]
["7.","Federal revenues are not allowed in Fund 630","630",null,null,"4000-4999",{"$f":"-(SUMIFS('Accounting Data'!$C$2:$C$93564,'Accounting Data'!$E$2:$E$93564,\"630\",'Accounting Data'!$J$2:$J$93564,\"4???\"))","v":0},"7."]
["8.","County revenues are not allowed in Fund 700","700",null,null,"2000-2999",{"$f":"-(SUMIFS('Accounting Data'!$C$2:$C$93564,'Accounting Data'!$E$2:$E$93564,\"700\",'Accounting Data'!$J$2:$J$93564,\"2???\"))","v":0},"8.","700",{"$f":"('Page 1'!$I$50)*0.1","v":721783}]
[]
[null,"Maintenance and Operations Fund corrections needed for accurate reporting on Page 2",null,null,null,null,{"$f":"IF(G32+G33+G34+G35+G37+G38+G40>J32,\"Material miscoding identified below\",\"\")","v":""}]
[]
[null,"Issue","Fund","Program","Function","Object","Identified Miscoding Amount",null,null,"Page 2 Threshold"]
["9.","Do not use Program codes 000-099","001","000-099",null,"6100-6899",{"$f":"SUMIFS('Accounting Data'!$C$2:$C$93564,'Accounting Data'!$E$2:$E$93564,\"001\",'Accounting Data'!$H$2:$H$93564,\"0??\",'Accounting Data'!$J$2:$J$93564,\"6???\")-SUMIFS('Accounting Data'!$C$2:$C$93564,'Accounting Data'!$E$2:$E$93564,\"001\",'Accounting Data'!$H$2:$H$93564,\"0??\",'Accounting Data'!$J$2:$J$93564,\"69??\")","v":0},"9.",null,{"$f":"($G$32+$G$33+$G$34+$G$35+$G$37+$G$38+$G$40+'Page 2'!$J$46)*0.1","v":1872431}]
["10.","Expenditures in Function 2700 not coded to Programs 400, 513","001","100-399, 500-512, 514-999","2700-2799","6100-6899",{"$f":"(SUMIFS('Accounting Data'!C2:C59100,'Accounting Data'!E2:E59100,\"001\",'Accounting Data'!I2:I59100,\"27??\",'Accounting Data'!J2:J59100,\"6???\")-SUMIFS('Accounting Data'!C2:C59100,'Accounting Data'!E2:E59100,\"001\",'Accounting Data'!I2:I59100,\"27??\",'Accounting Data'!J2:J59100,\"69??\"))-(SUMIFS('Accounting Data'!C2:C59100,'Accounting Data'!E2:E59100,\"001\",'Accounting Data'!H2:H59100,\"4??\",'Accounting Data'!I2:I59100,\"27??\",'Accounting Data'!J2:J59100,\"6???\")-SUMIFS('Accounting Data'!C2:C59100,'Accounting Data'!E2:E59100,\"001\",'Accounting Data'!H2:H59100,\"4??\",'Accounting Data'!I2:I59100,\"27??\",'Accounting Data'!J2:J59100,\"69??\"))-(SUMIFS('Accounting Data'!C2:C59100,'Accounting Data'!E2:E59100,\"001\",'Accounting Data'!H2:H59100,\"51?\",'Accounting Data'!I2:I59100,\"27??\",'Accounting Data'!J2:J59100,\"6???\")-SUMIFS('Accounting Data'!C2:C59100,'Accounting Data'!E2:E59100,\"001\",'Accounting Data'!H2:H59100,\"51?\",'Accounting Data'!I2:I59100,\"27??\",'Accounting Data'!J2:J59100,\"69??\"))","v":0},"10."]
["11.","Expenditures coded to unallowable 500 range programs","001","500-510, 520-529, 540-549, 560-599",null,"6100-6899",{"$f":"(SUMIFS('Accounting Data'!C2:C93564,'Accounting Data'!E2:E93564,\"001\",'Accounting Data'!H2:H93564,\"5??\",'Accounting Data'!J2:J93564,\"6???\")-SUMIFS('Accounting Data'!C2:C93564,'Accounting Data'!E2:E93564,\"001\",'Accounting Data'!H2:H93564,\"5??\",'Accounting Data'!J2:J93564,\"69??\"))-(SUMIFS('Accounting Data'!C2:C93564,'Accounting Data'!E2:E93564,\"001\",'Accounting Data'!H2:H93564,\"51?\",'Accounting Data'!J2:J93564,\"6???\")-SUMIFS('Accounting Data'!C2:C93564,'Accounting Data'!E2:E93564,\"001\",'Accounting Data'!H2:H93564,\"51?\",'Accounting Data'!J2:J93564,\"69??\"))-(SUMIFS('Accounting Data'!C2:C93564,'Accounting Data'!E2:E93564,\"001\",'Accounting Data'!H2:H93564,\"53?\",'Accounting Data'!J2:J93564,\"6???\")-SUMIFS('Accounting Data'!C2:C93564,'Accounting Data'!E2:E93564,\"001\",'Accounting Data'!H2:H93564,\"53?\",'Accounting Data'!J2:J93564,\"69??\"))-(SUMIFS('Accounting Data'!C2:C93564,'Accounting Data'!E2:E93564,\"001\",'Accounting Data'!H2:H93564,\"55?\",'Accounting Data'!J2:J93564,\"6???\")-SUMIFS('Accounting Data'!C2:C93564,'Accounting Data'!E2:E93564,\"001\",'Accounting Data'!H2:H93564,\"55?\",'Accounting Data'!J2:J93564,\"69??\"))","v":0},"11."]
["12.","Expenditures coded to unallowable 600 range programs","001","600-609, 640-699",null,"6100-6899",{"$f":"(SUMIFS('Accounting Data'!C2:C93564,'Accounting Data'!E2:E93564,\"001\",'Accounting Data'!H2:H93564,\"6??\",'Accounting Data'!J2:J93564,\"6???\")-SUMIFS('Accounting Data'!C2:C93564,'Accounting Data'!E2:E93564,\"001\",'Accounting Data'!H2:H93564,\"6??\",'Accounting Data'!J2:J93564,\"69??\"))-(SUMIFS('Accounting Data'!C2:C93564,'Accounting Data'!E2:E93564,\"001\",'Accounting Data'!H2:H93564,\"61?\",'Accounting Data'!J2:J93564,\"6???\")-SUMIFS('Accounting Data'!C2:C93564,'Accounting Data'!E2:E93564,\"001\",'Accounting Data'!H2:H93564,\"61?\",'Accounting Data'!J2:J93564,\"69??\"))-(SUMIFS('Accounting Data'!C2:C93564,'Accounting Data'!E2:E93564,\"001\",'Accounting Data'!H2:H93564,\"62?\",'Accounting Data'!J2:J93564,\"6???\")-SUMIFS('Accounting Data'!C2:C93564,'Accounting Data'!E2:E93564,\"001\",'Accounting Data'!H2:H93564,\"62?\",'Accounting Data'!J2:J93564,\"69??\"))-(SUMIFS('Accounting Data'!C2:C93564,'Accounting Data'!E2:E93564,\"001\",'Accounting Data'!H2:H93564,\"63?\",'Accounting Data'!J2:J93564,\"6???\")-SUMIFS('Accounting Data'!C2:C93564,'Accounting Data'!E2:E93564,\"001\",'Accounting Data'!H2:H93564,\"63?\",'Accounting Data'!J2:J93564,\"69??\"))","v":0},"12."]
[]
["13.","Function 4000 not allowed in Fund 001","001",null,"4000-4999","6100-6899",{"$f":"SUMIFS('Accounting Data'!C2:C93564,'Accounting Data'!E2:E93564,\"001\",'Accounting Data'!I2:I93564,\"4???\",'Accounting Data'!J2:J93564,\"6???\")-SUMIFS('Accounting Data'!C2:C93564,'Accounting Data'!E2:E93564,\"001\",'Accounting Data'!I2:I93564,\"4???\",'Accounting Data'!J2:J93564,\"69??\")","v":0},"13."]
["14.","Function 5000 not allowed in Fund 001","001",null,"5000-5999","6100-6899",{"$f":"SUMIFS('Accounting Data'!C2:C93564,'Accounting Data'!E2:E93564,\"001\",'Accounting Data'!I2:I93564,\"5???\",'Accounting Data'!J2:J93564,\"6???\")-SUMIFS('Accounting Data'!C2:C93564,'Accounting Data'!E2:E93564,\"001\",'Accounting Data'!I2:I93564,\"5???\",'Accounting Data'!J2:J93564,\"69??\")","v":0},"14."]
[]
["15.","Expenditures for Object 6700 are not allowed in Fund 001","001",null,null,"6700-6799",{"$f":"SUMIFS('Accounting Data'!C2:C93564,'Accounting Data'!E2:E93564,\"001\",'Accounting Data'!J2:J93564,\"67??\")","v":0},"15."]
[]
[null,"Classroom Site Fund corrections needed for accurate reporting on Page 3",null,null,null,null,{"$f":"IF(OR(G45>J45,G46+G47+G48+G49+G50+G51+G52>J46),\"Material miscoding identified below\",\"\")","v":""}]
[]
[null,"Issue","Fund","Program","Function","Object","Identified Miscoding Amount",null,null,"Page 3 Thresholds"]
["16.","Unallowable revenues coded to Fund 010","010",null,null,"1000-1499, 1600-1979,\n2000-2999, 4000-4999",{"$f":"-(SUM(SUMIFS('Accounting Data'!C2:C93564,'Accounting Data'!E2:E93564,\"010\",'Accounting Data'!J2:J93564,{\"10??\",\"11??\",\"12??\",\"13??\",\"14??\",\"16??\",\"17??\",\"18??\",\"190?\",\"191?\",\"192?\",\"193?\",\"194?\",\"195?\",\"196?\",\"197?\",\"2???\",\"4???\"})))","v":0},"16.",null,{"$f":"('Page 3'!$E$21)*0.1","v":200026}]
["17.","Function 2300 should only be coded to object 652X","010",null,"2300","6000-6519, 6530-6800",{"$f":"SUMIFS('Accounting Data'!C2:C93564,'Accounting Data'!E2:E93564,\"010\",'Accounting Data'!I2:I93564,\"23??\",'Accounting Data'!J2:J93564,\"6???\")-SUMIFS('Accounting Data'!C2:C93564,'Accounting Data'!E2:E93564,\"010\",'Accounting Data'!I2:I93564,\"23??\",'Accounting Data'!J2:J93564,\"652?\")","v":0},"17.",null,{"$f":"(G46+G47+G48+G49+G50+G51+G52+'Page 3'!$M$21)*0.1","v":110935}]
["18.","Object 6100 should not be coded to Function codes 2300-3200 and 3400-5000","010",null,"2300-3200, 3400-5000","6100",{"$f":"SUM(SUMIFS('Accounting Data'!C2:C93564,'Accounting Data'!E2:E93564,\"010\",'Accounting Data'!I2:I93564,{\"23??\",\"24??\",\"25??\",\"26??\",\"27??\",\"28??\",\"29??\",\"30??\",\"31??\",\"32??\",\"34??\",\"35??\",\"36??\",\"37??\",\"38??\",\"39??\",\"4???\",\"5???\"},'Accounting Data'!J2:J93564,\"61??\"))","v":0},"18."]
["19.","Object 6200 should not be coded to Function codes 2300-3200 and 3400-5000","010",null,"2300-3200, 3400-5000","6200",{"$f":"SUM(SUMIFS('Accounting Data'!C2:C93564,'Accounting Data'!E2:E93564,\"010\",'Accounting Data'!I2:I93564,{\"23??\",\"24??\",\"25??\",\"26??\",\"27??\",\"28??\",\"29??\",\"30??\",\"31??\",\"32??\",\"34??\",\"35??\",\"36??\",\"37??\",\"38??\",\"39??\",\"4???\",\"5???\"},'Accounting Data'!J2:J93564,\"62??\"))","v":0},"19."]
["20.","Object 6300,6400,6500 should not be coded to Function codes 2400-3200 and 3400-5000","010",null,"2400-3200, 3400-5000","6300, 6400, 6500",{"$f":"SUM(SUMIFS('Accounting Data'!C2:C93564,'Accounting Data'!E2:E93564,\"010\",'Accounting Data'!I2:I93564,{\"24??\",\"25??\",\"26??\",\"27??\",\"28??\",\"29??\",\"30??\",\"31??\",\"32??\",\"34??\",\"35??\",\"36??\",\"37??\",\"38??\",\"39??\",\"4???\",\"5???\"},'Accounting Data'!J2:J93564,\"63??\"))+SUM(SUMIFS('Accounting Data'!C2:C93564,'Accounting Data'!E2:E93564,\"010\",'Accounting Data'!I2:I93564,{\"24??\",\"25??\",\"26??\",\"27??\",\"28??\",\"29??\",\"30??\",\"31??\",\"32??\",\"34??\",\"35??\",\"36??\",\"37??\",\"38??\",\"39??\",\"4???\",\"5???\"},'Accounting Data'!J2:J93564,\"64??\"))+SUM(SUMIFS('Accounting Data'!C2:C93564,'Accounting Data'!E2:E93564,\"010\",'Accounting Data'!I2:I93564,{\"24??\",\"25??\",\"26??\",\"27??\",\"28??\",\"29??\",\"30??\",\"31??\",\"32??\",\"34??\",\"35??\",\"36??\",\"37??\",\"38??\",\"39??\",\"4???\",\"5???\"},'Accounting Data'!J2:J93564,\"65??\"))","v":0},"20.",null,null,null,null,null,null,null,null,null,null,null,null,null,null,null,null,null,null,{"$f":"SUMIFS('Accounting Data'!C2:C93564,'Accounting Data'!E2:E93564,\"010\",'Accounting Data'!I2:I93564,\"25??\",'Accounting Data'!J2:J93564,\"65??\")+SUMIFS('Accounting Data'!C2:C93564,'Accounting Data'!E2:E93564,\"010\",'Accounting Data'!I2:I93564,\"26??\",'Accounting Data'!J2:J93564,\"65??\")+SUMIFS('Accounting Data'!C2:C93564,'Accounting Data'!E2:E93564,\"010\",'Accounting Data'!I2:I93564,\"27??\",'Accounting Data'!J2:J93564,\"65??\")+SUMIFS('Accounting Data'!C2:C93564,'Accounting Data'!E2:E93564,\"010\",'Accounting Data'!I2:I93564,\"28??\",'Accounting Data'!J2:J93564,\"65??\")+SUMIFS('Accounting Data'!C2:C93564,'Accounting Data'!E2:E93564,\"010\",'Accounting Data'!I2:I93564,\"29??\",'Accounting Data'!J2:J93564,\"65??\")+SUMIFS('Accounting Data'!C2:C93564,'Accounting Data'!E2:E93564,\"010\",'Accounting Data'!I2:I93564,\"4???\",'Accounting Data'!J2:J93564,\"65??\")+SUMIFS('Accounting Data'!C2:C93564,'Accounting Data'!E2:E93564,\"010\",'Accounting Data'!I2:I93564,\"5???\",'Accounting Data'!J2:J93564,\"65??\")","v":0}]
["21.","Object 6600 should not be coded to Function codes 2300-5000","010",null,"2300-5000","6600",{"$f":"SUM(SUMIFS('Accounting Data'!C2:C93564,'Accounting Data'!E2:E93564,\"010\",'Accounting Data'!I2:I93564,{\"23??\",\"24??\",\"25??\",\"26??\",\"27??\",\"28??\",\"29??\",\"3???\",\"4???\",\"5???\"},'Accounting Data'!J2:J93564,\"66??\"))","v":0},"21."]
["22.","Object 6700 should not be coded to Function codes 2200-3900 and 5000","010",null,"2200-3900, 5000","6700",{"$f":"SUM(SUMIFS('Accounting Data'!C2:C93564,'Accounting Data'!E2:E93564,\"010\",'Accounting Data'!I2:I93564,{\"22??\",\"23??\",\"24??\",\"25??\",\"26??\",\"27??\",\"28??\",\"29??\",\"3???\",\"5???\"},'Accounting Data'!J2:J93564,\"67??\"))","v":0},"22.",null,null,null,null,null,null,null,null,null,null,null,null,null,null,null,null,null,null,{"$f":"SUMIFS('Accounting Data'!C2:C93564,'Accounting Data'!E2:E93564,\"010\",'Accounting Data'!I2:I93564,\"33??\",'Accounting Data'!J2:J93564,\"67??\")+SUMIFS('Accounting Data'!C2:C93564,'Accounting Data'!E2:E93564,\"010\",'Accounting Data'!I2:I93564,\"34??\",'Accounting Data'!J2:J93564,\"67??\")+SUMIFS('Accounting Data'!C2:C93564,'Accounting Data'!E2:E93564,\"010\",'Accounting Data'!I2:I93564,\"35??\",'Accounting Data'!J2:J93564,\"67??\")+SUMIFS('Accounting Data'!C2:C93564,'Accounting Data'!E2:E93564,\"010\",'Accounting Data'!I2:I93564,\"36??\",'Accounting Data'!J2:J93564,\"67??\")+SUMIFS('Accounting Data'!C2:C93564,'Accounting Data'!E2:E93564,\"010\",'Accounting Data'!I2:I93564,\"37??\",'Accounting Data'!J2:J93564,\"67??\")+SUMIFS('Accounting Data'!C2:C93564,'Accounting Data'!E2:E93564,\"010\",'Accounting Data'!I2:I93564,\"38??\",'Accounting Data'!J2:J93564,\"67??\")+SUMIFS('Accounting Data'!C2:C93564,'Accounting Data'!E2:E93564,\"010\",'Accounting Data'!I2:I93564,\"39??\",'Accounting Data'!J2:J93564,\"67??\")+SUMIFS('Accounting Data'!C2:C93564,'Accounting Data'!E2:E93564,\"010\",'Accounting Data'!I2:I93564,\"5???\",'Accounting Data'!J2:J93564,\"67??\")","v":0}]
["23.","Object 6800 should not be coded to Function codes 2300-2400 and 2600-4000","010",null,"2300-2400, 2600-4000","6800",{"$f":"SUM(SUMIFS('Accounting Data'!C2:C93564,'Accounting Data'!E2:E93564,\"010\",'Accounting Data'!I2:I93564,{\"23??\",\"24??\",\"26??\",\"27??\",\"28??\",\"29\",\"30??\",\"31??\",\"32??\",\"33??\",\"34??\",\"35??\",\"36??\",\"37??\",\"38??\",\"39??\",\"4???\"},'Accounting Data'!J2:J93564,\"68??\"))","v":0},"23."]
[]
[]
[]
[null,"Unrestricted Capital Outlay Fund corrections needed for accurate reporting on Page 4",null,null,null,null,{"$f":"IF(OR(G59>J59,G60>J60,G61>J61,G62>J62),\"Material miscoding identified below\",\"\")","v":""}]
[]
[null,"Issue","Fund","Program","Function","Object","Identified Miscoding Amount",null,null,"Page 4 Thresholds"]
["24.","Object 6730 should be coded to 6731-6739","610",null,null,"6730",{"$f":"SUMIFS('Accounting Data'!$C$2:$C$93564,'Accounting Data'!$E$2:$E$93564,\"610\",'Accounting Data'!$J$2:$J$93564,\"6730\")","v":0},"24.","610",{"$f":"($G$59+'Page 4'!$E$28)*0.1","v":139575}]
["25.","Object 6730 should be coded to 6731-6739","620",null,null,"6730",{"$f":"SUMIFS('Accounting Data'!$C$2:$C$93564,'Accounting Data'!$E$2:$E$93564,\"620\",'Accounting Data'!$J$2:$J$93564,\"6730\")","v":0},"25.","620",{"$f":"($G$60+'Page 4'!$K$28)*0.1","v":0}]
["26.","Object 6730 should be coded to 6731-6739","630",null,null,"6730",{"$f":"SUMIFS('Accounting Data'!$C$2:$C$93564,'Accounting Data'!$E$2:$E$93564,\"630\",'Accounting Data'!$J$2:$J$93564,\"6730\")","v":0},"26.","630",{"$f":"($G$61+'Page 4'!$G$28)*0.1","v":146700}]
["27.","Object 6730 should be coded to 6731-6739","695",null,null,"6730",{"$f":"SUMIFS('Accounting Data'!$C$2:$C$93564,'Accounting Data'!$E$2:$E$93564,\"695\",'Accounting Data'!$J$2:$J$93564,\"6730\")","v":0},"27.","695",{"$f":"($G$62+'Page 4'!$I$28)*0.1","v":0}]
[]
[null,"National Public Education Financial Survey (NPEFS) Reporting corrections needed for accurate reporting on Page 9 (all funds 001-799, except 575)",null,null,null,null,{"$f":"IF(SUM(G67:G97)>J67,\"Material miscoding identified below\",\"\")","v":""}]
[]
[null,"Issue","Fund","Program","Function","Object","Identified Miscoding Amount",null,null,"Page 9 Threshold"]
["28.","Do not use Program codes 700-900 for Function 2700","001-799 (excl. 575)","700-999","2700-2799","6100-6899",{"$f":"AA67-AB67-AC67-AD67","v":0},"28.",null,{"$f":"(SUM($G$67:$G$97)+'Page 9'!$N$24+'Page 9'!$N$27+'Page 9'!$N$28)*0.1","v":4371926},null,null,null,null,null,null,null,null,null,null,null,null,null,null,null,null,{"$f":"(SUMIFS('Accounting Data'!C2:C93564,'Accounting Data'!H2:H93564,\"7??\",'Accounting Data'!I2:I93564,\"27??\",'Accounting Data'!J2:J93564,\"6???\")+SUMIFS('Accounting Data'!C2:C93564,'Accounting Data'!H2:H93564,\"8??\",'Accounting Data'!I2:I93564,\"27??\",'Accounting Data'!J2:J93564,\"6???\")+SUMIFS('Accounting Data'!C2:C93564,'Accounting Data'!H2:H93564,\"9??\",'Accounting Data'!I2:I93564,\"27??\",'Accounting Data'!J2:J93564,\"6???\"))-(SUMIFS('Accounting Data'!C2:C93564,'Accounting Data'!H2:H93564,\"7??\",'Accounting Data'!I2:I93564,\"27??\",'Accounting Data'!J2:J93564,\"69??\")+SUMIFS('Accounting Data'!C2:C93564,'Accounting Data'!H2:H93564,\"8??\",'Accounting Data'!I2:I93564,\"27??\",'Accounting Data'!J2:J93564,\"69??\")+SUMIFS('Accounting Data'!C2:C93564,'Accounting Data'!H2:H93564,\"9??\",'Accounting Data'!I2:I93564,\"27??\",'Accounting Data'!J2:J93564,\"69??\"))","v":0},{"$f":"(SUMIFS('Accounting Data'!C2:C93564,'Accounting Data'!E2:E93564,\"575\",'Accounting Data'!H2:H93564,\"7??\",'Accounting Data'!I2:I93564,\"27??\",'Accounting Data'!J2:J93564,\"6???\")+SUMIFS('Accounting Data'!C2:C93564,'Accounting Data'!E2:E93564,\"575\",'Accounting Data'!H2:H93564,\"8??\",'Accounting Data'!I2:I93564,\"27??\",'Accounting Data'!J2:J93564,\"6???\")+SUMIFS('Accounting Data'!C2:C93564,'Accounting Data'!E2:E93564,\"575\",'Accounting Data'!H2:H93564,\"9??\",'Accounting Data'!I2:I93564,\"27??\",'Accounting Data'!J2:J93564,\"6???\"))-(SUMIFS('Accounting Data'!C2:C93564,'Accounting Data'!E2:E93564,\"575\",'Accounting Data'!H2:H93564,\"7??\",'Accounting Data'!I2:I93564,\"27??\",'Accounting Data'!J2:J93564,\"69??\")+SUMIFS('Accounting Data'!C2:C93564,'Accounting Data'!E2:E93564,\"575\",'Accounting Data'!H2:H93564,\"8??\",'Accounting Data'!I2:I93564,\"27??\",'Accounting Data'!J2:J93564,\"69??\")+SUMIFS('Accounting Data'!C2:C93564,'Accounting Data'!E2:E93564,\"575\",'Accounting Data'!H2:H93564,\"9??\",'Accounting Data'!I2:I93564,\"27??\",'Accounting Data'!J2:J93564,\"69??\"))","v":0},{"$f":"(SUMIFS('Accounting Data'!C2:C93564,'Accounting Data'!E2:E93564,\"8??\",'Accounting Data'!H2:H93564,\"7??\",'Accounting Data'!I2:I93564,\"27??\",'Accounting Data'!J2:J93564,\"6???\")+SUMIFS('Accounting Data'!C2:C93564,'Accounting Data'!E2:E93564,\"8??\",'Accounting Data'!H2:H93564,\"8??\",'Accounting Data'!I2:I93564,\"27??\",'Accounting Data'!J2:J93564,\"6???\")+SUMIFS('Accounting Data'!C2:C93564,'Accounting Data'!E2:E93564,\"8??\",'Accounting Data'!H2:H93564,\"9??\",'Accounting Data'!I2:I93564,\"27??\",'Accounting Data'!J2:J93564,\"6???\"))-(SUMIFS('Accounting Data'!C2:C93564,'Accounting Data'!E2:E93564,\"8??\",'Accounting Data'!H2:H93564,\"7??\",'Accounting Data'!I2:I93564,\"27??\",'Accounting Data'!J2:J93564,\"69??\")+SUMIFS('Accounting Data'!C2:C93564,'Accounting Data'!E2:E93564,\"8??\",'Accounting Data'!H2:H93564,\"8??\",'Accounting Data'!I2:I93564,\"27??\",'Accounting Data'!J2:J93564,\"69??\")+SUMIFS('Accounting Data'!C2:C93564,'Accounting Data'!E2:E93564,\"8??\",'Accounting Data'!H2:H93564,\"9??\",'Accounting Data'!I2:I93564,\"27??\",'Accounting Data'!J2:J93564,\"69??\"))","v":0},{"$f":"(SUMIFS('Accounting Data'!C2:C93564,'Accounting Data'!E2:E93564,\"9??\",'Accounting Data'!H2:H93564,\"7??\",'Accounting Data'!I2:I93564,\"27??\",'Accounting Data'!J2:J93564,\"6???\")+SUMIFS('Accounting Data'!C2:C93564,'Accounting Data'!E2:E93564,\"9??\",'Accounting Data'!H2:H93564,\"8??\",'Accounting Data'!I2:I93564,\"27??\",'Accounting Data'!J2:J93564,\"6???\")+SUMIFS('Accounting Data'!C2:C93564,'Accounting Data'!E2:E93564,\"9??\",'Accounting Data'!H2:H93564,\"9??\",'Accounting Data'!I2:I93564,\"27??\",'Accounting Data'!J2:J93564,\"6???\"))-(SUMIFS('Accounting Data'!C2:C93564,'Accounting Data'!E2:E93564,\"9??\",'Accounting Data'!H2:H93564,\"7??\",'Accounting Data'!I2:I93564,\"27??\",'Accounting Data'!J2:J93564,\"69??\")+SUMIFS('Accounting Data'!C2:C93564,'Accounting Data'!E2:E93564,\"9??\",'Accounting Data'!H2:H93564,\"8??\",'Accounting Data'!I2:I93564,\"27??\",'Accounting Data'!J2:J93564,\"69??\")+SUMIFS('Accounting Data'!C2:C93564,'Accounting Data'!E2:E93564,\"9??\",'Accounting Data'!H2:H93564,\"9??\",'Accounting Data'!I2:I93564,\"27??\",'Accounting Data'!J2:J93564,\"69??\"))","v":0}]
[]
["29.","Do not use Function codes 0000-0999","001-799 (excl. 575)",null,"0000-0999","6100-6899",{"$f":"(SUMIFS('Accounting Data'!C2:C93564,'Accounting Data'!I2:I93564,\"0???\",'Accounting Data'!J2:J93564,\"6???\")-SUMIFS('Accounting Data'!C2:C93564,'Accounting Data'!I2:I93564,\"0???\",'Accounting Data'!J2:J93564,\"69??\"))-((SUMIFS('Accounting Data'!C2:C93564,'Accounting Data'!E2:E93564,\"575\",'Accounting Data'!I2:I93564,\"0???\",'Accounting Data'!J2:J93564,\"6???\")-(SUMIFS('Accounting Data'!C2:C93564,'Accounting Data'!E2:E93564,\"575\",'Accounting Data'!I2:I93564,\"0???\",'Accounting Data'!J2:J93564,\"69??\")-(SUMIFS('Accounting Data'!C2:C93564,'Accounting Data'!E2:E93564,\"8??\",'Accounting Data'!I2:I93564,\"0???\",'Accounting Data'!J2:J93564,\"6???\")-(SUMIFS('Accounting Data'!C2:C93564,'Accounting Data'!E2:E93564,\"8??\",'Accounting Data'!I2:I93564,\"0???\",'Accounting Data'!J2:J93564,\"69??\")-(SUMIFS('Accounting Data'!C2:C93564,'Accounting Data'!E2:E93564,\"9??\",'Accounting Data'!I2:I93564,\"0???\",'Accounting Data'!J2:J93564,\"6???\")-(SUMIFS('Accounting Data'!C2:C93564,'Accounting Data'!E2:E93564,\"9??\",'Accounting Data'!I2:I93564,\"0???\",'Accounting Data'!J2:J93564,\"69??\"))))))))","v":0},"29."]
["30.","Do not use Function codes 2000-2099","001-799 (excl. 575)",null,"2000-2099","6100-6899",{"$f":"(SUMIFS('Accounting Data'!C2:C93564,'Accounting Data'!I2:I93564,\"20??\",'Accounting Data'!J2:J93564,\"6???\")-SUMIFS('Accounting Data'!C2:C93564,'Accounting Data'!I2:I93564,\"20??\",'Accounting Data'!J2:J93564,\"69??\"))-((SUMIFS('Accounting Data'!C2:C93564,'Accounting Data'!E2:E93564,\"575\",'Accounting Data'!I2:I93564,\"20??\",'Accounting Data'!J2:J93564,\"6???\")-(SUMIFS('Accounting Data'!C2:C93564,'Accounting Data'!E2:E93564,\"575\",'Accounting Data'!I2:I93564,\"20??\",'Accounting Data'!J2:J93564,\"69??\")-(SUMIFS('Accounting Data'!C2:C93564,'Accounting Data'!E2:E93564,\"8??\",'Accounting Data'!I2:I93564,\"20??\",'Accounting Data'!J2:J93564,\"6???\")-(SUMIFS('Accounting Data'!C2:C93564,'Accounting Data'!E2:E93564,\"8??\",'Accounting Data'!I2:I93564,\"20??\",'Accounting Data'!J2:J93564,\"69??\")-(SUMIFS('Accounting Data'!C2:C93564,'Accounting Data'!E2:E93564,\"9??\",'Accounting Data'!I2:I93564,\"20??\",'Accounting Data'!J2:J93564,\"6???\")-(SUMIFS('Accounting Data'!C2:C93564,'Accounting Data'!E2:E93564,\"9??\",'Accounting Data'!I2:I93564,\"20??\",'Accounting Data'!J2:J93564,\"69??\"))))))))","v":0},"30."]
["31.","Do not use Function codes 2800-2899","001-799 (excl. 575)",null,"2800-2899","6100-6899",{"$f":"(SUMIFS('Accounting Data'!C2:C93564,'Accounting Data'!I2:I93564,\"28??\",'Accounting Data'!J2:J93564,\"6???\")-SUMIFS('Accounting Data'!C2:C93564,'Accounting Data'!I2:I93564,\"28??\",'Accounting Data'!J2:J93564,\"69??\"))-((SUMIFS('Accounting Data'!C2:C93564,'Accounting Data'!E2:E93564,\"575\",'Accounting Data'!I2:I93564,\"28??\",'Accounting Data'!J2:J93564,\"6???\")-(SUMIFS('Accounting Data'!C2:C93564,'Accounting Data'!E2:E93564,\"575\",'Accounting Data'!I2:I93564,\"28??\",'Accounting Data'!J2:J93564,\"69??\")-(SUMIFS('Accounting Data'!C2:C93564,'Accounting Data'!E2:E93564,\"8??\",'Accounting Data'!I2:I93564,\"28??\",'Accounting Data'!J2:J93564,\"6???\")-(SUMIFS('Accounting Data'!C2:C93564,'Accounting Data'!E2:E93564,\"8??\",'Accounting Data'!I2:I93564,\"28??\",'Accounting Data'!J2:J93564,\"69??\")-(SUMIFS('Accounting Data'!C2:C93564,'Accounting Data'!E2:E93564,\"9??\",'Accounting Data'!I2:I93564,\"28??\",'Accounting Data'!J2:J93564,\"6???\")-(SUMIFS('Accounting Data'!C2:C93564,'Accounting Data'!E2:E93564,\"9??\",'Accounting Data'!I2:I93564,\"28??\",'Accounting Data'!J2:J93564,\"69??\"))))))))","v":0},"31."]
["32.","Do not use Function codes 3000-3099","001-799 (excl. 575)",null,"3000-3099","6100-6899",{"$f":"(SUMIFS('Accounting Data'!C2:C93564,'Accounting Data'!I2:I93564,\"30??\",'Accounting Data'!J2:J93564,\"6???\")-SUMIFS('Accounting Data'!C2:C93564,'Accounting Data'!I2:I93564,\"30??\",'Accounting Data'!J2:J93564,\"69??\"))-((SUMIFS('Accounting Data'!C2:C93564,'Accounting Data'!E2:E93564,\"575\",'Accounting Data'!I2:I93564,\"30??\",'Accounting Data'!J2:J93564,\"6???\")-(SUMIFS('Accounting Data'!C2:C93564,'Accounting Data'!E2:E93564,\"575\",'Accounting Data'!I2:I93564,\"30??\",'Accounting Data'!J2:J93564,\"69??\")-(SUMIFS('Accounting Data'!C2:C93564,'Accounting Data'!E2:E93564,\"8??\",'Accounting Data'!I2:I93564,\"30??\",'Accounting Data'!J2:J93564,\"6???\")-(SUMIFS('Accounting Data'!C2:C93564,'Accounting Data'!E2:E93564,\"8??\",'Accounting Data'!I2:I93564,\"30??\",'Accounting Data'!J2:J93564,\"69??\")-(SUMIFS('Accounting Data'!C2:C93564,'Accounting Data'!E2:E93564,\"9??\",'Accounting Data'!I2:I93564,\"30??\",'Accounting Data'!J2:J93564,\"6???\")-(SUMIFS('Accounting Data'!C2:C93564,'Accounting Data'!E2:E93564,\"9??\",'Accounting Data'!I2:I93564,\"30??\",'Accounting Data'!J2:J93564,\"69??\"))))))))","v":0},"32."]
["33.","Do not use Function codes 3500-3599","001-799 (excl. 575)",null,"3500-3599","6100-6899",{"$f":"(SUMIFS('Accounting Data'!C2:C93564,'Accounting Data'!I2:I93564,\"35??\",'Accounting Data'!J2:J93564,\"6???\")-SUMIFS('Accounting Data'!C2:C93564,'Accounting Data'!I2:I93564,\"35??\",'Accounting Data'!J2:J93564,\"69??\"))-((SUMIFS('Accounting Data'!C2:C93564,'Accounting Data'!E2:E93564,\"575\",'Accounting Data'!I2:I93564,\"35??\",'Accounting Data'!J2:J93564,\"6???\")-(SUMIFS('Accounting Data'!C2:C93564,'Accounting Data'!E2:E93564,\"575\",'Accounting Data'!I2:I93564,\"35??\",'Accounting Data'!J2:J93564,\"69??\")-(SUMIFS('Accounting Data'!C2:C93564,'Accounting Data'!E2:E93564,\"8??\",'Accounting Data'!I2:I93564,\"35??\",'Accounting Data'!J2:J93564,\"6???\")-(SUMIFS('Accounting Data'!C2:C93564,'Accounting Data'!E2:E93564,\"8??\",'Accounting Data'!I2:I93564,\"35??\",'Accounting Data'!J2:J93564,\"69??\")-(SUMIFS('Accounting Data'!C2:C93564,'Accounting Data'!E2:E93564,\"9??\",'Accounting Data'!I2:I93564,\"35??\",'Accounting Data'!J2:J93564,\"6???\")-(SUMIFS('Accounting Data'!C2:C93564,'Accounting Data'!E2:E93564,\"9??\",'Accounting Data'!I2:I93564,\"35??\",'Accounting Data'!J2:J93564,\"69??\"))))))))","v":0},"33."]
["34.","Do not use Function codes 3600-3699","001-799 (excl. 575)",null,"3600-3699","6100-6899",{"$f":"(SUMIFS('Accounting Data'!C2:C93564,'Accounting Data'!I2:I93564,\"36??\",'Accounting Data'!J2:J93564,\"6???\")-SUMIFS('Accounting Data'!C2:C93564,'Accounting Data'!I2:I93564,\"36??\",'Accounting Data'!J2:J93564,\"69??\"))-((SUMIFS('Accounting Data'!C2:C93564,'Accounting Data'!E2:E93564,\"575\",'Accounting Data'!I2:I93564,\"36??\",'Accounting Data'!J2:J93564,\"6???\")-(SUMIFS('Accounting Data'!C2:C93564,'Accounting Data'!E2:E93564,\"575\",'Accounting Data'!I2:I93564,\"36??\",'Accounting Data'!J2:J93564,\"69??\")-(SUMIFS('Accounting Data'!C2:C93564,'Accounting Data'!E2:E93564,\"8??\",'Accounting Data'!I2:I93564,\"36??\",'Accounting Data'!J2:J93564,\"6???\")-(SUMIFS('Accounting Data'!C2:C93564,'Accounting Data'!E2:E93564,\"8??\",'Accounting Data'!I2:I93564,\"36??\",'Accounting Data'!J2:J93564,\"69??\")-(SUMIFS('Accounting Data'!C2:C93564,'Accounting Data'!E2:E93564,\"9??\",'Accounting Data'!I2:I93564,\"36??\",'Accounting Data'!J2:J93564,\"6???\")-(SUMIFS('Accounting Data'!C2:C93564,'Accounting Data'!E2:E93564,\"9??\",'Accounting Data'!I2:I93564,\"36??\",'Accounting Data'!J2:J93564,\"69??\"))))))))","v":0},"34."]
["35.","Do not use Function codes 3700-3799","001-799 (excl. 575)",null,"3700-3799","6100-6899",{"$f":"(SUMIFS('Accounting Data'!C2:C93564,'Accounting Data'!I2:I93564,\"37??\",'Accounting Data'!J2:J93564,\"6???\")-SUMIFS('Accounting Data'!C2:C93564,'Accounting Data'!I2:I93564,\"37??\",'Accounting Data'!J2:J93564,\"69??\"))-((SUMIFS('Accounting Data'!C2:C93564,'Accounting Data'!E2:E93564,\"575\",'Accounting Data'!I2:I93564,\"37??\",'Accounting Data'!J2:J93564,\"6???\")-(SUMIFS('Accounting Data'!C2:C93564,'Accounting Data'!E2:E93564,\"575\",'Accounting Data'!I2:I93564,\"37??\",'Accounting Data'!J2:J93564,\"69??\")-(SUMIFS('Accounting Data'!C2:C93564,'Accounting Data'!E2:E93564,\"8??\",'Accounting Data'!I2:I93564,\"37??\",'Accounting Data'!J2:J93564,\"6???\")-(SUMIFS('Accounting Data'!C2:C93564,'Accounting Data'!E2:E93564,\"8??\",'Accounting Data'!I2:I93564,\"37??\",'Accounting Data'!J2:J93564,\"69??\")-(SUMIFS('Accounting Data'!C2:C93564,'Accounting Data'!E2:E93564,\"9??\",'Accounting Data'!I2:I93564,\"37??\",'Accounting Data'!J2:J93564,\"6???\")-(SUMIFS('Accounting Data'!C2:C93564,'Accounting Data'!E2:E93564,\"9??\",'Accounting Data'!I2:I93564,\"37??\",'Accounting Data'!J2:J93564,\"69??\"))))))))","v":0},"35."]
["36.","Do not use Function codes 3800-3899","001-799 (excl. 575)",null,"3800-3899","6100-6899",{"$f":"(SUMIFS('Accounting Data'!C2:C93564,'Accounting Data'!I2:I93564,\"38??\",'Accounting Data'!J2:J93564,\"6???\")-SUMIFS('Accounting Data'!C2:C93564,'Accounting Data'!I2:I93564,\"38??\",'Accounting Data'!J2:J93564,\"69??\"))-((SUMIFS('Accounting Data'!C2:C93564,'Accounting Data'!E2:E93564,\"575\",'Accounting Data'!I2:I93564,\"38??\",'Accounting Data'!J2:J93564,\"6???\")-(SUMIFS('Accounting Data'!C2:C93564,'Accounting Data'!E2:E93564,\"575\",'Accounting Data'!I2:I93564,\"38??\",'Accounting Data'!J2:J93564,\"69??\")-(SUMIFS('Accounting Data'!C2:C93564,'Accounting Data'!E2:E93564,\"8??\",'Accounting Data'!I2:I93564,\"38??\",'Accounting Data'!J2:J93564,\"6???\")-(SUMIFS('Accounting Data'!C2:C93564,'Accounting Data'!E2:E93564,\"8??\",'Accounting Data'!I2:I93564,\"38??\",'Accounting Data'!J2:J93564,\"69??\")-(SUMIFS('Accounting Data'!C2:C93564,'Accounting Data'!E2:E93564,\"9??\",'Accounting Data'!I2:I93564,\"38??\",'Accounting Data'!J2:J93564,\"6???\")-(SUMIFS('Accounting Data'!C2:C93564,'Accounting Data'!E2:E93564,\"9??\",'Accounting Data'!I2:I93564,\"38??\",'Accounting Data'!J2:J93564,\"69??\"))))))))","v":0},"36."]
["37.","Do not use Function codes 3900-3999","001-799 (excl. 575)",null,"3900-3999","6100-6899",{"$f":"(SUMIFS('Accounting Data'!C2:C93564,'Accounting Data'!I2:I93564,\"39??\",'Accounting Data'!J2:J93564,\"6???\")-SUMIFS('Accounting Data'!C2:C93564,'Accounting Data'!I2:I93564,\"39??\",'Accounting Data'!J2:J93564,\"69??\"))-((SUMIFS('Accounting Data'!C2:C93564,'Accounting Data'!E2:E93564,\"575\",'Accounting Data'!I2:I93564,\"39??\",'Accounting Data'!J2:J93564,\"6???\")-(SUMIFS('Accounting Data'!C2:C93564,'Accounting Data'!E2:E93564,\"575\",'Accounting Data'!I2:I93564,\"39??\",'Accounting Data'!J2:J93564,\"69??\")-(SUMIFS('Accounting Data'!C2:C93564,'Accounting Data'!E2:E93564,\"8??\",'Accounting Data'!I2:I93564,\"39??\",'Accounting Data'!J2:J93564,\"6???\")-(SUMIFS('Accounting Data'!C2:C93564,'Accounting Data'!E2:E93564,\"8??\",'Accounting Data'!I2:I93564,\"39??\",'Accounting Data'!J2:J93564,\"69??\")-(SUMIFS('Accounting Data'!C2:C93564,'Accounting Data'!E2:E93564,\"9??\",'Accounting Data'!I2:I93564,\"39??\",'Accounting Data'!J2:J93564,\"6???\")-(SUMIFS('Accounting Data'!C2:C93564,'Accounting Data'!E2:E93564,\"9??\",'Accounting Data'!I2:I93564,\"39??\",'Accounting Data'!J2:J93564,\"69??\"))))))))","v":0},"37."]
["38.","Function 5000 should only be coded to Object codes 683X, 684X, and 686X.","001-799 (excl. 575)",null,"5000-5999","6100-6829, 6850-6859, \n6870-6999",{"$f":"U82-V82-W82-X82","v":0},"38."]
["39.","Function 6000 should only be coded to Object codes 6900-6999.","001-799 (excl. 575)",null,"6000-6999","6100-6899",{"$f":"((SUMIFS('Accounting Data'!C2:C93564,'Accounting Data'!I2:I93564,\"6???\",'Accounting Data'!J2:J93564,\"6???\")-SUMIFS('Accounting Data'!C2:C93564,'Accounting Data'!I2:I93564,\"6???\",'Accounting Data'!J2:J93564,\"69??\"))-((SUMIFS('Accounting Data'!C2:C93564,'Accounting Data'!E2:E93564,\"575\",'Accounting Data'!I2:I93564,\"6???\",'Accounting Data'!J2:J93564,\"6???\")-(SUMIFS('Accounting Data'!C2:C93564,'Accounting Data'!E2:E93564,\"575\",'Accounting Data'!I2:I93564,\"6???\",'Accounting Data'!J2:J93564,\"69??\"))-((SUMIFS('Accounting Data'!C2:C93564,'Accounting Data'!E2:E93564,\"8??\",'Accounting Data'!I2:I93564,\"6???\",'Accounting Data'!J2:J93564,\"6???\")-(SUMIFS('Accounting Data'!C2:C93564,'Accounting Data'!E2:E93564,\"8??\",'Accounting Data'!I2:I93564,\"6???\",'Accounting Data'!J2:J93564,\"69??\"))-((SUMIFS('Accounting Data'!C2:C93564,'Accounting Data'!E2:E93564,\"9??\",'Accounting Data'!I2:I93564,\"6???\",'Accounting Data'!J2:J93564,\"6???\")-(SUMIFS('Accounting Data'!C2:C93564,'Accounting Data'!E2:E93564,\"9??\",'Accounting Data'!I2:I93564,\"6???\",'Accounting Data'!J2:J93564,\"69??\")))))))))","v":0},"39."]
["40.","Do not use Function codes 7000-7999","001-799 (excl. 575)",null,"7000-7999","6100-6899",{"$f":"(SUMIFS('Accounting Data'!C2:C93564,'Accounting Data'!I2:I93564,\"7???\",'Accounting Data'!J2:J93564,\"6???\")-SUMIFS('Accounting Data'!C2:C93564,'Accounting Data'!I2:I93564,\"7???\",'Accounting Data'!J2:J93564,\"69??\"))-((SUMIFS('Accounting Data'!C2:C93564,'Accounting Data'!E2:E93564,\"575\",'Accounting Data'!I2:I93564,\"7???\",'Accounting Data'!J2:J93564,\"6???\")-(SUMIFS('Accounting Data'!C2:C93564,'Accounting Data'!E2:E93564,\"575\",'Accounting Data'!I2:I93564,\"7???\",'Accounting Data'!J2:J93564,\"69??\")-(SUMIFS('Accounting Data'!C2:C93564,'Accounting Data'!E2:E93564,\"8??\",'Accounting Data'!I2:I93564,\"7???\",'Accounting Data'!J2:J93564,\"6???\")-(SUMIFS('Accounting Data'!C2:C93564,'Accounting Data'!E2:E93564,\"8??\",'Accounting Data'!I2:I93564,\"7???\",'Accounting Data'!J2:J93564,\"69??\")-(SUMIFS('Accounting Data'!C2:C93564,'Accounting Data'!E2:E93564,\"9??\",'Accounting Data'!I2:I93564,\"7???\",'Accounting Data'!J2:J93564,\"6???\")-(SUMIFS('Accounting Data'!C2:C93564,'Accounting Data'!E2:E93564,\"9??\",'Accounting Data'!I2:I93564,\"7???\",'Accounting Data'!J2:J93564,\"69??\"))))))))","v":0},"40."]
["41.","Do not use Function codes 8000-8999","001-799 (excl. 575)",null,"8000-8999","6100-6899",{"$f":"(SUMIFS('Accounting Data'!C2:C93564,'Accounting Data'!I2:I93564,\"8???\",'Accounting Data'!J2:J93564,\"6???\")-SUMIFS('Accounting Data'!C2:C93564,'Accounting Data'!I2:I93564,\"8???\",'Accounting Data'!J2:J93564,\"69??\"))-((SUMIFS('Accounting Data'!C2:C93564,'Accounting Data'!E2:E93564,\"575\",'Accounting Data'!I2:I93564,\"8???\",'Accounting Data'!J2:J93564,\"6???\")-(SUMIFS('Accounting Data'!C2:C93564,'Accounting Data'!E2:E93564,\"575\",'Accounting Data'!I2:I93564,\"8???\",'Accounting Data'!J2:J93564,\"69??\")-(SUMIFS('Accounting Data'!C2:C93564,'Accounting Data'!E2:E93564,\"8??\",'Accounting Data'!I2:I93564,\"8???\",'Accounting Data'!J2:J93564,\"6???\")-(SUMIFS('Accounting Data'!C2:C93564,'Accounting Data'!E2:E93564,\"8??\",'Accounting Data'!I2:I93564,\"8???\",'Accounting Data'!J2:J93564,\"69??\")-(SUMIFS('Accounting Data'!C2:C93564,'Accounting Data'!E2:E93564,\"9??\",'Accounting Data'!I2:I93564,\"8???\",'Accounting Data'!J2:J93564,\"6???\")-(SUMIFS('Accounting Data'!C2:C93564,'Accounting Data'!E2:E93564,\"9??\",'Accounting Data'!I2:I93564,\"8???\",'Accounting Data'!J2:J93564,\"69??\"))))))))","v":0},"41."]
["42.","Do not use Function codes 9000-9999","001-799 (excl. 575)",null,"9000-9999","6100-6899",{"$f":"(SUMIFS('Accounting Data'!C2:C93564,'Accounting Data'!I2:I93564,\"9???\",'Accounting Data'!J2:J93564,\"6???\")-SUMIFS('Accounting Data'!C2:C93564,'Accounting Data'!I2:I93564,\"9???\",'Accounting Data'!J2:J93564,\"69??\"))-((SUMIFS('Accounting Data'!C2:C93564,'Accounting Data'!E2:E93564,\"575\",'Accounting Data'!I2:I93564,\"9???\",'Accounting Data'!J2:J93564,\"6???\")-(SUMIFS('Accounting Data'!C2:C93564,'Accounting Data'!E2:E93564,\"575\",'Accounting Data'!I2:I93564,\"9???\",'Accounting Data'!J2:J93564,\"69??\")-(SUMIFS('Accounting Data'!C2:C93564,'Accounting Data'!E2:E93564,\"8??\",'Accounting Data'!I2:I93564,\"9???\",'Accounting Data'!J2:J93564,\"6???\")-(SUMIFS('Accounting Data'!C2:C93564,'Accounting Data'!E2:E93564,\"8??\",'Accounting Data'!I2:I93564,\"9???\",'Accounting Data'!J2:J93564,\"69??\")-(SUMIFS('Accounting Data'!C2:C93564,'Accounting Data'!E2:E93564,\"9??\",'Accounting Data'!I2:I93564,\"9???\",'Accounting Data'!J2:J93564,\"6???\")-(SUMIFS('Accounting Data'!C2:C93564,'Accounting Data'!E2:E93564,\"9??\",'Accounting Data'!I2:I93564,\"9???\",'Accounting Data'!J2:J93564,\"69??\"))))))))","v":0},"42.",null,null,null,null,null,null,null,null,null,null,null,null,{"$f":"((SUMIFS('Accounting Data'!$C$2:$C$93564,'Accounting Data'!$I$2:$I$93564,\"5???\",'Accounting Data'!$J$2:$J$93564,\"6???\")-SUMIFS('Accounting Data'!$C$2:$C$93564,'Accounting Data'!$I$2:$I$93564,\"5???\",'Accounting Data'!$J$2:$J$93564,\"683?\")-SUMIFS('Accounting Data'!$C$2:$C$93564,'Accounting Data'!$I$2:$I$93564,\"5???\",'Accounting Data'!$J$2:$J$93564,\"684?\")-SUMIFS('Accounting Data'!$C$2:$C$93564,'Accounting Data'!$I$2:$I$93564,\"5???\",'Accounting Data'!$J$2:$J$93564,\"686?\")))","v":0},{"$f":"((SUMIFS('Accounting Data'!$C$2:$C$93564,'Accounting Data'!$E$2:$E$93564,\"575\",'Accounting Data'!$I$2:$I$93564,\"5???\",'Accounting Data'!$J$2:$J$93564,\"6???\")-(SUMIFS('Accounting Data'!$C$2:$C$93564,'Accounting Data'!$E$2:$E$93564,\"575\",'Accounting Data'!$I$2:$I$93564,\"5???\",'Accounting Data'!$J$2:$J$93564,\"683?\")-(SUMIFS('Accounting Data'!$C$2:$C$93564,'Accounting Data'!$E$2:$E$93564,\"575\",'Accounting Data'!$I$2:$I$93564,\"5???\",'Accounting Data'!$J$2:$J$93564,\"684?\")-(SUMIFS('Accounting Data'!$C$2:$C$93564,'Accounting Data'!$E$2:$E$93564,\"575\",'Accounting Data'!$I$2:$I$93564,\"5???\",'Accounting Data'!$J$2:$J$93564,\"686?\"))))))","v":0},{"$f":"((SUMIFS('Accounting Data'!$C$2:$C$93564,'Accounting Data'!$E$2:$E$93564,\"8??\",'Accounting Data'!$I$2:$I$93564,\"5???\",'Accounting Data'!$J$2:$J$93564,\"6???\")-(SUMIFS('Accounting Data'!$C$2:$C$93564,'Accounting Data'!$E$2:$E$93564,\"8??\",'Accounting Data'!$I$2:$I$93564,\"5???\",'Accounting Data'!$J$2:$J$93564,\"683?\")-(SUMIFS('Accounting Data'!$C$2:$C$93564,'Accounting Data'!$E$2:$E$93564,\"8??\",'Accounting Data'!$I$2:$I$93564,\"5???\",'Accounting Data'!$J$2:$J$93564,\"684?\")-(SUMIFS('Accounting Data'!$C$2:$C$93564,'Accounting Data'!$E$2:$E$93564,\"8??\",'Accounting Data'!$I$2:$I$93564,\"5???\",'Accounting Data'!$J$2:$J$93564,\"686?\"))))))","v":0},{"$f":"((SUMIFS('Accounting Data'!$C$2:$C$93564,'Accounting Data'!$E$2:$E$93564,\"9??\",'Accounting Data'!$I$2:$I$93564,\"5???\",'Accounting Data'!$J$2:$J$93564,\"6???\")-(SUMIFS('Accounting Data'!$C$2:$C$93564,'Accounting Data'!$E$2:$E$93564,\"9??\",'Accounting Data'!$I$2:$I$93564,\"5???\",'Accounting Data'!$J$2:$J$93564,\"683?\")-(SUMIFS('Accounting Data'!$C$2:$C$93564,'Accounting Data'!$E$2:$E$93564,\"9??\",'Accounting Data'!$I$2:$I$93564,\"5???\",'Accounting Data'!$J$2:$J$93564,\"684?\")-(SUMIFS('Accounting Data'!$C$2:$C$93564,'Accounting Data'!$E$2:$E$93564,\"9??\",'Accounting Data'!$I$2:$I$93564,\"5???\",'Accounting Data'!$J$2:$J$93564,\"686?\"))))))","v":0}]
[]
["43.","Do not use Object codes 0000-0099","001-799 (excl. 575)",null,null,"0000-0099",{"$f":"SUMIFS('Accounting Data'!C2:C93564,'Accounting Data'!J2:J93564,\"00??\")-SUMIFS('Accounting Data'!C2:C93564,'Accounting Data'!E2:E93564,\"575\",'Accounting Data'!J2:J93564,\"00??\")-SUMIFS('Accounting Data'!C2:C93564,'Accounting Data'!E2:E93564,\"8??\",'Accounting Data'!J2:J93564,\"00??\")-SUMIFS('Accounting Data'!C2:C93564,'Accounting Data'!E2:E93564,\"9??\",'Accounting Data'!J2:J93564,\"00??\")","v":0},"43."]
["44.","Do not use Object codes 6000-6099","001-799 (excl. 575)",null,null,"6000-6099",{"$f":"SUMIFS('Accounting Data'!C2:C93564,'Accounting Data'!J2:J93564,\"60??\")-SUMIFS('Accounting Data'!C2:C93564,'Accounting Data'!E2:E93564,\"575\",'Accounting Data'!J2:J93564,\"60??\")-SUMIFS('Accounting Data'!C2:C93564,'Accounting Data'!E2:E93564,\"8??\",'Accounting Data'!J2:J93564,\"60??\")-SUMIFS('Accounting Data'!C2:C93564,'Accounting Data'!E2:E93564,\"9??\",'Accounting Data'!J2:J93564,\"60??\")","v":0},"44."]
["45.","Do not use Object codes 6800-6809","001-799 (excl. 575)",null,null,"6800-6809",{"$f":"SUMIFS('Accounting Data'!C2:C93564,'Accounting Data'!J2:J93564,\"680?\")-SUMIFS('Accounting Data'!C2:C93564,'Accounting Data'!E2:E93564,\"575\",'Accounting Data'!J2:J93564,\"680?\")-SUMIFS('Accounting Data'!C2:C93564,'Accounting Data'!E2:E93564,\"8??\",'Accounting Data'!J2:J93564,\"680?\")-SUMIFS('Accounting Data'!C2:C93564,'Accounting Data'!E2:E93564,\"9??\",'Accounting Data'!J2:J93564,\"680?\")","v":0},"45."]
["46.","Object 6820 should only be coded to Function 2300","001-799 (excl. 575)",null,"1000-2299, 2400-6999","6820-6829",{"$f":"SUMIFS('Accounting Data'!C2:C93564,'Accounting Data'!J2:J93564,\"682?\")-SUMIFS('Accounting Data'!C2:C93564,'Accounting Data'!E2:E93564,\"575\",'Accounting Data'!J2:J93564,\"682?\")-SUMIFS('Accounting Data'!C2:C93564,'Accounting Data'!E2:E93564,\"8??\",'Accounting Data'!J2:J93564,\"682?\")-SUMIFS('Accounting Data'!C2:C93564,'Accounting Data'!E2:E93564,\"9??\",'Accounting Data'!J2:J93564,\"682?\")-SUMIFS('Accounting Data'!C2:C93564,'Accounting Data'!I2:I93564,\"23??\",'Accounting Data'!J2:J93564,\"682?\")+SUMIFS('Accounting Data'!C2:C93564,'Accounting Data'!E2:E93564,\"575\",'Accounting Data'!I2:I93564,\"23??\",'Accounting Data'!J2:J93564,\"682?\")+SUMIFS('Accounting Data'!C2:C93564,'Accounting Data'!E2:E93564,\"8??\",'Accounting Data'!I2:I93564,\"23??\",'Accounting Data'!J2:J93564,\"682?\")+SUMIFS('Accounting Data'!C2:C93564,'Accounting Data'!E2:E93564,\"9??\",'Accounting Data'!I2:I93564,\"23??\",'Accounting Data'!J2:J93564,\"682?\")","v":0},"46."]
["47.","Expenditures coded to 6830 and 6834-39 should be coded to 6831, 6832, or 6833","001-799 (excl. 575)",null,null,"6830, 6834-39",{"$f":"SUMIFS('Accounting Data'!C2:C93564,'Accounting Data'!J2:J93564,\"683?\")-SUMIFS('Accounting Data'!C2:C93564,'Accounting Data'!J2:J93564,\"6831\")-SUMIFS('Accounting Data'!C2:C93564,'Accounting Data'!J2:J93564,\"6832\")-SUMIFS('Accounting Data'!C2:C93564,'Accounting Data'!J2:J93564,\"6833\")-SUMIFS('Accounting Data'!C2:C93564,'Accounting Data'!E2:E93564,\"575\",'Accounting Data'!J2:J93564,\"683?\")-SUMIFS('Accounting Data'!C2:C93564,'Accounting Data'!E2:E93564,\"8??\",'Accounting Data'!J2:J93564,\"683?\")-SUMIFS('Accounting Data'!C2:C93564,'Accounting Data'!E2:E93564,\"9??\",'Accounting Data'!J2:J93564,\"683?\")+SUMIFS('Accounting Data'!C2:C93564,'Accounting Data'!E2:E93564,\"575\",'Accounting Data'!J2:J93564,\"6831\")+SUMIFS('Accounting Data'!C2:C93564,'Accounting Data'!E2:E93564,\"8??\",'Accounting Data'!J2:J93564,\"6831\")+SUMIFS('Accounting Data'!C2:C93564,'Accounting Data'!E2:E93564,\"9??\",'Accounting Data'!J2:J93564,\"6831\")+SUMIFS('Accounting Data'!C2:C93564,'Accounting Data'!E2:E93564,\"575\",'Accounting Data'!J2:J93564,\"6832\")+SUMIFS('Accounting Data'!C2:C93564,'Accounting Data'!E2:E93564,\"8??\",'Accounting Data'!J2:J93564,\"6832\")+SUMIFS('Accounting Data'!C2:C93564,'Accounting Data'!E2:E93564,\"9??\",'Accounting Data'!J2:J93564,\"6832\")+SUMIFS('Accounting Data'!C2:C93564,'Accounting Data'!E2:E93564,\"575\",'Accounting Data'!J2:J93564,\"6833\")+SUMIFS('Accounting Data'!C2:C93564,'Accounting Data'!E2:E93564,\"8??\",'Accounting Data'!J2:J93564,\"6833\")+SUMIFS('Accounting Data'!C2:C93564,'Accounting Data'!E2:E93564,\"9??\",'Accounting Data'!J2:J93564,\"6833\")","v":0},"47."]
["48.","Object 6831 should only be coded to Function 5000","001-799 (excl. 575)",null,"1000-4999, 6000-6999","6831",{"$f":"SUMIFS('Accounting Data'!C2:C93564,'Accounting Data'!J2:J93564,\"6831\")-SUMIFS('Accounting Data'!C2:C93564,'Accounting Data'!E2:E93564,\"575\",'Accounting Data'!J2:J93564,\"6831\")-SUMIFS('Accounting Data'!C2:C93564,'Accounting Data'!E2:E93564,\"8??\",'Accounting Data'!J2:J93564,\"6831\")-SUMIFS('Accounting Data'!C2:C93564,'Accounting Data'!E2:E93564,\"9??\",'Accounting Data'!J2:J93564,\"6831\")-SUMIFS('Accounting Data'!C2:C93564,'Accounting Data'!I2:I93564,\"5???\",'Accounting Data'!J2:J93564,\"6831\")+SUMIFS('Accounting Data'!C2:C93564,'Accounting Data'!E2:E93564,\"575\",'Accounting Data'!I2:I93564,\"5???\",'Accounting Data'!J2:J93564,\"6831\")+SUMIFS('Accounting Data'!C2:C93564,'Accounting Data'!E2:E93564,\"8??\",'Accounting Data'!I2:I93564,\"5???\",'Accounting Data'!J2:J93564,\"6831\")+SUMIFS('Accounting Data'!C2:C93564,'Accounting Data'!E2:E93564,\"9??\",'Accounting Data'!I2:I93564,\"5???\",'Accounting Data'!J2:J93564,\"6831\")","v":0},"48."]
["49.","Object 6832 should only be coded to Function 5000","001-799 (excl. 575)",null,"1000-4999, 6000-6999","6832",{"$f":"SUMIFS('Accounting Data'!C2:C93564,'Accounting Data'!J2:J93564,\"6832\")-SUMIFS('Accounting Data'!C2:C93564,'Accounting Data'!E2:E93564,\"575\",'Accounting Data'!J2:J93564,\"6832\")-SUMIFS('Accounting Data'!C2:C93564,'Accounting Data'!E2:E93564,\"8??\",'Accounting Data'!J2:J93564,\"6832\")-SUMIFS('Accounting Data'!C2:C93564,'Accounting Data'!E2:E93564,\"9??\",'Accounting Data'!J2:J93564,\"6832\")-SUMIFS('Accounting Data'!C2:C93564,'Accounting Data'!I2:I93564,\"5???\",'Accounting Data'!J2:J93564,\"6832\")+SUMIFS('Accounting Data'!C2:C93564,'Accounting Data'!E2:E93564,\"575\",'Accounting Data'!I2:I93564,\"5???\",'Accounting Data'!J2:J93564,\"6832\")+SUMIFS('Accounting Data'!C2:C93564,'Accounting Data'!E2:E93564,\"8??\",'Accounting Data'!I2:I93564,\"5???\",'Accounting Data'!J2:J93564,\"6832\")+SUMIFS('Accounting Data'!C2:C93564,'Accounting Data'!E2:E93564,\"9??\",'Accounting Data'!I2:I93564,\"5???\",'Accounting Data'!J2:J93564,\"6832\")","v":0},"49."]
["50.","Expenditures coded to 6840 and 6844-49 should be coded to 6841, 6842, or 6843","001-799 (excl. 575)",null,null,"6840, 6844-49",{"$f":"SUMIFS('Accounting Data'!C2:C93564,'Accounting Data'!J2:J93564,\"684?\")-SUMIFS('Accounting Data'!C2:C93564,'Accounting Data'!J2:J93564,\"6841\")-SUMIFS('Accounting Data'!C2:C93564,'Accounting Data'!J2:J93564,\"6842\")-SUMIFS('Accounting Data'!C2:C93564,'Accounting Data'!J2:J93564,\"6843\")-SUMIFS('Accounting Data'!C2:C93564,'Accounting Data'!E2:E93564,\"575\",'Accounting Data'!J2:J93564,\"684?\")-SUMIFS('Accounting Data'!C2:C93564,'Accounting Data'!E2:E93564,\"8??\",'Accounting Data'!J2:J93564,\"684?\")-SUMIFS('Accounting Data'!C2:C93564,'Accounting Data'!E2:E93564,\"9??\",'Accounting Data'!J2:J93564,\"684?\")+SUMIFS('Accounting Data'!C2:C93564,'Accounting Data'!E2:E93564,\"575\",'Accounting Data'!J2:J93564,\"6841\")+SUMIFS('Accounting Data'!C2:C93564,'Accounting Data'!E2:E93564,\"8??\",'Accounting Data'!J2:J93564,\"6841\")+SUMIFS('Accounting Data'!C2:C93564,'Accounting Data'!E2:E93564,\"9??\",'Accounting Data'!J2:J93564,\"6841\")+SUMIFS('Accounting Data'!C2:C93564,'Accounting Data'!E2:E93564,\"575\",'Accounting Data'!J2:J93564,\"6842\")+SUMIFS('Accounting Data'!C2:C93564,'Accounting Data'!E2:E93564,\"8??\",'Accounting Data'!J2:J93564,\"6842\")+SUMIFS('Accounting Data'!C2:C93564,'Accounting Data'!E2:E93564,\"9??\",'Accounting Data'!J2:J93564,\"6842\")+SUMIFS('Accounting Data'!C2:C93564,'Accounting Data'!E2:E93564,\"575\",'Accounting Data'!J2:J93564,\"6843\")+SUMIFS('Accounting Data'!C2:C93564,'Accounting Data'!E2:E93564,\"8??\",'Accounting Data'!J2:J93564,\"6843\")+SUMIFS('Accounting Data'!C2:C93564,'Accounting Data'!E2:E93564,\"9??\",'Accounting Data'!J2:J93564,\"6843\")","v":0},"50."]
["51.","Object 6841 should only be coded to Function 5000","001-799 (excl. 575)",null,"1000-4999, 6000-6999","6841",{"$f":"SUMIFS('Accounting Data'!C2:C93564,'Accounting Data'!J2:J93564,\"6841\")-SUMIFS('Accounting Data'!C2:C93564,'Accounting Data'!E2:E93564,\"575\",'Accounting Data'!J2:J93564,\"6841\")-SUMIFS('Accounting Data'!C2:C93564,'Accounting Data'!E2:E93564,\"8??\",'Accounting Data'!J2:J93564,\"6841\")-SUMIFS('Accounting Data'!C2:C93564,'Accounting Data'!E2:E93564,\"9??\",'Accounting Data'!J2:J93564,\"6841\")-SUMIFS('Accounting Data'!C2:C93564,'Accounting Data'!I2:I93564,\"5???\",'Accounting Data'!J2:J93564,\"6841\")+SUMIFS('Accounting Data'!C2:C93564,'Accounting Data'!E2:E93564,\"575\",'Accounting Data'!I2:I93564,\"5???\",'Accounting Data'!J2:J93564,\"6841\")+SUMIFS('Accounting Data'!C2:C93564,'Accounting Data'!E2:E93564,\"8??\",'Accounting Data'!I2:I93564,\"5???\",'Accounting Data'!J2:J93564,\"6841\")+SUMIFS('Accounting Data'!C2:C93564,'Accounting Data'!E2:E93564,\"9??\",'Accounting Data'!I2:I93564,\"5???\",'Accounting Data'!J2:J93564,\"6841\")","v":0},"51."]
["52.","Object 6842 should only be coded to Function 5000","001-799 (excl. 575)",null,"1000-4999, 6000-6999","6842",{"$f":"SUMIFS('Accounting Data'!C2:C93564,'Accounting Data'!J2:J93564,\"6842\")-SUMIFS('Accounting Data'!C2:C93564,'Accounting Data'!E2:E93564,\"575\",'Accounting Data'!J2:J93564,\"6842\")-SUMIFS('Accounting Data'!C2:C93564,'Accounting Data'!E2:E93564,\"8??\",'Accounting Data'!J2:J93564,\"6842\")-SUMIFS('Accounting Data'!C2:C93564,'Accounting Data'!E2:E93564,\"9??\",'Accounting Data'!J2:J93564,\"6842\")-SUMIFS('Accounting Data'!C2:C93564,'Accounting Data'!I2:I93564,\"5???\",'Accounting Data'!J2:J93564,\"6842\")+SUMIFS('Accounting Data'!C2:C93564,'Accounting Data'!E2:E93564,\"575\",'Accounting Data'!I2:I93564,\"5???\",'Accounting Data'!J2:J93564,\"6842\")+SUMIFS('Accounting Data'!C2:C93564,'Accounting Data'!E2:E93564,\"8??\",'Accounting Data'!I2:I93564,\"5???\",'Accounting Data'!J2:J93564,\"6842\")+SUMIFS('Accounting Data'!C2:C93564,'Accounting Data'!E2:E93564,\"9??\",'Accounting Data'!I2:I93564,\"5???\",'Accounting Data'!J2:J93564,\"6842\")","v":0},"52."]
["53.","Object 6850 should be coded to Function 2500","001-799 (excl. 575)",null,"1000-2499, 2600-6999","6850-6859",{"$f":"SUMIFS('Accounting Data'!C2:C93564,'Accounting Data'!J2:J93564,\"685?\")-SUMIFS('Accounting Data'!C2:C93564,'Accounting Data'!E2:E93564,\"575\",'Accounting Data'!J2:J93564,\"685?\")-SUMIFS('Accounting Data'!C2:C93564,'Accounting Data'!E2:E93564,\"8??\",'Accounting Data'!J2:J93564,\"685?\")-SUMIFS('Accounting Data'!C2:C93564,'Accounting Data'!E2:E93564,\"9??\",'Accounting Data'!J2:J93564,\"685?\")-SUMIFS('Accounting Data'!C2:C93564,'Accounting Data'!I2:I93564,\"25??\",'Accounting Data'!J2:J93564,\"685?\")+SUMIFS('Accounting Data'!C2:C93564,'Accounting Data'!E2:E93564,\"575\",'Accounting Data'!I2:I93564,\"25??\",'Accounting Data'!J2:J93564,\"685?\")+SUMIFS('Accounting Data'!C2:C93564,'Accounting Data'!E2:E93564,\"8??\",'Accounting Data'!I2:I93564,\"25??\",'Accounting Data'!J2:J93564,\"685?\")+SUMIFS('Accounting Data'!C2:C93564,'Accounting Data'!E2:E93564,\"9??\",'Accounting Data'!I2:I93564,\"25??\",'Accounting Data'!J2:J93564,\"685?\")","v":0},"53."]
["54.","Do not use Object codes 7000-7999","001-799 (excl. 575)",null,null,"7000-7999",{"$f":"SUMIFS('Accounting Data'!C2:C93564,'Accounting Data'!J2:J93564,\"7???\")-SUMIFS('Accounting Data'!C2:C93564,'Accounting Data'!E2:E93564,\"575\",'Accounting Data'!J2:J93564,\"7???\")-SUMIFS('Accounting Data'!C2:C93564,'Accounting Data'!E2:E93564,\"8??\",'Accounting Data'!J2:J93564,\"7???\")-SUMIFS('Accounting Data'!C2:C93564,'Accounting Data'!E2:E93564,\"9??\",'Accounting Data'!J2:J93564,\"7???\")","v":0},"54."]
["55.","Do not use Object codes 8000-8999","001-799 (excl. 575)",null,null,"8000-8999",{"$f":"SUMIFS('Accounting Data'!C2:C93564,'Accounting Data'!J2:J93564,\"8???\")-SUMIFS('Accounting Data'!C2:C93564,'Accounting Data'!E2:E93564,\"575\",'Accounting Data'!J2:J93564,\"8???\")-SUMIFS('Accounting Data'!C2:C93564,'Accounting Data'!E2:E93564,\"8??\",'Accounting Data'!J2:J93564,\"8???\")-SUMIFS('Accounting Data'!C2:C93564,'Accounting Data'!E2:E93564,\"9??\",'Accounting Data'!J2:J93564,\"8???\")","v":0},"55."]
["56.","Do not use Object codes 9000-9999","001-799 (excl. 575)",null,null,"9000-9999",{"$f":"SUMIFS('Accounting Data'!C2:C93564,'Accounting Data'!J2:J93564,\"9???\")-SUMIFS('Accounting Data'!C2:C93564,'Accounting Data'!E2:E93564,\"575\",'Accounting Data'!J2:J93564,\"9???\")-SUMIFS('Accounting Data'!C2:C93564,'Accounting Data'!E2:E93564,\"8??\",'Accounting Data'!J2:J93564,\"9???\")-SUMIFS('Accounting Data'!C2:C93564,'Accounting Data'!E2:E93564,\"9??\",'Accounting Data'!J2:J93564,\"9???\")","v":0},"56."]

{"sheet":"School listing","index":15,"n_rows":99,"n_cols":12,"rows_kept":99,"cut":false,"hidden":false,"merged":[[2,2,2,6]]}
["District Name","Osborn Elementary School District"]
["CTDS Number","070408000"]
["County","Maricopa","Districts must complete all required detail for each school site, including districts with only 1 school."]
[]
[]
["School #","School Name","School CTDS","Unweighted Attending Student Count","Unit Code(s)","Primary Unit Code","Comments"]
["Districtwide","Districtwide","070408000",null,null,"500",null,null,null,null,null,"School Listing–Districtwide"]
["Private Schools",null,null,null,"1","1",null,null,null,null,null,"School Listing–Private Schools"]
["CTED (Member Districts)",null,null,null,null,null,null,null,null,null,null,"School Listing–CTED (Member Districts)"]
["School 1","Clarendon ","070408102","402.734","102, 502","102",null,null,null,null,null,"School Listing–School 1"]
["School 2","Encanto ","070408103","561.464","103, 503","103",null,null,null,null,null,"School Listing–School 2"]
["School 3","Longview","070408107","490.862","107, 507","107",null,null,null,null,null,"School Listing–School 3"]
["School 4","Montecito","070408105","20.44","105, 505","105",null,null,null,null,null,"School Listing–School 4"]
["School 5","Osborn","070408104","490.862","104, 504","104",null,null,null,null,null,"School Listing–School 5"]
["School 6","Solano ","070408106","384.32","106, 506","106",null,null,null,null,null,"School Listing–School 6"]
["School 7",null,null,null,null,null,null,null,null,null,null,"School Listing–School 7"]
["School 8",null,null,null,null,null,null,null,null,null,null,"School Listing–School 8"]
["School 9",null,null,null,null,null,null,null,null,null,null,"School Listing–School 9"]
["School 10",null,null,null,null,null,null,null,null,null,null,"School Listing–School 10"]
["School 11",null,null,null,null,null,null,null,null,null,null,"School Listing–School 11"]
["School 12",null,null,null,null,null,null,null,null,null,null,"School Listing–School 12"]
["School 13",null,null,null,null,null,null,null,null,null,null,"School Listing–School 13"]
["School 14",null,null,null,null,null,null,null,null,null,null,"School Listing–School 14"]
["School 15",null,null,null,null,null,null,null,null,null,null,"School Listing–School 15"]
["School 16",null,null,null,null,null,null,null,null,null,null,"School Listing–School 16"]
["School 17",null,null,null,null,null,null,null,null,null,null,"School Listing–School 17"]
["School 18",null,null,null,null,null,null,null,null,null,null,"School Listing–School 18"]
["School 19",null,null,null,null,null,null,null,null,null,null,"School Listing–School 19"]
["School 20",null,null,null,null,null,null,null,null,null,null,"School Listing–School 20"]
["School 21",null,null,null,null,null,null,null,null,null,null,"School Listing–School 21"]
["School 22",null,null,null,null,null,null,null,null,null,null,"School Listing–School 22"]
["School 23",null,null,null,null,null,null,null,null,null,null,"School Listing–School 23"]
["School 24",null,null,null,null,null,null,null,null,null,null,"School Listing–School 24"]
["School 25",null,null,null,null,null,null,null,null,null,null,"School Listing–School 25"]
["School 26",null,null,null,null,null,null,null,null,null,null,"School Listing–School 26"]
["School 27",null,null,null,null,null,null,null,null,null,null,"School Listing–School 27"]
["School 28",null,null,null,null,null,null,null,null,null,null,"School Listing–School 28"]
["School 29",null,null,null,null,null,null,null,null,null,null,"School Listing–School 29"]
["School 30",null,null,null,null,null,null,null,null,null,null,"School Listing–School 30"]
["School 31",null,null,null,null,null,null,null,null,null,null,"School Listing–School 31"]
["School 32",null,null,null,null,null,null,null,null,null,null,"School Listing–School 32"]
["School 33",null,null,null,null,null,null,null,null,null,null,"School Listing–School 33"]
["School 34",null,null,null,null,null,null,null,null,null,null,"School Listing–School 34"]
["School 35",null,null,null,null,null,null,null,null,null,null,"School Listing–School 35"]
["School 36",null,null,null,null,null,null,null,null,null,null,"School Listing–School 36"]
["School 37",null,null,null,null,null,null,null,null,null,null,"School Listing–School 37"]
["School 38",null,null,null,null,null,null,null,null,null,null,"School Listing–School 38"]
["School 39",null,null,null,null,null,null,null,null,null,null,"School Listing–School 39"]
["School 40",null,null,null,null,null,null,null,null,null,null,"School Listing–School 40"]
["School 41",null,null,null,null,null,null,null,null,null,null,"School Listing–School 41"]
["School 42",null,null,null,null,null,null,null,null,null,null,"School Listing–School 42"]
["School 43",null,null,null,null,null,null,null,null,null,null,"School Listing–School 43"]
["School 44",null,null,null,null,null,null,null,null,null,null,"School Listing–School 44"]
["School 45",null,null,null,null,null,null,null,null,null,null,"School Listing–School 45"]
["School 46",null,null,null,null,null,null,null,null,null,null,"School Listing–School 46"]
["School 47",null,null,null,null,null,null,null,null,null,null,"School Listing–School 47"]
["School 48",null,null,null,null,null,null,null,null,null,null,"School Listing–School 48"]
["School 49",null,null,null,null,null,null,null,null,null,null,"School Listing–School 49"]
["School 50",null,null,null,null,null,null,null,null,null,null,"School Listing–School 50"]
["School 51",null,null,null,null,null,null,null,null,null,null,"School Listing–School 51"]
["School 52",null,null,null,null,null,null,null,null,null,null,"School Listing–School 52"]
["School 53",null,null,null,null,null,null,null,null,null,null,"School Listing–School 53"]
["School 54",null,null,null,null,null,null,null,null,null,null,"School Listing–School 54"]
["School 55",null,null,null,null,null,null,null,null,null,null,"School Listing–School 55"]
["School 56",null,null,null,null,null,null,null,null,null,null,"School Listing–School 56"]
["School 57",null,null,null,null,null,null,null,null,null,null,"School Listing–School 57"]
["School 58",null,null,null,null,null,null,null,null,null,null,"School Listing–School 58"]
["School 59",null,null,null,null,null,null,null,null,null,null,"School Listing–School 59"]
["School 60",null,null,null,null,null,null,null,null,null,null,"School Listing–School 60"]
["School 61",null,null,null,null,null,null,null,null,null,null,"School Listing–School 61"]
["School 62",null,null,null,null,null,null,null,null,null,null,"School Listing–School 62"]
["School 63",null,null,null,null,null,null,null,null,null,null,"School Listing–School 63"]
["School 64",null,null,null,null,null,null,null,null,null,null,"School Listing–School 64"]
["School 65",null,null,null,null,null,null,null,null,null,null,"School Listing–School 65"]
["School 66",null,null,null,null,null,null,null,null,null,null,"School Listing–School 66"]
["School 67",null,null,null,null,null,null,null,null,null,null,"School Listing–School 67"]
["School 68",null,null,null,null,null,null,null,null,null,null,"School Listing–School 68"]
["School 69",null,null,null,null,null,null,null,null,null,null,"School Listing–School 69"]
["School 70",null,null,null,null,null,null,null,null,null,null,"School Listing–School 70"]
["School 71",null,null,null,null,null,null,null,null,null,null,"School Listing–School 71"]
["School 72",null,null,null,null,null,null,null,null,null,null,"School Listing–School 72"]
["School 73",null,null,null,null,null,null,null,null,null,null,"School Listing–School 73"]
["School 74",null,null,null,null,null,null,null,null,null,null,"School Listing–School 74"]
["School 75",null,null,null,null,null,null,null,null,null,null,"School Listing–School 75"]
["School 76",null,null,null,null,null,null,null,null,null,null,"School Listing–School 76"]
["School 77",null,null,null,null,null,null,null,null,null,null,"School Listing–School 77"]
["School 78",null,null,null,null,null,null,null,null,null,null,"School Listing–School 78"]
["School 79",null,null,null,null,null,null,null,null,null,null,"School Listing–School 79"]
["School 80",null,null,null,null,null,null,null,null,null,null,"School Listing–School 80"]
["School 81",null,null,null,null,null,null,null,null,null,null,"School Listing–School 81"]
["School 82",null,null,null,null,null,null,null,null,null,null,"School Listing–School 82"]
["School 83",null,null,null,null,null,null,null,null,null,null,"School Listing–School 83"]
["School 84",null,null,null,null,null,null,null,null,null,null,"School Listing–School 84"]
["School 85",null,null,null,null,null,null,null,null,null,null,"School Listing–School 85"]
["School 86",null,null,null,null,null,null,null,null,null,null,"School Listing–School 86"]
["School 87",null,null,null,null,null,null,null,null,null,null,"School Listing–School 87"]
["School 88",null,null,null,null,null,null,null,null,null,null,"School Listing–School 88"]
["School 89",null,null,null,null,null,null,null,null,null,null,"School Listing–School 89"]
["School 90",null,null,null,null,null,null,null,null,null,null,"School Listing–School 90"]

{"sheet":"COA","index":16,"n_rows":1136,"n_cols":3,"rows_kept":1136,"cut":false,"hidden":false,"merged":[]}
["Element Name","Element","Description"]
["FUND","001","MAINTENANCE AND OPERATION"]
["FUND","010","CLASSROOM SITE FUND"]
["FUND","011","P301 BASE PAY"]
["FUND","012","P301 PERFORMANCE PAY"]
["FUND","013","P301 CLASSROOM IMPROVMENT"]
["FUND","020","INSTRUCTIONAL IMPROVEMENT FUND"]
["FUND","050","MARICOPA COUNTY TRUANCY GRANT"]
["FUND","071","STRUCTURED ENGLISH IMMERSION"]
["FUND","072","COMPENSATORY INSTRUCTION"]
["FUND","074","STRUCTURED ENGLISH IMMERSION (SEI) REIMB"]
["FUND","080","STUDENT SUCCESS FUND"]
["FUND","100","TITLE I "]
["FUND","101","TITLE I "]
["FUND","104","TITLE I SCHOOL LEA IMPROVEMENT"]
["FUND","105","TITLE I LEA IMPROV LETTER REIMB"]
["FUND","106","ARRA - TITLE I"]
["FUND","108","ARRA - TITLE I SCH IMPR-FAM & COMM"]
["FUND","110","TITLE ID - NEGLECTED OR DELINQUENT"]
["FUND","111","TITLE I PART D SUBPART 2 LEA DELINQUENT"]
["FUND","112","ARRA TITLE ID NEGLECTED"]
["FUND","113","TITLE I SCHOOL IMPROVEMENT YR 1 "]
["FUND","114","TITLE I SCH IMPRV CA RP RI"]
["FUND","115","TITLE I TARGETED SUPPORT & IMPROVEMENT"]
["FUND","116","TITLE I  TARGETED SUPPORT & IMPROVEMENT"]
["FUND","117","TITLE I SI PRIORITY & FOCUS"]
["FUND","130","Undesignated"]
["FUND","140","TITLE IIA - IMPROVING TEACHER QUALITY"]
["FUND","141","TITLE IIA - IMPROVING TEACHER QUALITY"]
["FUND","150","ENHANCING ED THRU TECHNOLOGY"]
["FUND","151","ENHANCING ED THRU TECHNOLOGY"]
["FUND","154","ARRA TITLE IID"]
["FUND","157","Undesignated"]
["FUND","160","TITLE IV - SAFE & DRUG FREE BASIC"]
["FUND","161","TITLE IV - SAFE & DRUG FREE BASIC"]
["FUND","162","21ST CENTURY (ENC, SOL)"]
["FUND","163","21ST CENTURY (CL, LV, OMS)"]
["FUND","165","Undesignated"]
["FUND","166","Undesignated"]
["FUND","167","Undesignated"]
["FUND","180","TITLE V"]
["FUND","181","TITLE V "]
["FUND","182","TITLE V ARTS EDUCATION INITIATIVE"]
["FUND","190","TITLE III"]
["FUND","191","TITLE III"]
["FUND","195","EMERGENCY IMMIGRANT FUNDING"]
["FUND","196","EMERGENCY IMMIGRANT FUNDING"]
["FUND","197","Undesignated"]
["FUND","200","TITLE VII - INDIAN ED"]
["FUND","220","IDEA - BASIC"]
["FUND","221"," IDEA BASIC"]
["FUND","222","IDEA - PRESCHOOL GRANT"]
["FUND","223","IDEA EDISA - 2 Training"]
["FUND","224","IDEA EDISA-1 Implementation"]
["FUND","226","ESS- High Cost Claims"]
["FUND","227","ARP- IDEA PRESCHOOL"]
["FUND","228","ARP- IDEA BASIC "]
["FUND","230","JOHNSON-O'MALLEY"]
["FUND","231","JOHNSON-O'MALLEY"]
["FUND","280","EDUCATION FOR HOMELESS CHILDREN"]
["FUND","281","EDUCATION FOR HOMELESS CHILDREN"]
["FUND","282","ARP - HOMELESS MINI GRANT"]
["FUND","283","ARRA - EDUCATION FOR HOMELESS CHILDREN"]
["FUND","284","ARP - HOMELESS I "]
["FUND","290","MEDICAID REIMB"]
["FUND","302","DEMA GRANT"]
["FUND","304","DES COVID-19 GRANT"]
["FUND","312","REFUGEE GRANT"]
["FUND","313","REFUGEE GRANT"]
["FUND","314","AWARE - CONTINUATION GRANT"]
["FUND","315","AWARE - II GRANT"]
["FUND","317","CARES ACT FUND (HIGH COST CHILD CLAIMS)"]
["FUND","320","PRESCHOOL DEVELOPMENT GRANT"]
["FUND","321","Edu Jobs FY12"]
["FUND","322","PRESCHOOL DEV - START-UP"]
["FUND","326","ESSER CARES"]
["FUND","327","ACCELERATION ACADEMY GRANT"]
["FUND","328","ENROLLMENT STABILIZATION GRANT"]
["FUND","333","HQEL"]
["FUND","335","GOV- Summer Enrich"]
["FUND","336","ESSER / CARES ROUND II"]
["FUND","337","ACCELERATION ACADEMIES GRANT"]
["FUND","345","ESSER III- SET ASIDE"]
["FUND","346","ESSER ROUND III"]
["FUND","352","TIF GRANT - ASU"]
["FUND","361","IMPROVING LITERACY THROUGH LIBRARIES"]
["FUND","370","21ST CENTURY"]
["FUND","374","E-RATE"]
["FUND","375","E-RATE- EMERGENCY CONNECTIVITY"]
["FUND","376","SCOPPES - COUNSELING GRANT"]
["FUND","377","ARTS IN EDUCATION"]
["FUND","378","DOE COUNSELING GRANT "]
["FUND","382","ARP  HOMELSS MINI GRANT (FORMELY FUND 382)"]
["FUND","383","ARP - HOMELESS II ENTITLEMENT GRANT (FOR FUND 283)"]
["FUND","384","ARP - HOMELESS I GRANT (FORMELY FUND 284)"]
["FUND","387","Dyslexia Grant"]
["FUND","396","RACE TO THE TOP"]
["FUND","400","State projects- Interest"]
["FUND","410","EARLY CHILDHOOD SBG"]
["FUND","412","FIRST THINGS FIRST"]
["FUND","420","HANDICAPPED PUPILS-ESY"]
["FUND","430","STATE CHEMICAL ABUSE PREV"]
["FUND","450","GIFTED"]
["FUND","457","RESULTS BASED FUNDING"]
["FUND","462","UNDERGROUND STORAGE TANK"]
["FUND","465","AZ TRANSPORTATION MODERNIZATION GRANT"]
["FUND","467","DO NOT USE"]
["FUND","470","SEI REIMBURSEMENT FUND"]
["FUND","471","SEI REIMBURSEMENT FUND"]
["FUND","472","EARLY LITERACY GRANT"]
["FUND","473","COMP INST FOR EL-HB2010 CARRYOVER"]
["FUND","474","CYCLE II ELL COMP ED"]
["FUND","475","ELL BONUS FUND"]
["FUND","476","VW BUS SETTLEMENT"]
["FUND","477","ELL FLORES MATERIAL"]
["FUND","478","DYSLEXIA DESIGNEE GRANT "]
["FUND","480","SAFE SCHOOLS"]
["FUND","482","SCHOOL SAFETY EXPANSION"]
["FUND","485","SCHOOL EMERGENCY READINESS"]
["FUND","487","ESEN- "]
["FUND","491","SFB ENERGY GRANT"]
["FUND","500","SCH PL-SALE/LEAS OVR 1 YR"]
["FUND","501","SCHOOL PLANT (lease under 1 yr)"]
["FUND","502","SCHOOL PLANT SALES"]
["FUND","505","DO NOT USE"]
["FUND","506","DO NOT USE"]
["FUND","510","FOOD SERVICE"]
["FUND","515","CIVIC CENTER"]
["FUND","520","COMMUNITY SCHOOL"]
["FUND","521","COMMUNITY SCHOOL - MONTESSORI"]
["FUND","524","EARLY CHILDHOOD ADD'L."]
["FUND","525","AUXILIARY OPERATIONS"]
["FUND","526","EXTRA CURR TAX FEES CR"]
["FUND","530","GIFTS AND DONATIONS"]
["FUND","531","TRUANCY GRANT"]
["FUND","540","FINGERPRINT"]
["FUND","550","INSURANCE PROCEEDS"]
["FUND","555","TEXTBOOKS"]
["FUND","565","LITIGATION RECOVERY"]
["FUND","570","INDIRECT COSTS"]
["FUND","575","UNEMPLOYMENT INSURANCE"]
["FUND","585","INSURANCE REFUND"]
["FUND","590","GRANTS TO TEACHERS"]
["FUND","595","SCHOOL BUS ADVERTISEMENT"]
["FUND","610","UNRESTRICT CAPITAL OUTLAY"]
["FUND","620","ADJACENT WAYS"]
["FUND","625","SOFT CAPITAL"]
["FUND","626","ZONE BOND TEMPORARY FUND"]
["FUND","630","BOND BUILDING"]
["FUND","665","ENERGY & WATER SAVINGS"]
["FUND","685","DEFICIENCIES CORRECTION"]
["FUND","690","BUILDING RENEWAL"]
["FUND","691","SFB BUILDING RENEWAL"]
["FUND","700","DEBT SERVICE"]
["FUND","850","STUDENT ACTIVITIES"]
["FUND","855","EMPL INSUR PGM WITHHOLDNG"]
["FUND","955","INTERGOVERNMENTAL AGREEMENT"]
["PROGRAM","000","UNDEFINED PROGRAM"]
["PROGRAM","100","REGULAR EDUCATION"]
["PROGRAM","160","LANGUAGE ACQ DEPT"]
["PROGRAM","199","ARRA ED STABILIZATION"]
["PROGRAM","200","SPECIAL EDUCATION"]
["PROGRAM","201","AUTISM"]
["PROGRAM","202","EMOTIONAL DISABILITY"]
["PROGRAM","203","HEARING IMPAIRMENTS"]
["PROGRAM","204","OTHER HEALTH IMPAIRMENTS"]
["PROGRAM","205","SPECIFIC LEARNING DISABIL"]
["PROGRAM","206","MILD,MODERATE,SEVERE IMPR"]
["PROGRAM","207","MULTIPLE DISABILITIES"]
["PROGRAM","208","MULTIPLE DISABILITY/SSI"]
["PROGRAM","209","ORTHOPEDIC IMPAIRMENT"]
["PROGRAM","210","PRESCHL MODERATE DELAY"]
["PROGRAM","211","PRESCHL SEVERE DELAY"]
["PROGRAM","212","PRESCHL SPEECH/LANG DELAY"]
["PROGRAM","213","SPEECH/LANG IMPAIRMENT"]
["PROGRAM","214","TRAUMATIC BRAIN INJURY"]
["PROGRAM","215","VISUAL IMPAIRMENT"]
["PROGRAM","240","GIFTED EDUCATION"]
["PROGRAM","250","REMEDIAL ED"]
["PROGRAM","260","BILINGUAL ED"]
["PROGRAM","265","ELL COMPENSATORY INSTRUCTION"]
["PROGRAM","270","VOCATIONAL/TECHNOLOGICAL"]
["PROGRAM","400","ADMIN OF STUDENT TRANSPORT"]
["PROGRAM","410","STUDENT TRANSPORT/REG ED"]
["PROGRAM","420","STUDENT TRANS/SPECIAL ED"]
["PROGRAM","435","ELL COMP INSTR TRANSPORT"]
["PROGRAM","520","SPECIAL K-3 PROG OVERRIDE"]
["PROGRAM","530","DROPOUT PREVENTION PROG"]
["PROGRAM","550","K-3 READING PROGRAM"]
["PROGRAM","610","SCHL SPON CO-CURRIC ACT"]
["PROGRAM","620","SCHL SPONSORED ATHLETICS."]
["PROGRAM","900","COMMUNITY SERVICE PROGRAMS"]
["PROGRAM","950","RENTALS"]
["FUNCTION","0000","UNDEFINED FUNCTION"]
["FUNCTION","1000","INSTRUCTION"]
["FUNCTION","1010","INSTRUCTION-MATH"]
["FUNCTION","1020","INSTRUCTION-LANG ARTS"]
["FUNCTION","1030","INSTRUCTION-SCIENCE"]
["FUNCTION","1040","INSTRUCTION-SOCIAL STUDY"]
["FUNCTION","1045","INSTRUCTION - MUSIC/BAND"]
["FUNCTION","1050","INSTRUCTION-ART"]
["FUNCTION","1060","PHYSICAL EDUCATION"]
["FUNCTION","1070","INSTRUCTION-READING"]
["FUNCTION","1080","INSTRUCTION - ESY"]
["FUNCTION","1085","INSTRUCTION - PRC"]
["FUNCTION","1090","HOMEBOUND INSTRUCTION"]
["FUNCTION","1095","SUPPLIES-COPIER"]
["FUNCTION","1100","GENERAL ATHLETICS"]
["FUNCTION","1120","Undesignated"]
["FUNCTION","1130","Undesignated"]
["FUNCTION","1140","Undesignated"]
["FUNCTION","1150","Undesignated"]
["FUNCTION","1190","Undesignated"]
["FUNCTION","1210","Undesignated"]
["FUNCTION","1220","Undesignated"]
["FUNCTION","1750","ENTERPRISE & STUDENT ACTIIVITY"]
["FUNCTION","1900","INSTRUCTION - CLASSIFIED STAFF"]
["FUNCTION","2000","SUPPORT SERVICES"]
["FUNCTION","2100","SUPPORT SERVICES - STUDENT"]
["FUNCTION","2110","ATTENDANCE & SOCIAL WORK"]
["FUNCTION","2113","Undesignated"]
["FUNCTION","2120","GUIDANCE SERVICES"]
["FUNCTION","2130","HEALTH SERVICES"]
["FUNCTION","2140","PSYCHOLOGICAL SERVICES"]
["FUNCTION","2145","Undesignated"]
["FUNCTION","2150","SPEECH PATHOLOGY & AUDIO"]
["FUNCTION","2160","OCCUPATIONAL/PHYSICAL THERAPY"]
["FUNCTION","2170","Undesignated"]
["FUNCTION","2180","Undesignated"]
["FUNCTION","2190","OTHER SUPPORT SERV-STUDNT"]
["FUNCTION","2200","SUPPORT SERVICES - INSTRUCTION"]
["FUNCTION","2210","CURR/IMPROV OF INSTR SVC"]
["FUNCTION","2213","Teacher PD Training"]
["FUNCTION","2220","EDUCATION  MEDIA SERVICES"]
["FUNCTION","2230","INSTRUCTION-RELATED TECHNOLOGY"]
["FUNCTION","2240","Heads of Component Support Services"]
["FUNCTION","2245","Undesignated"]
["FUNCTION","2260","ACADEMIC STUDENT ASSESSMENT"]
["FUNCTION","2290","OTHER SUPPORT SERV-INSTR"]
["FUNCTION","2300","DISTRICT ADMINISTRATION"]
["FUNCTION","2310","GOVERNING BOARD SERVICES"]
["FUNCTION","2313","Undesignated"]
["FUNCTION","2320","EXECUTIVE ADM SERV-SUPT"]
["FUNCTION","2330","LOBBYING"]
["FUNCTION","2340","Election services"]
["FUNCTION","2345","Undesignated"]
["FUNCTION","2360","Undesignated"]
["FUNCTION","2370","Undesignated"]
["FUNCTION","2390","ADMIN MISC. EXPENSE"]
["FUNCTION","2400","SCHOOL ADMINISTRATION"]
["FUNCTION","2410","SCHOOL PRINCIPAL'S OFFICE"]
["FUNCTION","2490","OTHR SPRT SERV-SCH ADMIN"]
["FUNCTION","2500","BUSINESS SERVICES"]
["FUNCTION","2510","FISCAL SERVICES"]
["FUNCTION","2520","PURCHASE & W/H SERVICES"]
["FUNCTION","2530","Heads of Components Suuport Services- Central"]
["FUNCTION","2540","PRINTING,PUBL,& DUPLICATE"]
["FUNCTION","2550","PLAN, RESEARCH,DEV & EVAL SVS"]
["FUNCTION","2560","PUBLIC INFO SERVICES"]
["FUNCTION","2570","PERSONNEL SERVICES"]
["FUNCTION","2580","ADMIN TECHNOLOGY SERVICES"]
["FUNCTION","2590","OTHER SUPPORT SERV-BUSN"]
["FUNCTION","2600","MAINTENANCE & OPERATION"]
["FUNCTION","2610","OPERATION OF BUILDINGS"]
["FUNCTION","2620","MAINTENANCE OF BUILDINGS"]
["FUNCTION","2630","CARE/UPKEEP GROUNDS SERV"]
["FUNCTION","2640","CARE & UPKEEP OF EQUIP "]
["FUNCTION","2650","VEHICLE OPERATION & MAINT"]
["FUNCTION","2660","SECURITY SERVICES"]
["FUNCTION","2670","SAFETY SERVICES"]
["FUNCTION","2680","Heads of Components Op & Maint of Plant"]
["FUNCTION","2690","OTHER OPERATION & MAINT"]
["FUNCTION","2700","STUDENT TRANSPORTATION"]
["FUNCTION","2710","VEHICLE OPERATION"]
["FUNCTION","2713","Undesignated"]
["FUNCTION","2720","MONITORING SERVICES"]
["FUNCTION","2730","VEHICLE SERVICING & MAINT"]
["FUNCTION","2740","VEHICLE SERV & MAINT SERV"]
["FUNCTION","2790","OTHER STUDENT TRANSP SERV"]
["FUNCTION","2840","Undesignated"]
["FUNCTION","2900","OTHER SUPPORT SERVICES"]
["FUNCTION","2998","INSURANCE PMTS"]
["FUNCTION","3000","Undesignated"]
["FUNCTION","3100","FOOD SERVICE OPERATIONS"]
["FUNCTION","3110","Heads of Components Food Service"]
["FUNCTION","3200","ENTERPRISE OPERATIONS"]
["FUNCTION","3300","COMMUNITY SERV OPERATIONS"]
["FUNCTION","3400","BOOKSTORE OPERATIONS"]
["FUNCTION","4000","CONSTRUCTION"]
["FUNCTION","4100","LAND ACQUISITION"]
["FUNCTION","4200","LAND IMPROVEMENT "]
["FUNCTION","4210","Undesignated"]
["FUNCTION","4230","Undesignated"]
["FUNCTION","4300","ARCHITECTURE & ENG SVS"]
["FUNCTION","4400","ED.SPECIFICATIONS DEVELOP"]
["FUNCTION","4500","BUILDING ACQUIS & CONSTR"]
["FUNCTION","4510","Undesignated"]
["FUNCTION","4600","SITE IMPROVEMENT"]
["FUNCTION","4610","Undesignated"]
["FUNCTION","4620","Undesignated"]
["FUNCTION","4660","Undesignated"]
["FUNCTION","4700","BUILDING IMPROVEMENT"]
["FUNCTION","4800","Head of Component- Construction"]
["FUNCTION","4900","OTH FACILITIES ACQUIS/CON"]
["FUNCTION","5000","DEBT SERVICES"]
["FUNCTION","6000","OTHER FINANCING USES"]
["OBJECT","0102","CASH IN BANK"]
["OBJECT","0103","CASH ON DEP/COUNTY TREASR"]
["OBJECT","0104","CASH/INVEST HELD BY TRUST"]
["OBJECT","0105","CASH WITH FISCAL AGENT"]
["OBJECT","0121","RECEIVABLE-PER PROP CURR"]
["OBJECT","0122","RECEIVABLE PER PROP PRIOR"]
["OBJECT","0123","RECEIVALBE REAL PROP CURR"]
["OBJECT","0124","RECEIVABLE REAL PROP PRIR"]
["OBJECT","0131","RECEIVABLE TAXES IN LIEU"]
["OBJECT","0132","ACCOUNTS RECEIVABLE"]
["OBJECT","0134","INTEREST RECEIVABLE"]
["OBJECT","0135","REFUNDABLE DEPOSITS"]
["OBJECT","0140","DUE FROM OTH FUNDS & GOVT"]
["OBJECT","0141","DUE FROM OTHER FUNDS"]
["OBJECT","0142","DUE FROM OTHER DISTRICTS"]
["OBJECT","0143","DUE FROM COUNTY"]
["OBJECT","0144","DUE FROM STATE"]
["OBJECT","0145","DUE FROM FEDERAL GOV"]
["OBJECT","0201","ACCOUNTS PAYABLE"]
["OBJECT","0211","DUE TO OTHER FUNDS"]
["OBJECT","0214","DUE TO STATE"]
["OBJECT","0215","DUE TO FEDERAL"]
["OBJECT","0221","SALARIES & WAGES {NET}"]
["OBJECT","0222","SOCIAL SECURITY-FICA"]
["OBJECT","0223","MEDICARE-HOSP INSURANCE"]
["OBJECT","0224","STATE RETIREMENT-OSD MATCH"]
["OBJECT","0225","EMPLOYEE INSURANCE"]
["OBJECT","0226","UNEMPLOYMENT INSURANCE"]
["OBJECT","0227","WORKER'S COMPENSATION"]
["OBJECT","0228","SELF-INSUR EMP CLAIMS"]
["OBJECT","0229","COMPENSATED ABSENCES"]
["OBJECT","0232","BOND INTEREST PAYABLE"]
["OBJECT","0240","PAYROLL DEDUCTIONS W/HOLD"]
["OBJECT","0241","FEDERAL INCOME TAXES"]
["OBJECT","0242","STATE INCOME TAXES"]
["OBJECT","0243","SOCIAL SECURITY PAYABLE"]
["OBJECT","0244","MEDICARE-HOSP INS PAYABLE"]
["OBJECT","0245","STATE RETIRE CONTRIBUTION"]
["OBJECT","0246","LONG TERM DISABILITY"]
["OBJECT","0247","VOLUNTARY DEDUCTIONS"]
["OBJECT","0248","COURT ORDERED ASSIGNMENTS"]
["OBJECT","0249","RETIREMENT BUYBACK"]
["OBJECT","0250","DEFERRED REVENUE-INTEREST"]
["OBJECT","0259","DEFERRED REVENUE"]
["OBJECT","0271","CURRENT BONDS PAYABLE"]
["OBJECT","0330","UNRESERVED FUND BALANCE"]
["OBJECT","0334","BEG FUND BAL ADJ"]
["OBJECT","0399","RESERVE FOR ENCUMBRANCE"]
["OBJECT","1000","REVENUE FROM LOCAL SOURCES"]
["OBJECT","1110","PROPERTY TAXES"]
["OBJECT","1111","PERS PROP TAXES-CURRENT"]
["OBJECT","1112","REAL PROP TAXES-CURRENT"]
["OBJECT","1113","REAL PROP TAXES-PRIOR YR"]
["OBJECT","1114","PERS PROP TAXES-PRIOR YR"]
["OBJECT","1115","REAL PROPERTY TAXES"]
["OBJECT","1116","REAL PROP TAXES - PRIOR YR"]
["OBJECT","1117","PROPERTY TAXES"]
["OBJECT","1280","REVENUE IN LIEU OF TAXES"]
["OBJECT","1283","SRP Levy"]
["OBJECT","1285","***DO NOT USE***"]
["OBJECT","1310","TUITION - INDIVIDUALS"]
["OBJECT","1311","REVENUE"]
["OBJECT","1320","TUITION-OTHER AZ DISTRICT"]
["OBJECT","1330","TUITION OUT OF STATE DIST"]
["OBJECT","1340","TUITION-PRIVATE SOURCES"]
["OBJECT","1350","TUITION-OTHER GOV SOURCES"]
["OBJECT","1410","TRANSPORT FEES-INDIVIDUAL"]
["OBJECT","1420","TRANS FEES-OTHER AZ DIST"]
["OBJECT","1430","TRANS FEES OUT STATE DIST"]
["OBJECT","1440","TRANS FEES PRIVATE SOURCES"]
["OBJECT","1510","INTEREST ON INVESMENTS"]
["OBJECT","1610","DAILY SALES-REIMB PROG"]
["OBJECT","1620","SALES-NONREIMBURSIBLE"]
["OBJECT","1625","REFUND OF REVENUE"]
["OBJECT","1630","SPECIAL FUNCTIONS"]
["OBJECT","1690","UNCOLLECTIBLE ACCOUNTS"]
["OBJECT","1700","ACTIVITIES"]
["OBJECT","1750","ACTIVITIES"]
["OBJECT","1790","EXTRACURR FEES TAX CREDIT"]
["OBJECT","1800","do not use"]
["OBJECT","1910","RENTALS"]
["OBJECT","1920","CONTRIBUTION & DONATIONS"]
["OBJECT","1940","GOV PROP LEASE EXCISE TAX"]
["OBJECT","1950","SERV PROVIDED OTHER DISTR"]
["OBJECT","1980","REFUND OF PRIOR YRS EXPENDITURES"]
["OBJECT","1981","REFUND PRIOR YR EXP "]
["OBJECT","1982","REVERSE EXPENDITURE"]
["OBJECT","1990","MISCELLANEOUS"]
["OBJECT","1991","MISC REV LOST/DAMAGE TEXT"]
["OBJECT","1992","MISC REV LOST/DAMAGE LIBR"]
["OBJECT","1994","REVENUE REFUND"]
["OBJECT","1998","COBRA PMTS"]
["OBJECT","1999","INSURANCE DEPOSITS"]
["OBJECT","2000","REVENUE FROM COUNTY"]
["OBJECT","2110","COUNTY SCHOOL FUND"]
["OBJECT","2120","COUNTY EQUAL ASSISTANCE"]
["OBJECT","3000","REVENUE FROM STATE SOURCES"]
["OBJECT","3100","UNRESTRICTED STATE REVENUE"]
["OBJECT","3110","STATE EQUAL ASSISTANCE"]
["OBJECT","3120","ADDITIONAL STATE AID"]
["OBJECT","3121","UNSECURED ADD. STATE AID"]
["OBJECT","3160","UNRESTRICTED REVENUE - STATE"]
["OBJECT","3200","RESTRICTED GRANTS IN AID"]
["OBJECT","3210","STATE CARRYOVER"]
["OBJECT","3220","RESTRICTED GRANTS IN AID"]
["OBJECT","3900","REV FROM STATE - SFB"]
["OBJECT","4000","REVENUE FROM FEDERAL SOURCES"]
["OBJECT","4100","UNRESTRICT GRANTS AID FED"]
["OBJECT","4110","FEDERAL IMPACT AID"]
["OBJECT","4200","UNRES GRANTS AID REC'D AZ"]
["OBJECT","4201","MAC-UNRESTRICTED GRANTS AID"]
["OBJECT","4210","CARRYOVER"]
["OBJECT","4288","do not use"]
["OBJECT","4300","RESTR GRANTS AID/FEDERAL"]
["OBJECT","4310","PROIR YEAR CARRYOVER"]
["OBJECT","4500","RESTR.GRANTS AID FLOWTHRU"]
["OBJECT","4501","FED FOOD SVC REIMBL"]
["OBJECT","4510","FEDERAL CARRYOVER"]
["OBJECT","4700","GRANTS/FED GOVT TO OTH AG"]
["OBJECT","4900","E-RATE REV PD BY FED"]
["OBJECT","5000","REVENUE FROM OTHER SOURCES"]
["OBJECT","5110","BOND OF PRINCIPAL"]
["OBJECT","5120","PREMIUM"]
["OBJECT","5130","ACCRUED INTEREST"]
["OBJECT","5200","INTERFUND TRANSFERS IN"]
["OBJECT","5300","SALE-SCHOOL PROPERTY"]
["OBJECT","6000","EXPENDITURES"]
["OBJECT","6100","SALARIES"]
["OBJECT","6102","Undesignated"]
["OBJECT","6103","Undesignated"]
["OBJECT","6110","Undesignated"]
["OBJECT","6111","CERT ADMINISTRATORS"]
["OBJECT","6112","CERT TEACHERS"]
["OBJECT","6113","CERT SUB TEACHERS"]
["OBJECT","6114","CERT SUB - OPEN POSITION"]
["OBJECT","6115","CERT EXTRA DUTY"]
["OBJECT","6116","CERT PERFORMANCE AWARD"]
["OBJECT","6120","CERT PSYCHOLOGIST"]
["OBJECT","6121","Undesignated"]
["OBJECT","6122","Undesignated"]
["OBJECT","6130","Undesignated"]
["OBJECT","6131","Undesignated"]
["OBJECT","6132","Undesignated"]
["OBJECT","6134","Undesignated"]
["OBJECT","6137","Undesignated"]
["OBJECT","6138","Undesignated"]
["OBJECT","6141","Undesignated"]
["OBJECT","6142","Undesignated"]
["OBJECT","6143","Undesignated"]
["OBJECT","6144","Undesignated"]
["OBJECT","6150","CLASSIFIED EXEMPT"]
["OBJECT","6151","CLASS ADMINISTRATOR"]
["OBJECT","6152","CLASSIFIED"]
["OBJECT","6153","CLASS SUBSTITUTE"]
["OBJECT","6154","CLASS OVERTIME"]
["OBJECT","6155","CLASS EXTRA DUTY"]
["OBJECT","6156","AIDE"]
["OBJECT","6157","SECRETARY"]
["OBJECT","6158","TUTOR"]
["OBJECT","6159","PARAPROFESSIONAL"]
["OBJECT","6160","LIAISON"]
["OBJECT","6161","HEALTH OFFICE"]
["OBJECT","6162","CLERK"]
["OBJECT","6163","CHILD CARE SPECIALIST"]
["OBJECT","6164","CLASS EARLY RETIREE "]
["OBJECT","6165","PSYCH - NO TEACH CERT"]
["OBJECT","6166","SUPERVISOR/LEAD/MGR"]
["OBJECT","6167","OT/PT"]
["OBJECT","6168","COTA"]
["OBJECT","6170","CUDTODIAN"]
["OBJECT","6171","MANAGER"]
["OBJECT","6172","ASS'T MANAGER"]
["OBJECT","6173","COOK/BAKER"]
["OBJECT","6174","CASHIER"]
["OBJECT","6175","ASS'T COOK/BAKER"]
["OBJECT","6176","HELPER"]
["OBJECT","6177","SUBSTITUTE"]
["OBJECT","6178","SPEECH"]
["OBJECT","6180","Undesignated"]
["OBJECT","6182","Undesignated"]
["OBJECT","6190","TERM PAYOUT-ANNUAL LEAVE"]
["OBJECT","6191","TERM PAYOUT-VACATION"]
["OBJECT","6192","PERFECT ATTENDANCE PAYOUT"]
["OBJECT","6196","CLASSIFIED PERFORMANCE PAY"]
["OBJECT","6200","EMPLOYEE BENEFITS"]
["OBJECT","6201","Undesignated"]
["OBJECT","6203","Undesignated"]
["OBJECT","6210","GROUP INSURANCE"]
["OBJECT","6211","S-T DISABILITY "]
["OBJECT","6212","LIFE INSURANCE"]
["OBJECT","6213","Undesignated"]
["OBJECT","6215","Undesignated"]
["OBJECT","6220","SOCIAL SECURITY CONTRIB"]
["OBJECT","6221","SOCIAL SECURITY-FICA"]
["OBJECT","6222","FICA MEDICARE"]
["OBJECT","6223","Undesignated"]
["OBJECT","6224","Undesignated"]
["OBJECT","6225","Undesignated"]
["OBJECT","6226","Undesignated"]
["OBJECT","6227","Undesignated"]
["OBJECT","6228","Undesignated"]
["OBJECT","6229","Undesignated"]
["OBJECT","6230","STATE RETIR SYSTEM CONTR"]
["OBJECT","6231","STATE RETIREMENT"]
["OBJECT","6232","L-T DISABILITY"]
["OBJECT","6233","Undesignated"]
["OBJECT","6234","Undesignated"]
["OBJECT","6235","Undesignated"]
["OBJECT","6236","Undesignated"]
["OBJECT","6237","Undesignated"]
["OBJECT","6238","Undesignated"]
["OBJECT","6239","Undesignated"]
["OBJECT","6241","Undesignated"]
["OBJECT","6242","Undesignated"]
["OBJECT","6243","Undesignated"]
["OBJECT","6244","Undesignated"]
["OBJECT","6245","Undesignated"]
["OBJECT","6246","Undesignated"]
["OBJECT","6247","Undesignated"]
["OBJECT","6248","Undesignated"]
["OBJECT","6249","Undesignated"]
["OBJECT","6250","UNEMPLOYMENT INSURANCE"]
["OBJECT","6251","Undesignated"]
["OBJECT","6252","Undesignated"]
["OBJECT","6253","Undesignated"]
["OBJECT","6254","Undesignated"]
["OBJECT","6255","Undesignated"]
["OBJECT","6256","Undesignated"]
["OBJECT","6257","Undesignated"]
["OBJECT","6258","Undesignated"]
["OBJECT","6260","WORKERS' COMPENSATION"]
["OBJECT","6261","Undesignated"]
["OBJECT","6262","Undesignated"]
["OBJECT","6263","Undesignated"]
["OBJECT","6264","Undesignated"]
["OBJECT","6265","Undesignated"]
["OBJECT","6270","Undesignated"]
["OBJECT","6280","UNUSED LEAVE"]
["OBJECT","6282","Undesignated"]
["OBJECT","6290","ANNUAL LEAVE PAYOUT"]
["OBJECT","6291","VACATION PAYOUT"]
["OBJECT","6292","ATTENDANCE PAYOUT"]
["OBJECT","6300","PURCHASED PROF SERVICES"]
["OBJECT","6301","Undesignated"]
["OBJECT","6303","Undesignated"]
["OBJECT","6310","OFFICIAL/ADMIN SERV"]
["OBJECT","6311","BOARD MISC. ELECTIONS"]
["OBJECT","6312","Undesignated"]
["OBJECT","6315","Undesignated"]
["OBJECT","6320","PROFESSIONAL-ED SERV"]
["OBJECT","6321","REGISTRATION - INSTIT TUITION"]
["OBJECT","6322","Undesignated"]
["OBJECT","6323","Undesignated"]
["OBJECT","6324","Undesignated"]
["OBJECT","6325","Undesignated"]
["OBJECT","6327","Undesignated"]
["OBJECT","6330","OTHER PROFESSIONAL SERV"]
["OBJECT","6331","LEGAL FEES"]
["OBJECT","6332","TRANSLATIONS"]
["OBJECT","6334","Undesignated"]
["OBJECT","6337","Undesignated"]
["OBJECT","6338","Undesignated"]
["OBJECT","6340","TECH SERV"]
["OBJECT","6341","Undesignated"]
["OBJECT","6342","Undesignated"]
["OBJECT","6343","Undesignated"]
["OBJECT","6344","Undesignated"]
["OBJECT","6345","Undesignated"]
["OBJECT","6346","Undesignated"]
["OBJECT","6347","Undesignated"]
["OBJECT","6350","AUDIT SERV"]
["OBJECT","6360","EMPLOYEE TRAINING & PROF DEV"]
["OBJECT","6365","Undesignated"]
["OBJECT","6380","Undesignated"]
["OBJECT","6390","MISC. PROFESSIONAL EXP"]
["OBJECT","6399","Undesignated"]
["OBJECT","6400","PURCH PROPERTY SERV"]
["OBJECT","6410","UTILITY SERV"]
["OBJECT","6411","WATER/SEWAGE"]
["OBJECT","6420","CLEANING SERVICES"]
["OBJECT","6421","DISPOSAL SERVICES"]
["OBJECT","6431","NON-TECH RELATED REPAIRS & MAINT"]
["OBJECT","6432","TECH RELATED REPAIRS & MAINT"]
["OBJECT","6440","RENTALS"]
["OBJECT","6441","RENTING LAND & BUILDINGS"]
["OBJECT","6442","RENTAL OF EQUIPMENT"]
["OBJECT","6443","RENTAL OF TECH RELATED EQUIP"]
["OBJECT","6450","CONSTRUCTION SERVICES"]
["OBJECT","6451","CONTR LAND/IMPRV > $5,000"]
["OBJECT","6452","CONTR LAND/IMPRV < $5,000"]
["OBJECT","6453","CONTR BLDG/IMPRV > $5,000"]
["OBJECT","6454","CONTR BLDG/IMPRV < $5,000"]
["OBJECT","6490","OTHER PURCHASED PROPERTY"]
["OBJECT","6500","OTHER PURCHASED SERVICES"]
["OBJECT","6510","STUDENT TRANSPOR SERVICES"]
["OBJECT","6519","OTHER STUDENT TRANSPORTATION"]
["OBJECT","6520","INSURANCE"]
["OBJECT","6521","Liability Insurance- current year"]
["OBJECT","6522","INSURANCE"]
["OBJECT","6530","COMMUNICATIONS"]
["OBJECT","6531","TELEPHONE"]
["OBJECT","6532","POSTAGE, METER & DELIVERY SVS"]
["OBJECT","6533","POSTAGE"]
["OBJECT","6540","ADVERTISING"]
["OBJECT","6550","PRINTING & BINDING"]
["OBJECT","6560","TUITION"]
["OBJECT","6561","TUITION OTHER AZ DISTRICT"]
["OBJECT","6562","TUITION OUT OF STATE DIST"]
["OBJECT","6563","TUITION TO PRIVATE SOURCE"]
["OBJECT","6564","TUITION TO INTER AGENCIES"]
["OBJECT","6569","TUITION - OTHER"]
["OBJECT","6580","TRAVEL"]
["OBJECT","6582","MILEAGE"]
["OBJECT","6590","MISELLANEOUS PURCH SERV"]
["OBJECT","6595","STUDENT WORKER"]
["OBJECT","6600","SUPPLIES"]
["OBJECT","6610","F/S GENERAL SUPPLIES"]
["OBJECT","6611","SUPPLIES"]
["OBJECT","6612","SUPPLIES FOR SALE/RENT"]
["OBJECT","6613","TESTING MATERIALS"]
["OBJECT","6615","UNIFORMS/LINENS"]
["OBJECT","6620","ENERGY"]
["OBJECT","6621","NATURAL GAS"]
["OBJECT","6622","ELECTRICITY"]
["OBJECT","6623","BOTTLED GAS"]
["OBJECT","6624","OIL"]
["OBJECT","6626","VEHICLE FUEL"]
["OBJECT","6627","DIESEL FUEL"]
["OBJECT","6630","FOOD"]
["OBJECT","6631","COMMODITY VALUE"]
["OBJECT","6632","COMMODITY FREIGHT"]
["OBJECT","6633","NON-COMMODITY FOOD"]
["OBJECT","6641","LIBRARY BOOKS"]
["OBJECT","6642","ADOPTED MATERIALS"]
["OBJECT","6643","INSTRUCTIONAL AIDS"]
["OBJECT","6644","NON-INSTRUCTIONAL BOOKS"]
["OBJECT","6650","TECHNOLOGY RELATED SUPPLIES"]
["OBJECT","6655","NON-INSTRUCTION SBITAS"]
["OBJECT","6700","CAPITAL PURCHASES"]
["OBJECT","6701","Undesignated"]
["OBJECT","6703","Undesignated"]
["OBJECT","6710","LAND & LAND IMPROVEMENTS"]
["OBJECT","6711","Undesignated"]
["OBJECT","6712","Undesignated"]
["OBJECT","6713","Undesignated"]
["OBJECT","6715","Undesignated"]
["OBJECT","6719","Undesignated"]
["OBJECT","6720","BUILDINGS"]
["OBJECT","6721","Undesignated"]
["OBJECT","6722","Undesignated"]
["OBJECT","6723","Undesignated"]
["OBJECT","6724","Undesignated"]
["OBJECT","6725","Undesignated"]
["OBJECT","6726","Undesignated"]
["OBJECT","6727","Undesignated"]
["OBJECT","6730","Undesignated"]
["OBJECT","6731","FURNITURE & EQUIPMENT < $5000"]
["OBJECT","6732","F & E Under $1000"]
["OBJECT","6733","F & E over $5000"]
["OBJECT","6734","VEHICLES under $5000"]
["OBJECT","6736","Vehicles over $5000"]
["OBJECT","6737","TECH HDWR & SFTWR under $5000"]
["OBJECT","6738","TECH HDWR & SFTWR under $1,000"]
["OBJECT","6739","Tech F & E over $5000"]
["OBJECT","6740","Undesignated"]
["OBJECT","6741","Undesignated"]
["OBJECT","6742","Undesignated"]
["OBJECT","6743","Undesignated"]
["OBJECT","6744","Undesignated"]
["OBJECT","6745","Undesignated"]
["OBJECT","6746","Undesignated"]
["OBJECT","6747","Undesignated"]
["OBJECT","6748","Undesignated"]
["OBJECT","6749","Undesignated"]
["OBJECT","6750","Undesignated"]
["OBJECT","6751","Undesignated"]
["OBJECT","6752","Undesignated"]
["OBJECT","6754","Undesignated"]
["OBJECT","6755","Undesignated"]
["OBJECT","6756","Undesignated"]
["OBJECT","6759","Undesignated"]
["OBJECT","6760","Undesignated"]
["OBJECT","6762","Undesignated"]
["OBJECT","6763","Undesignated"]
["OBJECT","6780","Undesignated"]
["OBJECT","6782","Undesignated"]
["OBJECT","6790","Undesignated"]
["OBJECT","6800","DUES & FEES"]
["OBJECT","6810","DUES & FEES"]
["OBJECT","6811","SUPPLIES - GEN CLASS"]
["OBJECT","6820","JUDGMENTS AGAIN DISTRICT"]
["OBJECT","6830","USE 6831 OR 6832"]
["OBJECT","6831","PRINCIPAL - BOND"]
["OBJECT","6832","PRINCIPAL - OTHER"]
["OBJECT","6840","DO NOT USE"]
["OBJECT","6841","INTEREST-BOND"]
["OBJECT","6842","INTEREST-OTHER"]
["OBJECT","6850","OTHER INTEREST"]
["OBJECT","6860","BOND ISSUANCE COSTS"]
["OBJECT","6890","MISCELLANEOUS EXPENDITURE"]
["OBJECT","6910","INDIRECT COSTS"]
["OBJECT","6915","Undesignated"]
["OBJECT","6930","INTERFUND TRANSFERS OUT"]
["OBJECT","6940","PAYMENT BOND ESCROW AGENT"]
["OBJECT","6980","Undesignated"]
["OBJECT","6990","Undesignated"]
["UNIT","000","UNDESIGNATED"]
["UNIT","100","SCHOOL WIDE"]
["UNIT","101","Undesignated"]
["UNIT","102","CLARENDON"]
["UNIT","103","ENCANTO"]
["UNIT","104","OSBORN MIDDLE SCHOOL"]
["UNIT","105","MONTECITO"]
["UNIT","106","SOLANO"]
["UNIT","107","LONGVIEW"]
["UNIT","108","OCiS "]
["UNIT","109","ST. FRANCIS"]
["UNIT","110","ST. SIMON & JUDE"]
["UNIT","111","ST. VINCENT"]
["UNIT","112","MARTIN LUTHER"]
["UNIT","113","ST. GREGORY"]
["UNIT","114","COVENANT CHRISTIAN"]
["UNIT","115","GOOD SHEPHERD LUTHERAN"]
["UNIT","116","PHX CHRISTIAN ACADEMY"]
["UNIT","117","PHX CHRISTIAN UNIFIED"]
["UNIT","118","St. Matthew"]
["UNIT","119","ST. AGNES"]
["UNIT","120","ST. THOMAS APOSTLE"]
["UNIT","500","DISTRICT WIDE"]
["UNIT","501","DISTRICT OFFICES"]
["UNIT","502","CLARENDON"]
["UNIT","503","ENCANTO"]
["UNIT","504","OSBORN MIDDLE"]
["UNIT","505","MONTECITO"]
["UNIT","506","SOLANO"]
["UNIT","507","LONGVIEW"]
["UNIT","508","MONTECITO SAFE PATH "]
["UNIT","509","ST FRANCIS"]
["UNIT","510","GOVERNING BOARD"]
["UNIT","513","ST. GREGORY"]
["UNIT","515","SUPERINTENDENT"]
["UNIT","516","MARKETING/PUBLIC INFO"]
["UNIT","520","CURRICULUM DEPARTMENT"]
["UNIT","521","MAINTENANCE DEPARTMENT"]
["UNIT","522","TRANSPORTATION DEPARTMENT"]
["UNIT","525","HUMAN RESOURCES DEPT"]
["UNIT","530","TECHNOLOGY"]
["UNIT","535","BUSINESS SERVICES"]
["UNIT","540","HEALTH SERVICES"]
["UNIT","545","MEDICAID"]
["UNIT","550","UTILITY BUDGET"]
["UNIT","560","SPECIAL EDUCATION DEPT"]
["UNIT","561","Undesignated"]
["UNIT","562","Undesignated"]
["UNIT","563","Undesignated"]
["UNIT","564","Undesignated"]
["UNIT","565","LANGUAGE ACQUISITION DEPT"]
["UNIT","566","Undesignated"]
["UNIT","567","Undesignated"]
["UNIT","568","Undesignated"]
["UNIT","569","Undesignated"]
["UNIT","570","FOOD SERVICES DEPT"]
["COURSE","000","NO PROGRAM DEFINED"]
["COURSE","102","CLARENDON"]
["COURSE","103","ENCANTO"]
["COURSE","104","OSBORN MIDDLE"]
["COURSE","105","MONTECITO"]
["COURSE","106","SOLANO"]
["COURSE","107","LONGVIEW"]
["COURSE","270","COMPUTER"]
["COURSE","280","EXTENDED SCHOOL YEAR"]
["COURSE","289","PRESCHOOL"]
["COURSE","322","ONE-ON-ONE"]
["COURSE","435","WORKFORCE DES GRANT"]
["COURSE","499","INVESTIGATIONS"]
["COURSE","500","SUMMER"]
["COURSE","501","District Office Site"]
["COURSE","510","Governing Board"]
["COURSE","515","Superintendent"]
["COURSE","516","MARKETING"]
["COURSE","518","Volunteer Sservices"]
["COURSE","520","Curriculum"]
["COURSE","521","BLDG MAINTENANCE DEPT"]
["COURSE","522","Transportation"]
["COURSE","525","Human Resources"]
["COURSE","530","Technology"]
["COURSE","535","Business Services"]
["COURSE","540","Health Services"]
["COURSE","545","Medicaid"]
["COURSE","550","UTILITY BUDGET"]
["COURSE","560","Special Education"]
["COURSE","565","Language Acquisition"]
["COURSE","570","Child Nutrition"]
["COURSE","900","BOND-NEW CONSTRUCTION"]
["COURSE","901","BOND-PERMITS"]
["COURSE","902","BOND-ROOFING"]
["COURSE","903","BOND-SECURITY SYSTEMS"]
["COURSE","904","BOND-RENOVATIONS"]
["COURSE","905","BOND-INTERCOM SYSTEMS"]
["COURSE","906","BOND-PLAYGROUNDS"]
["COURSE","907","BOND-PRECONSTRUCTION"]
["COURSE","908","BOND-FENCING"]
["COURSE","909","BOND-ARCHITECT SVS"]
["COURSE","910","BOND-PROJECT MGMT"]
["PROJECT","0000","UNDESIGNATED"]
["PROJECT","0504","504 FEDERAL ACCOMODATION"]
["PROJECT","0530","D/O PRINTING"]
["PROJECT","0550","COPIERS"]
["PROJECT","1007","TITLE I FY07 CARRYOVER"]
["PROJECT","1157","FUND 115 FY07  CARRYOVER"]
["PROJECT","1417","FUND 141 FY07 CARRYOVER"]
["PROJECT","1517","FUND 151 FY07 CARRYOVER"]
["PROJECT","1617","FUND 161 FY07 CARRYOVER"]
["PROJECT","1917","FUND 191 FY07 CARRYOVER"]
["PROJECT","2007","FUND 200 FY07 CARRYOVER"]
["PROJECT","2207","FUND 220 FY07 CARRYOVER"]
["PROJECT","2227","FUND 222 FY07 CARRYOVER"]
["PROJECT","2307","FUND 230 FY07 CARRYOVER"]
["PROJECT","2817","FUND 281 FY07 CARRYOVER"]
["PROJECT","2907","FUND 290 FY07 CARRYOVER"]
["PROJECT","3047","FUND 304 FY07 CARRYOVER"]
["PROJECT","3127","FUND 312 FY07 CARRYOVER"]
["PROJECT","3260","ESSER 1 Grant carryover"]
["PROJECT","3707","FUND 370 FY07 CARRYOVER"]
["PROJECT","3757","FUND 375 FY07 CARRYOVER"]
["PROJECT","3787","FUND 378 FY07 CARRYOVER"]
["PROJECT","3907","FUND 390 FY07 CARRYOVER"]
["PROJECT","4107","FUND 410 FY07 CARRYOVER"]
["PROJECT","4307","FUND 430 FY07 CARRYOVER"]
["PROJECT","4507","FUND 450 FY07 CARRYOVER"]
["PROJECT","4602","MOLD REMOVAL PROJECT"]
["PROJECT","4603","HVAC PROJECT"]
["PROJECT","4605","SAFETY/SECURITY PROJECT"]
["PROJECT","4606","ROOFING PROJECTS"]
["PROJECT","4607","TERMITE REMEDIATION"]
["PROJECT","4608","PLUMBING"]
["PROJECT","4609","ELECTRICAL PROJECT"]
["PROJECT","4610","BATHROOM RENOVATION PROJECT"]
["PROJECT","4611","FLOORING PROJECT"]
["PROJECT","4707","FUND 470 FY07 CARRYOVER"]
["PROJECT","4747","FUND 474 FY07 CARRYOVER"]
["PROJECT","4757","FUND 475 FY07 CARRYOVER"]
["PROJECT","4777","FUND 477 FY07 CARRYOVER"]
["PROJECT","4807","FUND 480 FY07 CARRYOVER"]
["PROJECT","5250","AUX OPS - GENERAL"]
["PROJECT","5251","AUX OPS-INSTRUMENT RENTALS"]
["PROJECT","5252","AUX OPS-BALLET PROGRAM"]
["PROJECT","5260","TAX CR - GENERAL"]
["PROJECT","5261","TAX CR - FIELD TRIPS"]
["PROJECT","5262","TAX CR - SPORTS"]
["PROJECT","5263","TAX CR - MUSIC/ART"]
["PROJECT","5264","TAX CR - AFTER SCHOOL"]
["PROJECT","5265","FIELD TRIP-OMS WA DC"]
["PROJECT","5266","TAX CR - CHARACTER ED"]
["PROJECT","5300","GENERAL GIFT "]
["PROJECT","5301","PHX ARTS COMMISSION"]
["PROJECT","5302","OSBORN FIT KIDS PROJECT"]
["PROJECT","5303","SOROPTMIST GRANT"]
["PROJECT","5304","METRIS GRANT (SPORTS)"]
["PROJECT","5305","FIRESTONE GRANT"]
["PROJECT","5306","PEACE GARDEN PROJECT"]
["PROJECT","5307","AZ COMMUNITY FOUNDATION"]
["PROJECT","5308","JORDON SPORTS GRANT"]
["PROJECT","5309","PRESCHOOL PROGRAM"]
["PROJECT","5310","PLAYGROUND EQUIP"]
["PROJECT","5311","ST. JOE - HEALTH SVS SUPPORT"]
["PROJECT","5312","LV BLDG/FLOORING PROJECT"]
["PROJECT","5313","MT OUTDOOR LIGHTING PROJECT"]
["PROJECT","5314","OMS-WA DC TRIP"]
["PROJECT","5315","VIRGINIA PIPER GRANT"]
["PROJECT","5316","TEAM UP FOR OUR SCHOOLS - WF"]
["PROJECT","5317","PARENT-CHILD HOME PROGRAM-CURR DEPT"]
["PROJECT","5318","LITERACY GRANT WAL MART"]
["PROJECT","5319","STUDY HALL SUPERVISION-OEF"]
["PROJECT","5320","SPORTS EQUIPMENT"]
["PROJECT","5321","CAMPEONES - PITCHING MOUND"]
["PROJECT","5322","VISION CARE-BHHS LEGACY FOUNDATION"]
["PROJECT","5323","C/N - OMS SNACKS"]
["PROJECT","5324","GIRLS ON THE RUN PROGRAM"]
["PROJECT","5325","ROTORY CLUB FOR BOOKS"]
["PROJECT","5326","LV 1st GRADE SUPPLIES-LEDESMA"]
["PROJECT","5327","CL LITTLE LEAGUE"]
["PROJECT","5328","CAMP SURF FIELD TRIP"]
["PROJECT","5329","GRAND CANYON FIELD TRIP"]
["PROJECT","5330","SOLANO BIG GREEN MACHINE"]
["PROJECT","5331","AZ REP - MEDIA IN EDUCATION"]
["PROJECT","5332","CHINESE CULTURAL CAMP"]
["PROJECT","5333","ASBAIT WELLNESS PROGRAM"]
["PROJECT","5334","OMS PHOTOJOURNALISM"]
["PROJECT","5335","21st CENTURY PROGRAM"]
["PROJECT","5336","QWEST - TECH NEEDS"]
["PROJECT","5337","WELLS FARGO - C. BENSON"]
["PROJECT","5338","MCS SAFE PATH - CITY OF PHX"]
["PROJECT","5339","TARGET EDVENTURES-AZ COM FOUND"]
["PROJECT","5340","ASU-SPEECH PROJECT"]
["PROJECT","5341","TARGET FIELD TRIP GRANT"]
["PROJECT","5342","OEF - BALLET PROGRAM"]
["PROJECT","5343","READING IS FUNDAMENTAL"]
["PROJECT","5344","KIDS READ"]
["PROJECT","5345","FIELD TRIPS"]
["PROJECT","5346","HEALTH OFFICE SUPPLIES"]
["PROJECT","5347","CHEERLEADING"]
["PROJECT","5348","LIBRARY BOOKS"]
["PROJECT","5349","MIM FIELD TRIP TRANSPORTATION"]
["PROJECT","5350","21st CCLC Lego Class"]
["PROJECT","5351","ESPERANZA AWARD"]
["PROJECT","5352","FIELDS/PLAYGROUNDS"]
["PROJECT","5353","CARDINALS GRANT - J. BAILEY"]
["PROJECT","5354","D-BACKS SCHOOL CHALLENGE"]
["PROJECT","5355","NIET-TAP AWARD"]
["PROJECT","5356","BHHS Legacy Foundation "]
["PROJECT","5357","WALKING CLASSROOM"]
["PROJECT","5358","OEF-Instrument Repairs"]
["PROJECT","5359","ASU/HELIOS DLL GRANT"]
["PROJECT","5360","MUSEUM OF SCIENCE-BOSTON"]
["PROJECT","5361","OMS- CAREER CAMPS"]
["PROJECT","5362","OEF- donations"]
["PROJECT","5363","LV  CLASSROOM-KAHL"]
["PROJECT","5364","AEF   A+ SCHOOL"]
["PROJECT","5365","SOLANO SHARED USE GRANT"]
["PROJECT","5366","STEM APS grant- OMS"]
["PROJECT","5367","Fiesta Bowl- Teacher Wish"]
["PROJECT","5368","COMPUTERS/TECHNOLOGY"]
["PROJECT","5369","AZ COMMUNITY FNDTN- HAUSMANN"]
["PROJECT","5370","AZ COMMUNITY FNDN- ANDERSON"]
["PROJECT","5371","ASU- agentina educators"]
["PROJECT","5372","OMS Music"]
["PROJECT","5373","Solano - AZ Commission of the Arts"]
["PROJECT","5374","AAA SAFETY PATROL"]
["PROJECT","5375","SOL TURTLE HABITAT"]
["PROJECT","5376","SPORTS"]
["PROJECT","5377","PTO/ PTA DONATIONS"]
["PROJECT","5378","AZ COMM ARTS SSTAP SOL"]
["PROJECT","5379","ASU GLOBAL PROBLEM SOLVERS"]
["PROJECT","5380","VSUW- ALTERNATIVE BREAKFAST"]
["PROJECT","5381","OEF- LV DL GRANT"]
["PROJECT","5382","DW MUSIC"]
["PROJECT","5383","SOL- Once upon a time STEM SRP"]
["PROJECT","5384","SOL- Global changemakers SRP"]
["PROJECT","5385","FISHING CLUB - LONGVIEW"]
["PROJECT","5386","SOLANO- SCHOOL CLOSURE"]
["PROJECT","5387","QUALITY FIRST SCHOLARSHIPS"]
["PROJECT","5388","OEF Montessori practical life"]
["PROJECT","5389","OEF- Video Equipment Supt"]
["PROJECT","5390","OEF- MCS trauma sensory room"]
["PROJECT","5391","OEF- Solano Safe Spaces"]
["PROJECT","5392","OEF- Solano sandpit and garden"]
["PROJECT","5393","OEF- Encanto SEL garden"]
["PROJECT","5394","OEF- OELAS conference"]
["PROJECT","5395","OEF- Outdoor learning furniture- walker"]
["PROJECT","5396","ENC ART CLASS"]
["PROJECT","5397","ENC ART GRANT (INTEL)"]
["PROJECT","5398","ROTARY GIFT CARD DONATIONS"]
["PROJECT","5399","CN LIFETIME FOUNDATION DONATION"]
["PROJECT","5400","MONTESSORI ENCYCLOPEDIAS GRANT"]
["PROJECT","5401","BASKETBALL HOOPS - ENCANTO"]
["PROJECT","5402","MUSIC & MERRIMENT"]
["PROJECT","5403","OEF - MCS OUTDOOR CLASSROOM"]
["PROJECT","5404","OEF - CL BIZTOWN"]
["PROJECT","5405","OEF - LV LA COSECHA"]
["PROJECT","5406","FTF/ECNT-CARES-ENC"]
["PROJECT","5407","LISC-SOL Preschool"]
["PROJECT","5408","GOV-Summer Enrich"]
["PROJECT","5409","LAURA BUSH GRANT"]
["PROJECT","5678","Strengthening School Grant (SSTAP)"]
["PROJECT","5900","Undesignated"]
["PROJECT","5901","Kimberly Brown-Literacy Project-WF"]
["PROJECT","5902","WELL FARGO- M. GUERRA"]
["PROJECT","5903","STACIE COURTRIGHT-TEACH OF MONTH"]
["PROJECT","5904","Patty Simcox - WF Grant"]
["PROJECT","5905","D. FIELDS - AZ AHPERD FOUNDATION"]
["PROJECT","5906","MICHELLE DOHERTY - WF"]
["PROJECT","5907","WELLS FARGO - GRAEFE"]
["PROJECT","5908","Sprout's - OMS Snacks"]
["PROJECT","5909","FUHR CLINIC - AUDIO CAMERA"]
["PROJECT","5910","REAL GIFT - SOLANO PLAYGROUND"]
["PROJECT","5911","CL 4th GRADE GARDEN"]
["PROJECT","5912","WF GRANT - SPECTOR"]
["PROJECT","5913","WF-KRISTIN HOESE"]
["PROJECT","5914","SOL -Gen Music Curr- A. Swietlik"]
["PROJECT","5915","SOL -T.M. Writing Training- A. Hubbel & M. Nevarez"]
["PROJECT","5916","ENC-Outdoor Dramatic Play -J.Ingraham/E.Switalla"]
["PROJECT","5917","Collaborative STEM Proj -Nickolich/Mann"]
["PROJECT","5918","CL - Coaching - T.Waggoner"]
["PROJECT","5919","OMS - 8th Gr Experience NAU Project"]
["PROJECT","5920","Enc - Rock Climbing Wall - M. Deyette"]
["PROJECT","5921","OEF - Principal SEL Grant"]
["PROJECT","5922","Well-Rounded"]
["PROJECT","5923","Safety & Healthy"]
["PROJECT","5924","Tech"]
["PROJECT","5925","ENCANTO MUSICAL PLAYGROUND"]
["PROJECT","5926","OMS POCKET LAB"]
["PROJECT","5927","ENCANTO GARDEN SHED"]
["PROJECT","5928","OEF- Sensory Tent Clarendon"]
["PROJECT","5929","OEF- exceptional award - IT"]
["PROJECT","5930","OEF- Exceptional award- CN"]
["PROJECT","5931","OEF- Exceptional award- MT"]
["PROJECT","5932","ROTARY OUTDOOR LEARNING"]
["PROJECT","5933","CLARENDON KILM"]
["PROJECT","5934","MONTECITO GARDEN"]
["PROJECT","5935","DES- CHILD CARE SUB GRANT"]
["PROJECT","5936","AZ TEACHER RESIDENCY"]
["PROJECT","5937","COIIN FUNDS"]
["PROJECT","5938","LISC- Garden Grant Solano"]
["PROJECT","5939","OEF - OMS Turning Up Our Individual Performace Tal"]
["PROJECT","5940","OEF - OMS Differentiated Math Technology for Resou"]
["PROJECT","5941","OEF - OMS Equipment for Cheerleaders"]
["PROJECT","5942","OEF - OMS Speaker for PE Department"]
["PROJECT","5943","OEF - OMS I Can Hearr Clearly Now!"]
["PROJECT","5944","MON - FREEPORT-MCMORAN FOUNDATION "]
["PROJECT","5945","OEF - SCHOOL PANTRIES"]
["PROJECT","5946","SOL - 7 SCHOOLS PROJECT "]
["PROJECT","5999","CN SCA FUNDS"]
["PROJECT","6000","Undesignated"]
["PROJECT","6100","CAPITAL OVERRIDE"]
["PROJECT","6101","DO Site GMP"]
["PROJECT","6102","DO FUEL STATION "]
["PROJECT","6120","D/O ROOFING REPAIR CLEAN "]
["PROJECT","6122","DW- TRANSPORTATION"]
["PROJECT","6123","DW GROUNDS EQUIPMENT"]
["PROJECT","6130","DO-SPECIAL PROJECTS"]
["PROJECT","6132","DW- INFORMATION TECHNOLOGY"]
["PROJECT","6145","D/O- EMS OCCUPANCY SENSORS/ENERGY MISERS"]
["PROJECT","6155","DO- INTERIOR & EXTERIOR LED LIGHTING"]
["PROJECT","6160","DW- HYDRATION STATIONS"]
["PROJECT","6162","DW- SECURITY SYSTEMS REPLACEMENT"]
["PROJECT","6163","DW- DOOR HARDWARE LOCKDOW PROCEDURES"]
["PROJECT","6164","DW- INTERCOM SYSTEM REPLACEMENT"]
["PROJECT","6165","D/W F&E"]
["PROJECT","6180","DO- WATER SAVINGS PROJECTS"]
["PROJECT","6200","DO NOT USE"]
["PROJECT","6201","CL- SITE GMP"]
["PROJECT","6205","CL- CAMPUS SECURITY IMPROVEMENTS "]
["PROJECT","6220","CL- ROOF REMOVAL AND UPGRADE"]
["PROJECT","6230","CL- SPECIAL PROJECTS"]
["PROJECT","6240","CL- BASEBALL FIELD IMPROVEMENTS"]
["PROJECT","6245","CL-EMS OCCUPANCY SENSORS/ENERGY MISERS"]
["PROJECT","6250","CL- AIR HANDLING EQUIPMENT REPLACEMENT"]
["PROJECT","6255","CL- INTERIOR & EXTERIOR LED LIGHTI"]
["PROJECT","6260","CL INTERIOR PAINTING"]
["PROJECT","6262","CL- SECURITY CAMERA SYSTEM REPLACEMENT"]
["PROJECT","6263","CL- INTERCOM SYSTEMS"]
["PROJECT","6265","CL- FLOORING"]
["PROJECT","6270","CL- SHADE STRUCTURES"]
["PROJECT","6271","CL- SOLAR SHADE STRUCTURES"]
["PROJECT","6280","CL- WATER SAVINGS PROJECTS"]
["PROJECT","6300","ADMIN RELOCATIONS PAYROLL COSTS"]
["PROJECT","6301","ENC- SITE GMP"]
["PROJECT","6305","ENCANTO REWORK IT/WORKROOM"]
["PROJECT","6313","NON-ADMIN RENOVATIONS"]
["PROJECT","6314","NON-ADMIN SAFETY UPGRADES"]
["PROJECT","6320","ENC- FLAT ROOF COATING"]
["PROJECT","6325","ENCANTO REMODEL CAFE"]
["PROJECT","6330","ENCANTO SPECIAL PROJECTS"]
["PROJECT","6340","ENC/CL PARENT DROP OFF"]
["PROJECT","6345","ENC- EMS OCCUPANCY SENSORS/ENERGY MISERS"]
["PROJECT","6350","ENC- AIR HANDLING EQUIPMENT REPLACEMENT"]
["PROJECT","6354","ADMIN SAFETY UPGRADES"]
["PROJECT","6355","ENC- INTERIOR & EXTERIOR LED LIGHTING"]
["PROJECT","6360","ENC- PARKING LOT"]
["PROJECT","6361","ENC INTERIOR PAINTING"]
["PROJECT","6362","ENC- SECURITY CAMERA SYSTEM REPLACEMENT"]
["PROJECT","6363","DISTRICT WIDE DOOR HARDWARE"]
["PROJECT","6365","ENC FLOORING"]
["PROJECT","6370","Whole Foods Kids Foundation-CN"]
["PROJECT","6371","ENC- SOLAR SHADE STRUCTURES"]
["PROJECT","6373","ENC- INTERCOM SYSTEMS"]
["PROJECT","6380","ENC- WATER SAVINGS PROJECTS"]
["PROJECT","6400","DO NOT USE"]
["PROJECT","6401","OMS SITE GMP"]
["PROJECT","6430","OMS SPECIAL PROJECTS"]
["PROJECT","6431","OMS NEW GAS METER"]
["PROJECT","6445","OMS- OCCUPANCY SENSORS/ENERGY MISERS"]
["PROJECT","6451","OMS- COOLING TOWERS REDESIGN"]
["PROJECT","6452","OMS-AIR HANDLING EQUIPMENT REPLACE"]
["PROJECT","6455","OMS- INTERIOR & EXTERIOR LED LIGHTING"]
["PROJECT","6460","OMS INTERIOR PAINTING"]
["PROJECT","6462","OMS- SECURITY SYSTEM REPLACEMENT"]
["PROJECT","6463","OMS- INTERCOM SYSTEMS"]
["PROJECT","6465","OMS FLOORING"]
["PROJECT","6470","OMS- SOLAR SHADE STRUCTURES"]
["PROJECT","6480","OMS- MAIN COURTYARD"]
["PROJECT","6481","OMS-WATER SAVINGS PROJECT"]
["PROJECT","6545","MONT- EMS OCCUPANCY SENSORS/ENERGY MISERS"]
["PROJECT","6555","MCS- INTERIOR & EXTERIOR LED LIGHTING"]
["PROJECT","6562","MCS- SECURITY CAMERA REPLACEMENT"]
["PROJECT","6600","DO NOT USE"]
["PROJECT","6601","SOLANO SITE GMP"]
["PROJECT","6613","SOL- HEADSTART RENOVATIONS"]
["PROJECT","6625","kitchen exhaust and make up air system"]
["PROJECT","6630","SOL- HYDRATION STATIONS (SPECIAL PROJECTS)"]
["PROJECT","6645","SOL- OCCUPANCY SENSORS/ENERGY MISERS"]
["PROJECT","6650","SOL- AIR HANDLING EQUIPMENT REPLACEMENT"]
["PROJECT","6655","SOL- INTERIOR & EXTERIOR LED LIGHTING"]
["PROJECT","6660","SOL INTERIOR PAINTING"]
["PROJECT","6662","SOL- SECURITY SYSTEM REPLACEMENT"]
["PROJECT","6663","SOL- INTERCOM SYSTEMS"]
["PROJECT","6665","SOL FLOORING"]
["PROJECT","6670","SOL- SOLAR SHADE STRUCTURES"]
["PROJECT","6680","SOL- WATER SAVINGS PROJECT"]
["PROJECT","6700","DO NOT USE"]
["PROJECT","6701","LV SITE GMP"]
["PROJECT","6730","LV- SPECIAL PROJECTS"]
["PROJECT","6745","LV- OCCUPANCY SENSORS/ENERGY MISERS"]
["PROJECT","6750","LV- AIR HANDLING EQUIPMENT REPLACEMENT"]
["PROJECT","6752","LV- COOLING TOWER ASPHALT REPLACEMENT"]
["PROJECT","6755","LV- INTERIOR & EXTERIOR LED LIGHTING"]
["PROJECT","6760","LV INTERIOR PAINTING"]
["PROJECT","6762","LV- SECURITY CAMERA SYSTEM REPLACEMENTS"]
["PROJECT","6763","LV- INTERCOM SYSTEMS"]
["PROJECT","6765","LV FLOORING"]
["PROJECT","6770","LV- SOLAR SHADE STRUCTURES"]
["PROJECT","6780","LV- WATER SAVINGS PROJECT"]
["PROJECT","8500","STUDENT COUNCIL"]
["PROJECT","8501","SPORTS CLUB"]
["PROJECT","8502","YEAR BOOK CLUB"]
["PROJECT","8503","8TH GRADE GRAD CLUB"]
["PROJECT","8504","NAT''L JR. HONOR SOCIETY CLUB"]
["PROJECT","8505","STUDENT COUNCIL-OMS WA DC"]
["PROJECT","8506","BAND CLUB"]
["PROJECT","8507","6th GRADE ACTIVITY CLUB"]
["PROJECT","8508","FLAG FOOTBALL CLUB"]
["PROJECT","9300","ESSER GENERAL SET ASIDE"]
["PROJECT","9310","ESSER ACADEMIC SET ASIDE"]
["PROJECT","9320","ESSER SEL SET ASIDE"]
["PROJECT","9540","TRUANCY GRANT - CLARENDON"]
["PROJECT","9600","COVID-19 PPE/MITIGATION"]
["PROJECT","9610","ESSER 1 CARRYOVER"]
["PROJECT","9700","CARES $$"]
["PROJECT","9800","COVID accomodation items"]

{"sheet":"Accounting Data","index":17,"n_rows":93564,"n_cols":27,"rows_kept":2250,"cut":true,"hidden":false,"merged":[[1,3,12,3]],"bounds":{"rows_first":1000,"rows_last":250,"rows_between":1000,"halvings":1}}
["Account ","Description","YTD Transactions",null,"Final Fund","Rollup Fund","Fund","Program","Function","Object","Unit","Primary Unit Code","Final Unit Code",null,"Bold Funds","PY Ending Fund Balance","Calculated CY Beginning Fund Balance","Final CY Beginning Fund Balance",null,null,null,null,null,null,null,null,{"$f":"SUM(AA2:AA93564)","v":0}]
["001.000.0000.0103.000.000.0000","CASH ON DEP/COUNTY TREASR",2080098.71,"Vision users should press the Parse Account button above, which will populate the Fund, Program, Function, Object, and Unit columns (G, H, I, J, and K). Some districts may need to work with their information technology (IT) departments to make this a trusted file and enable macros.","001"," ","001","000","0000","0103","000","500","500",null,"001",{"$f":"'[2]Page 1'!$E$58","v":740267},740269.76,{"$f":"IF(Q2=\"\",P2,Q2)","v":740270},null,null,null,null,null,null,null,{"$f":"'School listing'!F7","v":"500"},{"$f":"IF(OR(SUMPRODUCT(--(E2=$O$1:$O$542))>0,E2=0),0,1)","v":0}]
["001.000.0000.0132.000.000.0000","ACCOUNTS RECEIVABLE",13525.77,null,"001"," ","001","000","0000","0132","000","500","500",null,"010",{"$f":"'[2]Page 3'!$P$21","v":1858605},1858603.49,1858603,null,null,null,null,null,null,null,{"$f":"'School listing'!F8","v":"1"},{"$f":"IF(OR(SUMPRODUCT(--(E3=$O$1:$O$542))>0,E3=0),0,1)","v":0}]
["001.000.0000.0135.000.000.0000","REFUNDABLE DEPOSIT",20551.07,null,"001"," ","001","000","0000","0135","000","500","500",null,"020",{"$f":"[2]!F020EndFundBal","v":14019},14019.37,14019,null,null,null,null,null,null,null,{"$f":"'School listing'!F9","v":0},{"$f":"IF(OR(SUMPRODUCT(--(E4=$O$1:$O$542))>0,E4=0),0,1)","v":0}]
["001.000.0000.0144.000.000.0000","DUE FROM STATE",57472.08,null,"001"," ","001","000","0000","0144","000","500","500",null,"050",{"$f":"[2]!F050EndFundBal","v":0},null,0,null,null,null,null,null,null,null,{"$f":"'School listing'!F10","v":"102"},{"$f":"IF(OR(SUMPRODUCT(--(E5=$O$1:$O$542))>0,E5=0),0,1)","v":0}]
["001.000.0000.0201.000.000.0000","ACCOUNTS PAYABLE",-363844,null,"001"," ","001","000","0000","0201","000","500","500",null,"071",{"$f":"[2]!F071EndFundBal","v":0},null,0,null,null,null,null,null,null,null,{"$f":"'School listing'!F11","v":"103"},{"$f":"IF(OR(SUMPRODUCT(--(E6=$O$1:$O$542))>0,E6=0),0,1)","v":0}]
["001.000.0000.0247.000.000.0000","VOLUNTARY DEDUCTIONS PAY",-0.25,null,"001"," ","001","000","0000","0247","000","500","500",null,"072",{"$f":"[2]!F072EndFundBal","v":0},null,0,null,null,null,null,null,null,null,{"$f":"'School listing'!F12","v":"107"},{"$f":"IF(OR(SUMPRODUCT(--(E7=$O$1:$O$542))>0,E7=0),0,1)","v":0}]
["001.000.0000.0330.000.000.0000","UNRESERVED FUND BALANCE",-740269.76,null,"001"," ","001","000","0000","0330","000","500","500",null,"100",{"$f":"[2]!F100_130EndFundBal","v":0},null,0,null,null,null,null,null,null,null,{"$f":"'School listing'!F13","v":"105"},{"$f":"IF(OR(SUMPRODUCT(--(E8=$O$1:$O$542))>0,E8=0),0,1)","v":0}]
["001.000.0000.1111.000.000.0000","PERS PROP TAXES-CURRENT",-9192146.9499999993,null,"001"," ","001","000","0000","1111","000","500","500",null,"101",null,null,null,null,null,null,null,null,null,null,{"$f":"'School listing'!F14","v":"104"},{"$f":"IF(OR(SUMPRODUCT(--(E9=$O$1:$O$542))>0,E9=0),0,1)","v":0}]
["001.000.0000.1112.000.000.0000","REAL PROP TAXES-CURRENT",-2453442.59,null,"001"," ","001","000","0000","1112","000","500","500",null,"102",null,null,null,null,null,null,null,null,null,null,{"$f":"'School listing'!F15","v":"106"},{"$f":"IF(OR(SUMPRODUCT(--(E10=$O$1:$O$542))>0,E10=0),0,1)","v":0}]
["001.000.0000.1280.000.000.0000","REVENUE IN LIEU OF TAXES",-59539.5,null,"001"," ","001","000","0000","1280","000","500","500",null,"103",null,null,null,null,null,null,null,null,null,null,{"$f":"'School listing'!F16","v":0},{"$f":"IF(OR(SUMPRODUCT(--(E11=$O$1:$O$542))>0,E11=0),0,1)","v":0}]
["001.000.0000.1350.000.000.0000","TUITION-OTHER GOV SOURCES",-8125,null,"001"," ","001","000","0000","1350","000","500","500",null,"104",null,null,null,null,null,null,null,null,null,null,{"$f":"'School listing'!F17","v":0},{"$f":"IF(OR(SUMPRODUCT(--(E12=$O$1:$O$542))>0,E12=0),0,1)","v":0}]
["001.000.0000.1510.000.000.0000","INTEREST ON INVESTMENTS",94393.85,null,"001"," ","001","000","0000","1510","000","500","500",null,"105",null,null,null,null,null,null,null,null,null,null,{"$f":"'School listing'!F18","v":0},{"$f":"IF(OR(SUMPRODUCT(--(E13=$O$1:$O$542))>0,E13=0),0,1)","v":0}]
["001.000.0000.1940.000.000.0000","GOV PROP LEASE EXCISE TAX",-9519.2000000000007,null,"001"," ","001","000","0000","1940","000","500","500",null,"106",null,null,null,null,null,null,null,null,null,null,{"$f":"'School listing'!F19","v":0},{"$f":"IF(OR(SUMPRODUCT(--(E14=$O$1:$O$542))>0,E14=0),0,1)","v":0}]
["001.000.0000.1980.000.000.0000","REFUND OF PRIOR YRS EXPENDITURES",-10911.6,null,"001"," ","001","000","0000","1980","000","500","500",null,"107",null,null,null,null,null,null,null,null,null,null,{"$f":"'School listing'!F20","v":0},{"$f":"IF(OR(SUMPRODUCT(--(E15=$O$1:$O$542))>0,E15=0),0,1)","v":0}]
["001.000.0000.2120.000.000.0000","COUNTY EQUALIZATION",-6576.39,null,"001"," ","001","000","0000","2120","000","500","500",null,"108",null,null,null,null,null,null,null,null,null,null,{"$f":"'School listing'!F21","v":0},{"$f":"IF(OR(SUMPRODUCT(--(E16=$O$1:$O$542))>0,E16=0),0,1)","v":0}]
["001.000.0000.3100.000.000.0000","Undesignated",-155500.12,null,"001"," ","001","000","0000","3100","000","500","500",null,"109",null,null,null,null,null,null,null,null,null,null,{"$f":"'School listing'!F22","v":0},{"$f":"IF(OR(SUMPRODUCT(--(E17=$O$1:$O$542))>0,E17=0),0,1)","v":0}]
["001.000.0000.3110.000.000.0000","STATE EQUALIZATION",-7320143.4800000004,null,"001"," ","001","000","0000","3110","000","500","500",null,"110",null,null,null,null,null,null,null,null,null,null,{"$f":"'School listing'!F23","v":0},{"$f":"IF(OR(SUMPRODUCT(--(E18=$O$1:$O$542))>0,E18=0),0,1)","v":0}]
["001.000.0000.3120.000.000.0000","ADDITIONAL STATE AID",-670326.74,null,"001"," ","001","000","0000","3120","000","500","500",null,"111",null,null,null,null,null,null,null,null,null,null,{"$f":"'School listing'!F24","v":0},{"$f":"IF(OR(SUMPRODUCT(--(E19=$O$1:$O$542))>0,E19=0),0,1)","v":0}]
["001.100.1000.6112.102.000.0000","TEACHER",426075.45,null,"001"," ","001","100","1000","6112","102","102","102",null,"112",null,null,null,null,null,null,null,null,null,null,{"$f":"'School listing'!F25","v":0},{"$f":"IF(OR(SUMPRODUCT(--(E20=$O$1:$O$542))>0,E20=0),0,1)","v":0}]
["001.100.1000.6112.103.000.0000","TEACHER",693693.04,null,"001"," ","001","100","1000","6112","103","103","103",null,"113",null,null,null,null,null,null,null,null,null,null,{"$f":"'School listing'!F26","v":0},{"$f":"IF(OR(SUMPRODUCT(--(E21=$O$1:$O$542))>0,E21=0),0,1)","v":0}]
["001.100.1000.6112.104.000.0000","TEACHER",724985.06,null,"001"," ","001","100","1000","6112","104","104","104",null,"114",null,null,null,null,null,null,null,null,null,null,{"$f":"'School listing'!F27","v":0},{"$f":"IF(OR(SUMPRODUCT(--(E22=$O$1:$O$542))>0,E22=0),0,1)","v":0}]
["001.100.1000.6112.105.000.0000","TEACHER",162912.39000000001,null,"001"," ","001","100","1000","6112","105","105","105",null,"115",null,null,null,null,null,null,null,null,null,null,{"$f":"'School listing'!F28","v":0},{"$f":"IF(OR(SUMPRODUCT(--(E23=$O$1:$O$542))>0,E23=0),0,1)","v":0}]
["001.100.1000.6112.106.000.0000","TEACHER",383381.52,null,"001"," ","001","100","1000","6112","106","106","106",null,"116",null,null,null,null,null,null,null,null,null,null,{"$f":"'School listing'!F29","v":0},{"$f":"IF(OR(SUMPRODUCT(--(E24=$O$1:$O$542))>0,E24=0),0,1)","v":0}]
["001.100.1000.6112.107.000.0000","TEACHER",460499.15,null,"001"," ","001","100","1000","6112","107","107","107",null,"117",null,null,null,null,null,null,null,null,null,null,{"$f":"'School listing'!F30","v":0},{"$f":"IF(OR(SUMPRODUCT(--(E25=$O$1:$O$542))>0,E25=0),0,1)","v":0}]
["001.100.1000.6112.108.000.0000","CERT TEACHERS",160922.10999999999,null,"001"," ","001","100","1000","6112","108","500","500",null,"118",null,null,null,null,null,null,null,null,null,null,{"$f":"'School listing'!F31","v":0},{"$f":"IF(OR(SUMPRODUCT(--(E26=$O$1:$O$542))>0,E26=0),0,1)","v":0}]
["001.100.1000.6113.102.000.0000","CERTIFIED SUBSTITUTE",77475,null,"001"," ","001","100","1000","6113","102","102","102",null,"119",null,null,null,null,null,null,null,null,null,null,{"$f":"'School listing'!F32","v":0},{"$f":"IF(OR(SUMPRODUCT(--(E27=$O$1:$O$542))>0,E27=0),0,1)","v":0}]
["001.100.1000.6113.103.000.0000","CERTIFIED SUBSTITUTE",6975,null,"001"," ","001","100","1000","6113","103","103","103",null,"120",null,null,null,null,null,null,null,null,null,null,{"$f":"'School listing'!F33","v":0},{"$f":"IF(OR(SUMPRODUCT(--(E28=$O$1:$O$542))>0,E28=0),0,1)","v":0}]
["001.100.1000.6113.104.000.0000","CERTIFIED SUBSTITUTE",48031.25,null,"001"," ","001","100","1000","6113","104","104","104",null,"121",null,null,null,null,null,null,null,null,null,null,{"$f":"'School listing'!F34","v":0},{"$f":"IF(OR(SUMPRODUCT(--(E29=$O$1:$O$542))>0,E29=0),0,1)","v":0}]
["001.100.1000.6113.105.000.0000","CERTIFIED SUBSTITUTE",2025,null,"001"," ","001","100","1000","6113","105","105","105",null,"122",null,null,null,null,null,null,null,null,null,null,{"$f":"'School listing'!F35","v":0},{"$f":"IF(OR(SUMPRODUCT(--(E30=$O$1:$O$542))>0,E30=0),0,1)","v":0}]
["001.100.1000.6113.106.000.0000","CERTIFIED SUBSTITUTE",59339.07,null,"001"," ","001","100","1000","6113","106","106","106",null,"123",null,null,null,null,null,null,null,null,null,null,{"$f":"'School listing'!F36","v":0},{"$f":"IF(OR(SUMPRODUCT(--(E31=$O$1:$O$542))>0,E31=0),0,1)","v":0}]
["001.100.1000.6210.102.000.0000","HEALTH INSURANCE",49366.41,null,"001"," ","001","100","1000","6210","102","102","102",null,"124",null,null,null,null,null,null,null,null,null,null,{"$f":"'School listing'!F37","v":0},{"$f":"IF(OR(SUMPRODUCT(--(E32=$O$1:$O$542))>0,E32=0),0,1)","v":0}]
["001.100.1000.6210.103.000.0000","HEALTH INSURANCE",77468.92,null,"001"," ","001","100","1000","6210","103","103","103",null,"125",null,null,null,null,null,null,null,null,null,null,{"$f":"'School listing'!F38","v":0},{"$f":"IF(OR(SUMPRODUCT(--(E33=$O$1:$O$542))>0,E33=0),0,1)","v":0}]
["001.100.1000.6210.104.000.0000","HEALTH INSURANCE",66324.479999999996,null,"001"," ","001","100","1000","6210","104","104","104",null,"126",null,null,null,null,null,null,null,null,null,null,{"$f":"'School listing'!F39","v":0},{"$f":"IF(OR(SUMPRODUCT(--(E34=$O$1:$O$542))>0,E34=0),0,1)","v":0}]
["001.100.1000.6210.105.000.0000","HEALTH INSURANCE",16535.310000000001,null,"001"," ","001","100","1000","6210","105","105","105",null,"127",null,null,null,null,null,null,null,null,null,null,{"$f":"'School listing'!F40","v":0},{"$f":"IF(OR(SUMPRODUCT(--(E35=$O$1:$O$542))>0,E35=0),0,1)","v":0}]
["001.100.1000.6210.106.000.0000","HEALTH INSURANCE",42495.88,null,"001"," ","001","100","1000","6210","106","106","106",null,"128",null,null,null,null,null,null,null,null,null,null,{"$f":"'School listing'!F41","v":0},{"$f":"IF(OR(SUMPRODUCT(--(E36=$O$1:$O$542))>0,E36=0),0,1)","v":0}]
["001.100.1000.6210.107.000.0000","HEALTH INSURANCE",45190.51,null,"001"," ","001","100","1000","6210","107","107","107",null,"129",null,null,null,null,null,null,null,null,null,null,{"$f":"'School listing'!F42","v":0},{"$f":"IF(OR(SUMPRODUCT(--(E37=$O$1:$O$542))>0,E37=0),0,1)","v":0}]
["001.100.1000.6210.108.000.0000","GROUP INSURANCE",10595.31,null,"001"," ","001","100","1000","6210","108","500","500",null,"130",null,null,null,null,null,null,null,null,null,null,{"$f":"'School listing'!F43","v":0},{"$f":"IF(OR(SUMPRODUCT(--(E38=$O$1:$O$542))>0,E38=0),0,1)","v":0}]
["001.100.1000.6212.102.000.0000","LIFE INSURANCE",585.41,null,"001"," ","001","100","1000","6212","102","102","102",null,"131",null,null,null,null,null,null,null,null,null,null,{"$f":"'School listing'!F44","v":0},{"$f":"IF(OR(SUMPRODUCT(--(E39=$O$1:$O$542))>0,E39=0),0,1)","v":0}]
["001.100.1000.6212.103.000.0000","LIFE INSURANCE",923.15,null,"001"," ","001","100","1000","6212","103","103","103",null,"132",null,null,null,null,null,null,null,null,null,null,{"$f":"'School listing'!F45","v":0},{"$f":"IF(OR(SUMPRODUCT(--(E40=$O$1:$O$542))>0,E40=0),0,1)","v":0}]
["001.100.1000.6212.104.000.0000","LIFE INSURANCE",853.02,null,"001"," ","001","100","1000","6212","104","104","104",null,"133",null,null,null,null,null,null,null,null,null,null,{"$f":"'School listing'!F46","v":0},{"$f":"IF(OR(SUMPRODUCT(--(E41=$O$1:$O$542))>0,E41=0),0,1)","v":0}]
["001.100.1000.6212.105.000.0000","LIFE INSURANCE",180.97,null,"001"," ","001","100","1000","6212","105","105","105",null,"134",null,null,null,null,null,null,null,null,null,null,{"$f":"'School listing'!F47","v":0},{"$f":"IF(OR(SUMPRODUCT(--(E42=$O$1:$O$542))>0,E42=0),0,1)","v":0}]
["001.100.1000.6212.106.000.0000","LIFE INSURANCE",539.44000000000005,null,"001"," ","001","100","1000","6212","106","106","106",null,"135",null,null,null,null,null,null,null,null,null,null,{"$f":"'School listing'!F48","v":0},{"$f":"IF(OR(SUMPRODUCT(--(E43=$O$1:$O$542))>0,E43=0),0,1)","v":0}]
["001.100.1000.6212.107.000.0000","LIFE INSURANCE",612.77,null,"001"," ","001","100","1000","6212","107","107","107",null,"136",null,null,null,null,null,null,null,null,null,null,{"$f":"'School listing'!F49","v":0},{"$f":"IF(OR(SUMPRODUCT(--(E44=$O$1:$O$542))>0,E44=0),0,1)","v":0}]
["001.100.1000.6212.108.000.0000","LIFE INSURANCE",119.9,null,"001"," ","001","100","1000","6212","108","500","500",null,"137",null,null,null,null,null,null,null,null,null,null,{"$f":"'School listing'!F50","v":0},{"$f":"IF(OR(SUMPRODUCT(--(E45=$O$1:$O$542))>0,E45=0),0,1)","v":0}]
["001.100.1000.6221.102.000.0000","FICA SSI",30406.32,null,"001"," ","001","100","1000","6221","102","102","102",null,"138",null,null,null,null,null,null,null,null,null,null,{"$f":"'School listing'!F51","v":0},{"$f":"IF(OR(SUMPRODUCT(--(E46=$O$1:$O$542))>0,E46=0),0,1)","v":0}]
["001.100.1000.6221.103.000.0000","FICA SSI",43012.38,null,"001"," ","001","100","1000","6221","103","103","103",null,"139",null,null,null,null,null,null,null,null,null,null,{"$f":"'School listing'!F52","v":0},{"$f":"IF(OR(SUMPRODUCT(--(E47=$O$1:$O$542))>0,E47=0),0,1)","v":0}]
["001.100.1000.6221.104.000.0000","FICA SSI",46302.33,null,"001"," ","001","100","1000","6221","104","104","104",null,"140",{"$f":"[2]!F140_150EndFundBal","v":0},null,{"$f":"IF(Q48=\"\",P48,Q48)","v":0},null,null,null,null,null,null,null,{"$f":"'School listing'!F53","v":0},{"$f":"IF(OR(SUMPRODUCT(--(E48=$O$1:$O$542))>0,E48=0),0,1)","v":0}]
["001.100.1000.6221.105.000.0000","FICA SSI",9999.24,null,"001"," ","001","100","1000","6221","105","105","105",null,"141",null,null,null,null,null,null,null,null,null,null,{"$f":"'School listing'!F54","v":0},{"$f":"IF(OR(SUMPRODUCT(--(E49=$O$1:$O$542))>0,E49=0),0,1)","v":0}]
["001.100.1000.6221.106.000.0000","FICA SSI",25428.52,null,"001"," ","001","100","1000","6221","106","106","106",null,"142",null,null,null,null,null,null,null,null,null,null,{"$f":"'School listing'!F55","v":0},{"$f":"IF(OR(SUMPRODUCT(--(E50=$O$1:$O$542))>0,E50=0),0,1)","v":0}]
["001.100.1000.6221.107.000.0000","FICA SSI",28329.03,null,"001"," ","001","100","1000","6221","107","107","107",null,"143",null,null,null,null,null,null,null,null,null,null,{"$f":"'School listing'!F56","v":0},{"$f":"IF(OR(SUMPRODUCT(--(E51=$O$1:$O$542))>0,E51=0),0,1)","v":0}]
["001.100.1000.6221.108.000.0000","SOCIAL SECURITY-FICA",7759.63,null,"001"," ","001","100","1000","6221","108","500","500",null,"144",null,null,null,null,null,null,null,null,null,null,{"$f":"'School listing'!F57","v":0},{"$f":"IF(OR(SUMPRODUCT(--(E52=$O$1:$O$542))>0,E52=0),0,1)","v":0}]
["001.100.1000.6222.102.000.0000","FICA MEDICARE",7111.22,null,"001"," ","001","100","1000","6222","102","102","102",null,"145",null,null,null,null,null,null,null,null,null,null,{"$f":"'School listing'!F58","v":0},{"$f":"IF(OR(SUMPRODUCT(--(E53=$O$1:$O$542))>0,E53=0),0,1)","v":0}]
["001.100.1000.6222.103.000.0000","FICA MEDICARE",10059.24,null,"001"," ","001","100","1000","6222","103","103","103",null,"146",null,null,null,null,null,null,null,null,null,null,{"$f":"'School listing'!F59","v":0},{"$f":"IF(OR(SUMPRODUCT(--(E54=$O$1:$O$542))>0,E54=0),0,1)","v":0}]
["001.100.1000.6222.104.000.0000","FICA MEDICARE",10829.33,null,"001"," ","001","100","1000","6222","104","104","104",null,"147",null,null,null,null,null,null,null,null,null,null,{"$f":"'School listing'!F60","v":0},{"$f":"IF(OR(SUMPRODUCT(--(E55=$O$1:$O$542))>0,E55=0),0,1)","v":0}]
["001.100.1000.6222.105.000.0000","FICA MEDICARE",2338.56,null,"001"," ","001","100","1000","6222","105","105","105",null,"148",null,null,null,null,null,null,null,null,null,null,{"$f":"'School listing'!F61","v":0},{"$f":"IF(OR(SUMPRODUCT(--(E56=$O$1:$O$542))>0,E56=0),0,1)","v":0}]
["001.100.1000.6222.106.000.0000","FICA MEDICARE",5947.07,null,"001"," ","001","100","1000","6222","106","106","106",null,"149",null,null,null,null,null,null,null,null,null,null,{"$f":"'School listing'!F62","v":0},{"$f":"IF(OR(SUMPRODUCT(--(E57=$O$1:$O$542))>0,E57=0),0,1)","v":0}]
["001.100.1000.6222.107.000.0000","FICA MEDICARE",6625.26,null,"001"," ","001","100","1000","6222","107","107","107",null,"150",null,null,null,null,null,null,null,null,null,null,{"$f":"'School listing'!F63","v":0},{"$f":"IF(OR(SUMPRODUCT(--(E58=$O$1:$O$542))>0,E58=0),0,1)","v":0}]
["001.100.1000.6222.108.000.0000","FICA MEDICARE",1814.64,null,"001"," ","001","100","1000","6222","108","500","500",null,"151",null,null,null,null,null,null,null,null,null,null,{"$f":"'School listing'!F64","v":0},{"$f":"IF(OR(SUMPRODUCT(--(E59=$O$1:$O$542))>0,E59=0),0,1)","v":0}]
["001.100.1000.6231.102.000.0000","STATE RETIREMENT",59758.09,null,"001"," ","001","100","1000","6231","102","102","102",null,"152",null,null,null,null,null,null,null,null,null,null,{"$f":"'School listing'!F65","v":0},{"$f":"IF(OR(SUMPRODUCT(--(E60=$O$1:$O$542))>0,E60=0),0,1)","v":0}]
["001.100.1000.6231.103.000.0000","STATE RETIREMENT",84589.55,null,"001"," ","001","100","1000","6231","103","103","103",null,"153",null,null,null,null,null,null,null,null,null,null,{"$f":"'School listing'!F66","v":0},{"$f":"IF(OR(SUMPRODUCT(--(E61=$O$1:$O$542))>0,E61=0),0,1)","v":0}]
["001.100.1000.6231.104.000.0000","STATE RETIREMENT",87223.81,null,"001"," ","001","100","1000","6231","104","104","104",null,"154",null,null,null,null,null,null,null,null,null,null,{"$f":"'School listing'!F67","v":0},{"$f":"IF(OR(SUMPRODUCT(--(E62=$O$1:$O$542))>0,E62=0),0,1)","v":0}]
["001.100.1000.6231.105.000.0000","STATE RETIREMENT",19847.36,null,"001"," ","001","100","1000","6231","105","105","105",null,"155",null,null,null,null,null,null,null,null,null,null,{"$f":"'School listing'!F68","v":0},{"$f":"IF(OR(SUMPRODUCT(--(E63=$O$1:$O$542))>0,E63=0),0,1)","v":0}]
["001.100.1000.6231.106.000.0000","STATE RETIREMENT",49095.74,null,"001"," ","001","100","1000","6231","106","106","106",null,"156",null,null,null,null,null,null,null,null,null,null,{"$f":"'School listing'!F69","v":0},{"$f":"IF(OR(SUMPRODUCT(--(E64=$O$1:$O$542))>0,E64=0),0,1)","v":0}]
["001.100.1000.6231.107.000.0000","STATE RETIREMENT",56235.27,null,"001"," ","001","100","1000","6231","107","107","107",null,"157",null,null,null,null,null,null,null,null,null,null,{"$f":"'School listing'!F70","v":0},{"$f":"IF(OR(SUMPRODUCT(--(E65=$O$1:$O$542))>0,E65=0),0,1)","v":0}]
["001.100.1000.6231.108.000.0000","STATE RETIREMENT",15264.31,null,"001"," ","001","100","1000","6231","108","500","500",null,"158",null,null,null,null,null,null,null,null,null,null,{"$f":"'School listing'!F71","v":0},{"$f":"IF(OR(SUMPRODUCT(--(E66=$O$1:$O$542))>0,E66=0),0,1)","v":0}]
["001.100.1000.6232.102.000.0000","L/T DISABILITY",652.9,null,"001"," ","001","100","1000","6232","102","102","102",null,"159",null,null,null,null,null,null,null,null,null,null,{"$f":"'School listing'!F72","v":0},{"$f":"IF(OR(SUMPRODUCT(--(E67=$O$1:$O$542))>0,E67=0),0,1)","v":0}]
["001.100.1000.6232.103.000.0000","L/T DISABILITY",948.03,null,"001"," ","001","100","1000","6232","103","103","103",null,"160",{"$f":"[2]!F160EndFundBal","v":0},null,{"$f":"IF(Q68=\"\",P68,Q68)","v":0},null,null,null,null,null,null,null,{"$f":"'School listing'!F73","v":0},{"$f":"IF(OR(SUMPRODUCT(--(E68=$O$1:$O$542))>0,E68=0),0,1)","v":0}]
["001.100.1000.6232.104.000.0000","L/T DISABILITY",961.93,null,"001"," ","001","100","1000","6232","104","104","104",null,"161",null,null,null,null,null,null,null,null,null,null,{"$f":"'School listing'!F74","v":0},{"$f":"IF(OR(SUMPRODUCT(--(E69=$O$1:$O$542))>0,E69=0),0,1)","v":0}]
["001.100.1000.6232.105.000.0000","L/T DISABILITY",231.14,null,"001"," ","001","100","1000","6232","105","105","105",null,"162",null,null,null,null,null,null,null,null,null,null,{"$f":"'School listing'!F75","v":0},{"$f":"IF(OR(SUMPRODUCT(--(E70=$O$1:$O$542))>0,E70=0),0,1)","v":0}]
["001.100.1000.6232.106.000.0000","L/T DISABILITY",526.54,null,"001"," ","001","100","1000","6232","106","106","106",null,"163",null,null,null,null,null,null,null,null,null,null,{"$f":"'School listing'!F76","v":0},{"$f":"IF(OR(SUMPRODUCT(--(E71=$O$1:$O$542))>0,E71=0),0,1)","v":0}]
["001.100.1000.6232.107.000.0000","L/T DISABILITY",639.04,null,"001"," ","001","100","1000","6232","107","107","107",null,"164",null,null,null,null,null,null,null,null,null,null,{"$f":"'School listing'!F77","v":0},{"$f":"IF(OR(SUMPRODUCT(--(E72=$O$1:$O$542))>0,E72=0),0,1)","v":0}]
["001.100.1000.6232.108.000.0000","L-T DISABILITY",177.64,null,"001"," ","001","100","1000","6232","108","500","500",null,"165",null,null,null,null,null,null,null,null,null,null,{"$f":"'School listing'!F78","v":0},{"$f":"IF(OR(SUMPRODUCT(--(E73=$O$1:$O$542))>0,E73=0),0,1)","v":0}]
["001.100.1000.6260.102.000.0000","WORKER'S COMPENSATION",3528.73,null,"001"," ","001","100","1000","6260","102","102","102",null,"166",null,null,null,null,null,null,null,null,null,null,{"$f":"'School listing'!F79","v":0},{"$f":"IF(OR(SUMPRODUCT(--(E74=$O$1:$O$542))>0,E74=0),0,1)","v":0}]
["001.100.1000.6260.103.000.0000","WORKER'S COMPENSATION",4945.1499999999996,null,"001"," ","001","100","1000","6260","103","103","103",null,"167",null,null,null,null,null,null,null,null,null,null,{"$f":"'School listing'!F80","v":0},{"$f":"IF(OR(SUMPRODUCT(--(E75=$O$1:$O$542))>0,E75=0),0,1)","v":0}]
["001.100.1000.6260.104.000.0000","WORKER'S COMPENSATION",5409.88,null,"001"," ","001","100","1000","6260","104","104","104",null,"168",null,null,null,null,null,null,null,null,null,null,{"$f":"'School listing'!F81","v":0},{"$f":"IF(OR(SUMPRODUCT(--(E76=$O$1:$O$542))>0,E76=0),0,1)","v":0}]
["001.100.1000.6260.105.000.0000","WORKER'S COMPENSATION",1154.97,null,"001"," ","001","100","1000","6260","105","105","105",null,"169",null,null,null,null,null,null,null,null,null,null,{"$f":"'School listing'!F82","v":0},{"$f":"IF(OR(SUMPRODUCT(--(E77=$O$1:$O$542))>0,E77=0),0,1)","v":0}]
["001.100.1000.6260.106.000.0000","WORKER'S COMPENSATION",3113.1,null,"001"," ","001","100","1000","6260","106","106","106",null,"170",{"$f":"[2]!F170_180EndFundBal","v":0},null,{"$f":"IF(Q78=\"\",P78,Q78)","v":0},null,null,null,null,null,null,null,{"$f":"'School listing'!F83","v":0},{"$f":"IF(OR(SUMPRODUCT(--(E78=$O$1:$O$542))>0,E78=0),0,1)","v":0}]
["001.100.1000.6260.107.000.0000","WORKER'S COMPENSATION",3275.68,null,"001"," ","001","100","1000","6260","107","107","107",null,"171",null,null,null,null,null,null,null,null,null,null,{"$f":"'School listing'!F84","v":0},{"$f":"IF(OR(SUMPRODUCT(--(E79=$O$1:$O$542))>0,E79=0),0,1)","v":0}]
["001.100.1000.6260.108.000.0000","WORKERS' COMPENSATION",888.21,null,"001"," ","001","100","1000","6260","108","500","500",null,"172",null,null,null,null,null,null,null,null,null,null,{"$f":"'School listing'!F85","v":0},{"$f":"IF(OR(SUMPRODUCT(--(E80=$O$1:$O$542))>0,E80=0),0,1)","v":0}]
["001.100.1000.6280.102.000.0000","UNUSED LEAVE",562.5,null,"001"," ","001","100","1000","6280","102","102","102",null,"173",null,null,null,null,null,null,null,null,null,null,{"$f":"'School listing'!F86","v":0},{"$f":"IF(OR(SUMPRODUCT(--(E81=$O$1:$O$542))>0,E81=0),0,1)","v":0}]
["001.100.1000.6280.103.000.0000","UNUSED LEAVE",2778.02,null,"001"," ","001","100","1000","6280","103","103","103",null,"174",null,null,null,null,null,null,null,null,null,null,{"$f":"'School listing'!F87","v":0},{"$f":"IF(OR(SUMPRODUCT(--(E82=$O$1:$O$542))>0,E82=0),0,1)","v":0}]
["001.100.1000.6280.105.000.0000","UNUSED LEAVE",44.79,null,"001"," ","001","100","1000","6280","105","105","105",null,"175",null,null,null,null,null,null,null,null,null,null,{"$f":"'School listing'!F88","v":0},{"$f":"IF(OR(SUMPRODUCT(--(E83=$O$1:$O$542))>0,E83=0),0,1)","v":0}]
["001.100.1000.6280.106.000.0000","UNUSED LEAVE",768.7,null,"001"," ","001","100","1000","6280","106","106","106",null,"176",null,null,null,null,null,null,null,null,null,null,{"$f":"'School listing'!F89","v":0},{"$f":"IF(OR(SUMPRODUCT(--(E84=$O$1:$O$542))>0,E84=0),0,1)","v":0}]
["001.100.1000.6280.107.000.0000","UNUSED LEAVE",7475,null,"001"," ","001","100","1000","6280","107","107","107",null,"177",null,null,null,null,null,null,null,null,null,null,{"$f":"'School listing'!F90","v":0},{"$f":"IF(OR(SUMPRODUCT(--(E85=$O$1:$O$542))>0,E85=0),0,1)","v":0}]
["001.100.1000.6280.108.000.0000","UNUSED LEAVE",3113.77,null,"001"," ","001","100","1000","6280","108","500","500",null,"178",null,null,null,null,null,null,null,null,null,null,{"$f":"'School listing'!F91","v":0},{"$f":"IF(OR(SUMPRODUCT(--(E86=$O$1:$O$542))>0,E86=0),0,1)","v":0}]
["001.100.1000.6320.525.000.0000","Undesignated",48984.24,null,"001"," ","001","100","1000","6320","525","500","500",null,"179",null,null,null,null,null,null,null,null,null,null,{"$f":"'School listing'!F92","v":0},{"$f":"IF(OR(SUMPRODUCT(--(E87=$O$1:$O$542))>0,E87=0),0,1)","v":0}]
["001.100.1000.6390.525.000.0000","MISC. PROFESSIONAL EXP",330616.78999999998,null,"001"," ","001","100","1000","6390","525","500","500",null,"180",null,null,null,null,null,null,null,null,null,null,{"$f":"'School listing'!F93","v":0},{"$f":"IF(OR(SUMPRODUCT(--(E88=$O$1:$O$542))>0,E88=0),0,1)","v":0}]
["001.100.1000.6580.107.000.0000","TRAVEL",72.34,null,"001"," ","001","100","1000","6580","107","107","107",null,"181",null,null,null,null,null,null,null,null,null,null,{"$f":"'School listing'!F94","v":0},{"$f":"IF(OR(SUMPRODUCT(--(E89=$O$1:$O$542))>0,E89=0),0,1)","v":0}]
["001.100.1000.6611.102.000.0000","INSTR'L SUPPLIES",9653.66,null,"001"," ","001","100","1000","6611","102","102","102",null,"182",null,null,null,null,null,null,null,null,null,null,{"$f":"'School listing'!F95","v":0},{"$f":"IF(OR(SUMPRODUCT(--(E90=$O$1:$O$542))>0,E90=0),0,1)","v":0}]
["001.100.1000.6611.103.000.0000","SUPPLIES-GEN CLASS",25493.4,null,"001"," ","001","100","1000","6611","103","103","103",null,"183",null,null,null,null,null,null,null,null,null,null,{"$f":"'School listing'!F96","v":0},{"$f":"IF(OR(SUMPRODUCT(--(E91=$O$1:$O$542))>0,E91=0),0,1)","v":0}]
["001.100.1000.6611.103.520.0000","SUPPLIES",14.76,null,"001"," ","001","100","1000","6611","103","103","103",null,"184",null,null,null,null,null,null,null,null,null,null,{"$f":"'School listing'!F97","v":0},{"$f":"IF(OR(SUMPRODUCT(--(E92=$O$1:$O$542))>0,E92=0),0,1)","v":0}]
["001.100.1000.6611.104.000.0000","SUPPLIES-GEN CLASS",17052.98,null,"001"," ","001","100","1000","6611","104","104","104",null,"185",null,null,null,null,null,null,null,null,null,null,{"$f":"'School listing'!F98","v":0},{"$f":"IF(OR(SUMPRODUCT(--(E93=$O$1:$O$542))>0,E93=0),0,1)","v":0}]
["001.100.1000.6611.105.000.0000","SUPPLIES-GEN CLASS",4030.58,null,"001"," ","001","100","1000","6611","105","105","105",null,"186",null,null,null,null,null,null,null,null,null,null,{"$f":"'School listing'!F99","v":0},{"$f":"IF(OR(SUMPRODUCT(--(E94=$O$1:$O$542))>0,E94=0),0,1)","v":0}]
["001.100.1000.6611.106.000.0000","SUPPLIES-GEN CLASS",17409.63,null,"001"," ","001","100","1000","6611","106","106","106",null,"187",null,null,null,null,null,null,null,null,null,null,null,{"$f":"IF(OR(SUMPRODUCT(--(E95=$O$1:$O$542))>0,E95=0),0,1)","v":0}]
["001.100.1000.6611.107.000.0000","SUPPLIES-GEN CLASS",3620.03,null,"001"," ","001","100","1000","6611","107","107","107",null,"188",null,null,null,null,null,null,null,null,null,null,null,{"$f":"IF(OR(SUMPRODUCT(--(E96=$O$1:$O$542))>0,E96=0),0,1)","v":0}]
["001.100.1000.6611.505.560.0000","Undesignated",594.80999999999995,null,"001"," ","001","100","1000","6611","505","105","105",null,"189",null,null,null,null,null,null,null,null,null,null,null,{"$f":"IF(OR(SUMPRODUCT(--(E97=$O$1:$O$542))>0,E97=0),0,1)","v":0}]
["001.100.1000.6611.535.000.0000","SUPPLIES",6761.9,null,"001"," ","001","100","1000","6611","535","500","500",null,"190",{"$f":"[2]!F190EndFundBal","v":0},null,{"$f":"IF(Q98=\"\",P98,Q98)","v":0},null,null,null,null,null,null,null,null,{"$f":"IF(OR(SUMPRODUCT(--(E98=$O$1:$O$542))>0,E98=0),0,1)","v":0}]
["001.100.1000.6611.560.000.0000","Undesignated",1513.23,null,"001"," ","001","100","1000","6611","560","500","500",null,"191",null,null,null,null,null,null,null,null,null,null,null,{"$f":"IF(OR(SUMPRODUCT(--(E99=$O$1:$O$542))>0,E99=0),0,1)","v":0}]
["001.100.1000.6613.560.000.0000","Undesignated",118.57,null,"001"," ","001","100","1000","6613","560","500","500",null,"192",null,null,null,null,null,null,null,null,null,null,null,{"$f":"IF(OR(SUMPRODUCT(--(E100=$O$1:$O$542))>0,E100=0),0,1)","v":0}]
["001.100.1000.6650.102.000.0000","Undesignated",3248.51,null,"001"," ","001","100","1000","6650","102","102","102",null,"193",null,null,null,null,null,null,null,null,null,null,null,{"$f":"IF(OR(SUMPRODUCT(--(E101=$O$1:$O$542))>0,E101=0),0,1)","v":0}]
["001.100.1000.6650.104.000.0000","TECHNOLOGY RELATED SUPPLIES",337.34,null,"001"," ","001","100","1000","6650","104","104","104",null,"194",null,null,null,null,null,null,null,null,null,null,null,{"$f":"IF(OR(SUMPRODUCT(--(E102=$O$1:$O$542))>0,E102=0),0,1)","v":0}]
["001.100.1000.6650.530.000.0000","TECHNOLOGY RELATED SUPPLIES",1373.78,null,"001"," ","001","100","1000","6650","530","500","500",null,"195",null,null,null,null,null,null,null,null,null,null,null,{"$f":"IF(OR(SUMPRODUCT(--(E103=$O$1:$O$542))>0,E103=0),0,1)","v":0}]
["001.100.1000.6810.104.000.0000","DUES/MEMBERSHIPS",735,null,"001"," ","001","100","1000","6810","104","104","104",null,"196",null,null,null,null,null,null,null,null,null,null,null,{"$f":"IF(OR(SUMPRODUCT(--(E104=$O$1:$O$542))>0,E104=0),0,1)","v":0}]
["001.100.1000.6810.535.000.0000","DUES & FEES",150.94999999999999,null,"001"," ","001","100","1000","6810","535","500","500",null,"197",null,null,null,null,null,null,null,null,null,null,null,{"$f":"IF(OR(SUMPRODUCT(--(E105=$O$1:$O$542))>0,E105=0),0,1)","v":0}]
["001.100.1045.6112.102.000.0000","TEACHER - MUSIC",22581.26,null,"001"," ","001","100","1045","6112","102","102","102",null,"198",null,null,null,null,null,null,null,null,null,null,null,{"$f":"IF(OR(SUMPRODUCT(--(E106=$O$1:$O$542))>0,E106=0),0,1)","v":0}]
["001.100.1045.6112.103.000.0000","TEACHER - MUSIC",45392.99,null,"001"," ","001","100","1045","6112","103","103","103",null,"199",null,null,null,null,null,null,null,null,null,null,null,{"$f":"IF(OR(SUMPRODUCT(--(E107=$O$1:$O$542))>0,E107=0),0,1)","v":0}]
["001.100.1045.6112.104.000.0000","TEACHER - MUSIC",22581.26,null,"001"," ","001","100","1045","6112","104","104","104",null,"200",{"$f":"[2]!F200EndFundBal","v":0},null,{"$f":"IF(Q108=\"\",P108,Q108)","v":0},null,null,null,null,null,null,null,null,{"$f":"IF(OR(SUMPRODUCT(--(E108=$O$1:$O$542))>0,E108=0),0,1)","v":0}]
["001.100.1045.6112.107.000.0000","TEACHER - MUSIC",45542.02,null,"001"," ","001","100","1045","6112","107","107","107",null,"201",null,null,null,null,null,null,null,null,null,null,null,{"$f":"IF(OR(SUMPRODUCT(--(E109=$O$1:$O$542))>0,E109=0),0,1)","v":0}]
["001.100.1045.6210.103.000.0000","GROUP INSURANCE",4914.3100000000004,null,"001"," ","001","100","1045","6210","103","103","103",null,"202",null,null,null,null,null,null,null,null,null,null,null,{"$f":"IF(OR(SUMPRODUCT(--(E110=$O$1:$O$542))>0,E110=0),0,1)","v":0}]
["001.100.1045.6210.107.000.0000","GROUP INSURANCE",5560.06,null,"001"," ","001","100","1045","6210","107","107","107",null,"203",null,null,null,null,null,null,null,null,null,null,null,{"$f":"IF(OR(SUMPRODUCT(--(E111=$O$1:$O$542))>0,E111=0),0,1)","v":0}]
["001.100.1045.6212.102.000.0000","LIFE INSURANCE",30.55,null,"001"," ","001","100","1045","6212","102","102","102",null,"204",null,null,null,null,null,null,null,null,null,null,null,{"$f":"IF(OR(SUMPRODUCT(--(E112=$O$1:$O$542))>0,E112=0),0,1)","v":0}]
["001.100.1045.6212.103.000.0000","LIFE INSURANCE",45.73,null,"001"," ","001","100","1045","6212","103","103","103",null,"205",null,null,null,null,null,null,null,null,null,null,null,{"$f":"IF(OR(SUMPRODUCT(--(E113=$O$1:$O$542))>0,E113=0),0,1)","v":0}]
["001.100.1045.6212.104.000.0000","LIFE INSURANCE",30.55,null,"001"," ","001","100","1045","6212","104","104","104",null,"206",null,null,null,null,null,null,null,null,null,null,null,{"$f":"IF(OR(SUMPRODUCT(--(E114=$O$1:$O$542))>0,E114=0),0,1)","v":0}]
["001.100.1045.6212.107.000.0000","LIFE INSURANCE",62.05,null,"001"," ","001","100","1045","6212","107","107","107",null,"207",null,null,null,null,null,null,null,null,null,null,null,{"$f":"IF(OR(SUMPRODUCT(--(E115=$O$1:$O$542))>0,E115=0),0,1)","v":0}]
["001.100.1045.6221.102.000.0000","SOCIAL SECURITY-FICA",1399.99,null,"001"," ","001","100","1045","6221","102","102","102",null,"208",null,null,null,null,null,null,null,null,null,null,null,{"$f":"IF(OR(SUMPRODUCT(--(E116=$O$1:$O$542))>0,E116=0),0,1)","v":0}]
["001.100.1045.6221.103.000.0000","SOCIAL SECURITY-FICA",2816.93,null,"001"," ","001","100","1045","6221","103","103","103",null,"209",null,null,null,null,null,null,null,null,null,null,null,{"$f":"IF(OR(SUMPRODUCT(--(E117=$O$1:$O$542))>0,E117=0),0,1)","v":0}]
["001.100.1045.6221.104.000.0000","SOCIAL SECURITY-FICA",1399.99,null,"001"," ","001","100","1045","6221","104","104","104",null,"210",{"$f":"[2]!F210EndFundBal","v":0},null,{"$f":"IF(Q118=\"\",P118,Q118)","v":0},null,null,null,null,null,null,null,null,{"$f":"IF(OR(SUMPRODUCT(--(E118=$O$1:$O$542))>0,E118=0),0,1)","v":0}]
["001.100.1045.6221.107.000.0000","SOCIAL SECURITY-FICA",2790.79,null,"001"," ","001","100","1045","6221","107","107","107",null,"211",null,null,null,null,null,null,null,null,null,null,null,{"$f":"IF(OR(SUMPRODUCT(--(E119=$O$1:$O$542))>0,E119=0),0,1)","v":0}]
["001.100.1045.6222.102.000.0000","FICA MEDICARE",327.38,null,"001"," ","001","100","1045","6222","102","102","102",null,"212",null,null,null,null,null,null,null,null,null,null,null,{"$f":"IF(OR(SUMPRODUCT(--(E120=$O$1:$O$542))>0,E120=0),0,1)","v":0}]
["001.100.1045.6222.103.000.0000","FICA MEDICARE",658.85,null,"001"," ","001","100","1045","6222","103","103","103",null,"213",null,null,null,null,null,null,null,null,null,null,null,{"$f":"IF(OR(SUMPRODUCT(--(E121=$O$1:$O$542))>0,E121=0),0,1)","v":0}]
["001.100.1045.6222.104.000.0000","FICA MEDICARE",327.38,null,"001"," ","001","100","1045","6222","104","104","104",null,"214",null,null,null,null,null,null,null,null,null,null,null,{"$f":"IF(OR(SUMPRODUCT(--(E122=$O$1:$O$542))>0,E122=0),0,1)","v":0}]
["001.100.1045.6222.107.000.0000","FICA MEDICARE",652.73,null,"001"," ","001","100","1045","6222","107","107","107",null,"215",null,null,null,null,null,null,null,null,null,null,null,{"$f":"IF(OR(SUMPRODUCT(--(E123=$O$1:$O$542))>0,E123=0),0,1)","v":0}]
["001.100.1045.6231.102.000.0000","STATE RETIREMENT",2716.56,null,"001"," ","001","100","1045","6231","102","102","102",null,"216",null,null,null,null,null,null,null,null,null,null,null,{"$f":"IF(OR(SUMPRODUCT(--(E124=$O$1:$O$542))>0,E124=0),0,1)","v":0}]
["001.100.1045.6231.103.000.0000","STATE RETIREMENT",5577,null,"001"," ","001","100","1045","6231","103","103","103",null,"217",null,null,null,null,null,null,null,null,null,null,null,{"$f":"IF(OR(SUMPRODUCT(--(E125=$O$1:$O$542))>0,E125=0),0,1)","v":0}]
["001.100.1045.6231.104.000.0000","STATE RETIREMENT",2716.56,null,"001"," ","001","100","1045","6231","104","104","104",null,"218",null,null,null,null,null,null,null,null,null,null,null,{"$f":"IF(OR(SUMPRODUCT(--(E126=$O$1:$O$542))>0,E126=0),0,1)","v":0}]
["001.100.1045.6231.107.000.0000","STATE RETIREMENT",5468.52,null,"001"," ","001","100","1045","6231","107","107","107",null,"219",null,null,null,null,null,null,null,null,null,null,null,{"$f":"IF(OR(SUMPRODUCT(--(E127=$O$1:$O$542))>0,E127=0),0,1)","v":0}]
["001.100.1045.6232.102.000.0000","L-T DISABILITY",31.63,null,"001"," ","001","100","1045","6232","102","102","102",null,"220",{"$f":"[2]!F220EndFundBal","v":0},null,{"$f":"IF(Q128=\"\",P128,Q128)","v":0},null,null,null,null,null,null,null,null,{"$f":"IF(OR(SUMPRODUCT(--(E128=$O$1:$O$542))>0,E128=0),0,1)","v":0}]
["001.100.1045.6232.103.000.0000","L-T DISABILITY",64.930000000000007,null,"001"," ","001","100","1045","6232","103","103","103",null,"221",null,null,null,null,null,null,null,null,null,null,null,{"$f":"IF(OR(SUMPRODUCT(--(E129=$O$1:$O$542))>0,E129=0),0,1)","v":0}]
["001.100.1045.6232.104.000.0000","L-T DISABILITY",31.63,null,"001"," ","001","100","1045","6232","104","104","104",null,"222",null,null,null,null,null,null,null,null,null,null,null,{"$f":"IF(OR(SUMPRODUCT(--(E130=$O$1:$O$542))>0,E130=0),0,1)","v":0}]
["001.100.1045.6232.107.000.0000","L-T DISABILITY",60.96,null,"001"," ","001","100","1045","6232","107","107","107",null,"223",null,null,null,null,null,null,null,null,null,null,null,{"$f":"IF(OR(SUMPRODUCT(--(E131=$O$1:$O$542))>0,E131=0),0,1)","v":0}]
["001.100.1045.6260.102.000.0000","WORKERS' COMPENSATION",158,null,"001"," ","001","100","1045","6260","102","102","102",null,"224",null,null,null,null,null,null,null,null,null,null,null,{"$f":"IF(OR(SUMPRODUCT(--(E132=$O$1:$O$542))>0,E132=0),0,1)","v":0}]
["001.100.1045.6260.103.000.0000","WORKERS' COMPENSATION",317.77999999999997,null,"001"," ","001","100","1045","6260","103","103","103",null,"225",null,null,null,null,null,null,null,null,null,null,null,{"$f":"IF(OR(SUMPRODUCT(--(E133=$O$1:$O$542))>0,E133=0),0,1)","v":0}]
["001.100.1045.6260.104.000.0000","WORKERS' COMPENSATION",158,null,"001"," ","001","100","1045","6260","104","104","104",null,"226",null,null,null,null,null,null,null,null,null,null,null,{"$f":"IF(OR(SUMPRODUCT(--(E134=$O$1:$O$542))>0,E134=0),0,1)","v":0}]
["001.100.1045.6260.107.000.0000","WORKERS' COMPENSATION",318.70999999999998,null,"001"," ","001","100","1045","6260","107","107","107",null,"227",null,null,null,null,null,null,null,null,null,null,null,{"$f":"IF(OR(SUMPRODUCT(--(E135=$O$1:$O$542))>0,E135=0),0,1)","v":0}]
["001.100.1045.6280.103.000.0000","UNUSED LEAVE",965.33,null,"001"," ","001","100","1045","6280","103","103","103",null,"228",null,null,null,null,null,null,null,null,null,null,null,{"$f":"IF(OR(SUMPRODUCT(--(E136=$O$1:$O$542))>0,E136=0),0,1)","v":0}]
["001.100.1050.6112.102.000.0000","TEACHER - ART",-0.01,null,"001"," ","001","100","1050","6112","102","102","102",null,"229",null,null,null,null,null,null,null,null,null,null,null,{"$f":"IF(OR(SUMPRODUCT(--(E137=$O$1:$O$542))>0,E137=0),0,1)","v":0}]
["001.100.1050.6112.103.000.0000","TEACHER - ART",58865.01,null,"001"," ","001","100","1050","6112","103","103","103",null,"230",{"$f":"[2]!F230EndFundBal","v":0},null,{"$f":"IF(Q138=\"\",P138,Q138)","v":0},null,null,null,null,null,null,null,null,{"$f":"IF(OR(SUMPRODUCT(--(E138=$O$1:$O$542))>0,E138=0),0,1)","v":0}]
["001.100.1050.6112.104.000.0000","TEACHER - ART",38310.019999999997,null,"001"," ","001","100","1050","6112","104","104","104",null,"231",null,null,null,null,null,null,null,null,null,null,null,{"$f":"IF(OR(SUMPRODUCT(--(E139=$O$1:$O$542))>0,E139=0),0,1)","v":0}]
["001.100.1050.6112.106.000.0000","TEACHER - ART",61402.01,null,"001"," ","001","100","1050","6112","106","106","106",null,"232",null,null,null,null,null,null,null,null,null,null,null,{"$f":"IF(OR(SUMPRODUCT(--(E140=$O$1:$O$542))>0,E140=0),0,1)","v":0}]
["001.100.1050.6112.107.000.0000","TEACHER - ART",43810.01,null,"001"," ","001","100","1050","6112","107","107","107",null,"233",null,null,null,null,null,null,null,null,null,null,null,{"$f":"IF(OR(SUMPRODUCT(--(E141=$O$1:$O$542))>0,E141=0),0,1)","v":0}]
["001.100.1050.6210.102.000.0000","GROUP INSURANCE",-0.02,null,"001"," ","001","100","1050","6210","102","102","102",null,"234",null,null,null,null,null,null,null,null,null,null,null,{"$f":"IF(OR(SUMPRODUCT(--(E142=$O$1:$O$542))>0,E142=0),0,1)","v":0}]
["001.100.1050.6210.103.000.0000","GROUP INSURANCE",5623.86,null,"001"," ","001","100","1050","6210","103","103","103",null,"235",null,null,null,null,null,null,null,null,null,null,null,{"$f":"IF(OR(SUMPRODUCT(--(E143=$O$1:$O$542))>0,E143=0),0,1)","v":0}]
["001.100.1050.6210.104.000.0000","GROUP INSURANCE",5409.78,null,"001"," ","001","100","1050","6210","104","104","104",null,"236",null,null,null,null,null,null,null,null,null,null,null,{"$f":"IF(OR(SUMPRODUCT(--(E144=$O$1:$O$542))>0,E144=0),0,1)","v":0}]
["001.100.1050.6212.102.000.0000","LIFE INSURANCE",0.08,null,"001"," ","001","100","1050","6212","102","102","102",null,"237",null,null,null,null,null,null,null,null,null,null,null,{"$f":"IF(OR(SUMPRODUCT(--(E145=$O$1:$O$542))>0,E145=0),0,1)","v":0}]
["001.100.1050.6212.103.000.0000","LIFE INSURANCE",62.84,null,"001"," ","001","100","1050","6212","103","103","103",null,"238",null,null,null,null,null,null,null,null,null,null,null,{"$f":"IF(OR(SUMPRODUCT(--(E146=$O$1:$O$542))>0,E146=0),0,1)","v":0}]
["001.100.1050.6212.104.000.0000","LIFE INSURANCE",60.43,null,"001"," ","001","100","1050","6212","104","104","104",null,"239",null,null,null,null,null,null,null,null,null,null,null,{"$f":"IF(OR(SUMPRODUCT(--(E147=$O$1:$O$542))>0,E147=0),0,1)","v":0}]
["001.100.1050.6212.106.000.0000","LIFE INSURANCE",63,null,"001"," ","001","100","1050","6212","106","106","106",null,"240",{"$f":"[2]!F240EndFundBal","v":0},null,{"$f":"IF(Q148=\"\",P148,Q148)","v":0},null,null,null,null,null,null,null,null,{"$f":"IF(OR(SUMPRODUCT(--(E148=$O$1:$O$542))>0,E148=0),0,1)","v":0}]
["001.100.1050.6212.107.000.0000","LIFE INSURANCE",61.73,null,"001"," ","001","100","1050","6212","107","107","107",null,"241",null,null,null,null,null,null,null,null,null,null,null,{"$f":"IF(OR(SUMPRODUCT(--(E149=$O$1:$O$542))>0,E149=0),0,1)","v":0}]
["001.100.1050.6221.103.000.0000","SOCIAL SECURITY-FICA",3638.17,null,"001"," ","001","100","1050","6221","103","103","103",null,"242",null,null,null,null,null,null,null,null,null,null,null,{"$f":"IF(OR(SUMPRODUCT(--(E150=$O$1:$O$542))>0,E150=0),0,1)","v":0}]
["001.100.1050.6221.104.000.0000","SOCIAL SECURITY-FICA",2368.7600000000002,null,"001"," ","001","100","1050","6221","104","104","104",null,"243",null,null,null,null,null,null,null,null,null,null,null,{"$f":"IF(OR(SUMPRODUCT(--(E151=$O$1:$O$542))>0,E151=0),0,1)","v":0}]
["001.100.1050.6221.106.000.0000","SOCIAL SECURITY-FICA",3800.17,null,"001"," ","001","100","1050","6221","106","106","106",null,"244",null,null,null,null,null,null,null,null,null,null,null,{"$f":"IF(OR(SUMPRODUCT(--(E152=$O$1:$O$542))>0,E152=0),0,1)","v":0}]
["001.100.1050.6221.107.000.0000","SOCIAL SECURITY-FICA",2716.3,null,"001"," ","001","100","1050","6221","107","107","107",null,"245",null,null,null,null,null,null,null,null,null,null,null,{"$f":"IF(OR(SUMPRODUCT(--(E153=$O$1:$O$542))>0,E153=0),0,1)","v":0}]
["001.100.1050.6222.102.000.0000","FICA MEDICARE",-0.01,null,"001"," ","001","100","1050","6222","102","102","102",null,"246",null,null,null,null,null,null,null,null,null,null,null,{"$f":"IF(OR(SUMPRODUCT(--(E154=$O$1:$O$542))>0,E154=0),0,1)","v":0}]
["001.100.1050.6222.103.000.0000","FICA MEDICARE",850.81,null,"001"," ","001","100","1050","6222","103","103","103",null,"247",null,null,null,null,null,null,null,null,null,null,null,{"$f":"IF(OR(SUMPRODUCT(--(E155=$O$1:$O$542))>0,E155=0),0,1)","v":0}]
["001.100.1050.6222.104.000.0000","FICA MEDICARE",553.84,null,"001"," ","001","100","1050","6222","104","104","104",null,"248",null,null,null,null,null,null,null,null,null,null,null,{"$f":"IF(OR(SUMPRODUCT(--(E156=$O$1:$O$542))>0,E156=0),0,1)","v":0}]
["001.100.1050.6222.106.000.0000","FICA MEDICARE",888.81,null,"001"," ","001","100","1050","6222","106","106","106",null,"249",null,null,null,null,null,null,null,null,null,null,null,{"$f":"IF(OR(SUMPRODUCT(--(E157=$O$1:$O$542))>0,E157=0),0,1)","v":0}]
["001.100.1050.6222.107.000.0000","FICA MEDICARE",635.23,null,"001"," ","001","100","1050","6222","107","107","107",null,"250",{"$f":"[2]!F250EndFundBal","v":0},null,{"$f":"IF(Q158=\"\",P158,Q158)","v":0},null,null,null,null,null,null,null,null,{"$f":"IF(OR(SUMPRODUCT(--(E158=$O$1:$O$542))>0,E158=0),0,1)","v":0}]
["001.100.1050.6231.102.000.0000","STATE RETIREMENT",0.02,null,"001"," ","001","100","1050","6231","102","102","102",null,"251",null,null,null,null,null,null,null,null,null,null,null,{"$f":"IF(OR(SUMPRODUCT(--(E159=$O$1:$O$542))>0,E159=0),0,1)","v":0}]
["001.100.1050.6231.103.000.0000","STATE RETIREMENT",7081.49,null,"001"," ","001","100","1050","6231","103","103","103",null,"252",null,null,null,null,null,null,null,null,null,null,null,{"$f":"IF(OR(SUMPRODUCT(--(E160=$O$1:$O$542))>0,E160=0),0,1)","v":0}]
["001.100.1050.6231.104.000.0000","STATE RETIREMENT",4608.78,null,"001"," ","001","100","1050","6231","104","104","104",null,"253",null,null,null,null,null,null,null,null,null,null,null,{"$f":"IF(OR(SUMPRODUCT(--(E161=$O$1:$O$542))>0,E161=0),0,1)","v":0}]
["001.100.1050.6231.106.000.0000","STATE RETIREMENT",7386.71,null,"001"," ","001","100","1050","6231","106","106","106",null,"254",null,null,null,null,null,null,null,null,null,null,null,{"$f":"IF(OR(SUMPRODUCT(--(E162=$O$1:$O$542))>0,E162=0),0,1)","v":0}]
["001.100.1050.6231.107.000.0000","STATE RETIREMENT",5261.85,null,"001"," ","001","100","1050","6231","107","107","107",null,"255",null,null,null,null,null,null,null,null,null,null,null,{"$f":"IF(OR(SUMPRODUCT(--(E163=$O$1:$O$542))>0,E163=0),0,1)","v":0}]
["001.100.1050.6232.102.000.0000","L-T DISABILITY",-0.06,null,"001"," ","001","100","1050","6232","102","102","102",null,"256",null,null,null,null,null,null,null,null,null,null,null,{"$f":"IF(OR(SUMPRODUCT(--(E164=$O$1:$O$542))>0,E164=0),0,1)","v":0}]
["001.100.1050.6232.103.000.0000","L-T DISABILITY",82.39,null,"001"," ","001","100","1050","6232","103","103","103",null,"257",null,null,null,null,null,null,null,null,null,null,null,{"$f":"IF(OR(SUMPRODUCT(--(E165=$O$1:$O$542))>0,E165=0),0,1)","v":0}]
["001.100.1050.6232.104.000.0000","L-T DISABILITY",53.61,null,"001"," ","001","100","1050","6232","104","104","104",null,"258",null,null,null,null,null,null,null,null,null,null,null,{"$f":"IF(OR(SUMPRODUCT(--(E166=$O$1:$O$542))>0,E166=0),0,1)","v":0}]
["001.100.1050.6232.106.000.0000","L-T DISABILITY",85.98,null,"001"," ","001","100","1050","6232","106","106","106",null,"259",null,null,null,null,null,null,null,null,null,null,null,{"$f":"IF(OR(SUMPRODUCT(--(E167=$O$1:$O$542))>0,E167=0),0,1)","v":0}]
["001.100.1050.6232.107.000.0000","L-T DISABILITY",59.08,null,"001"," ","001","100","1050","6232","107","107","107",null,"260",{"$f":"[2]!F260_270EndFundBal","v":0},null,{"$f":"IF(Q168=\"\",P168,Q168)","v":0},null,null,null,null,null,null,null,null,{"$f":"IF(OR(SUMPRODUCT(--(E168=$O$1:$O$542))>0,E168=0),0,1)","v":0}]
["001.100.1050.6260.102.000.0000","WORKERS' COMPENSATION",-0.02,null,"001"," ","001","100","1050","6260","102","102","102",null,"261",null,null,null,null,null,null,null,null,null,null,null,{"$f":"IF(OR(SUMPRODUCT(--(E169=$O$1:$O$542))>0,E169=0),0,1)","v":0}]
["001.100.1050.6260.103.000.0000","WORKERS' COMPENSATION",411.9,null,"001"," ","001","100","1050","6260","103","103","103",null,"262",null,null,null,null,null,null,null,null,null,null,null,{"$f":"IF(OR(SUMPRODUCT(--(E170=$O$1:$O$542))>0,E170=0),0,1)","v":0}]
["001.100.1050.6260.104.000.0000","WORKERS' COMPENSATION",268.20999999999998,null,"001"," ","001","100","1050","6260","104","104","104",null,"263",null,null,null,null,null,null,null,null,null,null,null,{"$f":"IF(OR(SUMPRODUCT(--(E171=$O$1:$O$542))>0,E171=0),0,1)","v":0}]
["001.100.1050.6260.106.000.0000","WORKERS' COMPENSATION",429.74,null,"001"," ","001","100","1050","6260","106","106","106",null,"264",null,null,null,null,null,null,null,null,null,null,null,{"$f":"IF(OR(SUMPRODUCT(--(E172=$O$1:$O$542))>0,E172=0),0,1)","v":0}]
["001.100.1050.6260.107.000.0000","WORKERS' COMPENSATION",306.62,null,"001"," ","001","100","1050","6260","107","107","107",null,"265",null,null,null,null,null,null,null,null,null,null,null,{"$f":"IF(OR(SUMPRODUCT(--(E173=$O$1:$O$542))>0,E173=0),0,1)","v":0}]
["001.100.1050.6611.102.000.0000","SUPPLIES-ART",1429.88,null,"001"," ","001","100","1050","6611","102","102","102",null,"266",null,null,null,null,null,null,null,null,null,null,null,{"$f":"IF(OR(SUMPRODUCT(--(E174=$O$1:$O$542))>0,E174=0),0,1)","v":0}]
["001.100.1050.6611.103.000.0000","SUPPLIES-ART",427.91,null,"001"," ","001","100","1050","6611","103","103","103",null,"267",null,null,null,null,null,null,null,null,null,null,null,{"$f":"IF(OR(SUMPRODUCT(--(E175=$O$1:$O$542))>0,E175=0),0,1)","v":0}]
["001.100.1060.6112.103.000.0000","TEACHER - PE",56312.97,null,"001"," ","001","100","1060","6112","103","103","103",null,"268",null,null,null,null,null,null,null,null,null,null,null,{"$f":"IF(OR(SUMPRODUCT(--(E176=$O$1:$O$542))>0,E176=0),0,1)","v":0}]
["001.100.1060.6112.104.000.0000","TEACHER - PE",27871.119999999999,null,"001"," ","001","100","1060","6112","104","104","104",null,"269",null,null,null,null,null,null,null,null,null,null,null,{"$f":"IF(OR(SUMPRODUCT(--(E177=$O$1:$O$542))>0,E177=0),0,1)","v":0}]
["001.100.1060.6112.106.000.0000","TEACHER - PE",39429.339999999997,null,"001"," ","001","100","1060","6112","106","106","106",null,"270",null,null,null,null,null,null,null,null,null,null,null,{"$f":"IF(OR(SUMPRODUCT(--(E178=$O$1:$O$542))>0,E178=0),0,1)","v":0}]
["001.100.1060.6112.107.000.0000","TEACHER - PE",16519.21,null,"001"," ","001","100","1060","6112","107","107","107",null,"271",null,null,null,null,null,null,null,null,null,null,null,{"$f":"IF(OR(SUMPRODUCT(--(E179=$O$1:$O$542))>0,E179=0),0,1)","v":0}]
["001.100.1060.6210.104.000.0000","GROUP INSURANCE",3452.7,null,"001"," ","001","100","1060","6210","104","104","104",null,"272",null,null,null,null,null,null,null,null,null,null,null,{"$f":"IF(OR(SUMPRODUCT(--(E180=$O$1:$O$542))>0,E180=0),0,1)","v":0}]
["001.100.1060.6210.106.000.0000","GROUP INSURANCE",4908.4799999999996,null,"001"," ","001","100","1060","6210","106","106","106",null,"273",null,null,null,null,null,null,null,null,null,null,null,{"$f":"IF(OR(SUMPRODUCT(--(E181=$O$1:$O$542))>0,E181=0),0,1)","v":0}]
["001.100.1060.6210.107.000.0000","GROUP INSURANCE",3528.27,null,"001"," ","001","100","1060","6210","107","107","107",null,"274",null,null,null,null,null,null,null,null,null,null,null,{"$f":"IF(OR(SUMPRODUCT(--(E182=$O$1:$O$542))>0,E182=0),0,1)","v":0}]
["001.100.1060.6212.103.000.0000","LIFE INSURANCE",54.74,null,"001"," ","001","100","1060","6212","103","103","103",null,"275",null,null,null,null,null,null,null,null,null,null,null,{"$f":"IF(OR(SUMPRODUCT(--(E183=$O$1:$O$542))>0,E183=0),0,1)","v":0}]
["001.100.1060.6212.104.000.0000","LIFE INSURANCE",28.27,null,"001"," ","001","100","1060","6212","104","104","104",null,"276",null,null,null,null,null,null,null,null,null,null,null,{"$f":"IF(OR(SUMPRODUCT(--(E184=$O$1:$O$542))>0,E184=0),0,1)","v":0}]
["001.100.1060.6212.106.000.0000","LIFE INSURANCE",53.89,null,"001"," ","001","100","1060","6212","106","106","106",null,"277",null,null,null,null,null,null,null,null,null,null,null,{"$f":"IF(OR(SUMPRODUCT(--(E185=$O$1:$O$542))>0,E185=0),0,1)","v":0}]
["001.100.1060.6212.107.000.0000","LIFE INSURANCE",37.090000000000003,null,"001"," ","001","100","1060","6212","107","107","107",null,"278",null,null,null,null,null,null,null,null,null,null,null,{"$f":"IF(OR(SUMPRODUCT(--(E186=$O$1:$O$542))>0,E186=0),0,1)","v":0}]
["001.100.1060.6221.103.000.0000","SOCIAL SECURITY-FICA",3491.38,null,"001"," ","001","100","1060","6221","103","103","103",null,"279",null,null,null,null,null,null,null,null,null,null,null,{"$f":"IF(OR(SUMPRODUCT(--(E187=$O$1:$O$542))>0,E187=0),0,1)","v":0}]
["001.100.1060.6221.104.000.0000","SOCIAL SECURITY-FICA",1703.44,null,"001"," ","001","100","1060","6221","104","104","104",null,"280",{"$f":"[2]!F280EndFundBal","v":0},null,{"$f":"IF(Q188=\"\",P188,Q188)","v":0},null,null,null,null,null,null,null,null,{"$f":"IF(OR(SUMPRODUCT(--(E188=$O$1:$O$542))>0,E188=0),0,1)","v":0}]
["001.100.1060.6221.106.000.0000","SOCIAL SECURITY-FICA",2251.91,null,"001"," ","001","100","1060","6221","106","106","106",null,"281",null,null,null,null,null,null,null,null,null,null,null,{"$f":"IF(OR(SUMPRODUCT(--(E189=$O$1:$O$542))>0,E189=0),0,1)","v":0}]
["001.100.1060.6221.107.000.0000","SOCIAL SECURITY-FICA",1011.48,null,"001"," ","001","100","1060","6221","107","107","107",null,"282",null,null,null,null,null,null,null,null,null,null,null,{"$f":"IF(OR(SUMPRODUCT(--(E190=$O$1:$O$542))>0,E190=0),0,1)","v":0}]
["001.100.1060.6222.103.000.0000","FICA MEDICARE",816.68,null,"001"," ","001","100","1060","6222","103","103","103",null,"283",null,null,null,null,null,null,null,null,null,null,null,{"$f":"IF(OR(SUMPRODUCT(--(E191=$O$1:$O$542))>0,E191=0),0,1)","v":0}]
["001.100.1060.6222.104.000.0000","FICA MEDICARE",398.41,null,"001"," ","001","100","1060","6222","104","104","104",null,"284",null,null,null,null,null,null,null,null,null,null,null,{"$f":"IF(OR(SUMPRODUCT(--(E192=$O$1:$O$542))>0,E192=0),0,1)","v":0}]
["001.100.1060.6222.106.000.0000","FICA MEDICARE",526.59,null,"001"," ","001","100","1060","6222","106","106","106",null,"285",null,null,null,null,null,null,null,null,null,null,null,{"$f":"IF(OR(SUMPRODUCT(--(E193=$O$1:$O$542))>0,E193=0),0,1)","v":0}]
["001.100.1060.6222.107.000.0000","FICA MEDICARE",236.55,null,"001"," ","001","100","1060","6222","107","107","107",null,"286",null,null,null,null,null,null,null,null,null,null,null,{"$f":"IF(OR(SUMPRODUCT(--(E194=$O$1:$O$542))>0,E194=0),0,1)","v":0}]
["001.100.1060.6231.103.000.0000","STATE RETIREMENT",6774.41,null,"001"," ","001","100","1060","6231","103","103","103",null,"287",null,null,null,null,null,null,null,null,null,null,null,{"$f":"IF(OR(SUMPRODUCT(--(E195=$O$1:$O$542))>0,E195=0),0,1)","v":0}]
["001.100.1060.6231.104.000.0000","STATE RETIREMENT",3352.86,null,"001"," ","001","100","1060","6231","104","104","104",null,"288",null,null,null,null,null,null,null,null,null,null,null,{"$f":"IF(OR(SUMPRODUCT(--(E196=$O$1:$O$542))>0,E196=0),0,1)","v":0}]
["001.100.1060.6231.106.000.0000","STATE RETIREMENT",4815.47,null,"001"," ","001","100","1060","6231","106","106","106",null,"289",null,null,null,null,null,null,null,null,null,null,null,{"$f":"IF(OR(SUMPRODUCT(--(E197=$O$1:$O$542))>0,E197=0),0,1)","v":0}]
["001.100.1060.6231.107.000.0000","STATE RETIREMENT",1978.67,null,"001"," ","001","100","1060","6231","107","107","107",null,"290",{"$f":"[2]!F290EndFundBal","v":459474},459474.33,{"$f":"IF(Q198=\"\",P198,Q198)","v":459474},null,null,null,null,null,null,null,null,{"$f":"IF(OR(SUMPRODUCT(--(E198=$O$1:$O$542))>0,E198=0),0,1)","v":0}]
["001.100.1060.6232.103.000.0000","L-T DISABILITY",78.680000000000007,null,"001"," ","001","100","1060","6232","103","103","103",null,"291",null,null,null,null,null,null,null,null,null,null,null,{"$f":"IF(OR(SUMPRODUCT(--(E199=$O$1:$O$542))>0,E199=0),0,1)","v":0}]
["001.100.1060.6232.104.000.0000","L-T DISABILITY",39.01,null,"001"," ","001","100","1060","6232","104","104","104",null,"292",null,null,null,null,null,null,null,null,null,null,null,{"$f":"IF(OR(SUMPRODUCT(--(E200=$O$1:$O$542))>0,E200=0),0,1)","v":0}]
["001.100.1060.6232.106.000.0000","L-T DISABILITY",56.02,null,"001"," ","001","100","1060","6232","106","106","106",null,"293",null,null,null,null,null,null,null,null,null,null,null,{"$f":"IF(OR(SUMPRODUCT(--(E201=$O$1:$O$542))>0,E201=0),0,1)","v":0}]
["001.100.1060.6232.107.000.0000","L-T DISABILITY",20.87,null,"001"," ","001","100","1060","6232","107","107","107",null,"294",null,null,null,null,null,null,null,null,null,null,null,{"$f":"IF(OR(SUMPRODUCT(--(E202=$O$1:$O$542))>0,E202=0),0,1)","v":0}]
["001.100.1060.6260.103.000.0000","WORKERS' COMPENSATION",394.19,null,"001"," ","001","100","1060","6260","103","103","103",null,"295",null,null,null,null,null,null,null,null,null,null,null,{"$f":"IF(OR(SUMPRODUCT(--(E203=$O$1:$O$542))>0,E203=0),0,1)","v":0}]
["001.100.1060.6260.104.000.0000","WORKERS' COMPENSATION",195.14,null,"001"," ","001","100","1060","6260","104","104","104",null,"296",null,null,null,null,null,null,null,null,null,null,null,{"$f":"IF(OR(SUMPRODUCT(--(E204=$O$1:$O$542))>0,E204=0),0,1)","v":0}]
["001.100.1060.6260.106.000.0000","WORKERS' COMPENSATION",280.13,null,"001"," ","001","100","1060","6260","106","106","106",null,"297",null,null,null,null,null,null,null,null,null,null,null,{"$f":"IF(OR(SUMPRODUCT(--(E205=$O$1:$O$542))>0,E205=0),0,1)","v":0}]
["001.100.1060.6260.107.000.0000","WORKERS' COMPENSATION",115.64,null,"001"," ","001","100","1060","6260","107","107","107",null,"298",null,null,null,null,null,null,null,null,null,null,null,{"$f":"IF(OR(SUMPRODUCT(--(E206=$O$1:$O$542))>0,E206=0),0,1)","v":0}]
["001.100.1060.6280.106.000.0000","UNUSED LEAVE",599.14,null,"001"," ","001","100","1060","6280","106","106","106",null,"299",null,null,null,null,null,null,null,null,null,null,null,{"$f":"IF(OR(SUMPRODUCT(--(E207=$O$1:$O$542))>0,E207=0),0,1)","v":0}]
["001.100.1060.6611.102.000.0000","SUPPLIES-PE",1703.24,null,"001"," ","001","100","1060","6611","102","102","102",null,"300",null,null,null,null,null,null,null,null,null,null,null,{"$f":"IF(OR(SUMPRODUCT(--(E208=$O$1:$O$542))>0,E208=0),0,1)","v":0}]
["001.100.1060.6611.104.000.0000","SUPPLIES-PE",127.73,null,"001"," ","001","100","1060","6611","104","104","104",null,"301",null,null,null,null,null,null,null,null,null,null,null,{"$f":"IF(OR(SUMPRODUCT(--(E209=$O$1:$O$542))>0,E209=0),0,1)","v":0}]
["001.100.1095.6611.106.000.0000","SUPPLIES-COPIER",1732.82,null,"001"," ","001","100","1095","6611","106","106","106",null,"302",null,null,null,null,null,null,null,null,null,null,null,{"$f":"IF(OR(SUMPRODUCT(--(E210=$O$1:$O$542))>0,E210=0),0,1)","v":0}]
["001.100.1095.6611.107.000.0000","SUPPLIES-COPIER",5641.56,null,"001"," ","001","100","1095","6611","107","107","107",null,"303",null,null,null,null,null,null,null,null,null,null,null,{"$f":"IF(OR(SUMPRODUCT(--(E211=$O$1:$O$542))>0,E211=0),0,1)","v":0}]
["001.100.1900.6155.106.000.0000","CERT EXTRA DUTY",3480.15,null,"001"," ","001","100","1900","6155","106","106","106",null,"304",null,null,null,null,null,null,null,null,null,null,null,{"$f":"IF(OR(SUMPRODUCT(--(E212=$O$1:$O$542))>0,E212=0),0,1)","v":0}]
["001.100.1900.6155.107.000.0000","CERT EXTRA DUTY",252.82,null,"001"," ","001","100","1900","6155","107","107","107",null,"305",null,null,null,null,null,null,null,null,null,null,null,{"$f":"IF(OR(SUMPRODUCT(--(E213=$O$1:$O$542))>0,E213=0),0,1)","v":0}]
["001.100.1900.6156.102.000.0000","EDUCATIONAL ASST",30633.49,null,"001"," ","001","100","1900","6156","102","102","102",null,"306",null,null,null,null,null,null,null,null,null,null,null,{"$f":"IF(OR(SUMPRODUCT(--(E214=$O$1:$O$542))>0,E214=0),0,1)","v":0}]
["001.100.1900.6156.103.000.0000","EDUCATIONAL ASST",158972,null,"001"," ","001","100","1900","6156","103","103","103",null,"307",null,null,null,null,null,null,null,null,null,null,null,{"$f":"IF(OR(SUMPRODUCT(--(E215=$O$1:$O$542))>0,E215=0),0,1)","v":0}]
["001.100.1900.6156.104.000.0000","EDUCATIONAL ASST",55183.99,null,"001"," ","001","100","1900","6156","104","104","104",null,"308",null,null,null,null,null,null,null,null,null,null,null,{"$f":"IF(OR(SUMPRODUCT(--(E216=$O$1:$O$542))>0,E216=0),0,1)","v":0}]
["001.100.1900.6156.105.000.0000","EDUCATIONAL ASST",54698.93,null,"001"," ","001","100","1900","6156","105","105","105",null,"309",null,null,null,null,null,null,null,null,null,null,null,{"$f":"IF(OR(SUMPRODUCT(--(E217=$O$1:$O$542))>0,E217=0),0,1)","v":0}]
["001.100.1900.6156.106.000.0000","EDUCATIONAL ASST",80713.429999999993,null,"001"," ","001","100","1900","6156","106","106","106",null,"310",null,null,null,null,null,null,null,null,null,null,null,{"$f":"IF(OR(SUMPRODUCT(--(E218=$O$1:$O$542))>0,E218=0),0,1)","v":0}]
["001.100.1900.6156.107.000.0000","EDUCATIONAL ASST",81230,null,"001"," ","001","100","1900","6156","107","107","107",null,"311",null,null,null,null,null,null,null,null,null,null,null,{"$f":"IF(OR(SUMPRODUCT(--(E219=$O$1:$O$542))>0,E219=0),0,1)","v":0}]
["001.100.1900.6210.103.000.0000","GROUP INSURANCE",22790.55,null,"001"," ","001","100","1900","6210","103","103","103",null,"312",null,null,null,null,null,null,null,null,null,null,null,{"$f":"IF(OR(SUMPRODUCT(--(E220=$O$1:$O$542))>0,E220=0),0,1)","v":0}]
["001.100.1900.6210.104.000.0000","GROUP INSURANCE",6072,null,"001"," ","001","100","1900","6210","104","104","104",null,"313",null,null,null,null,null,null,null,null,null,null,null,{"$f":"IF(OR(SUMPRODUCT(--(E221=$O$1:$O$542))>0,E221=0),0,1)","v":0}]
["001.100.1900.6210.105.000.0000","HEALTH INSURANCE",2485,null,"001"," ","001","100","1900","6210","105","105","105",null,"314",null,null,null,null,null,null,null,null,null,null,null,{"$f":"IF(OR(SUMPRODUCT(--(E222=$O$1:$O$542))>0,E222=0),0,1)","v":0}]
["001.100.1900.6210.106.000.0000","GROUP INSURANCE",13985.1,null,"001"," ","001","100","1900","6210","106","106","106",null,"315",null,null,null,null,null,null,null,null,null,null,null,{"$f":"IF(OR(SUMPRODUCT(--(E223=$O$1:$O$542))>0,E223=0),0,1)","v":0}]
["001.100.1900.6210.107.000.0000","GROUP INSURANCE",18108,null,"001"," ","001","100","1900","6210","107","107","107",null,"316",null,null,null,null,null,null,null,null,null,null,null,{"$f":"IF(OR(SUMPRODUCT(--(E224=$O$1:$O$542))>0,E224=0),0,1)","v":0}]
["001.100.1900.6212.102.000.0000","LIFE INSURANCE",33.92,null,"001"," ","001","100","1900","6212","102","102","102",null,"317",null,null,null,null,null,null,null,null,null,null,null,{"$f":"IF(OR(SUMPRODUCT(--(E225=$O$1:$O$542))>0,E225=0),0,1)","v":0}]
["001.100.1900.6212.103.000.0000","LIFE INSURANCE",435.01,null,"001"," ","001","100","1900","6212","103","103","103",null,"318",null,null,null,null,null,null,null,null,null,null,null,{"$f":"IF(OR(SUMPRODUCT(--(E226=$O$1:$O$542))>0,E226=0),0,1)","v":0}]
["001.100.1900.6212.104.000.0000","LIFE INSURANCE",67.8,null,"001"," ","001","100","1900","6212","104","104","104",null,"319",null,null,null,null,null,null,null,null,null,null,null,{"$f":"IF(OR(SUMPRODUCT(--(E227=$O$1:$O$542))>0,E227=0),0,1)","v":0}]
["001.100.1900.6212.105.000.0000","LIFE INSURANCE",125.07,null,"001"," ","001","100","1900","6212","105","105","105",null,"320",null,null,null,null,null,null,null,null,null,null,null,{"$f":"IF(OR(SUMPRODUCT(--(E228=$O$1:$O$542))>0,E228=0),0,1)","v":0}]
["001.100.1900.6212.106.000.0000","LIFE INSURANCE",224.71,null,"001"," ","001","100","1900","6212","106","106","106",null,"321",null,null,null,null,null,null,null,null,null,null,null,{"$f":"IF(OR(SUMPRODUCT(--(E229=$O$1:$O$542))>0,E229=0),0,1)","v":0}]
["001.100.1900.6212.107.000.0000","LIFE INSURANCE",203.4,null,"001"," ","001","100","1900","6212","107","107","107",null,"322",null,null,null,null,null,null,null,null,null,null,null,{"$f":"IF(OR(SUMPRODUCT(--(E230=$O$1:$O$542))>0,E230=0),0,1)","v":0}]
["001.100.1900.6221.102.000.0000","S/T DISABILITY",1899.29,null,"001"," ","001","100","1900","6221","102","102","102",null,"323",null,null,null,null,null,null,null,null,null,null,null,{"$f":"IF(OR(SUMPRODUCT(--(E231=$O$1:$O$542))>0,E231=0),0,1)","v":0}]
["001.100.1900.6221.103.000.0000","S/T DISABILITY",9718.66,null,"001"," ","001","100","1900","6221","103","103","103",null,"324",null,null,null,null,null,null,null,null,null,null,null,{"$f":"IF(OR(SUMPRODUCT(--(E232=$O$1:$O$542))>0,E232=0),0,1)","v":0}]
["001.100.1900.6221.104.000.0000","S/T DISABILITY",1956.53,null,"001"," ","001","100","1900","6221","104","104","104",null,"325",null,null,null,null,null,null,null,null,null,null,null,{"$f":"IF(OR(SUMPRODUCT(--(E233=$O$1:$O$542))>0,E233=0),0,1)","v":0}]
["001.100.1900.6221.105.000.0000","S/T DISABILITY",3364.07,null,"001"," ","001","100","1900","6221","105","105","105",null,"326",null,null,null,null,null,null,null,null,null,null,null,{"$f":"IF(OR(SUMPRODUCT(--(E234=$O$1:$O$542))>0,E234=0),0,1)","v":0}]
["001.100.1900.6221.106.000.0000","S/T DISABILITY",5190.66,null,"001"," ","001","100","1900","6221","106","106","106",null,"327",null,null,null,null,null,null,null,null,null,null,null,{"$f":"IF(OR(SUMPRODUCT(--(E235=$O$1:$O$542))>0,E235=0),0,1)","v":0}]
["001.100.1900.6221.107.000.0000","S/T DISABILITY",4735.6400000000003,null,"001"," ","001","100","1900","6221","107","107","107",null,"328",null,null,null,null,null,null,null,null,null,null,null,{"$f":"IF(OR(SUMPRODUCT(--(E236=$O$1:$O$542))>0,E236=0),0,1)","v":0}]
["001.100.1900.6222.102.000.0000","TEACHER",444.19,null,"001"," ","001","100","1900","6222","102","102","102",null,"329",null,null,null,null,null,null,null,null,null,null,null,{"$f":"IF(OR(SUMPRODUCT(--(E237=$O$1:$O$542))>0,E237=0),0,1)","v":0}]
["001.100.1900.6222.103.000.0000","TEACHER",2272.9299999999998,null,"001"," ","001","100","1900","6222","103","103","103",null,"330",null,null,null,null,null,null,null,null,null,null,null,{"$f":"IF(OR(SUMPRODUCT(--(E238=$O$1:$O$542))>0,E238=0),0,1)","v":0}]
["001.100.1900.6222.104.000.0000","TEACHER",457.55,null,"001"," ","001","100","1900","6222","104","104","104",null,"331",null,null,null,null,null,null,null,null,null,null,null,{"$f":"IF(OR(SUMPRODUCT(--(E239=$O$1:$O$542))>0,E239=0),0,1)","v":0}]
["001.100.1900.6222.105.000.0000","TEACHER",786.79,null,"001"," ","001","100","1900","6222","105","105","105",null,"332",null,null,null,null,null,null,null,null,null,null,null,{"$f":"IF(OR(SUMPRODUCT(--(E240=$O$1:$O$542))>0,E240=0),0,1)","v":0}]
["001.100.1900.6222.106.000.0000","TEACHER",1213.93,null,"001"," ","001","100","1900","6222","106","106","106",null,"333",null,null,null,null,null,null,null,null,null,null,null,{"$f":"IF(OR(SUMPRODUCT(--(E241=$O$1:$O$542))>0,E241=0),0,1)","v":0}]
["001.100.1900.6222.107.000.0000","TEACHER",1107.58,null,"001"," ","001","100","1900","6222","107","107","107",null,"334",null,null,null,null,null,null,null,null,null,null,null,{"$f":"IF(OR(SUMPRODUCT(--(E242=$O$1:$O$542))>0,E242=0),0,1)","v":0}]
["001.100.1900.6231.102.000.0000","S/T DISABILITY",3685.23,null,"001"," ","001","100","1900","6231","102","102","102",null,"335",null,null,null,null,null,null,null,null,null,null,null,{"$f":"IF(OR(SUMPRODUCT(--(E243=$O$1:$O$542))>0,E243=0),0,1)","v":0}]
["001.100.1900.6231.103.000.0000","S/T DISABILITY",19124.29,null,"001"," ","001","100","1900","6231","103","103","103",null,"336",null,null,null,null,null,null,null,null,null,null,null,{"$f":"IF(OR(SUMPRODUCT(--(E244=$O$1:$O$542))>0,E244=0),0,1)","v":0}]
["001.100.1900.6231.104.000.0000","S/T DISABILITY",3865.81,null,"001"," ","001","100","1900","6231","104","104","104",null,"337",null,null,null,null,null,null,null,null,null,null,null,{"$f":"IF(OR(SUMPRODUCT(--(E245=$O$1:$O$542))>0,E245=0),0,1)","v":0}]
["001.100.1900.6231.105.000.0000","S/T DISABILITY",6580.28,null,"001"," ","001","100","1900","6231","105","105","105",null,"338",null,null,null,null,null,null,null,null,null,null,null,{"$f":"IF(OR(SUMPRODUCT(--(E246=$O$1:$O$542))>0,E246=0),0,1)","v":0}]
["001.100.1900.6231.106.000.0000","S/T DISABILITY",10169.02,null,"001"," ","001","100","1900","6231","106","106","106",null,"339",null,null,null,null,null,null,null,null,null,null,null,{"$f":"IF(OR(SUMPRODUCT(--(E247=$O$1:$O$542))>0,E247=0),0,1)","v":0}]
["001.100.1900.6231.107.000.0000","S/T DISABILITY",9802.3700000000008,null,"001"," ","001","100","1900","6231","107","107","107",null,"340",null,null,null,null,null,null,null,null,null,null,null,{"$f":"IF(OR(SUMPRODUCT(--(E248=$O$1:$O$542))>0,E248=0),0,1)","v":0}]
["001.100.1900.6232.102.000.0000","TEACHER",42.88,null,"001"," ","001","100","1900","6232","102","102","102",null,"341",null,null,null,null,null,null,null,null,null,null,null,{"$f":"IF(OR(SUMPRODUCT(--(E249=$O$1:$O$542))>0,E249=0),0,1)","v":0}]
["001.100.1900.6232.103.000.0000","TEACHER",222.64,null,"001"," ","001","100","1900","6232","103","103","103",null,"342",null,null,null,null,null,null,null,null,null,null,null,{"$f":"IF(OR(SUMPRODUCT(--(E250=$O$1:$O$542))>0,E250=0),0,1)","v":0}]
["001.100.1900.6232.104.000.0000","TEACHER",45.02,null,"001"," ","001","100","1900","6232","104","104","104",null,"343",null,null,null,null,null,null,null,null,null,null,null,{"$f":"IF(OR(SUMPRODUCT(--(E251=$O$1:$O$542))>0,E251=0),0,1)","v":0}]
["001.100.1900.6232.105.000.0000","TEACHER",76.55,null,"001"," ","001","100","1900","6232","105","105","105",null,"344",null,null,null,null,null,null,null,null,null,null,null,{"$f":"IF(OR(SUMPRODUCT(--(E252=$O$1:$O$542))>0,E252=0),0,1)","v":0}]
["001.100.1900.6232.106.000.0000","TEACHER",118.36,null,"001"," ","001","100","1900","6232","106","106","106",null,"345",null,null,null,null,null,null,null,null,null,null,null,{"$f":"IF(OR(SUMPRODUCT(--(E253=$O$1:$O$542))>0,E253=0),0,1)","v":0}]
["001.100.1900.6232.107.000.0000","TEACHER",114.06,null,"001"," ","001","100","1900","6232","107","107","107",null,"346",null,null,null,null,null,null,null,null,null,null,null,{"$f":"IF(OR(SUMPRODUCT(--(E254=$O$1:$O$542))>0,E254=0),0,1)","v":0}]
["001.100.1900.6260.102.000.0000","TEACHER",213.79,null,"001"," ","001","100","1900","6260","102","102","102",null,"347",null,null,null,null,null,null,null,null,null,null,null,{"$f":"IF(OR(SUMPRODUCT(--(E255=$O$1:$O$542))>0,E255=0),0,1)","v":0}]
["001.100.1900.6260.103.000.0000","TEACHER",1109.74,null,"001"," ","001","100","1900","6260","103","103","103",null,"348",null,null,null,null,null,null,null,null,null,null,null,{"$f":"IF(OR(SUMPRODUCT(--(E256=$O$1:$O$542))>0,E256=0),0,1)","v":0}]
["001.100.1900.6260.104.000.0000","TEACHER",386.34,null,"001"," ","001","100","1900","6260","104","104","104",null,"349",null,null,null,null,null,null,null,null,null,null,null,{"$f":"IF(OR(SUMPRODUCT(--(E257=$O$1:$O$542))>0,E257=0),0,1)","v":0}]
["001.100.1900.6260.105.000.0000","TEACHER",382.57,null,"001"," ","001","100","1900","6260","105","105","105",null,"350",null,null,null,null,null,null,null,null,null,null,null,{"$f":"IF(OR(SUMPRODUCT(--(E258=$O$1:$O$542))>0,E258=0),0,1)","v":0}]
["001.100.1900.6260.106.000.0000","TEACHER",591.73,null,"001"," ","001","100","1900","6260","106","106","106",null,"351",null,null,null,null,null,null,null,null,null,null,null,{"$f":"IF(OR(SUMPRODUCT(--(E259=$O$1:$O$542))>0,E259=0),0,1)","v":0}]
["001.100.1900.6260.107.000.0000","TEACHER",567.84,null,"001"," ","001","100","1900","6260","107","107","107",null,"352",null,null,null,null,null,null,null,null,null,null,null,{"$f":"IF(OR(SUMPRODUCT(--(E260=$O$1:$O$542))>0,E260=0),0,1)","v":0}]
["001.100.2110.6150.535.000.0000","CLASSIFIED EXEMPT",51765.19,null,"001"," ","001","100","2110","6150","535","500","500",null,"353",null,null,null,null,null,null,null,null,null,null,null,{"$f":"IF(OR(SUMPRODUCT(--(E261=$O$1:$O$542))>0,E261=0),0,1)","v":0}]
["001.100.2110.6154.103.000.0000","OVERTIME",294.68,null,"001"," ","001","100","2110","6154","103","103","103",null,"354",null,null,null,null,null,null,null,null,null,null,null,{"$f":"IF(OR(SUMPRODUCT(--(E262=$O$1:$O$542))>0,E262=0),0,1)","v":0}]
["001.100.2110.6154.106.000.0000","OVERTIME",179.51,null,"001"," ","001","100","2110","6154","106","106","106",null,"355",null,null,null,null,null,null,null,null,null,null,null,{"$f":"IF(OR(SUMPRODUCT(--(E263=$O$1:$O$542))>0,E263=0),0,1)","v":0}]
["001.100.2110.6154.535.000.0000","CLASS OVERTIME",18.09,null,"001"," ","001","100","2110","6154","535","500","500",null,"356",null,null,null,null,null,null,null,null,null,null,null,{"$f":"IF(OR(SUMPRODUCT(--(E264=$O$1:$O$542))>0,E264=0),0,1)","v":0}]
["001.100.2110.6155.103.000.0000","X-DUTY",97.44,null,"001"," ","001","100","2110","6155","103","103","103",null,"357",null,null,null,null,null,null,null,null,null,null,null,{"$f":"IF(OR(SUMPRODUCT(--(E265=$O$1:$O$542))>0,E265=0),0,1)","v":0}]
["001.100.2110.6162.102.000.0000","ATTENDANCE CLERK",22392.639999999999,null,"001"," ","001","100","2110","6162","102","102","102",null,"358",null,null,null,null,null,null,null,null,null,null,null,{"$f":"IF(OR(SUMPRODUCT(--(E266=$O$1:$O$542))>0,E266=0),0,1)","v":0}]
["001.100.2110.6162.103.000.0000","ATTENDANCE CLERK",32680.85,null,"001"," ","001","100","2110","6162","103","103","103",null,"359",null,null,null,null,null,null,null,null,null,null,null,{"$f":"IF(OR(SUMPRODUCT(--(E267=$O$1:$O$542))>0,E267=0),0,1)","v":0}]
["001.100.2110.6162.104.000.0000","ATTENDANCE CLERK",30020.29,null,"001"," ","001","100","2110","6162","104","104","104",null,"360",null,null,null,null,null,null,null,null,null,null,null,{"$f":"IF(OR(SUMPRODUCT(--(E268=$O$1:$O$542))>0,E268=0),0,1)","v":0}]
["001.100.2110.6162.106.000.0000","ATTENDANCE CLERK",29346.25,null,"001"," ","001","100","2110","6162","106","106","106",null,"361",null,null,null,null,null,null,null,null,null,null,null,{"$f":"IF(OR(SUMPRODUCT(--(E269=$O$1:$O$542))>0,E269=0),0,1)","v":0}]
["001.100.2110.6162.107.000.0000","ATTENDANCE CLERK",37846.89,null,"001"," ","001","100","2110","6162","107","107","107",null,"362",null,null,null,null,null,null,null,null,null,null,null,{"$f":"IF(OR(SUMPRODUCT(--(E270=$O$1:$O$542))>0,E270=0),0,1)","v":0}]
["001.100.2110.6210.102.000.0000","MEDICAL INSURANCE",1928,null,"001"," ","001","100","2110","6210","102","102","102",null,"363",null,null,null,null,null,null,null,null,null,null,null,{"$f":"IF(OR(SUMPRODUCT(--(E271=$O$1:$O$542))>0,E271=0),0,1)","v":0}]
["001.100.2110.6210.103.000.0000","MEDICAL INSURANCE",6072,null,"001"," ","001","100","2110","6210","103","103","103",null,"364",null,null,null,null,null,null,null,null,null,null,null,{"$f":"IF(OR(SUMPRODUCT(--(E272=$O$1:$O$542))>0,E272=0),0,1)","v":0}]
["001.100.2110.6210.106.000.0000","MEDICAL INSURANCE",6437.61,null,"001"," ","001","100","2110","6210","106","106","106",null,"365",null,null,null,null,null,null,null,null,null,null,null,{"$f":"IF(OR(SUMPRODUCT(--(E273=$O$1:$O$542))>0,E273=0),0,1)","v":0}]
["001.100.2110.6210.107.000.0000","MEDICAL INSURANCE",6072,null,"001"," ","001","100","2110","6210","107","107","107",null,"366",null,null,null,null,null,null,null,null,null,null,null,{"$f":"IF(OR(SUMPRODUCT(--(E274=$O$1:$O$542))>0,E274=0),0,1)","v":0}]
["001.100.2110.6210.535.000.0000","GROUP INSURANCE",5819,null,"001"," ","001","100","2110","6210","535","500","500",null,"367",null,null,null,null,null,null,null,null,null,null,null,{"$f":"IF(OR(SUMPRODUCT(--(E275=$O$1:$O$542))>0,E275=0),0,1)","v":0}]
["001.100.2110.6212.102.000.0000","LIFE INSURANCE",55.12,null,"001"," ","001","100","2110","6212","102","102","102",null,"368",null,null,null,null,null,null,null,null,null,null,null,{"$f":"IF(OR(SUMPRODUCT(--(E276=$O$1:$O$542))>0,E276=0),0,1)","v":0}]
["001.100.2110.6212.103.000.0000","LIFE INSURANCE",67.8,null,"001"," ","001","100","2110","6212","103","103","103",null,"369",null,null,null,null,null,null,null,null,null,null,null,{"$f":"IF(OR(SUMPRODUCT(--(E277=$O$1:$O$542))>0,E277=0),0,1)","v":0}]
["001.100.2110.6212.104.000.0000","LIFE INSURANCE",67.8,null,"001"," ","001","100","2110","6212","104","104","104",null,"370",null,null,null,null,null,null,null,null,null,null,null,{"$f":"IF(OR(SUMPRODUCT(--(E278=$O$1:$O$542))>0,E278=0),0,1)","v":0}]
["001.100.2110.6212.106.000.0000","LIFE INSURANCE",71.069999999999993,null,"001"," ","001","100","2110","6212","106","106","106",null,"371",null,null,null,null,null,null,null,null,null,null,null,{"$f":"IF(OR(SUMPRODUCT(--(E279=$O$1:$O$542))>0,E279=0),0,1)","v":0}]
["001.100.2110.6212.107.000.0000","LIFE INSURANCE",67.8,null,"001"," ","001","100","2110","6212","107","107","107",null,"372",null,null,null,null,null,null,null,null,null,null,null,{"$f":"IF(OR(SUMPRODUCT(--(E280=$O$1:$O$542))>0,E280=0),0,1)","v":0}]
["001.100.2110.6212.535.000.0000","LIFE INSURANCE",67.8,null,"001"," ","001","100","2110","6212","535","500","500",null,"373",null,null,null,null,null,null,null,null,null,null,null,{"$f":"IF(OR(SUMPRODUCT(--(E281=$O$1:$O$542))>0,E281=0),0,1)","v":0}]
["001.100.2110.6221.102.000.0000","FICA S/S",1363.21,null,"001"," ","001","100","2110","6221","102","102","102",null,"374",null,null,null,null,null,null,null,null,null,null,null,{"$f":"IF(OR(SUMPRODUCT(--(E282=$O$1:$O$542))>0,E282=0),0,1)","v":0}]
["001.100.2110.6221.103.000.0000","FICA S/S",2014.63,null,"001"," ","001","100","2110","6221","103","103","103",null,"375",null,null,null,null,null,null,null,null,null,null,null,{"$f":"IF(OR(SUMPRODUCT(--(E283=$O$1:$O$542))>0,E283=0),0,1)","v":0}]
["001.100.2110.6221.104.000.0000","FICA S/S",1861.28,null,"001"," ","001","100","2110","6221","104","104","104",null,"376",null,null,null,null,null,null,null,null,null,null,null,{"$f":"IF(OR(SUMPRODUCT(--(E284=$O$1:$O$542))>0,E284=0),0,1)","v":0}]
["001.100.2110.6221.106.000.0000","FICA S/S",1821.32,null,"001"," ","001","100","2110","6221","106","106","106",null,"377",null,null,null,null,null,null,null,null,null,null,null,{"$f":"IF(OR(SUMPRODUCT(--(E285=$O$1:$O$542))>0,E285=0),0,1)","v":0}]
["001.100.2110.6221.107.000.0000","FICA S/S",2333.7199999999998,null,"001"," ","001","100","2110","6221","107","107","107",null,"378",null,null,null,null,null,null,null,null,null,null,null,{"$f":"IF(OR(SUMPRODUCT(--(E286=$O$1:$O$542))>0,E286=0),0,1)","v":0}]
["001.100.2110.6221.535.000.0000","SOCIAL SECURITY-FICA",3205.37,null,"001"," ","001","100","2110","6221","535","500","500",null,"379",null,null,null,null,null,null,null,null,null,null,null,{"$f":"IF(OR(SUMPRODUCT(--(E287=$O$1:$O$542))>0,E287=0),0,1)","v":0}]
["001.100.2110.6222.102.000.0000","FICA MED",318.86,null,"001"," ","001","100","2110","6222","102","102","102",null,"380",null,null,null,null,null,null,null,null,null,null,null,{"$f":"IF(OR(SUMPRODUCT(--(E288=$O$1:$O$542))>0,E288=0),0,1)","v":0}]
["001.100.2110.6222.103.000.0000","FICA MED",471.17,null,"001"," ","001","100","2110","6222","103","103","103",null,"381",null,null,null,null,null,null,null,null,null,null,null,{"$f":"IF(OR(SUMPRODUCT(--(E289=$O$1:$O$542))>0,E289=0),0,1)","v":0}]
["001.100.2110.6222.104.000.0000","FICA MED",435.27,null,"001"," ","001","100","2110","6222","104","104","104",null,"382",null,null,null,null,null,null,null,null,null,null,null,{"$f":"IF(OR(SUMPRODUCT(--(E290=$O$1:$O$542))>0,E290=0),0,1)","v":0}]
["001.100.2110.6222.106.000.0000","FICA MED",425.93,null,"001"," ","001","100","2110","6222","106","106","106",null,"383",null,null,null,null,null,null,null,null,null,null,null,{"$f":"IF(OR(SUMPRODUCT(--(E291=$O$1:$O$542))>0,E291=0),0,1)","v":0}]
["001.100.2110.6222.107.000.0000","FICA MED",545.78,null,"001"," ","001","100","2110","6222","107","107","107",null,"384",null,null,null,null,null,null,null,null,null,null,null,{"$f":"IF(OR(SUMPRODUCT(--(E292=$O$1:$O$542))>0,E292=0),0,1)","v":0}]
["001.100.2110.6222.535.000.0000","FICA MEDICARE",749.67,null,"001"," ","001","100","2110","6222","535","500","500",null,"385",null,null,null,null,null,null,null,null,null,null,null,{"$f":"IF(OR(SUMPRODUCT(--(E293=$O$1:$O$542))>0,E293=0),0,1)","v":0}]
["001.100.2110.6231.102.000.0000","STATE RETIREMENT",2693.82,null,"001"," ","001","100","2110","6231","102","102","102",null,"386",null,null,null,null,null,null,null,null,null,null,null,{"$f":"IF(OR(SUMPRODUCT(--(E294=$O$1:$O$542))>0,E294=0),0,1)","v":0}]
["001.100.2110.6231.103.000.0000","STATE RETIREMENT",3978.69,null,"001"," ","001","100","2110","6231","103","103","103",null,"387",null,null,null,null,null,null,null,null,null,null,null,{"$f":"IF(OR(SUMPRODUCT(--(E295=$O$1:$O$542))>0,E295=0),0,1)","v":0}]
["001.100.2110.6231.104.000.0000","STATE RETIREMENT",3611.44,null,"001"," ","001","100","2110","6231","104","104","104",null,"388",null,null,null,null,null,null,null,null,null,null,null,{"$f":"IF(OR(SUMPRODUCT(--(E296=$O$1:$O$542))>0,E296=0),0,1)","v":0}]
["001.100.2110.6231.106.000.0000","STATE RETIREMENT",3562.47,null,"001"," ","001","100","2110","6231","106","106","106",null,"389",null,null,null,null,null,null,null,null,null,null,null,{"$f":"IF(OR(SUMPRODUCT(--(E297=$O$1:$O$542))>0,E297=0),0,1)","v":0}]
["001.100.2110.6231.107.000.0000","STATE RETIREMENT",4552.99,null,"001"," ","001","100","2110","6231","107","107","107",null,"390",null,null,null,null,null,null,null,null,null,null,null,{"$f":"IF(OR(SUMPRODUCT(--(E298=$O$1:$O$542))>0,E298=0),0,1)","v":0}]
["001.100.2110.6231.535.000.0000","STATE RETIREMENT",6229.52,null,"001"," ","001","100","2110","6231","535","500","500",null,"391",null,null,null,null,null,null,null,null,null,null,null,{"$f":"IF(OR(SUMPRODUCT(--(E299=$O$1:$O$542))>0,E299=0),0,1)","v":0}]
["001.100.2110.6232.102.000.0000","RETIREMENT LTD",31.36,null,"001"," ","001","100","2110","6232","102","102","102",null,"392",null,null,null,null,null,null,null,null,null,null,null,{"$f":"IF(OR(SUMPRODUCT(--(E300=$O$1:$O$542))>0,E300=0),0,1)","v":0}]
["001.100.2110.6232.103.000.0000","RETIREMENT LTD",46.32,null,"001"," ","001","100","2110","6232","103","103","103",null,"393",null,null,null,null,null,null,null,null,null,null,null,{"$f":"IF(OR(SUMPRODUCT(--(E301=$O$1:$O$542))>0,E301=0),0,1)","v":0}]
["001.100.2110.6232.104.000.0000","RETIREMENT LTD",42,null,"001"," ","001","100","2110","6232","104","104","104",null,"394",null,null,null,null,null,null,null,null,null,null,null,{"$f":"IF(OR(SUMPRODUCT(--(E302=$O$1:$O$542))>0,E302=0),0,1)","v":0}]
["001.100.2110.6232.106.000.0000","RETIREMENT LTD",41.47,null,"001"," ","001","100","2110","6232","106","106","106",null,"395",null,null,null,null,null,null,null,null,null,null,null,{"$f":"IF(OR(SUMPRODUCT(--(E303=$O$1:$O$542))>0,E303=0),0,1)","v":0}]
["001.100.2110.6232.107.000.0000","RETIREMENT LTD",52.95,null,"001"," ","001","100","2110","6232","107","107","107",null,"396",null,null,null,null,null,null,null,null,null,null,null,{"$f":"IF(OR(SUMPRODUCT(--(E304=$O$1:$O$542))>0,E304=0),0,1)","v":0}]
["001.100.2110.6232.535.000.0000","L-T DISABILITY",72.510000000000005,null,"001"," ","001","100","2110","6232","535","500","500",null,"397",null,null,null,null,null,null,null,null,null,null,null,{"$f":"IF(OR(SUMPRODUCT(--(E305=$O$1:$O$542))>0,E305=0),0,1)","v":0}]
["001.100.2110.6260.102.000.0000","WORKERS COMP",156.72999999999999,null,"001"," ","001","100","2110","6260","102","102","102",null,"398",null,null,null,null,null,null,null,null,null,null,null,{"$f":"IF(OR(SUMPRODUCT(--(E306=$O$1:$O$542))>0,E306=0),0,1)","v":0}]
["001.100.2110.6260.103.000.0000","WORKERS COMP",230.82,null,"001"," ","001","100","2110","6260","103","103","103",null,"399",null,null,null,null,null,null,null,null,null,null,null,{"$f":"IF(OR(SUMPRODUCT(--(E307=$O$1:$O$542))>0,E307=0),0,1)","v":0}]
["001.100.2110.6260.104.000.0000","WORKERS COMP",210.16,null,"001"," ","001","100","2110","6260","104","104","104",null,"400",{"$f":"[2]!F400EndFundBal","v":0},null,{"$f":"IF(Q308=\"\",P308,Q308)","v":0},null,null,null,null,null,null,null,null,{"$f":"IF(OR(SUMPRODUCT(--(E308=$O$1:$O$542))>0,E308=0),0,1)","v":0}]
["001.100.2110.6260.106.000.0000","WORKERS COMP",206.79,null,"001"," ","001","100","2110","6260","106","106","106",null,"410",{"$f":"[2]!F410EndFundBal","v":0},null,0,null,null,null,null,null,null,null,null,{"$f":"IF(OR(SUMPRODUCT(--(E309=$O$1:$O$542))>0,E309=0),0,1)","v":0}]
["001.100.2110.6260.107.000.0000","WORKERS COMP",264.95999999999998,null,"001"," ","001","100","2110","6260","107","107","107",null,"420",{"$f":"[2]!F420EndFundBal","v":0},null,0,null,null,null,null,null,null,null,null,{"$f":"IF(OR(SUMPRODUCT(--(E310=$O$1:$O$542))>0,E310=0),0,1)","v":0}]
["001.100.2110.6260.535.000.0000","WORKERS' COMPENSATION",357.03,null,"001"," ","001","100","2110","6260","535","500","500",null,"425",{"$f":"[2]!F425EndFundBal","v":0},null,0,null,null,null,null,null,null,null,null,{"$f":"IF(OR(SUMPRODUCT(--(E311=$O$1:$O$542))>0,E311=0),0,1)","v":0}]
["001.100.2110.6280.106.000.0000","UNUSED LEAVE",87.34,null,"001"," ","001","100","2110","6280","106","106","106",null,"430",{"$f":"[2]!F430EndFundBal","v":0},null,0,null,null,null,null,null,null,null,null,{"$f":"IF(OR(SUMPRODUCT(--(E312=$O$1:$O$542))>0,E312=0),0,1)","v":0}]
["001.100.2120.6221.106.000.0000","SOCIAL SECURITY-FICA",51.83,null,"001"," ","001","100","2120","6221","106","106","106",null,"435",{"$f":"[2]!F435EndFundBal","v":0},null,0,null,null,null,null,null,null,null,null,{"$f":"IF(OR(SUMPRODUCT(--(E313=$O$1:$O$542))>0,E313=0),0,1)","v":0}]
["001.100.2120.6222.106.000.0000","FICA MEDICARE",12.12,null,"001"," ","001","100","2120","6222","106","106","106",null,"450",{"$f":"[2]!F450EndFundBal","v":0},null,0,null,null,null,null,null,null,null,null,{"$f":"IF(OR(SUMPRODUCT(--(E314=$O$1:$O$542))>0,E314=0),0,1)","v":0}]
["001.100.2120.6231.106.000.0000","STATE RETIREMENT",100.56,null,"001"," ","001","100","2120","6231","106","106","106",null,"456",{"$f":"[2]!F456EndFundBal","v":0},null,0,null,null,null,null,null,null,null,null,{"$f":"IF(OR(SUMPRODUCT(--(E315=$O$1:$O$542))>0,E315=0),0,1)","v":0}]
["001.100.2120.6232.106.000.0000","L-T DISABILITY",1.17,null,"001"," ","001","100","2120","6232","106","106","106",null,"457",{"$f":"[2]!F457EndFundBal","v":485516},485516.19,485516,null,null,null,null,null,null,null,null,{"$f":"IF(OR(SUMPRODUCT(--(E316=$O$1:$O$542))>0,E316=0),0,1)","v":0}]
["001.100.2120.6260.106.000.0000","WORKERS' COMPENSATION",5.85,null,"001"," ","001","100","2120","6260","106","106","106",null,"460",{"$f":"[2]!F460EndFundBal","v":0},null,0,null,null,null,null,null,null,null,null,{"$f":"IF(OR(SUMPRODUCT(--(E317=$O$1:$O$542))>0,E317=0),0,1)","v":0}]
["001.100.2120.6280.106.000.0000","UNUSED LEAVE",835.94,null,"001"," ","001","100","2120","6280","106","106","106",null,"465",{"$f":"[2]!F465_499EndFundBal","v":2315912},2315911.4899999998,2315911,null,null,null,null,null,null,null,null,{"$f":"IF(OR(SUMPRODUCT(--(E318=$O$1:$O$542))>0,E318=0),0,1)","v":0}]
["001.100.2120.6611.500.560.0000","SUPPLIES",727,null,"001"," ","001","100","2120","6611","500","500","500",null,"466",null,null,null,null,null,null,null,null,null,null,null,{"$f":"IF(OR(SUMPRODUCT(--(E319=$O$1:$O$542))>0,E319=0),0,1)","v":0}]
["001.100.2130.6161.102.000.0000","NURSE",21945.39,null,"001"," ","001","100","2130","6161","102","102","102",null,"467",null,null,null,null,null,null,null,null,null,null,null,{"$f":"IF(OR(SUMPRODUCT(--(E320=$O$1:$O$542))>0,E320=0),0,1)","v":0}]
["001.100.2130.6161.103.000.0000","NURSE",31499.77,null,"001"," ","001","100","2130","6161","103","103","103",null,"468",null,null,null,null,null,null,null,null,null,null,null,{"$f":"IF(OR(SUMPRODUCT(--(E321=$O$1:$O$542))>0,E321=0),0,1)","v":0}]
["001.100.2130.6161.104.000.0000","NURSE",35592.9,null,"001"," ","001","100","2130","6161","104","104","104",null,"469",null,null,null,null,null,null,null,null,null,null,null,{"$f":"IF(OR(SUMPRODUCT(--(E322=$O$1:$O$542))>0,E322=0),0,1)","v":0}]
["001.100.2130.6161.106.000.0000","NURSE",17231.27,null,"001"," ","001","100","2130","6161","106","106","106",null,"470",null,null,null,null,null,null,null,null,null,null,null,{"$f":"IF(OR(SUMPRODUCT(--(E323=$O$1:$O$542))>0,E323=0),0,1)","v":0}]
["001.100.2130.6161.107.000.0000","NURSE",15828.21,null,"001"," ","001","100","2130","6161","107","107","107",null,"471",null,null,null,null,null,null,null,null,null,null,null,{"$f":"IF(OR(SUMPRODUCT(--(E324=$O$1:$O$542))>0,E324=0),0,1)","v":0}]
["001.100.2130.6210.102.000.0000","HELATH INSURANCE",6072,null,"001"," ","001","100","2130","6210","102","102","102",null,"472",null,null,null,null,null,null,null,null,null,null,null,{"$f":"IF(OR(SUMPRODUCT(--(E325=$O$1:$O$542))>0,E325=0),0,1)","v":0}]
["001.100.2130.6210.103.000.0000","HELATH INSURANCE",6072,null,"001"," ","001","100","2130","6210","103","103","103",null,"473",null,null,null,null,null,null,null,null,null,null,null,{"$f":"IF(OR(SUMPRODUCT(--(E326=$O$1:$O$542))>0,E326=0),0,1)","v":0}]
["001.100.2130.6210.104.000.0000","HELATH INSURANCE",90,null,"001"," ","001","100","2130","6210","104","104","104",null,"474",null,null,null,null,null,null,null,null,null,null,null,{"$f":"IF(OR(SUMPRODUCT(--(E327=$O$1:$O$542))>0,E327=0),0,1)","v":0}]
["001.100.2130.6210.106.000.0000","HELATH INSURANCE",2023.98,null,"001"," ","001","100","2130","6210","106","106","106",null,"475",null,null,null,null,null,null,null,null,null,null,null,{"$f":"IF(OR(SUMPRODUCT(--(E328=$O$1:$O$542))>0,E328=0),0,1)","v":0}]
["001.100.2130.6212.102.000.0000","LIFE INSURANCE",67.8,null,"001"," ","001","100","2130","6212","102","102","102",null,"476",null,null,null,null,null,null,null,null,null,null,null,{"$f":"IF(OR(SUMPRODUCT(--(E329=$O$1:$O$542))>0,E329=0),0,1)","v":0}]
["001.100.2130.6212.103.000.0000","LIFE INSURANCE",67.8,null,"001"," ","001","100","2130","6212","103","103","103",null,"477",null,null,null,null,null,null,null,null,null,null,null,{"$f":"IF(OR(SUMPRODUCT(--(E330=$O$1:$O$542))>0,E330=0),0,1)","v":0}]
["001.100.2130.6212.104.000.0000","LIFE INSURANCE",67.8,null,"001"," ","001","100","2130","6212","104","104","104",null,"478",null,null,null,null,null,null,null,null,null,null,null,{"$f":"IF(OR(SUMPRODUCT(--(E331=$O$1:$O$542))>0,E331=0),0,1)","v":0}]
["001.100.2130.6212.106.000.0000","LIFE INSURANCE",22.6,null,"001"," ","001","100","2130","6212","106","106","106",null,"479",null,null,null,null,null,null,null,null,null,null,null,{"$f":"IF(OR(SUMPRODUCT(--(E332=$O$1:$O$542))>0,E332=0),0,1)","v":0}]
["001.100.2130.6212.107.000.0000","LIFE INSURANCE",43.33,null,"001"," ","001","100","2130","6212","107","107","107",null,"480",null,null,null,null,null,null,null,null,null,null,null,{"$f":"IF(OR(SUMPRODUCT(--(E333=$O$1:$O$542))>0,E333=0),0,1)","v":0}]
["001.100.2130.6221.102.000.0000","FICA S/S",1324.77,null,"001"," ","001","100","2130","6221","102","102","102",null,"481",null,null,null,null,null,null,null,null,null,null,null,{"$f":"IF(OR(SUMPRODUCT(--(E334=$O$1:$O$542))>0,E334=0),0,1)","v":0}]
["001.100.2130.6221.103.000.0000","FICA S/S",1917.13,null,"001"," ","001","100","2130","6221","103","103","103",null,"482",null,null,null,null,null,null,null,null,null,null,null,{"$f":"IF(OR(SUMPRODUCT(--(E335=$O$1:$O$542))>0,E335=0),0,1)","v":0}]
["001.100.2130.6221.104.000.0000","FICA S/S",2206.7600000000002,null,"001"," ","001","100","2130","6221","104","104","104",null,"483",null,null,null,null,null,null,null,null,null,null,null,{"$f":"IF(OR(SUMPRODUCT(--(E336=$O$1:$O$542))>0,E336=0),0,1)","v":0}]
["001.100.2130.6221.106.000.0000","FICA S/S",570.44000000000005,null,"001"," ","001","100","2130","6221","106","106","106",null,"484",null,null,null,null,null,null,null,null,null,null,null,{"$f":"IF(OR(SUMPRODUCT(--(E337=$O$1:$O$542))>0,E337=0),0,1)","v":0}]
["001.100.2130.6221.107.000.0000","FICA S/S",981.36,null,"001"," ","001","100","2130","6221","107","107","107",null,"485",null,null,null,null,null,null,null,null,null,null,null,{"$f":"IF(OR(SUMPRODUCT(--(E338=$O$1:$O$542))>0,E338=0),0,1)","v":0}]
["001.100.2130.6222.102.000.0000","FICA MEDICARE",309.83,null,"001"," ","001","100","2130","6222","102","102","102",null,"486",null,null,null,null,null,null,null,null,null,null,null,{"$f":"IF(OR(SUMPRODUCT(--(E339=$O$1:$O$542))>0,E339=0),0,1)","v":0}]
["001.100.2130.6222.103.000.0000","FICA MEDICARE",448.35,null,"001"," ","001","100","2130","6222","103","103","103",null,"487",null,null,null,null,null,null,null,null,null,null,null,{"$f":"IF(OR(SUMPRODUCT(--(E340=$O$1:$O$542))>0,E340=0),0,1)","v":0}]
["001.100.2130.6222.104.000.0000","FICA MEDICARE",516.1,null,"001"," ","001","100","2130","6222","104","104","104",null,"488",null,null,null,null,null,null,null,null,null,null,null,{"$f":"IF(OR(SUMPRODUCT(--(E341=$O$1:$O$542))>0,E341=0),0,1)","v":0}]
["001.100.2130.6222.106.000.0000","FICA MEDICARE",133.41999999999999,null,"001"," ","001","100","2130","6222","106","106","106",null,"489",null,null,null,null,null,null,null,null,null,null,null,{"$f":"IF(OR(SUMPRODUCT(--(E342=$O$1:$O$542))>0,E342=0),0,1)","v":0}]
["001.100.2130.6222.107.000.0000","FICA MEDICARE",229.49,null,"001"," ","001","100","2130","6222","107","107","107",null,"490",null,null,null,null,null,null,null,null,null,null,null,{"$f":"IF(OR(SUMPRODUCT(--(E343=$O$1:$O$542))>0,E343=0),0,1)","v":0}]
["001.100.2130.6231.102.000.0000","STATE RETIREMENT",2640.04,null,"001"," ","001","100","2130","6231","102","102","102",null,"491",null,null,null,null,null,null,null,null,null,null,null,{"$f":"IF(OR(SUMPRODUCT(--(E344=$O$1:$O$542))>0,E344=0),0,1)","v":0}]
["001.100.2130.6231.103.000.0000","STATE RETIREMENT",3789.41,null,"001"," ","001","100","2130","6231","103","103","103",null,"492",null,null,null,null,null,null,null,null,null,null,null,{"$f":"IF(OR(SUMPRODUCT(--(E345=$O$1:$O$542))>0,E345=0),0,1)","v":0}]
["001.100.2130.6231.104.000.0000","STATE RETIREMENT",4281.82,null,"001"," ","001","100","2130","6231","104","104","104",null,"493",null,null,null,null,null,null,null,null,null,null,null,{"$f":"IF(OR(SUMPRODUCT(--(E346=$O$1:$O$542))>0,E346=0),0,1)","v":0}]
["001.100.2130.6231.106.000.0000","STATE RETIREMENT",1130,null,"001"," ","001","100","2130","6231","106","106","106",null,"494",null,null,null,null,null,null,null,null,null,null,null,{"$f":"IF(OR(SUMPRODUCT(--(E347=$O$1:$O$542))>0,E347=0),0,1)","v":0}]
["001.100.2130.6231.107.000.0000","STATE RETIREMENT",1904.14,null,"001"," ","001","100","2130","6231","107","107","107",null,"495",null,null,null,null,null,null,null,null,null,null,null,{"$f":"IF(OR(SUMPRODUCT(--(E348=$O$1:$O$542))>0,E348=0),0,1)","v":0}]
["001.100.2130.6232.102.000.0000","L/T DISABILITY",30.7,null,"001"," ","001","100","2130","6232","102","102","102",null,"496",null,null,null,null,null,null,null,null,null,null,null,{"$f":"IF(OR(SUMPRODUCT(--(E349=$O$1:$O$542))>0,E349=0),0,1)","v":0}]
["001.100.2130.6232.103.000.0000","L/T DISABILITY",44.07,null,"001"," ","001","100","2130","6232","103","103","103",null,"497",null,null,null,null,null,null,null,null,null,null,null,{"$f":"IF(OR(SUMPRODUCT(--(E350=$O$1:$O$542))>0,E350=0),0,1)","v":0}]
["001.100.2130.6232.104.000.0000","L/T DISABILITY",49.8,null,"001"," ","001","100","2130","6232","104","104","104",null,"498",null,null,null,null,null,null,null,null,null,null,null,{"$f":"IF(OR(SUMPRODUCT(--(E351=$O$1:$O$542))>0,E351=0),0,1)","v":0}]
["001.100.2130.6232.106.000.0000","L/T DISABILITY",13.15,null,"001"," ","001","100","2130","6232","106","106","106",null,"499",null,null,null,null,null,null,null,null,null,null,null,{"$f":"IF(OR(SUMPRODUCT(--(E352=$O$1:$O$542))>0,E352=0),0,1)","v":0}]
["001.100.2130.6232.107.000.0000","L/T DISABILITY",22.17,null,"001"," ","001","100","2130","6232","107","107","107",null,"500",{"$f":"[2]!F500EndFundBal","v":572863},572862.79999999993,{"$f":"IF(Q353=\"\",P353,Q353)","v":572863},null,null,null,null,null,null,null,null,{"$f":"IF(OR(SUMPRODUCT(--(E353=$O$1:$O$542))>0,E353=0),0,1)","v":0}]
["001.100.2130.6260.102.000.0000","WORK COMP INS",153.61000000000001,null,"001"," ","001","100","2130","6260","102","102","102",null,"510",{"$f":"[2]Summary!$I$33","v":1531200},1531199.72,1531200,null,null,null,null,null,null,null,null,{"$f":"IF(OR(SUMPRODUCT(--(E354=$O$1:$O$542))>0,E354=0),0,1)","v":0}]
["001.100.2130.6260.103.000.0000","WORK COMP INS",220.5,null,"001"," ","001","100","2130","6260","103","103","103",null,"515",{"$f":"[2]!F515EndFundBal","v":108335},108335.11,108335,null,null,null,null,null,null,null,null,{"$f":"IF(OR(SUMPRODUCT(--(E355=$O$1:$O$542))>0,E355=0),0,1)","v":0}]
["001.100.2130.6260.104.000.0000","WORK COMP INS",249.17,null,"001"," ","001","100","2130","6260","104","104","104",null,"520",{"$f":"[2]!F520EndFundBal","v":44524},44523.71,44524,null,null,null,null,null,null,null,null,{"$f":"IF(OR(SUMPRODUCT(--(E356=$O$1:$O$542))>0,E356=0),0,1)","v":0}]
["001.100.2130.6260.106.000.0000","WORK COMP INS",349.45,null,"001"," ","001","100","2130","6260","106","106","106",null,"525",{"$f":"[2]!F525EndFundBal","v":25039},25039.27,25039,null,null,null,null,null,null,null,null,{"$f":"IF(OR(SUMPRODUCT(--(E357=$O$1:$O$542))>0,E357=0),0,1)","v":0}]
["001.100.2130.6260.107.000.0000","WORK COMP INS",110.76,null,"001"," ","001","100","2130","6260","107","107","107",null,"526",{"$f":"[2]!F526EndFundBal","v":299084},299084.33000000007,299084,null,null,null,null,null,null,null,null,{"$f":"IF(OR(SUMPRODUCT(--(E358=$O$1:$O$542))>0,E358=0),0,1)","v":0}]
["001.100.2130.6300.540.000.0000","PROF & TECHNICAL SERVICES",1111.8699999999999,null,"001"," ","001","100","2130","6300","540","500","500",null,"530",{"$f":"[2]!F530EndFundBal","v":365442},365442.35,365442,null,null,null,null,null,null,null,null,{"$f":"IF(OR(SUMPRODUCT(--(E359=$O$1:$O$542))>0,E359=0),0,1)","v":0}]
["001.100.2130.6330.500.560.0000","Undesignated",340,null,"001"," ","001","100","2130","6330","500","500","500",null,"535",{"$f":"[2]!F535EndFundBal","v":0},null,0,null,null,null,null,null,null,null,null,{"$f":"IF(OR(SUMPRODUCT(--(E360=$O$1:$O$542))>0,E360=0),0,1)","v":0}]
["001.100.2130.6611.505.521.0000","Undesignated",5288.87,null,"001"," ","001","100","2130","6611","505","105","105",null,"540",{"$f":"[2]!F540EndFundBal","v":10040},10039.44,10039,null,null,null,null,null,null,null,null,{"$f":"IF(OR(SUMPRODUCT(--(E361=$O$1:$O$542))>0,E361=0),0,1)","v":0}]
["001.100.2130.6611.507.521.0000","Undesignated",7222.17,null,"001"," ","001","100","2130","6611","507","107","107",null,"545",{"$f":"[2]!F545EndFundBal","v":0},null,0,null,null,null,null,null,null,null,null,{"$f":"IF(OR(SUMPRODUCT(--(E362=$O$1:$O$542))>0,E362=0),0,1)","v":0}]
["001.100.2130.6611.521.000.0000","SUPPLIES",20446.84,null,"001"," ","001","100","2130","6611","521","500","500",null,"550",{"$f":"[2]!F550EndFundBal","v":30088},30087.87,30088,null,null,null,null,null,null,null,null,{"$f":"IF(OR(SUMPRODUCT(--(E363=$O$1:$O$542))>0,E363=0),0,1)","v":0}]
["001.100.2130.6611.540.000.0000","NURSE SUPPLIES",2971.25,null,"001"," ","001","100","2130","6611","540","500","500",null,"555",{"$f":"[2]!F555EndFundBal","v":16555},16555.169999999998,16555,null,null,null,null,null,null,null,null,{"$f":"IF(OR(SUMPRODUCT(--(E364=$O$1:$O$542))>0,E364=0),0,1)","v":0}]
["001.100.2130.6611.560.000.0000","Undesignated",2168.34,null,"001"," ","001","100","2130","6611","560","500","500",null,"565",{"$f":"[2]!F565EndFundBal","v":4157},4157.1899999999996,4157,null,null,null,null,null,null,null,null,{"$f":"IF(OR(SUMPRODUCT(--(E365=$O$1:$O$542))>0,E365=0),0,1)","v":0}]
["001.100.2190.6162.525.000.0000","CLERK",26848.06,null,"001"," ","001","100","2190","6162","525","500","500",null,"570",{"$f":"[2]!F570EndFundBal","v":786816},786814.8,786815,null,null,null,null,null,null,null,null,{"$f":"IF(OR(SUMPRODUCT(--(E366=$O$1:$O$542))>0,E366=0),0,1)","v":0}]
["001.100.2190.6210.525.000.0000","STUDENT SUPPORT INSURANCE",5904,null,"001"," ","001","100","2190","6210","525","500","500",null,"575",{"$f":"[2]!F575EndFundBal","v":36058},36058.089999999997,36058,null,null,null,null,null,null,null,null,{"$f":"IF(OR(SUMPRODUCT(--(E367=$O$1:$O$542))>0,E367=0),0,1)","v":0}]
["001.100.2190.6212.525.000.0000","STUDENT SUPPORT LIFE INS",67.8,null,"001"," ","001","100","2190","6212","525","500","500",null,"580",{"$f":"[2]!F580EndFundBal","v":0},null,0,null,null,null,null,null,null,null,null,{"$f":"IF(OR(SUMPRODUCT(--(E368=$O$1:$O$542))>0,E368=0),0,1)","v":0}]
["001.100.2190.6221.525.000.0000","STUDENT SUPPORT FICA S/S",1664.57,null,"001"," ","001","100","2190","6221","525","500","500",null,"585",{"$f":"[2]!F585EndFundBal","v":2896},2896.1,2896,null,null,null,null,null,null,null,null,{"$f":"IF(OR(SUMPRODUCT(--(E369=$O$1:$O$542))>0,E369=0),0,1)","v":0}]
["001.100.2190.6222.525.000.0000","STUDENT SUPPORT FICA MED",389.31,null,"001"," ","001","100","2190","6222","525","500","500",null,"590",{"$f":"[2]!F590EndFundBal","v":0},null,0,null,null,null,null,null,null,null,null,{"$f":"IF(OR(SUMPRODUCT(--(E370=$O$1:$O$542))>0,E370=0),0,1)","v":0}]
["001.100.2190.6231.525.000.0000","STUDENT SUPPORT ST RETIRE",3229.85,null,"001"," ","001","100","2190","6231","525","500","500",null,"595",{"$f":"[2]!F595EndFundBal","v":0},null,0,null,null,null,null,null,null,null,null,{"$f":"IF(OR(SUMPRODUCT(--(E371=$O$1:$O$542))>0,E371=0),0,1)","v":0}]
["001.100.2190.6232.525.000.0000","STUDENT SUPPORT LTD MATCH",37.6,null,"001"," ","001","100","2190","6232","525","500","500",null,"596",{"$f":"[2]!F596EndFundBal","v":0},null,0,null,null,null,null,null,null,null,null,{"$f":"IF(OR(SUMPRODUCT(--(E372=$O$1:$O$542))>0,E372=0),0,1)","v":0}]
["001.100.2190.6260.525.000.0000","STUDENT SUPPORT WORK COMP",185.91,null,"001"," ","001","100","2190","6260","525","500","500",null,"597",{"$f":"[2]!F597EndFundBal","v":0},null,0,null,null,null,null,null,null,null,null,{"$f":"IF(OR(SUMPRODUCT(--(E373=$O$1:$O$542))>0,E373=0),0,1)","v":0}]
["001.100.2210.6112.503.000.0000","CERT TEACHER",499.92,null,"001"," ","001","100","2210","6112","503","103","103",null,"610",{"$f":"'[2]Page 1'!$F$58","v":4835314},4835313.2,4835313,null,null,null,null,null,null,null,null,{"$f":"IF(OR(SUMPRODUCT(--(E374=$O$1:$O$542))>0,E374=0),0,1)","v":0}]
["001.100.2210.6112.506.000.0000","CERT TEACHER",766.43,null,"001"," ","001","100","2210","6112","506","106","106",null,"620",{"$f":"'[2]Page 1'!$G$58","v":0},null,0,null,null,null,null,null,null,null,null,{"$f":"IF(OR(SUMPRODUCT(--(E375=$O$1:$O$542))>0,E375=0),0,1)","v":0}]
["001.100.2210.6112.507.000.0000","CERT TEACHERS",22423.5,null,"001"," ","001","100","2210","6112","507","107","107",null,"630",{"$f":"'[2]Page 1'!$H$58","v":2407457},2407456.7799999998,2407457,null,null,null,null,null,null,null,null,{"$f":"IF(OR(SUMPRODUCT(--(E376=$O$1:$O$542))>0,E376=0),0,1)","v":0}]
["001.100.2210.6115.102.000.0000","CERT EXTRA DUTY",6500,null,"001"," ","001","100","2210","6115","102","102","102",null,"639",{"$f":"[2]!F639EndFundBal","v":0},null,0,null,null,null,null,null,null,null,null,{"$f":"IF(OR(SUMPRODUCT(--(E377=$O$1:$O$542))>0,E377=0),0,1)","v":0}]
["001.100.2210.6115.103.000.0000","CERT EXTRA DUTY",13250,null,"001"," ","001","100","2210","6115","103","103","103",null,"650",{"$f":"[2]!F650EndFundBal","v":0},null,0,null,null,null,null,null,null,null,null,{"$f":"IF(OR(SUMPRODUCT(--(E378=$O$1:$O$542))>0,E378=0),0,1)","v":0}]
["001.100.2210.6115.104.000.0000","CERT EXTRA DUTY",4000,null,"001"," ","001","100","2210","6115","104","104","104",null,"660",{"$f":"[2]!F660EndFundBal","v":0},null,0,null,null,null,null,null,null,null,null,{"$f":"IF(OR(SUMPRODUCT(--(E379=$O$1:$O$542))>0,E379=0),0,1)","v":0}]
["001.100.2210.6115.106.000.0000","CERTIFIED X-DUTY",5000,null,"001"," ","001","100","2210","6115","106","106","106",null,"665",{"$f":"[2]!F665EndFundBal","v":65831},65830.12,65830,null,null,null,null,null,null,null,null,{"$f":"IF(OR(SUMPRODUCT(--(E380=$O$1:$O$542))>0,E380=0),0,1)","v":0}]
["001.100.2210.6115.107.000.0000","CERT EXTRA DUTY",10000,null,"001"," ","001","100","2210","6115","107","107","107",null,"686",{"$f":"[2]!F686EndFundBal","v":0},null,0,null,null,null,null,null,null,null,null,{"$f":"IF(OR(SUMPRODUCT(--(E381=$O$1:$O$542))>0,E381=0),0,1)","v":0}]
["001.100.2210.6115.501.000.0000","CERT EXTRA DUTY",4000,null,"001"," ","001","100","2210","6115","501","500","500",null,"691",{"$f":"[2]!F691EndFundBal","v":0},null,0,null,null,null,null,null,null,null,null,{"$f":"IF(OR(SUMPRODUCT(--(E382=$O$1:$O$542))>0,E382=0),0,1)","v":0}]
["001.100.2210.6115.503.520.0000","CERT EXTRA DUTY",1500,null,"001"," ","001","100","2210","6115","503","103","103",null,"695",{"$f":"[2]!F695EndFundBal","v":0},null,0,null,null,null,null,null,null,null,null,{"$f":"IF(OR(SUMPRODUCT(--(E383=$O$1:$O$542))>0,E383=0),0,1)","v":0}]
["001.100.2210.6115.507.520.0000","CERT EXTRA DUTY",2500,null,"001"," ","001","100","2210","6115","507","107","107",null,"699",null,null,{"$f":"IF(Q384=\"\",P384,Q384)","v":0},null,null,null,null,null,null,null,null,{"$f":"IF(OR(SUMPRODUCT(--(E384=$O$1:$O$542))>0,E384=0),0,1)","v":0}]
["001.100.2210.6115.520.000.0000","CERTIFIED X-DUTY",17000,null,"001"," ","001","100","2210","6115","520","500","500",null,"700",{"$f":"'[2]Page 1'!$I$58","v":56812},56811.72,56812,null,null,null,null,null,null,null,null,{"$f":"IF(OR(SUMPRODUCT(--(E385=$O$1:$O$542))>0,E385=0),0,1)","v":0}]
["001.100.2210.6210.106.000.0000","GROUP INSURANCE",1107.0999999999999,null,"001"," ","001","100","2210","6210","106","106","106",null,"720",{"$f":"[2]!F720EndFundBal","v":0},null,0,null,null,null,null,null,null,null,null,{"$f":"IF(OR(SUMPRODUCT(--(E386=$O$1:$O$542))>0,E386=0),0,1)","v":0}]
["001.100.2210.6210.501.000.0000","GROUP INSURANCE",170.06,null,"001"," ","001","100","2210","6210","501","500","500",null,"750",null,null,{"$f":"IF(Q387=\"\",P387,Q387)","v":0},null,null,null,null,null,null,null,null,{"$f":"IF(OR(SUMPRODUCT(--(E387=$O$1:$O$542))>0,E387=0),0,1)","v":0}]
["001.100.2210.6210.503.000.0000","GROUP INSURANCE",50.16,null,"001"," ","001","100","2210","6210","503","103","103",null,"800",null,null,{"$f":"IF(Q388=\"\",P388,Q388)","v":0},null,null,null,null,null,null,null,null,{"$f":"IF(OR(SUMPRODUCT(--(E388=$O$1:$O$542))>0,E388=0),0,1)","v":0}]
["001.100.2210.6210.506.000.0000","GROUP INSURANCE",80.34,null,"001"," ","001","100","2210","6210","506","106","106",null,"801",null,null,null,null,null,null,null,null,null,null,null,{"$f":"IF(OR(SUMPRODUCT(--(E389=$O$1:$O$542))>0,E389=0),0,1)","v":0}]
["001.100.2210.6210.507.000.0000","GROUP INSURANCE",1821.6,null,"001"," ","001","100","2210","6210","507","107","107",null,"802",null,null,null,null,null,null,null,null,null,null,null,{"$f":"IF(OR(SUMPRODUCT(--(E390=$O$1:$O$542))>0,E390=0),0,1)","v":0}]
["001.100.2210.6212.503.000.0000","LIFE INSURANCE",0.48,null,"001"," ","001","100","2210","6212","503","103","103",null,"803",null,null,null,null,null,null,null,null,null,null,null,{"$f":"IF(OR(SUMPRODUCT(--(E391=$O$1:$O$542))>0,E391=0),0,1)","v":0}]
["001.100.2210.6212.506.000.0000","LIFE INSURANCE",0.9,null,"001"," ","001","100","2210","6212","506","106","106",null,"804",null,null,null,null,null,null,null,null,null,null,null,{"$f":"IF(OR(SUMPRODUCT(--(E392=$O$1:$O$542))>0,E392=0),0,1)","v":0}]
["001.100.2210.6212.507.000.0000","LIFE INSURANCE",20.329999999999998,null,"001"," ","001","100","2210","6212","507","107","107",null,"805",null,null,null,null,null,null,null,null,null,null,null,{"$f":"IF(OR(SUMPRODUCT(--(E393=$O$1:$O$542))>0,E393=0),0,1)","v":0}]
["001.100.2210.6221.102.000.0000","FICA S/S",401.56,null,"001"," ","001","100","2210","6221","102","102","102",null,"806",null,null,null,null,null,null,null,null,null,null,null,{"$f":"IF(OR(SUMPRODUCT(--(E394=$O$1:$O$542))>0,E394=0),0,1)","v":0}]
["001.100.2210.6221.103.000.0000","FICA S/S",807.68,null,"001"," ","001","100","2210","6221","103","103","103",null,"807",null,null,null,null,null,null,null,null,null,null,null,{"$f":"IF(OR(SUMPRODUCT(--(E395=$O$1:$O$542))>0,E395=0),0,1)","v":0}]
["001.100.2210.6221.104.000.0000","FICA S/S",241.47,null,"001"," ","001","100","2210","6221","104","104","104",null,"808",null,null,null,null,null,null,null,null,null,null,null,{"$f":"IF(OR(SUMPRODUCT(--(E396=$O$1:$O$542))>0,E396=0),0,1)","v":0}]
["001.100.2210.6221.106.000.0000","FICA S/S",309.8,null,"001"," ","001","100","2210","6221","106","106","106",null,"809",null,null,null,null,null,null,null,null,null,null,null,{"$f":"IF(OR(SUMPRODUCT(--(E397=$O$1:$O$542))>0,E397=0),0,1)","v":0}]
["001.100.2210.6221.107.000.0000","FICA S/S",608.91999999999996,null,"001"," ","001","100","2210","6221","107","107","107",null,"810",null,null,null,null,null,null,null,null,null,null,null,{"$f":"IF(OR(SUMPRODUCT(--(E398=$O$1:$O$542))>0,E398=0),0,1)","v":0}]
["001.100.2210.6221.108.000.0000","SOCIAL SECURITY-FICA",175.93,null,"001"," ","001","100","2210","6221","108","500","500",null,"811",null,null,null,null,null,null,null,null,null,null,null,{"$f":"IF(OR(SUMPRODUCT(--(E399=$O$1:$O$542))>0,E399=0),0,1)","v":0}]
["001.100.2210.6221.501.000.0000","SOCIAL SECURITY-FICA",237.5,null,"001"," ","001","100","2210","6221","501","500","500",null,"812",null,null,null,null,null,null,null,null,null,null,null,{"$f":"IF(OR(SUMPRODUCT(--(E400=$O$1:$O$542))>0,E400=0),0,1)","v":0}]
["001.100.2210.6221.503.000.0000","SOCIAL SECURITY-FICA",30.67,null,"001"," ","001","100","2210","6221","503","103","103",null,"813",null,null,null,null,null,null,null,null,null,null,null,{"$f":"IF(OR(SUMPRODUCT(--(E401=$O$1:$O$542))>0,E401=0),0,1)","v":0}]
["001.100.2210.6221.503.520.0000","SOCIAL SECURITY-FICA",93,null,"001"," ","001","100","2210","6221","503","103","103",null,"814",null,null,null,null,null,null,null,null,null,null,null,{"$f":"IF(OR(SUMPRODUCT(--(E402=$O$1:$O$542))>0,E402=0),0,1)","v":0}]
["001.100.2210.6221.506.000.0000","SOCIAL SECURITY-FICA",46.96,null,"001"," ","001","100","2210","6221","506","106","106",null,"815",null,null,null,null,null,null,null,null,null,null,null,{"$f":"IF(OR(SUMPRODUCT(--(E403=$O$1:$O$542))>0,E403=0),0,1)","v":0}]
["001.100.2210.6221.507.000.0000","SOCIAL SECURITY-FICA",1157.72,null,"001"," ","001","100","2210","6221","507","107","107",null,"816",null,null,null,null,null,null,null,null,null,null,null,{"$f":"IF(OR(SUMPRODUCT(--(E404=$O$1:$O$542))>0,E404=0),0,1)","v":0}]
["001.100.2210.6221.520.000.0000","FICA S/S",1054,null,"001"," ","001","100","2210","6221","520","500","500",null,"817",null,null,null,null,null,null,null,null,null,null,null,{"$f":"IF(OR(SUMPRODUCT(--(E405=$O$1:$O$542))>0,E405=0),0,1)","v":0}]
["001.100.2210.6222.102.000.0000","FICA MEDICARE",93.92,null,"001"," ","001","100","2210","6222","102","102","102",null,"818",null,null,null,null,null,null,null,null,null,null,null,{"$f":"IF(OR(SUMPRODUCT(--(E406=$O$1:$O$542))>0,E406=0),0,1)","v":0}]
["001.100.2210.6222.103.000.0000","FICA MEDICARE",188.93,null,"001"," ","001","100","2210","6222","103","103","103",null,"819",null,null,null,null,null,null,null,null,null,null,null,{"$f":"IF(OR(SUMPRODUCT(--(E407=$O$1:$O$542))>0,E407=0),0,1)","v":0}]
["001.100.2210.6222.104.000.0000","FICA MEDICARE",56.5,null,"001"," ","001","100","2210","6222","104","104","104",null,"820",null,null,null,null,null,null,null,null,null,null,null,{"$f":"IF(OR(SUMPRODUCT(--(E408=$O$1:$O$542))>0,E408=0),0,1)","v":0}]
["001.100.2210.6222.106.000.0000","FICA MEDICARE",72.459999999999994,null,"001"," ","001","100","2210","6222","106","106","106",null,"821",null,null,null,null,null,null,null,null,null,null,null,{"$f":"IF(OR(SUMPRODUCT(--(E409=$O$1:$O$542))>0,E409=0),0,1)","v":0}]
["001.100.2210.6222.107.000.0000","FICA MEDICARE",142.41999999999999,null,"001"," ","001","100","2210","6222","107","107","107",null,"822",null,null,null,null,null,null,null,null,null,null,null,{"$f":"IF(OR(SUMPRODUCT(--(E410=$O$1:$O$542))>0,E410=0),0,1)","v":0}]
["001.100.2210.6222.108.000.0000","FICA MEDICARE",41.14,null,"001"," ","001","100","2210","6222","108","500","500",null,"823",null,null,null,null,null,null,null,null,null,null,null,{"$f":"IF(OR(SUMPRODUCT(--(E411=$O$1:$O$542))>0,E411=0),0,1)","v":0}]
["001.100.2210.6222.501.000.0000","FICA MEDICARE",55.54,null,"001"," ","001","100","2210","6222","501","500","500",null,"824",null,null,null,null,null,null,null,null,null,null,null,{"$f":"IF(OR(SUMPRODUCT(--(E412=$O$1:$O$542))>0,E412=0),0,1)","v":0}]
["001.100.2210.6222.503.000.0000","FICA MEDICARE",7.16,null,"001"," ","001","100","2210","6222","503","103","103",null,"825",null,null,null,null,null,null,null,null,null,null,null,{"$f":"IF(OR(SUMPRODUCT(--(E413=$O$1:$O$542))>0,E413=0),0,1)","v":0}]
["001.100.2210.6222.503.520.0000","FICA MEDICARE",21.75,null,"001"," ","001","100","2210","6222","503","103","103",null,"826",null,null,null,null,null,null,null,null,null,null,null,{"$f":"IF(OR(SUMPRODUCT(--(E414=$O$1:$O$542))>0,E414=0),0,1)","v":0}]
["001.100.2210.6222.506.000.0000","FICA MEDICARE",11.01,null,"001"," ","001","100","2210","6222","506","106","106",null,"827",null,null,null,null,null,null,null,null,null,null,null,{"$f":"IF(OR(SUMPRODUCT(--(E415=$O$1:$O$542))>0,E415=0),0,1)","v":0}]
["001.100.2210.6222.507.000.0000","FICA MEDICARE",270.73,null,"001"," ","001","100","2210","6222","507","107","107",null,"828",null,null,null,null,null,null,null,null,null,null,null,{"$f":"IF(OR(SUMPRODUCT(--(E416=$O$1:$O$542))>0,E416=0),0,1)","v":0}]
["001.100.2210.6222.520.000.0000","FICA MEDICARE",246.5,null,"001"," ","001","100","2210","6222","520","500","500",null,"829",null,null,null,null,null,null,null,null,null,null,null,{"$f":"IF(OR(SUMPRODUCT(--(E417=$O$1:$O$542))>0,E417=0),0,1)","v":0}]
["001.100.2210.6231.102.000.0000","STATE RETIREMENT",723.21,null,"001"," ","001","100","2210","6231","102","102","102",null,"830",null,null,null,null,null,null,null,null,null,null,null,{"$f":"IF(OR(SUMPRODUCT(--(E418=$O$1:$O$542))>0,E418=0),0,1)","v":0}]
["001.100.2210.6231.103.000.0000","STATE RETIREMENT",1594.01,null,"001"," ","001","100","2210","6231","103","103","103",null,"831",null,null,null,null,null,null,null,null,null,null,null,{"$f":"IF(OR(SUMPRODUCT(--(E419=$O$1:$O$542))>0,E419=0),0,1)","v":0}]
["001.100.2210.6231.104.000.0000","STATE RETIREMENT",481.2,null,"001"," ","001","100","2210","6231","104","104","104",null,"832",null,null,null,null,null,null,null,null,null,null,null,{"$f":"IF(OR(SUMPRODUCT(--(E420=$O$1:$O$542))>0,E420=0),0,1)","v":0}]
["001.100.2210.6231.106.000.0000","STATE RETIREMENT",601.51,null,"001"," ","001","100","2210","6231","106","106","106",null,"833",null,null,null,null,null,null,null,null,null,null,null,{"$f":"IF(OR(SUMPRODUCT(--(E421=$O$1:$O$542))>0,E421=0),0,1)","v":0}]
["001.100.2210.6231.107.000.0000","STATE RETIREMENT",1203.04,null,"001"," ","001","100","2210","6231","107","107","107",null,"834",null,null,null,null,null,null,null,null,null,null,null,{"$f":"IF(OR(SUMPRODUCT(--(E422=$O$1:$O$542))>0,E422=0),0,1)","v":0}]
["001.100.2210.6231.108.000.0000","STATE RETIREMENT",341.35,null,"001"," ","001","100","2210","6231","108","500","500",null,"835",null,null,null,null,null,null,null,null,null,null,null,{"$f":"IF(OR(SUMPRODUCT(--(E423=$O$1:$O$542))>0,E423=0),0,1)","v":0}]
["001.100.2210.6231.501.000.0000","STATE RETIREMENT",481.2,null,"001"," ","001","100","2210","6231","501","500","500",null,"836",null,null,null,null,null,null,null,null,null,null,null,{"$f":"IF(OR(SUMPRODUCT(--(E424=$O$1:$O$542))>0,E424=0),0,1)","v":0}]
["001.100.2210.6231.503.000.0000","STATE RETIREMENT",60.21,null,"001"," ","001","100","2210","6231","503","103","103",null,"837",null,null,null,null,null,null,null,null,null,null,null,{"$f":"IF(OR(SUMPRODUCT(--(E425=$O$1:$O$542))>0,E425=0),0,1)","v":0}]
["001.100.2210.6231.503.520.0000","STATE RETIREMENT",180.45,null,"001"," ","001","100","2210","6231","503","103","103",null,"838",null,null,null,null,null,null,null,null,null,null,null,{"$f":"IF(OR(SUMPRODUCT(--(E426=$O$1:$O$542))>0,E426=0),0,1)","v":0}]
["001.100.2210.6231.506.000.0000","STATE RETIREMENT",92.27,null,"001"," ","001","100","2210","6231","506","106","106",null,"839",null,null,null,null,null,null,null,null,null,null,null,{"$f":"IF(OR(SUMPRODUCT(--(E427=$O$1:$O$542))>0,E427=0),0,1)","v":0}]
["001.100.2210.6231.507.000.0000","STATE RETIREMENT",2697.58,null,"001"," ","001","100","2210","6231","507","107","107",null,"840",null,null,null,null,null,null,null,null,null,null,null,{"$f":"IF(OR(SUMPRODUCT(--(E428=$O$1:$O$542))>0,E428=0),0,1)","v":0}]
["001.100.2210.6231.520.000.0000","STATE RETIREMENT",2045.1,null,"001"," ","001","100","2210","6231","520","500","500",null,"841",null,null,null,null,null,null,null,null,null,null,null,{"$f":"IF(OR(SUMPRODUCT(--(E429=$O$1:$O$542))>0,E429=0),0,1)","v":0}]
["001.100.2210.6232.102.000.0000","L/T DISABILITY",5.6,null,"001"," ","001","100","2210","6232","102","102","102",null,"842",null,null,null,null,null,null,null,null,null,null,null,{"$f":"IF(OR(SUMPRODUCT(--(E430=$O$1:$O$542))>0,E430=0),0,1)","v":0}]
["001.100.2210.6232.103.000.0000","L/T DISABILITY",18.559999999999999,null,"001"," ","001","100","2210","6232","103","103","103",null,"843",null,null,null,null,null,null,null,null,null,null,null,{"$f":"IF(OR(SUMPRODUCT(--(E431=$O$1:$O$542))>0,E431=0),0,1)","v":0}]
["001.100.2210.6232.104.000.0000","L-T DISABILITY",5.61,null,"001"," ","001","100","2210","6232","104","104","104",null,"844",null,null,null,null,null,null,null,null,null,null,null,{"$f":"IF(OR(SUMPRODUCT(--(E432=$O$1:$O$542))>0,E432=0),0,1)","v":0}]
["001.100.2210.6232.106.000.0000","L/T DISABILITY",7,null,"001"," ","001","100","2210","6232","106","106","106",null,"845",null,null,null,null,null,null,null,null,null,null,null,{"$f":"IF(OR(SUMPRODUCT(--(E433=$O$1:$O$542))>0,E433=0),0,1)","v":0}]
["001.100.2210.6232.107.000.0000","L/T DISABILITY",14,null,"001"," ","001","100","2210","6232","107","107","107",null,"846",null,null,null,null,null,null,null,null,null,null,null,{"$f":"IF(OR(SUMPRODUCT(--(E434=$O$1:$O$542))>0,E434=0),0,1)","v":0}]
["001.100.2210.6232.108.000.0000","L-T DISABILITY",3.97,null,"001"," ","001","100","2210","6232","108","500","500",null,"847",null,null,null,null,null,null,null,null,null,null,null,{"$f":"IF(OR(SUMPRODUCT(--(E435=$O$1:$O$542))>0,E435=0),0,1)","v":0}]
["001.100.2210.6232.501.000.0000","L-T DISABILITY",5.6,null,"001"," ","001","100","2210","6232","501","500","500",null,"848",null,null,null,null,null,null,null,null,null,null,null,{"$f":"IF(OR(SUMPRODUCT(--(E436=$O$1:$O$542))>0,E436=0),0,1)","v":0}]
["001.100.2210.6232.503.000.0000","L-T DISABILITY",0.75,null,"001"," ","001","100","2210","6232","503","103","103",null,"849",null,null,null,null,null,null,null,null,null,null,null,{"$f":"IF(OR(SUMPRODUCT(--(E437=$O$1:$O$542))>0,E437=0),0,1)","v":0}]
["001.100.2210.6232.503.520.0000","L-T DISABILITY",2.1,null,"001"," ","001","100","2210","6232","503","103","103",null,"850",{"$f":"[2]!F850EndFundBal","v":34580},34580.11,{"$f":"IF(Q438=\"\",P438,Q438)","v":34580},null,null,null,null,null,null,null,null,{"$f":"IF(OR(SUMPRODUCT(--(E438=$O$1:$O$542))>0,E438=0),0,1)","v":0}]
["001.100.2210.6232.506.000.0000","L-T DISABILITY",1.1200000000000001,null,"001"," ","001","100","2210","6232","506","106","106",null,"855",null,804337.42,{"$f":"IF(Q439=\"\",P439,Q439)","v":804337},null,null,null,null,null,null,null,null,{"$f":"IF(OR(SUMPRODUCT(--(E439=$O$1:$O$542))>0,E439=0),0,1)","v":0}]
["001.100.2210.6232.507.000.0000","L-T DISABILITY",31.37,null,"001"," ","001","100","2210","6232","507","107","107",null,"865",null,null,{"$f":"IF(Q440=\"\",P440,Q440)","v":0},null,null,null,null,null,null,null,null,{"$f":"IF(OR(SUMPRODUCT(--(E440=$O$1:$O$542))>0,E440=0),0,1)","v":0}]
["001.100.2210.6232.520.000.0000","L/T DISABILITY",23.8,null,"001"," ","001","100","2210","6232","520","500","500",null,"900",null,null,{"$f":"IF(Q441=\"\",P441,Q441)","v":0},null,null,null,null,null,null,null,null,{"$f":"IF(OR(SUMPRODUCT(--(E441=$O$1:$O$542))>0,E441=0),0,1)","v":0}]
["001.100.2210.6260.102.000.0000","WORKER'S COMPENSATION",45.53,null,"001"," ","001","100","2210","6260","102","102","102",null,"901",null,null,null,null,null,null,null,null,null,null,null,{"$f":"IF(OR(SUMPRODUCT(--(E442=$O$1:$O$542))>0,E442=0),0,1)","v":0}]
["001.100.2210.6260.103.000.0000","WORKER'S COMPENSATION",92.77,null,"001"," ","001","100","2210","6260","103","103","103",null,"902",null,null,null,null,null,null,null,null,null,null,null,{"$f":"IF(OR(SUMPRODUCT(--(E443=$O$1:$O$542))>0,E443=0),0,1)","v":0}]
["001.100.2210.6260.104.000.0000","WORKER'S COMPENSATION",28.01,null,"001"," ","001","100","2210","6260","104","104","104",null,"903",null,null,null,null,null,null,null,null,null,null,null,{"$f":"IF(OR(SUMPRODUCT(--(E444=$O$1:$O$542))>0,E444=0),0,1)","v":0}]
["001.100.2210.6260.106.000.0000","WORKER'S COMPENSATION",35,null,"001"," ","001","100","2210","6260","106","106","106",null,"904",null,null,null,null,null,null,null,null,null,null,null,{"$f":"IF(OR(SUMPRODUCT(--(E445=$O$1:$O$542))>0,E445=0),0,1)","v":0}]
["001.100.2210.6260.107.000.0000","WORKER'S COMPENSATION",70,null,"001"," ","001","100","2210","6260","107","107","107",null,"905",null,null,null,null,null,null,null,null,null,null,null,{"$f":"IF(OR(SUMPRODUCT(--(E446=$O$1:$O$542))>0,E446=0),0,1)","v":0}]
["001.100.2210.6260.108.000.0000","WORKERS' COMPENSATION",19.86,null,"001"," ","001","100","2210","6260","108","500","500",null,"906",null,null,null,null,null,null,null,null,null,null,null,{"$f":"IF(OR(SUMPRODUCT(--(E447=$O$1:$O$542))>0,E447=0),0,1)","v":0}]
["001.100.2210.6260.501.000.0000","WORKERS' COMPENSATION",28,null,"001"," ","001","100","2210","6260","501","500","500",null,"907",null,null,null,null,null,null,null,null,null,null,null,{"$f":"IF(OR(SUMPRODUCT(--(E448=$O$1:$O$542))>0,E448=0),0,1)","v":0}]
["001.100.2210.6260.503.000.0000","WORKERS' COMPENSATION",3.56,null,"001"," ","001","100","2210","6260","503","103","103",null,"908",null,null,null,null,null,null,null,null,null,null,null,{"$f":"IF(OR(SUMPRODUCT(--(E449=$O$1:$O$542))>0,E449=0),0,1)","v":0}]
["001.100.2210.6260.503.520.0000","WORKERS' COMPENSATION",10.5,null,"001"," ","001","100","2210","6260","503","103","103",null,"909",null,null,null,null,null,null,null,null,null,null,null,{"$f":"IF(OR(SUMPRODUCT(--(E450=$O$1:$O$542))>0,E450=0),0,1)","v":0}]
["001.100.2210.6260.506.000.0000","WORKERS' COMPENSATION",5.25,null,"001"," ","001","100","2210","6260","506","106","106",null,"910",null,null,null,null,null,null,null,null,null,null,null,{"$f":"IF(OR(SUMPRODUCT(--(E451=$O$1:$O$542))>0,E451=0),0,1)","v":0}]
["001.100.2210.6260.507.000.0000","WORKERS' COMPENSATION",156.94,null,"001"," ","001","100","2210","6260","507","107","107",null,"911",null,null,null,null,null,null,null,null,null,null,null,{"$f":"IF(OR(SUMPRODUCT(--(E452=$O$1:$O$542))>0,E452=0),0,1)","v":0}]
["001.100.2210.6260.507.520.0000","WORKERS' COMPENSATION",17.5,null,"001"," ","001","100","2210","6260","507","107","107",null,"912",null,null,null,null,null,null,null,null,null,null,null,{"$f":"IF(OR(SUMPRODUCT(--(E453=$O$1:$O$542))>0,E453=0),0,1)","v":0}]
["001.100.2210.6260.520.000.0000","WORKER'S COMPENSATION",119,null,"001"," ","001","100","2210","6260","520","500","500",null,"913",null,null,null,null,null,null,null,null,null,null,null,{"$f":"IF(OR(SUMPRODUCT(--(E454=$O$1:$O$542))>0,E454=0),0,1)","v":0}]
["001.100.2210.6280.108.000.0000","UNUSED LEAVE",2837.53,null,"001"," ","001","100","2210","6280","108","500","500",null,"914",null,null,null,null,null,null,null,null,null,null,null,{"$f":"IF(OR(SUMPRODUCT(--(E455=$O$1:$O$542))>0,E455=0),0,1)","v":0}]
["001.100.2210.6332.520.000.0000","TRANSLATION",1840,null,"001"," ","001","100","2210","6332","520","500","500",null,"915",null,null,null,null,null,null,null,null,null,null,null,{"$f":"IF(OR(SUMPRODUCT(--(E456=$O$1:$O$542))>0,E456=0),0,1)","v":0}]
["001.100.2210.6580.107.000.0000","TRAVEL",390.52,null,"001"," ","001","100","2210","6580","107","107","107",null,"916",null,null,null,null,null,null,null,null,null,null,null,{"$f":"IF(OR(SUMPRODUCT(--(E457=$O$1:$O$542))>0,E457=0),0,1)","v":0}]
["001.100.2210.6580.520.000.0000","TRAVEL",2269.7399999999998,null,"001"," ","001","100","2210","6580","520","500","500",null,"917",null,null,null,null,null,null,null,null,null,null,null,{"$f":"IF(OR(SUMPRODUCT(--(E458=$O$1:$O$542))>0,E458=0),0,1)","v":0}]
["001.100.2210.6611.102.000.0000","SUPPLIES",378,null,"001"," ","001","100","2210","6611","102","102","102",null,"918",null,null,null,null,null,null,null,null,null,null,null,{"$f":"IF(OR(SUMPRODUCT(--(E459=$O$1:$O$542))>0,E459=0),0,1)","v":0}]
["001.100.2210.6611.520.000.0000","SUPPLIES",220.83,null,"001"," ","001","100","2210","6611","520","500","500",null,"919",null,null,null,null,null,null,null,null,null,null,null,{"$f":"IF(OR(SUMPRODUCT(--(E460=$O$1:$O$542))>0,E460=0),0,1)","v":0}]
["001.100.2210.6810.107.000.0000","DUES & FEES",549,null,"001"," ","001","100","2210","6810","107","107","107",null,"920",null,null,null,null,null,null,null,null,null,null,null,{"$f":"IF(OR(SUMPRODUCT(--(E461=$O$1:$O$542))>0,E461=0),0,1)","v":0}]
["001.100.2213.6360.104.000.0000","TEACHER PD",1842,null,"001"," ","001","100","2213","6360","104","104","104",null,"921",null,null,null,null,null,null,null,null,null,null,null,{"$f":"IF(OR(SUMPRODUCT(--(E462=$O$1:$O$542))>0,E462=0),0,1)","v":0}]
["001.100.2213.6360.106.000.0000","Undesignated",440,null,"001"," ","001","100","2213","6360","106","106","106",null,"922",null,null,null,null,null,null,null,null,null,null,null,{"$f":"IF(OR(SUMPRODUCT(--(E463=$O$1:$O$542))>0,E463=0),0,1)","v":0}]
["001.100.2213.6360.107.000.0000","Undesignated",597,null,"001"," ","001","100","2213","6360","107","107","107",null,"923",null,null,null,null,null,null,null,null,null,null,null,{"$f":"IF(OR(SUMPRODUCT(--(E464=$O$1:$O$542))>0,E464=0),0,1)","v":0}]
["001.100.2213.6360.520.000.0000","Undesignated",11153.78,null,"001"," ","001","100","2213","6360","520","500","500",null,"924",null,null,null,null,null,null,null,null,null,null,null,{"$f":"IF(OR(SUMPRODUCT(--(E465=$O$1:$O$542))>0,E465=0),0,1)","v":0}]
["001.100.2213.6360.560.000.0000","TEACHER PD",900,null,"001"," ","001","100","2213","6360","560","500","500",null,"925",null,null,null,null,null,null,null,null,null,null,null,{"$f":"IF(OR(SUMPRODUCT(--(E466=$O$1:$O$542))>0,E466=0),0,1)","v":0}]
["001.100.2220.6611.103.000.0000","SUPPLIES-LIBRARY",282.3,null,"001"," ","001","100","2220","6611","103","103","103",null,"926",null,null,null,null,null,null,null,null,null,null,null,{"$f":"IF(OR(SUMPRODUCT(--(E467=$O$1:$O$542))>0,E467=0),0,1)","v":0}]
["001.100.2220.6611.107.000.0000","SUPPLIES-LIBRARY",1115.17,null,"001"," ","001","100","2220","6611","107","107","107",null,"927",null,null,null,null,null,null,null,null,null,null,null,{"$f":"IF(OR(SUMPRODUCT(--(E468=$O$1:$O$542))>0,E468=0),0,1)","v":0}]
["001.100.2230.6152.530.000.0000","CLASSIFIED",140346.03,null,"001"," ","001","100","2230","6152","530","500","500",null,"928",null,null,null,null,null,null,null,null,null,null,null,{"$f":"IF(OR(SUMPRODUCT(--(E469=$O$1:$O$542))>0,E469=0),0,1)","v":0}]
["001.100.2230.6154.530.000.0000","CLASS OVERTIME",689,null,"001"," ","001","100","2230","6154","530","500","500",null,"929",null,null,null,null,null,null,null,null,null,null,null,{"$f":"IF(OR(SUMPRODUCT(--(E470=$O$1:$O$542))>0,E470=0),0,1)","v":0}]
["001.100.2230.6210.530.000.0000","GROUP INSURANCE",18216,null,"001"," ","001","100","2230","6210","530","500","500",null,"930",null,null,null,null,null,null,null,null,null,null,null,{"$f":"IF(OR(SUMPRODUCT(--(E471=$O$1:$O$542))>0,E471=0),0,1)","v":0}]
["001.100.2230.6212.530.000.0000","LIFE INSURANCE",203.4,null,"001"," ","001","100","2230","6212","530","500","500",null,"931",null,null,null,null,null,null,null,null,null,null,null,{"$f":"IF(OR(SUMPRODUCT(--(E472=$O$1:$O$542))>0,E472=0),0,1)","v":0}]
["001.100.2230.6221.530.000.0000","SOCIAL SECURITY-FICA",8703.4,null,"001"," ","001","100","2230","6221","530","500","500",null,"932",null,null,null,null,null,null,null,null,null,null,null,{"$f":"IF(OR(SUMPRODUCT(--(E473=$O$1:$O$542))>0,E473=0),0,1)","v":0}]
["001.100.2230.6222.530.000.0000","FICA MEDICARE",2035.53,null,"001"," ","001","100","2230","6222","530","500","500",null,"933",null,null,null,null,null,null,null,null,null,null,null,{"$f":"IF(OR(SUMPRODUCT(--(E474=$O$1:$O$542))>0,E474=0),0,1)","v":0}]
["001.100.2230.6231.530.000.0000","STATE RETIREMENT",16966.490000000002,null,"001"," ","001","100","2230","6231","530","500","500",null,"934",null,null,null,null,null,null,null,null,null,null,null,{"$f":"IF(OR(SUMPRODUCT(--(E475=$O$1:$O$542))>0,E475=0),0,1)","v":0}]
["001.100.2230.6232.530.000.0000","L-T DISABILITY",197.39,null,"001"," ","001","100","2230","6232","530","500","500",null,"935",null,null,null,null,null,null,null,null,null,null,null,{"$f":"IF(OR(SUMPRODUCT(--(E476=$O$1:$O$542))>0,E476=0),0,1)","v":0}]
["001.100.2230.6260.530.000.0000","WORKERS' COMPENSATION",985.58,null,"001"," ","001","100","2230","6260","530","500","500",null,"936",null,null,null,null,null,null,null,null,null,null,null,{"$f":"IF(OR(SUMPRODUCT(--(E477=$O$1:$O$542))>0,E477=0),0,1)","v":0}]
["001.100.2230.6432.507.530.0000","TECH RELATED REPAIRS & MAINT",200,null,"001"," ","001","100","2230","6432","507","107","107",null,"937",null,null,null,null,null,null,null,null,null,null,null,{"$f":"IF(OR(SUMPRODUCT(--(E478=$O$1:$O$542))>0,E478=0),0,1)","v":0}]
["001.100.2230.6432.530.000.0000","TECH RELATED REPAIRS & MAINT",25407.62,null,"001"," ","001","100","2230","6432","530","500","500",null,"938",null,null,null,null,null,null,null,null,null,null,null,{"$f":"IF(OR(SUMPRODUCT(--(E479=$O$1:$O$542))>0,E479=0),0,1)","v":0}]
["001.100.2230.6580.530.000.0000","TRAVEL",64.13,null,"001"," ","001","100","2230","6580","530","500","500",null,"939",null,null,null,null,null,null,null,null,null,null,null,{"$f":"IF(OR(SUMPRODUCT(--(E480=$O$1:$O$542))>0,E480=0),0,1)","v":0}]
["001.100.2230.6650.530.000.0000","TECHNOLOGY RELATED SUPPLIES",6567.75,null,"001"," ","001","100","2230","6650","530","500","500",null,"940",null,null,null,null,null,null,null,null,null,null,null,{"$f":"IF(OR(SUMPRODUCT(--(E481=$O$1:$O$542))>0,E481=0),0,1)","v":0}]
["001.100.2240.6111.520.000.0000","CERT ADMINISTRATORS",99273.72,null,"001"," ","001","100","2240","6111","520","500","500",null,"941",null,null,null,null,null,null,null,null,null,null,null,{"$f":"IF(OR(SUMPRODUCT(--(E482=$O$1:$O$542))>0,E482=0),0,1)","v":0}]
["001.100.2240.6157.520.000.0000","SECRETARY",50241.48,null,"001"," ","001","100","2240","6157","520","500","500",null,"942",null,null,null,null,null,null,null,null,null,null,null,{"$f":"IF(OR(SUMPRODUCT(--(E483=$O$1:$O$542))>0,E483=0),0,1)","v":0}]
["001.100.2240.6210.520.000.0000","GROUP INSURANCE",11073.6,null,"001"," ","001","100","2240","6210","520","500","500",null,"943",null,null,null,null,null,null,null,null,null,null,null,{"$f":"IF(OR(SUMPRODUCT(--(E484=$O$1:$O$542))>0,E484=0),0,1)","v":0}]
["001.100.2240.6212.520.000.0000","LIFE INSURANCE",123.61,null,"001"," ","001","100","2240","6212","520","500","500",null,"944",null,null,null,null,null,null,null,null,null,null,null,{"$f":"IF(OR(SUMPRODUCT(--(E485=$O$1:$O$542))>0,E485=0),0,1)","v":0}]
["001.100.2240.6221.520.000.0000","SOCIAL SECURITY-FICA",8756.42,null,"001"," ","001","100","2240","6221","520","500","500",null,"945",null,null,null,null,null,null,null,null,null,null,null,{"$f":"IF(OR(SUMPRODUCT(--(E486=$O$1:$O$542))>0,E486=0),0,1)","v":0}]
["001.100.2240.6222.520.000.0000","FICA MEDICARE",2047.92,null,"001"," ","001","100","2240","6222","520","500","500",null,"946",null,null,null,null,null,null,null,null,null,null,null,{"$f":"IF(OR(SUMPRODUCT(--(E487=$O$1:$O$542))>0,E487=0),0,1)","v":0}]
["001.100.2240.6231.520.000.0000","STATE RETIREMENT",17986.8,null,"001"," ","001","100","2240","6231","520","500","500",null,"947",null,null,null,null,null,null,null,null,null,null,null,{"$f":"IF(OR(SUMPRODUCT(--(E488=$O$1:$O$542))>0,E488=0),0,1)","v":0}]
["001.100.2240.6232.520.000.0000","L-T DISABILITY",209.44,null,"001"," ","001","100","2240","6232","520","500","500",null,"948",null,null,null,null,null,null,null,null,null,null,null,{"$f":"IF(OR(SUMPRODUCT(--(E489=$O$1:$O$542))>0,E489=0),0,1)","v":0}]
["001.100.2240.6260.520.000.0000","WORKERS' COMPENSATION",1046.5999999999999,null,"001"," ","001","100","2240","6260","520","500","500",null,"949",null,null,null,null,null,null,null,null,null,null,null,{"$f":"IF(OR(SUMPRODUCT(--(E490=$O$1:$O$542))>0,E490=0),0,1)","v":0}]
["001.100.2240.6580.520.000.0000","TRAVEL",111.13,null,"001"," ","001","100","2240","6580","520","500","500",null,"950",null,null,null,null,null,null,null,null,null,null,null,{"$f":"IF(OR(SUMPRODUCT(--(E491=$O$1:$O$542))>0,E491=0),0,1)","v":0}]
["001.100.2260.6810.520.000.0000","DUES & FEES",1023.2,null,"001"," ","001","100","2260","6810","520","500","500",null,"951",null,null,null,null,null,null,null,null,null,null,null,{"$f":"IF(OR(SUMPRODUCT(--(E492=$O$1:$O$542))>0,E492=0),0,1)","v":0}]
["001.100.2310.6157.510.000.0000","SECRETARY",31536,null,"001"," ","001","100","2310","6157","510","500","500",null,"952",null,null,null,null,null,null,null,null,null,null,null,{"$f":"IF(OR(SUMPRODUCT(--(E493=$O$1:$O$542))>0,E493=0),0,1)","v":0}]
["001.100.2310.6210.510.000.0000","HEALTH INSURANCE",3036,null,"001"," ","001","100","2310","6210","510","500","500",null,"953",null,null,null,null,null,null,null,null,null,null,null,{"$f":"IF(OR(SUMPRODUCT(--(E494=$O$1:$O$542))>0,E494=0),0,1)","v":0}]
["001.100.2310.6212.510.000.0000","LIFE INSURANCE",33.9,null,"001"," ","001","100","2310","6212","510","500","500",null,"954",null,null,null,null,null,null,null,null,null,null,null,{"$f":"IF(OR(SUMPRODUCT(--(E495=$O$1:$O$542))>0,E495=0),0,1)","v":0}]
["001.100.2310.6221.510.000.0000","FICA SSI",1948.87,null,"001"," ","001","100","2310","6221","510","500","500",null,"955",null,null,null,null,null,null,null,null,null,null,null,{"$f":"IF(OR(SUMPRODUCT(--(E496=$O$1:$O$542))>0,E496=0),0,1)","v":0}]
["001.100.2310.6222.510.000.0000","FICA MEDICARE",455.81,null,"001"," ","001","100","2310","6222","510","500","500",null,"956",null,null,null,null,null,null,null,null,null,null,null,{"$f":"IF(OR(SUMPRODUCT(--(E497=$O$1:$O$542))>0,E497=0),0,1)","v":0}]
["001.100.2310.6231.510.000.0000","STATE RETIREMENT",3793.76,null,"001"," ","001","100","2310","6231","510","500","500",null,"957",null,null,null,null,null,null,null,null,null,null,null,{"$f":"IF(OR(SUMPRODUCT(--(E498=$O$1:$O$542))>0,E498=0),0,1)","v":0}]
["001.100.2310.6232.510.000.0000","L/T DISABILITY",44.1,null,"001"," ","001","100","2310","6232","510","500","500",null,"958",null,null,null,null,null,null,null,null,null,null,null,{"$f":"IF(OR(SUMPRODUCT(--(E499=$O$1:$O$542))>0,E499=0),0,1)","v":0}]
["001.100.2310.6260.510.000.0000","WORKER'S COMPENSATION",220.77,null,"001"," ","001","100","2310","6260","510","500","500",null,"959",null,null,null,null,null,null,null,null,null,null,null,{"$f":"IF(OR(SUMPRODUCT(--(E500=$O$1:$O$542))>0,E500=0),0,1)","v":0}]
["001.100.2310.6350.535.000.0000","AUDIT SVC",32000,null,"001"," ","001","100","2310","6350","535","500","500",null,"960",null,null,null,null,null,null,null,null,null,null,null,{"$f":"IF(OR(SUMPRODUCT(--(E501=$O$1:$O$542))>0,E501=0),0,1)","v":0}]
["001.100.2310.6580.510.000.0000","GOV BOARD TRAVEL",8947.7800000000007,null,"001"," ","001","100","2310","6580","510","500","500",null,"961",null,null,null,null,null,null,null,null,null,null,null,{"$f":"IF(OR(SUMPRODUCT(--(E502=$O$1:$O$542))>0,E502=0),0,1)","v":0}]
["001.100.2310.6611.510.000.0000","SUPPLIES",437.57,null,"001"," ","001","100","2310","6611","510","500","500",null,"962",null,null,null,null,null,null,null,null,null,null,null,{"$f":"IF(OR(SUMPRODUCT(--(E503=$O$1:$O$542))>0,E503=0),0,1)","v":0}]
["001.100.2310.6611.515.000.0000","SUPPLIES",102.99,null,"001"," ","001","100","2310","6611","515","500","500",null,"963",null,null,null,null,null,null,null,null,null,null,null,{"$f":"IF(OR(SUMPRODUCT(--(E504=$O$1:$O$542))>0,E504=0),0,1)","v":0}]
["001.100.2310.6810.510.000.0000","DUES & FEES",21133,null,"001"," ","001","100","2310","6810","510","500","500",null,"964",null,null,null,null,null,null,null,null,null,null,null,{"$f":"IF(OR(SUMPRODUCT(--(E505=$O$1:$O$542))>0,E505=0),0,1)","v":0}]
["001.100.2320.6111.515.000.0000","SUPERINTENDENT SALARY",182889.06,null,"001"," ","001","100","2320","6111","515","500","500",null,"965",null,null,null,null,null,null,null,null,null,null,null,{"$f":"IF(OR(SUMPRODUCT(--(E506=$O$1:$O$542))>0,E506=0),0,1)","v":0}]
["001.100.2320.6157.515.000.0000","ADMIN SECRETARY",31536,null,"001"," ","001","100","2320","6157","515","500","500",null,"966",null,null,null,null,null,null,null,null,null,null,null,{"$f":"IF(OR(SUMPRODUCT(--(E507=$O$1:$O$542))>0,E507=0),0,1)","v":0}]
["001.100.2320.6210.515.000.0000","HEALTH INSURANCE",9108,null,"001"," ","001","100","2320","6210","515","500","500",null,"967",null,null,null,null,null,null,null,null,null,null,null,{"$f":"IF(OR(SUMPRODUCT(--(E508=$O$1:$O$542))>0,E508=0),0,1)","v":0}]
["001.100.2320.6212.515.000.0000","LIFE INSURANCE",101.7,null,"001"," ","001","100","2320","6212","515","500","500",null,"968",null,null,null,null,null,null,null,null,null,null,null,{"$f":"IF(OR(SUMPRODUCT(--(E509=$O$1:$O$542))>0,E509=0),0,1)","v":0}]
["001.100.2320.6221.515.000.0000","FICA SSI",10726.02,null,"001"," ","001","100","2320","6221","515","500","500",null,"969",null,null,null,null,null,null,null,null,null,null,null,{"$f":"IF(OR(SUMPRODUCT(--(E510=$O$1:$O$542))>0,E510=0),0,1)","v":0}]
["001.100.2320.6222.515.000.0000","FICA MEDICARE",3138.25,null,"001"," ","001","100","2320","6222","515","500","500",null,"970",null,null,null,null,null,null,null,null,null,null,null,{"$f":"IF(OR(SUMPRODUCT(--(E511=$O$1:$O$542))>0,E511=0),0,1)","v":0}]
["001.100.2320.6231.515.000.0000","STATE RETIREMENT",27562.52,null,"001"," ","001","100","2320","6231","515","500","500",null,"971",null,null,null,null,null,null,null,null,null,null,null,{"$f":"IF(OR(SUMPRODUCT(--(E512=$O$1:$O$542))>0,E512=0),0,1)","v":0}]
["001.100.2320.6232.515.000.0000","L/T DISABILITY",320.67,null,"001"," ","001","100","2320","6232","515","500","500",null,"972",null,null,null,null,null,null,null,null,null,null,null,{"$f":"IF(OR(SUMPRODUCT(--(E513=$O$1:$O$542))>0,E513=0),0,1)","v":0}]
["001.100.2320.6260.515.000.0000","WORKER'S COMPENSATION",1519.96,null,"001"," ","001","100","2320","6260","515","500","500",null,"973",null,null,null,null,null,null,null,null,null,null,null,{"$f":"IF(OR(SUMPRODUCT(--(E514=$O$1:$O$542))>0,E514=0),0,1)","v":0}]
["001.100.2320.6280.515.000.0000","UNUSED LEAVE",7678.2,null,"001"," ","001","100","2320","6280","515","500","500",null,"974",null,null,null,null,null,null,null,null,null,null,null,{"$f":"IF(OR(SUMPRODUCT(--(E515=$O$1:$O$542))>0,E515=0),0,1)","v":0}]
["001.100.2320.6290.515.000.0000","ANNUAL LEAVE PAYOUT",8400,null,"001"," ","001","100","2320","6290","515","500","500",null,"975",null,null,null,null,null,null,null,null,null,null,null,{"$f":"IF(OR(SUMPRODUCT(--(E516=$O$1:$O$542))>0,E516=0),0,1)","v":0}]
["001.100.2320.6540.515.000.0000","ADVERTISING",10078.91,null,"001"," ","001","100","2320","6540","515","500","500",null,"976",null,null,null,null,null,null,null,null,null,null,null,{"$f":"IF(OR(SUMPRODUCT(--(E517=$O$1:$O$542))>0,E517=0),0,1)","v":0}]
["001.100.2320.6580.515.000.0000","TRAVEL",3746.82,null,"001"," ","001","100","2320","6580","515","500","500",null,"977",null,null,null,null,null,null,null,null,null,null,null,{"$f":"IF(OR(SUMPRODUCT(--(E518=$O$1:$O$542))>0,E518=0),0,1)","v":0}]
["001.100.2320.6611.515.000.0000","SUPPLIES",2447.1799999999998,null,"001"," ","001","100","2320","6611","515","500","500",null,"978",null,null,null,null,null,null,null,null,null,null,null,{"$f":"IF(OR(SUMPRODUCT(--(E519=$O$1:$O$542))>0,E519=0),0,1)","v":0}]
["001.100.2320.6810.515.000.0000","DUES & FEES",9061,null,"001"," ","001","100","2320","6810","515","500","500",null,"979",null,null,null,null,null,null,null,null,null,null,null,{"$f":"IF(OR(SUMPRODUCT(--(E520=$O$1:$O$542))>0,E520=0),0,1)","v":0}]
["001.100.2340.6310.515.000.0000","Undesignated",11506,null,"001"," ","001","100","2340","6310","515","500","500",null,"980",null,null,null,null,null,null,null,null,null,null,null,{"$f":"IF(OR(SUMPRODUCT(--(E521=$O$1:$O$542))>0,E521=0),0,1)","v":0}]
["001.100.2340.6532.510.000.0000","Undesignated",3970.25,null,"001"," ","001","100","2340","6532","510","500","500",null,"981",null,null,null,null,null,null,null,null,null,null,null,{"$f":"IF(OR(SUMPRODUCT(--(E522=$O$1:$O$542))>0,E522=0),0,1)","v":0}]
["001.100.2340.6890.535.000.0000","Undesignated",1506.63,null,"001"," ","001","100","2340","6890","535","500","500",null,"982",null,null,null,null,null,null,null,null,null,null,null,{"$f":"IF(OR(SUMPRODUCT(--(E523=$O$1:$O$542))>0,E523=0),0,1)","v":0}]
["001.100.2410.6111.102.000.0000","CERTIFIED ADMINISTRATOR",94166,null,"001"," ","001","100","2410","6111","102","102","102",null,"983",null,null,null,null,null,null,null,null,null,null,null,{"$f":"IF(OR(SUMPRODUCT(--(E524=$O$1:$O$542))>0,E524=0),0,1)","v":0}]
["001.100.2410.6111.103.000.0000","CERTIFIED ADMINISTRATOR",101346,null,"001"," ","001","100","2410","6111","103","103","103",null,"984",null,null,null,null,null,null,null,null,null,null,null,{"$f":"IF(OR(SUMPRODUCT(--(E525=$O$1:$O$542))>0,E525=0),0,1)","v":0}]
["001.100.2410.6111.104.000.0000","CERTIFIED ADMINISTRATOR",176889,null,"001"," ","001","100","2410","6111","104","104","104",null,"985",null,null,null,null,null,null,null,null,null,null,null,{"$f":"IF(OR(SUMPRODUCT(--(E526=$O$1:$O$542))>0,E526=0),0,1)","v":0}]
["001.100.2410.6111.105.000.0000","CERTIFIED ADMINISTRATOR",42950.44,null,"001"," ","001","100","2410","6111","105","105","105",null,"986",null,null,null,null,null,null,null,null,null,null,null,{"$f":"IF(OR(SUMPRODUCT(--(E527=$O$1:$O$542))>0,E527=0),0,1)","v":0}]
["001.100.2410.6111.106.000.0000","CERTIFIED ADMINISTRATOR",102863,null,"001"," ","001","100","2410","6111","106","106","106",null,"987",null,null,null,null,null,null,null,null,null,null,null,{"$f":"IF(OR(SUMPRODUCT(--(E528=$O$1:$O$542))>0,E528=0),0,1)","v":0}]
["001.100.2410.6111.107.000.0000","CERTIFIED ADMINISTRATOR",105363,null,"001"," ","001","100","2410","6111","107","107","107",null,"988",null,null,null,null,null,null,null,null,null,null,null,{"$f":"IF(OR(SUMPRODUCT(--(E529=$O$1:$O$542))>0,E529=0),0,1)","v":0}]
["001.100.2410.6154.103.000.0000","OVERTIME",661.64,null,"001"," ","001","100","2410","6154","103","103","103",null,"989",null,null,null,null,null,null,null,null,null,null,null,{"$f":"IF(OR(SUMPRODUCT(--(E530=$O$1:$O$542))>0,E530=0),0,1)","v":0}]
["001.100.2410.6154.104.000.0000","OVERTIME",136.91999999999999,null,"001"," ","001","100","2410","6154","104","104","104",null,"990",null,null,null,null,null,null,null,null,null,null,null,{"$f":"IF(OR(SUMPRODUCT(--(E531=$O$1:$O$542))>0,E531=0),0,1)","v":0}]
["001.100.2410.6154.105.000.0000","OVERTIME",127.76,null,"001"," ","001","100","2410","6154","105","105","105",null,"991",null,null,null,null,null,null,null,null,null,null,null,{"$f":"IF(OR(SUMPRODUCT(--(E532=$O$1:$O$542))>0,E532=0),0,1)","v":0}]
["001.100.2410.6154.106.000.0000","OVERTIME",383.27,null,"001"," ","001","100","2410","6154","106","106","106",null,"992",null,null,null,null,null,null,null,null,null,null,null,{"$f":"IF(OR(SUMPRODUCT(--(E533=$O$1:$O$542))>0,E533=0),0,1)","v":0}]
["001.100.2410.6155.105.000.0000","CLASSIFIED X-DUTY",1222.54,null,"001"," ","001","100","2410","6155","105","105","105",null,"993",null,null,null,null,null,null,null,null,null,null,null,{"$f":"IF(OR(SUMPRODUCT(--(E534=$O$1:$O$542))>0,E534=0),0,1)","v":0}]
["001.100.2410.6155.106.000.0000","CLASSIFIED X-DUTY",601.20000000000005,null,"001"," ","001","100","2410","6155","106","106","106",null,"994",null,null,null,null,null,null,null,null,null,null,null,{"$f":"IF(OR(SUMPRODUCT(--(E535=$O$1:$O$542))>0,E535=0),0,1)","v":0}]
["001.100.2410.6157.102.000.0000","SECRETARY",39248.449999999997,null,"001"," ","001","100","2410","6157","102","102","102",null,"995",null,null,null,null,null,null,null,null,null,null,null,{"$f":"IF(OR(SUMPRODUCT(--(E536=$O$1:$O$542))>0,E536=0),0,1)","v":0}]
["001.100.2410.6157.103.000.0000","SECRETARY",40801.599999999999,null,"001"," ","001","100","2410","6157","103","103","103",null,"996",null,null,null,null,null,null,null,null,null,null,null,{"$f":"IF(OR(SUMPRODUCT(--(E537=$O$1:$O$542))>0,E537=0),0,1)","v":0}]
["001.100.2410.6157.104.000.0000","SECRETARY",41025.9,null,"001"," ","001","100","2410","6157","104","104","104",null,"997",null,null,null,null,null,null,null,null,null,null,null,{"$f":"IF(OR(SUMPRODUCT(--(E538=$O$1:$O$542))>0,E538=0),0,1)","v":0}]
["001.100.2410.6157.105.000.0000","SECRETARY",36806.230000000003,null,"001"," ","001","100","2410","6157","105","105","105",null,"998",null,null,null,null,null,null,null,null,null,null,null,{"$f":"IF(OR(SUMPRODUCT(--(E539=$O$1:$O$542))>0,E539=0),0,1)","v":0}]
["001.100.2410.6157.106.000.0000","SECRETARY",29164.22,null,"001"," ","001","100","2410","6157","106","106","106",null,"999",null,null,null,null,null,null,null,null,null,null,null,{"$f":"IF(OR(SUMPRODUCT(--(E540=$O$1:$O$542))>0,E540=0),0,1)","v":0}]
["001.100.2410.6157.107.000.0000","SECRETARY",43393.79,null,"001"," ","001","100","2410","6157","107","107","107",null,"Other",null,null,{"$f":"IF(Q541=\"\",P541,Q541)","v":0},null,null,null,null,null,null,null,null,{"$f":"IF(OR(SUMPRODUCT(--(E541=$O$1:$O$542))>0,E541=0),0,1)","v":0}]
["001.100.2410.6210.103.000.0000","HEALTH INSURANCE",11748,null,"001"," ","001","100","2410","6210","103","103","103",null,"COVID",{"$f":"'[2]Page 5'!$J$28","v":0},null,{"$f":"IF(Q542=\"\",P542,Q542)","v":0},null,null,null,null,null,null,null,null,{"$f":"IF(OR(SUMPRODUCT(--(E542=$O$1:$O$542))>0,E542=0),0,1)","v":0}]
["001.100.2410.6210.104.000.0000","HEALTH INSURANCE",18216,null,"001"," ","001","100","2410","6210","104","104","104",null,null,null,null,null,null,null,null,null,null,null,null,null,{"$f":"IF(OR(SUMPRODUCT(--(E543=$O$1:$O$542))>0,E543=0),0,1)","v":0}]
["001.100.2410.6210.105.000.0000","HEALTH INSURANCE",7971.92,null,"001"," ","001","100","2410","6210","105","105","105",null,null,null,null,null,null,null,null,null,null,null,null,null,{"$f":"IF(OR(SUMPRODUCT(--(E544=$O$1:$O$542))>0,E544=0),0,1)","v":0}]
["001.100.2410.6210.106.000.0000","HEALTH INSURANCE",10844,null,"001"," ","001","100","2410","6210","106","106","106",null,null,null,null,null,null,null,null,null,null,null,null,null,{"$f":"IF(OR(SUMPRODUCT(--(E545=$O$1:$O$542))>0,E545=0),0,1)","v":0}]
["001.100.2410.6210.107.000.0000","HEALTH INSURANCE",12144,null,"001"," ","001","100","2410","6210","107","107","107",null,null,null,null,null,null,null,null,null,null,null,null,null,{"$f":"IF(OR(SUMPRODUCT(--(E546=$O$1:$O$542))>0,E546=0),0,1)","v":0}]
["001.100.2410.6212.102.000.0000","LIFE INSURANCE",135.6,null,"001"," ","001","100","2410","6212","102","102","102",null,null,null,null,null,null,null,null,null,null,null,null,null,{"$f":"IF(OR(SUMPRODUCT(--(E547=$O$1:$O$542))>0,E547=0),0,1)","v":0}]
["001.100.2410.6212.103.000.0000","LIFE INSURANCE",131.4,null,"001"," ","001","100","2410","6212","103","103","103",null,null,null,null,null,null,null,null,null,null,null,null,null,{"$f":"IF(OR(SUMPRODUCT(--(E548=$O$1:$O$542))>0,E548=0),0,1)","v":0}]
["001.100.2410.6212.104.000.0000","LIFE INSURANCE",203.4,null,"001"," ","001","100","2410","6212","104","104","104",null,null,null,null,null,null,null,null,null,null,null,null,null,{"$f":"IF(OR(SUMPRODUCT(--(E549=$O$1:$O$542))>0,E549=0),0,1)","v":0}]
["001.100.2410.6212.105.000.0000","LIFE INSURANCE",101.72,null,"001"," ","001","100","2410","6212","105","105","105",null,null,null,null,null,null,null,null,null,null,null,null,null,{"$f":"IF(OR(SUMPRODUCT(--(E550=$O$1:$O$542))>0,E550=0),0,1)","v":0}]
["001.100.2410.6212.106.000.0000","LIFE INSURANCE",124.3,null,"001"," ","001","100","2410","6212","106","106","106",null,null,null,null,null,null,null,null,null,null,null,null,null,{"$f":"IF(OR(SUMPRODUCT(--(E551=$O$1:$O$542))>0,E551=0),0,1)","v":0}]
["001.100.2410.6212.107.000.0000","LIFE INSURANCE",135.6,null,"001"," ","001","100","2410","6212","107","107","107",null,null,null,null,null,null,null,null,null,null,null,null,null,{"$f":"IF(OR(SUMPRODUCT(--(E552=$O$1:$O$542))>0,E552=0),0,1)","v":0}]
["001.100.2410.6221.102.000.0000","FICA S/S",8264.27,null,"001"," ","001","100","2410","6221","102","102","102",null,null,null,null,null,null,null,null,null,null,null,null,null,{"$f":"IF(OR(SUMPRODUCT(--(E553=$O$1:$O$542))>0,E553=0),0,1)","v":0}]
["001.100.2410.6221.103.000.0000","FICA S/S",8669.09,null,"001"," ","001","100","2410","6221","103","103","103",null,null,null,null,null,null,null,null,null,null,null,null,null,{"$f":"IF(OR(SUMPRODUCT(--(E554=$O$1:$O$542))>0,E554=0),0,1)","v":0}]
["001.100.2410.6221.104.000.0000","FICA S/S",13493.76,null,"001"," ","001","100","2410","6221","104","104","104",null,null,null,null,null,null,null,null,null,null,null,null,null,{"$f":"IF(OR(SUMPRODUCT(--(E555=$O$1:$O$542))>0,E555=0),0,1)","v":0}]
["001.100.2410.6221.105.000.0000","FICA S/S",5602.68,null,"001"," ","001","100","2410","6221","105","105","105",null,null,null,null,null,null,null,null,null,null,null,null,null,{"$f":"IF(OR(SUMPRODUCT(--(E556=$O$1:$O$542))>0,E556=0),0,1)","v":0}]
["001.100.2410.6221.106.000.0000","FICA S/S",8542.74,null,"001"," ","001","100","2410","6221","106","106","106",null,null,null,null,null,null,null,null,null,null,null,null,null,{"$f":"IF(OR(SUMPRODUCT(--(E557=$O$1:$O$542))>0,E557=0),0,1)","v":0}]
["001.100.2410.6221.107.000.0000","FICA S/S",9703.31,null,"001"," ","001","100","2410","6221","107","107","107",null,null,null,null,null,null,null,null,null,null,null,null,null,{"$f":"IF(OR(SUMPRODUCT(--(E558=$O$1:$O$542))>0,E558=0),0,1)","v":0}]
["001.100.2410.6222.102.000.0000","FICA MED",1932.9,null,"001"," ","001","100","2410","6222","102","102","102",null,null,null,null,null,null,null,null,null,null,null,null,null,{"$f":"IF(OR(SUMPRODUCT(--(E559=$O$1:$O$542))>0,E559=0),0,1)","v":0}]
["001.100.2410.6222.103.000.0000","FICA MED",2027.6,null,"001"," ","001","100","2410","6222","103","103","103",null,null,null,null,null,null,null,null,null,null,null,null,null,{"$f":"IF(OR(SUMPRODUCT(--(E560=$O$1:$O$542))>0,E560=0),0,1)","v":0}]
["001.100.2410.6222.104.000.0000","FICA MED",3155.83,null,"001"," ","001","100","2410","6222","104","104","104",null,null,null,null,null,null,null,null,null,null,null,null,null,{"$f":"IF(OR(SUMPRODUCT(--(E561=$O$1:$O$542))>0,E561=0),0,1)","v":0}]
["001.100.2410.6222.105.000.0000","FICA MED",1310.23,null,"001"," ","001","100","2410","6222","105","105","105",null,null,null,null,null,null,null,null,null,null,null,null,null,{"$f":"IF(OR(SUMPRODUCT(--(E562=$O$1:$O$542))>0,E562=0),0,1)","v":0}]
["001.100.2410.6222.106.000.0000","FICA MED",1997.91,null,"001"," ","001","100","2410","6222","106","106","106",null,null,null,null,null,null,null,null,null,null,null,null,null,{"$f":"IF(OR(SUMPRODUCT(--(E563=$O$1:$O$542))>0,E563=0),0,1)","v":0}]
["001.100.2410.6222.107.000.0000","FICA MED",2269.41,null,"001"," ","001","100","2410","6222","107","107","107",null,null,null,null,null,null,null,null,null,null,null,null,null,{"$f":"IF(OR(SUMPRODUCT(--(E564=$O$1:$O$542))>0,E564=0),0,1)","v":0}]
["001.100.2410.6231.102.000.0000","STATE RETIREMENT",16049.91,null,"001"," ","001","100","2410","6231","102","102","102",null,null,null,null,null,null,null,null,null,null,null,null,null,{"$f":"IF(OR(SUMPRODUCT(--(E565=$O$1:$O$542))>0,E565=0),0,1)","v":0}]
["001.100.2410.6231.103.000.0000","STATE RETIREMENT",17179.86,null,"001"," ","001","100","2410","6231","103","103","103",null,null,null,null,null,null,null,null,null,null,null,null,null,{"$f":"IF(OR(SUMPRODUCT(--(E566=$O$1:$O$542))>0,E566=0),0,1)","v":0}]
["001.100.2410.6231.104.000.0000","STATE RETIREMENT",26231.68,null,"001"," ","001","100","2410","6231","104","104","104",null,null,null,null,null,null,null,null,null,null,null,null,null,{"$f":"IF(OR(SUMPRODUCT(--(E567=$O$1:$O$542))>0,E567=0),0,1)","v":0}]
["001.100.2410.6231.105.000.0000","STATE RETIREMENT",10947.97,null,"001"," ","001","100","2410","6231","105","105","105",null,null,null,null,null,null,null,null,null,null,null,null,null,{"$f":"IF(OR(SUMPRODUCT(--(E568=$O$1:$O$542))>0,E568=0),0,1)","v":0}]
["001.100.2410.6231.106.000.0000","STATE RETIREMENT",17011.82,null,"001"," ","001","100","2410","6231","106","106","106",null,null,null,null,null,null,null,null,null,null,null,null,null,{"$f":"IF(OR(SUMPRODUCT(--(E569=$O$1:$O$542))>0,E569=0),0,1)","v":0}]
["001.100.2410.6231.107.000.0000","STATE RETIREMENT",18962.14,null,"001"," ","001","100","2410","6231","107","107","107",null,null,null,null,null,null,null,null,null,null,null,null,null,{"$f":"IF(OR(SUMPRODUCT(--(E570=$O$1:$O$542))>0,E570=0),0,1)","v":0}]
["001.100.2410.6232.102.000.0000","RETIREMENT LTD",186.86,null,"001"," ","001","100","2410","6232","102","102","102",null,null,null,null,null,null,null,null,null,null,null,null,null,{"$f":"IF(OR(SUMPRODUCT(--(E571=$O$1:$O$542))>0,E571=0),0,1)","v":0}]
["001.100.2410.6232.103.000.0000","RETIREMENT LTD",199.89,null,"001"," ","001","100","2410","6232","103","103","103",null,null,null,null,null,null,null,null,null,null,null,null,null,{"$f":"IF(OR(SUMPRODUCT(--(E572=$O$1:$O$542))>0,E572=0),0,1)","v":0}]
["001.100.2410.6232.104.000.0000","RETIREMENT LTD",305.16000000000003,null,"001"," ","001","100","2410","6232","104","104","104",null,null,null,null,null,null,null,null,null,null,null,null,null,{"$f":"IF(OR(SUMPRODUCT(--(E573=$O$1:$O$542))>0,E573=0),0,1)","v":0}]
["001.100.2410.6232.105.000.0000","RETIREMENT LTD",127.44,null,"001"," ","001","100","2410","6232","105","105","105",null,null,null,null,null,null,null,null,null,null,null,null,null,{"$f":"IF(OR(SUMPRODUCT(--(E574=$O$1:$O$542))>0,E574=0),0,1)","v":0}]
["001.100.2410.6232.106.000.0000","RETIREMENT LTD",198.03,null,"001"," ","001","100","2410","6232","106","106","106",null,null,null,null,null,null,null,null,null,null,null,null,null,{"$f":"IF(OR(SUMPRODUCT(--(E575=$O$1:$O$542))>0,E575=0),0,1)","v":0}]
["001.100.2410.6232.107.000.0000","RETIREMENT LTD",220.71,null,"001"," ","001","100","2410","6232","107","107","107",null,null,null,null,null,null,null,null,null,null,null,null,null,{"$f":"IF(OR(SUMPRODUCT(--(E576=$O$1:$O$542))>0,E576=0),0,1)","v":0}]
["001.100.2410.6260.102.000.0000","WORK COMP",933.84,null,"001"," ","001","100","2410","6260","102","102","102",null,null,null,null,null,null,null,null,null,null,null,null,null,{"$f":"IF(OR(SUMPRODUCT(--(E577=$O$1:$O$542))>0,E577=0),0,1)","v":0}]
["001.100.2410.6260.103.000.0000","WORK COMP",998.12,null,"001"," ","001","100","2410","6260","103","103","103",null,null,null,null,null,null,null,null,null,null,null,null,null,{"$f":"IF(OR(SUMPRODUCT(--(E578=$O$1:$O$542))>0,E578=0),0,1)","v":0}]
["001.100.2410.6260.104.000.0000","WORK COMP",1525.36,null,"001"," ","001","100","2410","6260","104","104","104",null,null,null,null,null,null,null,null,null,null,null,null,null,{"$f":"IF(OR(SUMPRODUCT(--(E579=$O$1:$O$542))>0,E579=0),0,1)","v":0}]
["001.100.2410.6260.105.000.0000","WORK COMP",630.03,null,"001"," ","001","100","2410","6260","105","105","105",null,null,null,null,null,null,null,null,null,null,null,null,null,{"$f":"IF(OR(SUMPRODUCT(--(E580=$O$1:$O$542))>0,E580=0),0,1)","v":0}]
["001.100.2410.6260.106.000.0000","WORK COMP",988.98,null,"001"," ","001","100","2410","6260","106","106","106",null,null,null,null,null,null,null,null,null,null,null,null,null,{"$f":"IF(OR(SUMPRODUCT(--(E581=$O$1:$O$542))>0,E581=0),0,1)","v":0}]
["001.100.2410.6260.107.000.0000","WORK COMP",1100.8,null,"001"," ","001","100","2410","6260","107","107","107",null,null,null,null,null,null,null,null,null,null,null,null,null,{"$f":"IF(OR(SUMPRODUCT(--(E582=$O$1:$O$542))>0,E582=0),0,1)","v":0}]
["001.100.2410.6280.105.000.0000","UNUSED LEAVE",9898.61,null,"001"," ","001","100","2410","6280","105","105","105",null,null,null,null,null,null,null,null,null,null,null,null,null,{"$f":"IF(OR(SUMPRODUCT(--(E583=$O$1:$O$542))>0,E583=0),0,1)","v":0}]
["001.100.2410.6280.106.000.0000","UNUSED LEAVE",8400.35,null,"001"," ","001","100","2410","6280","106","106","106",null,null,null,null,null,null,null,null,null,null,null,null,null,{"$f":"IF(OR(SUMPRODUCT(--(E584=$O$1:$O$542))>0,E584=0),0,1)","v":0}]
["001.100.2410.6280.107.000.0000","UNUSED LEAVE",8867.2900000000009,null,"001"," ","001","100","2410","6280","107","107","107",null,null,null,null,null,null,null,null,null,null,null,null,null,{"$f":"IF(OR(SUMPRODUCT(--(E585=$O$1:$O$542))>0,E585=0),0,1)","v":0}]
["001.100.2410.6611.104.000.0000","SUPPLIES-OFFICE",23.45,null,"001"," ","001","100","2410","6611","104","104","104",null,null,null,null,null,null,null,null,null,null,null,null,null,{"$f":"IF(OR(SUMPRODUCT(--(E586=$O$1:$O$542))>0,E586=0),0,1)","v":0}]
["001.100.2410.6611.105.000.0000","SUPPLIES-OFFICE",312.14,null,"001"," ","001","100","2410","6611","105","105","105",null,null,null,null,null,null,null,null,null,null,null,null,null,{"$f":"IF(OR(SUMPRODUCT(--(E587=$O$1:$O$542))>0,E587=0),0,1)","v":0}]
["001.100.2410.6810.102.000.0000","DUES & FEES",405,null,"001"," ","001","100","2410","6810","102","102","102",null,null,null,null,null,null,null,null,null,null,null,null,null,{"$f":"IF(OR(SUMPRODUCT(--(E588=$O$1:$O$542))>0,E588=0),0,1)","v":0}]
["001.100.2410.6810.103.000.0000","DUES & FEES",445,null,"001"," ","001","100","2410","6810","103","103","103",null,null,null,null,null,null,null,null,null,null,null,null,null,{"$f":"IF(OR(SUMPRODUCT(--(E589=$O$1:$O$542))>0,E589=0),0,1)","v":0}]
["001.100.2410.6810.105.000.0000","DUES & FEES",185,null,"001"," ","001","100","2410","6810","105","105","105",null,null,null,null,null,null,null,null,null,null,null,null,null,{"$f":"IF(OR(SUMPRODUCT(--(E590=$O$1:$O$542))>0,E590=0),0,1)","v":0}]
["001.100.2410.6810.106.000.0000","DUES & FEES",699,null,"001"," ","001","100","2410","6810","106","106","106",null,null,null,null,null,null,null,null,null,null,null,null,null,{"$f":"IF(OR(SUMPRODUCT(--(E591=$O$1:$O$542))>0,E591=0),0,1)","v":0}]
["001.100.2410.6810.107.000.0000","DUES & FEES",654,null,"001"," ","001","100","2410","6810","107","107","107",null,null,null,null,null,null,null,null,null,null,null,null,null,{"$f":"IF(OR(SUMPRODUCT(--(E592=$O$1:$O$542))>0,E592=0),0,1)","v":0}]
["001.100.2500.6540.505.516.0000","Undesignated",155,null,"001"," ","001","100","2500","6540","505","105","105",null,null,null,null,null,null,null,null,null,null,null,null,null,{"$f":"IF(OR(SUMPRODUCT(--(E593=$O$1:$O$542))>0,E593=0),0,1)","v":0}]
["001.100.2510.6154.535.000.0000","OVERTIME",498.29,null,"001"," ","001","100","2510","6154","535","500","500",null,null,null,null,null,null,null,null,null,null,null,null,null,{"$f":"IF(OR(SUMPRODUCT(--(E594=$O$1:$O$542))>0,E594=0),0,1)","v":0}]
["001.100.2510.6162.535.000.0000","ACCOUNTING CLERK",165592.29,null,"001"," ","001","100","2510","6162","535","500","500",null,null,null,null,null,null,null,null,null,null,null,null,null,{"$f":"IF(OR(SUMPRODUCT(--(E595=$O$1:$O$542))>0,E595=0),0,1)","v":0}]
["001.100.2510.6210.535.000.0000","HEALTH INSURANCE",18342.46,null,"001"," ","001","100","2510","6210","535","500","500",null,null,null,null,null,null,null,null,null,null,null,null,null,{"$f":"IF(OR(SUMPRODUCT(--(E596=$O$1:$O$542))>0,E596=0),0,1)","v":0}]
["001.100.2510.6212.535.000.0000","LIFE INSURANCE",179.55,null,"001"," ","001","100","2510","6212","535","500","500",null,null,null,null,null,null,null,null,null,null,null,null,null,{"$f":"IF(OR(SUMPRODUCT(--(E597=$O$1:$O$542))>0,E597=0),0,1)","v":0}]
["001.100.2510.6221.535.000.0000","FICA SSI",10370.06,null,"001"," ","001","100","2510","6221","535","500","500",null,null,null,null,null,null,null,null,null,null,null,null,null,{"$f":"IF(OR(SUMPRODUCT(--(E598=$O$1:$O$542))>0,E598=0),0,1)","v":0}]
["001.100.2510.6222.535.000.0000","FICA MEDICARE",2425.3200000000002,null,"001"," ","001","100","2510","6222","535","500","500",null,null,null,null,null,null,null,null,null,null,null,null,null,{"$f":"IF(OR(SUMPRODUCT(--(E599=$O$1:$O$542))>0,E599=0),0,1)","v":0}]
["001.100.2510.6231.535.000.0000","STATE RETIREMENT",20175.97,null,"001"," ","001","100","2510","6231","535","500","500",null,null,null,null,null,null,null,null,null,null,null,null,null,{"$f":"IF(OR(SUMPRODUCT(--(E600=$O$1:$O$542))>0,E600=0),0,1)","v":0}]
["001.100.2510.6232.535.000.0000","L/T DISABILITY",234.93,null,"001"," ","001","100","2510","6232","535","500","500",null,null,null,null,null,null,null,null,null,null,null,null,null,{"$f":"IF(OR(SUMPRODUCT(--(E601=$O$1:$O$542))>0,E601=0),0,1)","v":0}]
["001.100.2510.6260.535.000.0000","WORKER'S COMPENSATION",1173,null,"001"," ","001","100","2510","6260","535","500","500",null,null,null,null,null,null,null,null,null,null,null,null,null,{"$f":"IF(OR(SUMPRODUCT(--(E602=$O$1:$O$542))>0,E602=0),0,1)","v":0}]
["001.100.2510.6280.535.000.0000","UNUSED LEAVE",1621.65,null,"001"," ","001","100","2510","6280","535","500","500",null,null,null,null,null,null,null,null,null,null,null,null,null,{"$f":"IF(OR(SUMPRODUCT(--(E603=$O$1:$O$542))>0,E603=0),0,1)","v":0}]
["001.100.2510.6300.535.000.0000","Undesignated",4200,null,"001"," ","001","100","2510","6300","535","500","500",null,null,null,null,null,null,null,null,null,null,null,null,null,{"$f":"IF(OR(SUMPRODUCT(--(E604=$O$1:$O$542))>0,E604=0),0,1)","v":0}]
["001.100.2510.6330.535.000.0000","PROF SERVICE-FINANCE",2610,null,"001"," ","001","100","2510","6330","535","500","500",null,null,null,null,null,null,null,null,null,null,null,null,null,{"$f":"IF(OR(SUMPRODUCT(--(E605=$O$1:$O$542))>0,E605=0),0,1)","v":0}]
["001.100.2510.6390.535.000.0000","MISC PROF SVS",288,null,"001"," ","001","100","2510","6390","535","500","500",null,null,null,null,null,null,null,null,null,null,null,null,null,{"$f":"IF(OR(SUMPRODUCT(--(E606=$O$1:$O$542))>0,E606=0),0,1)","v":0}]
["001.100.2510.6580.535.000.0000","TRAVEL- FINANCE",36.31,null,"001"," ","001","100","2510","6580","535","500","500",null,null,null,null,null,null,null,null,null,null,null,null,null,{"$f":"IF(OR(SUMPRODUCT(--(E607=$O$1:$O$542))>0,E607=0),0,1)","v":0}]
["001.100.2510.6582.535.000.0000","MILEAGE",103.87,null,"001"," ","001","100","2510","6582","535","500","500",null,null,null,null,null,null,null,null,null,null,null,null,null,{"$f":"IF(OR(SUMPRODUCT(--(E608=$O$1:$O$542))>0,E608=0),0,1)","v":0}]
["001.100.2510.6611.500.000.0000","SUPPLIES - DISTRICT WIDE",32765.3,null,"001"," ","001","100","2510","6611","500","500","500",null,null,null,null,null,null,null,null,null,null,null,null,null,{"$f":"IF(OR(SUMPRODUCT(--(E609=$O$1:$O$542))>0,E609=0),0,1)","v":0}]
["001.100.2510.6611.535.000.0000","SUPPLIES",450.71,null,"001"," ","001","100","2510","6611","535","500","500",null,null,null,null,null,null,null,null,null,null,null,null,null,{"$f":"IF(OR(SUMPRODUCT(--(E610=$O$1:$O$542))>0,E610=0),0,1)","v":0}]
["001.100.2510.6810.535.000.0000","DUES/FEES",8641.67,null,"001"," ","001","100","2510","6810","535","500","500",null,null,null,null,null,null,null,null,null,null,null,null,null,{"$f":"IF(OR(SUMPRODUCT(--(E611=$O$1:$O$542))>0,E611=0),0,1)","v":0}]
["001.100.2510.6890.535.000.0000","MISC EXPENDITURE",355.8,null,"001"," ","001","100","2510","6890","535","500","500",null,null,null,null,null,null,null,null,null,null,null,null,null,{"$f":"IF(OR(SUMPRODUCT(--(E612=$O$1:$O$542))>0,E612=0),0,1)","v":0}]
["001.100.2530.6150.525.000.0000","CLASSIFIED EXEMPT",43898.21,null,"001"," ","001","100","2530","6150","525","500","500",null,null,null,null,null,null,null,null,null,null,null,null,null,{"$f":"IF(OR(SUMPRODUCT(--(E613=$O$1:$O$542))>0,E613=0),0,1)","v":0}]
["001.100.2530.6151.525.000.0000","CLASS ADMINISTRATOR",59957.99,null,"001"," ","001","100","2530","6151","525","500","500",null,null,null,null,null,null,null,null,null,null,null,null,null,{"$f":"IF(OR(SUMPRODUCT(--(E614=$O$1:$O$542))>0,E614=0),0,1)","v":0}]
["001.100.2530.6151.530.000.0000","CLASS ADMINISTRATOR",110159,null,"001"," ","001","100","2530","6151","530","500","500",null,null,null,null,null,null,null,null,null,null,null,null,null,{"$f":"IF(OR(SUMPRODUCT(--(E615=$O$1:$O$542))>0,E615=0),0,1)","v":0}]
["001.100.2530.6151.535.000.0000","CLASS ADMINISTRATOR",115557.24,null,"001"," ","001","100","2530","6151","535","500","500",null,null,null,null,null,null,null,null,null,null,null,null,null,{"$f":"IF(OR(SUMPRODUCT(--(E616=$O$1:$O$542))>0,E616=0),0,1)","v":0}]
["001.100.2530.6210.525.000.0000","GROUP INSURANCE",8902.44,null,"001"," ","001","100","2530","6210","525","500","500",null,null,null,null,null,null,null,null,null,null,null,null,null,{"$f":"IF(OR(SUMPRODUCT(--(E617=$O$1:$O$542))>0,E617=0),0,1)","v":0}]
["001.100.2530.6210.530.000.0000","GROUP INSURANCE",6072,null,"001"," ","001","100","2530","6210","530","500","500",null,null,null,null,null,null,null,null,null,null,null,null,null,{"$f":"IF(OR(SUMPRODUCT(--(E618=$O$1:$O$542))>0,E618=0),0,1)","v":0}]
["001.100.2530.6210.535.000.0000","GROUP INSURANCE",5367.6,null,"001"," ","001","100","2530","6210","535","500","500",null,null,null,null,null,null,null,null,null,null,null,null,null,{"$f":"IF(OR(SUMPRODUCT(--(E619=$O$1:$O$542))>0,E619=0),0,1)","v":0}]
["001.100.2530.6212.525.000.0000","LIFE INSURANCE",108.48,null,"001"," ","001","100","2530","6212","525","500","500",null,null,null,null,null,null,null,null,null,null,null,null,null,{"$f":"IF(OR(SUMPRODUCT(--(E620=$O$1:$O$542))>0,E620=0),0,1)","v":0}]
["001.100.2530.6212.530.000.0000","LIFE INSURANCE",67.8,null,"001"," ","001","100","2530","6212","530","500","500",null,null,null,null,null,null,null,null,null,null,null,null,null,{"$f":"IF(OR(SUMPRODUCT(--(E621=$O$1:$O$542))>0,E621=0),0,1)","v":0}]
["001.100.2530.6212.535.000.0000","LIFE INSURANCE",61.08,null,"001"," ","001","100","2530","6212","535","500","500",null,null,null,null,null,null,null,null,null,null,null,null,null,{"$f":"IF(OR(SUMPRODUCT(--(E622=$O$1:$O$542))>0,E622=0),0,1)","v":0}]
["001.100.2530.6221.525.000.0000","SOCIAL SECURITY-FICA",6301.51,null,"001"," ","001","100","2530","6221","525","500","500",null,null,null,null,null,null,null,null,null,null,null,null,null,{"$f":"IF(OR(SUMPRODUCT(--(E623=$O$1:$O$542))>0,E623=0),0,1)","v":0}]
["001.100.2530.6221.530.000.0000","SOCIAL SECURITY-FICA",6822.5,null,"001"," ","001","100","2530","6221","530","500","500",null,null,null,null,null,null,null,null,null,null,null,null,null,{"$f":"IF(OR(SUMPRODUCT(--(E624=$O$1:$O$542))>0,E624=0),0,1)","v":0}]
["001.100.2530.6221.535.000.0000","SOCIAL SECURITY-FICA",6334.89,null,"001"," ","001","100","2530","6221","535","500","500",null,null,null,null,null,null,null,null,null,null,null,null,null,{"$f":"IF(OR(SUMPRODUCT(--(E625=$O$1:$O$542))>0,E625=0),0,1)","v":0}]
["001.100.2530.6222.525.000.0000","FICA MEDICARE",1473.74,null,"001"," ","001","100","2530","6222","525","500","500",null,null,null,null,null,null,null,null,null,null,null,null,null,{"$f":"IF(OR(SUMPRODUCT(--(E626=$O$1:$O$542))>0,E626=0),0,1)","v":0}]
["001.100.2530.6222.530.000.0000","FICA MEDICARE",1595.51,null,"001"," ","001","100","2530","6222","530","500","500",null,null,null,null,null,null,null,null,null,null,null,null,null,{"$f":"IF(OR(SUMPRODUCT(--(E627=$O$1:$O$542))>0,E627=0),0,1)","v":0}]
["001.100.2530.6222.535.000.0000","FICA MEDICARE",1481.51,null,"001"," ","001","100","2530","6222","535","500","500",null,null,null,null,null,null,null,null,null,null,null,null,null,{"$f":"IF(OR(SUMPRODUCT(--(E628=$O$1:$O$542))>0,E628=0),0,1)","v":0}]
["001.100.2530.6231.525.000.0000","STATE RETIREMENT",12493.88,null,"001"," ","001","100","2530","6231","525","500","500",null,null,null,null,null,null,null,null,null,null,null,null,null,{"$f":"IF(OR(SUMPRODUCT(--(E629=$O$1:$O$542))>0,E629=0),0,1)","v":0}]
["001.100.2530.6231.530.000.0000","STATE RETIREMENT",13252.08,null,"001"," ","001","100","2530","6231","530","500","500",null,null,null,null,null,null,null,null,null,null,null,null,null,{"$f":"IF(OR(SUMPRODUCT(--(E630=$O$1:$O$542))>0,E630=0),0,1)","v":0}]
["001.100.2530.6231.535.000.0000","STATE RETIREMENT",13901.74,null,"001"," ","001","100","2530","6231","535","500","500",null,null,null,null,null,null,null,null,null,null,null,null,null,{"$f":"IF(OR(SUMPRODUCT(--(E631=$O$1:$O$542))>0,E631=0),0,1)","v":0}]
["001.100.2530.6232.525.000.0000","L-T DISABILITY",145.38,null,"001"," ","001","100","2530","6232","525","500","500",null,null,null,null,null,null,null,null,null,null,null,null,null,{"$f":"IF(OR(SUMPRODUCT(--(E632=$O$1:$O$542))>0,E632=0),0,1)","v":0}]
["001.100.2530.6232.530.000.0000","L-T DISABILITY",154.13999999999999,null,"001"," ","001","100","2530","6232","530","500","500",null,null,null,null,null,null,null,null,null,null,null,null,null,{"$f":"IF(OR(SUMPRODUCT(--(E633=$O$1:$O$542))>0,E633=0),0,1)","v":0}]
["001.100.2530.6232.535.000.0000","L-T DISABILITY",161.63999999999999,null,"001"," ","001","100","2530","6232","535","500","500",null,null,null,null,null,null,null,null,null,null,null,null,null,{"$f":"IF(OR(SUMPRODUCT(--(E634=$O$1:$O$542))>0,E634=0),0,1)","v":0}]
["001.100.2530.6260.525.000.0000","WORKERS' COMPENSATION",722.6,null,"001"," ","001","100","2530","6260","525","500","500",null,null,null,null,null,null,null,null,null,null,null,null,null,{"$f":"IF(OR(SUMPRODUCT(--(E635=$O$1:$O$542))>0,E635=0),0,1)","v":0}]
["001.100.2530.6260.530.000.0000","WORKERS' COMPENSATION",771.18,null,"001"," ","001","100","2530","6260","530","500","500",null,null,null,null,null,null,null,null,null,null,null,null,null,{"$f":"IF(OR(SUMPRODUCT(--(E636=$O$1:$O$542))>0,E636=0),0,1)","v":0}]
["001.100.2530.6260.535.000.0000","WORKERS' COMPENSATION",808.96,null,"001"," ","001","100","2530","6260","535","500","500",null,null,null,null,null,null,null,null,null,null,null,null,null,{"$f":"IF(OR(SUMPRODUCT(--(E637=$O$1:$O$542))>0,E637=0),0,1)","v":0}]
["001.100.2540.6550.525.000.0000","PRINTING AND BINDING",57.22,null,"001"," ","001","100","2540","6550","525","500","500",null,null,null,null,null,null,null,null,null,null,null,null,null,{"$f":"IF(OR(SUMPRODUCT(--(E638=$O$1:$O$542))>0,E638=0),0,1)","v":0}]
["001.100.2540.6550.535.000.0000","Undesignated",8510.2900000000009,null,"001"," ","001","100","2540","6550","535","500","500",null,null,null,null,null,null,null,null,null,null,null,null,null,{"$f":"IF(OR(SUMPRODUCT(--(E639=$O$1:$O$542))>0,E639=0),0,1)","v":0}]
["001.100.2560.6162.515.000.0000","CLERK",65882,null,"001"," ","001","100","2560","6162","515","500","500",null,null,null,null,null,null,null,null,null,null,null,null,null,{"$f":"IF(OR(SUMPRODUCT(--(E640=$O$1:$O$542))>0,E640=0),0,1)","v":0}]
["001.100.2560.6210.515.000.0000","GROUP INSURANCE",5901.94,null,"001"," ","001","100","2560","6210","515","500","500",null,null,null,null,null,null,null,null,null,null,null,null,null,{"$f":"IF(OR(SUMPRODUCT(--(E641=$O$1:$O$542))>0,E641=0),0,1)","v":0}]
["001.100.2560.6212.515.000.0000","LIFE INSURANCE",67.8,null,"001"," ","001","100","2560","6212","515","500","500",null,null,null,null,null,null,null,null,null,null,null,null,null,{"$f":"IF(OR(SUMPRODUCT(--(E642=$O$1:$O$542))>0,E642=0),0,1)","v":0}]
["001.100.2560.6221.515.000.0000","SOCIAL SECURITY-FICA",3732.49,null,"001"," ","001","100","2560","6221","515","500","500",null,null,null,null,null,null,null,null,null,null,null,null,null,{"$f":"IF(OR(SUMPRODUCT(--(E643=$O$1:$O$542))>0,E643=0),0,1)","v":0}]
["001.100.2560.6222.515.000.0000","FICA MEDICARE",872.87,null,"001"," ","001","100","2560","6222","515","500","500",null,null,null,null,null,null,null,null,null,null,null,null,null,{"$f":"IF(OR(SUMPRODUCT(--(E644=$O$1:$O$542))>0,E644=0),0,1)","v":0}]
["001.100.2560.6231.515.000.0000","STATE RETIREMENT",7925.54,null,"001"," ","001","100","2560","6231","515","500","500",null,null,null,null,null,null,null,null,null,null,null,null,null,{"$f":"IF(OR(SUMPRODUCT(--(E645=$O$1:$O$542))>0,E645=0),0,1)","v":0}]
["001.100.2560.6232.515.000.0000","L-T DISABILITY",92.27,null,"001"," ","001","100","2560","6232","515","500","500",null,null,null,null,null,null,null,null,null,null,null,null,null,{"$f":"IF(OR(SUMPRODUCT(--(E646=$O$1:$O$542))>0,E646=0),0,1)","v":0}]
["001.100.2560.6260.515.000.0000","WORKERS' COMPENSATION",461.15,null,"001"," ","001","100","2560","6260","515","500","500",null,null,null,null,null,null,null,null,null,null,null,null,null,{"$f":"IF(OR(SUMPRODUCT(--(E647=$O$1:$O$542))>0,E647=0),0,1)","v":0}]
["001.100.2560.6532.500.000.0000","POSTAGE, METER & DELIVERY SVS",2015,null,"001"," ","001","100","2560","6532","500","500","500",null,null,null,null,null,null,null,null,null,null,null,null,null,{"$f":"IF(OR(SUMPRODUCT(--(E648=$O$1:$O$542))>0,E648=0),0,1)","v":0}]
["001.100.2560.6532.515.000.0000","COMMUNICATIONS",4807.62,null,"001"," ","001","100","2560","6532","515","500","500",null,null,null,null,null,null,null,null,null,null,null,null,null,{"$f":"IF(OR(SUMPRODUCT(--(E649=$O$1:$O$542))>0,E649=0),0,1)","v":0}]
["001.100.2560.6532.535.000.0000","Undesignated",1971.53,null,"001"," ","001","100","2560","6532","535","500","500",null,null,null,null,null,null,null,null,null,null,null,null,null,{"$f":"IF(OR(SUMPRODUCT(--(E650=$O$1:$O$542))>0,E650=0),0,1)","v":0}]
["001.100.2560.6540.515.000.0000","ADVERTISING",1664.85,null,"001"," ","001","100","2560","6540","515","500","500",null,null,null,null,null,null,null,null,null,null,null,null,null,{"$f":"IF(OR(SUMPRODUCT(--(E651=$O$1:$O$542))>0,E651=0),0,1)","v":0}]
["001.100.2560.6611.500.000.0000","Undesignated",576.83000000000004,null,"001"," ","001","100","2560","6611","500","500","500",null,null,null,null,null,null,null,null,null,null,null,null,null,{"$f":"IF(OR(SUMPRODUCT(--(E652=$O$1:$O$542))>0,E652=0),0,1)","v":0}]
["001.100.2560.6611.525.000.0000","Undesignated",580.22,null,"001"," ","001","100","2560","6611","525","500","500",null,null,null,null,null,null,null,null,null,null,null,null,null,{"$f":"IF(OR(SUMPRODUCT(--(E653=$O$1:$O$542))>0,E653=0),0,1)","v":0}]
["001.100.2570.6152.525.000.0000","CLASSIFIED",17828.02,null,"001"," ","001","100","2570","6152","525","500","500",null,null,null,null,null,null,null,null,null,null,null,null,null,{"$f":"IF(OR(SUMPRODUCT(--(E654=$O$1:$O$542))>0,E654=0),0,1)","v":0}]
["001.100.2570.6221.525.000.0000","SOCIAL SECURITY-FICA",1105.3399999999999,null,"001"," ","001","100","2570","6221","525","500","500",null,null,null,null,null,null,null,null,null,null,null,null,null,{"$f":"IF(OR(SUMPRODUCT(--(E655=$O$1:$O$542))>0,E655=0),0,1)","v":0}]
["001.100.2570.6221.570.000.0000","SOCIAL SECURITY-FICA",46.89,null,"001"," ","001","100","2570","6221","570","500","500",null,null,null,null,null,null,null,null,null,null,null,null,null,{"$f":"IF(OR(SUMPRODUCT(--(E656=$O$1:$O$542))>0,E656=0),0,1)","v":0}]
["001.100.2570.6222.525.000.0000","FICA MEDICARE",258.49,null,"001"," ","001","100","2570","6222","525","500","500",null,null,null,null,null,null,null,null,null,null,null,null,null,{"$f":"IF(OR(SUMPRODUCT(--(E657=$O$1:$O$542))>0,E657=0),0,1)","v":0}]
["001.100.2570.6222.570.000.0000","FICA MEDICARE",10.97,null,"001"," ","001","100","2570","6222","570","500","500",null,null,null,null,null,null,null,null,null,null,null,null,null,{"$f":"IF(OR(SUMPRODUCT(--(E658=$O$1:$O$542))>0,E658=0),0,1)","v":0}]
["001.100.2570.6231.525.000.0000","STATE RETIREMENT",2144.7199999999998,null,"001"," ","001","100","2570","6231","525","500","500",null,null,null,null,null,null,null,null,null,null,null,null,null,{"$f":"IF(OR(SUMPRODUCT(--(E659=$O$1:$O$542))>0,E659=0),0,1)","v":0}]
["001.100.2570.6231.570.000.0000","STATE RETIREMENT",73.209999999999994,null,"001"," ","001","100","2570","6231","570","500","500",null,null,null,null,null,null,null,null,null,null,null,null,null,{"$f":"IF(OR(SUMPRODUCT(--(E660=$O$1:$O$542))>0,E660=0),0,1)","v":0}]
["001.100.2570.6232.525.000.0000","L-T DISABILITY",24.97,null,"001"," ","001","100","2570","6232","525","500","500",null,null,null,null,null,null,null,null,null,null,null,null,null,{"$f":"IF(OR(SUMPRODUCT(--(E661=$O$1:$O$542))>0,E661=0),0,1)","v":0}]
["001.100.2570.6260.525.000.0000","WORKERS' COMPENSATION",124.79,null,"001"," ","001","100","2570","6260","525","500","500",null,null,null,null,null,null,null,null,null,null,null,null,null,{"$f":"IF(OR(SUMPRODUCT(--(E662=$O$1:$O$542))>0,E662=0),0,1)","v":0}]
["001.100.2570.6260.570.000.0000","WORKERS' COMPENSATION",5.29,null,"001"," ","001","100","2570","6260","570","500","500",null,null,null,null,null,null,null,null,null,null,null,null,null,{"$f":"IF(OR(SUMPRODUCT(--(E663=$O$1:$O$542))>0,E663=0),0,1)","v":0}]
["001.100.2570.6280.570.000.0000","UNUSED LEAVE",756.28,null,"001"," ","001","100","2570","6280","570","500","500",null,null,null,null,null,null,null,null,null,null,null,null,null,{"$f":"IF(OR(SUMPRODUCT(--(E664=$O$1:$O$542))>0,E664=0),0,1)","v":0}]
["001.100.2570.6300.525.000.0000","Undesignated",340,null,"001"," ","001","100","2570","6300","525","500","500",null,null,null,null,null,null,null,null,null,null,null,null,null,{"$f":"IF(OR(SUMPRODUCT(--(E665=$O$1:$O$542))>0,E665=0),0,1)","v":0}]
["001.100.2570.6330.515.000.0000","Undesignated",2100,null,"001"," ","001","100","2570","6330","515","500","500",null,null,null,null,null,null,null,null,null,null,null,null,null,{"$f":"IF(OR(SUMPRODUCT(--(E666=$O$1:$O$542))>0,E666=0),0,1)","v":0}]
["001.100.2570.6340.530.000.0000","TECHNICAL SERVICES",4500,null,"001"," ","001","100","2570","6340","530","500","500",null,null,null,null,null,null,null,null,null,null,null,null,null,{"$f":"IF(OR(SUMPRODUCT(--(E667=$O$1:$O$542))>0,E667=0),0,1)","v":0}]
["001.100.2570.6360.103.000.0000","Undesignated",724,null,"001"," ","001","100","2570","6360","103","103","103",null,null,null,null,null,null,null,null,null,null,null,null,null,{"$f":"IF(OR(SUMPRODUCT(--(E668=$O$1:$O$542))>0,E668=0),0,1)","v":0}]
["001.100.2570.6360.104.000.0000","PROFESSIONAL DEVELOPMENT",370,null,"001"," ","001","100","2570","6360","104","104","104",null,null,null,null,null,null,null,null,null,null,null,null,null,{"$f":"IF(OR(SUMPRODUCT(--(E669=$O$1:$O$542))>0,E669=0),0,1)","v":0}]
["001.100.2570.6360.106.000.0000","EMPLOYEE TRAINING",385,null,"001"," ","001","100","2570","6360","106","106","106",null,null,null,null,null,null,null,null,null,null,null,null,null,{"$f":"IF(OR(SUMPRODUCT(--(E670=$O$1:$O$542))>0,E670=0),0,1)","v":0}]
["001.100.2570.6360.515.000.0000","PROF DEVELOPMENT",2593,null,"001"," ","001","100","2570","6360","515","500","500",null,null,null,null,null,null,null,null,null,null,null,null,null,{"$f":"IF(OR(SUMPRODUCT(--(E671=$O$1:$O$542))>0,E671=0),0,1)","v":0}]
["001.100.2570.6360.521.000.0000","EMPLOYEE TRAINING & PROF DEV",1200,null,"001"," ","001","100","2570","6360","521","500","500",null,null,null,null,null,null,null,null,null,null,null,null,null,{"$f":"IF(OR(SUMPRODUCT(--(E672=$O$1:$O$542))>0,E672=0),0,1)","v":0}]
["001.100.2570.6360.522.000.0000","EMPLOYEE TRAINING",470,null,"001"," ","001","100","2570","6360","522","500","500",null,null,null,null,null,null,null,null,null,null,null,null,null,{"$f":"IF(OR(SUMPRODUCT(--(E673=$O$1:$O$542))>0,E673=0),0,1)","v":0}]
["001.100.2570.6360.525.000.0000","EMPLOYEE TRAINING & PROF DEV",8009.5,null,"001"," ","001","100","2570","6360","525","500","500",null,null,null,null,null,null,null,null,null,null,null,null,null,{"$f":"IF(OR(SUMPRODUCT(--(E674=$O$1:$O$542))>0,E674=0),0,1)","v":0}]
["001.100.2570.6360.530.000.0000","EMPLOYEE TRAINING & PROF DEV",145,null,"001"," ","001","100","2570","6360","530","500","500",null,null,null,null,null,null,null,null,null,null,null,null,null,{"$f":"IF(OR(SUMPRODUCT(--(E675=$O$1:$O$542))>0,E675=0),0,1)","v":0}]
["001.100.2570.6360.535.000.0000","Undesignated",1485,null,"001"," ","001","100","2570","6360","535","500","500",null,null,null,null,null,null,null,null,null,null,null,null,null,{"$f":"IF(OR(SUMPRODUCT(--(E676=$O$1:$O$542))>0,E676=0),0,1)","v":0}]
["001.100.2570.6390.522.000.0000","MISC. PROFESSIONAL EXP",4603,null,"001"," ","001","100","2570","6390","522","500","500",null,null,null,null,null,null,null,null,null,null,null,null,null,{"$f":"IF(OR(SUMPRODUCT(--(E677=$O$1:$O$542))>0,E677=0),0,1)","v":0}]
["001.100.2570.6390.525.000.0000","MISC. PROFESSIONAL EXP",4048,null,"001"," ","001","100","2570","6390","525","500","500",null,null,null,null,null,null,null,null,null,null,null,null,null,{"$f":"IF(OR(SUMPRODUCT(--(E678=$O$1:$O$542))>0,E678=0),0,1)","v":0}]
["001.100.2570.6540.525.000.0000","ADVERTISING",1680.81,null,"001"," ","001","100","2570","6540","525","500","500",null,null,null,null,null,null,null,null,null,null,null,null,null,{"$f":"IF(OR(SUMPRODUCT(--(E679=$O$1:$O$542))>0,E679=0),0,1)","v":0}]
["001.100.2570.6580.521.000.0000","TRAVEL",1656.42,null,"001"," ","001","100","2570","6580","521","500","500",null,null,null,null,null,null,null,null,null,null,null,null,null,{"$f":"IF(OR(SUMPRODUCT(--(E680=$O$1:$O$542))>0,E680=0),0,1)","v":0}]
["001.100.2570.6580.525.000.0000","TRAVEL",858,null,"001"," ","001","100","2570","6580","525","500","500",null,null,null,null,null,null,null,null,null,null,null,null,null,{"$f":"IF(OR(SUMPRODUCT(--(E681=$O$1:$O$542))>0,E681=0),0,1)","v":0}]
["001.100.2570.6580.535.000.0000","TRAVEL",884.8,null,"001"," ","001","100","2570","6580","535","500","500",null,null,null,null,null,null,null,null,null,null,null,null,null,{"$f":"IF(OR(SUMPRODUCT(--(E682=$O$1:$O$542))>0,E682=0),0,1)","v":0}]
["001.100.2570.6611.501.000.0000","SUPPLIES",424.14,null,"001"," ","001","100","2570","6611","501","500","500",null,null,null,null,null,null,null,null,null,null,null,null,null,{"$f":"IF(OR(SUMPRODUCT(--(E683=$O$1:$O$542))>0,E683=0),0,1)","v":0}]
["001.100.2570.6611.502.521.0000","Undesignated",2047.85,null,"001"," ","001","100","2570","6611","502","102","102",null,null,null,null,null,null,null,null,null,null,null,null,null,{"$f":"IF(OR(SUMPRODUCT(--(E684=$O$1:$O$542))>0,E684=0),0,1)","v":0}]
["001.100.2570.6611.503.521.0000","Undesignated",3086.33,null,"001"," ","001","100","2570","6611","503","103","103",null,null,null,null,null,null,null,null,null,null,null,null,null,{"$f":"IF(OR(SUMPRODUCT(--(E685=$O$1:$O$542))>0,E685=0),0,1)","v":0}]
["001.100.2570.6611.504.521.0000","Undesignated",21299.37,null,"001"," ","001","100","2570","6611","504","104","104",null,null,null,null,null,null,null,null,null,null,null,null,null,{"$f":"IF(OR(SUMPRODUCT(--(E686=$O$1:$O$542))>0,E686=0),0,1)","v":0}]
["001.100.2570.6611.505.000.0000","SUPPLIES",22.14,null,"001"," ","001","100","2570","6611","505","105","105",null,null,null,null,null,null,null,null,null,null,null,null,null,{"$f":"IF(OR(SUMPRODUCT(--(E687=$O$1:$O$542))>0,E687=0),0,1)","v":0}]
["001.100.2570.6611.505.521.0000","Undesignated",2463.48,null,"001"," ","001","100","2570","6611","505","105","105",null,null,null,null,null,null,null,null,null,null,null,null,null,{"$f":"IF(OR(SUMPRODUCT(--(E688=$O$1:$O$542))>0,E688=0),0,1)","v":0}]
["001.100.2570.6611.506.521.0000","Undesignated",652.14,null,"001"," ","001","100","2570","6611","506","106","106",null,null,null,null,null,null,null,null,null,null,null,null,null,{"$f":"IF(OR(SUMPRODUCT(--(E689=$O$1:$O$542))>0,E689=0),0,1)","v":0}]
["001.100.2570.6611.507.521.0000","Undesignated",5368.54,null,"001"," ","001","100","2570","6611","507","107","107",null,null,null,null,null,null,null,null,null,null,null,null,null,{"$f":"IF(OR(SUMPRODUCT(--(E690=$O$1:$O$542))>0,E690=0),0,1)","v":0}]
["001.100.2570.6611.521.000.0000","SUPPLIES",1086.95,null,"001"," ","001","100","2570","6611","521","500","500",null,null,null,null,null,null,null,null,null,null,null,null,null,{"$f":"IF(OR(SUMPRODUCT(--(E691=$O$1:$O$542))>0,E691=0),0,1)","v":0}]
["001.100.2570.6611.525.000.0000","SUPPLIES",1395.77,null,"001"," ","001","100","2570","6611","525","500","500",null,null,null,null,null,null,null,null,null,null,null,null,null,{"$f":"IF(OR(SUMPRODUCT(--(E692=$O$1:$O$542))>0,E692=0),0,1)","v":0}]
["001.100.2570.6810.525.000.0000","DUES & FEES",3986,null,"001"," ","001","100","2570","6810","525","500","500",null,null,null,null,null,null,null,null,null,null,null,null,null,{"$f":"IF(OR(SUMPRODUCT(--(E693=$O$1:$O$542))>0,E693=0),0,1)","v":0}]
["001.100.2570.6890.525.000.0000","MISCELLANEOUS EXPENDITURE",8202.84,null,"001"," ","001","100","2570","6890","525","500","500",null,null,null,null,null,null,null,null,null,null,null,null,null,{"$f":"IF(OR(SUMPRODUCT(--(E694=$O$1:$O$542))>0,E694=0),0,1)","v":0}]
["001.100.2580.6150.530.000.0000","CLASSIFIED EXEMPT",33012.9,null,"001"," ","001","100","2580","6150","530","500","500",null,null,null,null,null,null,null,null,null,null,null,null,null,{"$f":"IF(OR(SUMPRODUCT(--(E695=$O$1:$O$542))>0,E695=0),0,1)","v":0}]
["001.100.2580.6150.535.000.0000","CLASSIFIED EXEMPT",-1693.77,null,"001"," ","001","100","2580","6150","535","500","500",null,null,null,null,null,null,null,null,null,null,null,null,null,{"$f":"IF(OR(SUMPRODUCT(--(E696=$O$1:$O$542))>0,E696=0),0,1)","v":0}]
["001.100.2580.6154.535.000.0000","CLASS OVERTIME",1693.77,null,"001"," ","001","100","2580","6154","535","500","500",null,null,null,null,null,null,null,null,null,null,null,null,null,{"$f":"IF(OR(SUMPRODUCT(--(E697=$O$1:$O$542))>0,E697=0),0,1)","v":0}]
["001.100.2580.6210.530.000.0000","GROUP INSURANCE",3542,null,"001"," ","001","100","2580","6210","530","500","500",null,null,null,null,null,null,null,null,null,null,null,null,null,{"$f":"IF(OR(SUMPRODUCT(--(E698=$O$1:$O$542))>0,E698=0),0,1)","v":0}]
["001.100.2580.6212.530.000.0000","LIFE INSURANCE",39.549999999999997,null,"001"," ","001","100","2580","6212","530","500","500",null,null,null,null,null,null,null,null,null,null,null,null,null,{"$f":"IF(OR(SUMPRODUCT(--(E699=$O$1:$O$542))>0,E699=0),0,1)","v":0}]
["001.100.2580.6221.530.000.0000","SOCIAL SECURITY-FICA",2098.6,null,"001"," ","001","100","2580","6221","530","500","500",null,null,null,null,null,null,null,null,null,null,null,null,null,{"$f":"IF(OR(SUMPRODUCT(--(E700=$O$1:$O$542))>0,E700=0),0,1)","v":0}]
["001.100.2580.6222.530.000.0000","FICA MEDICARE",490.85,null,"001"," ","001","100","2580","6222","530","500","500",null,null,null,null,null,null,null,null,null,null,null,null,null,{"$f":"IF(OR(SUMPRODUCT(--(E701=$O$1:$O$542))>0,E701=0),0,1)","v":0}]
["001.100.2580.6231.530.000.0000","STATE RETIREMENT",4112.59,null,"001"," ","001","100","2580","6231","530","500","500",null,null,null,null,null,null,null,null,null,null,null,null,null,{"$f":"IF(OR(SUMPRODUCT(--(E702=$O$1:$O$542))>0,E702=0),0,1)","v":0}]
["001.100.2580.6232.530.000.0000","L-T DISABILITY",47.88,null,"001"," ","001","100","2580","6232","530","500","500",null,null,null,null,null,null,null,null,null,null,null,null,null,{"$f":"IF(OR(SUMPRODUCT(--(E703=$O$1:$O$542))>0,E703=0),0,1)","v":0}]
["001.100.2580.6260.530.000.0000","WORKERS' COMPENSATION",239.32,null,"001"," ","001","100","2580","6260","530","500","500",null,null,null,null,null,null,null,null,null,null,null,null,null,{"$f":"IF(OR(SUMPRODUCT(--(E704=$O$1:$O$542))>0,E704=0),0,1)","v":0}]
["001.100.2580.6280.530.000.0000","UNUSED LEAVE",1173.18,null,"001"," ","001","100","2580","6280","530","500","500",null,null,null,null,null,null,null,null,null,null,null,null,null,{"$f":"IF(OR(SUMPRODUCT(--(E705=$O$1:$O$542))>0,E705=0),0,1)","v":0}]
["001.100.2580.6300.535.000.0000","Undesignated",-11250,null,"001"," ","001","100","2580","6300","535","500","500",null,null,null,null,null,null,null,null,null,null,null,null,null,{"$f":"IF(OR(SUMPRODUCT(--(E706=$O$1:$O$542))>0,E706=0),0,1)","v":0}]
["001.100.2580.6432.530.000.0000","TECH RELATED REPAIRS & MAINT",51941.120000000003,null,"001"," ","001","100","2580","6432","530","500","500",null,null,null,null,null,null,null,null,null,null,null,null,null,{"$f":"IF(OR(SUMPRODUCT(--(E707=$O$1:$O$542))>0,E707=0),0,1)","v":0}]
["001.100.2580.6432.535.000.0000","TECH RELATED REPAIRS & MAINT",6472.96,null,"001"," ","001","100","2580","6432","535","500","500",null,null,null,null,null,null,null,null,null,null,null,null,null,{"$f":"IF(OR(SUMPRODUCT(--(E708=$O$1:$O$542))>0,E708=0),0,1)","v":0}]
["001.100.2580.6590.530.000.0000","MISC PUR SVS",79.03,null,"001"," ","001","100","2580","6590","530","500","500",null,null,null,null,null,null,null,null,null,null,null,null,null,{"$f":"IF(OR(SUMPRODUCT(--(E709=$O$1:$O$542))>0,E709=0),0,1)","v":0}]
["001.100.2580.6611.530.000.0000","ADMIN TECH SUPPLIES",706.53,null,"001"," ","001","100","2580","6611","530","500","500",null,null,null,null,null,null,null,null,null,null,null,null,null,{"$f":"IF(OR(SUMPRODUCT(--(E710=$O$1:$O$542))>0,E710=0),0,1)","v":0}]
["001.100.2580.6650.502.530.0000","Undesignated",195.2,null,"001"," ","001","100","2580","6650","502","102","102",null,null,null,null,null,null,null,null,null,null,null,null,null,{"$f":"IF(OR(SUMPRODUCT(--(E711=$O$1:$O$542))>0,E711=0),0,1)","v":0}]
["001.100.2580.6650.530.000.0000","TECHNOLOGY RELATED SUPPLIES",2800.02,null,"001"," ","001","100","2580","6650","530","500","500",null,null,null,null,null,null,null,null,null,null,null,null,null,{"$f":"IF(OR(SUMPRODUCT(--(E712=$O$1:$O$542))>0,E712=0),0,1)","v":0}]
["001.100.2580.6810.530.000.0000","TECH ADMIN DUES & FEES",337.5,null,"001"," ","001","100","2580","6810","530","500","500",null,null,null,null,null,null,null,null,null,null,null,null,null,{"$f":"IF(OR(SUMPRODUCT(--(E713=$O$1:$O$542))>0,E713=0),0,1)","v":0}]
["001.100.2600.6431.521.000.0000","NONTECH REPAIRS & MAINT",5000,null,"001"," ","001","100","2600","6431","521","500","500",null,null,null,null,null,null,null,null,null,null,null,null,null,{"$f":"IF(OR(SUMPRODUCT(--(E714=$O$1:$O$542))>0,E714=0),0,1)","v":0}]
["001.100.2610.6154.102.000.0000","CLASS OVERTIME",570.64,null,"001"," ","001","100","2610","6154","102","102","102",null,null,null,null,null,null,null,null,null,null,null,null,null,{"$f":"IF(OR(SUMPRODUCT(--(E715=$O$1:$O$542))>0,E715=0),0,1)","v":0}]
["001.100.2610.6154.103.000.0000","CLASS OVERTIME",295.64,null,"001"," ","001","100","2610","6154","103","103","103",null,null,null,null,null,null,null,null,null,null,null,null,null,{"$f":"IF(OR(SUMPRODUCT(--(E716=$O$1:$O$542))>0,E716=0),0,1)","v":0}]
["001.100.2610.6154.106.000.0000","CLASS OVERTIME",107.52,null,"001"," ","001","100","2610","6154","106","106","106",null,null,null,null,null,null,null,null,null,null,null,null,null,{"$f":"IF(OR(SUMPRODUCT(--(E717=$O$1:$O$542))>0,E717=0),0,1)","v":0}]
["001.100.2610.6154.107.000.0000","CLASS OVERTIME",122.81,null,"001"," ","001","100","2610","6154","107","107","107",null,null,null,null,null,null,null,null,null,null,null,null,null,{"$f":"IF(OR(SUMPRODUCT(--(E718=$O$1:$O$542))>0,E718=0),0,1)","v":0}]
["001.100.2610.6154.521.000.0000","OVERTM",827.48,null,"001"," ","001","100","2610","6154","521","500","500",null,null,null,null,null,null,null,null,null,null,null,null,null,{"$f":"IF(OR(SUMPRODUCT(--(E719=$O$1:$O$542))>0,E719=0),0,1)","v":0}]
["001.100.2610.6166.521.000.0000","SUPERVISOR/LEAD/MGR",-783.33,null,"001"," ","001","100","2610","6166","521","500","500",null,null,null,null,null,null,null,null,null,null,null,null,null,{"$f":"IF(OR(SUMPRODUCT(--(E720=$O$1:$O$542))>0,E720=0),0,1)","v":0}]
["001.100.2610.6170.102.000.0000","CUDTODIAN",-570.64,null,"001"," ","001","100","2610","6170","102","102","102",null,null,null,null,null,null,null,null,null,null,null,null,null,{"$f":"IF(OR(SUMPRODUCT(--(E721=$O$1:$O$542))>0,E721=0),0,1)","v":0}]
["001.100.2610.6170.103.000.0000","CUDTODIAN",-295.64,null,"001"," ","001","100","2610","6170","103","103","103",null,null,null,null,null,null,null,null,null,null,null,null,null,{"$f":"IF(OR(SUMPRODUCT(--(E722=$O$1:$O$542))>0,E722=0),0,1)","v":0}]
["001.100.2610.6170.106.000.0000","CUDTODIAN",-107.52,null,"001"," ","001","100","2610","6170","106","106","106",null,null,null,null,null,null,null,null,null,null,null,null,null,{"$f":"IF(OR(SUMPRODUCT(--(E723=$O$1:$O$542))>0,E723=0),0,1)","v":0}]
["001.100.2610.6170.107.000.0000","CUDTODIAN",-122.81,null,"001"," ","001","100","2610","6170","107","107","107",null,null,null,null,null,null,null,null,null,null,null,null,null,{"$f":"IF(OR(SUMPRODUCT(--(E724=$O$1:$O$542))>0,E724=0),0,1)","v":0}]
["001.100.2610.6170.521.000.0000","CUDTODIAN",-44.15,null,"001"," ","001","100","2610","6170","521","500","500",null,null,null,null,null,null,null,null,null,null,null,null,null,{"$f":"IF(OR(SUMPRODUCT(--(E725=$O$1:$O$542))>0,E725=0),0,1)","v":0}]
["001.100.2610.6210.103.000.0000","GROUP INSURANCE",607.20000000000005,null,"001"," ","001","100","2610","6210","103","103","103",null,null,null,null,null,null,null,null,null,null,null,null,null,{"$f":"IF(OR(SUMPRODUCT(--(E726=$O$1:$O$542))>0,E726=0),0,1)","v":0}]
["001.100.2610.6210.104.000.0000","GROUP INSURANCE",885.6,null,"001"," ","001","100","2610","6210","104","104","104",null,null,null,null,null,null,null,null,null,null,null,null,null,{"$f":"IF(OR(SUMPRODUCT(--(E727=$O$1:$O$542))>0,E727=0),0,1)","v":0}]
["001.100.2610.6210.106.000.0000","GROUP INSURANCE",506,null,"001"," ","001","100","2610","6210","106","106","106",null,null,null,null,null,null,null,null,null,null,null,null,null,{"$f":"IF(OR(SUMPRODUCT(--(E728=$O$1:$O$542))>0,E728=0),0,1)","v":0}]
["001.100.2610.6210.107.000.0000","GROUP INSURANCE",3542,null,"001"," ","001","100","2610","6210","107","107","107",null,null,null,null,null,null,null,null,null,null,null,null,null,{"$f":"IF(OR(SUMPRODUCT(--(E729=$O$1:$O$542))>0,E729=0),0,1)","v":0}]
["001.100.2610.6212.103.000.0000","LIFE INSURANCE",14.7,null,"001"," ","001","100","2610","6212","103","103","103",null,null,null,null,null,null,null,null,null,null,null,null,null,{"$f":"IF(OR(SUMPRODUCT(--(E730=$O$1:$O$542))>0,E730=0),0,1)","v":0}]
["001.100.2610.6212.104.000.0000","LIFE INSURANCE",12.72,null,"001"," ","001","100","2610","6212","104","104","104",null,null,null,null,null,null,null,null,null,null,null,null,null,{"$f":"IF(OR(SUMPRODUCT(--(E731=$O$1:$O$542))>0,E731=0),0,1)","v":0}]
["001.100.2610.6212.106.000.0000","LIFE INSURANCE",39.57,null,"001"," ","001","100","2610","6212","106","106","106",null,null,null,null,null,null,null,null,null,null,null,null,null,{"$f":"IF(OR(SUMPRODUCT(--(E732=$O$1:$O$542))>0,E732=0),0,1)","v":0}]
["001.100.2610.6212.107.000.0000","LIFE INSURANCE",39.549999999999997,null,"001"," ","001","100","2610","6212","107","107","107",null,null,null,null,null,null,null,null,null,null,null,null,null,{"$f":"IF(OR(SUMPRODUCT(--(E733=$O$1:$O$542))>0,E733=0),0,1)","v":0}]
["001.100.2610.6212.521.000.0000","LIFE INSURANCE",4.5199999999999996,null,"001"," ","001","100","2610","6212","521","500","500",null,null,null,null,null,null,null,null,null,null,null,null,null,{"$f":"IF(OR(SUMPRODUCT(--(E734=$O$1:$O$542))>0,E734=0),0,1)","v":0}]
["001.100.2610.6221.103.000.0000","SOCIAL SECURITY-FICA",290.41000000000003,null,"001"," ","001","100","2610","6221","103","103","103",null,null,null,null,null,null,null,null,null,null,null,null,null,{"$f":"IF(OR(SUMPRODUCT(--(E735=$O$1:$O$542))>0,E735=0),0,1)","v":0}]
["001.100.2610.6221.104.000.0000","SOCIAL SECURITY-FICA",133.03,null,"001"," ","001","100","2610","6221","104","104","104",null,null,null,null,null,null,null,null,null,null,null,null,null,{"$f":"IF(OR(SUMPRODUCT(--(E736=$O$1:$O$542))>0,E736=0),0,1)","v":0}]
["001.100.2610.6221.106.000.0000","SOCIAL SECURITY-FICA",937.23,null,"001"," ","001","100","2610","6221","106","106","106",null,null,null,null,null,null,null,null,null,null,null,null,null,{"$f":"IF(OR(SUMPRODUCT(--(E737=$O$1:$O$542))>0,E737=0),0,1)","v":0}]
["001.100.2610.6221.107.000.0000","SOCIAL SECURITY-FICA",935.34,null,"001"," ","001","100","2610","6221","107","107","107",null,null,null,null,null,null,null,null,null,null,null,null,null,{"$f":"IF(OR(SUMPRODUCT(--(E738=$O$1:$O$542))>0,E738=0),0,1)","v":0}]
["001.100.2610.6221.501.000.0000","SOCIAL SECURITY-FICA",117.21,null,"001"," ","001","100","2610","6221","501","500","500",null,null,null,null,null,null,null,null,null,null,null,null,null,{"$f":"IF(OR(SUMPRODUCT(--(E739=$O$1:$O$542))>0,E739=0),0,1)","v":0}]
["001.100.2610.6221.521.000.0000","FICA",145.28,null,"001"," ","001","100","2610","6221","521","500","500",null,null,null,null,null,null,null,null,null,null,null,null,null,{"$f":"IF(OR(SUMPRODUCT(--(E740=$O$1:$O$542))>0,E740=0),0,1)","v":0}]
["001.100.2610.6222.103.000.0000","FICA MEDICARE",67.900000000000006,null,"001"," ","001","100","2610","6222","103","103","103",null,null,null,null,null,null,null,null,null,null,null,null,null,{"$f":"IF(OR(SUMPRODUCT(--(E741=$O$1:$O$542))>0,E741=0),0,1)","v":0}]
["001.100.2610.6222.104.000.0000","FICA MEDICARE",31.11,null,"001"," ","001","100","2610","6222","104","104","104",null,null,null,null,null,null,null,null,null,null,null,null,null,{"$f":"IF(OR(SUMPRODUCT(--(E742=$O$1:$O$542))>0,E742=0),0,1)","v":0}]
["001.100.2610.6222.106.000.0000","FICA MEDICARE",219.21,null,"001"," ","001","100","2610","6222","106","106","106",null,null,null,null,null,null,null,null,null,null,null,null,null,{"$f":"IF(OR(SUMPRODUCT(--(E743=$O$1:$O$542))>0,E743=0),0,1)","v":0}]
["001.100.2610.6222.107.000.0000","FICA MEDICARE",218.76,null,"001"," ","001","100","2610","6222","107","107","107",null,null,null,null,null,null,null,null,null,null,null,null,null,{"$f":"IF(OR(SUMPRODUCT(--(E744=$O$1:$O$542))>0,E744=0),0,1)","v":0}]
["001.100.2610.6222.501.000.0000","FICA MEDICARE",27.42,null,"001"," ","001","100","2610","6222","501","500","500",null,null,null,null,null,null,null,null,null,null,null,null,null,{"$f":"IF(OR(SUMPRODUCT(--(E745=$O$1:$O$542))>0,E745=0),0,1)","v":0}]
["001.100.2610.6222.521.000.0000","FICA MED",33.97,null,"001"," ","001","100","2610","6222","521","500","500",null,null,null,null,null,null,null,null,null,null,null,null,null,{"$f":"IF(OR(SUMPRODUCT(--(E746=$O$1:$O$542))>0,E746=0),0,1)","v":0}]
["001.100.2610.6231.103.000.0000","STATE RETIREMENT",570.45000000000005,null,"001"," ","001","100","2610","6231","103","103","103",null,null,null,null,null,null,null,null,null,null,null,null,null,{"$f":"IF(OR(SUMPRODUCT(--(E747=$O$1:$O$542))>0,E747=0),0,1)","v":0}]
["001.100.2610.6231.104.000.0000","STATE RETIREMENT",258.11,null,"001"," ","001","100","2610","6231","104","104","104",null,null,null,null,null,null,null,null,null,null,null,null,null,{"$f":"IF(OR(SUMPRODUCT(--(E748=$O$1:$O$542))>0,E748=0),0,1)","v":0}]
["001.100.2610.6231.106.000.0000","STATE RETIREMENT",1880.63,null,"001"," ","001","100","2610","6231","106","106","106",null,null,null,null,null,null,null,null,null,null,null,null,null,{"$f":"IF(OR(SUMPRODUCT(--(E749=$O$1:$O$542))>0,E749=0),0,1)","v":0}]
["001.100.2610.6231.107.000.0000","STATE RETIREMENT",1814.87,null,"001"," ","001","100","2610","6231","107","107","107",null,null,null,null,null,null,null,null,null,null,null,null,null,{"$f":"IF(OR(SUMPRODUCT(--(E750=$O$1:$O$542))>0,E750=0),0,1)","v":0}]
["001.100.2610.6231.501.000.0000","STATE RETIREMENT",227.44,null,"001"," ","001","100","2610","6231","501","500","500",null,null,null,null,null,null,null,null,null,null,null,null,null,{"$f":"IF(OR(SUMPRODUCT(--(E751=$O$1:$O$542))>0,E751=0),0,1)","v":0}]
["001.100.2610.6231.521.000.0000","RETIREMENT",281.87,null,"001"," ","001","100","2610","6231","521","500","500",null,null,null,null,null,null,null,null,null,null,null,null,null,{"$f":"IF(OR(SUMPRODUCT(--(E752=$O$1:$O$542))>0,E752=0),0,1)","v":0}]
["001.100.2610.6232.103.000.0000","L-T DISABILITY",6.63,null,"001"," ","001","100","2610","6232","103","103","103",null,null,null,null,null,null,null,null,null,null,null,null,null,{"$f":"IF(OR(SUMPRODUCT(--(E753=$O$1:$O$542))>0,E753=0),0,1)","v":0}]
["001.100.2610.6232.104.000.0000","L-T DISABILITY",3.01,null,"001"," ","001","100","2610","6232","104","104","104",null,null,null,null,null,null,null,null,null,null,null,null,null,{"$f":"IF(OR(SUMPRODUCT(--(E754=$O$1:$O$542))>0,E754=0),0,1)","v":0}]
["001.100.2610.6232.106.000.0000","L-T DISABILITY",21.86,null,"001"," ","001","100","2610","6232","106","106","106",null,null,null,null,null,null,null,null,null,null,null,null,null,{"$f":"IF(OR(SUMPRODUCT(--(E755=$O$1:$O$542))>0,E755=0),0,1)","v":0}]
["001.100.2610.6232.107.000.0000","L-T DISABILITY",21.13,null,"001"," ","001","100","2610","6232","107","107","107",null,null,null,null,null,null,null,null,null,null,null,null,null,{"$f":"IF(OR(SUMPRODUCT(--(E756=$O$1:$O$542))>0,E756=0),0,1)","v":0}]
["001.100.2610.6232.501.000.0000","L-T DISABILITY",2.65,null,"001"," ","001","100","2610","6232","501","500","500",null,null,null,null,null,null,null,null,null,null,null,null,null,{"$f":"IF(OR(SUMPRODUCT(--(E757=$O$1:$O$542))>0,E757=0),0,1)","v":0}]
["001.100.2610.6232.521.000.0000","RETLTD",3.28,null,"001"," ","001","100","2610","6232","521","500","500",null,null,null,null,null,null,null,null,null,null,null,null,null,{"$f":"IF(OR(SUMPRODUCT(--(E758=$O$1:$O$542))>0,E758=0),0,1)","v":0}]
["001.100.2610.6260.103.000.0000","WORKERS' COMPENSATION",150.65,null,"001"," ","001","100","2610","6260","103","103","103",null,null,null,null,null,null,null,null,null,null,null,null,null,{"$f":"IF(OR(SUMPRODUCT(--(E759=$O$1:$O$542))>0,E759=0),0,1)","v":0}]
["001.100.2610.6260.104.000.0000","WORKERS' COMPENSATION",79.81,null,"001"," ","001","100","2610","6260","104","104","104",null,null,null,null,null,null,null,null,null,null,null,null,null,{"$f":"IF(OR(SUMPRODUCT(--(E760=$O$1:$O$542))>0,E760=0),0,1)","v":0}]
["001.100.2610.6260.106.000.0000","WORKERS' COMPENSATION",581.53,null,"001"," ","001","100","2610","6260","106","106","106",null,null,null,null,null,null,null,null,null,null,null,null,null,{"$f":"IF(OR(SUMPRODUCT(--(E761=$O$1:$O$542))>0,E761=0),0,1)","v":0}]
["001.100.2610.6260.107.000.0000","WORKERS' COMPENSATION",105.63,null,"001"," ","001","100","2610","6260","107","107","107",null,null,null,null,null,null,null,null,null,null,null,null,null,{"$f":"IF(OR(SUMPRODUCT(--(E762=$O$1:$O$542))>0,E762=0),0,1)","v":0}]
["001.100.2610.6260.501.000.0000","WORKERS' COMPENSATION",70.33,null,"001"," ","001","100","2610","6260","501","500","500",null,null,null,null,null,null,null,null,null,null,null,null,null,{"$f":"IF(OR(SUMPRODUCT(--(E763=$O$1:$O$542))>0,E763=0),0,1)","v":0}]
["001.100.2610.6260.521.000.0000","WORK COMP",87.15,null,"001"," ","001","100","2610","6260","521","500","500",null,null,null,null,null,null,null,null,null,null,null,null,null,{"$f":"IF(OR(SUMPRODUCT(--(E764=$O$1:$O$542))>0,E764=0),0,1)","v":0}]
["001.100.2610.6280.106.000.0000","UNUSED LEAVE",724.31,null,"001"," ","001","100","2610","6280","106","106","106",null,null,null,null,null,null,null,null,null,null,null,null,null,{"$f":"IF(OR(SUMPRODUCT(--(E765=$O$1:$O$542))>0,E765=0),0,1)","v":0}]
["001.100.2610.6280.107.000.0000","UNUSED LEAVE",1276,null,"001"," ","001","100","2610","6280","107","107","107",null,null,null,null,null,null,null,null,null,null,null,null,null,{"$f":"IF(OR(SUMPRODUCT(--(E766=$O$1:$O$542))>0,E766=0),0,1)","v":0}]
["001.100.2610.6280.501.000.0000","UNUSED LEAVE",1890.58,null,"001"," ","001","100","2610","6280","501","500","500",null,null,null,null,null,null,null,null,null,null,null,null,null,{"$f":"IF(OR(SUMPRODUCT(--(E767=$O$1:$O$542))>0,E767=0),0,1)","v":0}]
["001.100.2610.6411.501.000.0000","WATER/SEWAGE",1016.72,null,"001"," ","001","100","2610","6411","501","500","500",null,null,null,null,null,null,null,null,null,null,null,null,null,{"$f":"IF(OR(SUMPRODUCT(--(E768=$O$1:$O$542))>0,E768=0),0,1)","v":0}]
["001.100.2610.6411.502.000.0000","WATER/SEWAGE",14409.4,null,"001"," ","001","100","2610","6411","502","102","102",null,null,null,null,null,null,null,null,null,null,null,null,null,{"$f":"IF(OR(SUMPRODUCT(--(E769=$O$1:$O$542))>0,E769=0),0,1)","v":0}]
["001.100.2610.6411.503.000.0000","WATER/SEWAGE",74271.839999999997,null,"001"," ","001","100","2610","6411","503","103","103",null,null,null,null,null,null,null,null,null,null,null,null,null,{"$f":"IF(OR(SUMPRODUCT(--(E770=$O$1:$O$542))>0,E770=0),0,1)","v":0}]
["001.100.2610.6411.504.000.0000","WATER/SEWAGE",21455.38,null,"001"," ","001","100","2610","6411","504","104","104",null,null,null,null,null,null,null,null,null,null,null,null,null,{"$f":"IF(OR(SUMPRODUCT(--(E771=$O$1:$O$542))>0,E771=0),0,1)","v":0}]
["001.100.2610.6411.505.000.0000","WATER/SEWAGE",25131.06,null,"001"," ","001","100","2610","6411","505","105","105",null,null,null,null,null,null,null,null,null,null,null,null,null,{"$f":"IF(OR(SUMPRODUCT(--(E772=$O$1:$O$542))>0,E772=0),0,1)","v":0}]
["001.100.2610.6411.506.000.0000","WATER/SEWAGE",32077.68,null,"001"," ","001","100","2610","6411","506","106","106",null,null,null,null,null,null,null,null,null,null,null,null,null,{"$f":"IF(OR(SUMPRODUCT(--(E773=$O$1:$O$542))>0,E773=0),0,1)","v":0}]
["001.100.2610.6411.507.000.0000","WATER/SEWAGE",20159.97,null,"001"," ","001","100","2610","6411","507","107","107",null,null,null,null,null,null,null,null,null,null,null,null,null,{"$f":"IF(OR(SUMPRODUCT(--(E774=$O$1:$O$542))>0,E774=0),0,1)","v":0}]
["001.100.2610.6431.503.521.0000","NONTECH REPAIRS & MAINT",17097.419999999998,null,"001"," ","001","100","2610","6431","503","103","103",null,null,null,null,null,null,null,null,null,null,null,null,null,{"$f":"IF(OR(SUMPRODUCT(--(E775=$O$1:$O$542))>0,E775=0),0,1)","v":0}]
["001.100.2610.6522.500.000.0000","Undesignated",363844,null,"001"," ","001","100","2610","6522","500","500","500",null,null,null,null,null,null,null,null,null,null,null,null,null,{"$f":"IF(OR(SUMPRODUCT(--(E776=$O$1:$O$542))>0,E776=0),0,1)","v":0}]
["001.100.2610.6531.500.000.0000","TELEPHONE",16474.900000000001,null,"001"," ","001","100","2610","6531","500","500","500",null,null,null,null,null,null,null,null,null,null,null,null,null,{"$f":"IF(OR(SUMPRODUCT(--(E777=$O$1:$O$542))>0,E777=0),0,1)","v":0}]
["001.100.2610.6531.501.000.0000","TELEPHONE",10088.469999999999,null,"001"," ","001","100","2610","6531","501","500","500",null,null,null,null,null,null,null,null,null,null,null,null,null,{"$f":"IF(OR(SUMPRODUCT(--(E778=$O$1:$O$542))>0,E778=0),0,1)","v":0}]
["001.100.2610.6531.504.000.0000","TELEPHONE",2494.14,null,"001"," ","001","100","2610","6531","504","104","104",null,null,null,null,null,null,null,null,null,null,null,null,null,{"$f":"IF(OR(SUMPRODUCT(--(E779=$O$1:$O$542))>0,E779=0),0,1)","v":0}]
["001.100.2610.6531.505.000.0000","TELEPHONE",2139.88,null,"001"," ","001","100","2610","6531","505","105","105",null,null,null,null,null,null,null,null,null,null,null,null,null,{"$f":"IF(OR(SUMPRODUCT(--(E780=$O$1:$O$542))>0,E780=0),0,1)","v":0}]
["001.100.2610.6531.506.000.0000","TELEPHONE",2494.14,null,"001"," ","001","100","2610","6531","506","106","106",null,null,null,null,null,null,null,null,null,null,null,null,null,{"$f":"IF(OR(SUMPRODUCT(--(E781=$O$1:$O$542))>0,E781=0),0,1)","v":0}]
["001.100.2610.6531.507.000.0000","TELEPHONE",2494.14,null,"001"," ","001","100","2610","6531","507","107","107",null,null,null,null,null,null,null,null,null,null,null,null,null,{"$f":"IF(OR(SUMPRODUCT(--(E782=$O$1:$O$542))>0,E782=0),0,1)","v":0}]
["001.100.2610.6590.501.000.0000","MISC PUR SVS",575,null,"001"," ","001","100","2610","6590","501","500","500",null,null,null,null,null,null,null,null,null,null,null,null,null,{"$f":"IF(OR(SUMPRODUCT(--(E783=$O$1:$O$542))>0,E783=0),0,1)","v":0}]
["001.100.2610.6590.502.000.0000","MISC PUR SVS",1600,null,"001"," ","001","100","2610","6590","502","102","102",null,null,null,null,null,null,null,null,null,null,null,null,null,{"$f":"IF(OR(SUMPRODUCT(--(E784=$O$1:$O$542))>0,E784=0),0,1)","v":0}]
["001.100.2610.6590.503.000.0000","MISC PUR SVS",1180,null,"001"," ","001","100","2610","6590","503","103","103",null,null,null,null,null,null,null,null,null,null,null,null,null,{"$f":"IF(OR(SUMPRODUCT(--(E785=$O$1:$O$542))>0,E785=0),0,1)","v":0}]
["001.100.2610.6590.504.000.0000","MISC PUR SVS",980,null,"001"," ","001","100","2610","6590","504","104","104",null,null,null,null,null,null,null,null,null,null,null,null,null,{"$f":"IF(OR(SUMPRODUCT(--(E786=$O$1:$O$542))>0,E786=0),0,1)","v":0}]
["001.100.2610.6590.505.000.0000","MISC PUR SVS",1070,null,"001"," ","001","100","2610","6590","505","105","105",null,null,null,null,null,null,null,null,null,null,null,null,null,{"$f":"IF(OR(SUMPRODUCT(--(E787=$O$1:$O$542))>0,E787=0),0,1)","v":0}]
["001.100.2610.6590.506.000.0000","MISC PUR SVS",1030,null,"001"," ","001","100","2610","6590","506","106","106",null,null,null,null,null,null,null,null,null,null,null,null,null,{"$f":"IF(OR(SUMPRODUCT(--(E788=$O$1:$O$542))>0,E788=0),0,1)","v":0}]
["001.100.2610.6590.507.000.0000","MISC PUR SVS",880,null,"001"," ","001","100","2610","6590","507","107","107",null,null,null,null,null,null,null,null,null,null,null,null,null,{"$f":"IF(OR(SUMPRODUCT(--(E789=$O$1:$O$542))>0,E789=0),0,1)","v":0}]
["001.100.2610.6611.521.000.0000","MAINT OFFICE SUPPLIES",122326.69,null,"001"," ","001","100","2610","6611","521","500","500",null,null,null,null,null,null,null,null,null,null,null,null,null,{"$f":"IF(OR(SUMPRODUCT(--(E790=$O$1:$O$542))>0,E790=0),0,1)","v":0}]
["001.100.2610.6621.501.000.0000","NATURAL GAS",1917.57,null,"001"," ","001","100","2610","6621","501","500","500",null,null,null,null,null,null,null,null,null,null,null,null,null,{"$f":"IF(OR(SUMPRODUCT(--(E791=$O$1:$O$542))>0,E791=0),0,1)","v":0}]
["001.100.2610.6621.502.000.0000","NATURAL GAS",1394.8,null,"001"," ","001","100","2610","6621","502","102","102",null,null,null,null,null,null,null,null,null,null,null,null,null,{"$f":"IF(OR(SUMPRODUCT(--(E792=$O$1:$O$542))>0,E792=0),0,1)","v":0}]
["001.100.2610.6621.503.000.0000","NATURAL GAS",2855.13,null,"001"," ","001","100","2610","6621","503","103","103",null,null,null,null,null,null,null,null,null,null,null,null,null,{"$f":"IF(OR(SUMPRODUCT(--(E793=$O$1:$O$542))>0,E793=0),0,1)","v":0}]
["001.100.2610.6621.504.000.0000","NATURAL GAS",3990.64,null,"001"," ","001","100","2610","6621","504","104","104",null,null,null,null,null,null,null,null,null,null,null,null,null,{"$f":"IF(OR(SUMPRODUCT(--(E794=$O$1:$O$542))>0,E794=0),0,1)","v":0}]
["001.100.2610.6621.505.000.0000","NATURAL GAS",981.1,null,"001"," ","001","100","2610","6621","505","105","105",null,null,null,null,null,null,null,null,null,null,null,null,null,{"$f":"IF(OR(SUMPRODUCT(--(E795=$O$1:$O$542))>0,E795=0),0,1)","v":0}]
["001.100.2610.6621.506.000.0000","NATURAL GAS",3018.27,null,"001"," ","001","100","2610","6621","506","106","106",null,null,null,null,null,null,null,null,null,null,null,null,null,{"$f":"IF(OR(SUMPRODUCT(--(E796=$O$1:$O$542))>0,E796=0),0,1)","v":0}]
["001.100.2610.6621.507.000.0000","NATURAL GAS",8192.7099999999991,null,"001"," ","001","100","2610","6621","507","107","107",null,null,null,null,null,null,null,null,null,null,null,null,null,{"$f":"IF(OR(SUMPRODUCT(--(E797=$O$1:$O$542))>0,E797=0),0,1)","v":0}]
["001.100.2610.6622.501.000.0000","ELECTRICITY",114649.64,null,"001"," ","001","100","2610","6622","501","500","500",null,null,null,null,null,null,null,null,null,null,null,null,null,{"$f":"IF(OR(SUMPRODUCT(--(E798=$O$1:$O$542))>0,E798=0),0,1)","v":0}]
["001.100.2610.6622.502.000.0000","ELECTRICITY",40391.64,null,"001"," ","001","100","2610","6622","502","102","102",null,null,null,null,null,null,null,null,null,null,null,null,null,{"$f":"IF(OR(SUMPRODUCT(--(E799=$O$1:$O$542))>0,E799=0),0,1)","v":0}]
["001.100.2610.6622.504.000.0000","ELECTRICITY",96957.49,null,"001"," ","001","100","2610","6622","504","104","104",null,null,null,null,null,null,null,null,null,null,null,null,null,{"$f":"IF(OR(SUMPRODUCT(--(E800=$O$1:$O$542))>0,E800=0),0,1)","v":0}]
["001.100.2610.6622.505.000.0000","ELECTRICITY",124143.29,null,"001"," ","001","100","2610","6622","505","105","105",null,null,null,null,null,null,null,null,null,null,null,null,null,{"$f":"IF(OR(SUMPRODUCT(--(E801=$O$1:$O$542))>0,E801=0),0,1)","v":0}]
["001.100.2610.6622.506.000.0000","ELECTRICITY",5885.15,null,"001"," ","001","100","2610","6622","506","106","106",null,null,null,null,null,null,null,null,null,null,null,null,null,{"$f":"IF(OR(SUMPRODUCT(--(E802=$O$1:$O$542))>0,E802=0),0,1)","v":0}]
["001.100.2610.6622.507.000.0000","ELECTRICITY",31386.35,null,"001"," ","001","100","2610","6622","507","107","107",null,null,null,null,null,null,null,null,null,null,null,null,null,{"$f":"IF(OR(SUMPRODUCT(--(E803=$O$1:$O$542))>0,E803=0),0,1)","v":0}]
["001.100.2610.6623.521.000.0000","Undesignated",51.77,null,"001"," ","001","100","2610","6623","521","500","500",null,null,null,null,null,null,null,null,null,null,null,null,null,{"$f":"IF(OR(SUMPRODUCT(--(E804=$O$1:$O$542))>0,E804=0),0,1)","v":0}]
["001.100.2620.6152.521.000.0000","CLASSIFIED",-8279.77,null,"001"," ","001","100","2620","6152","521","500","500",null,null,null,null,null,null,null,null,null,null,null,null,null,{"$f":"IF(OR(SUMPRODUCT(--(E805=$O$1:$O$542))>0,E805=0),0,1)","v":0}]
["001.100.2620.6154.104.000.0000","OVERTIME",376.61,null,"001"," ","001","100","2620","6154","104","104","104",null,null,null,null,null,null,null,null,null,null,null,null,null,{"$f":"IF(OR(SUMPRODUCT(--(E806=$O$1:$O$542))>0,E806=0),0,1)","v":0}]
["001.100.2620.6154.521.000.0000","OVERTIME",9684.16,null,"001"," ","001","100","2620","6154","521","500","500",null,null,null,null,null,null,null,null,null,null,null,null,null,{"$f":"IF(OR(SUMPRODUCT(--(E807=$O$1:$O$542))>0,E807=0),0,1)","v":0}]
["001.100.2620.6155.521.000.0000","CLASSIFIED X-DUTY",72213.070000000007,null,"001"," ","001","100","2620","6155","521","500","500",null,null,null,null,null,null,null,null,null,null,null,null,null,{"$f":"IF(OR(SUMPRODUCT(--(E808=$O$1:$O$542))>0,E808=0),0,1)","v":0}]
["001.100.2620.6166.104.000.0000","PLANT MANAGER",-376.61,null,"001"," ","001","100","2620","6166","104","104","104",null,null,null,null,null,null,null,null,null,null,null,null,null,{"$f":"IF(OR(SUMPRODUCT(--(E809=$O$1:$O$542))>0,E809=0),0,1)","v":0}]
["001.100.2620.6166.521.000.0000","SUPERVISOR/LEAD/MGR",-1254.3399999999999,null,"001"," ","001","100","2620","6166","521","500","500",null,null,null,null,null,null,null,null,null,null,null,null,null,{"$f":"IF(OR(SUMPRODUCT(--(E810=$O$1:$O$542))>0,E810=0),0,1)","v":0}]
["001.100.2620.6210.521.000.0000","HEALTH INSURANCE",56.45,null,"001"," ","001","100","2620","6210","521","500","500",null,null,null,null,null,null,null,null,null,null,null,null,null,{"$f":"IF(OR(SUMPRODUCT(--(E811=$O$1:$O$542))>0,E811=0),0,1)","v":0}]
["001.100.2620.6221.521.000.0000","FICA-SSI",4483.95,null,"001"," ","001","100","2620","6221","521","500","500",null,null,null,null,null,null,null,null,null,null,null,null,null,{"$f":"IF(OR(SUMPRODUCT(--(E812=$O$1:$O$542))>0,E812=0),0,1)","v":0}]
["001.100.2620.6222.521.000.0000","FICA-MEDICARE",1048.6600000000001,null,"001"," ","001","100","2620","6222","521","500","500",null,null,null,null,null,null,null,null,null,null,null,null,null,{"$f":"IF(OR(SUMPRODUCT(--(E813=$O$1:$O$542))>0,E813=0),0,1)","v":0}]
["001.100.2620.6231.521.000.0000","STATE RETIRMENT",8705.25,null,"001"," ","001","100","2620","6231","521","500","500",null,null,null,null,null,null,null,null,null,null,null,null,null,{"$f":"IF(OR(SUMPRODUCT(--(E814=$O$1:$O$542))>0,E814=0),0,1)","v":0}]
["001.100.2620.6232.521.000.0000","L/T DISABILITY",101.39,null,"001"," ","001","100","2620","6232","521","500","500",null,null,null,null,null,null,null,null,null,null,null,null,null,{"$f":"IF(OR(SUMPRODUCT(--(E815=$O$1:$O$542))>0,E815=0),0,1)","v":0}]
["001.100.2620.6260.521.000.0000","WORKER'S COMPENSATION",1597.71,null,"001"," ","001","100","2620","6260","521","500","500",null,null,null,null,null,null,null,null,null,null,null,null,null,{"$f":"IF(OR(SUMPRODUCT(--(E816=$O$1:$O$542))>0,E816=0),0,1)","v":0}]
["001.100.2620.6431.507.521.0000","Undesignated",475,null,"001"," ","001","100","2620","6431","507","107","107",null,null,null,null,null,null,null,null,null,null,null,null,null,{"$f":"IF(OR(SUMPRODUCT(--(E817=$O$1:$O$542))>0,E817=0),0,1)","v":0}]
["001.100.2620.6431.521.000.0000","NON-TECH RELATED REPAIRS & MAINT",11678.63,null,"001"," ","001","100","2620","6431","521","500","500",null,null,null,null,null,null,null,null,null,null,null,null,null,{"$f":"IF(OR(SUMPRODUCT(--(E818=$O$1:$O$542))>0,E818=0),0,1)","v":0}]
["001.100.2620.6442.521.000.0000","RENTAL-EQUIPMENT",6772.52,null,"001"," ","001","100","2620","6442","521","500","500",null,null,null,null,null,null,null,null,null,null,null,null,null,{"$f":"IF(OR(SUMPRODUCT(--(E819=$O$1:$O$542))>0,E819=0),0,1)","v":0}]
["001.100.2620.6590.501.521.0000","Undesignated",1516.5,null,"001"," ","001","100","2620","6590","501","500","500",null,null,null,null,null,null,null,null,null,null,null,null,null,{"$f":"IF(OR(SUMPRODUCT(--(E820=$O$1:$O$542))>0,E820=0),0,1)","v":0}]
["001.100.2620.6590.502.521.0000","Undesignated",2288.5,null,"001"," ","001","100","2620","6590","502","102","102",null,null,null,null,null,null,null,null,null,null,null,null,null,{"$f":"IF(OR(SUMPRODUCT(--(E821=$O$1:$O$542))>0,E821=0),0,1)","v":0}]
["001.100.2620.6590.503.521.0000","Undesignated",2816.5,null,"001"," ","001","100","2620","6590","503","103","103",null,null,null,null,null,null,null,null,null,null,null,null,null,{"$f":"IF(OR(SUMPRODUCT(--(E822=$O$1:$O$542))>0,E822=0),0,1)","v":0}]
["001.100.2620.6590.504.521.0000","Undesignated",3016.5,null,"001"," ","001","100","2620","6590","504","104","104",null,null,null,null,null,null,null,null,null,null,null,null,null,{"$f":"IF(OR(SUMPRODUCT(--(E823=$O$1:$O$542))>0,E823=0),0,1)","v":0}]
["001.100.2620.6590.506.521.0000","Undesignated",2281.5,null,"001"," ","001","100","2620","6590","506","106","106",null,null,null,null,null,null,null,null,null,null,null,null,null,{"$f":"IF(OR(SUMPRODUCT(--(E824=$O$1:$O$542))>0,E824=0),0,1)","v":0}]
["001.100.2620.6590.507.521.0000","Undesignated",2916.5,null,"001"," ","001","100","2620","6590","507","107","107",null,null,null,null,null,null,null,null,null,null,null,null,null,{"$f":"IF(OR(SUMPRODUCT(--(E825=$O$1:$O$542))>0,E825=0),0,1)","v":0}]
["001.100.2620.6611.501.000.0000","Undesignated",17163.8,null,"001"," ","001","100","2620","6611","501","500","500",null,null,null,null,null,null,null,null,null,null,null,null,null,{"$f":"IF(OR(SUMPRODUCT(--(E826=$O$1:$O$542))>0,E826=0),0,1)","v":0}]
["001.100.2620.6611.501.521.0000","SUPPLIES",2239.1,null,"001"," ","001","100","2620","6611","501","500","500",null,null,null,null,null,null,null,null,null,null,null,null,null,{"$f":"IF(OR(SUMPRODUCT(--(E827=$O$1:$O$542))>0,E827=0),0,1)","v":0}]
["001.100.2620.6611.502.000.0000","SUPPLIES",169.73,null,"001"," ","001","100","2620","6611","502","102","102",null,null,null,null,null,null,null,null,null,null,null,null,null,{"$f":"IF(OR(SUMPRODUCT(--(E828=$O$1:$O$542))>0,E828=0),0,1)","v":0}]
["001.100.2620.6611.502.521.0000","Undesignated",2973.08,null,"001"," ","001","100","2620","6611","502","102","102",null,null,null,null,null,null,null,null,null,null,null,null,null,{"$f":"IF(OR(SUMPRODUCT(--(E829=$O$1:$O$542))>0,E829=0),0,1)","v":0}]
["001.100.2620.6611.503.000.0000","SUPPLIES",200.63,null,"001"," ","001","100","2620","6611","503","103","103",null,null,null,null,null,null,null,null,null,null,null,null,null,{"$f":"IF(OR(SUMPRODUCT(--(E830=$O$1:$O$542))>0,E830=0),0,1)","v":0}]
["001.100.2620.6611.503.521.0000","Undesignated",7430.59,null,"001"," ","001","100","2620","6611","503","103","103",null,null,null,null,null,null,null,null,null,null,null,null,null,{"$f":"IF(OR(SUMPRODUCT(--(E831=$O$1:$O$542))>0,E831=0),0,1)","v":0}]
["001.100.2620.6611.504.000.0000","SUPPLIES",440.04,null,"001"," ","001","100","2620","6611","504","104","104",null,null,null,null,null,null,null,null,null,null,null,null,null,{"$f":"IF(OR(SUMPRODUCT(--(E832=$O$1:$O$542))>0,E832=0),0,1)","v":0}]
["001.100.2620.6611.504.521.0000","Undesignated",2804.27,null,"001"," ","001","100","2620","6611","504","104","104",null,null,null,null,null,null,null,null,null,null,null,null,null,{"$f":"IF(OR(SUMPRODUCT(--(E833=$O$1:$O$542))>0,E833=0),0,1)","v":0}]
["001.100.2620.6611.505.000.0000","SUPPLIES",434.44,null,"001"," ","001","100","2620","6611","505","105","105",null,null,null,null,null,null,null,null,null,null,null,null,null,{"$f":"IF(OR(SUMPRODUCT(--(E834=$O$1:$O$542))>0,E834=0),0,1)","v":0}]
["001.100.2620.6611.505.521.0000","Undesignated",6300.83,null,"001"," ","001","100","2620","6611","505","105","105",null,null,null,null,null,null,null,null,null,null,null,null,null,{"$f":"IF(OR(SUMPRODUCT(--(E835=$O$1:$O$542))>0,E835=0),0,1)","v":0}]
["001.100.2620.6611.506.000.0000","SUPPLIES",582.29999999999995,null,"001"," ","001","100","2620","6611","506","106","106",null,null,null,null,null,null,null,null,null,null,null,null,null,{"$f":"IF(OR(SUMPRODUCT(--(E836=$O$1:$O$542))>0,E836=0),0,1)","v":0}]
["001.100.2620.6611.506.521.0000","Undesignated",3052.39,null,"001"," ","001","100","2620","6611","506","106","106",null,null,null,null,null,null,null,null,null,null,null,null,null,{"$f":"IF(OR(SUMPRODUCT(--(E837=$O$1:$O$542))>0,E837=0),0,1)","v":0}]
["001.100.2620.6611.507.000.0000","SUPPLIES",169.7,null,"001"," ","001","100","2620","6611","507","107","107",null,null,null,null,null,null,null,null,null,null,null,null,null,{"$f":"IF(OR(SUMPRODUCT(--(E838=$O$1:$O$542))>0,E838=0),0,1)","v":0}]
["001.100.2620.6611.507.521.0000","Undesignated",2507.0100000000002,null,"001"," ","001","100","2620","6611","507","107","107",null,null,null,null,null,null,null,null,null,null,null,null,null,{"$f":"IF(OR(SUMPRODUCT(--(E839=$O$1:$O$542))>0,E839=0),0,1)","v":0}]
["001.100.2620.6611.521.000.0000","SUPPLIES",72932.350000000006,null,"001"," ","001","100","2620","6611","521","500","500",null,null,null,null,null,null,null,null,null,null,null,null,null,{"$f":"IF(OR(SUMPRODUCT(--(E840=$O$1:$O$542))>0,E840=0),0,1)","v":0}]
["001.100.2630.6152.521.000.0000","GROUNDS STAFF",-1420.19,null,"001"," ","001","100","2630","6152","521","500","500",null,null,null,null,null,null,null,null,null,null,null,null,null,{"$f":"IF(OR(SUMPRODUCT(--(E841=$O$1:$O$542))>0,E841=0),0,1)","v":0}]
["001.100.2630.6154.521.000.0000","OVERTIME",1420.19,null,"001"," ","001","100","2630","6154","521","500","500",null,null,null,null,null,null,null,null,null,null,null,null,null,{"$f":"IF(OR(SUMPRODUCT(--(E842=$O$1:$O$542))>0,E842=0),0,1)","v":0}]
["001.100.2630.6411.504.521.0000","Undesignated",700,null,"001"," ","001","100","2630","6411","504","104","104",null,null,null,null,null,null,null,null,null,null,null,null,null,{"$f":"IF(OR(SUMPRODUCT(--(E843=$O$1:$O$542))>0,E843=0),0,1)","v":0}]
["001.100.2630.6431.521.000.0000","NON-TECH RELATED REPAIRS & MAINT",668.22,null,"001"," ","001","100","2630","6431","521","500","500",null,null,null,null,null,null,null,null,null,null,null,null,null,{"$f":"IF(OR(SUMPRODUCT(--(E844=$O$1:$O$542))>0,E844=0),0,1)","v":0}]
["001.100.2630.6442.521.000.0000","RENTAL OF EQUIPMENT",3690.54,null,"001"," ","001","100","2630","6442","521","500","500",null,null,null,null,null,null,null,null,null,null,null,null,null,{"$f":"IF(OR(SUMPRODUCT(--(E845=$O$1:$O$542))>0,E845=0),0,1)","v":0}]
["001.100.2630.6590.501.521.0000","Undesignated",571.41999999999996,null,"001"," ","001","100","2630","6590","501","500","500",null,null,null,null,null,null,null,null,null,null,null,null,null,{"$f":"IF(OR(SUMPRODUCT(--(E846=$O$1:$O$542))>0,E846=0),0,1)","v":0}]
["001.100.2630.6590.502.521.0000","Undesignated",2271.42,null,"001"," ","001","100","2630","6590","502","102","102",null,null,null,null,null,null,null,null,null,null,null,null,null,{"$f":"IF(OR(SUMPRODUCT(--(E847=$O$1:$O$542))>0,E847=0),0,1)","v":0}]
["001.100.2630.6590.503.521.0000","Undesignated",571.41999999999996,null,"001"," ","001","100","2630","6590","503","103","103",null,null,null,null,null,null,null,null,null,null,null,null,null,{"$f":"IF(OR(SUMPRODUCT(--(E848=$O$1:$O$542))>0,E848=0),0,1)","v":0}]
["001.100.2630.6590.504.000.0000","MISC PUR SERVICE",749.31,null,"001"," ","001","100","2630","6590","504","104","104",null,null,null,null,null,null,null,null,null,null,null,null,null,{"$f":"IF(OR(SUMPRODUCT(--(E849=$O$1:$O$542))>0,E849=0),0,1)","v":0}]
["001.100.2630.6590.504.521.0000","Undesignated",571.41999999999996,null,"001"," ","001","100","2630","6590","504","104","104",null,null,null,null,null,null,null,null,null,null,null,null,null,{"$f":"IF(OR(SUMPRODUCT(--(E850=$O$1:$O$542))>0,E850=0),0,1)","v":0}]
["001.100.2630.6590.505.521.0000","Undesignated",571.41999999999996,null,"001"," ","001","100","2630","6590","505","105","105",null,null,null,null,null,null,null,null,null,null,null,null,null,{"$f":"IF(OR(SUMPRODUCT(--(E851=$O$1:$O$542))>0,E851=0),0,1)","v":0}]
["001.100.2630.6590.506.521.0000","Undesignated",571.41999999999996,null,"001"," ","001","100","2630","6590","506","106","106",null,null,null,null,null,null,null,null,null,null,null,null,null,{"$f":"IF(OR(SUMPRODUCT(--(E852=$O$1:$O$542))>0,E852=0),0,1)","v":0}]
["001.100.2630.6590.507.000.0000","MISC PUR SERVICE",531.48,null,"001"," ","001","100","2630","6590","507","107","107",null,null,null,null,null,null,null,null,null,null,null,null,null,{"$f":"IF(OR(SUMPRODUCT(--(E853=$O$1:$O$542))>0,E853=0),0,1)","v":0}]
["001.100.2630.6590.507.521.0000","Undesignated",571.41999999999996,null,"001"," ","001","100","2630","6590","507","107","107",null,null,null,null,null,null,null,null,null,null,null,null,null,{"$f":"IF(OR(SUMPRODUCT(--(E854=$O$1:$O$542))>0,E854=0),0,1)","v":0}]
["001.100.2630.6590.521.000.0000","MISC PUR SVS",23477.13,null,"001"," ","001","100","2630","6590","521","500","500",null,null,null,null,null,null,null,null,null,null,null,null,null,{"$f":"IF(OR(SUMPRODUCT(--(E855=$O$1:$O$542))>0,E855=0),0,1)","v":0}]
["001.100.2630.6611.501.521.0000","Undesignated",83.6,null,"001"," ","001","100","2630","6611","501","500","500",null,null,null,null,null,null,null,null,null,null,null,null,null,{"$f":"IF(OR(SUMPRODUCT(--(E856=$O$1:$O$542))>0,E856=0),0,1)","v":0}]
["001.100.2630.6611.502.521.0000","Undesignated",6206.9,null,"001"," ","001","100","2630","6611","502","102","102",null,null,null,null,null,null,null,null,null,null,null,null,null,{"$f":"IF(OR(SUMPRODUCT(--(E857=$O$1:$O$542))>0,E857=0),0,1)","v":0}]
["001.100.2630.6611.503.521.0000","Undesignated",13533.85,null,"001"," ","001","100","2630","6611","503","103","103",null,null,null,null,null,null,null,null,null,null,null,null,null,{"$f":"IF(OR(SUMPRODUCT(--(E858=$O$1:$O$542))>0,E858=0),0,1)","v":0}]
["001.100.2630.6611.504.521.0000","Undesignated",83.6,null,"001"," ","001","100","2630","6611","504","104","104",null,null,null,null,null,null,null,null,null,null,null,null,null,{"$f":"IF(OR(SUMPRODUCT(--(E859=$O$1:$O$542))>0,E859=0),0,1)","v":0}]
["001.100.2630.6611.506.521.0000","Undesignated",20376.37,null,"001"," ","001","100","2630","6611","506","106","106",null,null,null,null,null,null,null,null,null,null,null,null,null,{"$f":"IF(OR(SUMPRODUCT(--(E860=$O$1:$O$542))>0,E860=0),0,1)","v":0}]
["001.100.2630.6611.507.521.0000","Undesignated",13365.56,null,"001"," ","001","100","2630","6611","507","107","107",null,null,null,null,null,null,null,null,null,null,null,null,null,{"$f":"IF(OR(SUMPRODUCT(--(E861=$O$1:$O$542))>0,E861=0),0,1)","v":0}]
["001.100.2630.6611.521.000.0000","SUPPLIES",31936.03,null,"001"," ","001","100","2630","6611","521","500","500",null,null,null,null,null,null,null,null,null,null,null,null,null,{"$f":"IF(OR(SUMPRODUCT(--(E862=$O$1:$O$542))>0,E862=0),0,1)","v":0}]
["001.100.2640.6431.501.521.0000","NON-TECH RELATED REPAIRS & MAINT",162.16,null,"001"," ","001","100","2640","6431","501","500","500",null,null,null,null,null,null,null,null,null,null,null,null,null,{"$f":"IF(OR(SUMPRODUCT(--(E863=$O$1:$O$542))>0,E863=0),0,1)","v":0}]
["001.100.2640.6431.502.521.0000","NON-TECH RELATED REPAIRS & MAINT",6561.42,null,"001"," ","001","100","2640","6431","502","102","102",null,null,null,null,null,null,null,null,null,null,null,null,null,{"$f":"IF(OR(SUMPRODUCT(--(E864=$O$1:$O$542))>0,E864=0),0,1)","v":0}]
["001.100.2640.6431.503.521.0000","NON-TECH RELATED REPAIRS & MAINT",7186.6,null,"001"," ","001","100","2640","6431","503","103","103",null,null,null,null,null,null,null,null,null,null,null,null,null,{"$f":"IF(OR(SUMPRODUCT(--(E865=$O$1:$O$542))>0,E865=0),0,1)","v":0}]
["001.100.2640.6431.504.521.0000","NON-TECH RELATED REPAIRS & MAINT",9563.08,null,"001"," ","001","100","2640","6431","504","104","104",null,null,null,null,null,null,null,null,null,null,null,null,null,{"$f":"IF(OR(SUMPRODUCT(--(E866=$O$1:$O$542))>0,E866=0),0,1)","v":0}]
["001.100.2640.6431.505.521.0000","NON-TECH RELATED REPAIRS & MAINT",8939.84,null,"001"," ","001","100","2640","6431","505","105","105",null,null,null,null,null,null,null,null,null,null,null,null,null,{"$f":"IF(OR(SUMPRODUCT(--(E867=$O$1:$O$542))>0,E867=0),0,1)","v":0}]
["001.100.2640.6431.506.521.0000","NON-TECH RELATED REPAIRS & MAINT",9481.91,null,"001"," ","001","100","2640","6431","506","106","106",null,null,null,null,null,null,null,null,null,null,null,null,null,{"$f":"IF(OR(SUMPRODUCT(--(E868=$O$1:$O$542))>0,E868=0),0,1)","v":0}]
["001.100.2640.6431.507.521.0000","NON-TECH RELATED REPAIRS & MAINT",5580.36,null,"001"," ","001","100","2640","6431","507","107","107",null,null,null,null,null,null,null,null,null,null,null,null,null,{"$f":"IF(OR(SUMPRODUCT(--(E869=$O$1:$O$542))>0,E869=0),0,1)","v":0}]
["001.100.2640.6431.521.000.0000","NON-TECH RELATED REPAIRS & MAINT",219968.14,null,"001"," ","001","100","2640","6431","521","500","500",null,null,null,null,null,null,null,null,null,null,null,null,null,{"$f":"IF(OR(SUMPRODUCT(--(E870=$O$1:$O$542))>0,E870=0),0,1)","v":0}]
["001.100.2640.6590.521.000.0000","Undesignated",2767.5,null,"001"," ","001","100","2640","6590","521","500","500",null,null,null,null,null,null,null,null,null,null,null,null,null,{"$f":"IF(OR(SUMPRODUCT(--(E871=$O$1:$O$542))>0,E871=0),0,1)","v":0}]
["001.100.2640.6611.501.521.0000","Undesignated",6228.12,null,"001"," ","001","100","2640","6611","501","500","500",null,null,null,null,null,null,null,null,null,null,null,null,null,{"$f":"IF(OR(SUMPRODUCT(--(E872=$O$1:$O$542))>0,E872=0),0,1)","v":0}]
["001.100.2640.6611.502.521.0000","Undesignated",7649.2,null,"001"," ","001","100","2640","6611","502","102","102",null,null,null,null,null,null,null,null,null,null,null,null,null,{"$f":"IF(OR(SUMPRODUCT(--(E873=$O$1:$O$542))>0,E873=0),0,1)","v":0}]
["001.100.2640.6611.503.521.0000","Undesignated",3465.17,null,"001"," ","001","100","2640","6611","503","103","103",null,null,null,null,null,null,null,null,null,null,null,null,null,{"$f":"IF(OR(SUMPRODUCT(--(E874=$O$1:$O$542))>0,E874=0),0,1)","v":0}]
["001.100.2640.6611.504.521.0000","Undesignated",4956.05,null,"001"," ","001","100","2640","6611","504","104","104",null,null,null,null,null,null,null,null,null,null,null,null,null,{"$f":"IF(OR(SUMPRODUCT(--(E875=$O$1:$O$542))>0,E875=0),0,1)","v":0}]
["001.100.2640.6611.505.521.0000","Undesignated",11490.7,null,"001"," ","001","100","2640","6611","505","105","105",null,null,null,null,null,null,null,null,null,null,null,null,null,{"$f":"IF(OR(SUMPRODUCT(--(E876=$O$1:$O$542))>0,E876=0),0,1)","v":0}]
["001.100.2640.6611.506.521.0000","Undesignated",6323.86,null,"001"," ","001","100","2640","6611","506","106","106",null,null,null,null,null,null,null,null,null,null,null,null,null,{"$f":"IF(OR(SUMPRODUCT(--(E877=$O$1:$O$542))>0,E877=0),0,1)","v":0}]
["001.100.2640.6611.507.521.0000","Undesignated",5071.8999999999996,null,"001"," ","001","100","2640","6611","507","107","107",null,null,null,null,null,null,null,null,null,null,null,null,null,{"$f":"IF(OR(SUMPRODUCT(--(E878=$O$1:$O$542))>0,E878=0),0,1)","v":0}]
["001.100.2640.6611.521.000.0000","SUPPLIES",59587.53,null,"001"," ","001","100","2640","6611","521","500","500",null,null,null,null,null,null,null,null,null,null,null,null,null,{"$f":"IF(OR(SUMPRODUCT(--(E879=$O$1:$O$542))>0,E879=0),0,1)","v":0}]
["001.100.2650.6152.521.000.0000","MECHANIC",-724.46,null,"001"," ","001","100","2650","6152","521","500","500",null,null,null,null,null,null,null,null,null,null,null,null,null,{"$f":"IF(OR(SUMPRODUCT(--(E880=$O$1:$O$542))>0,E880=0),0,1)","v":0}]
["001.100.2650.6154.521.000.0000","MECHANIC OVERTIME",724.46,null,"001"," ","001","100","2650","6154","521","500","500",null,null,null,null,null,null,null,null,null,null,null,null,null,{"$f":"IF(OR(SUMPRODUCT(--(E881=$O$1:$O$542))>0,E881=0),0,1)","v":0}]
["001.100.2650.6431.521.000.0000","NON-TECH RELATED REPAIRS & MAINT",6001,null,"001"," ","001","100","2650","6431","521","500","500",null,null,null,null,null,null,null,null,null,null,null,null,null,{"$f":"IF(OR(SUMPRODUCT(--(E882=$O$1:$O$542))>0,E882=0),0,1)","v":0}]
["001.100.2650.6611.521.000.0000","VEHICLE PARTS-NON PUPIL",-408.22,null,"001"," ","001","100","2650","6611","521","500","500",null,null,null,null,null,null,null,null,null,null,null,null,null,{"$f":"IF(OR(SUMPRODUCT(--(E883=$O$1:$O$542))>0,E883=0),0,1)","v":0}]
["001.100.2650.6626.521.000.0000","GASOLINE-NON PUPIL",85283.11,null,"001"," ","001","100","2650","6626","521","500","500",null,null,null,null,null,null,null,null,null,null,null,null,null,{"$f":"IF(OR(SUMPRODUCT(--(E884=$O$1:$O$542))>0,E884=0),0,1)","v":0}]
["001.100.2650.6810.521.000.0000","DUES & FEES",500,null,"001"," ","001","100","2650","6810","521","500","500",null,null,null,null,null,null,null,null,null,null,null,null,null,{"$f":"IF(OR(SUMPRODUCT(--(E885=$O$1:$O$542))>0,E885=0),0,1)","v":0}]
["001.100.2660.6590.515.000.0000","Undesignated",680,null,"001"," ","001","100","2660","6590","515","500","500",null,null,null,null,null,null,null,null,null,null,null,null,null,{"$f":"IF(OR(SUMPRODUCT(--(E886=$O$1:$O$542))>0,E886=0),0,1)","v":0}]
["001.100.2670.6152.521.000.0000","CLASSIFIED",-49.44,null,"001"," ","001","100","2670","6152","521","500","500",null,null,null,null,null,null,null,null,null,null,null,null,null,{"$f":"IF(OR(SUMPRODUCT(--(E887=$O$1:$O$542))>0,E887=0),0,1)","v":0}]
["001.100.2670.6154.521.000.0000","CLASS OVERTIME",49.44,null,"001"," ","001","100","2670","6154","521","500","500",null,null,null,null,null,null,null,null,null,null,null,null,null,{"$f":"IF(OR(SUMPRODUCT(--(E888=$O$1:$O$542))>0,E888=0),0,1)","v":0}]
["001.100.2670.6231.521.000.0000","STATE RETIREMENT",338.53,null,"001"," ","001","100","2670","6231","521","500","500",null,null,null,null,null,null,null,null,null,null,null,null,null,{"$f":"IF(OR(SUMPRODUCT(--(E889=$O$1:$O$542))>0,E889=0),0,1)","v":0}]
["001.100.2670.6232.521.000.0000","L-T DISABILITY",3.94,null,"001"," ","001","100","2670","6232","521","500","500",null,null,null,null,null,null,null,null,null,null,null,null,null,{"$f":"IF(OR(SUMPRODUCT(--(E890=$O$1:$O$542))>0,E890=0),0,1)","v":0}]
["001.100.2680.6151.521.000.0000","CLASS ADMINISTRATOR",51931.5,null,"001"," ","001","100","2680","6151","521","500","500",null,null,null,null,null,null,null,null,null,null,null,null,null,{"$f":"IF(OR(SUMPRODUCT(--(E891=$O$1:$O$542))>0,E891=0),0,1)","v":0}]
["001.100.2680.6212.521.000.0000","LIFE INSURANCE",33.9,null,"001"," ","001","100","2680","6212","521","500","500",null,null,null,null,null,null,null,null,null,null,null,null,null,{"$f":"IF(OR(SUMPRODUCT(--(E892=$O$1:$O$542))>0,E892=0),0,1)","v":0}]
["001.100.2680.6221.521.000.0000","SOCIAL SECURITY-FICA",3714.61,null,"001"," ","001","100","2680","6221","521","500","500",null,null,null,null,null,null,null,null,null,null,null,null,null,{"$f":"IF(OR(SUMPRODUCT(--(E893=$O$1:$O$542))>0,E893=0),0,1)","v":0}]
["001.100.2680.6222.521.000.0000","FICA MEDICARE",868.79,null,"001"," ","001","100","2680","6222","521","500","500",null,null,null,null,null,null,null,null,null,null,null,null,null,{"$f":"IF(OR(SUMPRODUCT(--(E894=$O$1:$O$542))>0,E894=0),0,1)","v":0}]
["001.100.2680.6231.521.000.0000","STATE RETIREMENT",7207.45,null,"001"," ","001","100","2680","6231","521","500","500",null,null,null,null,null,null,null,null,null,null,null,null,null,{"$f":"IF(OR(SUMPRODUCT(--(E895=$O$1:$O$542))>0,E895=0),0,1)","v":0}]
["001.100.2680.6232.521.000.0000","L-T DISABILITY",84.01,null,"001"," ","001","100","2680","6232","521","500","500",null,null,null,null,null,null,null,null,null,null,null,null,null,{"$f":"IF(OR(SUMPRODUCT(--(E896=$O$1:$O$542))>0,E896=0),0,1)","v":0}]
["001.100.2680.6260.521.000.0000","WORKERS' COMPENSATION",2228.81,null,"001"," ","001","100","2680","6260","521","500","500",null,null,null,null,null,null,null,null,null,null,null,null,null,{"$f":"IF(OR(SUMPRODUCT(--(E897=$O$1:$O$542))>0,E897=0),0,1)","v":0}]
["001.100.2680.6280.521.000.0000","UNUSED LEAVE",7981.37,null,"001"," ","001","100","2680","6280","521","500","500",null,null,null,null,null,null,null,null,null,null,null,null,null,{"$f":"IF(OR(SUMPRODUCT(--(E898=$O$1:$O$542))>0,E898=0),0,1)","v":0}]
["001.100.2690.6431.521.000.0000","Undesignated",854,null,"001"," ","001","100","2690","6431","521","500","500",null,null,null,null,null,null,null,null,null,null,null,null,null,{"$f":"IF(OR(SUMPRODUCT(--(E899=$O$1:$O$542))>0,E899=0),0,1)","v":0}]
["001.100.2690.6611.521.000.0000","SUPPLIES",908.31,null,"001"," ","001","100","2690","6611","521","500","500",null,null,null,null,null,null,null,null,null,null,null,null,null,{"$f":"IF(OR(SUMPRODUCT(--(E900=$O$1:$O$542))>0,E900=0),0,1)","v":0}]
["001.100.2690.6615.521.000.0000","UNIFORMS/LINENS",4488.41,null,"001"," ","001","100","2690","6615","521","500","500",null,null,null,null,null,null,null,null,null,null,null,null,null,{"$f":"IF(OR(SUMPRODUCT(--(E901=$O$1:$O$542))>0,E901=0),0,1)","v":0}]
["001.100.3100.6411.503.000.0000","WATER/SEWAGE",11445.13,null,"001"," ","001","100","3100","6411","503","103","103",null,null,null,null,null,null,null,null,null,null,null,null,null,{"$f":"IF(OR(SUMPRODUCT(--(E902=$O$1:$O$542))>0,E902=0),0,1)","v":0}]
["001.100.3100.6411.504.000.0000","Undesignated",1480.7,null,"001"," ","001","100","3100","6411","504","104","104",null,null,null,null,null,null,null,null,null,null,null,null,null,{"$f":"IF(OR(SUMPRODUCT(--(E903=$O$1:$O$542))>0,E903=0),0,1)","v":0}]
["001.100.3100.6411.505.000.0000","Undesignated",2194.75,null,"001"," ","001","100","3100","6411","505","105","105",null,null,null,null,null,null,null,null,null,null,null,null,null,{"$f":"IF(OR(SUMPRODUCT(--(E904=$O$1:$O$542))>0,E904=0),0,1)","v":0}]
["001.100.3100.6411.506.000.0000","Undesignated",4888.63,null,"001"," ","001","100","3100","6411","506","106","106",null,null,null,null,null,null,null,null,null,null,null,null,null,{"$f":"IF(OR(SUMPRODUCT(--(E905=$O$1:$O$542))>0,E905=0),0,1)","v":0}]
["001.100.3100.6411.507.000.0000","Undesignated",1719.37,null,"001"," ","001","100","3100","6411","507","107","107",null,null,null,null,null,null,null,null,null,null,null,null,null,{"$f":"IF(OR(SUMPRODUCT(--(E906=$O$1:$O$542))>0,E906=0),0,1)","v":0}]
["001.100.3100.6611.503.521.0000","DISPOSAL",11114.38,null,"001"," ","001","100","3100","6611","503","103","103",null,null,null,null,null,null,null,null,null,null,null,null,null,{"$f":"IF(OR(SUMPRODUCT(--(E907=$O$1:$O$542))>0,E907=0),0,1)","v":0}]
["001.100.3100.6611.504.521.0000","DISPOSAL",4956.0600000000004,null,"001"," ","001","100","3100","6611","504","104","104",null,null,null,null,null,null,null,null,null,null,null,null,null,{"$f":"IF(OR(SUMPRODUCT(--(E908=$O$1:$O$542))>0,E908=0),0,1)","v":0}]
["001.100.3100.6611.505.521.0000","DISPOSAL",2872.68,null,"001"," ","001","100","3100","6611","505","105","105",null,null,null,null,null,null,null,null,null,null,null,null,null,{"$f":"IF(OR(SUMPRODUCT(--(E909=$O$1:$O$542))>0,E909=0),0,1)","v":0}]
["001.100.3100.6611.506.521.0000","DISPOSAL",6323.87,null,"001"," ","001","100","3100","6611","506","106","106",null,null,null,null,null,null,null,null,null,null,null,null,null,{"$f":"IF(OR(SUMPRODUCT(--(E910=$O$1:$O$542))>0,E910=0),0,1)","v":0}]
["001.100.3100.6611.507.521.0000","DISPOSAL",5071.91,null,"001"," ","001","100","3100","6611","507","107","107",null,null,null,null,null,null,null,null,null,null,null,null,null,{"$f":"IF(OR(SUMPRODUCT(--(E911=$O$1:$O$542))>0,E911=0),0,1)","v":0}]
["001.100.3100.6622.501.000.0000","ELECTRICITY",20009.509999999998,null,"001"," ","001","100","3100","6622","501","500","500",null,null,null,null,null,null,null,null,null,null,null,null,null,{"$f":"IF(OR(SUMPRODUCT(--(E912=$O$1:$O$542))>0,E912=0),0,1)","v":0}]
["001.100.3100.6622.504.000.0000","ELECTRICITY",6691.31,null,"001"," ","001","100","3100","6622","504","104","104",null,null,null,null,null,null,null,null,null,null,null,null,null,{"$f":"IF(OR(SUMPRODUCT(--(E913=$O$1:$O$542))>0,E913=0),0,1)","v":0}]
["001.100.3100.6622.505.000.0000","ELECTRICITY",10841.68,null,"001"," ","001","100","3100","6622","505","105","105",null,null,null,null,null,null,null,null,null,null,null,null,null,{"$f":"IF(OR(SUMPRODUCT(--(E914=$O$1:$O$542))>0,E914=0),0,1)","v":0}]
["001.100.3100.6622.506.000.0000","ELECTRICITY",896.9,null,"001"," ","001","100","3100","6622","506","106","106",null,null,null,null,null,null,null,null,null,null,null,null,null,{"$f":"IF(OR(SUMPRODUCT(--(E915=$O$1:$O$542))>0,E915=0),0,1)","v":0}]
["001.100.3100.6622.507.000.0000","ELECTRICITY",2676.83,null,"001"," ","001","100","3100","6622","507","107","107",null,null,null,null,null,null,null,null,null,null,null,null,null,{"$f":"IF(OR(SUMPRODUCT(--(E916=$O$1:$O$542))>0,E916=0),0,1)","v":0}]
["001.160.1000.6112.102.000.0000","TEACHER - SEI",77320.7,null,"001"," ","001","160","1000","6112","102","102","102",null,null,null,null,null,null,null,null,null,null,null,null,null,{"$f":"IF(OR(SUMPRODUCT(--(E917=$O$1:$O$542))>0,E917=0),0,1)","v":0}]
["001.160.1000.6112.103.000.0000","TEACHER - SEI",221009.97,null,"001"," ","001","160","1000","6112","103","103","103",null,null,null,null,null,null,null,null,null,null,null,null,null,{"$f":"IF(OR(SUMPRODUCT(--(E918=$O$1:$O$542))>0,E918=0),0,1)","v":0}]
["001.160.1000.6112.104.000.0000","TEACHER - SEI",137833.34,null,"001"," ","001","160","1000","6112","104","104","104",null,null,null,null,null,null,null,null,null,null,null,null,null,{"$f":"IF(OR(SUMPRODUCT(--(E919=$O$1:$O$542))>0,E919=0),0,1)","v":0}]
["001.160.1000.6112.106.000.0000","TEACHER - SEI",163450.85999999999,null,"001"," ","001","160","1000","6112","106","106","106",null,null,null,null,null,null,null,null,null,null,null,null,null,{"$f":"IF(OR(SUMPRODUCT(--(E920=$O$1:$O$542))>0,E920=0),0,1)","v":0}]
["001.160.1000.6112.107.000.0000","TEACHER - SEI",231947.03,null,"001"," ","001","160","1000","6112","107","107","107",null,null,null,null,null,null,null,null,null,null,null,null,null,{"$f":"IF(OR(SUMPRODUCT(--(E921=$O$1:$O$542))>0,E921=0),0,1)","v":0}]
["001.160.1000.6210.102.000.0000","MED INS-BILINGUAL ED",3155.67,null,"001"," ","001","160","1000","6210","102","102","102",null,null,null,null,null,null,null,null,null,null,null,null,null,{"$f":"IF(OR(SUMPRODUCT(--(E922=$O$1:$O$542))>0,E922=0),0,1)","v":0}]
["001.160.1000.6210.103.000.0000","MED INS-BILINGUAL ED",26725.91,null,"001"," ","001","160","1000","6210","103","103","103",null,null,null,null,null,null,null,null,null,null,null,null,null,{"$f":"IF(OR(SUMPRODUCT(--(E923=$O$1:$O$542))>0,E923=0),0,1)","v":0}]
["001.160.1000.6210.104.000.0000","MED INS-BILINGUAL ED",15577.97,null,"001"," ","001","160","1000","6210","104","104","104",null,null,null,null,null,null,null,null,null,null,null,null,null,{"$f":"IF(OR(SUMPRODUCT(--(E924=$O$1:$O$542))>0,E924=0),0,1)","v":0}]
["001.160.1000.6210.106.000.0000","MED INS-BILINGUAL ED",15388.08,null,"001"," ","001","160","1000","6210","106","106","106",null,null,null,null,null,null,null,null,null,null,null,null,null,{"$f":"IF(OR(SUMPRODUCT(--(E925=$O$1:$O$542))>0,E925=0),0,1)","v":0}]
["001.160.1000.6210.107.000.0000","MED INS-BILINGUAL ED",9854.2099999999991,null,"001"," ","001","160","1000","6210","107","107","107",null,null,null,null,null,null,null,null,null,null,null,null,null,{"$f":"IF(OR(SUMPRODUCT(--(E926=$O$1:$O$542))>0,E926=0),0,1)","v":0}]
["001.160.1000.6212.102.000.0000","LIFE INS - BILINGUAL ED",115.99,null,"001"," ","001","160","1000","6212","102","102","102",null,null,null,null,null,null,null,null,null,null,null,null,null,{"$f":"IF(OR(SUMPRODUCT(--(E927=$O$1:$O$542))>0,E927=0),0,1)","v":0}]
["001.160.1000.6212.103.000.0000","LIFE INS - BILINGUAL ED",302.86,null,"001"," ","001","160","1000","6212","103","103","103",null,null,null,null,null,null,null,null,null,null,null,null,null,{"$f":"IF(OR(SUMPRODUCT(--(E928=$O$1:$O$542))>0,E928=0),0,1)","v":0}]
["001.160.1000.6212.104.000.0000","LIFE INS - BILINGUAL ED",162.56,null,"001"," ","001","160","1000","6212","104","104","104",null,null,null,null,null,null,null,null,null,null,null,null,null,{"$f":"IF(OR(SUMPRODUCT(--(E929=$O$1:$O$542))>0,E929=0),0,1)","v":0}]
["001.160.1000.6212.106.000.0000","LIFE INS - BILINGUAL ED",223.96,null,"001"," ","001","160","1000","6212","106","106","106",null,null,null,null,null,null,null,null,null,null,null,null,null,{"$f":"IF(OR(SUMPRODUCT(--(E930=$O$1:$O$542))>0,E930=0),0,1)","v":0}]
["001.160.1000.6212.107.000.0000","LIFE INS - BILINGUAL ED",295.22000000000003,null,"001"," ","001","160","1000","6212","107","107","107",null,null,null,null,null,null,null,null,null,null,null,null,null,{"$f":"IF(OR(SUMPRODUCT(--(E931=$O$1:$O$542))>0,E931=0),0,1)","v":0}]
["001.160.1000.6221.102.000.0000","FICA SSI-BILINGUAL ED",4785.1400000000003,null,"001"," ","001","160","1000","6221","102","102","102",null,null,null,null,null,null,null,null,null,null,null,null,null,{"$f":"IF(OR(SUMPRODUCT(--(E932=$O$1:$O$542))>0,E932=0),0,1)","v":0}]
["001.160.1000.6221.103.000.0000","FICA SSI-BILINGUAL ED",13621.55,null,"001"," ","001","160","1000","6221","103","103","103",null,null,null,null,null,null,null,null,null,null,null,null,null,{"$f":"IF(OR(SUMPRODUCT(--(E933=$O$1:$O$542))>0,E933=0),0,1)","v":0}]
["001.160.1000.6221.104.000.0000","FICA SSI-BILINGUAL ED",8490.4500000000007,null,"001"," ","001","160","1000","6221","104","104","104",null,null,null,null,null,null,null,null,null,null,null,null,null,{"$f":"IF(OR(SUMPRODUCT(--(E934=$O$1:$O$542))>0,E934=0),0,1)","v":0}]
["001.160.1000.6221.106.000.0000","FICA SSI-BILINGUAL ED",10086.99,null,"001"," ","001","160","1000","6221","106","106","106",null,null,null,null,null,null,null,null,null,null,null,null,null,{"$f":"IF(OR(SUMPRODUCT(--(E935=$O$1:$O$542))>0,E935=0),0,1)","v":0}]
["001.160.1000.6221.107.000.0000","FICA SSI-BILINGUAL ED",11422.01,null,"001"," ","001","160","1000","6221","107","107","107",null,null,null,null,null,null,null,null,null,null,null,null,null,{"$f":"IF(OR(SUMPRODUCT(--(E936=$O$1:$O$542))>0,E936=0),0,1)","v":0}]
["001.160.1000.6222.102.000.0000","FICA MED-BILINGUAL ED",1119.05,null,"001"," ","001","160","1000","6222","102","102","102",null,null,null,null,null,null,null,null,null,null,null,null,null,{"$f":"IF(OR(SUMPRODUCT(--(E937=$O$1:$O$542))>0,E937=0),0,1)","v":0}]
["001.160.1000.6222.103.000.0000","FICA MED-BILINGUAL ED",3185.89,null,"001"," ","001","160","1000","6222","103","103","103",null,null,null,null,null,null,null,null,null,null,null,null,null,{"$f":"IF(OR(SUMPRODUCT(--(E938=$O$1:$O$542))>0,E938=0),0,1)","v":0}]
["001.160.1000.6222.104.000.0000","FICA MED-BILINGUAL ED",1985.6,null,"001"," ","001","160","1000","6222","104","104","104",null,null,null,null,null,null,null,null,null,null,null,null,null,{"$f":"IF(OR(SUMPRODUCT(--(E939=$O$1:$O$542))>0,E939=0),0,1)","v":0}]
["001.160.1000.6222.106.000.0000","FICA MED-BILINGUAL ED",2359.09,null,"001"," ","001","160","1000","6222","106","106","106",null,null,null,null,null,null,null,null,null,null,null,null,null,{"$f":"IF(OR(SUMPRODUCT(--(E940=$O$1:$O$542))>0,E940=0),0,1)","v":0}]
["001.160.1000.6222.107.000.0000","FICA MED-BILINGUAL ED",2671.44,null,"001"," ","001","160","1000","6222","107","107","107",null,null,null,null,null,null,null,null,null,null,null,null,null,{"$f":"IF(OR(SUMPRODUCT(--(E941=$O$1:$O$542))>0,E941=0),0,1)","v":0}]
["001.160.1000.6231.102.000.0000","RETIRE MATCH BILINGUAL ED",9301.7999999999993,null,"001"," ","001","160","1000","6231","102","102","102",null,null,null,null,null,null,null,null,null,null,null,null,null,{"$f":"IF(OR(SUMPRODUCT(--(E942=$O$1:$O$542))>0,E942=0),0,1)","v":0}]
["001.160.1000.6231.103.000.0000","RETIRE MATCH BILINGUAL ED",26587.29,null,"001"," ","001","160","1000","6231","103","103","103",null,null,null,null,null,null,null,null,null,null,null,null,null,{"$f":"IF(OR(SUMPRODUCT(--(E943=$O$1:$O$542))>0,E943=0),0,1)","v":0}]
["001.160.1000.6231.104.000.0000","RETIRE MATCH BILINGUAL ED",16581.53,null,"001"," ","001","160","1000","6231","104","104","104",null,null,null,null,null,null,null,null,null,null,null,null,null,{"$f":"IF(OR(SUMPRODUCT(--(E944=$O$1:$O$542))>0,E944=0),0,1)","v":0}]
["001.160.1000.6231.106.000.0000","RETIRE MATCH BILINGUAL ED",19663.22,null,"001"," ","001","160","1000","6231","106","106","106",null,null,null,null,null,null,null,null,null,null,null,null,null,{"$f":"IF(OR(SUMPRODUCT(--(E945=$O$1:$O$542))>0,E945=0),0,1)","v":0}]
["001.160.1000.6231.107.000.0000","RETIRE MATCH BILINGUAL ED",22437.32,null,"001"," ","001","160","1000","6231","107","107","107",null,null,null,null,null,null,null,null,null,null,null,null,null,{"$f":"IF(OR(SUMPRODUCT(--(E946=$O$1:$O$542))>0,E946=0),0,1)","v":0}]
["001.160.1000.6232.102.000.0000","RETLTD-BILINGUAL ED",108.16,null,"001"," ","001","160","1000","6232","102","102","102",null,null,null,null,null,null,null,null,null,null,null,null,null,{"$f":"IF(OR(SUMPRODUCT(--(E947=$O$1:$O$542))>0,E947=0),0,1)","v":0}]
["001.160.1000.6232.103.000.0000","RETLTD-BILINGUAL ED",309.20999999999998,null,"001"," ","001","160","1000","6232","103","103","103",null,null,null,null,null,null,null,null,null,null,null,null,null,{"$f":"IF(OR(SUMPRODUCT(--(E948=$O$1:$O$542))>0,E948=0),0,1)","v":0}]
["001.160.1000.6232.104.000.0000","RETLTD-BILINGUAL ED",192.89,null,"001"," ","001","160","1000","6232","104","104","104",null,null,null,null,null,null,null,null,null,null,null,null,null,{"$f":"IF(OR(SUMPRODUCT(--(E949=$O$1:$O$542))>0,E949=0),0,1)","v":0}]
["001.160.1000.6232.106.000.0000","RETLTD-BILINGUAL ED",228.62,null,"001"," ","001","160","1000","6232","106","106","106",null,null,null,null,null,null,null,null,null,null,null,null,null,{"$f":"IF(OR(SUMPRODUCT(--(E950=$O$1:$O$542))>0,E950=0),0,1)","v":0}]
["001.160.1000.6232.107.000.0000","RETLTD-BILINGUAL ED",261.17,null,"001"," ","001","160","1000","6232","107","107","107",null,null,null,null,null,null,null,null,null,null,null,null,null,{"$f":"IF(OR(SUMPRODUCT(--(E951=$O$1:$O$542))>0,E951=0),0,1)","v":0}]
["001.160.1000.6260.102.000.0000","W/C-BILINGUAL ED",541.22,null,"001"," ","001","160","1000","6260","102","102","102",null,null,null,null,null,null,null,null,null,null,null,null,null,{"$f":"IF(OR(SUMPRODUCT(--(E952=$O$1:$O$542))>0,E952=0),0,1)","v":0}]
["001.160.1000.6260.103.000.0000","W/C-BILINGUAL ED",1546.73,null,"001"," ","001","160","1000","6260","103","103","103",null,null,null,null,null,null,null,null,null,null,null,null,null,{"$f":"IF(OR(SUMPRODUCT(--(E953=$O$1:$O$542))>0,E953=0),0,1)","v":0}]
["001.160.1000.6260.104.000.0000","W/C-BILINGUAL ED",964.73,null,"001"," ","001","160","1000","6260","104","104","104",null,null,null,null,null,null,null,null,null,null,null,null,null,{"$f":"IF(OR(SUMPRODUCT(--(E954=$O$1:$O$542))>0,E954=0),0,1)","v":0}]
["001.160.1000.6260.106.000.0000","W/C-BILINGUAL ED",1144.1500000000001,null,"001"," ","001","160","1000","6260","106","106","106",null,null,null,null,null,null,null,null,null,null,null,null,null,{"$f":"IF(OR(SUMPRODUCT(--(E955=$O$1:$O$542))>0,E955=0),0,1)","v":0}]
["001.160.1000.6260.107.000.0000","W/C-BILINGUAL ED",1627.8,null,"001"," ","001","160","1000","6260","107","107","107",null,null,null,null,null,null,null,null,null,null,null,null,null,{"$f":"IF(OR(SUMPRODUCT(--(E956=$O$1:$O$542))>0,E956=0),0,1)","v":0}]
["001.160.1900.6155.102.000.0000","EXTRA DUTY",173.47,null,"001"," ","001","160","1900","6155","102","102","102",null,null,null,null,null,null,null,null,null,null,null,null,null,{"$f":"IF(OR(SUMPRODUCT(--(E957=$O$1:$O$542))>0,E957=0),0,1)","v":0}]
["001.160.1900.6155.103.000.0000","CLASS EXTRA DUTY",612.02,null,"001"," ","001","160","1900","6155","103","103","103",null,null,null,null,null,null,null,null,null,null,null,null,null,{"$f":"IF(OR(SUMPRODUCT(--(E958=$O$1:$O$542))>0,E958=0),0,1)","v":0}]
["001.160.1900.6155.106.000.0000","CLASS EXTRA DUTY",727.08,null,"001"," ","001","160","1900","6155","106","106","106",null,null,null,null,null,null,null,null,null,null,null,null,null,{"$f":"IF(OR(SUMPRODUCT(--(E959=$O$1:$O$542))>0,E959=0),0,1)","v":0}]
["001.160.1900.6155.107.000.0000","EXTRA DUTY",584.24,null,"001"," ","001","160","1900","6155","107","107","107",null,null,null,null,null,null,null,null,null,null,null,null,null,{"$f":"IF(OR(SUMPRODUCT(--(E960=$O$1:$O$542))>0,E960=0),0,1)","v":0}]
["001.160.1900.6156.102.000.0000","AIDE",5964.01,null,"001"," ","001","160","1900","6156","102","102","102",null,null,null,null,null,null,null,null,null,null,null,null,null,{"$f":"IF(OR(SUMPRODUCT(--(E961=$O$1:$O$542))>0,E961=0),0,1)","v":0}]
["001.160.1900.6156.103.000.0000","AIDE",19238.650000000001,null,"001"," ","001","160","1900","6156","103","103","103",null,null,null,null,null,null,null,null,null,null,null,null,null,{"$f":"IF(OR(SUMPRODUCT(--(E962=$O$1:$O$542))>0,E962=0),0,1)","v":0}]
["001.160.1900.6156.104.000.0000","AIDE",7890.79,null,"001"," ","001","160","1900","6156","104","104","104",null,null,null,null,null,null,null,null,null,null,null,null,null,{"$f":"IF(OR(SUMPRODUCT(--(E963=$O$1:$O$542))>0,E963=0),0,1)","v":0}]
["001.160.1900.6156.106.000.0000","AIDE",7890.79,null,"001"," ","001","160","1900","6156","106","106","106",null,null,null,null,null,null,null,null,null,null,null,null,null,{"$f":"IF(OR(SUMPRODUCT(--(E964=$O$1:$O$542))>0,E964=0),0,1)","v":0}]
["001.160.1900.6210.104.000.0000","GROUP INSURANCE",1509.4,null,"001"," ","001","160","1900","6210","104","104","104",null,null,null,null,null,null,null,null,null,null,null,null,null,{"$f":"IF(OR(SUMPRODUCT(--(E965=$O$1:$O$542))>0,E965=0),0,1)","v":0}]
["001.160.1900.6210.106.000.0000","GROUP INSURANCE",1509.7,null,"001"," ","001","160","1900","6210","106","106","106",null,null,null,null,null,null,null,null,null,null,null,null,null,{"$f":"IF(OR(SUMPRODUCT(--(E966=$O$1:$O$542))>0,E966=0),0,1)","v":0}]
["001.160.1900.6210.107.000.0000","MED INS-BILINGUAL ED",29.74,null,"001"," ","001","160","1900","6210","107","107","107",null,null,null,null,null,null,null,null,null,null,null,null,null,{"$f":"IF(OR(SUMPRODUCT(--(E967=$O$1:$O$542))>0,E967=0),0,1)","v":0}]
["001.160.1900.6212.102.000.0000","LIFE INSURANCE",16.95,null,"001"," ","001","160","1900","6212","102","102","102",null,null,null,null,null,null,null,null,null,null,null,null,null,{"$f":"IF(OR(SUMPRODUCT(--(E968=$O$1:$O$542))>0,E968=0),0,1)","v":0}]
["001.160.1900.6212.103.000.0000","LIFE INSURANCE",50.85,null,"001"," ","001","160","1900","6212","103","103","103",null,null,null,null,null,null,null,null,null,null,null,null,null,{"$f":"IF(OR(SUMPRODUCT(--(E969=$O$1:$O$542))>0,E969=0),0,1)","v":0}]
["001.160.1900.6212.104.000.0000","LIFE INSURANCE",16.95,null,"001"," ","001","160","1900","6212","104","104","104",null,null,null,null,null,null,null,null,null,null,null,null,null,{"$f":"IF(OR(SUMPRODUCT(--(E970=$O$1:$O$542))>0,E970=0),0,1)","v":0}]
["001.160.1900.6212.106.000.0000","LIFE INSURANCE",16.95,null,"001"," ","001","160","1900","6212","106","106","106",null,null,null,null,null,null,null,null,null,null,null,null,null,{"$f":"IF(OR(SUMPRODUCT(--(E971=$O$1:$O$542))>0,E971=0),0,1)","v":0}]
["001.160.1900.6212.107.000.0000","LIFE INS - BILINGUAL ED",-1.43,null,"001"," ","001","160","1900","6212","107","107","107",null,null,null,null,null,null,null,null,null,null,null,null,null,{"$f":"IF(OR(SUMPRODUCT(--(E972=$O$1:$O$542))>0,E972=0),0,1)","v":0}]
["001.160.1900.6221.102.000.0000","DISABILITY BILINGUAL ED",372.95,null,"001"," ","001","160","1900","6221","102","102","102",null,null,null,null,null,null,null,null,null,null,null,null,null,{"$f":"IF(OR(SUMPRODUCT(--(E973=$O$1:$O$542))>0,E973=0),0,1)","v":0}]
["001.160.1900.6221.103.000.0000","DISABILITY BILINGUAL ED",1197.52,null,"001"," ","001","160","1900","6221","103","103","103",null,null,null,null,null,null,null,null,null,null,null,null,null,{"$f":"IF(OR(SUMPRODUCT(--(E974=$O$1:$O$542))>0,E974=0),0,1)","v":0}]
["001.160.1900.6221.104.000.0000","DISABILITY BILINGUAL ED",489.17,null,"001"," ","001","160","1900","6221","104","104","104",null,null,null,null,null,null,null,null,null,null,null,null,null,{"$f":"IF(OR(SUMPRODUCT(--(E975=$O$1:$O$542))>0,E975=0),0,1)","v":0}]
["001.160.1900.6221.106.000.0000","DISABILITY BILINGUAL ED",534.34,null,"001"," ","001","160","1900","6221","106","106","106",null,null,null,null,null,null,null,null,null,null,null,null,null,{"$f":"IF(OR(SUMPRODUCT(--(E976=$O$1:$O$542))>0,E976=0),0,1)","v":0}]
["001.160.1900.6221.107.000.0000","DISABILITY BILINGUAL ED",16.12,null,"001"," ","001","160","1900","6221","107","107","107",null,null,null,null,null,null,null,null,null,null,null,null,null,{"$f":"IF(OR(SUMPRODUCT(--(E977=$O$1:$O$542))>0,E977=0),0,1)","v":0}]
["001.160.1900.6222.102.000.0000","TEACHER - SEI",87.22,null,"001"," ","001","160","1900","6222","102","102","102",null,null,null,null,null,null,null,null,null,null,null,null,null,{"$f":"IF(OR(SUMPRODUCT(--(E978=$O$1:$O$542))>0,E978=0),0,1)","v":0}]
["001.160.1900.6222.103.000.0000","TEACHER - SEI",280,null,"001"," ","001","160","1900","6222","103","103","103",null,null,null,null,null,null,null,null,null,null,null,null,null,{"$f":"IF(OR(SUMPRODUCT(--(E979=$O$1:$O$542))>0,E979=0),0,1)","v":0}]
["001.160.1900.6222.104.000.0000","TEACHER - SEI",114.35,null,"001"," ","001","160","1900","6222","104","104","104",null,null,null,null,null,null,null,null,null,null,null,null,null,{"$f":"IF(OR(SUMPRODUCT(--(E980=$O$1:$O$542))>0,E980=0),0,1)","v":0}]
["001.160.1900.6222.106.000.0000","TEACHER - SEI",124.97,null,"001"," ","001","160","1900","6222","106","106","106",null,null,null,null,null,null,null,null,null,null,null,null,null,{"$f":"IF(OR(SUMPRODUCT(--(E981=$O$1:$O$542))>0,E981=0),0,1)","v":0}]
["001.160.1900.6222.107.000.0000","TEACHER - SEI",3.77,null,"001"," ","001","160","1900","6222","107","107","107",null,null,null,null,null,null,null,null,null,null,null,null,null,{"$f":"IF(OR(SUMPRODUCT(--(E982=$O$1:$O$542))>0,E982=0),0,1)","v":0}]
["001.160.1900.6231.102.000.0000","DISABILITY BILINGUAL ED",738.37,null,"001"," ","001","160","1900","6231","102","102","102",null,null,null,null,null,null,null,null,null,null,null,null,null,{"$f":"IF(OR(SUMPRODUCT(--(E983=$O$1:$O$542))>0,E983=0),0,1)","v":0}]
["001.160.1900.6231.103.000.0000","DISABILITY BILINGUAL ED",2387.87,null,"001"," ","001","160","1900","6231","103","103","103",null,null,null,null,null,null,null,null,null,null,null,null,null,{"$f":"IF(OR(SUMPRODUCT(--(E984=$O$1:$O$542))>0,E984=0),0,1)","v":0}]
["001.160.1900.6231.104.000.0000","DISABILITY BILINGUAL ED",949.19,null,"001"," ","001","160","1900","6231","104","104","104",null,null,null,null,null,null,null,null,null,null,null,null,null,{"$f":"IF(OR(SUMPRODUCT(--(E985=$O$1:$O$542))>0,E985=0),0,1)","v":0}]
["001.160.1900.6231.106.000.0000","DISABILITY BILINGUAL ED",1036.76,null,"001"," ","001","160","1900","6231","106","106","106",null,null,null,null,null,null,null,null,null,null,null,null,null,{"$f":"IF(OR(SUMPRODUCT(--(E986=$O$1:$O$542))>0,E986=0),0,1)","v":0}]
["001.160.1900.6231.107.000.0000","DISABILITY BILINGUAL ED",31.72,null,"001"," ","001","160","1900","6231","107","107","107",null,null,null,null,null,null,null,null,null,null,null,null,null,{"$f":"IF(OR(SUMPRODUCT(--(E987=$O$1:$O$542))>0,E987=0),0,1)","v":0}]
["001.160.1900.6232.102.000.0000","TEACHER - SEI",8.6199999999999992,null,"001"," ","001","160","1900","6232","102","102","102",null,null,null,null,null,null,null,null,null,null,null,null,null,{"$f":"IF(OR(SUMPRODUCT(--(E988=$O$1:$O$542))>0,E988=0),0,1)","v":0}]
["001.160.1900.6232.103.000.0000","TEACHER - SEI",27.68,null,"001"," ","001","160","1900","6232","103","103","103",null,null,null,null,null,null,null,null,null,null,null,null,null,{"$f":"IF(OR(SUMPRODUCT(--(E989=$O$1:$O$542))>0,E989=0),0,1)","v":0}]
["001.160.1900.6232.104.000.0000","TEACHER - SEI",11,null,"001"," ","001","160","1900","6232","104","104","104",null,null,null,null,null,null,null,null,null,null,null,null,null,{"$f":"IF(OR(SUMPRODUCT(--(E990=$O$1:$O$542))>0,E990=0),0,1)","v":0}]
["001.160.1900.6232.106.000.0000","TEACHER - SEI",12.07,null,"001"," ","001","160","1900","6232","106","106","106",null,null,null,null,null,null,null,null,null,null,null,null,null,{"$f":"IF(OR(SUMPRODUCT(--(E991=$O$1:$O$542))>0,E991=0),0,1)","v":0}]
["001.160.1900.6232.107.000.0000","TEACHER - SEI",0.37,null,"001"," ","001","160","1900","6232","107","107","107",null,null,null,null,null,null,null,null,null,null,null,null,null,{"$f":"IF(OR(SUMPRODUCT(--(E992=$O$1:$O$542))>0,E992=0),0,1)","v":0}]
["001.160.1900.6260.102.000.0000","TEACHER - SEI",42.94,null,"001"," ","001","160","1900","6260","102","102","102",null,null,null,null,null,null,null,null,null,null,null,null,null,{"$f":"IF(OR(SUMPRODUCT(--(E993=$O$1:$O$542))>0,E993=0),0,1)","v":0}]
["001.160.1900.6260.103.000.0000","TEACHER - SEI",138.30000000000001,null,"001"," ","001","160","1900","6260","103","103","103",null,null,null,null,null,null,null,null,null,null,null,null,null,{"$f":"IF(OR(SUMPRODUCT(--(E994=$O$1:$O$542))>0,E994=0),0,1)","v":0}]
["001.160.1900.6260.104.000.0000","TEACHER - SEI",55.1,null,"001"," ","001","160","1900","6260","104","104","104",null,null,null,null,null,null,null,null,null,null,null,null,null,{"$f":"IF(OR(SUMPRODUCT(--(E995=$O$1:$O$542))>0,E995=0),0,1)","v":0}]
["001.160.1900.6260.106.000.0000","TEACHER - SEI",60.18,null,"001"," ","001","160","1900","6260","106","106","106",null,null,null,null,null,null,null,null,null,null,null,null,null,{"$f":"IF(OR(SUMPRODUCT(--(E996=$O$1:$O$542))>0,E996=0),0,1)","v":0}]
["001.160.1900.6260.107.000.0000","TEACHER - SEI",1.85,null,"001"," ","001","160","1900","6260","107","107","107",null,null,null,null,null,null,null,null,null,null,null,null,null,{"$f":"IF(OR(SUMPRODUCT(--(E997=$O$1:$O$542))>0,E997=0),0,1)","v":0}]
["001.160.1900.6280.107.000.0000","UNUSED LEAVE",263.67,null,"001"," ","001","160","1900","6280","107","107","107",null,null,null,null,null,null,null,null,null,null,null,null,null,{"$f":"IF(OR(SUMPRODUCT(--(E998=$O$1:$O$542))>0,E998=0),0,1)","v":0}]
["001.160.2210.6111.565.000.0000","DIR OF LANG ACQ",38597.5,null,"001"," ","001","160","2210","6111","565","500","500",null,null,null,null,null,null,null,null,null,null,null,null,null,{"$f":"IF(OR(SUMPRODUCT(--(E999=$O$1:$O$542))>0,E999=0),0,1)","v":0}]
["001.160.2210.6112.106.000.0000","TEACHER - MASTER SEI",1953.29,null,"001"," ","001","160","2210","6112","106","106","106",null,null,null,null,null,null,null,null,null,null,null,null,null,{"$f":"IF(OR(SUMPRODUCT(--(E1000=$O$1:$O$542))>0,E1000=0),0,1)","v":0}]
["001.160.2210.6212.507.000.0000","LIFE INSURANCE",19.670000000000002,null,"001"," ","001","160","2210","6212","507","107","107",null,null,null,null,null,null,null,null,null,null,null,null,null,{"$f":"IF(OR(SUMPRODUCT(--(E1018=$O$1:$O$542))>0,E1018=0),0,1)","v":0}]
["001.200.2140.6221.504.560.0000","SOCIAL SECURITY-FICA",155,null,"001"," ","001","200","2140","6221","504","104","104",null,null,null,null,null,null,null,null,null,null,null,null,null,{"$f":"IF(OR(SUMPRODUCT(--(E1167=$O$1:$O$542))>0,E1167=0),0,1)","v":0}]
["001.200.2150.6231.507.560.0000","STATE RETIREMENT",300.75,null,"001"," ","001","200","2150","6231","507","107","107",null,null,null,null,null,null,null,null,null,null,null,null,null,{"$f":"IF(OR(SUMPRODUCT(--(E1212=$O$1:$O$542))>0,E1212=0),0,1)","v":0}]
["001.205.1900.6210.102.000.0000","GROUP INSURANCE",7084,null,"001"," ","001","205","1900","6210","102","102","102",null,null,null,null,null,null,null,null,null,null,null,null,null,{"$f":"IF(OR(SUMPRODUCT(--(E1345=$O$1:$O$542))>0,E1345=0),0,1)","v":0}]
["001.209.2160.6150.560.000.0000","CLASSIFIED EXEMPT",111046.04,null,"001"," ","001","209","2160","6150","560","500","500",null,null,null,null,null,null,null,null,null,null,null,null,null,{"$f":"IF(OR(SUMPRODUCT(--(E1407=$O$1:$O$542))>0,E1407=0),0,1)","v":0}]
["001.250.1000.6260.103.000.0000","WORKERS' COMPENSATION",0.04,null,"001"," ","001","250","1000","6260","103","103","103",null,null,null,null,null,null,null,null,null,null,null,null,null,{"$f":"IF(OR(SUMPRODUCT(--(E1544=$O$1:$O$542))>0,E1544=0),0,1)","v":0}]
["001.550.1045.6221.107.000.0000","SOCIAL SECURITY-FICA",334.8,null,"001"," ","001","550","1045","6221","107","107","107",null,null,null,null,null,null,null,null,null,null,null,null,null,{"$f":"IF(OR(SUMPRODUCT(--(E1617=$O$1:$O$542))>0,E1617=0),0,1)","v":0}]
["001.620.1100.6890.104.000.0000","Undesignated",600,null,"001"," ","001","620","1100","6890","104","104","104",null,null,null,null,null,null,null,null,null,null,null,null,null,{"$f":"IF(OR(SUMPRODUCT(--(E1647=$O$1:$O$542))>0,E1647=0),0,1)","v":0}]
["011.100.1060.6231.106.000.0000","STATE RETIREMENT",460.63,null,"010","010","011","100","1060","6231","106","106","106",null,null,null,null,null,null,null,null,null,null,null,null,null,{"$f":"IF(OR(SUMPRODUCT(--(E1796=$O$1:$O$542))>0,E1796=0),0,1)","v":0}]
["011.160.2210.6260.502.000.0000","WORKERS' COMPENSATION",9.93,null,"010","010","011","160","2210","6260","502","102","102",null,null,null,null,null,null,null,null,null,null,null,null,null,{"$f":"IF(OR(SUMPRODUCT(--(E1889=$O$1:$O$542))>0,E1889=0),0,1)","v":0}]
["011.240.1000.6232.107.000.0000","L-T DISABILITY",10.98,null,"010","010","011","240","1000","6232","107","107","107",null,null,null,null,null,null,null,null,null,null,null,null,null,{"$f":"IF(OR(SUMPRODUCT(--(E1979=$O$1:$O$542))>0,E1979=0),0,1)","v":0}]
["012.100.1045.6232.104.000.0000","L-T DISABILITY",3.36,null,"010","010","012","100","1045","6232","104","104","104",null,null,null,null,null,null,null,null,null,null,null,null,null,{"$f":"IF(OR(SUMPRODUCT(--(E2036=$O$1:$O$542))>0,E2036=0),0,1)","v":0}]
["012.205.1000.6232.104.000.0000","L/T DISABILITY",13.44,null,"010","010","012","205","1000","6232","104","104","104",null,null,null,null,null,null,null,null,null,null,null,null,null,{"$f":"IF(OR(SUMPRODUCT(--(E2161=$O$1:$O$542))>0,E2161=0),0,1)","v":0}]
["012.250.2120.6116.103.000.0000","Undesignated",2400,null,"010","010","012","250","2120","6116","103","103","103",null,null,null,null,null,null,null,null,null,null,null,null,null,{"$f":"IF(OR(SUMPRODUCT(--(E2219=$O$1:$O$542))>0,E2219=0),0,1)","v":0}]
["020.205.1000.6210.104.000.0000","GROUP INSURANCE",270.82,null,"020"," ","020","205","1000","6210","104","104","104",null,null,null,null,null,null,null,null,null,null,null,null,null,{"$f":"IF(OR(SUMPRODUCT(--(E2368=$O$1:$O$542))>0,E2368=0),0,1)","v":0}]
["101.250.1000.6210.520.000.0000","GROUP INSURANCE",114.04,null,"100","100","101","250","1000","6210","520","500","500",null,null,null,null,null,null,null,null,null,null,null,null,null,{"$f":"IF(OR(SUMPRODUCT(--(E2433=$O$1:$O$542))>0,E2433=0),0,1)","v":0}]
["101.250.2210.6212.506.000.0000","LIFE INSURANCE",50.7,null,"100","100","101","250","2210","6212","506","106","106",null,null,null,null,null,null,null,null,null,null,null,null,null,{"$f":"IF(OR(SUMPRODUCT(--(E2563=$O$1:$O$542))>0,E2563=0),0,1)","v":0}]
["101.250.2210.6232.520.000.0000","RETIRE LTD",73.34,null,"100","100","101","250","2210","6232","520","500","500",null,null,null,null,null,null,null,null,null,null,null,null,null,{"$f":"IF(OR(SUMPRODUCT(--(E2608=$O$1:$O$542))>0,E2608=0),0,1)","v":0}]
["141.100.2490.6111.500.520.0000","CERT ADMINISTRATORS",2972.75,null,"140","140","141","100","2490","6111","500","500","500",null,null,null,null,null,null,null,null,null,null,null,null,null,{"$f":"IF(OR(SUMPRODUCT(--(E2745=$O$1:$O$542))>0,E2745=0),0,1)","v":0}]
["161.100.2210.6260.504.520.0000","WORKERS' COMPENSATION",3.5,null,"160","160","161","100","2210","6260","504","104","104",null,null,null,null,null,null,null,null,null,null,null,null,null,{"$f":"IF(OR(SUMPRODUCT(--(E2798=$O$1:$O$542))>0,E2798=0),0,1)","v":0}]
["162.100.1000.6260.106.280.0000","WORKERS' COMPENSATION",89.25,null,"160","160","162","100","1000","6260","106","106","106",null,null,null,null,null,null,null,null,null,null,null,null,null,{"$f":"IF(OR(SUMPRODUCT(--(E2848=$O$1:$O$542))>0,E2848=0),0,1)","v":0}]
["163.100.2110.6221.104.000.0000","SOCIAL SECURITY-FICA",16.37,null,"160","160","163","100","2110","6221","104","104","104",null,null,null,null,null,null,null,null,null,null,null,null,null,{"$f":"IF(OR(SUMPRODUCT(--(E2997=$O$1:$O$542))>0,E2997=0),0,1)","v":0}]
["163.610.1000.6320.104.000.0000","Undesignated",7620,null,"160","160","163","610","1000","6320","104","104","104",null,null,null,null,null,null,null,null,null,null,null,null,null,{"$f":"IF(OR(SUMPRODUCT(--(E3070=$O$1:$O$542))>0,E3070=0),0,1)","v":0}]
["221.200.1000.6731.116.560.0000","Undesignated",2495.4699999999998,null,"220","220","221","200","1000","6731","116","500","500",null,null,null,null,null,null,null,null,null,null,null,null,null,{"$f":"IF(OR(SUMPRODUCT(--(E3180=$O$1:$O$542))>0,E3180=0),0,1)","v":0}]
["221.201.1900.6210.104.000.0000","GROUP INSURANCE",6072,null,"220","220","221","201","1900","6210","104","104","104",null,null,null,null,null,null,null,null,null,null,null,null,null,{"$f":"IF(OR(SUMPRODUCT(--(E3237=$O$1:$O$542))>0,E3237=0),0,1)","v":0}]
["228.000.0000.0103.000.000.0000","CASH ON DEP/COUNTY TREASR",-65441.98,null,"220","220","228","000","0000","0103","000","500","500",null,null,null,null,null,null,null,null,null,null,null,null,null,{"$f":"IF(OR(SUMPRODUCT(--(E3342=$O$1:$O$542))>0,E3342=0),0,1)","v":0}]
["290.100.1900.6212.107.000.0000","LIFE INSURANCE",67.8,null,"290"," ","290","100","1900","6212","107","107","107",null,null,null,null,null,null,null,null,null,null,null,null,null,{"$f":"IF(OR(SUMPRODUCT(--(E3420=$O$1:$O$542))>0,E3420=0),0,1)","v":0}]
["335.100.1000.6260.507.000.5408","WORKERS' COMPENSATION",96.6,null,"300","300","335","100","1000","6260","507","107","107",null,null,null,null,null,null,null,null,null,null,null,null,null,{"$f":"IF(OR(SUMPRODUCT(--(E3569=$O$1:$O$542))>0,E3569=0),0,1)","v":0}]
["336.100.1000.6221.105.000.0000","SOCIAL SECURITY-FICA",694.4,null,"COVID","COVID","336","100","1000","6221","105","105","105",null,null,null,null,null,null,null,null,null,null,null,null,null,{"$f":"IF(OR(SUMPRODUCT(--(E3614=$O$1:$O$542))>0,E3614=0),0,1)","v":0}]
["336.100.1900.6260.104.000.0000","WORKERS' COMPENSATION",42,null,"COVID","COVID","336","100","1900","6260","104","104","104",null,null,null,null,null,null,null,null,null,null,null,null,null,{"$f":"IF(OR(SUMPRODUCT(--(E3764=$O$1:$O$542))>0,E3764=0),0,1)","v":0}]
["336.100.2120.6112.507.000.0000","Undesignated",1000,null,"COVID","COVID","336","100","2120","6112","507","107","107",null,null,null,null,null,null,null,null,null,null,null,null,null,{"$f":"IF(OR(SUMPRODUCT(--(E3809=$O$1:$O$542))>0,E3809=0),0,1)","v":0}]
["336.100.2130.6260.560.000.0000","WORKERS' COMPENSATION",2877.93,null,"COVID","COVID","336","100","2130","6260","560","500","500",null,null,null,null,null,null,null,null,null,null,null,null,null,{"$f":"IF(OR(SUMPRODUCT(--(E3886=$O$1:$O$542))>0,E3886=0),0,1)","v":0}]
["336.100.2410.6155.105.000.0000","CLASS EXTRA DUTY",1564.16,null,"COVID","COVID","336","100","2410","6155","105","105","105",null,null,null,null,null,null,null,null,null,null,null,null,null,{"$f":"IF(OR(SUMPRODUCT(--(E4004=$O$1:$O$542))>0,E4004=0),0,1)","v":0}]
["336.100.2490.6232.520.000.0000","L-T DISABILITY",2.8,null,"COVID","COVID","336","100","2490","6232","520","500","500",null,null,null,null,null,null,null,null,null,null,null,null,null,{"$f":"IF(OR(SUMPRODUCT(--(E4049=$O$1:$O$542))>0,E4049=0),0,1)","v":0}]
["336.100.2620.6232.104.000.0000","L-T DISABILITY",1.4,null,"COVID","COVID","336","100","2620","6232","104","104","104",null,null,null,null,null,null,null,null,null,null,null,null,null,{"$f":"IF(OR(SUMPRODUCT(--(E4186=$O$1:$O$542))>0,E4186=0),0,1)","v":0}]
["336.100.3100.6222.106.000.0000","FICA MEDICARE",58.02,null,"COVID","COVID","336","100","3100","6222","106","106","106",null,null,null,null,null,null,null,null,null,null,null,null,null,{"$f":"IF(OR(SUMPRODUCT(--(E4251=$O$1:$O$542))>0,E4251=0),0,1)","v":0}]
["336.160.2260.6222.106.000.0000","FICA MEDICARE",14.5,null,"COVID","COVID","336","160","2260","6222","106","106","106",null,null,null,null,null,null,null,null,null,null,null,null,null,{"$f":"IF(OR(SUMPRODUCT(--(E4381=$O$1:$O$542))>0,E4381=0),0,1)","v":0}]
["336.200.1900.6222.106.000.0000","FICA MEDICARE",101.5,null,"COVID","COVID","336","200","1900","6222","106","106","106",null,null,null,null,null,null,null,null,null,null,null,null,null,{"$f":"IF(OR(SUMPRODUCT(--(E4438=$O$1:$O$542))>0,E4438=0),0,1)","v":0}]
["336.200.2150.6221.104.000.0000","SOCIAL SECURITY-FICA",62,null,"COVID","COVID","336","200","2150","6221","104","104","104",null,null,null,null,null,null,null,null,null,null,null,null,null,{"$f":"IF(OR(SUMPRODUCT(--(E4523=$O$1:$O$542))>0,E4523=0),0,1)","v":0}]
["336.206.1000.6222.103.000.0000","FICA MEDICARE",26.1,null,"COVID","COVID","336","206","1000","6222","103","103","103",null,null,null,null,null,null,null,null,null,null,null,null,null,{"$f":"IF(OR(SUMPRODUCT(--(E4621=$O$1:$O$542))>0,E4621=0),0,1)","v":0}]
["336.420.2720.6231.522.000.0000","STATE RETIREMENT",496.24,null,"COVID","COVID","336","420","2720","6231","522","500","500",null,null,null,null,null,null,null,null,null,null,null,null,null,{"$f":"IF(OR(SUMPRODUCT(--(E4770=$O$1:$O$542))>0,E4770=0),0,1)","v":0}]
["346.100.1000.6115.104.000.0000","CERT EXTRA DUTY",13800,null,"COVID","COVID","346","100","1000","6115","104","104","104",null,null,null,null,null,null,null,null,null,null,null,null,null,{"$f":"IF(OR(SUMPRODUCT(--(E4795=$O$1:$O$542))>0,E4795=0),0,1)","v":0}]
["346.100.2210.6112.520.000.0000","CERT TEACHERS",28270.28,null,"COVID","COVID","346","100","2210","6112","520","500","500",null,null,null,null,null,null,null,null,null,null,null,null,null,{"$f":"IF(OR(SUMPRODUCT(--(E4965=$O$1:$O$542))>0,E4965=0),0,1)","v":0}]
["346.100.2210.6260.504.280.9310","WORKERS' COMPENSATION",46.2,null,"COVID","COVID","346","100","2210","6260","504","104","104",null,null,null,null,null,null,null,null,null,null,null,null,null,{"$f":"IF(OR(SUMPRODUCT(--(E5010=$O$1:$O$542))>0,E5010=0),0,1)","v":0}]
["346.100.2580.6260.530.280.9310","WORKERS' COMPENSATION",34.69,null,"COVID","COVID","346","100","2580","6260","530","500","500",null,null,null,null,null,null,null,null,null,null,null,null,null,{"$f":"IF(OR(SUMPRODUCT(--(E5067=$O$1:$O$542))>0,E5067=0),0,1)","v":0}]
["346.200.1000.6221.106.000.0000","SOCIAL SECURITY-FICA",81.58,null,"COVID","COVID","346","200","1000","6221","106","106","106",null,null,null,null,null,null,null,null,null,null,null,null,null,{"$f":"IF(OR(SUMPRODUCT(--(E5205=$O$1:$O$542))>0,E5205=0),0,1)","v":0}]
["346.410.2710.6155.522.280.9310","CLASS EXTRA DUTY",12294.58,null,"COVID","COVID","346","410","2710","6155","522","500","500",null,null,null,null,null,null,null,null,null,null,null,null,null,{"$f":"IF(OR(SUMPRODUCT(--(E5250=$O$1:$O$542))>0,E5250=0),0,1)","v":0}]
["457.100.1000.6260.103.000.0000","WORKERS' COMPENSATION",215.91,null,"457"," ","457","100","1000","6260","103","103","103",null,null,null,null,null,null,null,null,null,null,null,null,null,{"$f":"IF(OR(SUMPRODUCT(--(E5339=$O$1:$O$542))>0,E5339=0),0,1)","v":0}]
["482.100.2110.6222.104.000.0000","FICA MEDICARE",756.21,null,"465","465","482","100","2110","6222","104","104","104",null,null,null,null,null,null,null,null,null,null,null,null,null,{"$f":"IF(OR(SUMPRODUCT(--(E5445=$O$1:$O$542))>0,E5445=0),0,1)","v":0}]
["510.100.3100.6739.570.000.0000","Undesignated",9587.9,null,"510"," ","510","100","3100","6739","570","500","500",null,null,null,null,null,null,null,null,null,null,null,null,null,{"$f":"IF(OR(SUMPRODUCT(--(E5582=$O$1:$O$542))>0,E5582=0),0,1)","v":0}]
["525.000.0000.1750.102.000.5251","Undesignated",-167.57,null,"525"," ","525","000","0000","1750","102","102","102",null,null,null,null,null,null,null,null,null,null,null,null,null,{"$f":"IF(OR(SUMPRODUCT(--(E5708=$O$1:$O$542))>0,E5708=0),0,1)","v":0}]
["526.000.0000.1790.106.000.5262","EXTRACURR FEES TAX CREDIT",-400,null,"526"," ","526","000","0000","1790","106","106","106",null,null,null,null,null,null,null,null,null,null,null,null,null,{"$f":"IF(OR(SUMPRODUCT(--(E5777=$O$1:$O$542))>0,E5777=0),0,1)","v":0}]
["526.100.2510.6890.535.000.0000","MISCELLANEOUS EXPENDITURE",2931.06,null,"526"," ","526","100","2510","6890","535","500","500",null,null,null,null,null,null,null,null,null,null,null,null,null,{"$f":"IF(OR(SUMPRODUCT(--(E5822=$O$1:$O$542))>0,E5822=0),0,1)","v":0}]
["530.100.1000.6212.103.435.5935","LIFE INSURANCE",67.8,null,"530"," ","530","100","1000","6212","103","103","103",null,null,null,null,null,null,null,null,null,null,null,null,null,{"$f":"IF(OR(SUMPRODUCT(--(E5971=$O$1:$O$542))>0,E5971=0),0,1)","v":0}]
["530.100.1900.6260.105.000.5935","WORKERS' COMPENSATION",9.01,null,"530"," ","530","100","1900","6260","105","105","105",null,null,null,null,null,null,null,null,null,null,null,null,null,{"$f":"IF(OR(SUMPRODUCT(--(E6069=$O$1:$O$542))>0,E6069=0),0,1)","v":0}]
["570.100.2410.6116.107.000.0000","CERT PERFORMANCE AWARD",4437.5,null,"570"," ","570","100","2410","6116","107","107","107",null,null,null,null,null,null,null,null,null,null,null,null,null,{"$f":"IF(OR(SUMPRODUCT(--(E6166=$O$1:$O$542))>0,E6166=0),0,1)","v":0}]
["570.100.2530.6210.535.000.0000","GROUP INSURANCE",596.4,null,"570"," ","570","100","2530","6210","535","500","500",null,null,null,null,null,null,null,null,null,null,null,null,null,{"$f":"IF(OR(SUMPRODUCT(--(E6211=$O$1:$O$542))>0,E6211=0),0,1)","v":0}]
["610.100.2410.6731.102.000.0000","FURN/EQUIPMENT < $1,000",313.64999999999998,null,"610"," ","610","100","2410","6731","102","102","102",null,null,null,null,null,null,null,null,null,null,null,null,null,{"$f":"IF(OR(SUMPRODUCT(--(E6341=$O$1:$O$542))>0,E6341=0),0,1)","v":0}]
["665.000.0000.0330.000.000.0000","FUND BALANCE",-65830.12,null,"665"," ","665","000","0000","0330","000","500","500",null,null,null,null,null,null,null,null,null,null,null,null,null,{"$f":"IF(OR(SUMPRODUCT(--(E6406=$O$1:$O$542))>0,E6406=0),0,1)","v":0}]
[null,null,null,null,0,null,null,null,null,null,null,null,0,null,null,null,null,null,null,null,null,null,null,null,null,null,{"$f":"IF(OR(SUMPRODUCT(--(E6451=$O$1:$O$542))>0,E6451=0),0,1)","v":0}]
[null,null,null,null,0,null,null,null,null,null,null,null,0,null,null,null,null,null,null,null,null,null,null,null,null,null,{"$f":"IF(OR(SUMPRODUCT(--(E6613=$O$1:$O$542))>0,E6613=0),0,1)","v":0}]
[null,null,null,null,0,null,null,null,null,null,null,null,0,null,null,null,null,null,null,null,null,null,null,null,null,null,{"$f":"IF(OR(SUMPRODUCT(--(E6646=$O$1:$O$542))>0,E6646=0),0,1)","v":0}]
[null,null,null,null,0,null,null,null,null,null,null,null,0,null,null,null,null,null,null,null,null,null,null,null,null,null,{"$f":"IF(OR(SUMPRODUCT(--(E6783=$O$1:$O$542))>0,E6783=0),0,1)","v":0}]
[null,null,null,null,0,null,null,null,null,null,null,null,0,null,null,null,null,null,null,null,null,null,null,null,null,null,{"$f":"IF(OR(SUMPRODUCT(--(E6889=$O$1:$O$542))>0,E6889=0),0,1)","v":0}]
[null,null,null,null,0,null,null,null,null,null,null,null,0,null,null,null,null,null,null,null,null,null,null,null,null,null,{"$f":"IF(OR(SUMPRODUCT(--(E6978=$O$1:$O$542))>0,E6978=0),0,1)","v":0}]
[null,null,null,null,0,null,null,null,null,null,null,null,0,null,null,null,null,null,null,null,null,null,null,null,null,null,{"$f":"IF(OR(SUMPRODUCT(--(E7023=$O$1:$O$542))>0,E7023=0),0,1)","v":0}]
[null,null,null,null,0,null,null,null,null,null,null,null,0,null,null,null,null,null,null,null,null,null,null,null,null,null,{"$f":"IF(OR(SUMPRODUCT(--(E7161=$O$1:$O$542))>0,E7161=0),0,1)","v":0}]
[null,null,null,null,0,null,null,null,null,null,null,null,0,null,null,null,null,null,null,null,null,null,null,null,null,null,{"$f":"IF(OR(SUMPRODUCT(--(E7218=$O$1:$O$542))>0,E7218=0),0,1)","v":0}]
[null,null,null,null,0,null,null,null,null,null,null,null,0,null,null,null,null,null,null,null,null,null,null,null,null,null,{"$f":"IF(OR(SUMPRODUCT(--(E7355=$O$1:$O$542))>0,E7355=0),0,1)","v":0}]
[null,null,null,null,0,null,null,null,null,null,null,null,0,null,null,null,null,null,null,null,null,null,null,null,null,null,{"$f":"IF(OR(SUMPRODUCT(--(E7412=$O$1:$O$542))>0,E7412=0),0,1)","v":0}]
[null,null,null,null,0,null,null,null,null,null,null,null,0,null,null,null,null,null,null,null,null,null,null,null,null,null,{"$f":"IF(OR(SUMPRODUCT(--(E7522=$O$1:$O$542))>0,E7522=0),0,1)","v":0}]
[null,null,null,null,0,null,null,null,null,null,null,null,0,null,null,null,null,null,null,null,null,null,null,null,null,null,{"$f":"IF(OR(SUMPRODUCT(--(E7607=$O$1:$O$542))>0,E7607=0),0,1)","v":0}]
[null,null,null,null,0,null,null,null,null,null,null,null,0,null,null,null,null,null,null,null,null,null,null,null,null,null,{"$f":"IF(OR(SUMPRODUCT(--(E7652=$O$1:$O$542))>0,E7652=0),0,1)","v":0}]
[null,null,null,null,0,null,null,null,null,null,null,null,0,null,null,null,null,null,null,null,null,null,null,null,null,null,{"$f":"IF(OR(SUMPRODUCT(--(E7794=$O$1:$O$542))>0,E7794=0),0,1)","v":0}]
[null,null,null,null,0,null,null,null,null,null,null,null,0,null,null,null,null,null,null,null,null,null,null,null,null,null,{"$f":"IF(OR(SUMPRODUCT(--(E7847=$O$1:$O$542))>0,E7847=0),0,1)","v":0}]
[null,null,null,null,0,null,null,null,null,null,null,null,0,null,null,null,null,null,null,null,null,null,null,null,null,null,{"$f":"IF(OR(SUMPRODUCT(--(E7984=$O$1:$O$542))>0,E7984=0),0,1)","v":0}]
[null,null,null,null,0,null,null,null,null,null,null,null,0,null,null,null,null,null,null,null,null,null,null,null,null,null,{"$f":"IF(OR(SUMPRODUCT(--(E8070=$O$1:$O$542))>0,E8070=0),0,1)","v":0}]
[null,null,null,null,0,null,null,null,null,null,null,null,0,null,null,null,null,null,null,null,null,null,null,null,null,null,{"$f":"IF(OR(SUMPRODUCT(--(E8179=$O$1:$O$542))>0,E8179=0),0,1)","v":0}]
[null,null,null,null,0,null,null,null,null,null,null,null,{"$f":"IF(L8224<>\"\",L8224,K8224)","v":0},null,null,null,null,null,null,null,null,null,null,null,null,null,{"$f":"IF(OR(SUMPRODUCT(--(E8224=$O$1:$O$542))>0,E8224=0),0,1)","v":0}]
[null,null,null,null,0,null,null,null,null,null,null,null,0,null,null,null,null,null,null,null,null,null,null,null,null,null,{"$f":"IF(OR(SUMPRODUCT(--(E8342=$O$1:$O$542))>0,E8342=0),0,1)","v":0}]
[null,null,null,null,0,null,null,null,null,null,null,null,0,null,null,null,null,null,null,null,null,null,null,null,null,null,{"$f":"IF(OR(SUMPRODUCT(--(E8419=$O$1:$O$542))>0,E8419=0),0,1)","v":0}]
[null,null,null,null,0,null,null,null,null,null,null,null,0,null,null,null,null,null,null,null,null,null,null,null,null,null,{"$f":"IF(OR(SUMPRODUCT(--(E8556=$O$1:$O$542))>0,E8556=0),0,1)","v":0}]
[null,null,null,null,0,null,null,null,null,null,null,null,0,null,null,null,null,null,null,null,null,null,null,null,null,null,{"$f":"IF(OR(SUMPRODUCT(--(E8614=$O$1:$O$542))>0,E8614=0),0,1)","v":0}]
[null,null,null,null,0,null,null,null,null,null,null,null,0,null,null,null,null,null,null,null,null,null,null,null,null,null,{"$f":"IF(OR(SUMPRODUCT(--(E8751=$O$1:$O$542))>0,E8751=0),0,1)","v":0}]
[null,null,null,null,0,null,null,null,null,null,null,null,0,null,null,null,null,null,null,null,null,null,null,null,null,null,{"$f":"IF(OR(SUMPRODUCT(--(E8808=$O$1:$O$542))>0,E8808=0),0,1)","v":0}]
[null,null,null,null,0,null,null,null,null,null,null,null,0,null,null,null,null,null,null,null,null,null,null,null,null,null,{"$f":"IF(OR(SUMPRODUCT(--(E8886=$O$1:$O$542))>0,E8886=0),0,1)","v":0}]
[null,null,null,null,{"$f":"IF(AND(F8991<>\"\",F8991=G8991),\"ERROR\",IF(AND(F8991<>\"\",F8991<>G8991),F8991,G8991))","v":0},null,null,null,null,null,null,null,0,null,null,null,null,null,null,null,null,null,null,null,null,null,{"$f":"IF(OR(SUMPRODUCT(--(E8991=$O$1:$O$542))>0,E8991=0),0,1)","v":0}]
[null,null,null,null,0,null,null,null,null,null,null,null,0,null,null,null,null,null,null,null,null,null,null,null,null,null,{"$f":"IF(OR(SUMPRODUCT(--(E9048=$O$1:$O$542))>0,E9048=0),0,1)","v":0}]
[null,null,null,null,0,null,null,null,null,null,null,null,0,null,null,null,null,null,null,null,null,null,null,null,null,null,{"$f":"IF(OR(SUMPRODUCT(--(E9185=$O$1:$O$542))>0,E9185=0),0,1)","v":0}]
[null,null,null,null,{"$f":"IF(AND(F9247<>\"\",F9247=G9247),\"ERROR\",IF(AND(F9247<>\"\",F9247<>G9247),F9247,G9247))","v":0},null,null,null,null,null,null,null,0,null,null,null,null,null,null,null,null,null,null,null,null,null,{"$f":"IF(OR(SUMPRODUCT(--(E9247=$O$1:$O$542))>0,E9247=0),0,1)","v":0}]
[null,null,null,null,0,null,null,null,null,null,null,null,0,null,null,null,null,null,null,null,null,null,null,null,null,null,{"$f":"IF(OR(SUMPRODUCT(--(E9380=$O$1:$O$542))>0,E9380=0),0,1)","v":0}]
[null,null,null,null,0,null,null,null,null,null,null,null,0,null,null,null,null,null,null,null,null,null,null,null,null,null,{"$f":"IF(OR(SUMPRODUCT(--(E9425=$O$1:$O$542))>0,E9425=0),0,1)","v":0}]
[null,null,null,null,0,null,null,null,null,null,null,null,0,null,null,null,null,null,null,null,null,null,null,null,null,null,{"$f":"IF(OR(SUMPRODUCT(--(E9523=$O$1:$O$542))>0,E9523=0),0,1)","v":0}]
[null,null,null,null,0,null,null,null,null,null,null,null,0,null,null,null,null,null,null,null,null,null,null,null,null,null,{"$f":"IF(OR(SUMPRODUCT(--(E9620=$O$1:$O$542))>0,E9620=0),0,1)","v":0}]
[null,null,null,null,0,null,null,null,null,null,null,null,0,null,null,null,null,null,null,null,null,null,null,null,null,null,{"$f":"IF(OR(SUMPRODUCT(--(E9757=$O$1:$O$542))>0,E9757=0),0,1)","v":0}]
[null,null,null,null,0,null,null,null,null,null,null,null,0,null,null,null,null,null,null,null,null,null,null,null,null,null,{"$f":"IF(OR(SUMPRODUCT(--(E9795=$O$1:$O$542))>0,E9795=0),0,1)","v":0}]
[null,null,null,null,0,null,null,null,null,null,null,null,{"$f":"IF(L9952<>\"\",L9952,K9952)","v":0},null,null,null,null,null,null,null,null,null,null,null,null,null,{"$f":"IF(OR(SUMPRODUCT(--(E9952=$O$1:$O$542))>0,E9952=0),0,1)","v":0}]
[null,null,null,null,0,null,null,null,null,null,null,null,0,null,null,null,null,null,null,null,null,null,null,null,null,null,{"$f":"IF(OR(SUMPRODUCT(--(E10009=$O$1:$O$542))>0,E10009=0),0,1)","v":0}]
[null,null,null,null,0,null,null,null,null,null,null,null,0,null,null,null,null,null,null,null,null,null,null,null,null,null,{"$f":"IF(OR(SUMPRODUCT(--(E10067=$O$1:$O$542))>0,E10067=0),0,1)","v":0}]
[null,null,null,null,0,null,null,null,null,null,null,null,0,null,null,null,null,null,null,null,null,null,null,null,null,null,{"$f":"IF(OR(SUMPRODUCT(--(E10192=$O$1:$O$542))>0,E10192=0),0,1)","v":0}]
[null,null,null,null,0,null,null,null,null,null,null,null,0,null,null,null,null,null,null,null,null,null,null,null,null,null,{"$f":"IF(OR(SUMPRODUCT(--(E10249=$O$1:$O$542))>0,E10249=0),0,1)","v":0}]
[null,null,null,null,0,null,null,null,null,null,null,null,0,null,null,null,null,null,null,null,null,null,null,null,null,null,{"$f":"IF(OR(SUMPRODUCT(--(E10339=$O$1:$O$542))>0,E10339=0),0,1)","v":0}]
[null,null,null,null,0,null,null,null,null,null,null,null,0,null,null,null,null,null,null,null,null,null,null,null,null,null,{"$f":"IF(OR(SUMPRODUCT(--(E10432=$O$1:$O$542))>0,E10432=0),0,1)","v":0}]
[null,null,null,null,0,null,null,null,null,null,null,null,0,null,null,null,null,null,null,null,null,null,null,null,null,null,{"$f":"IF(OR(SUMPRODUCT(--(E10581=$O$1:$O$542))>0,E10581=0),0,1)","v":0}]
[null,null,null,null,0,null,null,null,null,null,null,null,0,null,null,null,null,null,null,null,null,null,null,null,null,null,{"$f":"IF(OR(SUMPRODUCT(--(E10626=$O$1:$O$542))>0,E10626=0),0,1)","v":0}]
[null,null,null,null,0,null,null,null,null,null,null,null,0,null,null,null,null,null,null,null,null,null,null,null,null,null,{"$f":"IF(OR(SUMPRODUCT(--(E10704=$O$1:$O$542))>0,E10704=0),0,1)","v":0}]
[null,null,null,null,0,null,null,null,null,null,null,null,0,null,null,null,null,null,null,null,null,null,null,null,null,null,{"$f":"IF(OR(SUMPRODUCT(--(E10821=$O$1:$O$542))>0,E10821=0),0,1)","v":0}]
[null,null,null,null,0,null,null,null,null,null,null,null,0,null,null,null,null,null,null,null,null,null,null,null,null,null,{"$f":"IF(OR(SUMPRODUCT(--(E10958=$O$1:$O$542))>0,E10958=0),0,1)","v":0}]
[null,null,null,null,0,null,null,null,null,null,null,null,{"$f":"IF(L10976<>\"\",L10976,K10976)","v":0},null,null,null,null,null,null,null,null,null,null,null,null,null,{"$f":"IF(OR(SUMPRODUCT(--(E10976=$O$1:$O$542))>0,E10976=0),0,1)","v":0}]
[null,null,null,null,0,null,null,null,null,null,null,null,0,null,null,null,null,null,null,null,null,null,null,null,null,null,{"$f":"IF(OR(SUMPRODUCT(--(E11153=$O$1:$O$542))>0,E11153=0),0,1)","v":0}]
[null,null,null,null,0,null,null,null,null,null,null,null,0,null,null,null,null,null,null,null,null,null,null,null,null,null,{"$f":"IF(OR(SUMPRODUCT(--(E11210=$O$1:$O$542))>0,E11210=0),0,1)","v":0}]
[null,null,null,null,0,null,null,null,null,null,null,null,0,null,null,null,null,null,null,null,null,null,null,null,null,null,{"$f":"IF(OR(SUMPRODUCT(--(E11248=$O$1:$O$542))>0,E11248=0),0,1)","v":0}]
[null,null,null,null,0,null,null,null,null,null,null,null,0,null,null,null,null,null,null,null,null,null,null,null,null,null,{"$f":"IF(OR(SUMPRODUCT(--(E11393=$O$1:$O$542))>0,E11393=0),0,1)","v":0}]
[null,null,null,null,0,null,null,null,null,null,null,null,0,null,null,null,null,null,null,null,null,null,null,null,null,null,{"$f":"IF(OR(SUMPRODUCT(--(E11450=$O$1:$O$542))>0,E11450=0),0,1)","v":0}]
[null,null,null,null,0,null,null,null,null,null,null,null,0,null,null,null,null,null,null,null,null,null,null,null,null,null,{"$f":"IF(OR(SUMPRODUCT(--(E11613=$O$1:$O$542))>0,E11613=0),0,1)","v":0}]
[null,null,null,null,0,null,null,null,null,null,null,null,0,null,null,null,null,null,null,null,null,null,null,null,null,null,{"$f":"IF(OR(SUMPRODUCT(--(E11633=$O$1:$O$542))>0,E11633=0),0,1)","v":0}]
[null,null,null,null,0,null,null,null,null,null,null,null,0,null,null,null,null,null,null,null,null,null,null,null,null,null,{"$f":"IF(OR(SUMPRODUCT(--(E11782=$O$1:$O$542))>0,E11782=0),0,1)","v":0}]
[null,null,null,null,0,null,null,null,null,null,null,null,0,null,null,null,null,null,null,null,null,null,null,null,null,null,{"$f":"IF(OR(SUMPRODUCT(--(E11885=$O$1:$O$542))>0,E11885=0),0,1)","v":0}]
[null,null,null,null,0,null,null,null,null,null,null,null,0,null,null,null,null,null,null,null,null,null,null,null,null,null,{"$f":"IF(OR(SUMPRODUCT(--(E11977=$O$1:$O$542))>0,E11977=0),0,1)","v":0}]
[null,null,null,null,0,null,null,null,null,null,null,null,0,null,null,null,null,null,null,null,null,null,null,null,null,null,{"$f":"IF(OR(SUMPRODUCT(--(E12022=$O$1:$O$542))>0,E12022=0),0,1)","v":0}]
[null,null,null,null,0,null,null,null,null,null,null,null,0,null,null,null,null,null,null,null,null,null,null,null,null,null,{"$f":"IF(OR(SUMPRODUCT(--(E12159=$O$1:$O$542))>0,E12159=0),0,1)","v":0}]
[null,null,null,null,0,null,null,null,null,null,null,null,0,null,null,null,null,null,null,null,null,null,null,null,null,null,{"$f":"IF(OR(SUMPRODUCT(--(E12250=$O$1:$O$542))>0,E12250=0),0,1)","v":0}]
[null,null,null,null,0,null,null,null,null,null,null,null,0,null,null,null,null,null,null,null,null,null,null,null,null,null,{"$f":"IF(OR(SUMPRODUCT(--(E12354=$O$1:$O$542))>0,E12354=0),0,1)","v":0}]
[null,null,null,null,0,null,null,null,null,null,null,null,0,null,null,null,null,null,null,null,null,null,null,null,null,null,{"$f":"IF(OR(SUMPRODUCT(--(E12399=$O$1:$O$542))>0,E12399=0),0,1)","v":0}]
[null,null,null,null,0,null,null,null,null,null,null,null,0,null,null,null,null,null,null,null,null,null,null,null,null,null,{"$f":"IF(OR(SUMPRODUCT(--(E12522=$O$1:$O$542))>0,E12522=0),0,1)","v":0}]
[null,null,null,null,0,null,null,null,null,null,null,null,0,null,null,null,null,null,null,null,null,null,null,null,null,null,{"$f":"IF(OR(SUMPRODUCT(--(E12594=$O$1:$O$542))>0,E12594=0),0,1)","v":0}]
[null,null,null,null,0,null,null,null,null,null,null,null,0,null,null,null,null,null,null,null,null,null,null,null,null,null,{"$f":"IF(OR(SUMPRODUCT(--(E12651=$O$1:$O$542))>0,E12651=0),0,1)","v":0}]
[null,null,null,null,0,null,null,null,null,null,null,null,0,null,null,null,null,null,null,null,null,null,null,null,null,null,{"$f":"IF(OR(SUMPRODUCT(--(E12794=$O$1:$O$542))>0,E12794=0),0,1)","v":0}]
[null,null,null,null,0,null,null,null,null,null,null,null,0,null,null,null,null,null,null,null,null,null,null,null,null,null,{"$f":"IF(OR(SUMPRODUCT(--(E12834=$O$1:$O$542))>0,E12834=0),0,1)","v":0}]
[null,null,null,null,0,null,null,null,null,null,null,null,0,null,null,null,null,null,null,null,null,null,null,null,null,null,{"$f":"IF(OR(SUMPRODUCT(--(E12983=$O$1:$O$542))>0,E12983=0),0,1)","v":0}]
[null,null,null,null,0,null,null,null,null,null,null,null,0,null,null,null,null,null,null,null,null,null,null,null,null,null,{"$f":"IF(OR(SUMPRODUCT(--(E13066=$O$1:$O$542))>0,E13066=0),0,1)","v":0}]
[null,null,null,null,0,null,null,null,null,null,null,null,0,null,null,null,null,null,null,null,null,null,null,null,null,null,{"$f":"IF(OR(SUMPRODUCT(--(E13178=$O$1:$O$542))>0,E13178=0),0,1)","v":0}]
[null,null,null,null,0,null,null,null,null,null,null,null,0,null,null,null,null,null,null,null,null,null,null,null,null,null,{"$f":"IF(OR(SUMPRODUCT(--(E13223=$O$1:$O$542))>0,E13223=0),0,1)","v":0}]
[null,null,null,null,0,null,null,null,null,null,null,null,0,null,null,null,null,null,null,null,null,null,null,null,null,null,{"$f":"IF(OR(SUMPRODUCT(--(E13338=$O$1:$O$542))>0,E13338=0),0,1)","v":0}]
[null,null,null,null,0,null,null,null,null,null,null,null,0,null,null,null,null,null,null,null,null,null,null,null,null,null,{"$f":"IF(OR(SUMPRODUCT(--(E13418=$O$1:$O$542))>0,E13418=0),0,1)","v":0}]
[null,null,null,null,0,null,null,null,null,null,null,null,0,null,null,null,null,null,null,null,null,null,null,null,null,null,{"$f":"IF(OR(SUMPRODUCT(--(E13463=$O$1:$O$542))>0,E13463=0),0,1)","v":0}]
[null,null,null,null,0,null,null,null,null,null,null,null,0,null,null,null,null,null,null,null,null,null,null,null,null,null,{"$f":"IF(OR(SUMPRODUCT(--(E13610=$O$1:$O$542))>0,E13610=0),0,1)","v":0}]
[null,null,null,null,0,null,null,null,null,null,null,null,0,null,null,null,null,null,null,null,null,null,null,null,null,null,{"$f":"IF(OR(SUMPRODUCT(--(E13658=$O$1:$O$542))>0,E13658=0),0,1)","v":0}]
[null,null,null,null,0,null,null,null,null,null,null,null,0,null,null,null,null,null,null,null,null,null,null,null,null,null,{"$f":"IF(OR(SUMPRODUCT(--(E13795=$O$1:$O$542))>0,E13795=0),0,1)","v":0}]
[null,null,null,null,0,null,null,null,null,null,null,null,0,null,null,null,null,null,null,null,null,null,null,null,null,null,{"$f":"IF(OR(SUMPRODUCT(--(E13852=$O$1:$O$542))>0,E13852=0),0,1)","v":0}]
[null,null,null,null,0,null,null,null,null,null,null,null,0,null,null,null,null,null,null,null,null,null,null,null,null,null,{"$f":"IF(OR(SUMPRODUCT(--(E13975=$O$1:$O$542))>0,E13975=0),0,1)","v":0}]
[null,null,null,null,0,null,null,null,null,null,null,null,0,null,null,null,null,null,null,null,null,null,null,null,null,null,{"$f":"IF(OR(SUMPRODUCT(--(E14035=$O$1:$O$542))>0,E14035=0),0,1)","v":0}]
[null,null,null,null,0,null,null,null,null,null,null,null,0,null,null,null,null,null,null,null,null,null,null,null,null,null,{"$f":"IF(OR(SUMPRODUCT(--(E14184=$O$1:$O$542))>0,E14184=0),0,1)","v":0}]
[null,null,null,null,0,null,null,null,null,null,null,null,0,null,null,null,null,null,null,null,null,null,null,null,null,null,{"$f":"IF(OR(SUMPRODUCT(--(E14247=$O$1:$O$542))>0,E14247=0),0,1)","v":0}]
[null,null,null,null,0,null,null,null,null,null,null,null,0,null,null,null,null,null,null,null,null,null,null,null,null,null,{"$f":"IF(OR(SUMPRODUCT(--(E14379=$O$1:$O$542))>0,E14379=0),0,1)","v":0}]
[null,null,null,null,0,null,null,null,null,null,null,null,0,null,null,null,null,null,null,null,null,null,null,null,null,null,{"$f":"IF(OR(SUMPRODUCT(--(E14424=$O$1:$O$542))>0,E14424=0),0,1)","v":0}]
[null,null,null,null,0,null,null,null,null,null,null,null,0,null,null,null,null,null,null,null,null,null,null,null,null,null,{"$f":"IF(OR(SUMPRODUCT(--(E14519=$O$1:$O$542))>0,E14519=0),0,1)","v":0}]
[null,null,null,null,0,null,null,null,null,null,null,null,0,null,null,null,null,null,null,null,null,null,null,null,null,null,{"$f":"IF(OR(SUMPRODUCT(--(E14619=$O$1:$O$542))>0,E14619=0),0,1)","v":0}]
[null,null,null,null,0,null,null,null,null,null,null,null,0,null,null,null,null,null,null,null,null,null,null,null,null,null,{"$f":"IF(OR(SUMPRODUCT(--(E14664=$O$1:$O$542))>0,E14664=0),0,1)","v":0}]
[null,null,null,null,0,null,null,null,null,null,null,null,0,null,null,null,null,null,null,null,null,null,null,null,null,null,{"$f":"IF(OR(SUMPRODUCT(--(E14791=$O$1:$O$542))>0,E14791=0),0,1)","v":0}]
[null,null,null,null,0,null,null,null,null,null,null,null,0,null,null,null,null,null,null,null,null,null,null,null,null,null,{"$f":"IF(OR(SUMPRODUCT(--(E14859=$O$1:$O$542))>0,E14859=0),0,1)","v":0}]
[null,null,null,null,0,null,null,null,null,null,null,null,0,null,null,null,null,null,null,null,null,null,null,null,null,null,{"$f":"IF(OR(SUMPRODUCT(--(E14996=$O$1:$O$542))>0,E14996=0),0,1)","v":0}]
[null,null,null,null,0,null,null,null,null,null,null,null,0,null,null,null,null,null,null,null,null,null,null,null,null,null,{"$f":"IF(OR(SUMPRODUCT(--(E15067=$O$1:$O$542))>0,E15067=0),0,1)","v":0}]
[null,null,null,null,0,null,null,null,null,null,null,null,0,null,null,null,null,null,null,null,null,null,null,null,null,null,{"$f":"IF(OR(SUMPRODUCT(--(E15191=$O$1:$O$542))>0,E15191=0),0,1)","v":0}]
[null,null,null,null,0,null,null,null,null,null,null,null,0,null,null,null,null,null,null,null,null,null,null,null,null,null,{"$f":"IF(OR(SUMPRODUCT(--(E15236=$O$1:$O$542))>0,E15236=0),0,1)","v":0}]
[null,null,null,null,0,null,null,null,null,null,null,null,0,null,null,null,null,null,null,null,null,null,null,null,null,null,{"$f":"IF(OR(SUMPRODUCT(--(E15385=$O$1:$O$542))>0,E15385=0),0,1)","v":0}]
[null,null,null,null,0,null,null,null,null,null,null,null,0,null,null,null,null,null,null,null,null,null,null,null,null,null,{"$f":"IF(OR(SUMPRODUCT(--(E15428=$O$1:$O$542))>0,E15428=0),0,1)","v":0}]
[null,null,null,null,0,null,null,null,null,null,null,null,0,null,null,null,null,null,null,null,null,null,null,null,null,null,{"$f":"IF(OR(SUMPRODUCT(--(E15568=$O$1:$O$542))>0,E15568=0),0,1)","v":0}]
[null,null,null,null,0,null,null,null,null,null,null,null,0,null,null,null,null,null,null,null,null,null,null,null,null,null,{"$f":"IF(OR(SUMPRODUCT(--(E15625=$O$1:$O$542))>0,E15625=0),0,1)","v":0}]
[null,null,null,null,0,null,null,null,null,null,null,null,0,null,null,null,null,null,null,null,null,null,null,null,null,null,{"$f":"IF(OR(SUMPRODUCT(--(E15700=$O$1:$O$542))>0,E15700=0),0,1)","v":0}]
[null,null,null,null,0,null,null,null,null,null,null,null,0,null,null,null,null,null,null,null,null,null,null,null,null,null,{"$f":"IF(OR(SUMPRODUCT(--(E15820=$O$1:$O$542))>0,E15820=0),0,1)","v":0}]
[null,null,null,null,0,null,null,null,null,null,null,null,0,null,null,null,null,null,null,null,null,null,null,null,null,null,{"$f":"IF(OR(SUMPRODUCT(--(E15865=$O$1:$O$542))>0,E15865=0),0,1)","v":0}]
[null,null,null,null,0,null,null,null,null,null,null,null,0,null,null,null,null,null,null,null,null,null,null,null,null,null,{"$f":"IF(OR(SUMPRODUCT(--(E15972=$O$1:$O$542))>0,E15972=0),0,1)","v":0}]
[null,null,null,null,0,null,null,null,null,null,null,null,0,null,null,null,null,null,null,null,null,null,null,null,null,null,{"$f":"IF(OR(SUMPRODUCT(--(E16060=$O$1:$O$542))>0,E16060=0),0,1)","v":0}]
[null,null,null,null,0,null,null,null,null,null,null,null,0,null,null,null,null,null,null,null,null,null,null,null,null,null,{"$f":"IF(OR(SUMPRODUCT(--(E16197=$O$1:$O$542))>0,E16197=0),0,1)","v":0}]
[null,null,null,null,0,null,null,null,null,null,null,null,0,null,null,null,null,null,null,null,null,null,null,null,null,null,{"$f":"IF(OR(SUMPRODUCT(--(E16248=$O$1:$O$542))>0,E16248=0),0,1)","v":0}]
[null,null,null,null,0,null,null,null,null,null,null,null,0,null,null,null,null,null,null,null,null,null,null,null,null,null,{"$f":"IF(OR(SUMPRODUCT(--(E16392=$O$1:$O$542))>0,E16392=0),0,1)","v":0}]
[null,null,null,null,0,null,null,null,null,null,null,null,0,null,null,null,null,null,null,null,null,null,null,null,null,null,{"$f":"IF(OR(SUMPRODUCT(--(E16437=$O$1:$O$542))>0,E16437=0),0,1)","v":0}]
[null,null,null,null,0,null,null,null,null,null,null,null,0,null,null,null,null,null,null,null,null,null,null,null,null,null,{"$f":"IF(OR(SUMPRODUCT(--(E16520=$O$1:$O$542))>0,E16520=0),0,1)","v":0}]
[null,null,null,null,0,null,null,null,null,null,null,null,0,null,null,null,null,null,null,null,null,null,null,null,null,null,{"$f":"IF(OR(SUMPRODUCT(--(E16632=$O$1:$O$542))>0,E16632=0),0,1)","v":0}]
[null,null,null,null,0,null,null,null,null,null,null,null,0,null,null,null,null,null,null,null,null,null,null,null,null,null,{"$f":"IF(OR(SUMPRODUCT(--(E16769=$O$1:$O$542))>0,E16769=0),0,1)","v":0}]
[null,null,null,null,0,null,null,null,null,null,null,null,0,null,null,null,null,null,null,null,null,null,null,null,null,null,{"$f":"IF(OR(SUMPRODUCT(--(E16792=$O$1:$O$542))>0,E16792=0),0,1)","v":0}]
[null,null,null,null,0,null,null,null,null,null,null,null,0,null,null,null,null,null,null,null,null,null,null,null,null,null,{"$f":"IF(OR(SUMPRODUCT(--(E16964=$O$1:$O$542))>0,E16964=0),0,1)","v":0}]
[null,null,null,null,0,null,null,null,null,null,null,null,0,null,null,null,null,null,null,null,null,null,null,null,null,null,{"$f":"IF(OR(SUMPRODUCT(--(E17021=$O$1:$O$542))>0,E17021=0),0,1)","v":0}]
[null,null,null,null,0,null,null,null,null,null,null,null,0,null,null,null,null,null,null,null,null,null,null,null,null,null,{"$f":"IF(OR(SUMPRODUCT(--(E17066=$O$1:$O$542))>0,E17066=0),0,1)","v":0}]
[null,null,null,null,0,null,null,null,null,null,null,null,0,null,null,null,null,null,null,null,null,null,null,null,null,null,{"$f":"IF(OR(SUMPRODUCT(--(E17246=$O$1:$O$542))>0,E17246=0),0,1)","v":0}]
[null,null,null,null,0,null,null,null,null,null,null,null,0,null,null,null,null,null,null,null,null,null,null,null,null,null,{"$f":"IF(OR(SUMPRODUCT(--(E17261=$O$1:$O$542))>0,E17261=0),0,1)","v":0}]
[null,null,null,null,0,null,null,null,null,null,null,null,0,null,null,null,null,null,null,null,null,null,null,null,null,null,{"$f":"IF(OR(SUMPRODUCT(--(E17398=$O$1:$O$542))>0,E17398=0),0,1)","v":0}]
[null,null,null,null,0,null,null,null,null,null,null,null,0,null,null,null,null,null,null,null,null,null,null,null,null,null,{"$f":"IF(OR(SUMPRODUCT(--(E17518=$O$1:$O$542))>0,E17518=0),0,1)","v":0}]
[null,null,null,null,0,null,null,null,null,null,null,null,0,null,null,null,null,null,null,null,null,null,null,null,null,null,{"$f":"IF(OR(SUMPRODUCT(--(E17593=$O$1:$O$542))>0,E17593=0),0,1)","v":0}]
[null,null,null,null,0,null,null,null,null,null,null,null,0,null,null,null,null,null,null,null,null,null,null,null,null,null,{"$f":"IF(OR(SUMPRODUCT(--(E17638=$O$1:$O$542))>0,E17638=0),0,1)","v":0}]
[null,null,null,null,0,null,null,null,null,null,null,null,0,null,null,null,null,null,null,null,null,null,null,null,null,null,{"$f":"IF(OR(SUMPRODUCT(--(E17794=$O$1:$O$542))>0,E17794=0),0,1)","v":0}]
[null,null,null,null,0,null,null,null,null,null,null,null,0,null,null,null,null,null,null,null,null,null,null,null,null,null,{"$f":"IF(OR(SUMPRODUCT(--(E17833=$O$1:$O$542))>0,E17833=0),0,1)","v":0}]
[null,null,null,null,0,null,null,null,null,null,null,null,0,null,null,null,null,null,null,null,null,null,null,null,null,null,{"$f":"IF(OR(SUMPRODUCT(--(E17970=$O$1:$O$542))>0,E17970=0),0,1)","v":0}]
[null,null,null,null,0,null,null,null,null,null,null,null,0,null,null,null,null,null,null,null,null,null,null,null,null,null,{"$f":"IF(OR(SUMPRODUCT(--(E18066=$O$1:$O$542))>0,E18066=0),0,1)","v":0}]
[null,null,null,null,0,null,null,null,null,null,null,null,0,null,null,null,null,null,null,null,null,null,null,null,null,null,{"$f":"IF(OR(SUMPRODUCT(--(E18165=$O$1:$O$542))>0,E18165=0),0,1)","v":0}]
[null,null,null,null,0,null,null,null,null,null,null,null,0,null,null,null,null,null,null,null,null,null,null,null,null,null,{"$f":"IF(OR(SUMPRODUCT(--(E18222=$O$1:$O$542))>0,E18222=0),0,1)","v":0}]
[null,null,null,null,0,null,null,null,null,null,null,null,0,null,null,null,null,null,null,null,null,null,null,null,null,null,{"$f":"IF(OR(SUMPRODUCT(--(E18338=$O$1:$O$542))>0,E18338=0),0,1)","v":0}]
[null,null,null,null,0,null,null,null,null,null,null,null,0,null,null,null,null,null,null,null,null,null,null,null,null,null,{"$f":"IF(OR(SUMPRODUCT(--(E18405=$O$1:$O$542))>0,E18405=0),0,1)","v":0}]
[null,null,null,null,0,null,null,null,null,null,null,null,0,null,null,null,null,null,null,null,null,null,null,null,null,null,{"$f":"IF(OR(SUMPRODUCT(--(E18462=$O$1:$O$542))>0,E18462=0),0,1)","v":0}]
[null,null,null,null,0,null,null,null,null,null,null,null,0,null,null,null,null,null,null,null,null,null,null,null,null,null,{"$f":"IF(OR(SUMPRODUCT(--(E18599=$O$1:$O$542))>0,E18599=0),0,1)","v":0}]
[null,null,null,null,0,null,null,null,null,null,null,null,0,null,null,null,null,null,null,null,null,null,null,null,null,null,{"$f":"IF(OR(SUMPRODUCT(--(E18699=$O$1:$O$542))>0,E18699=0),0,1)","v":0}]
[null,null,null,null,0,null,null,null,null,null,null,null,0,null,null,null,null,null,null,null,null,null,null,null,null,null,{"$f":"IF(OR(SUMPRODUCT(--(E18794=$O$1:$O$542))>0,E18794=0),0,1)","v":0}]
[null,null,null,null,0,null,null,null,null,null,null,null,0,null,null,null,null,null,null,null,null,null,null,null,null,null,{"$f":"IF(OR(SUMPRODUCT(--(E18839=$O$1:$O$542))>0,E18839=0),0,1)","v":0}]
[null,null,null,null,{"$f":"IF(AND(F18975<>\"\",F18975=G18975),\"ERROR\",IF(AND(F18975<>\"\",F18975<>G18975),F18975,G18975))","v":0},null,null,null,null,null,null,null,0,null,null,null,null,null,null,null,null,null,null,null,null,null,{"$f":"IF(OR(SUMPRODUCT(--(E18975=$O$1:$O$542))>0,E18975=0),0,1)","v":0}]
[null,null,null,null,0,null,null,null,null,null,null,null,0,null,null,null,null,null,null,null,null,null,null,null,null,null,{"$f":"IF(OR(SUMPRODUCT(--(E19034=$O$1:$O$542))>0,E19034=0),0,1)","v":0}]
[null,null,null,null,0,null,null,null,null,null,null,null,0,null,null,null,null,null,null,null,null,null,null,null,null,null,{"$f":"IF(OR(SUMPRODUCT(--(E19171=$O$1:$O$542))>0,E19171=0),0,1)","v":0}]
[null,null,null,null,0,null,null,null,null,null,null,null,0,null,null,null,null,null,null,null,null,null,null,null,null,null,{"$f":"IF(OR(SUMPRODUCT(--(E19247=$O$1:$O$542))>0,E19247=0),0,1)","v":0}]
[null,null,null,null,0,null,null,null,null,null,null,null,0,null,null,null,null,null,null,null,null,null,null,null,null,null,{"$f":"IF(OR(SUMPRODUCT(--(E19366=$O$1:$O$542))>0,E19366=0),0,1)","v":0}]
[null,null,null,null,{"$f":"IF(AND(F19423<>\"\",F19423=G19423),\"ERROR\",IF(AND(F19423<>\"\",F19423<>G19423),F19423,G19423))","v":0},null,null,null,null,null,null,null,0,null,null,null,null,null,null,null,null,null,null,null,null,null,{"$f":"IF(OR(SUMPRODUCT(--(E19423=$O$1:$O$542))>0,E19423=0),0,1)","v":0}]
[null,null,null,null,0,null,null,null,null,null,null,null,0,null,null,null,null,null,null,null,null,null,null,null,null,null,{"$f":"IF(OR(SUMPRODUCT(--(E19519=$O$1:$O$542))>0,E19519=0),0,1)","v":0}]
[null,null,null,null,0,null,null,null,null,null,null,null,0,null,null,null,null,null,null,null,null,null,null,null,null,null,{"$f":"IF(OR(SUMPRODUCT(--(E19606=$O$1:$O$542))>0,E19606=0),0,1)","v":0}]
[null,null,null,null,0,null,null,null,null,null,null,null,0,null,null,null,null,null,null,null,null,null,null,null,null,null,{"$f":"IF(OR(SUMPRODUCT(--(E19663=$O$1:$O$542))>0,E19663=0),0,1)","v":0}]
[null,null,null,null,0,null,null,null,null,null,null,null,0,null,null,null,null,null,null,null,null,null,null,null,null,null,{"$f":"IF(OR(SUMPRODUCT(--(E19791=$O$1:$O$542))>0,E19791=0),0,1)","v":0}]
[null,null,null,null,0,null,null,null,null,null,null,null,0,null,null,null,null,null,null,null,null,null,null,null,null,null,{"$f":"IF(OR(SUMPRODUCT(--(E19846=$O$1:$O$542))>0,E19846=0),0,1)","v":0}]
[null,null,null,null,0,null,null,null,null,null,null,null,0,null,null,null,null,null,null,null,null,null,null,null,null,null,{"$f":"IF(OR(SUMPRODUCT(--(E19995=$O$1:$O$542))>0,E19995=0),0,1)","v":0}]
[null,null,null,null,0,null,null,null,null,null,null,null,0,null,null,null,null,null,null,null,null,null,null,null,null,null,{"$f":"IF(OR(SUMPRODUCT(--(E20040=$O$1:$O$542))>0,E20040=0),0,1)","v":0}]
[null,null,null,null,0,null,null,null,null,null,null,null,0,null,null,null,null,null,null,null,null,null,null,null,null,null,{"$f":"IF(OR(SUMPRODUCT(--(E20156=$O$1:$O$542))>0,E20156=0),0,1)","v":0}]
[null,null,null,null,0,null,null,null,null,null,null,null,0,null,null,null,null,null,null,null,null,null,null,null,null,null,{"$f":"IF(OR(SUMPRODUCT(--(E20235=$O$1:$O$542))>0,E20235=0),0,1)","v":0}]
[null,null,null,null,0,null,null,null,null,null,null,null,0,null,null,null,null,null,null,null,null,null,null,null,null,null,{"$f":"IF(OR(SUMPRODUCT(--(E20372=$O$1:$O$542))>0,E20372=0),0,1)","v":0}]
[null,null,null,null,0,null,null,null,null,null,null,null,0,null,null,null,null,null,null,null,null,null,null,null,null,null,{"$f":"IF(OR(SUMPRODUCT(--(E20428=$O$1:$O$542))>0,E20428=0),0,1)","v":0}]
[null,null,null,null,0,null,null,null,null,null,null,null,0,null,null,null,null,null,null,null,null,null,null,null,null,null,{"$f":"IF(OR(SUMPRODUCT(--(E20567=$O$1:$O$542))>0,E20567=0),0,1)","v":0}]
[null,null,null,null,0,null,null,null,null,null,null,null,0,null,null,null,null,null,null,null,null,null,null,null,null,null,{"$f":"IF(OR(SUMPRODUCT(--(E20612=$O$1:$O$542))>0,E20612=0),0,1)","v":0}]
[null,null,null,null,0,null,null,null,null,null,null,null,0,null,null,null,null,null,null,null,null,null,null,null,null,null,{"$f":"IF(OR(SUMPRODUCT(--(E20700=$O$1:$O$542))>0,E20700=0),0,1)","v":0}]
[null,null,null,null,0,null,null,null,null,null,null,null,0,null,null,null,null,null,null,null,null,null,null,null,null,null,{"$f":"IF(OR(SUMPRODUCT(--(E20807=$O$1:$O$542))>0,E20807=0),0,1)","v":0}]
[null,null,null,null,0,null,null,null,null,null,null,null,0,null,null,null,null,null,null,null,null,null,null,null,null,null,{"$f":"IF(OR(SUMPRODUCT(--(E20864=$O$1:$O$542))>0,E20864=0),0,1)","v":0}]
[null,null,null,null,0,null,null,null,null,null,null,null,0,null,null,null,null,null,null,null,null,null,null,null,null,null,{"$f":"IF(OR(SUMPRODUCT(--(E20972=$O$1:$O$542))>0,E20972=0),0,1)","v":0}]
[null,null,null,null,0,null,null,null,null,null,null,null,0,null,null,null,null,null,null,null,null,null,null,null,null,null,{"$f":"IF(OR(SUMPRODUCT(--(E21047=$O$1:$O$542))>0,E21047=0),0,1)","v":0}]
[null,null,null,null,0,null,null,null,null,null,null,null,0,null,null,null,null,null,null,null,null,null,null,null,null,null,{"$f":"IF(OR(SUMPRODUCT(--(E21196=$O$1:$O$542))>0,E21196=0),0,1)","v":0}]
[null,null,null,null,0,null,null,null,null,null,null,null,0,null,null,null,null,null,null,null,null,null,null,null,null,null,{"$f":"IF(OR(SUMPRODUCT(--(E21244=$O$1:$O$542))>0,E21244=0),0,1)","v":0}]
[null,null,null,null,0,null,null,null,null,null,null,null,0,null,null,null,null,null,null,null,null,null,null,null,null,null,{"$f":"IF(OR(SUMPRODUCT(--(E21391=$O$1:$O$542))>0,E21391=0),0,1)","v":0}]
[null,null,null,null,0,null,null,null,null,null,null,null,0,null,null,null,null,null,null,null,null,null,null,null,null,null,{"$f":"IF(OR(SUMPRODUCT(--(E21436=$O$1:$O$542))>0,E21436=0),0,1)","v":0}]
[null,null,null,null,0,null,null,null,null,null,null,null,0,null,null,null,null,null,null,null,null,null,null,null,null,null,{"$f":"IF(OR(SUMPRODUCT(--(E21516=$O$1:$O$542))>0,E21516=0),0,1)","v":0}]
[null,null,null,null,0,null,null,null,null,null,null,null,0,null,null,null,null,null,null,null,null,null,null,null,null,null,{"$f":"IF(OR(SUMPRODUCT(--(E21631=$O$1:$O$542))>0,E21631=0),0,1)","v":0}]
[null,null,null,null,0,null,null,null,null,null,null,null,0,null,null,null,null,null,null,null,null,null,null,null,null,null,{"$f":"IF(OR(SUMPRODUCT(--(E21768=$O$1:$O$542))>0,E21768=0),0,1)","v":0}]
[null,null,null,null,0,null,null,null,null,null,null,null,0,null,null,null,null,null,null,null,null,null,null,null,null,null,{"$f":"IF(OR(SUMPRODUCT(--(E21813=$O$1:$O$542))>0,E21813=0),0,1)","v":0}]
[null,null,null,null,0,null,null,null,null,null,null,null,0,null,null,null,null,null,null,null,null,null,null,null,null,null,{"$f":"IF(OR(SUMPRODUCT(--(E21881=$O$1:$O$542))>0,E21881=0),0,1)","v":0}]
[null,null,null,null,0,null,null,null,null,null,null,null,0,null,null,null,null,null,null,null,null,null,null,null,null,null,{"$f":"IF(OR(SUMPRODUCT(--(E22008=$O$1:$O$542))>0,E22008=0),0,1)","v":0}]
[null,null,null,null,0,null,null,null,null,null,null,null,0,null,null,null,null,null,null,null,null,null,null,null,null,null,{"$f":"IF(OR(SUMPRODUCT(--(E22065=$O$1:$O$542))>0,E22065=0),0,1)","v":0}]
[null,null,null,null,0,null,null,null,null,null,null,null,0,null,null,null,null,null,null,null,null,null,null,null,null,null,{"$f":"IF(OR(SUMPRODUCT(--(E22153=$O$1:$O$542))>0,E22153=0),0,1)","v":0}]
[null,null,null,null,0,null,null,null,null,null,null,null,0,null,null,null,null,null,null,null,null,null,null,null,null,null,{"$f":"IF(OR(SUMPRODUCT(--(E22248=$O$1:$O$542))>0,E22248=0),0,1)","v":0}]
[null,null,null,null,0,null,null,null,null,null,null,null,0,null,null,null,null,null,null,null,null,null,null,null,null,null,{"$f":"IF(OR(SUMPRODUCT(--(E22397=$O$1:$O$542))>0,E22397=0),0,1)","v":0}]
[null,null,null,null,0,null,null,null,null,null,null,null,0,null,null,null,null,null,null,null,null,null,null,null,null,null,{"$f":"IF(OR(SUMPRODUCT(--(E22425=$O$1:$O$542))>0,E22425=0),0,1)","v":0}]
[null,null,null,null,0,null,null,null,null,null,null,null,0,null,null,null,null,null,null,null,null,null,null,null,null,null,{"$f":"IF(OR(SUMPRODUCT(--(E22580=$O$1:$O$542))>0,E22580=0),0,1)","v":0}]
[null,null,null,null,0,null,null,null,null,null,null,null,0,null,null,null,null,null,null,null,null,null,null,null,null,null,{"$f":"IF(OR(SUMPRODUCT(--(E22637=$O$1:$O$542))>0,E22637=0),0,1)","v":0}]
[null,null,null,null,0,null,null,null,null,null,null,null,0,null,null,null,null,null,null,null,null,null,null,null,null,null,{"$f":"IF(OR(SUMPRODUCT(--(E22697=$O$1:$O$542))>0,E22697=0),0,1)","v":0}]
[null,null,null,null,0,null,null,null,null,null,null,null,0,null,null,null,null,null,null,null,null,null,null,null,null,null,{"$f":"IF(OR(SUMPRODUCT(--(E22832=$O$1:$O$542))>0,E22832=0),0,1)","v":0}]
[null,null,null,null,0,null,null,null,null,null,null,null,0,null,null,null,null,null,null,null,null,null,null,null,null,null,{"$f":"IF(OR(SUMPRODUCT(--(E22969=$O$1:$O$542))>0,E22969=0),0,1)","v":0}]
[null,null,null,null,0,null,null,null,null,null,null,null,0,null,null,null,null,null,null,null,null,null,null,null,null,null,{"$f":"IF(OR(SUMPRODUCT(--(E23062=$O$1:$O$542))>0,E23062=0),0,1)","v":0}]
[null,null,null,null,0,null,null,null,null,null,null,null,{"$f":"IF(L23072<>\"\",L23072,K23072)","v":0},null,null,null,null,null,null,null,null,null,null,null,null,null,{"$f":"IF(OR(SUMPRODUCT(--(E23072=$O$1:$O$542))>0,E23072=0),0,1)","v":0}]
[null,null,null,null,0,null,null,null,null,null,null,null,0,null,null,null,null,null,null,null,null,null,null,null,null,null,{"$f":"IF(OR(SUMPRODUCT(--(E23209=$O$1:$O$542))>0,E23209=0),0,1)","v":0}]
[null,null,null,null,0,null,null,null,null,null,null,null,0,null,null,null,null,null,null,null,null,null,null,null,null,null,{"$f":"IF(OR(SUMPRODUCT(--(E23266=$O$1:$O$542))>0,E23266=0),0,1)","v":0}]
[null,null,null,null,0,null,null,null,null,null,null,null,0,null,null,null,null,null,null,null,null,null,null,null,null,null,{"$f":"IF(OR(SUMPRODUCT(--(E23427=$O$1:$O$542))>0,E23427=0),0,1)","v":0}]
[null,null,null,null,0,null,null,null,null,null,null,null,0,null,null,null,null,null,null,null,null,null,null,null,null,null,{"$f":"IF(OR(SUMPRODUCT(--(E23449=$O$1:$O$542))>0,E23449=0),0,1)","v":0}]
[null,null,null,null,0,null,null,null,null,null,null,null,0,null,null,null,null,null,null,null,null,null,null,null,null,null,{"$f":"IF(OR(SUMPRODUCT(--(E23598=$O$1:$O$542))>0,E23598=0),0,1)","v":0}]
[null,null,null,null,0,null,null,null,null,null,null,null,0,null,null,null,null,null,null,null,null,null,null,null,null,null,{"$f":"IF(OR(SUMPRODUCT(--(E23699=$O$1:$O$542))>0,E23699=0),0,1)","v":0}]
[null,null,null,null,0,null,null,null,null,null,null,null,0,null,null,null,null,null,null,null,null,null,null,null,null,null,{"$f":"IF(OR(SUMPRODUCT(--(E23781=$O$1:$O$542))>0,E23781=0),0,1)","v":0}]
[null,null,null,null,0,null,null,null,null,null,null,null,0,null,null,null,null,null,null,null,null,null,null,null,null,null,{"$f":"IF(OR(SUMPRODUCT(--(E23838=$O$1:$O$542))>0,E23838=0),0,1)","v":0}]
[null,null,null,null,0,null,null,null,null,null,null,null,0,null,null,null,null,null,null,null,null,null,null,null,null,null,{"$f":"IF(OR(SUMPRODUCT(--(E23971=$O$1:$O$542))>0,E23971=0),0,1)","v":0}]
[null,null,null,null,0,null,null,null,null,null,null,null,0,null,null,null,null,null,null,null,null,null,null,null,null,null,{"$f":"IF(OR(SUMPRODUCT(--(E24033=$O$1:$O$542))>0,E24033=0),0,1)","v":0}]
[null,null,null,null,0,null,null,null,null,null,null,null,0,null,null,null,null,null,null,null,null,null,null,null,null,null,{"$f":"IF(OR(SUMPRODUCT(--(E24170=$O$1:$O$542))>0,E24170=0),0,1)","v":0}]
[null,null,null,null,0,null,null,null,null,null,null,null,0,null,null,null,null,null,null,null,null,null,null,null,null,null,{"$f":"IF(OR(SUMPRODUCT(--(E24243=$O$1:$O$542))>0,E24243=0),0,1)","v":0}]
[null,null,null,null,0,null,null,null,null,null,null,null,0,null,null,null,null,null,null,null,null,null,null,null,null,null,{"$f":"IF(OR(SUMPRODUCT(--(E24273=$O$1:$O$542))>0,E24273=0),0,1)","v":0}]
[null,null,null,null,0,null,null,null,null,null,null,null,0,null,null,null,null,null,null,null,null,null,null,null,null,null,{"$f":"IF(OR(SUMPRODUCT(--(E24410=$O$1:$O$542))>0,E24410=0),0,1)","v":0}]
[null,null,null,null,0,null,null,null,null,null,null,null,0,null,null,null,null,null,null,null,null,null,null,null,null,null,{"$f":"IF(OR(SUMPRODUCT(--(E24519=$O$1:$O$542))>0,E24519=0),0,1)","v":0}]
[null,null,null,null,0,null,null,null,null,null,null,null,0,null,null,null,null,null,null,null,null,null,null,null,null,null,{"$f":"IF(OR(SUMPRODUCT(--(E24605=$O$1:$O$542))>0,E24605=0),0,1)","v":0}]
[null,null,null,null,0,null,null,null,null,null,null,null,0,null,null,null,null,null,null,null,null,null,null,null,null,null,{"$f":"IF(OR(SUMPRODUCT(--(E24650=$O$1:$O$542))>0,E24650=0),0,1)","v":0}]
[null,null,null,null,0,null,null,null,null,null,null,null,0,null,null,null,null,null,null,null,null,null,null,null,null,null,{"$f":"IF(OR(SUMPRODUCT(--(E24791=$O$1:$O$542))>0,E24791=0),0,1)","v":0}]
[null,null,null,null,0,null,null,null,null,null,null,null,0,null,null,null,null,null,null,null,null,null,null,null,null,null,{"$f":"IF(OR(SUMPRODUCT(--(E24845=$O$1:$O$542))>0,E24845=0),0,1)","v":0}]
[null,null,null,null,0,null,null,null,null,null,null,null,0,null,null,null,null,null,null,null,null,null,null,null,null,null,{"$f":"IF(OR(SUMPRODUCT(--(E24982=$O$1:$O$542))>0,E24982=0),0,1)","v":0}]
[null,null,null,null,0,null,null,null,null,null,null,null,0,null,null,null,null,null,null,null,null,null,null,null,null,null,{"$f":"IF(OR(SUMPRODUCT(--(E25039=$O$1:$O$542))>0,E25039=0),0,1)","v":0}]
[null,null,null,null,0,null,null,null,null,null,null,null,0,null,null,null,null,null,null,null,null,null,null,null,null,null,{"$f":"IF(OR(SUMPRODUCT(--(E25152=$O$1:$O$542))>0,E25152=0),0,1)","v":0}]
[null,null,null,null,0,null,null,null,null,null,null,null,0,null,null,null,null,null,null,null,null,null,null,null,null,null,{"$f":"IF(OR(SUMPRODUCT(--(E25234=$O$1:$O$542))>0,E25234=0),0,1)","v":0}]
[null,null,null,null,0,null,null,null,null,null,null,null,0,null,null,null,null,null,null,null,null,null,null,null,null,null,{"$f":"IF(OR(SUMPRODUCT(--(E25279=$O$1:$O$542))>0,E25279=0),0,1)","v":0}]
[null,null,null,null,0,null,null,null,null,null,null,null,0,null,null,null,null,null,null,null,null,null,null,null,null,null,{"$f":"IF(OR(SUMPRODUCT(--(E25424=$O$1:$O$542))>0,E25424=0),0,1)","v":0}]
[null,null,null,null,0,null,null,null,null,null,null,null,0,null,null,null,null,null,null,null,null,null,null,null,null,null,{"$f":"IF(OR(SUMPRODUCT(--(E25474=$O$1:$O$542))>0,E25474=0),0,1)","v":0}]
[null,null,null,null,0,null,null,null,null,null,null,null,0,null,null,null,null,null,null,null,null,null,null,null,null,null,{"$f":"IF(OR(SUMPRODUCT(--(E25611=$O$1:$O$542))>0,E25611=0),0,1)","v":0}]
[null,null,null,null,0,null,null,null,null,null,null,null,{"$f":"IF(L25696<>\"\",L25696,K25696)","v":0},null,null,null,null,null,null,null,null,null,null,null,null,null,{"$f":"IF(OR(SUMPRODUCT(--(E25696=$O$1:$O$542))>0,E25696=0),0,1)","v":0}]
[null,null,null,null,0,null,null,null,null,null,null,null,0,null,null,null,null,null,null,null,null,null,null,null,null,null,{"$f":"IF(OR(SUMPRODUCT(--(E25806=$O$1:$O$542))>0,E25806=0),0,1)","v":0}]
[null,null,null,null,0,null,null,null,null,null,null,null,0,null,null,null,null,null,null,null,null,null,null,null,null,null,{"$f":"IF(OR(SUMPRODUCT(--(E25851=$O$1:$O$542))>0,E25851=0),0,1)","v":0}]
[null,null,null,null,0,null,null,null,null,null,null,null,0,null,null,null,null,null,null,null,null,null,null,null,null,null,{"$f":"IF(OR(SUMPRODUCT(--(E25972=$O$1:$O$542))>0,E25972=0),0,1)","v":0}]
[null,null,null,null,0,null,null,null,null,null,null,null,0,null,null,null,null,null,null,null,null,null,null,null,null,null,{"$f":"IF(OR(SUMPRODUCT(--(E26046=$O$1:$O$542))>0,E26046=0),0,1)","v":0}]
[null,null,null,null,0,null,null,null,null,null,null,null,0,null,null,null,null,null,null,null,null,null,null,null,null,null,{"$f":"IF(OR(SUMPRODUCT(--(E26183=$O$1:$O$542))>0,E26183=0),0,1)","v":0}]
[null,null,null,null,0,null,null,null,null,null,null,null,0,null,null,null,null,null,null,null,null,null,null,null,null,null,{"$f":"IF(OR(SUMPRODUCT(--(E26244=$O$1:$O$542))>0,E26244=0),0,1)","v":0}]
[null,null,null,null,0,null,null,null,null,null,null,null,0,null,null,null,null,null,null,null,null,null,null,null,null,null,{"$f":"IF(OR(SUMPRODUCT(--(E26378=$O$1:$O$542))>0,E26378=0),0,1)","v":0}]
[null,null,null,null,0,null,null,null,null,null,null,null,0,null,null,null,null,null,null,null,null,null,null,null,null,null,{"$f":"IF(OR(SUMPRODUCT(--(E26435=$O$1:$O$542))>0,E26435=0),0,1)","v":0}]
[null,null,null,null,0,null,null,null,null,null,null,null,0,null,null,null,null,null,null,null,null,null,null,null,null,null,{"$f":"IF(OR(SUMPRODUCT(--(E26480=$O$1:$O$542))>0,E26480=0),0,1)","v":0}]
[null,null,null,null,0,null,null,null,null,null,null,null,0,null,null,null,null,null,null,null,null,null,null,null,null,null,{"$f":"IF(OR(SUMPRODUCT(--(E26605=$O$1:$O$542))>0,E26605=0),0,1)","v":0}]
[null,null,null,null,0,null,null,null,null,null,null,null,0,null,null,null,null,null,null,null,null,null,null,null,null,null,{"$f":"IF(OR(SUMPRODUCT(--(E26675=$O$1:$O$542))>0,E26675=0),0,1)","v":0}]
[null,null,null,null,0,null,null,null,null,null,null,null,0,null,null,null,null,null,null,null,null,null,null,null,null,null,{"$f":"IF(OR(SUMPRODUCT(--(E26812=$O$1:$O$542))>0,E26812=0),0,1)","v":0}]
[null,null,null,null,0,null,null,null,null,null,null,null,0,null,null,null,null,null,null,null,null,null,null,null,null,null,{"$f":"IF(OR(SUMPRODUCT(--(E26877=$O$1:$O$542))>0,E26877=0),0,1)","v":0}]
[null,null,null,null,0,null,null,null,null,null,null,null,0,null,null,null,null,null,null,null,null,null,null,null,null,null,{"$f":"IF(OR(SUMPRODUCT(--(E27007=$O$1:$O$542))>0,E27007=0),0,1)","v":0}]
[null,null,null,null,0,null,null,null,null,null,null,null,0,null,null,null,null,null,null,null,null,null,null,null,null,null,{"$f":"IF(OR(SUMPRODUCT(--(E27052=$O$1:$O$542))>0,E27052=0),0,1)","v":0}]
[null,null,null,null,0,null,null,null,null,null,null,null,0,null,null,null,null,null,null,null,null,null,null,null,null,null,{"$f":"IF(OR(SUMPRODUCT(--(E27153=$O$1:$O$542))>0,E27153=0),0,1)","v":0}]
[null,null,null,null,0,null,null,null,null,null,null,null,0,null,null,null,null,null,null,null,null,null,null,null,null,null,{"$f":"IF(OR(SUMPRODUCT(--(E27247=$O$1:$O$542))>0,E27247=0),0,1)","v":0}]
[null,null,null,null,0,null,null,null,null,null,null,null,0,null,null,null,null,null,null,null,null,null,null,null,null,null,{"$f":"IF(OR(SUMPRODUCT(--(E27384=$O$1:$O$542))>0,E27384=0),0,1)","v":0}]
[null,null,null,null,0,null,null,null,null,null,null,null,0,null,null,null,null,null,null,null,null,null,null,null,null,null,{"$f":"IF(OR(SUMPRODUCT(--(E27425=$O$1:$O$542))>0,E27425=0),0,1)","v":0}]
[null,null,null,null,0,null,null,null,null,null,null,null,0,null,null,null,null,null,null,null,null,null,null,null,null,null,{"$f":"IF(OR(SUMPRODUCT(--(E27579=$O$1:$O$542))>0,E27579=0),0,1)","v":0}]
[null,null,null,null,0,null,null,null,null,null,null,null,0,null,null,null,null,null,null,null,null,null,null,null,null,null,{"$f":"IF(OR(SUMPRODUCT(--(E27636=$O$1:$O$542))>0,E27636=0),0,1)","v":0}]
[null,null,null,null,0,null,null,null,null,null,null,null,0,null,null,null,null,null,null,null,null,null,null,null,null,null,{"$f":"IF(OR(SUMPRODUCT(--(E27697=$O$1:$O$542))>0,E27697=0),0,1)","v":0}]
[null,null,null,null,0,null,null,null,null,null,null,null,0,null,null,null,null,null,null,null,null,null,null,null,null,null,{"$f":"IF(OR(SUMPRODUCT(--(E27819=$O$1:$O$542))>0,E27819=0),0,1)","v":0}]
[null,null,null,null,0,null,null,null,null,null,null,null,0,null,null,null,null,null,null,null,null,null,null,null,null,null,{"$f":"IF(OR(SUMPRODUCT(--(E27876=$O$1:$O$542))>0,E27876=0),0,1)","v":0}]
[null,null,null,null,0,null,null,null,null,null,null,null,0,null,null,null,null,null,null,null,null,null,null,null,null,null,{"$f":"IF(OR(SUMPRODUCT(--(E27969=$O$1:$O$542))>0,E27969=0),0,1)","v":0}]
[null,null,null,null,0,null,null,null,null,null,null,null,0,null,null,null,null,null,null,null,null,null,null,null,null,null,{"$f":"IF(OR(SUMPRODUCT(--(E28059=$O$1:$O$542))>0,E28059=0),0,1)","v":0}]
[null,null,null,null,0,null,null,null,null,null,null,null,0,null,null,null,null,null,null,null,null,null,null,null,null,null,{"$f":"IF(OR(SUMPRODUCT(--(E28208=$O$1:$O$542))>0,E28208=0),0,1)","v":0}]
[null,null,null,null,0,null,null,null,null,null,null,null,0,null,null,null,null,null,null,null,null,null,null,null,null,null,{"$f":"IF(OR(SUMPRODUCT(--(E28253=$O$1:$O$542))>0,E28253=0),0,1)","v":0}]
[null,null,null,null,0,null,null,null,null,null,null,null,0,null,null,null,null,null,null,null,null,null,null,null,null,null,{"$f":"IF(OR(SUMPRODUCT(--(E28334=$O$1:$O$542))>0,E28334=0),0,1)","v":0}]
[null,null,null,null,0,null,null,null,null,null,null,null,{"$f":"IF(L28448<>\"\",L28448,K28448)","v":0},null,null,null,null,null,null,null,null,null,null,null,null,null,{"$f":"IF(OR(SUMPRODUCT(--(E28448=$O$1:$O$542))>0,E28448=0),0,1)","v":0}]
[null,null,null,null,0,null,null,null,null,null,null,null,0,null,null,null,null,null,null,null,null,null,null,null,null,null,{"$f":"IF(OR(SUMPRODUCT(--(E28585=$O$1:$O$542))>0,E28585=0),0,1)","v":0}]
[null,null,null,null,0,null,null,null,null,null,null,null,0,null,null,null,null,null,null,null,null,null,null,null,null,null,{"$f":"IF(OR(SUMPRODUCT(--(E28606=$O$1:$O$542))>0,E28606=0),0,1)","v":0}]
[null,null,null,null,0,null,null,null,null,null,null,null,0,null,null,null,null,null,null,null,null,null,null,null,null,null,{"$f":"IF(OR(SUMPRODUCT(--(E28780=$O$1:$O$542))>0,E28780=0),0,1)","v":0}]
[null,null,null,null,0,null,null,null,null,null,null,null,0,null,null,null,null,null,null,null,null,null,null,null,null,null,{"$f":"IF(OR(SUMPRODUCT(--(E28825=$O$1:$O$542))>0,E28825=0),0,1)","v":0}]
[null,null,null,null,0,null,null,null,null,null,null,null,0,null,null,null,null,null,null,null,null,null,null,null,null,null,{"$f":"IF(OR(SUMPRODUCT(--(E28971=$O$1:$O$542))>0,E28971=0),0,1)","v":0}]
[null,null,null,null,0,null,null,null,null,null,null,null,0,null,null,null,null,null,null,null,null,null,null,null,null,null,{"$f":"IF(OR(SUMPRODUCT(--(E29020=$O$1:$O$542))>0,E29020=0),0,1)","v":0}]
[null,null,null,null,0,null,null,null,null,null,null,null,0,null,null,null,null,null,null,null,null,null,null,null,null,null,{"$f":"IF(OR(SUMPRODUCT(--(E29077=$O$1:$O$542))>0,E29077=0),0,1)","v":0}]
[null,null,null,null,0,null,null,null,null,null,null,null,0,null,null,null,null,null,null,null,null,null,null,null,null,null,{"$f":"IF(OR(SUMPRODUCT(--(E29243=$O$1:$O$542))>0,E29243=0),0,1)","v":0}]
[null,null,null,null,0,null,null,null,null,null,null,null,0,null,null,null,null,null,null,null,null,null,null,null,null,null,{"$f":"IF(OR(SUMPRODUCT(--(E29260=$O$1:$O$542))>0,E29260=0),0,1)","v":0}]
[null,null,null,null,0,null,null,null,null,null,null,null,0,null,null,null,null,null,null,null,null,null,null,null,null,null,{"$f":"IF(OR(SUMPRODUCT(--(E29409=$O$1:$O$542))>0,E29409=0),0,1)","v":0}]
[null,null,null,null,0,null,null,null,null,null,null,null,0,null,null,null,null,null,null,null,null,null,null,null,null,null,{"$f":"IF(OR(SUMPRODUCT(--(E29515=$O$1:$O$542))>0,E29515=0),0,1)","v":0}]
[null,null,null,null,0,null,null,null,null,null,null,null,0,null,null,null,null,null,null,null,null,null,null,null,null,null,{"$f":"IF(OR(SUMPRODUCT(--(E29604=$O$1:$O$542))>0,E29604=0),0,1)","v":0}]
[null,null,null,null,0,null,null,null,null,null,null,null,0,null,null,null,null,null,null,null,null,null,null,null,null,null,{"$f":"IF(OR(SUMPRODUCT(--(E29649=$O$1:$O$542))>0,E29649=0),0,1)","v":0}]
[null,null,null,null,0,null,null,null,null,null,null,null,0,null,null,null,null,null,null,null,null,null,null,null,null,null,{"$f":"IF(OR(SUMPRODUCT(--(E29786=$O$1:$O$542))>0,E29786=0),0,1)","v":0}]
[null,null,null,null,0,null,null,null,null,null,null,null,0,null,null,null,null,null,null,null,null,null,null,null,null,null,{"$f":"IF(OR(SUMPRODUCT(--(E29880=$O$1:$O$542))>0,E29880=0),0,1)","v":0}]
[null,null,null,null,0,null,null,null,null,null,null,null,0,null,null,null,null,null,null,null,null,null,null,null,null,null,{"$f":"IF(OR(SUMPRODUCT(--(E29981=$O$1:$O$542))>0,E29981=0),0,1)","v":0}]
[null,null,null,null,0,null,null,null,null,null,null,null,0,null,null,null,null,null,null,null,null,null,null,null,null,null,{"$f":"IF(OR(SUMPRODUCT(--(E30026=$O$1:$O$542))>0,E30026=0),0,1)","v":0}]
[null,null,null,null,0,null,null,null,null,null,null,null,0,null,null,null,null,null,null,null,null,null,null,null,null,null,{"$f":"IF(OR(SUMPRODUCT(--(E30152=$O$1:$O$542))>0,E30152=0),0,1)","v":0}]
[null,null,null,null,0,null,null,null,null,null,null,null,0,null,null,null,null,null,null,null,null,null,null,null,null,null,{"$f":"IF(OR(SUMPRODUCT(--(E30221=$O$1:$O$542))>0,E30221=0),0,1)","v":0}]
[null,null,null,null,0,null,null,null,null,null,null,null,0,null,null,null,null,null,null,null,null,null,null,null,null,null,{"$f":"IF(OR(SUMPRODUCT(--(E30278=$O$1:$O$542))>0,E30278=0),0,1)","v":0}]
[null,null,null,null,0,null,null,null,null,null,null,null,0,null,null,null,null,null,null,null,null,null,null,null,null,null,{"$f":"IF(OR(SUMPRODUCT(--(E30424=$O$1:$O$542))>0,E30424=0),0,1)","v":0}]
[null,null,null,null,0,null,null,null,null,null,null,null,0,null,null,null,null,null,null,null,null,null,null,null,null,null,{"$f":"IF(OR(SUMPRODUCT(--(E30461=$O$1:$O$542))>0,E30461=0),0,1)","v":0}]
[null,null,null,null,0,null,null,null,null,null,null,null,0,null,null,null,null,null,null,null,null,null,null,null,null,null,{"$f":"IF(OR(SUMPRODUCT(--(E30610=$O$1:$O$542))>0,E30610=0),0,1)","v":0}]
[null,null,null,null,0,null,null,null,null,null,null,null,0,null,null,null,null,null,null,null,null,null,null,null,null,null,{"$f":"IF(OR(SUMPRODUCT(--(E30696=$O$1:$O$542))>0,E30696=0),0,1)","v":0}]
[null,null,null,null,0,null,null,null,null,null,null,null,0,null,null,null,null,null,null,null,null,null,null,null,null,null,{"$f":"IF(OR(SUMPRODUCT(--(E30793=$O$1:$O$542))>0,E30793=0),0,1)","v":0}]
[null,null,null,null,0,null,null,null,null,null,null,null,0,null,null,null,null,null,null,null,null,null,null,null,null,null,{"$f":"IF(OR(SUMPRODUCT(--(E30850=$O$1:$O$542))>0,E30850=0),0,1)","v":0}]
[null,null,null,null,0,null,null,null,null,null,null,null,0,null,null,null,null,null,null,null,null,null,null,null,null,null,{"$f":"IF(OR(SUMPRODUCT(--(E30968=$O$1:$O$542))>0,E30968=0),0,1)","v":0}]
[null,null,null,null,0,null,null,null,null,null,null,null,0,null,null,null,null,null,null,null,null,null,null,null,null,null,{"$f":"IF(OR(SUMPRODUCT(--(E31045=$O$1:$O$542))>0,E31045=0),0,1)","v":0}]
[null,null,null,null,0,null,null,null,null,null,null,null,0,null,null,null,null,null,null,null,null,null,null,null,null,null,{"$f":"IF(OR(SUMPRODUCT(--(E31182=$O$1:$O$542))>0,E31182=0),0,1)","v":0}]
[null,null,null,null,0,null,null,null,null,null,null,null,0,null,null,null,null,null,null,null,null,null,null,null,null,null,{"$f":"IF(OR(SUMPRODUCT(--(E31227=$O$1:$O$542))>0,E31227=0),0,1)","v":0}]
[null,null,null,null,0,null,null,null,null,null,null,null,0,null,null,null,null,null,null,null,null,null,null,null,null,null,{"$f":"IF(OR(SUMPRODUCT(--(E31333=$O$1:$O$542))>0,E31333=0),0,1)","v":0}]
[null,null,null,null,0,null,null,null,null,null,null,null,0,null,null,null,null,null,null,null,null,null,null,null,null,null,{"$f":"IF(OR(SUMPRODUCT(--(E31422=$O$1:$O$542))>0,E31422=0),0,1)","v":0}]
[null,null,null,null,0,null,null,null,null,null,null,null,0,null,null,null,null,null,null,null,null,null,null,null,null,null,{"$f":"IF(OR(SUMPRODUCT(--(E31479=$O$1:$O$542))>0,E31479=0),0,1)","v":0}]
[null,null,null,null,0,null,null,null,null,null,null,null,0,null,null,null,null,null,null,null,null,null,null,null,null,null,{"$f":"IF(OR(SUMPRODUCT(--(E31605=$O$1:$O$542))>0,E31605=0),0,1)","v":0}]
[null,null,null,null,0,null,null,null,null,null,null,null,0,null,null,null,null,null,null,null,null,null,null,null,null,null,{"$f":"IF(OR(SUMPRODUCT(--(E31662=$O$1:$O$542))>0,E31662=0),0,1)","v":0}]
[null,null,null,null,0,null,null,null,null,null,null,null,0,null,null,null,null,null,null,null,null,null,null,null,null,null,{"$f":"IF(OR(SUMPRODUCT(--(E31811=$O$1:$O$542))>0,E31811=0),0,1)","v":0}]
[null,null,null,null,0,null,null,null,null,null,null,null,0,null,null,null,null,null,null,null,null,null,null,null,null,null,{"$f":"IF(OR(SUMPRODUCT(--(E31877=$O$1:$O$542))>0,E31877=0),0,1)","v":0}]
[null,null,null,null,0,null,null,null,null,null,null,null,0,null,null,null,null,null,null,null,null,null,null,null,null,null,{"$f":"IF(OR(SUMPRODUCT(--(E31994=$O$1:$O$542))>0,E31994=0),0,1)","v":0}]
[null,null,null,null,0,null,null,null,null,null,null,null,0,null,null,null,null,null,null,null,null,null,null,null,null,null,{"$f":"IF(OR(SUMPRODUCT(--(E32051=$O$1:$O$542))>0,E32051=0),0,1)","v":0}]
[null,null,null,null,0,null,null,null,null,null,null,null,0,null,null,null,null,null,null,null,null,null,null,null,null,null,{"$f":"IF(OR(SUMPRODUCT(--(E32149=$O$1:$O$542))>0,E32149=0),0,1)","v":0}]
[null,null,null,null,0,null,null,null,null,null,null,null,0,null,null,null,null,null,null,null,null,null,null,null,null,null,{"$f":"IF(OR(SUMPRODUCT(--(E32246=$O$1:$O$542))>0,E32246=0),0,1)","v":0}]
[null,null,null,null,0,null,null,null,null,null,null,null,0,null,null,null,null,null,null,null,null,null,null,null,null,null,{"$f":"IF(OR(SUMPRODUCT(--(E32383=$O$1:$O$542))>0,E32383=0),0,1)","v":0}]
[null,null,null,null,0,null,null,null,null,null,null,null,0,null,null,null,null,null,null,null,null,null,null,null,null,null,{"$f":"IF(OR(SUMPRODUCT(--(E32421=$O$1:$O$542))>0,E32421=0),0,1)","v":0}]
[null,null,null,null,0,null,null,null,null,null,null,null,0,null,null,null,null,null,null,null,null,null,null,null,null,null,{"$f":"IF(OR(SUMPRODUCT(--(E32486=$O$1:$O$542))>0,E32486=0),0,1)","v":0}]
[null,null,null,null,0,null,null,null,null,null,null,null,0,null,null,null,null,null,null,null,null,null,null,null,null,null,{"$f":"IF(OR(SUMPRODUCT(--(E32623=$O$1:$O$542))>0,E32623=0),0,1)","v":0}]
[null,null,null,null,0,null,null,null,null,null,null,null,0,null,null,null,null,null,null,null,null,null,null,null,null,null,{"$f":"IF(OR(SUMPRODUCT(--(E32697=$O$1:$O$542))>0,E32697=0),0,1)","v":0}]
[null,null,null,null,0,null,null,null,null,null,null,null,0,null,null,null,null,null,null,null,null,null,null,null,null,null,{"$f":"IF(OR(SUMPRODUCT(--(E32818=$O$1:$O$542))>0,E32818=0),0,1)","v":0}]
[null,null,null,null,{"$f":"IF(AND(F32863<>\"\",F32863=G32863),\"ERROR\",IF(AND(F32863<>\"\",F32863<>G32863),F32863,G32863))","v":0},null,null,null,null,null,null,null,0,null,null,null,null,null,null,null,null,null,null,null,null,null,{"$f":"IF(OR(SUMPRODUCT(--(E32863=$O$1:$O$542))>0,E32863=0),0,1)","v":0}]
[null,null,null,null,0,null,null,null,null,null,null,null,0,null,null,null,null,null,null,null,null,null,null,null,null,null,{"$f":"IF(OR(SUMPRODUCT(--(E33012=$O$1:$O$542))>0,E33012=0),0,1)","v":0}]
[null,null,null,null,0,null,null,null,null,null,null,null,0,null,null,null,null,null,null,null,null,null,null,null,null,null,{"$f":"IF(OR(SUMPRODUCT(--(E33058=$O$1:$O$542))>0,E33058=0),0,1)","v":0}]
[null,null,null,null,0,null,null,null,null,null,null,null,0,null,null,null,null,null,null,null,null,null,null,null,null,null,{"$f":"IF(OR(SUMPRODUCT(--(E33195=$O$1:$O$542))>0,E33195=0),0,1)","v":0}]
[null,null,null,null,0,null,null,null,null,null,null,null,0,null,null,null,null,null,null,null,null,null,null,null,null,null,{"$f":"IF(OR(SUMPRODUCT(--(E33252=$O$1:$O$542))>0,E33252=0),0,1)","v":0}]
[null,null,null,null,0,null,null,null,null,null,null,null,0,null,null,null,null,null,null,null,null,null,null,null,null,null,{"$f":"IF(OR(SUMPRODUCT(--(E33330=$O$1:$O$542))>0,E33330=0),0,1)","v":0}]
[null,null,null,null,0,null,null,null,null,null,null,null,0,null,null,null,null,null,null,null,null,null,null,null,null,null,{"$f":"IF(OR(SUMPRODUCT(--(E33447=$O$1:$O$542))>0,E33447=0),0,1)","v":0}]
[null,null,null,null,0,null,null,null,null,null,null,null,0,null,null,null,null,null,null,null,null,null,null,null,null,null,{"$f":"IF(OR(SUMPRODUCT(--(E33584=$O$1:$O$542))>0,E33584=0),0,1)","v":0}]
[null,null,null,null,0,null,null,null,null,null,null,null,0,null,null,null,null,null,null,null,null,null,null,null,null,null,{"$f":"IF(OR(SUMPRODUCT(--(E33602=$O$1:$O$542))>0,E33602=0),0,1)","v":0}]
[null,null,null,null,0,null,null,null,null,null,null,null,0,null,null,null,null,null,null,null,null,null,null,null,null,null,{"$f":"IF(OR(SUMPRODUCT(--(E33687=$O$1:$O$542))>0,E33687=0),0,1)","v":0}]
[null,null,null,null,0,null,null,null,null,null,null,null,{"$f":"IF(L33824<>\"\",L33824,K33824)","v":0},null,null,null,null,null,null,null,null,null,null,null,null,null,{"$f":"IF(OR(SUMPRODUCT(--(E33824=$O$1:$O$542))>0,E33824=0),0,1)","v":0}]
[null,null,null,null,0,null,null,null,null,null,null,null,0,null,null,null,null,null,null,null,null,null,null,null,null,null,{"$f":"IF(OR(SUMPRODUCT(--(E33874=$O$1:$O$542))>0,E33874=0),0,1)","v":0}]
[null,null,null,null,0,null,null,null,null,null,null,null,0,null,null,null,null,null,null,null,null,null,null,null,null,null,{"$f":"IF(OR(SUMPRODUCT(--(E34019=$O$1:$O$542))>0,E34019=0),0,1)","v":0}]
[null,null,null,null,0,null,null,null,null,null,null,null,0,null,null,null,null,null,null,null,null,null,null,null,null,null,{"$f":"IF(OR(SUMPRODUCT(--(E34064=$O$1:$O$542))>0,E34064=0),0,1)","v":0}]
[null,null,null,null,0,null,null,null,null,null,null,null,0,null,null,null,null,null,null,null,null,null,null,null,null,null,{"$f":"IF(OR(SUMPRODUCT(--(E34150=$O$1:$O$542))>0,E34150=0),0,1)","v":0}]
[null,null,null,null,0,null,null,null,null,null,null,null,0,null,null,null,null,null,null,null,null,null,null,null,null,null,{"$f":"IF(OR(SUMPRODUCT(--(E34259=$O$1:$O$542))>0,E34259=0),0,1)","v":0}]
[null,null,null,null,0,null,null,null,null,null,null,null,0,null,null,null,null,null,null,null,null,null,null,null,null,null,{"$f":"IF(OR(SUMPRODUCT(--(E34396=$O$1:$O$542))>0,E34396=0),0,1)","v":0}]
[null,null,null,null,0,null,null,null,null,null,null,null,0,null,null,null,null,null,null,null,null,null,null,null,null,null,{"$f":"IF(OR(SUMPRODUCT(--(E34453=$O$1:$O$542))>0,E34453=0),0,1)","v":0}]
[null,null,null,null,0,null,null,null,null,null,null,null,0,null,null,null,null,null,null,null,null,null,null,null,null,null,{"$f":"IF(OR(SUMPRODUCT(--(E34511=$O$1:$O$542))>0,E34511=0),0,1)","v":0}]
[null,null,null,null,0,null,null,null,null,null,null,null,0,null,null,null,null,null,null,null,null,null,null,null,null,null,{"$f":"IF(OR(SUMPRODUCT(--(E34648=$O$1:$O$542))>0,E34648=0),0,1)","v":0}]
[null,null,null,null,0,null,null,null,null,null,null,null,0,null,null,null,null,null,null,null,null,null,null,null,null,null,{"$f":"IF(OR(SUMPRODUCT(--(E34785=$O$1:$O$542))>0,E34785=0),0,1)","v":0}]
[null,null,null,null,0,null,null,null,null,null,null,null,0,null,null,null,null,null,null,null,null,null,null,null,null,null,{"$f":"IF(OR(SUMPRODUCT(--(E34876=$O$1:$O$542))>0,E34876=0),0,1)","v":0}]
[null,null,null,null,0,null,null,null,null,null,null,null,0,null,null,null,null,null,null,null,null,null,null,null,null,null,{"$f":"IF(OR(SUMPRODUCT(--(E34888=$O$1:$O$542))>0,E34888=0),0,1)","v":0}]
[null,null,null,null,0,null,null,null,null,null,null,null,0,null,null,null,null,null,null,null,null,null,null,null,null,null,{"$f":"IF(OR(SUMPRODUCT(--(E35025=$O$1:$O$542))>0,E35025=0),0,1)","v":0}]
[null,null,null,null,0,null,null,null,null,null,null,null,0,null,null,null,null,null,null,null,null,null,null,null,null,null,{"$f":"IF(OR(SUMPRODUCT(--(E35148=$O$1:$O$542))>0,E35148=0),0,1)","v":0}]
[null,null,null,null,0,null,null,null,null,null,null,null,0,null,null,null,null,null,null,null,null,null,null,null,null,null,{"$f":"IF(OR(SUMPRODUCT(--(E35220=$O$1:$O$542))>0,E35220=0),0,1)","v":0}]
[null,null,null,null,0,null,null,null,null,null,null,null,0,null,null,null,null,null,null,null,null,null,null,null,null,null,{"$f":"IF(OR(SUMPRODUCT(--(E35265=$O$1:$O$542))>0,E35265=0),0,1)","v":0}]
[null,null,null,null,0,null,null,null,null,null,null,null,{"$f":"IF(L35424<>\"\",L35424,K35424)","v":0},null,null,null,null,null,null,null,null,null,null,null,null,null,{"$f":"IF(OR(SUMPRODUCT(--(E35424=$O$1:$O$542))>0,E35424=0),0,1)","v":0}]
[null,null,null,null,0,null,null,null,null,null,null,null,0,null,null,null,null,null,null,null,null,null,null,null,null,null,{"$f":"IF(OR(SUMPRODUCT(--(E35460=$O$1:$O$542))>0,E35460=0),0,1)","v":0}]
[null,null,null,null,0,null,null,null,null,null,null,null,0,null,null,null,null,null,null,null,null,null,null,null,null,null,{"$f":"IF(OR(SUMPRODUCT(--(E35597=$O$1:$O$542))>0,E35597=0),0,1)","v":0}]
[null,null,null,null,0,null,null,null,null,null,null,null,0,null,null,null,null,null,null,null,null,null,null,null,null,null,{"$f":"IF(OR(SUMPRODUCT(--(E35696=$O$1:$O$542))>0,E35696=0),0,1)","v":0}]
[null,null,null,null,0,null,null,null,null,null,null,null,0,null,null,null,null,null,null,null,null,null,null,null,null,null,{"$f":"IF(OR(SUMPRODUCT(--(E35792=$O$1:$O$542))>0,E35792=0),0,1)","v":0}]
[null,null,null,null,0,null,null,null,null,null,null,null,0,null,null,null,null,null,null,null,null,null,null,null,null,null,{"$f":"IF(OR(SUMPRODUCT(--(E35849=$O$1:$O$542))>0,E35849=0),0,1)","v":0}]
[null,null,null,null,0,null,null,null,null,null,null,null,0,null,null,null,null,null,null,null,null,null,null,null,null,null,{"$f":"IF(OR(SUMPRODUCT(--(E35968=$O$1:$O$542))>0,E35968=0),0,1)","v":0}]
[null,null,null,null,0,null,null,null,null,null,null,null,0,null,null,null,null,null,null,null,null,null,null,null,null,null,{"$f":"IF(OR(SUMPRODUCT(--(E36032=$O$1:$O$542))>0,E36032=0),0,1)","v":0}]
[null,null,null,null,0,null,null,null,null,null,null,null,0,null,null,null,null,null,null,null,null,null,null,null,null,null,{"$f":"IF(OR(SUMPRODUCT(--(E36089=$O$1:$O$542))>0,E36089=0),0,1)","v":0}]
[null,null,null,null,0,null,null,null,null,null,null,null,0,null,null,null,null,null,null,null,null,null,null,null,null,null,{"$f":"IF(OR(SUMPRODUCT(--(E36226=$O$1:$O$542))>0,E36226=0),0,1)","v":0}]
[null,null,null,null,0,null,null,null,null,null,null,null,0,null,null,null,null,null,null,null,null,null,null,null,null,null,{"$f":"IF(OR(SUMPRODUCT(--(E36329=$O$1:$O$542))>0,E36329=0),0,1)","v":0}]
[null,null,null,null,0,null,null,null,null,null,null,null,0,null,null,null,null,null,null,null,null,null,null,null,null,null,{"$f":"IF(OR(SUMPRODUCT(--(E36421=$O$1:$O$542))>0,E36421=0),0,1)","v":0}]
[null,null,null,null,0,null,null,null,null,null,null,null,0,null,null,null,null,null,null,null,null,null,null,null,null,null,{"$f":"IF(OR(SUMPRODUCT(--(E36466=$O$1:$O$542))>0,E36466=0),0,1)","v":0}]
[null,null,null,null,0,null,null,null,null,null,null,null,0,null,null,null,null,null,null,null,null,null,null,null,null,null,{"$f":"IF(OR(SUMPRODUCT(--(E36605=$O$1:$O$542))>0,E36605=0),0,1)","v":0}]
[null,null,null,null,0,null,null,null,null,null,null,null,0,null,null,null,null,null,null,null,null,null,null,null,null,null,{"$f":"IF(OR(SUMPRODUCT(--(E36661=$O$1:$O$542))>0,E36661=0),0,1)","v":0}]
[null,null,null,null,0,null,null,null,null,null,null,null,0,null,null,null,null,null,null,null,null,null,null,null,null,null,{"$f":"IF(OR(SUMPRODUCT(--(E36798=$O$1:$O$542))>0,E36798=0),0,1)","v":0}]
[null,null,null,null,0,null,null,null,null,null,null,null,0,null,null,null,null,null,null,null,null,null,null,null,null,null,{"$f":"IF(OR(SUMPRODUCT(--(E36877=$O$1:$O$542))>0,E36877=0),0,1)","v":0}]
[null,null,null,null,0,null,null,null,null,null,null,null,0,null,null,null,null,null,null,null,null,null,null,null,null,null,{"$f":"IF(OR(SUMPRODUCT(--(E36993=$O$1:$O$542))>0,E36993=0),0,1)","v":0}]
[null,null,null,null,0,null,null,null,null,null,null,null,0,null,null,null,null,null,null,null,null,null,null,null,null,null,{"$f":"IF(OR(SUMPRODUCT(--(E37038=$O$1:$O$542))>0,E37038=0),0,1)","v":0}]
[null,null,null,null,0,null,null,null,null,null,null,null,0,null,null,null,null,null,null,null,null,null,null,null,null,null,{"$f":"IF(OR(SUMPRODUCT(--(E37149=$O$1:$O$542))>0,E37149=0),0,1)","v":0}]
[null,null,null,null,0,null,null,null,null,null,null,null,0,null,null,null,null,null,null,null,null,null,null,null,null,null,{"$f":"IF(OR(SUMPRODUCT(--(E37233=$O$1:$O$542))>0,E37233=0),0,1)","v":0}]
[null,null,null,null,0,null,null,null,null,null,null,null,0,null,null,null,null,null,null,null,null,null,null,null,null,null,{"$f":"IF(OR(SUMPRODUCT(--(E37290=$O$1:$O$542))>0,E37290=0),0,1)","v":0}]
[null,null,null,null,0,null,null,null,null,null,null,null,0,null,null,null,null,null,null,null,null,null,null,null,null,null,{"$f":"IF(OR(SUMPRODUCT(--(E37421=$O$1:$O$542))>0,E37421=0),0,1)","v":0}]
[null,null,null,null,0,null,null,null,null,null,null,null,0,null,null,null,null,null,null,null,null,null,null,null,null,null,{"$f":"IF(OR(SUMPRODUCT(--(E37473=$O$1:$O$542))>0,E37473=0),0,1)","v":0}]
[null,null,null,null,0,null,null,null,null,null,null,null,0,null,null,null,null,null,null,null,null,null,null,null,null,null,{"$f":"IF(OR(SUMPRODUCT(--(E37622=$O$1:$O$542))>0,E37622=0),0,1)","v":0}]
[null,null,null,null,0,null,null,null,null,null,null,null,0,null,null,null,null,null,null,null,null,null,null,null,null,null,{"$f":"IF(OR(SUMPRODUCT(--(E37667=$O$1:$O$542))>0,E37667=0),0,1)","v":0}]
[null,null,null,null,0,null,null,null,null,null,null,null,0,null,null,null,null,null,null,null,null,null,null,null,null,null,{"$f":"IF(OR(SUMPRODUCT(--(E37786=$O$1:$O$542))>0,E37786=0),0,1)","v":0}]
[null,null,null,null,0,null,null,null,null,null,null,null,0,null,null,null,null,null,null,null,null,null,null,null,null,null,{"$f":"IF(OR(SUMPRODUCT(--(E37862=$O$1:$O$542))>0,E37862=0),0,1)","v":0}]
[null,null,null,null,0,null,null,null,null,null,null,null,0,null,null,null,null,null,null,null,null,null,null,null,null,null,{"$f":"IF(OR(SUMPRODUCT(--(E37999=$O$1:$O$542))>0,E37999=0),0,1)","v":0}]
[null,null,null,null,0,null,null,null,null,null,null,null,0,null,null,null,null,null,null,null,null,null,null,null,null,null,{"$f":"IF(OR(SUMPRODUCT(--(E38058=$O$1:$O$542))>0,E38058=0),0,1)","v":0}]
[null,null,null,null,0,null,null,null,null,null,null,null,0,null,null,null,null,null,null,null,null,null,null,null,null,null,{"$f":"IF(OR(SUMPRODUCT(--(E38194=$O$1:$O$542))>0,E38194=0),0,1)","v":0}]
[null,null,null,null,{"$f":"IF(AND(F38239<>\"\",F38239=G38239),\"ERROR\",IF(AND(F38239<>\"\",F38239<>G38239),F38239,G38239))","v":0},null,null,null,null,null,null,null,0,null,null,null,null,null,null,null,null,null,null,null,null,null,{"$f":"IF(OR(SUMPRODUCT(--(E38239=$O$1:$O$542))>0,E38239=0),0,1)","v":0}]
[null,null,null,null,0,null,null,null,null,null,null,null,0,null,null,null,null,null,null,null,null,null,null,null,null,null,{"$f":"IF(OR(SUMPRODUCT(--(E38330=$O$1:$O$542))>0,E38330=0),0,1)","v":0}]
[null,null,null,null,0,null,null,null,null,null,null,null,0,null,null,null,null,null,null,null,null,null,null,null,null,null,{"$f":"IF(OR(SUMPRODUCT(--(E38434=$O$1:$O$542))>0,E38434=0),0,1)","v":0}]
[null,null,null,null,0,null,null,null,null,null,null,null,0,null,null,null,null,null,null,null,null,null,null,null,null,null,{"$f":"IF(OR(SUMPRODUCT(--(E38491=$O$1:$O$542))>0,E38491=0),0,1)","v":0}]
[null,null,null,null,0,null,null,null,null,null,null,null,0,null,null,null,null,null,null,null,null,null,null,null,null,null,{"$f":"IF(OR(SUMPRODUCT(--(E38602=$O$1:$O$542))>0,E38602=0),0,1)","v":0}]
[null,null,null,null,0,null,null,null,null,null,null,null,0,null,null,null,null,null,null,null,null,null,null,null,null,null,{"$f":"IF(OR(SUMPRODUCT(--(E38674=$O$1:$O$542))>0,E38674=0),0,1)","v":0}]
[null,null,null,null,0,null,null,null,null,null,null,null,0,null,null,null,null,null,null,null,null,null,null,null,null,null,{"$f":"IF(OR(SUMPRODUCT(--(E38823=$O$1:$O$542))>0,E38823=0),0,1)","v":0}]
[null,null,null,null,0,null,null,null,null,null,null,null,0,null,null,null,null,null,null,null,null,null,null,null,null,null,{"$f":"IF(OR(SUMPRODUCT(--(E38874=$O$1:$O$542))>0,E38874=0),0,1)","v":0}]
[null,null,null,null,0,null,null,null,null,null,null,null,0,null,null,null,null,null,null,null,null,null,null,null,null,null,{"$f":"IF(OR(SUMPRODUCT(--(E39006=$O$1:$O$542))>0,E39006=0),0,1)","v":0}]
[null,null,null,null,0,null,null,null,null,null,null,null,0,null,null,null,null,null,null,null,null,null,null,null,null,null,{"$f":"IF(OR(SUMPRODUCT(--(E39063=$O$1:$O$542))>0,E39063=0),0,1)","v":0}]
[null,null,null,null,0,null,null,null,null,null,null,null,{"$f":"IF(L39200<>\"\",L39200,K39200)","v":0},null,null,null,null,null,null,null,null,null,null,null,null,null,{"$f":"IF(OR(SUMPRODUCT(--(E39200=$O$1:$O$542))>0,E39200=0),0,1)","v":0}]
[null,null,null,null,0,null,null,null,null,null,null,null,0,null,null,null,null,null,null,null,null,null,null,null,null,null,{"$f":"IF(OR(SUMPRODUCT(--(E39239=$O$1:$O$542))>0,E39239=0),0,1)","v":0}]
[null,null,null,null,0,null,null,null,null,null,null,null,0,null,null,null,null,null,null,null,null,null,null,null,null,null,{"$f":"IF(OR(SUMPRODUCT(--(E39395=$O$1:$O$542))>0,E39395=0),0,1)","v":0}]
[null,null,null,null,0,null,null,null,null,null,null,null,0,null,null,null,null,null,null,null,null,null,null,null,null,null,{"$f":"IF(OR(SUMPRODUCT(--(E39440=$O$1:$O$542))>0,E39440=0),0,1)","v":0}]
[null,null,null,null,0,null,null,null,null,null,null,null,0,null,null,null,null,null,null,null,null,null,null,null,null,null,{"$f":"IF(OR(SUMPRODUCT(--(E39511=$O$1:$O$542))>0,E39511=0),0,1)","v":0}]
[null,null,null,null,0,null,null,null,null,null,null,null,0,null,null,null,null,null,null,null,null,null,null,null,null,null,{"$f":"IF(OR(SUMPRODUCT(--(E39635=$O$1:$O$542))>0,E39635=0),0,1)","v":0}]
[null,null,null,null,0,null,null,null,null,null,null,null,0,null,null,null,null,null,null,null,null,null,null,null,null,null,{"$f":"IF(OR(SUMPRODUCT(--(E39692=$O$1:$O$542))>0,E39692=0),0,1)","v":0}]
[null,null,null,null,0,null,null,null,null,null,null,null,0,null,null,null,null,null,null,null,null,null,null,null,null,null,{"$f":"IF(OR(SUMPRODUCT(--(E39783=$O$1:$O$542))>0,E39783=0),0,1)","v":0}]
[null,null,null,null,0,null,null,null,null,null,null,null,0,null,null,null,null,null,null,null,null,null,null,null,null,null,{"$f":"IF(OR(SUMPRODUCT(--(E39875=$O$1:$O$542))>0,E39875=0),0,1)","v":0}]
[null,null,null,null,0,null,null,null,null,null,null,null,0,null,null,null,null,null,null,null,null,null,null,null,null,null,{"$f":"IF(OR(SUMPRODUCT(--(E40024=$O$1:$O$542))>0,E40024=0),0,1)","v":0}]
[null,null,null,null,0,null,null,null,null,null,null,null,0,null,null,null,null,null,null,null,null,null,null,null,null,null,{"$f":"IF(OR(SUMPRODUCT(--(E40055=$O$1:$O$542))>0,E40055=0),0,1)","v":0}]
[null,null,null,null,0,null,null,null,null,null,null,null,0,null,null,null,null,null,null,null,null,null,null,null,null,null,{"$f":"IF(OR(SUMPRODUCT(--(E40207=$O$1:$O$542))>0,E40207=0),0,1)","v":0}]
[null,null,null,null,0,null,null,null,null,null,null,null,0,null,null,null,null,null,null,null,null,null,null,null,null,null,{"$f":"IF(OR(SUMPRODUCT(--(E40264=$O$1:$O$542))>0,E40264=0),0,1)","v":0}]
[null,null,null,null,0,null,null,null,null,null,null,null,0,null,null,null,null,null,null,null,null,null,null,null,null,null,{"$f":"IF(OR(SUMPRODUCT(--(E40327=$O$1:$O$542))>0,E40327=0),0,1)","v":0}]
[null,null,null,null,0,null,null,null,null,null,null,null,0,null,null,null,null,null,null,null,null,null,null,null,null,null,{"$f":"IF(OR(SUMPRODUCT(--(E40459=$O$1:$O$542))>0,E40459=0),0,1)","v":0}]
[null,null,null,null,0,null,null,null,null,null,null,null,0,null,null,null,null,null,null,null,null,null,null,null,null,null,{"$f":"IF(OR(SUMPRODUCT(--(E40596=$O$1:$O$542))>0,E40596=0),0,1)","v":0}]
[null,null,null,null,0,null,null,null,null,null,null,null,0,null,null,null,null,null,null,null,null,null,null,null,null,null,{"$f":"IF(OR(SUMPRODUCT(--(E40692=$O$1:$O$542))>0,E40692=0),0,1)","v":0}]
[null,null,null,null,0,null,null,null,null,null,null,null,0,null,null,null,null,null,null,null,null,null,null,null,null,null,{"$f":"IF(OR(SUMPRODUCT(--(E40699=$O$1:$O$542))>0,E40699=0),0,1)","v":0}]
[null,null,null,null,0,null,null,null,null,null,null,null,0,null,null,null,null,null,null,null,null,null,null,null,null,null,{"$f":"IF(OR(SUMPRODUCT(--(E40836=$O$1:$O$542))>0,E40836=0),0,1)","v":0}]
[null,null,null,null,0,null,null,null,null,null,null,null,0,null,null,null,null,null,null,null,null,null,null,null,null,null,{"$f":"IF(OR(SUMPRODUCT(--(E40893=$O$1:$O$542))>0,E40893=0),0,1)","v":0}]
[null,null,null,null,0,null,null,null,null,null,null,null,0,null,null,null,null,null,null,null,null,null,null,null,null,null,{"$f":"IF(OR(SUMPRODUCT(--(E41057=$O$1:$O$542))>0,E41057=0),0,1)","v":0}]
[null,null,null,null,0,null,null,null,null,null,null,null,0,null,null,null,null,null,null,null,null,null,null,null,null,null,{"$f":"IF(OR(SUMPRODUCT(--(E41076=$O$1:$O$542))>0,E41076=0),0,1)","v":0}]
[null,null,null,null,0,null,null,null,null,null,null,null,0,null,null,null,null,null,null,null,null,null,null,null,null,null,{"$f":"IF(OR(SUMPRODUCT(--(E41225=$O$1:$O$542))>0,E41225=0),0,1)","v":0}]
[null,null,null,null,0,null,null,null,null,null,null,null,0,null,null,null,null,null,null,null,null,null,null,null,null,null,{"$f":"IF(OR(SUMPRODUCT(--(E41329=$O$1:$O$542))>0,E41329=0),0,1)","v":0}]
[null,null,null,null,0,null,null,null,null,null,null,null,0,null,null,null,null,null,null,null,null,null,null,null,null,null,{"$f":"IF(OR(SUMPRODUCT(--(E41408=$O$1:$O$542))>0,E41408=0),0,1)","v":0}]
[null,null,null,null,0,null,null,null,null,null,null,null,0,null,null,null,null,null,null,null,null,null,null,null,null,null,{"$f":"IF(OR(SUMPRODUCT(--(E41465=$O$1:$O$542))>0,E41465=0),0,1)","v":0}]
[null,null,null,null,0,null,null,null,null,null,null,null,0,null,null,null,null,null,null,null,null,null,null,null,null,null,{"$f":"IF(OR(SUMPRODUCT(--(E41601=$O$1:$O$542))>0,E41601=0),0,1)","v":0}]
[null,null,null,null,0,null,null,null,null,null,null,null,0,null,null,null,null,null,null,null,null,null,null,null,null,null,{"$f":"IF(OR(SUMPRODUCT(--(E41660=$O$1:$O$542))>0,E41660=0),0,1)","v":0}]
[null,null,null,null,0,null,null,null,null,null,null,null,0,null,null,null,null,null,null,null,null,null,null,null,null,null,{"$f":"IF(OR(SUMPRODUCT(--(E41797=$O$1:$O$542))>0,E41797=0),0,1)","v":0}]
[null,null,null,null,0,null,null,null,null,null,null,null,0,null,null,null,null,null,null,null,null,null,null,null,null,null,{"$f":"IF(OR(SUMPRODUCT(--(E41873=$O$1:$O$542))>0,E41873=0),0,1)","v":0}]
[null,null,null,null,0,null,null,null,null,null,null,null,0,null,null,null,null,null,null,null,null,null,null,null,null,null,{"$f":"IF(OR(SUMPRODUCT(--(E41900=$O$1:$O$542))>0,E41900=0),0,1)","v":0}]
[null,null,null,null,0,null,null,null,null,null,null,null,0,null,null,null,null,null,null,null,null,null,null,null,null,null,{"$f":"IF(OR(SUMPRODUCT(--(E42037=$O$1:$O$542))>0,E42037=0),0,1)","v":0}]
[null,null,null,null,0,null,null,null,null,null,null,null,0,null,null,null,null,null,null,null,null,null,null,null,null,null,{"$f":"IF(OR(SUMPRODUCT(--(E42145=$O$1:$O$542))>0,E42145=0),0,1)","v":0}]
[null,null,null,null,0,null,null,null,null,null,null,null,0,null,null,null,null,null,null,null,null,null,null,null,null,null,{"$f":"IF(OR(SUMPRODUCT(--(E42232=$O$1:$O$542))>0,E42232=0),0,1)","v":0}]
[null,null,null,null,0,null,null,null,null,null,null,null,0,null,null,null,null,null,null,null,null,null,null,null,null,null,{"$f":"IF(OR(SUMPRODUCT(--(E42277=$O$1:$O$542))>0,E42277=0),0,1)","v":0}]
[null,null,null,null,0,null,null,null,null,null,null,null,0,null,null,null,null,null,null,null,null,null,null,null,null,null,{"$f":"IF(OR(SUMPRODUCT(--(E42426=$O$1:$O$542))>0,E42426=0),0,1)","v":0}]
[null,null,null,null,0,null,null,null,null,null,null,null,0,null,null,null,null,null,null,null,null,null,null,null,null,null,{"$f":"IF(OR(SUMPRODUCT(--(E42510=$O$1:$O$542))>0,E42510=0),0,1)","v":0}]
[null,null,null,null,0,null,null,null,null,null,null,null,0,null,null,null,null,null,null,null,null,null,null,null,null,null,{"$f":"IF(OR(SUMPRODUCT(--(E42609=$O$1:$O$542))>0,E42609=0),0,1)","v":0}]
[null,null,null,null,0,null,null,null,null,null,null,null,0,null,null,null,null,null,null,null,null,null,null,null,null,null,{"$f":"IF(OR(SUMPRODUCT(--(E42666=$O$1:$O$542))>0,E42666=0),0,1)","v":0}]
[null,null,null,null,0,null,null,null,null,null,null,null,0,null,null,null,null,null,null,null,null,null,null,null,null,null,{"$f":"IF(OR(SUMPRODUCT(--(E42782=$O$1:$O$542))>0,E42782=0),0,1)","v":0}]
[null,null,null,null,0,null,null,null,null,null,null,null,0,null,null,null,null,null,null,null,null,null,null,null,null,null,{"$f":"IF(OR(SUMPRODUCT(--(E42861=$O$1:$O$542))>0,E42861=0),0,1)","v":0}]
[null,null,null,null,0,null,null,null,null,null,null,null,0,null,null,null,null,null,null,null,null,null,null,null,null,null,{"$f":"IF(OR(SUMPRODUCT(--(E42998=$O$1:$O$542))>0,E42998=0),0,1)","v":0}]
[null,null,null,null,0,null,null,null,null,null,null,null,0,null,null,null,null,null,null,null,null,null,null,null,null,null,{"$f":"IF(OR(SUMPRODUCT(--(E43054=$O$1:$O$542))>0,E43054=0),0,1)","v":0}]
[null,null,null,null,0,null,null,null,null,null,null,null,0,null,null,null,null,null,null,null,null,null,null,null,null,null,{"$f":"IF(OR(SUMPRODUCT(--(E43101=$O$1:$O$542))>0,E43101=0),0,1)","v":0}]
[null,null,null,null,0,null,null,null,null,null,null,null,0,null,null,null,null,null,null,null,null,null,null,null,null,null,{"$f":"IF(OR(SUMPRODUCT(--(E43238=$O$1:$O$542))>0,E43238=0),0,1)","v":0}]
[null,null,null,null,0,null,null,null,null,null,null,null,0,null,null,null,null,null,null,null,null,null,null,null,null,null,{"$f":"IF(OR(SUMPRODUCT(--(E43326=$O$1:$O$542))>0,E43326=0),0,1)","v":0}]
[null,null,null,null,0,null,null,null,null,null,null,null,0,null,null,null,null,null,null,null,null,null,null,null,null,null,{"$f":"IF(OR(SUMPRODUCT(--(E43433=$O$1:$O$542))>0,E43433=0),0,1)","v":0}]
[null,null,null,null,0,null,null,null,null,null,null,null,0,null,null,null,null,null,null,null,null,null,null,null,null,null,{"$f":"IF(OR(SUMPRODUCT(--(E43478=$O$1:$O$542))>0,E43478=0),0,1)","v":0}]
[null,null,null,null,0,null,null,null,null,null,null,null,0,null,null,null,null,null,null,null,null,null,null,null,null,null,{"$f":"IF(OR(SUMPRODUCT(--(E43602=$O$1:$O$542))>0,E43602=0),0,1)","v":0}]
[null,null,null,null,0,null,null,null,null,null,null,null,0,null,null,null,null,null,null,null,null,null,null,null,null,null,{"$f":"IF(OR(SUMPRODUCT(--(E43673=$O$1:$O$542))>0,E43673=0),0,1)","v":0}]
[null,null,null,null,0,null,null,null,null,null,null,null,0,null,null,null,null,null,null,null,null,null,null,null,null,null,{"$f":"IF(OR(SUMPRODUCT(--(E43810=$O$1:$O$542))>0,E43810=0),0,1)","v":0}]
[null,null,null,null,0,null,null,null,null,null,null,null,0,null,null,null,null,null,null,null,null,null,null,null,null,null,{"$f":"IF(OR(SUMPRODUCT(--(E43874=$O$1:$O$542))>0,E43874=0),0,1)","v":0}]
[null,null,null,null,0,null,null,null,null,null,null,null,0,null,null,null,null,null,null,null,null,null,null,null,null,null,{"$f":"IF(OR(SUMPRODUCT(--(E44005=$O$1:$O$542))>0,E44005=0),0,1)","v":0}]
[null,null,null,null,0,null,null,null,null,null,null,null,0,null,null,null,null,null,null,null,null,null,null,null,null,null,{"$f":"IF(OR(SUMPRODUCT(--(E44050=$O$1:$O$542))>0,E44050=0),0,1)","v":0}]
[null,null,null,null,0,null,null,null,null,null,null,null,0,null,null,null,null,null,null,null,null,null,null,null,null,null,{"$f":"IF(OR(SUMPRODUCT(--(E44199=$O$1:$O$542))>0,E44199=0),0,1)","v":0}]
[null,null,null,null,0,null,null,null,null,null,null,null,0,null,null,null,null,null,null,null,null,null,null,null,null,null,{"$f":"IF(OR(SUMPRODUCT(--(E44235=$O$1:$O$542))>0,E44235=0),0,1)","v":0}]
[null,null,null,null,0,null,null,null,null,null,null,null,0,null,null,null,null,null,null,null,null,null,null,null,null,null,{"$f":"IF(OR(SUMPRODUCT(--(E44302=$O$1:$O$542))>0,E44302=0),0,1)","v":0}]
[null,null,null,null,0,null,null,null,null,null,null,null,0,null,null,null,null,null,null,null,null,null,null,null,null,null,{"$f":"IF(OR(SUMPRODUCT(--(E44439=$O$1:$O$542))>0,E44439=0),0,1)","v":0}]
[null,null,null,null,0,null,null,null,null,null,null,null,0,null,null,null,null,null,null,null,null,null,null,null,null,null,{"$f":"IF(OR(SUMPRODUCT(--(E44507=$O$1:$O$542))>0,E44507=0),0,1)","v":0}]
[null,null,null,null,0,null,null,null,null,null,null,null,0,null,null,null,null,null,null,null,null,null,null,null,null,null,{"$f":"IF(OR(SUMPRODUCT(--(E44634=$O$1:$O$542))>0,E44634=0),0,1)","v":0}]
[null,null,null,null,0,null,null,null,null,null,null,null,0,null,null,null,null,null,null,null,null,null,null,null,null,null,{"$f":"IF(OR(SUMPRODUCT(--(E44679=$O$1:$O$542))>0,E44679=0),0,1)","v":0}]
[null,null,null,null,0,null,null,null,null,null,null,null,0,null,null,null,null,null,null,null,null,null,null,null,null,null,{"$f":"IF(OR(SUMPRODUCT(--(E44783=$O$1:$O$542))>0,E44783=0),0,1)","v":0}]
[null,null,null,null,0,null,null,null,null,null,null,null,0,null,null,null,null,null,null,null,null,null,null,null,null,null,{"$f":"IF(OR(SUMPRODUCT(--(E44874=$O$1:$O$542))>0,E44874=0),0,1)","v":0}]
[null,null,null,null,0,null,null,null,null,null,null,null,0,null,null,null,null,null,null,null,null,null,null,null,null,null,{"$f":"IF(OR(SUMPRODUCT(--(E45011=$O$1:$O$542))>0,E45011=0),0,1)","v":0}]
[null,null,null,null,0,null,null,null,null,null,null,null,0,null,null,null,null,null,null,null,null,null,null,null,null,null,{"$f":"IF(OR(SUMPRODUCT(--(E45055=$O$1:$O$542))>0,E45055=0),0,1)","v":0}]
[null,null,null,null,0,null,null,null,null,null,null,null,0,null,null,null,null,null,null,null,null,null,null,null,null,null,{"$f":"IF(OR(SUMPRODUCT(--(E45206=$O$1:$O$542))>0,E45206=0),0,1)","v":0}]
[null,null,null,null,0,null,null,null,null,null,null,null,0,null,null,null,null,null,null,null,null,null,null,null,null,null,{"$f":"IF(OR(SUMPRODUCT(--(E45251=$O$1:$O$542))>0,E45251=0),0,1)","v":0}]
[null,null,null,null,0,null,null,null,null,null,null,null,0,null,null,null,null,null,null,null,null,null,null,null,null,null,{"$f":"IF(OR(SUMPRODUCT(--(E45327=$O$1:$O$542))>0,E45327=0),0,1)","v":0}]
[null,null,null,null,0,null,null,null,null,null,null,null,0,null,null,null,null,null,null,null,null,null,null,null,null,null,{"$f":"IF(OR(SUMPRODUCT(--(E45446=$O$1:$O$542))>0,E45446=0),0,1)","v":0}]
[null,null,null,null,0,null,null,null,null,null,null,null,0,null,null,null,null,null,null,null,null,null,null,null,null,null,{"$f":"IF(OR(SUMPRODUCT(--(E45503=$O$1:$O$542))>0,E45503=0),0,1)","v":0}]
[null,null,null,null,0,null,null,null,null,null,null,null,0,null,null,null,null,null,null,null,null,null,null,null,null,null,{"$f":"IF(OR(SUMPRODUCT(--(E45640=$O$1:$O$542))>0,E45640=0),0,1)","v":0}]
[null,null,null,null,0,null,null,null,null,null,null,null,0,null,null,null,null,null,null,null,null,null,null,null,null,null,{"$f":"IF(OR(SUMPRODUCT(--(E45688=$O$1:$O$542))>0,E45688=0),0,1)","v":0}]
[null,null,null,null,0,null,null,null,null,null,null,null,0,null,null,null,null,null,null,null,null,null,null,null,null,null,{"$f":"IF(OR(SUMPRODUCT(--(E45835=$O$1:$O$542))>0,E45835=0),0,1)","v":0}]
[null,null,null,null,0,null,null,null,null,null,null,null,0,null,null,null,null,null,null,null,null,null,null,null,null,null,{"$f":"IF(OR(SUMPRODUCT(--(E45880=$O$1:$O$542))>0,E45880=0),0,1)","v":0}]
[null,null,null,null,0,null,null,null,null,null,null,null,0,null,null,null,null,null,null,null,null,null,null,null,null,null,{"$f":"IF(OR(SUMPRODUCT(--(E45964=$O$1:$O$542))>0,E45964=0),0,1)","v":0}]
[null,null,null,null,0,null,null,null,null,null,null,null,0,null,null,null,null,null,null,null,null,null,null,null,null,null,{"$f":"IF(OR(SUMPRODUCT(--(E46075=$O$1:$O$542))>0,E46075=0),0,1)","v":0}]
[null,null,null,null,0,null,null,null,null,null,null,null,0,null,null,null,null,null,null,null,null,null,null,null,null,null,{"$f":"IF(OR(SUMPRODUCT(--(E46212=$O$1:$O$542))>0,E46212=0),0,1)","v":0}]
[null,null,null,null,0,null,null,null,null,null,null,null,0,null,null,null,null,null,null,null,null,null,null,null,null,null,{"$f":"IF(OR(SUMPRODUCT(--(E46236=$O$1:$O$542))>0,E46236=0),0,1)","v":0}]
[null,null,null,null,0,null,null,null,null,null,null,null,0,null,null,null,null,null,null,null,null,null,null,null,null,null,{"$f":"IF(OR(SUMPRODUCT(--(E46407=$O$1:$O$542))>0,E46407=0),0,1)","v":0}]
[null,null,null,null,0,null,null,null,null,null,null,null,0,null,null,null,null,null,null,null,null,null,null,null,null,null,{"$f":"IF(OR(SUMPRODUCT(--(E46452=$O$1:$O$542))>0,E46452=0),0,1)","v":0}]
[null,null,null,null,0,null,null,null,null,null,null,null,0,null,null,null,null,null,null,null,null,null,null,null,null,null,{"$f":"IF(OR(SUMPRODUCT(--(E46601=$O$1:$O$542))>0,E46601=0),0,1)","v":0}]
[null,null,null,null,0,null,null,null,null,null,null,null,0,null,null,null,null,null,null,null,null,null,null,null,null,null,{"$f":"IF(OR(SUMPRODUCT(--(E46647=$O$1:$O$542))>0,E46647=0),0,1)","v":0}]
[null,null,null,null,0,null,null,null,null,null,null,null,0,null,null,null,null,null,null,null,null,null,null,null,null,null,{"$f":"IF(OR(SUMPRODUCT(--(E46704=$O$1:$O$542))>0,E46704=0),0,1)","v":0}]
[null,null,null,null,0,null,null,null,null,null,null,null,0,null,null,null,null,null,null,null,null,null,null,null,null,null,{"$f":"IF(OR(SUMPRODUCT(--(E46873=$O$1:$O$542))>0,E46873=0),0,1)","v":0}]
[null,null,null,null,0,null,null,null,null,null,null,null,0,null,null,null,null,null,null,null,null,null,null,null,null,null,{"$f":"IF(OR(SUMPRODUCT(--(E46887=$O$1:$O$542))>0,E46887=0),0,1)","v":0}]
[null,null,null,null,0,null,null,null,null,null,null,null,0,null,null,null,null,null,null,null,null,null,null,null,null,null,{"$f":"IF(OR(SUMPRODUCT(--(E47036=$O$1:$O$542))>0,E47036=0),0,1)","v":0}]
[null,null,null,null,0,null,null,null,null,null,null,null,0,null,null,null,null,null,null,null,null,null,null,null,null,null,{"$f":"IF(OR(SUMPRODUCT(--(E47145=$O$1:$O$542))>0,E47145=0),0,1)","v":0}]
[null,null,null,null,0,null,null,null,null,null,null,null,0,null,null,null,null,null,null,null,null,null,null,null,null,null,{"$f":"IF(OR(SUMPRODUCT(--(E47219=$O$1:$O$542))>0,E47219=0),0,1)","v":0}]
[null,null,null,null,0,null,null,null,null,null,null,null,0,null,null,null,null,null,null,null,null,null,null,null,null,null,{"$f":"IF(OR(SUMPRODUCT(--(E47276=$O$1:$O$542))>0,E47276=0),0,1)","v":0}]
[null,null,null,null,0,null,null,null,null,null,null,null,0,null,null,null,null,null,null,null,null,null,null,null,null,null,{"$f":"IF(OR(SUMPRODUCT(--(E47413=$O$1:$O$542))>0,E47413=0),0,1)","v":0}]
[null,null,null,null,0,null,null,null,null,null,null,null,0,null,null,null,null,null,null,null,null,null,null,null,null,null,{"$f":"IF(OR(SUMPRODUCT(--(E47510=$O$1:$O$542))>0,E47510=0),0,1)","v":0}]
[null,null,null,null,0,null,null,null,null,null,null,null,0,null,null,null,null,null,null,null,null,null,null,null,null,null,{"$f":"IF(OR(SUMPRODUCT(--(E47608=$O$1:$O$542))>0,E47608=0),0,1)","v":0}]
[null,null,null,null,0,null,null,null,null,null,null,null,0,null,null,null,null,null,null,null,null,null,null,null,null,null,{"$f":"IF(OR(SUMPRODUCT(--(E47653=$O$1:$O$542))>0,E47653=0),0,1)","v":0}]
[null,null,null,null,0,null,null,null,null,null,null,null,0,null,null,null,null,null,null,null,null,null,null,null,null,null,{"$f":"IF(OR(SUMPRODUCT(--(E47782=$O$1:$O$542))>0,E47782=0),0,1)","v":0}]
[null,null,null,null,0,null,null,null,null,null,null,null,0,null,null,null,null,null,null,null,null,null,null,null,null,null,{"$f":"IF(OR(SUMPRODUCT(--(E47848=$O$1:$O$542))>0,E47848=0),0,1)","v":0}]
[null,null,null,null,0,null,null,null,null,null,null,null,0,null,null,null,null,null,null,null,null,null,null,null,null,null,{"$f":"IF(OR(SUMPRODUCT(--(E47905=$O$1:$O$542))>0,E47905=0),0,1)","v":0}]
[null,null,null,null,0,null,null,null,null,null,null,null,0,null,null,null,null,null,null,null,null,null,null,null,null,null,{"$f":"IF(OR(SUMPRODUCT(--(E48054=$O$1:$O$542))>0,E48054=0),0,1)","v":0}]
[null,null,null,null,0,null,null,null,null,null,null,null,0,null,null,null,null,null,null,null,null,null,null,null,null,null,{"$f":"IF(OR(SUMPRODUCT(--(E48088=$O$1:$O$542))>0,E48088=0),0,1)","v":0}]
[null,null,null,null,0,null,null,null,null,null,null,null,0,null,null,null,null,null,null,null,null,null,null,null,null,null,{"$f":"IF(OR(SUMPRODUCT(--(E48237=$O$1:$O$542))>0,E48237=0),0,1)","v":0}]
[null,null,null,null,0,null,null,null,null,null,null,null,0,null,null,null,null,null,null,null,null,null,null,null,null,null,{"$f":"IF(OR(SUMPRODUCT(--(E48326=$O$1:$O$542))>0,E48326=0),0,1)","v":0}]
[null,null,null,null,0,null,null,null,null,null,null,null,0,null,null,null,null,null,null,null,null,null,null,null,null,null,{"$f":"IF(OR(SUMPRODUCT(--(E48420=$O$1:$O$542))>0,E48420=0),0,1)","v":0}]
[null,null,null,null,0,null,null,null,null,null,null,null,0,null,null,null,null,null,null,null,null,null,null,null,null,null,{"$f":"IF(OR(SUMPRODUCT(--(E48477=$O$1:$O$542))>0,E48477=0),0,1)","v":0}]
[null,null,null,null,0,null,null,null,null,null,null,null,0,null,null,null,null,null,null,null,null,null,null,null,null,null,{"$f":"IF(OR(SUMPRODUCT(--(E48598=$O$1:$O$542))>0,E48598=0),0,1)","v":0}]
[null,null,null,null,0,null,null,null,null,null,null,null,{"$f":"IF(L48672<>\"\",L48672,K48672)","v":0},null,null,null,null,null,null,null,null,null,null,null,null,null,{"$f":"IF(OR(SUMPRODUCT(--(E48672=$O$1:$O$542))>0,E48672=0),0,1)","v":0}]
[null,null,null,null,0,null,null,null,null,null,null,null,0,null,null,null,null,null,null,null,null,null,null,null,null,null,{"$f":"IF(OR(SUMPRODUCT(--(E48809=$O$1:$O$542))>0,E48809=0),0,1)","v":0}]
[null,null,null,null,0,null,null,null,null,null,null,null,0,null,null,null,null,null,null,null,null,null,null,null,null,null,{"$f":"IF(OR(SUMPRODUCT(--(E48854=$O$1:$O$542))>0,E48854=0),0,1)","v":0}]
[null,null,null,null,0,null,null,null,null,null,null,null,0,null,null,null,null,null,null,null,null,null,null,null,null,null,{"$f":"IF(OR(SUMPRODUCT(--(E48963=$O$1:$O$542))>0,E48963=0),0,1)","v":0}]
[null,null,null,null,0,null,null,null,null,null,null,null,0,null,null,null,null,null,null,null,null,null,null,null,null,null,{"$f":"IF(OR(SUMPRODUCT(--(E49049=$O$1:$O$542))>0,E49049=0),0,1)","v":0}]
[null,null,null,null,0,null,null,null,null,null,null,null,0,null,null,null,null,null,null,null,null,null,null,null,null,null,{"$f":"IF(OR(SUMPRODUCT(--(E49106=$O$1:$O$542))>0,E49106=0),0,1)","v":0}]
[null,null,null,null,0,null,null,null,null,null,null,null,0,null,null,null,null,null,null,null,null,null,null,null,null,null,{"$f":"IF(OR(SUMPRODUCT(--(E49235=$O$1:$O$542))>0,E49235=0),0,1)","v":0}]
[null,null,null,null,0,null,null,null,null,null,null,null,0,null,null,null,null,null,null,null,null,null,null,null,null,null,{"$f":"IF(OR(SUMPRODUCT(--(E49289=$O$1:$O$542))>0,E49289=0),0,1)","v":0}]
[null,null,null,null,0,null,null,null,null,null,null,null,0,null,null,null,null,null,null,null,null,null,null,null,null,null,{"$f":"IF(OR(SUMPRODUCT(--(E49438=$O$1:$O$542))>0,E49438=0),0,1)","v":0}]
[null,null,null,null,0,null,null,null,null,null,null,null,0,null,null,null,null,null,null,null,null,null,null,null,null,null,{"$f":"IF(OR(SUMPRODUCT(--(E49507=$O$1:$O$542))>0,E49507=0),0,1)","v":0}]
[null,null,null,null,0,null,null,null,null,null,null,null,0,null,null,null,null,null,null,null,null,null,null,null,null,null,{"$f":"IF(OR(SUMPRODUCT(--(E49621=$O$1:$O$542))>0,E49621=0),0,1)","v":0}]
[null,null,null,null,0,null,null,null,null,null,null,null,0,null,null,null,null,null,null,null,null,null,null,null,null,null,{"$f":"IF(OR(SUMPRODUCT(--(E49678=$O$1:$O$542))>0,E49678=0),0,1)","v":0}]
[null,null,null,null,0,null,null,null,null,null,null,null,0,null,null,null,null,null,null,null,null,null,null,null,null,null,{"$f":"IF(OR(SUMPRODUCT(--(E49779=$O$1:$O$542))>0,E49779=0),0,1)","v":0}]
[null,null,null,null,0,null,null,null,null,null,null,null,0,null,null,null,null,null,null,null,null,null,null,null,null,null,{"$f":"IF(OR(SUMPRODUCT(--(E49873=$O$1:$O$542))>0,E49873=0),0,1)","v":0}]
[null,null,null,null,0,null,null,null,null,null,null,null,0,null,null,null,null,null,null,null,null,null,null,null,null,null,{"$f":"IF(OR(SUMPRODUCT(--(E50010=$O$1:$O$542))>0,E50010=0),0,1)","v":0}]
[null,null,null,null,0,null,null,null,null,null,null,null,0,null,null,null,null,null,null,null,null,null,null,null,null,null,{"$f":"IF(OR(SUMPRODUCT(--(E50051=$O$1:$O$542))>0,E50051=0),0,1)","v":0}]
[null,null,null,null,0,null,null,null,null,null,null,null,0,null,null,null,null,null,null,null,null,null,null,null,null,null,{"$f":"IF(OR(SUMPRODUCT(--(E50113=$O$1:$O$542))>0,E50113=0),0,1)","v":0}]
[null,null,null,null,0,null,null,null,null,null,null,null,0,null,null,null,null,null,null,null,null,null,null,null,null,null,{"$f":"IF(OR(SUMPRODUCT(--(E50250=$O$1:$O$542))>0,E50250=0),0,1)","v":0}]
[null,null,null,null,0,null,null,null,null,null,null,null,0,null,null,null,null,null,null,null,null,null,null,null,null,null,{"$f":"IF(OR(SUMPRODUCT(--(E50387=$O$1:$O$542))>0,E50387=0),0,1)","v":0}]
[null,null,null,null,0,null,null,null,null,null,null,null,0,null,null,null,null,null,null,null,null,null,null,null,null,null,{"$f":"IF(OR(SUMPRODUCT(--(E50416=$O$1:$O$542))>0,E50416=0),0,1)","v":0}]
[null,null,null,null,0,null,null,null,null,null,null,null,0,null,null,null,null,null,null,null,null,null,null,null,null,null,{"$f":"IF(OR(SUMPRODUCT(--(E50490=$O$1:$O$542))>0,E50490=0),0,1)","v":0}]
[null,null,null,null,0,null,null,null,null,null,null,null,0,null,null,null,null,null,null,null,null,null,null,null,null,null,{"$f":"IF(OR(SUMPRODUCT(--(E50639=$O$1:$O$542))>0,E50639=0),0,1)","v":0}]
[null,null,null,null,0,null,null,null,null,null,null,null,0,null,null,null,null,null,null,null,null,null,null,null,null,null,{"$f":"IF(OR(SUMPRODUCT(--(E50688=$O$1:$O$542))>0,E50688=0),0,1)","v":0}]
[null,null,null,null,0,null,null,null,null,null,null,null,0,null,null,null,null,null,null,null,null,null,null,null,null,null,{"$f":"IF(OR(SUMPRODUCT(--(E50822=$O$1:$O$542))>0,E50822=0),0,1)","v":0}]
[null,null,null,null,0,null,null,null,null,null,null,null,0,null,null,null,null,null,null,null,null,null,null,null,null,null,{"$f":"IF(OR(SUMPRODUCT(--(E50879=$O$1:$O$542))>0,E50879=0),0,1)","v":0}]
[null,null,null,null,0,null,null,null,null,null,null,null,0,null,null,null,null,null,null,null,null,null,null,null,null,null,{"$f":"IF(OR(SUMPRODUCT(--(E50960=$O$1:$O$542))>0,E50960=0),0,1)","v":0}]
[null,null,null,null,0,null,null,null,null,null,null,null,0,null,null,null,null,null,null,null,null,null,null,null,null,null,{"$f":"IF(OR(SUMPRODUCT(--(E51074=$O$1:$O$542))>0,E51074=0),0,1)","v":0}]
[null,null,null,null,0,null,null,null,null,null,null,null,0,null,null,null,null,null,null,null,null,null,null,null,null,null,{"$f":"IF(OR(SUMPRODUCT(--(E51211=$O$1:$O$542))>0,E51211=0),0,1)","v":0}]
[null,null,null,null,0,null,null,null,null,null,null,null,{"$f":"IF(L51232<>\"\",L51232,K51232)","v":0},null,null,null,null,null,null,null,null,null,null,null,null,null,{"$f":"IF(OR(SUMPRODUCT(--(E51232=$O$1:$O$542))>0,E51232=0),0,1)","v":0}]
[null,null,null,null,0,null,null,null,null,null,null,null,0,null,null,null,null,null,null,null,null,null,null,null,null,null,{"$f":"IF(OR(SUMPRODUCT(--(E51314=$O$1:$O$542))>0,E51314=0),0,1)","v":0}]
[null,null,null,null,0,null,null,null,null,null,null,null,0,null,null,null,null,null,null,null,null,null,null,null,null,null,{"$f":"IF(OR(SUMPRODUCT(--(E51451=$O$1:$O$542))>0,E51451=0),0,1)","v":0}]
[null,null,null,null,0,null,null,null,null,null,null,null,0,null,null,null,null,null,null,null,null,null,null,null,null,null,{"$f":"IF(OR(SUMPRODUCT(--(E51504=$O$1:$O$542))>0,E51504=0),0,1)","v":0}]
[null,null,null,null,0,null,null,null,null,null,null,null,0,null,null,null,null,null,null,null,null,null,null,null,null,null,{"$f":"IF(OR(SUMPRODUCT(--(E51646=$O$1:$O$542))>0,E51646=0),0,1)","v":0}]
[null,null,null,null,0,null,null,null,null,null,null,null,0,null,null,null,null,null,null,null,null,null,null,null,null,null,{"$f":"IF(OR(SUMPRODUCT(--(E51691=$O$1:$O$542))>0,E51691=0),0,1)","v":0}]
[null,null,null,null,0,null,null,null,null,null,null,null,0,null,null,null,null,null,null,null,null,null,null,null,null,null,{"$f":"IF(OR(SUMPRODUCT(--(E51780=$O$1:$O$542))>0,E51780=0),0,1)","v":0}]
[null,null,null,null,0,null,null,null,null,null,null,null,0,null,null,null,null,null,null,null,null,null,null,null,null,null,{"$f":"IF(OR(SUMPRODUCT(--(E51886=$O$1:$O$542))>0,E51886=0),0,1)","v":0}]
[null,null,null,null,0,null,null,null,null,null,null,null,0,null,null,null,null,null,null,null,null,null,null,null,null,null,{"$f":"IF(OR(SUMPRODUCT(--(E52023=$O$1:$O$542))>0,E52023=0),0,1)","v":0}]
[null,null,null,null,0,null,null,null,null,null,null,null,0,null,null,null,null,null,null,null,null,null,null,null,null,null,{"$f":"IF(OR(SUMPRODUCT(--(E52080=$O$1:$O$542))>0,E52080=0),0,1)","v":0}]
[null,null,null,null,0,null,null,null,null,null,null,null,0,null,null,null,null,null,null,null,null,null,null,null,null,null,{"$f":"IF(OR(SUMPRODUCT(--(E52234=$O$1:$O$542))>0,E52234=0),0,1)","v":0}]
[null,null,null,null,0,null,null,null,null,null,null,null,0,null,null,null,null,null,null,null,null,null,null,null,null,null,{"$f":"IF(OR(SUMPRODUCT(--(E52263=$O$1:$O$542))>0,E52263=0),0,1)","v":0}]
[null,null,null,null,0,null,null,null,null,null,null,null,0,null,null,null,null,null,null,null,null,null,null,null,null,null,{"$f":"IF(OR(SUMPRODUCT(--(E52412=$O$1:$O$542))>0,E52412=0),0,1)","v":0}]
[null,null,null,null,0,null,null,null,null,null,null,null,0,null,null,null,null,null,null,null,null,null,null,null,null,null,{"$f":"IF(OR(SUMPRODUCT(--(E52506=$O$1:$O$542))>0,E52506=0),0,1)","v":0}]
[null,null,null,null,0,null,null,null,null,null,null,null,0,null,null,null,null,null,null,null,null,null,null,null,null,null,{"$f":"IF(OR(SUMPRODUCT(--(E52515=$O$1:$O$542))>0,E52515=0),0,1)","v":0}]
[null,null,null,null,0,null,null,null,null,null,null,null,0,null,null,null,null,null,null,null,null,null,null,null,null,null,{"$f":"IF(OR(SUMPRODUCT(--(E52652=$O$1:$O$542))>0,E52652=0),0,1)","v":0}]
[null,null,null,null,0,null,null,null,null,null,null,null,0,null,null,null,null,null,null,null,null,null,null,null,null,null,{"$f":"IF(OR(SUMPRODUCT(--(E52778=$O$1:$O$542))>0,E52778=0),0,1)","v":0}]
[null,null,null,null,0,null,null,null,null,null,null,null,0,null,null,null,null,null,null,null,null,null,null,null,null,null,{"$f":"IF(OR(SUMPRODUCT(--(E52847=$O$1:$O$542))>0,E52847=0),0,1)","v":0}]
[null,null,null,null,0,null,null,null,null,null,null,null,0,null,null,null,null,null,null,null,null,null,null,null,null,null,{"$f":"IF(OR(SUMPRODUCT(--(E52892=$O$1:$O$542))>0,E52892=0),0,1)","v":0}]
[null,null,null,null,0,null,null,null,null,null,null,null,0,null,null,null,null,null,null,null,null,null,null,null,null,null,{"$f":"IF(OR(SUMPRODUCT(--(E53054=$O$1:$O$542))>0,E53054=0),0,1)","v":0}]
[null,null,null,null,{"$f":"IF(AND(F53087<>\"\",F53087=G53087),\"ERROR\",IF(AND(F53087<>\"\",F53087<>G53087),F53087,G53087))","v":0},null,null,null,null,null,null,null,0,null,null,null,null,null,null,null,null,null,null,null,null,null,{"$f":"IF(OR(SUMPRODUCT(--(E53087=$O$1:$O$542))>0,E53087=0),0,1)","v":0}]
[null,null,null,null,0,null,null,null,null,null,null,null,0,null,null,null,null,null,null,null,null,null,null,null,null,null,{"$f":"IF(OR(SUMPRODUCT(--(E53224=$O$1:$O$542))>0,E53224=0),0,1)","v":0}]
[null,null,null,null,0,null,null,null,null,null,null,null,0,null,null,null,null,null,null,null,null,null,null,null,null,null,{"$f":"IF(OR(SUMPRODUCT(--(E53326=$O$1:$O$542))>0,E53326=0),0,1)","v":0}]
[null,null,null,null,0,null,null,null,null,null,null,null,0,null,null,null,null,null,null,null,null,null,null,null,null,null,{"$f":"IF(OR(SUMPRODUCT(--(E53419=$O$1:$O$542))>0,E53419=0),0,1)","v":0}]
[null,null,null,null,0,null,null,null,null,null,null,null,0,null,null,null,null,null,null,null,null,null,null,null,null,null,{"$f":"IF(OR(SUMPRODUCT(--(E53464=$O$1:$O$542))>0,E53464=0),0,1)","v":0}]
[null,null,null,null,0,null,null,null,null,null,null,null,0,null,null,null,null,null,null,null,null,null,null,null,null,null,{"$f":"IF(OR(SUMPRODUCT(--(E53613=$O$1:$O$542))>0,E53613=0),0,1)","v":0}]
[null,null,null,null,0,null,null,null,null,null,null,null,0,null,null,null,null,null,null,null,null,null,null,null,null,null,{"$f":"IF(OR(SUMPRODUCT(--(E53687=$O$1:$O$542))>0,E53687=0),0,1)","v":0}]
[null,null,null,null,0,null,null,null,null,null,null,null,0,null,null,null,null,null,null,null,null,null,null,null,null,null,{"$f":"IF(OR(SUMPRODUCT(--(E53716=$O$1:$O$542))>0,E53716=0),0,1)","v":0}]
[null,null,null,null,0,null,null,null,null,null,null,null,0,null,null,null,null,null,null,null,null,null,null,null,null,null,{"$f":"IF(OR(SUMPRODUCT(--(E53853=$O$1:$O$542))>0,E53853=0),0,1)","v":0}]
[null,null,null,null,0,null,null,null,null,null,null,null,0,null,null,null,null,null,null,null,null,null,null,null,null,null,{"$f":"IF(OR(SUMPRODUCT(--(E53959=$O$1:$O$542))>0,E53959=0),0,1)","v":0}]
[null,null,null,null,0,null,null,null,null,null,null,null,{"$f":"IF(L54048<>\"\",L54048,K54048)","v":0},null,null,null,null,null,null,null,null,null,null,null,null,null,{"$f":"IF(OR(SUMPRODUCT(--(E54048=$O$1:$O$542))>0,E54048=0),0,1)","v":0}]
[null,null,null,null,0,null,null,null,null,null,null,null,0,null,null,null,null,null,null,null,null,null,null,null,null,null,{"$f":"IF(OR(SUMPRODUCT(--(E54093=$O$1:$O$542))>0,E54093=0),0,1)","v":0}]
[null,null,null,null,0,null,null,null,null,null,null,null,0,null,null,null,null,null,null,null,null,null,null,null,null,null,{"$f":"IF(OR(SUMPRODUCT(--(E54235=$O$1:$O$542))>0,E54235=0),0,1)","v":0}]
[null,null,null,null,0,null,null,null,null,null,null,null,0,null,null,null,null,null,null,null,null,null,null,null,null,null,{"$f":"IF(OR(SUMPRODUCT(--(E54288=$O$1:$O$542))>0,E54288=0),0,1)","v":0}]
[null,null,null,null,0,null,null,null,null,null,null,null,0,null,null,null,null,null,null,null,null,null,null,null,null,null,{"$f":"IF(OR(SUMPRODUCT(--(E54425=$O$1:$O$542))>0,E54425=0),0,1)","v":0}]
[null,null,null,null,0,null,null,null,null,null,null,null,0,null,null,null,null,null,null,null,null,null,null,null,null,null,{"$f":"IF(OR(SUMPRODUCT(--(E54507=$O$1:$O$542))>0,E54507=0),0,1)","v":0}]
[null,null,null,null,0,null,null,null,null,null,null,null,0,null,null,null,null,null,null,null,null,null,null,null,null,null,{"$f":"IF(OR(SUMPRODUCT(--(E54620=$O$1:$O$542))>0,E54620=0),0,1)","v":0}]
[null,null,null,null,0,null,null,null,null,null,null,null,0,null,null,null,null,null,null,null,null,null,null,null,null,null,{"$f":"IF(OR(SUMPRODUCT(--(E54665=$O$1:$O$542))>0,E54665=0),0,1)","v":0}]
[null,null,null,null,0,null,null,null,null,null,null,null,0,null,null,null,null,null,null,null,null,null,null,null,null,null,{"$f":"IF(OR(SUMPRODUCT(--(E54779=$O$1:$O$542))>0,E54779=0),0,1)","v":0}]
[null,null,null,null,0,null,null,null,null,null,null,null,0,null,null,null,null,null,null,null,null,null,null,null,null,null,{"$f":"IF(OR(SUMPRODUCT(--(E54860=$O$1:$O$542))>0,E54860=0),0,1)","v":0}]
[null,null,null,null,0,null,null,null,null,null,null,null,0,null,null,null,null,null,null,null,null,null,null,null,null,null,{"$f":"IF(OR(SUMPRODUCT(--(E54917=$O$1:$O$542))>0,E54917=0),0,1)","v":0}]
[null,null,null,null,0,null,null,null,null,null,null,null,0,null,null,null,null,null,null,null,null,null,null,null,null,null,{"$f":"IF(OR(SUMPRODUCT(--(E55051=$O$1:$O$542))>0,E55051=0),0,1)","v":0}]
[null,null,null,null,0,null,null,null,null,null,null,null,0,null,null,null,null,null,null,null,null,null,null,null,null,null,{"$f":"IF(OR(SUMPRODUCT(--(E55100=$O$1:$O$542))>0,E55100=0),0,1)","v":0}]
[null,null,null,null,0,null,null,null,null,null,null,null,0,null,null,null,null,null,null,null,null,null,null,null,null,null,{"$f":"IF(OR(SUMPRODUCT(--(E55249=$O$1:$O$542))>0,E55249=0),0,1)","v":0}]
[null,null,null,null,0,null,null,null,null,null,null,null,0,null,null,null,null,null,null,null,null,null,null,null,null,null,{"$f":"IF(OR(SUMPRODUCT(--(E55294=$O$1:$O$542))>0,E55294=0),0,1)","v":0}]
[null,null,null,null,0,null,null,null,null,null,null,null,0,null,null,null,null,null,null,null,null,null,null,null,null,null,{"$f":"IF(OR(SUMPRODUCT(--(E55412=$O$1:$O$542))>0,E55412=0),0,1)","v":0}]
[null,null,null,null,0,null,null,null,null,null,null,null,0,null,null,null,null,null,null,null,null,null,null,null,null,null,{"$f":"IF(OR(SUMPRODUCT(--(E55489=$O$1:$O$542))>0,E55489=0),0,1)","v":0}]
[null,null,null,null,0,null,null,null,null,null,null,null,0,null,null,null,null,null,null,null,null,null,null,null,null,null,{"$f":"IF(OR(SUMPRODUCT(--(E55626=$O$1:$O$542))>0,E55626=0),0,1)","v":0}]
[null,null,null,null,0,null,null,null,null,null,null,null,0,null,null,null,null,null,null,null,null,null,null,null,null,null,{"$f":"IF(OR(SUMPRODUCT(--(E55688=$O$1:$O$542))>0,E55688=0),0,1)","v":0}]
[null,null,null,null,0,null,null,null,null,null,null,null,0,null,null,null,null,null,null,null,null,null,null,null,null,null,{"$f":"IF(OR(SUMPRODUCT(--(E55821=$O$1:$O$542))>0,E55821=0),0,1)","v":0}]
[null,null,null,null,0,null,null,null,null,null,null,null,0,null,null,null,null,null,null,null,null,null,null,null,null,null,{"$f":"IF(OR(SUMPRODUCT(--(E55866=$O$1:$O$542))>0,E55866=0),0,1)","v":0}]
[null,null,null,null,0,null,null,null,null,null,null,null,0,null,null,null,null,null,null,null,null,null,null,null,null,null,{"$f":"IF(OR(SUMPRODUCT(--(E55960=$O$1:$O$542))>0,E55960=0),0,1)","v":0}]
[null,null,null,null,0,null,null,null,null,null,null,null,0,null,null,null,null,null,null,null,null,null,null,null,null,null,{"$f":"IF(OR(SUMPRODUCT(--(E56061=$O$1:$O$542))>0,E56061=0),0,1)","v":0}]
[null,null,null,null,0,null,null,null,null,null,null,null,0,null,null,null,null,null,null,null,null,null,null,null,null,null,{"$f":"IF(OR(SUMPRODUCT(--(E56118=$O$1:$O$542))>0,E56118=0),0,1)","v":0}]
[null,null,null,null,0,null,null,null,null,null,null,null,0,null,null,null,null,null,null,null,null,null,null,null,null,null,{"$f":"IF(OR(SUMPRODUCT(--(E56232=$O$1:$O$542))>0,E56232=0),0,1)","v":0}]
[null,null,null,null,0,null,null,null,null,null,null,null,0,null,null,null,null,null,null,null,null,null,null,null,null,null,{"$f":"IF(OR(SUMPRODUCT(--(E56301=$O$1:$O$542))>0,E56301=0),0,1)","v":0}]
[null,null,null,null,0,null,null,null,null,null,null,null,0,null,null,null,null,null,null,null,null,null,null,null,null,null,{"$f":"IF(OR(SUMPRODUCT(--(E56450=$O$1:$O$542))>0,E56450=0),0,1)","v":0}]
[null,null,null,null,0,null,null,null,null,null,null,null,0,null,null,null,null,null,null,null,null,null,null,null,null,null,{"$f":"IF(OR(SUMPRODUCT(--(E56504=$O$1:$O$542))>0,E56504=0),0,1)","v":0}]
[null,null,null,null,0,null,null,null,null,null,null,null,0,null,null,null,null,null,null,null,null,null,null,null,null,null,{"$f":"IF(OR(SUMPRODUCT(--(E56633=$O$1:$O$542))>0,E56633=0),0,1)","v":0}]
[null,null,null,null,0,null,null,null,null,null,null,null,0,null,null,null,null,null,null,null,null,null,null,null,null,null,{"$f":"IF(OR(SUMPRODUCT(--(E56690=$O$1:$O$542))>0,E56690=0),0,1)","v":0}]
[null,null,null,null,0,null,null,null,null,null,null,null,0,null,null,null,null,null,null,null,null,null,null,null,null,null,{"$f":"IF(OR(SUMPRODUCT(--(E56827=$O$1:$O$542))>0,E56827=0),0,1)","v":0}]
[null,null,null,null,0,null,null,null,null,null,null,null,0,null,null,null,null,null,null,null,null,null,null,null,null,null,{"$f":"IF(OR(SUMPRODUCT(--(E56869=$O$1:$O$542))>0,E56869=0),0,1)","v":0}]
[null,null,null,null,0,null,null,null,null,null,null,null,0,null,null,null,null,null,null,null,null,null,null,null,null,null,{"$f":"IF(OR(SUMPRODUCT(--(E57022=$O$1:$O$542))>0,E57022=0),0,1)","v":0}]
[null,null,null,null,0,null,null,null,null,null,null,null,0,null,null,null,null,null,null,null,null,null,null,null,null,null,{"$f":"IF(OR(SUMPRODUCT(--(E57067=$O$1:$O$542))>0,E57067=0),0,1)","v":0}]
[null,null,null,null,0,null,null,null,null,null,null,null,0,null,null,null,null,null,null,null,null,null,null,null,null,null,{"$f":"IF(OR(SUMPRODUCT(--(E57141=$O$1:$O$542))>0,E57141=0),0,1)","v":0}]
[null,null,null,null,0,null,null,null,null,null,null,null,0,null,null,null,null,null,null,null,null,null,null,null,null,null,{"$f":"IF(OR(SUMPRODUCT(--(E57262=$O$1:$O$542))>0,E57262=0),0,1)","v":0}]
[null,null,null,null,0,null,null,null,null,null,null,null,0,null,null,null,null,null,null,null,null,null,null,null,null,null,{"$f":"IF(OR(SUMPRODUCT(--(E57399=$O$1:$O$542))>0,E57399=0),0,1)","v":0}]
[null,null,null,null,0,null,null,null,null,null,null,null,0,null,null,null,null,null,null,null,null,null,null,null,null,null,{"$f":"IF(OR(SUMPRODUCT(--(E57413=$O$1:$O$542))>0,E57413=0),0,1)","v":0}]
[null,null,null,null,0,null,null,null,null,null,null,null,0,null,null,null,null,null,null,null,null,null,null,null,null,null,{"$f":"IF(OR(SUMPRODUCT(--(E57502=$O$1:$O$542))>0,E57502=0),0,1)","v":0}]
[null,null,null,null,0,null,null,null,null,null,null,null,0,null,null,null,null,null,null,null,null,null,null,null,null,null,{"$f":"IF(OR(SUMPRODUCT(--(E57651=$O$1:$O$542))>0,E57651=0),0,1)","v":0}]
[null,null,null,null,0,null,null,null,null,null,null,null,0,null,null,null,null,null,null,null,null,null,null,null,null,null,{"$f":"IF(OR(SUMPRODUCT(--(E57685=$O$1:$O$542))>0,E57685=0),0,1)","v":0}]
[null,null,null,null,0,null,null,null,null,null,null,null,0,null,null,null,null,null,null,null,null,null,null,null,null,null,{"$f":"IF(OR(SUMPRODUCT(--(E57834=$O$1:$O$542))>0,E57834=0),0,1)","v":0}]
[null,null,null,null,0,null,null,null,null,null,null,null,0,null,null,null,null,null,null,null,null,null,null,null,null,null,{"$f":"IF(OR(SUMPRODUCT(--(E57891=$O$1:$O$542))>0,E57891=0),0,1)","v":0}]
[null,null,null,null,0,null,null,null,null,null,null,null,0,null,null,null,null,null,null,null,null,null,null,null,null,null,{"$f":"IF(OR(SUMPRODUCT(--(E58050=$O$1:$O$542))>0,E58050=0),0,1)","v":0}]
[null,null,null,null,0,null,null,null,null,null,null,null,0,null,null,null,null,null,null,null,null,null,null,null,null,null,{"$f":"IF(OR(SUMPRODUCT(--(E58086=$O$1:$O$542))>0,E58086=0),0,1)","v":0}]
[null,null,null,null,0,null,null,null,null,null,null,null,0,null,null,null,null,null,null,null,null,null,null,null,null,null,{"$f":"IF(OR(SUMPRODUCT(--(E58223=$O$1:$O$542))>0,E58223=0),0,1)","v":0}]
[null,null,null,null,0,null,null,null,null,null,null,null,0,null,null,null,null,null,null,null,null,null,null,null,null,null,{"$f":"IF(OR(SUMPRODUCT(--(E58268=$O$1:$O$542))>0,E58268=0),0,1)","v":0}]
[null,null,null,null,0,null,null,null,null,null,null,null,0,null,null,null,null,null,null,null,null,null,null,null,null,null,{"$f":"IF(OR(SUMPRODUCT(--(E58415=$O$1:$O$542))>0,E58415=0),0,1)","v":0}]
[null,null,null,null,{"$f":"IF(AND(F58463<>\"\",F58463=G58463),\"ERROR\",IF(AND(F58463<>\"\",F58463<>G58463),F58463,G58463))","v":0},null,null,null,null,null,null,null,0,null,null,null,null,null,null,null,null,null,null,null,null,null,{"$f":"IF(OR(SUMPRODUCT(--(E58463=$O$1:$O$542))>0,E58463=0),0,1)","v":0}]
[null,null,null,null,0,null,null,null,null,null,null,null,0,null,null,null,null,null,null,null,null,null,null,null,null,null,{"$f":"IF(OR(SUMPRODUCT(--(E58600=$O$1:$O$542))>0,E58600=0),0,1)","v":0}]
[null,null,null,null,0,null,null,null,null,null,null,null,0,null,null,null,null,null,null,null,null,null,null,null,null,null,{"$f":"IF(OR(SUMPRODUCT(--(E58687=$O$1:$O$542))>0,E58687=0),0,1)","v":0}]
[null,null,null,null,0,null,null,null,null,null,null,null,0,null,null,null,null,null,null,null,null,null,null,null,null,null,{"$f":"IF(OR(SUMPRODUCT(--(E58703=$O$1:$O$542))>0,E58703=0),0,1)","v":0}]
[null,null,null,null,0,null,null,null,null,null,null,null,0,null,null,null,null,null,null,null,null,null,null,null,null,null,{"$f":"IF(OR(SUMPRODUCT(--(E58852=$O$1:$O$542))>0,E58852=0),0,1)","v":0}]
[null,null,null,null,0,null,null,null,null,null,null,null,0,null,null,null,null,null,null,null,null,null,null,null,null,null,{"$f":"IF(OR(SUMPRODUCT(--(E58959=$O$1:$O$542))>0,E58959=0),0,1)","v":0}]
[null,null,null,null,0,null,null,null,null,null,null,null,0,null,null,null,null,null,null,null,null,null,null,null,null,null,{"$f":"IF(OR(SUMPRODUCT(--(E59035=$O$1:$O$542))>0,E59035=0),0,1)","v":0}]
[null,null,null,null,0,null,null,null,null,null,null,null,0,null,null,null,null,null,null,null,null,null,null,null,null,null,{"$f":"IF(OR(SUMPRODUCT(--(E59092=$O$1:$O$542))>0,E59092=0),0,1)","v":0}]
[null,null,null,null,0,null,null,null,null,null,null,null,0,null,null,null,null,null,null,null,null,null,null,null,null,null,{"$f":"IF(OR(SUMPRODUCT(--(E59231=$O$1:$O$542))>0,E59231=0),0,1)","v":0}]
[null,null,null,null,0,null,null,null,null,null,null,null,0,null,null,null,null,null,null,null,null,null,null,null,null,null,{"$f":"IF(OR(SUMPRODUCT(--(E59287=$O$1:$O$542))>0,E59287=0),0,1)","v":0}]
[null,null,null,null,0,null,null,null,null,null,null,null,0,null,null,null,null,null,null,null,null,null,null,null,null,null,{"$f":"IF(OR(SUMPRODUCT(--(E59424=$O$1:$O$542))>0,E59424=0),0,1)","v":0}]
[null,null,null,null,0,null,null,null,null,null,null,null,0,null,null,null,null,null,null,null,null,null,null,null,null,null,{"$f":"IF(OR(SUMPRODUCT(--(E59503=$O$1:$O$542))>0,E59503=0),0,1)","v":0}]
[null,null,null,null,0,null,null,null,null,null,null,null,0,null,null,null,null,null,null,null,null,null,null,null,null,null,{"$f":"IF(OR(SUMPRODUCT(--(E59619=$O$1:$O$542))>0,E59619=0),0,1)","v":0}]
[null,null,null,null,0,null,null,null,null,null,null,null,0,null,null,null,null,null,null,null,null,null,null,null,null,null,{"$f":"IF(OR(SUMPRODUCT(--(E59664=$O$1:$O$542))>0,E59664=0),0,1)","v":0}]
[null,null,null,null,0,null,null,null,null,null,null,null,0,null,null,null,null,null,null,null,null,null,null,null,null,null,{"$f":"IF(OR(SUMPRODUCT(--(E59775=$O$1:$O$542))>0,E59775=0),0,1)","v":0}]
[null,null,null,null,0,null,null,null,null,null,null,null,0,null,null,null,null,null,null,null,null,null,null,null,null,null,{"$f":"IF(OR(SUMPRODUCT(--(E59859=$O$1:$O$542))>0,E59859=0),0,1)","v":0}]
[null,null,null,null,0,null,null,null,null,null,null,null,0,null,null,null,null,null,null,null,null,null,null,null,null,null,{"$f":"IF(OR(SUMPRODUCT(--(E59904=$O$1:$O$542))>0,E59904=0),0,1)","v":0}]
[null,null,null,null,0,null,null,null,null,null,null,null,0,null,null,null,null,null,null,null,null,null,null,null,null,null,{"$f":"IF(OR(SUMPRODUCT(--(E60053=$O$1:$O$542))>0,E60053=0),0,1)","v":0}]
[null,null,null,null,0,null,null,null,null,null,null,null,0,null,null,null,null,null,null,null,null,null,null,null,null,null,{"$f":"IF(OR(SUMPRODUCT(--(E60140=$O$1:$O$542))>0,E60140=0),0,1)","v":0}]
[null,null,null,null,0,null,null,null,null,null,null,null,0,null,null,null,null,null,null,null,null,null,null,null,null,null,{"$f":"IF(OR(SUMPRODUCT(--(E60236=$O$1:$O$542))>0,E60236=0),0,1)","v":0}]
[null,null,null,null,0,null,null,null,null,null,null,null,0,null,null,null,null,null,null,null,null,null,null,null,null,null,{"$f":"IF(OR(SUMPRODUCT(--(E60293=$O$1:$O$542))>0,E60293=0),0,1)","v":0}]
[null,null,null,null,0,null,null,null,null,null,null,null,0,null,null,null,null,null,null,null,null,null,null,null,null,null,{"$f":"IF(OR(SUMPRODUCT(--(E60412=$O$1:$O$542))>0,E60412=0),0,1)","v":0}]
[null,null,null,null,0,null,null,null,null,null,null,null,0,null,null,null,null,null,null,null,null,null,null,null,null,null,{"$f":"IF(OR(SUMPRODUCT(--(E60476=$O$1:$O$542))>0,E60476=0),0,1)","v":0}]
[null,null,null,null,0,null,null,null,null,null,null,null,0,null,null,null,null,null,null,null,null,null,null,null,null,null,{"$f":"IF(OR(SUMPRODUCT(--(E60625=$O$1:$O$542))>0,E60625=0),0,1)","v":0}]
[null,null,null,null,0,null,null,null,null,null,null,null,0,null,null,null,null,null,null,null,null,null,null,null,null,null,{"$f":"IF(OR(SUMPRODUCT(--(E60684=$O$1:$O$542))>0,E60684=0),0,1)","v":0}]
[null,null,null,null,0,null,null,null,null,null,null,null,0,null,null,null,null,null,null,null,null,null,null,null,null,null,{"$f":"IF(OR(SUMPRODUCT(--(E60728=$O$1:$O$542))>0,E60728=0),0,1)","v":0}]
[null,null,null,null,0,null,null,null,null,null,null,null,0,null,null,null,null,null,null,null,null,null,null,null,null,null,{"$f":"IF(OR(SUMPRODUCT(--(E60865=$O$1:$O$542))>0,E60865=0),0,1)","v":0}]
[null,null,null,null,0,null,null,null,null,null,null,null,0,null,null,null,null,null,null,null,null,null,null,null,null,null,{"$f":"IF(OR(SUMPRODUCT(--(E60956=$O$1:$O$542))>0,E60956=0),0,1)","v":0}]
[null,null,null,null,0,null,null,null,null,null,null,null,0,null,null,null,null,null,null,null,null,null,null,null,null,null,{"$f":"IF(OR(SUMPRODUCT(--(E61060=$O$1:$O$542))>0,E61060=0),0,1)","v":0}]
[null,null,null,null,0,null,null,null,null,null,null,null,0,null,null,null,null,null,null,null,null,null,null,null,null,null,{"$f":"IF(OR(SUMPRODUCT(--(E61105=$O$1:$O$542))>0,E61105=0),0,1)","v":0}]
[null,null,null,null,0,null,null,null,null,null,null,null,0,null,null,null,null,null,null,null,null,null,null,null,null,null,{"$f":"IF(OR(SUMPRODUCT(--(E61232=$O$1:$O$542))>0,E61232=0),0,1)","v":0}]
[null,null,null,null,0,null,null,null,null,null,null,null,0,null,null,null,null,null,null,null,null,null,null,null,null,null,{"$f":"IF(OR(SUMPRODUCT(--(E61300=$O$1:$O$542))>0,E61300=0),0,1)","v":0}]
[null,null,null,null,0,null,null,null,null,null,null,null,0,null,null,null,null,null,null,null,null,null,null,null,null,null,{"$f":"IF(OR(SUMPRODUCT(--(E61437=$O$1:$O$542))>0,E61437=0),0,1)","v":0}]
[null,null,null,null,0,null,null,null,null,null,null,null,0,null,null,null,null,null,null,null,null,null,null,null,null,null,{"$f":"IF(OR(SUMPRODUCT(--(E61494=$O$1:$O$542))>0,E61494=0),0,1)","v":0}]
[null,null,null,null,0,null,null,null,null,null,null,null,0,null,null,null,null,null,null,null,null,null,null,null,null,null,{"$f":"IF(OR(SUMPRODUCT(--(E61593=$O$1:$O$542))>0,E61593=0),0,1)","v":0}]
[null,null,null,null,0,null,null,null,null,null,null,null,0,null,null,null,null,null,null,null,null,null,null,null,null,null,{"$f":"IF(OR(SUMPRODUCT(--(E61677=$O$1:$O$542))>0,E61677=0),0,1)","v":0}]
[null,null,null,null,0,null,null,null,null,null,null,null,0,null,null,null,null,null,null,null,null,null,null,null,null,null,{"$f":"IF(OR(SUMPRODUCT(--(E61826=$O$1:$O$542))>0,E61826=0),0,1)","v":0}]
[null,null,null,null,0,null,null,null,null,null,null,null,0,null,null,null,null,null,null,null,null,null,null,null,null,null,{"$f":"IF(OR(SUMPRODUCT(--(E61865=$O$1:$O$542))>0,E61865=0),0,1)","v":0}]
[null,null,null,null,0,null,null,null,null,null,null,null,0,null,null,null,null,null,null,null,null,null,null,null,null,null,{"$f":"IF(OR(SUMPRODUCT(--(E61929=$O$1:$O$542))>0,E61929=0),0,1)","v":0}]
[null,null,null,null,0,null,null,null,null,null,null,null,0,null,null,null,null,null,null,null,null,null,null,null,null,null,{"$f":"IF(OR(SUMPRODUCT(--(E62066=$O$1:$O$542))>0,E62066=0),0,1)","v":0}]
[null,null,null,null,0,null,null,null,null,null,null,null,0,null,null,null,null,null,null,null,null,null,null,null,null,null,{"$f":"IF(OR(SUMPRODUCT(--(E62137=$O$1:$O$542))>0,E62137=0),0,1)","v":0}]
[null,null,null,null,0,null,null,null,null,null,null,null,0,null,null,null,null,null,null,null,null,null,null,null,null,null,{"$f":"IF(OR(SUMPRODUCT(--(E62261=$O$1:$O$542))>0,E62261=0),0,1)","v":0}]
[null,null,null,null,0,null,null,null,null,null,null,null,0,null,null,null,null,null,null,null,null,null,null,null,null,null,{"$f":"IF(OR(SUMPRODUCT(--(E62306=$O$1:$O$542))>0,E62306=0),0,1)","v":0}]
[null,null,null,null,0,null,null,null,null,null,null,null,0,null,null,null,null,null,null,null,null,null,null,null,null,null,{"$f":"IF(OR(SUMPRODUCT(--(E62413=$O$1:$O$542))>0,E62413=0),0,1)","v":0}]
[null,null,null,null,0,null,null,null,null,null,null,null,0,null,null,null,null,null,null,null,null,null,null,null,null,null,{"$f":"IF(OR(SUMPRODUCT(--(E62501=$O$1:$O$542))>0,E62501=0),0,1)","v":0}]
[null,null,null,null,0,null,null,null,null,null,null,null,0,null,null,null,null,null,null,null,null,null,null,null,null,null,{"$f":"IF(OR(SUMPRODUCT(--(E62638=$O$1:$O$542))>0,E62638=0),0,1)","v":0}]
[null,null,null,null,0,null,null,null,null,null,null,null,0,null,null,null,null,null,null,null,null,null,null,null,null,null,{"$f":"IF(OR(SUMPRODUCT(--(E62685=$O$1:$O$542))>0,E62685=0),0,1)","v":0}]
[null,null,null,null,0,null,null,null,null,null,null,null,0,null,null,null,null,null,null,null,null,null,null,null,null,null,{"$f":"IF(OR(SUMPRODUCT(--(E62833=$O$1:$O$542))>0,E62833=0),0,1)","v":0}]
[null,null,null,null,0,null,null,null,null,null,null,null,0,null,null,null,null,null,null,null,null,null,null,null,null,null,{"$f":"IF(OR(SUMPRODUCT(--(E62878=$O$1:$O$542))>0,E62878=0),0,1)","v":0}]
[null,null,null,null,0,null,null,null,null,null,null,null,0,null,null,null,null,null,null,null,null,null,null,null,null,null,{"$f":"IF(OR(SUMPRODUCT(--(E62957=$O$1:$O$542))>0,E62957=0),0,1)","v":0}]
[null,null,null,null,0,null,null,null,null,null,null,null,0,null,null,null,null,null,null,null,null,null,null,null,null,null,{"$f":"IF(OR(SUMPRODUCT(--(E63073=$O$1:$O$542))>0,E63073=0),0,1)","v":0}]
[null,null,null,null,{"$f":"IF(AND(F63130<>\"\",F63130=G63130),\"ERROR\",IF(AND(F63130<>\"\",F63130<>G63130),F63130,G63130))","v":0},null,null,null,null,null,null,null,{"$f":"IF(L63130<>\"\",L63130,K63130)","v":0},null,null,null,null,null,null,null,null,null,null,null,null,null,{"$f":"IF(OR(SUMPRODUCT(--(E63130=$O$1:$O$542))>0,E63130=0),0,1)","v":0}]
[null,null,null,null,0,null,null,null,null,null,null,null,0,null,null,null,null,null,null,null,null,null,null,null,null,null,{"$f":"IF(OR(SUMPRODUCT(--(E63267=$O$1:$O$542))>0,E63267=0),0,1)","v":0}]
[null,null,null,null,0,null,null,null,null,null,null,null,0,null,null,null,null,null,null,null,null,null,null,null,null,null,{"$f":"IF(OR(SUMPRODUCT(--(E63318=$O$1:$O$542))>0,E63318=0),0,1)","v":0}]
[null,null,null,null,0,null,null,null,null,null,null,null,0,null,null,null,null,null,null,null,null,null,null,null,null,null,{"$f":"IF(OR(SUMPRODUCT(--(E63462=$O$1:$O$542))>0,E63462=0),0,1)","v":0}]
[null,null,null,null,0,null,null,null,null,null,null,null,0,null,null,null,null,null,null,null,null,null,null,null,null,null,{"$f":"IF(OR(SUMPRODUCT(--(E63507=$O$1:$O$542))>0,E63507=0),0,1)","v":0}]
[null,null,null,null,0,null,null,null,null,null,null,null,0,null,null,null,null,null,null,null,null,null,null,null,null,null,{"$f":"IF(OR(SUMPRODUCT(--(E63590=$O$1:$O$542))>0,E63590=0),0,1)","v":0}]
[null,null,null,null,0,null,null,null,null,null,null,null,0,null,null,null,null,null,null,null,null,null,null,null,null,null,{"$f":"IF(OR(SUMPRODUCT(--(E63702=$O$1:$O$542))>0,E63702=0),0,1)","v":0}]
[null,null,null,null,0,null,null,null,null,null,null,null,0,null,null,null,null,null,null,null,null,null,null,null,null,null,{"$f":"IF(OR(SUMPRODUCT(--(E63839=$O$1:$O$542))>0,E63839=0),0,1)","v":0}]
[null,null,null,null,0,null,null,null,null,null,null,null,0,null,null,null,null,null,null,null,null,null,null,null,null,null,{"$f":"IF(OR(SUMPRODUCT(--(E63866=$O$1:$O$542))>0,E63866=0),0,1)","v":0}]
[null,null,null,null,0,null,null,null,null,null,null,null,0,null,null,null,null,null,null,null,null,null,null,null,null,null,{"$f":"IF(OR(SUMPRODUCT(--(E64034=$O$1:$O$542))>0,E64034=0),0,1)","v":0}]
[null,null,null,null,0,null,null,null,null,null,null,null,0,null,null,null,null,null,null,null,null,null,null,null,null,null,{"$f":"IF(OR(SUMPRODUCT(--(E64079=$O$1:$O$542))>0,E64079=0),0,1)","v":0}]
[null,null,null,null,0,null,null,null,null,null,null,null,0,null,null,null,null,null,null,null,null,null,null,null,null,null,{"$f":"IF(OR(SUMPRODUCT(--(E64231=$O$1:$O$542))>0,E64231=0),0,1)","v":0}]
[null,null,null,null,0,null,null,null,null,null,null,null,0,null,null,null,null,null,null,null,null,null,null,null,null,null,{"$f":"IF(OR(SUMPRODUCT(--(E64274=$O$1:$O$542))>0,E64274=0),0,1)","v":0}]
[null,null,null,null,0,null,null,null,null,null,null,null,0,null,null,null,null,null,null,null,null,null,null,null,null,null,{"$f":"IF(OR(SUMPRODUCT(--(E64331=$O$1:$O$542))>0,E64331=0),0,1)","v":0}]
[null,null,null,null,0,null,null,null,null,null,null,null,0,null,null,null,null,null,null,null,null,null,null,null,null,null,{"$f":"IF(OR(SUMPRODUCT(--(E64503=$O$1:$O$542))>0,E64503=0),0,1)","v":0}]
[null,null,null,null,0,null,null,null,null,null,null,null,0,null,null,null,null,null,null,null,null,null,null,null,null,null,{"$f":"IF(OR(SUMPRODUCT(--(E64514=$O$1:$O$542))>0,E64514=0),0,1)","v":0}]
[null,null,null,null,0,null,null,null,null,null,null,null,0,null,null,null,null,null,null,null,null,null,null,null,null,null,{"$f":"IF(OR(SUMPRODUCT(--(E64663=$O$1:$O$542))>0,E64663=0),0,1)","v":0}]
[null,null,null,null,0,null,null,null,null,null,null,null,0,null,null,null,null,null,null,null,null,null,null,null,null,null,{"$f":"IF(OR(SUMPRODUCT(--(E64708=$O$1:$O$542))>0,E64708=0),0,1)","v":0}]
[null,null,null,null,{"$f":"IF(AND(F64864<>\"\",F64864=G64864),\"ERROR\",IF(AND(F64864<>\"\",F64864<>G64864),F64864,G64864))","v":0},null,null,null,null,null,null,null,{"$f":"IF(L64864<>\"\",L64864,K64864)","v":0},null,null,null,null,null,null,null,null,null,null,null,null,null,{"$f":"IF(OR(SUMPRODUCT(--(E64864=$O$1:$O$542))>0,E64864=0),0,1)","v":0}]
[null,null,null,null,0,null,null,null,null,null,null,null,0,null,null,null,null,null,null,null,null,null,null,null,null,null,{"$f":"IF(OR(SUMPRODUCT(--(E64903=$O$1:$O$542))>0,E64903=0),0,1)","v":0}]
[null,null,null,null,0,null,null,null,null,null,null,null,0,null,null,null,null,null,null,null,null,null,null,null,null,null,{"$f":"IF(OR(SUMPRODUCT(--(E65040=$O$1:$O$542))>0,E65040=0),0,1)","v":0}]
[null,null,null,null,0,null,null,null,null,null,null,null,0,null,null,null,null,null,null,null,null,null,null,null,null,null,{"$f":"IF(OR(SUMPRODUCT(--(E65140=$O$1:$O$542))>0,E65140=0),0,1)","v":0}]
[null,null,null,null,0,null,null,null,null,null,null,null,0,null,null,null,null,null,null,null,null,null,null,null,null,null,{"$f":"IF(OR(SUMPRODUCT(--(E65235=$O$1:$O$542))>0,E65235=0),0,1)","v":0}]
[null,null,null,null,0,null,null,null,null,null,null,null,0,null,null,null,null,null,null,null,null,null,null,null,null,null,{"$f":"IF(OR(SUMPRODUCT(--(E65280=$O$1:$O$542))>0,E65280=0),0,1)","v":0}]
[null,null,null,null,0,null,null,null,null,null,null,null,0,null,null,null,null,null,null,null,null,null,null,null,null,null,{"$f":"IF(OR(SUMPRODUCT(--(E65412=$O$1:$O$542))>0,E65412=0),0,1)","v":0}]
[null,null,null,null,0,null,null,null,null,null,null,null,0,null,null,null,null,null,null,null,null,null,null,null,null,null,{"$f":"IF(OR(SUMPRODUCT(--(E65475=$O$1:$O$542))>0,E65475=0),0,1)","v":0}]
[null,null,null,null,0,null,null,null,null,null,null,null,0,null,null,null,null,null,null,null,null,null,null,null,null,null,{"$f":"IF(OR(SUMPRODUCT(--(E65612=$O$1:$O$542))>0,E65612=0),0,1)","v":0}]
[null,null,null,null,0,null,null,null,null,null,null,null,0,null,null,null,null,null,null,null,null,null,null,null,null,null,{"$f":"IF(OR(SUMPRODUCT(--(E65684=$O$1:$O$542))>0,E65684=0),0,1)","v":0}]
[null,null,null,null,0,null,null,null,null,null,null,null,0,null,null,null,null,null,null,null,null,null,null,null,null,null,{"$f":"IF(OR(SUMPRODUCT(--(E65715=$O$1:$O$542))>0,E65715=0),0,1)","v":0}]
[null,null,null,null,0,null,null,null,null,null,null,null,0,null,null,null,null,null,null,null,null,null,null,null,null,null,{"$f":"IF(OR(SUMPRODUCT(--(E65864=$O$1:$O$542))>0,E65864=0),0,1)","v":0}]
[null,null,null,null,0,null,null,null,null,null,null,null,0,null,null,null,null,null,null,null,null,null,null,null,null,null,{"$f":"IF(OR(SUMPRODUCT(--(E65956=$O$1:$O$542))>0,E65956=0),0,1)","v":0}]
[null,null,null,null,0,null,null,null,null,null,null,null,0,null,null,null,null,null,null,null,null,null,null,null,null,null,{"$f":"IF(OR(SUMPRODUCT(--(E66047=$O$1:$O$542))>0,E66047=0),0,1)","v":0}]
[null,null,null,null,0,null,null,null,null,null,null,null,0,null,null,null,null,null,null,null,null,null,null,null,null,null,{"$f":"IF(OR(SUMPRODUCT(--(E66104=$O$1:$O$542))>0,E66104=0),0,1)","v":0}]
[null,null,null,null,0,null,null,null,null,null,null,null,0,null,null,null,null,null,null,null,null,null,null,null,null,null,{"$f":"IF(OR(SUMPRODUCT(--(E66241=$O$1:$O$542))>0,E66241=0),0,1)","v":0}]
[null,null,null,null,0,null,null,null,null,null,null,null,0,null,null,null,null,null,null,null,null,null,null,null,null,null,{"$f":"IF(OR(SUMPRODUCT(--(E66321=$O$1:$O$542))>0,E66321=0),0,1)","v":0}]
[null,null,null,null,0,null,null,null,null,null,null,null,0,null,null,null,null,null,null,null,null,null,null,null,null,null,{"$f":"IF(OR(SUMPRODUCT(--(E66436=$O$1:$O$542))>0,E66436=0),0,1)","v":0}]
[null,null,null,null,0,null,null,null,null,null,null,null,0,null,null,null,null,null,null,null,null,null,null,null,null,null,{"$f":"IF(OR(SUMPRODUCT(--(E66481=$O$1:$O$542))>0,E66481=0),0,1)","v":0}]
[null,null,null,null,0,null,null,null,null,null,null,null,0,null,null,null,null,null,null,null,null,null,null,null,null,null,{"$f":"IF(OR(SUMPRODUCT(--(E66593=$O$1:$O$542))>0,E66593=0),0,1)","v":0}]
[null,null,null,null,0,null,null,null,null,null,null,null,0,null,null,null,null,null,null,null,null,null,null,null,null,null,{"$f":"IF(OR(SUMPRODUCT(--(E66676=$O$1:$O$542))>0,E66676=0),0,1)","v":0}]
[null,null,null,null,0,null,null,null,null,null,null,null,0,null,null,null,null,null,null,null,null,null,null,null,null,null,{"$f":"IF(OR(SUMPRODUCT(--(E66813=$O$1:$O$542))>0,E66813=0),0,1)","v":0}]
[null,null,null,null,0,null,null,null,null,null,null,null,0,null,null,null,null,null,null,null,null,null,null,null,null,null,{"$f":"IF(OR(SUMPRODUCT(--(E66865=$O$1:$O$542))>0,E66865=0),0,1)","v":0}]
[null,null,null,null,0,null,null,null,null,null,null,null,0,null,null,null,null,null,null,null,null,null,null,null,null,null,{"$f":"IF(OR(SUMPRODUCT(--(E66916=$O$1:$O$542))>0,E66916=0),0,1)","v":0}]
[null,null,null,null,0,null,null,null,null,null,null,null,0,null,null,null,null,null,null,null,null,null,null,null,null,null,{"$f":"IF(OR(SUMPRODUCT(--(E67065=$O$1:$O$542))>0,E67065=0),0,1)","v":0}]
[null,null,null,null,0,null,null,null,null,null,null,null,0,null,null,null,null,null,null,null,null,null,null,null,null,null,{"$f":"IF(OR(SUMPRODUCT(--(E67137=$O$1:$O$542))>0,E67137=0),0,1)","v":0}]
[null,null,null,null,0,null,null,null,null,null,null,null,0,null,null,null,null,null,null,null,null,null,null,null,null,null,{"$f":"IF(OR(SUMPRODUCT(--(E67248=$O$1:$O$542))>0,E67248=0),0,1)","v":0}]
[null,null,null,null,0,null,null,null,null,null,null,null,0,null,null,null,null,null,null,null,null,null,null,null,null,null,{"$f":"IF(OR(SUMPRODUCT(--(E67305=$O$1:$O$542))>0,E67305=0),0,1)","v":0}]
[null,null,null,null,0,null,null,null,null,null,null,null,0,null,null,null,null,null,null,null,null,null,null,null,null,null,{"$f":"IF(OR(SUMPRODUCT(--(E67409=$O$1:$O$542))>0,E67409=0),0,1)","v":0}]
[null,null,null,null,0,null,null,null,null,null,null,null,0,null,null,null,null,null,null,null,null,null,null,null,null,null,{"$f":"IF(OR(SUMPRODUCT(--(E67500=$O$1:$O$542))>0,E67500=0),0,1)","v":0}]
[null,null,null,null,0,null,null,null,null,null,null,null,0,null,null,null,null,null,null,null,null,null,null,null,null,null,{"$f":"IF(OR(SUMPRODUCT(--(E67637=$O$1:$O$542))>0,E67637=0),0,1)","v":0}]
[null,null,null,null,0,null,null,null,null,null,null,null,0,null,null,null,null,null,null,null,null,null,null,null,null,null,{"$f":"IF(OR(SUMPRODUCT(--(E67681=$O$1:$O$542))>0,E67681=0),0,1)","v":0}]
[null,null,null,null,0,null,null,null,null,null,null,null,0,null,null,null,null,null,null,null,null,null,null,null,null,null,{"$f":"IF(OR(SUMPRODUCT(--(E67832=$O$1:$O$542))>0,E67832=0),0,1)","v":0}]
[null,null,null,null,0,null,null,null,null,null,null,null,0,null,null,null,null,null,null,null,null,null,null,null,null,null,{"$f":"IF(OR(SUMPRODUCT(--(E67877=$O$1:$O$542))>0,E67877=0),0,1)","v":0}]
[null,null,null,null,0,null,null,null,null,null,null,null,0,null,null,null,null,null,null,null,null,null,null,null,null,null,{"$f":"IF(OR(SUMPRODUCT(--(E68014=$O$1:$O$542))>0,E68014=0),0,1)","v":0}]
[null,null,null,null,0,null,null,null,null,null,null,null,0,null,null,null,null,null,null,null,null,null,null,null,null,null,{"$f":"IF(OR(SUMPRODUCT(--(E68046=$O$1:$O$542))>0,E68046=0),0,1)","v":0}]
[null,null,null,null,0,null,null,null,null,null,null,null,0,null,null,null,null,null,null,null,null,null,null,null,null,null,{"$f":"IF(OR(SUMPRODUCT(--(E68117=$O$1:$O$542))>0,E68117=0),0,1)","v":0}]
[null,null,null,null,0,null,null,null,null,null,null,null,0,null,null,null,null,null,null,null,null,null,null,null,null,null,{"$f":"IF(OR(SUMPRODUCT(--(E68266=$O$1:$O$542))>0,E68266=0),0,1)","v":0}]
[null,null,null,null,0,null,null,null,null,null,null,null,0,null,null,null,null,null,null,null,null,null,null,null,null,null,{"$f":"IF(OR(SUMPRODUCT(--(E68318=$O$1:$O$542))>0,E68318=0),0,1)","v":0}]
[null,null,null,null,0,null,null,null,null,null,null,null,0,null,null,null,null,null,null,null,null,null,null,null,null,null,{"$f":"IF(OR(SUMPRODUCT(--(E68449=$O$1:$O$542))>0,E68449=0),0,1)","v":0}]
[null,null,null,null,0,null,null,null,null,null,null,null,0,null,null,null,null,null,null,null,null,null,null,null,null,null,{"$f":"IF(OR(SUMPRODUCT(--(E68506=$O$1:$O$542))>0,E68506=0),0,1)","v":0}]
[null,null,null,null,0,null,null,null,null,null,null,null,0,null,null,null,null,null,null,null,null,null,null,null,null,null,{"$f":"IF(OR(SUMPRODUCT(--(E68590=$O$1:$O$542))>0,E68590=0),0,1)","v":0}]
[null,null,null,null,0,null,null,null,null,null,null,null,0,null,null,null,null,null,null,null,null,null,null,null,null,null,{"$f":"IF(OR(SUMPRODUCT(--(E68689=$O$1:$O$542))>0,E68689=0),0,1)","v":0}]
[null,null,null,null,0,null,null,null,null,null,null,null,0,null,null,null,null,null,null,null,null,null,null,null,null,null,{"$f":"IF(OR(SUMPRODUCT(--(E68838=$O$1:$O$542))>0,E68838=0),0,1)","v":0}]
[null,null,null,null,0,null,null,null,null,null,null,null,0,null,null,null,null,null,null,null,null,null,null,null,null,null,{"$f":"IF(OR(SUMPRODUCT(--(E68862=$O$1:$O$542))>0,E68862=0),0,1)","v":0}]
[null,null,null,null,0,null,null,null,null,null,null,null,0,null,null,null,null,null,null,null,null,null,null,null,null,null,{"$f":"IF(OR(SUMPRODUCT(--(E69033=$O$1:$O$542))>0,E69033=0),0,1)","v":0}]
[null,null,null,null,0,null,null,null,null,null,null,null,0,null,null,null,null,null,null,null,null,null,null,null,null,null,{"$f":"IF(OR(SUMPRODUCT(--(E69078=$O$1:$O$542))>0,E69078=0),0,1)","v":0}]
[null,null,null,null,0,null,null,null,null,null,null,null,0,null,null,null,null,null,null,null,null,null,null,null,null,null,{"$f":"IF(OR(SUMPRODUCT(--(E69134=$O$1:$O$542))>0,E69134=0),0,1)","v":0}]
[null,null,null,null,0,null,null,null,null,null,null,null,0,null,null,null,null,null,null,null,null,null,null,null,null,null,{"$f":"IF(OR(SUMPRODUCT(--(E69273=$O$1:$O$542))>0,E69273=0),0,1)","v":0}]
[null,null,null,null,0,null,null,null,null,null,null,null,0,null,null,null,null,null,null,null,null,null,null,null,null,null,{"$f":"IF(OR(SUMPRODUCT(--(E69318=$O$1:$O$542))>0,E69318=0),0,1)","v":0}]
[null,null,null,null,0,null,null,null,null,null,null,null,0,null,null,null,null,null,null,null,null,null,null,null,null,null,{"$f":"IF(OR(SUMPRODUCT(--(E69467=$O$1:$O$542))>0,E69467=0),0,1)","v":0}]
[null,null,null,null,0,null,null,null,null,null,null,null,0,null,null,null,null,null,null,null,null,null,null,null,null,null,{"$f":"IF(OR(SUMPRODUCT(--(E69499=$O$1:$O$542))>0,E69499=0),0,1)","v":0}]
[null,null,null,null,0,null,null,null,null,null,null,null,0,null,null,null,null,null,null,null,null,null,null,null,null,null,{"$f":"IF(OR(SUMPRODUCT(--(E69650=$O$1:$O$542))>0,E69650=0),0,1)","v":0}]
[null,null,null,null,0,null,null,null,null,null,null,null,0,null,null,null,null,null,null,null,null,null,null,null,null,null,{"$f":"IF(OR(SUMPRODUCT(--(E69707=$O$1:$O$542))>0,E69707=0),0,1)","v":0}]
[null,null,null,null,0,null,null,null,null,null,null,null,0,null,null,null,null,null,null,null,null,null,null,null,null,null,{"$f":"IF(OR(SUMPRODUCT(--(E69864=$O$1:$O$542))>0,E69864=0),0,1)","v":0}]
[null,null,null,null,0,null,null,null,null,null,null,null,0,null,null,null,null,null,null,null,null,null,null,null,null,null,{"$f":"IF(OR(SUMPRODUCT(--(E69890=$O$1:$O$542))>0,E69890=0),0,1)","v":0}]
[null,null,null,null,0,null,null,null,null,null,null,null,0,null,null,null,null,null,null,null,null,null,null,null,null,null,{"$f":"IF(OR(SUMPRODUCT(--(E70039=$O$1:$O$542))>0,E70039=0),0,1)","v":0}]
[null,null,null,null,0,null,null,null,null,null,null,null,0,null,null,null,null,null,null,null,null,null,null,null,null,null,{"$f":"IF(OR(SUMPRODUCT(--(E70136=$O$1:$O$542))>0,E70136=0),0,1)","v":0}]
[null,null,null,null,0,null,null,null,null,null,null,null,0,null,null,null,null,null,null,null,null,null,null,null,null,null,{"$f":"IF(OR(SUMPRODUCT(--(E70234=$O$1:$O$542))>0,E70234=0),0,1)","v":0}]
[null,null,null,null,0,null,null,null,null,null,null,null,0,null,null,null,null,null,null,null,null,null,null,null,null,null,{"$f":"IF(OR(SUMPRODUCT(--(E70279=$O$1:$O$542))>0,E70279=0),0,1)","v":0}]
[null,null,null,null,0,null,null,null,null,null,null,null,0,null,null,null,null,null,null,null,null,null,null,null,null,null,{"$f":"IF(OR(SUMPRODUCT(--(E70408=$O$1:$O$542))>0,E70408=0),0,1)","v":0}]
[null,null,null,null,0,null,null,null,null,null,null,null,0,null,null,null,null,null,null,null,null,null,null,null,null,null,{"$f":"IF(OR(SUMPRODUCT(--(E70474=$O$1:$O$542))>0,E70474=0),0,1)","v":0}]
[null,null,null,null,0,null,null,null,null,null,null,null,0,null,null,null,null,null,null,null,null,null,null,null,null,null,{"$f":"IF(OR(SUMPRODUCT(--(E70519=$O$1:$O$542))>0,E70519=0),0,1)","v":0}]
[null,null,null,null,0,null,null,null,null,null,null,null,0,null,null,null,null,null,null,null,null,null,null,null,null,null,{"$f":"IF(OR(SUMPRODUCT(--(E70684=$O$1:$O$542))>0,E70684=0),0,1)","v":0}]
[null,null,null,null,0,null,null,null,null,null,null,null,0,null,null,null,null,null,null,null,null,null,null,null,null,null,{"$f":"IF(OR(SUMPRODUCT(--(E70714=$O$1:$O$542))>0,E70714=0),0,1)","v":0}]
[null,null,null,null,0,null,null,null,null,null,null,null,0,null,null,null,null,null,null,null,null,null,null,null,null,null,{"$f":"IF(OR(SUMPRODUCT(--(E70851=$O$1:$O$542))>0,E70851=0),0,1)","v":0}]
[null,null,null,null,0,null,null,null,null,null,null,null,0,null,null,null,null,null,null,null,null,null,null,null,null,null,{"$f":"IF(OR(SUMPRODUCT(--(E70956=$O$1:$O$542))>0,E70956=0),0,1)","v":0}]
[null,null,null,null,0,null,null,null,null,null,null,null,0,null,null,null,null,null,null,null,null,null,null,null,null,null,{"$f":"IF(OR(SUMPRODUCT(--(E71046=$O$1:$O$542))>0,E71046=0),0,1)","v":0}]
[null,null,null,null,0,null,null,null,null,null,null,null,0,null,null,null,null,null,null,null,null,null,null,null,null,null,{"$f":"IF(OR(SUMPRODUCT(--(E71091=$O$1:$O$542))>0,E71091=0),0,1)","v":0}]
[null,null,null,null,0,null,null,null,null,null,null,null,0,null,null,null,null,null,null,null,null,null,null,null,null,null,{"$f":"IF(OR(SUMPRODUCT(--(E71240=$O$1:$O$542))>0,E71240=0),0,1)","v":0}]
[null,null,null,null,0,null,null,null,null,null,null,null,0,null,null,null,null,null,null,null,null,null,null,null,null,null,{"$f":"IF(OR(SUMPRODUCT(--(E71317=$O$1:$O$542))>0,E71317=0),0,1)","v":0}]
[null,null,null,null,0,null,null,null,null,null,null,null,0,null,null,null,null,null,null,null,null,null,null,null,null,null,{"$f":"IF(OR(SUMPRODUCT(--(E71435=$O$1:$O$542))>0,E71435=0),0,1)","v":0}]
[null,null,null,null,0,null,null,null,null,null,null,null,0,null,null,null,null,null,null,null,null,null,null,null,null,null,{"$f":"IF(OR(SUMPRODUCT(--(E71480=$O$1:$O$542))>0,E71480=0),0,1)","v":0}]
[null,null,null,null,0,null,null,null,null,null,null,null,0,null,null,null,null,null,null,null,null,null,null,null,null,null,{"$f":"IF(OR(SUMPRODUCT(--(E71589=$O$1:$O$542))>0,E71589=0),0,1)","v":0}]
[null,null,null,null,0,null,null,null,null,null,null,null,0,null,null,null,null,null,null,null,null,null,null,null,null,null,{"$f":"IF(OR(SUMPRODUCT(--(E71675=$O$1:$O$542))>0,E71675=0),0,1)","v":0}]
[null,null,null,null,0,null,null,null,null,null,null,null,0,null,null,null,null,null,null,null,null,null,null,null,null,null,{"$f":"IF(OR(SUMPRODUCT(--(E71720=$O$1:$O$542))>0,E71720=0),0,1)","v":0}]
[null,null,null,null,0,null,null,null,null,null,null,null,0,null,null,null,null,null,null,null,null,null,null,null,null,null,{"$f":"IF(OR(SUMPRODUCT(--(E71861=$O$1:$O$542))>0,E71861=0),0,1)","v":0}]
[null,null,null,null,0,null,null,null,null,null,null,null,0,null,null,null,null,null,null,null,null,null,null,null,null,null,{"$f":"IF(OR(SUMPRODUCT(--(E71915=$O$1:$O$542))>0,E71915=0),0,1)","v":0}]
[null,null,null,null,0,null,null,null,null,null,null,null,0,null,null,null,null,null,null,null,null,null,null,null,null,null,{"$f":"IF(OR(SUMPRODUCT(--(E72052=$O$1:$O$542))>0,E72052=0),0,1)","v":0}]
[null,null,null,null,0,null,null,null,null,null,null,null,0,null,null,null,null,null,null,null,null,null,null,null,null,null,{"$f":"IF(OR(SUMPRODUCT(--(E72137=$O$1:$O$542))>0,E72137=0),0,1)","v":0}]
[null,null,null,null,0,null,null,null,null,null,null,null,0,null,null,null,null,null,null,null,null,null,null,null,null,null,{"$f":"IF(OR(SUMPRODUCT(--(E72247=$O$1:$O$542))>0,E72247=0),0,1)","v":0}]
[null,null,null,null,0,null,null,null,null,null,null,null,0,null,null,null,null,null,null,null,null,null,null,null,null,null,{"$f":"IF(OR(SUMPRODUCT(--(E72292=$O$1:$O$542))>0,E72292=0),0,1)","v":0}]
[null,null,null,null,0,null,null,null,null,null,null,null,0,null,null,null,null,null,null,null,null,null,null,null,null,null,{"$f":"IF(OR(SUMPRODUCT(--(E72409=$O$1:$O$542))>0,E72409=0),0,1)","v":0}]
[null,null,null,null,0,null,null,null,null,null,null,null,0,null,null,null,null,null,null,null,null,null,null,null,null,null,{"$f":"IF(OR(SUMPRODUCT(--(E72487=$O$1:$O$542))>0,E72487=0),0,1)","v":0}]
[null,null,null,null,{"$f":"IF(AND(F72544<>\"\",F72544=G72544),\"ERROR\",IF(AND(F72544<>\"\",F72544<>G72544),F72544,G72544))","v":0},null,null,null,null,null,null,null,{"$f":"IF(L72544<>\"\",L72544,K72544)","v":0},null,null,null,null,null,null,null,null,null,null,null,null,null,{"$f":"IF(OR(SUMPRODUCT(--(E72544=$O$1:$O$542))>0,E72544=0),0,1)","v":0}]
[null,null,null,null,0,null,null,null,null,null,null,null,0,null,null,null,null,null,null,null,null,null,null,null,null,null,{"$f":"IF(OR(SUMPRODUCT(--(E72681=$O$1:$O$542))>0,E72681=0),0,1)","v":0}]
[null,null,null,null,0,null,null,null,null,null,null,null,0,null,null,null,null,null,null,null,null,null,null,null,null,null,{"$f":"IF(OR(SUMPRODUCT(--(E72770=$O$1:$O$542))>0,E72770=0),0,1)","v":0}]
[null,null,null,null,0,null,null,null,null,null,null,null,0,null,null,null,null,null,null,null,null,null,null,null,null,null,{"$f":"IF(OR(SUMPRODUCT(--(E72876=$O$1:$O$542))>0,E72876=0),0,1)","v":0}]
[null,null,null,null,0,null,null,null,null,null,null,null,0,null,null,null,null,null,null,null,null,null,null,null,null,null,{"$f":"IF(OR(SUMPRODUCT(--(E72921=$O$1:$O$542))>0,E72921=0),0,1)","v":0}]
[null,null,null,null,0,null,null,null,null,null,null,null,0,null,null,null,null,null,null,null,null,null,null,null,null,null,{"$f":"IF(OR(SUMPRODUCT(--(E73042=$O$1:$O$542))>0,E73042=0),0,1)","v":0}]
[null,null,null,null,0,null,null,null,null,null,null,null,0,null,null,null,null,null,null,null,null,null,null,null,null,null,{"$f":"IF(OR(SUMPRODUCT(--(E73116=$O$1:$O$542))>0,E73116=0),0,1)","v":0}]
[null,null,null,null,0,null,null,null,null,null,null,null,0,null,null,null,null,null,null,null,null,null,null,null,null,null,{"$f":"IF(OR(SUMPRODUCT(--(E73253=$O$1:$O$542))>0,E73253=0),0,1)","v":0}]
[null,null,null,null,0,null,null,null,null,null,null,null,0,null,null,null,null,null,null,null,null,null,null,null,null,null,{"$f":"IF(OR(SUMPRODUCT(--(E73318=$O$1:$O$542))>0,E73318=0),0,1)","v":0}]
[null,null,null,null,0,null,null,null,null,null,null,null,0,null,null,null,null,null,null,null,null,null,null,null,null,null,{"$f":"IF(OR(SUMPRODUCT(--(E73448=$O$1:$O$542))>0,E73448=0),0,1)","v":0}]
[null,null,null,null,0,null,null,null,null,null,null,null,0,null,null,null,null,null,null,null,null,null,null,null,null,null,{"$f":"IF(OR(SUMPRODUCT(--(E73493=$O$1:$O$542))>0,E73493=0),0,1)","v":0}]
[null,null,null,null,0,null,null,null,null,null,null,null,0,null,null,null,null,null,null,null,null,null,null,null,null,null,{"$f":"IF(OR(SUMPRODUCT(--(E73590=$O$1:$O$542))>0,E73590=0),0,1)","v":0}]
[null,null,null,null,0,null,null,null,null,null,null,null,0,null,null,null,null,null,null,null,null,null,null,null,null,null,{"$f":"IF(OR(SUMPRODUCT(--(E73688=$O$1:$O$542))>0,E73688=0),0,1)","v":0}]
[null,null,null,null,0,null,null,null,null,null,null,null,0,null,null,null,null,null,null,null,null,null,null,null,null,null,{"$f":"IF(OR(SUMPRODUCT(--(E73825=$O$1:$O$542))>0,E73825=0),0,1)","v":0}]
[null,null,null,null,0,null,null,null,null,null,null,null,0,null,null,null,null,null,null,null,null,null,null,null,null,null,{"$f":"IF(OR(SUMPRODUCT(--(E73862=$O$1:$O$542))>0,E73862=0),0,1)","v":0}]
[null,null,null,null,0,null,null,null,null,null,null,null,0,null,null,null,null,null,null,null,null,null,null,null,null,null,{"$f":"IF(OR(SUMPRODUCT(--(E74020=$O$1:$O$542))>0,E74020=0),0,1)","v":0}]
[null,null,null,null,0,null,null,null,null,null,null,null,0,null,null,null,null,null,null,null,null,null,null,null,null,null,{"$f":"IF(OR(SUMPRODUCT(--(E74077=$O$1:$O$542))>0,E74077=0),0,1)","v":0}]
[null,null,null,null,0,null,null,null,null,null,null,null,0,null,null,null,null,null,null,null,null,null,null,null,null,null,{"$f":"IF(OR(SUMPRODUCT(--(E74134=$O$1:$O$542))>0,E74134=0),0,1)","v":0}]
[null,null,null,null,0,null,null,null,null,null,null,null,0,null,null,null,null,null,null,null,null,null,null,null,null,null,{"$f":"IF(OR(SUMPRODUCT(--(E74260=$O$1:$O$542))>0,E74260=0),0,1)","v":0}]
[null,null,null,null,0,null,null,null,null,null,null,null,0,null,null,null,null,null,null,null,null,null,null,null,null,null,{"$f":"IF(OR(SUMPRODUCT(--(E74317=$O$1:$O$542))>0,E74317=0),0,1)","v":0}]
[null,null,null,null,0,null,null,null,null,null,null,null,0,null,null,null,null,null,null,null,null,null,null,null,null,null,{"$f":"IF(OR(SUMPRODUCT(--(E74454=$O$1:$O$542))>0,E74454=0),0,1)","v":0}]
[null,null,null,null,0,null,null,null,null,null,null,null,0,null,null,null,null,null,null,null,null,null,null,null,null,null,{"$f":"IF(OR(SUMPRODUCT(--(E74499=$O$1:$O$542))>0,E74499=0),0,1)","v":0}]
[null,null,null,null,0,null,null,null,null,null,null,null,0,null,null,null,null,null,null,null,null,null,null,null,null,null,{"$f":"IF(OR(SUMPRODUCT(--(E74649=$O$1:$O$542))>0,E74649=0),0,1)","v":0}]
[null,null,null,null,{"$f":"IF(AND(F74694<>\"\",F74694=G74694),\"ERROR\",IF(AND(F74694<>\"\",F74694<>G74694),F74694,G74694))","v":0},null,null,null,null,null,null,null,{"$f":"IF(L74694<>\"\",L74694,K74694)","v":0},null,null,null,null,null,null,null,null,null,null,null,null,null,{"$f":"IF(OR(SUMPRODUCT(--(E74694=$O$1:$O$542))>0,E74694=0),0,1)","v":0}]
[null,null,null,null,0,null,null,null,null,null,null,null,0,null,null,null,null,null,null,null,null,null,null,null,null,null,{"$f":"IF(OR(SUMPRODUCT(--(E74771=$O$1:$O$542))>0,E74771=0),0,1)","v":0}]
[null,null,null,null,0,null,null,null,null,null,null,null,0,null,null,null,null,null,null,null,null,null,null,null,null,null,{"$f":"IF(OR(SUMPRODUCT(--(E74889=$O$1:$O$542))>0,E74889=0),0,1)","v":0}]
[null,null,null,null,0,null,null,null,null,null,null,null,0,null,null,null,null,null,null,null,null,null,null,null,null,null,{"$f":"IF(OR(SUMPRODUCT(--(E75026=$O$1:$O$542))>0,E75026=0),0,1)","v":0}]
[null,null,null,null,0,null,null,null,null,null,null,null,0,null,null,null,null,null,null,null,null,null,null,null,null,null,{"$f":"IF(OR(SUMPRODUCT(--(E75043=$O$1:$O$542))>0,E75043=0),0,1)","v":0}]
[null,null,null,null,0,null,null,null,null,null,null,null,0,null,null,null,null,null,null,null,null,null,null,null,null,null,{"$f":"IF(OR(SUMPRODUCT(--(E75129=$O$1:$O$542))>0,E75129=0),0,1)","v":0}]
[null,null,null,null,0,null,null,null,null,null,null,null,0,null,null,null,null,null,null,null,null,null,null,null,null,null,{"$f":"IF(OR(SUMPRODUCT(--(E75278=$O$1:$O$542))>0,E75278=0),0,1)","v":0}]
[null,null,null,null,0,null,null,null,null,null,null,null,0,null,null,null,null,null,null,null,null,null,null,null,null,null,{"$f":"IF(OR(SUMPRODUCT(--(E75315=$O$1:$O$542))>0,E75315=0),0,1)","v":0}]
[null,null,null,null,0,null,null,null,null,null,null,null,0,null,null,null,null,null,null,null,null,null,null,null,null,null,{"$f":"IF(OR(SUMPRODUCT(--(E75461=$O$1:$O$542))>0,E75461=0),0,1)","v":0}]
[null,null,null,null,0,null,null,null,null,null,null,null,0,null,null,null,null,null,null,null,null,null,null,null,null,null,{"$f":"IF(OR(SUMPRODUCT(--(E75518=$O$1:$O$542))>0,E75518=0),0,1)","v":0}]
[null,null,null,null,0,null,null,null,null,null,null,null,0,null,null,null,null,null,null,null,null,null,null,null,null,null,{"$f":"IF(OR(SUMPRODUCT(--(E75680=$O$1:$O$542))>0,E75680=0),0,1)","v":0}]
[null,null,null,null,0,null,null,null,null,null,null,null,0,null,null,null,null,null,null,null,null,null,null,null,null,null,{"$f":"IF(OR(SUMPRODUCT(--(E75713=$O$1:$O$542))>0,E75713=0),0,1)","v":0}]
[null,null,null,null,0,null,null,null,null,null,null,null,0,null,null,null,null,null,null,null,null,null,null,null,null,null,{"$f":"IF(OR(SUMPRODUCT(--(E75850=$O$1:$O$542))>0,E75850=0),0,1)","v":0}]
[null,null,null,null,0,null,null,null,null,null,null,null,0,null,null,null,null,null,null,null,null,null,null,null,null,null,{"$f":"IF(OR(SUMPRODUCT(--(E75895=$O$1:$O$542))>0,E75895=0),0,1)","v":0}]
[null,null,null,null,0,null,null,null,null,null,null,null,0,null,null,null,null,null,null,null,null,null,null,null,null,null,{"$f":"IF(OR(SUMPRODUCT(--(E76045=$O$1:$O$542))>0,E76045=0),0,1)","v":0}]
[null,null,null,null,0,null,null,null,null,null,null,null,0,null,null,null,null,null,null,null,null,null,null,null,null,null,{"$f":"IF(OR(SUMPRODUCT(--(E76090=$O$1:$O$542))>0,E76090=0),0,1)","v":0}]
[null,null,null,null,0,null,null,null,null,null,null,null,0,null,null,null,null,null,null,null,null,null,null,null,null,null,{"$f":"IF(OR(SUMPRODUCT(--(E76227=$O$1:$O$542))>0,E76227=0),0,1)","v":0}]
[null,null,null,null,0,null,null,null,null,null,null,null,0,null,null,null,null,null,null,null,null,null,null,null,null,null,{"$f":"IF(OR(SUMPRODUCT(--(E76317=$O$1:$O$542))>0,E76317=0),0,1)","v":0}]
[null,null,null,null,0,null,null,null,null,null,null,null,0,null,null,null,null,null,null,null,null,null,null,null,null,null,{"$f":"IF(OR(SUMPRODUCT(--(E76330=$O$1:$O$542))>0,E76330=0),0,1)","v":0}]
[null,null,null,null,0,null,null,null,null,null,null,null,0,null,null,null,null,null,null,null,null,null,null,null,null,null,{"$f":"IF(OR(SUMPRODUCT(--(E76479=$O$1:$O$542))>0,E76479=0),0,1)","v":0}]
[null,null,null,null,0,null,null,null,null,null,null,null,0,null,null,null,null,null,null,null,null,null,null,null,null,null,{"$f":"IF(OR(SUMPRODUCT(--(E76589=$O$1:$O$542))>0,E76589=0),0,1)","v":0}]
[null,null,null,null,0,null,null,null,null,null,null,null,0,null,null,null,null,null,null,null,null,null,null,null,null,null,{"$f":"IF(OR(SUMPRODUCT(--(E76662=$O$1:$O$542))>0,E76662=0),0,1)","v":0}]
[null,null,null,null,0,null,null,null,null,null,null,null,0,null,null,null,null,null,null,null,null,null,null,null,null,null,{"$f":"IF(OR(SUMPRODUCT(--(E76719=$O$1:$O$542))>0,E76719=0),0,1)","v":0}]
[null,null,null,null,0,null,null,null,null,null,null,null,0,null,null,null,null,null,null,null,null,null,null,null,null,null,{"$f":"IF(OR(SUMPRODUCT(--(E76861=$O$1:$O$542))>0,E76861=0),0,1)","v":0}]
[null,null,null,null,0,null,null,null,null,null,null,null,0,null,null,null,null,null,null,null,null,null,null,null,null,null,{"$f":"IF(OR(SUMPRODUCT(--(E76902=$O$1:$O$542))>0,E76902=0),0,1)","v":0}]
[null,null,null,null,0,null,null,null,null,null,null,null,0,null,null,null,null,null,null,null,null,null,null,null,null,null,{"$f":"IF(OR(SUMPRODUCT(--(E77051=$O$1:$O$542))>0,E77051=0),0,1)","v":0}]
[null,null,null,null,0,null,null,null,null,null,null,null,0,null,null,null,null,null,null,null,null,null,null,null,null,null,{"$f":"IF(OR(SUMPRODUCT(--(E77133=$O$1:$O$542))>0,E77133=0),0,1)","v":0}]
[null,null,null,null,0,null,null,null,null,null,null,null,0,null,null,null,null,null,null,null,null,null,null,null,null,null,{"$f":"IF(OR(SUMPRODUCT(--(E77246=$O$1:$O$542))>0,E77246=0),0,1)","v":0}]
[null,null,null,null,0,null,null,null,null,null,null,null,0,null,null,null,null,null,null,null,null,null,null,null,null,null,{"$f":"IF(OR(SUMPRODUCT(--(E77291=$O$1:$O$542))>0,E77291=0),0,1)","v":0}]
[null,null,null,null,0,null,null,null,null,null,null,null,0,null,null,null,null,null,null,null,null,null,null,null,null,null,{"$f":"IF(OR(SUMPRODUCT(--(E77428=$O$1:$O$542))>0,E77428=0),0,1)","v":0}]
[null,null,null,null,0,null,null,null,null,null,null,null,0,null,null,null,null,null,null,null,null,null,null,null,null,null,{"$f":"IF(OR(SUMPRODUCT(--(E77498=$O$1:$O$542))>0,E77498=0),0,1)","v":0}]
[null,null,null,null,0,null,null,null,null,null,null,null,0,null,null,null,null,null,null,null,null,null,null,null,null,null,{"$f":"IF(OR(SUMPRODUCT(--(E77531=$O$1:$O$542))>0,E77531=0),0,1)","v":0}]
[null,null,null,null,0,null,null,null,null,null,null,null,0,null,null,null,null,null,null,null,null,null,null,null,null,null,{"$f":"IF(OR(SUMPRODUCT(--(E77680=$O$1:$O$542))>0,E77680=0),0,1)","v":0}]
[null,null,null,null,0,null,null,null,null,null,null,null,0,null,null,null,null,null,null,null,null,null,null,null,null,null,{"$f":"IF(OR(SUMPRODUCT(--(E77770=$O$1:$O$542))>0,E77770=0),0,1)","v":0}]
[null,null,null,null,0,null,null,null,null,null,null,null,0,null,null,null,null,null,null,null,null,null,null,null,null,null,{"$f":"IF(OR(SUMPRODUCT(--(E77863=$O$1:$O$542))>0,E77863=0),0,1)","v":0}]
[null,null,null,null,0,null,null,null,null,null,null,null,0,null,null,null,null,null,null,null,null,null,null,null,null,null,{"$f":"IF(OR(SUMPRODUCT(--(E77920=$O$1:$O$542))>0,E77920=0),0,1)","v":0}]
[null,null,null,null,0,null,null,null,null,null,null,null,0,null,null,null,null,null,null,null,null,null,null,null,null,null,{"$f":"IF(OR(SUMPRODUCT(--(E78042=$O$1:$O$542))>0,E78042=0),0,1)","v":0}]
[null,null,null,null,0,null,null,null,null,null,null,null,0,null,null,null,null,null,null,null,null,null,null,null,null,null,{"$f":"IF(OR(SUMPRODUCT(--(E78103=$O$1:$O$542))>0,E78103=0),0,1)","v":0}]
[null,null,null,null,0,null,null,null,null,null,null,null,0,null,null,null,null,null,null,null,null,null,null,null,null,null,{"$f":"IF(OR(SUMPRODUCT(--(E78252=$O$1:$O$542))>0,E78252=0),0,1)","v":0}]
[null,null,null,null,0,null,null,null,null,null,null,null,0,null,null,null,null,null,null,null,null,null,null,null,null,null,{"$f":"IF(OR(SUMPRODUCT(--(E78314=$O$1:$O$542))>0,E78314=0),0,1)","v":0}]
[null,null,null,null,0,null,null,null,null,null,null,null,0,null,null,null,null,null,null,null,null,null,null,null,null,null,{"$f":"IF(OR(SUMPRODUCT(--(E78447=$O$1:$O$542))>0,E78447=0),0,1)","v":0}]
[null,null,null,null,0,null,null,null,null,null,null,null,0,null,null,null,null,null,null,null,null,null,null,null,null,null,{"$f":"IF(OR(SUMPRODUCT(--(E78492=$O$1:$O$542))>0,E78492=0),0,1)","v":0}]
[null,null,null,null,0,null,null,null,null,null,null,null,0,null,null,null,null,null,null,null,null,null,null,null,null,null,{"$f":"IF(OR(SUMPRODUCT(--(E78586=$O$1:$O$542))>0,E78586=0),0,1)","v":0}]
[null,null,null,null,0,null,null,null,null,null,null,null,0,null,null,null,null,null,null,null,null,null,null,null,null,null,{"$f":"IF(OR(SUMPRODUCT(--(E78687=$O$1:$O$542))>0,E78687=0),0,1)","v":0}]
[null,null,null,null,0,null,null,null,null,null,null,null,0,null,null,null,null,null,null,null,null,null,null,null,null,null,{"$f":"IF(OR(SUMPRODUCT(--(E78732=$O$1:$O$542))>0,E78732=0),0,1)","v":0}]
[null,null,null,null,0,null,null,null,null,null,null,null,0,null,null,null,null,null,null,null,null,null,null,null,null,null,{"$f":"IF(OR(SUMPRODUCT(--(E78858=$O$1:$O$542))>0,E78858=0),0,1)","v":0}]
[null,null,null,null,0,null,null,null,null,null,null,null,0,null,null,null,null,null,null,null,null,null,null,null,null,null,{"$f":"IF(OR(SUMPRODUCT(--(E78927=$O$1:$O$542))>0,E78927=0),0,1)","v":0}]
[null,null,null,null,0,null,null,null,null,null,null,null,0,null,null,null,null,null,null,null,null,null,null,null,null,null,{"$f":"IF(OR(SUMPRODUCT(--(E79064=$O$1:$O$542))>0,E79064=0),0,1)","v":0}]
[null,null,null,null,0,null,null,null,null,null,null,null,0,null,null,null,null,null,null,null,null,null,null,null,null,null,{"$f":"IF(OR(SUMPRODUCT(--(E79121=$O$1:$O$542))>0,E79121=0),0,1)","v":0}]
[null,null,null,null,0,null,null,null,null,null,null,null,0,null,null,null,null,null,null,null,null,null,null,null,null,null,{"$f":"IF(OR(SUMPRODUCT(--(E79223=$O$1:$O$542))>0,E79223=0),0,1)","v":0}]
[null,null,null,null,0,null,null,null,null,null,null,null,0,null,null,null,null,null,null,null,null,null,null,null,null,null,{"$f":"IF(OR(SUMPRODUCT(--(E79304=$O$1:$O$542))>0,E79304=0),0,1)","v":0}]
[null,null,null,null,0,null,null,null,null,null,null,null,0,null,null,null,null,null,null,null,null,null,null,null,null,null,{"$f":"IF(OR(SUMPRODUCT(--(E79453=$O$1:$O$542))>0,E79453=0),0,1)","v":0}]
[null,null,null,null,0,null,null,null,null,null,null,null,0,null,null,null,null,null,null,null,null,null,null,null,null,null,{"$f":"IF(OR(SUMPRODUCT(--(E79495=$O$1:$O$542))>0,E79495=0),0,1)","v":0}]
[null,null,null,null,0,null,null,null,null,null,null,null,0,null,null,null,null,null,null,null,null,null,null,null,null,null,{"$f":"IF(OR(SUMPRODUCT(--(E79648=$O$1:$O$542))>0,E79648=0),0,1)","v":0}]
[null,null,null,null,0,null,null,null,null,null,null,null,0,null,null,null,null,null,null,null,null,null,null,null,null,null,{"$f":"IF(OR(SUMPRODUCT(--(E79693=$O$1:$O$542))>0,E79693=0),0,1)","v":0}]
[null,null,null,null,0,null,null,null,null,null,null,null,0,null,null,null,null,null,null,null,null,null,null,null,null,null,{"$f":"IF(OR(SUMPRODUCT(--(E79767=$O$1:$O$542))>0,E79767=0),0,1)","v":0}]
[null,null,null,null,0,null,null,null,null,null,null,null,0,null,null,null,null,null,null,null,null,null,null,null,null,null,{"$f":"IF(OR(SUMPRODUCT(--(E79888=$O$1:$O$542))>0,E79888=0),0,1)","v":0}]
[null,null,null,null,0,null,null,null,null,null,null,null,0,null,null,null,null,null,null,null,null,null,null,null,null,null,{"$f":"IF(OR(SUMPRODUCT(--(E79933=$O$1:$O$542))>0,E79933=0),0,1)","v":0}]
[null,null,null,null,0,null,null,null,null,null,null,null,0,null,null,null,null,null,null,null,null,null,null,null,null,null,{"$f":"IF(OR(SUMPRODUCT(--(E80039=$O$1:$O$542))>0,E80039=0),0,1)","v":0}]
[null,null,null,null,0,null,null,null,null,null,null,null,0,null,null,null,null,null,null,null,null,null,null,null,null,null,{"$f":"IF(OR(SUMPRODUCT(--(E80128=$O$1:$O$542))>0,E80128=0),0,1)","v":0}]
[null,null,null,null,0,null,null,null,null,null,null,null,0,null,null,null,null,null,null,null,null,null,null,null,null,null,{"$f":"IF(OR(SUMPRODUCT(--(E80265=$O$1:$O$542))>0,E80265=0),0,1)","v":0}]
[null,null,null,null,0,null,null,null,null,null,null,null,0,null,null,null,null,null,null,null,null,null,null,null,null,null,{"$f":"IF(OR(SUMPRODUCT(--(E80315=$O$1:$O$542))>0,E80315=0),0,1)","v":0}]
[null,null,null,null,0,null,null,null,null,null,null,null,0,null,null,null,null,null,null,null,null,null,null,null,null,null,{"$f":"IF(OR(SUMPRODUCT(--(E80460=$O$1:$O$542))>0,E80460=0),0,1)","v":0}]
[null,null,null,null,0,null,null,null,null,null,null,null,0,null,null,null,null,null,null,null,null,null,null,null,null,null,{"$f":"IF(OR(SUMPRODUCT(--(E80505=$O$1:$O$542))>0,E80505=0),0,1)","v":0}]
[null,null,null,null,0,null,null,null,null,null,null,null,0,null,null,null,null,null,null,null,null,null,null,null,null,null,{"$f":"IF(OR(SUMPRODUCT(--(E80654=$O$1:$O$542))>0,E80654=0),0,1)","v":0}]
[null,null,null,null,0,null,null,null,null,null,null,null,0,null,null,null,null,null,null,null,null,null,null,null,null,null,{"$f":"IF(OR(SUMPRODUCT(--(E80676=$O$1:$O$542))>0,E80676=0),0,1)","v":0}]
[null,null,null,null,0,null,null,null,null,null,null,null,0,null,null,null,null,null,null,null,null,null,null,null,null,null,{"$f":"IF(OR(SUMPRODUCT(--(E80849=$O$1:$O$542))>0,E80849=0),0,1)","v":0}]
[null,null,null,null,0,null,null,null,null,null,null,null,0,null,null,null,null,null,null,null,null,null,null,null,null,null,{"$f":"IF(OR(SUMPRODUCT(--(E80894=$O$1:$O$542))>0,E80894=0),0,1)","v":0}]
[null,null,null,null,0,null,null,null,null,null,null,null,0,null,null,null,null,null,null,null,null,null,null,null,null,null,{"$f":"IF(OR(SUMPRODUCT(--(E80948=$O$1:$O$542))>0,E80948=0),0,1)","v":0}]
[null,null,null,null,0,null,null,null,null,null,null,null,0,null,null,null,null,null,null,null,null,null,null,null,null,null,{"$f":"IF(OR(SUMPRODUCT(--(E81089=$O$1:$O$542))>0,E81089=0),0,1)","v":0}]
[null,null,null,null,0,null,null,null,null,null,null,null,0,null,null,null,null,null,null,null,null,null,null,null,null,null,{"$f":"IF(OR(SUMPRODUCT(--(E81134=$O$1:$O$542))>0,E81134=0),0,1)","v":0}]
[null,null,null,null,0,null,null,null,null,null,null,null,0,null,null,null,null,null,null,null,null,null,null,null,null,null,{"$f":"IF(OR(SUMPRODUCT(--(E81313=$O$1:$O$542))>0,E81313=0),0,1)","v":0}]
[null,null,null,null,0,null,null,null,null,null,null,null,0,null,null,null,null,null,null,null,null,null,null,null,null,null,{"$f":"IF(OR(SUMPRODUCT(--(E81329=$O$1:$O$542))>0,E81329=0),0,1)","v":0}]
[null,null,null,null,0,null,null,null,null,null,null,null,0,null,null,null,null,null,null,null,null,null,null,null,null,null,{"$f":"IF(OR(SUMPRODUCT(--(E81466=$O$1:$O$542))>0,E81466=0),0,1)","v":0}]
[null,null,null,null,0,null,null,null,null,null,null,null,0,null,null,null,null,null,null,null,null,null,null,null,null,null,{"$f":"IF(OR(SUMPRODUCT(--(E81589=$O$1:$O$542))>0,E81589=0),0,1)","v":0}]
[null,null,null,null,0,null,null,null,null,null,null,null,0,null,null,null,null,null,null,null,null,null,null,null,null,null,{"$f":"IF(OR(SUMPRODUCT(--(E81661=$O$1:$O$542))>0,E81661=0),0,1)","v":0}]
[null,null,null,null,0,null,null,null,null,null,null,null,0,null,null,null,null,null,null,null,null,null,null,null,null,null,{"$f":"IF(OR(SUMPRODUCT(--(E81706=$O$1:$O$542))>0,E81706=0),0,1)","v":0}]
[null,null,null,null,0,null,null,null,null,null,null,null,0,null,null,null,null,null,null,null,null,null,null,null,null,null,{"$f":"IF(OR(SUMPRODUCT(--(E81861=$O$1:$O$542))>0,E81861=0),0,1)","v":0}]
[null,null,null,null,0,null,null,null,null,null,null,null,0,null,null,null,null,null,null,null,null,null,null,null,null,null,{"$f":"IF(OR(SUMPRODUCT(--(E81901=$O$1:$O$542))>0,E81901=0),0,1)","v":0}]
[null,null,null,null,0,null,null,null,null,null,null,null,0,null,null,null,null,null,null,null,null,null,null,null,null,null,{"$f":"IF(OR(SUMPRODUCT(--(E82038=$O$1:$O$542))>0,E82038=0),0,1)","v":0}]
[null,null,null,null,0,null,null,null,null,null,null,null,0,null,null,null,null,null,null,null,null,null,null,null,null,null,{"$f":"IF(OR(SUMPRODUCT(--(E82133=$O$1:$O$542))>0,E82133=0),0,1)","v":0}]
[null,null,null,null,0,null,null,null,null,null,null,null,0,null,null,null,null,null,null,null,null,null,null,null,null,null,{"$f":"IF(OR(SUMPRODUCT(--(E82233=$O$1:$O$542))>0,E82233=0),0,1)","v":0}]
[null,null,null,null,0,null,null,null,null,null,null,null,0,null,null,null,null,null,null,null,null,null,null,null,null,null,{"$f":"IF(OR(SUMPRODUCT(--(E82290=$O$1:$O$542))>0,E82290=0),0,1)","v":0}]
[null,null,null,null,0,null,null,null,null,null,null,null,0,null,null,null,null,null,null,null,null,null,null,null,null,null,{"$f":"IF(OR(SUMPRODUCT(--(E82335=$O$1:$O$542))>0,E82335=0),0,1)","v":0}]
[null,null,null,null,0,null,null,null,null,null,null,null,0,null,null,null,null,null,null,null,null,null,null,null,null,null,{"$f":"IF(OR(SUMPRODUCT(--(E82494=$O$1:$O$542))>0,E82494=0),0,1)","v":0}]
[null,null,null,null,0,null,null,null,null,null,null,null,0,null,null,null,null,null,null,null,null,null,null,null,null,null,{"$f":"IF(OR(SUMPRODUCT(--(E82530=$O$1:$O$542))>0,E82530=0),0,1)","v":0}]
[null,null,null,null,0,null,null,null,null,null,null,null,0,null,null,null,null,null,null,null,null,null,null,null,null,null,{"$f":"IF(OR(SUMPRODUCT(--(E82667=$O$1:$O$542))>0,E82667=0),0,1)","v":0}]
[null,null,null,null,0,null,null,null,null,null,null,null,0,null,null,null,null,null,null,null,null,null,null,null,null,null,{"$f":"IF(OR(SUMPRODUCT(--(E82770=$O$1:$O$542))>0,E82770=0),0,1)","v":0}]
[null,null,null,null,0,null,null,null,null,null,null,null,0,null,null,null,null,null,null,null,null,null,null,null,null,null,{"$f":"IF(OR(SUMPRODUCT(--(E82862=$O$1:$O$542))>0,E82862=0),0,1)","v":0}]
[null,null,null,null,0,null,null,null,null,null,null,null,0,null,null,null,null,null,null,null,null,null,null,null,null,null,{"$f":"IF(OR(SUMPRODUCT(--(E82907=$O$1:$O$542))>0,E82907=0),0,1)","v":0}]
[null,null,null,null,0,null,null,null,null,null,null,null,0,null,null,null,null,null,null,null,null,null,null,null,null,null,{"$f":"IF(OR(SUMPRODUCT(--(E83042=$O$1:$O$542))>0,E83042=0),0,1)","v":0}]
[null,null,null,null,0,null,null,null,null,null,null,null,0,null,null,null,null,null,null,null,null,null,null,null,null,null,{"$f":"IF(OR(SUMPRODUCT(--(E83102=$O$1:$O$542))>0,E83102=0),0,1)","v":0}]
[null,null,null,null,0,null,null,null,null,null,null,null,0,null,null,null,null,null,null,null,null,null,null,null,null,null,{"$f":"IF(OR(SUMPRODUCT(--(E83239=$O$1:$O$542))>0,E83239=0),0,1)","v":0}]
[null,null,null,null,0,null,null,null,null,null,null,null,0,null,null,null,null,null,null,null,null,null,null,null,null,null,{"$f":"IF(OR(SUMPRODUCT(--(E83314=$O$1:$O$542))>0,E83314=0),0,1)","v":0}]
[null,null,null,null,0,null,null,null,null,null,null,null,0,null,null,null,null,null,null,null,null,null,null,null,null,null,{"$f":"IF(OR(SUMPRODUCT(--(E83434=$O$1:$O$542))>0,E83434=0),0,1)","v":0}]
[null,null,null,null,0,null,null,null,null,null,null,null,0,null,null,null,null,null,null,null,null,null,null,null,null,null,{"$f":"IF(OR(SUMPRODUCT(--(E83491=$O$1:$O$542))>0,E83491=0),0,1)","v":0}]
[null,null,null,null,0,null,null,null,null,null,null,null,0,null,null,null,null,null,null,null,null,null,null,null,null,null,{"$f":"IF(OR(SUMPRODUCT(--(E83586=$O$1:$O$542))>0,E83586=0),0,1)","v":0}]
[null,null,null,null,0,null,null,null,null,null,null,null,0,null,null,null,null,null,null,null,null,null,null,null,null,null,{"$f":"IF(OR(SUMPRODUCT(--(E83674=$O$1:$O$542))>0,E83674=0),0,1)","v":0}]
[null,null,null,null,0,null,null,null,null,null,null,null,0,null,null,null,null,null,null,null,null,null,null,null,null,null,{"$f":"IF(OR(SUMPRODUCT(--(E83731=$O$1:$O$542))>0,E83731=0),0,1)","v":0}]
[null,null,null,null,0,null,null,null,null,null,null,null,0,null,null,null,null,null,null,null,null,null,null,null,null,null,{"$f":"IF(OR(SUMPRODUCT(--(E83868=$O$1:$O$542))>0,E83868=0),0,1)","v":0}]
[null,null,null,null,0,null,null,null,null,null,null,null,0,null,null,null,null,null,null,null,null,null,null,null,null,null,{"$f":"IF(OR(SUMPRODUCT(--(E83951=$O$1:$O$542))>0,E83951=0),0,1)","v":0}]
[null,null,null,null,0,null,null,null,null,null,null,null,0,null,null,null,null,null,null,null,null,null,null,null,null,null,{"$f":"IF(OR(SUMPRODUCT(--(E84063=$O$1:$O$542))>0,E84063=0),0,1)","v":0}]
[null,null,null,null,0,null,null,null,null,null,null,null,0,null,null,null,null,null,null,null,null,null,null,null,null,null,{"$f":"IF(OR(SUMPRODUCT(--(E84108=$O$1:$O$542))>0,E84108=0),0,1)","v":0}]
[null,null,null,null,0,null,null,null,null,null,null,null,0,null,null,null,null,null,null,null,null,null,null,null,null,null,{"$f":"IF(OR(SUMPRODUCT(--(E84223=$O$1:$O$542))>0,E84223=0),0,1)","v":0}]
[null,null,null,null,0,null,null,null,null,null,null,null,0,null,null,null,null,null,null,null,null,null,null,null,null,null,{"$f":"IF(OR(SUMPRODUCT(--(E84303=$O$1:$O$542))>0,E84303=0),0,1)","v":0}]
[null,null,null,null,0,null,null,null,null,null,null,null,0,null,null,null,null,null,null,null,null,null,null,null,null,null,{"$f":"IF(OR(SUMPRODUCT(--(E84440=$O$1:$O$542))>0,E84440=0),0,1)","v":0}]
[null,null,null,null,0,null,null,null,null,null,null,null,0,null,null,null,null,null,null,null,null,null,null,null,null,null,{"$f":"IF(OR(SUMPRODUCT(--(E84495=$O$1:$O$542))>0,E84495=0),0,1)","v":0}]
[null,null,null,null,0,null,null,null,null,null,null,null,0,null,null,null,null,null,null,null,null,null,null,null,null,null,{"$f":"IF(OR(SUMPRODUCT(--(E84635=$O$1:$O$542))>0,E84635=0),0,1)","v":0}]
[null,null,null,null,0,null,null,null,null,null,null,null,0,null,null,null,null,null,null,null,null,null,null,null,null,null,{"$f":"IF(OR(SUMPRODUCT(--(E84692=$O$1:$O$542))>0,E84692=0),0,1)","v":0}]
[null,null,null,null,0,null,null,null,null,null,null,null,0,null,null,null,null,null,null,null,null,null,null,null,null,null,{"$f":"IF(OR(SUMPRODUCT(--(E84767=$O$1:$O$542))>0,E84767=0),0,1)","v":0}]
[null,null,null,null,0,null,null,null,null,null,null,null,0,null,null,null,null,null,null,null,null,null,null,null,null,null,{"$f":"IF(OR(SUMPRODUCT(--(E84875=$O$1:$O$542))>0,E84875=0),0,1)","v":0}]
[null,null,null,null,0,null,null,null,null,null,null,null,0,null,null,null,null,null,null,null,null,null,null,null,null,null,{"$f":"IF(OR(SUMPRODUCT(--(E84932=$O$1:$O$542))>0,E84932=0),0,1)","v":0}]
[null,null,null,null,0,null,null,null,null,null,null,null,0,null,null,null,null,null,null,null,null,null,null,null,null,null,{"$f":"IF(OR(SUMPRODUCT(--(E85039=$O$1:$O$542))>0,E85039=0),0,1)","v":0}]
[null,null,null,null,0,null,null,null,null,null,null,null,0,null,null,null,null,null,null,null,null,null,null,null,null,null,{"$f":"IF(OR(SUMPRODUCT(--(E85115=$O$1:$O$542))>0,E85115=0),0,1)","v":0}]
[null,null,null,null,0,null,null,null,null,null,null,null,0,null,null,null,null,null,null,null,null,null,null,null,null,null,{"$f":"IF(OR(SUMPRODUCT(--(E85264=$O$1:$O$542))>0,E85264=0),0,1)","v":0}]
[null,null,null,null,0,null,null,null,null,null,null,null,0,null,null,null,null,null,null,null,null,null,null,null,null,null,{"$f":"IF(OR(SUMPRODUCT(--(E85309=$O$1:$O$542))>0,E85309=0),0,1)","v":0}]
[null,null,null,null,0,null,null,null,null,null,null,null,0,null,null,null,null,null,null,null,null,null,null,null,null,null,{"$f":"IF(OR(SUMPRODUCT(--(E85404=$O$1:$O$542))>0,E85404=0),0,1)","v":0}]
[null,null,null,null,0,null,null,null,null,null,null,null,0,null,null,null,null,null,null,null,null,null,null,null,null,null,{"$f":"IF(OR(SUMPRODUCT(--(E85504=$O$1:$O$542))>0,E85504=0),0,1)","v":0}]
[null,null,null,null,0,null,null,null,null,null,null,null,0,null,null,null,null,null,null,null,null,null,null,null,null,null,{"$f":"IF(OR(SUMPRODUCT(--(E85641=$O$1:$O$542))>0,E85641=0),0,1)","v":0}]
[null,null,null,null,0,null,null,null,null,null,null,null,0,null,null,null,null,null,null,null,null,null,null,null,null,null,{"$f":"IF(OR(SUMPRODUCT(--(E85676=$O$1:$O$542))>0,E85676=0),0,1)","v":0}]
[null,null,null,null,0,null,null,null,null,null,null,null,0,null,null,null,null,null,null,null,null,null,null,null,null,null,{"$f":"IF(OR(SUMPRODUCT(--(E85836=$O$1:$O$542))>0,E85836=0),0,1)","v":0}]
[null,null,null,null,0,null,null,null,null,null,null,null,0,null,null,null,null,null,null,null,null,null,null,null,null,null,{"$f":"IF(OR(SUMPRODUCT(--(E85893=$O$1:$O$542))>0,E85893=0),0,1)","v":0}]
[null,null,null,null,0,null,null,null,null,null,null,null,0,null,null,null,null,null,null,null,null,null,null,null,null,null,{"$f":"IF(OR(SUMPRODUCT(--(E85948=$O$1:$O$542))>0,E85948=0),0,1)","v":0}]
[null,null,null,null,0,null,null,null,null,null,null,null,0,null,null,null,null,null,null,null,null,null,null,null,null,null,{"$f":"IF(OR(SUMPRODUCT(--(E86076=$O$1:$O$542))>0,E86076=0),0,1)","v":0}]
[null,null,null,null,0,null,null,null,null,null,null,null,0,null,null,null,null,null,null,null,null,null,null,null,null,null,{"$f":"IF(OR(SUMPRODUCT(--(E86133=$O$1:$O$542))>0,E86133=0),0,1)","v":0}]
[null,null,null,null,0,null,null,null,null,null,null,null,0,null,null,null,null,null,null,null,null,null,null,null,null,null,{"$f":"IF(OR(SUMPRODUCT(--(E86220=$O$1:$O$542))>0,E86220=0),0,1)","v":0}]
[null,null,null,null,0,null,null,null,null,null,null,null,0,null,null,null,null,null,null,null,null,null,null,null,null,null,{"$f":"IF(OR(SUMPRODUCT(--(E86316=$O$1:$O$542))>0,E86316=0),0,1)","v":0}]
[null,null,null,null,0,null,null,null,null,null,null,null,0,null,null,null,null,null,null,null,null,null,null,null,null,null,{"$f":"IF(OR(SUMPRODUCT(--(E86465=$O$1:$O$542))>0,E86465=0),0,1)","v":0}]
[null,null,null,null,0,null,null,null,null,null,null,null,0,null,null,null,null,null,null,null,null,null,null,null,null,null,{"$f":"IF(OR(SUMPRODUCT(--(E86492=$O$1:$O$542))>0,E86492=0),0,1)","v":0}]
[null,null,null,null,0,null,null,null,null,null,null,null,0,null,null,null,null,null,null,null,null,null,null,null,null,null,{"$f":"IF(OR(SUMPRODUCT(--(E86660=$O$1:$O$542))>0,E86660=0),0,1)","v":0}]
[null,null,null,null,0,null,null,null,null,null,null,null,0,null,null,null,null,null,null,null,null,null,null,null,null,null,{"$f":"IF(OR(SUMPRODUCT(--(E86705=$O$1:$O$542))>0,E86705=0),0,1)","v":0}]
[null,null,null,null,0,null,null,null,null,null,null,null,0,null,null,null,null,null,null,null,null,null,null,null,null,null,{"$f":"IF(OR(SUMPRODUCT(--(E86764=$O$1:$O$542))>0,E86764=0),0,1)","v":0}]
[null,null,null,null,0,null,null,null,null,null,null,null,0,null,null,null,null,null,null,null,null,null,null,null,null,null,{"$f":"IF(OR(SUMPRODUCT(--(E86900=$O$1:$O$542))>0,E86900=0),0,1)","v":0}]
[null,null,null,null,0,null,null,null,null,null,null,null,0,null,null,null,null,null,null,null,null,null,null,null,null,null,{"$f":"IF(OR(SUMPRODUCT(--(E86945=$O$1:$O$542))>0,E86945=0),0,1)","v":0}]
[null,null,null,null,0,null,null,null,null,null,null,null,0,null,null,null,null,null,null,null,null,null,null,null,null,null,{"$f":"IF(OR(SUMPRODUCT(--(E87082=$O$1:$O$542))>0,E87082=0),0,1)","v":0}]
[null,null,null,null,0,null,null,null,null,null,null,null,0,null,null,null,null,null,null,null,null,null,null,null,null,null,{"$f":"IF(OR(SUMPRODUCT(--(E87129=$O$1:$O$542))>0,E87129=0),0,1)","v":0}]
[null,null,null,null,0,null,null,null,null,null,null,null,0,null,null,null,null,null,null,null,null,null,null,null,null,null,{"$f":"IF(OR(SUMPRODUCT(--(E87277=$O$1:$O$542))>0,E87277=0),0,1)","v":0}]
[null,null,null,null,0,null,null,null,null,null,null,null,0,null,null,null,null,null,null,null,null,null,null,null,null,null,{"$f":"IF(OR(SUMPRODUCT(--(E87334=$O$1:$O$542))>0,E87334=0),0,1)","v":0}]
[null,null,null,null,{"$f":"IF(AND(F87494<>\"\",F87494=G87494),\"ERROR\",IF(AND(F87494<>\"\",F87494<>G87494),F87494,G87494))","v":0},null,null,null,null,null,null,null,{"$f":"IF(L87494<>\"\",L87494,K87494)","v":0},null,null,null,null,null,null,null,null,null,null,null,null,null,{"$f":"IF(OR(SUMPRODUCT(--(E87494=$O$1:$O$542))>0,E87494=0),0,1)","v":0}]
[null,null,null,null,0,null,null,null,null,null,null,null,0,null,null,null,null,null,null,null,null,null,null,null,null,null,{"$f":"IF(OR(SUMPRODUCT(--(E87517=$O$1:$O$542))>0,E87517=0),0,1)","v":0}]
[null,null,null,null,0,null,null,null,null,null,null,null,0,null,null,null,null,null,null,null,null,null,null,null,null,null,{"$f":"IF(OR(SUMPRODUCT(--(E87666=$O$1:$O$542))>0,E87666=0),0,1)","v":0}]
[null,null,null,null,0,null,null,null,null,null,null,null,0,null,null,null,null,null,null,null,null,null,null,null,null,null,{"$f":"IF(OR(SUMPRODUCT(--(E87766=$O$1:$O$542))>0,E87766=0),0,1)","v":0}]
[null,null,null,null,0,null,null,null,null,null,null,null,0,null,null,null,null,null,null,null,null,null,null,null,null,null,{"$f":"IF(OR(SUMPRODUCT(--(E87861=$O$1:$O$542))>0,E87861=0),0,1)","v":0}]
[null,null,null,null,0,null,null,null,null,null,null,null,0,null,null,null,null,null,null,null,null,null,null,null,null,null,{"$f":"IF(OR(SUMPRODUCT(--(E87906=$O$1:$O$542))>0,E87906=0),0,1)","v":0}]
[null,null,null,null,0,null,null,null,null,null,null,null,0,null,null,null,null,null,null,null,null,null,null,null,null,null,{"$f":"IF(OR(SUMPRODUCT(--(E88038=$O$1:$O$542))>0,E88038=0),0,1)","v":0}]
[null,null,null,null,0,null,null,null,null,null,null,null,0,null,null,null,null,null,null,null,null,null,null,null,null,null,{"$f":"IF(OR(SUMPRODUCT(--(E88101=$O$1:$O$542))>0,E88101=0),0,1)","v":0}]
[null,null,null,null,0,null,null,null,null,null,null,null,0,null,null,null,null,null,null,null,null,null,null,null,null,null,{"$f":"IF(OR(SUMPRODUCT(--(E88146=$O$1:$O$542))>0,E88146=0),0,1)","v":0}]
[null,null,null,null,0,null,null,null,null,null,null,null,0,null,null,null,null,null,null,null,null,null,null,null,null,null,{"$f":"IF(OR(SUMPRODUCT(--(E88310=$O$1:$O$542))>0,E88310=0),0,1)","v":0}]
[null,null,null,null,0,null,null,null,null,null,null,null,0,null,null,null,null,null,null,null,null,null,null,null,null,null,{"$f":"IF(OR(SUMPRODUCT(--(E88341=$O$1:$O$542))>0,E88341=0),0,1)","v":0}]
[null,null,null,null,0,null,null,null,null,null,null,null,0,null,null,null,null,null,null,null,null,null,null,null,null,null,{"$f":"IF(OR(SUMPRODUCT(--(E88478=$O$1:$O$542))>0,E88478=0),0,1)","v":0}]
[null,null,null,null,0,null,null,null,null,null,null,null,0,null,null,null,null,null,null,null,null,null,null,null,null,null,{"$f":"IF(OR(SUMPRODUCT(--(E88535=$O$1:$O$542))>0,E88535=0),0,1)","v":0}]
[null,null,null,null,0,null,null,null,null,null,null,null,0,null,null,null,null,null,null,null,null,null,null,null,null,null,{"$f":"IF(OR(SUMPRODUCT(--(E88675=$O$1:$O$542))>0,E88675=0),0,1)","v":0}]
[null,null,null,null,0,null,null,null,null,null,null,null,0,null,null,null,null,null,null,null,null,null,null,null,null,null,{"$f":"IF(OR(SUMPRODUCT(--(E88718=$O$1:$O$542))>0,E88718=0),0,1)","v":0}]
[null,null,null,null,0,null,null,null,null,null,null,null,0,null,null,null,null,null,null,null,null,null,null,null,null,null,{"$f":"IF(OR(SUMPRODUCT(--(E88867=$O$1:$O$542))>0,E88867=0),0,1)","v":0}]
[null,null,null,null,0,null,null,null,null,null,null,null,0,null,null,null,null,null,null,null,null,null,null,null,null,null,{"$f":"IF(OR(SUMPRODUCT(--(E88947=$O$1:$O$542))>0,E88947=0),0,1)","v":0}]
[null,null,null,null,0,null,null,null,null,null,null,null,0,null,null,null,null,null,null,null,null,null,null,null,null,null,{"$f":"IF(OR(SUMPRODUCT(--(E89062=$O$1:$O$542))>0,E89062=0),0,1)","v":0}]
[null,null,null,null,0,null,null,null,null,null,null,null,0,null,null,null,null,null,null,null,null,null,null,null,null,null,{"$f":"IF(OR(SUMPRODUCT(--(E89107=$O$1:$O$542))>0,E89107=0),0,1)","v":0}]
[null,null,null,null,0,null,null,null,null,null,null,null,0,null,null,null,null,null,null,null,null,null,null,null,null,null,{"$f":"IF(OR(SUMPRODUCT(--(E89219=$O$1:$O$542))>0,E89219=0),0,1)","v":0}]
[null,null,null,null,0,null,null,null,null,null,null,null,0,null,null,null,null,null,null,null,null,null,null,null,null,null,{"$f":"IF(OR(SUMPRODUCT(--(E89302=$O$1:$O$542))>0,E89302=0),0,1)","v":0}]
[null,null,null,null,0,null,null,null,null,null,null,null,0,null,null,null,null,null,null,null,null,null,null,null,null,null,{"$f":"IF(OR(SUMPRODUCT(--(E89347=$O$1:$O$542))>0,E89347=0),0,1)","v":0}]
[null,null,null,null,0,null,null,null,null,null,null,null,0,null,null,null,null,null,null,null,null,null,null,null,null,null,{"$f":"IF(OR(SUMPRODUCT(--(E89491=$O$1:$O$542))>0,E89491=0),0,1)","v":0}]
[null,null,null,null,{"$f":"IF(AND(F89542<>\"\",F89542=G89542),\"ERROR\",IF(AND(F89542<>\"\",F89542<>G89542),F89542,G89542))","v":0},null,null,null,null,null,null,null,{"$f":"IF(L89542<>\"\",L89542,K89542)","v":0},null,null,null,null,null,null,null,null,null,null,null,null,null,{"$f":"IF(OR(SUMPRODUCT(--(E89542=$O$1:$O$542))>0,E89542=0),0,1)","v":0}]
[null,null,null,null,0,null,null,null,null,null,null,null,0,null,null,null,null,null,null,null,null,null,null,null,null,null,{"$f":"IF(OR(SUMPRODUCT(--(E89679=$O$1:$O$542))>0,E89679=0),0,1)","v":0}]
[null,null,null,null,0,null,null,null,null,null,null,null,0,null,null,null,null,null,null,null,null,null,null,null,null,null,{"$f":"IF(OR(SUMPRODUCT(--(E89767=$O$1:$O$542))>0,E89767=0),0,1)","v":0}]
[null,null,null,null,0,null,null,null,null,null,null,null,0,null,null,null,null,null,null,null,null,null,null,null,null,null,{"$f":"IF(OR(SUMPRODUCT(--(E89874=$O$1:$O$542))>0,E89874=0),0,1)","v":0}]
[null,null,null,null,0,null,null,null,null,null,null,null,0,null,null,null,null,null,null,null,null,null,null,null,null,null,{"$f":"IF(OR(SUMPRODUCT(--(E89919=$O$1:$O$542))>0,E89919=0),0,1)","v":0}]
[null,null,null,null,0,null,null,null,null,null,null,null,0,null,null,null,null,null,null,null,null,null,null,null,null,null,{"$f":"IF(OR(SUMPRODUCT(--(E90039=$O$1:$O$542))>0,E90039=0),0,1)","v":0}]
[null,null,null,null,0,null,null,null,null,null,null,null,0,null,null,null,null,null,null,null,null,null,null,null,null,null,{"$f":"IF(OR(SUMPRODUCT(--(E90114=$O$1:$O$542))>0,E90114=0),0,1)","v":0}]
[null,null,null,null,0,null,null,null,null,null,null,null,0,null,null,null,null,null,null,null,null,null,null,null,null,null,{"$f":"IF(OR(SUMPRODUCT(--(E90251=$O$1:$O$542))>0,E90251=0),0,1)","v":0}]
[null,null,null,null,0,null,null,null,null,null,null,null,0,null,null,null,null,null,null,null,null,null,null,null,null,null,{"$f":"IF(OR(SUMPRODUCT(--(E90308=$O$1:$O$542))>0,E90308=0),0,1)","v":0}]
[null,null,null,null,0,null,null,null,null,null,null,null,0,null,null,null,null,null,null,null,null,null,null,null,null,null,{"$f":"IF(OR(SUMPRODUCT(--(E90400=$O$1:$O$542))>0,E90400=0),0,1)","v":0}]
[null,null,null,null,0,null,null,null,null,null,null,null,0,null,null,null,null,null,null,null,null,null,null,null,null,null,{"$f":"IF(OR(SUMPRODUCT(--(E90503=$O$1:$O$542))>0,E90503=0),0,1)","v":0}]
[null,null,null,null,0,null,null,null,null,null,null,null,0,null,null,null,null,null,null,null,null,null,null,null,null,null,{"$f":"IF(OR(SUMPRODUCT(--(E90548=$O$1:$O$542))>0,E90548=0),0,1)","v":0}]
[null,null,null,null,0,null,null,null,null,null,null,null,0,null,null,null,null,null,null,null,null,null,null,null,null,null,{"$f":"IF(OR(SUMPRODUCT(--(E90672=$O$1:$O$542))>0,E90672=0),0,1)","v":0}]
[null,null,null,null,0,null,null,null,null,null,null,null,0,null,null,null,null,null,null,null,null,null,null,null,null,null,{"$f":"IF(OR(SUMPRODUCT(--(E90743=$O$1:$O$542))>0,E90743=0),0,1)","v":0}]
[null,null,null,null,0,null,null,null,null,null,null,null,0,null,null,null,null,null,null,null,null,null,null,null,null,null,{"$f":"IF(OR(SUMPRODUCT(--(E90880=$O$1:$O$542))>0,E90880=0),0,1)","v":0}]
[null,null,null,null,0,null,null,null,null,null,null,null,0,null,null,null,null,null,null,null,null,null,null,null,null,null,{"$f":"IF(OR(SUMPRODUCT(--(E90948=$O$1:$O$542))>0,E90948=0),0,1)","v":0}]
[null,null,null,null,0,null,null,null,null,null,null,null,0,null,null,null,null,null,null,null,null,null,null,null,null,null,{"$f":"IF(OR(SUMPRODUCT(--(E91075=$O$1:$O$542))>0,E91075=0),0,1)","v":0}]
[null,null,null,null,0,null,null,null,null,null,null,null,0,null,null,null,null,null,null,null,null,null,null,null,null,null,{"$f":"IF(OR(SUMPRODUCT(--(E91120=$O$1:$O$542))>0,E91120=0),0,1)","v":0}]
[null,null,null,null,0,null,null,null,null,null,null,null,0,null,null,null,null,null,null,null,null,null,null,null,null,null,{"$f":"IF(OR(SUMPRODUCT(--(E91220=$O$1:$O$542))>0,E91220=0),0,1)","v":0}]
[null,null,null,null,0,null,null,null,null,null,null,null,0,null,null,null,null,null,null,null,null,null,null,null,null,null,{"$f":"IF(OR(SUMPRODUCT(--(E91315=$O$1:$O$542))>0,E91315=0),0,1)","v":0}]
[null,null,null,null,0,null,null,null,null,null,null,null,0,null,null,null,null,null,null,null,null,null,null,null,null,null,{"$f":"IF(OR(SUMPRODUCT(--(E91452=$O$1:$O$542))>0,E91452=0),0,1)","v":0}]
[null,null,null,null,0,null,null,null,null,null,null,null,0,null,null,null,null,null,null,null,null,null,null,null,null,null,{"$f":"IF(OR(SUMPRODUCT(--(E91492=$O$1:$O$542))>0,E91492=0),0,1)","v":0}]
[null,null,null,null,0,null,null,null,null,null,null,null,0,null,null,null,null,null,null,null,null,null,null,null,null,null,{"$f":"IF(OR(SUMPRODUCT(--(E91647=$O$1:$O$542))>0,E91647=0),0,1)","v":0}]
[null,null,null,null,0,null,null,null,null,null,null,null,0,null,null,null,null,null,null,null,null,null,null,null,null,null,{"$f":"IF(OR(SUMPRODUCT(--(E91704=$O$1:$O$542))>0,E91704=0),0,1)","v":0}]
[null,null,null,null,0,null,null,null,null,null,null,null,0,null,null,null,null,null,null,null,null,null,null,null,null,null,{"$f":"IF(OR(SUMPRODUCT(--(E91749=$O$1:$O$542))>0,E91749=0),0,1)","v":0}]
[null,null,null,null,0,null,null,null,null,null,null,null,0,null,null,null,null,null,null,null,null,null,null,null,null,null,{"$f":"IF(OR(SUMPRODUCT(--(E91853=$O$1:$O$542))>0,E91853=0),0,1)","v":0}]
[null,null,null,null,0,null,null,null,null,null,null,null,0,null,null,null,null,null,null,null,null,null,null,null,null,null,{"$f":"IF(OR(SUMPRODUCT(--(E91944=$O$1:$O$542))>0,E91944=0),0,1)","v":0}]
[null,null,null,null,0,null,null,null,null,null,null,null,0,null,null,null,null,null,null,null,null,null,null,null,null,null,{"$f":"IF(OR(SUMPRODUCT(--(E92081=$O$1:$O$542))>0,E92081=0),0,1)","v":0}]
[null,null,null,null,0,null,null,null,null,null,null,null,0,null,null,null,null,null,null,null,null,null,null,null,null,null,{"$f":"IF(OR(SUMPRODUCT(--(E92129=$O$1:$O$542))>0,E92129=0),0,1)","v":0}]
[null,null,null,null,0,null,null,null,null,null,null,null,0,null,null,null,null,null,null,null,null,null,null,null,null,null,{"$f":"IF(OR(SUMPRODUCT(--(E92276=$O$1:$O$542))>0,E92276=0),0,1)","v":0}]
[null,null,null,null,0,null,null,null,null,null,null,null,0,null,null,null,null,null,null,null,null,null,null,null,null,null,{"$f":"IF(OR(SUMPRODUCT(--(E92321=$O$1:$O$542))>0,E92321=0),0,1)","v":0}]
[null,null,null,null,0,null,null,null,null,null,null,null,0,null,null,null,null,null,null,null,null,null,null,null,null,null,{"$f":"IF(OR(SUMPRODUCT(--(E92401=$O$1:$O$542))>0,E92401=0),0,1)","v":0}]
[null,null,null,null,0,null,null,null,null,null,null,null,0,null,null,null,null,null,null,null,null,null,null,null,null,null,{"$f":"IF(OR(SUMPRODUCT(--(E92516=$O$1:$O$542))>0,E92516=0),0,1)","v":0}]
[null,null,null,null,0,null,null,null,null,null,null,null,0,null,null,null,null,null,null,null,null,null,null,null,null,null,{"$f":"IF(OR(SUMPRODUCT(--(E92653=$O$1:$O$542))>0,E92653=0),0,1)","v":0}]
[null,null,null,null,0,null,null,null,null,null,null,null,0,null,null,null,null,null,null,null,null,null,null,null,null,null,{"$f":"IF(OR(SUMPRODUCT(--(E92673=$O$1:$O$542))>0,E92673=0),0,1)","v":0}]
[null,null,null,null,0,null,null,null,null,null,null,null,0,null,null,null,null,null,null,null,null,null,null,null,null,null,{"$f":"IF(OR(SUMPRODUCT(--(E92848=$O$1:$O$542))>0,E92848=0),0,1)","v":0}]
[null,null,null,null,0,null,null,null,null,null,null,null,0,null,null,null,null,null,null,null,null,null,null,null,null,null,{"$f":"IF(OR(SUMPRODUCT(--(E92905=$O$1:$O$542))>0,E92905=0),0,1)","v":0}]
[null,null,null,null,0,null,null,null,null,null,null,null,0,null,null,null,null,null,null,null,null,null,null,null,null,null,{"$f":"IF(OR(SUMPRODUCT(--(E92945=$O$1:$O$542))>0,E92945=0),0,1)","v":0}]
[null,null,null,null,0,null,null,null,null,null,null,null,0,null,null,null,null,null,null,null,null,null,null,null,null,null,{"$f":"IF(OR(SUMPRODUCT(--(E93088=$O$1:$O$542))>0,E93088=0),0,1)","v":0}]
[null,null,null,null,0,null,null,null,null,null,null,null,0,null,null,null,null,null,null,null,null,null,null,null,null,null,{"$f":"IF(OR(SUMPRODUCT(--(E93145=$O$1:$O$542))>0,E93145=0),0,1)","v":0}]
[null,null,null,null,0,null,null,null,null,null,null,null,0,null,null,null,null,null,null,null,null,null,null,null,null,null,{"$f":"IF(OR(SUMPRODUCT(--(E93310=$O$1:$O$542))>0,E93310=0),0,1)","v":0}]
[null,null,null,null,0,null,null,null,null,null,null,null,0,null,null,null,null,null,null,null,null,null,null,null,null,null,{"$f":"IF(OR(SUMPRODUCT(--(E93315=$O$1:$O$542))>0,E93315=0),0,1)","v":0}]
[null,null,null,null,0,null,null,null,null,null,null,null,0,null,null,null,null,null,null,null,null,null,null,null,null,null,{"$f":"IF(OR(SUMPRODUCT(--(E93316=$O$1:$O$542))>0,E93316=0),0,1)","v":0}]
[null,null,null,null,0,null,null,null,null,null,null,null,0,null,null,null,null,null,null,null,null,null,null,null,null,null,{"$f":"IF(OR(SUMPRODUCT(--(E93317=$O$1:$O$542))>0,E93317=0),0,1)","v":0}]
[null,null,null,null,{"$f":"IF(AND(F93318<>\"\",F93318=G93318),\"ERROR\",IF(AND(F93318<>\"\",F93318<>G93318),F93318,G93318))","v":0},null,null,null,null,null,null,null,{"$f":"IF(L93318<>\"\",L93318,K93318)","v":0},null,null,null,null,null,null,null,null,null,null,null,null,null,{"$f":"IF(OR(SUMPRODUCT(--(E93318=$O$1:$O$542))>0,E93318=0),0,1)","v":0}]
[null,null,null,null,0,null,null,null,null,null,null,null,0,null,null,null,null,null,null,null,null,null,null,null,null,null,{"$f":"IF(OR(SUMPRODUCT(--(E93319=$O$1:$O$542))>0,E93319=0),0,1)","v":0}]
[null,null,null,null,0,null,null,null,null,null,null,null,0,null,null,null,null,null,null,null,null,null,null,null,null,null,{"$f":"IF(OR(SUMPRODUCT(--(E93320=$O$1:$O$542))>0,E93320=0),0,1)","v":0}]
[null,null,null,null,0,null,null,null,null,null,null,null,0,null,null,null,null,null,null,null,null,null,null,null,null,null,{"$f":"IF(OR(SUMPRODUCT(--(E93321=$O$1:$O$542))>0,E93321=0),0,1)","v":0}]
[null,null,null,null,0,null,null,null,null,null,null,null,0,null,null,null,null,null,null,null,null,null,null,null,null,null,{"$f":"IF(OR(SUMPRODUCT(--(E93322=$O$1:$O$542))>0,E93322=0),0,1)","v":0}]
[null,null,null,null,0,null,null,null,null,null,null,null,0,null,null,null,null,null,null,null,null,null,null,null,null,null,{"$f":"IF(OR(SUMPRODUCT(--(E93323=$O$1:$O$542))>0,E93323=0),0,1)","v":0}]
[null,null,null,null,0,null,null,null,null,null,null,null,0,null,null,null,null,null,null,null,null,null,null,null,null,null,{"$f":"IF(OR(SUMPRODUCT(--(E93324=$O$1:$O$542))>0,E93324=0),0,1)","v":0}]
[null,null,null,null,0,null,null,null,null,null,null,null,0,null,null,null,null,null,null,null,null,null,null,null,null,null,{"$f":"IF(OR(SUMPRODUCT(--(E93325=$O$1:$O$542))>0,E93325=0),0,1)","v":0}]
[null,null,null,null,0,null,null,null,null,null,null,null,0,null,null,null,null,null,null,null,null,null,null,null,null,null,{"$f":"IF(OR(SUMPRODUCT(--(E93326=$O$1:$O$542))>0,E93326=0),0,1)","v":0}]
[null,null,null,null,0,null,null,null,null,null,null,null,0,null,null,null,null,null,null,null,null,null,null,null,null,null,{"$f":"IF(OR(SUMPRODUCT(--(E93327=$O$1:$O$542))>0,E93327=0),0,1)","v":0}]
[null,null,null,null,0,null,null,null,null,null,null,null,0,null,null,null,null,null,null,null,null,null,null,null,null,null,{"$f":"IF(OR(SUMPRODUCT(--(E93328=$O$1:$O$542))>0,E93328=0),0,1)","v":0}]
[null,null,null,null,0,null,null,null,null,null,null,null,0,null,null,null,null,null,null,null,null,null,null,null,null,null,{"$f":"IF(OR(SUMPRODUCT(--(E93329=$O$1:$O$542))>0,E93329=0),0,1)","v":0}]
[null,null,null,null,0,null,null,null,null,null,null,null,0,null,null,null,null,null,null,null,null,null,null,null,null,null,{"$f":"IF(OR(SUMPRODUCT(--(E93330=$O$1:$O$542))>0,E93330=0),0,1)","v":0}]
[null,null,null,null,0,null,null,null,null,null,null,null,0,null,null,null,null,null,null,null,null,null,null,null,null,null,{"$f":"IF(OR(SUMPRODUCT(--(E93331=$O$1:$O$542))>0,E93331=0),0,1)","v":0}]
[null,null,null,null,0,null,null,null,null,null,null,null,0,null,null,null,null,null,null,null,null,null,null,null,null,null,{"$f":"IF(OR(SUMPRODUCT(--(E93332=$O$1:$O$542))>0,E93332=0),0,1)","v":0}]
[null,null,null,null,0,null,null,null,null,null,null,null,0,null,null,null,null,null,null,null,null,null,null,null,null,null,{"$f":"IF(OR(SUMPRODUCT(--(E93333=$O$1:$O$542))>0,E93333=0),0,1)","v":0}]
[null,null,null,null,0,null,null,null,null,null,null,null,0,null,null,null,null,null,null,null,null,null,null,null,null,null,{"$f":"IF(OR(SUMPRODUCT(--(E93334=$O$1:$O$542))>0,E93334=0),0,1)","v":0}]
[null,null,null,null,0,null,null,null,null,null,null,null,0,null,null,null,null,null,null,null,null,null,null,null,null,null,{"$f":"IF(OR(SUMPRODUCT(--(E93335=$O$1:$O$542))>0,E93335=0),0,1)","v":0}]
[null,null,null,null,0,null,null,null,null,null,null,null,0,null,null,null,null,null,null,null,null,null,null,null,null,null,{"$f":"IF(OR(SUMPRODUCT(--(E93336=$O$1:$O$542))>0,E93336=0),0,1)","v":0}]
[null,null,null,null,0,null,null,null,null,null,null,null,0,null,null,null,null,null,null,null,null,null,null,null,null,null,{"$f":"IF(OR(SUMPRODUCT(--(E93337=$O$1:$O$542))>0,E93337=0),0,1)","v":0}]
[null,null,null,null,0,null,null,null,null,null,null,null,0,null,null,null,null,null,null,null,null,null,null,null,null,null,{"$f":"IF(OR(SUMPRODUCT(--(E93338=$O$1:$O$542))>0,E93338=0),0,1)","v":0}]
[null,null,null,null,0,null,null,null,null,null,null,null,0,null,null,null,null,null,null,null,null,null,null,null,null,null,{"$f":"IF(OR(SUMPRODUCT(--(E93339=$O$1:$O$542))>0,E93339=0),0,1)","v":0}]
[null,null,null,null,0,null,null,null,null,null,null,null,0,null,null,null,null,null,null,null,null,null,null,null,null,null,{"$f":"IF(OR(SUMPRODUCT(--(E93340=$O$1:$O$542))>0,E93340=0),0,1)","v":0}]
[null,null,null,null,0,null,null,null,null,null,null,null,0,null,null,null,null,null,null,null,null,null,null,null,null,null,{"$f":"IF(OR(SUMPRODUCT(--(E93341=$O$1:$O$542))>0,E93341=0),0,1)","v":0}]
[null,null,null,null,0,null,null,null,null,null,null,null,0,null,null,null,null,null,null,null,null,null,null,null,null,null,{"$f":"IF(OR(SUMPRODUCT(--(E93342=$O$1:$O$542))>0,E93342=0),0,1)","v":0}]
[null,null,null,null,0,null,null,null,null,null,null,null,0,null,null,null,null,null,null,null,null,null,null,null,null,null,{"$f":"IF(OR(SUMPRODUCT(--(E93343=$O$1:$O$542))>0,E93343=0),0,1)","v":0}]
[null,null,null,null,0,null,null,null,null,null,null,null,0,null,null,null,null,null,null,null,null,null,null,null,null,null,{"$f":"IF(OR(SUMPRODUCT(--(E93344=$O$1:$O$542))>0,E93344=0),0,1)","v":0}]
[null,null,null,null,0,null,null,null,null,null,null,null,0,null,null,null,null,null,null,null,null,null,null,null,null,null,{"$f":"IF(OR(SUMPRODUCT(--(E93345=$O$1:$O$542))>0,E93345=0),0,1)","v":0}]
[null,null,null,null,0,null,null,null,null,null,null,null,0,null,null,null,null,null,null,null,null,null,null,null,null,null,{"$f":"IF(OR(SUMPRODUCT(--(E93346=$O$1:$O$542))>0,E93346=0),0,1)","v":0}]
[null,null,null,null,0,null,null,null,null,null,null,null,0,null,null,null,null,null,null,null,null,null,null,null,null,null,{"$f":"IF(OR(SUMPRODUCT(--(E93347=$O$1:$O$542))>0,E93347=0),0,1)","v":0}]
[null,null,null,null,0,null,null,null,null,null,null,null,0,null,null,null,null,null,null,null,null,null,null,null,null,null,{"$f":"IF(OR(SUMPRODUCT(--(E93348=$O$1:$O$542))>0,E93348=0),0,1)","v":0}]
[null,null,null,null,0,null,null,null,null,null,null,null,0,null,null,null,null,null,null,null,null,null,null,null,null,null,{"$f":"IF(OR(SUMPRODUCT(--(E93349=$O$1:$O$542))>0,E93349=0),0,1)","v":0}]
[null,null,null,null,0,null,null,null,null,null,null,null,0,null,null,null,null,null,null,null,null,null,null,null,null,null,{"$f":"IF(OR(SUMPRODUCT(--(E93350=$O$1:$O$542))>0,E93350=0),0,1)","v":0}]
[null,null,null,null,0,null,null,null,null,null,null,null,0,null,null,null,null,null,null,null,null,null,null,null,null,null,{"$f":"IF(OR(SUMPRODUCT(--(E93351=$O$1:$O$542))>0,E93351=0),0,1)","v":0}]
[null,null,null,null,0,null,null,null,null,null,null,null,0,null,null,null,null,null,null,null,null,null,null,null,null,null,{"$f":"IF(OR(SUMPRODUCT(--(E93352=$O$1:$O$542))>0,E93352=0),0,1)","v":0}]
[null,null,null,null,0,null,null,null,null,null,null,null,0,null,null,null,null,null,null,null,null,null,null,null,null,null,{"$f":"IF(OR(SUMPRODUCT(--(E93353=$O$1:$O$542))>0,E93353=0),0,1)","v":0}]
[null,null,null,null,0,null,null,null,null,null,null,null,0,null,null,null,null,null,null,null,null,null,null,null,null,null,{"$f":"IF(OR(SUMPRODUCT(--(E93354=$O$1:$O$542))>0,E93354=0),0,1)","v":0}]
[null,null,null,null,0,null,null,null,null,null,null,null,0,null,null,null,null,null,null,null,null,null,null,null,null,null,{"$f":"IF(OR(SUMPRODUCT(--(E93355=$O$1:$O$542))>0,E93355=0),0,1)","v":0}]
[null,null,null,null,0,null,null,null,null,null,null,null,0,null,null,null,null,null,null,null,null,null,null,null,null,null,{"$f":"IF(OR(SUMPRODUCT(--(E93356=$O$1:$O$542))>0,E93356=0),0,1)","v":0}]
[null,null,null,null,0,null,null,null,null,null,null,null,0,null,null,null,null,null,null,null,null,null,null,null,null,null,{"$f":"IF(OR(SUMPRODUCT(--(E93357=$O$1:$O$542))>0,E93357=0),0,1)","v":0}]
[null,null,null,null,0,null,null,null,null,null,null,null,0,null,null,null,null,null,null,null,null,null,null,null,null,null,{"$f":"IF(OR(SUMPRODUCT(--(E93358=$O$1:$O$542))>0,E93358=0),0,1)","v":0}]
[null,null,null,null,0,null,null,null,null,null,null,null,0,null,null,null,null,null,null,null,null,null,null,null,null,null,{"$f":"IF(OR(SUMPRODUCT(--(E93359=$O$1:$O$542))>0,E93359=0),0,1)","v":0}]
[null,null,null,null,0,null,null,null,null,null,null,null,0,null,null,null,null,null,null,null,null,null,null,null,null,null,{"$f":"IF(OR(SUMPRODUCT(--(E93360=$O$1:$O$542))>0,E93360=0),0,1)","v":0}]
[null,null,null,null,0,null,null,null,null,null,null,null,0,null,null,null,null,null,null,null,null,null,null,null,null,null,{"$f":"IF(OR(SUMPRODUCT(--(E93361=$O$1:$O$542))>0,E93361=0),0,1)","v":0}]
[null,null,null,null,0,null,null,null,null,null,null,null,0,null,null,null,null,null,null,null,null,null,null,null,null,null,{"$f":"IF(OR(SUMPRODUCT(--(E93362=$O$1:$O$542))>0,E93362=0),0,1)","v":0}]
[null,null,null,null,0,null,null,null,null,null,null,null,0,null,null,null,null,null,null,null,null,null,null,null,null,null,{"$f":"IF(OR(SUMPRODUCT(--(E93363=$O$1:$O$542))>0,E93363=0),0,1)","v":0}]
[null,null,null,null,0,null,null,null,null,null,null,null,0,null,null,null,null,null,null,null,null,null,null,null,null,null,{"$f":"IF(OR(SUMPRODUCT(--(E93364=$O$1:$O$542))>0,E93364=0),0,1)","v":0}]
[null,null,null,null,0,null,null,null,null,null,null,null,0,null,null,null,null,null,null,null,null,null,null,null,null,null,{"$f":"IF(OR(SUMPRODUCT(--(E93365=$O$1:$O$542))>0,E93365=0),0,1)","v":0}]
[null,null,null,null,0,null,null,null,null,null,null,null,0,null,null,null,null,null,null,null,null,null,null,null,null,null,{"$f":"IF(OR(SUMPRODUCT(--(E93366=$O$1:$O$542))>0,E93366=0),0,1)","v":0}]
[null,null,null,null,0,null,null,null,null,null,null,null,0,null,null,null,null,null,null,null,null,null,null,null,null,null,{"$f":"IF(OR(SUMPRODUCT(--(E93367=$O$1:$O$542))>0,E93367=0),0,1)","v":0}]
[null,null,null,null,0,null,null,null,null,null,null,null,0,null,null,null,null,null,null,null,null,null,null,null,null,null,{"$f":"IF(OR(SUMPRODUCT(--(E93368=$O$1:$O$542))>0,E93368=0),0,1)","v":0}]
[null,null,null,null,0,null,null,null,null,null,null,null,0,null,null,null,null,null,null,null,null,null,null,null,null,null,{"$f":"IF(OR(SUMPRODUCT(--(E93369=$O$1:$O$542))>0,E93369=0),0,1)","v":0}]
[null,null,null,null,0,null,null,null,null,null,null,null,0,null,null,null,null,null,null,null,null,null,null,null,null,null,{"$f":"IF(OR(SUMPRODUCT(--(E93370=$O$1:$O$542))>0,E93370=0),0,1)","v":0}]
[null,null,null,null,0,null,null,null,null,null,null,null,0,null,null,null,null,null,null,null,null,null,null,null,null,null,{"$f":"IF(OR(SUMPRODUCT(--(E93371=$O$1:$O$542))>0,E93371=0),0,1)","v":0}]
[null,null,null,null,0,null,null,null,null,null,null,null,0,null,null,null,null,null,null,null,null,null,null,null,null,null,{"$f":"IF(OR(SUMPRODUCT(--(E93372=$O$1:$O$542))>0,E93372=0),0,1)","v":0}]
[null,null,null,null,0,null,null,null,null,null,null,null,0,null,null,null,null,null,null,null,null,null,null,null,null,null,{"$f":"IF(OR(SUMPRODUCT(--(E93373=$O$1:$O$542))>0,E93373=0),0,1)","v":0}]
[null,null,null,null,0,null,null,null,null,null,null,null,0,null,null,null,null,null,null,null,null,null,null,null,null,null,{"$f":"IF(OR(SUMPRODUCT(--(E93374=$O$1:$O$542))>0,E93374=0),0,1)","v":0}]
[null,null,null,null,0,null,null,null,null,null,null,null,0,null,null,null,null,null,null,null,null,null,null,null,null,null,{"$f":"IF(OR(SUMPRODUCT(--(E93375=$O$1:$O$542))>0,E93375=0),0,1)","v":0}]
[null,null,null,null,0,null,null,null,null,null,null,null,0,null,null,null,null,null,null,null,null,null,null,null,null,null,{"$f":"IF(OR(SUMPRODUCT(--(E93376=$O$1:$O$542))>0,E93376=0),0,1)","v":0}]
[null,null,null,null,0,null,null,null,null,null,null,null,0,null,null,null,null,null,null,null,null,null,null,null,null,null,{"$f":"IF(OR(SUMPRODUCT(--(E93377=$O$1:$O$542))>0,E93377=0),0,1)","v":0}]
[null,null,null,null,0,null,null,null,null,null,null,null,0,null,null,null,null,null,null,null,null,null,null,null,null,null,{"$f":"IF(OR(SUMPRODUCT(--(E93378=$O$1:$O$542))>0,E93378=0),0,1)","v":0}]
[null,null,null,null,0,null,null,null,null,null,null,null,0,null,null,null,null,null,null,null,null,null,null,null,null,null,{"$f":"IF(OR(SUMPRODUCT(--(E93379=$O$1:$O$542))>0,E93379=0),0,1)","v":0}]
[null,null,null,null,0,null,null,null,null,null,null,null,0,null,null,null,null,null,null,null,null,null,null,null,null,null,{"$f":"IF(OR(SUMPRODUCT(--(E93380=$O$1:$O$542))>0,E93380=0),0,1)","v":0}]
[null,null,null,null,0,null,null,null,null,null,null,null,0,null,null,null,null,null,null,null,null,null,null,null,null,null,{"$f":"IF(OR(SUMPRODUCT(--(E93381=$O$1:$O$542))>0,E93381=0),0,1)","v":0}]
[null,null,null,null,{"$f":"IF(AND(F93382<>\"\",F93382=G93382),\"ERROR\",IF(AND(F93382<>\"\",F93382<>G93382),F93382,G93382))","v":0},null,null,null,null,null,null,null,{"$f":"IF(L93382<>\"\",L93382,K93382)","v":0},null,null,null,null,null,null,null,null,null,null,null,null,null,{"$f":"IF(OR(SUMPRODUCT(--(E93382=$O$1:$O$542))>0,E93382=0),0,1)","v":0}]
[null,null,null,null,0,null,null,null,null,null,null,null,0,null,null,null,null,null,null,null,null,null,null,null,null,null,{"$f":"IF(OR(SUMPRODUCT(--(E93383=$O$1:$O$542))>0,E93383=0),0,1)","v":0}]
[null,null,null,null,0,null,null,null,null,null,null,null,0,null,null,null,null,null,null,null,null,null,null,null,null,null,{"$f":"IF(OR(SUMPRODUCT(--(E93384=$O$1:$O$542))>0,E93384=0),0,1)","v":0}]
[null,null,null,null,0,null,null,null,null,null,null,null,0,null,null,null,null,null,null,null,null,null,null,null,null,null,{"$f":"IF(OR(SUMPRODUCT(--(E93385=$O$1:$O$542))>0,E93385=0),0,1)","v":0}]
[null,null,null,null,0,null,null,null,null,null,null,null,0,null,null,null,null,null,null,null,null,null,null,null,null,null,{"$f":"IF(OR(SUMPRODUCT(--(E93386=$O$1:$O$542))>0,E93386=0),0,1)","v":0}]
[null,null,null,null,0,null,null,null,null,null,null,null,0,null,null,null,null,null,null,null,null,null,null,null,null,null,{"$f":"IF(OR(SUMPRODUCT(--(E93387=$O$1:$O$542))>0,E93387=0),0,1)","v":0}]
[null,null,null,null,0,null,null,null,null,null,null,null,0,null,null,null,null,null,null,null,null,null,null,null,null,null,{"$f":"IF(OR(SUMPRODUCT(--(E93388=$O$1:$O$542))>0,E93388=0),0,1)","v":0}]
[null,null,null,null,0,null,null,null,null,null,null,null,0,null,null,null,null,null,null,null,null,null,null,null,null,null,{"$f":"IF(OR(SUMPRODUCT(--(E93389=$O$1:$O$542))>0,E93389=0),0,1)","v":0}]
[null,null,null,null,0,null,null,null,null,null,null,null,0,null,null,null,null,null,null,null,null,null,null,null,null,null,{"$f":"IF(OR(SUMPRODUCT(--(E93390=$O$1:$O$542))>0,E93390=0),0,1)","v":0}]
[null,null,null,null,0,null,null,null,null,null,null,null,0,null,null,null,null,null,null,null,null,null,null,null,null,null,{"$f":"IF(OR(SUMPRODUCT(--(E93391=$O$1:$O$542))>0,E93391=0),0,1)","v":0}]
[null,null,null,null,0,null,null,null,null,null,null,null,0,null,null,null,null,null,null,null,null,null,null,null,null,null,{"$f":"IF(OR(SUMPRODUCT(--(E93392=$O$1:$O$542))>0,E93392=0),0,1)","v":0}]
[null,null,null,null,0,null,null,null,null,null,null,null,0,null,null,null,null,null,null,null,null,null,null,null,null,null,{"$f":"IF(OR(SUMPRODUCT(--(E93393=$O$1:$O$542))>0,E93393=0),0,1)","v":0}]
[null,null,null,null,0,null,null,null,null,null,null,null,0,null,null,null,null,null,null,null,null,null,null,null,null,null,{"$f":"IF(OR(SUMPRODUCT(--(E93394=$O$1:$O$542))>0,E93394=0),0,1)","v":0}]
[null,null,null,null,0,null,null,null,null,null,null,null,0,null,null,null,null,null,null,null,null,null,null,null,null,null,{"$f":"IF(OR(SUMPRODUCT(--(E93395=$O$1:$O$542))>0,E93395=0),0,1)","v":0}]
[null,null,null,null,0,null,null,null,null,null,null,null,0,null,null,null,null,null,null,null,null,null,null,null,null,null,{"$f":"IF(OR(SUMPRODUCT(--(E93396=$O$1:$O$542))>0,E93396=0),0,1)","v":0}]
[null,null,null,null,0,null,null,null,null,null,null,null,0,null,null,null,null,null,null,null,null,null,null,null,null,null,{"$f":"IF(OR(SUMPRODUCT(--(E93397=$O$1:$O$542))>0,E93397=0),0,1)","v":0}]
[null,null,null,null,0,null,null,null,null,null,null,null,0,null,null,null,null,null,null,null,null,null,null,null,null,null,{"$f":"IF(OR(SUMPRODUCT(--(E93398=$O$1:$O$542))>0,E93398=0),0,1)","v":0}]
[null,null,null,null,0,null,null,null,null,null,null,null,0,null,null,null,null,null,null,null,null,null,null,null,null,null,{"$f":"IF(OR(SUMPRODUCT(--(E93399=$O$1:$O$542))>0,E93399=0),0,1)","v":0}]
[null,null,null,null,0,null,null,null,null,null,null,null,0,null,null,null,null,null,null,null,null,null,null,null,null,null,{"$f":"IF(OR(SUMPRODUCT(--(E93400=$O$1:$O$542))>0,E93400=0),0,1)","v":0}]
[null,null,null,null,0,null,null,null,null,null,null,null,0,null,null,null,null,null,null,null,null,null,null,null,null,null,{"$f":"IF(OR(SUMPRODUCT(--(E93401=$O$1:$O$542))>0,E93401=0),0,1)","v":0}]
[null,null,null,null,0,null,null,null,null,null,null,null,0,null,null,null,null,null,null,null,null,null,null,null,null,null,{"$f":"IF(OR(SUMPRODUCT(--(E93402=$O$1:$O$542))>0,E93402=0),0,1)","v":0}]
[null,null,null,null,0,null,null,null,null,null,null,null,0,null,null,null,null,null,null,null,null,null,null,null,null,null,{"$f":"IF(OR(SUMPRODUCT(--(E93403=$O$1:$O$542))>0,E93403=0),0,1)","v":0}]
[null,null,null,null,0,null,null,null,null,null,null,null,0,null,null,null,null,null,null,null,null,null,null,null,null,null,{"$f":"IF(OR(SUMPRODUCT(--(E93404=$O$1:$O$542))>0,E93404=0),0,1)","v":0}]
[null,null,null,null,0,null,null,null,null,null,null,null,0,null,null,null,null,null,null,null,null,null,null,null,null,null,{"$f":"IF(OR(SUMPRODUCT(--(E93405=$O$1:$O$542))>0,E93405=0),0,1)","v":0}]
[null,null,null,null,0,null,null,null,null,null,null,null,0,null,null,null,null,null,null,null,null,null,null,null,null,null,{"$f":"IF(OR(SUMPRODUCT(--(E93406=$O$1:$O$542))>0,E93406=0),0,1)","v":0}]
[null,null,null,null,0,null,null,null,null,null,null,null,0,null,null,null,null,null,null,null,null,null,null,null,null,null,{"$f":"IF(OR(SUMPRODUCT(--(E93407=$O$1:$O$542))>0,E93407=0),0,1)","v":0}]
[null,null,null,null,0,null,null,null,null,null,null,null,0,null,null,null,null,null,null,null,null,null,null,null,null,null,{"$f":"IF(OR(SUMPRODUCT(--(E93408=$O$1:$O$542))>0,E93408=0),0,1)","v":0}]
[null,null,null,null,0,null,null,null,null,null,null,null,0,null,null,null,null,null,null,null,null,null,null,null,null,null,{"$f":"IF(OR(SUMPRODUCT(--(E93409=$O$1:$O$542))>0,E93409=0),0,1)","v":0}]
[null,null,null,null,0,null,null,null,null,null,null,null,0,null,null,null,null,null,null,null,null,null,null,null,null,null,{"$f":"IF(OR(SUMPRODUCT(--(E93410=$O$1:$O$542))>0,E93410=0),0,1)","v":0}]
[null,null,null,null,0,null,null,null,null,null,null,null,0,null,null,null,null,null,null,null,null,null,null,null,null,null,{"$f":"IF(OR(SUMPRODUCT(--(E93411=$O$1:$O$542))>0,E93411=0),0,1)","v":0}]
[null,null,null,null,0,null,null,null,null,null,null,null,0,null,null,null,null,null,null,null,null,null,null,null,null,null,{"$f":"IF(OR(SUMPRODUCT(--(E93412=$O$1:$O$542))>0,E93412=0),0,1)","v":0}]
[null,null,null,null,0,null,null,null,null,null,null,null,0,null,null,null,null,null,null,null,null,null,null,null,null,null,{"$f":"IF(OR(SUMPRODUCT(--(E93413=$O$1:$O$542))>0,E93413=0),0,1)","v":0}]
[null,null,null,null,0,null,null,null,null,null,null,null,0,null,null,null,null,null,null,null,null,null,null,null,null,null,{"$f":"IF(OR(SUMPRODUCT(--(E93414=$O$1:$O$542))>0,E93414=0),0,1)","v":0}]
[null,null,null,null,0,null,null,null,null,null,null,null,0,null,null,null,null,null,null,null,null,null,null,null,null,null,{"$f":"IF(OR(SUMPRODUCT(--(E93415=$O$1:$O$542))>0,E93415=0),0,1)","v":0}]
[null,null,null,null,0,null,null,null,null,null,null,null,0,null,null,null,null,null,null,null,null,null,null,null,null,null,{"$f":"IF(OR(SUMPRODUCT(--(E93416=$O$1:$O$542))>0,E93416=0),0,1)","v":0}]
[null,null,null,null,0,null,null,null,null,null,null,null,0,null,null,null,null,null,null,null,null,null,null,null,null,null,{"$f":"IF(OR(SUMPRODUCT(--(E93417=$O$1:$O$542))>0,E93417=0),0,1)","v":0}]
[null,null,null,null,0,null,null,null,null,null,null,null,0,null,null,null,null,null,null,null,null,null,null,null,null,null,{"$f":"IF(OR(SUMPRODUCT(--(E93418=$O$1:$O$542))>0,E93418=0),0,1)","v":0}]
[null,null,null,null,0,null,null,null,null,null,null,null,0,null,null,null,null,null,null,null,null,null,null,null,null,null,{"$f":"IF(OR(SUMPRODUCT(--(E93419=$O$1:$O$542))>0,E93419=0),0,1)","v":0}]
[null,null,null,null,0,null,null,null,null,null,null,null,0,null,null,null,null,null,null,null,null,null,null,null,null,null,{"$f":"IF(OR(SUMPRODUCT(--(E93420=$O$1:$O$542))>0,E93420=0),0,1)","v":0}]
[null,null,null,null,0,null,null,null,null,null,null,null,0,null,null,null,null,null,null,null,null,null,null,null,null,null,{"$f":"IF(OR(SUMPRODUCT(--(E93421=$O$1:$O$542))>0,E93421=0),0,1)","v":0}]
[null,null,null,null,0,null,null,null,null,null,null,null,0,null,null,null,null,null,null,null,null,null,null,null,null,null,{"$f":"IF(OR(SUMPRODUCT(--(E93422=$O$1:$O$542))>0,E93422=0),0,1)","v":0}]
[null,null,null,null,0,null,null,null,null,null,null,null,0,null,null,null,null,null,null,null,null,null,null,null,null,null,{"$f":"IF(OR(SUMPRODUCT(--(E93423=$O$1:$O$542))>0,E93423=0),0,1)","v":0}]
[null,null,null,null,0,null,null,null,null,null,null,null,0,null,null,null,null,null,null,null,null,null,null,null,null,null,{"$f":"IF(OR(SUMPRODUCT(--(E93424=$O$1:$O$542))>0,E93424=0),0,1)","v":0}]
[null,null,null,null,0,null,null,null,null,null,null,null,0,null,null,null,null,null,null,null,null,null,null,null,null,null,{"$f":"IF(OR(SUMPRODUCT(--(E93425=$O$1:$O$542))>0,E93425=0),0,1)","v":0}]
[null,null,null,null,0,null,null,null,null,null,null,null,0,null,null,null,null,null,null,null,null,null,null,null,null,null,{"$f":"IF(OR(SUMPRODUCT(--(E93426=$O$1:$O$542))>0,E93426=0),0,1)","v":0}]
[null,null,null,null,0,null,null,null,null,null,null,null,0,null,null,null,null,null,null,null,null,null,null,null,null,null,{"$f":"IF(OR(SUMPRODUCT(--(E93427=$O$1:$O$542))>0,E93427=0),0,1)","v":0}]
[null,null,null,null,0,null,null,null,null,null,null,null,0,null,null,null,null,null,null,null,null,null,null,null,null,null,{"$f":"IF(OR(SUMPRODUCT(--(E93428=$O$1:$O$542))>0,E93428=0),0,1)","v":0}]
[null,null,null,null,0,null,null,null,null,null,null,null,0,null,null,null,null,null,null,null,null,null,null,null,null,null,{"$f":"IF(OR(SUMPRODUCT(--(E93429=$O$1:$O$542))>0,E93429=0),0,1)","v":0}]
[null,null,null,null,0,null,null,null,null,null,null,null,0,null,null,null,null,null,null,null,null,null,null,null,null,null,{"$f":"IF(OR(SUMPRODUCT(--(E93430=$O$1:$O$542))>0,E93430=0),0,1)","v":0}]
[null,null,null,null,0,null,null,null,null,null,null,null,0,null,null,null,null,null,null,null,null,null,null,null,null,null,{"$f":"IF(OR(SUMPRODUCT(--(E93431=$O$1:$O$542))>0,E93431=0),0,1)","v":0}]
[null,null,null,null,0,null,null,null,null,null,null,null,0,null,null,null,null,null,null,null,null,null,null,null,null,null,{"$f":"IF(OR(SUMPRODUCT(--(E93432=$O$1:$O$542))>0,E93432=0),0,1)","v":0}]
[null,null,null,null,0,null,null,null,null,null,null,null,0,null,null,null,null,null,null,null,null,null,null,null,null,null,{"$f":"IF(OR(SUMPRODUCT(--(E93433=$O$1:$O$542))>0,E93433=0),0,1)","v":0}]
[null,null,null,null,0,null,null,null,null,null,null,null,0,null,null,null,null,null,null,null,null,null,null,null,null,null,{"$f":"IF(OR(SUMPRODUCT(--(E93434=$O$1:$O$542))>0,E93434=0),0,1)","v":0}]
[null,null,null,null,0,null,null,null,null,null,null,null,0,null,null,null,null,null,null,null,null,null,null,null,null,null,{"$f":"IF(OR(SUMPRODUCT(--(E93435=$O$1:$O$542))>0,E93435=0),0,1)","v":0}]
[null,null,null,null,0,null,null,null,null,null,null,null,0,null,null,null,null,null,null,null,null,null,null,null,null,null,{"$f":"IF(OR(SUMPRODUCT(--(E93436=$O$1:$O$542))>0,E93436=0),0,1)","v":0}]
[null,null,null,null,0,null,null,null,null,null,null,null,0,null,null,null,null,null,null,null,null,null,null,null,null,null,{"$f":"IF(OR(SUMPRODUCT(--(E93437=$O$1:$O$542))>0,E93437=0),0,1)","v":0}]
[null,null,null,null,0,null,null,null,null,null,null,null,0,null,null,null,null,null,null,null,null,null,null,null,null,null,{"$f":"IF(OR(SUMPRODUCT(--(E93438=$O$1:$O$542))>0,E93438=0),0,1)","v":0}]
[null,null,null,null,0,null,null,null,null,null,null,null,0,null,null,null,null,null,null,null,null,null,null,null,null,null,{"$f":"IF(OR(SUMPRODUCT(--(E93439=$O$1:$O$542))>0,E93439=0),0,1)","v":0}]
[null,null,null,null,0,null,null,null,null,null,null,null,0,null,null,null,null,null,null,null,null,null,null,null,null,null,{"$f":"IF(OR(SUMPRODUCT(--(E93440=$O$1:$O$542))>0,E93440=0),0,1)","v":0}]
[null,null,null,null,0,null,null,null,null,null,null,null,0,null,null,null,null,null,null,null,null,null,null,null,null,null,{"$f":"IF(OR(SUMPRODUCT(--(E93441=$O$1:$O$542))>0,E93441=0),0,1)","v":0}]
[null,null,null,null,0,null,null,null,null,null,null,null,0,null,null,null,null,null,null,null,null,null,null,null,null,null,{"$f":"IF(OR(SUMPRODUCT(--(E93442=$O$1:$O$542))>0,E93442=0),0,1)","v":0}]
[null,null,null,null,0,null,null,null,null,null,null,null,0,null,null,null,null,null,null,null,null,null,null,null,null,null,{"$f":"IF(OR(SUMPRODUCT(--(E93443=$O$1:$O$542))>0,E93443=0),0,1)","v":0}]
[null,null,null,null,0,null,null,null,null,null,null,null,0,null,null,null,null,null,null,null,null,null,null,null,null,null,{"$f":"IF(OR(SUMPRODUCT(--(E93444=$O$1:$O$542))>0,E93444=0),0,1)","v":0}]
[null,null,null,null,0,null,null,null,null,null,null,null,0,null,null,null,null,null,null,null,null,null,null,null,null,null,{"$f":"IF(OR(SUMPRODUCT(--(E93445=$O$1:$O$542))>0,E93445=0),0,1)","v":0}]
[null,null,null,null,{"$f":"IF(AND(F93446<>\"\",F93446=G93446),\"ERROR\",IF(AND(F93446<>\"\",F93446<>G93446),F93446,G93446))","v":0},null,null,null,null,null,null,null,{"$f":"IF(L93446<>\"\",L93446,K93446)","v":0},null,null,null,null,null,null,null,null,null,null,null,null,null,{"$f":"IF(OR(SUMPRODUCT(--(E93446=$O$1:$O$542))>0,E93446=0),0,1)","v":0}]
[null,null,null,null,0,null,null,null,null,null,null,null,0,null,null,null,null,null,null,null,null,null,null,null,null,null,{"$f":"IF(OR(SUMPRODUCT(--(E93447=$O$1:$O$542))>0,E93447=0),0,1)","v":0}]
[null,null,null,null,0,null,null,null,null,null,null,null,0,null,null,null,null,null,null,null,null,null,null,null,null,null,{"$f":"IF(OR(SUMPRODUCT(--(E93448=$O$1:$O$542))>0,E93448=0),0,1)","v":0}]
[null,null,null,null,0,null,null,null,null,null,null,null,0,null,null,null,null,null,null,null,null,null,null,null,null,null,{"$f":"IF(OR(SUMPRODUCT(--(E93449=$O$1:$O$542))>0,E93449=0),0,1)","v":0}]
[null,null,null,null,0,null,null,null,null,null,null,null,0,null,null,null,null,null,null,null,null,null,null,null,null,null,{"$f":"IF(OR(SUMPRODUCT(--(E93450=$O$1:$O$542))>0,E93450=0),0,1)","v":0}]
[null,null,null,null,0,null,null,null,null,null,null,null,0,null,null,null,null,null,null,null,null,null,null,null,null,null,{"$f":"IF(OR(SUMPRODUCT(--(E93451=$O$1:$O$542))>0,E93451=0),0,1)","v":0}]
[null,null,null,null,0,null,null,null,null,null,null,null,0,null,null,null,null,null,null,null,null,null,null,null,null,null,{"$f":"IF(OR(SUMPRODUCT(--(E93452=$O$1:$O$542))>0,E93452=0),0,1)","v":0}]
[null,null,null,null,0,null,null,null,null,null,null,null,0,null,null,null,null,null,null,null,null,null,null,null,null,null,{"$f":"IF(OR(SUMPRODUCT(--(E93453=$O$1:$O$542))>0,E93453=0),0,1)","v":0}]
[null,null,null,null,0,null,null,null,null,null,null,null,0,null,null,null,null,null,null,null,null,null,null,null,null,null,{"$f":"IF(OR(SUMPRODUCT(--(E93454=$O$1:$O$542))>0,E93454=0),0,1)","v":0}]
[null,null,null,null,0,null,null,null,null,null,null,null,0,null,null,null,null,null,null,null,null,null,null,null,null,null,{"$f":"IF(OR(SUMPRODUCT(--(E93455=$O$1:$O$542))>0,E93455=0),0,1)","v":0}]
[null,null,null,null,0,null,null,null,null,null,null,null,0,null,null,null,null,null,null,null,null,null,null,null,null,null,{"$f":"IF(OR(SUMPRODUCT(--(E93456=$O$1:$O$542))>0,E93456=0),0,1)","v":0}]
[null,null,null,null,0,null,null,null,null,null,null,null,0,null,null,null,null,null,null,null,null,null,null,null,null,null,{"$f":"IF(OR(SUMPRODUCT(--(E93457=$O$1:$O$542))>0,E93457=0),0,1)","v":0}]
[null,null,null,null,0,null,null,null,null,null,null,null,0,null,null,null,null,null,null,null,null,null,null,null,null,null,{"$f":"IF(OR(SUMPRODUCT(--(E93458=$O$1:$O$542))>0,E93458=0),0,1)","v":0}]
[null,null,null,null,0,null,null,null,null,null,null,null,0,null,null,null,null,null,null,null,null,null,null,null,null,null,{"$f":"IF(OR(SUMPRODUCT(--(E93459=$O$1:$O$542))>0,E93459=0),0,1)","v":0}]
[null,null,null,null,0,null,null,null,null,null,null,null,0,null,null,null,null,null,null,null,null,null,null,null,null,null,{"$f":"IF(OR(SUMPRODUCT(--(E93460=$O$1:$O$542))>0,E93460=0),0,1)","v":0}]
[null,null,null,null,0,null,null,null,null,null,null,null,0,null,null,null,null,null,null,null,null,null,null,null,null,null,{"$f":"IF(OR(SUMPRODUCT(--(E93461=$O$1:$O$542))>0,E93461=0),0,1)","v":0}]
[null,null,null,null,0,null,null,null,null,null,null,null,0,null,null,null,null,null,null,null,null,null,null,null,null,null,{"$f":"IF(OR(SUMPRODUCT(--(E93462=$O$1:$O$542))>0,E93462=0),0,1)","v":0}]
[null,null,null,null,0,null,null,null,null,null,null,null,0,null,null,null,null,null,null,null,null,null,null,null,null,null,{"$f":"IF(OR(SUMPRODUCT(--(E93463=$O$1:$O$542))>0,E93463=0),0,1)","v":0}]
[null,null,null,null,0,null,null,null,null,null,null,null,0,null,null,null,null,null,null,null,null,null,null,null,null,null,{"$f":"IF(OR(SUMPRODUCT(--(E93464=$O$1:$O$542))>0,E93464=0),0,1)","v":0}]
[null,null,null,null,0,null,null,null,null,null,null,null,0,null,null,null,null,null,null,null,null,null,null,null,null,null,{"$f":"IF(OR(SUMPRODUCT(--(E93465=$O$1:$O$542))>0,E93465=0),0,1)","v":0}]
[null,null,null,null,0,null,null,null,null,null,null,null,0,null,null,null,null,null,null,null,null,null,null,null,null,null,{"$f":"IF(OR(SUMPRODUCT(--(E93466=$O$1:$O$542))>0,E93466=0),0,1)","v":0}]
[null,null,null,null,0,null,null,null,null,null,null,null,0,null,null,null,null,null,null,null,null,null,null,null,null,null,{"$f":"IF(OR(SUMPRODUCT(--(E93467=$O$1:$O$542))>0,E93467=0),0,1)","v":0}]
[null,null,null,null,0,null,null,null,null,null,null,null,0,null,null,null,null,null,null,null,null,null,null,null,null,null,{"$f":"IF(OR(SUMPRODUCT(--(E93468=$O$1:$O$542))>0,E93468=0),0,1)","v":0}]
[null,null,null,null,0,null,null,null,null,null,null,null,0,null,null,null,null,null,null,null,null,null,null,null,null,null,{"$f":"IF(OR(SUMPRODUCT(--(E93469=$O$1:$O$542))>0,E93469=0),0,1)","v":0}]
[null,null,null,null,0,null,null,null,null,null,null,null,0,null,null,null,null,null,null,null,null,null,null,null,null,null,{"$f":"IF(OR(SUMPRODUCT(--(E93470=$O$1:$O$542))>0,E93470=0),0,1)","v":0}]
[null,null,null,null,0,null,null,null,null,null,null,null,0,null,null,null,null,null,null,null,null,null,null,null,null,null,{"$f":"IF(OR(SUMPRODUCT(--(E93471=$O$1:$O$542))>0,E93471=0),0,1)","v":0}]
[null,null,null,null,0,null,null,null,null,null,null,null,0,null,null,null,null,null,null,null,null,null,null,null,null,null,{"$f":"IF(OR(SUMPRODUCT(--(E93472=$O$1:$O$542))>0,E93472=0),0,1)","v":0}]
[null,null,null,null,0,null,null,null,null,null,null,null,0,null,null,null,null,null,null,null,null,null,null,null,null,null,{"$f":"IF(OR(SUMPRODUCT(--(E93473=$O$1:$O$542))>0,E93473=0),0,1)","v":0}]
[null,null,null,null,0,null,null,null,null,null,null,null,0,null,null,null,null,null,null,null,null,null,null,null,null,null,{"$f":"IF(OR(SUMPRODUCT(--(E93474=$O$1:$O$542))>0,E93474=0),0,1)","v":0}]
[null,null,null,null,0,null,null,null,null,null,null,null,0,null,null,null,null,null,null,null,null,null,null,null,null,null,{"$f":"IF(OR(SUMPRODUCT(--(E93475=$O$1:$O$542))>0,E93475=0),0,1)","v":0}]
[null,null,null,null,0,null,null,null,null,null,null,null,0,null,null,null,null,null,null,null,null,null,null,null,null,null,{"$f":"IF(OR(SUMPRODUCT(--(E93476=$O$1:$O$542))>0,E93476=0),0,1)","v":0}]
[null,null,null,null,0,null,null,null,null,null,null,null,0,null,null,null,null,null,null,null,null,null,null,null,null,null,{"$f":"IF(OR(SUMPRODUCT(--(E93477=$O$1:$O$542))>0,E93477=0),0,1)","v":0}]
[null,null,null,null,0,null,null,null,null,null,null,null,0,null,null,null,null,null,null,null,null,null,null,null,null,null,{"$f":"IF(OR(SUMPRODUCT(--(E93478=$O$1:$O$542))>0,E93478=0),0,1)","v":0}]
[null,null,null,null,0,null,null,null,null,null,null,null,0,null,null,null,null,null,null,null,null,null,null,null,null,null,{"$f":"IF(OR(SUMPRODUCT(--(E93479=$O$1:$O$542))>0,E93479=0),0,1)","v":0}]
[null,null,null,null,0,null,null,null,null,null,null,null,0,null,null,null,null,null,null,null,null,null,null,null,null,null,{"$f":"IF(OR(SUMPRODUCT(--(E93480=$O$1:$O$542))>0,E93480=0),0,1)","v":0}]
[null,null,null,null,0,null,null,null,null,null,null,null,0,null,null,null,null,null,null,null,null,null,null,null,null,null,{"$f":"IF(OR(SUMPRODUCT(--(E93481=$O$1:$O$542))>0,E93481=0),0,1)","v":0}]
[null,null,null,null,0,null,null,null,null,null,null,null,0,null,null,null,null,null,null,null,null,null,null,null,null,null,{"$f":"IF(OR(SUMPRODUCT(--(E93482=$O$1:$O$542))>0,E93482=0),0,1)","v":0}]
[null,null,null,null,0,null,null,null,null,null,null,null,0,null,null,null,null,null,null,null,null,null,null,null,null,null,{"$f":"IF(OR(SUMPRODUCT(--(E93483=$O$1:$O$542))>0,E93483=0),0,1)","v":0}]
[null,null,null,null,0,null,null,null,null,null,null,null,0,null,null,null,null,null,null,null,null,null,null,null,null,null,{"$f":"IF(OR(SUMPRODUCT(--(E93484=$O$1:$O$542))>0,E93484=0),0,1)","v":0}]
[null,null,null,null,0,null,null,null,null,null,null,null,0,null,null,null,null,null,null,null,null,null,null,null,null,null,{"$f":"IF(OR(SUMPRODUCT(--(E93485=$O$1:$O$542))>0,E93485=0),0,1)","v":0}]
[null,null,null,null,0,null,null,null,null,null,null,null,0,null,null,null,null,null,null,null,null,null,null,null,null,null,{"$f":"IF(OR(SUMPRODUCT(--(E93486=$O$1:$O$542))>0,E93486=0),0,1)","v":0}]
[null,null,null,null,0,null,null,null,null,null,null,null,0,null,null,null,null,null,null,null,null,null,null,null,null,null,{"$f":"IF(OR(SUMPRODUCT(--(E93487=$O$1:$O$542))>0,E93487=0),0,1)","v":0}]
[null,null,null,null,0,null,null,null,null,null,null,null,0,null,null,null,null,null,null,null,null,null,null,null,null,null,{"$f":"IF(OR(SUMPRODUCT(--(E93488=$O$1:$O$542))>0,E93488=0),0,1)","v":0}]
[null,null,null,null,0,null,null,null,null,null,null,null,0,null,null,null,null,null,null,null,null,null,null,null,null,null,{"$f":"IF(OR(SUMPRODUCT(--(E93489=$O$1:$O$542))>0,E93489=0),0,1)","v":0}]
[null,null,null,null,0,null,null,null,null,null,null,null,0,null,null,null,null,null,null,null,null,null,null,null,null,null,{"$f":"IF(OR(SUMPRODUCT(--(E93490=$O$1:$O$542))>0,E93490=0),0,1)","v":0}]
[null,null,null,null,0,null,null,null,null,null,null,null,0,null,null,null,null,null,null,null,null,null,null,null,null,null,{"$f":"IF(OR(SUMPRODUCT(--(E93491=$O$1:$O$542))>0,E93491=0),0,1)","v":0}]
[null,null,null,null,0,null,null,null,null,null,null,null,0,null,null,null,null,null,null,null,null,null,null,null,null,null,{"$f":"IF(OR(SUMPRODUCT(--(E93492=$O$1:$O$542))>0,E93492=0),0,1)","v":0}]
[null,null,null,null,0,null,null,null,null,null,null,null,0,null,null,null,null,null,null,null,null,null,null,null,null,null,{"$f":"IF(OR(SUMPRODUCT(--(E93493=$O$1:$O$542))>0,E93493=0),0,1)","v":0}]
[null,null,null,null,0,null,null,null,null,null,null,null,0,null,null,null,null,null,null,null,null,null,null,null,null,null,{"$f":"IF(OR(SUMPRODUCT(--(E93494=$O$1:$O$542))>0,E93494=0),0,1)","v":0}]
[null,null,null,null,0,null,null,null,null,null,null,null,0,null,null,null,null,null,null,null,null,null,null,null,null,null,{"$f":"IF(OR(SUMPRODUCT(--(E93495=$O$1:$O$542))>0,E93495=0),0,1)","v":0}]
[null,null,null,null,0,null,null,null,null,null,null,null,0,null,null,null,null,null,null,null,null,null,null,null,null,null,{"$f":"IF(OR(SUMPRODUCT(--(E93496=$O$1:$O$542))>0,E93496=0),0,1)","v":0}]
[null,null,null,null,0,null,null,null,null,null,null,null,0,null,null,null,null,null,null,null,null,null,null,null,null,null,{"$f":"IF(OR(SUMPRODUCT(--(E93497=$O$1:$O$542))>0,E93497=0),0,1)","v":0}]
[null,null,null,null,0,null,null,null,null,null,null,null,0,null,null,null,null,null,null,null,null,null,null,null,null,null,{"$f":"IF(OR(SUMPRODUCT(--(E93498=$O$1:$O$542))>0,E93498=0),0,1)","v":0}]
[null,null,null,null,0,null,null,null,null,null,null,null,0,null,null,null,null,null,null,null,null,null,null,null,null,null,{"$f":"IF(OR(SUMPRODUCT(--(E93499=$O$1:$O$542))>0,E93499=0),0,1)","v":0}]
[null,null,null,null,0,null,null,null,null,null,null,null,0,null,null,null,null,null,null,null,null,null,null,null,null,null,{"$f":"IF(OR(SUMPRODUCT(--(E93500=$O$1:$O$542))>0,E93500=0),0,1)","v":0}]
[null,null,null,null,0,null,null,null,null,null,null,null,0,null,null,null,null,null,null,null,null,null,null,null,null,null,{"$f":"IF(OR(SUMPRODUCT(--(E93501=$O$1:$O$542))>0,E93501=0),0,1)","v":0}]
[null,null,null,null,0,null,null,null,null,null,null,null,0,null,null,null,null,null,null,null,null,null,null,null,null,null,{"$f":"IF(OR(SUMPRODUCT(--(E93502=$O$1:$O$542))>0,E93502=0),0,1)","v":0}]
[null,null,null,null,0,null,null,null,null,null,null,null,0,null,null,null,null,null,null,null,null,null,null,null,null,null,{"$f":"IF(OR(SUMPRODUCT(--(E93503=$O$1:$O$542))>0,E93503=0),0,1)","v":0}]
[null,null,null,null,0,null,null,null,null,null,null,null,0,null,null,null,null,null,null,null,null,null,null,null,null,null,{"$f":"IF(OR(SUMPRODUCT(--(E93504=$O$1:$O$542))>0,E93504=0),0,1)","v":0}]
[null,null,null,null,0,null,null,null,null,null,null,null,0,null,null,null,null,null,null,null,null,null,null,null,null,null,{"$f":"IF(OR(SUMPRODUCT(--(E93505=$O$1:$O$542))>0,E93505=0),0,1)","v":0}]
[null,null,null,null,0,null,null,null,null,null,null,null,0,null,null,null,null,null,null,null,null,null,null,null,null,null,{"$f":"IF(OR(SUMPRODUCT(--(E93506=$O$1:$O$542))>0,E93506=0),0,1)","v":0}]
[null,null,null,null,0,null,null,null,null,null,null,null,0,null,null,null,null,null,null,null,null,null,null,null,null,null,{"$f":"IF(OR(SUMPRODUCT(--(E93507=$O$1:$O$542))>0,E93507=0),0,1)","v":0}]
[null,null,null,null,0,null,null,null,null,null,null,null,0,null,null,null,null,null,null,null,null,null,null,null,null,null,{"$f":"IF(OR(SUMPRODUCT(--(E93508=$O$1:$O$542))>0,E93508=0),0,1)","v":0}]
[null,null,null,null,0,null,null,null,null,null,null,null,0,null,null,null,null,null,null,null,null,null,null,null,null,null,{"$f":"IF(OR(SUMPRODUCT(--(E93509=$O$1:$O$542))>0,E93509=0),0,1)","v":0}]
[null,null,null,null,{"$f":"IF(AND(F93510<>\"\",F93510=G93510),\"ERROR\",IF(AND(F93510<>\"\",F93510<>G93510),F93510,G93510))","v":0},null,null,null,null,null,null,null,{"$f":"IF(L93510<>\"\",L93510,K93510)","v":0},null,null,null,null,null,null,null,null,null,null,null,null,null,{"$f":"IF(OR(SUMPRODUCT(--(E93510=$O$1:$O$542))>0,E93510=0),0,1)","v":0}]
[null,null,null,null,0,null,null,null,null,null,null,null,0,null,null,null,null,null,null,null,null,null,null,null,null,null,{"$f":"IF(OR(SUMPRODUCT(--(E93511=$O$1:$O$542))>0,E93511=0),0,1)","v":0}]
[null,null,null,null,0,null,null,null,null,null,null,null,0,null,null,null,null,null,null,null,null,null,null,null,null,null,{"$f":"IF(OR(SUMPRODUCT(--(E93512=$O$1:$O$542))>0,E93512=0),0,1)","v":0}]
[null,null,null,null,0,null,null,null,null,null,null,null,0,null,null,null,null,null,null,null,null,null,null,null,null,null,{"$f":"IF(OR(SUMPRODUCT(--(E93513=$O$1:$O$542))>0,E93513=0),0,1)","v":0}]
[null,null,null,null,0,null,null,null,null,null,null,null,0,null,null,null,null,null,null,null,null,null,null,null,null,null,{"$f":"IF(OR(SUMPRODUCT(--(E93514=$O$1:$O$542))>0,E93514=0),0,1)","v":0}]
[null,null,null,null,0,null,null,null,null,null,null,null,0,null,null,null,null,null,null,null,null,null,null,null,null,null,{"$f":"IF(OR(SUMPRODUCT(--(E93515=$O$1:$O$542))>0,E93515=0),0,1)","v":0}]
[null,null,null,null,0,null,null,null,null,null,null,null,0,null,null,null,null,null,null,null,null,null,null,null,null,null,{"$f":"IF(OR(SUMPRODUCT(--(E93516=$O$1:$O$542))>0,E93516=0),0,1)","v":0}]
[null,null,null,null,0,null,null,null,null,null,null,null,0,null,null,null,null,null,null,null,null,null,null,null,null,null,{"$f":"IF(OR(SUMPRODUCT(--(E93517=$O$1:$O$542))>0,E93517=0),0,1)","v":0}]
[null,null,null,null,0,null,null,null,null,null,null,null,0,null,null,null,null,null,null,null,null,null,null,null,null,null,{"$f":"IF(OR(SUMPRODUCT(--(E93518=$O$1:$O$542))>0,E93518=0),0,1)","v":0}]
[null,null,null,null,0,null,null,null,null,null,null,null,0,null,null,null,null,null,null,null,null,null,null,null,null,null,{"$f":"IF(OR(SUMPRODUCT(--(E93519=$O$1:$O$542))>0,E93519=0),0,1)","v":0}]
[null,null,null,null,0,null,null,null,null,null,null,null,0,null,null,null,null,null,null,null,null,null,null,null,null,null,{"$f":"IF(OR(SUMPRODUCT(--(E93520=$O$1:$O$542))>0,E93520=0),0,1)","v":0}]
[null,null,null,null,0,null,null,null,null,null,null,null,0,null,null,null,null,null,null,null,null,null,null,null,null,null,{"$f":"IF(OR(SUMPRODUCT(--(E93521=$O$1:$O$542))>0,E93521=0),0,1)","v":0}]
[null,null,null,null,0,null,null,null,null,null,null,null,0,null,null,null,null,null,null,null,null,null,null,null,null,null,{"$f":"IF(OR(SUMPRODUCT(--(E93522=$O$1:$O$542))>0,E93522=0),0,1)","v":0}]
[null,null,null,null,0,null,null,null,null,null,null,null,0,null,null,null,null,null,null,null,null,null,null,null,null,null,{"$f":"IF(OR(SUMPRODUCT(--(E93523=$O$1:$O$542))>0,E93523=0),0,1)","v":0}]
[null,null,null,null,0,null,null,null,null,null,null,null,0,null,null,null,null,null,null,null,null,null,null,null,null,null,{"$f":"IF(OR(SUMPRODUCT(--(E93524=$O$1:$O$542))>0,E93524=0),0,1)","v":0}]
[null,null,null,null,0,null,null,null,null,null,null,null,0,null,null,null,null,null,null,null,null,null,null,null,null,null,{"$f":"IF(OR(SUMPRODUCT(--(E93525=$O$1:$O$542))>0,E93525=0),0,1)","v":0}]
[null,null,null,null,0,null,null,null,null,null,null,null,0,null,null,null,null,null,null,null,null,null,null,null,null,null,{"$f":"IF(OR(SUMPRODUCT(--(E93526=$O$1:$O$542))>0,E93526=0),0,1)","v":0}]
[null,null,null,null,0,null,null,null,null,null,null,null,0,null,null,null,null,null,null,null,null,null,null,null,null,null,{"$f":"IF(OR(SUMPRODUCT(--(E93527=$O$1:$O$542))>0,E93527=0),0,1)","v":0}]
[null,null,null,null,0,null,null,null,null,null,null,null,0,null,null,null,null,null,null,null,null,null,null,null,null,null,{"$f":"IF(OR(SUMPRODUCT(--(E93528=$O$1:$O$542))>0,E93528=0),0,1)","v":0}]
[null,null,null,null,0,null,null,null,null,null,null,null,0,null,null,null,null,null,null,null,null,null,null,null,null,null,{"$f":"IF(OR(SUMPRODUCT(--(E93529=$O$1:$O$542))>0,E93529=0),0,1)","v":0}]
[null,null,null,null,0,null,null,null,null,null,null,null,0,null,null,null,null,null,null,null,null,null,null,null,null,null,{"$f":"IF(OR(SUMPRODUCT(--(E93530=$O$1:$O$542))>0,E93530=0),0,1)","v":0}]
[null,null,null,null,0,null,null,null,null,null,null,null,0,null,null,null,null,null,null,null,null,null,null,null,null,null,{"$f":"IF(OR(SUMPRODUCT(--(E93531=$O$1:$O$542))>0,E93531=0),0,1)","v":0}]
[null,null,null,null,0,null,null,null,null,null,null,null,0,null,null,null,null,null,null,null,null,null,null,null,null,null,{"$f":"IF(OR(SUMPRODUCT(--(E93532=$O$1:$O$542))>0,E93532=0),0,1)","v":0}]
[null,null,null,null,0,null,null,null,null,null,null,null,0,null,null,null,null,null,null,null,null,null,null,null,null,null,{"$f":"IF(OR(SUMPRODUCT(--(E93533=$O$1:$O$542))>0,E93533=0),0,1)","v":0}]
[null,null,null,null,0,null,null,null,null,null,null,null,0,null,null,null,null,null,null,null,null,null,null,null,null,null,{"$f":"IF(OR(SUMPRODUCT(--(E93534=$O$1:$O$542))>0,E93534=0),0,1)","v":0}]
[null,null,null,null,0,null,null,null,null,null,null,null,0,null,null,null,null,null,null,null,null,null,null,null,null,null,{"$f":"IF(OR(SUMPRODUCT(--(E93535=$O$1:$O$542))>0,E93535=0),0,1)","v":0}]
[null,null,null,null,0,null,null,null,null,null,null,null,0,null,null,null,null,null,null,null,null,null,null,null,null,null,{"$f":"IF(OR(SUMPRODUCT(--(E93536=$O$1:$O$542))>0,E93536=0),0,1)","v":0}]
[null,null,null,null,0,null,null,null,null,null,null,null,0,null,null,null,null,null,null,null,null,null,null,null,null,null,{"$f":"IF(OR(SUMPRODUCT(--(E93537=$O$1:$O$542))>0,E93537=0),0,1)","v":0}]
[null,null,null,null,0,null,null,null,null,null,null,null,0,null,null,null,null,null,null,null,null,null,null,null,null,null,{"$f":"IF(OR(SUMPRODUCT(--(E93538=$O$1:$O$542))>0,E93538=0),0,1)","v":0}]
[null,null,null,null,0,null,null,null,null,null,null,null,0,null,null,null,null,null,null,null,null,null,null,null,null,null,{"$f":"IF(OR(SUMPRODUCT(--(E93539=$O$1:$O$542))>0,E93539=0),0,1)","v":0}]
[null,null,null,null,0,null,null,null,null,null,null,null,0,null,null,null,null,null,null,null,null,null,null,null,null,null,{"$f":"IF(OR(SUMPRODUCT(--(E93540=$O$1:$O$542))>0,E93540=0),0,1)","v":0}]
[null,null,null,null,0,null,null,null,null,null,null,null,0,null,null,null,null,null,null,null,null,null,null,null,null,null,{"$f":"IF(OR(SUMPRODUCT(--(E93541=$O$1:$O$542))>0,E93541=0),0,1)","v":0}]
[null,null,null,null,0,null,null,null,null,null,null,null,0,null,null,null,null,null,null,null,null,null,null,null,null,null,{"$f":"IF(OR(SUMPRODUCT(--(E93542=$O$1:$O$542))>0,E93542=0),0,1)","v":0}]
[null,null,null,null,0,null,null,null,null,null,null,null,0,null,null,null,null,null,null,null,null,null,null,null,null,null,{"$f":"IF(OR(SUMPRODUCT(--(E93543=$O$1:$O$542))>0,E93543=0),0,1)","v":0}]
[null,null,null,null,0,null,null,null,null,null,null,null,0,null,null,null,null,null,null,null,null,null,null,null,null,null,{"$f":"IF(OR(SUMPRODUCT(--(E93544=$O$1:$O$542))>0,E93544=0),0,1)","v":0}]
[null,null,null,null,0,null,null,null,null,null,null,null,0,null,null,null,null,null,null,null,null,null,null,null,null,null,{"$f":"IF(OR(SUMPRODUCT(--(E93545=$O$1:$O$542))>0,E93545=0),0,1)","v":0}]
[null,null,null,null,0,null,null,null,null,null,null,null,0,null,null,null,null,null,null,null,null,null,null,null,null,null,{"$f":"IF(OR(SUMPRODUCT(--(E93546=$O$1:$O$542))>0,E93546=0),0,1)","v":0}]
[null,null,null,null,0,null,null,null,null,null,null,null,0,null,null,null,null,null,null,null,null,null,null,null,null,null,{"$f":"IF(OR(SUMPRODUCT(--(E93547=$O$1:$O$542))>0,E93547=0),0,1)","v":0}]
[null,null,null,null,0,null,null,null,null,null,null,null,0,null,null,null,null,null,null,null,null,null,null,null,null,null,{"$f":"IF(OR(SUMPRODUCT(--(E93548=$O$1:$O$542))>0,E93548=0),0,1)","v":0}]
[null,null,null,null,0,null,null,null,null,null,null,null,0,null,null,null,null,null,null,null,null,null,null,null,null,null,{"$f":"IF(OR(SUMPRODUCT(--(E93549=$O$1:$O$542))>0,E93549=0),0,1)","v":0}]
[null,null,null,null,0,null,null,null,null,null,null,null,0,null,null,null,null,null,null,null,null,null,null,null,null,null,{"$f":"IF(OR(SUMPRODUCT(--(E93550=$O$1:$O$542))>0,E93550=0),0,1)","v":0}]
[null,null,null,null,0,null,null,null,null,null,null,null,0,null,null,null,null,null,null,null,null,null,null,null,null,null,{"$f":"IF(OR(SUMPRODUCT(--(E93551=$O$1:$O$542))>0,E93551=0),0,1)","v":0}]
[null,null,null,null,0,null,null,null,null,null,null,null,0,null,null,null,null,null,null,null,null,null,null,null,null,null,{"$f":"IF(OR(SUMPRODUCT(--(E93552=$O$1:$O$542))>0,E93552=0),0,1)","v":0}]
[null,null,null,null,0,null,null,null,null,null,null,null,0,null,null,null,null,null,null,null,null,null,null,null,null,null,{"$f":"IF(OR(SUMPRODUCT(--(E93553=$O$1:$O$542))>0,E93553=0),0,1)","v":0}]
[null,null,null,null,0,null,null,null,null,null,null,null,0,null,null,null,null,null,null,null,null,null,null,null,null,null,{"$f":"IF(OR(SUMPRODUCT(--(E93554=$O$1:$O$542))>0,E93554=0),0,1)","v":0}]
[null,null,null,null,0,null,null,null,null,null,null,null,0,null,null,null,null,null,null,null,null,null,null,null,null,null,{"$f":"IF(OR(SUMPRODUCT(--(E93555=$O$1:$O$542))>0,E93555=0),0,1)","v":0}]
[null,null,null,null,0,null,null,null,null,null,null,null,0,null,null,null,null,null,null,null,null,null,null,null,null,null,{"$f":"IF(OR(SUMPRODUCT(--(E93556=$O$1:$O$542))>0,E93556=0),0,1)","v":0}]
[null,null,null,null,0,null,null,null,null,null,null,null,0,null,null,null,null,null,null,null,null,null,null,null,null,null,{"$f":"IF(OR(SUMPRODUCT(--(E93557=$O$1:$O$542))>0,E93557=0),0,1)","v":0}]
[null,null,null,null,0,null,null,null,null,null,null,null,0,null,null,null,null,null,null,null,null,null,null,null,null,null,{"$f":"IF(OR(SUMPRODUCT(--(E93558=$O$1:$O$542))>0,E93558=0),0,1)","v":0}]
[null,null,null,null,0,null,null,null,null,null,null,null,0,null,null,null,null,null,null,null,null,null,null,null,null,null,{"$f":"IF(OR(SUMPRODUCT(--(E93559=$O$1:$O$542))>0,E93559=0),0,1)","v":0}]
[null,null,null,null,0,null,null,null,null,null,null,null,0,null,null,null,null,null,null,null,null,null,null,null,null,null,{"$f":"IF(OR(SUMPRODUCT(--(E93560=$O$1:$O$542))>0,E93560=0),0,1)","v":0}]
[null,null,null,null,0,null,null,null,null,null,null,null,0,null,null,null,null,null,null,null,null,null,null,null,null,null,{"$f":"IF(OR(SUMPRODUCT(--(E93561=$O$1:$O$542))>0,E93561=0),0,1)","v":0}]
[null,null,null,null,0,null,null,null,null,null,null,null,0,null,null,null,null,null,null,null,null,null,null,null,null,null,{"$f":"IF(OR(SUMPRODUCT(--(E93562=$O$1:$O$542))>0,E93562=0),0,1)","v":0}]
[null,null,null,null,0,null,null,null,null,null,null,null,0,null,null,null,null,null,null,null,null,null,null,null,null,null,{"$f":"IF(OR(SUMPRODUCT(--(E93563=$O$1:$O$542))>0,E93563=0),0,1)","v":0}]
[null,null,null,null,0,null,null,null,null,null,null,null,0,null,null,null,null,null,null,null,null,null,null,null,null,null,{"$f":"IF(OR(SUMPRODUCT(--(E93564=$O$1:$O$542))>0,E93564=0),0,1)","v":0}]

{"sheet":"Instructions","index":18,"n_rows":138,"n_cols":4,"rows_kept":138,"cut":false,"hidden":false,"merged":[[25,7,25,8],[7,0,7,1],[8,0,8,1],[33,0,34,0],[33,1,34,1],[29,1,30,1],[29,0,30,0],[99,1,101,1],[99,0,101,0],[100,3,101,3],[1,0,1,1],[3,0,3,1],[5,0,5,1],[6,0,6,1],[2,0,2,1],[4,0,4,1],[92,1,93,1],[92,0,93,0],[92,3,93,3]]}
["Page","Reference","Instructions","Significant Change"]
["General – Instructions",null,"These instructions are provided to help school districts prepare the annual financial report (AFR). Within the forms, blue font indicates that an instruction is linked to that specific line. An instructions button has also been provided that links to any general instructions or to the first instruction for a page. To return to the related forms after reviewing the instructions, simply click on the form's tab at the bottom of the Excel screen or press the Alt and back arrow keys.\n\nDistricts should follow the General Instructions below prior to uploading records to the Accounting Data tab.\n\nInstructions for uploading accounting records are included in a separate document titled \"Data Uploading Instructions\". This file has also been included in the AFR packet. "]
["General – Reconciling",null,"All revenues, expenditures, and fund balances presented on the AFR must agree with the district’s final accounting records for the year ended June 30, 2023. Before completing the AFR, districts must reconcile their accounting records to the County School Superintendent's (CSS) records after the CSS has reconciled to the County Treasurer. (Districts in the accounting responsibility program must reconcile to the County Treasurer before completing the AFR.) Accrued revenues and expenditures at June 30, 2023, not recorded by the CSS should be identified as reconciling items on the reconciliation and must be included in the revenues and expenditures reported in the AFR."]
["General – Budget Amounts",null,"Budget amounts should be taken from the district’s most recently revised, adopted FY 2023 expenditure budget, which has been submitted to ADE.\n\nAll budget and actual amounts reported throughout the AFR should be rounded to the nearest dollar."]
["General – Beginning Fund Balances",null,"The beginning balance for each fund at July 1, 2022, automatically pulls from the fund's ending balance reported on the AFR for FY 2022. If an ending fund balance was reported incorrectly on the FY 2022 AFR for any fund, districts should compute the beginning balance for such funds as follows:\n\nCash, prepaid, and inventory balances (object codes 0100, 0150, and 0160) at 6/30/22.\nPlus:  Accrued revenues as of 6/30/22, received during the 60-day period following 6/30/22.\nLess:  Payments made during the 60-day period following 6/30/22, for goods and services received on or before 6/30/22, but not paid for by that date.\n\nThis calculated amount should be entered for the appropriate fund in the Calculated CY Beginning Fund Balance column (Column Q) on the Accounting Data tab. Lines that report amounts for multiple funds should enter a single amount for the calculated beginning fund balance for all funds reported on that line. For example, line 1 on page 5 reports amounts for Funds 100-139. The total calculated beginning fund balance for funds 100-139 should be entered on the line for Fund 100 on the Accounting Data tab. Similarly, districts reporting amounts on line 33 on page 6 would enter the total calculated beginning fund balance for all funds on the \"Other\" line on the Accounting Data tab.\n\nDistricts should maintain documentation for the calculation of any amounts entered in the Calculated CY Beginning Fund Balance column. "]
["General – Reporting Sub-funds",null,"Any district using funds for internal management purposes that are not included in the USFR Chart of Accounts should combine revenues and expenditures from those funds into the appropriate bold-level fund for proper reporting on the AFR. For example, if the District uses a sub-fund such as 611 to account for its capital override, that sub-fund's activity should be included in the amounts reported for Fund 610—Unrestricted Capital Outlay.\n\nAfter the district's accounting records have been uploaded to the Accounting Data tab, all sub-funds and non-bolded fund codes (if any) will be identified by red shading in the Final Fund column. Districts must identify the appropriate bolded fund number for reporting purposes for each  sub-fund and non-bolded fund prior to submitting the AFR files to ADE and the district's CSS. All bold fund numbers are listed on column O on the Accounting Data tab."]
["General – Revenues",null,"Revenues must include cash receipts through June 30, 2023, and accrued revenues received during the 60-day encumbrance period following fiscal year-end. Examples of accrued revenues are:\n\n1) federal reimbursements received for meals served in FY 2023;\n2) property taxes collected for levies of prior fiscal years;\n3) tuition received for students attending the district during FY 2023;\n4) FY 2023 CSF revenues received;\n5) FY 2023 state aid apportionment rollover payments made in the beginning of July 2023\n    (FY 2024), pursuant to Laws 2022, Ch. 313, §122.\n6) the district's portion of the FY 2023 $50,000,000 from 2016 Prop 123 additional funding.\n\nIn addition, revenues must include any cash receipts of FY 2023 that relate to a prior fiscal year but were not received in the prior year's encumbrance period; such as, FY 2022 Statewide recalculation adjustments made in August 2022, as described in School Finance Memorandum 23-017.\n"]
["General – Expenditures",null,"Expenditures must include cash disbursements through June 30, 2023, and payments made after fiscal year-end, but prior to August 30, 2023, for goods and services received on or before June 30, 2023."]
["General – Coding Errors",null,"Corrections identified on the Coding Errors page are required when they meet or exceed 10% of the related reporting. Miscodings that exceed this threshold are highlighted in pink. Transactions coded to unallowable fund/object combination are highlighted in purple. Districts should make journal entries in their accounting records for these corrections. After correcting their accounting records, districts should upload the corrected records to the Accounting Data tab as described in the Data Uploading Instructions document.\n\nDistricts are encouraged to address all related corrections in future coding, other than issues related to rounding error (i.e., amounts generally less than $10)."]
["Cover","Name, County, CTDS Number","The district name, county, and CTDS number should be entered on the cover page of the AFR. The CTDS number should not contain any slashes, dashes, etc., and must be exactly nine digits. Zeros should be entered to fill the School portion of the number on the cover page. This information will be automatically transferred to other sheets in the file."]
["Cover","Alert","An Alert will appear on the Cover of the AFR when commonly missed areas of the AFR are not completed. The Alert will disappear as the related areas of the AFR are completed. Districts should complete all areas of the AFR that apply to their district operations, whether or not an item is listed in the Alert. This Alert does not replace the need for a separate district employee to review the AFR for accuracy and completeness."]
[1,"Footnotes 1 and 3","The beginning and ending fund balances for the M&O Fund should include the amount of the M&O Fund revolving account cash balance at July 1, 2022, and June 30, 2023, respectively. The revolving account balances should also be recorded in the spaces provided in footnotes (1) and (3). "]
[1,"Footnote 4","Debt Service Fund expenditures reported on line 43 should include principal, interest, and related debt costs paid from the Debt Service Fund. Report the portion of Debt Service Fund total actual expenditures that were for interest costs in footnote (4)."]
[1,"Line 16","Districts receiving transportation fees from other government sources within Arizona should report those revenues on this line. Districts should have increased their M&O budget capacity for these amounts on page 7, line 8i of the expenditure budget."]
[1,"Lines 5-17\nGeneral Tuition Guidance","Districts charging tuition for full-day kindergarten or preschool programs should not record such revenues in the M&O or UCO funds. These tuition revenues should be recorded in the Community School Fund (520) on page 6 of the AFR."]
[1,"Line 26","Include revenues received from the State that can be used for any legal purpose without restriction, such as the district's portion of the FY 2023 $50,000,000 from 2016 Prop 123 additional funding. \n\nDo not include state equalization or additional state aid amounts as they are reported on lines 27 and 28. "]
[1,"Lines 27 and 28","The amounts reported on these lines should be compared to the total state equalization assistance and total additional state aid amounts through payment 13 as shown on the district's most recent BSA 64 report. Reconciling these amounts to the BSA report will help districts ensure that all appropriate revenues are included in the correct FY's accounting records."]
[1,"Line 31","Do not include Federal Impact Aid revenues received on this line. These revenues should be reported in Fund 378 on page 5. See line 40 for instructions for reporting transfers from the Impact Aid Fund."]
[1,"Line 40","This line should include Impact Aid monies transferred to the M&O or UCO Funds. Impact Aid revenues should be recorded in the Impact Aid Fund, but may be transferred to the M&O or UCO Funds to provide cash for the difference between the Transportation Revenue Control Limit and Transportation Support Level or to reduce or eliminate the amount levied as property taxes."]
[1,"Line 43","Total expenditures for the M&O and UCO Funds are pulled from page 2, line 32 and page 4, line 10, respectively. \n"]
[3,"General","Expenditures coded to the Classroom Site Fund (CSF) (010) that would have caused the district to exceed the CSF Budget Limit should be reclassified to the M&O or other appropriate fund before the AFR is completed."]
[3,"Line 7 ","Report expenditures for teacher liability insurance premiums made from Fund 010. "]
[3,"Line 9 ","Report allowable CSF amounts for Function 3300—Community Service Operations on these lines. For example, if a district included a community school program, such as preschool for children without disabilities, as a CSF-eligible program related to its educational mission, expenditures for certified teacher salaries and related expenses allowable under CSF would be reported here.\n"]
[4,"UCO Override\nLine 1","Enter the actual expenditure amounts from any Unrestricted Capital Outlay Override authorized by A.R.S. §15-481. Amounts included on line 1 must also be included on lines 2-9, as appropriate. If the district records its Unrestricted Capital Outlay Override expenditures in a fund other than Fund 610, the district should enter 610 in the Rollup Fund column on the Accounting Data tab for that fund. "]
[4,"UCO Fund Expenditures \nLines 2-9","All expenditures from the UCO Fund including Joint Career and Technical Education and Vocational Education Center, as reported on page 2, and Desegregation, as reported on the Desegregation Supplement-Districtwide, page 3, are included on these lines.","Added a column for districts to report short-term noninstructional software subscription expenditures and revised columns H and I to include more than 12-month software subscription expenditures."]
[4,"Other Funds—Required Capital Expenditure Detail  for Funds 610, 630, 695, & 620\n","In accordance with A.R.S. §15-904(B), detailed budgeted and actual expenditures for only the items listed in lines 2-12 must be reported from the UCO (610), Bond Building (630), New School Facilities (695), and Adjacent Ways (620) funds. The amounts reported on lines 2-12 may not include all expenditures of these funds as shown on line 1. Total expenditures for the UCO Fund are reported in the UCO Fund Expenditures table at the top of page 4. Total expenditures for the UCO, Bond Building, and Adjacent Ways funds are reported on page 1, line 43. Total expenditures in the New School Facilities Fund are reported on page 6, line 30. \n\nIn addition, the detailed expenditures reported in lines 2-12 must be separately entered as new construction or renovation on lines 14-16. If the designation of new construction or renovation does not apply to a particular expenditure reported on lines 2-12, the amount should be entered as \"Other.\"  Therefore, the total budgeted and actual expenditures for each fund reported on line 13 must agree to the total amounts reported on line 17, by fund.","Added a line for districts to report short-term noninstructional software subscription expenditures and revised lines 11 and 12 to include more than 12-month software subscriptions expenditures."]
[4,"New construction cost per square foot","Enter the cost per square foot for new construction projects in progress or completed during the fiscal year for Funds 610, 630, 695, and 620. For projects still in progress at year-end, districts should calculate the cost per square foot by dividing the anticipated total cost of all projects upon completion by the anticipated total square footage of all projects upon completion. For projects that were completed during the fiscal year, districts should calculate the cost per square foot by dividing the total actual cost of all projects upon completion by the total actual square footage of all projects."]
[4,"Capital Assets, Lines 1-3","Enter the total costs (before depreciation), by asset classification, for all assets recorded on the capital assets list as of June 30, 2023. Assets with costs below $5,000 should not be included on the capital assets list or in amounts reported here unless the district’s governing board has established a capitalization threshold of less than $5,000. Do not include stewardship list items in these amounts."]
[4,"Capital Assets,\nLine 4","Enter the total cost of construction in progress as of June 30, 2023. This amount will not appear on the capital assets list as of June 30, 2023, as these amounts are not recorded on the list until the project(s) is completed."]
[5,"Federal Projects, Lines 1-20 and 22","Formulas will pull amounts on these lines for all funds indicated for each line, up to the first fund indicated on the line below it. For example, line 1 will pull data from funds 100 through 139 for ESEA Title I—Helping Disadvantaged Children, line 2 will pull data from funds 140 though 159 for ESEA Title II—Professional Development and Technology, and line 3 will pull data from funds 160 through 169 for ESEA Title IV—ESEA Title IV—21st Century Schools, and so on.\n\nDistricts must manually enter beginning fund balances and budgeted expenditures for the following funds: 349—National Forest Fees, 353—Taylor Grazing Fees, 374—E-Rate, 378—Impact Aid, and 699—Federal Impact Aid (Construction). \n\nDistricts using funds for internal management purposes numbered from 100 through 299 that are not related to the specific areas indicated on each line should identify the correct fund in the Rollup Fund column on the Accounting Data tab to ensure proper reporting on the AFR. If the fund does not relate to any of the areas identified on lines 1 through 18 and 20, it should be included on line 19 with Other Federal Projects. In this case, districts should enter a rollup fund in the 300 through 399 range (other than Funds 349, 353, 374 and 378).\n\n","Added new lines to the federal projects table to separately report fund details for 349—National Forest Fees, 353—Taylor Grazing Fees, 374—E-Rate, 378—Impact Aid, and 699—Federal Impact Aid (Construction).\n \nAdded column K for districts to identify if certain funds listed in column A are reported in the District's General Fund. See the instructions in cell C108 for additional instructions on the General Fund identification."]
[null,null,"All Federal COVID-19 relief grants recorded in the 300 through 399 fund range should be included on lines 19 and 22. Funds 227—ARP-IDEA Preschool and 228—ARP IDEA Basic should be included on lines 8 and 22.\n\nCOVID fund rollup instructions:\n1. On the accounting data tab column G, select all Federal COVID-19 relief grants recorded in the 300 through 399 fund range including those with assigned fund numbers (Fund 326—Elementary and Secondary School Emergency Relief (ESSER) I, Fund 336—ESSER II, and Fund 346—ESSER III, and Fund 328—Enrollment Stability Grant Program). In column F, select “COVID” from the bottom of the dropdown menu as the designated rollup fund.\n\n2. DO NOT select any rollup fund for Funds 227—ARP-IDEA Preschool and 228—ARP-IDEA Basic.\n\nFor further assistance with this item please contact the Auditor General's Accountability Services Division at (602) 977-2796."]
[5,"Net Other Financing Sources and Uses Including Transfers","Amounts received from other financing sources and transfers-in (object codes in the 5000 range) are separately reported from amounts for other financing uses and transfers-out (object codes in the 6900 range) in the respective columns to the right of page 5. All amounts in both columns are shown as positive numbers. Amounts pulled into these columns will also pull into Net Other Financing Sources and Uses Including Transfers in column G.\n\nIf total other financing uses and transfers-out are greater than total other financing sources and transfers-in, the net amount will display as a negative number in column G.\n\nIn accordance with the USFR Chart of Accounts, transfers of monies between funds should be made only when specifically authorized by statute or allowed by a federal grant. Currently, there are no allowable transfers to or from any state projects."]
[5,"State Projects, Lines 22-32 ","Any district using funds for internal management purposes that are not included in the USFR Chart of Accounts should combine revenues and expenditures from those funds into the appropriate bold-level fund for proper reporting on the AFR. Districts should identify the appropriate bold-level fund in the Rollup Fund column on the Accounting Data tab. For example, if the district uses a sub-fund such as 401 to account for a portion of its vocational education monies, that sub-fund's activity should be included in the amounts reported on line 20, Fund 400—Vocational Education. In this case, the district should select Fund 400 as the Rollup Fund for all amounts coded to fund 401 on the Accounting Data tab.\n\nFor state projects, amounts will pull into each line for only the fund number indicated on that line. For example, line 23 will pull only amounts for Fund 400—Vocational Education, line 24 will only pull amounts for Fund 410—Early Childhood Block Grant, and so on. If the fund does not relate to any of the areas identified on lines 23 through 32, it should be included on line 33 with Other State Projects. In this case, districts should enter a rollup fund in the 465 through 499 range."]
[5,"Results-based Funding,\nLine 30","In accordance with A.R.S. §15-249.08, all districts that received monies for Fund 457—Results-based Funding must separately complete ADE's Results Based Fund Report. The completed form should be uploaded to ADE along with the AFR, as it is required by November 1. Instructions for completing the report are included in the separate form. \n\nAdditional questions about completing the Result Based Fund Report should be directed to ADE's School Finance Budget Team."]
[null,null,"sfbudgetteam@azed.gov"]
[6,"Net Other Financing Sources and Uses Including Transfers","Amounts received from other financing sources and transfers-in (object codes in the 5000 range) are separately reported from amounts for other financing uses and transfers-out (object codes in the 6900 range) in the respective columns to the right of page 6. All amounts in both columns are shown as positive numbers. Amounts entered in these columns will also pull into Net Other Financing Sources and Uses Including Transfers in column F.\n\nIf total other financing uses and transfers-out are greater than total other financing sources and transfers-in, the net amount will display as a negative number in column F. "]
[6,"Other\nFunds—School Plant\nLine 5\n","Actual expenditures made in the School Plant Fund (500) in accordance with A.R.S. §15-1102. Districts that established sub-funds for School Plant in funds 501-504, to account for monies received that were restricted for different purposes by statute, should enter 500 in the Rollup Fund column on the Accounting Data tab for these funds."]
[6,"Other Funds—Indirect Costs\nLine 17","Indirect Costs Fund revenues should only consist of interest earned on any existing balance in the fund. Interest earned on monies in federal funds that is not required to be reverted should be reported in the respective federal fund on page 5. If a district chooses to transfer interest to the Indirect Costs Fund, it should be coded as a Transfer-in (object 5200)."]
[6,"Other Funds— New School Facilities\nLine 31","Actual expenditures for the New School Facilities (695) Fund includes all expenditures from this fund, which may exceed the detailed expenditures reported on page 4."]
[6,"Other Funds—\nLines 33,34, and 36-39","Districts must manually enter beginning fund balances and budgeted expenditures for the following funds: 750—Permanent Funds, Trust and Custodial—800-849, Employee Insurance Program Withholding—855, State and Income Tax Withholding—865 and Enterpise Funds—900-949, and any funds identified as \"Other\" in the Rollup Fund column on the Accounting Data tab. ","Added new lines to the Other Funds table to separately report fund details for 750—Permanent Funds, 800-849—Trust and Custodial, 855—Employee Insurance Program Withholding, 865—State and Income Tax Withholding, and 900-949—Enterpise Funds."]
[6,"Other\nLine 39","Districts with any funds in their accounting records that are not properly included elsewhere in the AFR, such as amounts related to monies remaining in Fund 080—Student Success, should enter the word “other” (without quotation marks) in the Rollup Fund column of the Accounting Data tab to have the amounts for those funds also included on this line."]
[6,"Internal Service Funds 950-989, Lines 1 through 4","Districts must manually enter amounts for beginning fund balance, revenues, actual expenditures, other financing sources including transfers-in, and other financing uses including transfers-out for these lines."]
[6,"Internal Service Funds—IGAs\nLine 2","If fund numbers other than 955 are used for Intergovernmental Agreements, include activity from all intergovernmental agreement funds on this line. "]
[6,"Instructional Improvement\nFund 020\nDetailed Expenditures","Districts must manually enter detailed actual expenditure amounts for teacher compensation increases, class size reduction, dropout prevention programs, and/or instructional improvement programs in accordance with A.R.S. §15-979. \n\nAny district that did not have Instructional Improvement Fund expenditures during the fiscal year must indicate this by selecting the checkbox below the Instructional Improvement table."]
[6,"Arizona Industry Credentials Incentive Fund 597 Detailed Expenditures ","Districts must manually enter the detailed actual expenditure amounts for the following costs in accordance with A.R.S. §15-249.15:\n1. Instructional costs and professional development for a career technical education program teacher to become a certifying professional for an approved certificate, credential, or license.\n2. To offset the students' cost of certification, credentialing, or licensure.\n3. Developmental costs related to creating, expanding or improving an approved site of a certificate, credential, or license career technical education program or course.\n4. Instructional hardware, software, or supplies required for the certification, credentialing, or licensure.\n5. Career exploration in any school grade and awareness activities for parents, students, and the community for the approved sectors."]
[7,"General","Page 7 includes several sections that are independent from one another and serve separate purposes. Be sure to read any instructions available for each individual section, as some expenditures may be reported in more than one section.\n\n"]
[7,"Section A—Bonds and Short-term Debt","This information is included in the AFR to assist with Form 33 reporting to the National Center for Education Statistics. For more information on Form 33, please refer to the Page 9 General instructions below.\n\nBonds—Report beginning and ending balances for all general obligation bonds, revenue bonds, refunding bonds, and certificates of participation. Report all such debt issued during the fiscal year on line 2. Report all principal payments made on such debt during the fiscal year on line 3. Any amount reported on line 3 must be entered as a negative number (with a minus sign).\n\nShort-term Debt—Report beginning and ending balances for interest-bearing debt with a term of one year or less such as bank revolving lines of credit, tax anticipation notes, and other short-term debt. Districts with short-term debt activity during the fiscal year but no balances at the beginning or end of the fiscal year should report 0 on lines 5 and 6.\n\nDO NOT INCLUDE lease agreements, financed purchase agreements, compensated absences, accounts payable, and other noninterest bearing obligations in amounts reported in this section.\n\n"]
[7,"Section C— Liabilities in Excess of the Budget","If the actual expenditures incurred in excess of the budget were less than the amount approved by the county, include only the actual expenditures incurred in excess of the budget in this section, not the amount approved by the county."]
[7,"Section D— \nCurrent Expenditures by Category","A.R.S. §15-255  requires the Superintendent of Public Instruction’s Annual Report to include total current expenditures per pupil and separate per pupil amounts by type of district for (1) classroom instruction excluding classroom supplies, (2) classroom supplies, (3) district and school administration, (4) support services—students, and (5) all other support services and operations. ADE will calculate the “per pupil” amounts based on the total current expenditures reported on lines 1 through 5 in this section.\n\nThe Every Student Succeeds Act (ESSA) requires the reporting of current expenditures from federal funds. On line 7, districts should report the portion of total current expenditures calculated on line 6 that were made from federal funds, excluding those intended to replace local tax revenues (funds 100 through 399, excluding applicable impact aid fund monies).\n\nCurrent expenditures include expenditures from all funds for elementary and secondary education (e.g., M&O, CSF, Auxiliary Operations, Extracurricular Activities Tax Credit, most federal and state projects, etc., for PSD-12). Current expenditures do not include expenditures for tuition paid to other Arizona school districts, capital (land and improvements, buildings and improvements, furniture, equipment, technology, vehicles), Internal Service Fund operations, Community School Fund operations, debt retirement, student activities, and non-PSD-12 school programs appropriately recorded in Program Codes 700, 800, and 900 (e.g., adult/continuing education, community college education, community services, and day care centers)."]
[7,"Section E—Other long-term debt","On lines 1 and 2, report principal and interest expenditures for financed purchase and lease agreements and more than 12-month noninstructional software subscriptions. On lines 3 and 4, report principal and interest expenditures for more than 12- month instructional software subscriptions.\n\nAnswer yes or no on line 5 to indicate whether the district entered into any new financed purchase, lease, or more than 12-month software subscription agreements during the fiscal year."]
[7,"Section G—Rewards, Discounts, Incentives, and Other Financial Considerations Received from Credit Card Companies","A.R.S. §35-391 requires districts to report the amount of any reward, discount, incentive or other financial consideration received as a result of making payments to vendors with a credit card. For this requirement, credit card is defined as: \n\n(a)  Any instrument or device, whether known as a credit card, charge card, credit plate, courtesy card or identification card or by any other name, issued with or without a fee by an issuer for the use of the cardholder in obtaining money, goods, services or anything else of value, either on credit or in possession or in consideration of an undertaking or guaranty by the issuer of the payment of a check drawn by the cardholder, on a promise to pay in part or in full at a future time, whether or not all or any part of the indebtedness represented by this promise to make deferred payment is secured or unsecured.\n(b)  Any debit card, electronic benefit transfer card or other access instrument or device, other than a check that is signed by the holder or other authorized signatory on the deposit account, that draws monies from a deposit account in order to obtain money, goods, services or anything else of value.\n(c)  Any stored value card, smart card or other instrument or device that enables a person to obtain goods, services or anything else of value through the use of value stored on the instrument or device.\n(d)  The number assigned to an instrument or device described in subdivision (a), (b) or (c) of this paragraph even if the physical instrument or device is not used or presented."]
[7,"Section H—Cash and Investments held at fiscal year end","ADE will use this information to complete Form 33, issued by the National Center for Education Statistics (NCES). NCES's instructions for these amounts indicate that districts should report ending balance amounts of cash and investments (at market value) for the following funds:\n     Sinking funds – funds containing reserves held specifically for redemption of long-term\n     debt.\n     Bond funds – funds containing unexpended proceeds of bond issues that were being held\n     pending their disbursement.\n     Other funds – all other funds, exclude any employee retirement funds.\n\nInclude cash balances; cash on hand; certificates of deposit; federal securities; state and local government securities; mortgages; and corporate stocks, bonds, and notes. Exclude accounts receivable, value of real property, and all nonsecurity assets.\n\nFor more information on Form 33, please refer to the Page 9 General instruction below."]
[7,"Section I—Average Teacher Salary","Enter the average teacher salary of all teachers employed in FY 2023. Each district should be consistent in the type of salary information included in this table and in the budget form table from year to year. An optional comment box is available to provide any additional detail regarding the average teacher salary calculation.  "]
[7,"Section J—Certified Staff Salaries and FTE—Salaries\nLines 1-6","Report total salaries paid to certified staff from Funds 001-799 (excluding 575) for substitute teachers, classroom teachers (separated into different types of salary payment), and other certified staff. Do not report amounts for staff contracted/leased through a third party. See the instructions below for more detailed information on the amounts to report on each line.   \n\nAn error message will appear in cell O44 if the total amount entered on lines 1 through 6 for certified staff salaries does not agree to the total salaries coded to Objects 6100-6149 in Funds 001 through 799 (excluding 575).","Added section J to report Certified Staff Salaries and FTE information."]
[7,"Line 1","Amounts paid to short- or long-term substitutes. "]
[7,"Line 2","Amounts paid to classroom teachers for their primary teaching duties, including Classroom Site Fund base salary payments."]
[7,"Line  2 (a)","Amounts paid to classroom teachers for their primary teaching duties, including Classroom Site Fund base salary payments, with fewer than 3 years of classroom instruction experience as defined by A.R.S. §15-941(E)."]
[7,"Line 2 (b)","Amounts paid to classroom teachers for their primary teaching duties, including Classroom Site Fund base salary payments, with 3 or more years of classroom experience as defined by A.R.S. §15-941(E)."]
[7,"Line 3","Amounts paid to classroom teachers based on the teacher’s performance ratings or defined goal’s achievement, including Classroom Site Fund performance payments."]
[7,"Line 4","Amounts paid to classroom teachers, in addition to their base salary payments, that do not require the employee to perform additional duties (e.g., retention, hard-to-fill positions, class size, specific certification endorsements, and signing or other incentive stipends)."]
[7,"Line 5","Amounts paid to classroom teachers, in addition to their base salary payments, that require additional duties to be performed (e.g., department/chair lead, tutoring, summer school, advisors, coaches, and teaching additional periods or classes beyond base contract requirements, such as teaching a class in place of the normal teacher preparation period)."]
[7,"Line 6","Amounts paid to certified staff other than classroom teachers, such as administrators, counselors, and other certified staff. Functions can be used to differentiate between positions."]
[7,"Section 7—Certified Staff Salaries and FTE—FTE\nLines 2a-2b","Report classroom teacher full-time equivalent staff (FTE) at FY 2023 100th day for staff whose salaries are included in the 'Salaries' column. The FTE of a single staff member should not exceed 1.0 FTE. Certified staff that teach in community service (e.g., daycare or preschool for students without IEPs) or adult education programs should be included. Substitute teachers and retirees returning to work as leased staff through a third party should not be included."]
[8,"Section B— M&O Fund Special Education Programs by Type","Report all M&O Fund monies spent for special education (Programs 200 and 300) operational expenditures in the Actual column.  Documentation supporting the cost allocation method should be retained at the district and should include the reasoning behind the allocation, a list of the programs, the number of teachers and students by program, and all computation work sheets. \n\nDistricts should report actual total expenditures in Program 200ꟷSpecial Education for disability classifications defined in A.R.S. §15-761 on line 1, Total All Disability Classifications. The amounts entered on line 1 and line 10 are used by ADE in the calculation of maintenance of effort. State statute also includes the programs listed on lines 2-8 in the M&O Fund Special Education Subsection for budgetary purposes. The total expenditures for all of these programs on line 9 must agree to the total M&O Fund, Programs 200 and 300 expenditures reported on page 2, line 24.\n\n\n"]
[8,"Section D— Expenditures for Audit Services","Do not include the costs of non-audit services such as consulting and application fees paid for submission of district’s Comprehensive Annual Financial Report to ASBO and GFOA for certification or fees for preparation of the Meritorious Budget Award application to ASBO in the nonfederal or federal audit services actual expenditures in this section.\n\nOn Line D.1, enter the actual M&O Fund expenditures paid in FY 2023 related to nonfederal program and compliance audits. \n\nOn Line D.2, enter the total actual federal audit service expenditures paid in FY 2023 from all funds.  "]
[8,"Sections E—Performance Pay","Do not report expenditures for the Performance Pay Component of the Classroom Site Fund or the Instructional Improvement Fund on this line."]
[8,"Section F—Tuition","Districts should use this table to report expenditures for all tuition object codes, 6561 through 6569, based on paid tuition invoices, including amounts paid for operations, capital, and debt related billing.\n\n-Type 03 districts should fill in lines 1 through 4 and 7 through 9, as applicable. \n\n-All Districts, other than Type 03 districts, should fill in lines 5 through 9, as applicable. "]
[8,"Section F—Tuition (continued)","Type 03 districts should submit copies of the final tuition invoices and corresponding calculation worksheets to ADE School Finance for the total tuition expenditure amounts reported for operations, capital, and debt service only for high school students that attend other Arizona districts. \n\nDistricts should scan final tuition invoices and corresponding calculation worksheets and save as a .pdf file. Please email the .pdf file to the School Finance budget team by October 31 at the link below. The email subject line should include the fiscal year, district name, CTD number, and \"Type 03 tuition\"."]
[null,null,"sfbudgetteam@azed.gov"]
[9,"General","The information included on this page will be used by ADE to complete the National Public Education Financial Survey (NPEFS) and Form 33 issued by the National Center for Education Statistics. Data from NPEFS is used to calculate a state per pupil expenditure amount that is used in the formula for allocating a number of federal program funds to states and school districts, including: Title I, Impact Aid, and Indian Education. Other programs make use of state per pupil expenditure data indirectly because their allocation formulas are based, in whole, or in part, on state Title I allocations. The NPEFS and Form 33 data are also used by researchers and government policymakers to address important education policy and research issues."]
[9,"Additional Information for NPEFS Reporting","All expenditures from funds 001 through 799 (excluding 575) are reported in this section. The sum of total expenditures included on lines 13, 16, and 17 should be used as a check figure against the total expenditures for these funds in the districts' accounting records.\n\nExpenditures from Funds 800 and above are not reported in this table as they are fiduciary (trust and agency) or proprietary (enterprise and internal service) funds and are not reported in this level of detail in the NPEFS. ","Revised columns J and K to include more than 12-month software subscription expenditures."]
[9,"Programs 700-900\nExpenditure Detail","The total expenditures reported in this table for programs 700-900 should agree to the total expenditures reported in the \"Programs 700-900\" column in the table above."]
[9,"Property Detail for Function 4000","The total expenditures reported in this table should agree to function 4000 expenditures reported on line 16 for the \"Property\" column in the table above."]
[9,"Technology Detail","Do not include expenditures for nontechnology-related equipment such as machinery, vehicles, and furniture in this table.\n\n","Added lines for districts to report software reported in library books, textbooks, or instructional aids (object codes 6641-6643),  more than 12-month noninstructional software subscriptions (object codes 6832 and 6842), and more than 12-month instructional software subscriptions (object codes 6833 and 6843)."]
[9,"Teacher Salaries \nLines 1-5","Report base salaries (including CSF Performance Pay), overtime, and additional compensation paid to certified teachers, certified substitute teachers, and retired and returned to work as contract/leased teachers from all funds for the specified programs. Do not include salaries paid to instructional aides or assistants or any noncertified teachers. If a teacher is paid from more than one program, allocate the salary based on the amount of time instructing in each program.\n\nAn error message will appear above the table if the total amount entered on lines 1 through 5 for certified teachers or certified substitutes does not agree to the total salaries coded to Functions 1000-1899 in Funds 001 through 799 (excluding 575), as displayed in Cell Q33.\n\nIf the district has used the optional object codes in the Chart of Accounts for teachers and substitute teachers, amounts for certified teachers should be recorded in object code 6112 and amounts for certified substitutes should be recorded in object code 6113."]
[9,"Other Items—\nTextbooks\nLine 6","Report expenditures for textbooks, periodicals, and other print medium used for classroom instruction. Do not include expenditures relating to on-line texts or tools."]
[9,"CTED Districts Only, Lines 1 through 3","To assist ADE in collecting accurate information for the NPEFS, CTED districts should report all amounts recorded in object codes 6591—Services Purchased from Other Arizona Districts, 6870—Pass-through Payments, and 6880—Sub-awards from all funds and all functions on these lines."]
[9,"Revenue from selected federal sources, Lines 1 through 4 ","To assist ADE in collecting accurate information for the NPEFS, districts should report revenues received from selected federal sources listed in lines 1 through 4:\n\n1. Student Support and Academic Enrichment Grants (subgrants from States only) (ESEA IV-A-1, section 4105)\n\nThe purpose of the Title IV-A Student Support and Academic Enrichment (SSAE) grant is to improve students’ academic achievement by increasing the capacity of States, local educational agencies, schools, and local communities to provide all students with access to a well-rounded education, improve school conditions for student learning, and improve the use of technology in order to improve the academic achievement and digital literacy of all students. \nAdditional information is available at the following link: \n\n\n\n\n\n\n\n\n"]
[null,null,"https://www.azed.gov/titleiv-a/"]
[null,null,"2. 21st Century Community Learning Centers (subgrants from States only—excludes awards under national activities) (ESEA IV-B)\n\n21st Century Community Learning Centers (21st CCLC) Title IV-B program is funded by a federal grant from the U.S. Department of Education and administered by the Arizona Department of Education. Additional information is available at the following link: "]
[null,null,"https://www.azed.gov/21stcclc/federal-and-state-regulations/"]
[null,null,"3. Rural education - Rural and Low-Income School program (RLIS) (ESEA V-B-2, section 5221)\n\nTitle V-B-2 is to provide for equity in cases where rural or low-income schools receive allocations insufficient for their needs and are at a competitive disadvantage for other grants. \nFor additional information on completing this line, please contact ADE using the email address below:  \n\n\n\n"]
[null,null,"RLISInbox@azed.gov"]
[null,null,"4. Rural education - Small, Rural School Achievement program (SRSA) (ESEA V-B-1, section 5211)\n\nThe Small, Rural School Grant Program (SRSA), CFDA no. 84.358A, authorizes the U.S. Secretary of Education to award formula grants directly to eligible LEAs (i.e., those LEAs eligible under the alternative uses of funds program) to carry out activities authorized under other specified Federal programs. \nAdditional information is available at the following link: \n\n"]
[null,null,"https://www.azed.gov/titlei/reap/"]
[null,null,"For support assistance for Federal and State Grants, please contact the Arizona Department of Education's Grants Management Team:"]
[null,null,"https://www.azed.gov/grants-management/contact/"]
[9,"Impact Aid Revenues","Districts that received Impact Aid revenues during the fiscal year that were intended to replace local tax revenues should enter that amount in this cell. Include only amounts used or transferred to M&O or UCO Fund to reduce or eliminate taxes levied, not all Impact Aid received. The amount will be deducted from the amount reported for salaries paid from federal funds in cell B25.\n\nDistricts that did not receive Impact Aid revenues that were intended to replace local tax revenues should enter a 0."]
[10,"Current Expenditures from COVID-19 federal relief funds, Line 11","Current expenditures from COVID-19 federal relief projects table populates with function and object data from the Accounting data tab. Generally, line 11 should not show negative amounts. Any negative amounts displayed on line 11 will be highlighted with yellow shading. Districts must ensure that the Accounting Data tab was completed according to the instructions in cell C31 above to identify the appropriate funds as \"COVID\" in the rollup fund column for the formulas that populate the table to work correctly. ","Added page for NPEFS reporting. Separate COVID-19 reporting form is no longer required. "]
[10,"Technology Detail","This table reports technology-related expenditures from COVID-19 federal relief funds.  Formulas will pull amounts from the Accounting Data tab for total technology spending and classroom technology (functions 1000, 2100, and 2200) spending on lines 1 through 10, as applicable. Lines 8 and 9 must be completed manually (see the instruction below)."]
[10,"Technology Detail,                   line 8","Enter the total amount for instructional software coded to objects 6641—Library Books, 6642—Textbooks, and 6643—Instructional Aids. These purchases should be coded to functions 1000 or 2200; therefore, the amount entered in the total spending column will pull to the classroom spending column on this line. "]
[10,"Technology Detail,                   line 9","Enter the total principal and interest expenditures for more than 12-month noninstructional software subscriptions coded to object codes 6832 and 6842, respectively. Do not include amounts paid for leases and financed purchases of nontechnology-related equipment."]
[10,"COVID-19 federal relief funds","Districts must manually enter total award and spending information for the various COVID-19 grants listed in lines 1 through 6 of this table. Districts can refer to the Auditor General's COVID-19 Spending Special Report Followup, Dashboard B, for previously reported grant award and prior year spending information, when completing this table. Detailed instructions regarding the amounts that should be included in each row and column are included below."]
[null,null,"https://www.azauditor.gov/District_charter_ADE_COVID-19_spending_special_report_FY_2022 "]
[10,"COVID-19 federal relief funds, line 1","Report information for monies received from the district's Elementary and Secondary School Emergency Relief I Fund (ESSER I) award allocation, determined by ADE. Monies received from ADE as an ARP School and Community grantee should be reported on line 6."]
[10,"COVID-19 federal relief funds, line 2","Report information for monies received from the district's Elementary and Secondary School Emergency Relief II Fund (ESSER II) award allocation, determined by ADE. Monies received from ADE as an ARP School and Community grantee should be reported on line 6."]
[10,"COVID-19 federal relief funds, line 3","Report information for monies received from the district's Elementary and Secondary School Emergency Relief III Fund (ESSER III) award allocation, determined by ADE. Monies received from ADE as an ARP School and Community grantee should be reported on line 6."]
[10,"COVID-19 federal relief funds, line 4","Report information for monies received from the Governor's Emergency Education Relief (GEER) Fund here. Examples of programs distributed from GEER include the Acceleration Academy Grant, Beat the Odds Leadership Academy Grant, and Teach for America Grant.\n\nDo not report Enrollment Stabilities Grant (ESG) information on this line. ESG should be reported on line 5, Coronavirus Relief Fund (CRF)—Enrollment Stability Grant (ESG) Program."]
[10,"COVID-19 federal relief funds, line 5","Report information for monies received from the Coronavirus Relief Fund (CRF)—Enrollment Stability Grant (ESG) Program."]
[10,"COVID-19 federal relief funds, line 6","Report all other information for COVID-related monies received that cannot be appropriately reported on lines 1 through 5 of this table. Include other grants identified by ADE, the Governor's Office, and other agencies for which the district has federal reporting responsibilities. \n\nDO NOT INCLUDE AMOUNTS RECEIVED AS A VENDOR OR BENEFICIARY.\n\nExamples of grants identified by ADE include:\nARP-IDEA grants (USFR Chart of Accounts funds 227 and 228)\nARP Homeless grants\nARP school and community grants\nFood service awards "]
[null,null,"Grants identified by the Governor's Office include: \nExpansion and Innovation Fund microgrants\nProject Momentum\nCivic Innovation\nEducation Plus-Up\n100 Day In-Person Reimbursement\nAZ OnTrack Summer Camp \n\nGrants identified by other agencies include: \nArizona Department of Emergency and Military Affairs (DEMA) FEMA Public Assistance Program\nEmergency Connectivity Fund \nArizona Department of Economic Security (DES)\n\nSee School District Chart of Accounts FAQ #21 for more information. A link to the FAQ page is included below."]
[null,null,"Chart of Accounts FAQ #21"]
[10,"COVID-19 federal relief funds, \nTotal Award\n(all fiscal years)","Enter all known awards to date, awarded both before and after June 30, 2023. If the specific fund/program is not listed, it should be reported on line 6, Other COVID-19 Federal Relief Funds. \n\nFor further assistance with this item, please contact the Auditor General's Accountability Services Division at (602) 977-2796 or email asd@azauditor.gov. "]
[10,"COVID-19 federal relief funds, FY 2020 and FY 2021\nExpenses and Other Financing Uses","Enter the combined FY 2020 and FY 2021 expenditures and indirect costs transfers-out amounts.  If the amount should be zero, enter 0.\n\nIf the specific fund/program is not listed, it should be reported on line 6, Other COVID-19 Federal Relief Funds."]
[10,"COVID-19 federal relief funds, FY 2022 Expenses and Other Financing Uses","Enter FY 2022 expenditures and indirect costs transfers-out for each listed fund rounded to the nearest whole number (no decimals). If the amount is zero, enter 0. \n\nIf the specific fund/program is not listed, it should be reported on line 6, Other COVID-19 Federal Relief Funds."]
[10,"COVID-19 federal relief funds, FY 2023 Expenses and Other Financing Uses","Enter FY 2023 expenditures and indirect costs transfers-out for each listed fund rounded to the nearest whole number (no decimals). If the amount is zero, enter 0. \n\nIf the specific fund/program is not listed, it should be reported on line 6, Other COVID-19 Federal Relief Funds. Total expenses on line 7 should agree to the amount displayed in cell G47."]
[10,"COVID-19 federal relief funds, Amount Remaining to Spend/ Conditional formatting","The amounts in this column calculate automatically based on columns D, E, F, and G on each line. Any negative amounts, will be highlighted in yellow. To correct negative amounts in these cells, verify that spending reported in columns E through G does not exceed the total award reported in column D. All amounts entered into this form should be rounded to the nearest whole dollar. This column may also show negative amounts if cents are entered in the award or spending columns.\n\nFor further assistance with this issue, please contact the Auditor General's Accountability Services Division at (602) 977-2796 or email asd@azauditor.gov."]
["Summary","General","The Summary condenses the information in the AFR for publication. Most information in the Summary automatically pulls from the AFR, so the AFR should be completed before the Summary."," Added new lines to separately report fund details for 750—Permanent Funds, 800-849—Trust and Custodial, 855—Employee Insurance Program Withholding, 865—State and Income Tax Withholding, 900-949—Enterprise Funds, and Other Internal Service Funds."]
["Summary","ADM","Obtain total Attending ADM for FY 2022 and FY 2023 from ADE’s ADM30 reports, available on ADE’s website.  "]
["Summary","General Fund","Use the dropdown boxes in column K to identify each fund listed in column A that was reported in the District's General Fund in your most recently completed audit. District's that have not previously prepared financial statements because their total federal awards or M&O Fund spending has not exceeded the applicable thresholds to require an audit, may enter \"No\" for all funds. ","Added column K for districts to identify funds listed in column A that are reported in the District's General Fund, for financial statement reporting purposes."]
["Summary","Other Capital Funds","Total of Funds 660 and 665 as reported on AFR page 6, Other Funds, lines 27 and 28."]
["Summary","Federal Projects","Total of Funds 100-399 as reported on AFR page 5, Federal Projects, line 21."]
["Summary","State Projects","Total of Funds 400-499 as reported on AFR page 5, State Projects, line 34."]
["Summary","Gifts and Donations","Combined total of Funds 530 and 650, as reported on AFR page 6, Other Funds, lines 10 and 25."]
["Summary","Other Funds","Total Other Funds as reported on AFR page 6, line39. "]
["Fund Balance Reserve","Section A\nGeneral","Section A presents the prior year's and current year's ending fund balances by fund type and provides space for districts to report FY 2023 ending fund balance details that identify how districts plan to use those monies in future years. See the Summary tab, General Fund column, to identify which funds are included in the General Fund for financial statement reporting purposes.","Added a new tab to increase transparency and provide decision-makers, other stakeholders, and the public more complete financial information on the amount and planned use of fund balance reserves."]
["Fund Balance Reserve","Section A\nLine 1","This line pulls in prior year ending fund balances from the Summary tab by fund type. Districts must complete the Summary tab, General Fund column, to identify funds reported in the General Fund for financial statement reporting purposes.  If any ending fund balances were reported incorrectly on the prior year AFR, districts should enter the calculated beginning fund balance on the Accounting Data tab, column Q, as described in the instruction on row 5 above. This includes any errors or audit adjustments identified in the District's FY 2022 audit."]
["Fund Balance Reserve","Section A\nLine 2","This line pulls in current year ending fund balances from the Summary tab by fund type. Districts must complete the Summary tab, General Fund column, to identify funds reported in the General Fund for financial statement reporting purposes. See instructions on row C108 above for additional information."]
["Fund Balance Reserve","Section A\nLine 3","For all fund balances reported on line 2, districts must report the amount attributable to the specific purposes listed which identify how districts plan to use the monies in future years. Amounts reported on lines 3.a through 3.j must equal the total fund balance reported on line 2. Specific instructions for lines 3.a through 3.h. are included below. Two rows are provided to describe other fund balance purposes not already listed. Districts must specify the purpose for amounts included on the other lines in column B. "]
["Fund Balance Reserve","Section A\nLine 3.a","For funds with a negative FY 2023 ending fund balance as shown on the Summary tab, enter the negative fund balance amount on this line in the applicable fund type column. These funds have deficit balances because expenditures exceeded available resources from current revenues and prior year fund balance and reduce the amount of resources available in future years.   "]
["Fund Balance Reserve","Section A\nLine 3.b","For budget-controlled funds only, report any positive cash balances the District has accumulated in excess of the applicable funds' related budget capacity. Districts should compare fund balances in the M&O, UCO, Adjacent Ways, Classroom Site, and State and federal grant funds to unexpended budget limits to determine the excess cash amounts that should be entered on this line. District's may need to consider whether fund balance is misallocated between the M&O and UCO Funds if one fund reports excess fund balance, while the other reports a fund balance deficit."]
["Fund Balance Reserve","Section A\nLine 3.c","Report amounts the District plans to spend to support FY 2024 budgeted spending after using all available FY 2024 revenues. Any nonspendable amounts included in fund balance such as prepaid assets and inventories should be included in this line if the District plans to use them up in FY 2024. Otherwise, such nonspendable assets should be included on the lines below based on the District's plan to use them to benefit a future year, as applicable."]
["Fund Balance Reserve","Section A\nLines 3.d through j","Report accumulated fund balance amounts that will not be used to finance current budget year expenditures and their intended future purposes on lines 3.d through 3.j. Amounts needed to support current budget year expenditures should have been reported on line 3.c. See specific instructions for lines 3.d through 3.j below."]
["Fund Balance Reserve","Section A\nLines 3.d ","Report amounts set aside for future debt service principal and interest payments on long-term debt."]
["Fund Balance Reserve","Section A\nLines 3.e","Report amounts set aside for the future purchase of land, buildings, building improvements, improvements other than buildings, equipment, or other acquisitions that will be capitalized. Additionally, this category may include funds set aside for long-term planned maintenance projects or future replacement of equipment.  "]
["Fund Balance Reserve","Section A\nLines 3.f","Report restricted cash and investments held with ASRS or in an irrevocable 115 trust for future years' retirement contribution payments (i.e., the ASRS Contribution Prepayment Program). Amounts the  District is holding with ASRS or in an irrevocable 115 trust and plans to amortize and apply to the current year's required pension contribution payments should be included on line 3.c."]
["Fund Balance Reserve","Section A\nLines 3.g","Report amounts maintained in an established self-insurance or other post-employment benefit (OPEB) internal service fund for the financing of certain health benefits (comprehensive, major medical, dental) to eligible employees and their dependents."]
["Fund Balance Reserve","Section A\nLines 3.h","Report amounts set aside to manage cash flows in future budget years to cover such things as revenue shortfalls, emergencies, and/or other unforeseen circumstances."]
["Fund Balance Reserve","Section B\nGeneral","Section B provides information about the District's method to establish a targeted fund balance reserve level. Instructions for individual line items are included below."]
["Fund Balance Reserve","Section B\nLine 1","If the District has a process or policy it follows to establish a targeted fund balance reserve level that the District is working to maintain each year, respond \"Yes\" in cell F28. If the District has an adopted Governing Board policy, enter the policy number in the box provided (cell G28). If the District answered \"Yes\" to this question, respond to the questions on lines 2-6 to provide information on the District's process for establishing targeted fund balance reserve levels and any guidance the District used to plan for its existing reserve level. "]
["Fund Balance Reserve","Section B\nLine 2","Describe any guidance used in setting the District's adopted fund balance reserve level policy. If the District does not have an adopted policy, describe any guidance used in planning for its FY 2023 ending fund balances. For example, the Governmental Finance Officer's Association Fund Balance Guidelines or other published guidance on recommended reserve levels. "]
["Fund Balance Reserve","Section B\nLine 3","If the District's Governing Board adopted or otherwise established targeted fund balance reserve level does not include all funds, identify which funds or fund types, if applicable, were included in the targeted fund balance reserve level. For example, if the District's targeted fund balance level is only set for the M&O Fund, UCO Fund, CSF Fund, and specific other non-grant funds, the funds included in the determination of the targeted level should be listed on this line. Either indicate all funds are included, or enter fund types/names as needed here separated by commas."]
["Fund Balance Reserve","Section B\nLine 4","If the District's Governing Board adopted or otherwise established targeted fund balance reserve level specifically excluded some of the fund balance purposes identified in Section A lines 3.a through 3.j, identify which parts of fund balance were not included in the District's targeted reserve level plans. For example, if the district's targeted fund balance reserve level does not consider amounts maintained for debt retirement or future retirement contributions, those excluded purposes should be listed on this line."]
["Fund Balance Reserve","Section B\nLine 5","If District's Governing Board adopted or otherwise established targeted fund balance reserve level was based on a percentage of a District factor, indicate the percentage and related factor (e.g., X% of the FY 2023 RCL, Y% of FY 2023 total expenditures, etc.).  \n\nIf the District had different targeted reserve levels for different funds, information on those separate fund balance reserve targets can be included in the additional information box."]
["Fund Balance Reserve","Section B\nLine 6","Report the District's FY 2023 targeted fund balance reserve amount based on the guidelines in its formal adopted policy or other guidelines described in lines 2 through 5 of this section.\n\nFurther, report the District's actual FY 2023 fund balance reserve amount based on the guidelines in its formal adopted policy or other guidelines described in lines 2 through 5 of this section.\n\nIf the District had different targeted reserve levels for different funds, the District should report combined amounts for all funds identified on line 3 as part of the District's fund balance reserve calculation, for both the targeted and actual amounts included on this line. "]
["Fund Balance Reserve","Section B\nLine 7","Describe any planned actions related to the District's FY 2023 ending fund balances including  information about increasing reserves that do not meet targeted levels or using excess amounts held in reserve beyond the adopted targeted reserve level. Also, describe any planned actions to change targeted reserve levels or formally adopt governing board policies related to reserve levels, if not already in place. This information may also describe the use of separate reserve level targets for separate funds or fund types, if used, why amounts are maintained for the purposes reported in section A, and more detailed information on the District's plans for using maintained fund balances in future years. If the District's fund balance is negative, describe actions planned to eliminate fund balance deficits (negative amounts)."]
["School Listing Tab","Name, County, CTDS Number","Enter the District name, CTDS number, and County. The CTDS number should not contain any slashes, dashes, etc., and must be exactly nine digits. Zeros should be entered to fill the school portion of the number in the heading of this tab.\n\nEnter school-level information for each school within the District including school names, school CTDS numbers, and unweighted attending student counts. All districts must enter the school-level information for each school site, including districts with only 1 school. As school names are added to the tab, the primary unit code cell for that school will shade red until a primary unit code is entered, as described below. The CTDS numbers should not contain any slashes, dashes, etc., and must be exactly nine digits. 100th-day (or 200th-day) student counts should be used to report each school's unweighted attending student count. Districts can refer to AzEDS ADM-15 Report.\n\nEnter the applicable unit code(s) in column E used to code expenditures at the school level for each school, as well as the unit code(s) used to code expenditures to the District, Private Schools, and related to payments for or on behalf of member districts (for CTEDs only). If more than one unit code was used for a school, separate each unit code with a comma. For example (100, 101, 102). \n\nAssign a primary unit code for each school in column F. Each school listed on the school listing tab must have a 3-digit, primary unit code entered in column F. See the description of primary unit code below for more information.\n\n"]
["School Listing Tab","Primary Unit Code","Primary Unit Code\nBecause the formulas in the School-Level Reporting form are set to assign only one unit code to each school and one unit code each to Districtwide, Private Schools, and CTED member districts, if applicable, districts must enter a Primary Unit Code in column F. If more than one unit code was used in column E, the Primary Unit Code must also be entered in the Accounting Data tab in column L for any line associated with a unit code not included in the list of Primary Unit codes."]