{"text_format":"1","workbook":"xlsx","n_sheets":19,"sheets":["Cover","Page 1","Page 2","Page 3","Page 4","Page 5","Page 6","Page 7","Page 8","Page 9","Page 10","Summary","Supplement","Fund Balance Reserve","Coding Errors","School listing","COA","Accounting Data","Instructions"],"not_rendered":{"charts":0,"images":2,"macros":1,"external_links":5,"defined_names":567,"comments":0,"pivot_tables":0},"unopened":[],"bounds":{"document_bytes":16777216,"sheet_cells":100000,"rows_first":2000,"rows_last":500,"rows_between":2000,"halvings":0,"cell_chars":16384,"cell_head_chars":4096},"cells_cut":0,"cells_raw":0,"read":"whole","date_system":"1900"}

{"sheet":"Cover","index":0,"n_rows":46,"n_cols":28,"rows_kept":46,"cut":false,"hidden":false,"merged":[[42,22,42,23],[40,22,40,23],[39,2,39,5],[48,2,48,6],[42,8,42,11],[45,8,45,11],[42,2,42,5],[44,8,44,11],[41,22,41,23],[33,23,34,23],[31,15,32,22],[23,15,24,22],[27,15,27,22],[19,15,21,22],[28,15,30,22],[25,15,25,22],[22,15,22,22],[26,15,26,22],[33,15,34,22],[32,2,32,4],[19,2,19,5],[31,2,31,4],[19,8,19,11],[16,0,16,13],[49,2,49,3],[49,4,49,6],[36,2,36,5],[36,8,36,11],[38,2,38,5],[38,8,38,11],[41,2,41,5],[39,8,39,11],[41,8,41,11],[16,15,17,22],[18,15,18,22],[0,9,0,13],[0,14,0,15],[9,14,9,23],[12,15,13,22],[10,15,11,22],[14,0,14,13],[15,0,15,13],[0,16,0,17],[14,15,15,22],[0,3,0,6],[9,0,9,13],[13,0,13,13],[0,0,0,2],[10,11,10,13]]}
["DISTRICT NAME",null,null,"Liberty Elementary School District No. 25",null,null,null,null,"COUNTY","Maricopa",null,null,null,null,"CTDS NUMBER",null,"070425000",null,null,null,null,null,null,null,null,"030305000","File origination date:","2024-08-15"]
[null,null,null,null,null,null,null,null,null,null,null,null,null,null,null,null,null,null,null,null,null,null,null,null,null,"100337000"]
[null,null,null,null,null,null,null,null,null,null,null,null,null,null,null,null,null,null,null,null,null,null,null,null,null,"100344000"]
[null,null,null,null,null,null,null,null,null,null,null,null,null,null,null,null,null,null,null,null,null,null,null,null,null,"130302000"]
[null,null,null,null,null,null,null,null,null,null,null,null,null,null,null,null,null,null,null,null,null,null,null,null,null,"130307000"]
[null,null,null,null,null,null,null,null,null,null,null,null,null,null,null,null,null,null,null,null,null,null,null,null,null,"060345000"]
[null,null,null,null,null,null,null,null,null,null,null,null,null,null,null,null,null,null,null,null,null,null,null,null,null,"050309000"]
[null,null,null,null,null,null,null,null,null,null,null,null,null,null,null,null,null,null,null,null,null,null,null,null,null,"020801000"]
[null,null,null,null,null,null,null,null,null,null,null,null,null,null,null,null,null,null,null,null,null,null,null,null,null,"030801000"]
["ANNUAL FINANCIAL REPORT",null,null,null,null,null,null,null,null,null,null,null,null,null,{"$f":"IF(OR(P11<>\"\",P13<>\" \",P15<>\" \",P17<>\" \",P19<>\" \",P20<>\" \",P23<>\" \",P24<>\" \",P26<>\" \",P27<>\" \",P28<>\" \",P29<>\" \",P32<>\" \"),\"ALERT: The following items need to be addressed before the AFR is submitted.\",\" \")","v":" "},null,null,null,null,null,null,null,null,null,null,"050802000"]
[null,null,null,null,null,null,null,null,null,null,null,null,null,null,null,{"$f":"IF('Page 2'!J46=0,\"\",IF(OR('Coding Errors'!G17<>\"\",'Coding Errors'!G29<>\"\",'Coding Errors'!G42<>\"\",'Coding Errors'!G56<>\"\",'Coding Errors'!G64<>\"\"),\"Corrections needed in accounting records - See highlighted cells on the Coding Errors tab.\",\"\"))","v":""},null,null,null,null,null,null,null,null,null,"070801000"]
[null,null,null,null,null,null,null,null,null,null,null,null,null,null,null,null,null,null,null,null,null,null,null,null,null,"070802000"]
[null,null,null,null,null,null,null,null,null,null,null,null,null,null,null,{"$f":"IF('Accounting Data'!AA1>0,\"The Rollup Fund column on the Accounting Data tab is not complete. Enter an appropriate fund code from the USFR Chart of Accounts in the Rollup Fund column for any Final Fund cell that is highlighted red.\",\" \")","v":" "},null,null,null,null,null,null,null,null,null,"080850000"]
["We, the Governing Board of the District, hereby certify the",null,null,null,null,null,null,null,null,null,null,null,null,null,null,null,null,null,null,null,null,null,null,null,null,"090835000"]
["Annual Financial Report and School Level Reporting Form per A.R.S. §15-904 ",null,null,null,null,null,null,null,null,null,null,null,null,null,null,{"$f":"IF(OR(CoverCTDS=Z1,CoverCTDS=Z2,CoverCTDS=Z3,CoverCTDS=Z4,CoverCTDS=Z5,CoverCTDS=Z6,CoverCTDS=Z7,CoverCTDS=Z21),\" \",IF(AND(F001TOTALEXP>0,'Page 6'!N13<=0,'Page 6'!Y43=FALSE),\"Page 6, Other Funds Section: Instructional Improvement Fund 020 side table is not complete.\",\" \"))","v":" "},null,null,null,null,null,null,null,null,null,"090836000"]
["for the Fiscal Year",null,null,null,null,null,null,null,null,null,null,null,null,null,null,null,null,null,null,null,null,null,null,null,null,"100811000"]
["2024",null,null,null,null,null,null,null,null,null,null,null,null,null,null,{"$f":"IF(F665Transf=0,\" \",IF(SUM('[1]Page 7'!J47+'[1]Page 7'!J48)=0,\"Page 6, Other Funds Section: Energy and Water Savings Fund transfers not budgeted for correctly on the expenditure budget.\",\" \"))","v":" "},null,null,null,null,null,null,null,null,null,"110801000"]
[null,null,null,null,null,null,null,null,null,null,null,null,null,null,null,null,null,null,null,null,null,null,null,null,null,"110802000"]
[null,null,null,null,null,null,null,null,null,null,null,null,null,null,null,{"$f":"IF(OR(CoverCTDS=Z1,CoverCTDS=Z2,CoverCTDS=Z3,CoverCTDS=Z4,CoverCTDS=Z5,CoverCTDS=Z6,CoverCTDS=Z7,CoverCTDS=Z8,CoverCTDS=Z9,CoverCTDS=Z10,CoverCTDS=Z11,CoverCTDS=Z12,CoverCTDS=Z13,CoverCTDS=Z14,CoverCTDS=Z15,CoverCTDS=Z16,CoverCTDS=Z17,CoverCTDS=Z18,CoverCTDS=Z19,CoverCTDS=Z20,CoverCTDS=Z21),\" \",IF(F001TOTALEXP>0,IF(AND(TotCurrExpFed<=0,'Page 7'!F36<=0),\"Page 7, Section D:Current Expenditures Table is not complete.\",\" \"),\" \"))","v":" "},null,null,null,null,null,null,null,null,null,"130801000"]
[null,null,"SIGNATURE/DATE",null,null,null,null,null,"SIGNATURE/DATE",null,null,null,null,null,null,{"$f":"IF(AND(F001P200TotActExp>0,TotMOSpEdExp<>ROUND(F001P200TotActExp,0)),\"Page 8, Section B: Amount in this table should agree to M&O page 2, line 24. Please ensure all M&O Fund, Program 200 and 300 SPED expenditures are included.\",\" \")","v":" "},null,null,null,null,null,null,null,null,null,"130802000"]
[null,null,null,null,null,null,null,null,null,null,null,null,null,null,null,null,null,null,null,null,null,null,null,null,null,"060203000"]
[null,null,null,null,null,null,null,null,null,null,null,null,null,null,null,null,null,null,null,null,null,null,null,null,null,140801000]
[null,null,null,null,null,null,null,null,null,null,null,null,null,null,null,{"$f":"IF(AND(F001TOTALEXP>0,CurrentYearSalary=0,PriorYearSalary=0,'Page 7'!T33=FALSE),\"Page 7, Section I is not complete.\",\" \")","v":" "}]
[null,null,null,null,null,null,null,null,null,null,null,null,null,null,null,{"$f":"IF(SUM('Page 9'!D43:D44)=0,\" \",IF(AND(((SUM('Page 9'!D35:D39,'Page 9'!F35:F39)/SUM('Page 9'!D43:D44))>10000),(SUM('Page 9'!D35:D39,'Page 9'!F35:F39)/SUM('Page 9'!D43:D44))<80000),\" \",\"Page 9: Teacher salary information and FTE does not appear to be appropriate.\"))","v":" "}]
[]
[null,null,null,null,null,null,null,null,null,null,null,null,null,null,null,{"$f":"IF(OR(CoverCTDS=Z1,CoverCTDS=Z2,CoverCTDS=Z3,CoverCTDS=Z4,CoverCTDS=Z5,CoverCTDS=Z6,CoverCTDS=Z7,CoverCTDS=Z8,CoverCTDS=Z9,CoverCTDS=Z13,CoverCTDS=Z14,CoverCTDS=Z18,CoverCTDS=Z21,CoverCTDS=Z22),\" \",IF(TotExpNPEFS>0,IF(SUM('Page 9'!D35:F39)<=0,\"Page 9: Teacher Salaries Table is not complete.\",\" \"),\" \"))","v":" "}]
[null,null,null,null,null,null,null,null,null,null,null,null,null,null,null,{"$f":"IF(OR(CoverCTDS=Z1,CoverCTDS=Z2,CoverCTDS=Z3,CoverCTDS=Z4,CoverCTDS=Z5,CoverCTDS=Z6,CoverCTDS=Z7,CoverCTDS=Z8,CoverCTDS=Z9,CoverCTDS=Z13,CoverCTDS=Z14,CoverCTDS=Z18,CoverCTDS=Z21),\" \",IF(TotExpNPEFS>0,IF(SUM('Page 9'!D42:D44)<=0,\"Page 9: Other Items Table is not complete.\",\" \"),\" \"))","v":" "}]
[null,null,null,null,null,null,null,null,null,null,null,null,null,null,null,{"$f":"IF(OR(CoverCTDS=Z1,CoverCTDS=Z2,CoverCTDS=Z3,CoverCTDS=Z6,CoverCTDS=Z7,CoverCTDS=Z8,CoverCTDS=Z13),\" \",IF(F001TOTALEXP=0,\" \",IF(SUM('Page 4'!H50:H54)>0,\" \",\"Page 4: Capital Assets Table is not complete.\")))","v":" "}]
[null,null,null,null,null,null,null,null,null,null,null,null,null,null,null,{"$f":"IF('Page 2'!J46=0,\" \",IF(OR('Page 1'!AB11=\"yes\",'Page 1'!AB26=\"yes\",'Page 1'!AB31=\"yes\",'Page 1'!AB38=\"yes\",'Page 1'!AB48=\"yes\",'Page 1'!AB54=\"yes\",'Page 4'!AB7=\"yes\",'Page 5'!AA6=\"yes\",'Page 6'!Y7=\"yes\",'Page 6'!Y41=\"yes\",'Page 7'!AA5=\"yes\",'Page 8'!AA5=\"yes\",'Page 9'!AA57=\"yes\",'Page 10'!Z41=\"yes\"),Z29,\" \"))","v":" "},null,null,null,null,null,null,null,null,null,"Manually entered cells have not been completed. Enter the applicable amount or account code\nin the cells with orange highlighting on Pages 1, 4, 5, 6, 7, 8, 9, or 10.\nSee the Data Uploading Instructions document for more information on manually completed cells."]
[null,null,null,null,null,null,null,null,null,null,null,null,null,null,null,"CVRDEBTSERV"]
[null,null,"The Annual Financial Report file(s) for FY 2024 uploaded to the Arizona Department of Education's website on"]
[null,null,null,null,null,"contain(s) the data for the AFR described above.",null,null,null,null,null,null,null,null,null,{"$f":"IF('Accounting Data'!C100001=\"\",\" \",\"Accounting data entered has too many rows for this file please contact the \nAccountability Services Division of the Auditor General's Office for a larger file.\")","v":" "}]
[null,null,"Date"]
[null,null,null,null,null,null,null,null,null,null,null,null,null,null,null,{"$f":"IF(AA34=\"X\",\"\",\"Districts must review the FY 2024 AFR Formula Corrections file and make any required formula corrections before finalizing and submitting the AFR. Select the X in the dropdown box in cell AA34 once this step is complete.\")","v":""},null,null,null,null,null,null,null,null,null,null,"X"]
[]
[]
[null,null,"Superintendent Signature",null,null,null,null,null,"Business Manager Signature"]
[]
[null,null,"Dr. Cort Monroe",null,null,null,null,null,"Dane Bolden"]
[null,null,"Superintendent (Typed Name)",null,null,null,null,null,"Business Manager (Typed Name)",null,null,null,null,null,null,"TOTAL EXPENDITURES BY FUND"]
[null,null,null,null,null,null,null,null,null,null,null,null,null,null,"1.","Maintenance & Operation (from page 2, line 32)",null,null,null,null,null,"$",{"$f":"F001TOTALEXP","v":36680603}]
[null,null,"Dane Bolden",null,null,null,null,null,"623-474-6613",null,null,null,null,null,"2.","Classroom Site Funds (from page 3, line 13)",null,null,null,null,null,"$",{"$f":"'Page 3'!M21","v":3147105}]
[null,null,"District Contact Employee",null,null,null,null,null,"Telephone Number",null,null,null,null,null,"3.","Unrestricted Capital Outlay (from page 4, UCO Fund line 10)",null,null,null,null,null,"$",{"$f":"F610TotActExp","v":3102432}]
[]
[null,null,null,null,null,null,null,null,"dbolden@liberty25.org"]
[null,null,null,null,null,null,null,null,"Email"]

{"sheet":"Page 1","index":1,"n_rows":59,"n_cols":28,"rows_kept":59,"cut":false,"hidden":false,"merged":[[53,1,53,2],[37,1,37,2],[30,1,30,2],[25,1,25,2],[47,1,47,2],[12,12,12,13],[0,1,0,2],[0,6,0,8],[2,4,3,4],[2,5,3,5]]}
["DISTRICT NAME",{"$f":"CoverDistrictName","v":"Liberty Elementary School District No. 25"},null,null,null,"COUNTY",{"$f":"County","v":"Maricopa"},null,null,null,null,"CTDS NUMBER",{"$f":"Cover!Q1","v":"070425000"}]
[]
[null,null,null,null,"MAINTENANCE AND OPERATION FUND 001","UNRESTRICTED CAPITAL OUTLAY FUND 610","ADJACENT WAYS","BOND BUILDING","DEBT SERVICE","ALL OTHER "]
["FUNDS AVAILABLE",null,null,null,null,null,"FUND 620","FUND 630","FUND 700 (4)","FUNDS"]
[" ",null,null,null,"ACTUAL","ACTUAL","ACTUAL","ACTUAL","ACTUAL","ACTUAL"]
["Beginning Fund Balance (1)",null,null,"1.",{"$f":"'Accounting Data'!R2","v":3985307},{"$f":"'Accounting Data'!R373","v":592356},{"$f":"'Accounting Data'!R374","v":1125680},{"$f":"'Accounting Data'!R375","v":17799841},{"$f":"'Accounting Data'!R384","v":465685},null,"1."]
["REVENUES"]
["1000 Local"]
["1110  Property Taxes",null,null,"2.",{"$f":"-(SUMIFS('Accounting Data'!C2:C100000,'Accounting Data'!E2:E100000,\"001\",'Accounting Data'!J2:J100000,\"111?\"))","v":6948604},{"$f":"-(SUMIFS('Accounting Data'!C2:C100000,'Accounting Data'!E2:E100000,\"610\",'Accounting Data'!J2:J100000,\"111?\"))","v":1185382},{"$f":"-(SUMIFS('Accounting Data'!C2:C100000,'Accounting Data'!E2:E100000,\"620\",'Accounting Data'!J2:J100000,\"111?\"))","v":1750000},null,{"$f":"-(SUMIFS('Accounting Data'!C2:C100000,'Accounting Data'!E2:E100000,\"700\",'Accounting Data'!J2:J100000,\"111?\"))","v":5108802},null,"2.",-1,"The Maintenance and Operation Fund beginning fund balance includes the revolving "]
["1140  Penalties and Interest on Taxes",null,null,"3.",{"$f":"-(SUMIFS('Accounting Data'!C2:C100000,'Accounting Data'!E2:E100000,\"001\",'Accounting Data'!J2:J100000,\"114?\"))","v":0},null,null,null,null,null,"3.",null,"account cash balance of",null,0,"at 7/1/23."]
["1280  Revenue in Lieu of Taxes",null,null,"4.",{"$f":"-(SUMIFS('Accounting Data'!C2:C100000,'Accounting Data'!E2:E100000,\"001\",'Accounting Data'!J2:J100000,\"128?\"))","v":40564},{"$f":"-(SUMIFS('Accounting Data'!C2:C100000,'Accounting Data'!E2:E100000,\"610\",'Accounting Data'!J2:J100000,\"128?\"))","v":0},{"$f":"-(SUMIFS('Accounting Data'!C2:C100000,'Accounting Data'!E2:E100000,\"620\",'Accounting Data'!J2:J100000,\"128?\"))","v":0},null,{"$f":"-(SUMIFS('Accounting Data'!C2:C100000,'Accounting Data'!E2:E100000,\"700\",'Accounting Data'!J2:J100000,\"128?\"))","v":17257},null,"4.",null,null,null,null,null,null,null,null,null,null,null,null,null,null,null,null,{"$f":"IF(OR($O$10=\"\",$O$10=\"$\",$M$13=\"\",$M$13=\"$\",$O$16=\"\",$O$16=\"$\",$Q$18=\"\",$Q$18=\"$\"),\"yes\",\"\")","v":""}]
["1311  Tuition from Individuals Excluding Summer School",null,null,"5.",{"$f":"-(SUMIFS('Accounting Data'!C2:C100000,'Accounting Data'!E2:E100000,\"001\",'Accounting Data'!J2:J100000,\"1311\"))","v":0},{"$f":"-(SUMIFS('Accounting Data'!C2:C100000,'Accounting Data'!E2:E100000,\"610\",'Accounting Data'!J2:J100000,\"1311\"))","v":0},null,null,{"$f":"-(SUMIFS('Accounting Data'!C2:C100000,'Accounting Data'!E2:E100000,\"700\",'Accounting Data'!J2:J100000,\"1311\"))","v":0},null,"5.",-2,"The Government Property Lease Excise Tax revenue included on line 19 is"]
["1312  Tuition from Individuals for Summer School",null,null,"6.",{"$f":"-(SUMIFS('Accounting Data'!C2:C100000,'Accounting Data'!E2:E100000,\"001\",'Accounting Data'!J2:J100000,\"1312\"))","v":0},{"$f":"-(SUMIFS('Accounting Data'!C2:C100000,'Accounting Data'!E2:E100000,\"610\",'Accounting Data'!J2:J100000,\"1312\"))","v":0},null,null,{"$f":"-(SUMIFS('Accounting Data'!C2:C100000,'Accounting Data'!E2:E100000,\"700\",'Accounting Data'!J2:J100000,\"1312\"))","v":0},null,"6.",null,0]
["1320  Tuition from Other Arizona Districts",null,null,"7.",{"$f":"-(SUMIFS('Accounting Data'!C2:C100000,'Accounting Data'!E2:E100000,\"001\",'Accounting Data'!J2:J100000,\"132?\"))","v":0},{"$f":"-(SUMIFS('Accounting Data'!C2:C100000,'Accounting Data'!E2:E100000,\"610\",'Accounting Data'!J2:J100000,\"132?\"))","v":0},null,null,{"$f":"-(SUMIFS('Accounting Data'!C2:C100000,'Accounting Data'!E2:E100000,\"700\",'Accounting Data'!J2:J100000,\"132?\"))","v":0},null,"7."]
["1330  Tuition from Out-of-State Districts ",null,null,"8.",{"$f":"-(SUMIFS('Accounting Data'!C2:C100000,'Accounting Data'!E2:E100000,\"001\",'Accounting Data'!J2:J100000,\"133?\"))","v":0},{"$f":"-(SUMIFS('Accounting Data'!C2:C100000,'Accounting Data'!E2:E100000,\"610\",'Accounting Data'!J2:J100000,\"133?\"))","v":0},null,null,{"$f":"-(SUMIFS('Accounting Data'!C2:C100000,'Accounting Data'!E2:E100000,\"700\",'Accounting Data'!J2:J100000,\"133?\"))","v":0},null,"8.",-3,"The Maintenance and Operation Fund ending fund balance includes the revolving  "]
["1340  Tuition from Other Private Sources (Other than Individuals)",null,null,"9.",{"$f":"-(SUMIFS('Accounting Data'!C2:C100000,'Accounting Data'!E2:E100000,\"001\",'Accounting Data'!J2:J100000,\"134?\"))","v":0},{"$f":"-(SUMIFS('Accounting Data'!C2:C100000,'Accounting Data'!E2:E100000,\"610\",'Accounting Data'!J2:J100000,\"134?\"))","v":0},null,null,{"$f":"-(SUMIFS('Accounting Data'!C2:C100000,'Accounting Data'!E2:E100000,\"700\",'Accounting Data'!J2:J100000,\"134?\"))","v":0},null,"9.",null,"account cash balance of",null,0,"at 6/30/24."]
["1350  Tuition from Other Government Sources Within Arizona",null,null,"10.",{"$f":"-(SUMIFS('Accounting Data'!C2:C100000,'Accounting Data'!E2:E100000,\"001\",'Accounting Data'!J2:J100000,\"135?\"))","v":0},{"$f":"-(SUMIFS('Accounting Data'!C2:C100000,'Accounting Data'!E2:E100000,\"610\",'Accounting Data'!J2:J100000,\"135?\"))","v":0},null,null,{"$f":"-(SUMIFS('Accounting Data'!C2:C100000,'Accounting Data'!E2:E100000,\"700\",'Accounting Data'!J2:J100000,\"135?\"))","v":0},null,"10."]
["1360  Tuition from Other Government Sources Outside Arizona",null,null,"11.",{"$f":"-(SUMIFS('Accounting Data'!C2:C100000,'Accounting Data'!E2:E100000,\"001\",'Accounting Data'!J2:J100000,\"136?\"))","v":0},{"$f":"-(SUMIFS('Accounting Data'!C2:C100000,'Accounting Data'!E2:E100000,\"610\",'Accounting Data'!J2:J100000,\"136?\"))","v":0},null,null,{"$f":"-(SUMIFS('Accounting Data'!C2:C100000,'Accounting Data'!E2:E100000,\"700\",'Accounting Data'!J2:J100000,\"136?\"))","v":0},null,"11.",-4,"Debt Service Fund, interest expenditures amount:",null,null,null,2146402]
["1410  Transportation Fees from Individuals",null,null,"12.",{"$f":"-(SUMIFS('Accounting Data'!C2:C100000,'Accounting Data'!E2:E100000,\"001\",'Accounting Data'!J2:J100000,\"141?\"))","v":0},{"$f":"-(SUMIFS('Accounting Data'!C2:C100000,'Accounting Data'!E2:E100000,\"610\",'Accounting Data'!J2:J100000,\"141?\"))","v":0},null,null,{"$f":"-(SUMIFS('Accounting Data'!C2:C100000,'Accounting Data'!E2:E100000,\"700\",'Accounting Data'!J2:J100000,\"141?\"))","v":0},null,"12."]
["1420  Transportation Fees from Other Arizona Districts",null,null,"13.",{"$f":"-(SUMIFS('Accounting Data'!C2:C100000,'Accounting Data'!E2:E100000,\"001\",'Accounting Data'!J2:J100000,\"142?\"))","v":0},{"$f":"-(SUMIFS('Accounting Data'!C2:C100000,'Accounting Data'!E2:E100000,\"610\",'Accounting Data'!J2:J100000,\"142?\"))","v":0},null,null,{"$f":"-(SUMIFS('Accounting Data'!C2:C100000,'Accounting Data'!E2:E100000,\"700\",'Accounting Data'!J2:J100000,\"142?\"))","v":0},null,"13."]
["1430  Transportation Fees from Out-of-State Districts",null,null,"14.",{"$f":"-(SUMIFS('Accounting Data'!C2:C100000,'Accounting Data'!E2:E100000,\"001\",'Accounting Data'!J2:J100000,\"143?\"))","v":0},{"$f":"-(SUMIFS('Accounting Data'!C2:C100000,'Accounting Data'!E2:E100000,\"610\",'Accounting Data'!J2:J100000,\"143?\"))","v":0},null,null,{"$f":"-(SUMIFS('Accounting Data'!C2:C100000,'Accounting Data'!E2:E100000,\"700\",'Accounting Data'!J2:J100000,\"143?\"))","v":0},null,"14."]
["1440  Transportation Fees from Other Private Sources (Other than Individuals)",null,null,"15.",{"$f":"-(SUMIFS('Accounting Data'!C2:C100000,'Accounting Data'!E2:E100000,\"001\",'Accounting Data'!J2:J100000,\"144?\"))","v":0},{"$f":"-(SUMIFS('Accounting Data'!C2:C100000,'Accounting Data'!E2:E100000,\"610\",'Accounting Data'!J2:J100000,\"144?\"))","v":0},null,null,{"$f":"-(SUMIFS('Accounting Data'!C2:C100000,'Accounting Data'!E2:E100000,\"700\",'Accounting Data'!J2:J100000,\"144?\"))","v":0},null,"15."]
["1450  Transportation Fees from Other Government Sources Within Arizona",null,null,"16.",{"$f":"-(SUMIFS('Accounting Data'!C2:C100000,'Accounting Data'!E2:E100000,\"001\",'Accounting Data'!J2:J100000,\"145?\"))","v":0},{"$f":"-(SUMIFS('Accounting Data'!C2:C100000,'Accounting Data'!E2:E100000,\"610\",'Accounting Data'!J2:J100000,\"145?\"))","v":0},null,null,{"$f":"-(SUMIFS('Accounting Data'!C2:C100000,'Accounting Data'!E2:E100000,\"700\",'Accounting Data'!J2:J100000,\"145?\"))","v":0},null,"16."]
["1460  Transportation Fees from Other Government Sources Outside Arizona",null,null,"17.",{"$f":"-(SUMIFS('Accounting Data'!C2:C100000,'Accounting Data'!E2:E100000,\"001\",'Accounting Data'!J2:J100000,\"146?\"))","v":0},{"$f":"-(SUMIFS('Accounting Data'!C2:C100000,'Accounting Data'!E2:E100000,\"610\",'Accounting Data'!J2:J100000,\"146?\"))","v":0},null,null,{"$f":"-(SUMIFS('Accounting Data'!C2:C100000,'Accounting Data'!E2:E100000,\"700\",'Accounting Data'!J2:J100000,\"146?\"))","v":0},null,"17."]
["1500  Investment Income",null,null,"18.",{"$f":"-(SUMIFS('Accounting Data'!C2:C100000,'Accounting Data'!E2:E100000,\"001\",'Accounting Data'!J2:J100000,\"15??\"))","v":130408},{"$f":"-(SUMIFS('Accounting Data'!C2:C100000,'Accounting Data'!E2:E100000,\"610\",'Accounting Data'!J2:J100000,\"15??\"))","v":-11539},{"$f":"-(SUMIFS('Accounting Data'!C2:C100000,'Accounting Data'!E2:E100000,\"620\",'Accounting Data'!J2:J100000,\"15??\"))","v":24848},{"$f":"-(SUMIFS('Accounting Data'!C2:C100000,'Accounting Data'!E2:E100000,\"630\",'Accounting Data'!J2:J100000,\"15??\"))","v":0},{"$f":"-(SUMIFS('Accounting Data'!C2:C100000,'Accounting Data'!E2:E100000,\"700\",'Accounting Data'!J2:J100000,\"15??\"))","v":594578},null,"18."]
["Other (Specify) (2)","1940, 1980, 1981, 1990",null,"19.",{"$f":"-(SUMIFS('Accounting Data'!C2:C100000,'Accounting Data'!E2:E100000,\"001\",'Accounting Data'!J2:J100000,\"1???\"))-SUM(E9:E25)","v":63534},{"$f":"-(SUMIFS('Accounting Data'!C2:C100000,'Accounting Data'!E2:E100000,\"610\",'Accounting Data'!J2:J100000,\"1???\"))-SUM(F9:F25)","v":32217},{"$f":"-(SUMIFS('Accounting Data'!C2:C100000,'Accounting Data'!E2:E100000,\"620\",'Accounting Data'!J2:J100000,\"1???\"))-(G9+G11+G25)","v":0},{"$f":"-(SUMIFS('Accounting Data'!C2:C100000,'Accounting Data'!E2:E100000,\"630\",'Accounting Data'!J2:J100000,\"1???\"))-H25","v":0},{"$f":"-(SUMIFS('Accounting Data'!C2:C100000,'Accounting Data'!E2:E100000,\"700\",'Accounting Data'!J2:J100000,\"1???\"))-SUM(I9:I25)","v":5412},null,"19.",null,null,null,null,null,null,null,null,null,null,null,null,null,null,null,null,{"$f":"IF(OR(AND(E26<>0,B26=\"\"),AND(F26<>0,B26=\"\"),AND(G26<>0,B26=\"\"),AND(H26<>0,B26=\"\"),AND(I26<>0,B26=\"\")),\"Yes\",\"\")","v":""}]
["                        Total local revenues (lines 2-19)",null,null,"20.",{"$f":"SUM(E9:E26)","v":7183110},{"$f":"F9+SUM(F11:F26)","v":1206060},{"$f":"G9+G11+SUM(G25:G26)","v":1774848},{"$f":"SUM(H25:H26)","v":0},{"$f":"I9+SUM(I11:I26)","v":5726049},null,"20."]
["2000 County"]
["2110  County School Fund",null,null,"21.",{"$f":"-(SUMIFS('Accounting Data'!C2:C100000,'Accounting Data'!E2:E100000,\"001\",'Accounting Data'!J2:J100000,\"21??\"))","v":-1960},{"$f":"-(SUMIFS('Accounting Data'!C2:C100000,'Accounting Data'!E2:E100000,\"610\",'Accounting Data'!J2:J100000,\"21??\"))","v":-188},null,null,null,null,"21."]
["2210  Special County School Reserve Fund",null,null,"22.",{"$f":"-(SUMIFS('Accounting Data'!C2:C100000,'Accounting Data'!E2:E100000,\"001\",'Accounting Data'!J2:J100000,\"221?\"))","v":0},{"$f":"-(SUMIFS('Accounting Data'!C2:C100000,'Accounting Data'!E2:E100000,\"610\",'Accounting Data'!J2:J100000,\"221?\"))","v":0},null,null,null,null,"22."]
["Other (Specify)",null,null,"23.",{"$f":"-(SUMIFS('Accounting Data'!C2:C100000,'Accounting Data'!E2:E100000,\"001\",'Accounting Data'!J2:J100000,\"2???\"))-SUM(E29:E30)","v":0},{"$f":"-(SUMIFS('Accounting Data'!C2:C100000,'Accounting Data'!E2:E100000,\"610\",'Accounting Data'!J2:J100000,\"2???\"))-SUM(F29:F30)","v":0},null,null,null,null,"23.",null,null,null,null,null,null,null,null,null,null,null,null,null,null,null,null,{"$f":"IF(OR(AND(E31<>0,B31=\"\"),AND(F31<>0,B31=\"\"),AND(G31<>0,B31=\"\"),AND(H31<>0,B31=\"\"),AND(I31<>0,B31=\"\")),\"Yes\",\"\")","v":""}]
["                       Total county revenues (lines 21-23)",null,null,"24.",{"$f":"SUM(E29:E31)","v":-1960},{"$f":"SUM(F29:F31)","v":-188},null,null,null,null,"24."]
["3000 State"]
["3100  Unrestricted",null,null,"25.",{"$f":"-(SUMIFS('Accounting Data'!C2:C100000,'Accounting Data'!E2:E100000,\"001\",'Accounting Data'!J2:J100000,\"310?\"))","v":1366833},{"$f":"-(SUMIFS('Accounting Data'!C2:C100000,'Accounting Data'!E2:E100000,\"610\",'Accounting Data'!J2:J100000,\"310?\"))","v":0},null,null,null,{"$f":"-(SUMIFS('Accounting Data'!C2:C100000,'Accounting Data'!J2:J100000,\"310?\"))-(E34+F34)","v":43614},"25."]
["3110  State Equalization Assistance",null,null,"26.",{"$f":"-(SUMIFS('Accounting Data'!C2:C100000,'Accounting Data'!E2:E100000,\"001\",'Accounting Data'!J2:J100000,\"311?\"))","v":24017553},{"$f":"-(SUMIFS('Accounting Data'!C2:C100000,'Accounting Data'!E2:E100000,\"610\",'Accounting Data'!J2:J100000,\"311?\"))","v":1863119},null,null,null,{"$f":"-(SUMIFS('Accounting Data'!C2:C100000,'Accounting Data'!J2:J100000,\"311?\"))-(E35+F35)","v":0},"26."]
["3120  Additional State Aid",null,null,"27.",{"$f":"-(SUMIFS('Accounting Data'!C2:C100000,'Accounting Data'!E2:E100000,\"001\",'Accounting Data'!J2:J100000,\"312?\"))","v":1958821},{"$f":"-(SUMIFS('Accounting Data'!C2:C100000,'Accounting Data'!E2:E100000,\"610\",'Accounting Data'!J2:J100000,\"312?\"))","v":151952},null,null,null,{"$f":"-(SUMIFS('Accounting Data'!C2:C100000,'Accounting Data'!J2:J100000,\"312?\"))-(E36+F36)","v":-1},"27."]
["3200  Restricted",null,null,"28.",null,null,null,null,null,{"$f":"-(SUMIFS('Accounting Data'!C2:C100000,'Accounting Data'!J2:J100000,\"32??\"))-(E37+F37)","v":4880085},"28."]
["Other (Specify)","Rounding",null,"29.",{"$f":"-(SUMIFS('Accounting Data'!C2:C100000,'Accounting Data'!E2:E100000,\"001\",'Accounting Data'!J2:J100000,\"3???\"))-SUM(E34:E36)","v":0},{"$f":"-(SUMIFS('Accounting Data'!C2:C100000,'Accounting Data'!E2:E100000,\"610\",'Accounting Data'!J2:J100000,\"3???\"))-SUM(F34:F36)","v":0},null,null,{"$f":"-(SUMIFS('Accounting Data'!C2:C100000,'Accounting Data'!E2:E100000,\"700\",'Accounting Data'!J2:J100000,\"3???\"))","v":0},{"$f":"-(SUMIFS('Accounting Data'!C2:C100000,'Accounting Data'!J2:J100000,\"3???\"))-(E39+F39+I39+SUM(J34:J37))","v":1},"29.",null,null,null,null,null,null,null,null,null,null,null,null,null,null,null,null,{"$f":"IF(OR(AND(E38<>0,B38=\"\"),AND(F38<>0,B38=\"\"),AND(G38<>0,B38=\"\"),AND(H38<>0,B38=\"\"),AND(I38<>0,B38=\"\"),AND(J38<>0,B38=\"\")),\"Yes\",\"\")","v":""}]
["                        Total State revenues (lines 25-29)",null,null,"30.",{"$f":"SUM(E34:E38)","v":27343207},{"$f":"SUM(F34:F38)","v":2015071},null,null,{"$f":"I38","v":0},{"$f":"SUM(J34:J38)","v":4923699},"30."]
["4000 Federal"]
["4100  Unrestricted Revenue Received Directly from the Federal Government",null,null,"31.",{"$f":"-(SUMIFS('Accounting Data'!C2:C100000,'Accounting Data'!E2:E100000,\"001\",'Accounting Data'!J2:J100000,\"41??\"))","v":0},null,null,null,null,{"$f":"-(SUMIFS('Accounting Data'!C2:C100000,'Accounting Data'!J2:J100000,\"41??\"))-E41","v":0},"31."]
["4200  Unrestricted Revenue Received from the Federal Government through the State",null,null,"32.",{"$f":"-(SUMIFS('Accounting Data'!C2:C100000,'Accounting Data'!E2:E100000,\"001\",'Accounting Data'!J2:J100000,\"42??\"))","v":0},null,null,null,null,{"$f":"-(SUMIFS('Accounting Data'!C2:C100000,'Accounting Data'!J2:J100000,\"42??\"))-E42","v":354161},"32."]
["4300  Restricted Revenue Received Directly from the Federal Government",null,null,"33.",null,null,null,null,null,{"$f":"-(SUMIFS('Accounting Data'!C2:C100000,'Accounting Data'!J2:J100000,\"43??\"))","v":0},"33."]
["4500  Restricted Reveneu Received from the Federal Government through the State",null,null,"34.",null,null,null,null,null,{"$f":"-(SUMIFS('Accounting Data'!C2:C100000,'Accounting Data'!J2:J100000,\"45??\"))-(E44+F44)","v":5256195},"34."]
["4700  Revenue Received from the Federal Government through Other Intermediate Agencies",null,null,"35.",{"$f":"-(SUMIFS('Accounting Data'!C2:C100000,'Accounting Data'!E2:E100000,\"001\",'Accounting Data'!J2:J100000,\"47??\"))","v":0},null,null,null,null,{"$f":"-(SUMIFS('Accounting Data'!C2:C100000,'Accounting Data'!J2:J100000,\"47??\"))-E45","v":0},"35."]
["4800  Revenue in Lieu of Taxes",null,null,"36.",{"$f":"-(SUMIFS('Accounting Data'!C2:C100000,'Accounting Data'!E2:E100000,\"001\",'Accounting Data'!J2:J100000,\"48??\"))","v":0},null,null,null,null,{"$f":"-(SUMIFS('Accounting Data'!C2:C100000,'Accounting Data'!J2:J100000,\"48??\"))-E46","v":0},"36."]
["4900  Revenue for/on Behalf of the District",null,null,"37.",{"$f":"-(SUMIFS('Accounting Data'!C2:C100000,'Accounting Data'!E2:E100000,\"001\",'Accounting Data'!J2:J100000,\"49??\"))","v":0},null,null,null,null,{"$f":"-(SUMIFS('Accounting Data'!C2:C100000,'Accounting Data'!J2:J100000,\"49??\"))-E47","v":346249},"37."]
["Other (Specify)",null,null,"38.",{"$f":"-(SUMIFS('Accounting Data'!C2:C100000,'Accounting Data'!E2:E100000,\"001\",'Accounting Data'!J2:J100000,\"4???\"))-SUM(E41:E47)","v":0},null,null,null,{"$f":"-(SUMIFS('Accounting Data'!C2:C100000,'Accounting Data'!E2:E100000,\"700\",'Accounting Data'!J2:J100000,\"4???\"))","v":0},{"$f":"-(SUMIFS('Accounting Data'!C2:C100000,'Accounting Data'!J2:J100000,\"4???\"))-(E49+I49+SUM(J41:J47))","v":0},"38.",null,null,null,null,null,null,null,null,null,null,null,null,null,null,null,null,{"$f":"IF(OR(AND(E48<>0,B48=\"\"),AND(F48<>0,B48=\"\"),AND(G48<>0,B48=\"\"),AND(H48<>0,B48=\"\"),AND(I48<>0,B48=\"\")*AND(J48<>0,B48=\"\")),\"Yes\",\"\")","v":""}]
["                       Total federal revenues (lines 31-38)",null,null,"39.",{"$f":"SUM(E41:E42)+SUM(E45:E48)","v":0},null,null,null,{"$f":"I48","v":0},{"$f":"SUM(J41:J48)","v":5956605},"39."]
[]
["Total Fund Revenue (lines 20, 24, 30, and 39)",null,null,"40.",{"$f":"E27+E32+E39+E49","v":34524357},{"$f":"F27+F32+F39+F49","v":3220943},{"$f":"G27+G32+G39+G49","v":1774848},{"$f":"H27+H32+H39+H49","v":0},{"$f":"I27+I32+I39+I49","v":5726049},null,"40."]
["5100  Issuance of Bonds",null,null,"41.",null,null,null,{"$f":"-(SUMIFS('Accounting Data'!C2:C100000,'Accounting Data'!E2:E100000,\"630\",'Accounting Data'!J2:J100000,\"51??\"))","v":3288462},{"$f":"-(SUMIFS('Accounting Data'!C2:C100000,'Accounting Data'!E2:E100000,\"700\",'Accounting Data'!J2:J100000,\"51??\"))","v":0},null,"41."]
["5200  Fund Transfers-In",null,null,"42.",{"$f":"-(SUMIFS('Accounting Data'!C2:C100000,'Accounting Data'!E2:E100000,\"001\",'Accounting Data'!J2:J100000,\"52??\"))","v":0},{"$f":"-(SUMIFS('Accounting Data'!C2:C100000,'Accounting Data'!E2:E100000,\"610\",'Accounting Data'!J2:J100000,\"52??\"))","v":0},{"$f":"-(SUMIFS('Accounting Data'!C2:C100000,'Accounting Data'!E2:E100000,\"620\",'Accounting Data'!J2:J100000,\"52??\"))","v":0},{"$f":"-(SUMIFS('Accounting Data'!C2:C100000,'Accounting Data'!E2:E100000,\"630\",'Accounting Data'!J2:J100000,\"52??\"))","v":0},{"$f":"-(SUMIFS('Accounting Data'!C2:C100000,'Accounting Data'!E2:E100000,\"700\",'Accounting Data'!J2:J100000,\"52??\"))","v":0},null,"42."]
["Other (Specify)",null,null,"43.",{"$f":"-(SUMIFS('Accounting Data'!C2:C100000,'Accounting Data'!E2:E100000,\"001\",'Accounting Data'!J2:J100000,\"5???\"))-F001TransIn","v":0},{"$f":"-(SUMIFS('Accounting Data'!C2:C100000,'Accounting Data'!E2:E100000,\"610\",'Accounting Data'!J2:J100000,\"5???\"))-F610TransIn","v":0},{"$f":"-(SUMIFS('Accounting Data'!C2:C100000,'Accounting Data'!E2:E100000,\"620\",'Accounting Data'!J2:J100000,\"5???\"))-F620TransfIn","v":0},{"$f":"-(SUMIFS('Accounting Data'!C2:C100000,'Accounting Data'!E2:E100000,\"630\",'Accounting Data'!J2:J100000,\"5???\"))-SUM(H52:H53)","v":0},{"$f":"-(SUMIFS('Accounting Data'!C2:C100000,'Accounting Data'!E2:E100000,\"700\",'Accounting Data'!J2:J100000,\"5???\"))-SUM(I52:I53)","v":0},null,"43.",null,null,null,null,null,null,null,null,null,null,null,null,null,null,null,null,{"$f":"IF(OR(AND(E54<>0,B54=\"\"),AND(F54<>0,B54=\"\"),AND(G54<>0,B54=\"\"),AND(H54<>0,B54=\"\"),AND(I54<>0,B54=\"\")),\"Yes\",\"\")","v":""}]
["TOTAL FUNDS AVAILABLE (lines 1 and 40 through 43)",null,null,"44.",{"$f":"SUM(E6+E51+E53+E54)","v":38509664},{"$f":"SUM(F6+F51+F53+F54)","v":3813299},{"$f":"SUM(G6+G51+G53+G54)","v":2900528},{"$f":"SUM(H6+H51+H52+H53+H54)","v":21088303},{"$f":"SUM(I6+I51+I52+I53+I54)","v":6191734},null,"44."]
["Total Expenditures ",null,null,"45.",{"$f":"F001TOTALEXP","v":36680603},{"$f":"F610TotActExp","v":3102432},{"$f":"SUMIFS('Accounting Data'!C2:C100000,'Accounting Data'!E2:E100000,\"620\",'Accounting Data'!J2:J100000,\"6???\")-SUMIFS('Accounting Data'!C2:C100000,'Accounting Data'!E2:E100000,\"620\",'Accounting Data'!J2:J100000,\"69??\")","v":31138},{"$f":"SUMIFS('Accounting Data'!C2:C100000,'Accounting Data'!E2:E100000,\"630\",'Accounting Data'!J2:J100000,\"6???\")-SUMIFS('Accounting Data'!C2:C100000,'Accounting Data'!E2:E100000,\"630\",'Accounting Data'!J2:J100000,\"69??\")","v":3391910},{"$f":"SUMIFS('Accounting Data'!C2:C100000,'Accounting Data'!E2:E100000,\"700\",'Accounting Data'!J2:J100000,\"6???\")-SUMIFS('Accounting Data'!C2:C100000,'Accounting Data'!E2:E100000,\"700\",'Accounting Data'!J2:J100000,\"69??\")","v":5499252},null,"45."]
["6900  Other Financing Uses and Other Items Including Transfers-Out",null,null,"46.",{"$f":"SUMIFS('Accounting Data'!C2:C100000,'Accounting Data'!E2:E100000,\"001\",'Accounting Data'!J2:J100000,\"69??\")","v":0},{"$f":"SUMIFS('Accounting Data'!C2:C100000,'Accounting Data'!E2:E100000,\"610\",'Accounting Data'!J2:J100000,\"69??\")","v":0},{"$f":"SUMIFS('Accounting Data'!C2:C100000,'Accounting Data'!E2:E100000,\"620\",'Accounting Data'!J2:J100000,\"69??\")","v":0},{"$f":"SUMIFS('Accounting Data'!C2:C100000,'Accounting Data'!E2:E100000,\"630\",'Accounting Data'!J2:J100000,\"69??\")","v":0},{"$f":"SUMIFS('Accounting Data'!C2:C100000,'Accounting Data'!E2:E100000,\"700\",'Accounting Data'!J2:J100000,\"69??\")","v":0},null,"46."]
["TOTAL EXPENDITURES AND OTHER USES (lines 45 plus 46)",null,null,"47.",{"$f":"E56+E57","v":36680603},{"$f":"SUM(F56:F57)","v":3102432},{"$f":"SUM(G56:G57)","v":31138},{"$f":"SUM(H56:H57)","v":3391910},{"$f":"SUM(I56:I57)","v":5499252},null,"47."]
["ENDING FUND BALANCE (line 44 minus line 47) (3)",null,null,"48.",{"$f":"SUM(E55-E58)","v":1829061},{"$f":"SUM(F55-F58)","v":710867},{"$f":"SUM(G55-G58)","v":2869390},{"$f":"SUM(H55-H58)","v":17696393},{"$f":"SUM(I55-I58)","v":692482},null,"48."]

{"sheet":"Page 2","index":2,"n_rows":46,"n_cols":13,"rows_kept":46,"cut":false,"hidden":false,"merged":[[22,10,23,10],[24,10,25,10],[34,10,35,10],[34,11,35,11],[36,11,37,11],[36,8,37,8],[36,9,37,9],[36,7,37,7],[38,11,39,11],[42,11,43,11],[36,10,37,10],[38,10,39,10],[42,10,43,10],[42,9,43,9],[38,7,39,7],[38,8,39,8],[38,9,39,9],[42,7,43,7],[42,8,43,8],[3,11,5,11],[6,11,7,11],[8,11,9,11],[22,11,23,11],[24,11,25,11],[36,6,37,6],[34,5,35,5],[34,6,35,6],[42,3,43,3],[42,4,43,4],[42,5,43,5],[42,6,43,6],[38,3,39,3],[38,4,39,4],[38,5,39,5],[38,6,39,6],[34,3,35,3],[34,4,35,4],[36,3,37,3],[36,4,37,4],[36,5,37,5],[22,9,23,9],[24,9,25,9],[34,7,35,7],[34,9,35,9],[34,8,35,8],[24,8,25,8],[22,7,23,7],[22,3,23,3],[22,4,23,4],[22,5,23,5],[22,6,23,6],[22,8,23,8],[24,3,25,3],[24,4,25,4],[24,5,25,5],[24,6,25,6],[24,7,25,7],[4,10,5,10],[6,5,7,5],[6,6,7,6],[8,8,9,8],[6,7,7,7],[4,8,5,8],[4,9,5,9],[6,8,7,8],[8,5,9,5],[8,6,9,6],[6,9,7,9],[0,1,0,3],[0,9,0,10],[1,0,1,10],[0,5,0,7],[3,8,3,10],[8,3,9,3],[8,7,9,7],[8,9,9,9],[6,10,7,10],[8,10,9,10],[6,3,7,3],[6,4,7,4],[8,4,9,4]]}
["DISTRICT NAME",{"$f":"CoverDistrictName","v":"Liberty Elementary School District No. 25"},null,null,"COUNTY",{"$f":"County","v":"Maricopa"},null,null,"CTDS NUMBER",{"$f":"Cover!Q1","v":"070425000"}]
["MAINTENANCE AND OPERATION FUND (001)—EXPENDITURES"]
[]
[null,null,null,null,"Employee","Purchased Services",null,null,"Totals",null,null,"% Increase/ Decrease in Actual"]
["Expenditures",null,null,"Salaries","Benefits","6300, 6400,","Supplies","Other","Budget","Actual","Prior Year Actual"]
[null,null,null,"6100","6200","6500",6600,6800]
["100 Regular Education",null,null,{"$f":"SUMIFS('Accounting Data'!C2:C100000,'Accounting Data'!E2:E100000,\"001\",'Accounting Data'!H2:H100000,\"1??\",'Accounting Data'!I2:I100000,\"1???\",'Accounting Data'!J2:J100000,\"61??\")","v":10917347},{"$f":"SUMIFS('Accounting Data'!C2:C100000,'Accounting Data'!E2:E100000,\"001\",'Accounting Data'!H2:H100000,\"1??\",'Accounting Data'!I2:I100000,\"1???\",'Accounting Data'!J2:J100000,\"62??\")","v":3421057},{"$f":"SUMIFS('Accounting Data'!C2:C100000,'Accounting Data'!E2:E100000,\"001\",'Accounting Data'!H2:H100000,\"1??\",'Accounting Data'!I2:I100000,\"1???\",'Accounting Data'!J2:J100000,\"63??\")+SUMIFS('Accounting Data'!C2:C100000,'Accounting Data'!E2:E100000,\"001\",'Accounting Data'!H2:H100000,\"1??\",'Accounting Data'!I2:I100000,\"1???\",'Accounting Data'!J2:J100000,\"64??\")+SUMIFS('Accounting Data'!C2:C100000,'Accounting Data'!E2:E100000,\"001\",'Accounting Data'!H2:H100000,\"1??\",'Accounting Data'!I2:I100000,\"1???\",'Accounting Data'!J2:J100000,\"65??\")","v":33401},{"$f":"SUMIFS('Accounting Data'!C2:C100000,'Accounting Data'!E2:E100000,\"001\",'Accounting Data'!H2:H100000,\"1??\",'Accounting Data'!I2:I100000,\"1???\",'Accounting Data'!J2:J100000,\"66??\")","v":190672},{"$f":"SUMIFS('Accounting Data'!C2:C100000,'Accounting Data'!E2:E100000,\"001\",'Accounting Data'!H2:H100000,\"1??\",'Accounting Data'!I2:I100000,\"1???\",'Accounting Data'!J2:J100000,\"68??\")","v":2225},{"$f":"[1]!F001P100F1000","v":15071086},{"$f":"SUM(D7:H7)","v":14564702},{"$f":"[2]!F001P100F1000","v":13480404},{"$f":"IF(J7=K7,0,IF(K7>0,(J7-K7)/K7,\"--\"))","v":0.08}]
["   1000 Instruction",null,"1.",null,null,null,null,null,null,null,null,null,"1."]
["   2000 Support Services",null," ",{"$f":"SUMIFS('Accounting Data'!C2:C100000,'Accounting Data'!E2:E100000,\"001\",'Accounting Data'!H2:H100000,\"1??\",'Accounting Data'!I2:I100000,\"21??\",'Accounting Data'!J2:J100000,\"61??\")","v":381879},{"$f":"SUMIFS('Accounting Data'!C2:C100000,'Accounting Data'!E2:E100000,\"001\",'Accounting Data'!H2:H100000,\"1??\",'Accounting Data'!I2:I100000,\"21??\",'Accounting Data'!J2:J100000,\"62??\")","v":142748},{"$f":"SUMIFS('Accounting Data'!C2:C100000,'Accounting Data'!E2:E100000,\"001\",'Accounting Data'!H2:H100000,\"1??\",'Accounting Data'!I2:I100000,\"21??\",'Accounting Data'!J2:J100000,\"63??\")+SUMIFS('Accounting Data'!C2:C100000,'Accounting Data'!E2:E100000,\"001\",'Accounting Data'!H2:H100000,\"1??\",'Accounting Data'!I2:I100000,\"21??\",'Accounting Data'!J2:J100000,\"64??\")+SUMIFS('Accounting Data'!C2:C100000,'Accounting Data'!E2:E100000,\"001\",'Accounting Data'!H2:H100000,\"1??\",'Accounting Data'!I2:I100000,\"21??\",'Accounting Data'!J2:J100000,\"65??\")","v":809},{"$f":"SUMIFS('Accounting Data'!C2:C100000,'Accounting Data'!E2:E100000,\"001\",'Accounting Data'!H2:H100000,\"1??\",'Accounting Data'!I2:I100000,\"21??\",'Accounting Data'!J2:J100000,\"66??\")","v":10171},{"$f":"SUMIFS('Accounting Data'!C2:C100000,'Accounting Data'!E2:E100000,\"001\",'Accounting Data'!H2:H100000,\"1??\",'Accounting Data'!I2:I100000,\"21??\",'Accounting Data'!J2:J100000,\"68??\")","v":0},{"$f":"[1]!F001P100F2100","v":521472},{"$f":"SUM(D9:H9)","v":535607},{"$f":"[2]!F001P100F2100","v":548829},{"$f":"IF(J9=K9,0,IF(K9>0,(J9-K9)/K9,\"--\"))","v":-2.4E-2}," "]
["      2100 Students",null,"2.",null,null,null,null,null,null,null,null,null,"2."]
["      2200 Instructional Staff",null,"3.",{"$f":"SUMIFS('Accounting Data'!C2:C100000,'Accounting Data'!E2:E100000,\"001\",'Accounting Data'!H2:H100000,\"1??\",'Accounting Data'!I2:I100000,\"22??\",'Accounting Data'!J2:J100000,\"61??\")","v":1017833},{"$f":"SUMIFS('Accounting Data'!C2:C100000,'Accounting Data'!E2:E100000,\"001\",'Accounting Data'!H2:H100000,\"1??\",'Accounting Data'!I2:I100000,\"22??\",'Accounting Data'!J2:J100000,\"62??\")","v":299410},{"$f":"SUMIFS('Accounting Data'!C2:C100000,'Accounting Data'!E2:E100000,\"001\",'Accounting Data'!H2:H100000,\"1??\",'Accounting Data'!I2:I100000,\"22??\",'Accounting Data'!J2:J100000,\"63??\")+SUMIFS('Accounting Data'!C2:C100000,'Accounting Data'!E2:E100000,\"001\",'Accounting Data'!H2:H100000,\"1??\",'Accounting Data'!I2:I100000,\"22??\",'Accounting Data'!J2:J100000,\"64??\")+SUMIFS('Accounting Data'!C2:C100000,'Accounting Data'!E2:E100000,\"001\",'Accounting Data'!H2:H100000,\"1??\",'Accounting Data'!I2:I100000,\"22??\",'Accounting Data'!J2:J100000,\"65??\")","v":56592},{"$f":"SUMIFS('Accounting Data'!C2:C100000,'Accounting Data'!E2:E100000,\"001\",'Accounting Data'!H2:H100000,\"1??\",'Accounting Data'!I2:I100000,\"22??\",'Accounting Data'!J2:J100000,\"66??\")","v":9218},{"$f":"SUMIFS('Accounting Data'!C2:C100000,'Accounting Data'!E2:E100000,\"001\",'Accounting Data'!H2:H100000,\"1??\",'Accounting Data'!I2:I100000,\"22??\",'Accounting Data'!J2:J100000,\"68??\")","v":1476},{"$f":"[1]!F001P100F2200","v":1359072},{"$f":"SUM(D11:H11)","v":1384529},{"$f":"[2]!F001P100F2200","v":1314267},{"$f":"IF(J11=K11,0,IF(K11>0,(J11-K11)/K11,\"--\"))","v":5.2999999999999999E-2},"3."]
["      2300 General Administration",null,"4.",{"$f":"SUMIFS('Accounting Data'!C2:C100000,'Accounting Data'!E2:E100000,\"001\",'Accounting Data'!H2:H100000,\"1??\",'Accounting Data'!I2:I100000,\"23??\",'Accounting Data'!J2:J100000,\"61??\")","v":317929},{"$f":"SUMIFS('Accounting Data'!C2:C100000,'Accounting Data'!E2:E100000,\"001\",'Accounting Data'!H2:H100000,\"1??\",'Accounting Data'!I2:I100000,\"23??\",'Accounting Data'!J2:J100000,\"62??\")","v":119448},{"$f":"SUMIFS('Accounting Data'!C2:C100000,'Accounting Data'!E2:E100000,\"001\",'Accounting Data'!H2:H100000,\"1??\",'Accounting Data'!I2:I100000,\"23??\",'Accounting Data'!J2:J100000,\"63??\")+SUMIFS('Accounting Data'!C2:C100000,'Accounting Data'!E2:E100000,\"001\",'Accounting Data'!H2:H100000,\"1??\",'Accounting Data'!I2:I100000,\"23??\",'Accounting Data'!J2:J100000,\"64??\")+SUMIFS('Accounting Data'!C2:C100000,'Accounting Data'!E2:E100000,\"001\",'Accounting Data'!H2:H100000,\"1??\",'Accounting Data'!I2:I100000,\"23??\",'Accounting Data'!J2:J100000,\"65??\")","v":181536},{"$f":"SUMIFS('Accounting Data'!C2:C100000,'Accounting Data'!E2:E100000,\"001\",'Accounting Data'!H2:H100000,\"1??\",'Accounting Data'!I2:I100000,\"23??\",'Accounting Data'!J2:J100000,\"66??\")","v":24617},{"$f":"SUMIFS('Accounting Data'!C2:C100000,'Accounting Data'!E2:E100000,\"001\",'Accounting Data'!H2:H100000,\"1??\",'Accounting Data'!I2:I100000,\"23??\",'Accounting Data'!J2:J100000,\"68??\")","v":45208},{"$f":"[1]!F001P100F2300","v":699581},{"$f":"SUM(D12:H12)","v":688738},{"$f":"[2]!F001P100F2300","v":509813},{"$f":"IF(J12=K12,0,IF(K12>0,(J12-K12)/K12,\"--\"))","v":0.35099999999999998},"4."]
["      2400 School Administration",null,"5.",{"$f":"SUMIFS('Accounting Data'!C2:C100000,'Accounting Data'!E2:E100000,\"001\",'Accounting Data'!H2:H100000,\"1??\",'Accounting Data'!I2:I100000,\"24??\",'Accounting Data'!J2:J100000,\"61??\")","v":1756724},{"$f":"SUMIFS('Accounting Data'!C2:C100000,'Accounting Data'!E2:E100000,\"001\",'Accounting Data'!H2:H100000,\"1??\",'Accounting Data'!I2:I100000,\"24??\",'Accounting Data'!J2:J100000,\"62??\")","v":517551},{"$f":"SUMIFS('Accounting Data'!C2:C100000,'Accounting Data'!E2:E100000,\"001\",'Accounting Data'!H2:H100000,\"1??\",'Accounting Data'!I2:I100000,\"24??\",'Accounting Data'!J2:J100000,\"63??\")+SUMIFS('Accounting Data'!C2:C100000,'Accounting Data'!E2:E100000,\"001\",'Accounting Data'!H2:H100000,\"1??\",'Accounting Data'!I2:I100000,\"24??\",'Accounting Data'!J2:J100000,\"64??\")+SUMIFS('Accounting Data'!C2:C100000,'Accounting Data'!E2:E100000,\"001\",'Accounting Data'!H2:H100000,\"1??\",'Accounting Data'!I2:I100000,\"24??\",'Accounting Data'!J2:J100000,\"65??\")","v":7154},{"$f":"SUMIFS('Accounting Data'!C2:C100000,'Accounting Data'!E2:E100000,\"001\",'Accounting Data'!H2:H100000,\"1??\",'Accounting Data'!I2:I100000,\"24??\",'Accounting Data'!J2:J100000,\"66??\")","v":18068},{"$f":"SUMIFS('Accounting Data'!C2:C100000,'Accounting Data'!E2:E100000,\"001\",'Accounting Data'!H2:H100000,\"1??\",'Accounting Data'!I2:I100000,\"24??\",'Accounting Data'!J2:J100000,\"68??\")","v":21598},{"$f":"[1]!F001P100F2400","v":2298166},2321095,{"$f":"[2]!F001P100F2400","v":2125813},9.1999999999999998E-2,"5."]
["      2500 Central Services",null,"6.",{"$f":"SUMIFS('Accounting Data'!C2:C100000,'Accounting Data'!E2:E100000,\"001\",'Accounting Data'!H2:H100000,\"1??\",'Accounting Data'!I2:I100000,\"25??\",'Accounting Data'!J2:J100000,\"61??\")","v":998011},{"$f":"SUMIFS('Accounting Data'!C2:C100000,'Accounting Data'!E2:E100000,\"001\",'Accounting Data'!H2:H100000,\"1??\",'Accounting Data'!I2:I100000,\"25??\",'Accounting Data'!J2:J100000,\"62??\")","v":312083},{"$f":"SUMIFS('Accounting Data'!C2:C100000,'Accounting Data'!E2:E100000,\"001\",'Accounting Data'!H2:H100000,\"1??\",'Accounting Data'!I2:I100000,\"25??\",'Accounting Data'!J2:J100000,\"63??\")+SUMIFS('Accounting Data'!C2:C100000,'Accounting Data'!E2:E100000,\"001\",'Accounting Data'!H2:H100000,\"1??\",'Accounting Data'!I2:I100000,\"25??\",'Accounting Data'!J2:J100000,\"64??\")+SUMIFS('Accounting Data'!C2:C100000,'Accounting Data'!E2:E100000,\"001\",'Accounting Data'!H2:H100000,\"1??\",'Accounting Data'!I2:I100000,\"25??\",'Accounting Data'!J2:J100000,\"65??\")","v":338771},{"$f":"SUMIFS('Accounting Data'!C2:C100000,'Accounting Data'!E2:E100000,\"001\",'Accounting Data'!H2:H100000,\"1??\",'Accounting Data'!I2:I100000,\"25??\",'Accounting Data'!J2:J100000,\"66??\")","v":96692},{"$f":"SUMIFS('Accounting Data'!C2:C100000,'Accounting Data'!E2:E100000,\"001\",'Accounting Data'!H2:H100000,\"1??\",'Accounting Data'!I2:I100000,\"25??\",'Accounting Data'!J2:J100000,\"68??\")","v":3499},{"$f":"[1]!F001P100F2500","v":1790005},1749056,{"$f":"[2]!F001P100F2500","v":1769427},-1.2E-2,"6."]
["      2600 Operation & Maintenance of Plant",null,"7.",{"$f":"SUMIFS('Accounting Data'!C2:C100000,'Accounting Data'!E2:E100000,\"001\",'Accounting Data'!H2:H100000,\"1??\",'Accounting Data'!I2:I100000,\"26??\",'Accounting Data'!J2:J100000,\"61??\")","v":548405},{"$f":"SUMIFS('Accounting Data'!C2:C100000,'Accounting Data'!E2:E100000,\"001\",'Accounting Data'!H2:H100000,\"1??\",'Accounting Data'!I2:I100000,\"26??\",'Accounting Data'!J2:J100000,\"62??\")","v":190408},{"$f":"SUMIFS('Accounting Data'!C2:C100000,'Accounting Data'!E2:E100000,\"001\",'Accounting Data'!H2:H100000,\"1??\",'Accounting Data'!I2:I100000,\"26??\",'Accounting Data'!J2:J100000,\"63??\")+SUMIFS('Accounting Data'!C2:C100000,'Accounting Data'!E2:E100000,\"001\",'Accounting Data'!H2:H100000,\"1??\",'Accounting Data'!I2:I100000,\"26??\",'Accounting Data'!J2:J100000,\"64??\")+SUMIFS('Accounting Data'!C2:C100000,'Accounting Data'!E2:E100000,\"001\",'Accounting Data'!H2:H100000,\"1??\",'Accounting Data'!I2:I100000,\"26??\",'Accounting Data'!J2:J100000,\"65??\")","v":2599524},{"$f":"SUMIFS('Accounting Data'!C2:C100000,'Accounting Data'!E2:E100000,\"001\",'Accounting Data'!H2:H100000,\"1??\",'Accounting Data'!I2:I100000,\"26??\",'Accounting Data'!J2:J100000,\"66??\")","v":1152590},{"$f":"SUMIFS('Accounting Data'!C2:C100000,'Accounting Data'!E2:E100000,\"001\",'Accounting Data'!H2:H100000,\"1??\",'Accounting Data'!I2:I100000,\"26??\",'Accounting Data'!J2:J100000,\"68??\")","v":8184},{"$f":"[1]!F001P100F2600","v":4440324},4499111,{"$f":"[2]!F001P100F2600","v":3411488},0.31900000000000001,"7."]
["      2900 Other",null,"8.",{"$f":"SUMIFS('Accounting Data'!C2:C100000,'Accounting Data'!E2:E100000,\"001\",'Accounting Data'!H2:H100000,\"1??\",'Accounting Data'!I2:I100000,\"29??\",'Accounting Data'!J2:J100000,\"61??\")","v":0},{"$f":"SUMIFS('Accounting Data'!C2:C100000,'Accounting Data'!E2:E100000,\"001\",'Accounting Data'!H2:H100000,\"1??\",'Accounting Data'!I2:I100000,\"29??\",'Accounting Data'!J2:J100000,\"62??\")","v":0},{"$f":"SUMIFS('Accounting Data'!C2:C100000,'Accounting Data'!E2:E100000,\"001\",'Accounting Data'!H2:H100000,\"1??\",'Accounting Data'!I2:I100000,\"29??\",'Accounting Data'!J2:J100000,\"63??\")+SUMIFS('Accounting Data'!C2:C100000,'Accounting Data'!E2:E100000,\"001\",'Accounting Data'!H2:H100000,\"1??\",'Accounting Data'!I2:I100000,\"29??\",'Accounting Data'!J2:J100000,\"64??\")+SUMIFS('Accounting Data'!C2:C100000,'Accounting Data'!E2:E100000,\"001\",'Accounting Data'!H2:H100000,\"1??\",'Accounting Data'!I2:I100000,\"29??\",'Accounting Data'!J2:J100000,\"65??\")","v":0},{"$f":"SUMIFS('Accounting Data'!C2:C100000,'Accounting Data'!E2:E100000,\"001\",'Accounting Data'!H2:H100000,\"1??\",'Accounting Data'!I2:I100000,\"29??\",'Accounting Data'!J2:J100000,\"66??\")","v":0},{"$f":"SUMIFS('Accounting Data'!C2:C100000,'Accounting Data'!E2:E100000,\"001\",'Accounting Data'!H2:H100000,\"1??\",'Accounting Data'!I2:I100000,\"29??\",'Accounting Data'!J2:J100000,\"68??\")","v":0},{"$f":"[1]!F001P100F2900","v":0},0,{"$f":"[2]!F001P100F2900","v":0},0,"8."]
["   3000 Operation of Noninstructional Services",null,"9.",{"$f":"SUMIFS('Accounting Data'!C2:C100000,'Accounting Data'!E2:E100000,\"001\",'Accounting Data'!H2:H100000,\"1??\",'Accounting Data'!I2:I100000,\"3???\",'Accounting Data'!J2:J100000,\"61??\")","v":0},{"$f":"SUMIFS('Accounting Data'!C2:C100000,'Accounting Data'!E2:E100000,\"001\",'Accounting Data'!H2:H100000,\"1??\",'Accounting Data'!I2:I100000,\"3???\",'Accounting Data'!J2:J100000,\"62??\")","v":0},{"$f":"SUMIFS('Accounting Data'!C2:C100000,'Accounting Data'!E2:E100000,\"001\",'Accounting Data'!H2:H100000,\"1??\",'Accounting Data'!I2:I100000,\"3???\",'Accounting Data'!J2:J100000,\"63??\")+SUMIFS('Accounting Data'!C2:C100000,'Accounting Data'!E2:E100000,\"001\",'Accounting Data'!H2:H100000,\"1??\",'Accounting Data'!I2:I100000,\"3???\",'Accounting Data'!J2:J100000,\"64??\")+SUMIFS('Accounting Data'!C2:C100000,'Accounting Data'!E2:E100000,\"001\",'Accounting Data'!H2:H100000,\"1??\",'Accounting Data'!I2:I100000,\"3???\",'Accounting Data'!J2:J100000,\"65??\")","v":64592},{"$f":"SUMIFS('Accounting Data'!C2:C100000,'Accounting Data'!E2:E100000,\"001\",'Accounting Data'!H2:H100000,\"1??\",'Accounting Data'!I2:I100000,\"3???\",'Accounting Data'!J2:J100000,\"66??\")","v":43346},{"$f":"SUMIFS('Accounting Data'!C2:C100000,'Accounting Data'!E2:E100000,\"001\",'Accounting Data'!H2:H100000,\"1??\",'Accounting Data'!I2:I100000,\"3???\",'Accounting Data'!J2:J100000,\"68??\")","v":0},{"$f":"[1]!F001P100F3000","v":42000},107938,{"$f":"[2]!F001P100F3000","v":68188},0.58299999999999996,"9."]
["610 School-Sponsored Cocurricular Activities",null,"10.",{"$f":"SUMIFS('Accounting Data'!C2:C100000,'Accounting Data'!E2:E100000,\"001\",'Accounting Data'!H2:H100000,\"61?\",'Accounting Data'!J2:J100000,\"61??\")","v":23884},{"$f":"SUMIFS('Accounting Data'!C2:C100000,'Accounting Data'!E2:E100000,\"001\",'Accounting Data'!H2:H100000,\"61?\",'Accounting Data'!J2:J100000,\"62??\")","v":5190},{"$f":"SUMIFS('Accounting Data'!C2:C100000,'Accounting Data'!E2:E100000,\"001\",'Accounting Data'!H2:H100000,\"61?\",'Accounting Data'!J2:J100000,\"63??\")+SUMIFS('Accounting Data'!C2:C100000,'Accounting Data'!E2:E100000,\"001\",'Accounting Data'!H2:H100000,\"61?\",'Accounting Data'!J2:J100000,\"64??\")+SUMIFS('Accounting Data'!C2:C100000,'Accounting Data'!E2:E100000,\"001\",'Accounting Data'!H2:H100000,\"61?\",'Accounting Data'!J2:J100000,\"65??\")","v":0},{"$f":"SUMIFS('Accounting Data'!C2:C100000,'Accounting Data'!E2:E100000,\"001\",'Accounting Data'!H2:H100000,\"61?\",'Accounting Data'!J2:J100000,\"66??\")","v":0},{"$f":"SUMIFS('Accounting Data'!C2:C100000,'Accounting Data'!E2:E100000,\"001\",'Accounting Data'!H2:H100000,\"61?\",'Accounting Data'!J2:J100000,\"68??\")","v":0},{"$f":"[1]!F001P610","v":28773},29074,{"$f":"[2]!F001P610","v":20248},0.436,"10."]
["620 School-Sponsored Athletics",null,"11.",{"$f":"SUMIFS('Accounting Data'!C2:C100000,'Accounting Data'!E2:E100000,\"001\",'Accounting Data'!H2:H100000,\"62?\",'Accounting Data'!J2:J100000,\"61??\")","v":104418},{"$f":"SUMIFS('Accounting Data'!C2:C100000,'Accounting Data'!E2:E100000,\"001\",'Accounting Data'!H2:H100000,\"62?\",'Accounting Data'!J2:J100000,\"62??\")","v":19191},{"$f":"SUMIFS('Accounting Data'!C2:C100000,'Accounting Data'!E2:E100000,\"001\",'Accounting Data'!H2:H100000,\"62?\",'Accounting Data'!J2:J100000,\"63??\")+SUMIFS('Accounting Data'!C2:C100000,'Accounting Data'!E2:E100000,\"001\",'Accounting Data'!H2:H100000,\"62?\",'Accounting Data'!J2:J100000,\"64??\")+SUMIFS('Accounting Data'!C2:C100000,'Accounting Data'!E2:E100000,\"001\",'Accounting Data'!H2:H100000,\"62?\",'Accounting Data'!J2:J100000,\"65??\")","v":0},{"$f":"SUMIFS('Accounting Data'!C2:C100000,'Accounting Data'!E2:E100000,\"001\",'Accounting Data'!H2:H100000,\"62?\",'Accounting Data'!J2:J100000,\"66??\")","v":1640},{"$f":"SUMIFS('Accounting Data'!C2:C100000,'Accounting Data'!E2:E100000,\"001\",'Accounting Data'!H2:H100000,\"62?\",'Accounting Data'!J2:J100000,\"68??\")","v":0},{"$f":"[1]!F001P620","v":124887},125249,{"$f":"[2]!F001P620","v":68427},0.83,"11."]
["630 Other Instructional Programs",null,"12.",{"$f":"SUMIFS('Accounting Data'!C2:C100000,'Accounting Data'!E2:E100000,\"001\",'Accounting Data'!H2:H100000,\"63?\",'Accounting Data'!J2:J100000,\"61??\")","v":0},{"$f":"SUMIFS('Accounting Data'!C2:C100000,'Accounting Data'!E2:E100000,\"001\",'Accounting Data'!H2:H100000,\"63?\",'Accounting Data'!J2:J100000,\"62??\")","v":0},{"$f":"SUMIFS('Accounting Data'!C2:C100000,'Accounting Data'!E2:E100000,\"001\",'Accounting Data'!H2:H100000,\"63?\",'Accounting Data'!J2:J100000,\"63??\")+SUMIFS('Accounting Data'!C2:C100000,'Accounting Data'!E2:E100000,\"001\",'Accounting Data'!H2:H100000,\"63?\",'Accounting Data'!J2:J100000,\"64??\")+SUMIFS('Accounting Data'!C2:C100000,'Accounting Data'!E2:E100000,\"001\",'Accounting Data'!H2:H100000,\"63?\",'Accounting Data'!J2:J100000,\"65??\")","v":0},{"$f":"SUMIFS('Accounting Data'!C2:C100000,'Accounting Data'!E2:E100000,\"001\",'Accounting Data'!H2:H100000,\"63?\",'Accounting Data'!J2:J100000,\"66??\")","v":0},{"$f":"SUMIFS('Accounting Data'!C2:C100000,'Accounting Data'!E2:E100000,\"001\",'Accounting Data'!H2:H100000,\"63?\",'Accounting Data'!J2:J100000,\"68??\")","v":0},{"$f":"[1]!F001P630","v":0},0,{"$f":"[2]!F001P630","v":0},0,"12."]
["700, 800, 900 Other Programs",null,"13.",{"$f":"SUMIFS('Accounting Data'!C2:C100000,'Accounting Data'!E2:E100000,\"001\",'Accounting Data'!H2:H100000,\"7??\",'Accounting Data'!J2:J100000,\"61??\")+SUMIFS('Accounting Data'!C2:C100000,'Accounting Data'!E2:E100000,\"001\",'Accounting Data'!H2:H100000,\"8??\",'Accounting Data'!J2:J100000,\"61??\")+SUMIFS('Accounting Data'!C2:C100000,'Accounting Data'!E2:E100000,\"001\",'Accounting Data'!H2:H100000,\"9??\",'Accounting Data'!J2:J100000,\"61??\")","v":0},{"$f":"SUMIFS('Accounting Data'!C2:C100000,'Accounting Data'!E2:E100000,\"001\",'Accounting Data'!H2:H100000,\"7??\",'Accounting Data'!J2:J100000,\"62??\")+SUMIFS('Accounting Data'!C2:C100000,'Accounting Data'!E2:E100000,\"001\",'Accounting Data'!H2:H100000,\"8??\",'Accounting Data'!J2:J100000,\"62??\")+SUMIFS('Accounting Data'!C2:C100000,'Accounting Data'!E2:E100000,\"001\",'Accounting Data'!H2:H100000,\"9??\",'Accounting Data'!J2:J100000,\"62??\")","v":0},{"$f":"SUMIFS('Accounting Data'!C2:C100000,'Accounting Data'!E2:E100000,\"001\",'Accounting Data'!H2:H100000,\"7??\",'Accounting Data'!J2:J100000,\"63??\")+SUMIFS('Accounting Data'!C2:C100000,'Accounting Data'!E2:E100000,\"001\",'Accounting Data'!H2:H100000,\"7??\",'Accounting Data'!J2:J100000,\"64??\")+SUMIFS('Accounting Data'!C2:C100000,'Accounting Data'!E2:E100000,\"001\",'Accounting Data'!H2:H100000,\"7??\",'Accounting Data'!J2:J100000,\"65??\")+SUMIFS('Accounting Data'!C2:C100000,'Accounting Data'!E2:E100000,\"001\",'Accounting Data'!H2:H100000,\"8??\",'Accounting Data'!J2:J100000,\"63??\")+SUMIFS('Accounting Data'!C2:C100000,'Accounting Data'!E2:E100000,\"001\",'Accounting Data'!H2:H100000,\"8??\",'Accounting Data'!J2:J100000,\"64??\")+SUMIFS('Accounting Data'!C2:C100000,'Accounting Data'!E2:E100000,\"001\",'Accounting Data'!H2:H100000,\"8??\",'Accounting Data'!J2:J100000,\"65??\")+SUMIFS('Accounting Data'!C2:C100000,'Accounting Data'!E2:E100000,\"001\",'Accounting Data'!H2:H100000,\"9??\",'Accounting Data'!J2:J100000,\"63??\")+SUMIFS('Accounting Data'!C2:C100000,'Accounting Data'!E2:E100000,\"001\",'Accounting Data'!H2:H100000,\"9??\",'Accounting Data'!J2:J100000,\"64??\")+SUMIFS('Accounting Data'!C2:C100000,'Accounting Data'!E2:E100000,\"001\",'Accounting Data'!H2:H100000,\"9??\",'Accounting Data'!J2:J100000,\"65??\")","v":0},{"$f":"SUMIFS('Accounting Data'!C2:C100000,'Accounting Data'!E2:E100000,\"001\",'Accounting Data'!H2:H100000,\"7??\",'Accounting Data'!J2:J100000,\"66??\")+SUMIFS('Accounting Data'!C2:C100000,'Accounting Data'!E2:E100000,\"001\",'Accounting Data'!H2:H100000,\"8??\",'Accounting Data'!J2:J100000,\"66??\")+SUMIFS('Accounting Data'!C2:C100000,'Accounting Data'!E2:E100000,\"001\",'Accounting Data'!H2:H100000,\"9??\",'Accounting Data'!J2:J100000,\"66??\")","v":0},{"$f":"SUMIFS('Accounting Data'!C2:C100000,'Accounting Data'!E2:E100000,\"001\",'Accounting Data'!H2:H100000,\"7??\",'Accounting Data'!J2:J100000,\"68??\")+SUMIFS('Accounting Data'!C2:C100000,'Accounting Data'!E2:E100000,\"001\",'Accounting Data'!H2:H100000,\"8??\",'Accounting Data'!J2:J100000,\"68??\")+SUMIFS('Accounting Data'!C2:C100000,'Accounting Data'!E2:E100000,\"001\",'Accounting Data'!H2:H100000,\"9??\",'Accounting Data'!J2:J100000,\"68??\")","v":0},{"$f":"[1]!F001P700800900","v":0},0,{"$f":"[2]!F001P700800900","v":0},0,"13."]
["   Regular Education Subsection Subtotal (lines 1-13) ",null,"14.",{"$f":"D7+D9+SUM(D11:D17)+SUM(D18:D21)","v":16066430},{"$f":"E7+E9+SUM(E11:E17)+SUM(E18:E21)","v":5027086},{"$f":"F7+F9+SUM(F11:F17)+SUM(F18:F21)","v":3282379},{"$f":"G7+G9+SUM(G11:G17)+SUM(G18:G21)","v":1547014},{"$f":"H7+H9+SUM(H11:H17)+SUM(H18:H21)","v":82190},{"$f":"I7+I9+SUM(I11:I21)","v":26375366},{"$f":"J7+J9+SUM(J11:J21)","v":26005099},{"$f":"K7+K9+SUM(K11:K21)","v":23316904},0.115,"14."]
["200 and 300 Special Education",null,null,{"$f":"SUMIFS('Accounting Data'!C2:C100000,'Accounting Data'!E2:E100000,\"001\",'Accounting Data'!H2:H100000,\"2??\",'Accounting Data'!I2:I100000,\"1???\",'Accounting Data'!J2:J100000,\"61??\")+SUMIFS('Accounting Data'!C2:C100000,'Accounting Data'!E2:E100000,\"001\",'Accounting Data'!H2:H100000,\"3??\",'Accounting Data'!I2:I100000,\"1???\",'Accounting Data'!J2:J100000,\"61??\")","v":2274228},{"$f":"SUMIFS('Accounting Data'!C2:C100000,'Accounting Data'!E2:E100000,\"001\",'Accounting Data'!H2:H100000,\"2??\",'Accounting Data'!I2:I100000,\"1???\",'Accounting Data'!J2:J100000,\"62??\")+SUMIFS('Accounting Data'!C2:C100000,'Accounting Data'!E2:E100000,\"001\",'Accounting Data'!H2:H100000,\"3??\",'Accounting Data'!I2:I100000,\"1???\",'Accounting Data'!J2:J100000,\"62??\")","v":770043},{"$f":"SUMIFS('Accounting Data'!C2:C100000,'Accounting Data'!E2:E100000,\"001\",'Accounting Data'!H2:H100000,\"2??\",'Accounting Data'!I2:I100000,\"1???\",'Accounting Data'!J2:J100000,\"63??\")+SUMIFS('Accounting Data'!C2:C100000,'Accounting Data'!E2:E100000,\"001\",'Accounting Data'!H2:H100000,\"2??\",'Accounting Data'!I2:I100000,\"1???\",'Accounting Data'!J2:J100000,\"64??\")+SUMIFS('Accounting Data'!C2:C100000,'Accounting Data'!E2:E100000,\"001\",'Accounting Data'!H2:H100000,\"2??\",'Accounting Data'!I2:I100000,\"1???\",'Accounting Data'!J2:J100000,\"65??\")+SUMIFS('Accounting Data'!C2:C100000,'Accounting Data'!E2:E100000,\"001\",'Accounting Data'!H2:H100000,\"3??\",'Accounting Data'!I2:I100000,\"1???\",'Accounting Data'!J2:J100000,\"63??\")+SUMIFS('Accounting Data'!C2:C100000,'Accounting Data'!E2:E100000,\"001\",'Accounting Data'!H2:H100000,\"3??\",'Accounting Data'!I2:I100000,\"1???\",'Accounting Data'!J2:J100000,\"64??\")+SUMIFS('Accounting Data'!C2:C100000,'Accounting Data'!E2:E100000,\"001\",'Accounting Data'!H2:H100000,\"3??\",'Accounting Data'!I2:I100000,\"1???\",'Accounting Data'!J2:J100000,\"65??\")","v":1383088},{"$f":"SUMIFS('Accounting Data'!C2:C100000,'Accounting Data'!E2:E100000,\"001\",'Accounting Data'!H2:H100000,\"2??\",'Accounting Data'!I2:I100000,\"1???\",'Accounting Data'!J2:J100000,\"66??\")+SUMIFS('Accounting Data'!C2:C100000,'Accounting Data'!E2:E100000,\"001\",'Accounting Data'!H2:H100000,\"3??\",'Accounting Data'!I2:I100000,\"1???\",'Accounting Data'!J2:J100000,\"66??\")","v":5324},{"$f":"SUMIFS('Accounting Data'!C2:C100000,'Accounting Data'!E2:E100000,\"001\",'Accounting Data'!H2:H100000,\"2??\",'Accounting Data'!I2:I100000,\"1???\",'Accounting Data'!J2:J100000,\"68??\")+SUMIFS('Accounting Data'!C2:C100000,'Accounting Data'!E2:E100000,\"001\",'Accounting Data'!H2:H100000,\"3??\",'Accounting Data'!I2:I100000,\"1???\",'Accounting Data'!J2:J100000,\"68??\")","v":0},{"$f":"[1]!F001P200F1000","v":4724949},{"$f":"SUM(D23:H23)","v":4432683},{"$f":"[2]!F001P200F1000","v":3683374},{"$f":"IF(J23=K23,0,IF(K23>0,(J23-K23)/K23,\"--\"))","v":0.20300000000000001}]
["   1000 Instruction",null,"15.",null,null,null,null,null,null,null,null,null,"15."]
["   2000 Support Services",null,null,{"$f":"SUMIFS('Accounting Data'!C2:C100000,'Accounting Data'!E2:E100000,\"001\",'Accounting Data'!H2:H100000,\"2??\",'Accounting Data'!I2:I100000,\"21??\",'Accounting Data'!J2:J100000,\"61??\")+SUMIFS('Accounting Data'!C2:C100000,'Accounting Data'!E2:E100000,\"001\",'Accounting Data'!H2:H100000,\"3??\",'Accounting Data'!I2:I100000,\"21??\",'Accounting Data'!J2:J100000,\"61??\")","v":1286670},{"$f":"SUMIFS('Accounting Data'!C2:C100000,'Accounting Data'!E2:E100000,\"001\",'Accounting Data'!H2:H100000,\"2??\",'Accounting Data'!I2:I100000,\"21??\",'Accounting Data'!J2:J100000,\"62??\")+SUMIFS('Accounting Data'!C2:C100000,'Accounting Data'!E2:E100000,\"001\",'Accounting Data'!H2:H100000,\"3??\",'Accounting Data'!I2:I100000,\"21??\",'Accounting Data'!J2:J100000,\"62??\")","v":412571},{"$f":"SUMIFS('Accounting Data'!C2:C100000,'Accounting Data'!E2:E100000,\"001\",'Accounting Data'!H2:H100000,\"2??\",'Accounting Data'!I2:I100000,\"21??\",'Accounting Data'!J2:J100000,\"63??\")+SUMIFS('Accounting Data'!C2:C100000,'Accounting Data'!E2:E100000,\"001\",'Accounting Data'!H2:H100000,\"2??\",'Accounting Data'!I2:I100000,\"21??\",'Accounting Data'!J2:J100000,\"64??\")+SUMIFS('Accounting Data'!C2:C100000,'Accounting Data'!E2:E100000,\"001\",'Accounting Data'!H2:H100000,\"2??\",'Accounting Data'!I2:I100000,\"21??\",'Accounting Data'!J2:J100000,\"65??\")+SUMIFS('Accounting Data'!C2:C100000,'Accounting Data'!E2:E100000,\"001\",'Accounting Data'!H2:H100000,\"3??\",'Accounting Data'!I2:I100000,\"21??\",'Accounting Data'!J2:J100000,\"63??\")+SUMIFS('Accounting Data'!C2:C100000,'Accounting Data'!E2:E100000,\"001\",'Accounting Data'!H2:H100000,\"3??\",'Accounting Data'!I2:I100000,\"21??\",'Accounting Data'!J2:J100000,\"64??\")+SUMIFS('Accounting Data'!C2:C100000,'Accounting Data'!E2:E100000,\"001\",'Accounting Data'!H2:H100000,\"3??\",'Accounting Data'!I2:I100000,\"21??\",'Accounting Data'!J2:J100000,\"65??\")","v":1151979},{"$f":"SUMIFS('Accounting Data'!C2:C100000,'Accounting Data'!E2:E100000,\"001\",'Accounting Data'!H2:H100000,\"2??\",'Accounting Data'!I2:I100000,\"21??\",'Accounting Data'!J2:J100000,\"66??\")+SUMIFS('Accounting Data'!C2:C100000,'Accounting Data'!E2:E100000,\"001\",'Accounting Data'!H2:H100000,\"3??\",'Accounting Data'!I2:I100000,\"21??\",'Accounting Data'!J2:J100000,\"66??\")","v":31695},{"$f":"SUMIFS('Accounting Data'!C2:C100000,'Accounting Data'!E2:E100000,\"001\",'Accounting Data'!H2:H100000,\"2??\",'Accounting Data'!I2:I100000,\"21??\",'Accounting Data'!J2:J100000,\"68??\")+SUMIFS('Accounting Data'!C2:C100000,'Accounting Data'!E2:E100000,\"001\",'Accounting Data'!H2:H100000,\"3??\",'Accounting Data'!I2:I100000,\"21??\",'Accounting Data'!J2:J100000,\"68??\")","v":0},{"$f":"[1]!F001P200F2100","v":3193743},{"$f":"SUM(D25:H25)","v":2882915},{"$f":"[2]!F001P200F2100","v":1734643},{"$f":"IF(J25=K25,0,IF(K25>0,(J25-K25)/K25,\"--\"))","v":0.66200000000000003}]
["      2100 Students",null,"16.",null,null,null,null,null,null,null,null,null,"16."]
["      2200 Instructional Staff",null,"17.",{"$f":"SUMIFS('Accounting Data'!C2:C100000,'Accounting Data'!E2:E100000,\"001\",'Accounting Data'!H2:H100000,\"2??\",'Accounting Data'!I2:I100000,\"22??\",'Accounting Data'!J2:J100000,\"61??\")+SUMIFS('Accounting Data'!C2:C100000,'Accounting Data'!E2:E100000,\"001\",'Accounting Data'!H2:H100000,\"3??\",'Accounting Data'!I2:I100000,\"22??\",'Accounting Data'!J2:J100000,\"61??\")","v":324970},{"$f":"SUMIFS('Accounting Data'!C2:C100000,'Accounting Data'!E2:E100000,\"001\",'Accounting Data'!H2:H100000,\"2??\",'Accounting Data'!I2:I100000,\"22??\",'Accounting Data'!J2:J100000,\"62??\")+SUMIFS('Accounting Data'!C2:C100000,'Accounting Data'!E2:E100000,\"001\",'Accounting Data'!H2:H100000,\"3??\",'Accounting Data'!I2:I100000,\"22??\",'Accounting Data'!J2:J100000,\"62??\")","v":92467},{"$f":"SUMIFS('Accounting Data'!C2:C100000,'Accounting Data'!E2:E100000,\"001\",'Accounting Data'!H2:H100000,\"2??\",'Accounting Data'!I2:I100000,\"22??\",'Accounting Data'!J2:J100000,\"63??\")+SUMIFS('Accounting Data'!C2:C100000,'Accounting Data'!E2:E100000,\"001\",'Accounting Data'!H2:H100000,\"2??\",'Accounting Data'!I2:I100000,\"22??\",'Accounting Data'!J2:J100000,\"64??\")+SUMIFS('Accounting Data'!C2:C100000,'Accounting Data'!E2:E100000,\"001\",'Accounting Data'!H2:H100000,\"2??\",'Accounting Data'!I2:I100000,\"22??\",'Accounting Data'!J2:J100000,\"65??\")+SUMIFS('Accounting Data'!C2:C100000,'Accounting Data'!E2:E100000,\"001\",'Accounting Data'!H2:H100000,\"3??\",'Accounting Data'!I2:I100000,\"22??\",'Accounting Data'!J2:J100000,\"63??\")+SUMIFS('Accounting Data'!C2:C100000,'Accounting Data'!E2:E100000,\"001\",'Accounting Data'!H2:H100000,\"3??\",'Accounting Data'!I2:I100000,\"22??\",'Accounting Data'!J2:J100000,\"64??\")+SUMIFS('Accounting Data'!C2:C100000,'Accounting Data'!E2:E100000,\"001\",'Accounting Data'!H2:H100000,\"3??\",'Accounting Data'!I2:I100000,\"22??\",'Accounting Data'!J2:J100000,\"65??\")","v":18407},{"$f":"SUMIFS('Accounting Data'!C2:C100000,'Accounting Data'!E2:E100000,\"001\",'Accounting Data'!H2:H100000,\"2??\",'Accounting Data'!I2:I100000,\"22??\",'Accounting Data'!J2:J100000,\"66??\")+SUMIFS('Accounting Data'!C2:C100000,'Accounting Data'!E2:E100000,\"001\",'Accounting Data'!H2:H100000,\"3??\",'Accounting Data'!I2:I100000,\"22??\",'Accounting Data'!J2:J100000,\"66??\")","v":190},{"$f":"SUMIFS('Accounting Data'!C2:C100000,'Accounting Data'!E2:E100000,\"001\",'Accounting Data'!H2:H100000,\"2??\",'Accounting Data'!I2:I100000,\"22??\",'Accounting Data'!J2:J100000,\"68??\")+SUMIFS('Accounting Data'!C2:C100000,'Accounting Data'!E2:E100000,\"001\",'Accounting Data'!H2:H100000,\"3??\",'Accounting Data'!I2:I100000,\"22??\",'Accounting Data'!J2:J100000,\"68??\")","v":866},{"$f":"[1]!F001P200F2200","v":433272},{"$f":"SUM(D27:H27)","v":436900},{"$f":"[2]!F001P200F2200","v":341484},{"$f":"IF(J27=K27,0,IF(K27>0,(J27-K27)/K27,\"--\"))","v":0.27900000000000003},"17."]
["      2300 General Administration",null,"18.",{"$f":"SUMIFS('Accounting Data'!C2:C100000,'Accounting Data'!E2:E100000,\"001\",'Accounting Data'!H2:H100000,\"2??\",'Accounting Data'!I2:I100000,\"23??\",'Accounting Data'!J2:J100000,\"61??\")+SUMIFS('Accounting Data'!C2:C100000,'Accounting Data'!E2:E100000,\"001\",'Accounting Data'!H2:H100000,\"3??\",'Accounting Data'!I2:I100000,\"23??\",'Accounting Data'!J2:J100000,\"61??\")","v":0},{"$f":"SUMIFS('Accounting Data'!C2:C100000,'Accounting Data'!E2:E100000,\"001\",'Accounting Data'!H2:H100000,\"2??\",'Accounting Data'!I2:I100000,\"23??\",'Accounting Data'!J2:J100000,\"62??\")+SUMIFS('Accounting Data'!C2:C100000,'Accounting Data'!E2:E100000,\"001\",'Accounting Data'!H2:H100000,\"3??\",'Accounting Data'!I2:I100000,\"23??\",'Accounting Data'!J2:J100000,\"62??\")","v":0},{"$f":"SUMIFS('Accounting Data'!C2:C100000,'Accounting Data'!E2:E100000,\"001\",'Accounting Data'!H2:H100000,\"2??\",'Accounting Data'!I2:I100000,\"23??\",'Accounting Data'!J2:J100000,\"63??\")+SUMIFS('Accounting Data'!C2:C100000,'Accounting Data'!E2:E100000,\"001\",'Accounting Data'!H2:H100000,\"2??\",'Accounting Data'!I2:I100000,\"23??\",'Accounting Data'!J2:J100000,\"64??\")+SUMIFS('Accounting Data'!C2:C100000,'Accounting Data'!E2:E100000,\"001\",'Accounting Data'!H2:H100000,\"2??\",'Accounting Data'!I2:I100000,\"23??\",'Accounting Data'!J2:J100000,\"65??\")+SUMIFS('Accounting Data'!C2:C100000,'Accounting Data'!E2:E100000,\"001\",'Accounting Data'!H2:H100000,\"3??\",'Accounting Data'!I2:I100000,\"23??\",'Accounting Data'!J2:J100000,\"63??\")+SUMIFS('Accounting Data'!C2:C100000,'Accounting Data'!E2:E100000,\"001\",'Accounting Data'!H2:H100000,\"3??\",'Accounting Data'!I2:I100000,\"23??\",'Accounting Data'!J2:J100000,\"64??\")+SUMIFS('Accounting Data'!C2:C100000,'Accounting Data'!E2:E100000,\"001\",'Accounting Data'!H2:H100000,\"3??\",'Accounting Data'!I2:I100000,\"23??\",'Accounting Data'!J2:J100000,\"65??\")","v":0},{"$f":"SUMIFS('Accounting Data'!C2:C100000,'Accounting Data'!E2:E100000,\"001\",'Accounting Data'!H2:H100000,\"2??\",'Accounting Data'!I2:I100000,\"23??\",'Accounting Data'!J2:J100000,\"66??\")+SUMIFS('Accounting Data'!C2:C100000,'Accounting Data'!E2:E100000,\"001\",'Accounting Data'!H2:H100000,\"3??\",'Accounting Data'!I2:I100000,\"23??\",'Accounting Data'!J2:J100000,\"66??\")","v":0},{"$f":"SUMIFS('Accounting Data'!C2:C100000,'Accounting Data'!E2:E100000,\"001\",'Accounting Data'!H2:H100000,\"2??\",'Accounting Data'!I2:I100000,\"23??\",'Accounting Data'!J2:J100000,\"68??\")+SUMIFS('Accounting Data'!C2:C100000,'Accounting Data'!E2:E100000,\"001\",'Accounting Data'!H2:H100000,\"3??\",'Accounting Data'!I2:I100000,\"23??\",'Accounting Data'!J2:J100000,\"68??\")","v":0},{"$f":"[1]!F001P200F2300","v":0},0,{"$f":"[2]!F001P200F2300","v":0},{"$f":"IF(J28=K28,0,IF(K28>0,(J28-K28)/K28,\"--\"))","v":0},"18."]
["      2400 School Administration",null,"19.",{"$f":"SUMIFS('Accounting Data'!C2:C100000,'Accounting Data'!E2:E100000,\"001\",'Accounting Data'!H2:H100000,\"2??\",'Accounting Data'!I2:I100000,\"24??\",'Accounting Data'!J2:J100000,\"61??\")+SUMIFS('Accounting Data'!C2:C100000,'Accounting Data'!E2:E100000,\"001\",'Accounting Data'!H2:H100000,\"3??\",'Accounting Data'!I2:I100000,\"24??\",'Accounting Data'!J2:J100000,\"61??\")","v":0},{"$f":"SUMIFS('Accounting Data'!C2:C100000,'Accounting Data'!E2:E100000,\"001\",'Accounting Data'!H2:H100000,\"2??\",'Accounting Data'!I2:I100000,\"24??\",'Accounting Data'!J2:J100000,\"62??\")+SUMIFS('Accounting Data'!C2:C100000,'Accounting Data'!E2:E100000,\"001\",'Accounting Data'!H2:H100000,\"3??\",'Accounting Data'!I2:I100000,\"24??\",'Accounting Data'!J2:J100000,\"62??\")","v":0},{"$f":"SUMIFS('Accounting Data'!C2:C100000,'Accounting Data'!E2:E100000,\"001\",'Accounting Data'!H2:H100000,\"2??\",'Accounting Data'!I2:I100000,\"24??\",'Accounting Data'!J2:J100000,\"63??\")+SUMIFS('Accounting Data'!C2:C100000,'Accounting Data'!E2:E100000,\"001\",'Accounting Data'!H2:H100000,\"2??\",'Accounting Data'!I2:I100000,\"24??\",'Accounting Data'!J2:J100000,\"64??\")+SUMIFS('Accounting Data'!C2:C100000,'Accounting Data'!E2:E100000,\"001\",'Accounting Data'!H2:H100000,\"2??\",'Accounting Data'!I2:I100000,\"24??\",'Accounting Data'!J2:J100000,\"65??\")+SUMIFS('Accounting Data'!C2:C100000,'Accounting Data'!E2:E100000,\"001\",'Accounting Data'!H2:H100000,\"3??\",'Accounting Data'!I2:I100000,\"24??\",'Accounting Data'!J2:J100000,\"63??\")+SUMIFS('Accounting Data'!C2:C100000,'Accounting Data'!E2:E100000,\"001\",'Accounting Data'!H2:H100000,\"3??\",'Accounting Data'!I2:I100000,\"24??\",'Accounting Data'!J2:J100000,\"64??\")+SUMIFS('Accounting Data'!C2:C100000,'Accounting Data'!E2:E100000,\"001\",'Accounting Data'!H2:H100000,\"3??\",'Accounting Data'!I2:I100000,\"24??\",'Accounting Data'!J2:J100000,\"65??\")","v":0},{"$f":"SUMIFS('Accounting Data'!C2:C100000,'Accounting Data'!E2:E100000,\"001\",'Accounting Data'!H2:H100000,\"2??\",'Accounting Data'!I2:I100000,\"24??\",'Accounting Data'!J2:J100000,\"66??\")+SUMIFS('Accounting Data'!C2:C100000,'Accounting Data'!E2:E100000,\"001\",'Accounting Data'!H2:H100000,\"3??\",'Accounting Data'!I2:I100000,\"24??\",'Accounting Data'!J2:J100000,\"66??\")","v":0},{"$f":"SUMIFS('Accounting Data'!C2:C100000,'Accounting Data'!E2:E100000,\"001\",'Accounting Data'!H2:H100000,\"2??\",'Accounting Data'!I2:I100000,\"24??\",'Accounting Data'!J2:J100000,\"68??\")+SUMIFS('Accounting Data'!C2:C100000,'Accounting Data'!E2:E100000,\"001\",'Accounting Data'!H2:H100000,\"3??\",'Accounting Data'!I2:I100000,\"24??\",'Accounting Data'!J2:J100000,\"68??\")","v":0},{"$f":"[1]!F001P200F2400","v":0},0,{"$f":"[2]!F001P200F2400","v":0},0,"19."]
["      2500 Central Services",null,"20.",{"$f":"SUMIFS('Accounting Data'!C2:C100000,'Accounting Data'!E2:E100000,\"001\",'Accounting Data'!H2:H100000,\"2??\",'Accounting Data'!I2:I100000,\"25??\",'Accounting Data'!J2:J100000,\"61??\")+SUMIFS('Accounting Data'!C2:C100000,'Accounting Data'!E2:E100000,\"001\",'Accounting Data'!H2:H100000,\"3??\",'Accounting Data'!I2:I100000,\"25??\",'Accounting Data'!J2:J100000,\"61??\")","v":0},{"$f":"SUMIFS('Accounting Data'!C2:C100000,'Accounting Data'!E2:E100000,\"001\",'Accounting Data'!H2:H100000,\"2??\",'Accounting Data'!I2:I100000,\"25??\",'Accounting Data'!J2:J100000,\"62??\")+SUMIFS('Accounting Data'!C2:C100000,'Accounting Data'!E2:E100000,\"001\",'Accounting Data'!H2:H100000,\"3??\",'Accounting Data'!I2:I100000,\"25??\",'Accounting Data'!J2:J100000,\"62??\")","v":0},{"$f":"SUMIFS('Accounting Data'!C2:C100000,'Accounting Data'!E2:E100000,\"001\",'Accounting Data'!H2:H100000,\"2??\",'Accounting Data'!I2:I100000,\"25??\",'Accounting Data'!J2:J100000,\"63??\")+SUMIFS('Accounting Data'!C2:C100000,'Accounting Data'!E2:E100000,\"001\",'Accounting Data'!H2:H100000,\"2??\",'Accounting Data'!I2:I100000,\"25??\",'Accounting Data'!J2:J100000,\"64??\")+SUMIFS('Accounting Data'!C2:C100000,'Accounting Data'!E2:E100000,\"001\",'Accounting Data'!H2:H100000,\"2??\",'Accounting Data'!I2:I100000,\"25??\",'Accounting Data'!J2:J100000,\"65??\")+SUMIFS('Accounting Data'!C2:C100000,'Accounting Data'!E2:E100000,\"001\",'Accounting Data'!H2:H100000,\"3??\",'Accounting Data'!I2:I100000,\"25??\",'Accounting Data'!J2:J100000,\"63??\")+SUMIFS('Accounting Data'!C2:C100000,'Accounting Data'!E2:E100000,\"001\",'Accounting Data'!H2:H100000,\"3??\",'Accounting Data'!I2:I100000,\"25??\",'Accounting Data'!J2:J100000,\"64??\")+SUMIFS('Accounting Data'!C2:C100000,'Accounting Data'!E2:E100000,\"001\",'Accounting Data'!H2:H100000,\"3??\",'Accounting Data'!I2:I100000,\"25??\",'Accounting Data'!J2:J100000,\"65??\")","v":0},{"$f":"SUMIFS('Accounting Data'!C2:C100000,'Accounting Data'!E2:E100000,\"001\",'Accounting Data'!H2:H100000,\"2??\",'Accounting Data'!I2:I100000,\"25??\",'Accounting Data'!J2:J100000,\"66??\")+SUMIFS('Accounting Data'!C2:C100000,'Accounting Data'!E2:E100000,\"001\",'Accounting Data'!H2:H100000,\"3??\",'Accounting Data'!I2:I100000,\"25??\",'Accounting Data'!J2:J100000,\"66??\")","v":0},{"$f":"SUMIFS('Accounting Data'!C2:C100000,'Accounting Data'!E2:E100000,\"001\",'Accounting Data'!H2:H100000,\"2??\",'Accounting Data'!I2:I100000,\"25??\",'Accounting Data'!J2:J100000,\"68??\")+SUMIFS('Accounting Data'!C2:C100000,'Accounting Data'!E2:E100000,\"001\",'Accounting Data'!H2:H100000,\"3??\",'Accounting Data'!I2:I100000,\"25??\",'Accounting Data'!J2:J100000,\"68??\")","v":0},{"$f":"[1]!F001P200F2500","v":0},0,{"$f":"[2]!F001P200F2500","v":0},0,"20."]
["      2600 Operation & Maintenance of Plant",null,"21.",{"$f":"SUMIFS('Accounting Data'!C2:C100000,'Accounting Data'!E2:E100000,\"001\",'Accounting Data'!H2:H100000,\"2??\",'Accounting Data'!I2:I100000,\"26??\",'Accounting Data'!J2:J100000,\"61??\")+SUMIFS('Accounting Data'!C2:C100000,'Accounting Data'!E2:E100000,\"001\",'Accounting Data'!H2:H100000,\"3??\",'Accounting Data'!I2:I100000,\"26??\",'Accounting Data'!J2:J100000,\"61??\")","v":0},{"$f":"SUMIFS('Accounting Data'!C2:C100000,'Accounting Data'!E2:E100000,\"001\",'Accounting Data'!H2:H100000,\"2??\",'Accounting Data'!I2:I100000,\"26??\",'Accounting Data'!J2:J100000,\"62??\")+SUMIFS('Accounting Data'!C2:C100000,'Accounting Data'!E2:E100000,\"001\",'Accounting Data'!H2:H100000,\"3??\",'Accounting Data'!I2:I100000,\"26??\",'Accounting Data'!J2:J100000,\"62??\")","v":0},{"$f":"SUMIFS('Accounting Data'!C2:C100000,'Accounting Data'!E2:E100000,\"001\",'Accounting Data'!H2:H100000,\"2??\",'Accounting Data'!I2:I100000,\"26??\",'Accounting Data'!J2:J100000,\"63??\")+SUMIFS('Accounting Data'!C2:C100000,'Accounting Data'!E2:E100000,\"001\",'Accounting Data'!H2:H100000,\"2??\",'Accounting Data'!I2:I100000,\"26??\",'Accounting Data'!J2:J100000,\"64??\")+SUMIFS('Accounting Data'!C2:C100000,'Accounting Data'!E2:E100000,\"001\",'Accounting Data'!H2:H100000,\"2??\",'Accounting Data'!I2:I100000,\"26??\",'Accounting Data'!J2:J100000,\"65??\")+SUMIFS('Accounting Data'!C2:C100000,'Accounting Data'!E2:E100000,\"001\",'Accounting Data'!H2:H100000,\"3??\",'Accounting Data'!I2:I100000,\"26??\",'Accounting Data'!J2:J100000,\"63??\")+SUMIFS('Accounting Data'!C2:C100000,'Accounting Data'!E2:E100000,\"001\",'Accounting Data'!H2:H100000,\"3??\",'Accounting Data'!I2:I100000,\"26??\",'Accounting Data'!J2:J100000,\"64??\")+SUMIFS('Accounting Data'!C2:C100000,'Accounting Data'!E2:E100000,\"001\",'Accounting Data'!H2:H100000,\"3??\",'Accounting Data'!I2:I100000,\"26??\",'Accounting Data'!J2:J100000,\"65??\")","v":0},{"$f":"SUMIFS('Accounting Data'!C2:C100000,'Accounting Data'!E2:E100000,\"001\",'Accounting Data'!H2:H100000,\"2??\",'Accounting Data'!I2:I100000,\"26??\",'Accounting Data'!J2:J100000,\"66??\")+SUMIFS('Accounting Data'!C2:C100000,'Accounting Data'!E2:E100000,\"001\",'Accounting Data'!H2:H100000,\"3??\",'Accounting Data'!I2:I100000,\"26??\",'Accounting Data'!J2:J100000,\"66??\")","v":0},{"$f":"SUMIFS('Accounting Data'!C2:C100000,'Accounting Data'!E2:E100000,\"001\",'Accounting Data'!H2:H100000,\"2??\",'Accounting Data'!I2:I100000,\"26??\",'Accounting Data'!J2:J100000,\"68??\")+SUMIFS('Accounting Data'!C2:C100000,'Accounting Data'!E2:E100000,\"001\",'Accounting Data'!H2:H100000,\"3??\",'Accounting Data'!I2:I100000,\"26??\",'Accounting Data'!J2:J100000,\"68??\")","v":0},{"$f":"[1]!F001P200F2600","v":0},0,{"$f":"[2]!F001P200F2600","v":0},0,"21."]
["      2900 Other",null,"22.",{"$f":"SUMIFS('Accounting Data'!C2:C100000,'Accounting Data'!E2:E100000,\"001\",'Accounting Data'!H2:H100000,\"2??\",'Accounting Data'!I2:I100000,\"29??\",'Accounting Data'!J2:J100000,\"61??\")+SUMIFS('Accounting Data'!C2:C100000,'Accounting Data'!E2:E100000,\"001\",'Accounting Data'!H2:H100000,\"3??\",'Accounting Data'!I2:I100000,\"29??\",'Accounting Data'!J2:J100000,\"61??\")","v":0},{"$f":"SUMIFS('Accounting Data'!C2:C100000,'Accounting Data'!E2:E100000,\"001\",'Accounting Data'!H2:H100000,\"2??\",'Accounting Data'!I2:I100000,\"29??\",'Accounting Data'!J2:J100000,\"62??\")+SUMIFS('Accounting Data'!C2:C100000,'Accounting Data'!E2:E100000,\"001\",'Accounting Data'!H2:H100000,\"3??\",'Accounting Data'!I2:I100000,\"29??\",'Accounting Data'!J2:J100000,\"62??\")","v":0},{"$f":"SUMIFS('Accounting Data'!C2:C100000,'Accounting Data'!E2:E100000,\"001\",'Accounting Data'!H2:H100000,\"2??\",'Accounting Data'!I2:I100000,\"29??\",'Accounting Data'!J2:J100000,\"63??\")+SUMIFS('Accounting Data'!C2:C100000,'Accounting Data'!E2:E100000,\"001\",'Accounting Data'!H2:H100000,\"2??\",'Accounting Data'!I2:I100000,\"29??\",'Accounting Data'!J2:J100000,\"64??\")+SUMIFS('Accounting Data'!C2:C100000,'Accounting Data'!E2:E100000,\"001\",'Accounting Data'!H2:H100000,\"2??\",'Accounting Data'!I2:I100000,\"29??\",'Accounting Data'!J2:J100000,\"65??\")+SUMIFS('Accounting Data'!C2:C100000,'Accounting Data'!E2:E100000,\"001\",'Accounting Data'!H2:H100000,\"3??\",'Accounting Data'!I2:I100000,\"29??\",'Accounting Data'!J2:J100000,\"63??\")+SUMIFS('Accounting Data'!C2:C100000,'Accounting Data'!E2:E100000,\"001\",'Accounting Data'!H2:H100000,\"3??\",'Accounting Data'!I2:I100000,\"29??\",'Accounting Data'!J2:J100000,\"64??\")+SUMIFS('Accounting Data'!C2:C100000,'Accounting Data'!E2:E100000,\"001\",'Accounting Data'!H2:H100000,\"3??\",'Accounting Data'!I2:I100000,\"29??\",'Accounting Data'!J2:J100000,\"65??\")","v":0},{"$f":"SUMIFS('Accounting Data'!C2:C100000,'Accounting Data'!E2:E100000,\"001\",'Accounting Data'!H2:H100000,\"2??\",'Accounting Data'!I2:I100000,\"29??\",'Accounting Data'!J2:J100000,\"66??\")+SUMIFS('Accounting Data'!C2:C100000,'Accounting Data'!E2:E100000,\"001\",'Accounting Data'!H2:H100000,\"3??\",'Accounting Data'!I2:I100000,\"29??\",'Accounting Data'!J2:J100000,\"66??\")","v":0},{"$f":"SUMIFS('Accounting Data'!C2:C100000,'Accounting Data'!E2:E100000,\"001\",'Accounting Data'!H2:H100000,\"2??\",'Accounting Data'!I2:I100000,\"29??\",'Accounting Data'!J2:J100000,\"68??\")+SUMIFS('Accounting Data'!C2:C100000,'Accounting Data'!E2:E100000,\"001\",'Accounting Data'!H2:H100000,\"3??\",'Accounting Data'!I2:I100000,\"29??\",'Accounting Data'!J2:J100000,\"68??\")","v":0},{"$f":"[1]!F001P200F2900","v":0},0,{"$f":"[2]!F001P200F2900","v":0},0,"22."]
["   3000 Operation of Noninstructional Services",null,"23.",{"$f":"SUMIFS('Accounting Data'!C2:C100000,'Accounting Data'!E2:E100000,\"001\",'Accounting Data'!H2:H100000,\"2??\",'Accounting Data'!I2:I100000,\"3???\",'Accounting Data'!J2:J100000,\"61??\")+SUMIFS('Accounting Data'!C2:C100000,'Accounting Data'!E2:E100000,\"001\",'Accounting Data'!H2:H100000,\"3??\",'Accounting Data'!I2:I100000,\"3???\",'Accounting Data'!J2:J100000,\"61??\")","v":0},{"$f":"SUMIFS('Accounting Data'!C2:C100000,'Accounting Data'!E2:E100000,\"001\",'Accounting Data'!H2:H100000,\"2??\",'Accounting Data'!I2:I100000,\"3???\",'Accounting Data'!J2:J100000,\"62??\")+SUMIFS('Accounting Data'!C2:C100000,'Accounting Data'!E2:E100000,\"001\",'Accounting Data'!H2:H100000,\"3??\",'Accounting Data'!I2:I100000,\"3???\",'Accounting Data'!J2:J100000,\"62??\")","v":0},{"$f":"SUMIFS('Accounting Data'!C2:C100000,'Accounting Data'!E2:E100000,\"001\",'Accounting Data'!H2:H100000,\"2??\",'Accounting Data'!I2:I100000,\"3???\",'Accounting Data'!J2:J100000,\"63??\")+SUMIFS('Accounting Data'!C2:C100000,'Accounting Data'!E2:E100000,\"001\",'Accounting Data'!H2:H100000,\"2??\",'Accounting Data'!I2:I100000,\"3???\",'Accounting Data'!J2:J100000,\"64??\")+SUMIFS('Accounting Data'!C2:C100000,'Accounting Data'!E2:E100000,\"001\",'Accounting Data'!H2:H100000,\"2??\",'Accounting Data'!I2:I100000,\"3???\",'Accounting Data'!J2:J100000,\"65??\")+SUMIFS('Accounting Data'!C2:C100000,'Accounting Data'!E2:E100000,\"001\",'Accounting Data'!H2:H100000,\"3??\",'Accounting Data'!I2:I100000,\"3???\",'Accounting Data'!J2:J100000,\"63??\")+SUMIFS('Accounting Data'!C2:C100000,'Accounting Data'!E2:E100000,\"001\",'Accounting Data'!H2:H100000,\"3??\",'Accounting Data'!I2:I100000,\"3???\",'Accounting Data'!J2:J100000,\"64??\")+SUMIFS('Accounting Data'!C2:C100000,'Accounting Data'!E2:E100000,\"001\",'Accounting Data'!H2:H100000,\"3??\",'Accounting Data'!I2:I100000,\"3???\",'Accounting Data'!J2:J100000,\"65??\")","v":0},{"$f":"SUMIFS('Accounting Data'!C2:C100000,'Accounting Data'!E2:E100000,\"001\",'Accounting Data'!H2:H100000,\"2??\",'Accounting Data'!I2:I100000,\"3???\",'Accounting Data'!J2:J100000,\"66??\")+SUMIFS('Accounting Data'!C2:C100000,'Accounting Data'!E2:E100000,\"001\",'Accounting Data'!H2:H100000,\"3??\",'Accounting Data'!I2:I100000,\"3???\",'Accounting Data'!J2:J100000,\"66??\")","v":0},{"$f":"SUMIFS('Accounting Data'!C2:C100000,'Accounting Data'!E2:E100000,\"001\",'Accounting Data'!H2:H100000,\"2??\",'Accounting Data'!I2:I100000,\"3???\",'Accounting Data'!J2:J100000,\"68??\")+SUMIFS('Accounting Data'!C2:C100000,'Accounting Data'!E2:E100000,\"001\",'Accounting Data'!H2:H100000,\"3??\",'Accounting Data'!I2:I100000,\"3???\",'Accounting Data'!J2:J100000,\"68??\")","v":0},{"$f":"[1]!F001P200F3000","v":0},0,{"$f":"[2]!F001P200F3000","v":0},0,"23."]
["   Subtotal (lines 15-23) ",null,"24.",{"$f":"D23+D25+SUM(D27:D33)","v":3885868},{"$f":"E23+E25+SUM(E27:E33)","v":1275081},{"$f":"F23+F25+SUM(F27:F33)","v":2553474},37209,866,{"$f":"I23+I25+SUM(I27:I33)","v":8351964},{"$f":"ROUND(J23+J25+SUM(J27:J33),0)","v":7752498},5759501,0.34599999999999997,"24."]
[null,null,null,{"$f":"SUMIFS('Accounting Data'!C2:C100000,'Accounting Data'!E2:E100000,\"001\",'Accounting Data'!H2:H100000,\"4??\",'Accounting Data'!J2:J100000,\"61??\")","v":1291409},{"$f":"SUMIFS('Accounting Data'!C2:C100000,'Accounting Data'!E2:E100000,\"001\",'Accounting Data'!H2:H100000,\"4??\",'Accounting Data'!J2:J100000,\"62??\")","v":466391},{"$f":"SUMIFS('Accounting Data'!C2:C100000,'Accounting Data'!E2:E100000,\"001\",'Accounting Data'!H2:H100000,\"4??\",'Accounting Data'!J2:J100000,\"63??\")+SUMIFS('Accounting Data'!C2:C100000,'Accounting Data'!E2:E100000,\"001\",'Accounting Data'!H2:H100000,\"4??\",'Accounting Data'!J2:J100000,\"64??\")+SUMIFS('Accounting Data'!C2:C100000,'Accounting Data'!E2:E100000,\"001\",'Accounting Data'!H2:H100000,\"4??\",'Accounting Data'!J2:J100000,\"65??\")","v":356198},{"$f":"SUMIFS('Accounting Data'!C2:C100000,'Accounting Data'!E2:E100000,\"001\",'Accounting Data'!H2:H100000,\"4??\",'Accounting Data'!J2:J100000,\"66??\")","v":462040},{"$f":"SUMIFS('Accounting Data'!C2:C100000,'Accounting Data'!E2:E100000,\"001\",'Accounting Data'!H2:H100000,\"4??\",'Accounting Data'!J2:J100000,\"68??\")","v":200},{"$f":"[1]!F001P400","v":2523256},{"$f":"SUM(D35:H35)","v":2576238},{"$f":"[2]!F001P400","v":2127769},{"$f":"IF(J35=K35,0,IF(K35>0,(J35-K35)/K35,\"--\"))","v":0.21099999999999999},"26."]
["400 Pupil Transportation",null,"25.",null,null,null,null,null,null,null,null,null,"25."]
["510 Desegregation",null,null,{"$f":"[3]Districtwide!$D$66","v":0},{"$f":"[3]Districtwide!$E$66","v":0},{"$f":"[3]Districtwide!$F$66","v":0},{"$f":"[3]Districtwide!$G$66","v":0},{"$f":"[3]Districtwide!$H$66","v":0},{"$f":"[3]Districtwide!$I$66","v":0},{"$f":"[3]Districtwide!$J$66","v":0},{"$f":"[2]!F001P510","v":0},{"$f":"IF(J37=K37,0,IF(K37>0,(J37-K37)/K37,\"--\"))","v":0}]
["    (from Districtwide Desegregation Expenditures, page 2, line 44)",null,"26.",null,null,null,null,null,null,null,null,null,"26."]
["530 Dropout Prevention Programs",null,null,{"$f":"SUMIFS('Accounting Data'!C2:C100000,'Accounting Data'!E2:E100000,\"001\",'Accounting Data'!H2:H100000,\"53?\",'Accounting Data'!I2:I100000,\"1???\",'Accounting Data'!J2:J100000,\"61??\")","v":0},{"$f":"SUMIFS('Accounting Data'!C2:C100000,'Accounting Data'!E2:E100000,\"001\",'Accounting Data'!H2:H100000,\"53?\",'Accounting Data'!I2:I100000,\"1???\",'Accounting Data'!J2:J100000,\"62??\")","v":0},{"$f":"SUMIFS('Accounting Data'!C2:C100000,'Accounting Data'!E2:E100000,\"001\",'Accounting Data'!H2:H100000,\"53?\",'Accounting Data'!I2:I100000,\"1???\",'Accounting Data'!J2:J100000,\"63??\")+SUMIFS('Accounting Data'!C2:C100000,'Accounting Data'!E2:E100000,\"001\",'Accounting Data'!H2:H100000,\"53?\",'Accounting Data'!I2:I100000,\"1???\",'Accounting Data'!J2:J100000,\"64??\")+SUMIFS('Accounting Data'!C2:C100000,'Accounting Data'!E2:E100000,\"001\",'Accounting Data'!H2:H100000,\"53?\",'Accounting Data'!I2:I100000,\"1???\",'Accounting Data'!J2:J100000,\"65??\")","v":0},{"$f":"SUMIFS('Accounting Data'!C2:C100000,'Accounting Data'!E2:E100000,\"001\",'Accounting Data'!H2:H100000,\"53?\",'Accounting Data'!I2:I100000,\"1???\",'Accounting Data'!J2:J100000,\"66??\")","v":0},{"$f":"SUMIFS('Accounting Data'!C2:C100000,'Accounting Data'!E2:E100000,\"001\",'Accounting Data'!H2:H100000,\"53?\",'Accounting Data'!I2:I100000,\"1???\",'Accounting Data'!J2:J100000,\"68??\")","v":0},null,{"$f":"SUM(D39:H39)","v":0},{"$f":"[2]!F001P530F1000","v":0},{"$f":"IF(J39=K39,0,IF(K39>0,(J39-K39)/K39,\"--\"))","v":0}]
["   1000 Instruction",null,"27.",null,null,null,null,null,null,null,null,null,"27."]
["   2000-3000 Support Serv. & Oper. of Noninstructional Serv.",null,"28.",{"$f":"SUMIFS('Accounting Data'!C2:C100000,'Accounting Data'!E2:E100000,\"001\",'Accounting Data'!H2:H100000,\"53?\",'Accounting Data'!I2:I100000,\"2???\",'Accounting Data'!J2:J100000,\"61??\")+SUMIFS('Accounting Data'!C2:C100000,'Accounting Data'!E2:E100000,\"001\",'Accounting Data'!H2:H100000,\"53?\",'Accounting Data'!I2:I100000,\"3???\",'Accounting Data'!J2:J100000,\"61??\")","v":0},{"$f":"SUMIFS('Accounting Data'!C2:C100000,'Accounting Data'!E2:E100000,\"001\",'Accounting Data'!H2:H100000,\"53?\",'Accounting Data'!I2:I100000,\"2???\",'Accounting Data'!J2:J100000,\"62??\")+SUMIFS('Accounting Data'!C2:C100000,'Accounting Data'!E2:E100000,\"001\",'Accounting Data'!H2:H100000,\"53?\",'Accounting Data'!I2:I100000,\"3???\",'Accounting Data'!J2:J100000,\"62??\")","v":0},{"$f":"SUMIFS('Accounting Data'!C2:C100000,'Accounting Data'!E2:E100000,\"001\",'Accounting Data'!H2:H100000,\"53?\",'Accounting Data'!I2:I100000,\"2???\",'Accounting Data'!J2:J100000,\"63??\")+SUMIFS('Accounting Data'!C2:C100000,'Accounting Data'!E2:E100000,\"001\",'Accounting Data'!H2:H100000,\"53?\",'Accounting Data'!I2:I100000,\"2???\",'Accounting Data'!J2:J100000,\"64??\")+SUMIFS('Accounting Data'!C2:C100000,'Accounting Data'!E2:E100000,\"001\",'Accounting Data'!H2:H100000,\"53?\",'Accounting Data'!I2:I100000,\"2???\",'Accounting Data'!J2:J100000,\"65??\")+SUMIFS('Accounting Data'!C2:C100000,'Accounting Data'!E2:E100000,\"001\",'Accounting Data'!H2:H100000,\"53?\",'Accounting Data'!I2:I100000,\"3???\",'Accounting Data'!J2:J100000,\"63??\")+SUMIFS('Accounting Data'!C2:C100000,'Accounting Data'!E2:E100000,\"001\",'Accounting Data'!H2:H100000,\"53?\",'Accounting Data'!I2:I100000,\"3???\",'Accounting Data'!J2:J100000,\"64??\")+SUMIFS('Accounting Data'!C2:C100000,'Accounting Data'!E2:E100000,\"001\",'Accounting Data'!H2:H100000,\"53?\",'Accounting Data'!I2:I100000,\"3???\",'Accounting Data'!J2:J100000,\"65??\")","v":0},{"$f":"SUMIFS('Accounting Data'!C2:C100000,'Accounting Data'!E2:E100000,\"001\",'Accounting Data'!H2:H100000,\"53?\",'Accounting Data'!I2:I100000,\"2???\",'Accounting Data'!J2:J100000,\"66??\")+SUMIFS('Accounting Data'!C2:C100000,'Accounting Data'!E2:E100000,\"001\",'Accounting Data'!H2:H100000,\"53?\",'Accounting Data'!I2:I100000,\"3???\",'Accounting Data'!J2:J100000,\"66??\")","v":0},{"$f":"SUMIFS('Accounting Data'!C2:C100000,'Accounting Data'!E2:E100000,\"001\",'Accounting Data'!H2:H100000,\"53?\",'Accounting Data'!I2:I100000,\"2???\",'Accounting Data'!J2:J100000,\"68??\")+SUMIFS('Accounting Data'!C2:C100000,'Accounting Data'!E2:E100000,\"001\",'Accounting Data'!H2:H100000,\"53?\",'Accounting Data'!I2:I100000,\"3???\",'Accounting Data'!J2:J100000,\"68??\")","v":0},null,{"$f":"SUM(D41:H41)","v":0},{"$f":"[2]!F001P530F20003000","v":0},{"$f":"IF(J41=K41,0,IF(K41>0,(J41-K41)/K41,\"--\"))","v":0},"28."]
["   Subtotal (lines 27 and 28)",null,"29.",{"$f":"SUM(D39:D41)","v":0},{"$f":"SUM(E39:E41)","v":0},{"$f":"SUM(F39:F41)","v":0},{"$f":"SUM(G39:G41)","v":0},{"$f":"SUM(H39:H41)","v":0},{"$f":"[1]!F001P530","v":0},{"$f":"J39+J41","v":0},{"$f":"SUM(K39:K41)","v":0},{"$f":"IF(J42=K42,0,IF(K42>0,(J42-K42)/K42,\"--\"))","v":0},"29."]
["540 Joint Career and Technical Education and Vocational ",null," ",0,0,0,0,0,0,{"$f":"SUM(D43:H43)","v":0},{"$f":"[2]!F001P540","v":0},{"$f":"IF(J43=K43,0,IF(K43>0,(J43-K43)/K43,\"--\"))","v":0}]
["   Education Center ",null,"30.",null,null,null,null,null,null,null,null,null,"30."]
["550 K-3 Reading Program",null,"31.",{"$f":"SUMIFS('Accounting Data'!C2:C100000,'Accounting Data'!E2:E100000,\"001\",'Accounting Data'!H2:H100000,\"55?\",'Accounting Data'!J2:J100000,\"61??\")","v":267786},{"$f":"SUMIFS('Accounting Data'!C2:C100000,'Accounting Data'!E2:E100000,\"001\",'Accounting Data'!H2:H100000,\"55?\",'Accounting Data'!J2:J100000,\"62??\")","v":78982},{"$f":"SUMIFS('Accounting Data'!C2:C100000,'Accounting Data'!E2:E100000,\"001\",'Accounting Data'!H2:H100000,\"55?\",'Accounting Data'!J2:J100000,\"63??\")+SUMIFS('Accounting Data'!C2:C100000,'Accounting Data'!E2:E100000,\"001\",'Accounting Data'!H2:H100000,\"55?\",'Accounting Data'!J2:J100000,\"64??\")+SUMIFS('Accounting Data'!C2:C100000,'Accounting Data'!E2:E100000,\"001\",'Accounting Data'!H2:H100000,\"55?\",'Accounting Data'!J2:J100000,\"65??\")","v":0},{"$f":"SUMIFS('Accounting Data'!C2:C100000,'Accounting Data'!E2:E100000,\"001\",'Accounting Data'!H2:H100000,\"55?\",'Accounting Data'!J2:J100000,\"66??\")","v":0},{"$f":"SUMIFS('Accounting Data'!C2:C100000,'Accounting Data'!E2:E100000,\"001\",'Accounting Data'!H2:H100000,\"55?\",'Accounting Data'!J2:J100000,\"68??\")","v":0},{"$f":"[1]!F001P550","v":344731},{"$f":"SUM(D45:H45)","v":346768},{"$f":"[2]!F001P550TotActExp","v":311532},{"$f":"IF(J45=K45,0,IF(K45>0,(J45-K45)/K45,\"--\"))","v":0.113},"31."]
["Total Expenditures (lines 14, 24-26, 29-31)",null,"32.",{"$f":"D22+D34+D35+D37+D42+D43+D45","v":21511493},6847540,6192051,2046263,83256,{"$f":"I22+I34+I35+I37+I42+I43+I45","v":37595317},{"$f":"J22+J34+J35+J37+J42+J43+J45","v":36680603},31515706,{"$f":"IF(J46=K46,0,IF(K46>0,(J46-K46)/K46,\"--\"))","v":0.16400000000000001},"32."]

{"sheet":"Page 3","index":3,"n_rows":21,"n_cols":17,"rows_kept":21,"cut":false,"hidden":false,"merged":[[2,14,4,14],[3,13,4,13],[0,13,0,14],[1,1,1,2],[3,11,4,11],[3,12,4,12],[0,1,0,5],[0,8,0,10],[2,11,2,13]]}
["DISTRICT NAME ",{"$f":"CoverDistrictName","v":"Liberty Elementary School District No. 25"},null,null,null,null,null,"COUNTY ",{"$f":"County","v":"Maricopa"},null,null,null,"CTDS NUMBER ",{"$f":"Cover!Q1","v":"070425000"}]
[null,null,null,null,"CLASSROOM SITE FUND—REVENUES, EXPENDITURES, AND FUND BALANCES"]
[null,null,null,"Beginning",null,null,null,null,null,null,"Debt Service","Total Expenditures",null,null,"% Increase/ Decrease in Actual","Ending"]
[null,null,null,"Fund ","Actual","Salaries","Employee Benefits","Purchased Services","Supplies","Property","and Miscellaneous","Budget","Actual                     ","Prior Year Actual                      ",null,"Fund"]
[null,null,null,"Balance","Revenues","6100","6200","6300, 6400,6500",6600,6700,6800,null,null,null,null,"Balance"]
["Classroom Site Fund 010"]
["Revenues"]
["CSF Revenue",null,"1.",null,{"$f":"-(SUMIFS('Accounting Data'!C2:C100000,'Accounting Data'!E2:E100000,\"01?\",'Accounting Data'!J2:J100000,\"3???\"))","v":3677371},null,null,null,null,null,null,null,null,null,null,null,"1."]
["Interest Income and Other Revenues",null,"2.",null,{"$f":"-(SUMIFS('Accounting Data'!C2:C100000,'Accounting Data'!E2:E100000,\"01?\",'Accounting Data'!J2:J100000,\"15??\")+SUMIFS('Accounting Data'!C2:C100000,'Accounting Data'!E2:E100000,\"01?\",'Accounting Data'!J2:J100000,\"198?\")+(SUMIFS('Accounting Data'!C2:C100000,'Accounting Data'!E2:E100000,\"01?\",'Accounting Data'!J2:J100000,\"199?\")))","v":79082},null,null,null,null,null,null,null,null,null,null,null,"2."]
["Total Revenues (lines 1 and 2)",null,"3.",null,{"$f":"SUM(E8:E9)","v":3756453},null,null,null,null,null,null,null,null,null,null,null,"3."]
["Expenditures"]
["     1000 Instruction",null,"4.",null,null,{"$f":"SUMIFS('Accounting Data'!C2:C100000,'Accounting Data'!E2:E100000,\"01?\",'Accounting Data'!I2:I100000,\"1???\",'Accounting Data'!J2:J100000,\"61??\")","v":2522334},{"$f":"SUMIFS('Accounting Data'!C2:C100000,'Accounting Data'!E2:E100000,\"01?\",'Accounting Data'!I2:I100000,\"1???\",'Accounting Data'!J2:J100000,\"62??\")","v":510471},{"$f":"SUM(SUMIFS('Accounting Data'!C2:C100000,'Accounting Data'!E2:E100000,\"01?\",'Accounting Data'!I2:I100000,\"1???\",'Accounting Data'!J2:J100000,{\"63??\",\"64??\",\"65??\"}))","v":0},{"$f":"SUMIFS('Accounting Data'!C2:C100000,'Accounting Data'!E2:E100000,\"01?\",'Accounting Data'!I2:I100000,\"1???\",'Accounting Data'!J2:J100000,\"66??\")","v":0},{"$f":"SUMIFS('Accounting Data'!C2:C100000,'Accounting Data'!E2:E100000,\"01?\",'Accounting Data'!I2:I100000,\"1???\",'Accounting Data'!J2:J100000,\"67??\")","v":0},{"$f":"SUMIFS('Accounting Data'!C2:C100000,'Accounting Data'!E2:E100000,\"01?\",'Accounting Data'!I2:I100000,\"1???\",'Accounting Data'!J2:J100000,\"68??\")","v":0},{"$f":"[1]!F010F1000","v":5171874},{"$f":"SUM(F12:K12)","v":3032805},{"$f":"[2]!F010F1000","v":2324761},{"$f":"IF(M12=N12,0,IF(N12>0,(M12-N12)/N12,\"--\"))","v":0.30499999999999999},null,"4."]
["     2100 Support Services - Students",null,"5.",null,null,{"$f":"SUMIFS('Accounting Data'!C2:C100000,'Accounting Data'!E2:E100000,\"01?\",'Accounting Data'!I2:I100000,\"21??\",'Accounting Data'!J2:J100000,\"61??\")","v":49510},{"$f":"SUMIFS('Accounting Data'!C2:C100000,'Accounting Data'!E2:E100000,\"01?\",'Accounting Data'!I2:I100000,\"21??\",'Accounting Data'!J2:J100000,\"62??\")","v":10469},{"$f":"SUM(SUMIFS('Accounting Data'!C2:C100000,'Accounting Data'!E2:E100000,\"01?\",'Accounting Data'!I2:I100000,\"21??\",'Accounting Data'!J2:J100000,{\"63??\",\"64??\",\"65??\"}))","v":0},{"$f":"SUMIFS('Accounting Data'!C2:C100000,'Accounting Data'!E2:E100000,\"01?\",'Accounting Data'!I2:I100000,\"21??\",'Accounting Data'!J2:J100000,\"66??\")","v":0},{"$f":"SUMIFS('Accounting Data'!C2:C100000,'Accounting Data'!E2:E100000,\"01?\",'Accounting Data'!I2:I100000,\"21??\",'Accounting Data'!J2:J100000,\"67??\")","v":0},{"$f":"SUMIFS('Accounting Data'!C2:C100000,'Accounting Data'!E2:E100000,\"01?\",'Accounting Data'!I2:I100000,\"21??\",'Accounting Data'!J2:J100000,\"68??\")","v":0},{"$f":"[1]!F010F2100","v":90750},59979,{"$f":"[2]!F010F2100","v":59974},{"$f":"IF(M13=N13,0,IF(N13>0,(M13-N13)/N13,\"--\"))","v":0},null,"5."]
["     2200 Support Services - Instructional Staff",null,"6.",null,null,{"$f":"SUMIFS('Accounting Data'!C2:C100000,'Accounting Data'!E2:E100000,\"01?\",'Accounting Data'!I2:I100000,\"22??\",'Accounting Data'!J2:J100000,\"61??\")","v":45250},{"$f":"SUMIFS('Accounting Data'!C2:C100000,'Accounting Data'!E2:E100000,\"01?\",'Accounting Data'!I2:I100000,\"22??\",'Accounting Data'!J2:J100000,\"62??\")","v":9071},{"$f":"SUM(SUMIFS('Accounting Data'!C2:C100000,'Accounting Data'!E2:E100000,\"01?\",'Accounting Data'!I2:I100000,\"22??\",'Accounting Data'!J2:J100000,{\"63??\",\"64??\",\"65??\"}))","v":0},{"$f":"SUMIFS('Accounting Data'!C2:C100000,'Accounting Data'!E2:E100000,\"01?\",'Accounting Data'!I2:I100000,\"22??\",'Accounting Data'!J2:J100000,\"66??\")","v":0},null,{"$f":"SUMIFS('Accounting Data'!C2:C100000,'Accounting Data'!E2:E100000,\"01?\",'Accounting Data'!I2:I100000,\"22??\",'Accounting Data'!J2:J100000,\"68??\")","v":0},{"$f":"[1]!F010F2200","v":90750},54321,{"$f":"[2]!F010F2200","v":61060},-0.11,null,"6."]
["     2300 Support Services - General Administration",null,"7.",null,null,null,null,{"$f":"SUMIFS('Accounting Data'!C2:C100000,'Accounting Data'!E2:E100000,\"01?\",'Accounting Data'!I2:I100000,\"23??\",'Accounting Data'!J2:J100000,\"652?\")","v":0},null,null,null,{"$f":"[1]!F010F2310","v":0},0,{"$f":"[2]!F010F2300","v":0},0,null,"7."]
["     2500 Central Services",null,"8.",null,null,null,null,null,null,null,{"$f":"SUMIFS('Accounting Data'!C2:C100000,'Accounting Data'!E2:E100000,\"01?\",'Accounting Data'!I2:I100000,\"25??\",'Accounting Data'!J2:J100000,\"68??\")","v":0},{"$f":"[1]!F010F2510","v":0},0,{"$f":"[2]!F010F2500","v":0},0,null,"8."]
["     3300 Community Services Operations ",null,"9.",null,null,{"$f":"SUMIFS('Accounting Data'!C2:C100000,'Accounting Data'!E2:E100000,\"01?\",'Accounting Data'!I2:I100000,\"33??\",'Accounting Data'!J2:J100000,\"61??\")","v":0},{"$f":"SUMIFS('Accounting Data'!C2:C100000,'Accounting Data'!E2:E100000,\"01?\",'Accounting Data'!I2:I100000,\"33??\",'Accounting Data'!J2:J100000,\"62??\")","v":0},{"$f":"SUM(SUMIFS('Accounting Data'!C2:C100000,'Accounting Data'!E2:E100000,\"01?\",'Accounting Data'!I2:I100000,\"33??\",'Accounting Data'!J2:J100000,{\"63??\",\"64??\",\"65??\"}))","v":0},null,null,null,{"$f":"[1]!F010F3300","v":0},0,{"$f":"[2]!F010F3300","v":0},0,null,"9."]
["     4000 Facilities Acquisition and Construction",null,"10.",null,null,null,null,null,null,{"$f":"SUMIFS('Accounting Data'!C2:C100000,'Accounting Data'!E2:E100000,\"01?\",'Accounting Data'!I2:I100000,\"4???\",'Accounting Data'!J2:J100000,\"67??\")","v":0},null,{"$f":"[1]!F010F4000","v":0},0,{"$f":"[2]!F010F4000","v":0},0,null,"10."]
["     5000 Debt Service ",null,"11.",null,null,null,null,null,null,null,{"$f":"SUMIFS('Accounting Data'!C2:C100000,'Accounting Data'!E2:E100000,\"01?\",'Accounting Data'!I2:I100000,\"5???\",'Accounting Data'!J2:J100000,\"68??\")","v":0},{"$f":"[1]!F010F5000","v":0},0,{"$f":"[2]!F010F5000","v":0},0,null,"11."]
["Total Expenditures (lines 4-11)",null,"12.",null,null,{"$f":"SUM(F12:F19)","v":2617094},530011,0,0,0,0,{"$f":"[1]!F010TotalExp","v":5353374},3147105,{"$f":"[2]!F010TotActExp","v":2445795},0.28699999999999998,null,"12."]
["Total Classroom Site Fund",null,"13.",{"$f":"'Accounting Data'!R3","v":1756532},{"$f":"E10","v":3756453},{"$f":"F20","v":2617094},{"$f":"G20","v":530011},0,0,0,0,5353374,3147105,{"$f":"N20","v":2445795},{"$f":"IF(M21=N21,0,IF(N21>0,(M21-N21)/N21,\"--\"))","v":0.28699999999999998},{"$f":"D21+E21-M21","v":2365880},"13."]

{"sheet":"Page 4","index":4,"n_rows":56,"n_cols":28,"rows_kept":56,"cut":false,"hidden":false,"merged":[[0,6,0,8],[0,11,0,12],[25,3,25,4],[24,5,24,6],[25,5,25,6],[24,7,24,8],[25,7,25,8],[24,3,24,4],[10,9,11,9],[8,9,9,9],[8,8,9,8],[0,1,0,4],[2,0,2,12],[1,0,1,12],[3,10,3,12],[5,8,6,8],[3,5,5,5],[24,9,24,10],[25,9,25,10],[51,7,52,7],[46,5,46,7],[47,5,47,7],[8,13,9,13],[10,13,11,13],[8,12,9,12],[10,12,11,12],[10,10,11,10],[8,11,9,11],[10,11,11,11],[8,10,9,10],[25,0,25,1],[10,3,11,3],[8,7,9,7],[22,0,22,8],[8,6,9,6],[8,5,9,5],[10,5,11,5],[10,8,11,8],[8,3,9,3],[8,4,9,4],[10,4,11,4],[10,6,11,6],[10,7,11,7]]}
["DISTRICT NAME",{"$f":"CoverDistrictName","v":"Liberty Elementary School District No. 25"},null,null,null,"COUNTY",{"$f":"County","v":"Maricopa"},null,null,null,"CTDS NUMBER",{"$f":"Cover!Q1","v":"070425000"}]
["UNRESTRICTED CAPITAL OUTLAY (610) FUND—EXPENDITURES"]
[]
[null,null,null,null,"Library Books,","Short-term Noninstructional Software Subscription",null,null,null,null,"Totals",null,null,"%"]
[null,null,null,null," Textbooks, & ",null,null,"Redemption of ","Interest","All Other ",null,null,null,"Increase/"]
["Expenditures",null,null,"Rentals","Instructional Aids",null,"Property","Principal","6841, 6842, 6843,  6850","Object Codes","Budget","Actual","Prior Year Actual","Decrease"]
[null,null,null,6440,"6641-6643","6655",6700,"6831, 6832, 6833",null,"(excluding 6900)",null,null,null,"in Actual",null,null,null,null,null,null,null,null,null,null,null,null,null,{"$f":"IF(OR(AB8=\"yes\",AA42=\"yes\",AA50=\"yes\"),\"yes\",\"\")","v":""}]
["Unrestricted Capital Outlay Override  (1)",null,"1.",0,0,0,0,0,0,0,{"$f":"[1]!F610Override","v":0},{"$f":"SUM(D8:J8)","v":0},{"$f":"[2]!F610override","v":0},{"$f":"IF(L8=M8,0,IF(M8>0,(L8-M8)/M8,\"--\"))","v":0},"1.",null,null,null,null,null,null,null,null,null,null,null,null,{"$f":"IF(OR(D8=\"\",E8=\"\",F8=\"\",G8=\"\",H8=\"\",I8=\"\",J8=\"\",K22=\"\"),\"yes\",\"\")","v":""}]
["Unrestricted Capital Outlay Fund 610  (2)",null,null,{"$f":"SUMIFS('Accounting Data'!C2:C100000,'Accounting Data'!E2:E100000,\"610\",'Accounting Data'!I2:I100000,\"1???\",'Accounting Data'!J2:J100000,\"644?\")","v":0},{"$f":"SUMIFS('Accounting Data'!C2:C100000,'Accounting Data'!E2:E100000,\"610\",'Accounting Data'!I2:I100000,\"1???\",'Accounting Data'!J2:J100000,\"6641\")+SUMIFS('Accounting Data'!C2:C100000,'Accounting Data'!E2:E100000,\"610\",'Accounting Data'!I2:I100000,\"1???\",'Accounting Data'!J2:J100000,\"6642\")+SUMIFS('Accounting Data'!C2:C100000,'Accounting Data'!E2:E100000,\"610\",'Accounting Data'!I2:I100000,\"1???\",'Accounting Data'!J2:J100000,\"6643\")","v":1238746},null,{"$f":"SUMIFS('Accounting Data'!C2:C100000,'Accounting Data'!E2:E100000,\"610\",'Accounting Data'!I2:I100000,\"1???\",'Accounting Data'!J2:J100000,\"67??\")","v":302632},null,null,{"$f":"SUMIFS('Accounting Data'!C2:C100000,'Accounting Data'!E2:E100000,\"610\",'Accounting Data'!I2:I100000,\"1???\",'Accounting Data'!J2:J100000,\"6???\")-SUMIFS('Accounting Data'!C2:C100000,'Accounting Data'!E2:E100000,\"610\",'Accounting Data'!I2:I100000,\"1???\",'Accounting Data'!J2:J100000,\"69??\")-D9-E9-G9","v":823},{"$f":"[1]!F610F1000","v":1591113},{"$f":"SUM(D9:G9)+J9","v":1542201},{"$f":"[2]!F610F1000","v":1030758},{"$f":"IF(L9=M9,0,IF(M9>0,(L9-M9)/M9,\"--\"))","v":0.496}]
["        1000   Instruction",null,"2.",null,null,null,null,null,null,null,null,null,null,null,"2."]
["        2000  Support Services",null,null,{"$f":"SUMIFS('Accounting Data'!C2:C100000,'Accounting Data'!E2:E100000,\"610\",'Accounting Data'!I2:I100000,\"21??\",'Accounting Data'!J2:J100000,\"644?\")+SUMIFS('Accounting Data'!C2:C100000,'Accounting Data'!E2:E100000,\"610\",'Accounting Data'!I2:I100000,\"22??\",'Accounting Data'!J2:J100000,\"644?\")","v":0},{"$f":"SUMIFS('Accounting Data'!C2:C100000,'Accounting Data'!E2:E100000,\"610\",'Accounting Data'!I2:I100000,\"21??\",'Accounting Data'!J2:J100000,\"6641\")+SUMIFS('Accounting Data'!C2:C100000,'Accounting Data'!E2:E100000,\"610\",'Accounting Data'!I2:I100000,\"21??\",'Accounting Data'!J2:J100000,\"6642\")+SUMIFS('Accounting Data'!C2:C100000,'Accounting Data'!E2:E100000,\"610\",'Accounting Data'!I2:I100000,\"21??\",'Accounting Data'!J2:J100000,\"6643\")+SUMIFS('Accounting Data'!C2:C100000,'Accounting Data'!E2:E100000,\"610\",'Accounting Data'!I2:I100000,\"22??\",'Accounting Data'!J2:J100000,\"6641\")+SUMIFS('Accounting Data'!C2:C100000,'Accounting Data'!E2:E100000,\"610\",'Accounting Data'!I2:I100000,\"22??\",'Accounting Data'!J2:J100000,\"6642\")+SUMIFS('Accounting Data'!C2:C100000,'Accounting Data'!E2:E100000,\"610\",'Accounting Data'!I2:I100000,\"22??\",'Accounting Data'!J2:J100000,\"6643\")","v":312},{"$f":"SUM(SUMIFS('Accounting Data'!C2:C100000,'Accounting Data'!E2:E100000,\"610\",'Accounting Data'!I2:I100000,{\"21??\",\"22??\"},'Accounting Data'!J2:J100000,\"6655\"))","v":26968},{"$f":"SUMIFS('Accounting Data'!C2:C100000,'Accounting Data'!E2:E100000,\"610\",'Accounting Data'!I2:I100000,\"21??\",'Accounting Data'!J2:J100000,\"67??\")+SUMIFS('Accounting Data'!C2:C100000,'Accounting Data'!E2:E100000,\"610\",'Accounting Data'!I2:I100000,\"22??\",'Accounting Data'!J2:J100000,\"67??\")","v":7307},null,null,{"$f":"(SUMIFS('Accounting Data'!C2:C100000,'Accounting Data'!E2:E100000,\"610\",'Accounting Data'!I2:I100000,\"21??\",'Accounting Data'!J2:J100000,\"6???\")+SUMIFS('Accounting Data'!C2:C100000,'Accounting Data'!E2:E100000,\"610\",'Accounting Data'!I2:I100000,\"22??\",'Accounting Data'!J2:J100000,\"6???\"))-(SUMIFS('Accounting Data'!C2:C100000,'Accounting Data'!E2:E100000,\"610\",'Accounting Data'!I2:I100000,\"21??\",'Accounting Data'!J2:J100000,\"69??\")+SUMIFS('Accounting Data'!C2:C100000,'Accounting Data'!E2:E100000,\"610\",'Accounting Data'!I2:I100000,\"22??\",'Accounting Data'!J2:J100000,\"69??\"))-D11-E11-G11-F11","v":-1},{"$f":"[1]!F610F21002200","v":54950},{"$f":"SUM(D11:G11)+J11","v":34586},{"$f":"[2]!F610F21002200","v":40738},{"$f":"IF(L11=M11,0,IF(M11>0,(L11-M11)/M11,\"--\"))","v":-0.151}]
["            2100, 2200  Students and Instructional Staff",null,"3.",null,null,null,null,null,null,null,null,null,null,null,"3."]
["            2300, 2400, 2500, 2900  Administration",null,"4.",{"$f":"SUMIFS('Accounting Data'!C2:C100000,'Accounting Data'!E2:E100000,\"610\",'Accounting Data'!I2:I100000,\"23??\",'Accounting Data'!J2:J100000,\"644?\")+SUMIFS('Accounting Data'!C2:C100000,'Accounting Data'!E2:E100000,\"610\",'Accounting Data'!I2:I100000,\"24??\",'Accounting Data'!J2:J100000,\"644?\")+SUMIFS('Accounting Data'!C2:C100000,'Accounting Data'!E2:E100000,\"610\",'Accounting Data'!I2:I100000,\"25??\",'Accounting Data'!J2:J100000,\"644?\")+SUMIFS('Accounting Data'!C2:C100000,'Accounting Data'!E2:E100000,\"610\",'Accounting Data'!I2:I100000,\"29??\",'Accounting Data'!J2:J100000,\"644?\")","v":0},null,{"$f":"SUM(SUMIFS('Accounting Data'!C2:C100000,'Accounting Data'!E2:E100000,\"610\",'Accounting Data'!I2:I100000,{\"23??\",\"24??\",\"25??\",\"29??\"},'Accounting Data'!J2:J100000,\"6655\"))","v":223134},{"$f":"SUMIFS('Accounting Data'!C2:C100000,'Accounting Data'!E2:E100000,\"610\",'Accounting Data'!I2:I100000,\"23??\",'Accounting Data'!J2:J100000,\"67??\")+SUMIFS('Accounting Data'!C2:C100000,'Accounting Data'!E2:E100000,\"610\",'Accounting Data'!I2:I100000,\"24??\",'Accounting Data'!J2:J100000,\"67??\")+SUMIFS('Accounting Data'!C2:C100000,'Accounting Data'!E2:E100000,\"610\",'Accounting Data'!I2:I100000,\"25??\",'Accounting Data'!J2:J100000,\"67??\")+SUMIFS('Accounting Data'!C2:C100000,'Accounting Data'!E2:E100000,\"610\",'Accounting Data'!I2:I100000,\"29??\",'Accounting Data'!J2:J100000,\"67??\")","v":319517},null,{"$f":"SUMIFS('Accounting Data'!C2:C100000,'Accounting Data'!E2:E100000,\"610\",'Accounting Data'!I2:I100000,\"25??\",'Accounting Data'!J2:J100000,\"6850\")","v":0},{"$f":"(SUMIFS('Accounting Data'!C2:C100000,'Accounting Data'!E2:E100000,\"610\",'Accounting Data'!I2:I100000,\"23??\",'Accounting Data'!J2:J100000,\"6???\")+SUMIFS('Accounting Data'!C2:C100000,'Accounting Data'!E2:E100000,\"610\",'Accounting Data'!I2:I100000,\"24??\",'Accounting Data'!J2:J100000,\"6???\")+SUMIFS('Accounting Data'!C2:C100000,'Accounting Data'!E2:E100000,\"610\",'Accounting Data'!I2:I100000,\"25??\",'Accounting Data'!J2:J100000,\"6???\")+SUMIFS('Accounting Data'!C2:C100000,'Accounting Data'!E2:E100000,\"610\",'Accounting Data'!I2:I100000,\"29??\",'Accounting Data'!J2:J100000,\"6???\"))-(SUMIFS('Accounting Data'!C2:C100000,'Accounting Data'!E2:E100000,\"610\",'Accounting Data'!I2:I100000,\"23??\",'Accounting Data'!J2:J100000,\"69??\")+SUMIFS('Accounting Data'!C2:C100000,'Accounting Data'!E2:E100000,\"610\",'Accounting Data'!I2:I100000,\"24??\",'Accounting Data'!J2:J100000,\"69??\")+SUMIFS('Accounting Data'!C2:C100000,'Accounting Data'!E2:E100000,\"610\",'Accounting Data'!I2:I100000,\"25??\",'Accounting Data'!J2:J100000,\"69??\")+SUMIFS('Accounting Data'!C2:C100000,'Accounting Data'!E2:E100000,\"610\",'Accounting Data'!I2:I100000,\"29??\",'Accounting Data'!J2:J100000,\"69??\"))-D13-G13-I13-F13","v":0},{"$f":"[1]!F610F2300240025002900","v":581249},{"$f":"D13+F13+G13+SUM(I13:J13)","v":542651},{"$f":"[2]!F610F2300240025002900","v":640590},{"$f":"IF(L13=M13,0,IF(M13>0,(L13-M13)/M13,\"--\"))","v":-0.153},"4."]
["            2600  Operation & Maintenance of Plant",null,"5.",{"$f":"SUMIFS('Accounting Data'!C2:C100000,'Accounting Data'!E2:E100000,\"610\",'Accounting Data'!I2:I100000,\"26??\",'Accounting Data'!J2:J100000,\"644?\")","v":0},null,{"$f":"SUM(SUMIFS('Accounting Data'!C2:C100000,'Accounting Data'!E2:E100000,\"610\",'Accounting Data'!I2:I100000,\"26??\",'Accounting Data'!J2:J100000,\"6655\"))","v":224},{"$f":"SUMIFS('Accounting Data'!C2:C100000,'Accounting Data'!E2:E100000,\"610\",'Accounting Data'!I2:I100000,\"26??\",'Accounting Data'!J2:J100000,\"67??\")","v":234805},null,null,{"$f":"SUMIFS('Accounting Data'!C2:C100000,'Accounting Data'!E2:E100000,\"610\",'Accounting Data'!I2:I100000,\"26??\",'Accounting Data'!J2:J100000,\"6???\")-SUMIFS('Accounting Data'!C2:C100000,'Accounting Data'!E2:E100000,\"610\",'Accounting Data'!I2:I100000,\"26??\",'Accounting Data'!J2:J100000,\"69??\")-D14-G14-F14","v":0},{"$f":"[1]!F610F2600","v":270514},{"$f":"D14+G14+J14+F14","v":235029},{"$f":"[2]!F610F2600","v":244874},{"$f":"IF(L14=M14,0,IF(M14>0,(L14-M14)/M14,\"--\"))","v":-0.04},"5."]
["            2700  Student Transportation",null,"6.",{"$f":"SUMIFS('Accounting Data'!C2:C100000,'Accounting Data'!E2:E100000,\"610\",'Accounting Data'!I2:I100000,\"27??\",'Accounting Data'!J2:J100000,\"644?\")","v":0},null,{"$f":"SUM(SUMIFS('Accounting Data'!C2:C100000,'Accounting Data'!E2:E100000,\"610\",'Accounting Data'!I2:I100000,\"27??\",'Accounting Data'!J2:J100000,\"6655\"))","v":64002},{"$f":"SUMIFS('Accounting Data'!C2:C100000,'Accounting Data'!E2:E100000,\"610\",'Accounting Data'!I2:I100000,\"27??\",'Accounting Data'!J2:J100000,\"67??\")","v":80701},null,null,{"$f":"SUMIFS('Accounting Data'!C2:C100000,'Accounting Data'!E2:E100000,\"610\",'Accounting Data'!I2:I100000,\"27??\",'Accounting Data'!J2:J100000,\"6???\")-SUMIFS('Accounting Data'!C2:C100000,'Accounting Data'!E2:E100000,\"610\",'Accounting Data'!I2:I100000,\"27??\",'Accounting Data'!J2:J100000,\"69??\")-D15-G15-F15","v":-1},{"$f":"[1]!F610F2700","v":161617},{"$f":"D15+G15+J15+F15","v":144702},{"$f":"[2]!F610F2700","v":375828},-0.61499999999999999,"6."]
["        3000  Operation of Noninstructional Services",null,"7.",{"$f":"SUMIFS('Accounting Data'!C2:C100000,'Accounting Data'!E2:E100000,\"610\",'Accounting Data'!I2:I100000,\"3???\",'Accounting Data'!J2:J100000,\"644?\")","v":0},null,{"$f":"SUM(SUMIFS('Accounting Data'!C2:C100000,'Accounting Data'!E2:E100000,\"610\",'Accounting Data'!I2:I100000,\"3???\",'Accounting Data'!J2:J100000,\"6655\"))","v":0},{"$f":"SUMIFS('Accounting Data'!C2:C100000,'Accounting Data'!E2:E100000,\"610\",'Accounting Data'!I2:I100000,\"3???\",'Accounting Data'!J2:J100000,\"67??\")","v":0},null,null,{"$f":"SUMIFS('Accounting Data'!C2:C100000,'Accounting Data'!E2:E100000,\"610\",'Accounting Data'!I2:I100000,\"3???\",'Accounting Data'!J2:J100000,\"6???\")-SUMIFS('Accounting Data'!C2:C100000,'Accounting Data'!E2:E100000,\"610\",'Accounting Data'!I2:I100000,\"3???\",'Accounting Data'!J2:J100000,\"69??\")-D16-G16-F16","v":0},{"$f":"[1]!F610F3000","v":0},{"$f":"D16+G16+J16+F16","v":0},{"$f":"[2]!F610F3000","v":0},0,"7."]
["        4000  Facilities Acquisition and Construction",null,"8.",{"$f":"SUMIFS('Accounting Data'!C2:C100000,'Accounting Data'!E2:E100000,\"610\",'Accounting Data'!I2:I100000,\"4???\",'Accounting Data'!J2:J100000,\"644?\")","v":0},null,{"$f":"SUM(SUMIFS('Accounting Data'!C2:C100000,'Accounting Data'!E2:E100000,\"610\",'Accounting Data'!I2:I100000,\"4???\",'Accounting Data'!J2:J100000,\"6655\"))","v":0},{"$f":"SUMIFS('Accounting Data'!C2:C100000,'Accounting Data'!E2:E100000,\"610\",'Accounting Data'!I2:I100000,\"4???\",'Accounting Data'!J2:J100000,\"67??\")","v":0},null,null,{"$f":"SUMIFS('Accounting Data'!C2:C100000,'Accounting Data'!E2:E100000,\"610\",'Accounting Data'!I2:I100000,\"4???\",'Accounting Data'!J2:J100000,\"6???\")-SUMIFS('Accounting Data'!C2:C100000,'Accounting Data'!E2:E100000,\"610\",'Accounting Data'!I2:I100000,\"4???\",'Accounting Data'!J2:J100000,\"69??\")-D17-G17-F17","v":598612},{"$f":"[1]!F610F4000","v":1320193},{"$f":"D17+G17+J17+F17","v":598612},{"$f":"[2]!F610F4000","v":421111},0.42199999999999999,"8."]
["        5000  Debt Service",null,"9.",null,null,null,null,{"$f":"SUMIFS('Accounting Data'!C2:C100000,'Accounting Data'!E2:E100000,\"610\",'Accounting Data'!I2:I100000,\"5???\",'Accounting Data'!J2:J100000,\"6831\")+SUMIFS('Accounting Data'!C2:C100000,'Accounting Data'!E2:E100000,\"610\",'Accounting Data'!I2:I100000,\"5???\",'Accounting Data'!J2:J100000,\"6832\")+SUMIFS('Accounting Data'!C2:C100000,'Accounting Data'!E2:E100000,\"610\",'Accounting Data'!I2:I100000,\"5???\",'Accounting Data'!J2:J100000,\"6833\")","v":4651},{"$f":"SUMIFS('Accounting Data'!C2:C100000,'Accounting Data'!E2:E100000,\"610\",'Accounting Data'!I2:I100000,\"5???\",'Accounting Data'!J2:J100000,\"6841\")+SUMIFS('Accounting Data'!C2:C100000,'Accounting Data'!E2:E100000,\"610\",'Accounting Data'!I2:I100000,\"5???\",'Accounting Data'!J2:J100000,\"6842\")+SUMIFS('Accounting Data'!C2:C100000,'Accounting Data'!E2:E100000,\"610\",'Accounting Data'!I2:I100000,\"5???\",'Accounting Data'!J2:J100000,\"6843\")","v":0},null,{"$f":"[1]!F610F5000","v":40425},{"$f":"SUM(H18:I18)","v":4651},{"$f":"[2]!F610F5000","v":34574},-0.86499999999999999,"9."]
["  Total Unrestricted Capital Outlay Fund (lines 2-9) ",null,"10.",{"$f":"D9+D11+SUM(D13:D17)","v":0},{"$f":"E9+E11","v":1239058},{"$f":"SUM(F11:F17)","v":314328},{"$f":"G9+G11+SUM(G13:G17)","v":944962},{"$f":"H18","v":4651},{"$f":"I13+I18","v":0},{"$f":"J9+J11+SUM(J13:J17)","v":599433},{"$f":"K9+K11+SUM(K13:K18)","v":4020061},{"$f":"L9+L11+SUM(L13:L18)","v":3102432},{"$f":"M9+M11+SUM(M13:M18)","v":2788473},0.113,"10."]
[]
["(1)  Amounts in the Unrestricted Capital Outlay Override, line 1 above, must also be included in the Unrestricted Capital Outlay Fund (610) individual line items."]
["(2)  Expenditures, if any, in the Unrestricted Capital Outlay Fund on lines 2-9 for the K-3 Reading Program as described in A.R.S. §15-211:",null,null,null,null,null,null,"Budget",{"$f":"[1]!UCOFundK3ReadExp","v":0},"Actual",0]
["OTHER FUNDS—REQUIRED CAPITAL EXPENDITURE DETAIL [A.R.S. §15-904(B)] "]
[]
[null,null,null,"UNRESTRICTED CAPITAL OUTLAY",null,"BOND BUILDING",null,"NEW SCHOOL FACILITIES",null,"ADJACENT WAYS"]
["Selected Expenditures by Object Code",null,null,"Fund 610",null,"Fund 630",null,"Fund 695",null,"Fund 620"]
[null,null,null,"BUDGET","ACTUAL","BUDGET","ACTUAL","BUDGET","ACTUAL","BUDGET","ACTUAL"]
["Total Fund Expenditures",null,"1.",{"$f":"[1]!F610TotalBudgFY","v":4020061},{"$f":"SUMIFS('Accounting Data'!C2:C100000,'Accounting Data'!E2:E100000,\"610\",'Accounting Data'!J2:J100000,\"6???\")-SUMIFS('Accounting Data'!C2:C100000,'Accounting Data'!E2:E100000,\"610\",'Accounting Data'!J2:J100000,\"69??\")","v":3102433},{"$f":"[1]!F630TotalBudgFY","v":21088302},{"$f":"SUMIFS('Accounting Data'!C2:C100000,'Accounting Data'!E2:E100000,\"630\",'Accounting Data'!J2:J100000,\"6???\")-SUMIFS('Accounting Data'!C2:C100000,'Accounting Data'!E2:E100000,\"630\",'Accounting Data'!J2:J100000,\"69??\")","v":3391910},{"$f":"[1]!F695TotalBudgFY","v":23151005},{"$f":"SUMIFS('Accounting Data'!C2:C100000,'Accounting Data'!E2:E100000,\"695\",'Accounting Data'!J2:J100000,\"6???\")-SUMIFS('Accounting Data'!C2:C100000,'Accounting Data'!E2:E100000,\"695\",'Accounting Data'!J2:J100000,\"69??\")","v":1209830},{"$f":"[1]!F620TotalBudgFY","v":1750000},{"$f":"SUMIFS('Accounting Data'!C2:C100000,'Accounting Data'!E2:E100000,\"620\",'Accounting Data'!J2:J100000,\"6???\")-SUMIFS('Accounting Data'!C2:C100000,'Accounting Data'!E2:E100000,\"620\",'Accounting Data'!J2:J100000,\"69??\")","v":31138},"1."]
["        6150 Classified Salaries",null,"2.",{"$f":"[1]!F610BudgFYO6150","v":0},{"$f":"SUMIFS('Accounting Data'!C$2:C$100000,'Accounting Data'!E$2:E$100000,\"610\",'Accounting Data'!J$2:J$100000,\"615?\")+SUMIFS('Accounting Data'!C$2:C$100000,'Accounting Data'!E$2:E$100000,\"610\",'Accounting Data'!J$2:J$100000,\"616?\")+SUMIFS('Accounting Data'!C$2:C$100000,'Accounting Data'!E$2:E$100000,\"610\",'Accounting Data'!J$2:J$100000,\"617?\")+SUMIFS('Accounting Data'!C$2:C$100000,'Accounting Data'!E$2:E$100000,\"610\",'Accounting Data'!J$2:J$100000,\"618?\")+SUMIFS('Accounting Data'!C$2:C$100000,'Accounting Data'!E$2:E$100000,\"610\",'Accounting Data'!J$2:J$100000,\"619?\")","v":0},{"$f":"[1]!F630BudgFYO6150","v":0},{"$f":"SUMIFS('Accounting Data'!C$2:C$100000,'Accounting Data'!E$2:E$100000,\"630\",'Accounting Data'!J$2:J$100000,\"615?\")+SUMIFS('Accounting Data'!C$2:C$100000,'Accounting Data'!E$2:E$100000,\"630\",'Accounting Data'!J$2:J$100000,\"616?\")+SUMIFS('Accounting Data'!C$2:C$100000,'Accounting Data'!E$2:E$100000,\"630\",'Accounting Data'!J$2:J$100000,\"617?\")+SUMIFS('Accounting Data'!C$2:C$100000,'Accounting Data'!E$2:E$100000,\"630\",'Accounting Data'!J$2:J$100000,\"618?\")+SUMIFS('Accounting Data'!C$2:C$100000,'Accounting Data'!E$2:E$100000,\"630\",'Accounting Data'!J$2:J$100000,\"619?\")","v":0},{"$f":"[1]!F695BudgFYO6150","v":0},{"$f":"SUMIFS('Accounting Data'!C$2:C$100000,'Accounting Data'!E$2:E$100000,\"695\",'Accounting Data'!J$2:J$100000,\"615?\")+SUMIFS('Accounting Data'!C$2:C$100000,'Accounting Data'!E$2:E$100000,\"695\",'Accounting Data'!J$2:J$100000,\"616?\")+SUMIFS('Accounting Data'!C$2:C$100000,'Accounting Data'!E$2:E$100000,\"695\",'Accounting Data'!J$2:J$100000,\"617?\")+SUMIFS('Accounting Data'!C$2:C$100000,'Accounting Data'!E$2:E$100000,\"695\",'Accounting Data'!J$2:J$100000,\"618?\")+SUMIFS('Accounting Data'!C$2:C$100000,'Accounting Data'!E$2:E$100000,\"695\",'Accounting Data'!J$2:J$100000,\"619?\")","v":0},{"$f":"[1]!F620BudgFYO6150","v":0},{"$f":"SUMIFS('Accounting Data'!C$2:C$100000,'Accounting Data'!E$2:E$100000,\"620\",'Accounting Data'!J$2:J$100000,\"615?\")+SUMIFS('Accounting Data'!C$2:C$100000,'Accounting Data'!E$2:E$100000,\"620\",'Accounting Data'!J$2:J$100000,\"616?\")+SUMIFS('Accounting Data'!C$2:C$100000,'Accounting Data'!E$2:E$100000,\"620\",'Accounting Data'!J$2:J$100000,\"617?\")+SUMIFS('Accounting Data'!C$2:C$100000,'Accounting Data'!E$2:E$100000,\"620\",'Accounting Data'!J$2:J$100000,\"618?\")+SUMIFS('Accounting Data'!C$2:C$100000,'Accounting Data'!E$2:E$100000,\"620\",'Accounting Data'!J$2:J$100000,\"619?\")","v":0},"2."]
["        6200 Employee Benefits",null,"3.",{"$f":"[1]!F610BudgFYO6200","v":0},{"$f":"SUMIFS('Accounting Data'!C$2:C$100000,'Accounting Data'!E$2:E$100000,\"610\",'Accounting Data'!J$2:J$100000,\"62??\")","v":0},{"$f":"[1]!F630BudgFYO6200","v":0},{"$f":"SUMIFS('Accounting Data'!C$2:C$100000,'Accounting Data'!E$2:E$100000,\"630\",'Accounting Data'!J$2:J$100000,\"62??\")","v":0},{"$f":"[1]!F695BudgFYO6200","v":0},{"$f":"SUMIFS('Accounting Data'!C$2:C$100000,'Accounting Data'!E$2:E$100000,\"695\",'Accounting Data'!J$2:J$100000,\"62??\")","v":0},{"$f":"[1]!F620BudgFYO6200","v":0},{"$f":"SUMIFS('Accounting Data'!C$2:C$100000,'Accounting Data'!E$2:E$100000,\"620\",'Accounting Data'!J$2:J$100000,\"62??\")","v":0},"3."]
["        6450 Construction Services",null,"4.",{"$f":"[1]!F610BudgFYO6450","v":1343047},{"$f":"SUMIFS('Accounting Data'!C$2:C$100000,'Accounting Data'!E$2:E$100000,\"610\",'Accounting Data'!J$2:J$100000,\"645?\")","v":596466},{"$f":"[1]!F630BudgFYO6450","v":18217744},{"$f":"SUMIFS('Accounting Data'!C$2:C$100000,'Accounting Data'!E$2:E$100000,\"630\",'Accounting Data'!J$2:J$100000,\"645?\")","v":1585194},{"$f":"[1]!F695BudgFYO6450","v":23151005},1202974,{"$f":"[1]!F620BudgFYO6450","v":1750000},{"$f":"SUMIFS('Accounting Data'!C$2:C$100000,'Accounting Data'!E$2:E$100000,\"620\",'Accounting Data'!J$2:J$100000,\"645?\")","v":31138},"4."]
["        6655 Short-term Noninstructional Software Subscription",null,"5.",null,{"$f":"SUMIFS('Accounting Data'!C$2:C$100000,'Accounting Data'!E$2:E$100000,\"610\",'Accounting Data'!J$2:J$100000,\"6655\")","v":314328},null,{"$f":"SUMIFS('Accounting Data'!C$2:C$100000,'Accounting Data'!E$2:E$100000,\"630\",'Accounting Data'!J$2:J$100000,\"6655\")","v":0},null,{"$f":"SUMIFS('Accounting Data'!C$2:C$100000,'Accounting Data'!E$2:E$100000,\"695\",'Accounting Data'!J$2:J$100000,\"6655\")","v":0},null,{"$f":"SUMIFS('Accounting Data'!C$2:C$100000,'Accounting Data'!E$2:E$100000,\"620\",'Accounting Data'!J$2:J$100000,\"6655\")","v":0},"5."]
["        6710 Land and Improvements",null,"6.",{"$f":"[1]!F610BudgFYO6710","v":0},{"$f":"SUMIFS('Accounting Data'!C$2:C$100000,'Accounting Data'!E$2:E$100000,\"610\",'Accounting Data'!J$2:J$100000,\"671?\")","v":0},{"$f":"[1]!F630BudgFYO6710","v":7400},{"$f":"SUMIFS('Accounting Data'!C$2:C$100000,'Accounting Data'!E$2:E$100000,\"630\",'Accounting Data'!J$2:J$100000,\"671?\")","v":7400},{"$f":"[1]!F695BudgFYO6710","v":0},{"$f":"SUMIFS('Accounting Data'!C$2:C$100000,'Accounting Data'!E$2:E$100000,\"695\",'Accounting Data'!J$2:J$100000,\"671?\")","v":25000},{"$f":"[1]!F620BudgFYO6710","v":0},{"$f":"SUMIFS('Accounting Data'!C$2:C$100000,'Accounting Data'!E$2:E$100000,\"620\",'Accounting Data'!J$2:J$100000,\"671?\")","v":0},"6."]
["        6720 Buildings and Improvements",null,"7.",{"$f":"[1]!F610BudgFYO6720","v":0},{"$f":"SUMIFS('Accounting Data'!C$2:C$100000,'Accounting Data'!E$2:E$100000,\"610\",'Accounting Data'!J$2:J$100000,\"672?\")","v":0},{"$f":"[1]!F630BudgFYO6720","v":0},{"$f":"SUMIFS('Accounting Data'!C$2:C$100000,'Accounting Data'!E$2:E$100000,\"630\",'Accounting Data'!J$2:J$100000,\"672?\")","v":0},{"$f":"[1]!F695BudgFYO6720","v":0},{"$f":"SUMIFS('Accounting Data'!C$2:C$100000,'Accounting Data'!E$2:E$100000,\"695\",'Accounting Data'!J$2:J$100000,\"672?\")","v":0},{"$f":"[1]!F620BudgFYO6720","v":0},{"$f":"SUMIFS('Accounting Data'!C$2:C$100000,'Accounting Data'!E$2:E$100000,\"620\",'Accounting Data'!J$2:J$100000,\"672?\")","v":0},"7."]
["        673X Furniture and Equipment",null,"8.",{"$f":"[1]!F610BudgFYO6731","v":570978},{"$f":"SUMIFS('Accounting Data'!C2:C100000,'Accounting Data'!E2:E100000,\"610\",'Accounting Data'!J2:J100000,\"6731\")+SUMIFS('Accounting Data'!C2:C100000,'Accounting Data'!E2:E100000,\"610\",'Accounting Data'!J2:J100000,\"6732\")+SUMIFS('Accounting Data'!C2:C100000,'Accounting Data'!E2:E100000,\"610\",'Accounting Data'!J2:J100000,\"6733\")","v":523886},{"$f":"[1]!F630BudgFYO6731","v":301935},{"$f":"SUMIFS('Accounting Data'!C2:C100000,'Accounting Data'!E2:E100000,\"630\",'Accounting Data'!J2:J100000,\"6731\")+SUMIFS('Accounting Data'!C2:C100000,'Accounting Data'!E2:E100000,\"630\",'Accounting Data'!J2:J100000,\"6732\")+SUMIFS('Accounting Data'!C2:C100000,'Accounting Data'!E2:E100000,\"630\",'Accounting Data'!J2:J100000,\"6733\")","v":301538},{"$f":"[1]!F695BudgFYO6731","v":0},{"$f":"SUMIFS('Accounting Data'!C2:C100000,'Accounting Data'!E2:E100000,\"695\",'Accounting Data'!J2:J100000,\"6731\")+SUMIFS('Accounting Data'!C2:C100000,'Accounting Data'!E2:E100000,\"695\",'Accounting Data'!J2:J100000,\"6732\")+SUMIFS('Accounting Data'!C2:C100000,'Accounting Data'!E2:E100000,\"695\",'Accounting Data'!J2:J100000,\"6733\")","v":0},{"$f":"[1]!F620BudgFYO6731","v":0},{"$f":"SUMIFS('Accounting Data'!C2:C100000,'Accounting Data'!E2:E100000,\"620\",'Accounting Data'!J2:J100000,\"6731\")+SUMIFS('Accounting Data'!C2:C100000,'Accounting Data'!E2:E100000,\"620\",'Accounting Data'!J2:J100000,\"6732\")+SUMIFS('Accounting Data'!C2:C100000,'Accounting Data'!E2:E100000,\"620\",'Accounting Data'!J2:J100000,\"6733\")","v":0},"8."]
["        673X Vehicles ",null,"9.",{"$f":"[1]!F610BudgFYO6734","v":124515},{"$f":"SUMIFS('Accounting Data'!C2:C100000,'Accounting Data'!E2:E100000,\"610\",'Accounting Data'!J2:J100000,\"6734\")+SUMIFS('Accounting Data'!C2:C100000,'Accounting Data'!E2:E100000,\"610\",'Accounting Data'!J2:J100000,\"6735\")+SUMIFS('Accounting Data'!C2:C100000,'Accounting Data'!E2:E100000,\"610\",'Accounting Data'!J2:J100000,\"6736\")","v":124515},{"$f":"[1]!F630BudgFYO6734","v":503162},{"$f":"SUMIFS('Accounting Data'!C2:C100000,'Accounting Data'!E2:E100000,\"630\",'Accounting Data'!J2:J100000,\"6734\")+SUMIFS('Accounting Data'!C2:C100000,'Accounting Data'!E2:E100000,\"630\",'Accounting Data'!J2:J100000,\"6735\")+SUMIFS('Accounting Data'!C2:C100000,'Accounting Data'!E2:E100000,\"630\",'Accounting Data'!J2:J100000,\"6736\")","v":503162},{"$f":"[1]!F695BudgFYO6734","v":0},{"$f":"SUMIFS('Accounting Data'!C2:C100000,'Accounting Data'!E2:E100000,\"695\",'Accounting Data'!J2:J100000,\"6734\")+SUMIFS('Accounting Data'!C2:C100000,'Accounting Data'!E2:E100000,\"695\",'Accounting Data'!J2:J100000,\"6735\")+SUMIFS('Accounting Data'!C2:C100000,'Accounting Data'!E2:E100000,\"695\",'Accounting Data'!J2:J100000,\"6736\")","v":0},{"$f":"[1]!F620BudgFYO6734","v":0},{"$f":"SUMIFS('Accounting Data'!C2:C100000,'Accounting Data'!E2:E100000,\"620\",'Accounting Data'!J2:J100000,\"6734\")+SUMIFS('Accounting Data'!C2:C100000,'Accounting Data'!E2:E100000,\"620\",'Accounting Data'!J2:J100000,\"6735\")+SUMIFS('Accounting Data'!C2:C100000,'Accounting Data'!E2:E100000,\"620\",'Accounting Data'!J2:J100000,\"6736\")","v":0},"9."]
["        673X Technology-Related Hardware and Software",null,"10.",{"$f":"[1]!F610BudgFYO6737","v":344096},{"$f":"SUMIFS('Accounting Data'!C2:C100000,'Accounting Data'!E2:E100000,\"610\",'Accounting Data'!J2:J100000,\"6737\")+SUMIFS('Accounting Data'!C2:C100000,'Accounting Data'!E2:E100000,\"610\",'Accounting Data'!J2:J100000,\"6738\")+SUMIFS('Accounting Data'!C2:C100000,'Accounting Data'!E2:E100000,\"610\",'Accounting Data'!J2:J100000,\"6739\")","v":296560},{"$f":"[1]!F630BudgFYO6737","v":949759},{"$f":"SUMIFS('Accounting Data'!C2:C100000,'Accounting Data'!E2:E100000,\"630\",'Accounting Data'!J2:J100000,\"6737\")+SUMIFS('Accounting Data'!C2:C100000,'Accounting Data'!E2:E100000,\"630\",'Accounting Data'!J2:J100000,\"6738\")+SUMIFS('Accounting Data'!C2:C100000,'Accounting Data'!E2:E100000,\"630\",'Accounting Data'!J2:J100000,\"6739\")","v":75742},{"$f":"[1]!F695BudgFYO6737","v":0},{"$f":"SUMIFS('Accounting Data'!C2:C100000,'Accounting Data'!E2:E100000,\"695\",'Accounting Data'!J2:J100000,\"6737\")+SUMIFS('Accounting Data'!C2:C100000,'Accounting Data'!E2:E100000,\"695\",'Accounting Data'!J2:J100000,\"6738\")+SUMIFS('Accounting Data'!C2:C100000,'Accounting Data'!E2:E100000,\"695\",'Accounting Data'!J2:J100000,\"6739\")","v":0},{"$f":"[1]!F620BudgFYO6737","v":0},{"$f":"SUMIFS('Accounting Data'!C2:C100000,'Accounting Data'!E2:E100000,\"620\",'Accounting Data'!J2:J100000,\"6737\")+SUMIFS('Accounting Data'!C2:C100000,'Accounting Data'!E2:E100000,\"620\",'Accounting Data'!J2:J100000,\"6738\")+SUMIFS('Accounting Data'!C2:C100000,'Accounting Data'!E2:E100000,\"620\",'Accounting Data'!J2:J100000,\"6739\")","v":0},"10."]
["        6831, 6832, 6833 Redemption of Principal",null,"11.",{"$f":"[1]!F610BudgFYO6831","v":40425},{"$f":"SUMIFS('Accounting Data'!C2:C100000,'Accounting Data'!E2:E100000,\"610\",'Accounting Data'!J2:J100000,\"6831\")+SUMIFS('Accounting Data'!C2:C100000,'Accounting Data'!E2:E100000,\"610\",'Accounting Data'!J2:J100000,\"6832\")+SUMIFS('Accounting Data'!C2:C100000,'Accounting Data'!E2:E100000,\"610\",'Accounting Data'!J2:J100000,\"6833\")","v":4651},{"$f":"[1]!F630BudgFYO6831","v":277838},{"$f":"SUMIFS('Accounting Data'!C2:C100000,'Accounting Data'!E2:E100000,\"630\",'Accounting Data'!J2:J100000,\"6831\")+SUMIFS('Accounting Data'!C2:C100000,'Accounting Data'!E2:E100000,\"630\",'Accounting Data'!J2:J100000,\"6832\")+SUMIFS('Accounting Data'!C2:C100000,'Accounting Data'!E2:E100000,\"630\",'Accounting Data'!J2:J100000,\"6833\")","v":0},{"$f":"[1]!F695BudgFYO6831","v":0},{"$f":"SUMIFS('Accounting Data'!C2:C100000,'Accounting Data'!E2:E100000,\"695\",'Accounting Data'!J2:J100000,\"6831\")+SUMIFS('Accounting Data'!C2:C100000,'Accounting Data'!E2:E100000,\"695\",'Accounting Data'!J2:J100000,\"6832\")+SUMIFS('Accounting Data'!C2:C100000,'Accounting Data'!E2:E100000,\"695\",'Accounting Data'!J2:J100000,\"6833\")","v":0},{"$f":"[1]!F620BudgFYO6831","v":0},{"$f":"SUMIFS('Accounting Data'!C2:C100000,'Accounting Data'!E2:E100000,\"620\",'Accounting Data'!J2:J100000,\"6831\")+SUMIFS('Accounting Data'!C2:C100000,'Accounting Data'!E2:E100000,\"620\",'Accounting Data'!J2:J100000,\"6832\")+SUMIFS('Accounting Data'!C2:C100000,'Accounting Data'!E2:E100000,\"620\",'Accounting Data'!J2:J100000,\"6833\")","v":0},"11."]
["        6841, 6842, 6843, 6850, 6860 Interest",null,"12.",{"$f":"[1]!F610BudgFYO6841","v":0},{"$f":"SUMIFS('Accounting Data'!C2:C100000,'Accounting Data'!E2:E100000,\"610\",'Accounting Data'!J2:J100000,\"6841\")+SUMIFS('Accounting Data'!C2:C100000,'Accounting Data'!E2:E100000,\"610\",'Accounting Data'!J2:J100000,\"6842\")+SUMIFS('Accounting Data'!C2:C100000,'Accounting Data'!E2:E100000,\"610\",'Accounting Data'!J2:J100000,\"6850\")+SUMIFS('Accounting Data'!C2:C100000,'Accounting Data'!E2:E100000,\"610\",'Accounting Data'!J2:J100000,\"6843\")","v":0},{"$f":"[1]!F630BudgFYO6841","v":17135},{"$f":"SUMIFS('Accounting Data'!C2:C100000,'Accounting Data'!E2:E100000,\"630\",'Accounting Data'!J2:J100000,\"6841\")+SUMIFS('Accounting Data'!C2:C100000,'Accounting Data'!E2:E100000,\"630\",'Accounting Data'!J2:J100000,\"6842\")+SUMIFS('Accounting Data'!C2:C100000,'Accounting Data'!E2:E100000,\"630\",'Accounting Data'!J2:J100000,\"6850\")+SUMIFS('Accounting Data'!C2:C100000,'Accounting Data'!E2:E100000,\"630\",'Accounting Data'!J2:J100000,\"6860\")+SUMIFS('Accounting Data'!C2:C100000,'Accounting Data'!E2:E100000,\"630\",'Accounting Data'!J2:J100000,\"6843\")","v":17135},{"$f":"[1]!F695BudgFYO6841","v":0},{"$f":"SUMIFS('Accounting Data'!C2:C100000,'Accounting Data'!E2:E100000,\"695\",'Accounting Data'!J2:J100000,\"6841\")+SUMIFS('Accounting Data'!C2:C100000,'Accounting Data'!E2:E100000,\"695\",'Accounting Data'!J2:J100000,\"6842\")+SUMIFS('Accounting Data'!C2:C100000,'Accounting Data'!E2:E100000,\"695\",'Accounting Data'!J2:J100000,\"6850\")+SUMIFS('Accounting Data'!C2:C100000,'Accounting Data'!E2:E100000,\"695\",'Accounting Data'!J2:J100000,\"6843\")","v":0},{"$f":"[1]!F620BudgFYO6841","v":0},{"$f":"SUMIFS('Accounting Data'!C2:C100000,'Accounting Data'!E2:E100000,\"620\",'Accounting Data'!J2:J100000,\"6841\")+SUMIFS('Accounting Data'!C2:C100000,'Accounting Data'!E2:E100000,\"620\",'Accounting Data'!J2:J100000,\"6842\")+SUMIFS('Accounting Data'!C2:C100000,'Accounting Data'!E2:E100000,\"620\",'Accounting Data'!J2:J100000,\"6850\")+SUMIFS('Accounting Data'!C2:C100000,'Accounting Data'!E2:E100000,\"620\",'Accounting Data'!J2:J100000,\"6843\")","v":0},"12."]
["        Total (lines 2-12)",null,"13.",{"$f":"SUM(D29:D39)","v":2423061},1860406,20274973,2490171,23151005,{"$f":"SUM(I29:I39)","v":1227974},{"$f":"SUM(J29:J39)","v":1750000},31138,"13."]
["Total amounts reported on lines 2 through 12 above for:"]
["       Renovation",null,"14.",{"$f":"[1]!F610BudgFYRenovation","v":1343047},602442,{"$f":"[1]!F630BudgFYRenovation","v":654016},1585194,null,null,{"$f":"[1]!F620BudgFYRenovation","v":0},0,"14.",null,null,null,null,null,null,null,null,null,null,null,null,null,null,{"$f":"IF(OR(E42=\"\",E43=\"\",E44=\"\",G42=\"\",G43=\"\",G44=\"\",I43=\"\",I44=\"\",K42=\"\",K43=\"\",K44=\"\"),\"yes\",\"\")","v":""}]
["       New Construction",null,"15.",{"$f":"[1]!F610BudgFYNewConstruction","v":0},0,{"$f":"[1]!F630BudgFYNewConstruction","v":17571128},0,{"$f":"[1]!F695BudgFYNewConstruction","v":23151005},1227974,{"$f":"[1]!F620BudgFYNewConstruction","v":1250000},31138,"15."]
["       Other",null,"16.",{"$f":"[1]!F610BudgFYOther","v":1080014},1257964,{"$f":"[1]!F630BudgFYOther","v":2049829},904977,{"$f":"[1]!F695BudgFYOther","v":0},0,{"$f":"[1]!F620BudgFYOther","v":500000},0,"16."]
["       Total (lines 14-16)",null,"17.",{"$f":"IF(ROUND(SUM(D42:D44),0)=ROUND(SUM(D29:D39),0),SUM(D42:D44),\"Must equal line 13\")","v":2423061},{"$f":"IF(ROUND(SUM(E42:E44),0)=ROUND(SUM(E29:E39),0),SUM(E42:E44),\"Must equal line 13\")","v":1860406},{"$f":"IF(ROUND(SUM(F42:F44),0)=ROUND(SUM(F29:F39),0),SUM(F42:F44),\"Must equal line 13\")","v":20274973},{"$f":"IF(ROUND(SUM(G42:G44),0)=ROUND(SUM(G29:G39),0),SUM(G42:G44),\"Must equal line 13\")","v":2490171},{"$f":"IF(ROUND(SUM(H42:H44),0)=ROUND(SUM(H29:H39),0),SUM(H42:H44),\"Must equal line 13\")","v":23151005},{"$f":"IF(ROUND(SUM(I42:I44),2)=ROUND(SUM(I29:I39),0),SUM(I43:I44),\"Must equal line 13\")","v":1227974},{"$f":"IF(ROUND(SUM(J42:J44),0)=ROUND(SUM(J29:J39),0),SUM(J42:J44),\"Must equal line 13\")","v":1750000},{"$f":"IF(ROUND(SUM(K42:K44),0)=ROUND(SUM(K29:K39),0),SUM(K42:K44),\"Must equal line 13\")","v":31138},"17."]
[]
["Funds 610, 630, 695, and 620",null,null,null,null,"CAPITAL ASSETS AS OF"]
["1. New construction cost per square foot",null,"$",0,null," JUNE 30, 2024"]
["2. Land acquisition costs",null,"$",0,null," "]
[null,null,null,null,null,"Land and Improvements",null,11998625,"1.",null,null,null,null,null,null,null,null,null,null,null,null,null,null,null,null,null,{"$f":"IF(OR(H50=\"\",H51=\"\",H52=\"\",H54=\"\",D48=\"\",D49=\"\"),\"yes\",\"\")","v":""}]
[null,null,null,null,null,"Buildings and Improvements",null,97692115,"2."]
[null,null,null,null,null,"Furniture, Equipment, Vehicles, ",null,9402879]
[null,null,null,null,null,"    and Technology",null,null,"3."]
[null,null,null,null,null,"Construction in Progress",null,2254940,"4."]
[]
[null,null,null,null,null,"Total",null,{"$f":"IF(H52=\"$\",\"$\",SUM(H50:H54))","v":121348559},"5."]

{"sheet":"Page 5","index":5,"n_rows":54,"n_cols":27,"rows_kept":54,"cut":false,"hidden":false,"merged":[[49,0,51,10],[53,0,53,10],[0,1,0,4],[1,0,1,10],[4,6,5,6],[0,6,0,7],[4,10,7,10],[26,0,26,1]]}
["DISTRICT NAME",{"$f":"CoverDistrictName","v":"Liberty Elementary School District No. 25"},null,null,null,"COUNTY",{"$f":"County","v":"Maricopa"},null,"CTDS NUMBER",{"$f":"Cover!Q1","v":"070425000"},null,"General"]
["FEDERAL AND STATE PROJECTS",null,null,null,null,null,null,null,null,null,null,"Capital Projects"]
[null,null,null,null,null,null,null,null,null,null,null,"Special Revenue"]
[null,null,null,null,null,null,null,null,null,null,null,"Debt Service"]
[null,null,null,null,null,null,"NET OTHER FINANCING SOURCES AND USES",null,null," ","FUND TYPES ",null,null,null,"OTHER FINANCING","OTHER FINANCING"]
[null,null,null,null,"BEGINNING",null,null,null,null,"ENDING FUND",null,null,null,null,"SOURCES INCLUDING","USES INCLUDING",null,null,null,null,null,null,null,null,null,null,{"$f":"IF(OR(H23=\"\",H24=\"\",H25=\"\",H26=\"\",H27=\"\",H28=\"\",K22=\"\",K23=\"\",K24=\"\",K25=\"\",K26=\"\",K27=\"\",K28=\"\"),\"yes\",\"\")","v":""}]
[null,null,null,null,"FUND BALANCE","REVENUES","INCLUDING TRANSFERS (1)","EXPENDITURES",null,"BALANCE",null,null,null,null,"TRANSFERS-IN","TRANSFERS-OUT"]
["FEDERAL PROJECTS ",null,null,null,"ACTUAL","ACTUAL","ACTUAL","BUDGET","ACTUAL","ACTUAL",null,null,null,null,"5000 (1)","6900 (1)"]
["100-130 ESEA Title I - Helping Disadvantaged Children",null,null,"1.",{"$f":"'Accounting Data'!R8","v":-66325},{"$f":"-(SUMIFS('Accounting Data'!C2:C100000,'Accounting Data'!E2:E100000,\"10?\",'Accounting Data'!J2:J100000,\"1???\")+SUMIFS('Accounting Data'!C2:C100000,'Accounting Data'!E2:E100000,\"11?\",'Accounting Data'!J2:J100000,\"1???\")+SUMIFS('Accounting Data'!C2:C100000,'Accounting Data'!E2:E100000,\"12?\",'Accounting Data'!J2:J100000,\"1???\")+SUMIFS('Accounting Data'!C2:C100000,'Accounting Data'!E2:E100000,\"13?\",'Accounting Data'!J2:J100000,\"1???\")+SUMIFS('Accounting Data'!C2:C100000,'Accounting Data'!E2:E100000,\"10?\",'Accounting Data'!J2:J100000,\"2???\")+SUMIFS('Accounting Data'!C2:C100000,'Accounting Data'!E2:E100000,\"11?\",'Accounting Data'!J2:J100000,\"2???\")+SUMIFS('Accounting Data'!C2:C100000,'Accounting Data'!E2:E100000,\"12?\",'Accounting Data'!J2:J100000,\"2???\")+SUMIFS('Accounting Data'!C2:C100000,'Accounting Data'!E2:E100000,\"13?\",'Accounting Data'!J2:J100000,\"2???\")+SUMIFS('Accounting Data'!C2:C100000,'Accounting Data'!E2:E100000,\"10?\",'Accounting Data'!J2:J100000,\"3???\")+SUMIFS('Accounting Data'!C2:C100000,'Accounting Data'!E2:E100000,\"11?\",'Accounting Data'!J2:J100000,\"3???\")+SUMIFS('Accounting Data'!C2:C100000,'Accounting Data'!E2:E100000,\"12?\",'Accounting Data'!J2:J100000,\"3???\")+SUMIFS('Accounting Data'!C2:C100000,'Accounting Data'!E2:E100000,\"13?\",'Accounting Data'!J2:J100000,\"3???\")+SUMIFS('Accounting Data'!C2:C100000,'Accounting Data'!E2:E100000,\"10?\",'Accounting Data'!J2:J100000,\"4???\")+SUMIFS('Accounting Data'!C2:C100000,'Accounting Data'!E2:E100000,\"11?\",'Accounting Data'!J2:J100000,\"4???\")+SUMIFS('Accounting Data'!C2:C100000,'Accounting Data'!E2:E100000,\"12?\",'Accounting Data'!J2:J100000,\"4???\")+SUMIFS('Accounting Data'!C2:C100000,'Accounting Data'!E2:E100000,\"13?\",'Accounting Data'!J2:J100000,\"4???\"))","v":529510},{"$f":"O9-P9","v":-27302},{"$f":"[1]!F100130BudgFY","v":541322},{"$f":"(SUMIFS('Accounting Data'!C2:C100000,'Accounting Data'!E2:E100000,\"10?\",'Accounting Data'!J2:J100000,\"6???\")+SUMIFS('Accounting Data'!C2:C100000,'Accounting Data'!E2:E100000,\"11?\",'Accounting Data'!J2:J100000,\"6???\")+SUMIFS('Accounting Data'!C2:C100000,'Accounting Data'!E2:E100000,\"12?\",'Accounting Data'!J2:J100000,\"6???\")+SUMIFS('Accounting Data'!C2:C100000,'Accounting Data'!E2:E100000,\"13?\",'Accounting Data'!J2:J100000,\"6???\"))-P9","v":492816},{"$f":"E9+F9+G9-I9","v":-56933},"Special Revenue","1.",null,"1.",{"$f":"-(SUMIFS('Accounting Data'!C2:C100000,'Accounting Data'!E2:E100000,\"10?\",'Accounting Data'!J2:J100000,\"5???\")+SUMIFS('Accounting Data'!C2:C100000,'Accounting Data'!E2:E100000,\"11?\",'Accounting Data'!J2:J100000,\"5???\")+SUMIFS('Accounting Data'!C2:C100000,'Accounting Data'!E2:E100000,\"12?\",'Accounting Data'!J2:J100000,\"5???\")+SUMIFS('Accounting Data'!C2:C100000,'Accounting Data'!E2:E100000,\"13?\",'Accounting Data'!J2:J100000,\"5???\"))","v":0},{"$f":"SUMIFS('Accounting Data'!C2:C100000,'Accounting Data'!E2:E100000,\"10?\",'Accounting Data'!J2:J100000,\"69??\")+SUMIFS('Accounting Data'!C2:C100000,'Accounting Data'!E2:E100000,\"11?\",'Accounting Data'!J2:J100000,\"69??\")+SUMIFS('Accounting Data'!C2:C100000,'Accounting Data'!E2:E100000,\"12?\",'Accounting Data'!J2:J100000,\"69??\")+SUMIFS('Accounting Data'!C2:C100000,'Accounting Data'!E2:E100000,\"13?\",'Accounting Data'!J2:J100000,\"69??\")","v":27302},"1."]
["140-150 ESEA Title II - Prof. Development and Technology",null,null,"2.",{"$f":"'Accounting Data'!R48","v":-919},{"$f":"-(SUMIFS('Accounting Data'!C2:C100000,'Accounting Data'!E2:E100000,\"14?\",'Accounting Data'!J2:J100000,\"1???\")+SUMIFS('Accounting Data'!C2:C100000,'Accounting Data'!E2:E100000,\"15?\",'Accounting Data'!J2:J100000,\"1???\")+SUMIFS('Accounting Data'!C2:C100000,'Accounting Data'!E2:E100000,\"14?\",'Accounting Data'!J2:J100000,\"2???\")+SUMIFS('Accounting Data'!C2:C100000,'Accounting Data'!E2:E100000,\"15?\",'Accounting Data'!J2:J100000,\"2???\")+SUMIFS('Accounting Data'!C2:C100000,'Accounting Data'!E2:E100000,\"14?\",'Accounting Data'!J2:J100000,\"3???\")+SUMIFS('Accounting Data'!C2:C100000,'Accounting Data'!E2:E100000,\"15?\",'Accounting Data'!J2:J100000,\"3???\")+SUMIFS('Accounting Data'!C2:C100000,'Accounting Data'!E2:E100000,\"14?\",'Accounting Data'!J2:J100000,\"4???\")+SUMIFS('Accounting Data'!C2:C100000,'Accounting Data'!E2:E100000,\"15?\",'Accounting Data'!J2:J100000,\"4???\"))","v":95906},-7610,{"$f":"[1]!F140150BudgFY","v":188794},{"$f":"(SUMIFS('Accounting Data'!C2:C100000,'Accounting Data'!E2:E100000,\"14?\",'Accounting Data'!J2:J100000,\"6???\")+SUMIFS('Accounting Data'!C2:C100000,'Accounting Data'!E2:E100000,\"15?\",'Accounting Data'!J2:J100000,\"6???\"))-P10","v":141421},-54044,"Special Revenue","2.",null,"2.",{"$f":"-(SUMIFS('Accounting Data'!C2:C100000,'Accounting Data'!E2:E100000,\"14?\",'Accounting Data'!J2:J100000,\"5???\")+SUMIFS('Accounting Data'!C2:C100000,'Accounting Data'!E2:E100000,\"15?\",'Accounting Data'!J2:J100000,\"5???\"))","v":0},{"$f":"SUMIFS('Accounting Data'!C2:C100000,'Accounting Data'!E2:E100000,\"14?\",'Accounting Data'!J2:J100000,\"69??\")+SUMIFS('Accounting Data'!C2:C100000,'Accounting Data'!E2:E100000,\"15?\",'Accounting Data'!J2:J100000,\"69??\")","v":7610},"2."]
["160 ESEA Title IV - 21st Century Schools",null,null,"3.",{"$f":"'Accounting Data'!R68","v":-226},{"$f":"-(SUMIFS('Accounting Data'!C2:C100000,'Accounting Data'!E2:E100000,\"16?\",'Accounting Data'!J2:J100000,\"1???\")+SUMIFS('Accounting Data'!C2:C100000,'Accounting Data'!E2:E100000,\"16?\",'Accounting Data'!J2:J100000,\"2???\")+SUMIFS('Accounting Data'!C2:C100000,'Accounting Data'!E2:E100000,\"16?\",'Accounting Data'!J2:J100000,\"3???\")+SUMIFS('Accounting Data'!C2:C100000,'Accounting Data'!E2:E100000,\"16?\",'Accounting Data'!J2:J100000,\"4???\"))","v":22095},-1167,{"$f":"[1]!F160BudgFY","v":29969},{"$f":"SUMIFS('Accounting Data'!C2:C100000,'Accounting Data'!E2:E100000,\"16?\",'Accounting Data'!J2:J100000,\"6???\")-P11","v":21067},-365,"Special Revenue","3.",null,"3.",{"$f":"-(SUMIFS('Accounting Data'!C2:C100000,'Accounting Data'!E2:E100000,\"16?\",'Accounting Data'!J2:J100000,\"5???\"))","v":0},{"$f":"SUMIFS('Accounting Data'!C2:C100000,'Accounting Data'!E2:E100000,\"16?\",'Accounting Data'!J2:J100000,\"69??\")","v":1167},"3."]
["170-180 ESEA Title V - Promote Informed Parent Choice",null,null,"4.",{"$f":"'Accounting Data'!R78","v":0},{"$f":"-(SUMIFS('Accounting Data'!C2:C100000,'Accounting Data'!E2:E100000,\"17?\",'Accounting Data'!J2:J100000,\"1???\")+SUMIFS('Accounting Data'!C2:C100000,'Accounting Data'!E2:E100000,\"18?\",'Accounting Data'!J2:J100000,\"1???\")+SUMIFS('Accounting Data'!C2:C100000,'Accounting Data'!E2:E100000,\"17?\",'Accounting Data'!J2:J100000,\"2???\")+SUMIFS('Accounting Data'!C2:C100000,'Accounting Data'!E2:E100000,\"18?\",'Accounting Data'!J2:J100000,\"2???\")+SUMIFS('Accounting Data'!C2:C100000,'Accounting Data'!E2:E100000,\"17?\",'Accounting Data'!J2:J100000,\"3???\")+SUMIFS('Accounting Data'!C2:C100000,'Accounting Data'!E2:E100000,\"18?\",'Accounting Data'!J2:J100000,\"3???\")+SUMIFS('Accounting Data'!C2:C100000,'Accounting Data'!E2:E100000,\"17?\",'Accounting Data'!J2:J100000,\"4???\")+SUMIFS('Accounting Data'!C2:C100000,'Accounting Data'!E2:E100000,\"18?\",'Accounting Data'!J2:J100000,\"4???\"))","v":0},0,{"$f":"[1]!F170180BudgFY","v":0},{"$f":"(SUMIFS('Accounting Data'!C2:C100000,'Accounting Data'!E2:E100000,\"17?\",'Accounting Data'!J2:J100000,\"6???\")+SUMIFS('Accounting Data'!C2:C100000,'Accounting Data'!E2:E100000,\"18?\",'Accounting Data'!J2:J100000,\"6???\"))-P12","v":0},0,"Special Revenue","4.",null,"4.",{"$f":"-(SUMIFS('Accounting Data'!C2:C100000,'Accounting Data'!E2:E100000,\"17?\",'Accounting Data'!J2:J100000,\"5???\")+SUMIFS('Accounting Data'!C2:C100000,'Accounting Data'!E2:E100000,\"18?\",'Accounting Data'!J2:J100000,\"5???\"))","v":0},{"$f":"SUMIFS('Accounting Data'!C2:C100000,'Accounting Data'!E2:E100000,\"17?\",'Accounting Data'!J2:J100000,\"69??\")+SUMIFS('Accounting Data'!C2:C100000,'Accounting Data'!E2:E100000,\"18?\",'Accounting Data'!J2:J100000,\"69??\")","v":0},"4."]
["190 ESEA Title III - Limited English & Immigrant Students",null,null,"5.",{"$f":"'Accounting Data'!R98","v":-2297},{"$f":"-(SUMIFS('Accounting Data'!C2:C100000,'Accounting Data'!E2:E100000,\"19?\",'Accounting Data'!J2:J100000,\"1???\")+SUMIFS('Accounting Data'!C2:C100000,'Accounting Data'!E2:E100000,\"19?\",'Accounting Data'!J2:J100000,\"2???\")+SUMIFS('Accounting Data'!C2:C100000,'Accounting Data'!E2:E100000,\"19?\",'Accounting Data'!J2:J100000,\"3???\")+SUMIFS('Accounting Data'!C2:C100000,'Accounting Data'!E2:E100000,\"19?\",'Accounting Data'!J2:J100000,\"4???\"))","v":46230},-2484,{"$f":"[1]!F190BudgFY","v":77897},{"$f":"SUMIFS('Accounting Data'!C2:C100000,'Accounting Data'!E2:E100000,\"19?\",'Accounting Data'!J2:J100000,\"6???\")-P13","v":44843},-3394,"Special Revenue","5.",null,"5.",{"$f":"-(SUMIFS('Accounting Data'!C2:C100000,'Accounting Data'!E2:E100000,\"19?\",'Accounting Data'!J2:J100000,\"5???\"))","v":0},{"$f":"SUMIFS('Accounting Data'!C2:C100000,'Accounting Data'!E2:E100000,\"19?\",'Accounting Data'!J2:J100000,\"69??\")","v":2484},"5."]
["200 ESEA Title VII - Indian Education",null,null,"6.",{"$f":"'Accounting Data'!R108","v":0},{"$f":"-(SUMIFS('Accounting Data'!C2:C100000,'Accounting Data'!E2:E100000,\"20?\",'Accounting Data'!J2:J100000,\"1???\")+SUMIFS('Accounting Data'!C2:C100000,'Accounting Data'!E2:E100000,\"20?\",'Accounting Data'!J2:J100000,\"2???\")+SUMIFS('Accounting Data'!C2:C100000,'Accounting Data'!E2:E100000,\"20?\",'Accounting Data'!J2:J100000,\"3???\")+SUMIFS('Accounting Data'!C2:C100000,'Accounting Data'!E2:E100000,\"20?\",'Accounting Data'!J2:J100000,\"4???\"))","v":0},0,{"$f":"[1]!F200BudgFY","v":0},{"$f":"SUMIFS('Accounting Data'!C2:C100000,'Accounting Data'!E2:E100000,\"20?\",'Accounting Data'!J2:J100000,\"6???\")-P14","v":0},0,"Special Revenue","6.",null,"6.",{"$f":"-(SUMIFS('Accounting Data'!C2:C100000,'Accounting Data'!E2:E100000,\"20?\",'Accounting Data'!J2:J100000,\"5???\"))","v":0},{"$f":"SUMIFS('Accounting Data'!C2:C100000,'Accounting Data'!E2:E100000,\"20?\",'Accounting Data'!J2:J100000,\"69??\")","v":0},"6."]
["210 ESEA Title VI - Flexibility and Accountability",null,null,"7.",{"$f":"'Accounting Data'!R118","v":0},{"$f":"-(SUMIFS('Accounting Data'!C2:C100000,'Accounting Data'!E2:E100000,\"21?\",'Accounting Data'!J2:J100000,\"1???\")+SUMIFS('Accounting Data'!C2:C100000,'Accounting Data'!E2:E100000,\"21?\",'Accounting Data'!J2:J100000,\"2???\")+SUMIFS('Accounting Data'!C2:C100000,'Accounting Data'!E2:E100000,\"21?\",'Accounting Data'!J2:J100000,\"3???\")+SUMIFS('Accounting Data'!C2:C100000,'Accounting Data'!E2:E100000,\"21?\",'Accounting Data'!J2:J100000,\"4???\"))","v":0},0,{"$f":"[1]!F210BudgFY","v":0},{"$f":"SUMIFS('Accounting Data'!C2:C100000,'Accounting Data'!E2:E100000,\"21?\",'Accounting Data'!J2:J100000,\"6???\")-P15","v":0},0,"Special Revenue","7.",null,"7.",{"$f":"-(SUMIFS('Accounting Data'!C2:C100000,'Accounting Data'!E2:E100000,\"21?\",'Accounting Data'!J2:J100000,\"5???\"))","v":0},{"$f":"SUMIFS('Accounting Data'!C2:C100000,'Accounting Data'!E2:E100000,\"21?\",'Accounting Data'!J2:J100000,\"69??\")","v":0},"7."]
["220 IDEA Part B",null,null,"8.",{"$f":"'Accounting Data'!R128","v":-123693},{"$f":"-(SUMIFS('Accounting Data'!C2:C100000,'Accounting Data'!E2:E100000,\"22?\",'Accounting Data'!J2:J100000,\"1???\")+SUMIFS('Accounting Data'!C2:C100000,'Accounting Data'!E2:E100000,\"22?\",'Accounting Data'!J2:J100000,\"2???\")+SUMIFS('Accounting Data'!C2:C100000,'Accounting Data'!E2:E100000,\"22?\",'Accounting Data'!J2:J100000,\"3???\")+SUMIFS('Accounting Data'!C2:C100000,'Accounting Data'!E2:E100000,\"22?\",'Accounting Data'!J2:J100000,\"4???\"))","v":720095},-44546,{"$f":"[1]!F220BudgFY","v":914026},{"$f":"SUMIFS('Accounting Data'!C2:C100000,'Accounting Data'!E2:E100000,\"22?\",'Accounting Data'!J2:J100000,\"6???\")-P16","v":816254},-264398,"Special Revenue","8.",null,"8.",{"$f":"-(SUMIFS('Accounting Data'!C2:C100000,'Accounting Data'!E2:E100000,\"22?\",'Accounting Data'!J2:J100000,\"5???\"))","v":0},{"$f":"SUMIFS('Accounting Data'!C2:C100000,'Accounting Data'!E2:E100000,\"22?\",'Accounting Data'!J2:J100000,\"69??\")","v":44546},"8."]
["230 Johnson-O'Malley",null,null,"9.",{"$f":"'Accounting Data'!R138","v":0},{"$f":"-(SUMIFS('Accounting Data'!C2:C100000,'Accounting Data'!E2:E100000,\"23?\",'Accounting Data'!J2:J100000,\"1???\")+SUMIFS('Accounting Data'!C2:C100000,'Accounting Data'!E2:E100000,\"23?\",'Accounting Data'!J2:J100000,\"2???\")+SUMIFS('Accounting Data'!C2:C100000,'Accounting Data'!E2:E100000,\"23?\",'Accounting Data'!J2:J100000,\"3???\")+SUMIFS('Accounting Data'!C2:C100000,'Accounting Data'!E2:E100000,\"23?\",'Accounting Data'!J2:J100000,\"4???\"))","v":0},0,{"$f":"[1]!F230BudgFY","v":0},{"$f":"SUMIFS('Accounting Data'!C2:C100000,'Accounting Data'!E2:E100000,\"23?\",'Accounting Data'!J2:J100000,\"6???\")-P17","v":0},0,"Special Revenue","9.",null,"9.",{"$f":"-(SUMIFS('Accounting Data'!C2:C100000,'Accounting Data'!E2:E100000,\"23?\",'Accounting Data'!J2:J100000,\"5???\"))","v":0},{"$f":"SUMIFS('Accounting Data'!C2:C100000,'Accounting Data'!E2:E100000,\"23?\",'Accounting Data'!J2:J100000,\"69??\")","v":0},"9."]
["240 Workforce Investment Act",null,null,"10.",{"$f":"'Accounting Data'!R148","v":0},{"$f":"-(SUMIFS('Accounting Data'!C2:C100000,'Accounting Data'!E2:E100000,\"24?\",'Accounting Data'!J2:J100000,\"1???\")+SUMIFS('Accounting Data'!C2:C100000,'Accounting Data'!E2:E100000,\"24?\",'Accounting Data'!J2:J100000,\"2???\")+SUMIFS('Accounting Data'!C2:C100000,'Accounting Data'!E2:E100000,\"24?\",'Accounting Data'!J2:J100000,\"3???\")+SUMIFS('Accounting Data'!C2:C100000,'Accounting Data'!E2:E100000,\"24?\",'Accounting Data'!J2:J100000,\"4???\"))","v":0},0,{"$f":"[1]!F240BudgFY","v":0},{"$f":"SUMIFS('Accounting Data'!C2:C100000,'Accounting Data'!E2:E100000,\"24?\",'Accounting Data'!J2:J100000,\"6???\")-P18","v":0},0,"Special Revenue","10.",null,"10.",{"$f":"-(SUMIFS('Accounting Data'!C2:C100000,'Accounting Data'!E2:E100000,\"24?\",'Accounting Data'!J2:J100000,\"5???\"))","v":0},{"$f":"SUMIFS('Accounting Data'!C2:C100000,'Accounting Data'!E2:E100000,\"24?\",'Accounting Data'!J2:J100000,\"69??\")","v":0},"10."]
["250 AEA-Adult Education",null,null,"11.",{"$f":"'Accounting Data'!R158","v":0},{"$f":"-(SUMIFS('Accounting Data'!C2:C100000,'Accounting Data'!E2:E100000,\"25?\",'Accounting Data'!J2:J100000,\"1???\")+SUMIFS('Accounting Data'!C2:C100000,'Accounting Data'!E2:E100000,\"25?\",'Accounting Data'!J2:J100000,\"2???\")+SUMIFS('Accounting Data'!C2:C100000,'Accounting Data'!E2:E100000,\"25?\",'Accounting Data'!J2:J100000,\"3???\")+SUMIFS('Accounting Data'!C2:C100000,'Accounting Data'!E2:E100000,\"25?\",'Accounting Data'!J2:J100000,\"4???\"))","v":0},0,{"$f":"[1]!F250BudgFY","v":0},{"$f":"SUMIFS('Accounting Data'!C2:C100000,'Accounting Data'!E2:E100000,\"25?\",'Accounting Data'!J2:J100000,\"6???\")-P19","v":0},0,"Special Revenue","11.",null,"11.",{"$f":"-(SUMIFS('Accounting Data'!C2:C100000,'Accounting Data'!E2:E100000,\"25?\",'Accounting Data'!J2:J100000,\"5???\"))","v":0},{"$f":"SUMIFS('Accounting Data'!C2:C100000,'Accounting Data'!E2:E100000,\"25?\",'Accounting Data'!J2:J100000,\"69??\")","v":0},"11."]
["260-270 Vocational Education - Basic Grants",null,null,"12.",{"$f":"'Accounting Data'!R168","v":0},{"$f":"-(SUMIFS('Accounting Data'!C2:C100000,'Accounting Data'!E2:E100000,\"26?\",'Accounting Data'!J2:J100000,\"1???\")+SUMIFS('Accounting Data'!C2:C100000,'Accounting Data'!E2:E100000,\"27?\",'Accounting Data'!J2:J100000,\"1???\")+SUMIFS('Accounting Data'!C2:C100000,'Accounting Data'!E2:E100000,\"26?\",'Accounting Data'!J2:J100000,\"2???\")+SUMIFS('Accounting Data'!C2:C100000,'Accounting Data'!E2:E100000,\"27?\",'Accounting Data'!J2:J100000,\"2???\")+SUMIFS('Accounting Data'!C2:C100000,'Accounting Data'!E2:E100000,\"26?\",'Accounting Data'!J2:J100000,\"3???\")+SUMIFS('Accounting Data'!C2:C100000,'Accounting Data'!E2:E100000,\"27?\",'Accounting Data'!J2:J100000,\"3???\")+SUMIFS('Accounting Data'!C2:C100000,'Accounting Data'!E2:E100000,\"26?\",'Accounting Data'!J2:J100000,\"4???\")+SUMIFS('Accounting Data'!C2:C100000,'Accounting Data'!E2:E100000,\"27?\",'Accounting Data'!J2:J100000,\"4???\"))","v":0},0,{"$f":"[1]!F260270BudgFY","v":0},{"$f":"(SUMIFS('Accounting Data'!C2:C65355,'Accounting Data'!E2:E65355,\"26?\",'Accounting Data'!J2:J65355,\"6???\")+SUMIFS('Accounting Data'!C2:C65355,'Accounting Data'!E2:E65355,\"27?\",'Accounting Data'!J2:J65355,\"6???\"))-P20","v":0},{"$f":"E20+F20+G20-I20","v":0},"Special Revenue","12.",null,"12.",{"$f":"-(SUMIFS('Accounting Data'!C2:C100000,'Accounting Data'!E2:E100000,\"26?\",'Accounting Data'!J2:J100000,\"5???\")+SUMIFS('Accounting Data'!C2:C100000,'Accounting Data'!E2:E100000,\"27?\",'Accounting Data'!J2:J100000,\"5???\"))","v":0},{"$f":"SUMIFS('Accounting Data'!C2:C100000,'Accounting Data'!E2:E100000,\"26?\",'Accounting Data'!J2:J100000,\"69??\")+SUMIFS('Accounting Data'!C2:C100000,'Accounting Data'!E2:E100000,\"27?\",'Accounting Data'!J2:J100000,\"69??\")","v":0},"12."]
["280 ESEA Title X - Homeless Education",null,null,"13.",{"$f":"'Accounting Data'!R188","v":0},{"$f":"-(SUMIFS('Accounting Data'!C2:C100000,'Accounting Data'!E2:E100000,\"28?\",'Accounting Data'!J2:J100000,\"1???\")+SUMIFS('Accounting Data'!C2:C100000,'Accounting Data'!E2:E100000,\"28?\",'Accounting Data'!J2:J100000,\"2???\")+SUMIFS('Accounting Data'!C2:C100000,'Accounting Data'!E2:E100000,\"28?\",'Accounting Data'!J2:J100000,\"3???\")+SUMIFS('Accounting Data'!C2:C100000,'Accounting Data'!E2:E100000,\"28?\",'Accounting Data'!J2:J100000,\"4???\"))","v":0},0,{"$f":"[1]!F280BudgFY","v":0},{"$f":"SUMIFS('Accounting Data'!C2:C100000,'Accounting Data'!E2:E100000,\"28?\",'Accounting Data'!J2:J100000,\"6???\")-P21","v":0},0,"Special Revenue","13.",null,"13.",{"$f":"-(SUMIFS('Accounting Data'!C2:C100000,'Accounting Data'!E2:E100000,\"28?\",'Accounting Data'!J2:J100000,\"5???\"))","v":0},{"$f":"SUMIFS('Accounting Data'!C2:C100000,'Accounting Data'!E2:E100000,\"28?\",'Accounting Data'!J2:J100000,\"69??\")","v":0},"13."]
["290 Medicaid Reimbursement",null,null,"14.",{"$f":"'Accounting Data'!R198","v":865891},{"$f":"-(SUMIFS('Accounting Data'!C2:C100000,'Accounting Data'!E2:E100000,\"29?\",'Accounting Data'!J2:J100000,\"1???\")+SUMIFS('Accounting Data'!C2:C100000,'Accounting Data'!E2:E100000,\"29?\",'Accounting Data'!J2:J100000,\"2???\")+SUMIFS('Accounting Data'!C2:C100000,'Accounting Data'!E2:E100000,\"29?\",'Accounting Data'!J2:J100000,\"3???\")+SUMIFS('Accounting Data'!C2:C100000,'Accounting Data'!E2:E100000,\"29?\",'Accounting Data'!J2:J100000,\"4???\"))","v":356961},0,{"$f":"[1]!F290BudgFY","v":550000},{"$f":"SUMIFS('Accounting Data'!C2:C100000,'Accounting Data'!E2:E100000,\"29?\",'Accounting Data'!J2:J100000,\"6???\")-P22","v":6788},1216064,"General","14.",null,"14.",{"$f":"-(SUMIFS('Accounting Data'!C2:C100000,'Accounting Data'!E2:E100000,\"29?\",'Accounting Data'!J2:J100000,\"5???\"))","v":0},{"$f":"SUMIFS('Accounting Data'!C2:C100000,'Accounting Data'!E2:E100000,\"29?\",'Accounting Data'!J2:J100000,\"69??\")","v":0},"14."]
["349 National Forest Fees",null,null,"15.",{"$f":"'Accounting Data'!R257","v":0},{"$f":"-SUM((SUMIFS('Accounting Data'!C2:C100000,'Accounting Data'!E2:E100000,\"349\",'Accounting Data'!J2:J100000,{\"1???\",\"2???\",\"3???\",\"4???\"})))","v":0},{"$f":"O23-P23","v":0},0,{"$f":"SUMIFS('Accounting Data'!C2:C100000,'Accounting Data'!E2:E100000,\"349\",'Accounting Data'!J2:J100000,\"6???\")-P23","v":0},0,"Special Revenue","15.",null,"15.",{"$f":"-(SUMIFS('Accounting Data'!C2:C100000,'Accounting Data'!E2:E100000,\"349\",'Accounting Data'!J2:J100000,\"5???\"))","v":0},{"$f":"SUMIFS('Accounting Data'!C2:C100000,'Accounting Data'!E2:E100000,\"349\",'Accounting Data'!J2:J100000,\"69??\")","v":0},"15."]
["353 Taylor Grazing Fees ",null,null,"16.",{"$f":"'Accounting Data'!R261","v":0},{"$f":"-SUM((SUMIFS('Accounting Data'!C2:C100000,'Accounting Data'!E2:E100000,\"353\",'Accounting Data'!J2:J100000,{\"1???\",\"2???\",\"3???\",\"4???\"})))","v":0},0,0,{"$f":"SUMIFS('Accounting Data'!C2:C100000,'Accounting Data'!E2:E100000,\"353\",'Accounting Data'!J2:J100000,\"6???\")-P24","v":0},0,"Special Revenue","16.",null,"16.",{"$f":"-(SUMIFS('Accounting Data'!C2:C100000,'Accounting Data'!E2:E100000,\"353\",'Accounting Data'!J2:J100000,\"5???\"))","v":0},{"$f":"SUMIFS('Accounting Data'!C2:C100000,'Accounting Data'!E2:E100000,\"353\",'Accounting Data'!J2:J100000,\"69??\")","v":0},"16."]
["374 E-Rate",null,null,"17.",{"$f":"'Accounting Data'!R282","v":560190},{"$f":"-(SUMIFS('Accounting Data'!C2:C100000,'Accounting Data'!E2:E100000,\"374\",'Accounting Data'!J2:J100000,\"1???\")+SUMIFS('Accounting Data'!C2:C100000,'Accounting Data'!E2:E100000,\"374\",'Accounting Data'!J2:J100000,\"2???\")+SUMIFS('Accounting Data'!C2:C100000,'Accounting Data'!E2:E100000,\"374\",'Accounting Data'!J2:J100000,\"3???\")+SUMIFS('Accounting Data'!C2:C100000,'Accounting Data'!E2:E100000,\"374\",'Accounting Data'!J2:J100000,\"4???\"))","v":58811},0,550000,{"$f":"SUMIFS('Accounting Data'!C2:C100000,'Accounting Data'!E2:E100000,\"374\",'Accounting Data'!J2:J100000,\"6???\")-P25","v":0},619001,"General","17.",null,"17.",{"$f":"-(SUMIFS('Accounting Data'!C2:C100000,'Accounting Data'!E2:E100000,\"374\",'Accounting Data'!J2:J100000,\"5???\"))","v":0},{"$f":"SUMIFS('Accounting Data'!C2:C100000,'Accounting Data'!E2:E100000,\"374\",'Accounting Data'!J2:J100000,\"69??\")","v":0},"17."]
["378 Impact Aid",null,null,"18.",{"$f":"'Accounting Data'!R286","v":0},{"$f":"-(SUMIFS('Accounting Data'!C2:C100000,'Accounting Data'!E2:E100000,\"378\",'Accounting Data'!J2:J100000,\"1???\")+SUMIFS('Accounting Data'!C2:C100000,'Accounting Data'!E2:E100000,\"378\",'Accounting Data'!J2:J100000,\"2???\")+SUMIFS('Accounting Data'!C2:C100000,'Accounting Data'!E2:E100000,\"378\",'Accounting Data'!J2:J100000,\"3???\")+SUMIFS('Accounting Data'!C2:C100000,'Accounting Data'!E2:E100000,\"378\",'Accounting Data'!J2:J100000,\"4???\"))","v":0},0,0,{"$f":"(SUMIFS('Accounting Data'!C2:C100000,'Accounting Data'!E2:E100000,\"378\",'Accounting Data'!J2:J100000,\"6???\"))-P26","v":0},0,"Special Revenue","18.",null,"18.",{"$f":"-(SUMIFS('Accounting Data'!C2:C100000,'Accounting Data'!E2:E100000,\"378\",'Accounting Data'!J2:J100000,\"5???\"))","v":0},{"$f":"SUMIFS('Accounting Data'!C2:C100000,'Accounting Data'!E2:E100000,\"378\",'Accounting Data'!J2:J100000,\"69??\")","v":0},"18."]
["300-399 Other Federal Projects",null,null,"19.",{"$f":"'Accounting Data'!R208","v":-295369},{"$f":"-(SUMIFS('Accounting Data'!C2:C100000,'Accounting Data'!E2:E100000,\"3??\",'Accounting Data'!J2:J100000,\"1???\")+SUMIFS('Accounting Data'!C2:C100000,'Accounting Data'!E2:E100000,\"3??\",'Accounting Data'!J2:J100000,\"2???\")+SUMIFS('Accounting Data'!C2:C100000,'Accounting Data'!E2:E100000,\"3??\",'Accounting Data'!J2:J100000,\"3???\")+SUMIFS('Accounting Data'!C2:C100000,'Accounting Data'!E2:E100000,\"3??\",'Accounting Data'!J2:J100000,\"4???\")+SUM(SUMIFS('Accounting Data'!C2:C100000,'Accounting Data'!E2:E100000,\"COVID\",'Accounting Data'!J2:J100000,{\"1???\",\"2???\",\"3???\",\"4???\"})))-SUM(F23:F26)","v":2537612},-214310,3306619,{"$f":"(SUMIFS('Accounting Data'!C2:C100000,'Accounting Data'!E2:E100000,\"3??\",'Accounting Data'!J2:J100000,\"6???\")+SUMIFS('Accounting Data'!C2:C100000,'Accounting Data'!E2:E100000,\"COVID\",'Accounting Data'!J2:J100000,\"6???\"))-SUM(I23:I26,P23:P27)","v":2762129},{"$f":"E27+F27+G27-I27","v":-734196},"Special Revenue","19.",null,"19.",{"$f":"-(SUMIFS('Accounting Data'!C2:C100000,'Accounting Data'!E2:E100000,\"3??\",'Accounting Data'!J2:J100000,\"5???\"))-(SUMIFS('Accounting Data'!C2:C100000,'Accounting Data'!E2:E100000,\"COVID\",'Accounting Data'!J2:J100000,\"5???\"))-SUM(O23:O26)","v":0},{"$f":"SUMIFS('Accounting Data'!C2:C100000,'Accounting Data'!E2:E100000,\"3??\",'Accounting Data'!J2:J100000,\"69??\")+SUMIFS('Accounting Data'!C2:C100000,'Accounting Data'!E2:E100000,\"COVID\",'Accounting Data'!J2:J100000,\"69??\")-SUM(P23:P26)","v":214310},"19."]
["699 Federal Impact Aid (Construction)",null,null,"20.",{"$f":"'Accounting Data'!R383","v":0},{"$f":"-(SUMIFS('Accounting Data'!C2:C100000,'Accounting Data'!E2:E100000,\"699\",'Accounting Data'!J2:J100000,\"1???\")+SUMIFS('Accounting Data'!C2:C100000,'Accounting Data'!E2:E100000,\"699\",'Accounting Data'!J2:J100000,\"2???\")+SUMIFS('Accounting Data'!C2:C100000,'Accounting Data'!E2:E100000,\"699\",'Accounting Data'!J2:J100000,\"3???\")+SUMIFS('Accounting Data'!C2:C100000,'Accounting Data'!E2:E100000,\"699\",'Accounting Data'!J2:J100000,\"4???\"))","v":0},0,0,{"$f":"SUMIFS('Accounting Data'!C2:C100000,'Accounting Data'!E2:E100000,\"699\",'Accounting Data'!J2:J100000,\"6???\")-P28","v":0},{"$f":"E28+F28+G28-I28","v":0},"Special Revenue","20.",null,"20.",{"$f":"-(SUMIFS('Accounting Data'!C2:C100000,'Accounting Data'!E2:E100000,\"699\",'Accounting Data'!J2:J100000,\"5???\"))","v":0},{"$f":"SUMIFS('Accounting Data'!C2:C100000,'Accounting Data'!E2:E100000,\"699\",'Accounting Data'!J2:J100000,\"69??\")","v":0},"20."]
["Total Federal Project Funds (lines 1-20)",null,null,"21.",{"$f":"SUM(E9:E28)","v":937252},4367220,-297419,6158627,4285318,721735,null,"21."]
[]
["Total COVID-19 Federal Relief Funds included in lines above",null,null,"22.",{"$f":"'Accounting Data'!R541","v":-295370},{"$f":"-((SUM(SUMIFS('Accounting Data'!C2:C100000,'Accounting Data'!E2:E100000,\"COVID\",'Accounting Data'!J2:J100000,{\"1???\",\"2???\",\"3???\",\"4???\"})))+SUM(SUMIFS('Accounting Data'!C2:C100000,'Accounting Data'!E2:E100000,\"227\",'Accounting Data'!J2:J100000,{\"1???\",\"2???\",\"3???\",\"4???\"}))+SUM(SUMIFS('Accounting Data'!C2:C100000,'Accounting Data'!E2:E100000,\"228\",'Accounting Data'!J2:J100000,{\"1???\",\"2???\",\"3???\",\"4???\"})))","v":2361812},{"$f":"O31-P31","v":-214310},null,{"$f":"SUMIFS('Accounting Data'!C2:C100000,'Accounting Data'!E2:E100000,\"COVID\",'Accounting Data'!J2:J100000,\"6???\")+SUMIFS('Accounting Data'!C2:C100000,'Accounting Data'!E2:E100000,\"227\",'Accounting Data'!J2:J100000,\"6???\")+SUMIFS('Accounting Data'!C2:C100000,'Accounting Data'!E2:E100000,\"228\",'Accounting Data'!J2:J100000,\"6???\")-P31","v":2527621},{"$f":"E31+F31+G31-I31","v":-675489},null,"22.",null,"22.",{"$f":"-(SUM(SUMIFS('Accounting Data'!C2:C100000,'Accounting Data'!E2:E100000,{\"COVID\",\"227\",\"228\"},'Accounting Data'!J2:J100000,\"5???\")))","v":0},{"$f":"(SUM(SUMIFS('Accounting Data'!C2:C100000,'Accounting Data'!E2:E100000,{\"COVID\",\"227\",\"228\"},'Accounting Data'!J2:J100000,\"69??\")))","v":214310},"22."]
[]
[]
[]
["STATE PROJECTS",null,null,null,null,null,null,null,null,null,null,null,null,null,"OTHER FINANCING SOURCES (2)","OTHER FINANCING USES (2)"]
["400 Vocational Education",null,null,"23.",{"$f":"'Accounting Data'!R308","v":0},{"$f":"-(SUMIFS('Accounting Data'!C2:C100000,'Accounting Data'!E2:E100000,\"400\",'Accounting Data'!J2:J100000,\"1???\")+SUMIFS('Accounting Data'!C2:C100000,'Accounting Data'!E2:E100000,\"400\",'Accounting Data'!J2:J100000,\"2???\")+SUMIFS('Accounting Data'!C2:C100000,'Accounting Data'!E2:E100000,\"400\",'Accounting Data'!J2:J100000,\"3???\")+SUMIFS('Accounting Data'!C2:C100000,'Accounting Data'!E2:E100000,\"400\",'Accounting Data'!J2:J100000,\"4???\"))","v":0},{"$f":"O36-P36","v":0},{"$f":"[1]!F400BudgFY","v":0},{"$f":"SUMIFS('Accounting Data'!C2:C100000,'Accounting Data'!E2:E100000,\"400\",'Accounting Data'!J2:J100000,\"6???\")-P36","v":0},{"$f":"E36+F36-I36","v":0},"Special Revenue","23.",null,"23.",{"$f":"-(SUMIFS('Accounting Data'!C2:C100000,'Accounting Data'!E2:E100000,\"400\",'Accounting Data'!J2:J100000,\"5???\"))","v":0},{"$f":"SUMIFS('Accounting Data'!C$2:C$100000,'Accounting Data'!E$2:E$100000,\"400\",'Accounting Data'!J$2:J$100000,\"69??\")","v":0},"23."]
["410 Early Childhood Block Grant",null,null,"24.",{"$f":"'Accounting Data'!R309","v":0},{"$f":"-(SUMIFS('Accounting Data'!C2:C100000,'Accounting Data'!E2:E100000,\"410\",'Accounting Data'!J2:J100000,\"1???\")+SUMIFS('Accounting Data'!C2:C100000,'Accounting Data'!E2:E100000,\"410\",'Accounting Data'!J2:J100000,\"2???\")+SUMIFS('Accounting Data'!C2:C100000,'Accounting Data'!E2:E100000,\"410\",'Accounting Data'!J2:J100000,\"3???\")+SUMIFS('Accounting Data'!C2:C100000,'Accounting Data'!E2:E100000,\"410\",'Accounting Data'!J2:J100000,\"4???\"))","v":0},0,{"$f":"[1]!F410BudgFY","v":0},{"$f":"SUMIFS('Accounting Data'!C2:C100000,'Accounting Data'!E2:E100000,\"410\",'Accounting Data'!J2:J100000,\"6???\")-P37","v":0},{"$f":"E37+F37-I37","v":0},"Special Revenue","24",null,"24",{"$f":"-(SUMIFS('Accounting Data'!C2:C100000,'Accounting Data'!E2:E100000,\"410\",'Accounting Data'!J2:J100000,\"5???\"))","v":0},{"$f":"SUMIFS('Accounting Data'!C$2:C$100000,'Accounting Data'!E$2:E$100000,\"410\",'Accounting Data'!J$2:J$100000,\"69??\")","v":0},"24"]
["420 Ext. School Yr. - Pupils with Disabilities",null,null,"25.",{"$f":"'Accounting Data'!R310","v":0},{"$f":"-(SUMIFS('Accounting Data'!C2:C100000,'Accounting Data'!E2:E100000,\"420\",'Accounting Data'!J2:J100000,\"1???\")+SUMIFS('Accounting Data'!C2:C100000,'Accounting Data'!E2:E100000,\"420\",'Accounting Data'!J2:J100000,\"2???\")+SUMIFS('Accounting Data'!C2:C100000,'Accounting Data'!E2:E100000,\"420\",'Accounting Data'!J2:J100000,\"3???\")+SUMIFS('Accounting Data'!C2:C100000,'Accounting Data'!E2:E100000,\"420\",'Accounting Data'!J2:J100000,\"4???\"))","v":0},0,{"$f":"[1]!F420BudgFY","v":0},{"$f":"SUMIFS('Accounting Data'!C2:C100000,'Accounting Data'!E2:E100000,\"420\",'Accounting Data'!J2:J100000,\"6???\")-P38","v":0},0,"Special Revenue","25.",null,"25.",{"$f":"-(SUMIFS('Accounting Data'!C2:C100000,'Accounting Data'!E2:E100000,\"420\",'Accounting Data'!J2:J100000,\"5???\"))","v":0},{"$f":"SUMIFS('Accounting Data'!C$2:C$100000,'Accounting Data'!E$2:E$100000,\"420\",'Accounting Data'!J$2:J$100000,\"69??\")","v":0},"25."]
["425 Adult Basic Education",null,null,"26.",{"$f":"'Accounting Data'!R311","v":0},{"$f":"-(SUMIFS('Accounting Data'!C2:C100000,'Accounting Data'!E2:E100000,\"425\",'Accounting Data'!J2:J100000,\"1???\")+SUMIFS('Accounting Data'!C2:C100000,'Accounting Data'!E2:E100000,\"425\",'Accounting Data'!J2:J100000,\"2???\")+SUMIFS('Accounting Data'!C2:C100000,'Accounting Data'!E2:E100000,\"425\",'Accounting Data'!J2:J100000,\"3???\")+SUMIFS('Accounting Data'!C2:C100000,'Accounting Data'!E2:E100000,\"425\",'Accounting Data'!J2:J100000,\"4???\"))","v":0},0,{"$f":"[1]!F425BudgFY","v":0},{"$f":"SUMIFS('Accounting Data'!C2:C100000,'Accounting Data'!E2:E100000,\"425\",'Accounting Data'!J2:J100000,\"6???\")-P39","v":0},0,"Special Revenue","26.",null,"26.",{"$f":"-(SUMIFS('Accounting Data'!C2:C100000,'Accounting Data'!E2:E100000,\"425\",'Accounting Data'!J2:J100000,\"5???\"))","v":0},{"$f":"SUMIFS('Accounting Data'!C$2:C$100000,'Accounting Data'!E$2:E$100000,\"425\",'Accounting Data'!J$2:J$100000,\"69??\")","v":0},"26."]
["430 Chemical Abuse Prevention Programs",null,null,"27.",{"$f":"'Accounting Data'!R312","v":0},{"$f":"-(SUMIFS('Accounting Data'!C2:C100000,'Accounting Data'!E2:E100000,\"430\",'Accounting Data'!J2:J100000,\"1???\")+SUMIFS('Accounting Data'!C2:C100000,'Accounting Data'!E2:E100000,\"430\",'Accounting Data'!J2:J100000,\"2???\")+SUMIFS('Accounting Data'!C2:C100000,'Accounting Data'!E2:E100000,\"430\",'Accounting Data'!J2:J100000,\"3???\")+SUMIFS('Accounting Data'!C2:C100000,'Accounting Data'!E2:E100000,\"430\",'Accounting Data'!J2:J100000,\"4???\"))","v":0},0,{"$f":"[1]!F430BudgFY","v":0},{"$f":"SUMIFS('Accounting Data'!C2:C100000,'Accounting Data'!E2:E100000,\"430\",'Accounting Data'!J2:J100000,\"6???\")-P40","v":0},0,"Special Revenue","27.",null,"27.",{"$f":"-(SUMIFS('Accounting Data'!C2:C100000,'Accounting Data'!E2:E100000,\"430\",'Accounting Data'!J2:J100000,\"5???\"))","v":0},{"$f":"SUMIFS('Accounting Data'!C$2:C$100000,'Accounting Data'!E$2:E$100000,\"430\",'Accounting Data'!J$2:J$100000,\"69??\")","v":0},"27."]
["435 Academic Contests",null,null,"28.",{"$f":"'Accounting Data'!R313","v":0},{"$f":"-(SUMIFS('Accounting Data'!C2:C100000,'Accounting Data'!E2:E100000,\"435\",'Accounting Data'!J2:J100000,\"1???\")+SUMIFS('Accounting Data'!C2:C100000,'Accounting Data'!E2:E100000,\"435\",'Accounting Data'!J2:J100000,\"2???\")+SUMIFS('Accounting Data'!C2:C100000,'Accounting Data'!E2:E100000,\"435\",'Accounting Data'!J2:J100000,\"3???\")+SUMIFS('Accounting Data'!C2:C100000,'Accounting Data'!E2:E100000,\"435\",'Accounting Data'!J2:J100000,\"4???\"))","v":0},0,{"$f":"[1]!F435BudgFY","v":0},{"$f":"SUMIFS('Accounting Data'!C2:C100000,'Accounting Data'!E2:E100000,\"435\",'Accounting Data'!J2:J100000,\"6???\")-P41","v":0},0,"Special Revenue","28.",null,"28.",{"$f":"-(SUMIFS('Accounting Data'!C2:C100000,'Accounting Data'!E2:E100000,\"435\",'Accounting Data'!J2:J100000,\"5???\"))","v":0},{"$f":"SUMIFS('Accounting Data'!C$2:C$100000,'Accounting Data'!E$2:E$100000,\"435\",'Accounting Data'!J$2:J$100000,\"69??\")","v":0},"28."]
["450 Gifted Education",null,null,"29.",{"$f":"'Accounting Data'!R314","v":0},{"$f":"-(SUMIFS('Accounting Data'!C2:C100000,'Accounting Data'!E2:E100000,\"450\",'Accounting Data'!J2:J100000,\"1???\")+SUMIFS('Accounting Data'!C2:C100000,'Accounting Data'!E2:E100000,\"450\",'Accounting Data'!J2:J100000,\"2???\")+SUMIFS('Accounting Data'!C2:C100000,'Accounting Data'!E2:E100000,\"450\",'Accounting Data'!J2:J100000,\"3???\")+SUMIFS('Accounting Data'!C2:C100000,'Accounting Data'!E2:E100000,\"450\",'Accounting Data'!J2:J100000,\"4???\"))","v":0},0,{"$f":"[1]!F450BudgFY","v":0},{"$f":"SUMIFS('Accounting Data'!C2:C100000,'Accounting Data'!E2:E100000,\"450\",'Accounting Data'!J2:J100000,\"6???\")-P42","v":0},0,"Special Revenue","29.",null,"29.",{"$f":"-(SUMIFS('Accounting Data'!C2:C100000,'Accounting Data'!E2:E100000,\"450\",'Accounting Data'!J2:J100000,\"5???\"))","v":0},{"$f":"SUMIFS('Accounting Data'!C$2:C$100000,'Accounting Data'!E$2:E$100000,\"450\",'Accounting Data'!J$2:J$100000,\"69??\")","v":0},"29."]
["456 College Credit Exam Incentives",null,null,"30.",{"$f":"'Accounting Data'!R315","v":0},{"$f":"-(SUMIFS('Accounting Data'!C2:C100000,'Accounting Data'!E2:E100000,\"456\",'Accounting Data'!J2:J100000,\"1???\")+SUMIFS('Accounting Data'!C2:C100000,'Accounting Data'!E2:E100000,\"456\",'Accounting Data'!J2:J100000,\"2???\")+SUMIFS('Accounting Data'!C2:C100000,'Accounting Data'!E2:E100000,\"456\",'Accounting Data'!J2:J100000,\"3???\")+SUMIFS('Accounting Data'!C2:C100000,'Accounting Data'!E2:E100000,\"456\",'Accounting Data'!J2:J100000,\"4???\"))","v":0},0,{"$f":"[1]!F456BudgFY","v":0},{"$f":"SUMIFS('Accounting Data'!C2:C100000,'Accounting Data'!E2:E100000,\"456\",'Accounting Data'!J2:J100000,\"6???\")-P43","v":0},0,"Special Revenue","30.",null,"30.",{"$f":"-(SUMIFS('Accounting Data'!C2:C100000,'Accounting Data'!E2:E100000,\"456\",'Accounting Data'!J2:J100000,\"5???\"))","v":0},{"$f":"SUMIFS('Accounting Data'!C$2:C$100000,'Accounting Data'!E$2:E$100000,\"456\",'Accounting Data'!J$2:J$100000,\"69??\")","v":0},"30."]
["460 Environmental Special Plate",null,null,"31.",{"$f":"'Accounting Data'!R316","v":0},{"$f":"-(SUMIFS('Accounting Data'!C2:C100000,'Accounting Data'!E2:E100000,\"460\",'Accounting Data'!J2:J100000,\"1???\")+SUMIFS('Accounting Data'!C2:C100000,'Accounting Data'!E2:E100000,\"460\",'Accounting Data'!J2:J100000,\"2???\")+SUMIFS('Accounting Data'!C2:C100000,'Accounting Data'!E2:E100000,\"460\",'Accounting Data'!J2:J100000,\"3???\")+SUMIFS('Accounting Data'!C2:C100000,'Accounting Data'!E2:E100000,\"460\",'Accounting Data'!J2:J100000,\"4???\"))","v":0},0,{"$f":"[1]!F460BudgFY","v":0},{"$f":"SUMIFS('Accounting Data'!C2:C100000,'Accounting Data'!E2:E100000,\"460\",'Accounting Data'!J2:J100000,\"6???\")-P44","v":0},{"$f":"E44+F44-I44","v":0},"Special Revenue","31.",null,"31.",{"$f":"-(SUMIFS('Accounting Data'!C2:C100000,'Accounting Data'!E2:E100000,\"460\",'Accounting Data'!J2:J100000,\"5???\"))","v":0},{"$f":"SUMIFS('Accounting Data'!C$2:C$100000,'Accounting Data'!E$2:E$100000,\"460\",'Accounting Data'!J$2:J$100000,\"69??\")","v":0},"31."]
["465-499 Other State Projects",null,null,"32.",{"$f":"'Accounting Data'!R317","v":-41249},{"$f":"-(SUMIFS('Accounting Data'!C2:C100000,'Accounting Data'!E2:E100000,\"4??\",'Accounting Data'!J2:J100000,\"1???\")+SUMIFS('Accounting Data'!C2:C100000,'Accounting Data'!E2:E100000,\"4??\",'Accounting Data'!J2:J100000,\"2???\")+SUMIFS('Accounting Data'!C2:C100000,'Accounting Data'!E2:E100000,\"4??\",'Accounting Data'!J2:J100000,\"3???\")+SUMIFS('Accounting Data'!C2:C100000,'Accounting Data'!E2:E100000,\"4??\",'Accounting Data'!J2:J100000,\"4???\"))-SUM(F36:F44)","v":182858},0,{"$f":"[1]!F465499BudgFY","v":372164},{"$f":"SUMIFS('Accounting Data'!C2:C100000,'Accounting Data'!E2:E100000,\"4??\",'Accounting Data'!J2:J100000,\"6???\")-SUM(I36:I44)-SUM(P36:P44)-P45","v":159572},{"$f":"E45+F45-I45","v":-17963},"Special Revenue","32.",null,"32.",{"$f":"-(SUMIFS('Accounting Data'!C2:C100000,'Accounting Data'!E2:E100000,\"4??\",'Accounting Data'!J2:J100000,\"5???\"))-SUM(O36:O44)","v":0},{"$f":"SUMIFS('Accounting Data'!C$2:C$100000,'Accounting Data'!E$2:E$100000,\"4??\",'Accounting Data'!J$2:J$100000,\"69??\")-SUM(P36:P44)","v":0},"32."]
["Total State Project Funds (lines 23-32)",null,null,"33.",{"$f":"SUM(E36:E45)","v":-41249},182858,0,372164,159572,-17963,null,"33."]
[]
["Total Federal and State Projects (lines 21 and 33)",null,null,"34.",{"$f":"SUM(E29+E46)","v":896003},4550078,-297419,6530791,4444890,703772,null,"34."]
[]
["(1) In accordance with the USFR Chart of Accounts, the Impact Aid Fund may transfer monies (object code 6930) to the M&O and Teacherage Funds; the Impact Aid Fund may also receive transfers-in (object code 5200) from the Impact Aid Revenue Bond Building and Impact Aid Revenue Bond Debt Service Funds; all other Federal Projects Funds may not receive any transfers-in and may only make transfers-out to the Indirect Costs Fund based on an approved indirect cost rate (object code 6910) and for any interest on federal program monies the district is not required to revert and chooses to transfer to the Indirect Cost Fund (object code 6930)."]
[]
[]
[]
["(2) In accordance with the USFR Chart of Accounts, transfers of monies between funds should be made only when specifically authorized by statute or allowed by a federal grant. Currently, there are no allowable transfers to or from any state projects."]

{"sheet":"Page 6","index":6,"n_rows":54,"n_cols":25,"rows_kept":54,"cut":false,"hidden":false,"merged":[[36,10,36,11],[38,10,38,11],[30,10,30,11],[32,10,33,11],[0,1,0,3],[0,6,0,8],[2,6,2,7],[3,6,3,7],[34,10,34,11],[25,10,27,13],[0,21,2,22],[4,6,4,7],[3,10,4,13],[15,10,16,13],[2,5,3,5]]}
["DISTRICT NAME",{"$f":"CoverDistrictName","v":"Liberty Elementary School District No. 25"},null,null,null,"COUNTY",{"$f":"County","v":"Maricopa"},null,null,null,"CTDS NUMBER",{"$f":"Cover!Q1","v":"070425000"}]
[]
[null,null,null,null,null,"NET OTHER FINANCING SOURCES AND USES",null,null,null,null,null,null,null,null,null,null,null,"OTHER FINANCING","OTHER FINANCING"]
[null,null,null,"BEGINNING",null,null,null,null,"ENDING FUND",null,{"$f":"IF(N13<>N14,\"Total detailed Instructional Improvement Fund expenditures reported on line 5 do not agree with your accounting records. Please verify entered amounts.\",\"\")","v":""},null,null,null,null,null,null,"SOURCES INCLUDING","USES INCLUDING"]
[null,null,null,"FUND BALANCE","REVENUES","INCLUDING TRANSFERS","EXPENDITURES",null,"BALANCE",null,null,null,null,null,null,null,null,"TRANSFERS-IN","TRANSFERS-OUT"]
["OTHER FUNDS",null,null,"ACTUAL","ACTUAL","ACTUAL","BUDGET","ACTUAL","ACTUAL",null,null,null,null,null,null,null,null,5000,6900]
["020 Instructional Improvement",null,"1.",{"$f":"'Accounting Data'!R4","v":492885},{"$f":"-(SUMIFS('Accounting Data'!C$2:C$100000,'Accounting Data'!E$2:E$100000,\"020\",'Accounting Data'!J$2:J$100000,\"1???\")+SUMIFS('Accounting Data'!C$2:C$100000,'Accounting Data'!E$2:E$100000,\"020\",'Accounting Data'!J$2:J$100000,\"2???\")+SUMIFS('Accounting Data'!C$2:C$100000,'Accounting Data'!E$2:E$100000,\"020\",'Accounting Data'!J$2:J$100000,\"3???\")+SUMIFS('Accounting Data'!C$2:C$100000,'Accounting Data'!E$2:E$100000,\"020\",'Accounting Data'!J$2:J$100000,\"4???\"))","v":316388},null,{"$f":"M13","v":250000},{"$f":"ROUND(SUMIFS('Accounting Data'!C2:C100000,'Accounting Data'!E2:E100000,\"02?\",'Accounting Data'!J2:J100000,\"6???\")-SUMIFS('Accounting Data'!C2:C100000,'Accounting Data'!E2:E100000,\"02?\",'Accounting Data'!J2:J100000,\"69??\"),0)","v":178725},{"$f":"D7+E7+F7-H7","v":630548},"1.","Instructional Improvement Fund 020",null,"BUDGET","ACTUAL",null,null,"1.",null,null,"1.",null,null,null,null,{"$f":"IF(OR(Y9=\"yes\",Y40=\"yes\",Y41=\"yes\"),\"yes\",\"\")","v":""}]
["050 County, City, and Town Grants",null,"2.",{"$f":"'Accounting Data'!R5","v":0},{"$f":"-(SUMIFS('Accounting Data'!C$2:C$100000,'Accounting Data'!E$2:E$100000,\"050\",'Accounting Data'!J$2:J$100000,\"1???\")+SUMIFS('Accounting Data'!C$2:C$100000,'Accounting Data'!E$2:E$100000,\"050\",'Accounting Data'!J$2:J$100000,\"2???\")+SUMIFS('Accounting Data'!C$2:C$100000,'Accounting Data'!E$2:E$100000,\"050\",'Accounting Data'!J$2:J$100000,\"3???\")+SUMIFS('Accounting Data'!C$2:C$100000,'Accounting Data'!E$2:E$100000,\"050\",'Accounting Data'!J$2:J$100000,\"4???\"))","v":0},{"$f":"R8-S8","v":0},{"$f":"[1]!F050BudgFY","v":0},{"$f":"(SUMIFS('Accounting Data'!C$2:C$100000,'Accounting Data'!E$2:E$100000,\"050\",'Accounting Data'!J$2:J$100000,\"6???\"))-(SUMIFS('Accounting Data'!C$2:C$100000,'Accounting Data'!E$2:E$100000,\"050\",'Accounting Data'!J$2:J$100000,\"69??\"))","v":0},{"$f":"D8+E8+F8-H8","v":0},"2.","Expenditures",null,null,null,null,null,"2.",{"$f":"-(SUMIFS('Accounting Data'!C$2:C$100000,'Accounting Data'!E$2:E$100000,\"050\",'Accounting Data'!J$2:J$100000,\"5???\"))","v":0},{"$f":"(SUMIFS('Accounting Data'!C$2:C$100000,'Accounting Data'!E$2:E$100000,\"050\",'Accounting Data'!J$2:J$100000,\"69??\"))","v":0},"2."]
["071 English Language Learner  (1)",null,"3.",{"$f":"'Accounting Data'!R6","v":0},{"$f":"-(SUMIFS('Accounting Data'!C$2:C$100000,'Accounting Data'!E$2:E$100000,\"071\",'Accounting Data'!J$2:J$100000,\"1???\")+SUMIFS('Accounting Data'!C$2:C$100000,'Accounting Data'!E$2:E$100000,\"071\",'Accounting Data'!J$2:J$100000,\"2???\")+SUMIFS('Accounting Data'!C$2:C$100000,'Accounting Data'!E$2:E$100000,\"071\",'Accounting Data'!J$2:J$100000,\"3???\")+SUMIFS('Accounting Data'!C$2:C$100000,'Accounting Data'!E$2:E$100000,\"071\",'Accounting Data'!J$2:J$100000,\"4???\"))","v":0},{"$f":"R9-S9","v":0},{"$f":"[1]!F071BudgFY","v":0},{"$f":"F071TOTALEXP","v":0},{"$f":"D9+E9+F9-H9","v":0},"3.","    Teacher Compensation Increases",null,{"$f":"[1]!F020TeachCompIncrBudgFY","v":80000},57192,"1.",null,"3.",{"$f":"-(SUMIFS('Accounting Data'!C$2:C$100000,'Accounting Data'!E$2:E$100000,\"071\",'Accounting Data'!J$2:J$100000,\"5???\"))","v":0},{"$f":"(SUMIFS('Accounting Data'!C$2:C$100000,'Accounting Data'!E$2:E$100000,\"071\",'Accounting Data'!J$2:J$100000,\"69??\"))","v":0},"3.",null,null,null,null,{"$f":"IF(OR(N9=\"\",N10=\"\",N11=\"\",N12=\"\"),\"yes\",\"\")","v":""}]
["072 Compensatory Instruction  (1)",null,"4.",{"$f":"'Accounting Data'!R7","v":0},{"$f":"-(SUMIFS('Accounting Data'!C$2:C$100000,'Accounting Data'!E$2:E$100000,\"072\",'Accounting Data'!J$2:J$100000,\"1???\")+SUMIFS('Accounting Data'!C$2:C$100000,'Accounting Data'!E$2:E$100000,\"072\",'Accounting Data'!J$2:J$100000,\"2???\")+SUMIFS('Accounting Data'!C$2:C$100000,'Accounting Data'!E$2:E$100000,\"072\",'Accounting Data'!J$2:J$100000,\"3???\")+SUMIFS('Accounting Data'!C$2:C$100000,'Accounting Data'!E$2:E$100000,\"072\",'Accounting Data'!J$2:J$100000,\"4???\"))","v":0},{"$f":"R10-S10","v":0},{"$f":"[1]!F072BudgFY","v":0},{"$f":"F072TOTALEXP","v":0},{"$f":"D10+E10+F10-H10","v":0},"4.","    Class Size Reduction",null,{"$f":"[1]!F020ClassSizeRedBudgFY","v":0},0,"2.",null,"4.",{"$f":"-(SUMIFS('Accounting Data'!C$2:C$100000,'Accounting Data'!E$2:E$100000,\"072\",'Accounting Data'!J$2:J$100000,\"5???\"))","v":0},{"$f":"(SUMIFS('Accounting Data'!C$2:C$100000,'Accounting Data'!E$2:E$100000,\"072\",'Accounting Data'!J$2:J$100000,\"69??\"))","v":0},"4."]
["500 School Plant ",null,"5.",{"$f":"'Accounting Data'!R352","v":70330},{"$f":"-(SUMIFS('Accounting Data'!C$2:C$100000,'Accounting Data'!E$2:E$100000,\"500\",'Accounting Data'!J$2:J$100000,\"1???\")+SUMIFS('Accounting Data'!C$2:C$100000,'Accounting Data'!E$2:E$100000,\"500\",'Accounting Data'!J$2:J$100000,\"2???\")+SUMIFS('Accounting Data'!C$2:C$100000,'Accounting Data'!E$2:E$100000,\"500\",'Accounting Data'!J$2:J$100000,\"3???\")+SUMIFS('Accounting Data'!C$2:C$100000,'Accounting Data'!E$2:E$100000,\"500\",'Accounting Data'!J$2:J$100000,\"4???\"))","v":2898},{"$f":"R11-S11","v":16566},{"$f":"[1]!F500BudgFY","v":88177},{"$f":"(SUMIFS('Accounting Data'!C$2:C$100000,'Accounting Data'!E$2:E$100000,\"500\",'Accounting Data'!J$2:J$100000,\"6???\"))-(SUMIFS('Accounting Data'!C$2:C$100000,'Accounting Data'!E$2:E$100000,\"500\",'Accounting Data'!J$2:J$100000,\"69??\"))","v":0},{"$f":"D11+E11+F11-H11","v":89794},"5.","    Dropout Prevention Programs",null,{"$f":"[1]!F020DropPrevProgBudgFY","v":0},0,"3.",null,"5.",{"$f":"-(SUMIFS('Accounting Data'!C$2:C$100000,'Accounting Data'!E$2:E$100000,\"500\",'Accounting Data'!J$2:J$100000,\"5???\"))","v":16566},{"$f":"(SUMIFS('Accounting Data'!C$2:C$100000,'Accounting Data'!E$2:E$100000,\"500\",'Accounting Data'!J$2:J$100000,\"69??\"))","v":0},"5."]
["515 Civic Center",null,"6.",{"$f":"'Accounting Data'!R354","v":501969},{"$f":"-(SUMIFS('Accounting Data'!C$2:C$100000,'Accounting Data'!E$2:E$100000,\"515\",'Accounting Data'!J$2:J$100000,\"1???\")+SUMIFS('Accounting Data'!C$2:C$100000,'Accounting Data'!E$2:E$100000,\"515\",'Accounting Data'!J$2:J$100000,\"2???\")+SUMIFS('Accounting Data'!C$2:C$100000,'Accounting Data'!E$2:E$100000,\"515\",'Accounting Data'!J$2:J$100000,\"3???\")+SUMIFS('Accounting Data'!C$2:C$100000,'Accounting Data'!E$2:E$100000,\"515\",'Accounting Data'!J$2:J$100000,\"4???\"))","v":79260},{"$f":"R12-S12","v":0},{"$f":"[1]!F515BudgFY","v":530000},{"$f":"(SUMIFS('Accounting Data'!C$2:C$100000,'Accounting Data'!E$2:E$100000,\"515\",'Accounting Data'!J$2:J$100000,\"6???\"))-(SUMIFS('Accounting Data'!C$2:C$100000,'Accounting Data'!E$2:E$100000,\"515\",'Accounting Data'!J$2:J$100000,\"69??\"))","v":37623},543606,"6.","    Instructional Improvement Programs",null,{"$f":"[1]!F020InstrImprProgBudgFY","v":170000},121533,"4.",null,"6.",{"$f":"-(SUMIFS('Accounting Data'!C$2:C$100000,'Accounting Data'!E$2:E$100000,\"515\",'Accounting Data'!J$2:J$100000,\"5???\"))","v":0},{"$f":"(SUMIFS('Accounting Data'!C$2:C$100000,'Accounting Data'!E$2:E$100000,\"515\",'Accounting Data'!J$2:J$100000,\"69??\"))","v":0},"6."]
["520 Community School",null,"7.",{"$f":"'Accounting Data'!R355","v":384722},{"$f":"-(SUMIFS('Accounting Data'!C$2:C$100000,'Accounting Data'!E$2:E$100000,\"520\",'Accounting Data'!J$2:J$100000,\"1???\")+SUMIFS('Accounting Data'!C$2:C$100000,'Accounting Data'!E$2:E$100000,\"520\",'Accounting Data'!J$2:J$100000,\"2???\")+SUMIFS('Accounting Data'!C$2:C$100000,'Accounting Data'!E$2:E$100000,\"520\",'Accounting Data'!J$2:J$100000,\"3???\")+SUMIFS('Accounting Data'!C$2:C$100000,'Accounting Data'!E$2:E$100000,\"520\",'Accounting Data'!J$2:J$100000,\"4???\"))+-(SUMIFS('Accounting Data'!C$2:C$100000,'Accounting Data'!E$2:E$100000,\"521\",'Accounting Data'!J$2:J$100000,\"1???\")+SUMIFS('Accounting Data'!C$2:C$100000,'Accounting Data'!E$2:E$100000,\"521\",'Accounting Data'!J$2:J$100000,\"2???\")+SUMIFS('Accounting Data'!C$2:C$100000,'Accounting Data'!E$2:E$100000,\"521\",'Accounting Data'!J$2:J$100000,\"3???\")+SUMIFS('Accounting Data'!C$2:C$100000,'Accounting Data'!E$2:E$100000,\"521\",'Accounting Data'!J$2:J$100000,\"4???\"))","v":294543},0,{"$f":"[1]!F520BudgFY","v":656428},{"$f":"(SUMIFS('Accounting Data'!C$2:C$100000,'Accounting Data'!E$2:E$100000,\"520\",'Accounting Data'!J$2:J$100000,\"6???\"))-(SUMIFS('Accounting Data'!C$2:C$100000,'Accounting Data'!E$2:E$100000,\"520\",'Accounting Data'!J$2:J$100000,\"69??\"))+(SUMIFS('Accounting Data'!C$2:C$100000,'Accounting Data'!E$2:E$100000,\"521\",'Accounting Data'!J$2:J$100000,\"6???\"))-(SUMIFS('Accounting Data'!C$2:C$100000,'Accounting Data'!E$2:E$100000,\"521\",'Accounting Data'!J$2:J$100000,\"69??\"))","v":234201},445064,"7.","Total Expenditures (lines 1-4)",null,{"$f":"SUM(M9:M12)","v":250000},{"$f":"SUM(N9:N12)","v":178725},"5.",null,"7.",{"$f":"-(SUMIFS('Accounting Data'!C$2:C$100000,'Accounting Data'!E$2:E$100000,\"520\",'Accounting Data'!J$2:J$100000,\"5???\"))","v":0},{"$f":"(SUMIFS('Accounting Data'!C$2:C$100000,'Accounting Data'!E$2:E$100000,\"520\",'Accounting Data'!J$2:J$100000,\"69??\"))","v":0},"7."]
["525 Auxiliary Operations",null,"8.",{"$f":"'Accounting Data'!R356","v":232024},{"$f":"-(SUMIFS('Accounting Data'!C$2:C$100000,'Accounting Data'!E$2:E$100000,\"525\",'Accounting Data'!J$2:J$100000,\"1???\")+SUMIFS('Accounting Data'!C$2:C$100000,'Accounting Data'!E$2:E$100000,\"525\",'Accounting Data'!J$2:J$100000,\"2???\")+SUMIFS('Accounting Data'!C$2:C$100000,'Accounting Data'!E$2:E$100000,\"525\",'Accounting Data'!J$2:J$100000,\"3???\")+SUMIFS('Accounting Data'!C$2:C$100000,'Accounting Data'!E$2:E$100000,\"525\",'Accounting Data'!J$2:J$100000,\"4???\"))","v":394633},0,{"$f":"[1]!F525BudgFY","v":525839},{"$f":"(SUMIFS('Accounting Data'!C$2:C$100000,'Accounting Data'!E$2:E$100000,\"525\",'Accounting Data'!J$2:J$100000,\"6???\"))-(SUMIFS('Accounting Data'!C$2:C$100000,'Accounting Data'!E$2:E$100000,\"525\",'Accounting Data'!J$2:J$100000,\"69??\"))","v":383617},243040,"8.","Total Expenditures from accounting data",null,null,{"$f":"F020ActExp","v":178725},"6.",null,"8.",{"$f":"-(SUMIFS('Accounting Data'!C$2:C$100000,'Accounting Data'!E$2:E$100000,\"525\",'Accounting Data'!J$2:J$100000,\"5???\"))","v":0},{"$f":"(SUMIFS('Accounting Data'!C$2:C$100000,'Accounting Data'!E$2:E$100000,\"525\",'Accounting Data'!J$2:J$100000,\"69??\"))","v":0},"8."]
["526 Extracurricular Activities Fees Tax Credit",null,"9.",{"$f":"'Accounting Data'!R357","v":231891},{"$f":"-(SUMIFS('Accounting Data'!C$2:C$100000,'Accounting Data'!E$2:E$100000,\"526\",'Accounting Data'!J$2:J$100000,\"1???\")+SUMIFS('Accounting Data'!C$2:C$100000,'Accounting Data'!E$2:E$100000,\"526\",'Accounting Data'!J$2:J$100000,\"2???\")+SUMIFS('Accounting Data'!C$2:C$100000,'Accounting Data'!E$2:E$100000,\"526\",'Accounting Data'!J$2:J$100000,\"3???\")+SUMIFS('Accounting Data'!C$2:C$100000,'Accounting Data'!E$2:E$100000,\"526\",'Accounting Data'!J$2:J$100000,\"4???\"))","v":77222},0,{"$f":"[1]!F526BudgFY","v":301556},{"$f":"(SUMIFS('Accounting Data'!C$2:C$100000,'Accounting Data'!E$2:E$100000,\"526\",'Accounting Data'!J$2:J$100000,\"6???\"))-(SUMIFS('Accounting Data'!C$2:C$100000,'Accounting Data'!E$2:E$100000,\"526\",'Accounting Data'!J$2:J$100000,\"69??\"))","v":95013},214100,"9.",null,null,null,null,null,null,"9.",{"$f":"-(SUMIFS('Accounting Data'!C$2:C$100000,'Accounting Data'!E$2:E$100000,\"526\",'Accounting Data'!J$2:J$100000,\"5???\"))","v":0},{"$f":"(SUMIFS('Accounting Data'!C$2:C$100000,'Accounting Data'!E$2:E$100000,\"526\",'Accounting Data'!J$2:J$100000,\"69??\"))","v":0},"9."]
["530 Gifts and Donations",null,"10.",{"$f":"'Accounting Data'!R358","v":134210},{"$f":"-(SUMIFS('Accounting Data'!C$2:C$100000,'Accounting Data'!E$2:E$100000,\"530\",'Accounting Data'!J$2:J$100000,\"1???\")+SUMIFS('Accounting Data'!C$2:C$100000,'Accounting Data'!E$2:E$100000,\"530\",'Accounting Data'!J$2:J$100000,\"2???\")+SUMIFS('Accounting Data'!C$2:C$100000,'Accounting Data'!E$2:E$100000,\"530\",'Accounting Data'!J$2:J$100000,\"3???\")+SUMIFS('Accounting Data'!C$2:C$100000,'Accounting Data'!E$2:E$100000,\"530\",'Accounting Data'!J$2:J$100000,\"4???\"))","v":209806},0,{"$f":"[1]!F530BudgFY","v":170381},{"$f":"(SUMIFS('Accounting Data'!C$2:C$100000,'Accounting Data'!E$2:E$100000,\"530\",'Accounting Data'!J$2:J$100000,\"6???\"))-(SUMIFS('Accounting Data'!C$2:C$100000,'Accounting Data'!E$2:E$100000,\"530\",'Accounting Data'!J$2:J$100000,\"69??\"))","v":49706},294310,"10.","Check this box if your district did not have expenditures  in the Instructional Improvement Fund",null,null,null,null,null,"10.",{"$f":"-(SUMIFS('Accounting Data'!C$2:C$100000,'Accounting Data'!E$2:E$100000,\"530\",'Accounting Data'!J$2:J$100000,\"5???\"))","v":0},{"$f":"(SUMIFS('Accounting Data'!C$2:C$100000,'Accounting Data'!E$2:E$100000,\"530\",'Accounting Data'!J$2:J$100000,\"69??\"))","v":0},"10."]
["535 Career & Technical Education Projects",null,"11.",{"$f":"'Accounting Data'!R359","v":394341},{"$f":"-(SUMIFS('Accounting Data'!C$2:C$100000,'Accounting Data'!E$2:E$100000,\"539\",'Accounting Data'!J$2:J$100000,\"1???\")+SUMIFS('Accounting Data'!C$2:C$100000,'Accounting Data'!E$2:E$100000,\"539\",'Accounting Data'!J$2:J$100000,\"2???\")+SUMIFS('Accounting Data'!C$2:C$100000,'Accounting Data'!E$2:E$100000,\"539\",'Accounting Data'!J$2:J$100000,\"3???\")+SUMIFS('Accounting Data'!C$2:C$100000,'Accounting Data'!E$2:E$100000,\"539\",'Accounting Data'!J$2:J$100000,\"4???\"))","v":0},0,{"$f":"[1]!F535BudgFY","v":0},{"$f":"(SUMIFS('Accounting Data'!C$2:C$100000,'Accounting Data'!E$2:E$100000,\"535\",'Accounting Data'!J$2:J$100000,\"6???\"))-(SUMIFS('Accounting Data'!C$2:C$100000,'Accounting Data'!E$2:E$100000,\"535\",'Accounting Data'!J$2:J$100000,\"69??\"))","v":0},394341,"11.",null,null,null,null,null,null,"11.",{"$f":"-(SUMIFS('Accounting Data'!C$2:C$100000,'Accounting Data'!E$2:E$100000,\"535\",'Accounting Data'!J$2:J$100000,\"5???\"))","v":0},{"$f":"(SUMIFS('Accounting Data'!C$2:C$100000,'Accounting Data'!E$2:E$100000,\"535\",'Accounting Data'!J$2:J$100000,\"69??\"))","v":0},"11."]
["540 Fingerprint",null,"12.",{"$f":"'Accounting Data'!R360","v":-680},{"$f":"-(SUMIFS('Accounting Data'!C$2:C$100000,'Accounting Data'!E$2:E$100000,\"540\",'Accounting Data'!J$2:J$100000,\"1???\")+SUMIFS('Accounting Data'!C$2:C$100000,'Accounting Data'!E$2:E$100000,\"540\",'Accounting Data'!J$2:J$100000,\"2???\")+SUMIFS('Accounting Data'!C$2:C$100000,'Accounting Data'!E$2:E$100000,\"540\",'Accounting Data'!J$2:J$100000,\"3???\")+SUMIFS('Accounting Data'!C$2:C$100000,'Accounting Data'!E$2:E$100000,\"540\",'Accounting Data'!J$2:J$100000,\"4???\"))","v":0},0,{"$f":"[1]!F540BudgFY","v":0},{"$f":"(SUMIFS('Accounting Data'!C$2:C$100000,'Accounting Data'!E$2:E$100000,\"540\",'Accounting Data'!J$2:J$100000,\"6???\"))-(SUMIFS('Accounting Data'!C$2:C$100000,'Accounting Data'!E$2:E$100000,\"540\",'Accounting Data'!J$2:J$100000,\"69??\"))","v":260},-940,"12.",null,null,null,null,null,null,"12.",{"$f":"-(SUMIFS('Accounting Data'!C$2:C$100000,'Accounting Data'!E$2:E$100000,\"540\",'Accounting Data'!J$2:J$100000,\"5???\"))","v":0},{"$f":"(SUMIFS('Accounting Data'!C$2:C$100000,'Accounting Data'!E$2:E$100000,\"540\",'Accounting Data'!J$2:J$100000,\"69??\"))","v":0},"12."]
["545 School Opening",null,"13.",{"$f":"'Accounting Data'!R361","v":0},{"$f":"-(SUMIFS('Accounting Data'!C$2:C$100000,'Accounting Data'!E$2:E$100000,\"545\",'Accounting Data'!J$2:J$100000,\"1???\")+SUMIFS('Accounting Data'!C$2:C$100000,'Accounting Data'!E$2:E$100000,\"545\",'Accounting Data'!J$2:J$100000,\"2???\")+SUMIFS('Accounting Data'!C$2:C$100000,'Accounting Data'!E$2:E$100000,\"545\",'Accounting Data'!J$2:J$100000,\"3???\")+SUMIFS('Accounting Data'!C$2:C$100000,'Accounting Data'!E$2:E$100000,\"545\",'Accounting Data'!J$2:J$100000,\"4???\"))","v":0},0,{"$f":"[1]!F545BudgFY","v":0},{"$f":"(SUMIFS('Accounting Data'!C$2:C$100000,'Accounting Data'!E$2:E$100000,\"545\",'Accounting Data'!J$2:J$100000,\"6???\"))-(SUMIFS('Accounting Data'!C$2:C$100000,'Accounting Data'!E$2:E$100000,\"545\",'Accounting Data'!J$2:J$100000,\"69??\"))","v":0},0,"13.",null,null,null,null,null,null,"13.",{"$f":"-(SUMIFS('Accounting Data'!C$2:C$100000,'Accounting Data'!E$2:E$100000,\"545\",'Accounting Data'!J$2:J$100000,\"5???\"))","v":0},{"$f":"(SUMIFS('Accounting Data'!C$2:C$100000,'Accounting Data'!E$2:E$100000,\"545\",'Accounting Data'!J$2:J$100000,\"69??\"))","v":0},"13."]
["550 Insurance Proceeds",null,"14.",{"$f":"'Accounting Data'!R362","v":56092},{"$f":"-(SUMIFS('Accounting Data'!C$2:C$100000,'Accounting Data'!E$2:E$100000,\"550\",'Accounting Data'!J$2:J$100000,\"1???\")+SUMIFS('Accounting Data'!C$2:C$100000,'Accounting Data'!E$2:E$100000,\"550\",'Accounting Data'!J$2:J$100000,\"2???\")+SUMIFS('Accounting Data'!C$2:C$100000,'Accounting Data'!E$2:E$100000,\"550\",'Accounting Data'!J$2:J$100000,\"3???\")+SUMIFS('Accounting Data'!C$2:C$100000,'Accounting Data'!E$2:E$100000,\"550\",'Accounting Data'!J$2:J$100000,\"4???\"))","v":97854},13472,{"$f":"[1]!F550BudgFY","v":102831},{"$f":"(SUMIFS('Accounting Data'!C$2:C$100000,'Accounting Data'!E$2:E$100000,\"550\",'Accounting Data'!J$2:J$100000,\"6???\"))-(SUMIFS('Accounting Data'!C$2:C$100000,'Accounting Data'!E$2:E$100000,\"550\",'Accounting Data'!J$2:J$100000,\"69??\"))","v":6115},161303,"14.",null,null,null,null,null,null,"14.",{"$f":"-(SUMIFS('Accounting Data'!C$2:C$100000,'Accounting Data'!E$2:E$100000,\"550\",'Accounting Data'!J$2:J$100000,\"5???\"))","v":13472},{"$f":"(SUMIFS('Accounting Data'!C$2:C$100000,'Accounting Data'!E$2:E$100000,\"550\",'Accounting Data'!J$2:J$100000,\"69??\"))","v":0},"14."]
["555 Textbooks",null,"15.",{"$f":"'Accounting Data'!R363","v":1366},{"$f":"-(SUMIFS('Accounting Data'!C$2:C$100000,'Accounting Data'!E$2:E$100000,\"555\",'Accounting Data'!J$2:J$100000,\"1???\")+SUMIFS('Accounting Data'!C$2:C$100000,'Accounting Data'!E$2:E$100000,\"555\",'Accounting Data'!J$2:J$100000,\"2???\")+SUMIFS('Accounting Data'!C$2:C$100000,'Accounting Data'!E$2:E$100000,\"555\",'Accounting Data'!J$2:J$100000,\"3???\")+SUMIFS('Accounting Data'!C$2:C$100000,'Accounting Data'!E$2:E$100000,\"555\",'Accounting Data'!J$2:J$100000,\"4???\"))","v":412},0,{"$f":"[1]!F555BudgFY","v":1565},{"$f":"(SUMIFS('Accounting Data'!C$2:C$100000,'Accounting Data'!E$2:E$100000,\"555\",'Accounting Data'!J$2:J$100000,\"6???\"))-(SUMIFS('Accounting Data'!C$2:C$100000,'Accounting Data'!E$2:E$100000,\"555\",'Accounting Data'!J$2:J$100000,\"69??\"))","v":0},1778,"15.",null,null,null,null,null,null,"15.",{"$f":"-(SUMIFS('Accounting Data'!C$2:C$100000,'Accounting Data'!E$2:E$100000,\"555\",'Accounting Data'!J$2:J$100000,\"5???\"))","v":0},{"$f":"(SUMIFS('Accounting Data'!C$2:C$100000,'Accounting Data'!E$2:E$100000,\"555\",'Accounting Data'!J$2:J$100000,\"69??\"))","v":0},"15."]
["565 Litigation Recovery",null,"16.",{"$f":"'Accounting Data'!R364","v":800},{"$f":"-(SUMIFS('Accounting Data'!C$2:C$100000,'Accounting Data'!E$2:E$100000,\"565\",'Accounting Data'!J$2:J$100000,\"1???\")+SUMIFS('Accounting Data'!C$2:C$100000,'Accounting Data'!E$2:E$100000,\"565\",'Accounting Data'!J$2:J$100000,\"2???\")+SUMIFS('Accounting Data'!C$2:C$100000,'Accounting Data'!E$2:E$100000,\"565\",'Accounting Data'!J$2:J$100000,\"3???\")+SUMIFS('Accounting Data'!C$2:C$100000,'Accounting Data'!E$2:E$100000,\"565\",'Accounting Data'!J$2:J$100000,\"4???\"))","v":29},0,{"$f":"[1]!F565BudgFY","v":817},{"$f":"(SUMIFS('Accounting Data'!C$2:C$100000,'Accounting Data'!E$2:E$100000,\"565\",'Accounting Data'!J$2:J$100000,\"6???\"))-(SUMIFS('Accounting Data'!C$2:C$100000,'Accounting Data'!E$2:E$100000,\"565\",'Accounting Data'!J$2:J$100000,\"69??\"))","v":0},829,"16.",null,null,null,null,null,null,"16.",{"$f":"-(SUMIFS('Accounting Data'!C$2:C$100000,'Accounting Data'!E$2:E$100000,\"565\",'Accounting Data'!J$2:J$100000,\"5???\"))","v":0},{"$f":"(SUMIFS('Accounting Data'!C$2:C$100000,'Accounting Data'!E$2:E$100000,\"565\",'Accounting Data'!J$2:J$100000,\"69??\"))","v":0},"16."]
["570 Indirect Costs",null,"17.",{"$f":"'Accounting Data'!R365","v":610295},{"$f":"-(SUMIFS('Accounting Data'!C$2:C$100000,'Accounting Data'!E$2:E$100000,\"570\",'Accounting Data'!J$2:J$100000,\"1???\")+SUMIFS('Accounting Data'!C$2:C$100000,'Accounting Data'!E$2:E$100000,\"570\",'Accounting Data'!J$2:J$100000,\"2???\")+SUMIFS('Accounting Data'!C$2:C$100000,'Accounting Data'!E$2:E$100000,\"570\",'Accounting Data'!J$2:J$100000,\"3???\")+SUMIFS('Accounting Data'!C$2:C$100000,'Accounting Data'!E$2:E$100000,\"570\",'Accounting Data'!J$2:J$100000,\"4???\"))","v":16646},424634,{"$f":"[1]!F570BudgFY","v":621126},{"$f":"(SUMIFS('Accounting Data'!C$2:C$100000,'Accounting Data'!E$2:E$100000,\"570\",'Accounting Data'!J$2:J$100000,\"6???\"))-(SUMIFS('Accounting Data'!C$2:C$100000,'Accounting Data'!E$2:E$100000,\"570\",'Accounting Data'!J$2:J$100000,\"69??\"))","v":278121},773454,"17.",null,null,null,null,null,null,"17.",{"$f":"-(SUMIFS('Accounting Data'!C$2:C$100000,'Accounting Data'!E$2:E$100000,\"570\",'Accounting Data'!J$2:J$100000,\"5???\"))","v":424634},{"$f":"(SUMIFS('Accounting Data'!C$2:C$100000,'Accounting Data'!E$2:E$100000,\"570\",'Accounting Data'!J$2:J$100000,\"69??\"))","v":0},"17."]
["575 Unemployment Insurance",null,"18.",{"$f":"'Accounting Data'!R366","v":223323},{"$f":"-(SUMIFS('Accounting Data'!C$2:C$100000,'Accounting Data'!E$2:E$100000,\"575\",'Accounting Data'!J$2:J$100000,\"1???\")+SUMIFS('Accounting Data'!C$2:C$100000,'Accounting Data'!E$2:E$100000,\"575\",'Accounting Data'!J$2:J$100000,\"2???\")+SUMIFS('Accounting Data'!C$2:C$100000,'Accounting Data'!E$2:E$100000,\"575\",'Accounting Data'!J$2:J$100000,\"3???\")+SUMIFS('Accounting Data'!C$2:C$100000,'Accounting Data'!E$2:E$100000,\"575\",'Accounting Data'!J$2:J$100000,\"4???\"))","v":7974},0,{"$f":"[1]!F575BudgFY","v":228240},{"$f":"(SUMIFS('Accounting Data'!C$2:C$100000,'Accounting Data'!E$2:E$100000,\"575\",'Accounting Data'!J$2:J$100000,\"6???\"))-(SUMIFS('Accounting Data'!C$2:C$100000,'Accounting Data'!E$2:E$100000,\"575\",'Accounting Data'!J$2:J$100000,\"69??\"))","v":487},230810,"18.",null,null,null,null,null,null,"18.",{"$f":"-(SUMIFS('Accounting Data'!C$2:C$100000,'Accounting Data'!E$2:E$100000,\"575\",'Accounting Data'!J$2:J$100000,\"5???\"))","v":0},{"$f":"(SUMIFS('Accounting Data'!C$2:C$100000,'Accounting Data'!E$2:E$100000,\"575\",'Accounting Data'!J$2:J$100000,\"69??\"))","v":0},"18."]
["580 Teacherage",null,"19.",{"$f":"'Accounting Data'!R367","v":0},{"$f":"-(SUMIFS('Accounting Data'!C$2:C$100000,'Accounting Data'!E$2:E$100000,\"580\",'Accounting Data'!J$2:J$100000,\"1???\")+SUMIFS('Accounting Data'!C$2:C$100000,'Accounting Data'!E$2:E$100000,\"580\",'Accounting Data'!J$2:J$100000,\"2???\")+SUMIFS('Accounting Data'!C$2:C$100000,'Accounting Data'!E$2:E$100000,\"580\",'Accounting Data'!J$2:J$100000,\"3???\")+SUMIFS('Accounting Data'!C$2:C$100000,'Accounting Data'!E$2:E$100000,\"580\",'Accounting Data'!J$2:J$100000,\"4???\"))","v":0},0,{"$f":"[1]!F580BudgFY","v":0},{"$f":"(SUMIFS('Accounting Data'!C$2:C$100000,'Accounting Data'!E$2:E$100000,\"580\",'Accounting Data'!J$2:J$100000,\"6???\"))-(SUMIFS('Accounting Data'!C$2:C$100000,'Accounting Data'!E$2:E$100000,\"580\",'Accounting Data'!J$2:J$100000,\"69??\"))","v":0},0,"19.",null,null,null,null,null,null,"19.",{"$f":"-(SUMIFS('Accounting Data'!C$2:C$100000,'Accounting Data'!E$2:E$100000,\"580\",'Accounting Data'!J$2:J$100000,\"5???\"))","v":0},{"$f":"(SUMIFS('Accounting Data'!C$2:C$100000,'Accounting Data'!E$2:E$100000,\"580\",'Accounting Data'!J$2:J$100000,\"69??\"))","v":0},"19."]
["585 Insurance Refund",null,"20.",{"$f":"'Accounting Data'!R368","v":0},{"$f":"-(SUMIFS('Accounting Data'!C$2:C$100000,'Accounting Data'!E$2:E$100000,\"585\",'Accounting Data'!J$2:J$100000,\"1???\")+SUMIFS('Accounting Data'!C$2:C$100000,'Accounting Data'!E$2:E$100000,\"585\",'Accounting Data'!J$2:J$100000,\"2???\")+SUMIFS('Accounting Data'!C$2:C$100000,'Accounting Data'!E$2:E$100000,\"585\",'Accounting Data'!J$2:J$100000,\"3???\")+SUMIFS('Accounting Data'!C$2:C$100000,'Accounting Data'!E$2:E$100000,\"585\",'Accounting Data'!J$2:J$100000,\"4???\"))","v":0},0,{"$f":"[1]!F585BudgFY","v":0},{"$f":"(SUMIFS('Accounting Data'!C$2:C$100000,'Accounting Data'!E$2:E$100000,\"585\",'Accounting Data'!J$2:J$100000,\"6???\"))-(SUMIFS('Accounting Data'!C$2:C$100000,'Accounting Data'!E$2:E$100000,\"585\",'Accounting Data'!J$2:J$100000,\"69??\"))","v":0},0,"20.",{"$f":"IF(N39<>N40,\"Total detailed Arizona Industry Credentials Incentive Fund expenditures reported on line 6 do not agree with your accounting records. Please verify entered amounts.\",\"\")","v":""},null,null,null,null,null,"20.",{"$f":"-(SUMIFS('Accounting Data'!C$2:C$100000,'Accounting Data'!E$2:E$100000,\"585\",'Accounting Data'!J$2:J$100000,\"5???\"))","v":0},{"$f":"(SUMIFS('Accounting Data'!C$2:C$100000,'Accounting Data'!E$2:E$100000,\"585\",'Accounting Data'!J$2:J$100000,\"69??\"))","v":0},"20."]
["590 Grants and Gifts to Teachers",null,"21.",{"$f":"'Accounting Data'!R369","v":0},{"$f":"-(SUMIFS('Accounting Data'!C$2:C$100000,'Accounting Data'!E$2:E$100000,\"590\",'Accounting Data'!J$2:J$100000,\"1???\")+SUMIFS('Accounting Data'!C$2:C$100000,'Accounting Data'!E$2:E$100000,\"590\",'Accounting Data'!J$2:J$100000,\"2???\")+SUMIFS('Accounting Data'!C$2:C$100000,'Accounting Data'!E$2:E$100000,\"590\",'Accounting Data'!J$2:J$100000,\"3???\")+SUMIFS('Accounting Data'!C$2:C$100000,'Accounting Data'!E$2:E$100000,\"590\",'Accounting Data'!J$2:J$100000,\"4???\"))","v":0},0,{"$f":"[1]!F590BudgFY","v":0},{"$f":"(SUMIFS('Accounting Data'!C$2:C$100000,'Accounting Data'!E$2:E$100000,\"590\",'Accounting Data'!J$2:J$100000,\"6???\"))-(SUMIFS('Accounting Data'!C$2:C$100000,'Accounting Data'!E$2:E$100000,\"590\",'Accounting Data'!J$2:J$100000,\"69??\"))","v":0},0,"21.",null,null,null,null,null,null,"21.",{"$f":"-(SUMIFS('Accounting Data'!C$2:C$100000,'Accounting Data'!E$2:E$100000,\"590\",'Accounting Data'!J$2:J$100000,\"5???\"))","v":0},{"$f":"(SUMIFS('Accounting Data'!C$2:C$100000,'Accounting Data'!E$2:E$100000,\"590\",'Accounting Data'!J$2:J$100000,\"69??\"))","v":0},"21."]
["595 Advertisement",null,"22.",{"$f":"'Accounting Data'!R370","v":0},{"$f":"-(SUMIFS('Accounting Data'!C$2:C$100000,'Accounting Data'!E$2:E$100000,\"595\",'Accounting Data'!J$2:J$100000,\"1???\")+SUMIFS('Accounting Data'!C$2:C$100000,'Accounting Data'!E$2:E$100000,\"595\",'Accounting Data'!J$2:J$100000,\"2???\")+SUMIFS('Accounting Data'!C$2:C$100000,'Accounting Data'!E$2:E$100000,\"595\",'Accounting Data'!J$2:J$100000,\"3???\")+SUMIFS('Accounting Data'!C$2:C$100000,'Accounting Data'!E$2:E$100000,\"595\",'Accounting Data'!J$2:J$100000,\"4???\"))","v":0},0,{"$f":"[1]!F595BudgFY","v":0},{"$f":"(SUMIFS('Accounting Data'!C$2:C$100000,'Accounting Data'!E$2:E$100000,\"595\",'Accounting Data'!J$2:J$100000,\"6???\"))-(SUMIFS('Accounting Data'!C$2:C$100000,'Accounting Data'!E$2:E$100000,\"595\",'Accounting Data'!J$2:J$100000,\"69??\"))","v":0},0,"22.",null,null,null,null,null,null,"22.",{"$f":"-(SUMIFS('Accounting Data'!C$2:C$100000,'Accounting Data'!E$2:E$100000,\"595\",'Accounting Data'!J$2:J$100000,\"5???\"))","v":0},{"$f":"(SUMIFS('Accounting Data'!C$2:C$100000,'Accounting Data'!E$2:E$100000,\"595\",'Accounting Data'!J$2:J$100000,\"69??\"))","v":0},"22."]
["596 Career Technical Education",null,"23.",{"$f":"'Accounting Data'!R371","v":0},{"$f":"-(SUMIFS('Accounting Data'!C$2:C$100000,'Accounting Data'!E$2:E$100000,\"596\",'Accounting Data'!J$2:J$100000,\"1???\")+SUMIFS('Accounting Data'!C$2:C$100000,'Accounting Data'!E$2:E$100000,\"596\",'Accounting Data'!J$2:J$100000,\"2???\")+SUMIFS('Accounting Data'!C$2:C$100000,'Accounting Data'!E$2:E$100000,\"596\",'Accounting Data'!J$2:J$100000,\"3???\")+SUMIFS('Accounting Data'!C$2:C$100000,'Accounting Data'!E$2:E$100000,\"596\",'Accounting Data'!J$2:J$100000,\"4???\"))","v":0},0,{"$f":"[1]!F596BudgFY","v":0},{"$f":"(SUMIFS('Accounting Data'!C$2:C$100000,'Accounting Data'!E$2:E$100000,\"596\",'Accounting Data'!J$2:J$100000,\"6???\"))-(SUMIFS('Accounting Data'!C$2:C$100000,'Accounting Data'!E$2:E$100000,\"596\",'Accounting Data'!J$2:J$100000,\"69??\"))","v":0},0,"23.",null,null,null,null,null,null,"23.",{"$f":"-(SUMIFS('Accounting Data'!C$2:C$100000,'Accounting Data'!E$2:E$100000,\"596\",'Accounting Data'!J$2:J$100000,\"5???\"))","v":0},{"$f":"(SUMIFS('Accounting Data'!C$2:C$100000,'Accounting Data'!E$2:E$100000,\"596\",'Accounting Data'!J$2:J$100000,\"69??\"))","v":0},"23."]
["597 Arizona Industry Credentials Incentive",null,"24.",{"$f":"'Accounting Data'!R372","v":0},{"$f":"-(SUMIFS('Accounting Data'!C$2:C$100000,'Accounting Data'!E$2:E$100000,\"597\",'Accounting Data'!J$2:J$100000,\"1???\")+SUMIFS('Accounting Data'!C$2:C$100000,'Accounting Data'!E$2:E$100000,\"597\",'Accounting Data'!J$2:J$100000,\"2???\")+SUMIFS('Accounting Data'!C$2:C$100000,'Accounting Data'!E$2:E$100000,\"597\",'Accounting Data'!J$2:J$100000,\"3???\")+SUMIFS('Accounting Data'!C$2:C$100000,'Accounting Data'!E$2:E$100000,\"597\",'Accounting Data'!J$2:J$100000,\"4???\"))","v":0},0,{"$f":"[1]!F597BudgFY","v":0},{"$f":"ROUND((SUMIFS('Accounting Data'!C$2:C$100000,'Accounting Data'!E$2:E$100000,\"597\",'Accounting Data'!J$2:J$100000,\"6???\"))-(SUMIFS('Accounting Data'!C$2:C$100000,'Accounting Data'!E$2:E$100000,\"597\",'Accounting Data'!J$2:J$100000,\"69??\")),0)","v":0},{"$f":"D30+E30+F30-H30","v":0},"24.","Arizona Industry Credentials Incentive Fund 597",null,"BUDGET","ACTUAL",null,null,"24.",{"$f":"-(SUMIFS('Accounting Data'!C$2:C$100000,'Accounting Data'!E$2:E$100000,\"597\",'Accounting Data'!J$2:J$100000,\"5???\"))","v":0},{"$f":"(SUMIFS('Accounting Data'!C$2:C$100000,'Accounting Data'!E$2:E$100000,\"597\",'Accounting Data'!J$2:J$100000,\"69??\"))","v":0},"24."]
["639 Impact Aid Revenue Bond Building",null,"25.",{"$f":"'Accounting Data'!R376","v":0},{"$f":"-(SUMIFS('Accounting Data'!C$2:C$100000,'Accounting Data'!E$2:E$100000,\"639\",'Accounting Data'!J$2:J$100000,\"1???\")+SUMIFS('Accounting Data'!C$2:C$100000,'Accounting Data'!E$2:E$100000,\"639\",'Accounting Data'!J$2:J$100000,\"2???\")+SUMIFS('Accounting Data'!C$2:C$100000,'Accounting Data'!E$2:E$100000,\"639\",'Accounting Data'!J$2:J$100000,\"3???\")+SUMIFS('Accounting Data'!C$2:C$100000,'Accounting Data'!E$2:E$100000,\"639\",'Accounting Data'!J$2:J$100000,\"4???\"))","v":0},0,{"$f":"[1]!F639BudgFY","v":0},{"$f":"(SUMIFS('Accounting Data'!C$2:C$100000,'Accounting Data'!E$2:E$100000,\"639\",'Accounting Data'!J$2:J$100000,\"6???\"))-(SUMIFS('Accounting Data'!C$2:C$100000,'Accounting Data'!E$2:E$100000,\"639\",'Accounting Data'!J$2:J$100000,\"69??\"))","v":0},{"$f":"D31+E31+F31-H31","v":0},"25.","Expenditures",null,null,null,null,null,"25.",{"$f":"-(SUMIFS('Accounting Data'!C$2:C$100000,'Accounting Data'!E$2:E$100000,\"639\",'Accounting Data'!J$2:J$100000,\"5???\"))","v":0},{"$f":"(SUMIFS('Accounting Data'!C$2:C$100000,'Accounting Data'!E$2:E$100000,\"639\",'Accounting Data'!J$2:J$100000,\"69??\"))","v":0},"25."]
["650 Gifts and Donations—Capital",null,"26.",{"$f":"'Accounting Data'!R377","v":0},{"$f":"-(SUMIFS('Accounting Data'!C$2:C$100000,'Accounting Data'!E$2:E$100000,\"650\",'Accounting Data'!J$2:J$100000,\"1???\")+SUMIFS('Accounting Data'!C$2:C$100000,'Accounting Data'!E$2:E$100000,\"650\",'Accounting Data'!J$2:J$100000,\"2???\")+SUMIFS('Accounting Data'!C$2:C$100000,'Accounting Data'!E$2:E$100000,\"650\",'Accounting Data'!J$2:J$100000,\"3???\")+SUMIFS('Accounting Data'!C$2:C$100000,'Accounting Data'!E$2:E$100000,\"650\",'Accounting Data'!J$2:J$100000,\"4???\"))","v":0},0,{"$f":"[1]!F650BudgFY","v":10000},{"$f":"(SUMIFS('Accounting Data'!C$2:C$100000,'Accounting Data'!E$2:E$100000,\"650\",'Accounting Data'!J$2:J$100000,\"6???\"))-(SUMIFS('Accounting Data'!C$2:C$100000,'Accounting Data'!E$2:E$100000,\"650\",'Accounting Data'!J$2:J$100000,\"69??\"))","v":0},0,"26.","    Teacher instructional costs and professional development",null,null,0,"1.",null,"26.",{"$f":"-(SUMIFS('Accounting Data'!C$2:C$100000,'Accounting Data'!E$2:E$100000,\"650\",'Accounting Data'!J$2:J$100000,\"5???\"))","v":0},{"$f":"(SUMIFS('Accounting Data'!C$2:C$100000,'Accounting Data'!E$2:E$100000,\"650\",'Accounting Data'!J$2:J$100000,\"69??\"))","v":0},"26."]
["660 Condemnation",null,"27.",{"$f":"'Accounting Data'!R378","v":0},{"$f":"-(SUMIFS('Accounting Data'!C$2:C$100000,'Accounting Data'!E$2:E$100000,\"660\",'Accounting Data'!J$2:J$100000,\"1???\")+SUMIFS('Accounting Data'!C$2:C$100000,'Accounting Data'!E$2:E$100000,\"660\",'Accounting Data'!J$2:J$100000,\"2???\")+SUMIFS('Accounting Data'!C$2:C$100000,'Accounting Data'!E$2:E$100000,\"660\",'Accounting Data'!J$2:J$100000,\"3???\")+SUMIFS('Accounting Data'!C$2:C$100000,'Accounting Data'!E$2:E$100000,\"660\",'Accounting Data'!J$2:J$100000,\"4???\"))","v":0},0,{"$f":"[1]!F660BudgFY","v":0},{"$f":"(SUMIFS('Accounting Data'!C$2:C$100000,'Accounting Data'!E$2:E$100000,\"660\",'Accounting Data'!J$2:J$100000,\"6???\"))-(SUMIFS('Accounting Data'!C$2:C$100000,'Accounting Data'!E$2:E$100000,\"660\",'Accounting Data'!J$2:J$100000,\"69??\"))","v":0},0,"27.","    Student certification, credentialing, or                     \n         licensure costs",null,null,null,null,null,"27.",{"$f":"-(SUMIFS('Accounting Data'!C$2:C$100000,'Accounting Data'!E$2:E$100000,\"660\",'Accounting Data'!J$2:J$100000,\"5???\"))","v":0},{"$f":"(SUMIFS('Accounting Data'!C$2:C$100000,'Accounting Data'!E$2:E$100000,\"660\",'Accounting Data'!J$2:J$100000,\"69??\"))","v":0},"27."]
["665 Energy and Water Savings",null,"28.",{"$f":"'Accounting Data'!R379","v":0},{"$f":"-(SUMIFS('Accounting Data'!C$2:C$100000,'Accounting Data'!E$2:E$100000,\"665\",'Accounting Data'!J$2:J$100000,\"1???\")+SUMIFS('Accounting Data'!C$2:C$100000,'Accounting Data'!E$2:E$100000,\"665\",'Accounting Data'!J$2:J$100000,\"2???\")+SUMIFS('Accounting Data'!C$2:C$100000,'Accounting Data'!E$2:E$100000,\"665\",'Accounting Data'!J$2:J$100000,\"3???\")+SUMIFS('Accounting Data'!C$2:C$100000,'Accounting Data'!E$2:E$100000,\"665\",'Accounting Data'!J$2:J$100000,\"4???\"))","v":0},0,{"$f":"[1]!F665BudgFY","v":0},{"$f":"(SUMIFS('Accounting Data'!C$2:C$100000,'Accounting Data'!E$2:E$100000,\"665\",'Accounting Data'!J$2:J$100000,\"6???\"))-(SUMIFS('Accounting Data'!C$2:C$100000,'Accounting Data'!E$2:E$100000,\"665\",'Accounting Data'!J$2:J$100000,\"69??\"))","v":0},0,"28.",null,null,null,0,"2.",null,"28.",{"$f":"-(SUMIFS('Accounting Data'!C$2:C$100000,'Accounting Data'!E$2:E$100000,\"665\",'Accounting Data'!J$2:J$100000,\"5???\"))","v":0},{"$f":"(SUMIFS('Accounting Data'!C$2:C$100000,'Accounting Data'!E$2:E$100000,\"665\",'Accounting Data'!J$2:J$100000,\"69??\"))","v":0},"28."]
["686 Emergency Deficiencies Correction",null,"29.",{"$f":"'Accounting Data'!R380","v":0},{"$f":"-(SUMIFS('Accounting Data'!C$2:C$100000,'Accounting Data'!E$2:E$100000,\"686\",'Accounting Data'!J$2:J$100000,\"1???\")+SUMIFS('Accounting Data'!C$2:C$100000,'Accounting Data'!E$2:E$100000,\"686\",'Accounting Data'!J$2:J$100000,\"2???\")+SUMIFS('Accounting Data'!C$2:C$100000,'Accounting Data'!E$2:E$100000,\"686\",'Accounting Data'!J$2:J$100000,\"3???\")+SUMIFS('Accounting Data'!C$2:C$100000,'Accounting Data'!E$2:E$100000,\"686\",'Accounting Data'!J$2:J$100000,\"4???\"))","v":0},0,{"$f":"[1]!F686BudgFY","v":0},{"$f":"(SUMIFS('Accounting Data'!C$2:C$100000,'Accounting Data'!E$2:E$100000,\"686\",'Accounting Data'!J$2:J$100000,\"6???\"))-(SUMIFS('Accounting Data'!C$2:C$100000,'Accounting Data'!E$2:E$100000,\"686\",'Accounting Data'!J$2:J$100000,\"69??\"))","v":0},0,"29.","    Developmental costs",null,null,0,"3.",null,"29.",{"$f":"-(SUMIFS('Accounting Data'!C$2:C$100000,'Accounting Data'!E$2:E$100000,\"686\",'Accounting Data'!J$2:J$100000,\"5???\"))","v":0},{"$f":"(SUMIFS('Accounting Data'!C$2:C$100000,'Accounting Data'!E$2:E$100000,\"686\",'Accounting Data'!J$2:J$100000,\"69??\"))","v":0},"29."]
["691 Building Renewal Grant",null,"30.",{"$f":"'Accounting Data'!R381","v":-68881},{"$f":"-(SUMIFS('Accounting Data'!C$2:C$100000,'Accounting Data'!E$2:E$100000,\"691\",'Accounting Data'!J$2:J$100000,\"1???\")+SUMIFS('Accounting Data'!C$2:C$100000,'Accounting Data'!E$2:E$100000,\"691\",'Accounting Data'!J$2:J$100000,\"2???\")+SUMIFS('Accounting Data'!C$2:C$100000,'Accounting Data'!E$2:E$100000,\"691\",'Accounting Data'!J$2:J$100000,\"3???\")+SUMIFS('Accounting Data'!C$2:C$100000,'Accounting Data'!E$2:E$100000,\"691\",'Accounting Data'!J$2:J$100000,\"4???\"))","v":418172},0,{"$f":"[1]!F691BudgFY","v":1056460},{"$f":"(SUMIFS('Accounting Data'!C$2:C$100000,'Accounting Data'!E$2:E$100000,\"691\",'Accounting Data'!J$2:J$100000,\"6???\"))-(SUMIFS('Accounting Data'!C$2:C$100000,'Accounting Data'!E$2:E$100000,\"691\",'Accounting Data'!J$2:J$100000,\"69??\"))","v":741384},-392093,"30.","    Instructional hardware, software, or supplies",null,null,0,"4.",null,"30.",{"$f":"-(SUMIFS('Accounting Data'!C$2:C$100000,'Accounting Data'!E$2:E$100000,\"691\",'Accounting Data'!J$2:J$100000,\"5???\"))","v":0},{"$f":"(SUMIFS('Accounting Data'!C$2:C$100000,'Accounting Data'!E$2:E$100000,\"691\",'Accounting Data'!J$2:J$100000,\"69??\"))","v":0},"30."]
["695 New School Facilities",null,"31.",{"$f":"'Accounting Data'!R382","v":0},{"$f":"-(SUMIFS('Accounting Data'!C$2:C$100000,'Accounting Data'!E$2:E$100000,\"695\",'Accounting Data'!J$2:J$100000,\"1???\")+SUMIFS('Accounting Data'!C$2:C$100000,'Accounting Data'!E$2:E$100000,\"695\",'Accounting Data'!J$2:J$100000,\"2???\")+SUMIFS('Accounting Data'!C$2:C$100000,'Accounting Data'!E$2:E$100000,\"695\",'Accounting Data'!J$2:J$100000,\"3???\")+SUMIFS('Accounting Data'!C$2:C$100000,'Accounting Data'!E$2:E$100000,\"695\",'Accounting Data'!J$2:J$100000,\"4???\"))","v":332883},null,{"$f":"[1]!F695TotalBudgFY","v":23151005},{"$f":"(SUMIFS('Accounting Data'!C$2:C$100000,'Accounting Data'!E$2:E$100000,\"695\",'Accounting Data'!J$2:J$100000,\"6???\"))-(SUMIFS('Accounting Data'!C$2:C$100000,'Accounting Data'!E$2:E$100000,\"695\",'Accounting Data'!J$2:J$100000,\"69??\"))","v":1209830},-876947,"31.","    Career exploration",null,null,0,"5.",null,"31.",null,null,"31."]
[null,null,null,null,null,null,null,{"$f":"(SUMIFS('Accounting Data'!C$2:C$100000,'Accounting Data'!E$2:E$100000,\"050\",'Accounting Data'!J$2:J$100000,\"6???\"))-(SUMIFS('Accounting Data'!C$2:C$100000,'Accounting Data'!E$2:E$100000,\"050\",'Accounting Data'!J$2:J$100000,\"69??\"))","v":0},null,"23.",null,null,null,null,null,null,"23.",null,null,"23."]
["720 Impact Aid Revenue Bond Debt Service",null,"32.",{"$f":"'Accounting Data'!R385","v":0},{"$f":"-(SUMIFS('Accounting Data'!C$2:C$100000,'Accounting Data'!E$2:E$100000,\"720\",'Accounting Data'!J$2:J$100000,\"1???\")+SUMIFS('Accounting Data'!C$2:C$100000,'Accounting Data'!E$2:E$100000,\"720\",'Accounting Data'!J$2:J$100000,\"2???\")+SUMIFS('Accounting Data'!C$2:C$100000,'Accounting Data'!E$2:E$100000,\"720\",'Accounting Data'!J$2:J$100000,\"3???\")+SUMIFS('Accounting Data'!C$2:C$100000,'Accounting Data'!E$2:E$100000,\"720\",'Accounting Data'!J$2:J$100000,\"4???\"))","v":0},{"$f":"R39-S39","v":0},{"$f":"[1]!F720BudgFY","v":0},{"$f":"(SUMIFS('Accounting Data'!C$2:C$100000,'Accounting Data'!E$2:E$100000,\"720\",'Accounting Data'!J$2:J$100000,\"6???\"))-(SUMIFS('Accounting Data'!C$2:C$100000,'Accounting Data'!E$2:E$100000,\"720\",'Accounting Data'!J$2:J$100000,\"69??\"))","v":0},0,"32.","Total Expenditures (lines 1-5)",null,{"$f":"[1]!F597BudgFY","v":0},{"$f":"SUM(N32:N37)","v":0},"6.",null,"32.",{"$f":"-(SUMIFS('Accounting Data'!C$2:C$100000,'Accounting Data'!E$2:E$100000,\"720\",'Accounting Data'!J$2:J$100000,\"5???\"))","v":0},{"$f":"(SUMIFS('Accounting Data'!C$2:C$100000,'Accounting Data'!E$2:E$100000,\"720\",'Accounting Data'!J$2:J$100000,\"69??\"))","v":0},"32."]
["750 Permanent Funds",null,"33.",{"$f":"'Accounting Data'!R386","v":0},{"$f":"-(SUM(SUMIFS('Accounting Data'!C$2:C$100000,'Accounting Data'!E$2:E$100000,\"75?\",'Accounting Data'!J$2:J$100000,{\"1???\",\"2???\",\"3???\",\"4???\"})))","v":0},{"$f":"R40-S40","v":0},0,{"$f":"(SUMIFS('Accounting Data'!C$2:C$100000,'Accounting Data'!E$2:E$100000,\"75?\",'Accounting Data'!J$2:J$100000,\"6???\"))-(SUMIFS('Accounting Data'!C$2:C$100000,'Accounting Data'!E$2:E$100000,\"75?\",'Accounting Data'!J$2:J$100000,\"69??\"))","v":0},0,"33.","Total Expenditures from accounting data",null,null,{"$f":"F597ActExp","v":0},"7.",null,"33.",{"$f":"-(SUMIFS('Accounting Data'!C2:C100000,'Accounting Data'!E2:E100000,\"75?\",'Accounting Data'!J2:J100000,\"5???\"))","v":0},{"$f":"(SUMIFS('Accounting Data'!C$2:C$100000,'Accounting Data'!E$2:E$100000,\"75?\",'Accounting Data'!J$2:J$100000,\"69??\"))","v":0},"33.",null,null,null,null,{"$f":"IF(OR(SIBegFunBal=\"\",F955BegFunBal=\"\",OPEBBegFunBal=\"\",ISFOthBegFunBal=\"\",SIActRev=\"\",F955ActRev=\"\",OPEBActRev=\"\",ISFOthActRev=\"\",SIActExp=\"\",F955ActExp=\"\",OPEBActExp=\"\",ISFOthActExp=\"\"),\"yes\",\"\")","v":""}]
["800-849 Trust and Custodial Funds",null,"34.",{"$f":"'Accounting Data'!R387","v":0},{"$f":"-(SUM(SUMIFS('Accounting Data'!C$2:C$100000,'Accounting Data'!E$2:E$100000,{\"80?\",\"81?\",\"82?\",\"83?\",\"84?\"},'Accounting Data'!J$2:J$100000,\"1???\"),SUMIFS('Accounting Data'!C$2:C$100000,'Accounting Data'!E$2:E$100000,{\"80?\",\"81?\",\"82?\",\"83?\",\"84?\"},'Accounting Data'!J$2:J$100000,\"2???\"),SUMIFS('Accounting Data'!C$2:C$100000,'Accounting Data'!E$2:E$100000,{\"80?\",\"81?\",\"82?\",\"83?\",\"84?\"},'Accounting Data'!J$2:J$100000,\"3???\"),SUMIFS('Accounting Data'!C$2:C$100000,'Accounting Data'!E$2:E$100000,{\"80?\",\"81?\",\"82?\",\"83?\",\"84?\"},'Accounting Data'!J$2:J$100000,\"4???\")))","v":0},{"$f":"R41-S41","v":0},0,{"$f":"(SUM(SUMIFS('Accounting Data'!C$2:C$100000,'Accounting Data'!E$2:E$100000,{\"80?\",\"81?\",\"82?\",\"83?\",\"84?\"},'Accounting Data'!J$2:J$100000,\"6???\")))-(SUM(SUMIFS('Accounting Data'!C$2:C$100000,'Accounting Data'!E$2:E$100000,{\"80?\",\"81?\",\"82?\",\"83?\",\"84?\"},'Accounting Data'!J$2:J$100000,\"69??\")))","v":0},{"$f":"D41+E41+F41-H41","v":0},"34.",null,null,null,null,null,null,"34.",{"$f":"-(SUM(SUMIFS('Accounting Data'!C$2:C$100000,'Accounting Data'!E$2:E$100000,{\"80?\",\"81?\",\"82?\",\"83?\",\"84?\"},'Accounting Data'!J$2:J$100000,\"5???\")))","v":0},{"$f":"-(SUM(SUMIFS('Accounting Data'!C$2:C$100000,'Accounting Data'!E$2:E$100000,{\"80?\",\"81?\",\"82?\",\"83?\",\"84?\"},'Accounting Data'!J$2:J$100000,\"69??\")))","v":0},"34.",null,null,null,null,{"$f":"IF(OR(AND(OthBegFunBal<>0,A46=\"Other ________________\"),AND(OthActRev<>0,A46=\"Other ________________\"),AND(OthTransf<>0,A46=\"Other ________________\"),AND(OthBudgExp<>0,A46=\"Other ________________\"),AND(OthActExp<>0,A46=\"Other ________________\")),\"Yes\",\"\")","v":""}]
["850 Student Activities",null,"35.",{"$f":"'Accounting Data'!R437","v":48493},{"$f":"-(SUMIFS('Accounting Data'!C$2:C$100000,'Accounting Data'!E$2:E$100000,\"850\",'Accounting Data'!J$2:J$100000,\"1???\")+SUMIFS('Accounting Data'!C$2:C$100000,'Accounting Data'!E$2:E$100000,\"850\",'Accounting Data'!J$2:J$100000,\"2???\")+SUMIFS('Accounting Data'!C$2:C$100000,'Accounting Data'!E$2:E$100000,\"850\",'Accounting Data'!J$2:J$100000,\"3???\")+SUMIFS('Accounting Data'!C$2:C$100000,'Accounting Data'!E$2:E$100000,\"850\",'Accounting Data'!J$2:J$100000,\"4???\"))","v":26930},null,{"$f":"[1]!F850BudgFY","v":67680},{"$f":"(SUMIFS('Accounting Data'!C$2:C$100000,'Accounting Data'!E$2:E$100000,\"850\",'Accounting Data'!J$2:J$100000,\"6???\"))-(SUMIFS('Accounting Data'!C$2:C$100000,'Accounting Data'!E$2:E$100000,\"850\",'Accounting Data'!J$2:J$100000,\"69??\"))","v":36864},{"$f":"D42+E42-H42","v":38559},"35.",null,null,null,null,null,null,"35.",null,null,"35."]
["855 Employee Insurance Program Withholdings",null,"36.",{"$f":"'Accounting Data'!R438","v":0},{"$f":"-(SUMIFS('Accounting Data'!C2:C100000,'Accounting Data'!E2:E100000,\"855\",'Accounting Data'!J2:J100000,\"1???\")+SUMIFS('Accounting Data'!C2:C100000,'Accounting Data'!E2:E100000,\"855\",'Accounting Data'!J2:J100000,\"2???\")+SUMIFS('Accounting Data'!C2:C100000,'Accounting Data'!E2:E100000,\"855\",'Accounting Data'!J2:J100000,\"3???\")+SUMIFS('Accounting Data'!C2:C100000,'Accounting Data'!E2:E100000,\"855\",'Accounting Data'!J2:J100000,\"4???\"))","v":0},{"$f":"R43-S43","v":0},0,{"$f":"(SUMIFS('Accounting Data'!C2:C100000,'Accounting Data'!E2:E100000,\"855\",'Accounting Data'!J2:J100000,\"6???\"))-(SUMIFS('Accounting Data'!C2:C100000,'Accounting Data'!E2:E100000,\"855\",'Accounting Data'!J2:J100000,\"69??\"))","v":0},{"$f":"D43+E43+F43-H43","v":0},"36.",null,null,null,null,null,null,"36.",{"$f":"-(SUMIFS('Accounting Data'!C$2:C$100000,'Accounting Data'!E$2:E$100000,\"855\",'Accounting Data'!J$2:J$100000,\"5???\"))","v":0},{"$f":"-(SUMIFS('Accounting Data'!C$2:C$100000,'Accounting Data'!E$2:E$100000,\"855\",'Accounting Data'!J$2:J$100000,\"69??\"))","v":0},"36.",null,null,null,null,{"$f":"O16=\"X\"","v":false}]
["865 State Income Tax Withholdings",null,"37.",{"$f":"'Accounting Data'!R439","v":0},{"$f":"-(SUMIFS('Accounting Data'!C2:C100000,'Accounting Data'!E2:E100000,\"865\",'Accounting Data'!J2:J100000,\"1???\")+SUMIFS('Accounting Data'!C2:C100000,'Accounting Data'!E2:E100000,\"865\",'Accounting Data'!J2:J100000,\"2???\")+SUMIFS('Accounting Data'!C2:C100000,'Accounting Data'!E2:E100000,\"865\",'Accounting Data'!J2:J100000,\"3???\")+SUMIFS('Accounting Data'!C2:C100000,'Accounting Data'!E2:E100000,\"865\",'Accounting Data'!J2:J100000,\"4???\"))","v":0},{"$f":"R44-S44","v":0},0,{"$f":"(SUMIFS('Accounting Data'!C2:C100000,'Accounting Data'!E2:E100000,\"865\",'Accounting Data'!J2:J100000,\"6???\"))-(SUMIFS('Accounting Data'!C2:C100000,'Accounting Data'!E2:E100000,\"865\",'Accounting Data'!J2:J100000,\"69??\"))","v":0},{"$f":"D44+E44+F44-H44","v":0},"37.",null,null,null,null,null,null,"37.",{"$f":"-(SUMIFS('Accounting Data'!C$2:C$100000,'Accounting Data'!E$2:E$100000,\"865\",'Accounting Data'!J$2:J$100000,\"5???\"))","v":0},{"$f":"-(SUMIFS('Accounting Data'!C$2:C$100000,'Accounting Data'!E$2:E$100000,\"865\",'Accounting Data'!J$2:J$100000,\"69??\"))","v":0},"37."]
["900-949 Enterprise Funds",null,"38.",{"$f":"'Accounting Data'!R440","v":0},{"$f":"-(SUM(SUMIFS('Accounting Data'!C$2:C$100000,'Accounting Data'!E$2:E$100000,{\"90?\",\"91?\",\"92?\",\"93?\",\"94?\"},'Accounting Data'!J$2:J$100000,\"1???\"),SUMIFS('Accounting Data'!C$2:C$100000,'Accounting Data'!E$2:E$100000,{\"90?\",\"91?\",\"92?\",\"93?\",\"94?\"},'Accounting Data'!J$2:J$100000,\"2???\"),SUMIFS('Accounting Data'!C$2:C$100000,'Accounting Data'!E$2:E$100000,{\"90?\",\"91?\",\"92?\",\"93?\",\"94?\"},'Accounting Data'!J$2:J$100000,\"3???\"),SUMIFS('Accounting Data'!C$2:C$100000,'Accounting Data'!E$2:E$100000,{\"90?\",\"91?\",\"92?\",\"93?\",\"94?\"},'Accounting Data'!J$2:J$100000,\"4???\")))","v":0},{"$f":"R45-S45","v":0},0,{"$f":"(SUM(SUMIFS('Accounting Data'!C$2:C$100000,'Accounting Data'!E$2:E$100000,{\"90?\",\"91?\",\"92?\",\"93?\",\"94?\"},'Accounting Data'!J$2:J$100000,\"6???\")))-(SUM(SUMIFS('Accounting Data'!C$2:C$100000,'Accounting Data'!E$2:E$100000,{\"90?\",\"91?\",\"92?\",\"93?\",\"94?\"},'Accounting Data'!J$2:J$100000,\"69??\")))","v":0},{"$f":"D45+E45+F45-H45","v":0},"38.",null,null,null,null,null,null,"38.",{"$f":"-(SUM(SUMIFS('Accounting Data'!C$2:C$100000,'Accounting Data'!E$2:E$100000,{\"90?\",\"91?\",\"92?\",\"93?\",\"94?\"},'Accounting Data'!J$2:J$100000,\"5???\")))","v":0},{"$f":"-(SUM(SUMIFS('Accounting Data'!C$2:C$100000,'Accounting Data'!E$2:E$100000,{\"90?\",\"91?\",\"92?\",\"93?\",\"94?\"},'Accounting Data'!J$2:J$100000,\"69??\")))","v":0},"38."]
["Other __457______________",null,"39.",{"$f":"'Accounting Data'!R540","v":85735},{"$f":"-(SUMIFS('Accounting Data'!C$2:C$100000,'Accounting Data'!E$2:E$100000,\"Other\",'Accounting Data'!J$2:J$100000,\"1???\")+SUMIFS('Accounting Data'!C$2:C$100000,'Accounting Data'!E$2:E$100000,\"Other\",'Accounting Data'!J$2:J$100000,\"2???\")+SUMIFS('Accounting Data'!C$2:C$100000,'Accounting Data'!E$2:E$100000,\"Other\",'Accounting Data'!J$2:J$100000,\"3???\")+SUMIFS('Accounting Data'!C$2:C$100000,'Accounting Data'!E$2:E$100000,\"Other\",'Accounting Data'!J$2:J$100000,\"4???\"))","v":1145},{"$f":"R46-S46","v":0},0,{"$f":"(SUMIFS('Accounting Data'!C$2:C$100000,'Accounting Data'!E$2:E$100000,\"Other\",'Accounting Data'!J$2:J$100000,\"6???\"))-(SUMIFS('Accounting Data'!C$2:C$100000,'Accounting Data'!E$2:E$100000,\"Other\",'Accounting Data'!J$2:J$100000,\"69??\"))","v":24803},{"$f":"D46+E46+F46-H46","v":62077},"39.",null,null,null,null,null,null,"39.",{"$f":"-(SUMIFS('Accounting Data'!C$2:C$100000,'Accounting Data'!E$2:E$100000,\"Other\",'Accounting Data'!J$2:J$100000,\"5???\"))","v":0},{"$f":"(SUMIFS('Accounting Data'!C$2:C$100000,'Accounting Data'!E$2:E$100000,\"Other\",'Accounting Data'!J$2:J$100000,\"69??\"))","v":0},"39."]
["INTERNAL SERVICE FUNDS 950-989"]
["9__ Self Insurance",null,"1.",0,0,{"$f":"R48-S48","v":0},{"$f":"[1]!F9__SelfInsBudgFY","v":0},0,{"$f":"D48+E48+F48-H48","v":0},"1.",null,null,null,null,null,null,"1.",0,0,"1."]
["955 Intergovernmental Agreements",null,"2.",0,0,{"$f":"R49-S49","v":0},{"$f":"[1]!F955BudgFY","v":0},0,{"$f":"D49+E49+F49-H49","v":0},"2.",null,null,null,null,null,null,"2.",0,0,"2."]
["9__ OPEB",null,"3.",0,0,{"$f":"R50-S50","v":0},{"$f":"[1]!F9__OPEBBudgFY","v":0},0,{"$f":"D50+E50+F50-H50","v":0},"3.",null,null,null,null,null,null,"3.",0,0,"3."]
["9__ _________________",null,"4.",0,0,{"$f":"R51-S51","v":0},{"$f":"[1]!F9__OtherBudgFY","v":0},0,{"$f":"D51+E51+F51-H51","v":0},"4.",null,null,null,null,null,null,"4.",0,0,"4."]
[]
[]
["(1) Actual Revenues and Actual Expenditures should agree with Supplement, Fund 071—line 13 and Fund 072—line 26."]

{"sheet":"Page 7","index":7,"n_rows":78,"n_cols":27,"rows_kept":78,"cut":false,"hidden":false,"merged":[[4,17,5,17],[4,16,5,16],[4,15,5,15],[17,13,20,13],[49,8,50,12],[42,8,42,14],[43,14,48,15],[44,1,45,4],[0,8,0,9],[8,8,9,11],[0,2,0,5],[25,8,29,12],[37,1,37,4],[36,1,36,4]]}
[null,"DISTRICT NAME",{"$f":"CoverDistrictName","v":"Liberty Elementary School District No. 25"},null,null,null,null,"COUNTY",{"$f":"County","v":"Maricopa"},null,null,"CTDS NUMBER",{"$f":"Cover!Q1","v":"070425000"}]
[]
[]
[]
["A.","Bonds and Short-term Debt",null,null,null,null,null,"F.  ","Total salaries and benefits expenditures related to an agreement with Department",null,null,null,null,null,null,null,null,null,null,null,null,null,null,null,null,null,{"$f":"IF(OR(AA25=\"yes\",AA16=\"yes\",AA9=\"yes\",AA7=\"yes\",AA27=\"yes\"),\"yes\",\"\")","v":""}]
[null,"1.  Bonds Outstanding, July 1, 2023",null,null,48655000,"1.",null,null,"of Labor to settle a decision based on the Fair Labor Standards Act",null,null,null,0]
[null,"2.  Bonds issued during FY 2024",null,null,3250000,"2.",null,null,null,null,null,null,null,null,null,null,null,null,null,null,null,null,null,null,null,null,{"$f":"IF(OR(E6=\"\",E7=\"\",E8=\"\",E11=\"\",E12=\"\"),\"yes\",\"\")","v":""}]
[null,"3.  Bonds retired during FY 2024",null,null,-3350000,"3."]
[null,"4.  Bonds Outstanding, June 30, 2024",null,null,{"$f":"E6+E7+E8","v":48555000},"4.",null,null,"Rewards, Discounts, Incentives, and Other Financial Consideration Received from Credit Card Companies (A.R.S. §35-391)",null,null,null,null,null,null,null,null,null,null,null,null,null,null,null,null,null,{"$f":"IF(OR(M6=\"\",M6=\"$\",M10=\"\",M14=\"\",M14=\"$\",M15=\"\",M15=\"$\",M16=\"\",M16=\"$\",CurrentYearSalary=\"\",F41=\"\",F41=\"$\",F42=\"\",F42=\"$\",F43=\"\",F44=\"\",F45=\"\"),\"yes\",\"\")","v":""}]
[null,null,null,null,null,null,null,"G.  ",null,null,null,null,0]
[null,"5.  Short-term Debt Outstanding, July 1, 2023",null,null,0,"5."]
[null,"6.  Short-term Debt Outstanding, June 30, 2024",null,null,0,"6."]
[null,null,null,null,null,null,null,"H.  ","Cash and Investments held at June 30, 2024"]
["B.","District Assessed Valuation and Other District Information",null,null,null,null,null,null,"1. Sinking funds",null,null,null,0]
[null,"1.  FY 2024 Assessed Valuations and Tax Rates",null,null,null,null,null,null,"2. Bond funds",null,null,null,0]
[null,"a.   Primary",422757102,"Tax Rate  ",2.1585000000000001,null,null,null,"3. Other funds, except for any employee retirement funds",null,null,null,0,null,null,null,null,null,null,null,null,null,null,null,null,null,{"$f":"IF(OR(C16=\"\",C16=\"$\",C17=\"\",C17=\"$\",PrimaryTaxRate=\"\",SecondaryTaxRate=\"\",E18=\"\",E19=\"\",E20=\"\"),\"yes\",\"\")","v":""}]
[null,"b.   Secondary",422757102,"Tax Rate  ",1.9358]
[null,"2.  Number of Schools",null,null,7]
[null,"3.  Actual Days in Session",null,null,180]
[null,"4.  Area of School District (Square Miles) ",null,null,260,null,null,"I.","Average Teacher Salary (A.R.S. §15-903.E)"]
[null,"           (Report this WHETHER OR NOT district changed boundaries in FY 2024)",null,null,null,null,null,null,"1. Average salary of all teachers employed in FY 2024",null,null,null,{"$f":"+L35/M35","v":62845}]
[null,null,null,null,null,null,null,null,"2. Average salary of all teachers employed in FY 2023",null,null,null,{"$f":"[2]!CurrentYearSalary","v":49355},null,null,"Check this box if your district has no teachers (transporting districts and some CTEDs)."]
["C.","County Approved Liabilities incurred in excess of ",null,null,null,"Unrestricted",null,null,"3. Increase in average teacher salary from prior year",null,null,null,{"$f":"M21-M22","v":13490}]
[null,"district budget (A.R.S. §15-907)  ",null,null,"M & O","Capital Outlay",null,null,"4. Percentage increase",null,null,null,{"$f":"IF(PriorYearSalary<>0,M23/M22,0)","v":0.27300000000000002}]
[null,"1.  Destruction or damage",null,null,0,0,"1.",null,"Comments on Average Salary Calculation (Optional):",null,null,null,null,null,null,null,null,null,null,null,null,null,null,null,null,null,{"$f":"IF(OR(E25=\"\",E26=\"\",E27=\"\",F25=\"\",F26=\"\",F27=\"\"),\"yes\",\"\")","v":""}]
[null,"2.  Excessive/unexpected legal expenses",null,null,0,0,"2."]
[null,"3.  Mitigation or removal of health or safety hazard",null,null,0,0,"3.",null,null,null,null,null,null,null,null,null,null,null,null,null,null,null,null,null,null,null,{"$f":"IF(OR(L34=\"\",L35=\"\",L36=\"\",L37=\"\",L38=\"\",L39=\"\",L40=\"\",L41=\"\",M35=\"\",M36=\"\",M37=\"\",M45=\"\",M46=\"\"),\"yes\",\"\")","v":""}]
[]
["D.","Current Expenditures by Category  "]
[null,"1.  Classroom Instruction excl. Supplies (Function 1000, except line 2 amount)",null,null,null,24575016]
[null,"2.  Classroom Supplies (Function 1000, Object Code 6600)",null,null,null,2200934]
[null,"3.  Administration (Functions 2300, 2400, 2500, & 2900)",null,null,null,5475564]
[null,"4.  Support Services—Students (Function 2100)",null,null,null,4036012,null,"J.","Certified Staff Salaries and FTE (Funds 001-799 excluding 575) ",null,null,"Salaries","FTE",null,null,null,null,null,null,{"$f":"O22=\"X\"","v":false}]
[null,"5.  All Other Support Services & Operations (Functions 2200, 2600, 2700, ",null,null,null,null,null,null,"1. Substitute Teachers (Functions 1000, 2213 & 3300)",null,null,132271]
[null,"     3100, & 3400)",null,null,null,12508442,null,null,"2. Classroom Teacher Base Salaries (Functions 1000 & 3300)",null,null,15082885,240]
[null,"6.  Total Current Expenditures",null,null,null,{"$f":"IF(F30=\"$\",\"$\",SUM(F30:F35))","v":48795968},null,null,"              a. Classroom teachers in their first 3 years as defined by A.R.S. §15-941€",null,null,7038680,112]
[null,"7.  Total Current Expenditures from Federal Funds, excluding those funds \n     intended to replace local tax revenues (e.g., impact aid funds)",null,null,null,4575126,null,null,"              b. Classroom teachers in their 4th year or later as defined by A.R.S. §15-941(E)",null,null,8044205,128]
[null,"8.  Total Current Expenditures from State and Local Funds, including those \n     funds intended to replace local tax revenues (e.g., impact aid funds)",null,null,null,{"$f":"F36-F37","v":44220842},null,null,"3. Classroom Teacher Performance Pay (Functions 1000 & 3300)",null,null,882877]
[null,null,null,null,null,null,null,null,"4. Classroom Teacher Payments Not Related to Additional Duties (Function 1000 & 3300)",null,null,301027]
["E. ","Other long-term debt",null,null,null,null,null,null,"5. Classroom Teacher Payments Related to Additional Duties (All Functions)",null,null,1048432]
[null,"1. Other Principal (object 6832)",null,null,null,0,null,null,"6. Other Certified Staff (All Functions)",null,null,3083075]
[null,"2. Other Interest (object 6842)",null,null,null,0]
[null,"3. Instructional software subscriptions (more than 12 months) Principal (object 6833)",null,null,null,4651,null," ","7. In FY 2024, did the district pay any of its classroom teachers for prior classroom experience outside of the school district using either of the following"]
[null,"4. Instructional software subscriptions (more than 12 months) Interest (object 6843)",null,null,null,0,null,null,"     two methods:",null,null,null,null,null,{"$f":"IF(M48<>SUM(L34:L35,L38:L41),\"Total certified salaries do not agree with your accounting records. Please verify the amounts.\",\"\")","v":""}]
[null,"5. Did the district enter into any new financed purchase agreements or more than 12-month lease agreements or software subscriptions during the fiscal year? (Yes or No)",null,null,null,"No",null,null,"a. Increasing base salary by granting years of experience on its salary schedule? (Yes or No)",null,null,null,"No",null,null,null,null,null,null,null,null,null,null,null,null,null,"Yes"]
[null,null,null,null,null,null,null,null,"b. Making payments in addition to their base salary? (Yes or No)",null,null,null,"Yes",null,null,null,null,null,null,null,null,null,null,null,null,null,"No"]
[]
[null,null,null,null,null,null,null,null,"Total Certified Salary Payments from accounting data",null,null,null,{"$f":"ROUND(SUM(SUMIFS('Accounting Data'!C2:C100000,'Accounting Data'!E2:E100000,{\"0??\",\"1??\",\"2??\",\"3??\",\"4??\",\"5??\",\"6??\",\"7??\",\"COVID\"},'Accounting Data'!J2:J100000,\"610?\"),SUMIFS('Accounting Data'!C2:C100000,'Accounting Data'!E2:E100000,{\"0??\",\"1??\",\"2??\",\"3??\",\"4??\",\"5??\",\"6??\",\"7??\",\"COVID\"},'Accounting Data'!J2:J100000,\"611?\"),SUMIFS('Accounting Data'!C2:C100000,'Accounting Data'!E2:E100000,{\"0??\",\"1??\",\"2??\",\"3??\",\"4??\",\"5??\",\"6??\",\"7??\",\"COVID\"},'Accounting Data'!J2:J100000,\"612?\"),SUMIFS('Accounting Data'!C2:C100000,'Accounting Data'!E2:E100000,{\"0??\",\"1??\",\"2??\",\"3??\",\"4??\",\"5??\",\"6??\",\"7??\",\"COVID\"},'Accounting Data'!J2:J100000,\"613?\"),SUMIFS('Accounting Data'!C2:C100000,'Accounting Data'!E2:E100000,{\"0??\",\"1??\",\"2??\",\"3??\",\"4??\",\"5??\",\"6??\",\"7??\",\"COVID\"},'Accounting Data'!J2:J100000,\"614?\"))-SUM(SUMIFS('Accounting Data'!C2:C100000,'Accounting Data'!E2:E100000,\"575\",'Accounting Data'!J2:J100000,{\"610?\",\"611?\",\"612?\",\"613?\",\"614?\"})),0)","v":20530567}]
[]
[null,null,null,null,null,null,null,null,"(1) This form mirrors changes to the certified salary expenditure object code range (6100 to 6149) added to the FY 2024 USFR Chart of Accounts that will be required starting in FY 2025."]
[]
[]
[]
[]
[]
[]
[]
[]
[]
[]
[]
[]
[]
[]
[]
[]
[]
[]
[]
[]
[]
[]
[]
[]
[]
[]
[]
[null,null,null,null,null,null,null,null,"      "]

{"sheet":"Page 8","index":8,"n_rows":37,"n_cols":27,"rows_kept":37,"cut":false,"hidden":false,"merged":[[0,2,0,5],[0,7,0,12],[3,3,3,16],[25,0,26,2],[36,8,37,16]]}
[null,"DISTRICT NAME",{"$f":"CoverDistrictName","v":"Liberty Elementary School District No. 25"},null,null,null,"COUNTY",{"$f":"County","v":"Maricopa"},null,null,null,null,null,null,null,"CTDS NUMBER",{"$f":"Cover!Q1","v":"070425000"}]
[]
["A. ENROLLMENT OF GIFTED PUPILS BY GRADE (A.R.S. §15-779.02)"]
["    Areas of Identification [A.R.S. §15-203(A)(15)]",null,null,"GRADE"]
[null,null,null,"K",1,2,3,4,5,6,7,8,9,10,11,12,"TOTAL",null,null,null,null,null,null,null,null,null,{"$f":"IF(OR(AA6=\"yes\",AA7=\"yes\",AA8=\"yes\",AA16=\"yes\",AA17=\"yes\"),\"yes\",\"\")","v":""}]
[" 1. Quantitative Reasoning",null,null,13,20,14,16,11,10,10,8,10,0,0,0,0,{"$f":"SUM(D6:P6)","v":112},"1.",null,null,null,null,null,null,null,null,{"$f":"IF(OR(D6=\"\",E6=\"\",F6=\"\",G6=\"\",H6=\"\",I6=\"\",J6=\"\",K6=\"\",L6=\"\",M6=\"\",N6=\"\",O6=\"\",P6=\"\"),\"yes\",\"\")","v":""}]
[" 2. Verbal Reasoning",null,null,3,3,1,9,6,4,3,5,13,0,0,0,0,{"$f":"SUM(D7:P7)","v":47},"2.",null,null,null,null,null,null,null,null,{"$f":"IF(OR(D7=\"\",E7=\"\",F7=\"\",G7=\"\",H7=\"\",I7=\"\",J7=\"\",K7=\"\",L7=\"\",M7=\"\",N7=\"\",O7=\"\",P7=\"\"),\"yes\",\"\")","v":""}]
[" 3. Nonverbal Reasoning",null,null,7,7,3,7,11,8,7,3,10,0,0,0,0,{"$f":"SUM(D8:P8)","v":63},"3.",null,null,null,null,null,null,null,null,{"$f":"IF(OR(D8=\"\",E8=\"\",F8=\"\",G8=\"\",H8=\"\",I8=\"\",J8=\"\",K8=\"\",L8=\"\",M8=\"\",N8=\"\",O8=\"\",P8=\"\"),\"yes\",\"\")","v":""}]
[" 4. Total Duplicated Enrollment (lines 1-3)",null,null,{"$f":"SUM(D6:D8)","v":23},{"$f":"SUM(E6:E8)","v":30},18,32,28,22,20,16,{"$f":"SUM(L6:L8)","v":33},0,0,0,0,222,"4."]
[]
[]
["B. M&O SPECIAL EDUCATION PROGRAMS BY TYPE ",null,null,null,null,null,null,null,"         C.  MAINTENANCE AND OPERATION FUND EXPENDITURES FOR",null,null,null,null,null,null,null,null,null," "]
["   (A.R.S. § 15-761) ",null,null,"PROGRAM","PROGRAM",null,null,null,"               GIFTED PUPILS (ELEMENTARY, SECONDARY, AND TOTAL)   "]
[null,null,null,"200 & 300","200 & 300",null,null,null,null,"Actual Expenditures for all Gifted Programs:"]
[null,null,null,"BUDGET","ACTUAL",null,null,null,null,null,"K-8     $",252514]
[" 1. Total All Disability Classifications",null,null,{"$f":"[1]!F001P200Subtotal","v":8026131},7498710,"1.",null,null,null,null,"9-12    $",0,null,null,null,null,null,null,null,null,null,null,null,null,null,null,{"$f":"IF(OR(E16=\"\",E17=\"\",E18=\"\",E19=\"\",E20=\"\",E21=\"\",E22=\"\",E23=\"\",E27=\"\"),\"yes\",\"\")","v":""}]
[" 2. Gifted Education ",null,null,{"$f":"[1]!SPEDGiftedEdBudgFY","v":245515},{"$f":"252514+1274","v":253788},"2.",null,null,null,null,"       Total    $",{"$f":"SUM(L15:L16)","v":252514},null,null,null,null,null,null,null,null,null,null,null,null,null,null,{"$f":"IF(OR(L15=\"\",L16=\"\",O21=\"\",O22=\"\",N26=\"\"),\"yes\",\"\")","v":""}]
[" 3. Remedial Education",null,null,{"$f":"[1]!SPEDRemedialEdBudgFY","v":0},0,"3."]
[" 4. ELL Incremental Costs",null,null,{"$f":"[1]!SPEDELLIncCostBudgFY","v":80318},0,"4.",null,null,"         D.  EXPENDITURES FOR AUDIT SERVICES"]
[" 5. ELL Compensatory Instruction",null,null,{"$f":"[1]!SPEDELLCompInstrBudgFY","v":0},0,"5.",null,null,null,null,null,null,null,"BUDGET","ACTUAL"]
[" 6. Vocational and Technological Education (non-CTED)",null,null,{"$f":"[1]!SPEDVocTechEdBudgFY","v":0},0,"6.",null,null,"1.","Nonfederal Audit Expenditures - M&O Fund",null,null,"6350",{"$f":"[1]!F001AuditBudg6350","v":36300},41103,"1."]
[" 7. Career Education",null,null,{"$f":"[1]!SPEDCareerEdBudgFY","v":0},0,"7.",null,null,"2.","Federal Audit Expenditures - All Funds ",null,null,6330,{"$f":"[1]!AllFundAuditBudg6330","v":3000},3397,"2."]
[" 8. Career Technical Education (CTED programs in 300 range)",null,null,{"$f":"[1]!JTEDBudgFY","v":0},0,"8."]
[" 9. Total (lines 1-8) ",null,null,{"$f":"SUM(D16:D23)","v":8351964},{"$f":"SUM(E16:E23)","v":7752498},"9."]
[null,null,null,null,null,null,null,null,"        E. MAINTENANCE AND OPERATION FUND EXPENDITURES FOR PERFORMANCE PAY (A.R.S. §15-920)"]
["10. IEP required pupil transportation costs\n      coded within Program 400",null,null,null,null,null,null,null,"                  Actual Expenditures made in FY 2024",null,null,null,"$",0]
[null,null,null,{"$f":"[1]!IEPTransportCosts","v":650514},784792,"10."]
[]
[null,null,null,null,null,null,null,null,"        F.  TUITION ",null,null,null,null,"Tuition Expenditures"]
[null,null,null,null,null,null,null,null,"                 1. Tuition to Other Arizona Districts (object 6561)",null,null,null,null,{"$f":"(SUMIFS('Accounting Data'!C2:C100000,'Accounting Data'!J2:J100000,\"6561\",'Accounting Data'!I2:I100000,\"1???\"))","v":724}]
[null,null,null,null,null,null,null,null,"                 2. Tuition to Out-of-State Districts (object 6562)",null,null,null,null,{"$f":"(SUMIFS('Accounting Data'!C2:C100000,'Accounting Data'!J2:J100000,\"6562\",'Accounting Data'!I2:I100000,\"1???\"))","v":0}]
[null,null,null,null,null,null,null,null,"                 3. Tuition to Private Schools (object 6563)",null,null,null,null,{"$f":"(SUMIFS('Accounting Data'!C2:C100000,'Accounting Data'!J2:J100000,\"6563\",'Accounting Data'!I2:I100000,\"1???\"))","v":1346233}]
[null,null,null,null,null,null,null,null,"                 4. Tuition to Ed Services\\Coops\\IGAs (object 6564)",null,null,null,null,{"$f":"(SUMIFS('Accounting Data'!C2:C100000,'Accounting Data'!J2:J100000,\"6564\",'Accounting Data'!I2:I100000,\"1???\"))","v":0}]
[null,null,null,null,null,null,null,null,"                 5. Tuition Other (object 6569) (1)",null,null,null,null,{"$f":"(SUMIFS('Accounting Data'!C2:C100000,'Accounting Data'!J2:J100000,\"6569\",'Accounting Data'!I2:I100000,\"1???\"))","v":0}]
[null,null,null,null,null,null,null,null,"                 6. Total (lines 1-5)",null,null,null,null,{"$f":"SUM(N30:N34)","v":1346957}]
[]
[null,null,null,null,null,null,null,null,"(1) Tuition paid to the State and other governmental organizations, such as the Arizona School for the Deaf and Blind, as reimbursement for providing specialized instructional services to students residing within the boundaries of the paying district."]

{"sheet":"Page 9","index":9,"n_rows":65,"n_cols":112,"rows_kept":65,"cut":false,"hidden":false,"merged":[[59,8,59,11],[61,8,61,11],[60,8,60,11],[10,18,12,18],[30,16,31,16],[54,8,54,11],[52,8,52,11],[55,8,55,12],[7,112,8,112],[7,106,8,106],[7,107,8,107],[7,108,8,108],[7,109,8,109],[7,110,8,110],[7,111,8,111],[7,101,8,101],[7,99,8,99],[7,100,8,100],[7,61,7,63],[15,83,15,85],[7,67,8,67],[8,50,8,52],[7,66,8,66],[14,81,14,95],[50,0,50,2],[31,6,33,6],[31,5,33,5],[8,43,8,45],[8,47,8,49],[7,27,8,27],[46,0,46,2],[47,0,47,2],[45,25,45,31],[49,8,49,11],[0,1,0,4],[4,2,4,11],[0,7,0,10],[31,3,33,3],[31,4,33,4],[29,3,30,4],[2,25,2,44],[7,29,7,31],[6,33,6,39],[7,34,8,34],[9,19,12,19],[7,41,7,55],[7,37,7,39],[15,21,17,21],[15,22,17,22],[16,19,17,19],[7,35,8,35],[8,96,9,96],[25,82,26,82],[7,58,8,58],[11,81,12,81],[7,102,8,102],[7,103,8,103],[11,86,12,86],[7,77,7,79],[2,0,2,13],[18,15,23,15],[6,18,8,18],[8,53,8,55],[6,57,6,63],[7,57,8,57],[6,73,6,79],[11,85,12,85],[7,69,7,71],[6,65,6,71],[7,74,8,74],[7,75,8,75],[11,84,12,84],[15,90,15,92],[7,59,8,59],[7,60,8,60],[5,106,5,111],[25,84,26,84],[25,85,26,85],[11,88,12,88],[11,82,12,82],[25,83,26,83],[25,88,26,88],[11,87,12,87],[25,87,26,87],[10,81,10,87],[11,83,12,83],[7,98,8,98],[15,87,15,89],[19,81,19,95],[20,83,20,85],[20,87,20,89],[20,90,20,92],[20,93,20,95],[6,106,6,111],[25,86,26,86],[24,81,24,88],[15,93,15,95],[7,97,8,97],[6,97,6,103],[57,0,57,3],[52,0,52,2],[57,8,57,10],[51,0,51,2],[53,32,53,33],[50,25,50,33],[56,0,56,3],[6,25,6,31],[53,26,53,27],[53,28,53,29],[53,30,53,31],[27,25,27,37],[46,26,47,26],[46,27,47,27],[46,29,46,31],[51,26,51,27],[7,26,8,26],[51,28,51,29],[51,30,51,31],[51,32,51,33],[53,8,53,11],[47,8,47,11],[48,8,48,11],[55,0,55,3]]}
["DISTRICT NAME",{"$f":"CoverDistrictName","v":"Liberty Elementary School District No. 25"},null,null,null,null,"COUNTY",{"$f":"County","v":"Maricopa"},null,null,null,null,"CTDS NUMBER",{"$f":"Cover!Q1","v":"070425000"}]
[]
["ADDITIONAL INFORMATION FOR NATIONAL PUBLIC EDUCATION FINANCIAL SURVEY (NPEFS) REPORTING",null,null,null,null,null,null,null,null,null,null,null,null,null,null,null,null,null,null,null,null,null,null,null,null,"The following tables are outside the printable range of the AFR, but are used in the formulas in the NPEFS table to pull amounts from the accounting data based on the fund, program, function and object criteria indicated on the tables."]
[]
[null,null,"Programs 100-630",null,null,null,null,null,null,null,null,null,"Programs 700-900"]
[null,null,null,null,"Purchased",null,null,null,"Judgments",null,null,"Miscellaneous and ",null,null,null,null,null,null,null,null,null,null,null,null,null,null,null,null,null,null,null,null,null,null,null,null,null,null,null,null,null,null,null,null,null,null,null,null,null,null,null,null,null,null,null,null,null,null,null,null,null,null,null,null,null,null,null,null,null,null,null,null,null,null,null,null,null,null,null,null,null,null,null,null,null,null,null,null,null,null,null,null,null,null,null,null,null,null,null,null,null,null,null,null,null,null,"Programs 700-999"]
[null,null,null,"Employee","Services",null,null,null,"Against a","Redemption of","Interest","Charges for","All",null,null,null,null,null,"Food service supplies expenses minus commodities",null,null,null,null,null,null,"Object 6100",null,null,null,null,null,null,null,"Object 6200",null,null,null,null,null,null,null,null,null,null,null,null,null,null,null,null,null,null,null,null,null,null,null,"Object 6600",null,null,null,null,null,null,null,"Object 6700",null,null,null,null,null,null,null,"Object 6810",null,null,null,null,null,null,null,null,null,null,null,null,null,null,null,null,null,null,null,null,null,null,null,"Object 6890",null,null,null,null,null,null,null,null,"All object codes "]
["Funds 001-799 (excluding 575) ",null,"Salaries","Benefits","6300, 6400,","Supplies","Property","Dues and Fees","District","Principal","6841, 6842,","District Services","Object Codes","Total",null,null,null,null,null,null,null,null,null,null,null,null,"All Funds ","Excluded Funds\n575, 800-999","Programs 700-900","Programs 700-900 Excluded Funds (to add back to avoid double exclusion)",null,null,null,null,"All Funds ","Excluded Funds \n575, 800-999","Programs 700-900","Programs 700-900 Excluded Funds (to add back to avoid double exclusion)",null,null,null,"Objects 6300, 6400 and 6500",null,null,null,null,null,null,null,null,null,null,null,null,null,null,null,"Function","All funds ","Excluded Funds \n575,800-999","Programs 700-900\nAll Funds","Programs 700-900 Excluded Funds (to add back to avoid double exclusion)",null,null,null,null,"All funds ","Funds 575,800-999","Programs 700-900","Programs 700-900 Excluded Funds (to add back to avoid double exclusion)",null,null,null,null,"All funds ","Funds 575,800-999","Programs 700-900","Programs 700-900 Excluded Funds (to add back to avoid double exclusion)",null,null,null,null,null,null,null,null,null,null,null,null,null,null,null,null,null,null,null,"Function","All funds ","Funds 575,800-999","Programs 700-900","Programs 700-900 Fund 575","Programs 700-900 Funds 800-899","Programs 700-900 Funds 900-999",null,null,"All funds and objects, programs 700-900","All funds and object 6900, programs 700-900","Funds 575 programs 700-900, and all objects.","Funds 800-999, programs 700-900, and all objects ","Funds 575, programs 700-900, and object 6900","Funds 800-999, programs 700-900, and object 6900"]
[null,null,6100,6200,6500,6600,6700,6810,6820,"6831, 6832, 6833","6843, 6850","6885, 6890","(excluding 6900)",null,null,null,null,null,null,null,null,null,null,null,null,"Function",null,null,"All Funds","Fund 575 ","Funds 800-899","Funds 900-999",null,"Function",null,null,"All Funds","Fund 575 ","Funds 800-899","Funds 900-999",null,"Function","All funds","Excluded Funds 575, 800-999",null,null,"Programs 700-900","Programs 700-900, Funds 575 ",null,null,"Programs 700-900, Funds 800-899",null,null,"Programs 700-900, Funds 900-999",null,null,null,null,null,null,null,"Fund 575","Funds 800-899","Funds 900-999",null,"Function",null,null,"All Funds","Fund 575","Funds 800-899","Funds 900-999",null,"Function",null,null,"All Funds","Fund 575","Funds 800-899","Funds 900-999",null,null,null,null,null,null,null,null,null,null,null,null,null,null,null,null,null,null,null,null,null,null,null,null,null,"Function"]
["1000 Instruction","1.",{"$f":"(AA10-AB10-AC10)+(AD10+AE10+AF10)","v":17489455},{"$f":"(AI10-AJ10-AK10)+(AL10+AM10+AN10)","v":5199014},{"$f":"(AQ10-AR10-AS10-AT10-AU10)+(AV10+AW10+AX10+AY10+AZ10+BA10+BB10+BC10+BD10)","v":1693548},{"$f":"(BG10-BH10-BI10)+(BJ10+BK10+BL10)","v":2202725},{"$f":"(BO10-BP10-BQ10)+(BR10+BS10+BT10)","v":334892},{"$f":"(BW10-BX10-BY10)+(BZ10+CA10+CB10)","v":1699},null,null,null,{"$f":"(CU10-CV10-CW10)+(CX10+CY10+CZ10)","v":192399},{"$f":"(DC10-DD10)-((DE10+DF10)-(DG10+DH10))","v":0},{"$f":"SUM(C10:M10)","v":27113732},"1.",null,null,null,{"$f":"F20-'[4]Food Service AFR'!$D$13","v":157945},"Amount used for\nfood service allocation\n(lesser of restricted Fund 510 federal revenue or cell S14)",null,null,null,null,null,1000,{"$f":"ROUND(SUMIFS('Accounting Data'!C2:C100000,'Accounting Data'!I2:I100000,\"1???\",'Accounting Data'!J2:J100000,\"61??\"),0)","v":17489455},{"$f":"ROUND(SUMIFS('Accounting Data'!C2:C100000,'Accounting Data'!E2:E100000,\"575\",'Accounting Data'!I2:I100000,\"1???\",'Accounting Data'!J2:J100000,\"61??\")+SUMIFS('Accounting Data'!C2:C100000,'Accounting Data'!E2:E100000,\"8??\",'Accounting Data'!I2:I100000,\"1???\",'Accounting Data'!J2:J100000,\"61??\")+SUMIFS('Accounting Data'!C2:C100000,'Accounting Data'!E2:E100000,\"9??\",'Accounting Data'!I2:I100000,\"1???\",'Accounting Data'!J2:J100000,\"61??\"),0)","v":0},{"$f":"ROUND(SUMIFS('Accounting Data'!C2:C100000,'Accounting Data'!H2:H100000,\"7??\",'Accounting Data'!I2:I100000,\"1???\",'Accounting Data'!J2:J100000,\"61??\")+SUMIFS('Accounting Data'!C2:C100000,'Accounting Data'!H2:H100000,\"8??\",'Accounting Data'!I2:I100000,\"1???\",'Accounting Data'!J2:J100000,\"61??\")+SUMIFS('Accounting Data'!C2:C100000,'Accounting Data'!H2:H100000,\"9??\",'Accounting Data'!I2:I100000,\"1???\",'Accounting Data'!J2:J100000,\"61??\"),0)","v":0},{"$f":"ROUND(SUMIFS('Accounting Data'!C2:C100000,'Accounting Data'!E2:E100000,\"575\",'Accounting Data'!H2:H100000,\"7??\",'Accounting Data'!I2:I100000,\"1???\",'Accounting Data'!J2:J100000,\"61??\")+SUMIFS('Accounting Data'!C2:C100000,'Accounting Data'!E2:E100000,\"575\",'Accounting Data'!H2:H100000,\"8??\",'Accounting Data'!I2:I100000,\"1???\",'Accounting Data'!J2:J100000,\"61??\")+SUMIFS('Accounting Data'!C2:C100000,'Accounting Data'!E2:E100000,\"575\",'Accounting Data'!H2:H100000,\"9??\",'Accounting Data'!I2:I100000,\"1???\",'Accounting Data'!J2:J100000,\"61??\"),0)","v":0},{"$f":"ROUND(SUMIFS('Accounting Data'!C2:C100000,'Accounting Data'!E2:E100000,\"8??\",'Accounting Data'!H2:H100000,\"7??\",'Accounting Data'!I2:I100000,\"1???\",'Accounting Data'!J2:J100000,\"61??\")+SUMIFS('Accounting Data'!C2:C100000,'Accounting Data'!E2:E100000,\"8??\",'Accounting Data'!H2:H100000,\"8??\",'Accounting Data'!I2:I100000,\"1???\",'Accounting Data'!J2:J100000,\"61??\")+SUMIFS('Accounting Data'!C2:C100000,'Accounting Data'!E2:E100000,\"8??\",'Accounting Data'!H2:H100000,\"9??\",'Accounting Data'!I2:I100000,\"1???\",'Accounting Data'!J2:J100000,\"61??\"),0)","v":0},{"$f":"ROUND(SUMIFS('Accounting Data'!C2:C100000,'Accounting Data'!E2:E100000,\"9??\",'Accounting Data'!H2:H100000,\"7??\",'Accounting Data'!I2:I100000,\"1???\",'Accounting Data'!J2:J100000,\"61??\")+SUMIFS('Accounting Data'!C2:C100000,'Accounting Data'!E2:E100000,\"9??\",'Accounting Data'!H2:H100000,\"8??\",'Accounting Data'!I2:I100000,\"1???\",'Accounting Data'!J2:J100000,\"61??\")+SUMIFS('Accounting Data'!C2:C100000,'Accounting Data'!E2:E100000,\"9??\",'Accounting Data'!H2:H100000,\"9??\",'Accounting Data'!I2:I100000,\"1???\",'Accounting Data'!J2:J100000,\"61??\"),0)","v":0},null,1000,{"$f":"SUMIFS('Accounting Data'!C2:C100000,'Accounting Data'!I2:I100000,\"1???\",'Accounting Data'!J2:J100000,\"62??\")","v":5199014},{"$f":"SUMIFS('Accounting Data'!C2:C100000,'Accounting Data'!E2:E100000,\"575\",'Accounting Data'!I2:I100000,\"1???\",'Accounting Data'!J2:J100000,\"62??\")+SUMIFS('Accounting Data'!C2:C100000,'Accounting Data'!E2:E100000,\"8??\",'Accounting Data'!I2:I100000,\"1???\",'Accounting Data'!J2:J100000,\"62??\")+SUMIFS('Accounting Data'!C2:C100000,'Accounting Data'!E2:E100000,\"9??\",'Accounting Data'!I2:I100000,\"1???\",'Accounting Data'!J2:J100000,\"62??\")","v":0},{"$f":"SUMIFS('Accounting Data'!C2:C100000,'Accounting Data'!H2:H100000,\"7??\",'Accounting Data'!I2:I100000,\"1???\",'Accounting Data'!J2:J100000,\"62??\")+SUMIFS('Accounting Data'!C2:C100000,'Accounting Data'!H2:H100000,\"8??\",'Accounting Data'!I2:I100000,\"1???\",'Accounting Data'!J2:J100000,\"62??\")+SUMIFS('Accounting Data'!C2:C100000,'Accounting Data'!H2:H100000,\"9??\",'Accounting Data'!I2:I100000,\"1???\",'Accounting Data'!J2:J100000,\"62??\")","v":0},{"$f":"SUMIFS('Accounting Data'!C2:C100000,'Accounting Data'!E2:E100000,\"575\",'Accounting Data'!H2:H100000,\"7??\",'Accounting Data'!I2:I100000,\"1???\",'Accounting Data'!J2:J100000,\"62??\")+SUMIFS('Accounting Data'!C2:C100000,'Accounting Data'!E2:E100000,\"575\",'Accounting Data'!H2:H100000,\"8??\",'Accounting Data'!I2:I100000,\"1???\",'Accounting Data'!J2:J100000,\"62??\")+SUMIFS('Accounting Data'!C2:C100000,'Accounting Data'!E2:E100000,\"575\",'Accounting Data'!H2:H100000,\"9??\",'Accounting Data'!I2:I100000,\"1???\",'Accounting Data'!J2:J100000,\"62??\")","v":0},{"$f":"SUMIFS('Accounting Data'!C2:C100000,'Accounting Data'!E2:E100000,\"8??\",'Accounting Data'!H2:H100000,\"7??\",'Accounting Data'!I2:I100000,\"1???\",'Accounting Data'!J2:J100000,\"62??\")+SUMIFS('Accounting Data'!C2:C100000,'Accounting Data'!E2:E100000,\"8??\",'Accounting Data'!H2:H100000,\"8??\",'Accounting Data'!I2:I100000,\"1???\",'Accounting Data'!J2:J100000,\"62??\")+SUMIFS('Accounting Data'!C2:C100000,'Accounting Data'!E2:E100000,\"8??\",'Accounting Data'!H2:H100000,\"9??\",'Accounting Data'!I2:I100000,\"1???\",'Accounting Data'!J2:J100000,\"62??\")","v":0},{"$f":"SUMIFS('Accounting Data'!C2:C100000,'Accounting Data'!E2:E100000,\"9??\",'Accounting Data'!H2:H100000,\"7??\",'Accounting Data'!I2:I100000,\"1???\",'Accounting Data'!J2:J100000,\"62??\")+SUMIFS('Accounting Data'!C2:C100000,'Accounting Data'!E2:E100000,\"9??\",'Accounting Data'!H2:H100000,\"8??\",'Accounting Data'!I2:I100000,\"1???\",'Accounting Data'!J2:J100000,\"62??\")+SUMIFS('Accounting Data'!C2:C100000,'Accounting Data'!E2:E100000,\"9??\",'Accounting Data'!H2:H100000,\"9??\",'Accounting Data'!I2:I100000,\"1???\",'Accounting Data'!J2:J100000,\"62??\")","v":0},null,1000,{"$f":"SUMIFS('Accounting Data'!C2:C100000,'Accounting Data'!I2:I100000,\"1???\",'Accounting Data'!J2:J100000,\"63??\")+SUMIFS('Accounting Data'!C2:C100000,'Accounting Data'!I2:I100000,\"1???\",'Accounting Data'!J2:J100000,\"64??\")+SUMIFS('Accounting Data'!C2:C100000,'Accounting Data'!I2:I100000,\"1???\",'Accounting Data'!J2:J100000,\"65??\")","v":1705326},{"$f":"SUMIFS('Accounting Data'!C2:C100000,'Accounting Data'!E2:E100000,\"575\",'Accounting Data'!I2:I100000,\"1???\",'Accounting Data'!J2:J100000,\"63??\")+SUMIFS('Accounting Data'!C2:C100000,'Accounting Data'!E2:E100000,\"8??\",'Accounting Data'!I2:I100000,\"1???\",'Accounting Data'!J2:J100000,\"63??\")+SUMIFS('Accounting Data'!C2:C100000,'Accounting Data'!E2:E100000,\"9??\",'Accounting Data'!I2:I100000,\"1???\",'Accounting Data'!J2:J100000,\"63??\")","v":11778},{"$f":"SUMIFS('Accounting Data'!C2:C100000,'Accounting Data'!E2:E100000,\"575\",'Accounting Data'!I2:I100000,\"1???\",'Accounting Data'!J2:J100000,\"64??\")+SUMIFS('Accounting Data'!C2:C100000,'Accounting Data'!E2:E100000,\"8??\",'Accounting Data'!I2:I100000,\"1???\",'Accounting Data'!J2:J100000,\"64??\")+SUMIFS('Accounting Data'!C2:C100000,'Accounting Data'!E2:E100000,\"9??\",'Accounting Data'!I2:I100000,\"1???\",'Accounting Data'!J2:J100000,\"64??\")","v":0},{"$f":"SUMIFS('Accounting Data'!C2:C100000,'Accounting Data'!E2:E100000,\"575\",'Accounting Data'!I2:I100000,\"1???\",'Accounting Data'!J2:J100000,\"65??\")+SUMIFS('Accounting Data'!C2:C100000,'Accounting Data'!E2:E100000,\"8??\",'Accounting Data'!I2:I100000,\"1???\",'Accounting Data'!J2:J100000,\"65??\")+SUMIFS('Accounting Data'!C2:C100000,'Accounting Data'!E2:E100000,\"9??\",'Accounting Data'!I2:I100000,\"1???\",'Accounting Data'!J2:J100000,\"65??\")","v":0},{"$f":"SUMIFS('Accounting Data'!C2:C100000,'Accounting Data'!H2:H100000,\"7??\",'Accounting Data'!I2:I100000,\"1???\",'Accounting Data'!J2:J100000,\"63??\")+SUMIFS('Accounting Data'!C2:C100000,'Accounting Data'!H2:H100000,\"8??\",'Accounting Data'!I2:I100000,\"1???\",'Accounting Data'!J2:J100000,\"63??\")+SUMIFS('Accounting Data'!C2:C100000,'Accounting Data'!H2:H100000,\"9??\",'Accounting Data'!I2:I100000,\"1???\",'Accounting Data'!J2:J100000,\"63??\")+SUMIFS('Accounting Data'!C2:C100000,'Accounting Data'!H2:H100000,\"7??\",'Accounting Data'!I2:I100000,\"1???\",'Accounting Data'!J2:J100000,\"64??\")+SUMIFS('Accounting Data'!C2:C100000,'Accounting Data'!H2:H100000,\"8??\",'Accounting Data'!I2:I100000,\"1???\",'Accounting Data'!J2:J100000,\"64??\")+SUMIFS('Accounting Data'!C2:C100000,'Accounting Data'!H2:H100000,\"9??\",'Accounting Data'!I2:I100000,\"1???\",'Accounting Data'!J2:J100000,\"64??\")+SUMIFS('Accounting Data'!C2:C100000,'Accounting Data'!H2:H100000,\"7??\",'Accounting Data'!I2:I100000,\"1???\",'Accounting Data'!J2:J100000,\"65??\")+SUMIFS('Accounting Data'!C2:C100000,'Accounting Data'!H2:H100000,\"8??\",'Accounting Data'!I2:I100000,\"1???\",'Accounting Data'!J2:J100000,\"65??\")+SUMIFS('Accounting Data'!C2:C100000,'Accounting Data'!H2:H100000,\"9??\",'Accounting Data'!I2:I100000,\"1???\",'Accounting Data'!J2:J100000,\"65??\")","v":0},{"$f":"SUMIFS('Accounting Data'!C2:C100000,'Accounting Data'!E2:E100000,\"575\",'Accounting Data'!H2:H100000,\"7??\",'Accounting Data'!I2:I100000,\"1???\",'Accounting Data'!J2:J100000,\"63??\")+SUMIFS('Accounting Data'!C2:C100000,'Accounting Data'!E2:E100000,\"575\",'Accounting Data'!H2:H100000,\"8??\",'Accounting Data'!I2:I100000,\"1???\",'Accounting Data'!J2:J100000,\"63??\")+SUMIFS('Accounting Data'!C2:C100000,'Accounting Data'!E2:E100000,\"575\",'Accounting Data'!H2:H100000,\"9??\",'Accounting Data'!I2:I100000,\"1???\",'Accounting Data'!J2:J100000,\"63??\")","v":0},{"$f":"SUMIFS('Accounting Data'!C2:C100000,'Accounting Data'!E2:E100000,\"575\",'Accounting Data'!H2:H100000,\"7??\",'Accounting Data'!I2:I100000,\"1???\",'Accounting Data'!J2:J100000,\"64??\")+SUMIFS('Accounting Data'!C2:C100000,'Accounting Data'!E2:E100000,\"575\",'Accounting Data'!H2:H100000,\"8??\",'Accounting Data'!I2:I100000,\"1???\",'Accounting Data'!J2:J100000,\"64??\")+SUMIFS('Accounting Data'!C2:C100000,'Accounting Data'!E2:E100000,\"575\",'Accounting Data'!H2:H100000,\"9??\",'Accounting Data'!I2:I100000,\"1???\",'Accounting Data'!J2:J100000,\"64??\")","v":0},{"$f":"SUMIFS('Accounting Data'!C2:C100000,'Accounting Data'!E2:E100000,\"575\",'Accounting Data'!H2:H100000,\"7??\",'Accounting Data'!I2:I100000,\"1???\",'Accounting Data'!J2:J100000,\"65??\")+SUMIFS('Accounting Data'!C2:C100000,'Accounting Data'!E2:E100000,\"575\",'Accounting Data'!H2:H100000,\"8??\",'Accounting Data'!I2:I100000,\"1???\",'Accounting Data'!J2:J100000,\"65??\")+SUMIFS('Accounting Data'!C2:C100000,'Accounting Data'!E2:E100000,\"575\",'Accounting Data'!H2:H100000,\"9??\",'Accounting Data'!I2:I100000,\"1???\",'Accounting Data'!J2:J100000,\"65??\")","v":0},{"$f":"SUMIFS('Accounting Data'!C2:C100000,'Accounting Data'!E2:E100000,\"8??\",'Accounting Data'!H2:H100000,\"7??\",'Accounting Data'!I2:I100000,\"1???\",'Accounting Data'!J2:J100000,\"63??\")+SUMIFS('Accounting Data'!C2:C100000,'Accounting Data'!E2:E100000,\"8??\",'Accounting Data'!H2:H100000,\"8??\",'Accounting Data'!I2:I100000,\"1???\",'Accounting Data'!J2:J100000,\"63??\")+SUMIFS('Accounting Data'!C2:C100000,'Accounting Data'!E2:E100000,\"8??\",'Accounting Data'!H2:H100000,\"9??\",'Accounting Data'!I2:I100000,\"1???\",'Accounting Data'!J2:J100000,\"63??\")","v":0},{"$f":"SUMIFS('Accounting Data'!C2:C100000,'Accounting Data'!E2:E100000,\"8??\",'Accounting Data'!H2:H100000,\"7??\",'Accounting Data'!I2:I100000,\"1???\",'Accounting Data'!J2:J100000,\"64??\")+SUMIFS('Accounting Data'!C2:C100000,'Accounting Data'!E2:E100000,\"8??\",'Accounting Data'!H2:H100000,\"8??\",'Accounting Data'!I2:I100000,\"1???\",'Accounting Data'!J2:J100000,\"64??\")+SUMIFS('Accounting Data'!C2:C100000,'Accounting Data'!E2:E100000,\"8??\",'Accounting Data'!H2:H100000,\"9??\",'Accounting Data'!I2:I100000,\"1???\",'Accounting Data'!J2:J100000,\"64??\")","v":0},{"$f":"SUMIFS('Accounting Data'!C2:C100000,'Accounting Data'!E2:E100000,\"8??\",'Accounting Data'!H2:H100000,\"7??\",'Accounting Data'!I2:I100000,\"1???\",'Accounting Data'!J2:J100000,\"65??\")+SUMIFS('Accounting Data'!C2:C100000,'Accounting Data'!E2:E100000,\"8??\",'Accounting Data'!H2:H100000,\"8??\",'Accounting Data'!I2:I100000,\"1???\",'Accounting Data'!J2:J100000,\"65??\")+SUMIFS('Accounting Data'!C2:C100000,'Accounting Data'!E2:E100000,\"8??\",'Accounting Data'!H2:H100000,\"9??\",'Accounting Data'!I2:I100000,\"1???\",'Accounting Data'!J2:J100000,\"65??\")","v":0},{"$f":"SUMIFS('Accounting Data'!C2:C100000,'Accounting Data'!E2:E100000,\"9??\",'Accounting Data'!H2:H100000,\"7??\",'Accounting Data'!I2:I100000,\"1???\",'Accounting Data'!J2:J100000,\"63??\")+SUMIFS('Accounting Data'!C2:C100000,'Accounting Data'!E2:E100000,\"9??\",'Accounting Data'!H2:H100000,\"8??\",'Accounting Data'!I2:I100000,\"1???\",'Accounting Data'!J2:J100000,\"63??\")+SUMIFS('Accounting Data'!C2:C100000,'Accounting Data'!E2:E100000,\"9??\",'Accounting Data'!H2:H100000,\"9??\",'Accounting Data'!I2:I100000,\"1???\",'Accounting Data'!J2:J100000,\"63??\")","v":0},{"$f":"SUMIFS('Accounting Data'!C2:C100000,'Accounting Data'!E2:E100000,\"9??\",'Accounting Data'!H2:H100000,\"7??\",'Accounting Data'!I2:I100000,\"1???\",'Accounting Data'!J2:J100000,\"64??\")+SUMIFS('Accounting Data'!C2:C100000,'Accounting Data'!E2:E100000,\"9??\",'Accounting Data'!H2:H100000,\"8??\",'Accounting Data'!I2:I100000,\"1???\",'Accounting Data'!J2:J100000,\"64??\")+SUMIFS('Accounting Data'!C2:C100000,'Accounting Data'!E2:E100000,\"9??\",'Accounting Data'!H2:H100000,\"9??\",'Accounting Data'!I2:I100000,\"1???\",'Accounting Data'!J2:J100000,\"64??\")","v":0},{"$f":"SUMIFS('Accounting Data'!C2:C100000,'Accounting Data'!E2:E100000,\"9??\",'Accounting Data'!H2:H100000,\"7??\",'Accounting Data'!I2:I100000,\"1???\",'Accounting Data'!J2:J100000,\"65??\")+SUMIFS('Accounting Data'!C2:C100000,'Accounting Data'!E2:E100000,\"9??\",'Accounting Data'!H2:H100000,\"8??\",'Accounting Data'!I2:I100000,\"1???\",'Accounting Data'!J2:J100000,\"65??\")+SUMIFS('Accounting Data'!C2:C100000,'Accounting Data'!E2:E100000,\"9??\",'Accounting Data'!H2:H100000,\"9??\",'Accounting Data'!I2:I100000,\"1???\",'Accounting Data'!J2:J100000,\"65??\")","v":0},null,1000,{"$f":"SUMIFS('Accounting Data'!C2:C100000,'Accounting Data'!I2:I100000,\"1???\",'Accounting Data'!J2:J100000,\"66??\")","v":2222395},{"$f":"SUMIFS('Accounting Data'!$C$2:$C$100000,'Accounting Data'!$E$2:$E$100000,\"575\",'Accounting Data'!$I$2:$I$100000,\"1???\",'Accounting Data'!$J$2:$J$100000,\"66??\")+SUMIFS('Accounting Data'!$C$2:$C$100000,'Accounting Data'!$E$2:$E$100000,\"8??\",'Accounting Data'!$I$2:$I$100000,\"1???\",'Accounting Data'!$J$2:$J$100000,\"66??\")+SUMIFS('Accounting Data'!$C$2:$C$100000,'Accounting Data'!$E$2:$E$100000,\"9??\",'Accounting Data'!$I$2:$I$100000,\"1???\",'Accounting Data'!$J$2:$J$100000,\"66??\")","v":19670},{"$f":"SUMIFS('Accounting Data'!$C$2:$C$100000,'Accounting Data'!$H$2:$H$100000,\"7??\",'Accounting Data'!$I$2:$I$100000,\"1???\",'Accounting Data'!$J$2:$J$100000,\"66??\")+SUMIFS('Accounting Data'!$C$2:$C$100000,'Accounting Data'!$H$2:$H$100000,\"8??\",'Accounting Data'!$I$2:$I$100000,\"1???\",'Accounting Data'!$J$2:$J$100000,\"66??\")+SUMIFS('Accounting Data'!$C$2:$C$100000,'Accounting Data'!$H$2:$H$100000,\"9??\",'Accounting Data'!$I$2:$I$100000,\"1???\",'Accounting Data'!$J$2:$J$100000,\"66??\")","v":0},{"$f":"SUMIFS('Accounting Data'!$C$2:$C$100000,'Accounting Data'!$E$2:$E$100000,\"575\",'Accounting Data'!$H$2:$H$100000,\"7??\",'Accounting Data'!$I$2:$I$100000,\"1???\",'Accounting Data'!$J$2:$J$100000,\"66??\")+SUMIFS('Accounting Data'!$C$2:$C$100000,'Accounting Data'!$E$2:$E$100000,\"575\",'Accounting Data'!$H$2:$H$100000,\"8??\",'Accounting Data'!$I$2:$I$100000,\"1???\",'Accounting Data'!$J$2:$J$100000,\"66??\")+SUMIFS('Accounting Data'!$C$2:$C$100000,'Accounting Data'!$E$2:$E$100000,\"575\",'Accounting Data'!$H$2:$H$100000,\"9??\",'Accounting Data'!$I$2:$I$100000,\"1???\",'Accounting Data'!$J$2:$J$100000,\"66??\")","v":0},{"$f":"SUMIFS('Accounting Data'!$C$2:$C$100000,'Accounting Data'!$E$2:$E$100000,\"8??\",'Accounting Data'!$H$2:$H$100000,\"7??\",'Accounting Data'!$I$2:$I$100000,\"1???\",'Accounting Data'!$J$2:$J$100000,\"66??\")+SUMIFS('Accounting Data'!$C$2:$C$100000,'Accounting Data'!$E$2:$E$100000,\"8??\",'Accounting Data'!$H$2:$H$100000,\"8??\",'Accounting Data'!$I$2:$I$100000,\"1???\",'Accounting Data'!$J$2:$J$100000,\"66??\")+SUMIFS('Accounting Data'!$C$2:$C$100000,'Accounting Data'!$E$2:$E$100000,\"8??\",'Accounting Data'!$H$2:$H$100000,\"9??\",'Accounting Data'!$I$2:$I$100000,\"1???\",'Accounting Data'!$J$2:$J$100000,\"66??\")","v":0},{"$f":"SUMIFS('Accounting Data'!$C$2:$C$100000,'Accounting Data'!$E$2:$E$100000,\"9??\",'Accounting Data'!$H$2:$H$100000,\"7??\",'Accounting Data'!$I$2:$I$100000,\"1???\",'Accounting Data'!$J$2:$J$100000,\"66??\")+SUMIFS('Accounting Data'!$C$2:$C$100000,'Accounting Data'!$E$2:$E$100000,\"9??\",'Accounting Data'!$H$2:$H$100000,\"8??\",'Accounting Data'!$I$2:$I$100000,\"1???\",'Accounting Data'!$J$2:$J$100000,\"66??\")+SUMIFS('Accounting Data'!$C$2:$C$100000,'Accounting Data'!$E$2:$E$100000,\"9??\",'Accounting Data'!$H$2:$H$100000,\"9??\",'Accounting Data'!$I$2:$I$100000,\"1???\",'Accounting Data'!$J$2:$J$100000,\"66??\")","v":0},null,1000,{"$f":"SUMIFS('Accounting Data'!C2:C100000,'Accounting Data'!I2:I100000,\"1???\",'Accounting Data'!J2:J100000,\"67??\")","v":336892},{"$f":"SUMIFS('Accounting Data'!$C$2:$C$100000,'Accounting Data'!$E$2:$E$100000,\"575\",'Accounting Data'!$I$2:$I$100000,\"1???\",'Accounting Data'!$J$2:$J$100000,\"67??\")+SUMIFS('Accounting Data'!$C$2:$C$100000,'Accounting Data'!$E$2:$E$100000,\"8??\",'Accounting Data'!$I$2:$I$100000,\"1???\",'Accounting Data'!$J$2:$J$100000,\"67??\")+SUMIFS('Accounting Data'!$C$2:$C$100000,'Accounting Data'!$E$2:$E$100000,\"9??\",'Accounting Data'!$I$2:$I$100000,\"1???\",'Accounting Data'!$J$2:$J$100000,\"67??\")","v":2000},{"$f":"SUMIFS('Accounting Data'!$C$2:$C$100000,'Accounting Data'!$H$2:$H$100000,\"7??\",'Accounting Data'!$I$2:$I$100000,\"1???\",'Accounting Data'!$J$2:$J$100000,\"67??\")+SUMIFS('Accounting Data'!$C$2:$C$100000,'Accounting Data'!$H$2:$H$100000,\"8??\",'Accounting Data'!$I$2:$I$100000,\"1???\",'Accounting Data'!$J$2:$J$100000,\"67??\")+SUMIFS('Accounting Data'!$C$2:$C$100000,'Accounting Data'!$H$2:$H$100000,\"9??\",'Accounting Data'!$I$2:$I$100000,\"1???\",'Accounting Data'!$J$2:$J$100000,\"67??\")","v":0},{"$f":"SUMIFS('Accounting Data'!$C$2:$C$100000,'Accounting Data'!$E$2:$E$100000,\"575\",'Accounting Data'!$H$2:$H$100000,\"7??\",'Accounting Data'!$I$2:$I$100000,\"1???\",'Accounting Data'!$J$2:$J$100000,\"67??\")+SUMIFS('Accounting Data'!$C$2:$C$100000,'Accounting Data'!$E$2:$E$100000,\"575\",'Accounting Data'!$H$2:$H$100000,\"8??\",'Accounting Data'!$I$2:$I$100000,\"1???\",'Accounting Data'!$J$2:$J$100000,\"67??\")+SUMIFS('Accounting Data'!$C$2:$C$100000,'Accounting Data'!$E$2:$E$100000,\"575\",'Accounting Data'!$H$2:$H$100000,\"9??\",'Accounting Data'!$I$2:$I$100000,\"1???\",'Accounting Data'!$J$2:$J$100000,\"67??\")","v":0},{"$f":"SUMIFS('Accounting Data'!$C$2:$C$100000,'Accounting Data'!$E$2:$E$100000,\"8??\",'Accounting Data'!$H$2:$H$100000,\"7??\",'Accounting Data'!$I$2:$I$100000,\"1???\",'Accounting Data'!$J$2:$J$100000,\"67??\")+SUMIFS('Accounting Data'!$C$2:$C$100000,'Accounting Data'!$E$2:$E$100000,\"8??\",'Accounting Data'!$H$2:$H$100000,\"8??\",'Accounting Data'!$I$2:$I$100000,\"1???\",'Accounting Data'!$J$2:$J$100000,\"67??\")+SUMIFS('Accounting Data'!$C$2:$C$100000,'Accounting Data'!$E$2:$E$100000,\"8??\",'Accounting Data'!$H$2:$H$100000,\"9??\",'Accounting Data'!$I$2:$I$100000,\"1???\",'Accounting Data'!$J$2:$J$100000,\"67??\")","v":0},{"$f":"SUMIFS('Accounting Data'!$C$2:$C$100000,'Accounting Data'!$E$2:$E$100000,\"9??\",'Accounting Data'!$H$2:$H$100000,\"7??\",'Accounting Data'!$I$2:$I$100000,\"1???\",'Accounting Data'!$J$2:$J$100000,\"67??\")+SUMIFS('Accounting Data'!$C$2:$C$100000,'Accounting Data'!$E$2:$E$100000,\"9??\",'Accounting Data'!$H$2:$H$100000,\"8??\",'Accounting Data'!$I$2:$I$100000,\"1???\",'Accounting Data'!$J$2:$J$100000,\"67??\")+SUMIFS('Accounting Data'!$C$2:$C$100000,'Accounting Data'!$E$2:$E$100000,\"9??\",'Accounting Data'!$H$2:$H$100000,\"9??\",'Accounting Data'!$I$2:$I$100000,\"1???\",'Accounting Data'!$J$2:$J$100000,\"67??\")","v":0},null,1000,{"$f":"SUMIFS('Accounting Data'!C2:C100000,'Accounting Data'!I2:I100000,\"1???\",'Accounting Data'!J2:J100000,\"681?\")","v":1699},{"$f":"SUMIFS('Accounting Data'!$C$2:$C$100000,'Accounting Data'!$E$2:$E$100000,\"575\",'Accounting Data'!$I$2:$I$100000,\"1???\",'Accounting Data'!$J$2:$J$100000,\"681?\")+SUMIFS('Accounting Data'!$C$2:$C$100000,'Accounting Data'!$E$2:$E$100000,\"8??\",'Accounting Data'!$I$2:$I$100000,\"1???\",'Accounting Data'!$J$2:$J$100000,\"681?\")+SUMIFS('Accounting Data'!$C$2:$C$100000,'Accounting Data'!$E$2:$E$100000,\"9??\",'Accounting Data'!$I$2:$I$100000,\"1???\",'Accounting Data'!$J$2:$J$100000,\"681?\")","v":0},{"$f":"SUMIFS('Accounting Data'!$C$2:$C$100000,'Accounting Data'!$H$2:$H$100000,\"7??\",'Accounting Data'!$I$2:$I$100000,\"1???\",'Accounting Data'!$J$2:$J$100000,\"681?\")+SUMIFS('Accounting Data'!$C$2:$C$100000,'Accounting Data'!$H$2:$H$100000,\"8??\",'Accounting Data'!$I$2:$I$100000,\"1???\",'Accounting Data'!$J$2:$J$100000,\"681?\")+SUMIFS('Accounting Data'!$C$2:$C$100000,'Accounting Data'!$H$2:$H$100000,\"9??\",'Accounting Data'!$I$2:$I$100000,\"1???\",'Accounting Data'!$J$2:$J$100000,\"681?\")","v":0},{"$f":"SUMIFS('Accounting Data'!$C$2:$C$100000,'Accounting Data'!$E$2:$E$100000,\"575\",'Accounting Data'!$H$2:$H$100000,\"7??\",'Accounting Data'!$I$2:$I$100000,\"1???\",'Accounting Data'!$J$2:$J$100000,\"681?\")+SUMIFS('Accounting Data'!$C$2:$C$100000,'Accounting Data'!$E$2:$E$100000,\"575\",'Accounting Data'!$H$2:$H$100000,\"8??\",'Accounting Data'!$I$2:$I$100000,\"1???\",'Accounting Data'!$J$2:$J$100000,\"681?\")+SUMIFS('Accounting Data'!$C$2:$C$100000,'Accounting Data'!$E$2:$E$100000,\"575\",'Accounting Data'!$H$2:$H$100000,\"9??\",'Accounting Data'!$I$2:$I$100000,\"1???\",'Accounting Data'!$J$2:$J$100000,\"681?\")","v":0},{"$f":"SUMIFS('Accounting Data'!$C$2:$C$100000,'Accounting Data'!$E$2:$E$100000,\"8??\",'Accounting Data'!$H$2:$H$100000,\"7??\",'Accounting Data'!$I$2:$I$100000,\"1???\",'Accounting Data'!$J$2:$J$100000,\"681?\")+SUMIFS('Accounting Data'!$C$2:$C$100000,'Accounting Data'!$E$2:$E$100000,\"8??\",'Accounting Data'!$H$2:$H$100000,\"8??\",'Accounting Data'!$I$2:$I$100000,\"1???\",'Accounting Data'!$J$2:$J$100000,\"681?\")+SUMIFS('Accounting Data'!$C$2:$C$100000,'Accounting Data'!$E$2:$E$100000,\"8??\",'Accounting Data'!$H$2:$H$100000,\"9??\",'Accounting Data'!$I$2:$I$100000,\"1???\",'Accounting Data'!$J$2:$J$100000,\"681?\")","v":0},{"$f":"SUMIFS('Accounting Data'!$C$2:$C$100000,'Accounting Data'!$E$2:$E$100000,\"9??\",'Accounting Data'!$H$2:$H$100000,\"7??\",'Accounting Data'!$I$2:$I$100000,\"1???\",'Accounting Data'!$J$2:$J$100000,\"681?\")+SUMIFS('Accounting Data'!$C$2:$C$100000,'Accounting Data'!$E$2:$E$100000,\"9??\",'Accounting Data'!$H$2:$H$100000,\"8??\",'Accounting Data'!$I$2:$I$100000,\"1???\",'Accounting Data'!$J$2:$J$100000,\"681?\")+SUMIFS('Accounting Data'!$C$2:$C$100000,'Accounting Data'!$E$2:$E$100000,\"9??\",'Accounting Data'!$H$2:$H$100000,\"9??\",'Accounting Data'!$I$2:$I$100000,\"1???\",'Accounting Data'!$J$2:$J$100000,\"681?\")","v":0},null,null,null,null,null,null,null,null,null,null,null,null,null,null,null,null,null,1000,{"$f":"SUM(SUMIFS('Accounting Data'!C2:C100000,'Accounting Data'!I2:I100000,\"1???\",'Accounting Data'!J2:J100000,{\"689?\",\"6885\"}))","v":195814},{"$f":"SUM(SUMIFS('Accounting Data'!$C$2:$C$100000,'Accounting Data'!$E$2:$E$100000,\"575\",'Accounting Data'!$I$2:$I$100000,\"1???\",'Accounting Data'!$J$2:$J$100000,{\"689?\",\"6885\"}))+SUM(SUMIFS('Accounting Data'!$C$2:$C$100000,'Accounting Data'!$E$2:$E$100000,\"8??\",'Accounting Data'!$I$2:$I$100000,\"1???\",'Accounting Data'!$J$2:$J$100000,{\"689?\",\"6885\"}))+SUM(SUMIFS('Accounting Data'!$C$2:$C$100000,'Accounting Data'!$E$2:$E$100000,\"9??\",'Accounting Data'!$I$2:$I$100000,\"1???\",'Accounting Data'!$J$2:$J$100000,{\"689?\",\"6885\"}))","v":3415},{"$f":"SUM(SUMIFS('Accounting Data'!$C$2:$C$100000,'Accounting Data'!$H$2:$H$100000,\"7??\",'Accounting Data'!$I$2:$I$100000,\"1???\",'Accounting Data'!$J$2:$J$100000,{\"689?\",\"6885\"}))+SUM(SUMIFS('Accounting Data'!$C$2:$C$100000,'Accounting Data'!$H$2:$H$100000,\"8??\",'Accounting Data'!$I$2:$I$100000,\"1???\",'Accounting Data'!$J$2:$J$100000,{\"689?\",\"6885\"}))+SUM(SUMIFS('Accounting Data'!$C$2:$C$100000,'Accounting Data'!$H$2:$H$100000,\"9??\",'Accounting Data'!$I$2:$I$100000,\"1???\",'Accounting Data'!$J$2:$J$100000,{\"689?\",\"6885\"}))","v":0},{"$f":"SUM(SUMIFS('Accounting Data'!$C$2:$C$100000,'Accounting Data'!$E$2:$E$100000,\"575\",'Accounting Data'!$H$2:$H$100000,\"7??\",'Accounting Data'!$I$2:$I$100000,\"1???\",'Accounting Data'!$J$2:$J$100000,{\"689?\",\"6885\"}))+SUM(SUMIFS('Accounting Data'!$C$2:$C$100000,'Accounting Data'!$E$2:$E$100000,\"575\",'Accounting Data'!$H$2:$H$100000,\"8??\",'Accounting Data'!$I$2:$I$100000,\"1???\",'Accounting Data'!$J$2:$J$100000,{\"689?\",\"6885\"}))+SUM(SUMIFS('Accounting Data'!$C$2:$C$100000,'Accounting Data'!$E$2:$E$100000,\"575\",'Accounting Data'!$H$2:$H$100000,\"9??\",'Accounting Data'!$I$2:$I$100000,\"1???\",'Accounting Data'!$J$2:$J$100000,{\"689?\",\"6885\"}))","v":0},{"$f":"SUM(SUMIFS('Accounting Data'!$C$2:$C$100000,'Accounting Data'!$E$2:$E$100000,\"8??\",'Accounting Data'!$H$2:$H$100000,\"7??\",'Accounting Data'!$I$2:$I$100000,\"1???\",'Accounting Data'!$J$2:$J$100000,{\"689?\",\"6885\"}))+SUM(SUMIFS('Accounting Data'!$C$2:$C$100000,'Accounting Data'!$E$2:$E$100000,\"8??\",'Accounting Data'!$H$2:$H$100000,\"8??\",'Accounting Data'!$I$2:$I$100000,\"1???\",'Accounting Data'!$J$2:$J$100000,{\"689?\",\"6885\"}))+SUM(SUMIFS('Accounting Data'!$C$2:$C$100000,'Accounting Data'!$E$2:$E$100000,\"8??\",'Accounting Data'!$H$2:$H$100000,\"9??\",'Accounting Data'!$I$2:$I$100000,\"1???\",'Accounting Data'!$J$2:$J$100000,{\"689?\",\"6885\"}))","v":0},{"$f":"SUM(SUMIFS('Accounting Data'!$C$2:$C$100000,'Accounting Data'!$E$2:$E$100000,\"9??\",'Accounting Data'!$H$2:$H$100000,\"7??\",'Accounting Data'!$I$2:$I$100000,\"1???\",'Accounting Data'!$J$2:$J$100000,{\"689?\",\"6885\"}))+SUM(SUMIFS('Accounting Data'!$C$2:$C$100000,'Accounting Data'!$E$2:$E$100000,\"9??\",'Accounting Data'!$H$2:$H$100000,\"8??\",'Accounting Data'!$I$2:$I$100000,\"1???\",'Accounting Data'!$J$2:$J$100000,{\"689?\",\"6885\"}))+SUM(SUMIFS('Accounting Data'!$C$2:$C$100000,'Accounting Data'!$E$2:$E$100000,\"9??\",'Accounting Data'!$H$2:$H$100000,\"9??\",'Accounting Data'!$I$2:$I$100000,\"1???\",'Accounting Data'!$J$2:$J$100000,{\"689?\",\"6885\"}))","v":0},null,1000,{"$f":"SUMIFS('Accounting Data'!$C$2:$C$100000,'Accounting Data'!$H$2:$H$100000,\"7??\",'Accounting Data'!$I$2:$I$100000,\"1???\",'Accounting Data'!$J$2:$J$100000,\"6???\")+SUMIFS('Accounting Data'!$C$2:$C$100000,'Accounting Data'!$H$2:$H$100000,\"8??\",'Accounting Data'!$I$2:$I$100000,\"1???\",'Accounting Data'!$J$2:$J$100000,\"6???\")+SUMIFS('Accounting Data'!$C$2:$C$100000,'Accounting Data'!$H$2:$H$100000,\"9??\",'Accounting Data'!$I$2:$I$100000,\"1???\",'Accounting Data'!$J$2:$J$100000,\"6???\")","v":0},{"$f":"SUMIFS('Accounting Data'!$C$2:$C$100000,'Accounting Data'!$H$2:$H$100000,\"7??\",'Accounting Data'!$I$2:$I$100000,\"1???\",'Accounting Data'!$J$2:$J$100000,\"69??\")+SUMIFS('Accounting Data'!$C$2:$C$100000,'Accounting Data'!$H$2:$H$100000,\"8??\",'Accounting Data'!$I$2:$I$100000,\"1???\",'Accounting Data'!$J$2:$J$100000,\"69??\")+SUMIFS('Accounting Data'!$C$2:$C$100000,'Accounting Data'!$H$2:$H$100000,\"9??\",'Accounting Data'!$I$2:$I$100000,\"1???\",'Accounting Data'!$J$2:$J$100000,\"69??\")","v":0},{"$f":"SUMIFS('Accounting Data'!$C$2:$C$100000,'Accounting Data'!$E$2:$E$100000,\"575\",'Accounting Data'!$H$2:$H$100000,\"7??\",'Accounting Data'!$I$2:$I$100000,\"1???\",'Accounting Data'!$J$2:$J$100000,\"6???\")+SUMIFS('Accounting Data'!$C$2:$C$100000,'Accounting Data'!$E$2:$E$100000,\"575\",'Accounting Data'!$H$2:$H$100000,\"8??\",'Accounting Data'!$I$2:$I$100000,\"1???\",'Accounting Data'!$J$2:$J$100000,\"6???\")+SUMIFS('Accounting Data'!$C$2:$C$100000,'Accounting Data'!$E$2:$E$100000,\"575\",'Accounting Data'!$H$2:$H$100000,\"9??\",'Accounting Data'!$I$2:$I$100000,\"1???\",'Accounting Data'!$J$2:$J$100000,\"6???\")","v":0},{"$f":"SUMIFS('Accounting Data'!$C$2:$C$100000,'Accounting Data'!$E$2:$E$100000,\"8??\",'Accounting Data'!$H$2:$H$100000,\"7??\",'Accounting Data'!$I$2:$I$100000,\"1???\",'Accounting Data'!$J$2:$J$100000,\"6???\")+SUMIFS('Accounting Data'!$C$2:$C$100000,'Accounting Data'!$E$2:$E$100000,\"8??\",'Accounting Data'!$H$2:$H$100000,\"8??\",'Accounting Data'!$I$2:$I$100000,\"1???\",'Accounting Data'!$J$2:$J$100000,\"6???\")+SUMIFS('Accounting Data'!$C$2:$C$100000,'Accounting Data'!$E$2:$E$100000,\"8??\",'Accounting Data'!$H$2:$H$100000,\"9??\",'Accounting Data'!$I$2:$I$100000,\"1???\",'Accounting Data'!$J$2:$J$100000,\"6???\")+SUMIFS('Accounting Data'!$C$2:$C$100000,'Accounting Data'!$E$2:$E$100000,\"9??\",'Accounting Data'!$H$2:$H$100000,\"7??\",'Accounting Data'!$I$2:$I$100000,\"1???\",'Accounting Data'!$J$2:$J$100000,\"6???\")+SUMIFS('Accounting Data'!$C$2:$C$100000,'Accounting Data'!$E$2:$E$100000,\"9??\",'Accounting Data'!$H$2:$H$100000,\"8??\",'Accounting Data'!$I$2:$I$100000,\"1???\",'Accounting Data'!$J$2:$J$100000,\"6???\")+SUMIFS('Accounting Data'!$C$2:$C$100000,'Accounting Data'!$E$2:$E$100000,\"9??\",'Accounting Data'!$H$2:$H$100000,\"9??\",'Accounting Data'!$I$2:$I$100000,\"1???\",'Accounting Data'!$J$2:$J$100000,\"6???\")","v":0},{"$f":"SUMIFS('Accounting Data'!$C$2:$C$100000,'Accounting Data'!$E$2:$E$100000,\"575\",'Accounting Data'!$H$2:$H$100000,\"7??\",'Accounting Data'!$I$2:$I$100000,\"1???\",'Accounting Data'!$J$2:$J$100000,\"69??\")+SUMIFS('Accounting Data'!$C$2:$C$100000,'Accounting Data'!$E$2:$E$100000,\"575\",'Accounting Data'!$H$2:$H$100000,\"8??\",'Accounting Data'!$I$2:$I$100000,\"1???\",'Accounting Data'!$J$2:$J$100000,\"69??\")+SUMIFS('Accounting Data'!$C$2:$C$100000,'Accounting Data'!$E$2:$E$100000,\"575\",'Accounting Data'!$H$2:$H$100000,\"9??\",'Accounting Data'!$I$2:$I$100000,\"1???\",'Accounting Data'!$J$2:$J$100000,\"69??\")","v":0},{"$f":"SUMIFS('Accounting Data'!$C$2:$C$100000,'Accounting Data'!$E$2:$E$100000,\"8??\",'Accounting Data'!$H$2:$H$100000,\"7??\",'Accounting Data'!$I$2:$I$100000,\"1???\",'Accounting Data'!$J$2:$J$100000,\"69??\")+SUMIFS('Accounting Data'!$C$2:$C$100000,'Accounting Data'!$E$2:$E$100000,\"8??\",'Accounting Data'!$H$2:$H$100000,\"8??\",'Accounting Data'!$I$2:$I$100000,\"1???\",'Accounting Data'!$J$2:$J$100000,\"69??\")+SUMIFS('Accounting Data'!$C$2:$C$100000,'Accounting Data'!$E$2:$E$100000,\"8??\",'Accounting Data'!$H$2:$H$100000,\"9??\",'Accounting Data'!$I$2:$I$100000,\"1???\",'Accounting Data'!$J$2:$J$100000,\"69??\")+SUMIFS('Accounting Data'!$C$2:$C$100000,'Accounting Data'!$E$2:$E$100000,\"9??\",'Accounting Data'!$H$2:$H$100000,\"7??\",'Accounting Data'!$I$2:$I$100000,\"1???\",'Accounting Data'!$J$2:$J$100000,\"69??\")+SUMIFS('Accounting Data'!$C$2:$C$100000,'Accounting Data'!$E$2:$E$100000,\"9??\",'Accounting Data'!$H$2:$H$100000,\"8??\",'Accounting Data'!$I$2:$I$100000,\"1???\",'Accounting Data'!$J$2:$J$100000,\"69??\")+SUMIFS('Accounting Data'!$C$2:$C$100000,'Accounting Data'!$E$2:$E$100000,\"9??\",'Accounting Data'!$H$2:$H$100000,\"9??\",'Accounting Data'!$I$2:$I$100000,\"1???\",'Accounting Data'!$J$2:$J$100000,\"69??\")","v":0}]
["2000 Support Services",null,null,null,null,null,null,null,null,null,null,null,null,null,null,null,null,null,"Total food service expenses minus commodities",null,null,null,null,null,null,null,null,null,null,null,null,null,null,null,null,null,null,null,null,null,null,null,null,null,null,null,null,null,null,null,null,null,null,null,null,null,null,null,null,null,null,null,null,null,null,null,null,null,null,null,null,null,null,null,null,null,null,null,null,null,null,"Object 6820"]
["         2100 Students","2.",{"$f":"(AA12-AB12-AC12)+(AD12+AE12+AF12)","v":2108408},{"$f":"(AI12-AJ12-AK12)+(AL12+AM12+AN12)","v":692731},{"$f":"(AQ12-AR12-AS12-AT12-AU12)+(AV12+AW12+AX12+AY12+AZ12+BA12+BB12+BC12+BD12)","v":1154916},{"$f":"(BG12-BH12-BI12)+(BJ12+BK12+BL12)","v":79956},{"$f":"(BO12-BP12-BQ12)+(BR12+BS12+BT12)","v":15863},{"$f":"(BW12-BX12-BY12)+(BZ12+CA12+CB12)","v":0},null,null,null,{"$f":"(CU12-CV12-CW12)+(CX12+CY12+CZ12)","v":0},{"$f":"(DC12-DD12)-((DE12+DF12)-(DG12+DH12))","v":0},{"$f":"SUM(C12:M12)","v":4051874},"2.",null,null,null,null,null,null,null,null,null,null,2100,{"$f":"SUMIFS('Accounting Data'!C2:C100000,'Accounting Data'!I2:I100000,\"21??\",'Accounting Data'!J2:J100000,\"61??\")","v":2108408},{"$f":"SUMIFS('Accounting Data'!C2:C100000,'Accounting Data'!E2:E100000,\"575\",'Accounting Data'!I2:I100000,\"21??\",'Accounting Data'!J2:J100000,\"61??\")+SUMIFS('Accounting Data'!C2:C100000,'Accounting Data'!E2:E100000,\"8??\",'Accounting Data'!I2:I100000,\"21??\",'Accounting Data'!J2:J100000,\"61??\")+SUMIFS('Accounting Data'!C2:C100000,'Accounting Data'!E2:E100000,\"9??\",'Accounting Data'!I2:I100000,\"21??\",'Accounting Data'!J2:J100000,\"61??\")","v":0},{"$f":"SUMIFS('Accounting Data'!C2:C100000,'Accounting Data'!H2:H100000,\"7??\",'Accounting Data'!I2:I100000,\"21??\",'Accounting Data'!J2:J100000,\"61??\")+SUMIFS('Accounting Data'!C2:C100000,'Accounting Data'!H2:H100000,\"8??\",'Accounting Data'!I2:I100000,\"21??\",'Accounting Data'!J2:J100000,\"61??\")+SUMIFS('Accounting Data'!C2:C100000,'Accounting Data'!H2:H100000,\"9??\",'Accounting Data'!I2:I100000,\"21??\",'Accounting Data'!J2:J100000,\"61??\")","v":0},{"$f":"SUMIFS('Accounting Data'!C2:C100000,'Accounting Data'!E2:E100000,\"575\",'Accounting Data'!H2:H100000,\"7??\",'Accounting Data'!I2:I100000,\"21??\",'Accounting Data'!J2:J100000,\"61??\")+SUMIFS('Accounting Data'!C2:C100000,'Accounting Data'!E2:E100000,\"575\",'Accounting Data'!H2:H100000,\"8??\",'Accounting Data'!I2:I100000,\"21??\",'Accounting Data'!J2:J100000,\"61??\")+SUMIFS('Accounting Data'!C2:C100000,'Accounting Data'!E2:E100000,\"575\",'Accounting Data'!H2:H100000,\"9??\",'Accounting Data'!I2:I100000,\"21??\",'Accounting Data'!J2:J100000,\"61??\")","v":0},{"$f":"SUMIFS('Accounting Data'!C2:C100000,'Accounting Data'!E2:E100000,\"8??\",'Accounting Data'!H2:H100000,\"7??\",'Accounting Data'!I2:I100000,\"21??\",'Accounting Data'!J2:J100000,\"61??\")+SUMIFS('Accounting Data'!C2:C100000,'Accounting Data'!E2:E100000,\"8??\",'Accounting Data'!H2:H100000,\"8??\",'Accounting Data'!I2:I100000,\"21??\",'Accounting Data'!J2:J100000,\"61??\")+SUMIFS('Accounting Data'!C2:C100000,'Accounting Data'!E2:E100000,\"8??\",'Accounting Data'!H2:H100000,\"9??\",'Accounting Data'!I2:I100000,\"21??\",'Accounting Data'!J2:J100000,\"61??\")","v":0},{"$f":"SUMIFS('Accounting Data'!C2:C100000,'Accounting Data'!E2:E100000,\"9??\",'Accounting Data'!H2:H100000,\"7??\",'Accounting Data'!I2:I100000,\"21??\",'Accounting Data'!J2:J100000,\"61??\")+SUMIFS('Accounting Data'!C2:C100000,'Accounting Data'!E2:E100000,\"9??\",'Accounting Data'!H2:H100000,\"8??\",'Accounting Data'!I2:I100000,\"21??\",'Accounting Data'!J2:J100000,\"61??\")+SUMIFS('Accounting Data'!C2:C100000,'Accounting Data'!E2:E100000,\"9??\",'Accounting Data'!H2:H100000,\"9??\",'Accounting Data'!I2:I100000,\"21??\",'Accounting Data'!J2:J100000,\"61??\")","v":0},null,2100,{"$f":"SUMIFS('Accounting Data'!C2:C100000,'Accounting Data'!I2:I100000,\"21??\",'Accounting Data'!J2:J100000,\"62??\")","v":692731},{"$f":"SUMIFS('Accounting Data'!C2:C100000,'Accounting Data'!E2:E100000,\"575\",'Accounting Data'!I2:I100000,\"21??\",'Accounting Data'!J2:J100000,\"62??\")+SUMIFS('Accounting Data'!C2:C100000,'Accounting Data'!E2:E100000,\"8??\",'Accounting Data'!I2:I100000,\"21??\",'Accounting Data'!J2:J100000,\"62??\")+SUMIFS('Accounting Data'!C2:C100000,'Accounting Data'!E2:E100000,\"9??\",'Accounting Data'!I2:I100000,\"21??\",'Accounting Data'!J2:J100000,\"62??\")","v":0},{"$f":"SUMIFS('Accounting Data'!C2:C100000,'Accounting Data'!H2:H100000,\"7??\",'Accounting Data'!I2:I100000,\"21??\",'Accounting Data'!J2:J100000,\"62??\")+SUMIFS('Accounting Data'!C2:C100000,'Accounting Data'!H2:H100000,\"8??\",'Accounting Data'!I2:I100000,\"21??\",'Accounting Data'!J2:J100000,\"62??\")+SUMIFS('Accounting Data'!C2:C100000,'Accounting Data'!H2:H100000,\"9??\",'Accounting Data'!I2:I100000,\"21??\",'Accounting Data'!J2:J100000,\"62??\")","v":0},{"$f":"SUMIFS('Accounting Data'!C2:C100000,'Accounting Data'!E2:E100000,\"575\",'Accounting Data'!H2:H100000,\"7??\",'Accounting Data'!I2:I100000,\"21??\",'Accounting Data'!J2:J100000,\"62??\")+SUMIFS('Accounting Data'!C2:C100000,'Accounting Data'!E2:E100000,\"575\",'Accounting Data'!H2:H100000,\"8??\",'Accounting Data'!I2:I100000,\"21??\",'Accounting Data'!J2:J100000,\"62??\")+SUMIFS('Accounting Data'!C2:C100000,'Accounting Data'!E2:E100000,\"575\",'Accounting Data'!H2:H100000,\"9??\",'Accounting Data'!I2:I100000,\"21??\",'Accounting Data'!J2:J100000,\"62??\")","v":0},{"$f":"SUMIFS('Accounting Data'!C2:C100000,'Accounting Data'!E2:E100000,\"8??\",'Accounting Data'!H2:H100000,\"7??\",'Accounting Data'!I2:I100000,\"21??\",'Accounting Data'!J2:J100000,\"62??\")+SUMIFS('Accounting Data'!C2:C100000,'Accounting Data'!E2:E100000,\"8??\",'Accounting Data'!H2:H100000,\"8??\",'Accounting Data'!I2:I100000,\"21??\",'Accounting Data'!J2:J100000,\"62??\")+SUMIFS('Accounting Data'!C2:C100000,'Accounting Data'!E2:E100000,\"8??\",'Accounting Data'!H2:H100000,\"9??\",'Accounting Data'!I2:I100000,\"21??\",'Accounting Data'!J2:J100000,\"62??\")","v":0},{"$f":"SUMIFS('Accounting Data'!C2:C100000,'Accounting Data'!E2:E100000,\"9??\",'Accounting Data'!H2:H100000,\"7??\",'Accounting Data'!I2:I100000,\"21??\",'Accounting Data'!J2:J100000,\"62??\")+SUMIFS('Accounting Data'!C2:C100000,'Accounting Data'!E2:E100000,\"9??\",'Accounting Data'!H2:H100000,\"8??\",'Accounting Data'!I2:I100000,\"21??\",'Accounting Data'!J2:J100000,\"62??\")+SUMIFS('Accounting Data'!C2:C100000,'Accounting Data'!E2:E100000,\"9??\",'Accounting Data'!H2:H100000,\"9??\",'Accounting Data'!I2:I100000,\"21??\",'Accounting Data'!J2:J100000,\"62??\")","v":0},null,2100,{"$f":"SUMIFS('Accounting Data'!C2:C100000,'Accounting Data'!I2:I100000,\"21??\",'Accounting Data'!J2:J100000,\"63??\")+SUMIFS('Accounting Data'!C2:C100000,'Accounting Data'!I2:I100000,\"21??\",'Accounting Data'!J2:J100000,\"64??\")+SUMIFS('Accounting Data'!C2:C100000,'Accounting Data'!I2:I100000,\"21??\",'Accounting Data'!J2:J100000,\"65??\")","v":1154916},{"$f":"SUMIFS('Accounting Data'!C2:C100000,'Accounting Data'!E2:E100000,\"575\",'Accounting Data'!I2:I100000,\"21??\",'Accounting Data'!J2:J100000,\"63??\")+SUMIFS('Accounting Data'!C2:C100000,'Accounting Data'!E2:E100000,\"8??\",'Accounting Data'!I2:I100000,\"21??\",'Accounting Data'!J2:J100000,\"63??\")+SUMIFS('Accounting Data'!C2:C100000,'Accounting Data'!E2:E100000,\"9??\",'Accounting Data'!I2:I100000,\"21??\",'Accounting Data'!J2:J100000,\"63??\")","v":0},{"$f":"SUMIFS('Accounting Data'!C2:C100000,'Accounting Data'!E2:E100000,\"575\",'Accounting Data'!I2:I100000,\"21??\",'Accounting Data'!J2:J100000,\"64??\")+SUMIFS('Accounting Data'!C2:C100000,'Accounting Data'!E2:E100000,\"8??\",'Accounting Data'!I2:I100000,\"21??\",'Accounting Data'!J2:J100000,\"64??\")+SUMIFS('Accounting Data'!C2:C100000,'Accounting Data'!E2:E100000,\"9??\",'Accounting Data'!I2:I100000,\"21??\",'Accounting Data'!J2:J100000,\"64??\")","v":0},{"$f":"SUMIFS('Accounting Data'!C2:C100000,'Accounting Data'!E2:E100000,\"575\",'Accounting Data'!I2:I100000,\"21??\",'Accounting Data'!J2:J100000,\"65??\")+SUMIFS('Accounting Data'!C2:C100000,'Accounting Data'!E2:E100000,\"8??\",'Accounting Data'!I2:I100000,\"21??\",'Accounting Data'!J2:J100000,\"65??\")+SUMIFS('Accounting Data'!C2:C100000,'Accounting Data'!E2:E100000,\"9??\",'Accounting Data'!I2:I100000,\"21??\",'Accounting Data'!J2:J100000,\"65??\")","v":0},{"$f":"SUMIFS('Accounting Data'!C2:C100000,'Accounting Data'!H2:H100000,\"7??\",'Accounting Data'!I2:I100000,\"21??\",'Accounting Data'!J2:J100000,\"63??\")+SUMIFS('Accounting Data'!C2:C100000,'Accounting Data'!H2:H100000,\"8??\",'Accounting Data'!I2:I100000,\"21??\",'Accounting Data'!J2:J100000,\"63??\")+SUMIFS('Accounting Data'!C2:C100000,'Accounting Data'!H2:H100000,\"9??\",'Accounting Data'!I2:I100000,\"21??\",'Accounting Data'!J2:J100000,\"63??\")+SUMIFS('Accounting Data'!C2:C100000,'Accounting Data'!H2:H100000,\"7??\",'Accounting Data'!I2:I100000,\"21??\",'Accounting Data'!J2:J100000,\"64??\")+SUMIFS('Accounting Data'!C2:C100000,'Accounting Data'!H2:H100000,\"8??\",'Accounting Data'!I2:I100000,\"21??\",'Accounting Data'!J2:J100000,\"64??\")+SUMIFS('Accounting Data'!C2:C100000,'Accounting Data'!H2:H100000,\"9??\",'Accounting Data'!I2:I100000,\"21??\",'Accounting Data'!J2:J100000,\"64??\")+SUMIFS('Accounting Data'!C2:C100000,'Accounting Data'!H2:H100000,\"7??\",'Accounting Data'!I2:I100000,\"21??\",'Accounting Data'!J2:J100000,\"65??\")+SUMIFS('Accounting Data'!C2:C100000,'Accounting Data'!H2:H100000,\"8??\",'Accounting Data'!I2:I100000,\"21??\",'Accounting Data'!J2:J100000,\"65??\")+SUMIFS('Accounting Data'!C2:C100000,'Accounting Data'!H2:H100000,\"9??\",'Accounting Data'!I2:I100000,\"21??\",'Accounting Data'!J2:J100000,\"65??\")","v":0},{"$f":"SUMIFS('Accounting Data'!C2:C100000,'Accounting Data'!E2:E100000,\"575\",'Accounting Data'!H2:H100000,\"7??\",'Accounting Data'!I2:I100000,\"21??\",'Accounting Data'!J2:J100000,\"63??\")+SUMIFS('Accounting Data'!C2:C100000,'Accounting Data'!E2:E100000,\"575\",'Accounting Data'!H2:H100000,\"8??\",'Accounting Data'!I2:I100000,\"21??\",'Accounting Data'!J2:J100000,\"63??\")+SUMIFS('Accounting Data'!C2:C100000,'Accounting Data'!E2:E100000,\"575\",'Accounting Data'!H2:H100000,\"9??\",'Accounting Data'!I2:I100000,\"21??\",'Accounting Data'!J2:J100000,\"63??\")","v":0},{"$f":"SUMIFS('Accounting Data'!C2:C100000,'Accounting Data'!E2:E100000,\"575\",'Accounting Data'!H2:H100000,\"7??\",'Accounting Data'!I2:I100000,\"21??\",'Accounting Data'!J2:J100000,\"64??\")+SUMIFS('Accounting Data'!C2:C100000,'Accounting Data'!E2:E100000,\"575\",'Accounting Data'!H2:H100000,\"8??\",'Accounting Data'!I2:I100000,\"21??\",'Accounting Data'!J2:J100000,\"64??\")+SUMIFS('Accounting Data'!C2:C100000,'Accounting Data'!E2:E100000,\"575\",'Accounting Data'!H2:H100000,\"9??\",'Accounting Data'!I2:I100000,\"21??\",'Accounting Data'!J2:J100000,\"64??\")","v":0},{"$f":"SUMIFS('Accounting Data'!C2:C100000,'Accounting Data'!E2:E100000,\"575\",'Accounting Data'!H2:H100000,\"7??\",'Accounting Data'!I2:I100000,\"21??\",'Accounting Data'!J2:J100000,\"65??\")+SUMIFS('Accounting Data'!C2:C100000,'Accounting Data'!E2:E100000,\"575\",'Accounting Data'!H2:H100000,\"8??\",'Accounting Data'!I2:I100000,\"21??\",'Accounting Data'!J2:J100000,\"65??\")+SUMIFS('Accounting Data'!C2:C100000,'Accounting Data'!E2:E100000,\"575\",'Accounting Data'!H2:H100000,\"9??\",'Accounting Data'!I2:I100000,\"21??\",'Accounting Data'!J2:J100000,\"65??\")","v":0},{"$f":"SUMIFS('Accounting Data'!C2:C100000,'Accounting Data'!E2:E100000,\"8??\",'Accounting Data'!H2:H100000,\"7??\",'Accounting Data'!I2:I100000,\"21??\",'Accounting Data'!J2:J100000,\"63??\")+SUMIFS('Accounting Data'!C2:C100000,'Accounting Data'!E2:E100000,\"8??\",'Accounting Data'!H2:H100000,\"8??\",'Accounting Data'!I2:I100000,\"21??\",'Accounting Data'!J2:J100000,\"63??\")+SUMIFS('Accounting Data'!C2:C100000,'Accounting Data'!E2:E100000,\"8??\",'Accounting Data'!H2:H100000,\"9??\",'Accounting Data'!I2:I100000,\"21??\",'Accounting Data'!J2:J100000,\"63??\")","v":0},{"$f":"SUMIFS('Accounting Data'!C2:C100000,'Accounting Data'!E2:E100000,\"8??\",'Accounting Data'!H2:H100000,\"7??\",'Accounting Data'!I2:I100000,\"21??\",'Accounting Data'!J2:J100000,\"64??\")+SUMIFS('Accounting Data'!C2:C100000,'Accounting Data'!E2:E100000,\"8??\",'Accounting Data'!H2:H100000,\"8??\",'Accounting Data'!I2:I100000,\"21??\",'Accounting Data'!J2:J100000,\"64??\")+SUMIFS('Accounting Data'!C2:C100000,'Accounting Data'!E2:E100000,\"8??\",'Accounting Data'!H2:H100000,\"9??\",'Accounting Data'!I2:I100000,\"21??\",'Accounting Data'!J2:J100000,\"64??\")","v":0},{"$f":"SUMIFS('Accounting Data'!C2:C100000,'Accounting Data'!E2:E100000,\"8??\",'Accounting Data'!H2:H100000,\"7??\",'Accounting Data'!I2:I100000,\"21??\",'Accounting Data'!J2:J100000,\"65??\")+SUMIFS('Accounting Data'!C2:C100000,'Accounting Data'!E2:E100000,\"8??\",'Accounting Data'!H2:H100000,\"8??\",'Accounting Data'!I2:I100000,\"21??\",'Accounting Data'!J2:J100000,\"65??\")+SUMIFS('Accounting Data'!C2:C100000,'Accounting Data'!E2:E100000,\"8??\",'Accounting Data'!H2:H100000,\"9??\",'Accounting Data'!I2:I100000,\"21??\",'Accounting Data'!J2:J100000,\"65??\")","v":0},{"$f":"SUMIFS('Accounting Data'!C2:C100000,'Accounting Data'!E2:E100000,\"9??\",'Accounting Data'!H2:H100000,\"7??\",'Accounting Data'!I2:I100000,\"21??\",'Accounting Data'!J2:J100000,\"63??\")+SUMIFS('Accounting Data'!C2:C100000,'Accounting Data'!E2:E100000,\"9??\",'Accounting Data'!H2:H100000,\"8??\",'Accounting Data'!I2:I100000,\"21??\",'Accounting Data'!J2:J100000,\"63??\")+SUMIFS('Accounting Data'!C2:C100000,'Accounting Data'!E2:E100000,\"9??\",'Accounting Data'!H2:H100000,\"9??\",'Accounting Data'!I2:I100000,\"21??\",'Accounting Data'!J2:J100000,\"63??\")","v":0},{"$f":"SUMIFS('Accounting Data'!C2:C100000,'Accounting Data'!E2:E100000,\"9??\",'Accounting Data'!H2:H100000,\"7??\",'Accounting Data'!I2:I100000,\"21??\",'Accounting Data'!J2:J100000,\"64??\")+SUMIFS('Accounting Data'!C2:C100000,'Accounting Data'!E2:E100000,\"9??\",'Accounting Data'!H2:H100000,\"8??\",'Accounting Data'!I2:I100000,\"21??\",'Accounting Data'!J2:J100000,\"64??\")+SUMIFS('Accounting Data'!C2:C100000,'Accounting Data'!E2:E100000,\"9??\",'Accounting Data'!H2:H100000,\"9??\",'Accounting Data'!I2:I100000,\"21??\",'Accounting Data'!J2:J100000,\"64??\")","v":0},{"$f":"SUMIFS('Accounting Data'!C2:C100000,'Accounting Data'!E2:E100000,\"9??\",'Accounting Data'!H2:H100000,\"7??\",'Accounting Data'!I2:I100000,\"21??\",'Accounting Data'!J2:J100000,\"65??\")+SUMIFS('Accounting Data'!C2:C100000,'Accounting Data'!E2:E100000,\"9??\",'Accounting Data'!H2:H100000,\"8??\",'Accounting Data'!I2:I100000,\"21??\",'Accounting Data'!J2:J100000,\"65??\")+SUMIFS('Accounting Data'!C2:C100000,'Accounting Data'!E2:E100000,\"9??\",'Accounting Data'!H2:H100000,\"9??\",'Accounting Data'!I2:I100000,\"21??\",'Accounting Data'!J2:J100000,\"65??\")","v":0},null,2100,{"$f":"SUMIFS('Accounting Data'!C2:C100000,'Accounting Data'!I2:I100000,\"21??\",'Accounting Data'!J2:J100000,\"66??\")","v":79956},{"$f":"SUMIFS('Accounting Data'!$C$2:$C$100000,'Accounting Data'!$E$2:$E$100000,\"575\",'Accounting Data'!$I$2:$I$100000,\"21??\",'Accounting Data'!$J$2:$J$100000,\"66??\")+SUMIFS('Accounting Data'!$C$2:$C$100000,'Accounting Data'!$E$2:$E$100000,\"8??\",'Accounting Data'!$I$2:$I$100000,\"21??\",'Accounting Data'!$J$2:$J$100000,\"66??\")+SUMIFS('Accounting Data'!$C$2:$C$100000,'Accounting Data'!$E$2:$E$100000,\"9??\",'Accounting Data'!$I$2:$I$100000,\"21??\",'Accounting Data'!$J$2:$J$100000,\"66??\")","v":0},{"$f":"SUMIFS('Accounting Data'!$C$2:$C$100000,'Accounting Data'!$H$2:$H$100000,\"7??\",'Accounting Data'!$I$2:$I$100000,\"21??\",'Accounting Data'!$J$2:$J$100000,\"66??\")+SUMIFS('Accounting Data'!$C$2:$C$100000,'Accounting Data'!$H$2:$H$100000,\"8??\",'Accounting Data'!$I$2:$I$100000,\"21??\",'Accounting Data'!$J$2:$J$100000,\"66??\")+SUMIFS('Accounting Data'!$C$2:$C$100000,'Accounting Data'!$H$2:$H$100000,\"9??\",'Accounting Data'!$I$2:$I$100000,\"21??\",'Accounting Data'!$J$2:$J$100000,\"66??\")","v":0},{"$f":"SUMIFS('Accounting Data'!$C$2:$C$100000,'Accounting Data'!$E$2:$E$100000,\"575\",'Accounting Data'!$H$2:$H$100000,\"7??\",'Accounting Data'!$I$2:$I$100000,\"21??\",'Accounting Data'!$J$2:$J$100000,\"66??\")+SUMIFS('Accounting Data'!$C$2:$C$100000,'Accounting Data'!$E$2:$E$100000,\"575\",'Accounting Data'!$H$2:$H$100000,\"8??\",'Accounting Data'!$I$2:$I$100000,\"21??\",'Accounting Data'!$J$2:$J$100000,\"66??\")+SUMIFS('Accounting Data'!$C$2:$C$100000,'Accounting Data'!$E$2:$E$100000,\"575\",'Accounting Data'!$H$2:$H$100000,\"9??\",'Accounting Data'!$I$2:$I$100000,\"21??\",'Accounting Data'!$J$2:$J$100000,\"66??\")","v":0},{"$f":"SUMIFS('Accounting Data'!$C$2:$C$100000,'Accounting Data'!$E$2:$E$100000,\"8??\",'Accounting Data'!$H$2:$H$100000,\"7??\",'Accounting Data'!$I$2:$I$100000,\"21??\",'Accounting Data'!$J$2:$J$100000,\"66??\")+SUMIFS('Accounting Data'!$C$2:$C$100000,'Accounting Data'!$E$2:$E$100000,\"8??\",'Accounting Data'!$H$2:$H$100000,\"8??\",'Accounting Data'!$I$2:$I$100000,\"21??\",'Accounting Data'!$J$2:$J$100000,\"66??\")+SUMIFS('Accounting Data'!$C$2:$C$100000,'Accounting Data'!$E$2:$E$100000,\"8??\",'Accounting Data'!$H$2:$H$100000,\"9??\",'Accounting Data'!$I$2:$I$100000,\"21??\",'Accounting Data'!$J$2:$J$100000,\"66??\")","v":0},{"$f":"SUMIFS('Accounting Data'!$C$2:$C$100000,'Accounting Data'!$E$2:$E$100000,\"9??\",'Accounting Data'!$H$2:$H$100000,\"7??\",'Accounting Data'!$I$2:$I$100000,\"21??\",'Accounting Data'!$J$2:$J$100000,\"66??\")+SUMIFS('Accounting Data'!$C$2:$C$100000,'Accounting Data'!$E$2:$E$100000,\"9??\",'Accounting Data'!$H$2:$H$100000,\"8??\",'Accounting Data'!$I$2:$I$100000,\"21??\",'Accounting Data'!$J$2:$J$100000,\"66??\")+SUMIFS('Accounting Data'!$C$2:$C$100000,'Accounting Data'!$E$2:$E$100000,\"9??\",'Accounting Data'!$H$2:$H$100000,\"9??\",'Accounting Data'!$I$2:$I$100000,\"21??\",'Accounting Data'!$J$2:$J$100000,\"66??\")","v":0},null,2100,{"$f":"SUMIFS('Accounting Data'!C2:C100000,'Accounting Data'!I2:I100000,\"21??\",'Accounting Data'!J2:J100000,\"67??\")","v":15863},{"$f":"SUMIFS('Accounting Data'!$C$2:$C$100000,'Accounting Data'!$E$2:$E$100000,\"575\",'Accounting Data'!$I$2:$I$100000,\"21??\",'Accounting Data'!$J$2:$J$100000,\"67??\")+SUMIFS('Accounting Data'!$C$2:$C$100000,'Accounting Data'!$E$2:$E$100000,\"8??\",'Accounting Data'!$I$2:$I$100000,\"21??\",'Accounting Data'!$J$2:$J$100000,\"67??\")+SUMIFS('Accounting Data'!$C$2:$C$100000,'Accounting Data'!$E$2:$E$100000,\"9??\",'Accounting Data'!$I$2:$I$100000,\"21??\",'Accounting Data'!$J$2:$J$100000,\"67??\")","v":0},{"$f":"SUMIFS('Accounting Data'!$C$2:$C$100000,'Accounting Data'!$H$2:$H$100000,\"7??\",'Accounting Data'!$I$2:$I$100000,\"21??\",'Accounting Data'!$J$2:$J$100000,\"67??\")+SUMIFS('Accounting Data'!$C$2:$C$100000,'Accounting Data'!$H$2:$H$100000,\"8??\",'Accounting Data'!$I$2:$I$100000,\"21??\",'Accounting Data'!$J$2:$J$100000,\"67??\")+SUMIFS('Accounting Data'!$C$2:$C$100000,'Accounting Data'!$H$2:$H$100000,\"9??\",'Accounting Data'!$I$2:$I$100000,\"21??\",'Accounting Data'!$J$2:$J$100000,\"67??\")","v":0},{"$f":"SUMIFS('Accounting Data'!$C$2:$C$100000,'Accounting Data'!$E$2:$E$100000,\"575\",'Accounting Data'!$H$2:$H$100000,\"7??\",'Accounting Data'!$I$2:$I$100000,\"21??\",'Accounting Data'!$J$2:$J$100000,\"67??\")+SUMIFS('Accounting Data'!$C$2:$C$100000,'Accounting Data'!$E$2:$E$100000,\"575\",'Accounting Data'!$H$2:$H$100000,\"8??\",'Accounting Data'!$I$2:$I$100000,\"21??\",'Accounting Data'!$J$2:$J$100000,\"67??\")+SUMIFS('Accounting Data'!$C$2:$C$100000,'Accounting Data'!$E$2:$E$100000,\"575\",'Accounting Data'!$H$2:$H$100000,\"9??\",'Accounting Data'!$I$2:$I$100000,\"21??\",'Accounting Data'!$J$2:$J$100000,\"67??\")","v":0},{"$f":"SUMIFS('Accounting Data'!$C$2:$C$100000,'Accounting Data'!$E$2:$E$100000,\"8??\",'Accounting Data'!$H$2:$H$100000,\"7??\",'Accounting Data'!$I$2:$I$100000,\"21??\",'Accounting Data'!$J$2:$J$100000,\"67??\")+SUMIFS('Accounting Data'!$C$2:$C$100000,'Accounting Data'!$E$2:$E$100000,\"8??\",'Accounting Data'!$H$2:$H$100000,\"8??\",'Accounting Data'!$I$2:$I$100000,\"21??\",'Accounting Data'!$J$2:$J$100000,\"67??\")+SUMIFS('Accounting Data'!$C$2:$C$100000,'Accounting Data'!$E$2:$E$100000,\"8??\",'Accounting Data'!$H$2:$H$100000,\"9??\",'Accounting Data'!$I$2:$I$100000,\"21??\",'Accounting Data'!$J$2:$J$100000,\"67??\")","v":0},{"$f":"SUMIFS('Accounting Data'!$C$2:$C$100000,'Accounting Data'!$E$2:$E$100000,\"9??\",'Accounting Data'!$H$2:$H$100000,\"7??\",'Accounting Data'!$I$2:$I$100000,\"21??\",'Accounting Data'!$J$2:$J$100000,\"67??\")+SUMIFS('Accounting Data'!$C$2:$C$100000,'Accounting Data'!$E$2:$E$100000,\"9??\",'Accounting Data'!$H$2:$H$100000,\"8??\",'Accounting Data'!$I$2:$I$100000,\"21??\",'Accounting Data'!$J$2:$J$100000,\"67??\")+SUMIFS('Accounting Data'!$C$2:$C$100000,'Accounting Data'!$E$2:$E$100000,\"9??\",'Accounting Data'!$H$2:$H$100000,\"9??\",'Accounting Data'!$I$2:$I$100000,\"21??\",'Accounting Data'!$J$2:$J$100000,\"67??\")","v":0},null,2100,{"$f":"SUMIFS('Accounting Data'!C2:C100000,'Accounting Data'!I2:I100000,\"21??\",'Accounting Data'!J2:J100000,\"681?\")","v":0},{"$f":"SUMIFS('Accounting Data'!$C$2:$C$100000,'Accounting Data'!$E$2:$E$100000,\"575\",'Accounting Data'!$I$2:$I$100000,\"21??\",'Accounting Data'!$J$2:$J$100000,\"681?\")+SUMIFS('Accounting Data'!$C$2:$C$100000,'Accounting Data'!$E$2:$E$100000,\"8??\",'Accounting Data'!$I$2:$I$100000,\"21??\",'Accounting Data'!$J$2:$J$100000,\"681?\")+SUMIFS('Accounting Data'!$C$2:$C$100000,'Accounting Data'!$E$2:$E$100000,\"9??\",'Accounting Data'!$I$2:$I$100000,\"21??\",'Accounting Data'!$J$2:$J$100000,\"681?\")","v":0},{"$f":"SUMIFS('Accounting Data'!$C$2:$C$100000,'Accounting Data'!$H$2:$H$100000,\"7??\",'Accounting Data'!$I$2:$I$100000,\"21??\",'Accounting Data'!$J$2:$J$100000,\"681?\")+SUMIFS('Accounting Data'!$C$2:$C$100000,'Accounting Data'!$H$2:$H$100000,\"8??\",'Accounting Data'!$I$2:$I$100000,\"21??\",'Accounting Data'!$J$2:$J$100000,\"681?\")+SUMIFS('Accounting Data'!$C$2:$C$100000,'Accounting Data'!$H$2:$H$100000,\"9??\",'Accounting Data'!$I$2:$I$100000,\"21??\",'Accounting Data'!$J$2:$J$100000,\"681?\")","v":0},{"$f":"SUMIFS('Accounting Data'!$C$2:$C$100000,'Accounting Data'!$E$2:$E$100000,\"575\",'Accounting Data'!$H$2:$H$100000,\"7??\",'Accounting Data'!$I$2:$I$100000,\"21??\",'Accounting Data'!$J$2:$J$100000,\"681?\")+SUMIFS('Accounting Data'!$C$2:$C$100000,'Accounting Data'!$E$2:$E$100000,\"575\",'Accounting Data'!$H$2:$H$100000,\"8??\",'Accounting Data'!$I$2:$I$100000,\"21??\",'Accounting Data'!$J$2:$J$100000,\"681?\")+SUMIFS('Accounting Data'!$C$2:$C$100000,'Accounting Data'!$E$2:$E$100000,\"575\",'Accounting Data'!$H$2:$H$100000,\"9??\",'Accounting Data'!$I$2:$I$100000,\"21??\",'Accounting Data'!$J$2:$J$100000,\"681?\")","v":0},{"$f":"SUMIFS('Accounting Data'!$C$2:$C$100000,'Accounting Data'!$E$2:$E$100000,\"8??\",'Accounting Data'!$H$2:$H$100000,\"7??\",'Accounting Data'!$I$2:$I$100000,\"21??\",'Accounting Data'!$J$2:$J$100000,\"681?\")+SUMIFS('Accounting Data'!$C$2:$C$100000,'Accounting Data'!$E$2:$E$100000,\"8??\",'Accounting Data'!$H$2:$H$100000,\"8??\",'Accounting Data'!$I$2:$I$100000,\"21??\",'Accounting Data'!$J$2:$J$100000,\"681?\")+SUMIFS('Accounting Data'!$C$2:$C$100000,'Accounting Data'!$E$2:$E$100000,\"8??\",'Accounting Data'!$H$2:$H$100000,\"9??\",'Accounting Data'!$I$2:$I$100000,\"21??\",'Accounting Data'!$J$2:$J$100000,\"681?\")","v":0},{"$f":"SUMIFS('Accounting Data'!$C$2:$C$100000,'Accounting Data'!$E$2:$E$100000,\"9??\",'Accounting Data'!$H$2:$H$100000,\"7??\",'Accounting Data'!$I$2:$I$100000,\"21??\",'Accounting Data'!$J$2:$J$100000,\"681?\")+SUMIFS('Accounting Data'!$C$2:$C$100000,'Accounting Data'!$E$2:$E$100000,\"9??\",'Accounting Data'!$H$2:$H$100000,\"8??\",'Accounting Data'!$I$2:$I$100000,\"21??\",'Accounting Data'!$J$2:$J$100000,\"681?\")+SUMIFS('Accounting Data'!$C$2:$C$100000,'Accounting Data'!$E$2:$E$100000,\"9??\",'Accounting Data'!$H$2:$H$100000,\"9??\",'Accounting Data'!$I$2:$I$100000,\"21??\",'Accounting Data'!$J$2:$J$100000,\"681?\")","v":0},null,"Function","All funds ","Funds 575,800-999","Programs 700-900","Programs 700-900 Funds 575","Programs 700-900 Funds 800-899","Programs 700-900 Funds 900-99",null,null,null,null,null,null,null,null,null,2100,{"$f":"SUM(SUMIFS('Accounting Data'!C2:C100000,'Accounting Data'!I2:I100000,\"21??\",'Accounting Data'!J2:J100000,{\"689?\",\"6885\"}))","v":0},{"$f":"SUM(SUMIFS('Accounting Data'!$C$2:$C$100000,'Accounting Data'!$E$2:$E$100000,\"575\",'Accounting Data'!$I$2:$I$100000,\"21??\",'Accounting Data'!$J$2:$J$100000,{\"689?\",\"6885\"}))+SUM(SUMIFS('Accounting Data'!$C$2:$C$100000,'Accounting Data'!$E$2:$E$100000,\"8??\",'Accounting Data'!$I$2:$I$100000,\"21??\",'Accounting Data'!$J$2:$J$100000,{\"689?\",\"6885\"}))+SUM(SUMIFS('Accounting Data'!$C$2:$C$100000,'Accounting Data'!$E$2:$E$100000,\"9??\",'Accounting Data'!$I$2:$I$100000,\"21??\",'Accounting Data'!$J$2:$J$100000,{\"689?\",\"6885\"}))","v":0},{"$f":"SUM(SUMIFS('Accounting Data'!$C$2:$C$100000,'Accounting Data'!$H$2:$H$100000,\"7??\",'Accounting Data'!$I$2:$I$100000,\"21??\",'Accounting Data'!$J$2:$J$100000,{\"689?\",\"6885\"}))+SUM(SUMIFS('Accounting Data'!$C$2:$C$100000,'Accounting Data'!$H$2:$H$100000,\"8??\",'Accounting Data'!$I$2:$I$100000,\"21??\",'Accounting Data'!$J$2:$J$100000,{\"689?\",\"6885\"}))+SUM(SUMIFS('Accounting Data'!$C$2:$C$100000,'Accounting Data'!$H$2:$H$100000,\"9??\",'Accounting Data'!$I$2:$I$100000,\"21??\",'Accounting Data'!$J$2:$J$100000,{\"689?\",\"6885\"}))","v":0},{"$f":"SUM(SUMIFS('Accounting Data'!$C$2:$C$100000,'Accounting Data'!$E$2:$E$100000,\"575\",'Accounting Data'!$H$2:$H$100000,\"7??\",'Accounting Data'!$I$2:$I$100000,\"21??\",'Accounting Data'!$J$2:$J$100000,{\"689?\",\"6885\"}))+SUM(SUMIFS('Accounting Data'!$C$2:$C$100000,'Accounting Data'!$E$2:$E$100000,\"575\",'Accounting Data'!$H$2:$H$100000,\"8??\",'Accounting Data'!$I$2:$I$100000,\"21??\",'Accounting Data'!$J$2:$J$100000,{\"689?\",\"6885\"}))+SUM(SUMIFS('Accounting Data'!$C$2:$C$100000,'Accounting Data'!$E$2:$E$100000,\"575\",'Accounting Data'!$H$2:$H$100000,\"9??\",'Accounting Data'!$I$2:$I$100000,\"21??\",'Accounting Data'!$J$2:$J$100000,{\"689?\",\"6885\"}))","v":0},{"$f":"SUM(SUMIFS('Accounting Data'!$C$2:$C$100000,'Accounting Data'!$E$2:$E$100000,\"8??\",'Accounting Data'!$H$2:$H$100000,\"7??\",'Accounting Data'!$I$2:$I$100000,\"21??\",'Accounting Data'!$J$2:$J$100000,{\"689?\",\"6885\"}))+SUM(SUMIFS('Accounting Data'!$C$2:$C$100000,'Accounting Data'!$E$2:$E$100000,\"8??\",'Accounting Data'!$H$2:$H$100000,\"8??\",'Accounting Data'!$I$2:$I$100000,\"21??\",'Accounting Data'!$J$2:$J$100000,{\"689?\",\"6885\"}))+SUM(SUMIFS('Accounting Data'!$C$2:$C$100000,'Accounting Data'!$E$2:$E$100000,\"8??\",'Accounting Data'!$H$2:$H$100000,\"9??\",'Accounting Data'!$I$2:$I$100000,\"21??\",'Accounting Data'!$J$2:$J$100000,{\"689?\",\"6885\"}))","v":0},{"$f":"SUM(SUMIFS('Accounting Data'!$C$2:$C$100000,'Accounting Data'!$E$2:$E$100000,\"9??\",'Accounting Data'!$H$2:$H$100000,\"7??\",'Accounting Data'!$I$2:$I$100000,\"21??\",'Accounting Data'!$J$2:$J$100000,{\"689?\",\"6885\"}))+SUM(SUMIFS('Accounting Data'!$C$2:$C$100000,'Accounting Data'!$E$2:$E$100000,\"9??\",'Accounting Data'!$H$2:$H$100000,\"8??\",'Accounting Data'!$I$2:$I$100000,\"21??\",'Accounting Data'!$J$2:$J$100000,{\"689?\",\"6885\"}))+SUM(SUMIFS('Accounting Data'!$C$2:$C$100000,'Accounting Data'!$E$2:$E$100000,\"9??\",'Accounting Data'!$H$2:$H$100000,\"9??\",'Accounting Data'!$I$2:$I$100000,\"21??\",'Accounting Data'!$J$2:$J$100000,{\"689?\",\"6885\"}))","v":0},null,2100,{"$f":"SUMIFS('Accounting Data'!$C$2:$C$100000,'Accounting Data'!$H$2:$H$100000,\"7??\",'Accounting Data'!$I$2:$I$100000,\"21??\",'Accounting Data'!$J$2:$J$100000,\"6???\")+SUMIFS('Accounting Data'!$C$2:$C$100000,'Accounting Data'!$H$2:$H$100000,\"8??\",'Accounting Data'!$I$2:$I$100000,\"21??\",'Accounting Data'!$J$2:$J$100000,\"6???\")+SUMIFS('Accounting Data'!$C$2:$C$100000,'Accounting Data'!$H$2:$H$100000,\"9??\",'Accounting Data'!$I$2:$I$100000,\"21??\",'Accounting Data'!$J$2:$J$100000,\"6???\")","v":0},{"$f":"SUMIFS('Accounting Data'!$C$2:$C$100000,'Accounting Data'!$H$2:$H$100000,\"7??\",'Accounting Data'!$I$2:$I$100000,\"21??\",'Accounting Data'!$J$2:$J$100000,\"69??\")+SUMIFS('Accounting Data'!$C$2:$C$100000,'Accounting Data'!$H$2:$H$100000,\"8??\",'Accounting Data'!$I$2:$I$100000,\"21??\",'Accounting Data'!$J$2:$J$100000,\"69??\")+SUMIFS('Accounting Data'!$C$2:$C$100000,'Accounting Data'!$H$2:$H$100000,\"9??\",'Accounting Data'!$I$2:$I$100000,\"21??\",'Accounting Data'!$J$2:$J$100000,\"69??\")","v":0},{"$f":"SUMIFS('Accounting Data'!$C$2:$C$100000,'Accounting Data'!$E$2:$E$100000,\"575\",'Accounting Data'!$H$2:$H$100000,\"7??\",'Accounting Data'!$I$2:$I$100000,\"21??\",'Accounting Data'!$J$2:$J$100000,\"6???\")+SUMIFS('Accounting Data'!$C$2:$C$100000,'Accounting Data'!$E$2:$E$100000,\"575\",'Accounting Data'!$H$2:$H$100000,\"8??\",'Accounting Data'!$I$2:$I$100000,\"21??\",'Accounting Data'!$J$2:$J$100000,\"6???\")+SUMIFS('Accounting Data'!$C$2:$C$100000,'Accounting Data'!$E$2:$E$100000,\"575\",'Accounting Data'!$H$2:$H$100000,\"9??\",'Accounting Data'!$I$2:$I$100000,\"21??\",'Accounting Data'!$J$2:$J$100000,\"6???\")","v":0},{"$f":"SUMIFS('Accounting Data'!$C$2:$C$100000,'Accounting Data'!$E$2:$E$100000,\"8??\",'Accounting Data'!$H$2:$H$100000,\"7??\",'Accounting Data'!$I$2:$I$100000,\"21??\",'Accounting Data'!$J$2:$J$100000,\"6???\")+SUMIFS('Accounting Data'!$C$2:$C$100000,'Accounting Data'!$E$2:$E$100000,\"8??\",'Accounting Data'!$H$2:$H$100000,\"8??\",'Accounting Data'!$I$2:$I$100000,\"21??\",'Accounting Data'!$J$2:$J$100000,\"6???\")+SUMIFS('Accounting Data'!$C$2:$C$100000,'Accounting Data'!$E$2:$E$100000,\"8??\",'Accounting Data'!$H$2:$H$100000,\"9??\",'Accounting Data'!$I$2:$I$100000,\"21??\",'Accounting Data'!$J$2:$J$100000,\"6???\")+SUMIFS('Accounting Data'!$C$2:$C$100000,'Accounting Data'!$E$2:$E$100000,\"9??\",'Accounting Data'!$H$2:$H$100000,\"7??\",'Accounting Data'!$I$2:$I$100000,\"21??\",'Accounting Data'!$J$2:$J$100000,\"6???\")+SUMIFS('Accounting Data'!$C$2:$C$100000,'Accounting Data'!$E$2:$E$100000,\"9??\",'Accounting Data'!$H$2:$H$100000,\"8??\",'Accounting Data'!$I$2:$I$100000,\"21??\",'Accounting Data'!$J$2:$J$100000,\"6???\")+SUMIFS('Accounting Data'!$C$2:$C$100000,'Accounting Data'!$E$2:$E$100000,\"9??\",'Accounting Data'!$H$2:$H$100000,\"9??\",'Accounting Data'!$I$2:$I$100000,\"21??\",'Accounting Data'!$J$2:$J$100000,\"6???\")","v":0},{"$f":"SUMIFS('Accounting Data'!$C$2:$C$100000,'Accounting Data'!$E$2:$E$100000,\"575\",'Accounting Data'!$H$2:$H$100000,\"7??\",'Accounting Data'!$I$2:$I$100000,\"21??\",'Accounting Data'!$J$2:$J$100000,\"69??\")+SUMIFS('Accounting Data'!$C$2:$C$100000,'Accounting Data'!$E$2:$E$100000,\"575\",'Accounting Data'!$H$2:$H$100000,\"8??\",'Accounting Data'!$I$2:$I$100000,\"21??\",'Accounting Data'!$J$2:$J$100000,\"69??\")+SUMIFS('Accounting Data'!$C$2:$C$100000,'Accounting Data'!$E$2:$E$100000,\"575\",'Accounting Data'!$H$2:$H$100000,\"9??\",'Accounting Data'!$I$2:$I$100000,\"21??\",'Accounting Data'!$J$2:$J$100000,\"69??\")","v":0},{"$f":"SUMIFS('Accounting Data'!$C$2:$C$100000,'Accounting Data'!$E$2:$E$100000,\"8??\",'Accounting Data'!$H$2:$H$100000,\"7??\",'Accounting Data'!$I$2:$I$100000,\"21??\",'Accounting Data'!$J$2:$J$100000,\"69??\")+SUMIFS('Accounting Data'!$C$2:$C$100000,'Accounting Data'!$E$2:$E$100000,\"8??\",'Accounting Data'!$H$2:$H$100000,\"8??\",'Accounting Data'!$I$2:$I$100000,\"21??\",'Accounting Data'!$J$2:$J$100000,\"69??\")+SUMIFS('Accounting Data'!$C$2:$C$100000,'Accounting Data'!$E$2:$E$100000,\"8??\",'Accounting Data'!$H$2:$H$100000,\"9??\",'Accounting Data'!$I$2:$I$100000,\"21??\",'Accounting Data'!$J$2:$J$100000,\"69??\")+SUMIFS('Accounting Data'!$C$2:$C$100000,'Accounting Data'!$E$2:$E$100000,\"9??\",'Accounting Data'!$H$2:$H$100000,\"7??\",'Accounting Data'!$I$2:$I$100000,\"21??\",'Accounting Data'!$J$2:$J$100000,\"69??\")+SUMIFS('Accounting Data'!$C$2:$C$100000,'Accounting Data'!$E$2:$E$100000,\"9??\",'Accounting Data'!$H$2:$H$100000,\"8??\",'Accounting Data'!$I$2:$I$100000,\"21??\",'Accounting Data'!$J$2:$J$100000,\"69??\")+SUMIFS('Accounting Data'!$C$2:$C$100000,'Accounting Data'!$E$2:$E$100000,\"9??\",'Accounting Data'!$H$2:$H$100000,\"9??\",'Accounting Data'!$I$2:$I$100000,\"21??\",'Accounting Data'!$J$2:$J$100000,\"69??\")","v":0}]
["         2200 Instructional Staff","3.",{"$f":"(AA13-AB13-AC13)+(AD13+AE13+AF13)","v":1978768},{"$f":"(AI13-AJ13-AK13)+(AL13+AM13+AN13)","v":523043},{"$f":"(AQ13-AR13-AS13-AT13-AU13)+(AV13+AW13+AX13+AY13+AZ13+BA13+BB13+BC13+BD13)","v":313039},{"$f":"(BG13-BH13-BI13)+(BJ13+BK13+BL13)","v":199243},{"$f":"(BO13-BP13-BQ13)+(BR13+BS13+BT13)","v":19790},{"$f":"(BW13-BX13-BY13)+(BZ13+CA13+CB13)","v":2437},null,null,null,{"$f":"(CU13-CV13-CW13)+(CX13+CY13+CZ13)","v":0},{"$f":"(DC13-DD13)-((DE13+DF13)-(DG13+DH13))","v":0},3036320,"3.",null,null,null,null,null,null,null,null,null,null,2200,{"$f":"SUMIFS('Accounting Data'!C2:C100000,'Accounting Data'!I2:I100000,\"22??\",'Accounting Data'!J2:J100000,\"61??\")","v":1978768},{"$f":"SUMIFS('Accounting Data'!C2:C100000,'Accounting Data'!E2:E100000,\"575\",'Accounting Data'!I2:I100000,\"22??\",'Accounting Data'!J2:J100000,\"61??\")+SUMIFS('Accounting Data'!C2:C100000,'Accounting Data'!E2:E100000,\"8??\",'Accounting Data'!I2:I100000,\"22??\",'Accounting Data'!J2:J100000,\"61??\")+SUMIFS('Accounting Data'!C2:C100000,'Accounting Data'!E2:E100000,\"9??\",'Accounting Data'!I2:I100000,\"22??\",'Accounting Data'!J2:J100000,\"61??\")","v":0},{"$f":"SUMIFS('Accounting Data'!C2:C100000,'Accounting Data'!H2:H100000,\"7??\",'Accounting Data'!I2:I100000,\"22??\",'Accounting Data'!J2:J100000,\"61??\")+SUMIFS('Accounting Data'!C2:C100000,'Accounting Data'!H2:H100000,\"8??\",'Accounting Data'!I2:I100000,\"22??\",'Accounting Data'!J2:J100000,\"61??\")+SUMIFS('Accounting Data'!C2:C100000,'Accounting Data'!H2:H100000,\"9??\",'Accounting Data'!I2:I100000,\"22??\",'Accounting Data'!J2:J100000,\"61??\")","v":0},{"$f":"SUMIFS('Accounting Data'!C2:C100000,'Accounting Data'!E2:E100000,\"575\",'Accounting Data'!H2:H100000,\"7??\",'Accounting Data'!I2:I100000,\"22??\",'Accounting Data'!J2:J100000,\"61??\")+SUMIFS('Accounting Data'!C2:C100000,'Accounting Data'!E2:E100000,\"575\",'Accounting Data'!H2:H100000,\"8??\",'Accounting Data'!I2:I100000,\"22??\",'Accounting Data'!J2:J100000,\"61??\")+SUMIFS('Accounting Data'!C2:C100000,'Accounting Data'!E2:E100000,\"575\",'Accounting Data'!H2:H100000,\"9??\",'Accounting Data'!I2:I100000,\"22??\",'Accounting Data'!J2:J100000,\"61??\")","v":0},{"$f":"SUMIFS('Accounting Data'!C2:C100000,'Accounting Data'!E2:E100000,\"8??\",'Accounting Data'!H2:H100000,\"7??\",'Accounting Data'!I2:I100000,\"22??\",'Accounting Data'!J2:J100000,\"61??\")+SUMIFS('Accounting Data'!C2:C100000,'Accounting Data'!E2:E100000,\"8??\",'Accounting Data'!H2:H100000,\"8??\",'Accounting Data'!I2:I100000,\"22??\",'Accounting Data'!J2:J100000,\"61??\")+SUMIFS('Accounting Data'!C2:C100000,'Accounting Data'!E2:E100000,\"8??\",'Accounting Data'!H2:H100000,\"9??\",'Accounting Data'!I2:I100000,\"22??\",'Accounting Data'!J2:J100000,\"61??\")","v":0},{"$f":"SUMIFS('Accounting Data'!C2:C100000,'Accounting Data'!E2:E100000,\"9??\",'Accounting Data'!H2:H100000,\"7??\",'Accounting Data'!I2:I100000,\"22??\",'Accounting Data'!J2:J100000,\"61??\")+SUMIFS('Accounting Data'!C2:C100000,'Accounting Data'!E2:E100000,\"9??\",'Accounting Data'!H2:H100000,\"8??\",'Accounting Data'!I2:I100000,\"22??\",'Accounting Data'!J2:J100000,\"61??\")+SUMIFS('Accounting Data'!C2:C100000,'Accounting Data'!E2:E100000,\"9??\",'Accounting Data'!H2:H100000,\"9??\",'Accounting Data'!I2:I100000,\"22??\",'Accounting Data'!J2:J100000,\"61??\")","v":0},null,2200,{"$f":"SUMIFS('Accounting Data'!C2:C100000,'Accounting Data'!I2:I100000,\"22??\",'Accounting Data'!J2:J100000,\"62??\")","v":523043},{"$f":"SUMIFS('Accounting Data'!C2:C100000,'Accounting Data'!E2:E100000,\"575\",'Accounting Data'!I2:I100000,\"22??\",'Accounting Data'!J2:J100000,\"62??\")+SUMIFS('Accounting Data'!C2:C100000,'Accounting Data'!E2:E100000,\"8??\",'Accounting Data'!I2:I100000,\"22??\",'Accounting Data'!J2:J100000,\"62??\")+SUMIFS('Accounting Data'!C2:C100000,'Accounting Data'!E2:E100000,\"9??\",'Accounting Data'!I2:I100000,\"22??\",'Accounting Data'!J2:J100000,\"62??\")","v":0},{"$f":"SUMIFS('Accounting Data'!C2:C100000,'Accounting Data'!H2:H100000,\"7??\",'Accounting Data'!I2:I100000,\"22??\",'Accounting Data'!J2:J100000,\"62??\")+SUMIFS('Accounting Data'!C2:C100000,'Accounting Data'!H2:H100000,\"8??\",'Accounting Data'!I2:I100000,\"22??\",'Accounting Data'!J2:J100000,\"62??\")+SUMIFS('Accounting Data'!C2:C100000,'Accounting Data'!H2:H100000,\"9??\",'Accounting Data'!I2:I100000,\"22??\",'Accounting Data'!J2:J100000,\"62??\")","v":0},{"$f":"SUMIFS('Accounting Data'!C2:C100000,'Accounting Data'!E2:E100000,\"575\",'Accounting Data'!H2:H100000,\"7??\",'Accounting Data'!I2:I100000,\"22??\",'Accounting Data'!J2:J100000,\"62??\")+SUMIFS('Accounting Data'!C2:C100000,'Accounting Data'!E2:E100000,\"575\",'Accounting Data'!H2:H100000,\"8??\",'Accounting Data'!I2:I100000,\"22??\",'Accounting Data'!J2:J100000,\"62??\")+SUMIFS('Accounting Data'!C2:C100000,'Accounting Data'!E2:E100000,\"575\",'Accounting Data'!H2:H100000,\"9??\",'Accounting Data'!I2:I100000,\"22??\",'Accounting Data'!J2:J100000,\"62??\")","v":0},{"$f":"SUMIFS('Accounting Data'!C2:C100000,'Accounting Data'!E2:E100000,\"8??\",'Accounting Data'!H2:H100000,\"7??\",'Accounting Data'!I2:I100000,\"22??\",'Accounting Data'!J2:J100000,\"62??\")+SUMIFS('Accounting Data'!C2:C100000,'Accounting Data'!E2:E100000,\"8??\",'Accounting Data'!H2:H100000,\"8??\",'Accounting Data'!I2:I100000,\"22??\",'Accounting Data'!J2:J100000,\"62??\")+SUMIFS('Accounting Data'!C2:C100000,'Accounting Data'!E2:E100000,\"8??\",'Accounting Data'!H2:H100000,\"9??\",'Accounting Data'!I2:I100000,\"22??\",'Accounting Data'!J2:J100000,\"62??\")","v":0},{"$f":"SUMIFS('Accounting Data'!C2:C100000,'Accounting Data'!E2:E100000,\"9??\",'Accounting Data'!H2:H100000,\"7??\",'Accounting Data'!I2:I100000,\"22??\",'Accounting Data'!J2:J100000,\"62??\")+SUMIFS('Accounting Data'!C2:C100000,'Accounting Data'!E2:E100000,\"9??\",'Accounting Data'!H2:H100000,\"8??\",'Accounting Data'!I2:I100000,\"22??\",'Accounting Data'!J2:J100000,\"62??\")+SUMIFS('Accounting Data'!C2:C100000,'Accounting Data'!E2:E100000,\"9??\",'Accounting Data'!H2:H100000,\"9??\",'Accounting Data'!I2:I100000,\"22??\",'Accounting Data'!J2:J100000,\"62??\")","v":0},null,2200,{"$f":"SUMIFS('Accounting Data'!C2:C100000,'Accounting Data'!I2:I100000,\"22??\",'Accounting Data'!J2:J100000,\"63??\")+SUMIFS('Accounting Data'!C2:C100000,'Accounting Data'!I2:I100000,\"22??\",'Accounting Data'!J2:J100000,\"64??\")+SUMIFS('Accounting Data'!C2:C100000,'Accounting Data'!I2:I100000,\"22??\",'Accounting Data'!J2:J100000,\"65??\")","v":313039},{"$f":"SUMIFS('Accounting Data'!C2:C100000,'Accounting Data'!E2:E100000,\"575\",'Accounting Data'!I2:I100000,\"22??\",'Accounting Data'!J2:J100000,\"63??\")+SUMIFS('Accounting Data'!C2:C100000,'Accounting Data'!E2:E100000,\"8??\",'Accounting Data'!I2:I100000,\"22??\",'Accounting Data'!J2:J100000,\"63??\")+SUMIFS('Accounting Data'!C2:C100000,'Accounting Data'!E2:E100000,\"9??\",'Accounting Data'!I2:I100000,\"22??\",'Accounting Data'!J2:J100000,\"63??\")","v":0},{"$f":"SUMIFS('Accounting Data'!C2:C100000,'Accounting Data'!E2:E100000,\"575\",'Accounting Data'!I2:I100000,\"22??\",'Accounting Data'!J2:J100000,\"64??\")+SUMIFS('Accounting Data'!C2:C100000,'Accounting Data'!E2:E100000,\"8??\",'Accounting Data'!I2:I100000,\"22??\",'Accounting Data'!J2:J100000,\"64??\")+SUMIFS('Accounting Data'!C2:C100000,'Accounting Data'!E2:E100000,\"9??\",'Accounting Data'!I2:I100000,\"22??\",'Accounting Data'!J2:J100000,\"64??\")","v":0},{"$f":"SUMIFS('Accounting Data'!C2:C100000,'Accounting Data'!E2:E100000,\"575\",'Accounting Data'!I2:I100000,\"22??\",'Accounting Data'!J2:J100000,\"65??\")+SUMIFS('Accounting Data'!C2:C100000,'Accounting Data'!E2:E100000,\"8??\",'Accounting Data'!I2:I100000,\"22??\",'Accounting Data'!J2:J100000,\"65??\")+SUMIFS('Accounting Data'!C2:C100000,'Accounting Data'!E2:E100000,\"9??\",'Accounting Data'!I2:I100000,\"22??\",'Accounting Data'!J2:J100000,\"65??\")","v":0},{"$f":"SUMIFS('Accounting Data'!C2:C100000,'Accounting Data'!H2:H100000,\"7??\",'Accounting Data'!I2:I100000,\"22??\",'Accounting Data'!J2:J100000,\"63??\")+SUMIFS('Accounting Data'!C2:C100000,'Accounting Data'!H2:H100000,\"8??\",'Accounting Data'!I2:I100000,\"22??\",'Accounting Data'!J2:J100000,\"63??\")+SUMIFS('Accounting Data'!C2:C100000,'Accounting Data'!H2:H100000,\"9??\",'Accounting Data'!I2:I100000,\"22??\",'Accounting Data'!J2:J100000,\"63??\")+SUMIFS('Accounting Data'!C2:C100000,'Accounting Data'!H2:H100000,\"7??\",'Accounting Data'!I2:I100000,\"22??\",'Accounting Data'!J2:J100000,\"64??\")+SUMIFS('Accounting Data'!C2:C100000,'Accounting Data'!H2:H100000,\"8??\",'Accounting Data'!I2:I100000,\"22??\",'Accounting Data'!J2:J100000,\"64??\")+SUMIFS('Accounting Data'!C2:C100000,'Accounting Data'!H2:H100000,\"9??\",'Accounting Data'!I2:I100000,\"22??\",'Accounting Data'!J2:J100000,\"64??\")+SUMIFS('Accounting Data'!C2:C100000,'Accounting Data'!H2:H100000,\"7??\",'Accounting Data'!I2:I100000,\"22??\",'Accounting Data'!J2:J100000,\"65??\")+SUMIFS('Accounting Data'!C2:C100000,'Accounting Data'!H2:H100000,\"8??\",'Accounting Data'!I2:I100000,\"22??\",'Accounting Data'!J2:J100000,\"65??\")+SUMIFS('Accounting Data'!C2:C100000,'Accounting Data'!H2:H100000,\"9??\",'Accounting Data'!I2:I100000,\"22??\",'Accounting Data'!J2:J100000,\"65??\")","v":0},{"$f":"SUMIFS('Accounting Data'!C2:C100000,'Accounting Data'!E2:E100000,\"575\",'Accounting Data'!H2:H100000,\"7??\",'Accounting Data'!I2:I100000,\"22??\",'Accounting Data'!J2:J100000,\"63??\")+SUMIFS('Accounting Data'!C2:C100000,'Accounting Data'!E2:E100000,\"575\",'Accounting Data'!H2:H100000,\"8??\",'Accounting Data'!I2:I100000,\"22??\",'Accounting Data'!J2:J100000,\"63??\")+SUMIFS('Accounting Data'!C2:C100000,'Accounting Data'!E2:E100000,\"575\",'Accounting Data'!H2:H100000,\"9??\",'Accounting Data'!I2:I100000,\"22??\",'Accounting Data'!J2:J100000,\"63??\")","v":0},{"$f":"SUMIFS('Accounting Data'!C2:C100000,'Accounting Data'!E2:E100000,\"575\",'Accounting Data'!H2:H100000,\"7??\",'Accounting Data'!I2:I100000,\"22??\",'Accounting Data'!J2:J100000,\"64??\")+SUMIFS('Accounting Data'!C2:C100000,'Accounting Data'!E2:E100000,\"575\",'Accounting Data'!H2:H100000,\"8??\",'Accounting Data'!I2:I100000,\"22??\",'Accounting Data'!J2:J100000,\"64??\")+SUMIFS('Accounting Data'!C2:C100000,'Accounting Data'!E2:E100000,\"575\",'Accounting Data'!H2:H100000,\"9??\",'Accounting Data'!I2:I100000,\"22??\",'Accounting Data'!J2:J100000,\"64??\")","v":0},{"$f":"SUMIFS('Accounting Data'!C2:C100000,'Accounting Data'!E2:E100000,\"575\",'Accounting Data'!H2:H100000,\"7??\",'Accounting Data'!I2:I100000,\"22??\",'Accounting Data'!J2:J100000,\"65??\")+SUMIFS('Accounting Data'!C2:C100000,'Accounting Data'!E2:E100000,\"575\",'Accounting Data'!H2:H100000,\"8??\",'Accounting Data'!I2:I100000,\"22??\",'Accounting Data'!J2:J100000,\"65??\")+SUMIFS('Accounting Data'!C2:C100000,'Accounting Data'!E2:E100000,\"575\",'Accounting Data'!H2:H100000,\"9??\",'Accounting Data'!I2:I100000,\"22??\",'Accounting Data'!J2:J100000,\"65??\")","v":0},{"$f":"SUMIFS('Accounting Data'!C2:C100000,'Accounting Data'!E2:E100000,\"8??\",'Accounting Data'!H2:H100000,\"7??\",'Accounting Data'!I2:I100000,\"22??\",'Accounting Data'!J2:J100000,\"63??\")+SUMIFS('Accounting Data'!C2:C100000,'Accounting Data'!E2:E100000,\"8??\",'Accounting Data'!H2:H100000,\"8??\",'Accounting Data'!I2:I100000,\"22??\",'Accounting Data'!J2:J100000,\"63??\")+SUMIFS('Accounting Data'!C2:C100000,'Accounting Data'!E2:E100000,\"8??\",'Accounting Data'!H2:H100000,\"9??\",'Accounting Data'!I2:I100000,\"22??\",'Accounting Data'!J2:J100000,\"63??\")","v":0},{"$f":"SUMIFS('Accounting Data'!C2:C100000,'Accounting Data'!E2:E100000,\"8??\",'Accounting Data'!H2:H100000,\"7??\",'Accounting Data'!I2:I100000,\"22??\",'Accounting Data'!J2:J100000,\"64??\")+SUMIFS('Accounting Data'!C2:C100000,'Accounting Data'!E2:E100000,\"8??\",'Accounting Data'!H2:H100000,\"8??\",'Accounting Data'!I2:I100000,\"22??\",'Accounting Data'!J2:J100000,\"64??\")+SUMIFS('Accounting Data'!C2:C100000,'Accounting Data'!E2:E100000,\"8??\",'Accounting Data'!H2:H100000,\"9??\",'Accounting Data'!I2:I100000,\"22??\",'Accounting Data'!J2:J100000,\"64??\")","v":0},{"$f":"SUMIFS('Accounting Data'!C2:C100000,'Accounting Data'!E2:E100000,\"8??\",'Accounting Data'!H2:H100000,\"7??\",'Accounting Data'!I2:I100000,\"22??\",'Accounting Data'!J2:J100000,\"65??\")+SUMIFS('Accounting Data'!C2:C100000,'Accounting Data'!E2:E100000,\"8??\",'Accounting Data'!H2:H100000,\"8??\",'Accounting Data'!I2:I100000,\"22??\",'Accounting Data'!J2:J100000,\"65??\")+SUMIFS('Accounting Data'!C2:C100000,'Accounting Data'!E2:E100000,\"8??\",'Accounting Data'!H2:H100000,\"9??\",'Accounting Data'!I2:I100000,\"22??\",'Accounting Data'!J2:J100000,\"65??\")","v":0},{"$f":"SUMIFS('Accounting Data'!C2:C100000,'Accounting Data'!E2:E100000,\"9??\",'Accounting Data'!H2:H100000,\"7??\",'Accounting Data'!I2:I100000,\"22??\",'Accounting Data'!J2:J100000,\"63??\")+SUMIFS('Accounting Data'!C2:C100000,'Accounting Data'!E2:E100000,\"9??\",'Accounting Data'!H2:H100000,\"8??\",'Accounting Data'!I2:I100000,\"22??\",'Accounting Data'!J2:J100000,\"63??\")+SUMIFS('Accounting Data'!C2:C100000,'Accounting Data'!E2:E100000,\"9??\",'Accounting Data'!H2:H100000,\"9??\",'Accounting Data'!I2:I100000,\"22??\",'Accounting Data'!J2:J100000,\"63??\")","v":0},{"$f":"SUMIFS('Accounting Data'!C2:C100000,'Accounting Data'!E2:E100000,\"9??\",'Accounting Data'!H2:H100000,\"7??\",'Accounting Data'!I2:I100000,\"22??\",'Accounting Data'!J2:J100000,\"64??\")+SUMIFS('Accounting Data'!C2:C100000,'Accounting Data'!E2:E100000,\"9??\",'Accounting Data'!H2:H100000,\"8??\",'Accounting Data'!I2:I100000,\"22??\",'Accounting Data'!J2:J100000,\"64??\")+SUMIFS('Accounting Data'!C2:C100000,'Accounting Data'!E2:E100000,\"9??\",'Accounting Data'!H2:H100000,\"9??\",'Accounting Data'!I2:I100000,\"22??\",'Accounting Data'!J2:J100000,\"64??\")","v":0},{"$f":"SUMIFS('Accounting Data'!C2:C100000,'Accounting Data'!E2:E100000,\"9??\",'Accounting Data'!H2:H100000,\"7??\",'Accounting Data'!I2:I100000,\"22??\",'Accounting Data'!J2:J100000,\"65??\")+SUMIFS('Accounting Data'!C2:C100000,'Accounting Data'!E2:E100000,\"9??\",'Accounting Data'!H2:H100000,\"8??\",'Accounting Data'!I2:I100000,\"22??\",'Accounting Data'!J2:J100000,\"65??\")+SUMIFS('Accounting Data'!C2:C100000,'Accounting Data'!E2:E100000,\"9??\",'Accounting Data'!H2:H100000,\"9??\",'Accounting Data'!I2:I100000,\"22??\",'Accounting Data'!J2:J100000,\"65??\")","v":0},null,2200,{"$f":"SUMIFS('Accounting Data'!C2:C100000,'Accounting Data'!I2:I100000,\"22??\",'Accounting Data'!J2:J100000,\"66??\")","v":199243},{"$f":"SUMIFS('Accounting Data'!$C$2:$C$100000,'Accounting Data'!$E$2:$E$100000,\"575\",'Accounting Data'!$I$2:$I$100000,\"22??\",'Accounting Data'!$J$2:$J$100000,\"66??\")+SUMIFS('Accounting Data'!$C$2:$C$100000,'Accounting Data'!$E$2:$E$100000,\"8??\",'Accounting Data'!$I$2:$I$100000,\"22??\",'Accounting Data'!$J$2:$J$100000,\"66??\")+SUMIFS('Accounting Data'!$C$2:$C$100000,'Accounting Data'!$E$2:$E$100000,\"9??\",'Accounting Data'!$I$2:$I$100000,\"22??\",'Accounting Data'!$J$2:$J$100000,\"66??\")","v":0},{"$f":"SUMIFS('Accounting Data'!$C$2:$C$100000,'Accounting Data'!$H$2:$H$100000,\"7??\",'Accounting Data'!$I$2:$I$100000,\"22??\",'Accounting Data'!$J$2:$J$100000,\"66??\")+SUMIFS('Accounting Data'!$C$2:$C$100000,'Accounting Data'!$H$2:$H$100000,\"8??\",'Accounting Data'!$I$2:$I$100000,\"22??\",'Accounting Data'!$J$2:$J$100000,\"66??\")+SUMIFS('Accounting Data'!$C$2:$C$100000,'Accounting Data'!$H$2:$H$100000,\"9??\",'Accounting Data'!$I$2:$I$100000,\"22??\",'Accounting Data'!$J$2:$J$100000,\"66??\")","v":0},{"$f":"SUMIFS('Accounting Data'!$C$2:$C$100000,'Accounting Data'!$E$2:$E$100000,\"575\",'Accounting Data'!$H$2:$H$100000,\"7??\",'Accounting Data'!$I$2:$I$100000,\"22??\",'Accounting Data'!$J$2:$J$100000,\"66??\")+SUMIFS('Accounting Data'!$C$2:$C$100000,'Accounting Data'!$E$2:$E$100000,\"575\",'Accounting Data'!$H$2:$H$100000,\"8??\",'Accounting Data'!$I$2:$I$100000,\"22??\",'Accounting Data'!$J$2:$J$100000,\"66??\")+SUMIFS('Accounting Data'!$C$2:$C$100000,'Accounting Data'!$E$2:$E$100000,\"575\",'Accounting Data'!$H$2:$H$100000,\"9??\",'Accounting Data'!$I$2:$I$100000,\"22??\",'Accounting Data'!$J$2:$J$100000,\"66??\")","v":0},{"$f":"SUMIFS('Accounting Data'!$C$2:$C$100000,'Accounting Data'!$E$2:$E$100000,\"8??\",'Accounting Data'!$H$2:$H$100000,\"7??\",'Accounting Data'!$I$2:$I$100000,\"22??\",'Accounting Data'!$J$2:$J$100000,\"66??\")+SUMIFS('Accounting Data'!$C$2:$C$100000,'Accounting Data'!$E$2:$E$100000,\"8??\",'Accounting Data'!$H$2:$H$100000,\"8??\",'Accounting Data'!$I$2:$I$100000,\"22??\",'Accounting Data'!$J$2:$J$100000,\"66??\")+SUMIFS('Accounting Data'!$C$2:$C$100000,'Accounting Data'!$E$2:$E$100000,\"8??\",'Accounting Data'!$H$2:$H$100000,\"9??\",'Accounting Data'!$I$2:$I$100000,\"22??\",'Accounting Data'!$J$2:$J$100000,\"66??\")","v":0},{"$f":"SUMIFS('Accounting Data'!$C$2:$C$100000,'Accounting Data'!$E$2:$E$100000,\"9??\",'Accounting Data'!$H$2:$H$100000,\"7??\",'Accounting Data'!$I$2:$I$100000,\"22??\",'Accounting Data'!$J$2:$J$100000,\"66??\")+SUMIFS('Accounting Data'!$C$2:$C$100000,'Accounting Data'!$E$2:$E$100000,\"9??\",'Accounting Data'!$H$2:$H$100000,\"8??\",'Accounting Data'!$I$2:$I$100000,\"22??\",'Accounting Data'!$J$2:$J$100000,\"66??\")+SUMIFS('Accounting Data'!$C$2:$C$100000,'Accounting Data'!$E$2:$E$100000,\"9??\",'Accounting Data'!$H$2:$H$100000,\"9??\",'Accounting Data'!$I$2:$I$100000,\"22??\",'Accounting Data'!$J$2:$J$100000,\"66??\")","v":0},null,2200,{"$f":"SUMIFS('Accounting Data'!C2:C100000,'Accounting Data'!I2:I100000,\"22??\",'Accounting Data'!J2:J100000,\"67??\")","v":19790},{"$f":"SUMIFS('Accounting Data'!$C$2:$C$100000,'Accounting Data'!$E$2:$E$100000,\"575\",'Accounting Data'!$I$2:$I$100000,\"22??\",'Accounting Data'!$J$2:$J$100000,\"67??\")+SUMIFS('Accounting Data'!$C$2:$C$100000,'Accounting Data'!$E$2:$E$100000,\"8??\",'Accounting Data'!$I$2:$I$100000,\"22??\",'Accounting Data'!$J$2:$J$100000,\"67??\")+SUMIFS('Accounting Data'!$C$2:$C$100000,'Accounting Data'!$E$2:$E$100000,\"9??\",'Accounting Data'!$I$2:$I$100000,\"22??\",'Accounting Data'!$J$2:$J$100000,\"67??\")","v":0},{"$f":"SUMIFS('Accounting Data'!$C$2:$C$100000,'Accounting Data'!$H$2:$H$100000,\"7??\",'Accounting Data'!$I$2:$I$100000,\"22??\",'Accounting Data'!$J$2:$J$100000,\"67??\")+SUMIFS('Accounting Data'!$C$2:$C$100000,'Accounting Data'!$H$2:$H$100000,\"8??\",'Accounting Data'!$I$2:$I$100000,\"22??\",'Accounting Data'!$J$2:$J$100000,\"67??\")+SUMIFS('Accounting Data'!$C$2:$C$100000,'Accounting Data'!$H$2:$H$100000,\"9??\",'Accounting Data'!$I$2:$I$100000,\"22??\",'Accounting Data'!$J$2:$J$100000,\"67??\")","v":0},{"$f":"SUMIFS('Accounting Data'!$C$2:$C$100000,'Accounting Data'!$E$2:$E$100000,\"575\",'Accounting Data'!$H$2:$H$100000,\"7??\",'Accounting Data'!$I$2:$I$100000,\"22??\",'Accounting Data'!$J$2:$J$100000,\"67??\")+SUMIFS('Accounting Data'!$C$2:$C$100000,'Accounting Data'!$E$2:$E$100000,\"575\",'Accounting Data'!$H$2:$H$100000,\"8??\",'Accounting Data'!$I$2:$I$100000,\"22??\",'Accounting Data'!$J$2:$J$100000,\"67??\")+SUMIFS('Accounting Data'!$C$2:$C$100000,'Accounting Data'!$E$2:$E$100000,\"575\",'Accounting Data'!$H$2:$H$100000,\"9??\",'Accounting Data'!$I$2:$I$100000,\"22??\",'Accounting Data'!$J$2:$J$100000,\"67??\")","v":0},{"$f":"SUMIFS('Accounting Data'!$C$2:$C$100000,'Accounting Data'!$E$2:$E$100000,\"8??\",'Accounting Data'!$H$2:$H$100000,\"7??\",'Accounting Data'!$I$2:$I$100000,\"22??\",'Accounting Data'!$J$2:$J$100000,\"67??\")+SUMIFS('Accounting Data'!$C$2:$C$100000,'Accounting Data'!$E$2:$E$100000,\"8??\",'Accounting Data'!$H$2:$H$100000,\"8??\",'Accounting Data'!$I$2:$I$100000,\"22??\",'Accounting Data'!$J$2:$J$100000,\"67??\")+SUMIFS('Accounting Data'!$C$2:$C$100000,'Accounting Data'!$E$2:$E$100000,\"8??\",'Accounting Data'!$H$2:$H$100000,\"9??\",'Accounting Data'!$I$2:$I$100000,\"22??\",'Accounting Data'!$J$2:$J$100000,\"67??\")","v":0},{"$f":"SUMIFS('Accounting Data'!$C$2:$C$100000,'Accounting Data'!$E$2:$E$100000,\"9??\",'Accounting Data'!$H$2:$H$100000,\"7??\",'Accounting Data'!$I$2:$I$100000,\"22??\",'Accounting Data'!$J$2:$J$100000,\"67??\")+SUMIFS('Accounting Data'!$C$2:$C$100000,'Accounting Data'!$E$2:$E$100000,\"9??\",'Accounting Data'!$H$2:$H$100000,\"8??\",'Accounting Data'!$I$2:$I$100000,\"22??\",'Accounting Data'!$J$2:$J$100000,\"67??\")+SUMIFS('Accounting Data'!$C$2:$C$100000,'Accounting Data'!$E$2:$E$100000,\"9??\",'Accounting Data'!$H$2:$H$100000,\"9??\",'Accounting Data'!$I$2:$I$100000,\"22??\",'Accounting Data'!$J$2:$J$100000,\"67??\")","v":0},null,2200,{"$f":"SUMIFS('Accounting Data'!C2:C100000,'Accounting Data'!I2:I100000,\"22??\",'Accounting Data'!J2:J100000,\"681?\")","v":2437},{"$f":"SUMIFS('Accounting Data'!$C$2:$C$100000,'Accounting Data'!$E$2:$E$100000,\"575\",'Accounting Data'!$I$2:$I$100000,\"22??\",'Accounting Data'!$J$2:$J$100000,\"681?\")+SUMIFS('Accounting Data'!$C$2:$C$100000,'Accounting Data'!$E$2:$E$100000,\"8??\",'Accounting Data'!$I$2:$I$100000,\"22??\",'Accounting Data'!$J$2:$J$100000,\"681?\")+SUMIFS('Accounting Data'!$C$2:$C$100000,'Accounting Data'!$E$2:$E$100000,\"9??\",'Accounting Data'!$I$2:$I$100000,\"22??\",'Accounting Data'!$J$2:$J$100000,\"681?\")","v":0},{"$f":"SUMIFS('Accounting Data'!$C$2:$C$100000,'Accounting Data'!$H$2:$H$100000,\"7??\",'Accounting Data'!$I$2:$I$100000,\"22??\",'Accounting Data'!$J$2:$J$100000,\"681?\")+SUMIFS('Accounting Data'!$C$2:$C$100000,'Accounting Data'!$H$2:$H$100000,\"8??\",'Accounting Data'!$I$2:$I$100000,\"22??\",'Accounting Data'!$J$2:$J$100000,\"681?\")+SUMIFS('Accounting Data'!$C$2:$C$100000,'Accounting Data'!$H$2:$H$100000,\"9??\",'Accounting Data'!$I$2:$I$100000,\"22??\",'Accounting Data'!$J$2:$J$100000,\"681?\")","v":0},{"$f":"SUMIFS('Accounting Data'!$C$2:$C$100000,'Accounting Data'!$E$2:$E$100000,\"575\",'Accounting Data'!$H$2:$H$100000,\"7??\",'Accounting Data'!$I$2:$I$100000,\"22??\",'Accounting Data'!$J$2:$J$100000,\"681?\")+SUMIFS('Accounting Data'!$C$2:$C$100000,'Accounting Data'!$E$2:$E$100000,\"575\",'Accounting Data'!$H$2:$H$100000,\"8??\",'Accounting Data'!$I$2:$I$100000,\"22??\",'Accounting Data'!$J$2:$J$100000,\"681?\")+SUMIFS('Accounting Data'!$C$2:$C$100000,'Accounting Data'!$E$2:$E$100000,\"575\",'Accounting Data'!$H$2:$H$100000,\"9??\",'Accounting Data'!$I$2:$I$100000,\"22??\",'Accounting Data'!$J$2:$J$100000,\"681?\")","v":0},{"$f":"SUMIFS('Accounting Data'!$C$2:$C$100000,'Accounting Data'!$E$2:$E$100000,\"8??\",'Accounting Data'!$H$2:$H$100000,\"7??\",'Accounting Data'!$I$2:$I$100000,\"22??\",'Accounting Data'!$J$2:$J$100000,\"681?\")+SUMIFS('Accounting Data'!$C$2:$C$100000,'Accounting Data'!$E$2:$E$100000,\"8??\",'Accounting Data'!$H$2:$H$100000,\"8??\",'Accounting Data'!$I$2:$I$100000,\"22??\",'Accounting Data'!$J$2:$J$100000,\"681?\")+SUMIFS('Accounting Data'!$C$2:$C$100000,'Accounting Data'!$E$2:$E$100000,\"8??\",'Accounting Data'!$H$2:$H$100000,\"9??\",'Accounting Data'!$I$2:$I$100000,\"22??\",'Accounting Data'!$J$2:$J$100000,\"681?\")","v":0},{"$f":"SUMIFS('Accounting Data'!$C$2:$C$100000,'Accounting Data'!$E$2:$E$100000,\"9??\",'Accounting Data'!$H$2:$H$100000,\"7??\",'Accounting Data'!$I$2:$I$100000,\"22??\",'Accounting Data'!$J$2:$J$100000,\"681?\")+SUMIFS('Accounting Data'!$C$2:$C$100000,'Accounting Data'!$E$2:$E$100000,\"9??\",'Accounting Data'!$H$2:$H$100000,\"8??\",'Accounting Data'!$I$2:$I$100000,\"22??\",'Accounting Data'!$J$2:$J$100000,\"681?\")+SUMIFS('Accounting Data'!$C$2:$C$100000,'Accounting Data'!$E$2:$E$100000,\"9??\",'Accounting Data'!$H$2:$H$100000,\"9??\",'Accounting Data'!$I$2:$I$100000,\"22??\",'Accounting Data'!$J$2:$J$100000,\"681?\")","v":0},null,null,null,null,null,null,null,null,null,null,null,null,null,null,null,null,null,2200,{"$f":"SUM(SUMIFS('Accounting Data'!C2:C100000,'Accounting Data'!I2:I100000,\"22??\",'Accounting Data'!J2:J100000,{\"689?\",\"6885\"}))","v":0},{"$f":"SUM(SUMIFS('Accounting Data'!$C$2:$C$100000,'Accounting Data'!$E$2:$E$100000,\"575\",'Accounting Data'!$I$2:$I$100000,\"22??\",'Accounting Data'!$J$2:$J$100000,{\"689?\",\"6885\"}))+SUM(SUMIFS('Accounting Data'!$C$2:$C$100000,'Accounting Data'!$E$2:$E$100000,\"8??\",'Accounting Data'!$I$2:$I$100000,\"22??\",'Accounting Data'!$J$2:$J$100000,{\"689?\",\"6885\"}))+SUM(SUMIFS('Accounting Data'!$C$2:$C$100000,'Accounting Data'!$E$2:$E$100000,\"9??\",'Accounting Data'!$I$2:$I$100000,\"22??\",'Accounting Data'!$J$2:$J$100000,{\"689?\",\"6885\"}))","v":0},{"$f":"SUM(SUMIFS('Accounting Data'!$C$2:$C$100000,'Accounting Data'!$H$2:$H$100000,\"7??\",'Accounting Data'!$I$2:$I$100000,\"22??\",'Accounting Data'!$J$2:$J$100000,{\"689?\",\"6885\"}))+SUM(SUMIFS('Accounting Data'!$C$2:$C$100000,'Accounting Data'!$H$2:$H$100000,\"8??\",'Accounting Data'!$I$2:$I$100000,\"22??\",'Accounting Data'!$J$2:$J$100000,{\"689?\",\"6885\"}))+SUM(SUMIFS('Accounting Data'!$C$2:$C$100000,'Accounting Data'!$H$2:$H$100000,\"9??\",'Accounting Data'!$I$2:$I$100000,\"22??\",'Accounting Data'!$J$2:$J$100000,{\"689?\",\"6885\"}))","v":0},{"$f":"SUM(SUMIFS('Accounting Data'!$C$2:$C$100000,'Accounting Data'!$E$2:$E$100000,\"575\",'Accounting Data'!$H$2:$H$100000,\"7??\",'Accounting Data'!$I$2:$I$100000,\"22??\",'Accounting Data'!$J$2:$J$100000,{\"689?\",\"6885\"}))+SUM(SUMIFS('Accounting Data'!$C$2:$C$100000,'Accounting Data'!$E$2:$E$100000,\"575\",'Accounting Data'!$H$2:$H$100000,\"8??\",'Accounting Data'!$I$2:$I$100000,\"22??\",'Accounting Data'!$J$2:$J$100000,{\"689?\",\"6885\"}))+SUM(SUMIFS('Accounting Data'!$C$2:$C$100000,'Accounting Data'!$E$2:$E$100000,\"575\",'Accounting Data'!$H$2:$H$100000,\"9??\",'Accounting Data'!$I$2:$I$100000,\"22??\",'Accounting Data'!$J$2:$J$100000,{\"689?\",\"6885\"}))","v":0},{"$f":"SUM(SUMIFS('Accounting Data'!$C$2:$C$100000,'Accounting Data'!$E$2:$E$100000,\"8??\",'Accounting Data'!$H$2:$H$100000,\"7??\",'Accounting Data'!$I$2:$I$100000,\"22??\",'Accounting Data'!$J$2:$J$100000,{\"689?\",\"6885\"}))+SUM(SUMIFS('Accounting Data'!$C$2:$C$100000,'Accounting Data'!$E$2:$E$100000,\"8??\",'Accounting Data'!$H$2:$H$100000,\"8??\",'Accounting Data'!$I$2:$I$100000,\"22??\",'Accounting Data'!$J$2:$J$100000,{\"689?\",\"6885\"}))+SUM(SUMIFS('Accounting Data'!$C$2:$C$100000,'Accounting Data'!$E$2:$E$100000,\"8??\",'Accounting Data'!$H$2:$H$100000,\"9??\",'Accounting Data'!$I$2:$I$100000,\"22??\",'Accounting Data'!$J$2:$J$100000,{\"689?\",\"6885\"}))","v":0},{"$f":"SUM(SUMIFS('Accounting Data'!$C$2:$C$100000,'Accounting Data'!$E$2:$E$100000,\"9??\",'Accounting Data'!$H$2:$H$100000,\"7??\",'Accounting Data'!$I$2:$I$100000,\"22??\",'Accounting Data'!$J$2:$J$100000,{\"689?\",\"6885\"}))+SUM(SUMIFS('Accounting Data'!$C$2:$C$100000,'Accounting Data'!$E$2:$E$100000,\"9??\",'Accounting Data'!$H$2:$H$100000,\"8??\",'Accounting Data'!$I$2:$I$100000,\"22??\",'Accounting Data'!$J$2:$J$100000,{\"689?\",\"6885\"}))+SUM(SUMIFS('Accounting Data'!$C$2:$C$100000,'Accounting Data'!$E$2:$E$100000,\"9??\",'Accounting Data'!$H$2:$H$100000,\"9??\",'Accounting Data'!$I$2:$I$100000,\"22??\",'Accounting Data'!$J$2:$J$100000,{\"689?\",\"6885\"}))","v":0},null,2200,{"$f":"SUMIFS('Accounting Data'!$C$2:$C$100000,'Accounting Data'!$H$2:$H$100000,\"7??\",'Accounting Data'!$I$2:$I$100000,\"22??\",'Accounting Data'!$J$2:$J$100000,\"6???\")+SUMIFS('Accounting Data'!$C$2:$C$100000,'Accounting Data'!$H$2:$H$100000,\"8??\",'Accounting Data'!$I$2:$I$100000,\"22??\",'Accounting Data'!$J$2:$J$100000,\"6???\")+SUMIFS('Accounting Data'!$C$2:$C$100000,'Accounting Data'!$H$2:$H$100000,\"9??\",'Accounting Data'!$I$2:$I$100000,\"22??\",'Accounting Data'!$J$2:$J$100000,\"6???\")","v":0},{"$f":"SUMIFS('Accounting Data'!$C$2:$C$100000,'Accounting Data'!$H$2:$H$100000,\"7??\",'Accounting Data'!$I$2:$I$100000,\"22??\",'Accounting Data'!$J$2:$J$100000,\"69??\")+SUMIFS('Accounting Data'!$C$2:$C$100000,'Accounting Data'!$H$2:$H$100000,\"8??\",'Accounting Data'!$I$2:$I$100000,\"22??\",'Accounting Data'!$J$2:$J$100000,\"69??\")+SUMIFS('Accounting Data'!$C$2:$C$100000,'Accounting Data'!$H$2:$H$100000,\"9??\",'Accounting Data'!$I$2:$I$100000,\"22??\",'Accounting Data'!$J$2:$J$100000,\"69??\")","v":0},{"$f":"SUMIFS('Accounting Data'!$C$2:$C$100000,'Accounting Data'!$E$2:$E$100000,\"575\",'Accounting Data'!$H$2:$H$100000,\"7??\",'Accounting Data'!$I$2:$I$100000,\"22??\",'Accounting Data'!$J$2:$J$100000,\"6???\")+SUMIFS('Accounting Data'!$C$2:$C$100000,'Accounting Data'!$E$2:$E$100000,\"575\",'Accounting Data'!$H$2:$H$100000,\"8??\",'Accounting Data'!$I$2:$I$100000,\"22??\",'Accounting Data'!$J$2:$J$100000,\"6???\")+SUMIFS('Accounting Data'!$C$2:$C$100000,'Accounting Data'!$E$2:$E$100000,\"575\",'Accounting Data'!$H$2:$H$100000,\"9??\",'Accounting Data'!$I$2:$I$100000,\"22??\",'Accounting Data'!$J$2:$J$100000,\"6???\")","v":0},{"$f":"SUMIFS('Accounting Data'!$C$2:$C$100000,'Accounting Data'!$E$2:$E$100000,\"8??\",'Accounting Data'!$H$2:$H$100000,\"7??\",'Accounting Data'!$I$2:$I$100000,\"22??\",'Accounting Data'!$J$2:$J$100000,\"6???\")+SUMIFS('Accounting Data'!$C$2:$C$100000,'Accounting Data'!$E$2:$E$100000,\"8??\",'Accounting Data'!$H$2:$H$100000,\"8??\",'Accounting Data'!$I$2:$I$100000,\"22??\",'Accounting Data'!$J$2:$J$100000,\"6???\")+SUMIFS('Accounting Data'!$C$2:$C$100000,'Accounting Data'!$E$2:$E$100000,\"8??\",'Accounting Data'!$H$2:$H$100000,\"9??\",'Accounting Data'!$I$2:$I$100000,\"22??\",'Accounting Data'!$J$2:$J$100000,\"6???\")+SUMIFS('Accounting Data'!$C$2:$C$100000,'Accounting Data'!$E$2:$E$100000,\"9??\",'Accounting Data'!$H$2:$H$100000,\"7??\",'Accounting Data'!$I$2:$I$100000,\"22??\",'Accounting Data'!$J$2:$J$100000,\"6???\")+SUMIFS('Accounting Data'!$C$2:$C$100000,'Accounting Data'!$E$2:$E$100000,\"9??\",'Accounting Data'!$H$2:$H$100000,\"8??\",'Accounting Data'!$I$2:$I$100000,\"22??\",'Accounting Data'!$J$2:$J$100000,\"6???\")+SUMIFS('Accounting Data'!$C$2:$C$100000,'Accounting Data'!$E$2:$E$100000,\"9??\",'Accounting Data'!$H$2:$H$100000,\"9??\",'Accounting Data'!$I$2:$I$100000,\"22??\",'Accounting Data'!$J$2:$J$100000,\"6???\")","v":0},{"$f":"SUMIFS('Accounting Data'!$C$2:$C$100000,'Accounting Data'!$E$2:$E$100000,\"575\",'Accounting Data'!$H$2:$H$100000,\"7??\",'Accounting Data'!$I$2:$I$100000,\"22??\",'Accounting Data'!$J$2:$J$100000,\"69??\")+SUMIFS('Accounting Data'!$C$2:$C$100000,'Accounting Data'!$E$2:$E$100000,\"575\",'Accounting Data'!$H$2:$H$100000,\"8??\",'Accounting Data'!$I$2:$I$100000,\"22??\",'Accounting Data'!$J$2:$J$100000,\"69??\")+SUMIFS('Accounting Data'!$C$2:$C$100000,'Accounting Data'!$E$2:$E$100000,\"575\",'Accounting Data'!$H$2:$H$100000,\"9??\",'Accounting Data'!$I$2:$I$100000,\"22??\",'Accounting Data'!$J$2:$J$100000,\"69??\")","v":0},{"$f":"SUMIFS('Accounting Data'!$C$2:$C$100000,'Accounting Data'!$E$2:$E$100000,\"8??\",'Accounting Data'!$H$2:$H$100000,\"7??\",'Accounting Data'!$I$2:$I$100000,\"22??\",'Accounting Data'!$J$2:$J$100000,\"69??\")+SUMIFS('Accounting Data'!$C$2:$C$100000,'Accounting Data'!$E$2:$E$100000,\"8??\",'Accounting Data'!$H$2:$H$100000,\"8??\",'Accounting Data'!$I$2:$I$100000,\"22??\",'Accounting Data'!$J$2:$J$100000,\"69??\")+SUMIFS('Accounting Data'!$C$2:$C$100000,'Accounting Data'!$E$2:$E$100000,\"8??\",'Accounting Data'!$H$2:$H$100000,\"9??\",'Accounting Data'!$I$2:$I$100000,\"22??\",'Accounting Data'!$J$2:$J$100000,\"69??\")+SUMIFS('Accounting Data'!$C$2:$C$100000,'Accounting Data'!$E$2:$E$100000,\"9??\",'Accounting Data'!$H$2:$H$100000,\"7??\",'Accounting Data'!$I$2:$I$100000,\"22??\",'Accounting Data'!$J$2:$J$100000,\"69??\")+SUMIFS('Accounting Data'!$C$2:$C$100000,'Accounting Data'!$E$2:$E$100000,\"9??\",'Accounting Data'!$H$2:$H$100000,\"8??\",'Accounting Data'!$I$2:$I$100000,\"22??\",'Accounting Data'!$J$2:$J$100000,\"69??\")+SUMIFS('Accounting Data'!$C$2:$C$100000,'Accounting Data'!$E$2:$E$100000,\"9??\",'Accounting Data'!$H$2:$H$100000,\"9??\",'Accounting Data'!$I$2:$I$100000,\"22??\",'Accounting Data'!$J$2:$J$100000,\"69??\")","v":0}]
["         2300 General Administration","4.",{"$f":"(AA14-AB14-AC14)+(AD14+AE14+AF14)","v":317929},{"$f":"(AI14-AJ14-AK14)+(AL14+AM14+AN14)","v":119448},{"$f":"(AQ14-AR14-AS14-AT14-AU14)+(AV14+AW14+AX14+AY14+AZ14+BA14+BB14+BC14+BD14)","v":189160},{"$f":"(BG14-BH14-BI14)+(BJ14+BK14+BL14)","v":27704},{"$f":"(BO14-BP14-BQ14)+(BR14+BS14+BT14)","v":6832},{"$f":"(BW14-BX14-BY14)+(BZ14+CA14+CB14)","v":45208},{"$f":"(CE14-CF14-CG14)+(CH14+CI14+CJ14)","v":0},null,null,{"$f":"(CU14-CV14-CW14)+(CX14+CY14+CZ14)","v":0},{"$f":"(DC14-DD14)-((DE14+DF14)-(DG14+DH14))","v":0},706281,"4.",null,null,null,{"$f":"SUM(C20+D20+E20+F20+G20+H20+L20)-'[4]Food Service AFR'!$D$13","v":1670117},{"$f":"MIN('[4]Food Service AFR'!$D$12,S14)","v":1509215},null,null,null,null,null,2300,{"$f":"SUMIFS('Accounting Data'!C2:C100000,'Accounting Data'!I2:I100000,\"23??\",'Accounting Data'!J2:J100000,\"61??\")","v":317929},{"$f":"SUMIFS('Accounting Data'!C2:C100000,'Accounting Data'!E2:E100000,\"575\",'Accounting Data'!I2:I100000,\"23??\",'Accounting Data'!J2:J100000,\"61??\")+SUMIFS('Accounting Data'!C2:C100000,'Accounting Data'!E2:E100000,\"8??\",'Accounting Data'!I2:I100000,\"23??\",'Accounting Data'!J2:J100000,\"61??\")+SUMIFS('Accounting Data'!C2:C100000,'Accounting Data'!E2:E100000,\"9??\",'Accounting Data'!I2:I100000,\"23??\",'Accounting Data'!J2:J100000,\"61??\")","v":0},{"$f":"SUMIFS('Accounting Data'!C2:C100000,'Accounting Data'!H2:H100000,\"7??\",'Accounting Data'!I2:I100000,\"23??\",'Accounting Data'!J2:J100000,\"61??\")+SUMIFS('Accounting Data'!C2:C100000,'Accounting Data'!H2:H100000,\"8??\",'Accounting Data'!I2:I100000,\"23??\",'Accounting Data'!J2:J100000,\"61??\")+SUMIFS('Accounting Data'!C2:C100000,'Accounting Data'!H2:H100000,\"9??\",'Accounting Data'!I2:I100000,\"23??\",'Accounting Data'!J2:J100000,\"61??\")","v":0},{"$f":"SUMIFS('Accounting Data'!C2:C100000,'Accounting Data'!E2:E100000,\"575\",'Accounting Data'!H2:H100000,\"7??\",'Accounting Data'!I2:I100000,\"23??\",'Accounting Data'!J2:J100000,\"61??\")+SUMIFS('Accounting Data'!C2:C100000,'Accounting Data'!E2:E100000,\"575\",'Accounting Data'!H2:H100000,\"8??\",'Accounting Data'!I2:I100000,\"23??\",'Accounting Data'!J2:J100000,\"61??\")+SUMIFS('Accounting Data'!C2:C100000,'Accounting Data'!E2:E100000,\"575\",'Accounting Data'!H2:H100000,\"9??\",'Accounting Data'!I2:I100000,\"23??\",'Accounting Data'!J2:J100000,\"61??\")","v":0},{"$f":"SUMIFS('Accounting Data'!C2:C100000,'Accounting Data'!E2:E100000,\"8??\",'Accounting Data'!H2:H100000,\"7??\",'Accounting Data'!I2:I100000,\"23??\",'Accounting Data'!J2:J100000,\"61??\")+SUMIFS('Accounting Data'!C2:C100000,'Accounting Data'!E2:E100000,\"8??\",'Accounting Data'!H2:H100000,\"8??\",'Accounting Data'!I2:I100000,\"23??\",'Accounting Data'!J2:J100000,\"61??\")+SUMIFS('Accounting Data'!C2:C100000,'Accounting Data'!E2:E100000,\"8??\",'Accounting Data'!H2:H100000,\"9??\",'Accounting Data'!I2:I100000,\"23??\",'Accounting Data'!J2:J100000,\"61??\")","v":0},{"$f":"SUMIFS('Accounting Data'!C2:C100000,'Accounting Data'!E2:E100000,\"9??\",'Accounting Data'!H2:H100000,\"7??\",'Accounting Data'!I2:I100000,\"23??\",'Accounting Data'!J2:J100000,\"61??\")+SUMIFS('Accounting Data'!C2:C100000,'Accounting Data'!E2:E100000,\"9??\",'Accounting Data'!H2:H100000,\"8??\",'Accounting Data'!I2:I100000,\"23??\",'Accounting Data'!J2:J100000,\"61??\")+SUMIFS('Accounting Data'!C2:C100000,'Accounting Data'!E2:E100000,\"9??\",'Accounting Data'!H2:H100000,\"9??\",'Accounting Data'!I2:I100000,\"23??\",'Accounting Data'!J2:J100000,\"61??\")","v":0},null,2300,{"$f":"SUMIFS('Accounting Data'!C2:C100000,'Accounting Data'!I2:I100000,\"23??\",'Accounting Data'!J2:J100000,\"62??\")","v":119448},{"$f":"SUMIFS('Accounting Data'!C2:C100000,'Accounting Data'!E2:E100000,\"575\",'Accounting Data'!I2:I100000,\"23??\",'Accounting Data'!J2:J100000,\"62??\")+SUMIFS('Accounting Data'!C2:C100000,'Accounting Data'!E2:E100000,\"8??\",'Accounting Data'!I2:I100000,\"23??\",'Accounting Data'!J2:J100000,\"62??\")+SUMIFS('Accounting Data'!C2:C100000,'Accounting Data'!E2:E100000,\"9??\",'Accounting Data'!I2:I100000,\"23??\",'Accounting Data'!J2:J100000,\"62??\")","v":0},{"$f":"SUMIFS('Accounting Data'!C2:C100000,'Accounting Data'!H2:H100000,\"7??\",'Accounting Data'!I2:I100000,\"23??\",'Accounting Data'!J2:J100000,\"62??\")+SUMIFS('Accounting Data'!C2:C100000,'Accounting Data'!H2:H100000,\"8??\",'Accounting Data'!I2:I100000,\"23??\",'Accounting Data'!J2:J100000,\"62??\")+SUMIFS('Accounting Data'!C2:C100000,'Accounting Data'!H2:H100000,\"9??\",'Accounting Data'!I2:I100000,\"23??\",'Accounting Data'!J2:J100000,\"62??\")","v":0},{"$f":"SUMIFS('Accounting Data'!C2:C100000,'Accounting Data'!E2:E100000,\"575\",'Accounting Data'!H2:H100000,\"7??\",'Accounting Data'!I2:I100000,\"23??\",'Accounting Data'!J2:J100000,\"62??\")+SUMIFS('Accounting Data'!C2:C100000,'Accounting Data'!E2:E100000,\"575\",'Accounting Data'!H2:H100000,\"8??\",'Accounting Data'!I2:I100000,\"23??\",'Accounting Data'!J2:J100000,\"62??\")+SUMIFS('Accounting Data'!C2:C100000,'Accounting Data'!E2:E100000,\"575\",'Accounting Data'!H2:H100000,\"9??\",'Accounting Data'!I2:I100000,\"23??\",'Accounting Data'!J2:J100000,\"62??\")","v":0},{"$f":"SUMIFS('Accounting Data'!C2:C100000,'Accounting Data'!E2:E100000,\"8??\",'Accounting Data'!H2:H100000,\"7??\",'Accounting Data'!I2:I100000,\"23??\",'Accounting Data'!J2:J100000,\"62??\")+SUMIFS('Accounting Data'!C2:C100000,'Accounting Data'!E2:E100000,\"8??\",'Accounting Data'!H2:H100000,\"8??\",'Accounting Data'!I2:I100000,\"23??\",'Accounting Data'!J2:J100000,\"62??\")+SUMIFS('Accounting Data'!C2:C100000,'Accounting Data'!E2:E100000,\"8??\",'Accounting Data'!H2:H100000,\"9??\",'Accounting Data'!I2:I100000,\"23??\",'Accounting Data'!J2:J100000,\"62??\")","v":0},{"$f":"SUMIFS('Accounting Data'!C2:C100000,'Accounting Data'!E2:E100000,\"9??\",'Accounting Data'!H2:H100000,\"7??\",'Accounting Data'!I2:I100000,\"23??\",'Accounting Data'!J2:J100000,\"62??\")+SUMIFS('Accounting Data'!C2:C100000,'Accounting Data'!E2:E100000,\"9??\",'Accounting Data'!H2:H100000,\"8??\",'Accounting Data'!I2:I100000,\"23??\",'Accounting Data'!J2:J100000,\"62??\")+SUMIFS('Accounting Data'!C2:C100000,'Accounting Data'!E2:E100000,\"9??\",'Accounting Data'!H2:H100000,\"9??\",'Accounting Data'!I2:I100000,\"23??\",'Accounting Data'!J2:J100000,\"62??\")","v":0},null,2300,{"$f":"SUMIFS('Accounting Data'!C2:C100000,'Accounting Data'!I2:I100000,\"23??\",'Accounting Data'!J2:J100000,\"63??\")+SUMIFS('Accounting Data'!C2:C100000,'Accounting Data'!I2:I100000,\"23??\",'Accounting Data'!J2:J100000,\"64??\")+SUMIFS('Accounting Data'!C2:C100000,'Accounting Data'!I2:I100000,\"23??\",'Accounting Data'!J2:J100000,\"65??\")","v":189160},{"$f":"SUMIFS('Accounting Data'!C2:C100000,'Accounting Data'!E2:E100000,\"575\",'Accounting Data'!I2:I100000,\"23??\",'Accounting Data'!J2:J100000,\"63??\")+SUMIFS('Accounting Data'!C2:C100000,'Accounting Data'!E2:E100000,\"8??\",'Accounting Data'!I2:I100000,\"23??\",'Accounting Data'!J2:J100000,\"63??\")+SUMIFS('Accounting Data'!C2:C100000,'Accounting Data'!E2:E100000,\"9??\",'Accounting Data'!I2:I100000,\"23??\",'Accounting Data'!J2:J100000,\"63??\")","v":0},{"$f":"SUMIFS('Accounting Data'!C2:C100000,'Accounting Data'!E2:E100000,\"575\",'Accounting Data'!I2:I100000,\"23??\",'Accounting Data'!J2:J100000,\"64??\")+SUMIFS('Accounting Data'!C2:C100000,'Accounting Data'!E2:E100000,\"8??\",'Accounting Data'!I2:I100000,\"23??\",'Accounting Data'!J2:J100000,\"64??\")+SUMIFS('Accounting Data'!C2:C100000,'Accounting Data'!E2:E100000,\"9??\",'Accounting Data'!I2:I100000,\"23??\",'Accounting Data'!J2:J100000,\"64??\")","v":0},{"$f":"SUMIFS('Accounting Data'!C2:C100000,'Accounting Data'!E2:E100000,\"575\",'Accounting Data'!I2:I100000,\"23??\",'Accounting Data'!J2:J100000,\"65??\")+SUMIFS('Accounting Data'!C2:C100000,'Accounting Data'!E2:E100000,\"8??\",'Accounting Data'!I2:I100000,\"23??\",'Accounting Data'!J2:J100000,\"65??\")+SUMIFS('Accounting Data'!C2:C100000,'Accounting Data'!E2:E100000,\"9??\",'Accounting Data'!I2:I100000,\"23??\",'Accounting Data'!J2:J100000,\"65??\")","v":0},{"$f":"SUMIFS('Accounting Data'!C2:C100000,'Accounting Data'!H2:H100000,\"7??\",'Accounting Data'!I2:I100000,\"23??\",'Accounting Data'!J2:J100000,\"63??\")+SUMIFS('Accounting Data'!C2:C100000,'Accounting Data'!H2:H100000,\"8??\",'Accounting Data'!I2:I100000,\"23??\",'Accounting Data'!J2:J100000,\"63??\")+SUMIFS('Accounting Data'!C2:C100000,'Accounting Data'!H2:H100000,\"9??\",'Accounting Data'!I2:I100000,\"23??\",'Accounting Data'!J2:J100000,\"63??\")+SUMIFS('Accounting Data'!C2:C100000,'Accounting Data'!H2:H100000,\"7??\",'Accounting Data'!I2:I100000,\"23??\",'Accounting Data'!J2:J100000,\"64??\")+SUMIFS('Accounting Data'!C2:C100000,'Accounting Data'!H2:H100000,\"8??\",'Accounting Data'!I2:I100000,\"23??\",'Accounting Data'!J2:J100000,\"64??\")+SUMIFS('Accounting Data'!C2:C100000,'Accounting Data'!H2:H100000,\"9??\",'Accounting Data'!I2:I100000,\"23??\",'Accounting Data'!J2:J100000,\"64??\")+SUMIFS('Accounting Data'!C2:C100000,'Accounting Data'!H2:H100000,\"7??\",'Accounting Data'!I2:I100000,\"23??\",'Accounting Data'!J2:J100000,\"65??\")+SUMIFS('Accounting Data'!C2:C100000,'Accounting Data'!H2:H100000,\"8??\",'Accounting Data'!I2:I100000,\"23??\",'Accounting Data'!J2:J100000,\"65??\")+SUMIFS('Accounting Data'!C2:C100000,'Accounting Data'!H2:H100000,\"9??\",'Accounting Data'!I2:I100000,\"23??\",'Accounting Data'!J2:J100000,\"65??\")","v":0},{"$f":"SUMIFS('Accounting Data'!C2:C100000,'Accounting Data'!E2:E100000,\"575\",'Accounting Data'!H2:H100000,\"7??\",'Accounting Data'!I2:I100000,\"23??\",'Accounting Data'!J2:J100000,\"63??\")+SUMIFS('Accounting Data'!C2:C100000,'Accounting Data'!E2:E100000,\"575\",'Accounting Data'!H2:H100000,\"8??\",'Accounting Data'!I2:I100000,\"23??\",'Accounting Data'!J2:J100000,\"63??\")+SUMIFS('Accounting Data'!C2:C100000,'Accounting Data'!E2:E100000,\"575\",'Accounting Data'!H2:H100000,\"9??\",'Accounting Data'!I2:I100000,\"23??\",'Accounting Data'!J2:J100000,\"63??\")","v":0},{"$f":"SUMIFS('Accounting Data'!C2:C100000,'Accounting Data'!E2:E100000,\"575\",'Accounting Data'!H2:H100000,\"7??\",'Accounting Data'!I2:I100000,\"23??\",'Accounting Data'!J2:J100000,\"64??\")+SUMIFS('Accounting Data'!C2:C100000,'Accounting Data'!E2:E100000,\"575\",'Accounting Data'!H2:H100000,\"8??\",'Accounting Data'!I2:I100000,\"23??\",'Accounting Data'!J2:J100000,\"64??\")+SUMIFS('Accounting Data'!C2:C100000,'Accounting Data'!E2:E100000,\"575\",'Accounting Data'!H2:H100000,\"9??\",'Accounting Data'!I2:I100000,\"23??\",'Accounting Data'!J2:J100000,\"64??\")","v":0},{"$f":"SUMIFS('Accounting Data'!C2:C100000,'Accounting Data'!E2:E100000,\"575\",'Accounting Data'!H2:H100000,\"7??\",'Accounting Data'!I2:I100000,\"23??\",'Accounting Data'!J2:J100000,\"65??\")+SUMIFS('Accounting Data'!C2:C100000,'Accounting Data'!E2:E100000,\"575\",'Accounting Data'!H2:H100000,\"8??\",'Accounting Data'!I2:I100000,\"23??\",'Accounting Data'!J2:J100000,\"65??\")+SUMIFS('Accounting Data'!C2:C100000,'Accounting Data'!E2:E100000,\"575\",'Accounting Data'!H2:H100000,\"9??\",'Accounting Data'!I2:I100000,\"23??\",'Accounting Data'!J2:J100000,\"65??\")","v":0},{"$f":"SUMIFS('Accounting Data'!C2:C100000,'Accounting Data'!E2:E100000,\"8??\",'Accounting Data'!H2:H100000,\"7??\",'Accounting Data'!I2:I100000,\"23??\",'Accounting Data'!J2:J100000,\"63??\")+SUMIFS('Accounting Data'!C2:C100000,'Accounting Data'!E2:E100000,\"8??\",'Accounting Data'!H2:H100000,\"8??\",'Accounting Data'!I2:I100000,\"23??\",'Accounting Data'!J2:J100000,\"63??\")+SUMIFS('Accounting Data'!C2:C100000,'Accounting Data'!E2:E100000,\"8??\",'Accounting Data'!H2:H100000,\"9??\",'Accounting Data'!I2:I100000,\"23??\",'Accounting Data'!J2:J100000,\"63??\")","v":0},{"$f":"SUMIFS('Accounting Data'!C2:C100000,'Accounting Data'!E2:E100000,\"8??\",'Accounting Data'!H2:H100000,\"7??\",'Accounting Data'!I2:I100000,\"23??\",'Accounting Data'!J2:J100000,\"64??\")+SUMIFS('Accounting Data'!C2:C100000,'Accounting Data'!E2:E100000,\"8??\",'Accounting Data'!H2:H100000,\"8??\",'Accounting Data'!I2:I100000,\"23??\",'Accounting Data'!J2:J100000,\"64??\")+SUMIFS('Accounting Data'!C2:C100000,'Accounting Data'!E2:E100000,\"8??\",'Accounting Data'!H2:H100000,\"9??\",'Accounting Data'!I2:I100000,\"23??\",'Accounting Data'!J2:J100000,\"64??\")","v":0},{"$f":"SUMIFS('Accounting Data'!C2:C100000,'Accounting Data'!E2:E100000,\"8??\",'Accounting Data'!H2:H100000,\"7??\",'Accounting Data'!I2:I100000,\"23??\",'Accounting Data'!J2:J100000,\"65??\")+SUMIFS('Accounting Data'!C2:C100000,'Accounting Data'!E2:E100000,\"8??\",'Accounting Data'!H2:H100000,\"8??\",'Accounting Data'!I2:I100000,\"23??\",'Accounting Data'!J2:J100000,\"65??\")+SUMIFS('Accounting Data'!C2:C100000,'Accounting Data'!E2:E100000,\"8??\",'Accounting Data'!H2:H100000,\"9??\",'Accounting Data'!I2:I100000,\"23??\",'Accounting Data'!J2:J100000,\"65??\")","v":0},{"$f":"SUMIFS('Accounting Data'!C2:C100000,'Accounting Data'!E2:E100000,\"9??\",'Accounting Data'!H2:H100000,\"7??\",'Accounting Data'!I2:I100000,\"23??\",'Accounting Data'!J2:J100000,\"63??\")+SUMIFS('Accounting Data'!C2:C100000,'Accounting Data'!E2:E100000,\"9??\",'Accounting Data'!H2:H100000,\"8??\",'Accounting Data'!I2:I100000,\"23??\",'Accounting Data'!J2:J100000,\"63??\")+SUMIFS('Accounting Data'!C2:C100000,'Accounting Data'!E2:E100000,\"9??\",'Accounting Data'!H2:H100000,\"9??\",'Accounting Data'!I2:I100000,\"23??\",'Accounting Data'!J2:J100000,\"63??\")","v":0},{"$f":"SUMIFS('Accounting Data'!C2:C100000,'Accounting Data'!E2:E100000,\"9??\",'Accounting Data'!H2:H100000,\"7??\",'Accounting Data'!I2:I100000,\"23??\",'Accounting Data'!J2:J100000,\"64??\")+SUMIFS('Accounting Data'!C2:C100000,'Accounting Data'!E2:E100000,\"9??\",'Accounting Data'!H2:H100000,\"8??\",'Accounting Data'!I2:I100000,\"23??\",'Accounting Data'!J2:J100000,\"64??\")+SUMIFS('Accounting Data'!C2:C100000,'Accounting Data'!E2:E100000,\"9??\",'Accounting Data'!H2:H100000,\"9??\",'Accounting Data'!I2:I100000,\"23??\",'Accounting Data'!J2:J100000,\"64??\")","v":0},{"$f":"SUMIFS('Accounting Data'!C2:C100000,'Accounting Data'!E2:E100000,\"9??\",'Accounting Data'!H2:H100000,\"7??\",'Accounting Data'!I2:I100000,\"23??\",'Accounting Data'!J2:J100000,\"65??\")+SUMIFS('Accounting Data'!C2:C100000,'Accounting Data'!E2:E100000,\"9??\",'Accounting Data'!H2:H100000,\"8??\",'Accounting Data'!I2:I100000,\"23??\",'Accounting Data'!J2:J100000,\"65??\")+SUMIFS('Accounting Data'!C2:C100000,'Accounting Data'!E2:E100000,\"9??\",'Accounting Data'!H2:H100000,\"9??\",'Accounting Data'!I2:I100000,\"23??\",'Accounting Data'!J2:J100000,\"65??\")","v":0},null,2300,{"$f":"SUMIFS('Accounting Data'!C2:C100000,'Accounting Data'!I2:I100000,\"23??\",'Accounting Data'!J2:J100000,\"66??\")","v":27704},{"$f":"SUMIFS('Accounting Data'!$C$2:$C$100000,'Accounting Data'!$E$2:$E$100000,\"575\",'Accounting Data'!$I$2:$I$100000,\"23??\",'Accounting Data'!$J$2:$J$100000,\"66??\")+SUMIFS('Accounting Data'!$C$2:$C$100000,'Accounting Data'!$E$2:$E$100000,\"8??\",'Accounting Data'!$I$2:$I$100000,\"23??\",'Accounting Data'!$J$2:$J$100000,\"66??\")+SUMIFS('Accounting Data'!$C$2:$C$100000,'Accounting Data'!$E$2:$E$100000,\"9??\",'Accounting Data'!$I$2:$I$100000,\"23??\",'Accounting Data'!$J$2:$J$100000,\"66??\")","v":0},{"$f":"SUMIFS('Accounting Data'!$C$2:$C$100000,'Accounting Data'!$H$2:$H$100000,\"7??\",'Accounting Data'!$I$2:$I$100000,\"23??\",'Accounting Data'!$J$2:$J$100000,\"66??\")+SUMIFS('Accounting Data'!$C$2:$C$100000,'Accounting Data'!$H$2:$H$100000,\"8??\",'Accounting Data'!$I$2:$I$100000,\"23??\",'Accounting Data'!$J$2:$J$100000,\"66??\")+SUMIFS('Accounting Data'!$C$2:$C$100000,'Accounting Data'!$H$2:$H$100000,\"9??\",'Accounting Data'!$I$2:$I$100000,\"23??\",'Accounting Data'!$J$2:$J$100000,\"66??\")","v":0},{"$f":"SUMIFS('Accounting Data'!$C$2:$C$100000,'Accounting Data'!$E$2:$E$100000,\"575\",'Accounting Data'!$H$2:$H$100000,\"7??\",'Accounting Data'!$I$2:$I$100000,\"23??\",'Accounting Data'!$J$2:$J$100000,\"66??\")+SUMIFS('Accounting Data'!$C$2:$C$100000,'Accounting Data'!$E$2:$E$100000,\"575\",'Accounting Data'!$H$2:$H$100000,\"8??\",'Accounting Data'!$I$2:$I$100000,\"23??\",'Accounting Data'!$J$2:$J$100000,\"66??\")+SUMIFS('Accounting Data'!$C$2:$C$100000,'Accounting Data'!$E$2:$E$100000,\"575\",'Accounting Data'!$H$2:$H$100000,\"9??\",'Accounting Data'!$I$2:$I$100000,\"23??\",'Accounting Data'!$J$2:$J$100000,\"66??\")","v":0},{"$f":"SUMIFS('Accounting Data'!$C$2:$C$100000,'Accounting Data'!$E$2:$E$100000,\"8??\",'Accounting Data'!$H$2:$H$100000,\"7??\",'Accounting Data'!$I$2:$I$100000,\"23??\",'Accounting Data'!$J$2:$J$100000,\"66??\")+SUMIFS('Accounting Data'!$C$2:$C$100000,'Accounting Data'!$E$2:$E$100000,\"8??\",'Accounting Data'!$H$2:$H$100000,\"8??\",'Accounting Data'!$I$2:$I$100000,\"23??\",'Accounting Data'!$J$2:$J$100000,\"66??\")+SUMIFS('Accounting Data'!$C$2:$C$100000,'Accounting Data'!$E$2:$E$100000,\"8??\",'Accounting Data'!$H$2:$H$100000,\"9??\",'Accounting Data'!$I$2:$I$100000,\"23??\",'Accounting Data'!$J$2:$J$100000,\"66??\")","v":0},{"$f":"SUMIFS('Accounting Data'!$C$2:$C$100000,'Accounting Data'!$E$2:$E$100000,\"9??\",'Accounting Data'!$H$2:$H$100000,\"7??\",'Accounting Data'!$I$2:$I$100000,\"23??\",'Accounting Data'!$J$2:$J$100000,\"66??\")+SUMIFS('Accounting Data'!$C$2:$C$100000,'Accounting Data'!$E$2:$E$100000,\"9??\",'Accounting Data'!$H$2:$H$100000,\"8??\",'Accounting Data'!$I$2:$I$100000,\"23??\",'Accounting Data'!$J$2:$J$100000,\"66??\")+SUMIFS('Accounting Data'!$C$2:$C$100000,'Accounting Data'!$E$2:$E$100000,\"9??\",'Accounting Data'!$H$2:$H$100000,\"9??\",'Accounting Data'!$I$2:$I$100000,\"23??\",'Accounting Data'!$J$2:$J$100000,\"66??\")","v":0},null,2300,{"$f":"SUMIFS('Accounting Data'!C2:C100000,'Accounting Data'!I2:I100000,\"23??\",'Accounting Data'!J2:J100000,\"67??\")","v":6832},{"$f":"SUMIFS('Accounting Data'!$C$2:$C$100000,'Accounting Data'!$E$2:$E$100000,\"575\",'Accounting Data'!$I$2:$I$100000,\"23??\",'Accounting Data'!$J$2:$J$100000,\"67??\")+SUMIFS('Accounting Data'!$C$2:$C$100000,'Accounting Data'!$E$2:$E$100000,\"8??\",'Accounting Data'!$I$2:$I$100000,\"23??\",'Accounting Data'!$J$2:$J$100000,\"67??\")+SUMIFS('Accounting Data'!$C$2:$C$100000,'Accounting Data'!$E$2:$E$100000,\"9??\",'Accounting Data'!$I$2:$I$100000,\"23??\",'Accounting Data'!$J$2:$J$100000,\"67??\")","v":0},{"$f":"SUMIFS('Accounting Data'!$C$2:$C$100000,'Accounting Data'!$H$2:$H$100000,\"7??\",'Accounting Data'!$I$2:$I$100000,\"23??\",'Accounting Data'!$J$2:$J$100000,\"67??\")+SUMIFS('Accounting Data'!$C$2:$C$100000,'Accounting Data'!$H$2:$H$100000,\"8??\",'Accounting Data'!$I$2:$I$100000,\"23??\",'Accounting Data'!$J$2:$J$100000,\"67??\")+SUMIFS('Accounting Data'!$C$2:$C$100000,'Accounting Data'!$H$2:$H$100000,\"9??\",'Accounting Data'!$I$2:$I$100000,\"23??\",'Accounting Data'!$J$2:$J$100000,\"67??\")","v":0},{"$f":"SUMIFS('Accounting Data'!$C$2:$C$100000,'Accounting Data'!$E$2:$E$100000,\"575\",'Accounting Data'!$H$2:$H$100000,\"7??\",'Accounting Data'!$I$2:$I$100000,\"23??\",'Accounting Data'!$J$2:$J$100000,\"67??\")+SUMIFS('Accounting Data'!$C$2:$C$100000,'Accounting Data'!$E$2:$E$100000,\"575\",'Accounting Data'!$H$2:$H$100000,\"8??\",'Accounting Data'!$I$2:$I$100000,\"23??\",'Accounting Data'!$J$2:$J$100000,\"67??\")+SUMIFS('Accounting Data'!$C$2:$C$100000,'Accounting Data'!$E$2:$E$100000,\"575\",'Accounting Data'!$H$2:$H$100000,\"9??\",'Accounting Data'!$I$2:$I$100000,\"23??\",'Accounting Data'!$J$2:$J$100000,\"67??\")","v":0},{"$f":"SUMIFS('Accounting Data'!$C$2:$C$100000,'Accounting Data'!$E$2:$E$100000,\"8??\",'Accounting Data'!$H$2:$H$100000,\"7??\",'Accounting Data'!$I$2:$I$100000,\"23??\",'Accounting Data'!$J$2:$J$100000,\"67??\")+SUMIFS('Accounting Data'!$C$2:$C$100000,'Accounting Data'!$E$2:$E$100000,\"8??\",'Accounting Data'!$H$2:$H$100000,\"8??\",'Accounting Data'!$I$2:$I$100000,\"23??\",'Accounting Data'!$J$2:$J$100000,\"67??\")+SUMIFS('Accounting Data'!$C$2:$C$100000,'Accounting Data'!$E$2:$E$100000,\"8??\",'Accounting Data'!$H$2:$H$100000,\"9??\",'Accounting Data'!$I$2:$I$100000,\"23??\",'Accounting Data'!$J$2:$J$100000,\"67??\")","v":0},{"$f":"SUMIFS('Accounting Data'!$C$2:$C$100000,'Accounting Data'!$E$2:$E$100000,\"9??\",'Accounting Data'!$H$2:$H$100000,\"7??\",'Accounting Data'!$I$2:$I$100000,\"23??\",'Accounting Data'!$J$2:$J$100000,\"67??\")+SUMIFS('Accounting Data'!$C$2:$C$100000,'Accounting Data'!$E$2:$E$100000,\"9??\",'Accounting Data'!$H$2:$H$100000,\"8??\",'Accounting Data'!$I$2:$I$100000,\"23??\",'Accounting Data'!$J$2:$J$100000,\"67??\")+SUMIFS('Accounting Data'!$C$2:$C$100000,'Accounting Data'!$E$2:$E$100000,\"9??\",'Accounting Data'!$H$2:$H$100000,\"9??\",'Accounting Data'!$I$2:$I$100000,\"23??\",'Accounting Data'!$J$2:$J$100000,\"67??\")","v":0},null,2300,{"$f":"SUMIFS('Accounting Data'!C2:C100000,'Accounting Data'!I2:I100000,\"23??\",'Accounting Data'!J2:J100000,\"681?\")","v":45208},{"$f":"SUMIFS('Accounting Data'!$C$2:$C$100000,'Accounting Data'!$E$2:$E$100000,\"575\",'Accounting Data'!$I$2:$I$100000,\"23??\",'Accounting Data'!$J$2:$J$100000,\"681?\")+SUMIFS('Accounting Data'!$C$2:$C$100000,'Accounting Data'!$E$2:$E$100000,\"8??\",'Accounting Data'!$I$2:$I$100000,\"23??\",'Accounting Data'!$J$2:$J$100000,\"681?\")+SUMIFS('Accounting Data'!$C$2:$C$100000,'Accounting Data'!$E$2:$E$100000,\"9??\",'Accounting Data'!$I$2:$I$100000,\"23??\",'Accounting Data'!$J$2:$J$100000,\"681?\")","v":0},{"$f":"SUMIFS('Accounting Data'!$C$2:$C$100000,'Accounting Data'!$H$2:$H$100000,\"7??\",'Accounting Data'!$I$2:$I$100000,\"23??\",'Accounting Data'!$J$2:$J$100000,\"681?\")+SUMIFS('Accounting Data'!$C$2:$C$100000,'Accounting Data'!$H$2:$H$100000,\"8??\",'Accounting Data'!$I$2:$I$100000,\"23??\",'Accounting Data'!$J$2:$J$100000,\"681?\")+SUMIFS('Accounting Data'!$C$2:$C$100000,'Accounting Data'!$H$2:$H$100000,\"9??\",'Accounting Data'!$I$2:$I$100000,\"23??\",'Accounting Data'!$J$2:$J$100000,\"681?\")","v":0},{"$f":"SUMIFS('Accounting Data'!$C$2:$C$100000,'Accounting Data'!$E$2:$E$100000,\"575\",'Accounting Data'!$H$2:$H$100000,\"7??\",'Accounting Data'!$I$2:$I$100000,\"23??\",'Accounting Data'!$J$2:$J$100000,\"681?\")+SUMIFS('Accounting Data'!$C$2:$C$100000,'Accounting Data'!$E$2:$E$100000,\"575\",'Accounting Data'!$H$2:$H$100000,\"8??\",'Accounting Data'!$I$2:$I$100000,\"23??\",'Accounting Data'!$J$2:$J$100000,\"681?\")+SUMIFS('Accounting Data'!$C$2:$C$100000,'Accounting Data'!$E$2:$E$100000,\"575\",'Accounting Data'!$H$2:$H$100000,\"9??\",'Accounting Data'!$I$2:$I$100000,\"23??\",'Accounting Data'!$J$2:$J$100000,\"681?\")","v":0},{"$f":"SUMIFS('Accounting Data'!$C$2:$C$100000,'Accounting Data'!$E$2:$E$100000,\"8??\",'Accounting Data'!$H$2:$H$100000,\"7??\",'Accounting Data'!$I$2:$I$100000,\"23??\",'Accounting Data'!$J$2:$J$100000,\"681?\")+SUMIFS('Accounting Data'!$C$2:$C$100000,'Accounting Data'!$E$2:$E$100000,\"8??\",'Accounting Data'!$H$2:$H$100000,\"8??\",'Accounting Data'!$I$2:$I$100000,\"23??\",'Accounting Data'!$J$2:$J$100000,\"681?\")+SUMIFS('Accounting Data'!$C$2:$C$100000,'Accounting Data'!$E$2:$E$100000,\"8??\",'Accounting Data'!$H$2:$H$100000,\"9??\",'Accounting Data'!$I$2:$I$100000,\"23??\",'Accounting Data'!$J$2:$J$100000,\"681?\")","v":0},{"$f":"SUMIFS('Accounting Data'!$C$2:$C$100000,'Accounting Data'!$E$2:$E$100000,\"9??\",'Accounting Data'!$H$2:$H$100000,\"7??\",'Accounting Data'!$I$2:$I$100000,\"23??\",'Accounting Data'!$J$2:$J$100000,\"681?\")+SUMIFS('Accounting Data'!$C$2:$C$100000,'Accounting Data'!$E$2:$E$100000,\"9??\",'Accounting Data'!$H$2:$H$100000,\"8??\",'Accounting Data'!$I$2:$I$100000,\"23??\",'Accounting Data'!$J$2:$J$100000,\"681?\")+SUMIFS('Accounting Data'!$C$2:$C$100000,'Accounting Data'!$E$2:$E$100000,\"9??\",'Accounting Data'!$H$2:$H$100000,\"9??\",'Accounting Data'!$I$2:$I$100000,\"23??\",'Accounting Data'!$J$2:$J$100000,\"681?\")","v":0},null,2300,{"$f":"SUMIFS('Accounting Data'!C2:C100000,'Accounting Data'!I2:I100000,\"23??\",'Accounting Data'!J2:J100000,\"682?\")","v":0},{"$f":"SUMIFS('Accounting Data'!$C$2:$C$100000,'Accounting Data'!$E$2:$E$100000,\"575\",'Accounting Data'!$I$2:$I$100000,\"23??\",'Accounting Data'!$J$2:$J$100000,\"682?\")+SUMIFS('Accounting Data'!$C$2:$C$100000,'Accounting Data'!$E$2:$E$100000,\"8??\",'Accounting Data'!$I$2:$I$100000,\"23??\",'Accounting Data'!$J$2:$J$100000,\"682?\")+SUMIFS('Accounting Data'!$C$2:$C$100000,'Accounting Data'!$E$2:$E$100000,\"9??\",'Accounting Data'!$I$2:$I$100000,\"23??\",'Accounting Data'!$J$2:$J$100000,\"682?\")","v":0},{"$f":"SUMIFS('Accounting Data'!$C$2:$C$100000,'Accounting Data'!$H$2:$H$100000,\"7??\",'Accounting Data'!$I$2:$I$100000,\"23??\",'Accounting Data'!$J$2:$J$100000,\"682?\")+SUMIFS('Accounting Data'!$C$2:$C$100000,'Accounting Data'!$H$2:$H$100000,\"8??\",'Accounting Data'!$I$2:$I$100000,\"23??\",'Accounting Data'!$J$2:$J$100000,\"682?\")+SUMIFS('Accounting Data'!$C$2:$C$100000,'Accounting Data'!$H$2:$H$100000,\"9??\",'Accounting Data'!$I$2:$I$100000,\"23??\",'Accounting Data'!$J$2:$J$100000,\"682?\")","v":0},{"$f":"SUMIFS('Accounting Data'!$C$2:$C$100000,'Accounting Data'!$E$2:$E$100000,\"575\",'Accounting Data'!$H$2:$H$100000,\"7??\",'Accounting Data'!$I$2:$I$100000,\"23??\",'Accounting Data'!$J$2:$J$100000,\"682?\")+SUMIFS('Accounting Data'!$C$2:$C$100000,'Accounting Data'!$E$2:$E$100000,\"575\",'Accounting Data'!$H$2:$H$100000,\"8??\",'Accounting Data'!$I$2:$I$100000,\"23??\",'Accounting Data'!$J$2:$J$100000,\"682?\")+SUMIFS('Accounting Data'!$C$2:$C$100000,'Accounting Data'!$E$2:$E$100000,\"575\",'Accounting Data'!$H$2:$H$100000,\"9??\",'Accounting Data'!$I$2:$I$100000,\"23??\",'Accounting Data'!$J$2:$J$100000,\"682?\")","v":0},{"$f":"SUMIFS('Accounting Data'!$C$2:$C$100000,'Accounting Data'!$E$2:$E$100000,\"8??\",'Accounting Data'!$H$2:$H$100000,\"7??\",'Accounting Data'!$I$2:$I$100000,\"23??\",'Accounting Data'!$J$2:$J$100000,\"682?\")+SUMIFS('Accounting Data'!$C$2:$C$100000,'Accounting Data'!$E$2:$E$100000,\"8??\",'Accounting Data'!$H$2:$H$100000,\"8??\",'Accounting Data'!$I$2:$I$100000,\"23??\",'Accounting Data'!$J$2:$J$100000,\"682?\")+SUMIFS('Accounting Data'!$C$2:$C$100000,'Accounting Data'!$E$2:$E$100000,\"8??\",'Accounting Data'!$H$2:$H$100000,\"9??\",'Accounting Data'!$I$2:$I$100000,\"23??\",'Accounting Data'!$J$2:$J$100000,\"682?\")","v":0},{"$f":"SUMIFS('Accounting Data'!$C$2:$C$100000,'Accounting Data'!$E$2:$E$100000,\"9??\",'Accounting Data'!$H$2:$H$100000,\"7??\",'Accounting Data'!$I$2:$I$100000,\"23??\",'Accounting Data'!$J$2:$J$100000,\"682?\")+SUMIFS('Accounting Data'!$C$2:$C$100000,'Accounting Data'!$E$2:$E$100000,\"9??\",'Accounting Data'!$H$2:$H$100000,\"8??\",'Accounting Data'!$I$2:$I$100000,\"23??\",'Accounting Data'!$J$2:$J$100000,\"682?\")+SUMIFS('Accounting Data'!$C$2:$C$100000,'Accounting Data'!$E$2:$E$100000,\"9??\",'Accounting Data'!$H$2:$H$100000,\"9??\",'Accounting Data'!$I$2:$I$100000,\"23??\",'Accounting Data'!$J$2:$J$100000,\"682?\")","v":0},null,null,null,null,null,null,null,null,null,2300,{"$f":"SUM(SUMIFS('Accounting Data'!C2:C100000,'Accounting Data'!I2:I100000,\"23??\",'Accounting Data'!J2:J100000,{\"689?\",\"6885\"}))","v":0},{"$f":"SUM(SUMIFS('Accounting Data'!$C$2:$C$100000,'Accounting Data'!$E$2:$E$100000,\"575\",'Accounting Data'!$I$2:$I$100000,\"23??\",'Accounting Data'!$J$2:$J$100000,{\"689?\",\"6885\"}))+SUM(SUMIFS('Accounting Data'!$C$2:$C$100000,'Accounting Data'!$E$2:$E$100000,\"8??\",'Accounting Data'!$I$2:$I$100000,\"23??\",'Accounting Data'!$J$2:$J$100000,{\"689?\",\"6885\"}))+SUM(SUMIFS('Accounting Data'!$C$2:$C$100000,'Accounting Data'!$E$2:$E$100000,\"9??\",'Accounting Data'!$I$2:$I$100000,\"23??\",'Accounting Data'!$J$2:$J$100000,{\"689?\",\"6885\"}))","v":0},{"$f":"SUM(SUMIFS('Accounting Data'!$C$2:$C$100000,'Accounting Data'!$H$2:$H$100000,\"7??\",'Accounting Data'!$I$2:$I$100000,\"23??\",'Accounting Data'!$J$2:$J$100000,{\"689?\",\"6885\"}))+SUM(SUMIFS('Accounting Data'!$C$2:$C$100000,'Accounting Data'!$H$2:$H$100000,\"8??\",'Accounting Data'!$I$2:$I$100000,\"23??\",'Accounting Data'!$J$2:$J$100000,{\"689?\",\"6885\"}))+SUM(SUMIFS('Accounting Data'!$C$2:$C$100000,'Accounting Data'!$H$2:$H$100000,\"9??\",'Accounting Data'!$I$2:$I$100000,\"23??\",'Accounting Data'!$J$2:$J$100000,{\"689?\",\"6885\"}))","v":0},{"$f":"SUM(SUMIFS('Accounting Data'!$C$2:$C$100000,'Accounting Data'!$E$2:$E$100000,\"575\",'Accounting Data'!$H$2:$H$100000,\"7??\",'Accounting Data'!$I$2:$I$100000,\"23??\",'Accounting Data'!$J$2:$J$100000,{\"689?\",\"6885\"}))+SUM(SUMIFS('Accounting Data'!$C$2:$C$100000,'Accounting Data'!$E$2:$E$100000,\"575\",'Accounting Data'!$H$2:$H$100000,\"8??\",'Accounting Data'!$I$2:$I$100000,\"23??\",'Accounting Data'!$J$2:$J$100000,{\"689?\",\"6885\"}))+SUM(SUMIFS('Accounting Data'!$C$2:$C$100000,'Accounting Data'!$E$2:$E$100000,\"575\",'Accounting Data'!$H$2:$H$100000,\"9??\",'Accounting Data'!$I$2:$I$100000,\"23??\",'Accounting Data'!$J$2:$J$100000,{\"689?\",\"6885\"}))","v":0},{"$f":"SUM(SUMIFS('Accounting Data'!$C$2:$C$100000,'Accounting Data'!$E$2:$E$100000,\"8??\",'Accounting Data'!$H$2:$H$100000,\"7??\",'Accounting Data'!$I$2:$I$100000,\"23??\",'Accounting Data'!$J$2:$J$100000,{\"689?\",\"6885\"}))+SUM(SUMIFS('Accounting Data'!$C$2:$C$100000,'Accounting Data'!$E$2:$E$100000,\"8??\",'Accounting Data'!$H$2:$H$100000,\"8??\",'Accounting Data'!$I$2:$I$100000,\"23??\",'Accounting Data'!$J$2:$J$100000,{\"689?\",\"6885\"}))+SUM(SUMIFS('Accounting Data'!$C$2:$C$100000,'Accounting Data'!$E$2:$E$100000,\"8??\",'Accounting Data'!$H$2:$H$100000,\"9??\",'Accounting Data'!$I$2:$I$100000,\"23??\",'Accounting Data'!$J$2:$J$100000,{\"689?\",\"6885\"}))","v":0},{"$f":"SUM(SUMIFS('Accounting Data'!$C$2:$C$100000,'Accounting Data'!$E$2:$E$100000,\"9??\",'Accounting Data'!$H$2:$H$100000,\"7??\",'Accounting Data'!$I$2:$I$100000,\"23??\",'Accounting Data'!$J$2:$J$100000,{\"689?\",\"6885\"}))+SUM(SUMIFS('Accounting Data'!$C$2:$C$100000,'Accounting Data'!$E$2:$E$100000,\"9??\",'Accounting Data'!$H$2:$H$100000,\"8??\",'Accounting Data'!$I$2:$I$100000,\"23??\",'Accounting Data'!$J$2:$J$100000,{\"689?\",\"6885\"}))+SUM(SUMIFS('Accounting Data'!$C$2:$C$100000,'Accounting Data'!$E$2:$E$100000,\"9??\",'Accounting Data'!$H$2:$H$100000,\"9??\",'Accounting Data'!$I$2:$I$100000,\"23??\",'Accounting Data'!$J$2:$J$100000,{\"689?\",\"6885\"}))","v":0},null,2300,{"$f":"SUMIFS('Accounting Data'!$C$2:$C$100000,'Accounting Data'!$H$2:$H$100000,\"7??\",'Accounting Data'!$I$2:$I$100000,\"23??\",'Accounting Data'!$J$2:$J$100000,\"6???\")+SUMIFS('Accounting Data'!$C$2:$C$100000,'Accounting Data'!$H$2:$H$100000,\"8??\",'Accounting Data'!$I$2:$I$100000,\"23??\",'Accounting Data'!$J$2:$J$100000,\"6???\")+SUMIFS('Accounting Data'!$C$2:$C$100000,'Accounting Data'!$H$2:$H$100000,\"9??\",'Accounting Data'!$I$2:$I$100000,\"23??\",'Accounting Data'!$J$2:$J$100000,\"6???\")","v":0},{"$f":"SUMIFS('Accounting Data'!$C$2:$C$100000,'Accounting Data'!$H$2:$H$100000,\"7??\",'Accounting Data'!$I$2:$I$100000,\"23??\",'Accounting Data'!$J$2:$J$100000,\"69??\")+SUMIFS('Accounting Data'!$C$2:$C$100000,'Accounting Data'!$H$2:$H$100000,\"8??\",'Accounting Data'!$I$2:$I$100000,\"23??\",'Accounting Data'!$J$2:$J$100000,\"69??\")+SUMIFS('Accounting Data'!$C$2:$C$100000,'Accounting Data'!$H$2:$H$100000,\"9??\",'Accounting Data'!$I$2:$I$100000,\"23??\",'Accounting Data'!$J$2:$J$100000,\"69??\")","v":0},{"$f":"SUMIFS('Accounting Data'!$C$2:$C$100000,'Accounting Data'!$E$2:$E$100000,\"575\",'Accounting Data'!$H$2:$H$100000,\"7??\",'Accounting Data'!$I$2:$I$100000,\"23??\",'Accounting Data'!$J$2:$J$100000,\"6???\")+SUMIFS('Accounting Data'!$C$2:$C$100000,'Accounting Data'!$E$2:$E$100000,\"575\",'Accounting Data'!$H$2:$H$100000,\"8??\",'Accounting Data'!$I$2:$I$100000,\"23??\",'Accounting Data'!$J$2:$J$100000,\"6???\")+SUMIFS('Accounting Data'!$C$2:$C$100000,'Accounting Data'!$E$2:$E$100000,\"575\",'Accounting Data'!$H$2:$H$100000,\"9??\",'Accounting Data'!$I$2:$I$100000,\"23??\",'Accounting Data'!$J$2:$J$100000,\"6???\")","v":0},{"$f":"SUMIFS('Accounting Data'!$C$2:$C$100000,'Accounting Data'!$E$2:$E$100000,\"8??\",'Accounting Data'!$H$2:$H$100000,\"7??\",'Accounting Data'!$I$2:$I$100000,\"23??\",'Accounting Data'!$J$2:$J$100000,\"6???\")+SUMIFS('Accounting Data'!$C$2:$C$100000,'Accounting Data'!$E$2:$E$100000,\"8??\",'Accounting Data'!$H$2:$H$100000,\"8??\",'Accounting Data'!$I$2:$I$100000,\"23??\",'Accounting Data'!$J$2:$J$100000,\"6???\")+SUMIFS('Accounting Data'!$C$2:$C$100000,'Accounting Data'!$E$2:$E$100000,\"8??\",'Accounting Data'!$H$2:$H$100000,\"9??\",'Accounting Data'!$I$2:$I$100000,\"23??\",'Accounting Data'!$J$2:$J$100000,\"6???\")+SUMIFS('Accounting Data'!$C$2:$C$100000,'Accounting Data'!$E$2:$E$100000,\"9??\",'Accounting Data'!$H$2:$H$100000,\"7??\",'Accounting Data'!$I$2:$I$100000,\"23??\",'Accounting Data'!$J$2:$J$100000,\"6???\")+SUMIFS('Accounting Data'!$C$2:$C$100000,'Accounting Data'!$E$2:$E$100000,\"9??\",'Accounting Data'!$H$2:$H$100000,\"8??\",'Accounting Data'!$I$2:$I$100000,\"23??\",'Accounting Data'!$J$2:$J$100000,\"6???\")+SUMIFS('Accounting Data'!$C$2:$C$100000,'Accounting Data'!$E$2:$E$100000,\"9??\",'Accounting Data'!$H$2:$H$100000,\"9??\",'Accounting Data'!$I$2:$I$100000,\"23??\",'Accounting Data'!$J$2:$J$100000,\"6???\")","v":0},{"$f":"SUMIFS('Accounting Data'!$C$2:$C$100000,'Accounting Data'!$E$2:$E$100000,\"575\",'Accounting Data'!$H$2:$H$100000,\"7??\",'Accounting Data'!$I$2:$I$100000,\"23??\",'Accounting Data'!$J$2:$J$100000,\"69??\")+SUMIFS('Accounting Data'!$C$2:$C$100000,'Accounting Data'!$E$2:$E$100000,\"575\",'Accounting Data'!$H$2:$H$100000,\"8??\",'Accounting Data'!$I$2:$I$100000,\"23??\",'Accounting Data'!$J$2:$J$100000,\"69??\")+SUMIFS('Accounting Data'!$C$2:$C$100000,'Accounting Data'!$E$2:$E$100000,\"575\",'Accounting Data'!$H$2:$H$100000,\"9??\",'Accounting Data'!$I$2:$I$100000,\"23??\",'Accounting Data'!$J$2:$J$100000,\"69??\")","v":0},{"$f":"SUMIFS('Accounting Data'!$C$2:$C$100000,'Accounting Data'!$E$2:$E$100000,\"8??\",'Accounting Data'!$H$2:$H$100000,\"7??\",'Accounting Data'!$I$2:$I$100000,\"23??\",'Accounting Data'!$J$2:$J$100000,\"69??\")+SUMIFS('Accounting Data'!$C$2:$C$100000,'Accounting Data'!$E$2:$E$100000,\"8??\",'Accounting Data'!$H$2:$H$100000,\"8??\",'Accounting Data'!$I$2:$I$100000,\"23??\",'Accounting Data'!$J$2:$J$100000,\"69??\")+SUMIFS('Accounting Data'!$C$2:$C$100000,'Accounting Data'!$E$2:$E$100000,\"8??\",'Accounting Data'!$H$2:$H$100000,\"9??\",'Accounting Data'!$I$2:$I$100000,\"23??\",'Accounting Data'!$J$2:$J$100000,\"69??\")+SUMIFS('Accounting Data'!$C$2:$C$100000,'Accounting Data'!$E$2:$E$100000,\"9??\",'Accounting Data'!$H$2:$H$100000,\"7??\",'Accounting Data'!$I$2:$I$100000,\"23??\",'Accounting Data'!$J$2:$J$100000,\"69??\")+SUMIFS('Accounting Data'!$C$2:$C$100000,'Accounting Data'!$E$2:$E$100000,\"9??\",'Accounting Data'!$H$2:$H$100000,\"8??\",'Accounting Data'!$I$2:$I$100000,\"23??\",'Accounting Data'!$J$2:$J$100000,\"69??\")+SUMIFS('Accounting Data'!$C$2:$C$100000,'Accounting Data'!$E$2:$E$100000,\"9??\",'Accounting Data'!$H$2:$H$100000,\"9??\",'Accounting Data'!$I$2:$I$100000,\"23??\",'Accounting Data'!$J$2:$J$100000,\"69??\")","v":0}]
["         2400 School Administration","5.",{"$f":"(AA15-AB15-AC15)+(AD15+AE15+AF15)","v":1762771},{"$f":"(AI15-AJ15-AK15)+(AL15+AM15+AN15)","v":518409},{"$f":"(AQ15-AR15-AS15-AT15-AU15)+(AV15+AW15+AX15+AY15+AZ15+BA15+BB15+BC15+BD15)","v":157580},{"$f":"(BG15-BH15-BI15)+(BJ15+BK15+BL15)","v":36252},{"$f":"(BO15-BP15-BQ15)+(BR15+BS15+BT15)","v":16634},{"$f":"(BW15-BX15-BY15)+(BZ15+CA15+CB15)","v":21598},null,null,null,{"$f":"(CU15-CV15-CW15)+(CX15+CY15+CZ15)","v":0},{"$f":"(DC15-DD15)-((DE15+DF15)-(DG15+DH15))","v":0},2513244,"5.",null,null,null,null,null,null,null,null,null,null,2400,{"$f":"SUMIFS('Accounting Data'!C2:C100000,'Accounting Data'!I2:I100000,\"24??\",'Accounting Data'!J2:J100000,\"61??\")","v":1762771},{"$f":"SUMIFS('Accounting Data'!C2:C100000,'Accounting Data'!E2:E100000,\"575\",'Accounting Data'!I2:I100000,\"24??\",'Accounting Data'!J2:J100000,\"61??\")+SUMIFS('Accounting Data'!C2:C100000,'Accounting Data'!E2:E100000,\"8??\",'Accounting Data'!I2:I100000,\"24??\",'Accounting Data'!J2:J100000,\"61??\")+SUMIFS('Accounting Data'!C2:C100000,'Accounting Data'!E2:E100000,\"9??\",'Accounting Data'!I2:I100000,\"24??\",'Accounting Data'!J2:J100000,\"61??\")","v":0},{"$f":"SUMIFS('Accounting Data'!C2:C100000,'Accounting Data'!H2:H100000,\"7??\",'Accounting Data'!I2:I100000,\"24??\",'Accounting Data'!J2:J100000,\"61??\")+SUMIFS('Accounting Data'!C2:C100000,'Accounting Data'!H2:H100000,\"8??\",'Accounting Data'!I2:I100000,\"24??\",'Accounting Data'!J2:J100000,\"61??\")+SUMIFS('Accounting Data'!C2:C100000,'Accounting Data'!H2:H100000,\"9??\",'Accounting Data'!I2:I100000,\"24??\",'Accounting Data'!J2:J100000,\"61??\")","v":0},{"$f":"SUMIFS('Accounting Data'!C2:C100000,'Accounting Data'!E2:E100000,\"575\",'Accounting Data'!H2:H100000,\"7??\",'Accounting Data'!I2:I100000,\"24??\",'Accounting Data'!J2:J100000,\"61??\")+SUMIFS('Accounting Data'!C2:C100000,'Accounting Data'!E2:E100000,\"575\",'Accounting Data'!H2:H100000,\"8??\",'Accounting Data'!I2:I100000,\"24??\",'Accounting Data'!J2:J100000,\"61??\")+SUMIFS('Accounting Data'!C2:C100000,'Accounting Data'!E2:E100000,\"575\",'Accounting Data'!H2:H100000,\"9??\",'Accounting Data'!I2:I100000,\"24??\",'Accounting Data'!J2:J100000,\"61??\")","v":0},{"$f":"SUMIFS('Accounting Data'!C2:C100000,'Accounting Data'!E2:E100000,\"8??\",'Accounting Data'!H2:H100000,\"7??\",'Accounting Data'!I2:I100000,\"24??\",'Accounting Data'!J2:J100000,\"61??\")+SUMIFS('Accounting Data'!C2:C100000,'Accounting Data'!E2:E100000,\"8??\",'Accounting Data'!H2:H100000,\"8??\",'Accounting Data'!I2:I100000,\"24??\",'Accounting Data'!J2:J100000,\"61??\")+SUMIFS('Accounting Data'!C2:C100000,'Accounting Data'!E2:E100000,\"8??\",'Accounting Data'!H2:H100000,\"9??\",'Accounting Data'!I2:I100000,\"24??\",'Accounting Data'!J2:J100000,\"61??\")","v":0},{"$f":"SUMIFS('Accounting Data'!C2:C100000,'Accounting Data'!E2:E100000,\"9??\",'Accounting Data'!H2:H100000,\"7??\",'Accounting Data'!I2:I100000,\"24??\",'Accounting Data'!J2:J100000,\"61??\")+SUMIFS('Accounting Data'!C2:C100000,'Accounting Data'!E2:E100000,\"9??\",'Accounting Data'!H2:H100000,\"8??\",'Accounting Data'!I2:I100000,\"24??\",'Accounting Data'!J2:J100000,\"61??\")+SUMIFS('Accounting Data'!C2:C100000,'Accounting Data'!E2:E100000,\"9??\",'Accounting Data'!H2:H100000,\"9??\",'Accounting Data'!I2:I100000,\"24??\",'Accounting Data'!J2:J100000,\"61??\")","v":0},null,2400,{"$f":"SUMIFS('Accounting Data'!C2:C100000,'Accounting Data'!I2:I100000,\"24??\",'Accounting Data'!J2:J100000,\"62??\")","v":518409},{"$f":"SUMIFS('Accounting Data'!C2:C100000,'Accounting Data'!E2:E100000,\"575\",'Accounting Data'!I2:I100000,\"24??\",'Accounting Data'!J2:J100000,\"62??\")+SUMIFS('Accounting Data'!C2:C100000,'Accounting Data'!E2:E100000,\"8??\",'Accounting Data'!I2:I100000,\"24??\",'Accounting Data'!J2:J100000,\"62??\")+SUMIFS('Accounting Data'!C2:C100000,'Accounting Data'!E2:E100000,\"9??\",'Accounting Data'!I2:I100000,\"24??\",'Accounting Data'!J2:J100000,\"62??\")","v":0},{"$f":"SUMIFS('Accounting Data'!C2:C100000,'Accounting Data'!H2:H100000,\"7??\",'Accounting Data'!I2:I100000,\"24??\",'Accounting Data'!J2:J100000,\"62??\")+SUMIFS('Accounting Data'!C2:C100000,'Accounting Data'!H2:H100000,\"8??\",'Accounting Data'!I2:I100000,\"24??\",'Accounting Data'!J2:J100000,\"62??\")+SUMIFS('Accounting Data'!C2:C100000,'Accounting Data'!H2:H100000,\"9??\",'Accounting Data'!I2:I100000,\"24??\",'Accounting Data'!J2:J100000,\"62??\")","v":0},{"$f":"SUMIFS('Accounting Data'!C2:C100000,'Accounting Data'!E2:E100000,\"575\",'Accounting Data'!H2:H100000,\"7??\",'Accounting Data'!I2:I100000,\"24??\",'Accounting Data'!J2:J100000,\"62??\")+SUMIFS('Accounting Data'!C2:C100000,'Accounting Data'!E2:E100000,\"575\",'Accounting Data'!H2:H100000,\"8??\",'Accounting Data'!I2:I100000,\"24??\",'Accounting Data'!J2:J100000,\"62??\")+SUMIFS('Accounting Data'!C2:C100000,'Accounting Data'!E2:E100000,\"575\",'Accounting Data'!H2:H100000,\"9??\",'Accounting Data'!I2:I100000,\"24??\",'Accounting Data'!J2:J100000,\"62??\")","v":0},{"$f":"SUMIFS('Accounting Data'!C2:C100000,'Accounting Data'!E2:E100000,\"8??\",'Accounting Data'!H2:H100000,\"7??\",'Accounting Data'!I2:I100000,\"24??\",'Accounting Data'!J2:J100000,\"62??\")+SUMIFS('Accounting Data'!C2:C100000,'Accounting Data'!E2:E100000,\"8??\",'Accounting Data'!H2:H100000,\"8??\",'Accounting Data'!I2:I100000,\"24??\",'Accounting Data'!J2:J100000,\"62??\")+SUMIFS('Accounting Data'!C2:C100000,'Accounting Data'!E2:E100000,\"8??\",'Accounting Data'!H2:H100000,\"9??\",'Accounting Data'!I2:I100000,\"24??\",'Accounting Data'!J2:J100000,\"62??\")","v":0},{"$f":"SUMIFS('Accounting Data'!C2:C100000,'Accounting Data'!E2:E100000,\"9??\",'Accounting Data'!H2:H100000,\"7??\",'Accounting Data'!I2:I100000,\"24??\",'Accounting Data'!J2:J100000,\"62??\")+SUMIFS('Accounting Data'!C2:C100000,'Accounting Data'!E2:E100000,\"9??\",'Accounting Data'!H2:H100000,\"8??\",'Accounting Data'!I2:I100000,\"24??\",'Accounting Data'!J2:J100000,\"62??\")+SUMIFS('Accounting Data'!C2:C100000,'Accounting Data'!E2:E100000,\"9??\",'Accounting Data'!H2:H100000,\"9??\",'Accounting Data'!I2:I100000,\"24??\",'Accounting Data'!J2:J100000,\"62??\")","v":0},null,2400,{"$f":"SUMIFS('Accounting Data'!C2:C100000,'Accounting Data'!I2:I100000,\"24??\",'Accounting Data'!J2:J100000,\"63??\")+SUMIFS('Accounting Data'!C2:C100000,'Accounting Data'!I2:I100000,\"24??\",'Accounting Data'!J2:J100000,\"64??\")+SUMIFS('Accounting Data'!C2:C100000,'Accounting Data'!I2:I100000,\"24??\",'Accounting Data'!J2:J100000,\"65??\")","v":157580},{"$f":"SUMIFS('Accounting Data'!C2:C100000,'Accounting Data'!E2:E100000,\"575\",'Accounting Data'!I2:I100000,\"24??\",'Accounting Data'!J2:J100000,\"63??\")+SUMIFS('Accounting Data'!C2:C100000,'Accounting Data'!E2:E100000,\"8??\",'Accounting Data'!I2:I100000,\"24??\",'Accounting Data'!J2:J100000,\"63??\")+SUMIFS('Accounting Data'!C2:C100000,'Accounting Data'!E2:E100000,\"9??\",'Accounting Data'!I2:I100000,\"24??\",'Accounting Data'!J2:J100000,\"63??\")","v":0},{"$f":"SUMIFS('Accounting Data'!C2:C100000,'Accounting Data'!E2:E100000,\"575\",'Accounting Data'!I2:I100000,\"24??\",'Accounting Data'!J2:J100000,\"64??\")+SUMIFS('Accounting Data'!C2:C100000,'Accounting Data'!E2:E100000,\"8??\",'Accounting Data'!I2:I100000,\"24??\",'Accounting Data'!J2:J100000,\"64??\")+SUMIFS('Accounting Data'!C2:C100000,'Accounting Data'!E2:E100000,\"9??\",'Accounting Data'!I2:I100000,\"24??\",'Accounting Data'!J2:J100000,\"64??\")","v":0},{"$f":"SUMIFS('Accounting Data'!C2:C100000,'Accounting Data'!E2:E100000,\"575\",'Accounting Data'!I2:I100000,\"24??\",'Accounting Data'!J2:J100000,\"65??\")+SUMIFS('Accounting Data'!C2:C100000,'Accounting Data'!E2:E100000,\"8??\",'Accounting Data'!I2:I100000,\"24??\",'Accounting Data'!J2:J100000,\"65??\")+SUMIFS('Accounting Data'!C2:C100000,'Accounting Data'!E2:E100000,\"9??\",'Accounting Data'!I2:I100000,\"24??\",'Accounting Data'!J2:J100000,\"65??\")","v":0},{"$f":"SUMIFS('Accounting Data'!C2:C100000,'Accounting Data'!H2:H100000,\"7??\",'Accounting Data'!I2:I100000,\"24??\",'Accounting Data'!J2:J100000,\"63??\")+SUMIFS('Accounting Data'!C2:C100000,'Accounting Data'!H2:H100000,\"8??\",'Accounting Data'!I2:I100000,\"24??\",'Accounting Data'!J2:J100000,\"63??\")+SUMIFS('Accounting Data'!C2:C100000,'Accounting Data'!H2:H100000,\"9??\",'Accounting Data'!I2:I100000,\"24??\",'Accounting Data'!J2:J100000,\"63??\")+SUMIFS('Accounting Data'!C2:C100000,'Accounting Data'!H2:H100000,\"7??\",'Accounting Data'!I2:I100000,\"24??\",'Accounting Data'!J2:J100000,\"64??\")+SUMIFS('Accounting Data'!C2:C100000,'Accounting Data'!H2:H100000,\"8??\",'Accounting Data'!I2:I100000,\"24??\",'Accounting Data'!J2:J100000,\"64??\")+SUMIFS('Accounting Data'!C2:C100000,'Accounting Data'!H2:H100000,\"9??\",'Accounting Data'!I2:I100000,\"24??\",'Accounting Data'!J2:J100000,\"64??\")+SUMIFS('Accounting Data'!C2:C100000,'Accounting Data'!H2:H100000,\"7??\",'Accounting Data'!I2:I100000,\"24??\",'Accounting Data'!J2:J100000,\"65??\")+SUMIFS('Accounting Data'!C2:C100000,'Accounting Data'!H2:H100000,\"8??\",'Accounting Data'!I2:I100000,\"24??\",'Accounting Data'!J2:J100000,\"65??\")+SUMIFS('Accounting Data'!C2:C100000,'Accounting Data'!H2:H100000,\"9??\",'Accounting Data'!I2:I100000,\"24??\",'Accounting Data'!J2:J100000,\"65??\")","v":0},{"$f":"SUMIFS('Accounting Data'!C$2:C$100000,'Accounting Data'!E$2:E$100000,\"575\",'Accounting Data'!H$2:H$100000,\"7??\",'Accounting Data'!I$2:I$100000,\"24??\",'Accounting Data'!J$2:J$100000,\"63??\")+SUMIFS('Accounting Data'!C$2:C$100000,'Accounting Data'!E$2:E$100000,\"575\",'Accounting Data'!H$2:H$100000,\"8??\",'Accounting Data'!I$2:I$100000,\"24??\",'Accounting Data'!J$2:J$100000,\"63??\")+SUMIFS('Accounting Data'!C$2:C$100000,'Accounting Data'!E$2:E$100000,\"575\",'Accounting Data'!H$2:H$100000,\"9??\",'Accounting Data'!I$2:I$100000,\"24??\",'Accounting Data'!J$2:J$100000,\"63??\")","v":0},{"$f":"SUMIFS('Accounting Data'!C2:C100000,'Accounting Data'!E2:E100000,\"575\",'Accounting Data'!H2:H100000,\"7??\",'Accounting Data'!I2:I100000,\"24??\",'Accounting Data'!J2:J100000,\"64??\")+SUMIFS('Accounting Data'!C2:C100000,'Accounting Data'!E2:E100000,\"575\",'Accounting Data'!H2:H100000,\"8??\",'Accounting Data'!I2:I100000,\"24??\",'Accounting Data'!J2:J100000,\"64??\")+SUMIFS('Accounting Data'!C2:C100000,'Accounting Data'!E2:E100000,\"575\",'Accounting Data'!H2:H100000,\"9??\",'Accounting Data'!I2:I100000,\"24??\",'Accounting Data'!J2:J100000,\"64??\")","v":0},{"$f":"SUMIFS('Accounting Data'!C2:C100000,'Accounting Data'!E2:E100000,\"575\",'Accounting Data'!H2:H100000,\"7??\",'Accounting Data'!I2:I100000,\"24??\",'Accounting Data'!J2:J100000,\"65??\")+SUMIFS('Accounting Data'!C2:C100000,'Accounting Data'!E2:E100000,\"575\",'Accounting Data'!H2:H100000,\"8??\",'Accounting Data'!I2:I100000,\"24??\",'Accounting Data'!J2:J100000,\"65??\")+SUMIFS('Accounting Data'!C2:C100000,'Accounting Data'!E2:E100000,\"575\",'Accounting Data'!H2:H100000,\"9??\",'Accounting Data'!I2:I100000,\"24??\",'Accounting Data'!J2:J100000,\"65??\")","v":0},{"$f":"SUMIFS('Accounting Data'!C2:C100000,'Accounting Data'!E2:E100000,\"8??\",'Accounting Data'!H2:H100000,\"7??\",'Accounting Data'!I2:I100000,\"24??\",'Accounting Data'!J2:J100000,\"63??\")+SUMIFS('Accounting Data'!C2:C100000,'Accounting Data'!E2:E100000,\"8??\",'Accounting Data'!H2:H100000,\"8??\",'Accounting Data'!I2:I100000,\"24??\",'Accounting Data'!J2:J100000,\"63??\")+SUMIFS('Accounting Data'!C2:C100000,'Accounting Data'!E2:E100000,\"8??\",'Accounting Data'!H2:H100000,\"9??\",'Accounting Data'!I2:I100000,\"24??\",'Accounting Data'!J2:J100000,\"63??\")","v":0},{"$f":"SUMIFS('Accounting Data'!C2:C100000,'Accounting Data'!E2:E100000,\"8??\",'Accounting Data'!H2:H100000,\"7??\",'Accounting Data'!I2:I100000,\"24??\",'Accounting Data'!J2:J100000,\"64??\")+SUMIFS('Accounting Data'!C2:C100000,'Accounting Data'!E2:E100000,\"8??\",'Accounting Data'!H2:H100000,\"8??\",'Accounting Data'!I2:I100000,\"24??\",'Accounting Data'!J2:J100000,\"64??\")+SUMIFS('Accounting Data'!C2:C100000,'Accounting Data'!E2:E100000,\"8??\",'Accounting Data'!H2:H100000,\"9??\",'Accounting Data'!I2:I100000,\"24??\",'Accounting Data'!J2:J100000,\"64??\")","v":0},{"$f":"SUMIFS('Accounting Data'!C2:C100000,'Accounting Data'!E2:E100000,\"8??\",'Accounting Data'!H2:H100000,\"7??\",'Accounting Data'!I2:I100000,\"24??\",'Accounting Data'!J2:J100000,\"65??\")+SUMIFS('Accounting Data'!C2:C100000,'Accounting Data'!E2:E100000,\"8??\",'Accounting Data'!H2:H100000,\"8??\",'Accounting Data'!I2:I100000,\"24??\",'Accounting Data'!J2:J100000,\"65??\")+SUMIFS('Accounting Data'!C2:C100000,'Accounting Data'!E2:E100000,\"8??\",'Accounting Data'!H2:H100000,\"9??\",'Accounting Data'!I2:I100000,\"24??\",'Accounting Data'!J2:J100000,\"65??\")","v":0},{"$f":"SUMIFS('Accounting Data'!C2:C100000,'Accounting Data'!E2:E100000,\"9??\",'Accounting Data'!H2:H100000,\"7??\",'Accounting Data'!I2:I100000,\"24??\",'Accounting Data'!J2:J100000,\"63??\")+SUMIFS('Accounting Data'!C2:C100000,'Accounting Data'!E2:E100000,\"9??\",'Accounting Data'!H2:H100000,\"8??\",'Accounting Data'!I2:I100000,\"24??\",'Accounting Data'!J2:J100000,\"63??\")+SUMIFS('Accounting Data'!C2:C100000,'Accounting Data'!E2:E100000,\"9??\",'Accounting Data'!H2:H100000,\"9??\",'Accounting Data'!I2:I100000,\"24??\",'Accounting Data'!J2:J100000,\"63??\")","v":0},{"$f":"SUMIFS('Accounting Data'!C2:C100000,'Accounting Data'!E2:E100000,\"9??\",'Accounting Data'!H2:H100000,\"7??\",'Accounting Data'!I2:I100000,\"24??\",'Accounting Data'!J2:J100000,\"64??\")+SUMIFS('Accounting Data'!C2:C100000,'Accounting Data'!E2:E100000,\"9??\",'Accounting Data'!H2:H100000,\"8??\",'Accounting Data'!I2:I100000,\"24??\",'Accounting Data'!J2:J100000,\"64??\")+SUMIFS('Accounting Data'!C2:C100000,'Accounting Data'!E2:E100000,\"9??\",'Accounting Data'!H2:H100000,\"9??\",'Accounting Data'!I2:I100000,\"24??\",'Accounting Data'!J2:J100000,\"64??\")","v":0},{"$f":"SUMIFS('Accounting Data'!C2:C100000,'Accounting Data'!E2:E100000,\"9??\",'Accounting Data'!H2:H100000,\"7??\",'Accounting Data'!I2:I100000,\"24??\",'Accounting Data'!J2:J100000,\"65??\")+SUMIFS('Accounting Data'!C2:C100000,'Accounting Data'!E2:E100000,\"9??\",'Accounting Data'!H2:H100000,\"8??\",'Accounting Data'!I2:I100000,\"24??\",'Accounting Data'!J2:J100000,\"65??\")+SUMIFS('Accounting Data'!C2:C100000,'Accounting Data'!E2:E100000,\"9??\",'Accounting Data'!H2:H100000,\"9??\",'Accounting Data'!I2:I100000,\"24??\",'Accounting Data'!J2:J100000,\"65??\")","v":0},null,2400,{"$f":"SUMIFS('Accounting Data'!C2:C100000,'Accounting Data'!I2:I100000,\"24??\",'Accounting Data'!J2:J100000,\"66??\")","v":36252},{"$f":"SUMIFS('Accounting Data'!$C$2:$C$100000,'Accounting Data'!$E$2:$E$100000,\"575\",'Accounting Data'!$I$2:$I$100000,\"24??\",'Accounting Data'!$J$2:$J$100000,\"66??\")+SUMIFS('Accounting Data'!$C$2:$C$100000,'Accounting Data'!$E$2:$E$100000,\"8??\",'Accounting Data'!$I$2:$I$100000,\"24??\",'Accounting Data'!$J$2:$J$100000,\"66??\")+SUMIFS('Accounting Data'!$C$2:$C$100000,'Accounting Data'!$E$2:$E$100000,\"9??\",'Accounting Data'!$I$2:$I$100000,\"24??\",'Accounting Data'!$J$2:$J$100000,\"66??\")","v":0},{"$f":"SUMIFS('Accounting Data'!$C$2:$C$100000,'Accounting Data'!$H$2:$H$100000,\"7??\",'Accounting Data'!$I$2:$I$100000,\"24??\",'Accounting Data'!$J$2:$J$100000,\"66??\")+SUMIFS('Accounting Data'!$C$2:$C$100000,'Accounting Data'!$H$2:$H$100000,\"8??\",'Accounting Data'!$I$2:$I$100000,\"24??\",'Accounting Data'!$J$2:$J$100000,\"66??\")+SUMIFS('Accounting Data'!$C$2:$C$100000,'Accounting Data'!$H$2:$H$100000,\"9??\",'Accounting Data'!$I$2:$I$100000,\"24??\",'Accounting Data'!$J$2:$J$100000,\"66??\")","v":0},{"$f":"SUMIFS('Accounting Data'!$C$2:$C$100000,'Accounting Data'!$E$2:$E$100000,\"575\",'Accounting Data'!$H$2:$H$100000,\"7??\",'Accounting Data'!$I$2:$I$100000,\"24??\",'Accounting Data'!$J$2:$J$100000,\"66??\")+SUMIFS('Accounting Data'!$C$2:$C$100000,'Accounting Data'!$E$2:$E$100000,\"575\",'Accounting Data'!$H$2:$H$100000,\"8??\",'Accounting Data'!$I$2:$I$100000,\"24??\",'Accounting Data'!$J$2:$J$100000,\"66??\")+SUMIFS('Accounting Data'!$C$2:$C$100000,'Accounting Data'!$E$2:$E$100000,\"575\",'Accounting Data'!$H$2:$H$100000,\"9??\",'Accounting Data'!$I$2:$I$100000,\"24??\",'Accounting Data'!$J$2:$J$100000,\"66??\")","v":0},{"$f":"SUMIFS('Accounting Data'!$C$2:$C$100000,'Accounting Data'!$E$2:$E$100000,\"8??\",'Accounting Data'!$H$2:$H$100000,\"7??\",'Accounting Data'!$I$2:$I$100000,\"24??\",'Accounting Data'!$J$2:$J$100000,\"66??\")+SUMIFS('Accounting Data'!$C$2:$C$100000,'Accounting Data'!$E$2:$E$100000,\"8??\",'Accounting Data'!$H$2:$H$100000,\"8??\",'Accounting Data'!$I$2:$I$100000,\"24??\",'Accounting Data'!$J$2:$J$100000,\"66??\")+SUMIFS('Accounting Data'!$C$2:$C$100000,'Accounting Data'!$E$2:$E$100000,\"8??\",'Accounting Data'!$H$2:$H$100000,\"9??\",'Accounting Data'!$I$2:$I$100000,\"24??\",'Accounting Data'!$J$2:$J$100000,\"66??\")","v":0},{"$f":"SUMIFS('Accounting Data'!$C$2:$C$100000,'Accounting Data'!$E$2:$E$100000,\"9??\",'Accounting Data'!$H$2:$H$100000,\"7??\",'Accounting Data'!$I$2:$I$100000,\"24??\",'Accounting Data'!$J$2:$J$100000,\"66??\")+SUMIFS('Accounting Data'!$C$2:$C$100000,'Accounting Data'!$E$2:$E$100000,\"9??\",'Accounting Data'!$H$2:$H$100000,\"8??\",'Accounting Data'!$I$2:$I$100000,\"24??\",'Accounting Data'!$J$2:$J$100000,\"66??\")+SUMIFS('Accounting Data'!$C$2:$C$100000,'Accounting Data'!$E$2:$E$100000,\"9??\",'Accounting Data'!$H$2:$H$100000,\"9??\",'Accounting Data'!$I$2:$I$100000,\"24??\",'Accounting Data'!$J$2:$J$100000,\"66??\")","v":0},null,2400,{"$f":"SUMIFS('Accounting Data'!C2:C100000,'Accounting Data'!I2:I100000,\"24??\",'Accounting Data'!J2:J100000,\"67??\")","v":16634},{"$f":"SUMIFS('Accounting Data'!$C$2:$C$100000,'Accounting Data'!$E$2:$E$100000,\"575\",'Accounting Data'!$I$2:$I$100000,\"24??\",'Accounting Data'!$J$2:$J$100000,\"67??\")+SUMIFS('Accounting Data'!$C$2:$C$100000,'Accounting Data'!$E$2:$E$100000,\"8??\",'Accounting Data'!$I$2:$I$100000,\"24??\",'Accounting Data'!$J$2:$J$100000,\"67??\")+SUMIFS('Accounting Data'!$C$2:$C$100000,'Accounting Data'!$E$2:$E$100000,\"9??\",'Accounting Data'!$I$2:$I$100000,\"24??\",'Accounting Data'!$J$2:$J$100000,\"67??\")","v":0},{"$f":"SUMIFS('Accounting Data'!$C$2:$C$100000,'Accounting Data'!$H$2:$H$100000,\"7??\",'Accounting Data'!$I$2:$I$100000,\"24??\",'Accounting Data'!$J$2:$J$100000,\"67??\")+SUMIFS('Accounting Data'!$C$2:$C$100000,'Accounting Data'!$H$2:$H$100000,\"8??\",'Accounting Data'!$I$2:$I$100000,\"24??\",'Accounting Data'!$J$2:$J$100000,\"67??\")+SUMIFS('Accounting Data'!$C$2:$C$100000,'Accounting Data'!$H$2:$H$100000,\"9??\",'Accounting Data'!$I$2:$I$100000,\"24??\",'Accounting Data'!$J$2:$J$100000,\"67??\")","v":0},{"$f":"SUMIFS('Accounting Data'!$C$2:$C$100000,'Accounting Data'!$E$2:$E$100000,\"575\",'Accounting Data'!$H$2:$H$100000,\"7??\",'Accounting Data'!$I$2:$I$100000,\"24??\",'Accounting Data'!$J$2:$J$100000,\"67??\")+SUMIFS('Accounting Data'!$C$2:$C$100000,'Accounting Data'!$E$2:$E$100000,\"575\",'Accounting Data'!$H$2:$H$100000,\"8??\",'Accounting Data'!$I$2:$I$100000,\"24??\",'Accounting Data'!$J$2:$J$100000,\"67??\")+SUMIFS('Accounting Data'!$C$2:$C$100000,'Accounting Data'!$E$2:$E$100000,\"575\",'Accounting Data'!$H$2:$H$100000,\"9??\",'Accounting Data'!$I$2:$I$100000,\"24??\",'Accounting Data'!$J$2:$J$100000,\"67??\")","v":0},{"$f":"SUMIFS('Accounting Data'!$C$2:$C$100000,'Accounting Data'!$E$2:$E$100000,\"8??\",'Accounting Data'!$H$2:$H$100000,\"7??\",'Accounting Data'!$I$2:$I$100000,\"24??\",'Accounting Data'!$J$2:$J$100000,\"67??\")+SUMIFS('Accounting Data'!$C$2:$C$100000,'Accounting Data'!$E$2:$E$100000,\"8??\",'Accounting Data'!$H$2:$H$100000,\"8??\",'Accounting Data'!$I$2:$I$100000,\"24??\",'Accounting Data'!$J$2:$J$100000,\"67??\")+SUMIFS('Accounting Data'!$C$2:$C$100000,'Accounting Data'!$E$2:$E$100000,\"8??\",'Accounting Data'!$H$2:$H$100000,\"9??\",'Accounting Data'!$I$2:$I$100000,\"24??\",'Accounting Data'!$J$2:$J$100000,\"67??\")","v":0},{"$f":"SUMIFS('Accounting Data'!$C$2:$C$100000,'Accounting Data'!$E$2:$E$100000,\"9??\",'Accounting Data'!$H$2:$H$100000,\"7??\",'Accounting Data'!$I$2:$I$100000,\"24??\",'Accounting Data'!$J$2:$J$100000,\"67??\")+SUMIFS('Accounting Data'!$C$2:$C$100000,'Accounting Data'!$E$2:$E$100000,\"9??\",'Accounting Data'!$H$2:$H$100000,\"8??\",'Accounting Data'!$I$2:$I$100000,\"24??\",'Accounting Data'!$J$2:$J$100000,\"67??\")+SUMIFS('Accounting Data'!$C$2:$C$100000,'Accounting Data'!$E$2:$E$100000,\"9??\",'Accounting Data'!$H$2:$H$100000,\"9??\",'Accounting Data'!$I$2:$I$100000,\"24??\",'Accounting Data'!$J$2:$J$100000,\"67??\")","v":0},null,2400,{"$f":"SUMIFS('Accounting Data'!C2:C100000,'Accounting Data'!I2:I100000,\"24??\",'Accounting Data'!J2:J100000,\"681?\")","v":21598},{"$f":"SUMIFS('Accounting Data'!$C$2:$C$100000,'Accounting Data'!$E$2:$E$100000,\"575\",'Accounting Data'!$I$2:$I$100000,\"24??\",'Accounting Data'!$J$2:$J$100000,\"681?\")+SUMIFS('Accounting Data'!$C$2:$C$100000,'Accounting Data'!$E$2:$E$100000,\"8??\",'Accounting Data'!$I$2:$I$100000,\"24??\",'Accounting Data'!$J$2:$J$100000,\"681?\")+SUMIFS('Accounting Data'!$C$2:$C$100000,'Accounting Data'!$E$2:$E$100000,\"9??\",'Accounting Data'!$I$2:$I$100000,\"24??\",'Accounting Data'!$J$2:$J$100000,\"681?\")","v":0},{"$f":"SUMIFS('Accounting Data'!$C$2:$C$100000,'Accounting Data'!$H$2:$H$100000,\"7??\",'Accounting Data'!$I$2:$I$100000,\"24??\",'Accounting Data'!$J$2:$J$100000,\"681?\")+SUMIFS('Accounting Data'!$C$2:$C$100000,'Accounting Data'!$H$2:$H$100000,\"8??\",'Accounting Data'!$I$2:$I$100000,\"24??\",'Accounting Data'!$J$2:$J$100000,\"681?\")+SUMIFS('Accounting Data'!$C$2:$C$100000,'Accounting Data'!$H$2:$H$100000,\"9??\",'Accounting Data'!$I$2:$I$100000,\"24??\",'Accounting Data'!$J$2:$J$100000,\"681?\")","v":0},{"$f":"SUMIFS('Accounting Data'!$C$2:$C$100000,'Accounting Data'!$E$2:$E$100000,\"575\",'Accounting Data'!$H$2:$H$100000,\"7??\",'Accounting Data'!$I$2:$I$100000,\"24??\",'Accounting Data'!$J$2:$J$100000,\"681?\")+SUMIFS('Accounting Data'!$C$2:$C$100000,'Accounting Data'!$E$2:$E$100000,\"575\",'Accounting Data'!$H$2:$H$100000,\"8??\",'Accounting Data'!$I$2:$I$100000,\"24??\",'Accounting Data'!$J$2:$J$100000,\"681?\")+SUMIFS('Accounting Data'!$C$2:$C$100000,'Accounting Data'!$E$2:$E$100000,\"575\",'Accounting Data'!$H$2:$H$100000,\"9??\",'Accounting Data'!$I$2:$I$100000,\"24??\",'Accounting Data'!$J$2:$J$100000,\"681?\")","v":0},{"$f":"SUMIFS('Accounting Data'!$C$2:$C$100000,'Accounting Data'!$E$2:$E$100000,\"8??\",'Accounting Data'!$H$2:$H$100000,\"7??\",'Accounting Data'!$I$2:$I$100000,\"24??\",'Accounting Data'!$J$2:$J$100000,\"681?\")+SUMIFS('Accounting Data'!$C$2:$C$100000,'Accounting Data'!$E$2:$E$100000,\"8??\",'Accounting Data'!$H$2:$H$100000,\"8??\",'Accounting Data'!$I$2:$I$100000,\"24??\",'Accounting Data'!$J$2:$J$100000,\"681?\")+SUMIFS('Accounting Data'!$C$2:$C$100000,'Accounting Data'!$E$2:$E$100000,\"8??\",'Accounting Data'!$H$2:$H$100000,\"9??\",'Accounting Data'!$I$2:$I$100000,\"24??\",'Accounting Data'!$J$2:$J$100000,\"681?\")","v":0},{"$f":"SUMIFS('Accounting Data'!$C$2:$C$100000,'Accounting Data'!$E$2:$E$100000,\"9??\",'Accounting Data'!$H$2:$H$100000,\"7??\",'Accounting Data'!$I$2:$I$100000,\"24??\",'Accounting Data'!$J$2:$J$100000,\"681?\")+SUMIFS('Accounting Data'!$C$2:$C$100000,'Accounting Data'!$E$2:$E$100000,\"9??\",'Accounting Data'!$H$2:$H$100000,\"8??\",'Accounting Data'!$I$2:$I$100000,\"24??\",'Accounting Data'!$J$2:$J$100000,\"681?\")+SUMIFS('Accounting Data'!$C$2:$C$100000,'Accounting Data'!$E$2:$E$100000,\"9??\",'Accounting Data'!$H$2:$H$100000,\"9??\",'Accounting Data'!$I$2:$I$100000,\"24??\",'Accounting Data'!$J$2:$J$100000,\"681?\")","v":0},null,"Object 6850",null,null,null,null,null,null,null,null,null,null,null,null,null,null,null,2400,{"$f":"SUM(SUMIFS('Accounting Data'!C2:C100000,'Accounting Data'!I2:I100000,\"24??\",'Accounting Data'!J2:J100000,{\"689?\",\"6885\"}))","v":0},{"$f":"SUM(SUMIFS('Accounting Data'!$C$2:$C$100000,'Accounting Data'!$E$2:$E$100000,\"575\",'Accounting Data'!$I$2:$I$100000,\"24??\",'Accounting Data'!$J$2:$J$100000,{\"689?\",\"6885\"}))+SUM(SUMIFS('Accounting Data'!$C$2:$C$100000,'Accounting Data'!$E$2:$E$100000,\"8??\",'Accounting Data'!$I$2:$I$100000,\"24??\",'Accounting Data'!$J$2:$J$100000,{\"689?\",\"6885\"}))+SUM(SUMIFS('Accounting Data'!$C$2:$C$100000,'Accounting Data'!$E$2:$E$100000,\"9??\",'Accounting Data'!$I$2:$I$100000,\"24??\",'Accounting Data'!$J$2:$J$100000,{\"689?\",\"6885\"}))","v":0},{"$f":"SUM(SUMIFS('Accounting Data'!$C$2:$C$100000,'Accounting Data'!$H$2:$H$100000,\"7??\",'Accounting Data'!$I$2:$I$100000,\"24??\",'Accounting Data'!$J$2:$J$100000,{\"689?\",\"6885\"}))+SUM(SUMIFS('Accounting Data'!$C$2:$C$100000,'Accounting Data'!$H$2:$H$100000,\"8??\",'Accounting Data'!$I$2:$I$100000,\"24??\",'Accounting Data'!$J$2:$J$100000,{\"689?\",\"6885\"}))+SUM(SUMIFS('Accounting Data'!$C$2:$C$100000,'Accounting Data'!$H$2:$H$100000,\"9??\",'Accounting Data'!$I$2:$I$100000,\"24??\",'Accounting Data'!$J$2:$J$100000,{\"689?\",\"6885\"}))","v":0},{"$f":"SUM(SUMIFS('Accounting Data'!$C$2:$C$100000,'Accounting Data'!$E$2:$E$100000,\"575\",'Accounting Data'!$H$2:$H$100000,\"7??\",'Accounting Data'!$I$2:$I$100000,\"24??\",'Accounting Data'!$J$2:$J$100000,{\"689?\",\"6885\"}))+SUM(SUMIFS('Accounting Data'!$C$2:$C$100000,'Accounting Data'!$E$2:$E$100000,\"575\",'Accounting Data'!$H$2:$H$100000,\"8??\",'Accounting Data'!$I$2:$I$100000,\"24??\",'Accounting Data'!$J$2:$J$100000,{\"689?\",\"6885\"}))+SUM(SUMIFS('Accounting Data'!$C$2:$C$100000,'Accounting Data'!$E$2:$E$100000,\"575\",'Accounting Data'!$H$2:$H$100000,\"9??\",'Accounting Data'!$I$2:$I$100000,\"24??\",'Accounting Data'!$J$2:$J$100000,{\"689?\",\"6885\"}))","v":0},{"$f":"SUM(SUMIFS('Accounting Data'!$C$2:$C$100000,'Accounting Data'!$E$2:$E$100000,\"8??\",'Accounting Data'!$H$2:$H$100000,\"7??\",'Accounting Data'!$I$2:$I$100000,\"24??\",'Accounting Data'!$J$2:$J$100000,{\"689?\",\"6885\"}))+SUM(SUMIFS('Accounting Data'!$C$2:$C$100000,'Accounting Data'!$E$2:$E$100000,\"8??\",'Accounting Data'!$H$2:$H$100000,\"8??\",'Accounting Data'!$I$2:$I$100000,\"24??\",'Accounting Data'!$J$2:$J$100000,{\"689?\",\"6885\"}))+SUM(SUMIFS('Accounting Data'!$C$2:$C$100000,'Accounting Data'!$E$2:$E$100000,\"8??\",'Accounting Data'!$H$2:$H$100000,\"9??\",'Accounting Data'!$I$2:$I$100000,\"24??\",'Accounting Data'!$J$2:$J$100000,{\"689?\",\"6885\"}))","v":0},{"$f":"SUM(SUMIFS('Accounting Data'!$C$2:$C$100000,'Accounting Data'!$E$2:$E$100000,\"9??\",'Accounting Data'!$H$2:$H$100000,\"7??\",'Accounting Data'!$I$2:$I$100000,\"24??\",'Accounting Data'!$J$2:$J$100000,{\"689?\",\"6885\"}))+SUM(SUMIFS('Accounting Data'!$C$2:$C$100000,'Accounting Data'!$E$2:$E$100000,\"9??\",'Accounting Data'!$H$2:$H$100000,\"8??\",'Accounting Data'!$I$2:$I$100000,\"24??\",'Accounting Data'!$J$2:$J$100000,{\"689?\",\"6885\"}))+SUM(SUMIFS('Accounting Data'!$C$2:$C$100000,'Accounting Data'!$E$2:$E$100000,\"9??\",'Accounting Data'!$H$2:$H$100000,\"9??\",'Accounting Data'!$I$2:$I$100000,\"24??\",'Accounting Data'!$J$2:$J$100000,{\"689?\",\"6885\"}))","v":0},null,2400,{"$f":"SUMIFS('Accounting Data'!$C$2:$C$100000,'Accounting Data'!$H$2:$H$100000,\"7??\",'Accounting Data'!$I$2:$I$100000,\"24??\",'Accounting Data'!$J$2:$J$100000,\"6???\")+SUMIFS('Accounting Data'!$C$2:$C$100000,'Accounting Data'!$H$2:$H$100000,\"8??\",'Accounting Data'!$I$2:$I$100000,\"24??\",'Accounting Data'!$J$2:$J$100000,\"6???\")+SUMIFS('Accounting Data'!$C$2:$C$100000,'Accounting Data'!$H$2:$H$100000,\"9??\",'Accounting Data'!$I$2:$I$100000,\"24??\",'Accounting Data'!$J$2:$J$100000,\"6???\")","v":0},{"$f":"SUMIFS('Accounting Data'!$C$2:$C$100000,'Accounting Data'!$H$2:$H$100000,\"7??\",'Accounting Data'!$I$2:$I$100000,\"24??\",'Accounting Data'!$J$2:$J$100000,\"69??\")+SUMIFS('Accounting Data'!$C$2:$C$100000,'Accounting Data'!$H$2:$H$100000,\"8??\",'Accounting Data'!$I$2:$I$100000,\"24??\",'Accounting Data'!$J$2:$J$100000,\"69??\")+SUMIFS('Accounting Data'!$C$2:$C$100000,'Accounting Data'!$H$2:$H$100000,\"9??\",'Accounting Data'!$I$2:$I$100000,\"24??\",'Accounting Data'!$J$2:$J$100000,\"69??\")","v":0},{"$f":"SUMIFS('Accounting Data'!$C$2:$C$100000,'Accounting Data'!$E$2:$E$100000,\"575\",'Accounting Data'!$H$2:$H$100000,\"7??\",'Accounting Data'!$I$2:$I$100000,\"24??\",'Accounting Data'!$J$2:$J$100000,\"6???\")+SUMIFS('Accounting Data'!$C$2:$C$100000,'Accounting Data'!$E$2:$E$100000,\"575\",'Accounting Data'!$H$2:$H$100000,\"8??\",'Accounting Data'!$I$2:$I$100000,\"24??\",'Accounting Data'!$J$2:$J$100000,\"6???\")+SUMIFS('Accounting Data'!$C$2:$C$100000,'Accounting Data'!$E$2:$E$100000,\"575\",'Accounting Data'!$H$2:$H$100000,\"9??\",'Accounting Data'!$I$2:$I$100000,\"24??\",'Accounting Data'!$J$2:$J$100000,\"6???\")","v":0},{"$f":"SUMIFS('Accounting Data'!$C$2:$C$100000,'Accounting Data'!$E$2:$E$100000,\"8??\",'Accounting Data'!$H$2:$H$100000,\"7??\",'Accounting Data'!$I$2:$I$100000,\"24??\",'Accounting Data'!$J$2:$J$100000,\"6???\")+SUMIFS('Accounting Data'!$C$2:$C$100000,'Accounting Data'!$E$2:$E$100000,\"8??\",'Accounting Data'!$H$2:$H$100000,\"8??\",'Accounting Data'!$I$2:$I$100000,\"24??\",'Accounting Data'!$J$2:$J$100000,\"6???\")+SUMIFS('Accounting Data'!$C$2:$C$100000,'Accounting Data'!$E$2:$E$100000,\"8??\",'Accounting Data'!$H$2:$H$100000,\"9??\",'Accounting Data'!$I$2:$I$100000,\"24??\",'Accounting Data'!$J$2:$J$100000,\"6???\")+SUMIFS('Accounting Data'!$C$2:$C$100000,'Accounting Data'!$E$2:$E$100000,\"9??\",'Accounting Data'!$H$2:$H$100000,\"7??\",'Accounting Data'!$I$2:$I$100000,\"24??\",'Accounting Data'!$J$2:$J$100000,\"6???\")+SUMIFS('Accounting Data'!$C$2:$C$100000,'Accounting Data'!$E$2:$E$100000,\"9??\",'Accounting Data'!$H$2:$H$100000,\"8??\",'Accounting Data'!$I$2:$I$100000,\"24??\",'Accounting Data'!$J$2:$J$100000,\"6???\")+SUMIFS('Accounting Data'!$C$2:$C$100000,'Accounting Data'!$E$2:$E$100000,\"9??\",'Accounting Data'!$H$2:$H$100000,\"9??\",'Accounting Data'!$I$2:$I$100000,\"24??\",'Accounting Data'!$J$2:$J$100000,\"6???\")","v":0},{"$f":"SUMIFS('Accounting Data'!$C$2:$C$100000,'Accounting Data'!$E$2:$E$100000,\"575\",'Accounting Data'!$H$2:$H$100000,\"7??\",'Accounting Data'!$I$2:$I$100000,\"24??\",'Accounting Data'!$J$2:$J$100000,\"69??\")+SUMIFS('Accounting Data'!$C$2:$C$100000,'Accounting Data'!$E$2:$E$100000,\"575\",'Accounting Data'!$H$2:$H$100000,\"8??\",'Accounting Data'!$I$2:$I$100000,\"24??\",'Accounting Data'!$J$2:$J$100000,\"69??\")+SUMIFS('Accounting Data'!$C$2:$C$100000,'Accounting Data'!$E$2:$E$100000,\"575\",'Accounting Data'!$H$2:$H$100000,\"9??\",'Accounting Data'!$I$2:$I$100000,\"24??\",'Accounting Data'!$J$2:$J$100000,\"69??\")","v":0},{"$f":"SUMIFS('Accounting Data'!$C$2:$C$100000,'Accounting Data'!$E$2:$E$100000,\"8??\",'Accounting Data'!$H$2:$H$100000,\"7??\",'Accounting Data'!$I$2:$I$100000,\"24??\",'Accounting Data'!$J$2:$J$100000,\"69??\")+SUMIFS('Accounting Data'!$C$2:$C$100000,'Accounting Data'!$E$2:$E$100000,\"8??\",'Accounting Data'!$H$2:$H$100000,\"8??\",'Accounting Data'!$I$2:$I$100000,\"24??\",'Accounting Data'!$J$2:$J$100000,\"69??\")+SUMIFS('Accounting Data'!$C$2:$C$100000,'Accounting Data'!$E$2:$E$100000,\"8??\",'Accounting Data'!$H$2:$H$100000,\"9??\",'Accounting Data'!$I$2:$I$100000,\"24??\",'Accounting Data'!$J$2:$J$100000,\"69??\")+SUMIFS('Accounting Data'!$C$2:$C$100000,'Accounting Data'!$E$2:$E$100000,\"9??\",'Accounting Data'!$H$2:$H$100000,\"7??\",'Accounting Data'!$I$2:$I$100000,\"24??\",'Accounting Data'!$J$2:$J$100000,\"69??\")+SUMIFS('Accounting Data'!$C$2:$C$100000,'Accounting Data'!$E$2:$E$100000,\"9??\",'Accounting Data'!$H$2:$H$100000,\"8??\",'Accounting Data'!$I$2:$I$100000,\"24??\",'Accounting Data'!$J$2:$J$100000,\"69??\")+SUMIFS('Accounting Data'!$C$2:$C$100000,'Accounting Data'!$E$2:$E$100000,\"9??\",'Accounting Data'!$H$2:$H$100000,\"9??\",'Accounting Data'!$I$2:$I$100000,\"24??\",'Accounting Data'!$J$2:$J$100000,\"69??\")","v":0}]
["         2500, 2900 Central Services, Other","6.",{"$f":"((AA16+AA17)-(AB16+AB17)-(AC16+AC17))+((AD16+AD17)+(AE16+AE17)+(AF16+AF17))","v":1142031},{"$f":"((AI16+AI17)-(AJ16+AJ17)-(AK16+AK17))+((AL16+AL17)+(AM16+AM17)+(AN16+AN17))","v":342807},{"$f":"(SUM(AQ16:AQ17)-SUM(AR16:AT17)-SUM(AU16:AU17))+(SUM(AV16:AX17)+SUM(AY16:BA17)+SUM(BB16:BD17))","v":447912},{"$f":"((BG16+BG17)-(BH16+BH17)-(BI16+BI17))+((BJ16+BJ17)+(BK16+BK17)+(BL16+BL17))","v":341500},{"$f":"((BO16+BO17)-(BP16+BP17)-(BQ16+BQ17))+((BR16+BR17)+(BS16+BS17)+(BT16+BT17))","v":320030},{"$f":"((BW16+BW17)-(BX16+BX17)-(BY16+BY17))+((BZ16+BZ17)+(CA16+CA17)+(CB16+CB17))","v":5254},null,null,{"$f":"(CE17-CH17-CI17)+(CL17+CO17+CR17)","v":0},{"$f":"((CU16+CU17)-(CV16+CV17)-(CW16+CW17))+((CX16+CX17)+(CY16+CY17)+(CZ16+CZ17))","v":0},{"$f":"(SUM(DC16:DC17)-SUM(DD16:DD17))-((SUM(DE16:DE17)+SUM(DF16:DF17))-(SUM(DG16:DG17)+SUM(DH16:DH17)))","v":0},2599534,"6.",null,null,null,"Impact Aid revenue allocation by object",null,null,"Impact aid revenue allocation\n(P25 * percentage)","Amount used in Impact aid allocation",null,null,2500,{"$f":"SUMIFS('Accounting Data'!C2:C100000,'Accounting Data'!I2:I100000,\"25??\",'Accounting Data'!J2:J100000,\"61??\")","v":1142031},{"$f":"SUMIFS('Accounting Data'!C2:C100000,'Accounting Data'!E2:E100000,\"575\",'Accounting Data'!I2:I100000,\"25??\",'Accounting Data'!J2:J100000,\"61??\")+SUMIFS('Accounting Data'!C2:C100000,'Accounting Data'!E2:E100000,\"8??\",'Accounting Data'!I2:I100000,\"25??\",'Accounting Data'!J2:J100000,\"61??\")+SUMIFS('Accounting Data'!C2:C100000,'Accounting Data'!E2:E100000,\"9??\",'Accounting Data'!I2:I100000,\"25??\",'Accounting Data'!J2:J100000,\"61??\")","v":0},{"$f":"SUMIFS('Accounting Data'!C2:C100000,'Accounting Data'!H2:H100000,\"7??\",'Accounting Data'!I2:I100000,\"25??\",'Accounting Data'!J2:J100000,\"61??\")+SUMIFS('Accounting Data'!C2:C100000,'Accounting Data'!H2:H100000,\"8??\",'Accounting Data'!I2:I100000,\"25??\",'Accounting Data'!J2:J100000,\"61??\")+SUMIFS('Accounting Data'!C2:C100000,'Accounting Data'!H2:H100000,\"9??\",'Accounting Data'!I2:I100000,\"25??\",'Accounting Data'!J2:J100000,\"61??\")","v":0},{"$f":"SUMIFS('Accounting Data'!C2:C100000,'Accounting Data'!E2:E100000,\"575\",'Accounting Data'!H2:H100000,\"7??\",'Accounting Data'!I2:I100000,\"25??\",'Accounting Data'!J2:J100000,\"61??\")+SUMIFS('Accounting Data'!C2:C100000,'Accounting Data'!E2:E100000,\"575\",'Accounting Data'!H2:H100000,\"8??\",'Accounting Data'!I2:I100000,\"25??\",'Accounting Data'!J2:J100000,\"61??\")+SUMIFS('Accounting Data'!C2:C100000,'Accounting Data'!E2:E100000,\"575\",'Accounting Data'!H2:H100000,\"9??\",'Accounting Data'!I2:I100000,\"25??\",'Accounting Data'!J2:J100000,\"61??\")","v":0},{"$f":"SUMIFS('Accounting Data'!C2:C100000,'Accounting Data'!E2:E100000,\"8??\",'Accounting Data'!H2:H100000,\"7??\",'Accounting Data'!I2:I100000,\"25??\",'Accounting Data'!J2:J100000,\"61??\")+SUMIFS('Accounting Data'!C2:C100000,'Accounting Data'!E2:E100000,\"8??\",'Accounting Data'!H2:H100000,\"8??\",'Accounting Data'!I2:I100000,\"25??\",'Accounting Data'!J2:J100000,\"61??\")+SUMIFS('Accounting Data'!C2:C100000,'Accounting Data'!E2:E100000,\"8??\",'Accounting Data'!H2:H100000,\"9??\",'Accounting Data'!I2:I100000,\"25??\",'Accounting Data'!J2:J100000,\"61??\")","v":0},{"$f":"SUMIFS('Accounting Data'!C2:C100000,'Accounting Data'!E2:E100000,\"9??\",'Accounting Data'!H2:H100000,\"7??\",'Accounting Data'!I2:I100000,\"25??\",'Accounting Data'!J2:J100000,\"61??\")+SUMIFS('Accounting Data'!C2:C100000,'Accounting Data'!E2:E100000,\"9??\",'Accounting Data'!H2:H100000,\"8??\",'Accounting Data'!I2:I100000,\"25??\",'Accounting Data'!J2:J100000,\"61??\")+SUMIFS('Accounting Data'!C2:C100000,'Accounting Data'!E2:E100000,\"9??\",'Accounting Data'!H2:H100000,\"9??\",'Accounting Data'!I2:I100000,\"25??\",'Accounting Data'!J2:J100000,\"61??\")","v":0},null,2500,{"$f":"SUMIFS('Accounting Data'!C2:C100000,'Accounting Data'!I2:I100000,\"25??\",'Accounting Data'!J2:J100000,\"62??\")","v":343294},{"$f":"SUMIFS('Accounting Data'!C2:C100000,'Accounting Data'!E2:E100000,\"575\",'Accounting Data'!I2:I100000,\"25??\",'Accounting Data'!J2:J100000,\"62??\")+SUMIFS('Accounting Data'!C2:C100000,'Accounting Data'!E2:E100000,\"8??\",'Accounting Data'!I2:I100000,\"25??\",'Accounting Data'!J2:J100000,\"62??\")+SUMIFS('Accounting Data'!C2:C100000,'Accounting Data'!E2:E100000,\"9??\",'Accounting Data'!I2:I100000,\"25??\",'Accounting Data'!J2:J100000,\"62??\")","v":487},{"$f":"SUMIFS('Accounting Data'!C2:C100000,'Accounting Data'!H2:H100000,\"7??\",'Accounting Data'!I2:I100000,\"25??\",'Accounting Data'!J2:J100000,\"62??\")+SUMIFS('Accounting Data'!C2:C100000,'Accounting Data'!H2:H100000,\"8??\",'Accounting Data'!I2:I100000,\"25??\",'Accounting Data'!J2:J100000,\"62??\")+SUMIFS('Accounting Data'!C2:C100000,'Accounting Data'!H2:H100000,\"9??\",'Accounting Data'!I2:I100000,\"25??\",'Accounting Data'!J2:J100000,\"62??\")","v":0},{"$f":"SUMIFS('Accounting Data'!C2:C100000,'Accounting Data'!E2:E100000,\"575\",'Accounting Data'!H2:H100000,\"7??\",'Accounting Data'!I2:I100000,\"25??\",'Accounting Data'!J2:J100000,\"62??\")+SUMIFS('Accounting Data'!C2:C100000,'Accounting Data'!E2:E100000,\"575\",'Accounting Data'!H2:H100000,\"8??\",'Accounting Data'!I2:I100000,\"25??\",'Accounting Data'!J2:J100000,\"62??\")+SUMIFS('Accounting Data'!C2:C100000,'Accounting Data'!E2:E100000,\"575\",'Accounting Data'!H2:H100000,\"9??\",'Accounting Data'!I2:I100000,\"25??\",'Accounting Data'!J2:J100000,\"62??\")","v":0},{"$f":"SUMIFS('Accounting Data'!C2:C100000,'Accounting Data'!E2:E100000,\"8??\",'Accounting Data'!H2:H100000,\"7??\",'Accounting Data'!I2:I100000,\"25??\",'Accounting Data'!J2:J100000,\"62??\")+SUMIFS('Accounting Data'!C2:C100000,'Accounting Data'!E2:E100000,\"8??\",'Accounting Data'!H2:H100000,\"8??\",'Accounting Data'!I2:I100000,\"25??\",'Accounting Data'!J2:J100000,\"62??\")+SUMIFS('Accounting Data'!C2:C100000,'Accounting Data'!E2:E100000,\"8??\",'Accounting Data'!H2:H100000,\"9??\",'Accounting Data'!I2:I100000,\"25??\",'Accounting Data'!J2:J100000,\"62??\")","v":0},{"$f":"SUMIFS('Accounting Data'!C2:C100000,'Accounting Data'!E2:E100000,\"9??\",'Accounting Data'!H2:H100000,\"7??\",'Accounting Data'!I2:I100000,\"25??\",'Accounting Data'!J2:J100000,\"62??\")+SUMIFS('Accounting Data'!C2:C100000,'Accounting Data'!E2:E100000,\"9??\",'Accounting Data'!H2:H100000,\"8??\",'Accounting Data'!I2:I100000,\"25??\",'Accounting Data'!J2:J100000,\"62??\")+SUMIFS('Accounting Data'!C2:C100000,'Accounting Data'!E2:E100000,\"9??\",'Accounting Data'!H2:H100000,\"9??\",'Accounting Data'!I2:I100000,\"25??\",'Accounting Data'!J2:J100000,\"62??\")","v":0},null,2500,{"$f":"SUMIFS('Accounting Data'!C2:C100000,'Accounting Data'!I2:I100000,\"25??\",'Accounting Data'!J2:J100000,\"63??\")+SUMIFS('Accounting Data'!C2:C100000,'Accounting Data'!I2:I100000,\"25??\",'Accounting Data'!J2:J100000,\"64??\")+SUMIFS('Accounting Data'!C2:C100000,'Accounting Data'!I2:I100000,\"25??\",'Accounting Data'!J2:J100000,\"65??\")","v":447912},{"$f":"SUMIFS('Accounting Data'!C2:C100000,'Accounting Data'!E2:E100000,\"575\",'Accounting Data'!I2:I100000,\"25??\",'Accounting Data'!J2:J100000,\"63??\")+SUMIFS('Accounting Data'!C2:C100000,'Accounting Data'!E2:E100000,\"8??\",'Accounting Data'!I2:I100000,\"25??\",'Accounting Data'!J2:J100000,\"63??\")+SUMIFS('Accounting Data'!C2:C100000,'Accounting Data'!E2:E100000,\"9??\",'Accounting Data'!I2:I100000,\"25??\",'Accounting Data'!J2:J100000,\"63??\")","v":0},{"$f":"SUMIFS('Accounting Data'!C2:C100000,'Accounting Data'!E2:E100000,\"575\",'Accounting Data'!I2:I100000,\"25??\",'Accounting Data'!J2:J100000,\"64??\")+SUMIFS('Accounting Data'!C2:C100000,'Accounting Data'!E2:E100000,\"8??\",'Accounting Data'!I2:I100000,\"25??\",'Accounting Data'!J2:J100000,\"64??\")+SUMIFS('Accounting Data'!C2:C100000,'Accounting Data'!E2:E100000,\"9??\",'Accounting Data'!I2:I100000,\"25??\",'Accounting Data'!J2:J100000,\"64??\")","v":0},{"$f":"SUMIFS('Accounting Data'!C2:C100000,'Accounting Data'!E2:E100000,\"575\",'Accounting Data'!I2:I100000,\"25??\",'Accounting Data'!J2:J100000,\"65??\")+SUMIFS('Accounting Data'!C2:C100000,'Accounting Data'!E2:E100000,\"8??\",'Accounting Data'!I2:I100000,\"25??\",'Accounting Data'!J2:J100000,\"65??\")+SUMIFS('Accounting Data'!C2:C100000,'Accounting Data'!E2:E100000,\"9??\",'Accounting Data'!I2:I100000,\"25??\",'Accounting Data'!J2:J100000,\"65??\")","v":0},{"$f":"SUMIFS('Accounting Data'!C2:C100000,'Accounting Data'!H2:H100000,\"7??\",'Accounting Data'!I2:I100000,\"25??\",'Accounting Data'!J2:J100000,\"63??\")+SUMIFS('Accounting Data'!C2:C100000,'Accounting Data'!H2:H100000,\"8??\",'Accounting Data'!I2:I100000,\"25??\",'Accounting Data'!J2:J100000,\"63??\")+SUMIFS('Accounting Data'!C2:C100000,'Accounting Data'!H2:H100000,\"9??\",'Accounting Data'!I2:I100000,\"25??\",'Accounting Data'!J2:J100000,\"63??\")+SUMIFS('Accounting Data'!C2:C100000,'Accounting Data'!H2:H100000,\"7??\",'Accounting Data'!I2:I100000,\"25??\",'Accounting Data'!J2:J100000,\"64??\")+SUMIFS('Accounting Data'!C2:C100000,'Accounting Data'!H2:H100000,\"8??\",'Accounting Data'!I2:I100000,\"25??\",'Accounting Data'!J2:J100000,\"64??\")+SUMIFS('Accounting Data'!C2:C100000,'Accounting Data'!H2:H100000,\"9??\",'Accounting Data'!I2:I100000,\"25??\",'Accounting Data'!J2:J100000,\"64??\")+SUMIFS('Accounting Data'!C2:C100000,'Accounting Data'!H2:H100000,\"7??\",'Accounting Data'!I2:I100000,\"25??\",'Accounting Data'!J2:J100000,\"65??\")+SUMIFS('Accounting Data'!C2:C100000,'Accounting Data'!H2:H100000,\"8??\",'Accounting Data'!I2:I100000,\"25??\",'Accounting Data'!J2:J100000,\"65??\")+SUMIFS('Accounting Data'!C2:C100000,'Accounting Data'!H2:H100000,\"9??\",'Accounting Data'!I2:I100000,\"25??\",'Accounting Data'!J2:J100000,\"65??\")","v":0},{"$f":"SUMIFS('Accounting Data'!C2:C100000,'Accounting Data'!E2:E100000,\"575\",'Accounting Data'!H2:H100000,\"7??\",'Accounting Data'!I2:I100000,\"25??\",'Accounting Data'!J2:J100000,\"63??\")+SUMIFS('Accounting Data'!C2:C100000,'Accounting Data'!E2:E100000,\"575\",'Accounting Data'!H2:H100000,\"8??\",'Accounting Data'!I2:I100000,\"25??\",'Accounting Data'!J2:J100000,\"63??\")+SUMIFS('Accounting Data'!C2:C100000,'Accounting Data'!E2:E100000,\"575\",'Accounting Data'!H2:H100000,\"9??\",'Accounting Data'!I2:I100000,\"25??\",'Accounting Data'!J2:J100000,\"63??\")","v":0},{"$f":"SUMIFS('Accounting Data'!C2:C100000,'Accounting Data'!E2:E100000,\"575\",'Accounting Data'!H2:H100000,\"7??\",'Accounting Data'!I2:I100000,\"25??\",'Accounting Data'!J2:J100000,\"64??\")+SUMIFS('Accounting Data'!C2:C100000,'Accounting Data'!E2:E100000,\"575\",'Accounting Data'!H2:H100000,\"8??\",'Accounting Data'!I2:I100000,\"25??\",'Accounting Data'!J2:J100000,\"64??\")+SUMIFS('Accounting Data'!C2:C100000,'Accounting Data'!E2:E100000,\"575\",'Accounting Data'!H2:H100000,\"9??\",'Accounting Data'!I2:I100000,\"25??\",'Accounting Data'!J2:J100000,\"64??\")","v":0},{"$f":"SUMIFS('Accounting Data'!C2:C100000,'Accounting Data'!E2:E100000,\"575\",'Accounting Data'!H2:H100000,\"7??\",'Accounting Data'!I2:I100000,\"25??\",'Accounting Data'!J2:J100000,\"65??\")+SUMIFS('Accounting Data'!C2:C100000,'Accounting Data'!E2:E100000,\"575\",'Accounting Data'!H2:H100000,\"8??\",'Accounting Data'!I2:I100000,\"25??\",'Accounting Data'!J2:J100000,\"65??\")+SUMIFS('Accounting Data'!C2:C100000,'Accounting Data'!E2:E100000,\"575\",'Accounting Data'!H2:H100000,\"9??\",'Accounting Data'!I2:I100000,\"25??\",'Accounting Data'!J2:J100000,\"65??\")","v":0},{"$f":"SUMIFS('Accounting Data'!C2:C100000,'Accounting Data'!E2:E100000,\"8??\",'Accounting Data'!H2:H100000,\"7??\",'Accounting Data'!I2:I100000,\"25??\",'Accounting Data'!J2:J100000,\"63??\")+SUMIFS('Accounting Data'!C2:C100000,'Accounting Data'!E2:E100000,\"8??\",'Accounting Data'!H2:H100000,\"8??\",'Accounting Data'!I2:I100000,\"25??\",'Accounting Data'!J2:J100000,\"63??\")+SUMIFS('Accounting Data'!C2:C100000,'Accounting Data'!E2:E100000,\"8??\",'Accounting Data'!H2:H100000,\"9??\",'Accounting Data'!I2:I100000,\"25??\",'Accounting Data'!J2:J100000,\"63??\")","v":0},{"$f":"SUMIFS('Accounting Data'!C2:C100000,'Accounting Data'!E2:E100000,\"8??\",'Accounting Data'!H2:H100000,\"7??\",'Accounting Data'!I2:I100000,\"25??\",'Accounting Data'!J2:J100000,\"64??\")+SUMIFS('Accounting Data'!C2:C100000,'Accounting Data'!E2:E100000,\"8??\",'Accounting Data'!H2:H100000,\"8??\",'Accounting Data'!I2:I100000,\"25??\",'Accounting Data'!J2:J100000,\"64??\")+SUMIFS('Accounting Data'!C2:C100000,'Accounting Data'!E2:E100000,\"8??\",'Accounting Data'!H2:H100000,\"9??\",'Accounting Data'!I2:I100000,\"25??\",'Accounting Data'!J2:J100000,\"64??\")","v":0},{"$f":"SUMIFS('Accounting Data'!C2:C100000,'Accounting Data'!E2:E100000,\"8??\",'Accounting Data'!H2:H100000,\"7??\",'Accounting Data'!I2:I100000,\"25??\",'Accounting Data'!J2:J100000,\"65??\")+SUMIFS('Accounting Data'!C2:C100000,'Accounting Data'!E2:E100000,\"8??\",'Accounting Data'!H2:H100000,\"8??\",'Accounting Data'!I2:I100000,\"25??\",'Accounting Data'!J2:J100000,\"65??\")+SUMIFS('Accounting Data'!C2:C100000,'Accounting Data'!E2:E100000,\"8??\",'Accounting Data'!H2:H100000,\"9??\",'Accounting Data'!I2:I100000,\"25??\",'Accounting Data'!J2:J100000,\"65??\")","v":0},{"$f":"SUMIFS('Accounting Data'!C2:C100000,'Accounting Data'!E2:E100000,\"9??\",'Accounting Data'!H2:H100000,\"7??\",'Accounting Data'!I2:I100000,\"25??\",'Accounting Data'!J2:J100000,\"63??\")+SUMIFS('Accounting Data'!C2:C100000,'Accounting Data'!E2:E100000,\"9??\",'Accounting Data'!H2:H100000,\"8??\",'Accounting Data'!I2:I100000,\"25??\",'Accounting Data'!J2:J100000,\"63??\")+SUMIFS('Accounting Data'!C2:C100000,'Accounting Data'!E2:E100000,\"9??\",'Accounting Data'!H2:H100000,\"9??\",'Accounting Data'!I2:I100000,\"25??\",'Accounting Data'!J2:J100000,\"63??\")","v":0},{"$f":"SUMIFS('Accounting Data'!C2:C100000,'Accounting Data'!E2:E100000,\"9??\",'Accounting Data'!H2:H100000,\"7??\",'Accounting Data'!I2:I100000,\"25??\",'Accounting Data'!J2:J100000,\"64??\")+SUMIFS('Accounting Data'!C2:C100000,'Accounting Data'!E2:E100000,\"9??\",'Accounting Data'!H2:H100000,\"8??\",'Accounting Data'!I2:I100000,\"25??\",'Accounting Data'!J2:J100000,\"64??\")+SUMIFS('Accounting Data'!C2:C100000,'Accounting Data'!E2:E100000,\"9??\",'Accounting Data'!H2:H100000,\"9??\",'Accounting Data'!I2:I100000,\"25??\",'Accounting Data'!J2:J100000,\"64??\")","v":0},{"$f":"SUMIFS('Accounting Data'!C2:C100000,'Accounting Data'!E2:E100000,\"9??\",'Accounting Data'!H2:H100000,\"7??\",'Accounting Data'!I2:I100000,\"25??\",'Accounting Data'!J2:J100000,\"65??\")+SUMIFS('Accounting Data'!C2:C100000,'Accounting Data'!E2:E100000,\"9??\",'Accounting Data'!H2:H100000,\"8??\",'Accounting Data'!I2:I100000,\"25??\",'Accounting Data'!J2:J100000,\"65??\")+SUMIFS('Accounting Data'!C2:C100000,'Accounting Data'!E2:E100000,\"9??\",'Accounting Data'!H2:H100000,\"9??\",'Accounting Data'!I2:I100000,\"25??\",'Accounting Data'!J2:J100000,\"65??\")","v":0},null,2500,{"$f":"SUMIFS('Accounting Data'!C2:C100000,'Accounting Data'!I2:I100000,\"25??\",'Accounting Data'!J2:J100000,\"66??\")","v":341500},{"$f":"SUMIFS('Accounting Data'!$C$2:$C$100000,'Accounting Data'!$E$2:$E$100000,\"575\",'Accounting Data'!$I$2:$I$100000,\"25??\",'Accounting Data'!$J$2:$J$100000,\"66??\")+SUMIFS('Accounting Data'!$C$2:$C$100000,'Accounting Data'!$E$2:$E$100000,\"8??\",'Accounting Data'!$I$2:$I$100000,\"25??\",'Accounting Data'!$J$2:$J$100000,\"66??\")+SUMIFS('Accounting Data'!$C$2:$C$100000,'Accounting Data'!$E$2:$E$100000,\"9??\",'Accounting Data'!$I$2:$I$100000,\"25??\",'Accounting Data'!$J$2:$J$100000,\"66??\")","v":0},{"$f":"SUMIFS('Accounting Data'!$C$2:$C$100000,'Accounting Data'!$H$2:$H$100000,\"7??\",'Accounting Data'!$I$2:$I$100000,\"25??\",'Accounting Data'!$J$2:$J$100000,\"66??\")+SUMIFS('Accounting Data'!$C$2:$C$100000,'Accounting Data'!$H$2:$H$100000,\"8??\",'Accounting Data'!$I$2:$I$100000,\"25??\",'Accounting Data'!$J$2:$J$100000,\"66??\")+SUMIFS('Accounting Data'!$C$2:$C$100000,'Accounting Data'!$H$2:$H$100000,\"9??\",'Accounting Data'!$I$2:$I$100000,\"25??\",'Accounting Data'!$J$2:$J$100000,\"66??\")","v":0},{"$f":"SUMIFS('Accounting Data'!$C$2:$C$100000,'Accounting Data'!$E$2:$E$100000,\"575\",'Accounting Data'!$H$2:$H$100000,\"7??\",'Accounting Data'!$I$2:$I$100000,\"25??\",'Accounting Data'!$J$2:$J$100000,\"66??\")+SUMIFS('Accounting Data'!$C$2:$C$100000,'Accounting Data'!$E$2:$E$100000,\"575\",'Accounting Data'!$H$2:$H$100000,\"8??\",'Accounting Data'!$I$2:$I$100000,\"25??\",'Accounting Data'!$J$2:$J$100000,\"66??\")+SUMIFS('Accounting Data'!$C$2:$C$100000,'Accounting Data'!$E$2:$E$100000,\"575\",'Accounting Data'!$H$2:$H$100000,\"9??\",'Accounting Data'!$I$2:$I$100000,\"25??\",'Accounting Data'!$J$2:$J$100000,\"66??\")","v":0},{"$f":"SUMIFS('Accounting Data'!$C$2:$C$100000,'Accounting Data'!$E$2:$E$100000,\"8??\",'Accounting Data'!$H$2:$H$100000,\"7??\",'Accounting Data'!$I$2:$I$100000,\"25??\",'Accounting Data'!$J$2:$J$100000,\"66??\")+SUMIFS('Accounting Data'!$C$2:$C$100000,'Accounting Data'!$E$2:$E$100000,\"8??\",'Accounting Data'!$H$2:$H$100000,\"8??\",'Accounting Data'!$I$2:$I$100000,\"25??\",'Accounting Data'!$J$2:$J$100000,\"66??\")+SUMIFS('Accounting Data'!$C$2:$C$100000,'Accounting Data'!$E$2:$E$100000,\"8??\",'Accounting Data'!$H$2:$H$100000,\"9??\",'Accounting Data'!$I$2:$I$100000,\"25??\",'Accounting Data'!$J$2:$J$100000,\"66??\")","v":0},{"$f":"SUMIFS('Accounting Data'!$C$2:$C$100000,'Accounting Data'!$E$2:$E$100000,\"9??\",'Accounting Data'!$H$2:$H$100000,\"7??\",'Accounting Data'!$I$2:$I$100000,\"25??\",'Accounting Data'!$J$2:$J$100000,\"66??\")+SUMIFS('Accounting Data'!$C$2:$C$100000,'Accounting Data'!$E$2:$E$100000,\"9??\",'Accounting Data'!$H$2:$H$100000,\"8??\",'Accounting Data'!$I$2:$I$100000,\"25??\",'Accounting Data'!$J$2:$J$100000,\"66??\")+SUMIFS('Accounting Data'!$C$2:$C$100000,'Accounting Data'!$E$2:$E$100000,\"9??\",'Accounting Data'!$H$2:$H$100000,\"9??\",'Accounting Data'!$I$2:$I$100000,\"25??\",'Accounting Data'!$J$2:$J$100000,\"66??\")","v":0},null,2500,{"$f":"SUMIFS('Accounting Data'!C2:C100000,'Accounting Data'!I2:I100000,\"25??\",'Accounting Data'!J2:J100000,\"67??\")","v":320030},{"$f":"SUMIFS('Accounting Data'!$C$2:$C$100000,'Accounting Data'!$E$2:$E$100000,\"575\",'Accounting Data'!$I$2:$I$100000,\"25??\",'Accounting Data'!$J$2:$J$100000,\"67??\")+SUMIFS('Accounting Data'!$C$2:$C$100000,'Accounting Data'!$E$2:$E$100000,\"8??\",'Accounting Data'!$I$2:$I$100000,\"25??\",'Accounting Data'!$J$2:$J$100000,\"67??\")+SUMIFS('Accounting Data'!$C$2:$C$100000,'Accounting Data'!$E$2:$E$100000,\"9??\",'Accounting Data'!$I$2:$I$100000,\"25??\",'Accounting Data'!$J$2:$J$100000,\"67??\")","v":0},{"$f":"SUMIFS('Accounting Data'!$C$2:$C$100000,'Accounting Data'!$H$2:$H$100000,\"7??\",'Accounting Data'!$I$2:$I$100000,\"25??\",'Accounting Data'!$J$2:$J$100000,\"67??\")+SUMIFS('Accounting Data'!$C$2:$C$100000,'Accounting Data'!$H$2:$H$100000,\"8??\",'Accounting Data'!$I$2:$I$100000,\"25??\",'Accounting Data'!$J$2:$J$100000,\"67??\")+SUMIFS('Accounting Data'!$C$2:$C$100000,'Accounting Data'!$H$2:$H$100000,\"9??\",'Accounting Data'!$I$2:$I$100000,\"25??\",'Accounting Data'!$J$2:$J$100000,\"67??\")","v":0},{"$f":"SUMIFS('Accounting Data'!$C$2:$C$100000,'Accounting Data'!$E$2:$E$100000,\"575\",'Accounting Data'!$H$2:$H$100000,\"7??\",'Accounting Data'!$I$2:$I$100000,\"25??\",'Accounting Data'!$J$2:$J$100000,\"67??\")+SUMIFS('Accounting Data'!$C$2:$C$100000,'Accounting Data'!$E$2:$E$100000,\"575\",'Accounting Data'!$H$2:$H$100000,\"8??\",'Accounting Data'!$I$2:$I$100000,\"25??\",'Accounting Data'!$J$2:$J$100000,\"67??\")+SUMIFS('Accounting Data'!$C$2:$C$100000,'Accounting Data'!$E$2:$E$100000,\"575\",'Accounting Data'!$H$2:$H$100000,\"9??\",'Accounting Data'!$I$2:$I$100000,\"25??\",'Accounting Data'!$J$2:$J$100000,\"67??\")","v":0},{"$f":"SUMIFS('Accounting Data'!$C$2:$C$100000,'Accounting Data'!$E$2:$E$100000,\"8??\",'Accounting Data'!$H$2:$H$100000,\"7??\",'Accounting Data'!$I$2:$I$100000,\"25??\",'Accounting Data'!$J$2:$J$100000,\"67??\")+SUMIFS('Accounting Data'!$C$2:$C$100000,'Accounting Data'!$E$2:$E$100000,\"8??\",'Accounting Data'!$H$2:$H$100000,\"8??\",'Accounting Data'!$I$2:$I$100000,\"25??\",'Accounting Data'!$J$2:$J$100000,\"67??\")+SUMIFS('Accounting Data'!$C$2:$C$100000,'Accounting Data'!$E$2:$E$100000,\"8??\",'Accounting Data'!$H$2:$H$100000,\"9??\",'Accounting Data'!$I$2:$I$100000,\"25??\",'Accounting Data'!$J$2:$J$100000,\"67??\")","v":0},{"$f":"SUMIFS('Accounting Data'!$C$2:$C$100000,'Accounting Data'!$E$2:$E$100000,\"9??\",'Accounting Data'!$H$2:$H$100000,\"7??\",'Accounting Data'!$I$2:$I$100000,\"25??\",'Accounting Data'!$J$2:$J$100000,\"67??\")+SUMIFS('Accounting Data'!$C$2:$C$100000,'Accounting Data'!$E$2:$E$100000,\"9??\",'Accounting Data'!$H$2:$H$100000,\"8??\",'Accounting Data'!$I$2:$I$100000,\"25??\",'Accounting Data'!$J$2:$J$100000,\"67??\")+SUMIFS('Accounting Data'!$C$2:$C$100000,'Accounting Data'!$E$2:$E$100000,\"9??\",'Accounting Data'!$H$2:$H$100000,\"9??\",'Accounting Data'!$I$2:$I$100000,\"25??\",'Accounting Data'!$J$2:$J$100000,\"67??\")","v":0},null,2500,{"$f":"SUMIFS('Accounting Data'!C2:C100000,'Accounting Data'!I2:I100000,\"25??\",'Accounting Data'!J2:J100000,\"681?\")","v":5254},{"$f":"SUMIFS('Accounting Data'!$C$2:$C$100000,'Accounting Data'!$E$2:$E$100000,\"575\",'Accounting Data'!$I$2:$I$100000,\"25??\",'Accounting Data'!$J$2:$J$100000,\"681?\")+SUMIFS('Accounting Data'!$C$2:$C$100000,'Accounting Data'!$E$2:$E$100000,\"8??\",'Accounting Data'!$I$2:$I$100000,\"25??\",'Accounting Data'!$J$2:$J$100000,\"681?\")+SUMIFS('Accounting Data'!$C$2:$C$100000,'Accounting Data'!$E$2:$E$100000,\"9??\",'Accounting Data'!$I$2:$I$100000,\"25??\",'Accounting Data'!$J$2:$J$100000,\"681?\")","v":0},{"$f":"SUMIFS('Accounting Data'!$C$2:$C$100000,'Accounting Data'!$H$2:$H$100000,\"7??\",'Accounting Data'!$I$2:$I$100000,\"25??\",'Accounting Data'!$J$2:$J$100000,\"681?\")+SUMIFS('Accounting Data'!$C$2:$C$100000,'Accounting Data'!$H$2:$H$100000,\"8??\",'Accounting Data'!$I$2:$I$100000,\"25??\",'Accounting Data'!$J$2:$J$100000,\"681?\")+SUMIFS('Accounting Data'!$C$2:$C$100000,'Accounting Data'!$H$2:$H$100000,\"9??\",'Accounting Data'!$I$2:$I$100000,\"25??\",'Accounting Data'!$J$2:$J$100000,\"681?\")","v":0},{"$f":"SUMIFS('Accounting Data'!$C$2:$C$100000,'Accounting Data'!$E$2:$E$100000,\"575\",'Accounting Data'!$H$2:$H$100000,\"7??\",'Accounting Data'!$I$2:$I$100000,\"25??\",'Accounting Data'!$J$2:$J$100000,\"681?\")+SUMIFS('Accounting Data'!$C$2:$C$100000,'Accounting Data'!$E$2:$E$100000,\"575\",'Accounting Data'!$H$2:$H$100000,\"8??\",'Accounting Data'!$I$2:$I$100000,\"25??\",'Accounting Data'!$J$2:$J$100000,\"681?\")+SUMIFS('Accounting Data'!$C$2:$C$100000,'Accounting Data'!$E$2:$E$100000,\"575\",'Accounting Data'!$H$2:$H$100000,\"9??\",'Accounting Data'!$I$2:$I$100000,\"25??\",'Accounting Data'!$J$2:$J$100000,\"681?\")","v":0},{"$f":"SUMIFS('Accounting Data'!$C$2:$C$100000,'Accounting Data'!$E$2:$E$100000,\"8??\",'Accounting Data'!$H$2:$H$100000,\"7??\",'Accounting Data'!$I$2:$I$100000,\"25??\",'Accounting Data'!$J$2:$J$100000,\"681?\")+SUMIFS('Accounting Data'!$C$2:$C$100000,'Accounting Data'!$E$2:$E$100000,\"8??\",'Accounting Data'!$H$2:$H$100000,\"8??\",'Accounting Data'!$I$2:$I$100000,\"25??\",'Accounting Data'!$J$2:$J$100000,\"681?\")+SUMIFS('Accounting Data'!$C$2:$C$100000,'Accounting Data'!$E$2:$E$100000,\"8??\",'Accounting Data'!$H$2:$H$100000,\"9??\",'Accounting Data'!$I$2:$I$100000,\"25??\",'Accounting Data'!$J$2:$J$100000,\"681?\")","v":0},{"$f":"SUMIFS('Accounting Data'!$C$2:$C$100000,'Accounting Data'!$E$2:$E$100000,\"9??\",'Accounting Data'!$H$2:$H$100000,\"7??\",'Accounting Data'!$I$2:$I$100000,\"25??\",'Accounting Data'!$J$2:$J$100000,\"681?\")+SUMIFS('Accounting Data'!$C$2:$C$100000,'Accounting Data'!$E$2:$E$100000,\"9??\",'Accounting Data'!$H$2:$H$100000,\"8??\",'Accounting Data'!$I$2:$I$100000,\"25??\",'Accounting Data'!$J$2:$J$100000,\"681?\")+SUMIFS('Accounting Data'!$C$2:$C$100000,'Accounting Data'!$E$2:$E$100000,\"9??\",'Accounting Data'!$H$2:$H$100000,\"9??\",'Accounting Data'!$I$2:$I$100000,\"25??\",'Accounting Data'!$J$2:$J$100000,\"681?\")","v":0},null,"Function","All funds","Funds 575,800-899,900-999 ",null,null,"Programs 700-900","Funds 575, Programs 700-900",null,null,"Funds 800-899, Programs 700-900",null,null,"Funds 900-999, Programs 700-900",null,null,null,2500,{"$f":"SUM(SUMIFS('Accounting Data'!C2:C100000,'Accounting Data'!I2:I100000,\"25??\",'Accounting Data'!J2:J100000,{\"689?\",\"6885\"}))","v":0},{"$f":"SUM(SUMIFS('Accounting Data'!$C$2:$C$100000,'Accounting Data'!$E$2:$E$100000,\"575\",'Accounting Data'!$I$2:$I$100000,\"25??\",'Accounting Data'!$J$2:$J$100000,{\"689?\",\"6885\"}))+SUM(SUMIFS('Accounting Data'!$C$2:$C$100000,'Accounting Data'!$E$2:$E$100000,\"8??\",'Accounting Data'!$I$2:$I$100000,\"25??\",'Accounting Data'!$J$2:$J$100000,{\"689?\",\"6885\"}))+SUM(SUMIFS('Accounting Data'!$C$2:$C$100000,'Accounting Data'!$E$2:$E$100000,\"9??\",'Accounting Data'!$I$2:$I$100000,\"25??\",'Accounting Data'!$J$2:$J$100000,{\"689?\",\"6885\"}))","v":0},{"$f":"SUM(SUMIFS('Accounting Data'!$C$2:$C$100000,'Accounting Data'!$H$2:$H$100000,\"7??\",'Accounting Data'!$I$2:$I$100000,\"25??\",'Accounting Data'!$J$2:$J$100000,{\"689?\",\"6885\"}))+SUM(SUMIFS('Accounting Data'!$C$2:$C$100000,'Accounting Data'!$H$2:$H$100000,\"8??\",'Accounting Data'!$I$2:$I$100000,\"25??\",'Accounting Data'!$J$2:$J$100000,{\"689?\",\"6885\"}))+SUM(SUMIFS('Accounting Data'!$C$2:$C$100000,'Accounting Data'!$H$2:$H$100000,\"9??\",'Accounting Data'!$I$2:$I$100000,\"25??\",'Accounting Data'!$J$2:$J$100000,{\"689?\",\"6885\"}))","v":0},{"$f":"SUM(SUMIFS('Accounting Data'!$C$2:$C$100000,'Accounting Data'!$E$2:$E$100000,\"575\",'Accounting Data'!$H$2:$H$100000,\"7??\",'Accounting Data'!$I$2:$I$100000,\"25??\",'Accounting Data'!$J$2:$J$100000,{\"689?\",\"6885\"}))+SUM(SUMIFS('Accounting Data'!$C$2:$C$100000,'Accounting Data'!$E$2:$E$100000,\"575\",'Accounting Data'!$H$2:$H$100000,\"8??\",'Accounting Data'!$I$2:$I$100000,\"25??\",'Accounting Data'!$J$2:$J$100000,{\"689?\",\"6885\"}))+SUM(SUMIFS('Accounting Data'!$C$2:$C$100000,'Accounting Data'!$E$2:$E$100000,\"575\",'Accounting Data'!$H$2:$H$100000,\"9??\",'Accounting Data'!$I$2:$I$100000,\"25??\",'Accounting Data'!$J$2:$J$100000,{\"689?\",\"6885\"}))","v":0},{"$f":"SUM(SUMIFS('Accounting Data'!$C$2:$C$100000,'Accounting Data'!$E$2:$E$100000,\"8??\",'Accounting Data'!$H$2:$H$100000,\"7??\",'Accounting Data'!$I$2:$I$100000,\"25??\",'Accounting Data'!$J$2:$J$100000,{\"689?\",\"6885\"}))+SUM(SUMIFS('Accounting Data'!$C$2:$C$100000,'Accounting Data'!$E$2:$E$100000,\"8??\",'Accounting Data'!$H$2:$H$100000,\"8??\",'Accounting Data'!$I$2:$I$100000,\"25??\",'Accounting Data'!$J$2:$J$100000,{\"689?\",\"6885\"}))+SUM(SUMIFS('Accounting Data'!$C$2:$C$100000,'Accounting Data'!$E$2:$E$100000,\"8??\",'Accounting Data'!$H$2:$H$100000,\"9??\",'Accounting Data'!$I$2:$I$100000,\"25??\",'Accounting Data'!$J$2:$J$100000,{\"689?\",\"6885\"}))","v":0},{"$f":"SUM(SUMIFS('Accounting Data'!$C$2:$C$100000,'Accounting Data'!$E$2:$E$100000,\"9??\",'Accounting Data'!$H$2:$H$100000,\"7??\",'Accounting Data'!$I$2:$I$100000,\"25??\",'Accounting Data'!$J$2:$J$100000,{\"689?\",\"6885\"}))+SUM(SUMIFS('Accounting Data'!$C$2:$C$100000,'Accounting Data'!$E$2:$E$100000,\"9??\",'Accounting Data'!$H$2:$H$100000,\"8??\",'Accounting Data'!$I$2:$I$100000,\"25??\",'Accounting Data'!$J$2:$J$100000,{\"689?\",\"6885\"}))+SUM(SUMIFS('Accounting Data'!$C$2:$C$100000,'Accounting Data'!$E$2:$E$100000,\"9??\",'Accounting Data'!$H$2:$H$100000,\"9??\",'Accounting Data'!$I$2:$I$100000,\"25??\",'Accounting Data'!$J$2:$J$100000,{\"689?\",\"6885\"}))","v":0},null,2500,{"$f":"SUMIFS('Accounting Data'!$C$2:$C$100000,'Accounting Data'!$H$2:$H$100000,\"7??\",'Accounting Data'!$I$2:$I$100000,\"25??\",'Accounting Data'!$J$2:$J$100000,\"6???\")+SUMIFS('Accounting Data'!$C$2:$C$100000,'Accounting Data'!$H$2:$H$100000,\"8??\",'Accounting Data'!$I$2:$I$100000,\"25??\",'Accounting Data'!$J$2:$J$100000,\"6???\")+SUMIFS('Accounting Data'!$C$2:$C$100000,'Accounting Data'!$H$2:$H$100000,\"9??\",'Accounting Data'!$I$2:$I$100000,\"25??\",'Accounting Data'!$J$2:$J$100000,\"6???\")","v":0},{"$f":"SUMIFS('Accounting Data'!$C$2:$C$100000,'Accounting Data'!$H$2:$H$100000,\"7??\",'Accounting Data'!$I$2:$I$100000,\"25??\",'Accounting Data'!$J$2:$J$100000,\"69??\")+SUMIFS('Accounting Data'!$C$2:$C$100000,'Accounting Data'!$H$2:$H$100000,\"8??\",'Accounting Data'!$I$2:$I$100000,\"25??\",'Accounting Data'!$J$2:$J$100000,\"69??\")+SUMIFS('Accounting Data'!$C$2:$C$100000,'Accounting Data'!$H$2:$H$100000,\"9??\",'Accounting Data'!$I$2:$I$100000,\"25??\",'Accounting Data'!$J$2:$J$100000,\"69??\")","v":0},{"$f":"SUMIFS('Accounting Data'!$C$2:$C$100000,'Accounting Data'!$E$2:$E$100000,\"575\",'Accounting Data'!$H$2:$H$100000,\"7??\",'Accounting Data'!$I$2:$I$100000,\"25??\",'Accounting Data'!$J$2:$J$100000,\"6???\")+SUMIFS('Accounting Data'!$C$2:$C$100000,'Accounting Data'!$E$2:$E$100000,\"575\",'Accounting Data'!$H$2:$H$100000,\"8??\",'Accounting Data'!$I$2:$I$100000,\"25??\",'Accounting Data'!$J$2:$J$100000,\"6???\")+SUMIFS('Accounting Data'!$C$2:$C$100000,'Accounting Data'!$E$2:$E$100000,\"575\",'Accounting Data'!$H$2:$H$100000,\"9??\",'Accounting Data'!$I$2:$I$100000,\"25??\",'Accounting Data'!$J$2:$J$100000,\"6???\")","v":0},{"$f":"SUMIFS('Accounting Data'!$C$2:$C$100000,'Accounting Data'!$E$2:$E$100000,\"8??\",'Accounting Data'!$H$2:$H$100000,\"7??\",'Accounting Data'!$I$2:$I$100000,\"25??\",'Accounting Data'!$J$2:$J$100000,\"6???\")+SUMIFS('Accounting Data'!$C$2:$C$100000,'Accounting Data'!$E$2:$E$100000,\"8??\",'Accounting Data'!$H$2:$H$100000,\"8??\",'Accounting Data'!$I$2:$I$100000,\"25??\",'Accounting Data'!$J$2:$J$100000,\"6???\")+SUMIFS('Accounting Data'!$C$2:$C$100000,'Accounting Data'!$E$2:$E$100000,\"8??\",'Accounting Data'!$H$2:$H$100000,\"9??\",'Accounting Data'!$I$2:$I$100000,\"25??\",'Accounting Data'!$J$2:$J$100000,\"6???\")+SUMIFS('Accounting Data'!$C$2:$C$100000,'Accounting Data'!$E$2:$E$100000,\"9??\",'Accounting Data'!$H$2:$H$100000,\"7??\",'Accounting Data'!$I$2:$I$100000,\"25??\",'Accounting Data'!$J$2:$J$100000,\"6???\")+SUMIFS('Accounting Data'!$C$2:$C$100000,'Accounting Data'!$E$2:$E$100000,\"9??\",'Accounting Data'!$H$2:$H$100000,\"8??\",'Accounting Data'!$I$2:$I$100000,\"25??\",'Accounting Data'!$J$2:$J$100000,\"6???\")+SUMIFS('Accounting Data'!$C$2:$C$100000,'Accounting Data'!$E$2:$E$100000,\"9??\",'Accounting Data'!$H$2:$H$100000,\"9??\",'Accounting Data'!$I$2:$I$100000,\"25??\",'Accounting Data'!$J$2:$J$100000,\"6???\")","v":0},{"$f":"SUMIFS('Accounting Data'!$C$2:$C$100000,'Accounting Data'!$E$2:$E$100000,\"575\",'Accounting Data'!$H$2:$H$100000,\"7??\",'Accounting Data'!$I$2:$I$100000,\"25??\",'Accounting Data'!$J$2:$J$100000,\"69??\")+SUMIFS('Accounting Data'!$C$2:$C$100000,'Accounting Data'!$E$2:$E$100000,\"575\",'Accounting Data'!$H$2:$H$100000,\"8??\",'Accounting Data'!$I$2:$I$100000,\"25??\",'Accounting Data'!$J$2:$J$100000,\"69??\")+SUMIFS('Accounting Data'!$C$2:$C$100000,'Accounting Data'!$E$2:$E$100000,\"575\",'Accounting Data'!$H$2:$H$100000,\"9??\",'Accounting Data'!$I$2:$I$100000,\"25??\",'Accounting Data'!$J$2:$J$100000,\"69??\")","v":0},{"$f":"SUMIFS('Accounting Data'!$C$2:$C$100000,'Accounting Data'!$E$2:$E$100000,\"8??\",'Accounting Data'!$H$2:$H$100000,\"7??\",'Accounting Data'!$I$2:$I$100000,\"25??\",'Accounting Data'!$J$2:$J$100000,\"69??\")+SUMIFS('Accounting Data'!$C$2:$C$100000,'Accounting Data'!$E$2:$E$100000,\"8??\",'Accounting Data'!$H$2:$H$100000,\"8??\",'Accounting Data'!$I$2:$I$100000,\"25??\",'Accounting Data'!$J$2:$J$100000,\"69??\")+SUMIFS('Accounting Data'!$C$2:$C$100000,'Accounting Data'!$E$2:$E$100000,\"8??\",'Accounting Data'!$H$2:$H$100000,\"9??\",'Accounting Data'!$I$2:$I$100000,\"25??\",'Accounting Data'!$J$2:$J$100000,\"69??\")+SUMIFS('Accounting Data'!$C$2:$C$100000,'Accounting Data'!$E$2:$E$100000,\"9??\",'Accounting Data'!$H$2:$H$100000,\"7??\",'Accounting Data'!$I$2:$I$100000,\"25??\",'Accounting Data'!$J$2:$J$100000,\"69??\")+SUMIFS('Accounting Data'!$C$2:$C$100000,'Accounting Data'!$E$2:$E$100000,\"9??\",'Accounting Data'!$H$2:$H$100000,\"8??\",'Accounting Data'!$I$2:$I$100000,\"25??\",'Accounting Data'!$J$2:$J$100000,\"69??\")+SUMIFS('Accounting Data'!$C$2:$C$100000,'Accounting Data'!$E$2:$E$100000,\"9??\",'Accounting Data'!$H$2:$H$100000,\"9??\",'Accounting Data'!$I$2:$I$100000,\"25??\",'Accounting Data'!$J$2:$J$100000,\"69??\")","v":0}]
["         2600 Operation and Maintenance of Plant","7.",{"$f":"(AA18-AB18-AC18)+(AD18+AE18+AF18)","v":548705},{"$f":"(AI18-AJ18-AK18)+(AL18+AM18+AN18)","v":190470},{"$f":"(AQ18-AR18-AS18-AT18-AU18)+(AV18+AW18+AX18+AY18+AZ18+BA18+BB18+BC18+BD18)","v":3054491},{"$f":"(BG18-BH18-BI18)+(BJ18+BK18+BL18)","v":1170969},{"$f":"(BO18-BP18-BQ18)+(BR18+BS18+BT18)","v":851370},{"$f":"(BW18-BX18-BY18)+(BZ18+CA18+CB18)","v":8184},null,null,null,{"$f":"(CU18-CV18-CW18)+(CX18+CY18+CZ18)","v":0},{"$f":"(DC18-DD18)-((DE18+DF18)-(DG18+DH18))","v":0},5824189,"7.",null,null,null,null,"Fund 378 expenditures\nby object code",null,null,null,null,null,2900,{"$f":"SUMIFS('Accounting Data'!C2:C100000,'Accounting Data'!I2:I100000,\"29??\",'Accounting Data'!J2:J100000,\"61??\")","v":0},{"$f":"SUMIFS('Accounting Data'!C2:C100000,'Accounting Data'!E2:E100000,\"575\",'Accounting Data'!I2:I100000,\"29??\",'Accounting Data'!J2:J100000,\"61??\")+SUMIFS('Accounting Data'!C2:C100000,'Accounting Data'!E2:E100000,\"8??\",'Accounting Data'!I2:I100000,\"29??\",'Accounting Data'!J2:J100000,\"61??\")+SUMIFS('Accounting Data'!C2:C100000,'Accounting Data'!E2:E100000,\"9??\",'Accounting Data'!I2:I100000,\"29??\",'Accounting Data'!J2:J100000,\"61??\")","v":0},{"$f":"SUMIFS('Accounting Data'!C2:C100000,'Accounting Data'!H2:H100000,\"7??\",'Accounting Data'!I2:I100000,\"29??\",'Accounting Data'!J2:J100000,\"61??\")+SUMIFS('Accounting Data'!C2:C100000,'Accounting Data'!H2:H100000,\"8??\",'Accounting Data'!I2:I100000,\"29??\",'Accounting Data'!J2:J100000,\"61??\")+SUMIFS('Accounting Data'!C2:C100000,'Accounting Data'!H2:H100000,\"9??\",'Accounting Data'!I2:I100000,\"29??\",'Accounting Data'!J2:J100000,\"61??\")","v":0},{"$f":"SUMIFS('Accounting Data'!C2:C100000,'Accounting Data'!E2:E100000,\"575\",'Accounting Data'!H2:H100000,\"7??\",'Accounting Data'!I2:I100000,\"29??\",'Accounting Data'!J2:J100000,\"61??\")+SUMIFS('Accounting Data'!C2:C100000,'Accounting Data'!E2:E100000,\"575\",'Accounting Data'!H2:H100000,\"8??\",'Accounting Data'!I2:I100000,\"29??\",'Accounting Data'!J2:J100000,\"61??\")+SUMIFS('Accounting Data'!C2:C100000,'Accounting Data'!E2:E100000,\"575\",'Accounting Data'!H2:H100000,\"9??\",'Accounting Data'!I2:I100000,\"29??\",'Accounting Data'!J2:J100000,\"61??\")","v":0},{"$f":"SUMIFS('Accounting Data'!C2:C100000,'Accounting Data'!E2:E100000,\"8??\",'Accounting Data'!H2:H100000,\"7??\",'Accounting Data'!I2:I100000,\"29??\",'Accounting Data'!J2:J100000,\"61??\")+SUMIFS('Accounting Data'!C2:C100000,'Accounting Data'!E2:E100000,\"8??\",'Accounting Data'!H2:H100000,\"8??\",'Accounting Data'!I2:I100000,\"29??\",'Accounting Data'!J2:J100000,\"61??\")+SUMIFS('Accounting Data'!C2:C100000,'Accounting Data'!E2:E100000,\"8??\",'Accounting Data'!H2:H100000,\"9??\",'Accounting Data'!I2:I100000,\"29??\",'Accounting Data'!J2:J100000,\"61??\")","v":0},{"$f":"SUMIFS('Accounting Data'!C2:C100000,'Accounting Data'!E2:E100000,\"9??\",'Accounting Data'!H2:H100000,\"7??\",'Accounting Data'!I2:I100000,\"29??\",'Accounting Data'!J2:J100000,\"61??\")+SUMIFS('Accounting Data'!C2:C100000,'Accounting Data'!E2:E100000,\"9??\",'Accounting Data'!H2:H100000,\"8??\",'Accounting Data'!I2:I100000,\"29??\",'Accounting Data'!J2:J100000,\"61??\")+SUMIFS('Accounting Data'!C2:C100000,'Accounting Data'!E2:E100000,\"9??\",'Accounting Data'!H2:H100000,\"9??\",'Accounting Data'!I2:I100000,\"29??\",'Accounting Data'!J2:J100000,\"61??\")","v":0},null,2900,{"$f":"SUMIFS('Accounting Data'!C2:C100000,'Accounting Data'!I2:I100000,\"29??\",'Accounting Data'!J2:J100000,\"62??\")","v":0},{"$f":"SUMIFS('Accounting Data'!C2:C100000,'Accounting Data'!E2:E100000,\"575\",'Accounting Data'!I2:I100000,\"29??\",'Accounting Data'!J2:J100000,\"62??\")+SUMIFS('Accounting Data'!C2:C100000,'Accounting Data'!E2:E100000,\"8??\",'Accounting Data'!I2:I100000,\"29??\",'Accounting Data'!J2:J100000,\"62??\")+SUMIFS('Accounting Data'!C2:C100000,'Accounting Data'!E2:E100000,\"9??\",'Accounting Data'!I2:I100000,\"29??\",'Accounting Data'!J2:J100000,\"62??\")","v":0},{"$f":"SUMIFS('Accounting Data'!C2:C100000,'Accounting Data'!H2:H100000,\"7??\",'Accounting Data'!I2:I100000,\"29??\",'Accounting Data'!J2:J100000,\"62??\")+SUMIFS('Accounting Data'!C2:C100000,'Accounting Data'!H2:H100000,\"8??\",'Accounting Data'!I2:I100000,\"29??\",'Accounting Data'!J2:J100000,\"62??\")+SUMIFS('Accounting Data'!C2:C100000,'Accounting Data'!H2:H100000,\"9??\",'Accounting Data'!I2:I100000,\"29??\",'Accounting Data'!J2:J100000,\"62??\")","v":0},{"$f":"SUMIFS('Accounting Data'!C2:C100000,'Accounting Data'!E2:E100000,\"575\",'Accounting Data'!H2:H100000,\"7??\",'Accounting Data'!I2:I100000,\"29??\",'Accounting Data'!J2:J100000,\"62??\")+SUMIFS('Accounting Data'!C2:C100000,'Accounting Data'!E2:E100000,\"575\",'Accounting Data'!H2:H100000,\"8??\",'Accounting Data'!I2:I100000,\"29??\",'Accounting Data'!J2:J100000,\"62??\")+SUMIFS('Accounting Data'!C2:C100000,'Accounting Data'!E2:E100000,\"575\",'Accounting Data'!H2:H100000,\"9??\",'Accounting Data'!I2:I100000,\"29??\",'Accounting Data'!J2:J100000,\"62??\")","v":0},{"$f":"SUMIFS('Accounting Data'!C2:C100000,'Accounting Data'!E2:E100000,\"8??\",'Accounting Data'!H2:H100000,\"7??\",'Accounting Data'!I2:I100000,\"29??\",'Accounting Data'!J2:J100000,\"62??\")+SUMIFS('Accounting Data'!C2:C100000,'Accounting Data'!E2:E100000,\"8??\",'Accounting Data'!H2:H100000,\"8??\",'Accounting Data'!I2:I100000,\"29??\",'Accounting Data'!J2:J100000,\"62??\")+SUMIFS('Accounting Data'!C2:C100000,'Accounting Data'!E2:E100000,\"8??\",'Accounting Data'!H2:H100000,\"9??\",'Accounting Data'!I2:I100000,\"29??\",'Accounting Data'!J2:J100000,\"62??\")","v":0},{"$f":"SUMIFS('Accounting Data'!C2:C100000,'Accounting Data'!E2:E100000,\"9??\",'Accounting Data'!H2:H100000,\"7??\",'Accounting Data'!I2:I100000,\"29??\",'Accounting Data'!J2:J100000,\"62??\")+SUMIFS('Accounting Data'!C2:C100000,'Accounting Data'!E2:E100000,\"9??\",'Accounting Data'!H2:H100000,\"8??\",'Accounting Data'!I2:I100000,\"29??\",'Accounting Data'!J2:J100000,\"62??\")+SUMIFS('Accounting Data'!C2:C100000,'Accounting Data'!E2:E100000,\"9??\",'Accounting Data'!H2:H100000,\"9??\",'Accounting Data'!I2:I100000,\"29??\",'Accounting Data'!J2:J100000,\"62??\")","v":0},null,2900,{"$f":"SUMIFS('Accounting Data'!C2:C100000,'Accounting Data'!I2:I100000,\"29??\",'Accounting Data'!J2:J100000,\"63??\")+SUMIFS('Accounting Data'!C2:C100000,'Accounting Data'!I2:I100000,\"29??\",'Accounting Data'!J2:J100000,\"64??\")+SUMIFS('Accounting Data'!C2:C100000,'Accounting Data'!I2:I100000,\"29??\",'Accounting Data'!J2:J100000,\"65??\")","v":0},{"$f":"SUMIFS('Accounting Data'!C2:C100000,'Accounting Data'!E2:E100000,\"575\",'Accounting Data'!I2:I100000,\"29??\",'Accounting Data'!J2:J100000,\"63??\")+SUMIFS('Accounting Data'!C2:C100000,'Accounting Data'!E2:E100000,\"8??\",'Accounting Data'!I2:I100000,\"29??\",'Accounting Data'!J2:J100000,\"63??\")+SUMIFS('Accounting Data'!C2:C100000,'Accounting Data'!E2:E100000,\"9??\",'Accounting Data'!I2:I100000,\"29??\",'Accounting Data'!J2:J100000,\"63??\")","v":0},{"$f":"SUMIFS('Accounting Data'!C2:C100000,'Accounting Data'!E2:E100000,\"575\",'Accounting Data'!I2:I100000,\"29??\",'Accounting Data'!J2:J100000,\"64??\")+SUMIFS('Accounting Data'!C2:C100000,'Accounting Data'!E2:E100000,\"8??\",'Accounting Data'!I2:I100000,\"29??\",'Accounting Data'!J2:J100000,\"64??\")+SUMIFS('Accounting Data'!C2:C100000,'Accounting Data'!E2:E100000,\"9??\",'Accounting Data'!I2:I100000,\"29??\",'Accounting Data'!J2:J100000,\"64??\")","v":0},{"$f":"SUMIFS('Accounting Data'!C2:C100000,'Accounting Data'!E2:E100000,\"575\",'Accounting Data'!I2:I100000,\"29??\",'Accounting Data'!J2:J100000,\"65??\")+SUMIFS('Accounting Data'!C2:C100000,'Accounting Data'!E2:E100000,\"8??\",'Accounting Data'!I2:I100000,\"29??\",'Accounting Data'!J2:J100000,\"65??\")+SUMIFS('Accounting Data'!C2:C100000,'Accounting Data'!E2:E100000,\"9??\",'Accounting Data'!I2:I100000,\"29??\",'Accounting Data'!J2:J100000,\"65??\")","v":0},{"$f":"SUMIFS('Accounting Data'!C2:C100000,'Accounting Data'!H2:H100000,\"7??\",'Accounting Data'!I2:I100000,\"29??\",'Accounting Data'!J2:J100000,\"63??\")+SUMIFS('Accounting Data'!C2:C100000,'Accounting Data'!H2:H100000,\"8??\",'Accounting Data'!I2:I100000,\"29??\",'Accounting Data'!J2:J100000,\"63??\")+SUMIFS('Accounting Data'!C2:C100000,'Accounting Data'!H2:H100000,\"9??\",'Accounting Data'!I2:I100000,\"29??\",'Accounting Data'!J2:J100000,\"63??\")+SUMIFS('Accounting Data'!C2:C100000,'Accounting Data'!H2:H100000,\"7??\",'Accounting Data'!I2:I100000,\"29??\",'Accounting Data'!J2:J100000,\"64??\")+SUMIFS('Accounting Data'!C2:C100000,'Accounting Data'!H2:H100000,\"8??\",'Accounting Data'!I2:I100000,\"29??\",'Accounting Data'!J2:J100000,\"64??\")+SUMIFS('Accounting Data'!C2:C100000,'Accounting Data'!H2:H100000,\"9??\",'Accounting Data'!I2:I100000,\"29??\",'Accounting Data'!J2:J100000,\"64??\")+SUMIFS('Accounting Data'!C2:C100000,'Accounting Data'!H2:H100000,\"7??\",'Accounting Data'!I2:I100000,\"29??\",'Accounting Data'!J2:J100000,\"65??\")+SUMIFS('Accounting Data'!C2:C100000,'Accounting Data'!H2:H100000,\"8??\",'Accounting Data'!I2:I100000,\"29??\",'Accounting Data'!J2:J100000,\"65??\")+SUMIFS('Accounting Data'!C2:C100000,'Accounting Data'!H2:H100000,\"9??\",'Accounting Data'!I2:I100000,\"29??\",'Accounting Data'!J2:J100000,\"65??\")","v":0},{"$f":"SUMIFS('Accounting Data'!C2:C100000,'Accounting Data'!E2:E100000,\"575\",'Accounting Data'!H2:H100000,\"7??\",'Accounting Data'!I2:I100000,\"29??\",'Accounting Data'!J2:J100000,\"63??\")+SUMIFS('Accounting Data'!C2:C100000,'Accounting Data'!E2:E100000,\"575\",'Accounting Data'!H2:H100000,\"8??\",'Accounting Data'!I2:I100000,\"29??\",'Accounting Data'!J2:J100000,\"63??\")+SUMIFS('Accounting Data'!C2:C100000,'Accounting Data'!E2:E100000,\"575\",'Accounting Data'!H2:H100000,\"9??\",'Accounting Data'!I2:I100000,\"29??\",'Accounting Data'!J2:J100000,\"63??\")","v":0},{"$f":"SUMIFS('Accounting Data'!C2:C100000,'Accounting Data'!E2:E100000,\"575\",'Accounting Data'!H2:H100000,\"7??\",'Accounting Data'!I2:I100000,\"29??\",'Accounting Data'!J2:J100000,\"64??\")+SUMIFS('Accounting Data'!C2:C100000,'Accounting Data'!E2:E100000,\"575\",'Accounting Data'!H2:H100000,\"8??\",'Accounting Data'!I2:I100000,\"29??\",'Accounting Data'!J2:J100000,\"64??\")+SUMIFS('Accounting Data'!C2:C100000,'Accounting Data'!E2:E100000,\"575\",'Accounting Data'!H2:H100000,\"9??\",'Accounting Data'!I2:I100000,\"29??\",'Accounting Data'!J2:J100000,\"64??\")","v":0},{"$f":"SUMIFS('Accounting Data'!C2:C100000,'Accounting Data'!E2:E100000,\"575\",'Accounting Data'!H2:H100000,\"7??\",'Accounting Data'!I2:I100000,\"29??\",'Accounting Data'!J2:J100000,\"65??\")+SUMIFS('Accounting Data'!C2:C100000,'Accounting Data'!E2:E100000,\"575\",'Accounting Data'!H2:H100000,\"8??\",'Accounting Data'!I2:I100000,\"29??\",'Accounting Data'!J2:J100000,\"65??\")+SUMIFS('Accounting Data'!C2:C100000,'Accounting Data'!E2:E100000,\"575\",'Accounting Data'!H2:H100000,\"9??\",'Accounting Data'!I2:I100000,\"29??\",'Accounting Data'!J2:J100000,\"65??\")","v":0},{"$f":"SUMIFS('Accounting Data'!C2:C100000,'Accounting Data'!E2:E100000,\"8??\",'Accounting Data'!H2:H100000,\"7??\",'Accounting Data'!I2:I100000,\"29??\",'Accounting Data'!J2:J100000,\"63??\")+SUMIFS('Accounting Data'!C2:C100000,'Accounting Data'!E2:E100000,\"8??\",'Accounting Data'!H2:H100000,\"8??\",'Accounting Data'!I2:I100000,\"29??\",'Accounting Data'!J2:J100000,\"63??\")+SUMIFS('Accounting Data'!C2:C100000,'Accounting Data'!E2:E100000,\"8??\",'Accounting Data'!H2:H100000,\"9??\",'Accounting Data'!I2:I100000,\"29??\",'Accounting Data'!J2:J100000,\"63??\")","v":0},{"$f":"SUMIFS('Accounting Data'!C2:C100000,'Accounting Data'!E2:E100000,\"8??\",'Accounting Data'!H2:H100000,\"7??\",'Accounting Data'!I2:I100000,\"29??\",'Accounting Data'!J2:J100000,\"64??\")+SUMIFS('Accounting Data'!C2:C100000,'Accounting Data'!E2:E100000,\"8??\",'Accounting Data'!H2:H100000,\"8??\",'Accounting Data'!I2:I100000,\"29??\",'Accounting Data'!J2:J100000,\"64??\")+SUMIFS('Accounting Data'!C2:C100000,'Accounting Data'!E2:E100000,\"8??\",'Accounting Data'!H2:H100000,\"9??\",'Accounting Data'!I2:I100000,\"29??\",'Accounting Data'!J2:J100000,\"64??\")","v":0},{"$f":"SUMIFS('Accounting Data'!C2:C100000,'Accounting Data'!E2:E100000,\"8??\",'Accounting Data'!H2:H100000,\"7??\",'Accounting Data'!I2:I100000,\"29??\",'Accounting Data'!J2:J100000,\"65??\")+SUMIFS('Accounting Data'!C2:C100000,'Accounting Data'!E2:E100000,\"8??\",'Accounting Data'!H2:H100000,\"8??\",'Accounting Data'!I2:I100000,\"29??\",'Accounting Data'!J2:J100000,\"65??\")+SUMIFS('Accounting Data'!C2:C100000,'Accounting Data'!E2:E100000,\"8??\",'Accounting Data'!H2:H100000,\"9??\",'Accounting Data'!I2:I100000,\"29??\",'Accounting Data'!J2:J100000,\"65??\")","v":0},{"$f":"SUMIFS('Accounting Data'!C2:C100000,'Accounting Data'!E2:E100000,\"9??\",'Accounting Data'!H2:H100000,\"7??\",'Accounting Data'!I2:I100000,\"29??\",'Accounting Data'!J2:J100000,\"63??\")+SUMIFS('Accounting Data'!C2:C100000,'Accounting Data'!E2:E100000,\"9??\",'Accounting Data'!H2:H100000,\"8??\",'Accounting Data'!I2:I100000,\"29??\",'Accounting Data'!J2:J100000,\"63??\")+SUMIFS('Accounting Data'!C2:C100000,'Accounting Data'!E2:E100000,\"9??\",'Accounting Data'!H2:H100000,\"9??\",'Accounting Data'!I2:I100000,\"29??\",'Accounting Data'!J2:J100000,\"63??\")","v":0},{"$f":"SUMIFS('Accounting Data'!C2:C100000,'Accounting Data'!E2:E100000,\"9??\",'Accounting Data'!H2:H100000,\"7??\",'Accounting Data'!I2:I100000,\"29??\",'Accounting Data'!J2:J100000,\"64??\")+SUMIFS('Accounting Data'!C2:C100000,'Accounting Data'!E2:E100000,\"9??\",'Accounting Data'!H2:H100000,\"8??\",'Accounting Data'!I2:I100000,\"29??\",'Accounting Data'!J2:J100000,\"64??\")+SUMIFS('Accounting Data'!C2:C100000,'Accounting Data'!E2:E100000,\"9??\",'Accounting Data'!H2:H100000,\"9??\",'Accounting Data'!I2:I100000,\"29??\",'Accounting Data'!J2:J100000,\"64??\")","v":0},{"$f":"SUMIFS('Accounting Data'!C2:C100000,'Accounting Data'!E2:E100000,\"9??\",'Accounting Data'!H2:H100000,\"7??\",'Accounting Data'!I2:I100000,\"29??\",'Accounting Data'!J2:J100000,\"65??\")+SUMIFS('Accounting Data'!C2:C100000,'Accounting Data'!E2:E100000,\"9??\",'Accounting Data'!H2:H100000,\"8??\",'Accounting Data'!I2:I100000,\"29??\",'Accounting Data'!J2:J100000,\"65??\")+SUMIFS('Accounting Data'!C2:C100000,'Accounting Data'!E2:E100000,\"9??\",'Accounting Data'!H2:H100000,\"9??\",'Accounting Data'!I2:I100000,\"29??\",'Accounting Data'!J2:J100000,\"65??\")","v":0},null,2900,{"$f":"SUMIFS('Accounting Data'!C2:C100000,'Accounting Data'!I2:I100000,\"29??\",'Accounting Data'!J2:J100000,\"66??\")","v":0},{"$f":"SUMIFS('Accounting Data'!$C$2:$C$100000,'Accounting Data'!$E$2:$E$100000,\"575\",'Accounting Data'!$I$2:$I$100000,\"29??\",'Accounting Data'!$J$2:$J$100000,\"66??\")+SUMIFS('Accounting Data'!$C$2:$C$100000,'Accounting Data'!$E$2:$E$100000,\"8??\",'Accounting Data'!$I$2:$I$100000,\"29??\",'Accounting Data'!$J$2:$J$100000,\"66??\")+SUMIFS('Accounting Data'!$C$2:$C$100000,'Accounting Data'!$E$2:$E$100000,\"9??\",'Accounting Data'!$I$2:$I$100000,\"29??\",'Accounting Data'!$J$2:$J$100000,\"66??\")","v":0},{"$f":"SUMIFS('Accounting Data'!$C$2:$C$100000,'Accounting Data'!$H$2:$H$100000,\"7??\",'Accounting Data'!$I$2:$I$100000,\"29??\",'Accounting Data'!$J$2:$J$100000,\"66??\")+SUMIFS('Accounting Data'!$C$2:$C$100000,'Accounting Data'!$H$2:$H$100000,\"8??\",'Accounting Data'!$I$2:$I$100000,\"29??\",'Accounting Data'!$J$2:$J$100000,\"66??\")+SUMIFS('Accounting Data'!$C$2:$C$100000,'Accounting Data'!$H$2:$H$100000,\"9??\",'Accounting Data'!$I$2:$I$100000,\"29??\",'Accounting Data'!$J$2:$J$100000,\"66??\")","v":0},{"$f":"SUMIFS('Accounting Data'!$C$2:$C$100000,'Accounting Data'!$E$2:$E$100000,\"575\",'Accounting Data'!$H$2:$H$100000,\"7??\",'Accounting Data'!$I$2:$I$100000,\"29??\",'Accounting Data'!$J$2:$J$100000,\"66??\")+SUMIFS('Accounting Data'!$C$2:$C$100000,'Accounting Data'!$E$2:$E$100000,\"575\",'Accounting Data'!$H$2:$H$100000,\"8??\",'Accounting Data'!$I$2:$I$100000,\"29??\",'Accounting Data'!$J$2:$J$100000,\"66??\")+SUMIFS('Accounting Data'!$C$2:$C$100000,'Accounting Data'!$E$2:$E$100000,\"575\",'Accounting Data'!$H$2:$H$100000,\"9??\",'Accounting Data'!$I$2:$I$100000,\"29??\",'Accounting Data'!$J$2:$J$100000,\"66??\")","v":0},{"$f":"SUMIFS('Accounting Data'!$C$2:$C$100000,'Accounting Data'!$E$2:$E$100000,\"8??\",'Accounting Data'!$H$2:$H$100000,\"7??\",'Accounting Data'!$I$2:$I$100000,\"29??\",'Accounting Data'!$J$2:$J$100000,\"66??\")+SUMIFS('Accounting Data'!$C$2:$C$100000,'Accounting Data'!$E$2:$E$100000,\"8??\",'Accounting Data'!$H$2:$H$100000,\"8??\",'Accounting Data'!$I$2:$I$100000,\"29??\",'Accounting Data'!$J$2:$J$100000,\"66??\")+SUMIFS('Accounting Data'!$C$2:$C$100000,'Accounting Data'!$E$2:$E$100000,\"8??\",'Accounting Data'!$H$2:$H$100000,\"9??\",'Accounting Data'!$I$2:$I$100000,\"29??\",'Accounting Data'!$J$2:$J$100000,\"66??\")","v":0},{"$f":"SUMIFS('Accounting Data'!$C$2:$C$100000,'Accounting Data'!$E$2:$E$100000,\"9??\",'Accounting Data'!$H$2:$H$100000,\"7??\",'Accounting Data'!$I$2:$I$100000,\"29??\",'Accounting Data'!$J$2:$J$100000,\"66??\")+SUMIFS('Accounting Data'!$C$2:$C$100000,'Accounting Data'!$E$2:$E$100000,\"9??\",'Accounting Data'!$H$2:$H$100000,\"8??\",'Accounting Data'!$I$2:$I$100000,\"29??\",'Accounting Data'!$J$2:$J$100000,\"66??\")+SUMIFS('Accounting Data'!$C$2:$C$100000,'Accounting Data'!$E$2:$E$100000,\"9??\",'Accounting Data'!$H$2:$H$100000,\"9??\",'Accounting Data'!$I$2:$I$100000,\"29??\",'Accounting Data'!$J$2:$J$100000,\"66??\")","v":0},null,2900,{"$f":"SUMIFS('Accounting Data'!C2:C100000,'Accounting Data'!I2:I100000,\"29??\",'Accounting Data'!J2:J100000,\"67??\")","v":0},{"$f":"SUMIFS('Accounting Data'!$C$2:$C$100000,'Accounting Data'!$E$2:$E$100000,\"575\",'Accounting Data'!$I$2:$I$100000,\"29??\",'Accounting Data'!$J$2:$J$100000,\"67??\")+SUMIFS('Accounting Data'!$C$2:$C$100000,'Accounting Data'!$E$2:$E$100000,\"8??\",'Accounting Data'!$I$2:$I$100000,\"29??\",'Accounting Data'!$J$2:$J$100000,\"67??\")+SUMIFS('Accounting Data'!$C$2:$C$100000,'Accounting Data'!$E$2:$E$100000,\"9??\",'Accounting Data'!$I$2:$I$100000,\"29??\",'Accounting Data'!$J$2:$J$100000,\"67??\")","v":0},{"$f":"SUMIFS('Accounting Data'!$C$2:$C$100000,'Accounting Data'!$H$2:$H$100000,\"7??\",'Accounting Data'!$I$2:$I$100000,\"29??\",'Accounting Data'!$J$2:$J$100000,\"67??\")+SUMIFS('Accounting Data'!$C$2:$C$100000,'Accounting Data'!$H$2:$H$100000,\"8??\",'Accounting Data'!$I$2:$I$100000,\"29??\",'Accounting Data'!$J$2:$J$100000,\"67??\")+SUMIFS('Accounting Data'!$C$2:$C$100000,'Accounting Data'!$H$2:$H$100000,\"9??\",'Accounting Data'!$I$2:$I$100000,\"29??\",'Accounting Data'!$J$2:$J$100000,\"67??\")","v":0},{"$f":"SUMIFS('Accounting Data'!$C$2:$C$100000,'Accounting Data'!$E$2:$E$100000,\"575\",'Accounting Data'!$H$2:$H$100000,\"7??\",'Accounting Data'!$I$2:$I$100000,\"29??\",'Accounting Data'!$J$2:$J$100000,\"67??\")+SUMIFS('Accounting Data'!$C$2:$C$100000,'Accounting Data'!$E$2:$E$100000,\"575\",'Accounting Data'!$H$2:$H$100000,\"8??\",'Accounting Data'!$I$2:$I$100000,\"29??\",'Accounting Data'!$J$2:$J$100000,\"67??\")+SUMIFS('Accounting Data'!$C$2:$C$100000,'Accounting Data'!$E$2:$E$100000,\"575\",'Accounting Data'!$H$2:$H$100000,\"9??\",'Accounting Data'!$I$2:$I$100000,\"29??\",'Accounting Data'!$J$2:$J$100000,\"67??\")","v":0},{"$f":"SUMIFS('Accounting Data'!$C$2:$C$100000,'Accounting Data'!$E$2:$E$100000,\"8??\",'Accounting Data'!$H$2:$H$100000,\"7??\",'Accounting Data'!$I$2:$I$100000,\"29??\",'Accounting Data'!$J$2:$J$100000,\"67??\")+SUMIFS('Accounting Data'!$C$2:$C$100000,'Accounting Data'!$E$2:$E$100000,\"8??\",'Accounting Data'!$H$2:$H$100000,\"8??\",'Accounting Data'!$I$2:$I$100000,\"29??\",'Accounting Data'!$J$2:$J$100000,\"67??\")+SUMIFS('Accounting Data'!$C$2:$C$100000,'Accounting Data'!$E$2:$E$100000,\"8??\",'Accounting Data'!$H$2:$H$100000,\"9??\",'Accounting Data'!$I$2:$I$100000,\"29??\",'Accounting Data'!$J$2:$J$100000,\"67??\")","v":0},{"$f":"SUMIFS('Accounting Data'!$C$2:$C$100000,'Accounting Data'!$E$2:$E$100000,\"9??\",'Accounting Data'!$H$2:$H$100000,\"7??\",'Accounting Data'!$I$2:$I$100000,\"29??\",'Accounting Data'!$J$2:$J$100000,\"67??\")+SUMIFS('Accounting Data'!$C$2:$C$100000,'Accounting Data'!$E$2:$E$100000,\"9??\",'Accounting Data'!$H$2:$H$100000,\"8??\",'Accounting Data'!$I$2:$I$100000,\"29??\",'Accounting Data'!$J$2:$J$100000,\"67??\")+SUMIFS('Accounting Data'!$C$2:$C$100000,'Accounting Data'!$E$2:$E$100000,\"9??\",'Accounting Data'!$H$2:$H$100000,\"9??\",'Accounting Data'!$I$2:$I$100000,\"29??\",'Accounting Data'!$J$2:$J$100000,\"67??\")","v":0},null,2900,{"$f":"SUMIFS('Accounting Data'!C2:C100000,'Accounting Data'!I2:I100000,\"29??\",'Accounting Data'!J2:J100000,\"681?\")","v":0},{"$f":"SUMIFS('Accounting Data'!$C$2:$C$100000,'Accounting Data'!$E$2:$E$100000,\"575\",'Accounting Data'!$I$2:$I$100000,\"29??\",'Accounting Data'!$J$2:$J$100000,\"681?\")+SUMIFS('Accounting Data'!$C$2:$C$100000,'Accounting Data'!$E$2:$E$100000,\"8??\",'Accounting Data'!$I$2:$I$100000,\"29??\",'Accounting Data'!$J$2:$J$100000,\"681?\")+SUMIFS('Accounting Data'!$C$2:$C$100000,'Accounting Data'!$E$2:$E$100000,\"9??\",'Accounting Data'!$I$2:$I$100000,\"29??\",'Accounting Data'!$J$2:$J$100000,\"681?\")","v":0},{"$f":"SUMIFS('Accounting Data'!$C$2:$C$100000,'Accounting Data'!$H$2:$H$100000,\"7??\",'Accounting Data'!$I$2:$I$100000,\"29??\",'Accounting Data'!$J$2:$J$100000,\"681?\")+SUMIFS('Accounting Data'!$C$2:$C$100000,'Accounting Data'!$H$2:$H$100000,\"8??\",'Accounting Data'!$I$2:$I$100000,\"29??\",'Accounting Data'!$J$2:$J$100000,\"681?\")+SUMIFS('Accounting Data'!$C$2:$C$100000,'Accounting Data'!$H$2:$H$100000,\"9??\",'Accounting Data'!$I$2:$I$100000,\"29??\",'Accounting Data'!$J$2:$J$100000,\"681?\")","v":0},{"$f":"SUMIFS('Accounting Data'!$C$2:$C$100000,'Accounting Data'!$E$2:$E$100000,\"575\",'Accounting Data'!$H$2:$H$100000,\"7??\",'Accounting Data'!$I$2:$I$100000,\"29??\",'Accounting Data'!$J$2:$J$100000,\"681?\")+SUMIFS('Accounting Data'!$C$2:$C$100000,'Accounting Data'!$E$2:$E$100000,\"575\",'Accounting Data'!$H$2:$H$100000,\"8??\",'Accounting Data'!$I$2:$I$100000,\"29??\",'Accounting Data'!$J$2:$J$100000,\"681?\")+SUMIFS('Accounting Data'!$C$2:$C$100000,'Accounting Data'!$E$2:$E$100000,\"575\",'Accounting Data'!$H$2:$H$100000,\"9??\",'Accounting Data'!$I$2:$I$100000,\"29??\",'Accounting Data'!$J$2:$J$100000,\"681?\")","v":0},{"$f":"SUMIFS('Accounting Data'!$C$2:$C$100000,'Accounting Data'!$E$2:$E$100000,\"8??\",'Accounting Data'!$H$2:$H$100000,\"7??\",'Accounting Data'!$I$2:$I$100000,\"29??\",'Accounting Data'!$J$2:$J$100000,\"681?\")+SUMIFS('Accounting Data'!$C$2:$C$100000,'Accounting Data'!$E$2:$E$100000,\"8??\",'Accounting Data'!$H$2:$H$100000,\"8??\",'Accounting Data'!$I$2:$I$100000,\"29??\",'Accounting Data'!$J$2:$J$100000,\"681?\")+SUMIFS('Accounting Data'!$C$2:$C$100000,'Accounting Data'!$E$2:$E$100000,\"8??\",'Accounting Data'!$H$2:$H$100000,\"9??\",'Accounting Data'!$I$2:$I$100000,\"29??\",'Accounting Data'!$J$2:$J$100000,\"681?\")","v":0},{"$f":"SUMIFS('Accounting Data'!$C$2:$C$100000,'Accounting Data'!$E$2:$E$100000,\"9??\",'Accounting Data'!$H$2:$H$100000,\"7??\",'Accounting Data'!$I$2:$I$100000,\"29??\",'Accounting Data'!$J$2:$J$100000,\"681?\")+SUMIFS('Accounting Data'!$C$2:$C$100000,'Accounting Data'!$E$2:$E$100000,\"9??\",'Accounting Data'!$H$2:$H$100000,\"8??\",'Accounting Data'!$I$2:$I$100000,\"29??\",'Accounting Data'!$J$2:$J$100000,\"681?\")+SUMIFS('Accounting Data'!$C$2:$C$100000,'Accounting Data'!$E$2:$E$100000,\"9??\",'Accounting Data'!$H$2:$H$100000,\"9??\",'Accounting Data'!$I$2:$I$100000,\"29??\",'Accounting Data'!$J$2:$J$100000,\"681?\")","v":0},null,2500,{"$f":"SUMIFS('Accounting Data'!C2:C100000,'Accounting Data'!I2:I100000,\"25??\",'Accounting Data'!J2:J100000,\"685?\")","v":0},null,null,{"$f":"SUMIFS('Accounting Data'!$C$2:$C$100000,'Accounting Data'!$E$2:$E$100000,\"575\",'Accounting Data'!$I$2:$I$100000,\"25??\",'Accounting Data'!$J$2:$J$100000,\"685?\")+SUMIFS('Accounting Data'!$C$2:$C$100000,'Accounting Data'!$E$2:$E$100000,\"8??\",'Accounting Data'!$I$2:$I$100000,\"25??\",'Accounting Data'!$J$2:$J$100000,\"685?\")+SUMIFS('Accounting Data'!$C$2:$C$100000,'Accounting Data'!$E$2:$E$100000,\"9??\",'Accounting Data'!$I$2:$I$100000,\"25??\",'Accounting Data'!$J$2:$J$100000,\"685?\")","v":0},{"$f":"SUMIFS('Accounting Data'!C2:C100000,'Accounting Data'!H2:H100000,\"7??\",'Accounting Data'!I2:I100000,\"25??\",'Accounting Data'!J2:J100000,\"685?\")+SUMIFS('Accounting Data'!C2:C100000,'Accounting Data'!H2:H100000,\"8??\",'Accounting Data'!I2:I100000,\"25??\",'Accounting Data'!J2:J100000,\"685?\")+SUMIFS('Accounting Data'!C2:C100000,'Accounting Data'!H2:H100000,\"9??\",'Accounting Data'!I2:I100000,\"25??\",'Accounting Data'!J2:J100000,\"685?\")","v":0},null,null,{"$f":"SUMIFS('Accounting Data'!$C$2:$C$100000,'Accounting Data'!$E$2:$E$100000,\"575\",'Accounting Data'!$H$2:$H$100000,\"7??\",'Accounting Data'!$I$2:$I$100000,\"25??\",'Accounting Data'!$J$2:$J$100000,\"685?\")+SUMIFS('Accounting Data'!$C$2:$C$100000,'Accounting Data'!$E$2:$E$100000,\"575\",'Accounting Data'!$H$2:$H$100000,\"8??\",'Accounting Data'!$I$2:$I$100000,\"25??\",'Accounting Data'!$J$2:$J$100000,\"685?\")+SUMIFS('Accounting Data'!$C$2:$C$100000,'Accounting Data'!$E$2:$E$100000,\"575\",'Accounting Data'!$H$2:$H$100000,\"9??\",'Accounting Data'!$I$2:$I$100000,\"25??\",'Accounting Data'!$J$2:$J$100000,\"685?\")","v":0},null,null,{"$f":"SUMIFS('Accounting Data'!$C$2:$C$100000,'Accounting Data'!$E$2:$E$100000,\"8??\",'Accounting Data'!$H$2:$H$100000,\"7??\",'Accounting Data'!$I$2:$I$100000,\"25??\",'Accounting Data'!$J$2:$J$100000,\"685?\")+SUMIFS('Accounting Data'!$C$2:$C$100000,'Accounting Data'!$E$2:$E$100000,\"8??\",'Accounting Data'!$H$2:$H$100000,\"8??\",'Accounting Data'!$I$2:$I$100000,\"25??\",'Accounting Data'!$J$2:$J$100000,\"685?\")+SUMIFS('Accounting Data'!$C$2:$C$100000,'Accounting Data'!$E$2:$E$100000,\"8??\",'Accounting Data'!$H$2:$H$100000,\"9??\",'Accounting Data'!$I$2:$I$100000,\"25??\",'Accounting Data'!$J$2:$J$100000,\"685?\")","v":0},null,null,{"$f":"SUMIFS('Accounting Data'!$C$2:$C$100000,'Accounting Data'!$E$2:$E$100000,\"9??\",'Accounting Data'!$H$2:$H$100000,\"7??\",'Accounting Data'!$I$2:$I$100000,\"25??\",'Accounting Data'!$J$2:$J$100000,\"685?\")+SUMIFS('Accounting Data'!$C$2:$C$100000,'Accounting Data'!$E$2:$E$100000,\"9??\",'Accounting Data'!$H$2:$H$100000,\"8??\",'Accounting Data'!$I$2:$I$100000,\"25??\",'Accounting Data'!$J$2:$J$100000,\"685?\")+SUMIFS('Accounting Data'!$C$2:$C$100000,'Accounting Data'!$E$2:$E$100000,\"9??\",'Accounting Data'!$H$2:$H$100000,\"9??\",'Accounting Data'!$I$2:$I$100000,\"25??\",'Accounting Data'!$J$2:$J$100000,\"685?\")","v":0},null,2900,{"$f":"SUM(SUMIFS('Accounting Data'!C2:C100000,'Accounting Data'!I2:I100000,\"29??\",'Accounting Data'!J2:J100000,{\"689?\",\"6885\"}))","v":0},{"$f":"SUM(SUMIFS('Accounting Data'!$C$2:$C$100000,'Accounting Data'!$E$2:$E$100000,\"575\",'Accounting Data'!$I$2:$I$100000,\"29??\",'Accounting Data'!$J$2:$J$100000,{\"689?\",\"6885\"}))+SUM(SUMIFS('Accounting Data'!$C$2:$C$100000,'Accounting Data'!$E$2:$E$100000,\"8??\",'Accounting Data'!$I$2:$I$100000,\"29??\",'Accounting Data'!$J$2:$J$100000,{\"689?\",\"6885\"}))+SUM(SUMIFS('Accounting Data'!$C$2:$C$100000,'Accounting Data'!$E$2:$E$100000,\"9??\",'Accounting Data'!$I$2:$I$100000,\"29??\",'Accounting Data'!$J$2:$J$100000,{\"689?\",\"6885\"}))","v":0},{"$f":"SUM(SUMIFS('Accounting Data'!$C$2:$C$100000,'Accounting Data'!$H$2:$H$100000,\"7??\",'Accounting Data'!$I$2:$I$100000,\"29??\",'Accounting Data'!$J$2:$J$100000,{\"689?\",\"6885\"}))+SUM(SUMIFS('Accounting Data'!$C$2:$C$100000,'Accounting Data'!$H$2:$H$100000,\"8??\",'Accounting Data'!$I$2:$I$100000,\"29??\",'Accounting Data'!$J$2:$J$100000,{\"689?\",\"6885\"}))+SUM(SUMIFS('Accounting Data'!$C$2:$C$100000,'Accounting Data'!$H$2:$H$100000,\"9??\",'Accounting Data'!$I$2:$I$100000,\"29??\",'Accounting Data'!$J$2:$J$100000,{\"689?\",\"6885\"}))","v":0},{"$f":"SUM(SUMIFS('Accounting Data'!$C$2:$C$100000,'Accounting Data'!$E$2:$E$100000,\"575\",'Accounting Data'!$H$2:$H$100000,\"7??\",'Accounting Data'!$I$2:$I$100000,\"29??\",'Accounting Data'!$J$2:$J$100000,{\"689?\",\"6885\"}))+SUM(SUMIFS('Accounting Data'!$C$2:$C$100000,'Accounting Data'!$E$2:$E$100000,\"575\",'Accounting Data'!$H$2:$H$100000,\"8??\",'Accounting Data'!$I$2:$I$100000,\"29??\",'Accounting Data'!$J$2:$J$100000,{\"689?\",\"6885\"}))+SUM(SUMIFS('Accounting Data'!$C$2:$C$100000,'Accounting Data'!$E$2:$E$100000,\"575\",'Accounting Data'!$H$2:$H$100000,\"9??\",'Accounting Data'!$I$2:$I$100000,\"29??\",'Accounting Data'!$J$2:$J$100000,{\"689?\",\"6885\"}))","v":0},{"$f":"SUM(SUMIFS('Accounting Data'!$C$2:$C$100000,'Accounting Data'!$E$2:$E$100000,\"8??\",'Accounting Data'!$H$2:$H$100000,\"7??\",'Accounting Data'!$I$2:$I$100000,\"29??\",'Accounting Data'!$J$2:$J$100000,{\"689?\",\"6885\"}))+SUM(SUMIFS('Accounting Data'!$C$2:$C$100000,'Accounting Data'!$E$2:$E$100000,\"8??\",'Accounting Data'!$H$2:$H$100000,\"8??\",'Accounting Data'!$I$2:$I$100000,\"29??\",'Accounting Data'!$J$2:$J$100000,{\"689?\",\"6885\"}))+SUM(SUMIFS('Accounting Data'!$C$2:$C$100000,'Accounting Data'!$E$2:$E$100000,\"8??\",'Accounting Data'!$H$2:$H$100000,\"9??\",'Accounting Data'!$I$2:$I$100000,\"29??\",'Accounting Data'!$J$2:$J$100000,{\"689?\",\"6885\"}))","v":0},{"$f":"SUM(SUMIFS('Accounting Data'!$C$2:$C$100000,'Accounting Data'!$E$2:$E$100000,\"9??\",'Accounting Data'!$H$2:$H$100000,\"7??\",'Accounting Data'!$I$2:$I$100000,\"29??\",'Accounting Data'!$J$2:$J$100000,{\"689?\",\"6885\"}))+SUM(SUMIFS('Accounting Data'!$C$2:$C$100000,'Accounting Data'!$E$2:$E$100000,\"9??\",'Accounting Data'!$H$2:$H$100000,\"8??\",'Accounting Data'!$I$2:$I$100000,\"29??\",'Accounting Data'!$J$2:$J$100000,{\"689?\",\"6885\"}))+SUM(SUMIFS('Accounting Data'!$C$2:$C$100000,'Accounting Data'!$E$2:$E$100000,\"9??\",'Accounting Data'!$H$2:$H$100000,\"9??\",'Accounting Data'!$I$2:$I$100000,\"29??\",'Accounting Data'!$J$2:$J$100000,{\"689?\",\"6885\"}))","v":0},null,2900,{"$f":"SUMIFS('Accounting Data'!$C$2:$C$100000,'Accounting Data'!$H$2:$H$100000,\"7??\",'Accounting Data'!$I$2:$I$100000,\"29??\",'Accounting Data'!$J$2:$J$100000,\"6???\")+SUMIFS('Accounting Data'!$C$2:$C$100000,'Accounting Data'!$H$2:$H$100000,\"8??\",'Accounting Data'!$I$2:$I$100000,\"29??\",'Accounting Data'!$J$2:$J$100000,\"6???\")+SUMIFS('Accounting Data'!$C$2:$C$100000,'Accounting Data'!$H$2:$H$100000,\"9??\",'Accounting Data'!$I$2:$I$100000,\"29??\",'Accounting Data'!$J$2:$J$100000,\"6???\")","v":0},{"$f":"SUMIFS('Accounting Data'!$C$2:$C$100000,'Accounting Data'!$H$2:$H$100000,\"7??\",'Accounting Data'!$I$2:$I$100000,\"29??\",'Accounting Data'!$J$2:$J$100000,\"69??\")+SUMIFS('Accounting Data'!$C$2:$C$100000,'Accounting Data'!$H$2:$H$100000,\"8??\",'Accounting Data'!$I$2:$I$100000,\"29??\",'Accounting Data'!$J$2:$J$100000,\"69??\")+SUMIFS('Accounting Data'!$C$2:$C$100000,'Accounting Data'!$H$2:$H$100000,\"9??\",'Accounting Data'!$I$2:$I$100000,\"29??\",'Accounting Data'!$J$2:$J$100000,\"69??\")","v":0},{"$f":"SUMIFS('Accounting Data'!$C$2:$C$100000,'Accounting Data'!$E$2:$E$100000,\"575\",'Accounting Data'!$H$2:$H$100000,\"7??\",'Accounting Data'!$I$2:$I$100000,\"29??\",'Accounting Data'!$J$2:$J$100000,\"6???\")+SUMIFS('Accounting Data'!$C$2:$C$100000,'Accounting Data'!$E$2:$E$100000,\"575\",'Accounting Data'!$H$2:$H$100000,\"8??\",'Accounting Data'!$I$2:$I$100000,\"29??\",'Accounting Data'!$J$2:$J$100000,\"6???\")+SUMIFS('Accounting Data'!$C$2:$C$100000,'Accounting Data'!$E$2:$E$100000,\"575\",'Accounting Data'!$H$2:$H$100000,\"9??\",'Accounting Data'!$I$2:$I$100000,\"29??\",'Accounting Data'!$J$2:$J$100000,\"6???\")","v":0},{"$f":"SUMIFS('Accounting Data'!$C$2:$C$100000,'Accounting Data'!$E$2:$E$100000,\"8??\",'Accounting Data'!$H$2:$H$100000,\"7??\",'Accounting Data'!$I$2:$I$100000,\"29??\",'Accounting Data'!$J$2:$J$100000,\"6???\")+SUMIFS('Accounting Data'!$C$2:$C$100000,'Accounting Data'!$E$2:$E$100000,\"8??\",'Accounting Data'!$H$2:$H$100000,\"8??\",'Accounting Data'!$I$2:$I$100000,\"29??\",'Accounting Data'!$J$2:$J$100000,\"6???\")+SUMIFS('Accounting Data'!$C$2:$C$100000,'Accounting Data'!$E$2:$E$100000,\"8??\",'Accounting Data'!$H$2:$H$100000,\"9??\",'Accounting Data'!$I$2:$I$100000,\"29??\",'Accounting Data'!$J$2:$J$100000,\"6???\")+SUMIFS('Accounting Data'!$C$2:$C$100000,'Accounting Data'!$E$2:$E$100000,\"9??\",'Accounting Data'!$H$2:$H$100000,\"7??\",'Accounting Data'!$I$2:$I$100000,\"29??\",'Accounting Data'!$J$2:$J$100000,\"6???\")+SUMIFS('Accounting Data'!$C$2:$C$100000,'Accounting Data'!$E$2:$E$100000,\"9??\",'Accounting Data'!$H$2:$H$100000,\"8??\",'Accounting Data'!$I$2:$I$100000,\"29??\",'Accounting Data'!$J$2:$J$100000,\"6???\")+SUMIFS('Accounting Data'!$C$2:$C$100000,'Accounting Data'!$E$2:$E$100000,\"9??\",'Accounting Data'!$H$2:$H$100000,\"9??\",'Accounting Data'!$I$2:$I$100000,\"29??\",'Accounting Data'!$J$2:$J$100000,\"6???\")","v":0},{"$f":"SUMIFS('Accounting Data'!$C$2:$C$100000,'Accounting Data'!$E$2:$E$100000,\"575\",'Accounting Data'!$H$2:$H$100000,\"7??\",'Accounting Data'!$I$2:$I$100000,\"29??\",'Accounting Data'!$J$2:$J$100000,\"69??\")+SUMIFS('Accounting Data'!$C$2:$C$100000,'Accounting Data'!$E$2:$E$100000,\"575\",'Accounting Data'!$H$2:$H$100000,\"8??\",'Accounting Data'!$I$2:$I$100000,\"29??\",'Accounting Data'!$J$2:$J$100000,\"69??\")+SUMIFS('Accounting Data'!$C$2:$C$100000,'Accounting Data'!$E$2:$E$100000,\"575\",'Accounting Data'!$H$2:$H$100000,\"9??\",'Accounting Data'!$I$2:$I$100000,\"29??\",'Accounting Data'!$J$2:$J$100000,\"69??\")","v":0},{"$f":"SUMIFS('Accounting Data'!$C$2:$C$100000,'Accounting Data'!$E$2:$E$100000,\"8??\",'Accounting Data'!$H$2:$H$100000,\"7??\",'Accounting Data'!$I$2:$I$100000,\"29??\",'Accounting Data'!$J$2:$J$100000,\"69??\")+SUMIFS('Accounting Data'!$C$2:$C$100000,'Accounting Data'!$E$2:$E$100000,\"8??\",'Accounting Data'!$H$2:$H$100000,\"8??\",'Accounting Data'!$I$2:$I$100000,\"29??\",'Accounting Data'!$J$2:$J$100000,\"69??\")+SUMIFS('Accounting Data'!$C$2:$C$100000,'Accounting Data'!$E$2:$E$100000,\"8??\",'Accounting Data'!$H$2:$H$100000,\"9??\",'Accounting Data'!$I$2:$I$100000,\"29??\",'Accounting Data'!$J$2:$J$100000,\"69??\")+SUMIFS('Accounting Data'!$C$2:$C$100000,'Accounting Data'!$E$2:$E$100000,\"9??\",'Accounting Data'!$H$2:$H$100000,\"7??\",'Accounting Data'!$I$2:$I$100000,\"29??\",'Accounting Data'!$J$2:$J$100000,\"69??\")+SUMIFS('Accounting Data'!$C$2:$C$100000,'Accounting Data'!$E$2:$E$100000,\"9??\",'Accounting Data'!$H$2:$H$100000,\"8??\",'Accounting Data'!$I$2:$I$100000,\"29??\",'Accounting Data'!$J$2:$J$100000,\"69??\")+SUMIFS('Accounting Data'!$C$2:$C$100000,'Accounting Data'!$E$2:$E$100000,\"9??\",'Accounting Data'!$H$2:$H$100000,\"9??\",'Accounting Data'!$I$2:$I$100000,\"29??\",'Accounting Data'!$J$2:$J$100000,\"69??\")","v":0}]
["         2700 Student Transportation","8.",{"$f":"(AA19-AB19-AC19)+(AD19+AE19+AF19)","v":1332575},{"$f":"(AI19-AJ19-AK19)+(AL19+AM19+AN19)","v":475084},{"$f":"(AQ19-AR19-AS19-AT19-AU19)+(AV19+AW19+AX19+AY19+AZ19+BA19+BB19+BC19+BD19)","v":379144},{"$f":"(BG19-BH19-BI19)+(BJ19+BK19+BL19)","v":526042},{"$f":"(BO19-BP19-BQ19)+(BR19+BS19+BT19)","v":635761},{"$f":"(BW19-BX19-BY19)+(BZ19+CA19+CB19)","v":200},null,null,null,{"$f":"(CU19-CV19-CW19)+(CX19+CY19+CZ19)","v":0},null,3348806,"8.",null,null,null,"Object code",null,"% of Total",null,null,null,null,2600,{"$f":"SUMIFS('Accounting Data'!C2:C100000,'Accounting Data'!I2:I100000,\"26??\",'Accounting Data'!J2:J100000,\"61??\")","v":548705},{"$f":"SUMIFS('Accounting Data'!C2:C100000,'Accounting Data'!E2:E100000,\"575\",'Accounting Data'!I2:I100000,\"26??\",'Accounting Data'!J2:J100000,\"61??\")+SUMIFS('Accounting Data'!C2:C100000,'Accounting Data'!E2:E100000,\"8??\",'Accounting Data'!I2:I100000,\"26??\",'Accounting Data'!J2:J100000,\"61??\")+SUMIFS('Accounting Data'!C2:C100000,'Accounting Data'!E2:E100000,\"9??\",'Accounting Data'!I2:I100000,\"26??\",'Accounting Data'!J2:J100000,\"61??\")","v":0},{"$f":"SUMIFS('Accounting Data'!C2:C100000,'Accounting Data'!H2:H100000,\"7??\",'Accounting Data'!I2:I100000,\"26??\",'Accounting Data'!J2:J100000,\"61??\")+SUMIFS('Accounting Data'!C2:C100000,'Accounting Data'!H2:H100000,\"8??\",'Accounting Data'!I2:I100000,\"26??\",'Accounting Data'!J2:J100000,\"61??\")+SUMIFS('Accounting Data'!C2:C100000,'Accounting Data'!H2:H100000,\"9??\",'Accounting Data'!I2:I100000,\"26??\",'Accounting Data'!J2:J100000,\"61??\")","v":0},{"$f":"SUMIFS('Accounting Data'!C2:C100000,'Accounting Data'!E2:E100000,\"575\",'Accounting Data'!H2:H100000,\"7??\",'Accounting Data'!I2:I100000,\"26??\",'Accounting Data'!J2:J100000,\"61??\")+SUMIFS('Accounting Data'!C2:C100000,'Accounting Data'!E2:E100000,\"575\",'Accounting Data'!H2:H100000,\"8??\",'Accounting Data'!I2:I100000,\"26??\",'Accounting Data'!J2:J100000,\"61??\")+SUMIFS('Accounting Data'!C2:C100000,'Accounting Data'!E2:E100000,\"575\",'Accounting Data'!H2:H100000,\"9??\",'Accounting Data'!I2:I100000,\"26??\",'Accounting Data'!J2:J100000,\"61??\")","v":0},{"$f":"SUMIFS('Accounting Data'!C2:C100000,'Accounting Data'!E2:E100000,\"8??\",'Accounting Data'!H2:H100000,\"7??\",'Accounting Data'!I2:I100000,\"26??\",'Accounting Data'!J2:J100000,\"61??\")+SUMIFS('Accounting Data'!C2:C100000,'Accounting Data'!E2:E100000,\"8??\",'Accounting Data'!H2:H100000,\"8??\",'Accounting Data'!I2:I100000,\"26??\",'Accounting Data'!J2:J100000,\"61??\")+SUMIFS('Accounting Data'!C2:C100000,'Accounting Data'!E2:E100000,\"8??\",'Accounting Data'!H2:H100000,\"9??\",'Accounting Data'!I2:I100000,\"26??\",'Accounting Data'!J2:J100000,\"61??\")","v":0},{"$f":"SUMIFS('Accounting Data'!C2:C100000,'Accounting Data'!E2:E100000,\"9??\",'Accounting Data'!H2:H100000,\"7??\",'Accounting Data'!I2:I100000,\"26??\",'Accounting Data'!J2:J100000,\"61??\")+SUMIFS('Accounting Data'!C2:C100000,'Accounting Data'!E2:E100000,\"9??\",'Accounting Data'!H2:H100000,\"8??\",'Accounting Data'!I2:I100000,\"26??\",'Accounting Data'!J2:J100000,\"61??\")+SUMIFS('Accounting Data'!C2:C100000,'Accounting Data'!E2:E100000,\"9??\",'Accounting Data'!H2:H100000,\"9??\",'Accounting Data'!I2:I100000,\"26??\",'Accounting Data'!J2:J100000,\"61??\")","v":0},null,2600,{"$f":"SUMIFS('Accounting Data'!C2:C100000,'Accounting Data'!I2:I100000,\"26??\",'Accounting Data'!J2:J100000,\"62??\")","v":190470},{"$f":"SUMIFS('Accounting Data'!C2:C100000,'Accounting Data'!E2:E100000,\"575\",'Accounting Data'!I2:I100000,\"26??\",'Accounting Data'!J2:J100000,\"62??\")+SUMIFS('Accounting Data'!C2:C100000,'Accounting Data'!E2:E100000,\"8??\",'Accounting Data'!I2:I100000,\"26??\",'Accounting Data'!J2:J100000,\"62??\")+SUMIFS('Accounting Data'!C2:C100000,'Accounting Data'!E2:E100000,\"9??\",'Accounting Data'!I2:I100000,\"26??\",'Accounting Data'!J2:J100000,\"62??\")","v":0},{"$f":"SUMIFS('Accounting Data'!C2:C100000,'Accounting Data'!H2:H100000,\"7??\",'Accounting Data'!I2:I100000,\"26??\",'Accounting Data'!J2:J100000,\"62??\")+SUMIFS('Accounting Data'!C2:C100000,'Accounting Data'!H2:H100000,\"8??\",'Accounting Data'!I2:I100000,\"26??\",'Accounting Data'!J2:J100000,\"62??\")+SUMIFS('Accounting Data'!C2:C100000,'Accounting Data'!H2:H100000,\"9??\",'Accounting Data'!I2:I100000,\"26??\",'Accounting Data'!J2:J100000,\"62??\")","v":0},{"$f":"SUMIFS('Accounting Data'!C2:C100000,'Accounting Data'!E2:E100000,\"575\",'Accounting Data'!H2:H100000,\"7??\",'Accounting Data'!I2:I100000,\"26??\",'Accounting Data'!J2:J100000,\"62??\")+SUMIFS('Accounting Data'!C2:C100000,'Accounting Data'!E2:E100000,\"575\",'Accounting Data'!H2:H100000,\"8??\",'Accounting Data'!I2:I100000,\"26??\",'Accounting Data'!J2:J100000,\"62??\")+SUMIFS('Accounting Data'!C2:C100000,'Accounting Data'!E2:E100000,\"575\",'Accounting Data'!H2:H100000,\"9??\",'Accounting Data'!I2:I100000,\"26??\",'Accounting Data'!J2:J100000,\"62??\")","v":0},{"$f":"SUMIFS('Accounting Data'!C2:C100000,'Accounting Data'!E2:E100000,\"8??\",'Accounting Data'!H2:H100000,\"7??\",'Accounting Data'!I2:I100000,\"26??\",'Accounting Data'!J2:J100000,\"62??\")+SUMIFS('Accounting Data'!C2:C100000,'Accounting Data'!E2:E100000,\"8??\",'Accounting Data'!H2:H100000,\"8??\",'Accounting Data'!I2:I100000,\"26??\",'Accounting Data'!J2:J100000,\"62??\")+SUMIFS('Accounting Data'!C2:C100000,'Accounting Data'!E2:E100000,\"8??\",'Accounting Data'!H2:H100000,\"9??\",'Accounting Data'!I2:I100000,\"26??\",'Accounting Data'!J2:J100000,\"62??\")","v":0},{"$f":"SUMIFS('Accounting Data'!C2:C100000,'Accounting Data'!E2:E100000,\"9??\",'Accounting Data'!H2:H100000,\"7??\",'Accounting Data'!I2:I100000,\"26??\",'Accounting Data'!J2:J100000,\"62??\")+SUMIFS('Accounting Data'!C2:C100000,'Accounting Data'!E2:E100000,\"9??\",'Accounting Data'!H2:H100000,\"8??\",'Accounting Data'!I2:I100000,\"26??\",'Accounting Data'!J2:J100000,\"62??\")+SUMIFS('Accounting Data'!C2:C100000,'Accounting Data'!E2:E100000,\"9??\",'Accounting Data'!H2:H100000,\"9??\",'Accounting Data'!I2:I100000,\"26??\",'Accounting Data'!J2:J100000,\"62??\")","v":0},null,2600,{"$f":"SUMIFS('Accounting Data'!C2:C100000,'Accounting Data'!I2:I100000,\"26??\",'Accounting Data'!J2:J100000,\"63??\")+SUMIFS('Accounting Data'!C2:C100000,'Accounting Data'!I2:I100000,\"26??\",'Accounting Data'!J2:J100000,\"64??\")+SUMIFS('Accounting Data'!C2:C100000,'Accounting Data'!I2:I100000,\"26??\",'Accounting Data'!J2:J100000,\"65??\")","v":3054491},{"$f":"SUMIFS('Accounting Data'!C2:C100000,'Accounting Data'!E2:E100000,\"575\",'Accounting Data'!I2:I100000,\"26??\",'Accounting Data'!J2:J100000,\"63??\")+SUMIFS('Accounting Data'!C2:C100000,'Accounting Data'!E2:E100000,\"8??\",'Accounting Data'!I2:I100000,\"26??\",'Accounting Data'!J2:J100000,\"63??\")+SUMIFS('Accounting Data'!C2:C100000,'Accounting Data'!E2:E100000,\"9??\",'Accounting Data'!I2:I100000,\"26??\",'Accounting Data'!J2:J100000,\"63??\")","v":0},{"$f":"SUMIFS('Accounting Data'!C2:C100000,'Accounting Data'!E2:E100000,\"575\",'Accounting Data'!I2:I100000,\"26??\",'Accounting Data'!J2:J100000,\"64??\")+SUMIFS('Accounting Data'!C2:C100000,'Accounting Data'!E2:E100000,\"8??\",'Accounting Data'!I2:I100000,\"26??\",'Accounting Data'!J2:J100000,\"64??\")+SUMIFS('Accounting Data'!C2:C100000,'Accounting Data'!E2:E100000,\"9??\",'Accounting Data'!I2:I100000,\"26??\",'Accounting Data'!J2:J100000,\"64??\")","v":0},{"$f":"SUMIFS('Accounting Data'!C2:C100000,'Accounting Data'!E2:E100000,\"575\",'Accounting Data'!I2:I100000,\"26??\",'Accounting Data'!J2:J100000,\"65??\")+SUMIFS('Accounting Data'!C2:C100000,'Accounting Data'!E2:E100000,\"8??\",'Accounting Data'!I2:I100000,\"26??\",'Accounting Data'!J2:J100000,\"65??\")+SUMIFS('Accounting Data'!C2:C100000,'Accounting Data'!E2:E100000,\"9??\",'Accounting Data'!I2:I100000,\"26??\",'Accounting Data'!J2:J100000,\"65??\")","v":0},{"$f":"SUMIFS('Accounting Data'!C2:C100000,'Accounting Data'!H2:H100000,\"7??\",'Accounting Data'!I2:I100000,\"26??\",'Accounting Data'!J2:J100000,\"63??\")+SUMIFS('Accounting Data'!C2:C100000,'Accounting Data'!H2:H100000,\"8??\",'Accounting Data'!I2:I100000,\"26??\",'Accounting Data'!J2:J100000,\"63??\")+SUMIFS('Accounting Data'!C2:C100000,'Accounting Data'!H2:H100000,\"9??\",'Accounting Data'!I2:I100000,\"26??\",'Accounting Data'!J2:J100000,\"63??\")+SUMIFS('Accounting Data'!C2:C100000,'Accounting Data'!H2:H100000,\"7??\",'Accounting Data'!I2:I100000,\"26??\",'Accounting Data'!J2:J100000,\"64??\")+SUMIFS('Accounting Data'!C2:C100000,'Accounting Data'!H2:H100000,\"8??\",'Accounting Data'!I2:I100000,\"26??\",'Accounting Data'!J2:J100000,\"64??\")+SUMIFS('Accounting Data'!C2:C100000,'Accounting Data'!H2:H100000,\"9??\",'Accounting Data'!I2:I100000,\"26??\",'Accounting Data'!J2:J100000,\"64??\")+SUMIFS('Accounting Data'!C2:C100000,'Accounting Data'!H2:H100000,\"7??\",'Accounting Data'!I2:I100000,\"26??\",'Accounting Data'!J2:J100000,\"65??\")+SUMIFS('Accounting Data'!C2:C100000,'Accounting Data'!H2:H100000,\"8??\",'Accounting Data'!I2:I100000,\"26??\",'Accounting Data'!J2:J100000,\"65??\")+SUMIFS('Accounting Data'!C2:C100000,'Accounting Data'!H2:H100000,\"9??\",'Accounting Data'!I2:I100000,\"26??\",'Accounting Data'!J2:J100000,\"65??\")","v":0},{"$f":"SUMIFS('Accounting Data'!C2:C100000,'Accounting Data'!E2:E100000,\"575\",'Accounting Data'!H2:H100000,\"7??\",'Accounting Data'!I2:I100000,\"26??\",'Accounting Data'!J2:J100000,\"63??\")+SUMIFS('Accounting Data'!C2:C100000,'Accounting Data'!E2:E100000,\"575\",'Accounting Data'!H2:H100000,\"8??\",'Accounting Data'!I2:I100000,\"26??\",'Accounting Data'!J2:J100000,\"63??\")+SUMIFS('Accounting Data'!C2:C100000,'Accounting Data'!E2:E100000,\"575\",'Accounting Data'!H2:H100000,\"9??\",'Accounting Data'!I2:I100000,\"26??\",'Accounting Data'!J2:J100000,\"63??\")","v":0},{"$f":"SUMIFS('Accounting Data'!C2:C100000,'Accounting Data'!E2:E100000,\"575\",'Accounting Data'!H2:H100000,\"7??\",'Accounting Data'!I2:I100000,\"26??\",'Accounting Data'!J2:J100000,\"64??\")+SUMIFS('Accounting Data'!C2:C100000,'Accounting Data'!E2:E100000,\"575\",'Accounting Data'!H2:H100000,\"8??\",'Accounting Data'!I2:I100000,\"26??\",'Accounting Data'!J2:J100000,\"64??\")+SUMIFS('Accounting Data'!C2:C100000,'Accounting Data'!E2:E100000,\"575\",'Accounting Data'!H2:H100000,\"9??\",'Accounting Data'!I2:I100000,\"26??\",'Accounting Data'!J2:J100000,\"64??\")","v":0},{"$f":"SUMIFS('Accounting Data'!C2:C100000,'Accounting Data'!E2:E100000,\"575\",'Accounting Data'!H2:H100000,\"7??\",'Accounting Data'!I2:I100000,\"26??\",'Accounting Data'!J2:J100000,\"65??\")+SUMIFS('Accounting Data'!C2:C100000,'Accounting Data'!E2:E100000,\"575\",'Accounting Data'!H2:H100000,\"8??\",'Accounting Data'!I2:I100000,\"26??\",'Accounting Data'!J2:J100000,\"65??\")+SUMIFS('Accounting Data'!C2:C100000,'Accounting Data'!E2:E100000,\"575\",'Accounting Data'!H2:H100000,\"9??\",'Accounting Data'!I2:I100000,\"26??\",'Accounting Data'!J2:J100000,\"65??\")","v":0},{"$f":"SUMIFS('Accounting Data'!C2:C100000,'Accounting Data'!E2:E100000,\"8??\",'Accounting Data'!H2:H100000,\"7??\",'Accounting Data'!I2:I100000,\"26??\",'Accounting Data'!J2:J100000,\"63??\")+SUMIFS('Accounting Data'!C2:C100000,'Accounting Data'!E2:E100000,\"8??\",'Accounting Data'!H2:H100000,\"8??\",'Accounting Data'!I2:I100000,\"26??\",'Accounting Data'!J2:J100000,\"63??\")+SUMIFS('Accounting Data'!C2:C100000,'Accounting Data'!E2:E100000,\"8??\",'Accounting Data'!H2:H100000,\"9??\",'Accounting Data'!I2:I100000,\"26??\",'Accounting Data'!J2:J100000,\"63??\")","v":0},{"$f":"SUMIFS('Accounting Data'!C2:C100000,'Accounting Data'!E2:E100000,\"8??\",'Accounting Data'!H2:H100000,\"7??\",'Accounting Data'!I2:I100000,\"26??\",'Accounting Data'!J2:J100000,\"64??\")+SUMIFS('Accounting Data'!C2:C100000,'Accounting Data'!E2:E100000,\"8??\",'Accounting Data'!H2:H100000,\"8??\",'Accounting Data'!I2:I100000,\"26??\",'Accounting Data'!J2:J100000,\"64??\")+SUMIFS('Accounting Data'!C2:C100000,'Accounting Data'!E2:E100000,\"8??\",'Accounting Data'!H2:H100000,\"9??\",'Accounting Data'!I2:I100000,\"26??\",'Accounting Data'!J2:J100000,\"64??\")","v":0},{"$f":"SUMIFS('Accounting Data'!C2:C100000,'Accounting Data'!E2:E100000,\"8??\",'Accounting Data'!H2:H100000,\"7??\",'Accounting Data'!I2:I100000,\"26??\",'Accounting Data'!J2:J100000,\"65??\")+SUMIFS('Accounting Data'!C2:C100000,'Accounting Data'!E2:E100000,\"8??\",'Accounting Data'!H2:H100000,\"8??\",'Accounting Data'!I2:I100000,\"26??\",'Accounting Data'!J2:J100000,\"65??\")+SUMIFS('Accounting Data'!C2:C100000,'Accounting Data'!E2:E100000,\"8??\",'Accounting Data'!H2:H100000,\"9??\",'Accounting Data'!I2:I100000,\"26??\",'Accounting Data'!J2:J100000,\"65??\")","v":0},{"$f":"SUMIFS('Accounting Data'!C2:C100000,'Accounting Data'!E2:E100000,\"9??\",'Accounting Data'!H2:H100000,\"7??\",'Accounting Data'!I2:I100000,\"26??\",'Accounting Data'!J2:J100000,\"63??\")+SUMIFS('Accounting Data'!C2:C100000,'Accounting Data'!E2:E100000,\"9??\",'Accounting Data'!H2:H100000,\"8??\",'Accounting Data'!I2:I100000,\"26??\",'Accounting Data'!J2:J100000,\"63??\")+SUMIFS('Accounting Data'!C2:C100000,'Accounting Data'!E2:E100000,\"9??\",'Accounting Data'!H2:H100000,\"9??\",'Accounting Data'!I2:I100000,\"26??\",'Accounting Data'!J2:J100000,\"63??\")","v":0},{"$f":"SUMIFS('Accounting Data'!C2:C100000,'Accounting Data'!E2:E100000,\"9??\",'Accounting Data'!H2:H100000,\"7??\",'Accounting Data'!I2:I100000,\"26??\",'Accounting Data'!J2:J100000,\"64??\")+SUMIFS('Accounting Data'!C2:C100000,'Accounting Data'!E2:E100000,\"9??\",'Accounting Data'!H2:H100000,\"8??\",'Accounting Data'!I2:I100000,\"26??\",'Accounting Data'!J2:J100000,\"64??\")+SUMIFS('Accounting Data'!C2:C100000,'Accounting Data'!E2:E100000,\"9??\",'Accounting Data'!H2:H100000,\"9??\",'Accounting Data'!I2:I100000,\"26??\",'Accounting Data'!J2:J100000,\"64??\")","v":0},{"$f":"SUMIFS('Accounting Data'!C2:C100000,'Accounting Data'!E2:E100000,\"9??\",'Accounting Data'!H2:H100000,\"7??\",'Accounting Data'!I2:I100000,\"26??\",'Accounting Data'!J2:J100000,\"65??\")+SUMIFS('Accounting Data'!C2:C100000,'Accounting Data'!E2:E100000,\"9??\",'Accounting Data'!H2:H100000,\"8??\",'Accounting Data'!I2:I100000,\"26??\",'Accounting Data'!J2:J100000,\"65??\")+SUMIFS('Accounting Data'!C2:C100000,'Accounting Data'!E2:E100000,\"9??\",'Accounting Data'!H2:H100000,\"9??\",'Accounting Data'!I2:I100000,\"26??\",'Accounting Data'!J2:J100000,\"65??\")","v":0},null,2600,{"$f":"SUMIFS('Accounting Data'!C2:C100000,'Accounting Data'!I2:I100000,\"26??\",'Accounting Data'!J2:J100000,\"66??\")","v":1170969},{"$f":"SUMIFS('Accounting Data'!$C$2:$C$100000,'Accounting Data'!$E$2:$E$100000,\"575\",'Accounting Data'!$I$2:$I$100000,\"26??\",'Accounting Data'!$J$2:$J$100000,\"66??\")+SUMIFS('Accounting Data'!$C$2:$C$100000,'Accounting Data'!$E$2:$E$100000,\"8??\",'Accounting Data'!$I$2:$I$100000,\"26??\",'Accounting Data'!$J$2:$J$100000,\"66??\")+SUMIFS('Accounting Data'!$C$2:$C$100000,'Accounting Data'!$E$2:$E$100000,\"9??\",'Accounting Data'!$I$2:$I$100000,\"26??\",'Accounting Data'!$J$2:$J$100000,\"66??\")","v":0},{"$f":"SUMIFS('Accounting Data'!$C$2:$C$100000,'Accounting Data'!$H$2:$H$100000,\"7??\",'Accounting Data'!$I$2:$I$100000,\"26??\",'Accounting Data'!$J$2:$J$100000,\"66??\")+SUMIFS('Accounting Data'!$C$2:$C$100000,'Accounting Data'!$H$2:$H$100000,\"8??\",'Accounting Data'!$I$2:$I$100000,\"26??\",'Accounting Data'!$J$2:$J$100000,\"66??\")+SUMIFS('Accounting Data'!$C$2:$C$100000,'Accounting Data'!$H$2:$H$100000,\"9??\",'Accounting Data'!$I$2:$I$100000,\"26??\",'Accounting Data'!$J$2:$J$100000,\"66??\")","v":0},{"$f":"SUMIFS('Accounting Data'!$C$2:$C$100000,'Accounting Data'!$E$2:$E$100000,\"575\",'Accounting Data'!$H$2:$H$100000,\"7??\",'Accounting Data'!$I$2:$I$100000,\"26??\",'Accounting Data'!$J$2:$J$100000,\"66??\")+SUMIFS('Accounting Data'!$C$2:$C$100000,'Accounting Data'!$E$2:$E$100000,\"575\",'Accounting Data'!$H$2:$H$100000,\"8??\",'Accounting Data'!$I$2:$I$100000,\"26??\",'Accounting Data'!$J$2:$J$100000,\"66??\")+SUMIFS('Accounting Data'!$C$2:$C$100000,'Accounting Data'!$E$2:$E$100000,\"575\",'Accounting Data'!$H$2:$H$100000,\"9??\",'Accounting Data'!$I$2:$I$100000,\"26??\",'Accounting Data'!$J$2:$J$100000,\"66??\")","v":0},{"$f":"SUMIFS('Accounting Data'!$C$2:$C$100000,'Accounting Data'!$E$2:$E$100000,\"8??\",'Accounting Data'!$H$2:$H$100000,\"7??\",'Accounting Data'!$I$2:$I$100000,\"26??\",'Accounting Data'!$J$2:$J$100000,\"66??\")+SUMIFS('Accounting Data'!$C$2:$C$100000,'Accounting Data'!$E$2:$E$100000,\"8??\",'Accounting Data'!$H$2:$H$100000,\"8??\",'Accounting Data'!$I$2:$I$100000,\"26??\",'Accounting Data'!$J$2:$J$100000,\"66??\")+SUMIFS('Accounting Data'!$C$2:$C$100000,'Accounting Data'!$E$2:$E$100000,\"8??\",'Accounting Data'!$H$2:$H$100000,\"9??\",'Accounting Data'!$I$2:$I$100000,\"26??\",'Accounting Data'!$J$2:$J$100000,\"66??\")","v":0},{"$f":"SUMIFS('Accounting Data'!$C$2:$C$100000,'Accounting Data'!$E$2:$E$100000,\"9??\",'Accounting Data'!$H$2:$H$100000,\"7??\",'Accounting Data'!$I$2:$I$100000,\"26??\",'Accounting Data'!$J$2:$J$100000,\"66??\")+SUMIFS('Accounting Data'!$C$2:$C$100000,'Accounting Data'!$E$2:$E$100000,\"9??\",'Accounting Data'!$H$2:$H$100000,\"8??\",'Accounting Data'!$I$2:$I$100000,\"26??\",'Accounting Data'!$J$2:$J$100000,\"66??\")+SUMIFS('Accounting Data'!$C$2:$C$100000,'Accounting Data'!$E$2:$E$100000,\"9??\",'Accounting Data'!$H$2:$H$100000,\"9??\",'Accounting Data'!$I$2:$I$100000,\"26??\",'Accounting Data'!$J$2:$J$100000,\"66??\")","v":0},null,2600,{"$f":"SUMIFS('Accounting Data'!C2:C100000,'Accounting Data'!I2:I100000,\"26??\",'Accounting Data'!J2:J100000,\"67??\")","v":851370},{"$f":"SUMIFS('Accounting Data'!$C$2:$C$100000,'Accounting Data'!$E$2:$E$100000,\"575\",'Accounting Data'!$I$2:$I$100000,\"26??\",'Accounting Data'!$J$2:$J$100000,\"67??\")+SUMIFS('Accounting Data'!$C$2:$C$100000,'Accounting Data'!$E$2:$E$100000,\"8??\",'Accounting Data'!$I$2:$I$100000,\"26??\",'Accounting Data'!$J$2:$J$100000,\"67??\")+SUMIFS('Accounting Data'!$C$2:$C$100000,'Accounting Data'!$E$2:$E$100000,\"9??\",'Accounting Data'!$I$2:$I$100000,\"26??\",'Accounting Data'!$J$2:$J$100000,\"67??\")","v":0},{"$f":"SUMIFS('Accounting Data'!$C$2:$C$100000,'Accounting Data'!$H$2:$H$100000,\"7??\",'Accounting Data'!$I$2:$I$100000,\"26??\",'Accounting Data'!$J$2:$J$100000,\"67??\")+SUMIFS('Accounting Data'!$C$2:$C$100000,'Accounting Data'!$H$2:$H$100000,\"8??\",'Accounting Data'!$I$2:$I$100000,\"26??\",'Accounting Data'!$J$2:$J$100000,\"67??\")+SUMIFS('Accounting Data'!$C$2:$C$100000,'Accounting Data'!$H$2:$H$100000,\"9??\",'Accounting Data'!$I$2:$I$100000,\"26??\",'Accounting Data'!$J$2:$J$100000,\"67??\")","v":0},{"$f":"SUMIFS('Accounting Data'!$C$2:$C$100000,'Accounting Data'!$E$2:$E$100000,\"575\",'Accounting Data'!$H$2:$H$100000,\"7??\",'Accounting Data'!$I$2:$I$100000,\"26??\",'Accounting Data'!$J$2:$J$100000,\"67??\")+SUMIFS('Accounting Data'!$C$2:$C$100000,'Accounting Data'!$E$2:$E$100000,\"575\",'Accounting Data'!$H$2:$H$100000,\"8??\",'Accounting Data'!$I$2:$I$100000,\"26??\",'Accounting Data'!$J$2:$J$100000,\"67??\")+SUMIFS('Accounting Data'!$C$2:$C$100000,'Accounting Data'!$E$2:$E$100000,\"575\",'Accounting Data'!$H$2:$H$100000,\"9??\",'Accounting Data'!$I$2:$I$100000,\"26??\",'Accounting Data'!$J$2:$J$100000,\"67??\")","v":0},{"$f":"SUMIFS('Accounting Data'!$C$2:$C$100000,'Accounting Data'!$E$2:$E$100000,\"8??\",'Accounting Data'!$H$2:$H$100000,\"7??\",'Accounting Data'!$I$2:$I$100000,\"26??\",'Accounting Data'!$J$2:$J$100000,\"67??\")+SUMIFS('Accounting Data'!$C$2:$C$100000,'Accounting Data'!$E$2:$E$100000,\"8??\",'Accounting Data'!$H$2:$H$100000,\"8??\",'Accounting Data'!$I$2:$I$100000,\"26??\",'Accounting Data'!$J$2:$J$100000,\"67??\")+SUMIFS('Accounting Data'!$C$2:$C$100000,'Accounting Data'!$E$2:$E$100000,\"8??\",'Accounting Data'!$H$2:$H$100000,\"9??\",'Accounting Data'!$I$2:$I$100000,\"26??\",'Accounting Data'!$J$2:$J$100000,\"67??\")","v":0},{"$f":"SUMIFS('Accounting Data'!$C$2:$C$100000,'Accounting Data'!$E$2:$E$100000,\"9??\",'Accounting Data'!$H$2:$H$100000,\"7??\",'Accounting Data'!$I$2:$I$100000,\"26??\",'Accounting Data'!$J$2:$J$100000,\"67??\")+SUMIFS('Accounting Data'!$C$2:$C$100000,'Accounting Data'!$E$2:$E$100000,\"9??\",'Accounting Data'!$H$2:$H$100000,\"8??\",'Accounting Data'!$I$2:$I$100000,\"26??\",'Accounting Data'!$J$2:$J$100000,\"67??\")+SUMIFS('Accounting Data'!$C$2:$C$100000,'Accounting Data'!$E$2:$E$100000,\"9??\",'Accounting Data'!$H$2:$H$100000,\"9??\",'Accounting Data'!$I$2:$I$100000,\"26??\",'Accounting Data'!$J$2:$J$100000,\"67??\")","v":0},null,2600,{"$f":"SUMIFS('Accounting Data'!C2:C100000,'Accounting Data'!I2:I100000,\"26??\",'Accounting Data'!J2:J100000,\"681?\")","v":8184},{"$f":"SUMIFS('Accounting Data'!$C$2:$C$100000,'Accounting Data'!$E$2:$E$100000,\"575\",'Accounting Data'!$I$2:$I$100000,\"26??\",'Accounting Data'!$J$2:$J$100000,\"681?\")+SUMIFS('Accounting Data'!$C$2:$C$100000,'Accounting Data'!$E$2:$E$100000,\"8??\",'Accounting Data'!$I$2:$I$100000,\"26??\",'Accounting Data'!$J$2:$J$100000,\"681?\")+SUMIFS('Accounting Data'!$C$2:$C$100000,'Accounting Data'!$E$2:$E$100000,\"9??\",'Accounting Data'!$I$2:$I$100000,\"26??\",'Accounting Data'!$J$2:$J$100000,\"681?\")","v":0},{"$f":"SUMIFS('Accounting Data'!$C$2:$C$100000,'Accounting Data'!$H$2:$H$100000,\"7??\",'Accounting Data'!$I$2:$I$100000,\"26??\",'Accounting Data'!$J$2:$J$100000,\"681?\")+SUMIFS('Accounting Data'!$C$2:$C$100000,'Accounting Data'!$H$2:$H$100000,\"8??\",'Accounting Data'!$I$2:$I$100000,\"26??\",'Accounting Data'!$J$2:$J$100000,\"681?\")+SUMIFS('Accounting Data'!$C$2:$C$100000,'Accounting Data'!$H$2:$H$100000,\"9??\",'Accounting Data'!$I$2:$I$100000,\"26??\",'Accounting Data'!$J$2:$J$100000,\"681?\")","v":0},{"$f":"SUMIFS('Accounting Data'!$C$2:$C$100000,'Accounting Data'!$E$2:$E$100000,\"575\",'Accounting Data'!$H$2:$H$100000,\"7??\",'Accounting Data'!$I$2:$I$100000,\"26??\",'Accounting Data'!$J$2:$J$100000,\"681?\")+SUMIFS('Accounting Data'!$C$2:$C$100000,'Accounting Data'!$E$2:$E$100000,\"575\",'Accounting Data'!$H$2:$H$100000,\"8??\",'Accounting Data'!$I$2:$I$100000,\"26??\",'Accounting Data'!$J$2:$J$100000,\"681?\")+SUMIFS('Accounting Data'!$C$2:$C$100000,'Accounting Data'!$E$2:$E$100000,\"575\",'Accounting Data'!$H$2:$H$100000,\"9??\",'Accounting Data'!$I$2:$I$100000,\"26??\",'Accounting Data'!$J$2:$J$100000,\"681?\")","v":0},{"$f":"SUMIFS('Accounting Data'!$C$2:$C$100000,'Accounting Data'!$E$2:$E$100000,\"8??\",'Accounting Data'!$H$2:$H$100000,\"7??\",'Accounting Data'!$I$2:$I$100000,\"26??\",'Accounting Data'!$J$2:$J$100000,\"681?\")+SUMIFS('Accounting Data'!$C$2:$C$100000,'Accounting Data'!$E$2:$E$100000,\"8??\",'Accounting Data'!$H$2:$H$100000,\"8??\",'Accounting Data'!$I$2:$I$100000,\"26??\",'Accounting Data'!$J$2:$J$100000,\"681?\")+SUMIFS('Accounting Data'!$C$2:$C$100000,'Accounting Data'!$E$2:$E$100000,\"8??\",'Accounting Data'!$H$2:$H$100000,\"9??\",'Accounting Data'!$I$2:$I$100000,\"26??\",'Accounting Data'!$J$2:$J$100000,\"681?\")","v":0},{"$f":"SUMIFS('Accounting Data'!$C$2:$C$100000,'Accounting Data'!$E$2:$E$100000,\"9??\",'Accounting Data'!$H$2:$H$100000,\"7??\",'Accounting Data'!$I$2:$I$100000,\"26??\",'Accounting Data'!$J$2:$J$100000,\"681?\")+SUMIFS('Accounting Data'!$C$2:$C$100000,'Accounting Data'!$E$2:$E$100000,\"9??\",'Accounting Data'!$H$2:$H$100000,\"8??\",'Accounting Data'!$I$2:$I$100000,\"26??\",'Accounting Data'!$J$2:$J$100000,\"681?\")+SUMIFS('Accounting Data'!$C$2:$C$100000,'Accounting Data'!$E$2:$E$100000,\"9??\",'Accounting Data'!$H$2:$H$100000,\"9??\",'Accounting Data'!$I$2:$I$100000,\"26??\",'Accounting Data'!$J$2:$J$100000,\"681?\")","v":0},null,null,null,null,null,null,null,null,null,null,null,null,null,null,null,null,null,2600,{"$f":"SUM(SUMIFS('Accounting Data'!C2:C100000,'Accounting Data'!I2:I100000,\"26??\",'Accounting Data'!J2:J100000,{\"689?\",\"6885\"}))","v":0},{"$f":"SUM(SUMIFS('Accounting Data'!$C$2:$C$100000,'Accounting Data'!$E$2:$E$100000,\"575\",'Accounting Data'!$I$2:$I$100000,\"26??\",'Accounting Data'!$J$2:$J$100000,{\"689?\",\"6885\"}))+SUM(SUMIFS('Accounting Data'!$C$2:$C$100000,'Accounting Data'!$E$2:$E$100000,\"8??\",'Accounting Data'!$I$2:$I$100000,\"26??\",'Accounting Data'!$J$2:$J$100000,{\"689?\",\"6885\"}))+SUM(SUMIFS('Accounting Data'!$C$2:$C$100000,'Accounting Data'!$E$2:$E$100000,\"9??\",'Accounting Data'!$I$2:$I$100000,\"26??\",'Accounting Data'!$J$2:$J$100000,{\"689?\",\"6885\"}))","v":0},{"$f":"SUM(SUMIFS('Accounting Data'!$C$2:$C$100000,'Accounting Data'!$H$2:$H$100000,\"7??\",'Accounting Data'!$I$2:$I$100000,\"26??\",'Accounting Data'!$J$2:$J$100000,{\"689?\",\"6885\"}))+SUM(SUMIFS('Accounting Data'!$C$2:$C$100000,'Accounting Data'!$H$2:$H$100000,\"8??\",'Accounting Data'!$I$2:$I$100000,\"26??\",'Accounting Data'!$J$2:$J$100000,{\"689?\",\"6885\"}))+SUM(SUMIFS('Accounting Data'!$C$2:$C$100000,'Accounting Data'!$H$2:$H$100000,\"9??\",'Accounting Data'!$I$2:$I$100000,\"26??\",'Accounting Data'!$J$2:$J$100000,{\"689?\",\"6885\"}))","v":0},{"$f":"SUM(SUMIFS('Accounting Data'!$C$2:$C$100000,'Accounting Data'!$E$2:$E$100000,\"575\",'Accounting Data'!$H$2:$H$100000,\"7??\",'Accounting Data'!$I$2:$I$100000,\"26??\",'Accounting Data'!$J$2:$J$100000,{\"689?\",\"6885\"}))+SUM(SUMIFS('Accounting Data'!$C$2:$C$100000,'Accounting Data'!$E$2:$E$100000,\"575\",'Accounting Data'!$H$2:$H$100000,\"8??\",'Accounting Data'!$I$2:$I$100000,\"26??\",'Accounting Data'!$J$2:$J$100000,{\"689?\",\"6885\"}))+SUM(SUMIFS('Accounting Data'!$C$2:$C$100000,'Accounting Data'!$E$2:$E$100000,\"575\",'Accounting Data'!$H$2:$H$100000,\"9??\",'Accounting Data'!$I$2:$I$100000,\"26??\",'Accounting Data'!$J$2:$J$100000,{\"689?\",\"6885\"}))","v":0},{"$f":"SUM(SUMIFS('Accounting Data'!$C$2:$C$100000,'Accounting Data'!$E$2:$E$100000,\"8??\",'Accounting Data'!$H$2:$H$100000,\"7??\",'Accounting Data'!$I$2:$I$100000,\"26??\",'Accounting Data'!$J$2:$J$100000,{\"689?\",\"6885\"}))+SUM(SUMIFS('Accounting Data'!$C$2:$C$100000,'Accounting Data'!$E$2:$E$100000,\"8??\",'Accounting Data'!$H$2:$H$100000,\"8??\",'Accounting Data'!$I$2:$I$100000,\"26??\",'Accounting Data'!$J$2:$J$100000,{\"689?\",\"6885\"}))+SUM(SUMIFS('Accounting Data'!$C$2:$C$100000,'Accounting Data'!$E$2:$E$100000,\"8??\",'Accounting Data'!$H$2:$H$100000,\"9??\",'Accounting Data'!$I$2:$I$100000,\"26??\",'Accounting Data'!$J$2:$J$100000,{\"689?\",\"6885\"}))","v":0},{"$f":"SUM(SUMIFS('Accounting Data'!$C$2:$C$100000,'Accounting Data'!$E$2:$E$100000,\"9??\",'Accounting Data'!$H$2:$H$100000,\"7??\",'Accounting Data'!$I$2:$I$100000,\"26??\",'Accounting Data'!$J$2:$J$100000,{\"689?\",\"6885\"}))+SUM(SUMIFS('Accounting Data'!$C$2:$C$100000,'Accounting Data'!$E$2:$E$100000,\"9??\",'Accounting Data'!$H$2:$H$100000,\"8??\",'Accounting Data'!$I$2:$I$100000,\"26??\",'Accounting Data'!$J$2:$J$100000,{\"689?\",\"6885\"}))+SUM(SUMIFS('Accounting Data'!$C$2:$C$100000,'Accounting Data'!$E$2:$E$100000,\"9??\",'Accounting Data'!$H$2:$H$100000,\"9??\",'Accounting Data'!$I$2:$I$100000,\"26??\",'Accounting Data'!$J$2:$J$100000,{\"689?\",\"6885\"}))","v":0},null,2600,{"$f":"SUMIFS('Accounting Data'!$C$2:$C$100000,'Accounting Data'!$H$2:$H$100000,\"7??\",'Accounting Data'!$I$2:$I$100000,\"26??\",'Accounting Data'!$J$2:$J$100000,\"6???\")+SUMIFS('Accounting Data'!$C$2:$C$100000,'Accounting Data'!$H$2:$H$100000,\"8??\",'Accounting Data'!$I$2:$I$100000,\"26??\",'Accounting Data'!$J$2:$J$100000,\"6???\")+SUMIFS('Accounting Data'!$C$2:$C$100000,'Accounting Data'!$H$2:$H$100000,\"9??\",'Accounting Data'!$I$2:$I$100000,\"26??\",'Accounting Data'!$J$2:$J$100000,\"6???\")","v":0},{"$f":"SUMIFS('Accounting Data'!$C$2:$C$100000,'Accounting Data'!$H$2:$H$100000,\"7??\",'Accounting Data'!$I$2:$I$100000,\"26??\",'Accounting Data'!$J$2:$J$100000,\"69??\")+SUMIFS('Accounting Data'!$C$2:$C$100000,'Accounting Data'!$H$2:$H$100000,\"8??\",'Accounting Data'!$I$2:$I$100000,\"26??\",'Accounting Data'!$J$2:$J$100000,\"69??\")+SUMIFS('Accounting Data'!$C$2:$C$100000,'Accounting Data'!$H$2:$H$100000,\"9??\",'Accounting Data'!$I$2:$I$100000,\"26??\",'Accounting Data'!$J$2:$J$100000,\"69??\")","v":0},{"$f":"SUMIFS('Accounting Data'!$C$2:$C$100000,'Accounting Data'!$E$2:$E$100000,\"575\",'Accounting Data'!$H$2:$H$100000,\"7??\",'Accounting Data'!$I$2:$I$100000,\"26??\",'Accounting Data'!$J$2:$J$100000,\"6???\")+SUMIFS('Accounting Data'!$C$2:$C$100000,'Accounting Data'!$E$2:$E$100000,\"575\",'Accounting Data'!$H$2:$H$100000,\"8??\",'Accounting Data'!$I$2:$I$100000,\"26??\",'Accounting Data'!$J$2:$J$100000,\"6???\")+SUMIFS('Accounting Data'!$C$2:$C$100000,'Accounting Data'!$E$2:$E$100000,\"575\",'Accounting Data'!$H$2:$H$100000,\"9??\",'Accounting Data'!$I$2:$I$100000,\"26??\",'Accounting Data'!$J$2:$J$100000,\"6???\")","v":0},{"$f":"SUMIFS('Accounting Data'!$C$2:$C$100000,'Accounting Data'!$E$2:$E$100000,\"8??\",'Accounting Data'!$H$2:$H$100000,\"7??\",'Accounting Data'!$I$2:$I$100000,\"26??\",'Accounting Data'!$J$2:$J$100000,\"6???\")+SUMIFS('Accounting Data'!$C$2:$C$100000,'Accounting Data'!$E$2:$E$100000,\"8??\",'Accounting Data'!$H$2:$H$100000,\"8??\",'Accounting Data'!$I$2:$I$100000,\"26??\",'Accounting Data'!$J$2:$J$100000,\"6???\")+SUMIFS('Accounting Data'!$C$2:$C$100000,'Accounting Data'!$E$2:$E$100000,\"8??\",'Accounting Data'!$H$2:$H$100000,\"9??\",'Accounting Data'!$I$2:$I$100000,\"26??\",'Accounting Data'!$J$2:$J$100000,\"6???\")+SUMIFS('Accounting Data'!$C$2:$C$100000,'Accounting Data'!$E$2:$E$100000,\"9??\",'Accounting Data'!$H$2:$H$100000,\"7??\",'Accounting Data'!$I$2:$I$100000,\"26??\",'Accounting Data'!$J$2:$J$100000,\"6???\")+SUMIFS('Accounting Data'!$C$2:$C$100000,'Accounting Data'!$E$2:$E$100000,\"9??\",'Accounting Data'!$H$2:$H$100000,\"8??\",'Accounting Data'!$I$2:$I$100000,\"26??\",'Accounting Data'!$J$2:$J$100000,\"6???\")+SUMIFS('Accounting Data'!$C$2:$C$100000,'Accounting Data'!$E$2:$E$100000,\"9??\",'Accounting Data'!$H$2:$H$100000,\"9??\",'Accounting Data'!$I$2:$I$100000,\"26??\",'Accounting Data'!$J$2:$J$100000,\"6???\")","v":0},{"$f":"SUMIFS('Accounting Data'!$C$2:$C$100000,'Accounting Data'!$E$2:$E$100000,\"575\",'Accounting Data'!$H$2:$H$100000,\"7??\",'Accounting Data'!$I$2:$I$100000,\"26??\",'Accounting Data'!$J$2:$J$100000,\"69??\")+SUMIFS('Accounting Data'!$C$2:$C$100000,'Accounting Data'!$E$2:$E$100000,\"575\",'Accounting Data'!$H$2:$H$100000,\"8??\",'Accounting Data'!$I$2:$I$100000,\"26??\",'Accounting Data'!$J$2:$J$100000,\"69??\")+SUMIFS('Accounting Data'!$C$2:$C$100000,'Accounting Data'!$E$2:$E$100000,\"575\",'Accounting Data'!$H$2:$H$100000,\"9??\",'Accounting Data'!$I$2:$I$100000,\"26??\",'Accounting Data'!$J$2:$J$100000,\"69??\")","v":0},{"$f":"SUMIFS('Accounting Data'!$C$2:$C$100000,'Accounting Data'!$E$2:$E$100000,\"8??\",'Accounting Data'!$H$2:$H$100000,\"7??\",'Accounting Data'!$I$2:$I$100000,\"26??\",'Accounting Data'!$J$2:$J$100000,\"69??\")+SUMIFS('Accounting Data'!$C$2:$C$100000,'Accounting Data'!$E$2:$E$100000,\"8??\",'Accounting Data'!$H$2:$H$100000,\"8??\",'Accounting Data'!$I$2:$I$100000,\"26??\",'Accounting Data'!$J$2:$J$100000,\"69??\")+SUMIFS('Accounting Data'!$C$2:$C$100000,'Accounting Data'!$E$2:$E$100000,\"8??\",'Accounting Data'!$H$2:$H$100000,\"9??\",'Accounting Data'!$I$2:$I$100000,\"26??\",'Accounting Data'!$J$2:$J$100000,\"69??\")+SUMIFS('Accounting Data'!$C$2:$C$100000,'Accounting Data'!$E$2:$E$100000,\"9??\",'Accounting Data'!$H$2:$H$100000,\"7??\",'Accounting Data'!$I$2:$I$100000,\"26??\",'Accounting Data'!$J$2:$J$100000,\"69??\")+SUMIFS('Accounting Data'!$C$2:$C$100000,'Accounting Data'!$E$2:$E$100000,\"9??\",'Accounting Data'!$H$2:$H$100000,\"8??\",'Accounting Data'!$I$2:$I$100000,\"26??\",'Accounting Data'!$J$2:$J$100000,\"69??\")+SUMIFS('Accounting Data'!$C$2:$C$100000,'Accounting Data'!$E$2:$E$100000,\"9??\",'Accounting Data'!$H$2:$H$100000,\"9??\",'Accounting Data'!$I$2:$I$100000,\"26??\",'Accounting Data'!$J$2:$J$100000,\"69??\")","v":0}]
["3000 Operation of Noninstructional Services",null,null,null,null,null,null,null,null,null,null,null,null,null,null,"Impact aid revenues received that were intended to replace local tax revenues",null,null,"6100",{"$f":"SUMIFS('Accounting Data'!$C$2:$C$100000,'Accounting Data'!$E$2:$E$100000,\"378\",'Accounting Data'!$I$2:$I$100000,\"1???\",'Accounting Data'!$J$2:$J$100000,\"61??\")+SUMIFS('Accounting Data'!$C$2:$C$100000,'Accounting Data'!$E$2:$E$100000,\"378\",'Accounting Data'!$I$2:$I$100000,\"2???\",'Accounting Data'!$J$2:$J$100000,\"61??\")+SUMIFS('Accounting Data'!$C$2:$C$100000,'Accounting Data'!$E$2:$E$100000,\"378\",'Accounting Data'!$I$2:$I$100000,\"3???\",'Accounting Data'!$J$2:$J$100000,\"61??\")","v":0},{"$f":"IF($T$28=0,0,T19/$T$28)","v":0},{"$f":"$P$25*U19","v":0},{"$f":"IF($P$25>$T$28,T19,V19)","v":0},null,null,2700,{"$f":"SUMIFS('Accounting Data'!C2:C100000,'Accounting Data'!I2:I100000,\"27??\",'Accounting Data'!J2:J100000,\"61??\")","v":1332575},{"$f":"SUMIFS('Accounting Data'!C2:C100000,'Accounting Data'!E2:E100000,\"575\",'Accounting Data'!I2:I100000,\"27??\",'Accounting Data'!J2:J100000,\"61??\")+SUMIFS('Accounting Data'!C2:C100000,'Accounting Data'!E2:E100000,\"8??\",'Accounting Data'!I2:I100000,\"27??\",'Accounting Data'!J2:J100000,\"61??\")+SUMIFS('Accounting Data'!C2:C100000,'Accounting Data'!E2:E100000,\"9??\",'Accounting Data'!I2:I100000,\"27??\",'Accounting Data'!J2:J100000,\"61??\")","v":0},{"$f":"SUMIFS('Accounting Data'!C2:C100000,'Accounting Data'!H2:H100000,\"7??\",'Accounting Data'!I2:I100000,\"27??\",'Accounting Data'!J2:J100000,\"61??\")+SUMIFS('Accounting Data'!C2:C100000,'Accounting Data'!H2:H100000,\"8??\",'Accounting Data'!I2:I100000,\"27??\",'Accounting Data'!J2:J100000,\"61??\")+SUMIFS('Accounting Data'!C2:C100000,'Accounting Data'!H2:H100000,\"9??\",'Accounting Data'!I2:I100000,\"27??\",'Accounting Data'!J2:J100000,\"61??\")","v":0},{"$f":"SUMIFS('Accounting Data'!C2:C100000,'Accounting Data'!E2:E100000,\"575\",'Accounting Data'!H2:H100000,\"7??\",'Accounting Data'!I2:I100000,\"27??\",'Accounting Data'!J2:J100000,\"61??\")+SUMIFS('Accounting Data'!C2:C100000,'Accounting Data'!E2:E100000,\"575\",'Accounting Data'!H2:H100000,\"8??\",'Accounting Data'!I2:I100000,\"27??\",'Accounting Data'!J2:J100000,\"61??\")+SUMIFS('Accounting Data'!C2:C100000,'Accounting Data'!E2:E100000,\"575\",'Accounting Data'!H2:H100000,\"9??\",'Accounting Data'!I2:I100000,\"27??\",'Accounting Data'!J2:J100000,\"61??\")","v":0},{"$f":"SUMIFS('Accounting Data'!C2:C100000,'Accounting Data'!E2:E100000,\"8??\",'Accounting Data'!H2:H100000,\"7??\",'Accounting Data'!I2:I100000,\"27??\",'Accounting Data'!J2:J100000,\"61??\")+SUMIFS('Accounting Data'!C2:C100000,'Accounting Data'!E2:E100000,\"8??\",'Accounting Data'!H2:H100000,\"8??\",'Accounting Data'!I2:I100000,\"27??\",'Accounting Data'!J2:J100000,\"61??\")+SUMIFS('Accounting Data'!C2:C100000,'Accounting Data'!E2:E100000,\"8??\",'Accounting Data'!H2:H100000,\"9??\",'Accounting Data'!I2:I100000,\"27??\",'Accounting Data'!J2:J100000,\"61??\")","v":0},{"$f":"SUMIFS('Accounting Data'!C2:C100000,'Accounting Data'!E2:E100000,\"9??\",'Accounting Data'!H2:H100000,\"7??\",'Accounting Data'!I2:I100000,\"27??\",'Accounting Data'!J2:J100000,\"61??\")+SUMIFS('Accounting Data'!C2:C100000,'Accounting Data'!E2:E100000,\"9??\",'Accounting Data'!H2:H100000,\"8??\",'Accounting Data'!I2:I100000,\"27??\",'Accounting Data'!J2:J100000,\"61??\")+SUMIFS('Accounting Data'!C2:C100000,'Accounting Data'!E2:E100000,\"9??\",'Accounting Data'!H2:H100000,\"9??\",'Accounting Data'!I2:I100000,\"27??\",'Accounting Data'!J2:J100000,\"61??\")","v":0},null,2700,{"$f":"SUMIFS('Accounting Data'!C2:C100000,'Accounting Data'!I2:I100000,\"27??\",'Accounting Data'!J2:J100000,\"62??\")","v":475084},{"$f":"SUMIFS('Accounting Data'!C2:C100000,'Accounting Data'!E2:E100000,\"575\",'Accounting Data'!I2:I100000,\"27??\",'Accounting Data'!J2:J100000,\"62??\")+SUMIFS('Accounting Data'!C2:C100000,'Accounting Data'!E2:E100000,\"8??\",'Accounting Data'!I2:I100000,\"27??\",'Accounting Data'!J2:J100000,\"62??\")+SUMIFS('Accounting Data'!C2:C100000,'Accounting Data'!E2:E100000,\"9??\",'Accounting Data'!I2:I100000,\"27??\",'Accounting Data'!J2:J100000,\"62??\")","v":0},{"$f":"SUMIFS('Accounting Data'!C2:C100000,'Accounting Data'!H2:H100000,\"7??\",'Accounting Data'!I2:I100000,\"27??\",'Accounting Data'!J2:J100000,\"62??\")+SUMIFS('Accounting Data'!C2:C100000,'Accounting Data'!H2:H100000,\"8??\",'Accounting Data'!I2:I100000,\"27??\",'Accounting Data'!J2:J100000,\"62??\")+SUMIFS('Accounting Data'!C2:C100000,'Accounting Data'!H2:H100000,\"9??\",'Accounting Data'!I2:I100000,\"27??\",'Accounting Data'!J2:J100000,\"62??\")","v":0},{"$f":"SUMIFS('Accounting Data'!C2:C100000,'Accounting Data'!E2:E100000,\"575\",'Accounting Data'!H2:H100000,\"7??\",'Accounting Data'!I2:I100000,\"27??\",'Accounting Data'!J2:J100000,\"62??\")+SUMIFS('Accounting Data'!C2:C100000,'Accounting Data'!E2:E100000,\"575\",'Accounting Data'!H2:H100000,\"8??\",'Accounting Data'!I2:I100000,\"27??\",'Accounting Data'!J2:J100000,\"62??\")+SUMIFS('Accounting Data'!C2:C100000,'Accounting Data'!E2:E100000,\"575\",'Accounting Data'!H2:H100000,\"9??\",'Accounting Data'!I2:I100000,\"27??\",'Accounting Data'!J2:J100000,\"62??\")","v":0},{"$f":"SUMIFS('Accounting Data'!C2:C100000,'Accounting Data'!E2:E100000,\"8??\",'Accounting Data'!H2:H100000,\"7??\",'Accounting Data'!I2:I100000,\"27??\",'Accounting Data'!J2:J100000,\"62??\")+SUMIFS('Accounting Data'!C2:C100000,'Accounting Data'!E2:E100000,\"8??\",'Accounting Data'!H2:H100000,\"8??\",'Accounting Data'!I2:I100000,\"27??\",'Accounting Data'!J2:J100000,\"62??\")+SUMIFS('Accounting Data'!C2:C100000,'Accounting Data'!E2:E100000,\"8??\",'Accounting Data'!H2:H100000,\"9??\",'Accounting Data'!I2:I100000,\"27??\",'Accounting Data'!J2:J100000,\"62??\")","v":0},{"$f":"SUMIFS('Accounting Data'!C2:C100000,'Accounting Data'!E2:E100000,\"9??\",'Accounting Data'!H2:H100000,\"7??\",'Accounting Data'!I2:I100000,\"27??\",'Accounting Data'!J2:J100000,\"62??\")+SUMIFS('Accounting Data'!C2:C100000,'Accounting Data'!E2:E100000,\"9??\",'Accounting Data'!H2:H100000,\"8??\",'Accounting Data'!I2:I100000,\"27??\",'Accounting Data'!J2:J100000,\"62??\")+SUMIFS('Accounting Data'!C2:C100000,'Accounting Data'!E2:E100000,\"9??\",'Accounting Data'!H2:H100000,\"9??\",'Accounting Data'!I2:I100000,\"27??\",'Accounting Data'!J2:J100000,\"62??\")","v":0},null,2700,{"$f":"SUMIFS('Accounting Data'!C2:C100000,'Accounting Data'!I2:I100000,\"27??\",'Accounting Data'!J2:J100000,\"63??\")+SUMIFS('Accounting Data'!C2:C100000,'Accounting Data'!I2:I100000,\"27??\",'Accounting Data'!J2:J100000,\"64??\")+SUMIFS('Accounting Data'!C2:C100000,'Accounting Data'!I2:I100000,\"27??\",'Accounting Data'!J2:J100000,\"65??\")","v":379144},{"$f":"SUMIFS('Accounting Data'!C2:C100000,'Accounting Data'!E2:E100000,\"575\",'Accounting Data'!I2:I100000,\"27??\",'Accounting Data'!J2:J100000,\"63??\")+SUMIFS('Accounting Data'!C2:C100000,'Accounting Data'!E2:E100000,\"8??\",'Accounting Data'!I2:I100000,\"27??\",'Accounting Data'!J2:J100000,\"63??\")+SUMIFS('Accounting Data'!C2:C100000,'Accounting Data'!E2:E100000,\"9??\",'Accounting Data'!I2:I100000,\"27??\",'Accounting Data'!J2:J100000,\"63??\")","v":0},{"$f":"SUMIFS('Accounting Data'!C2:C100000,'Accounting Data'!E2:E100000,\"575\",'Accounting Data'!I2:I100000,\"27??\",'Accounting Data'!J2:J100000,\"64??\")+SUMIFS('Accounting Data'!C2:C100000,'Accounting Data'!E2:E100000,\"8??\",'Accounting Data'!I2:I100000,\"27??\",'Accounting Data'!J2:J100000,\"64??\")+SUMIFS('Accounting Data'!C2:C100000,'Accounting Data'!E2:E100000,\"9??\",'Accounting Data'!I2:I100000,\"27??\",'Accounting Data'!J2:J100000,\"64??\")","v":0},{"$f":"SUMIFS('Accounting Data'!C2:C100000,'Accounting Data'!E2:E100000,\"575\",'Accounting Data'!I2:I100000,\"27??\",'Accounting Data'!J2:J100000,\"65??\")+SUMIFS('Accounting Data'!C2:C100000,'Accounting Data'!E2:E100000,\"8??\",'Accounting Data'!I2:I100000,\"27??\",'Accounting Data'!J2:J100000,\"65??\")+SUMIFS('Accounting Data'!C2:C100000,'Accounting Data'!E2:E100000,\"9??\",'Accounting Data'!I2:I100000,\"27??\",'Accounting Data'!J2:J100000,\"65??\")","v":0},{"$f":"SUMIFS('Accounting Data'!C2:C100000,'Accounting Data'!H2:H100000,\"7??\",'Accounting Data'!I2:I100000,\"27??\",'Accounting Data'!J2:J100000,\"63??\")+SUMIFS('Accounting Data'!C2:C100000,'Accounting Data'!H2:H100000,\"8??\",'Accounting Data'!I2:I100000,\"27??\",'Accounting Data'!J2:J100000,\"63??\")+SUMIFS('Accounting Data'!C2:C100000,'Accounting Data'!H2:H100000,\"9??\",'Accounting Data'!I2:I100000,\"27??\",'Accounting Data'!J2:J100000,\"63??\")+SUMIFS('Accounting Data'!C2:C100000,'Accounting Data'!H2:H100000,\"7??\",'Accounting Data'!I2:I100000,\"27??\",'Accounting Data'!J2:J100000,\"64??\")+SUMIFS('Accounting Data'!C2:C100000,'Accounting Data'!H2:H100000,\"8??\",'Accounting Data'!I2:I100000,\"27??\",'Accounting Data'!J2:J100000,\"64??\")+SUMIFS('Accounting Data'!C2:C100000,'Accounting Data'!H2:H100000,\"9??\",'Accounting Data'!I2:I100000,\"27??\",'Accounting Data'!J2:J100000,\"64??\")+SUMIFS('Accounting Data'!C2:C100000,'Accounting Data'!H2:H100000,\"7??\",'Accounting Data'!I2:I100000,\"27??\",'Accounting Data'!J2:J100000,\"65??\")+SUMIFS('Accounting Data'!C2:C100000,'Accounting Data'!H2:H100000,\"8??\",'Accounting Data'!I2:I100000,\"27??\",'Accounting Data'!J2:J100000,\"65??\")+SUMIFS('Accounting Data'!C2:C100000,'Accounting Data'!H2:H100000,\"9??\",'Accounting Data'!I2:I100000,\"27??\",'Accounting Data'!J2:J100000,\"65??\")","v":0},{"$f":"SUMIFS('Accounting Data'!C2:C100000,'Accounting Data'!E2:E100000,\"575\",'Accounting Data'!H2:H100000,\"7??\",'Accounting Data'!I2:I100000,\"27??\",'Accounting Data'!J2:J100000,\"63??\")+SUMIFS('Accounting Data'!C2:C100000,'Accounting Data'!E2:E100000,\"575\",'Accounting Data'!H2:H100000,\"8??\",'Accounting Data'!I2:I100000,\"27??\",'Accounting Data'!J2:J100000,\"63??\")+SUMIFS('Accounting Data'!C2:C100000,'Accounting Data'!E2:E100000,\"575\",'Accounting Data'!H2:H100000,\"9??\",'Accounting Data'!I2:I100000,\"27??\",'Accounting Data'!J2:J100000,\"63??\")","v":0},{"$f":"SUMIFS('Accounting Data'!C2:C100000,'Accounting Data'!E2:E100000,\"575\",'Accounting Data'!H2:H100000,\"7??\",'Accounting Data'!I2:I100000,\"27??\",'Accounting Data'!J2:J100000,\"64??\")+SUMIFS('Accounting Data'!C2:C100000,'Accounting Data'!E2:E100000,\"575\",'Accounting Data'!H2:H100000,\"8??\",'Accounting Data'!I2:I100000,\"27??\",'Accounting Data'!J2:J100000,\"64??\")+SUMIFS('Accounting Data'!C2:C100000,'Accounting Data'!E2:E100000,\"575\",'Accounting Data'!H2:H100000,\"9??\",'Accounting Data'!I2:I100000,\"27??\",'Accounting Data'!J2:J100000,\"64??\")","v":0},{"$f":"SUMIFS('Accounting Data'!C2:C100000,'Accounting Data'!E2:E100000,\"575\",'Accounting Data'!H2:H100000,\"7??\",'Accounting Data'!I2:I100000,\"27??\",'Accounting Data'!J2:J100000,\"65??\")+SUMIFS('Accounting Data'!C2:C100000,'Accounting Data'!E2:E100000,\"575\",'Accounting Data'!H2:H100000,\"8??\",'Accounting Data'!I2:I100000,\"27??\",'Accounting Data'!J2:J100000,\"65??\")+SUMIFS('Accounting Data'!C2:C100000,'Accounting Data'!E2:E100000,\"575\",'Accounting Data'!H2:H100000,\"9??\",'Accounting Data'!I2:I100000,\"27??\",'Accounting Data'!J2:J100000,\"65??\")","v":0},{"$f":"SUMIFS('Accounting Data'!C2:C100000,'Accounting Data'!E2:E100000,\"8??\",'Accounting Data'!H2:H100000,\"7??\",'Accounting Data'!I2:I100000,\"27??\",'Accounting Data'!J2:J100000,\"63??\")+SUMIFS('Accounting Data'!C2:C100000,'Accounting Data'!E2:E100000,\"8??\",'Accounting Data'!H2:H100000,\"8??\",'Accounting Data'!I2:I100000,\"27??\",'Accounting Data'!J2:J100000,\"63??\")+SUMIFS('Accounting Data'!C2:C100000,'Accounting Data'!E2:E100000,\"8??\",'Accounting Data'!H2:H100000,\"9??\",'Accounting Data'!I2:I100000,\"27??\",'Accounting Data'!J2:J100000,\"63??\")","v":0},{"$f":"SUMIFS('Accounting Data'!C2:C100000,'Accounting Data'!E2:E100000,\"8??\",'Accounting Data'!H2:H100000,\"7??\",'Accounting Data'!I2:I100000,\"27??\",'Accounting Data'!J2:J100000,\"64??\")+SUMIFS('Accounting Data'!C2:C100000,'Accounting Data'!E2:E100000,\"8??\",'Accounting Data'!H2:H100000,\"8??\",'Accounting Data'!I2:I100000,\"27??\",'Accounting Data'!J2:J100000,\"64??\")+SUMIFS('Accounting Data'!C2:C100000,'Accounting Data'!E2:E100000,\"8??\",'Accounting Data'!H2:H100000,\"9??\",'Accounting Data'!I2:I100000,\"27??\",'Accounting Data'!J2:J100000,\"64??\")","v":0},{"$f":"SUMIFS('Accounting Data'!C2:C100000,'Accounting Data'!E2:E100000,\"8??\",'Accounting Data'!H2:H100000,\"7??\",'Accounting Data'!I2:I100000,\"27??\",'Accounting Data'!J2:J100000,\"65??\")+SUMIFS('Accounting Data'!C2:C100000,'Accounting Data'!E2:E100000,\"8??\",'Accounting Data'!H2:H100000,\"8??\",'Accounting Data'!I2:I100000,\"27??\",'Accounting Data'!J2:J100000,\"65??\")+SUMIFS('Accounting Data'!C2:C100000,'Accounting Data'!E2:E100000,\"8??\",'Accounting Data'!H2:H100000,\"9??\",'Accounting Data'!I2:I100000,\"27??\",'Accounting Data'!J2:J100000,\"65??\")","v":0},{"$f":"SUMIFS('Accounting Data'!C2:C100000,'Accounting Data'!E2:E100000,\"9??\",'Accounting Data'!H2:H100000,\"7??\",'Accounting Data'!I2:I100000,\"27??\",'Accounting Data'!J2:J100000,\"63??\")+SUMIFS('Accounting Data'!C2:C100000,'Accounting Data'!E2:E100000,\"9??\",'Accounting Data'!H2:H100000,\"8??\",'Accounting Data'!I2:I100000,\"27??\",'Accounting Data'!J2:J100000,\"63??\")+SUMIFS('Accounting Data'!C2:C100000,'Accounting Data'!E2:E100000,\"9??\",'Accounting Data'!H2:H100000,\"9??\",'Accounting Data'!I2:I100000,\"27??\",'Accounting Data'!J2:J100000,\"63??\")","v":0},{"$f":"SUMIFS('Accounting Data'!C2:C100000,'Accounting Data'!E2:E100000,\"9??\",'Accounting Data'!H2:H100000,\"7??\",'Accounting Data'!I2:I100000,\"27??\",'Accounting Data'!J2:J100000,\"64??\")+SUMIFS('Accounting Data'!C2:C100000,'Accounting Data'!E2:E100000,\"9??\",'Accounting Data'!H2:H100000,\"8??\",'Accounting Data'!I2:I100000,\"27??\",'Accounting Data'!J2:J100000,\"64??\")+SUMIFS('Accounting Data'!C2:C100000,'Accounting Data'!E2:E100000,\"9??\",'Accounting Data'!H2:H100000,\"9??\",'Accounting Data'!I2:I100000,\"27??\",'Accounting Data'!J2:J100000,\"64??\")","v":0},{"$f":"SUMIFS('Accounting Data'!C2:C100000,'Accounting Data'!E2:E100000,\"9??\",'Accounting Data'!H2:H100000,\"7??\",'Accounting Data'!I2:I100000,\"27??\",'Accounting Data'!J2:J100000,\"65??\")+SUMIFS('Accounting Data'!C2:C100000,'Accounting Data'!E2:E100000,\"9??\",'Accounting Data'!H2:H100000,\"8??\",'Accounting Data'!I2:I100000,\"27??\",'Accounting Data'!J2:J100000,\"65??\")+SUMIFS('Accounting Data'!C2:C100000,'Accounting Data'!E2:E100000,\"9??\",'Accounting Data'!H2:H100000,\"9??\",'Accounting Data'!I2:I100000,\"27??\",'Accounting Data'!J2:J100000,\"65??\")","v":0},null,2700,{"$f":"SUMIFS('Accounting Data'!C2:C100000,'Accounting Data'!I2:I100000,\"27??\",'Accounting Data'!J2:J100000,\"66??\")","v":526042},{"$f":"SUMIFS('Accounting Data'!$C$2:$C$100000,'Accounting Data'!$E$2:$E$100000,\"575\",'Accounting Data'!$I$2:$I$100000,\"27??\",'Accounting Data'!$J$2:$J$100000,\"66??\")+SUMIFS('Accounting Data'!$C$2:$C$100000,'Accounting Data'!$E$2:$E$100000,\"8??\",'Accounting Data'!$I$2:$I$100000,\"27??\",'Accounting Data'!$J$2:$J$100000,\"66??\")+SUMIFS('Accounting Data'!$C$2:$C$100000,'Accounting Data'!$E$2:$E$100000,\"9??\",'Accounting Data'!$I$2:$I$100000,\"27??\",'Accounting Data'!$J$2:$J$100000,\"66??\")","v":0},{"$f":"SUMIFS('Accounting Data'!$C$2:$C$100000,'Accounting Data'!$H$2:$H$100000,\"7??\",'Accounting Data'!$I$2:$I$100000,\"27??\",'Accounting Data'!$J$2:$J$100000,\"66??\")+SUMIFS('Accounting Data'!$C$2:$C$100000,'Accounting Data'!$H$2:$H$100000,\"8??\",'Accounting Data'!$I$2:$I$100000,\"27??\",'Accounting Data'!$J$2:$J$100000,\"66??\")+SUMIFS('Accounting Data'!$C$2:$C$100000,'Accounting Data'!$H$2:$H$100000,\"9??\",'Accounting Data'!$I$2:$I$100000,\"27??\",'Accounting Data'!$J$2:$J$100000,\"66??\")","v":0},{"$f":"SUMIFS('Accounting Data'!$C$2:$C$100000,'Accounting Data'!$E$2:$E$100000,\"575\",'Accounting Data'!$H$2:$H$100000,\"7??\",'Accounting Data'!$I$2:$I$100000,\"27??\",'Accounting Data'!$J$2:$J$100000,\"66??\")+SUMIFS('Accounting Data'!$C$2:$C$100000,'Accounting Data'!$E$2:$E$100000,\"575\",'Accounting Data'!$H$2:$H$100000,\"8??\",'Accounting Data'!$I$2:$I$100000,\"27??\",'Accounting Data'!$J$2:$J$100000,\"66??\")+SUMIFS('Accounting Data'!$C$2:$C$100000,'Accounting Data'!$E$2:$E$100000,\"575\",'Accounting Data'!$H$2:$H$100000,\"9??\",'Accounting Data'!$I$2:$I$100000,\"27??\",'Accounting Data'!$J$2:$J$100000,\"66??\")","v":0},{"$f":"SUMIFS('Accounting Data'!$C$2:$C$100000,'Accounting Data'!$E$2:$E$100000,\"8??\",'Accounting Data'!$H$2:$H$100000,\"7??\",'Accounting Data'!$I$2:$I$100000,\"27??\",'Accounting Data'!$J$2:$J$100000,\"66??\")+SUMIFS('Accounting Data'!$C$2:$C$100000,'Accounting Data'!$E$2:$E$100000,\"8??\",'Accounting Data'!$H$2:$H$100000,\"8??\",'Accounting Data'!$I$2:$I$100000,\"27??\",'Accounting Data'!$J$2:$J$100000,\"66??\")+SUMIFS('Accounting Data'!$C$2:$C$100000,'Accounting Data'!$E$2:$E$100000,\"8??\",'Accounting Data'!$H$2:$H$100000,\"9??\",'Accounting Data'!$I$2:$I$100000,\"27??\",'Accounting Data'!$J$2:$J$100000,\"66??\")","v":0},{"$f":"SUMIFS('Accounting Data'!$C$2:$C$100000,'Accounting Data'!$E$2:$E$100000,\"9??\",'Accounting Data'!$H$2:$H$100000,\"7??\",'Accounting Data'!$I$2:$I$100000,\"27??\",'Accounting Data'!$J$2:$J$100000,\"66??\")+SUMIFS('Accounting Data'!$C$2:$C$100000,'Accounting Data'!$E$2:$E$100000,\"9??\",'Accounting Data'!$H$2:$H$100000,\"8??\",'Accounting Data'!$I$2:$I$100000,\"27??\",'Accounting Data'!$J$2:$J$100000,\"66??\")+SUMIFS('Accounting Data'!$C$2:$C$100000,'Accounting Data'!$E$2:$E$100000,\"9??\",'Accounting Data'!$H$2:$H$100000,\"9??\",'Accounting Data'!$I$2:$I$100000,\"27??\",'Accounting Data'!$J$2:$J$100000,\"66??\")","v":0},null,2700,{"$f":"SUMIFS('Accounting Data'!C2:C100000,'Accounting Data'!I2:I100000,\"27??\",'Accounting Data'!J2:J100000,\"67??\")","v":635761},{"$f":"SUMIFS('Accounting Data'!$C$2:$C$100000,'Accounting Data'!$E$2:$E$100000,\"575\",'Accounting Data'!$I$2:$I$100000,\"27??\",'Accounting Data'!$J$2:$J$100000,\"67??\")+SUMIFS('Accounting Data'!$C$2:$C$100000,'Accounting Data'!$E$2:$E$100000,\"8??\",'Accounting Data'!$I$2:$I$100000,\"27??\",'Accounting Data'!$J$2:$J$100000,\"67??\")+SUMIFS('Accounting Data'!$C$2:$C$100000,'Accounting Data'!$E$2:$E$100000,\"9??\",'Accounting Data'!$I$2:$I$100000,\"27??\",'Accounting Data'!$J$2:$J$100000,\"67??\")","v":0},{"$f":"SUMIFS('Accounting Data'!$C$2:$C$100000,'Accounting Data'!$H$2:$H$100000,\"7??\",'Accounting Data'!$I$2:$I$100000,\"27??\",'Accounting Data'!$J$2:$J$100000,\"67??\")+SUMIFS('Accounting Data'!$C$2:$C$100000,'Accounting Data'!$H$2:$H$100000,\"8??\",'Accounting Data'!$I$2:$I$100000,\"27??\",'Accounting Data'!$J$2:$J$100000,\"67??\")+SUMIFS('Accounting Data'!$C$2:$C$100000,'Accounting Data'!$H$2:$H$100000,\"9??\",'Accounting Data'!$I$2:$I$100000,\"27??\",'Accounting Data'!$J$2:$J$100000,\"67??\")","v":0},{"$f":"SUMIFS('Accounting Data'!$C$2:$C$100000,'Accounting Data'!$E$2:$E$100000,\"575\",'Accounting Data'!$H$2:$H$100000,\"7??\",'Accounting Data'!$I$2:$I$100000,\"27??\",'Accounting Data'!$J$2:$J$100000,\"67??\")+SUMIFS('Accounting Data'!$C$2:$C$100000,'Accounting Data'!$E$2:$E$100000,\"575\",'Accounting Data'!$H$2:$H$100000,\"8??\",'Accounting Data'!$I$2:$I$100000,\"27??\",'Accounting Data'!$J$2:$J$100000,\"67??\")+SUMIFS('Accounting Data'!$C$2:$C$100000,'Accounting Data'!$E$2:$E$100000,\"575\",'Accounting Data'!$H$2:$H$100000,\"9??\",'Accounting Data'!$I$2:$I$100000,\"27??\",'Accounting Data'!$J$2:$J$100000,\"67??\")","v":0},{"$f":"SUMIFS('Accounting Data'!$C$2:$C$100000,'Accounting Data'!$E$2:$E$100000,\"8??\",'Accounting Data'!$H$2:$H$100000,\"7??\",'Accounting Data'!$I$2:$I$100000,\"27??\",'Accounting Data'!$J$2:$J$100000,\"67??\")+SUMIFS('Accounting Data'!$C$2:$C$100000,'Accounting Data'!$E$2:$E$100000,\"8??\",'Accounting Data'!$H$2:$H$100000,\"8??\",'Accounting Data'!$I$2:$I$100000,\"27??\",'Accounting Data'!$J$2:$J$100000,\"67??\")+SUMIFS('Accounting Data'!$C$2:$C$100000,'Accounting Data'!$E$2:$E$100000,\"8??\",'Accounting Data'!$H$2:$H$100000,\"9??\",'Accounting Data'!$I$2:$I$100000,\"27??\",'Accounting Data'!$J$2:$J$100000,\"67??\")","v":0},{"$f":"SUMIFS('Accounting Data'!$C$2:$C$100000,'Accounting Data'!$E$2:$E$100000,\"9??\",'Accounting Data'!$H$2:$H$100000,\"7??\",'Accounting Data'!$I$2:$I$100000,\"27??\",'Accounting Data'!$J$2:$J$100000,\"67??\")+SUMIFS('Accounting Data'!$C$2:$C$100000,'Accounting Data'!$E$2:$E$100000,\"9??\",'Accounting Data'!$H$2:$H$100000,\"8??\",'Accounting Data'!$I$2:$I$100000,\"27??\",'Accounting Data'!$J$2:$J$100000,\"67??\")+SUMIFS('Accounting Data'!$C$2:$C$100000,'Accounting Data'!$E$2:$E$100000,\"9??\",'Accounting Data'!$H$2:$H$100000,\"9??\",'Accounting Data'!$I$2:$I$100000,\"27??\",'Accounting Data'!$J$2:$J$100000,\"67??\")","v":0},null,2700,{"$f":"SUMIFS('Accounting Data'!C2:C100000,'Accounting Data'!I2:I100000,\"27??\",'Accounting Data'!J2:J100000,\"681?\")","v":200},{"$f":"SUMIFS('Accounting Data'!$C$2:$C$100000,'Accounting Data'!$E$2:$E$100000,\"575\",'Accounting Data'!$I$2:$I$100000,\"27??\",'Accounting Data'!$J$2:$J$100000,\"681?\")+SUMIFS('Accounting Data'!$C$2:$C$100000,'Accounting Data'!$E$2:$E$100000,\"8??\",'Accounting Data'!$I$2:$I$100000,\"27??\",'Accounting Data'!$J$2:$J$100000,\"681?\")+SUMIFS('Accounting Data'!$C$2:$C$100000,'Accounting Data'!$E$2:$E$100000,\"9??\",'Accounting Data'!$I$2:$I$100000,\"27??\",'Accounting Data'!$J$2:$J$100000,\"681?\")","v":0},{"$f":"SUMIFS('Accounting Data'!$C$2:$C$100000,'Accounting Data'!$H$2:$H$100000,\"7??\",'Accounting Data'!$I$2:$I$100000,\"27??\",'Accounting Data'!$J$2:$J$100000,\"681?\")+SUMIFS('Accounting Data'!$C$2:$C$100000,'Accounting Data'!$H$2:$H$100000,\"8??\",'Accounting Data'!$I$2:$I$100000,\"27??\",'Accounting Data'!$J$2:$J$100000,\"681?\")+SUMIFS('Accounting Data'!$C$2:$C$100000,'Accounting Data'!$H$2:$H$100000,\"9??\",'Accounting Data'!$I$2:$I$100000,\"27??\",'Accounting Data'!$J$2:$J$100000,\"681?\")","v":0},{"$f":"SUMIFS('Accounting Data'!$C$2:$C$100000,'Accounting Data'!$E$2:$E$100000,\"575\",'Accounting Data'!$H$2:$H$100000,\"7??\",'Accounting Data'!$I$2:$I$100000,\"27??\",'Accounting Data'!$J$2:$J$100000,\"681?\")+SUMIFS('Accounting Data'!$C$2:$C$100000,'Accounting Data'!$E$2:$E$100000,\"575\",'Accounting Data'!$H$2:$H$100000,\"8??\",'Accounting Data'!$I$2:$I$100000,\"27??\",'Accounting Data'!$J$2:$J$100000,\"681?\")+SUMIFS('Accounting Data'!$C$2:$C$100000,'Accounting Data'!$E$2:$E$100000,\"575\",'Accounting Data'!$H$2:$H$100000,\"9??\",'Accounting Data'!$I$2:$I$100000,\"27??\",'Accounting Data'!$J$2:$J$100000,\"681?\")","v":0},{"$f":"SUMIFS('Accounting Data'!$C$2:$C$100000,'Accounting Data'!$E$2:$E$100000,\"8??\",'Accounting Data'!$H$2:$H$100000,\"7??\",'Accounting Data'!$I$2:$I$100000,\"27??\",'Accounting Data'!$J$2:$J$100000,\"681?\")+SUMIFS('Accounting Data'!$C$2:$C$100000,'Accounting Data'!$E$2:$E$100000,\"8??\",'Accounting Data'!$H$2:$H$100000,\"8??\",'Accounting Data'!$I$2:$I$100000,\"27??\",'Accounting Data'!$J$2:$J$100000,\"681?\")+SUMIFS('Accounting Data'!$C$2:$C$100000,'Accounting Data'!$E$2:$E$100000,\"8??\",'Accounting Data'!$H$2:$H$100000,\"9??\",'Accounting Data'!$I$2:$I$100000,\"27??\",'Accounting Data'!$J$2:$J$100000,\"681?\")","v":0},{"$f":"SUMIFS('Accounting Data'!$C$2:$C$100000,'Accounting Data'!$E$2:$E$100000,\"9??\",'Accounting Data'!$H$2:$H$100000,\"7??\",'Accounting Data'!$I$2:$I$100000,\"27??\",'Accounting Data'!$J$2:$J$100000,\"681?\")+SUMIFS('Accounting Data'!$C$2:$C$100000,'Accounting Data'!$E$2:$E$100000,\"9??\",'Accounting Data'!$H$2:$H$100000,\"8??\",'Accounting Data'!$I$2:$I$100000,\"27??\",'Accounting Data'!$J$2:$J$100000,\"681?\")+SUMIFS('Accounting Data'!$C$2:$C$100000,'Accounting Data'!$E$2:$E$100000,\"9??\",'Accounting Data'!$H$2:$H$100000,\"9??\",'Accounting Data'!$I$2:$I$100000,\"27??\",'Accounting Data'!$J$2:$J$100000,\"681?\")","v":0},null,null,null,null,null,null,null,null,null,null,null,null,null,null,null,null,null,2700,{"$f":"SUM(SUMIFS('Accounting Data'!C2:C100000,'Accounting Data'!I2:I100000,\"27??\",'Accounting Data'!J2:J100000,{\"689?\",\"6885\"}))","v":0},{"$f":"SUM(SUMIFS('Accounting Data'!$C$2:$C$100000,'Accounting Data'!$E$2:$E$100000,\"575\",'Accounting Data'!$I$2:$I$100000,\"27??\",'Accounting Data'!$J$2:$J$100000,{\"689?\",\"6885\"}))+SUM(SUMIFS('Accounting Data'!$C$2:$C$100000,'Accounting Data'!$E$2:$E$100000,\"8??\",'Accounting Data'!$I$2:$I$100000,\"27??\",'Accounting Data'!$J$2:$J$100000,{\"689?\",\"6885\"}))+SUM(SUMIFS('Accounting Data'!$C$2:$C$100000,'Accounting Data'!$E$2:$E$100000,\"9??\",'Accounting Data'!$I$2:$I$100000,\"27??\",'Accounting Data'!$J$2:$J$100000,{\"689?\",\"6885\"}))","v":0},{"$f":"SUM(SUMIFS('Accounting Data'!$C$2:$C$100000,'Accounting Data'!$H$2:$H$100000,\"7??\",'Accounting Data'!$I$2:$I$100000,\"27??\",'Accounting Data'!$J$2:$J$100000,{\"689?\",\"6885\"}))+SUM(SUMIFS('Accounting Data'!$C$2:$C$100000,'Accounting Data'!$H$2:$H$100000,\"8??\",'Accounting Data'!$I$2:$I$100000,\"27??\",'Accounting Data'!$J$2:$J$100000,{\"689?\",\"6885\"}))+SUM(SUMIFS('Accounting Data'!$C$2:$C$100000,'Accounting Data'!$H$2:$H$100000,\"9??\",'Accounting Data'!$I$2:$I$100000,\"27??\",'Accounting Data'!$J$2:$J$100000,{\"689?\",\"6885\"}))","v":0},{"$f":"SUM(SUMIFS('Accounting Data'!$C$2:$C$100000,'Accounting Data'!$E$2:$E$100000,\"575\",'Accounting Data'!$H$2:$H$100000,\"7??\",'Accounting Data'!$I$2:$I$100000,\"27??\",'Accounting Data'!$J$2:$J$100000,{\"689?\",\"6885\"}))+SUM(SUMIFS('Accounting Data'!$C$2:$C$100000,'Accounting Data'!$E$2:$E$100000,\"575\",'Accounting Data'!$H$2:$H$100000,\"8??\",'Accounting Data'!$I$2:$I$100000,\"27??\",'Accounting Data'!$J$2:$J$100000,{\"689?\",\"6885\"}))+SUM(SUMIFS('Accounting Data'!$C$2:$C$100000,'Accounting Data'!$E$2:$E$100000,\"575\",'Accounting Data'!$H$2:$H$100000,\"9??\",'Accounting Data'!$I$2:$I$100000,\"27??\",'Accounting Data'!$J$2:$J$100000,{\"689?\",\"6885\"}))","v":0},{"$f":"SUM(SUMIFS('Accounting Data'!$C$2:$C$100000,'Accounting Data'!$E$2:$E$100000,\"8??\",'Accounting Data'!$H$2:$H$100000,\"7??\",'Accounting Data'!$I$2:$I$100000,\"27??\",'Accounting Data'!$J$2:$J$100000,{\"689?\",\"6885\"}))+SUM(SUMIFS('Accounting Data'!$C$2:$C$100000,'Accounting Data'!$E$2:$E$100000,\"8??\",'Accounting Data'!$H$2:$H$100000,\"8??\",'Accounting Data'!$I$2:$I$100000,\"27??\",'Accounting Data'!$J$2:$J$100000,{\"689?\",\"6885\"}))+SUM(SUMIFS('Accounting Data'!$C$2:$C$100000,'Accounting Data'!$E$2:$E$100000,\"8??\",'Accounting Data'!$H$2:$H$100000,\"9??\",'Accounting Data'!$I$2:$I$100000,\"27??\",'Accounting Data'!$J$2:$J$100000,{\"689?\",\"6885\"}))","v":0},{"$f":"SUM(SUMIFS('Accounting Data'!$C$2:$C$100000,'Accounting Data'!$E$2:$E$100000,\"9??\",'Accounting Data'!$H$2:$H$100000,\"7??\",'Accounting Data'!$I$2:$I$100000,\"27??\",'Accounting Data'!$J$2:$J$100000,{\"689?\",\"6885\"}))+SUM(SUMIFS('Accounting Data'!$C$2:$C$100000,'Accounting Data'!$E$2:$E$100000,\"9??\",'Accounting Data'!$H$2:$H$100000,\"8??\",'Accounting Data'!$I$2:$I$100000,\"27??\",'Accounting Data'!$J$2:$J$100000,{\"689?\",\"6885\"}))+SUM(SUMIFS('Accounting Data'!$C$2:$C$100000,'Accounting Data'!$E$2:$E$100000,\"9??\",'Accounting Data'!$H$2:$H$100000,\"9??\",'Accounting Data'!$I$2:$I$100000,\"27??\",'Accounting Data'!$J$2:$J$100000,{\"689?\",\"6885\"}))","v":0}]
["         3100 Food Service Operations","9.",{"$f":"(AA21-AB21-AC21)+(AD21+AE21+AF21)","v":472794},{"$f":"(AI21-AJ21-AK21)+(AL21+AM21+AN21)","v":171824},{"$f":"(AQ21-AR21-AS21-AT21-AU21)+(AV21+AW21+AX21+AY21+AZ21+BA21+BB21+BC21+BD21)","v":834325},{"$f":"(BG21-BH21-BI21)+(BJ21+BK21+BL21)","v":326321},{"$f":"(BO21-BP21-BQ21)+(BR21+BS21+BT21)","v":32444},{"$f":"(BW21-BX21-BY21)+(BZ21+CA21+CB21)","v":0},null,null,null,{"$f":"(CU21-CV21-CW21)+(CX21+CY21+CZ21)","v":785},{"$f":"(DC20-DD20)-((DE20+DF20)-(DG20+DH20))","v":0},1838493,"9.",null,null,null,"6200",{"$f":"SUMIFS('Accounting Data'!$C$2:$C$100000,'Accounting Data'!$E$2:$E$100000,\"378\",'Accounting Data'!$I$2:$I$100000,\"1???\",'Accounting Data'!$J$2:$J$100000,\"62??\")+SUMIFS('Accounting Data'!$C$2:$C$100000,'Accounting Data'!$E$2:$E$100000,\"378\",'Accounting Data'!$I$2:$I$100000,\"2???\",'Accounting Data'!$J$2:$J$100000,\"62??\")+SUMIFS('Accounting Data'!$C$2:$C$100000,'Accounting Data'!$E$2:$E$100000,\"378\",'Accounting Data'!$I$2:$I$100000,\"3???\",'Accounting Data'!$J$2:$J$100000,\"62??\")","v":0},{"$f":"IF($T$28=0,0,T20/$T$28)","v":0},{"$f":"$P$25*U20","v":0},{"$f":"IF($P$25>$T$28,T20,V20)","v":0},null,null,null,null,null,null,null,null,null,null,null,null,null,null,null,null,null,null,null,null,null,null,null,null,null,null,null,null,null,null,null,null,null,null,null,null,null,null,null,null,null,null,null,null,null,null,null,null,null,null,null,null,null,null,null,null,null,null,"Object 6841, 6842 & 6843",null,null,null,null,null,null,null,null,null,null,null,null,null,null,null,null,null,null,null,null,null,null,null,3100,{"$f":"SUMIFS('Accounting Data'!$C$2:$C$100000,'Accounting Data'!$H$2:$H$100000,\"7??\",'Accounting Data'!$I$2:$I$100000,\"31??\",'Accounting Data'!$J$2:$J$100000,\"6???\")+SUMIFS('Accounting Data'!$C$2:$C$100000,'Accounting Data'!$H$2:$H$100000,\"8??\",'Accounting Data'!$I$2:$I$100000,\"31??\",'Accounting Data'!$J$2:$J$100000,\"6???\")+SUMIFS('Accounting Data'!$C$2:$C$100000,'Accounting Data'!$H$2:$H$100000,\"9??\",'Accounting Data'!$I$2:$I$100000,\"31??\",'Accounting Data'!$J$2:$J$100000,\"6???\")","v":0},{"$f":"SUMIFS('Accounting Data'!$C$2:$C$100000,'Accounting Data'!$H$2:$H$100000,\"7??\",'Accounting Data'!$I$2:$I$100000,\"31??\",'Accounting Data'!$J$2:$J$100000,\"69??\")+SUMIFS('Accounting Data'!$C$2:$C$100000,'Accounting Data'!$H$2:$H$100000,\"8??\",'Accounting Data'!$I$2:$I$100000,\"31??\",'Accounting Data'!$J$2:$J$100000,\"69??\")+SUMIFS('Accounting Data'!$C$2:$C$100000,'Accounting Data'!$H$2:$H$100000,\"9??\",'Accounting Data'!$I$2:$I$100000,\"31??\",'Accounting Data'!$J$2:$J$100000,\"69??\")","v":0},{"$f":"SUMIFS('Accounting Data'!$C$2:$C$100000,'Accounting Data'!$E$2:$E$100000,\"575\",'Accounting Data'!$H$2:$H$100000,\"7??\",'Accounting Data'!$I$2:$I$100000,\"31??\",'Accounting Data'!$J$2:$J$100000,\"6???\")+SUMIFS('Accounting Data'!$C$2:$C$100000,'Accounting Data'!$E$2:$E$100000,\"575\",'Accounting Data'!$H$2:$H$100000,\"8??\",'Accounting Data'!$I$2:$I$100000,\"31??\",'Accounting Data'!$J$2:$J$100000,\"6???\")+SUMIFS('Accounting Data'!$C$2:$C$100000,'Accounting Data'!$E$2:$E$100000,\"575\",'Accounting Data'!$H$2:$H$100000,\"9??\",'Accounting Data'!$I$2:$I$100000,\"31??\",'Accounting Data'!$J$2:$J$100000,\"6???\")","v":0},{"$f":"SUMIFS('Accounting Data'!$C$2:$C$100000,'Accounting Data'!$E$2:$E$100000,\"8??\",'Accounting Data'!$H$2:$H$100000,\"7??\",'Accounting Data'!$I$2:$I$100000,\"31??\",'Accounting Data'!$J$2:$J$100000,\"6???\")+SUMIFS('Accounting Data'!$C$2:$C$100000,'Accounting Data'!$E$2:$E$100000,\"8??\",'Accounting Data'!$H$2:$H$100000,\"8??\",'Accounting Data'!$I$2:$I$100000,\"31??\",'Accounting Data'!$J$2:$J$100000,\"6???\")+SUMIFS('Accounting Data'!$C$2:$C$100000,'Accounting Data'!$E$2:$E$100000,\"8??\",'Accounting Data'!$H$2:$H$100000,\"9??\",'Accounting Data'!$I$2:$I$100000,\"31??\",'Accounting Data'!$J$2:$J$100000,\"6???\")+SUMIFS('Accounting Data'!$C$2:$C$100000,'Accounting Data'!$E$2:$E$100000,\"9??\",'Accounting Data'!$H$2:$H$100000,\"7??\",'Accounting Data'!$I$2:$I$100000,\"31??\",'Accounting Data'!$J$2:$J$100000,\"6???\")+SUMIFS('Accounting Data'!$C$2:$C$100000,'Accounting Data'!$E$2:$E$100000,\"9??\",'Accounting Data'!$H$2:$H$100000,\"8??\",'Accounting Data'!$I$2:$I$100000,\"31??\",'Accounting Data'!$J$2:$J$100000,\"6???\")+SUMIFS('Accounting Data'!$C$2:$C$100000,'Accounting Data'!$E$2:$E$100000,\"9??\",'Accounting Data'!$H$2:$H$100000,\"9??\",'Accounting Data'!$I$2:$I$100000,\"31??\",'Accounting Data'!$J$2:$J$100000,\"6???\")","v":0},{"$f":"SUMIFS('Accounting Data'!$C$2:$C$100000,'Accounting Data'!$E$2:$E$100000,\"575\",'Accounting Data'!$H$2:$H$100000,\"7??\",'Accounting Data'!$I$2:$I$100000,\"31??\",'Accounting Data'!$J$2:$J$100000,\"69??\")+SUMIFS('Accounting Data'!$C$2:$C$100000,'Accounting Data'!$E$2:$E$100000,\"575\",'Accounting Data'!$H$2:$H$100000,\"8??\",'Accounting Data'!$I$2:$I$100000,\"31??\",'Accounting Data'!$J$2:$J$100000,\"69??\")+SUMIFS('Accounting Data'!$C$2:$C$100000,'Accounting Data'!$E$2:$E$100000,\"575\",'Accounting Data'!$H$2:$H$100000,\"9??\",'Accounting Data'!$I$2:$I$100000,\"31??\",'Accounting Data'!$J$2:$J$100000,\"69??\")","v":0},{"$f":"SUMIFS('Accounting Data'!$C$2:$C$100000,'Accounting Data'!$E$2:$E$100000,\"8??\",'Accounting Data'!$H$2:$H$100000,\"7??\",'Accounting Data'!$I$2:$I$100000,\"31??\",'Accounting Data'!$J$2:$J$100000,\"69??\")+SUMIFS('Accounting Data'!$C$2:$C$100000,'Accounting Data'!$E$2:$E$100000,\"8??\",'Accounting Data'!$H$2:$H$100000,\"8??\",'Accounting Data'!$I$2:$I$100000,\"31??\",'Accounting Data'!$J$2:$J$100000,\"69??\")+SUMIFS('Accounting Data'!$C$2:$C$100000,'Accounting Data'!$E$2:$E$100000,\"8??\",'Accounting Data'!$H$2:$H$100000,\"9??\",'Accounting Data'!$I$2:$I$100000,\"31??\",'Accounting Data'!$J$2:$J$100000,\"69??\")+SUMIFS('Accounting Data'!$C$2:$C$100000,'Accounting Data'!$E$2:$E$100000,\"9??\",'Accounting Data'!$H$2:$H$100000,\"7??\",'Accounting Data'!$I$2:$I$100000,\"31??\",'Accounting Data'!$J$2:$J$100000,\"69??\")+SUMIFS('Accounting Data'!$C$2:$C$100000,'Accounting Data'!$E$2:$E$100000,\"9??\",'Accounting Data'!$H$2:$H$100000,\"8??\",'Accounting Data'!$I$2:$I$100000,\"31??\",'Accounting Data'!$J$2:$J$100000,\"69??\")+SUMIFS('Accounting Data'!$C$2:$C$100000,'Accounting Data'!$E$2:$E$100000,\"9??\",'Accounting Data'!$H$2:$H$100000,\"9??\",'Accounting Data'!$I$2:$I$100000,\"31??\",'Accounting Data'!$J$2:$J$100000,\"69??\")","v":0}]
["         3200 Enterprise Operations","10.",{"$f":"(AA22-AB22-AC22)+(AD22+AE22+AF22)","v":0},{"$f":"(AI22-AJ22-AK22)+(AL22+AM22+AN22)","v":0},{"$f":"(AQ22-AR22-AS22-AT22-AU22)+(AV22+AW22+AX22+AY22+AZ22+BA22+BB22+BC22+BD22)","v":0},{"$f":"(BG22-BH22-BI22)+(BJ22+BK22+BL22)","v":0},{"$f":"(BO22-BP22-BQ22)+(BR22+BS22+BT22)","v":0},{"$f":"(BW22-BX22-BY22)+(BZ22+CA22+CB22)","v":0},null,null,null,{"$f":"(CU22-CV22-CW22)+(CX22+CY22+CZ22)","v":0},{"$f":"(DC21-DD21)-((DE21+DF21)-(DG21+DH21))","v":0},0,"10.",null,null,null,"6300",{"$f":"SUMIFS('Accounting Data'!$C$2:$C$100000,'Accounting Data'!$E$2:$E$100000,\"378\",'Accounting Data'!$I$2:$I$100000,\"1???\",'Accounting Data'!$J$2:$J$100000,\"63??\")+SUMIFS('Accounting Data'!$C$2:$C$100000,'Accounting Data'!$E$2:$E$100000,\"378\",'Accounting Data'!$I$2:$I$100000,\"2???\",'Accounting Data'!$J$2:$J$100000,\"63??\")+SUMIFS('Accounting Data'!$C$2:$C$100000,'Accounting Data'!$E$2:$E$100000,\"378\",'Accounting Data'!$I$2:$I$100000,\"3???\",'Accounting Data'!$J$2:$J$100000,\"63??\")","v":0},{"$f":"IF($T$28=0,0,T21/$T$28)","v":0},{"$f":"$P$25*U21","v":0},0,null,null,3100,{"$f":"SUMIFS('Accounting Data'!C2:C100000,'Accounting Data'!I2:I100000,\"31??\",'Accounting Data'!J2:J100000,\"61??\")","v":472794},{"$f":"SUMIFS('Accounting Data'!C2:C100000,'Accounting Data'!E2:E100000,\"575\",'Accounting Data'!I2:I100000,\"31??\",'Accounting Data'!J2:J100000,\"61??\")+SUMIFS('Accounting Data'!C2:C100000,'Accounting Data'!E2:E100000,\"8??\",'Accounting Data'!I2:I100000,\"31??\",'Accounting Data'!J2:J100000,\"61??\")+SUMIFS('Accounting Data'!C2:C100000,'Accounting Data'!E2:E100000,\"9??\",'Accounting Data'!I2:I100000,\"31??\",'Accounting Data'!J2:J100000,\"61??\")","v":0},{"$f":"SUMIFS('Accounting Data'!C2:C100000,'Accounting Data'!H2:H100000,\"7??\",'Accounting Data'!I2:I100000,\"31??\",'Accounting Data'!J2:J100000,\"61??\")+SUMIFS('Accounting Data'!C2:C100000,'Accounting Data'!H2:H100000,\"8??\",'Accounting Data'!I2:I100000,\"31??\",'Accounting Data'!J2:J100000,\"61??\")+SUMIFS('Accounting Data'!C2:C100000,'Accounting Data'!H2:H100000,\"9??\",'Accounting Data'!I2:I100000,\"31??\",'Accounting Data'!J2:J100000,\"61??\")","v":0},{"$f":"SUMIFS('Accounting Data'!C2:C100000,'Accounting Data'!E2:E100000,\"575\",'Accounting Data'!H2:H100000,\"7??\",'Accounting Data'!I2:I100000,\"31??\",'Accounting Data'!J2:J100000,\"61??\")+SUMIFS('Accounting Data'!C2:C100000,'Accounting Data'!E2:E100000,\"575\",'Accounting Data'!H2:H100000,\"8??\",'Accounting Data'!I2:I100000,\"31??\",'Accounting Data'!J2:J100000,\"61??\")+SUMIFS('Accounting Data'!C2:C100000,'Accounting Data'!E2:E100000,\"575\",'Accounting Data'!H2:H100000,\"9??\",'Accounting Data'!I2:I100000,\"31??\",'Accounting Data'!J2:J100000,\"61??\")","v":0},{"$f":"SUMIFS('Accounting Data'!C2:C100000,'Accounting Data'!E2:E100000,\"8??\",'Accounting Data'!H2:H100000,\"7??\",'Accounting Data'!I2:I100000,\"31??\",'Accounting Data'!J2:J100000,\"61??\")+SUMIFS('Accounting Data'!C2:C100000,'Accounting Data'!E2:E100000,\"8??\",'Accounting Data'!H2:H100000,\"8??\",'Accounting Data'!I2:I100000,\"31??\",'Accounting Data'!J2:J100000,\"61??\")+SUMIFS('Accounting Data'!C2:C100000,'Accounting Data'!E2:E100000,\"8??\",'Accounting Data'!H2:H100000,\"9??\",'Accounting Data'!I2:I100000,\"31??\",'Accounting Data'!J2:J100000,\"61??\")","v":0},{"$f":"SUMIFS('Accounting Data'!C2:C100000,'Accounting Data'!E2:E100000,\"9??\",'Accounting Data'!H2:H100000,\"7??\",'Accounting Data'!I2:I100000,\"31??\",'Accounting Data'!J2:J100000,\"61??\")+SUMIFS('Accounting Data'!C2:C100000,'Accounting Data'!E2:E100000,\"9??\",'Accounting Data'!H2:H100000,\"8??\",'Accounting Data'!I2:I100000,\"31??\",'Accounting Data'!J2:J100000,\"61??\")+SUMIFS('Accounting Data'!C2:C100000,'Accounting Data'!E2:E100000,\"9??\",'Accounting Data'!H2:H100000,\"9??\",'Accounting Data'!I2:I100000,\"31??\",'Accounting Data'!J2:J100000,\"61??\")","v":0},null,3100,{"$f":"SUMIFS('Accounting Data'!C2:C100000,'Accounting Data'!I2:I100000,\"31??\",'Accounting Data'!J2:J100000,\"62??\")","v":171824},{"$f":"SUMIFS('Accounting Data'!C2:C100000,'Accounting Data'!E2:E100000,\"575\",'Accounting Data'!I2:I100000,\"31??\",'Accounting Data'!J2:J100000,\"62??\")+SUMIFS('Accounting Data'!C2:C100000,'Accounting Data'!E2:E100000,\"8??\",'Accounting Data'!I2:I100000,\"31??\",'Accounting Data'!J2:J100000,\"62??\")+SUMIFS('Accounting Data'!C2:C100000,'Accounting Data'!E2:E100000,\"9??\",'Accounting Data'!I2:I100000,\"31??\",'Accounting Data'!J2:J100000,\"62??\")","v":0},{"$f":"SUMIFS('Accounting Data'!C2:C100000,'Accounting Data'!H2:H100000,\"7??\",'Accounting Data'!I2:I100000,\"31??\",'Accounting Data'!J2:J100000,\"62??\")+SUMIFS('Accounting Data'!C2:C100000,'Accounting Data'!H2:H100000,\"8??\",'Accounting Data'!I2:I100000,\"31??\",'Accounting Data'!J2:J100000,\"62??\")+SUMIFS('Accounting Data'!C2:C100000,'Accounting Data'!H2:H100000,\"9??\",'Accounting Data'!I2:I100000,\"31??\",'Accounting Data'!J2:J100000,\"62??\")","v":0},{"$f":"SUMIFS('Accounting Data'!C2:C100000,'Accounting Data'!E2:E100000,\"575\",'Accounting Data'!H2:H100000,\"7??\",'Accounting Data'!I2:I100000,\"31??\",'Accounting Data'!J2:J100000,\"62??\")+SUMIFS('Accounting Data'!C2:C100000,'Accounting Data'!E2:E100000,\"575\",'Accounting Data'!H2:H100000,\"8??\",'Accounting Data'!I2:I100000,\"31??\",'Accounting Data'!J2:J100000,\"62??\")+SUMIFS('Accounting Data'!C2:C100000,'Accounting Data'!E2:E100000,\"575\",'Accounting Data'!H2:H100000,\"9??\",'Accounting Data'!I2:I100000,\"31??\",'Accounting Data'!J2:J100000,\"62??\")","v":0},{"$f":"SUMIFS('Accounting Data'!C2:C100000,'Accounting Data'!E2:E100000,\"8??\",'Accounting Data'!H2:H100000,\"7??\",'Accounting Data'!I2:I100000,\"31??\",'Accounting Data'!J2:J100000,\"62??\")+SUMIFS('Accounting Data'!C2:C100000,'Accounting Data'!E2:E100000,\"8??\",'Accounting Data'!H2:H100000,\"8??\",'Accounting Data'!I2:I100000,\"31??\",'Accounting Data'!J2:J100000,\"62??\")+SUMIFS('Accounting Data'!C2:C100000,'Accounting Data'!E2:E100000,\"8??\",'Accounting Data'!H2:H100000,\"9??\",'Accounting Data'!I2:I100000,\"31??\",'Accounting Data'!J2:J100000,\"62??\")","v":0},{"$f":"SUMIFS('Accounting Data'!C2:C100000,'Accounting Data'!E2:E100000,\"9??\",'Accounting Data'!H2:H100000,\"7??\",'Accounting Data'!I2:I100000,\"31??\",'Accounting Data'!J2:J100000,\"62??\")+SUMIFS('Accounting Data'!C2:C100000,'Accounting Data'!E2:E100000,\"9??\",'Accounting Data'!H2:H100000,\"8??\",'Accounting Data'!I2:I100000,\"31??\",'Accounting Data'!J2:J100000,\"62??\")+SUMIFS('Accounting Data'!C2:C100000,'Accounting Data'!E2:E100000,\"9??\",'Accounting Data'!H2:H100000,\"9??\",'Accounting Data'!I2:I100000,\"31??\",'Accounting Data'!J2:J100000,\"62??\")","v":0},null,3100,{"$f":"SUMIFS('Accounting Data'!C2:C100000,'Accounting Data'!I2:I100000,\"31??\",'Accounting Data'!J2:J100000,\"63??\")+SUMIFS('Accounting Data'!C2:C100000,'Accounting Data'!I2:I100000,\"31??\",'Accounting Data'!J2:J100000,\"64??\")+SUMIFS('Accounting Data'!C2:C100000,'Accounting Data'!I2:I100000,\"31??\",'Accounting Data'!J2:J100000,\"65??\")","v":834325},{"$f":"SUMIFS('Accounting Data'!C2:C100000,'Accounting Data'!E2:E100000,\"575\",'Accounting Data'!I2:I100000,\"31??\",'Accounting Data'!J2:J100000,\"63??\")+SUMIFS('Accounting Data'!C2:C100000,'Accounting Data'!E2:E100000,\"8??\",'Accounting Data'!I2:I100000,\"31??\",'Accounting Data'!J2:J100000,\"63??\")+SUMIFS('Accounting Data'!C2:C100000,'Accounting Data'!E2:E100000,\"9??\",'Accounting Data'!I2:I100000,\"31??\",'Accounting Data'!J2:J100000,\"63??\")","v":0},{"$f":"SUMIFS('Accounting Data'!C2:C100000,'Accounting Data'!E2:E100000,\"575\",'Accounting Data'!I2:I100000,\"31??\",'Accounting Data'!J2:J100000,\"64??\")+SUMIFS('Accounting Data'!C2:C100000,'Accounting Data'!E2:E100000,\"8??\",'Accounting Data'!I2:I100000,\"31??\",'Accounting Data'!J2:J100000,\"64??\")+SUMIFS('Accounting Data'!C2:C100000,'Accounting Data'!E2:E100000,\"9??\",'Accounting Data'!I2:I100000,\"31??\",'Accounting Data'!J2:J100000,\"64??\")","v":0},{"$f":"SUMIFS('Accounting Data'!C2:C100000,'Accounting Data'!E2:E100000,\"575\",'Accounting Data'!I2:I100000,\"31??\",'Accounting Data'!J2:J100000,\"65??\")+SUMIFS('Accounting Data'!C2:C100000,'Accounting Data'!E2:E100000,\"8??\",'Accounting Data'!I2:I100000,\"31??\",'Accounting Data'!J2:J100000,\"65??\")+SUMIFS('Accounting Data'!C2:C100000,'Accounting Data'!E2:E100000,\"9??\",'Accounting Data'!I2:I100000,\"31??\",'Accounting Data'!J2:J100000,\"65??\")","v":0},{"$f":"SUMIFS('Accounting Data'!C2:C100000,'Accounting Data'!H2:H100000,\"7??\",'Accounting Data'!I2:I100000,\"31??\",'Accounting Data'!J2:J100000,\"63??\")+SUMIFS('Accounting Data'!C2:C100000,'Accounting Data'!H2:H100000,\"8??\",'Accounting Data'!I2:I100000,\"31??\",'Accounting Data'!J2:J100000,\"63??\")+SUMIFS('Accounting Data'!C2:C100000,'Accounting Data'!H2:H100000,\"9??\",'Accounting Data'!I2:I100000,\"31??\",'Accounting Data'!J2:J100000,\"63??\")+SUMIFS('Accounting Data'!C2:C100000,'Accounting Data'!H2:H100000,\"7??\",'Accounting Data'!I2:I100000,\"31??\",'Accounting Data'!J2:J100000,\"64??\")+SUMIFS('Accounting Data'!C2:C100000,'Accounting Data'!H2:H100000,\"8??\",'Accounting Data'!I2:I100000,\"31??\",'Accounting Data'!J2:J100000,\"64??\")+SUMIFS('Accounting Data'!C2:C100000,'Accounting Data'!H2:H100000,\"9??\",'Accounting Data'!I2:I100000,\"31??\",'Accounting Data'!J2:J100000,\"64??\")+SUMIFS('Accounting Data'!C2:C100000,'Accounting Data'!H2:H100000,\"7??\",'Accounting Data'!I2:I100000,\"31??\",'Accounting Data'!J2:J100000,\"65??\")+SUMIFS('Accounting Data'!C2:C100000,'Accounting Data'!H2:H100000,\"8??\",'Accounting Data'!I2:I100000,\"31??\",'Accounting Data'!J2:J100000,\"65??\")+SUMIFS('Accounting Data'!C2:C100000,'Accounting Data'!H2:H100000,\"9??\",'Accounting Data'!I2:I100000,\"31??\",'Accounting Data'!J2:J100000,\"65??\")","v":0},{"$f":"SUMIFS('Accounting Data'!C2:C100000,'Accounting Data'!E2:E100000,\"575\",'Accounting Data'!H2:H100000,\"7??\",'Accounting Data'!I2:I100000,\"31??\",'Accounting Data'!J2:J100000,\"63??\")+SUMIFS('Accounting Data'!C2:C100000,'Accounting Data'!E2:E100000,\"575\",'Accounting Data'!H2:H100000,\"8??\",'Accounting Data'!I2:I100000,\"31??\",'Accounting Data'!J2:J100000,\"63??\")+SUMIFS('Accounting Data'!C2:C100000,'Accounting Data'!E2:E100000,\"575\",'Accounting Data'!H2:H100000,\"9??\",'Accounting Data'!I2:I100000,\"31??\",'Accounting Data'!J2:J100000,\"63??\")","v":0},{"$f":"SUMIFS('Accounting Data'!C2:C100000,'Accounting Data'!E2:E100000,\"575\",'Accounting Data'!H2:H100000,\"7??\",'Accounting Data'!I2:I100000,\"31??\",'Accounting Data'!J2:J100000,\"64??\")+SUMIFS('Accounting Data'!C2:C100000,'Accounting Data'!E2:E100000,\"575\",'Accounting Data'!H2:H100000,\"8??\",'Accounting Data'!I2:I100000,\"31??\",'Accounting Data'!J2:J100000,\"64??\")+SUMIFS('Accounting Data'!C2:C100000,'Accounting Data'!E2:E100000,\"575\",'Accounting Data'!H2:H100000,\"9??\",'Accounting Data'!I2:I100000,\"31??\",'Accounting Data'!J2:J100000,\"64??\")","v":0},{"$f":"SUMIFS('Accounting Data'!C2:C100000,'Accounting Data'!E2:E100000,\"575\",'Accounting Data'!H2:H100000,\"7??\",'Accounting Data'!I2:I100000,\"31??\",'Accounting Data'!J2:J100000,\"65??\")+SUMIFS('Accounting Data'!C2:C100000,'Accounting Data'!E2:E100000,\"575\",'Accounting Data'!H2:H100000,\"8??\",'Accounting Data'!I2:I100000,\"31??\",'Accounting Data'!J2:J100000,\"65??\")+SUMIFS('Accounting Data'!C2:C100000,'Accounting Data'!E2:E100000,\"575\",'Accounting Data'!H2:H100000,\"9??\",'Accounting Data'!I2:I100000,\"31??\",'Accounting Data'!J2:J100000,\"65??\")","v":0},{"$f":"SUMIFS('Accounting Data'!C2:C100000,'Accounting Data'!E2:E100000,\"8??\",'Accounting Data'!H2:H100000,\"7??\",'Accounting Data'!I2:I100000,\"31??\",'Accounting Data'!J2:J100000,\"63??\")+SUMIFS('Accounting Data'!C2:C100000,'Accounting Data'!E2:E100000,\"8??\",'Accounting Data'!H2:H100000,\"8??\",'Accounting Data'!I2:I100000,\"31??\",'Accounting Data'!J2:J100000,\"63??\")+SUMIFS('Accounting Data'!C2:C100000,'Accounting Data'!E2:E100000,\"8??\",'Accounting Data'!H2:H100000,\"9??\",'Accounting Data'!I2:I100000,\"31??\",'Accounting Data'!J2:J100000,\"63??\")","v":0},{"$f":"SUMIFS('Accounting Data'!C2:C100000,'Accounting Data'!E2:E100000,\"8??\",'Accounting Data'!H2:H100000,\"7??\",'Accounting Data'!I2:I100000,\"31??\",'Accounting Data'!J2:J100000,\"64??\")+SUMIFS('Accounting Data'!C2:C100000,'Accounting Data'!E2:E100000,\"8??\",'Accounting Data'!H2:H100000,\"8??\",'Accounting Data'!I2:I100000,\"31??\",'Accounting Data'!J2:J100000,\"64??\")+SUMIFS('Accounting Data'!C2:C100000,'Accounting Data'!E2:E100000,\"8??\",'Accounting Data'!H2:H100000,\"9??\",'Accounting Data'!I2:I100000,\"31??\",'Accounting Data'!J2:J100000,\"64??\")","v":0},{"$f":"SUMIFS('Accounting Data'!C2:C100000,'Accounting Data'!E2:E100000,\"8??\",'Accounting Data'!H2:H100000,\"7??\",'Accounting Data'!I2:I100000,\"31??\",'Accounting Data'!J2:J100000,\"65??\")+SUMIFS('Accounting Data'!C2:C100000,'Accounting Data'!E2:E100000,\"8??\",'Accounting Data'!H2:H100000,\"8??\",'Accounting Data'!I2:I100000,\"31??\",'Accounting Data'!J2:J100000,\"65??\")+SUMIFS('Accounting Data'!C2:C100000,'Accounting Data'!E2:E100000,\"8??\",'Accounting Data'!H2:H100000,\"9??\",'Accounting Data'!I2:I100000,\"31??\",'Accounting Data'!J2:J100000,\"65??\")","v":0},{"$f":"SUMIFS('Accounting Data'!C2:C100000,'Accounting Data'!E2:E100000,\"9??\",'Accounting Data'!H2:H100000,\"7??\",'Accounting Data'!I2:I100000,\"31??\",'Accounting Data'!J2:J100000,\"63??\")+SUMIFS('Accounting Data'!C2:C100000,'Accounting Data'!E2:E100000,\"9??\",'Accounting Data'!H2:H100000,\"8??\",'Accounting Data'!I2:I100000,\"31??\",'Accounting Data'!J2:J100000,\"63??\")+SUMIFS('Accounting Data'!C2:C100000,'Accounting Data'!E2:E100000,\"9??\",'Accounting Data'!H2:H100000,\"9??\",'Accounting Data'!I2:I100000,\"31??\",'Accounting Data'!J2:J100000,\"63??\")","v":0},{"$f":"SUMIFS('Accounting Data'!C2:C100000,'Accounting Data'!E2:E100000,\"9??\",'Accounting Data'!H2:H100000,\"7??\",'Accounting Data'!I2:I100000,\"31??\",'Accounting Data'!J2:J100000,\"64??\")+SUMIFS('Accounting Data'!C2:C100000,'Accounting Data'!E2:E100000,\"9??\",'Accounting Data'!H2:H100000,\"8??\",'Accounting Data'!I2:I100000,\"31??\",'Accounting Data'!J2:J100000,\"64??\")+SUMIFS('Accounting Data'!C2:C100000,'Accounting Data'!E2:E100000,\"9??\",'Accounting Data'!H2:H100000,\"9??\",'Accounting Data'!I2:I100000,\"31??\",'Accounting Data'!J2:J100000,\"64??\")","v":0},{"$f":"SUMIFS('Accounting Data'!C2:C100000,'Accounting Data'!E2:E100000,\"9??\",'Accounting Data'!H2:H100000,\"7??\",'Accounting Data'!I2:I100000,\"31??\",'Accounting Data'!J2:J100000,\"65??\")+SUMIFS('Accounting Data'!C2:C100000,'Accounting Data'!E2:E100000,\"9??\",'Accounting Data'!H2:H100000,\"8??\",'Accounting Data'!I2:I100000,\"31??\",'Accounting Data'!J2:J100000,\"65??\")+SUMIFS('Accounting Data'!C2:C100000,'Accounting Data'!E2:E100000,\"9??\",'Accounting Data'!H2:H100000,\"9??\",'Accounting Data'!I2:I100000,\"31??\",'Accounting Data'!J2:J100000,\"65??\")","v":0},null,3100,{"$f":"SUMIFS('Accounting Data'!C2:C100000,'Accounting Data'!I2:I100000,\"31??\",'Accounting Data'!J2:J100000,\"66??\")","v":326321},{"$f":"SUMIFS('Accounting Data'!$C$2:$C$100000,'Accounting Data'!$E$2:$E$100000,\"575\",'Accounting Data'!$I$2:$I$100000,\"31??\",'Accounting Data'!$J$2:$J$100000,\"66??\")+SUMIFS('Accounting Data'!$C$2:$C$100000,'Accounting Data'!$E$2:$E$100000,\"8??\",'Accounting Data'!$I$2:$I$100000,\"31??\",'Accounting Data'!$J$2:$J$100000,\"66??\")+SUMIFS('Accounting Data'!$C$2:$C$100000,'Accounting Data'!$E$2:$E$100000,\"9??\",'Accounting Data'!$I$2:$I$100000,\"31??\",'Accounting Data'!$J$2:$J$100000,\"66??\")","v":0},{"$f":"SUMIFS('Accounting Data'!$C$2:$C$100000,'Accounting Data'!$H$2:$H$100000,\"7??\",'Accounting Data'!$I$2:$I$100000,\"31??\",'Accounting Data'!$J$2:$J$100000,\"66??\")+SUMIFS('Accounting Data'!$C$2:$C$100000,'Accounting Data'!$H$2:$H$100000,\"8??\",'Accounting Data'!$I$2:$I$100000,\"31??\",'Accounting Data'!$J$2:$J$100000,\"66??\")+SUMIFS('Accounting Data'!$C$2:$C$100000,'Accounting Data'!$H$2:$H$100000,\"9??\",'Accounting Data'!$I$2:$I$100000,\"31??\",'Accounting Data'!$J$2:$J$100000,\"66??\")","v":0},{"$f":"SUMIFS('Accounting Data'!$C$2:$C$100000,'Accounting Data'!$E$2:$E$100000,\"575\",'Accounting Data'!$H$2:$H$100000,\"7??\",'Accounting Data'!$I$2:$I$100000,\"31??\",'Accounting Data'!$J$2:$J$100000,\"66??\")+SUMIFS('Accounting Data'!$C$2:$C$100000,'Accounting Data'!$E$2:$E$100000,\"575\",'Accounting Data'!$H$2:$H$100000,\"8??\",'Accounting Data'!$I$2:$I$100000,\"31??\",'Accounting Data'!$J$2:$J$100000,\"66??\")+SUMIFS('Accounting Data'!$C$2:$C$100000,'Accounting Data'!$E$2:$E$100000,\"575\",'Accounting Data'!$H$2:$H$100000,\"9??\",'Accounting Data'!$I$2:$I$100000,\"31??\",'Accounting Data'!$J$2:$J$100000,\"66??\")","v":0},{"$f":"SUMIFS('Accounting Data'!$C$2:$C$100000,'Accounting Data'!$E$2:$E$100000,\"8??\",'Accounting Data'!$H$2:$H$100000,\"7??\",'Accounting Data'!$I$2:$I$100000,\"31??\",'Accounting Data'!$J$2:$J$100000,\"66??\")+SUMIFS('Accounting Data'!$C$2:$C$100000,'Accounting Data'!$E$2:$E$100000,\"8??\",'Accounting Data'!$H$2:$H$100000,\"8??\",'Accounting Data'!$I$2:$I$100000,\"31??\",'Accounting Data'!$J$2:$J$100000,\"66??\")+SUMIFS('Accounting Data'!$C$2:$C$100000,'Accounting Data'!$E$2:$E$100000,\"8??\",'Accounting Data'!$H$2:$H$100000,\"9??\",'Accounting Data'!$I$2:$I$100000,\"31??\",'Accounting Data'!$J$2:$J$100000,\"66??\")","v":0},{"$f":"SUMIFS('Accounting Data'!$C$2:$C$100000,'Accounting Data'!$E$2:$E$100000,\"9??\",'Accounting Data'!$H$2:$H$100000,\"7??\",'Accounting Data'!$I$2:$I$100000,\"31??\",'Accounting Data'!$J$2:$J$100000,\"66??\")+SUMIFS('Accounting Data'!$C$2:$C$100000,'Accounting Data'!$E$2:$E$100000,\"9??\",'Accounting Data'!$H$2:$H$100000,\"8??\",'Accounting Data'!$I$2:$I$100000,\"31??\",'Accounting Data'!$J$2:$J$100000,\"66??\")+SUMIFS('Accounting Data'!$C$2:$C$100000,'Accounting Data'!$E$2:$E$100000,\"9??\",'Accounting Data'!$H$2:$H$100000,\"9??\",'Accounting Data'!$I$2:$I$100000,\"31??\",'Accounting Data'!$J$2:$J$100000,\"66??\")","v":0},null,3100,{"$f":"SUMIFS('Accounting Data'!C2:C100000,'Accounting Data'!I2:I100000,\"31??\",'Accounting Data'!J2:J100000,\"67??\")","v":32444},{"$f":"SUMIFS('Accounting Data'!$C$2:$C$100000,'Accounting Data'!$E$2:$E$100000,\"575\",'Accounting Data'!$I$2:$I$100000,\"31??\",'Accounting Data'!$J$2:$J$100000,\"67??\")+SUMIFS('Accounting Data'!$C$2:$C$100000,'Accounting Data'!$E$2:$E$100000,\"8??\",'Accounting Data'!$I$2:$I$100000,\"31??\",'Accounting Data'!$J$2:$J$100000,\"67??\")+SUMIFS('Accounting Data'!$C$2:$C$100000,'Accounting Data'!$E$2:$E$100000,\"9??\",'Accounting Data'!$I$2:$I$100000,\"31??\",'Accounting Data'!$J$2:$J$100000,\"67??\")","v":0},{"$f":"SUMIFS('Accounting Data'!$C$2:$C$100000,'Accounting Data'!$H$2:$H$100000,\"7??\",'Accounting Data'!$I$2:$I$100000,\"31??\",'Accounting Data'!$J$2:$J$100000,\"67??\")+SUMIFS('Accounting Data'!$C$2:$C$100000,'Accounting Data'!$H$2:$H$100000,\"8??\",'Accounting Data'!$I$2:$I$100000,\"31??\",'Accounting Data'!$J$2:$J$100000,\"67??\")+SUMIFS('Accounting Data'!$C$2:$C$100000,'Accounting Data'!$H$2:$H$100000,\"9??\",'Accounting Data'!$I$2:$I$100000,\"31??\",'Accounting Data'!$J$2:$J$100000,\"67??\")","v":0},{"$f":"SUMIFS('Accounting Data'!$C$2:$C$100000,'Accounting Data'!$E$2:$E$100000,\"575\",'Accounting Data'!$H$2:$H$100000,\"7??\",'Accounting Data'!$I$2:$I$100000,\"31??\",'Accounting Data'!$J$2:$J$100000,\"67??\")+SUMIFS('Accounting Data'!$C$2:$C$100000,'Accounting Data'!$E$2:$E$100000,\"575\",'Accounting Data'!$H$2:$H$100000,\"8??\",'Accounting Data'!$I$2:$I$100000,\"31??\",'Accounting Data'!$J$2:$J$100000,\"67??\")+SUMIFS('Accounting Data'!$C$2:$C$100000,'Accounting Data'!$E$2:$E$100000,\"575\",'Accounting Data'!$H$2:$H$100000,\"9??\",'Accounting Data'!$I$2:$I$100000,\"31??\",'Accounting Data'!$J$2:$J$100000,\"67??\")","v":0},{"$f":"SUMIFS('Accounting Data'!$C$2:$C$100000,'Accounting Data'!$E$2:$E$100000,\"8??\",'Accounting Data'!$H$2:$H$100000,\"7??\",'Accounting Data'!$I$2:$I$100000,\"31??\",'Accounting Data'!$J$2:$J$100000,\"67??\")+SUMIFS('Accounting Data'!$C$2:$C$100000,'Accounting Data'!$E$2:$E$100000,\"8??\",'Accounting Data'!$H$2:$H$100000,\"8??\",'Accounting Data'!$I$2:$I$100000,\"31??\",'Accounting Data'!$J$2:$J$100000,\"67??\")+SUMIFS('Accounting Data'!$C$2:$C$100000,'Accounting Data'!$E$2:$E$100000,\"8??\",'Accounting Data'!$H$2:$H$100000,\"9??\",'Accounting Data'!$I$2:$I$100000,\"31??\",'Accounting Data'!$J$2:$J$100000,\"67??\")","v":0},{"$f":"SUMIFS('Accounting Data'!$C$2:$C$100000,'Accounting Data'!$E$2:$E$100000,\"9??\",'Accounting Data'!$H$2:$H$100000,\"7??\",'Accounting Data'!$I$2:$I$100000,\"31??\",'Accounting Data'!$J$2:$J$100000,\"67??\")+SUMIFS('Accounting Data'!$C$2:$C$100000,'Accounting Data'!$E$2:$E$100000,\"9??\",'Accounting Data'!$H$2:$H$100000,\"8??\",'Accounting Data'!$I$2:$I$100000,\"31??\",'Accounting Data'!$J$2:$J$100000,\"67??\")+SUMIFS('Accounting Data'!$C$2:$C$100000,'Accounting Data'!$E$2:$E$100000,\"9??\",'Accounting Data'!$H$2:$H$100000,\"9??\",'Accounting Data'!$I$2:$I$100000,\"31??\",'Accounting Data'!$J$2:$J$100000,\"67??\")","v":0},null,3100,{"$f":"SUMIFS('Accounting Data'!C2:C100000,'Accounting Data'!I2:I100000,\"31??\",'Accounting Data'!J2:J100000,\"681?\")","v":0},{"$f":"SUMIFS('Accounting Data'!$C$2:$C$100000,'Accounting Data'!$E$2:$E$100000,\"575\",'Accounting Data'!$I$2:$I$100000,\"31??\",'Accounting Data'!$J$2:$J$100000,\"681?\")+SUMIFS('Accounting Data'!$C$2:$C$100000,'Accounting Data'!$E$2:$E$100000,\"8??\",'Accounting Data'!$I$2:$I$100000,\"31??\",'Accounting Data'!$J$2:$J$100000,\"681?\")+SUMIFS('Accounting Data'!$C$2:$C$100000,'Accounting Data'!$E$2:$E$100000,\"9??\",'Accounting Data'!$I$2:$I$100000,\"31??\",'Accounting Data'!$J$2:$J$100000,\"681?\")","v":0},{"$f":"SUMIFS('Accounting Data'!$C$2:$C$100000,'Accounting Data'!$H$2:$H$100000,\"7??\",'Accounting Data'!$I$2:$I$100000,\"31??\",'Accounting Data'!$J$2:$J$100000,\"681?\")+SUMIFS('Accounting Data'!$C$2:$C$100000,'Accounting Data'!$H$2:$H$100000,\"8??\",'Accounting Data'!$I$2:$I$100000,\"31??\",'Accounting Data'!$J$2:$J$100000,\"681?\")+SUMIFS('Accounting Data'!$C$2:$C$100000,'Accounting Data'!$H$2:$H$100000,\"9??\",'Accounting Data'!$I$2:$I$100000,\"31??\",'Accounting Data'!$J$2:$J$100000,\"681?\")","v":0},{"$f":"SUMIFS('Accounting Data'!$C$2:$C$100000,'Accounting Data'!$E$2:$E$100000,\"575\",'Accounting Data'!$H$2:$H$100000,\"7??\",'Accounting Data'!$I$2:$I$100000,\"31??\",'Accounting Data'!$J$2:$J$100000,\"681?\")+SUMIFS('Accounting Data'!$C$2:$C$100000,'Accounting Data'!$E$2:$E$100000,\"575\",'Accounting Data'!$H$2:$H$100000,\"8??\",'Accounting Data'!$I$2:$I$100000,\"31??\",'Accounting Data'!$J$2:$J$100000,\"681?\")+SUMIFS('Accounting Data'!$C$2:$C$100000,'Accounting Data'!$E$2:$E$100000,\"575\",'Accounting Data'!$H$2:$H$100000,\"9??\",'Accounting Data'!$I$2:$I$100000,\"31??\",'Accounting Data'!$J$2:$J$100000,\"681?\")","v":0},{"$f":"SUMIFS('Accounting Data'!$C$2:$C$100000,'Accounting Data'!$E$2:$E$100000,\"8??\",'Accounting Data'!$H$2:$H$100000,\"7??\",'Accounting Data'!$I$2:$I$100000,\"31??\",'Accounting Data'!$J$2:$J$100000,\"681?\")+SUMIFS('Accounting Data'!$C$2:$C$100000,'Accounting Data'!$E$2:$E$100000,\"8??\",'Accounting Data'!$H$2:$H$100000,\"8??\",'Accounting Data'!$I$2:$I$100000,\"31??\",'Accounting Data'!$J$2:$J$100000,\"681?\")+SUMIFS('Accounting Data'!$C$2:$C$100000,'Accounting Data'!$E$2:$E$100000,\"8??\",'Accounting Data'!$H$2:$H$100000,\"9??\",'Accounting Data'!$I$2:$I$100000,\"31??\",'Accounting Data'!$J$2:$J$100000,\"681?\")","v":0},{"$f":"SUMIFS('Accounting Data'!$C$2:$C$100000,'Accounting Data'!$E$2:$E$100000,\"9??\",'Accounting Data'!$H$2:$H$100000,\"7??\",'Accounting Data'!$I$2:$I$100000,\"31??\",'Accounting Data'!$J$2:$J$100000,\"681?\")+SUMIFS('Accounting Data'!$C$2:$C$100000,'Accounting Data'!$E$2:$E$100000,\"9??\",'Accounting Data'!$H$2:$H$100000,\"8??\",'Accounting Data'!$I$2:$I$100000,\"31??\",'Accounting Data'!$J$2:$J$100000,\"681?\")+SUMIFS('Accounting Data'!$C$2:$C$100000,'Accounting Data'!$E$2:$E$100000,\"9??\",'Accounting Data'!$H$2:$H$100000,\"9??\",'Accounting Data'!$I$2:$I$100000,\"31??\",'Accounting Data'!$J$2:$J$100000,\"681?\")","v":0},null,"Function","All funds","Funds 575,800-899,900-999 ",null,null,"Programs 700-900","Funds 575, Programs 700-900",null,null,"Funds 800-899, Programs 700-900",null,null,"Funds 900-999, Programs 700-900",null,null,null,3100,{"$f":"SUM(SUMIFS('Accounting Data'!C2:C100000,'Accounting Data'!I2:I100000,\"31??\",'Accounting Data'!J2:J100000,{\"689?\",\"6885\"}))","v":785},{"$f":"SUM(SUMIFS('Accounting Data'!$C$2:$C$100000,'Accounting Data'!$E$2:$E$100000,\"575\",'Accounting Data'!$I$2:$I$100000,\"31??\",'Accounting Data'!$J$2:$J$100000,{\"689?\",\"6885\"}))+SUM(SUMIFS('Accounting Data'!$C$2:$C$100000,'Accounting Data'!$E$2:$E$100000,\"8??\",'Accounting Data'!$I$2:$I$100000,\"31??\",'Accounting Data'!$J$2:$J$100000,{\"689?\",\"6885\"}))+SUM(SUMIFS('Accounting Data'!$C$2:$C$100000,'Accounting Data'!$E$2:$E$100000,\"9??\",'Accounting Data'!$I$2:$I$100000,\"31??\",'Accounting Data'!$J$2:$J$100000,{\"689?\",\"6885\"}))","v":0},{"$f":"SUM(SUMIFS('Accounting Data'!$C$2:$C$100000,'Accounting Data'!$H$2:$H$100000,\"7??\",'Accounting Data'!$I$2:$I$100000,\"31??\",'Accounting Data'!$J$2:$J$100000,{\"689?\",\"6885\"}))+SUM(SUMIFS('Accounting Data'!$C$2:$C$100000,'Accounting Data'!$H$2:$H$100000,\"8??\",'Accounting Data'!$I$2:$I$100000,\"31??\",'Accounting Data'!$J$2:$J$100000,{\"689?\",\"6885\"}))+SUM(SUMIFS('Accounting Data'!$C$2:$C$100000,'Accounting Data'!$H$2:$H$100000,\"9??\",'Accounting Data'!$I$2:$I$100000,\"31??\",'Accounting Data'!$J$2:$J$100000,{\"689?\",\"6885\"}))","v":0},{"$f":"SUM(SUMIFS('Accounting Data'!$C$2:$C$100000,'Accounting Data'!$E$2:$E$100000,\"575\",'Accounting Data'!$H$2:$H$100000,\"7??\",'Accounting Data'!$I$2:$I$100000,\"31??\",'Accounting Data'!$J$2:$J$100000,{\"689?\",\"6885\"}))+SUM(SUMIFS('Accounting Data'!$C$2:$C$100000,'Accounting Data'!$E$2:$E$100000,\"575\",'Accounting Data'!$H$2:$H$100000,\"8??\",'Accounting Data'!$I$2:$I$100000,\"31??\",'Accounting Data'!$J$2:$J$100000,{\"689?\",\"6885\"}))+SUM(SUMIFS('Accounting Data'!$C$2:$C$100000,'Accounting Data'!$E$2:$E$100000,\"575\",'Accounting Data'!$H$2:$H$100000,\"9??\",'Accounting Data'!$I$2:$I$100000,\"31??\",'Accounting Data'!$J$2:$J$100000,{\"689?\",\"6885\"}))","v":0},{"$f":"SUM(SUMIFS('Accounting Data'!$C$2:$C$100000,'Accounting Data'!$E$2:$E$100000,\"8??\",'Accounting Data'!$H$2:$H$100000,\"7??\",'Accounting Data'!$I$2:$I$100000,\"31??\",'Accounting Data'!$J$2:$J$100000,{\"689?\",\"6885\"}))+SUM(SUMIFS('Accounting Data'!$C$2:$C$100000,'Accounting Data'!$E$2:$E$100000,\"8??\",'Accounting Data'!$H$2:$H$100000,\"8??\",'Accounting Data'!$I$2:$I$100000,\"31??\",'Accounting Data'!$J$2:$J$100000,{\"689?\",\"6885\"}))+SUM(SUMIFS('Accounting Data'!$C$2:$C$100000,'Accounting Data'!$E$2:$E$100000,\"8??\",'Accounting Data'!$H$2:$H$100000,\"9??\",'Accounting Data'!$I$2:$I$100000,\"31??\",'Accounting Data'!$J$2:$J$100000,{\"689?\",\"6885\"}))","v":0},{"$f":"SUM(SUMIFS('Accounting Data'!$C$2:$C$100000,'Accounting Data'!$E$2:$E$100000,\"9??\",'Accounting Data'!$H$2:$H$100000,\"7??\",'Accounting Data'!$I$2:$I$100000,\"31??\",'Accounting Data'!$J$2:$J$100000,{\"689?\",\"6885\"}))+SUM(SUMIFS('Accounting Data'!$C$2:$C$100000,'Accounting Data'!$E$2:$E$100000,\"9??\",'Accounting Data'!$H$2:$H$100000,\"8??\",'Accounting Data'!$I$2:$I$100000,\"31??\",'Accounting Data'!$J$2:$J$100000,{\"689?\",\"6885\"}))+SUM(SUMIFS('Accounting Data'!$C$2:$C$100000,'Accounting Data'!$E$2:$E$100000,\"9??\",'Accounting Data'!$H$2:$H$100000,\"9??\",'Accounting Data'!$I$2:$I$100000,\"31??\",'Accounting Data'!$J$2:$J$100000,{\"689?\",\"6885\"}))","v":0},null,3200,{"$f":"SUMIFS('Accounting Data'!$C$2:$C$100000,'Accounting Data'!$H$2:$H$100000,\"7??\",'Accounting Data'!$I$2:$I$100000,\"32??\",'Accounting Data'!$J$2:$J$100000,\"6???\")+SUMIFS('Accounting Data'!$C$2:$C$100000,'Accounting Data'!$H$2:$H$100000,\"8??\",'Accounting Data'!$I$2:$I$100000,\"32??\",'Accounting Data'!$J$2:$J$100000,\"6???\")+SUMIFS('Accounting Data'!$C$2:$C$100000,'Accounting Data'!$H$2:$H$100000,\"9??\",'Accounting Data'!$I$2:$I$100000,\"32??\",'Accounting Data'!$J$2:$J$100000,\"6???\")","v":0},{"$f":"SUMIFS('Accounting Data'!$C$2:$C$100000,'Accounting Data'!$H$2:$H$100000,\"7??\",'Accounting Data'!$I$2:$I$100000,\"32??\",'Accounting Data'!$J$2:$J$100000,\"69??\")+SUMIFS('Accounting Data'!$C$2:$C$100000,'Accounting Data'!$H$2:$H$100000,\"8??\",'Accounting Data'!$I$2:$I$100000,\"32??\",'Accounting Data'!$J$2:$J$100000,\"69??\")+SUMIFS('Accounting Data'!$C$2:$C$100000,'Accounting Data'!$H$2:$H$100000,\"9??\",'Accounting Data'!$I$2:$I$100000,\"32??\",'Accounting Data'!$J$2:$J$100000,\"69??\")","v":0},{"$f":"SUMIFS('Accounting Data'!$C$2:$C$100000,'Accounting Data'!$E$2:$E$100000,\"575\",'Accounting Data'!$H$2:$H$100000,\"7??\",'Accounting Data'!$I$2:$I$100000,\"32??\",'Accounting Data'!$J$2:$J$100000,\"6???\")+SUMIFS('Accounting Data'!$C$2:$C$100000,'Accounting Data'!$E$2:$E$100000,\"575\",'Accounting Data'!$H$2:$H$100000,\"8??\",'Accounting Data'!$I$2:$I$100000,\"32??\",'Accounting Data'!$J$2:$J$100000,\"6???\")+SUMIFS('Accounting Data'!$C$2:$C$100000,'Accounting Data'!$E$2:$E$100000,\"575\",'Accounting Data'!$H$2:$H$100000,\"9??\",'Accounting Data'!$I$2:$I$100000,\"32??\",'Accounting Data'!$J$2:$J$100000,\"6???\")","v":0},{"$f":"SUMIFS('Accounting Data'!$C$2:$C$100000,'Accounting Data'!$E$2:$E$100000,\"8??\",'Accounting Data'!$H$2:$H$100000,\"7??\",'Accounting Data'!$I$2:$I$100000,\"32??\",'Accounting Data'!$J$2:$J$100000,\"6???\")+SUMIFS('Accounting Data'!$C$2:$C$100000,'Accounting Data'!$E$2:$E$100000,\"8??\",'Accounting Data'!$H$2:$H$100000,\"8??\",'Accounting Data'!$I$2:$I$100000,\"32??\",'Accounting Data'!$J$2:$J$100000,\"6???\")+SUMIFS('Accounting Data'!$C$2:$C$100000,'Accounting Data'!$E$2:$E$100000,\"8??\",'Accounting Data'!$H$2:$H$100000,\"9??\",'Accounting Data'!$I$2:$I$100000,\"32??\",'Accounting Data'!$J$2:$J$100000,\"6???\")+SUMIFS('Accounting Data'!$C$2:$C$100000,'Accounting Data'!$E$2:$E$100000,\"9??\",'Accounting Data'!$H$2:$H$100000,\"7??\",'Accounting Data'!$I$2:$I$100000,\"32??\",'Accounting Data'!$J$2:$J$100000,\"6???\")+SUMIFS('Accounting Data'!$C$2:$C$100000,'Accounting Data'!$E$2:$E$100000,\"9??\",'Accounting Data'!$H$2:$H$100000,\"8??\",'Accounting Data'!$I$2:$I$100000,\"32??\",'Accounting Data'!$J$2:$J$100000,\"6???\")+SUMIFS('Accounting Data'!$C$2:$C$100000,'Accounting Data'!$E$2:$E$100000,\"9??\",'Accounting Data'!$H$2:$H$100000,\"9??\",'Accounting Data'!$I$2:$I$100000,\"32??\",'Accounting Data'!$J$2:$J$100000,\"6???\")","v":0},{"$f":"SUMIFS('Accounting Data'!$C$2:$C$100000,'Accounting Data'!$E$2:$E$100000,\"575\",'Accounting Data'!$H$2:$H$100000,\"7??\",'Accounting Data'!$I$2:$I$100000,\"32??\",'Accounting Data'!$J$2:$J$100000,\"69??\")+SUMIFS('Accounting Data'!$C$2:$C$100000,'Accounting Data'!$E$2:$E$100000,\"575\",'Accounting Data'!$H$2:$H$100000,\"8??\",'Accounting Data'!$I$2:$I$100000,\"32??\",'Accounting Data'!$J$2:$J$100000,\"69??\")+SUMIFS('Accounting Data'!$C$2:$C$100000,'Accounting Data'!$E$2:$E$100000,\"575\",'Accounting Data'!$H$2:$H$100000,\"9??\",'Accounting Data'!$I$2:$I$100000,\"32??\",'Accounting Data'!$J$2:$J$100000,\"69??\")","v":0},{"$f":"SUMIFS('Accounting Data'!$C$2:$C$100000,'Accounting Data'!$E$2:$E$100000,\"8??\",'Accounting Data'!$H$2:$H$100000,\"7??\",'Accounting Data'!$I$2:$I$100000,\"32??\",'Accounting Data'!$J$2:$J$100000,\"69??\")+SUMIFS('Accounting Data'!$C$2:$C$100000,'Accounting Data'!$E$2:$E$100000,\"8??\",'Accounting Data'!$H$2:$H$100000,\"8??\",'Accounting Data'!$I$2:$I$100000,\"32??\",'Accounting Data'!$J$2:$J$100000,\"69??\")+SUMIFS('Accounting Data'!$C$2:$C$100000,'Accounting Data'!$E$2:$E$100000,\"8??\",'Accounting Data'!$H$2:$H$100000,\"9??\",'Accounting Data'!$I$2:$I$100000,\"32??\",'Accounting Data'!$J$2:$J$100000,\"69??\")+SUMIFS('Accounting Data'!$C$2:$C$100000,'Accounting Data'!$E$2:$E$100000,\"9??\",'Accounting Data'!$H$2:$H$100000,\"7??\",'Accounting Data'!$I$2:$I$100000,\"32??\",'Accounting Data'!$J$2:$J$100000,\"69??\")+SUMIFS('Accounting Data'!$C$2:$C$100000,'Accounting Data'!$E$2:$E$100000,\"9??\",'Accounting Data'!$H$2:$H$100000,\"8??\",'Accounting Data'!$I$2:$I$100000,\"32??\",'Accounting Data'!$J$2:$J$100000,\"69??\")+SUMIFS('Accounting Data'!$C$2:$C$100000,'Accounting Data'!$E$2:$E$100000,\"9??\",'Accounting Data'!$H$2:$H$100000,\"9??\",'Accounting Data'!$I$2:$I$100000,\"32??\",'Accounting Data'!$J$2:$J$100000,\"69??\")","v":0}]
["         3300 Community Services Operations","11.",null,null,null,null,null,null,null,null,null,null,{"$f":"(DC22-DD22)-((DE22+DF22)-(DG22+DH22))","v":372759},372759,"11.",null,null,null,"6400",{"$f":"SUMIFS('Accounting Data'!$C$2:$C$100000,'Accounting Data'!$E$2:$E$100000,\"378\",'Accounting Data'!$I$2:$I$100000,\"1???\",'Accounting Data'!$J$2:$J$100000,\"64??\")+SUMIFS('Accounting Data'!$C$2:$C$100000,'Accounting Data'!$E$2:$E$100000,\"378\",'Accounting Data'!$I$2:$I$100000,\"2???\",'Accounting Data'!$J$2:$J$100000,\"64??\")+SUMIFS('Accounting Data'!$C$2:$C$100000,'Accounting Data'!$E$2:$E$100000,\"378\",'Accounting Data'!$I$2:$I$100000,\"3???\",'Accounting Data'!$J$2:$J$100000,\"64??\")","v":0},0,0,0,null,null,3200,{"$f":"SUMIFS('Accounting Data'!C2:C100000,'Accounting Data'!I2:I100000,\"32??\",'Accounting Data'!J2:J100000,\"61??\")","v":0},{"$f":"SUMIFS('Accounting Data'!C2:C100000,'Accounting Data'!E2:E100000,\"575\",'Accounting Data'!I2:I100000,\"32??\",'Accounting Data'!J2:J100000,\"61??\")+SUMIFS('Accounting Data'!C2:C100000,'Accounting Data'!E2:E100000,\"8??\",'Accounting Data'!I2:I100000,\"32??\",'Accounting Data'!J2:J100000,\"61??\")+SUMIFS('Accounting Data'!C2:C100000,'Accounting Data'!E2:E100000,\"9??\",'Accounting Data'!I2:I100000,\"32??\",'Accounting Data'!J2:J100000,\"61??\")","v":0},{"$f":"SUMIFS('Accounting Data'!C2:C100000,'Accounting Data'!H2:H100000,\"7??\",'Accounting Data'!I2:I100000,\"32??\",'Accounting Data'!J2:J100000,\"61??\")+SUMIFS('Accounting Data'!C2:C100000,'Accounting Data'!H2:H100000,\"8??\",'Accounting Data'!I2:I100000,\"32??\",'Accounting Data'!J2:J100000,\"61??\")+SUMIFS('Accounting Data'!C2:C100000,'Accounting Data'!H2:H100000,\"9??\",'Accounting Data'!I2:I100000,\"32??\",'Accounting Data'!J2:J100000,\"61??\")","v":0},{"$f":"SUMIFS('Accounting Data'!C2:C100000,'Accounting Data'!E2:E100000,\"575\",'Accounting Data'!H2:H100000,\"7??\",'Accounting Data'!I2:I100000,\"32??\",'Accounting Data'!J2:J100000,\"61??\")+SUMIFS('Accounting Data'!C2:C100000,'Accounting Data'!E2:E100000,\"575\",'Accounting Data'!H2:H100000,\"8??\",'Accounting Data'!I2:I100000,\"32??\",'Accounting Data'!J2:J100000,\"61??\")+SUMIFS('Accounting Data'!C2:C100000,'Accounting Data'!E2:E100000,\"575\",'Accounting Data'!H2:H100000,\"9??\",'Accounting Data'!I2:I100000,\"32??\",'Accounting Data'!J2:J100000,\"61??\")","v":0},{"$f":"SUMIFS('Accounting Data'!C2:C100000,'Accounting Data'!E2:E100000,\"8??\",'Accounting Data'!H2:H100000,\"7??\",'Accounting Data'!I2:I100000,\"32??\",'Accounting Data'!J2:J100000,\"61??\")+SUMIFS('Accounting Data'!C2:C100000,'Accounting Data'!E2:E100000,\"8??\",'Accounting Data'!H2:H100000,\"8??\",'Accounting Data'!I2:I100000,\"32??\",'Accounting Data'!J2:J100000,\"61??\")+SUMIFS('Accounting Data'!C2:C100000,'Accounting Data'!E2:E100000,\"8??\",'Accounting Data'!H2:H100000,\"9??\",'Accounting Data'!I2:I100000,\"32??\",'Accounting Data'!J2:J100000,\"61??\")","v":0},{"$f":"SUMIFS('Accounting Data'!C2:C100000,'Accounting Data'!E2:E100000,\"9??\",'Accounting Data'!H2:H100000,\"7??\",'Accounting Data'!I2:I100000,\"32??\",'Accounting Data'!J2:J100000,\"61??\")+SUMIFS('Accounting Data'!C2:C100000,'Accounting Data'!E2:E100000,\"9??\",'Accounting Data'!H2:H100000,\"8??\",'Accounting Data'!I2:I100000,\"32??\",'Accounting Data'!J2:J100000,\"61??\")+SUMIFS('Accounting Data'!C2:C100000,'Accounting Data'!E2:E100000,\"9??\",'Accounting Data'!H2:H100000,\"9??\",'Accounting Data'!I2:I100000,\"32??\",'Accounting Data'!J2:J100000,\"61??\")","v":0},null,3200,{"$f":"SUMIFS('Accounting Data'!C2:C100000,'Accounting Data'!I2:I100000,\"32??\",'Accounting Data'!J2:J100000,\"62??\")","v":0},{"$f":"SUMIFS('Accounting Data'!C2:C100000,'Accounting Data'!E2:E100000,\"575\",'Accounting Data'!I2:I100000,\"32??\",'Accounting Data'!J2:J100000,\"62??\")+SUMIFS('Accounting Data'!C2:C100000,'Accounting Data'!E2:E100000,\"8??\",'Accounting Data'!I2:I100000,\"32??\",'Accounting Data'!J2:J100000,\"62??\")+SUMIFS('Accounting Data'!C2:C100000,'Accounting Data'!E2:E100000,\"9??\",'Accounting Data'!I2:I100000,\"32??\",'Accounting Data'!J2:J100000,\"62??\")","v":0},{"$f":"SUMIFS('Accounting Data'!C2:C100000,'Accounting Data'!H2:H100000,\"7??\",'Accounting Data'!I2:I100000,\"32??\",'Accounting Data'!J2:J100000,\"62??\")+SUMIFS('Accounting Data'!C2:C100000,'Accounting Data'!H2:H100000,\"8??\",'Accounting Data'!I2:I100000,\"32??\",'Accounting Data'!J2:J100000,\"62??\")+SUMIFS('Accounting Data'!C2:C100000,'Accounting Data'!H2:H100000,\"9??\",'Accounting Data'!I2:I100000,\"32??\",'Accounting Data'!J2:J100000,\"62??\")","v":0},{"$f":"SUMIFS('Accounting Data'!C2:C100000,'Accounting Data'!E2:E100000,\"575\",'Accounting Data'!H2:H100000,\"7??\",'Accounting Data'!I2:I100000,\"32??\",'Accounting Data'!J2:J100000,\"62??\")+SUMIFS('Accounting Data'!C2:C100000,'Accounting Data'!E2:E100000,\"575\",'Accounting Data'!H2:H100000,\"8??\",'Accounting Data'!I2:I100000,\"32??\",'Accounting Data'!J2:J100000,\"62??\")+SUMIFS('Accounting Data'!C2:C100000,'Accounting Data'!E2:E100000,\"575\",'Accounting Data'!H2:H100000,\"9??\",'Accounting Data'!I2:I100000,\"32??\",'Accounting Data'!J2:J100000,\"62??\")","v":0},{"$f":"SUMIFS('Accounting Data'!C2:C100000,'Accounting Data'!E2:E100000,\"8??\",'Accounting Data'!H2:H100000,\"7??\",'Accounting Data'!I2:I100000,\"32??\",'Accounting Data'!J2:J100000,\"62??\")+SUMIFS('Accounting Data'!C2:C100000,'Accounting Data'!E2:E100000,\"8??\",'Accounting Data'!H2:H100000,\"8??\",'Accounting Data'!I2:I100000,\"32??\",'Accounting Data'!J2:J100000,\"62??\")+SUMIFS('Accounting Data'!C2:C100000,'Accounting Data'!E2:E100000,\"8??\",'Accounting Data'!H2:H100000,\"9??\",'Accounting Data'!I2:I100000,\"32??\",'Accounting Data'!J2:J100000,\"62??\")","v":0},{"$f":"SUMIFS('Accounting Data'!C2:C100000,'Accounting Data'!E2:E100000,\"9??\",'Accounting Data'!H2:H100000,\"7??\",'Accounting Data'!I2:I100000,\"32??\",'Accounting Data'!J2:J100000,\"62??\")+SUMIFS('Accounting Data'!C2:C100000,'Accounting Data'!E2:E100000,\"9??\",'Accounting Data'!H2:H100000,\"8??\",'Accounting Data'!I2:I100000,\"32??\",'Accounting Data'!J2:J100000,\"62??\")+SUMIFS('Accounting Data'!C2:C100000,'Accounting Data'!E2:E100000,\"9??\",'Accounting Data'!H2:H100000,\"9??\",'Accounting Data'!I2:I100000,\"32??\",'Accounting Data'!J2:J100000,\"62??\")","v":0},null,3200,{"$f":"SUMIFS('Accounting Data'!C2:C100000,'Accounting Data'!I2:I100000,\"32??\",'Accounting Data'!J2:J100000,\"63??\")+SUMIFS('Accounting Data'!C2:C100000,'Accounting Data'!I2:I100000,\"32??\",'Accounting Data'!J2:J100000,\"64??\")+SUMIFS('Accounting Data'!C2:C100000,'Accounting Data'!I2:I100000,\"32??\",'Accounting Data'!J2:J100000,\"65??\")","v":0},{"$f":"SUMIFS('Accounting Data'!C2:C100000,'Accounting Data'!E2:E100000,\"575\",'Accounting Data'!I2:I100000,\"32??\",'Accounting Data'!J2:J100000,\"63??\")+SUMIFS('Accounting Data'!C2:C100000,'Accounting Data'!E2:E100000,\"8??\",'Accounting Data'!I2:I100000,\"32??\",'Accounting Data'!J2:J100000,\"63??\")+SUMIFS('Accounting Data'!C2:C100000,'Accounting Data'!E2:E100000,\"9??\",'Accounting Data'!I2:I100000,\"32??\",'Accounting Data'!J2:J100000,\"63??\")","v":0},{"$f":"SUMIFS('Accounting Data'!C2:C100000,'Accounting Data'!E2:E100000,\"575\",'Accounting Data'!I2:I100000,\"32??\",'Accounting Data'!J2:J100000,\"64??\")+SUMIFS('Accounting Data'!C2:C100000,'Accounting Data'!E2:E100000,\"8??\",'Accounting Data'!I2:I100000,\"32??\",'Accounting Data'!J2:J100000,\"64??\")+SUMIFS('Accounting Data'!C2:C100000,'Accounting Data'!E2:E100000,\"9??\",'Accounting Data'!I2:I100000,\"32??\",'Accounting Data'!J2:J100000,\"64??\")","v":0},{"$f":"SUMIFS('Accounting Data'!C2:C100000,'Accounting Data'!E2:E100000,\"575\",'Accounting Data'!I2:I100000,\"32??\",'Accounting Data'!J2:J100000,\"65??\")+SUMIFS('Accounting Data'!C2:C100000,'Accounting Data'!E2:E100000,\"8??\",'Accounting Data'!I2:I100000,\"32??\",'Accounting Data'!J2:J100000,\"65??\")+SUMIFS('Accounting Data'!C2:C100000,'Accounting Data'!E2:E100000,\"9??\",'Accounting Data'!I2:I100000,\"32??\",'Accounting Data'!J2:J100000,\"65??\")","v":0},{"$f":"SUMIFS('Accounting Data'!C2:C100000,'Accounting Data'!H2:H100000,\"7??\",'Accounting Data'!I2:I100000,\"32??\",'Accounting Data'!J2:J100000,\"63??\")+SUMIFS('Accounting Data'!C2:C100000,'Accounting Data'!H2:H100000,\"8??\",'Accounting Data'!I2:I100000,\"32??\",'Accounting Data'!J2:J100000,\"63??\")+SUMIFS('Accounting Data'!C2:C100000,'Accounting Data'!H2:H100000,\"9??\",'Accounting Data'!I2:I100000,\"32??\",'Accounting Data'!J2:J100000,\"63??\")+SUMIFS('Accounting Data'!C2:C100000,'Accounting Data'!H2:H100000,\"7??\",'Accounting Data'!I2:I100000,\"32??\",'Accounting Data'!J2:J100000,\"64??\")+SUMIFS('Accounting Data'!C2:C100000,'Accounting Data'!H2:H100000,\"8??\",'Accounting Data'!I2:I100000,\"32??\",'Accounting Data'!J2:J100000,\"64??\")+SUMIFS('Accounting Data'!C2:C100000,'Accounting Data'!H2:H100000,\"9??\",'Accounting Data'!I2:I100000,\"32??\",'Accounting Data'!J2:J100000,\"64??\")+SUMIFS('Accounting Data'!C2:C100000,'Accounting Data'!H2:H100000,\"7??\",'Accounting Data'!I2:I100000,\"32??\",'Accounting Data'!J2:J100000,\"65??\")+SUMIFS('Accounting Data'!C2:C100000,'Accounting Data'!H2:H100000,\"8??\",'Accounting Data'!I2:I100000,\"32??\",'Accounting Data'!J2:J100000,\"65??\")+SUMIFS('Accounting Data'!C2:C100000,'Accounting Data'!H2:H100000,\"9??\",'Accounting Data'!I2:I100000,\"32??\",'Accounting Data'!J2:J100000,\"65??\")","v":0},{"$f":"SUMIFS('Accounting Data'!C2:C100000,'Accounting Data'!E2:E100000,\"575\",'Accounting Data'!H2:H100000,\"7??\",'Accounting Data'!I2:I100000,\"32??\",'Accounting Data'!J2:J100000,\"63??\")+SUMIFS('Accounting Data'!C2:C100000,'Accounting Data'!E2:E100000,\"575\",'Accounting Data'!H2:H100000,\"8??\",'Accounting Data'!I2:I100000,\"32??\",'Accounting Data'!J2:J100000,\"63??\")+SUMIFS('Accounting Data'!C2:C100000,'Accounting Data'!E2:E100000,\"575\",'Accounting Data'!H2:H100000,\"9??\",'Accounting Data'!I2:I100000,\"32??\",'Accounting Data'!J2:J100000,\"63??\")","v":0},{"$f":"SUMIFS('Accounting Data'!C2:C100000,'Accounting Data'!E2:E100000,\"575\",'Accounting Data'!H2:H100000,\"7??\",'Accounting Data'!I2:I100000,\"32??\",'Accounting Data'!J2:J100000,\"64??\")+SUMIFS('Accounting Data'!C2:C100000,'Accounting Data'!E2:E100000,\"575\",'Accounting Data'!H2:H100000,\"8??\",'Accounting Data'!I2:I100000,\"32??\",'Accounting Data'!J2:J100000,\"64??\")+SUMIFS('Accounting Data'!C2:C100000,'Accounting Data'!E2:E100000,\"575\",'Accounting Data'!H2:H100000,\"9??\",'Accounting Data'!I2:I100000,\"32??\",'Accounting Data'!J2:J100000,\"64??\")","v":0},{"$f":"SUMIFS('Accounting Data'!C2:C100000,'Accounting Data'!E2:E100000,\"575\",'Accounting Data'!H2:H100000,\"7??\",'Accounting Data'!I2:I100000,\"32??\",'Accounting Data'!J2:J100000,\"65??\")+SUMIFS('Accounting Data'!C2:C100000,'Accounting Data'!E2:E100000,\"575\",'Accounting Data'!H2:H100000,\"8??\",'Accounting Data'!I2:I100000,\"32??\",'Accounting Data'!J2:J100000,\"65??\")+SUMIFS('Accounting Data'!C2:C100000,'Accounting Data'!E2:E100000,\"575\",'Accounting Data'!H2:H100000,\"9??\",'Accounting Data'!I2:I100000,\"32??\",'Accounting Data'!J2:J100000,\"65??\")","v":0},{"$f":"SUMIFS('Accounting Data'!C2:C100000,'Accounting Data'!E2:E100000,\"8??\",'Accounting Data'!H2:H100000,\"7??\",'Accounting Data'!I2:I100000,\"32??\",'Accounting Data'!J2:J100000,\"63??\")+SUMIFS('Accounting Data'!C2:C100000,'Accounting Data'!E2:E100000,\"8??\",'Accounting Data'!H2:H100000,\"8??\",'Accounting Data'!I2:I100000,\"32??\",'Accounting Data'!J2:J100000,\"63??\")+SUMIFS('Accounting Data'!C2:C100000,'Accounting Data'!E2:E100000,\"8??\",'Accounting Data'!H2:H100000,\"9??\",'Accounting Data'!I2:I100000,\"32??\",'Accounting Data'!J2:J100000,\"63??\")","v":0},{"$f":"SUMIFS('Accounting Data'!C2:C100000,'Accounting Data'!E2:E100000,\"8??\",'Accounting Data'!H2:H100000,\"7??\",'Accounting Data'!I2:I100000,\"32??\",'Accounting Data'!J2:J100000,\"64??\")+SUMIFS('Accounting Data'!C2:C100000,'Accounting Data'!E2:E100000,\"8??\",'Accounting Data'!H2:H100000,\"8??\",'Accounting Data'!I2:I100000,\"32??\",'Accounting Data'!J2:J100000,\"64??\")+SUMIFS('Accounting Data'!C2:C100000,'Accounting Data'!E2:E100000,\"8??\",'Accounting Data'!H2:H100000,\"9??\",'Accounting Data'!I2:I100000,\"32??\",'Accounting Data'!J2:J100000,\"64??\")","v":0},{"$f":"SUMIFS('Accounting Data'!C2:C100000,'Accounting Data'!E2:E100000,\"8??\",'Accounting Data'!H2:H100000,\"7??\",'Accounting Data'!I2:I100000,\"32??\",'Accounting Data'!J2:J100000,\"65??\")+SUMIFS('Accounting Data'!C2:C100000,'Accounting Data'!E2:E100000,\"8??\",'Accounting Data'!H2:H100000,\"8??\",'Accounting Data'!I2:I100000,\"32??\",'Accounting Data'!J2:J100000,\"65??\")+SUMIFS('Accounting Data'!C2:C100000,'Accounting Data'!E2:E100000,\"8??\",'Accounting Data'!H2:H100000,\"9??\",'Accounting Data'!I2:I100000,\"32??\",'Accounting Data'!J2:J100000,\"65??\")","v":0},{"$f":"SUMIFS('Accounting Data'!C2:C100000,'Accounting Data'!E2:E100000,\"9??\",'Accounting Data'!H2:H100000,\"7??\",'Accounting Data'!I2:I100000,\"32??\",'Accounting Data'!J2:J100000,\"63??\")+SUMIFS('Accounting Data'!C2:C100000,'Accounting Data'!E2:E100000,\"9??\",'Accounting Data'!H2:H100000,\"8??\",'Accounting Data'!I2:I100000,\"32??\",'Accounting Data'!J2:J100000,\"63??\")+SUMIFS('Accounting Data'!C2:C100000,'Accounting Data'!E2:E100000,\"9??\",'Accounting Data'!H2:H100000,\"9??\",'Accounting Data'!I2:I100000,\"32??\",'Accounting Data'!J2:J100000,\"63??\")","v":0},{"$f":"SUMIFS('Accounting Data'!C2:C100000,'Accounting Data'!E2:E100000,\"9??\",'Accounting Data'!H2:H100000,\"7??\",'Accounting Data'!I2:I100000,\"32??\",'Accounting Data'!J2:J100000,\"64??\")+SUMIFS('Accounting Data'!C2:C100000,'Accounting Data'!E2:E100000,\"9??\",'Accounting Data'!H2:H100000,\"8??\",'Accounting Data'!I2:I100000,\"32??\",'Accounting Data'!J2:J100000,\"64??\")+SUMIFS('Accounting Data'!C2:C100000,'Accounting Data'!E2:E100000,\"9??\",'Accounting Data'!H2:H100000,\"9??\",'Accounting Data'!I2:I100000,\"32??\",'Accounting Data'!J2:J100000,\"64??\")","v":0},{"$f":"SUMIFS('Accounting Data'!C2:C100000,'Accounting Data'!E2:E100000,\"9??\",'Accounting Data'!H2:H100000,\"7??\",'Accounting Data'!I2:I100000,\"32??\",'Accounting Data'!J2:J100000,\"65??\")+SUMIFS('Accounting Data'!C2:C100000,'Accounting Data'!E2:E100000,\"9??\",'Accounting Data'!H2:H100000,\"8??\",'Accounting Data'!I2:I100000,\"32??\",'Accounting Data'!J2:J100000,\"65??\")+SUMIFS('Accounting Data'!C2:C100000,'Accounting Data'!E2:E100000,\"9??\",'Accounting Data'!H2:H100000,\"9??\",'Accounting Data'!I2:I100000,\"32??\",'Accounting Data'!J2:J100000,\"65??\")","v":0},null,3200,{"$f":"SUMIFS('Accounting Data'!C2:C100000,'Accounting Data'!I2:I100000,\"32??\",'Accounting Data'!J2:J100000,\"66??\")","v":0},{"$f":"SUMIFS('Accounting Data'!$C$2:$C$100000,'Accounting Data'!$E$2:$E$100000,\"575\",'Accounting Data'!$I$2:$I$100000,\"32??\",'Accounting Data'!$J$2:$J$100000,\"66??\")+SUMIFS('Accounting Data'!$C$2:$C$100000,'Accounting Data'!$E$2:$E$100000,\"8??\",'Accounting Data'!$I$2:$I$100000,\"32??\",'Accounting Data'!$J$2:$J$100000,\"66??\")+SUMIFS('Accounting Data'!$C$2:$C$100000,'Accounting Data'!$E$2:$E$100000,\"9??\",'Accounting Data'!$I$2:$I$100000,\"32??\",'Accounting Data'!$J$2:$J$100000,\"66??\")","v":0},{"$f":"SUMIFS('Accounting Data'!$C$2:$C$100000,'Accounting Data'!$H$2:$H$100000,\"7??\",'Accounting Data'!$I$2:$I$100000,\"32??\",'Accounting Data'!$J$2:$J$100000,\"66??\")+SUMIFS('Accounting Data'!$C$2:$C$100000,'Accounting Data'!$H$2:$H$100000,\"8??\",'Accounting Data'!$I$2:$I$100000,\"32??\",'Accounting Data'!$J$2:$J$100000,\"66??\")+SUMIFS('Accounting Data'!$C$2:$C$100000,'Accounting Data'!$H$2:$H$100000,\"9??\",'Accounting Data'!$I$2:$I$100000,\"32??\",'Accounting Data'!$J$2:$J$100000,\"66??\")","v":0},{"$f":"SUMIFS('Accounting Data'!$C$2:$C$100000,'Accounting Data'!$E$2:$E$100000,\"575\",'Accounting Data'!$H$2:$H$100000,\"7??\",'Accounting Data'!$I$2:$I$100000,\"32??\",'Accounting Data'!$J$2:$J$100000,\"66??\")+SUMIFS('Accounting Data'!$C$2:$C$100000,'Accounting Data'!$E$2:$E$100000,\"575\",'Accounting Data'!$H$2:$H$100000,\"8??\",'Accounting Data'!$I$2:$I$100000,\"32??\",'Accounting Data'!$J$2:$J$100000,\"66??\")+SUMIFS('Accounting Data'!$C$2:$C$100000,'Accounting Data'!$E$2:$E$100000,\"575\",'Accounting Data'!$H$2:$H$100000,\"9??\",'Accounting Data'!$I$2:$I$100000,\"32??\",'Accounting Data'!$J$2:$J$100000,\"66??\")","v":0},{"$f":"SUMIFS('Accounting Data'!$C$2:$C$100000,'Accounting Data'!$E$2:$E$100000,\"8??\",'Accounting Data'!$H$2:$H$100000,\"7??\",'Accounting Data'!$I$2:$I$100000,\"32??\",'Accounting Data'!$J$2:$J$100000,\"66??\")+SUMIFS('Accounting Data'!$C$2:$C$100000,'Accounting Data'!$E$2:$E$100000,\"8??\",'Accounting Data'!$H$2:$H$100000,\"8??\",'Accounting Data'!$I$2:$I$100000,\"32??\",'Accounting Data'!$J$2:$J$100000,\"66??\")+SUMIFS('Accounting Data'!$C$2:$C$100000,'Accounting Data'!$E$2:$E$100000,\"8??\",'Accounting Data'!$H$2:$H$100000,\"9??\",'Accounting Data'!$I$2:$I$100000,\"32??\",'Accounting Data'!$J$2:$J$100000,\"66??\")","v":0},{"$f":"SUMIFS('Accounting Data'!$C$2:$C$100000,'Accounting Data'!$E$2:$E$100000,\"9??\",'Accounting Data'!$H$2:$H$100000,\"7??\",'Accounting Data'!$I$2:$I$100000,\"32??\",'Accounting Data'!$J$2:$J$100000,\"66??\")+SUMIFS('Accounting Data'!$C$2:$C$100000,'Accounting Data'!$E$2:$E$100000,\"9??\",'Accounting Data'!$H$2:$H$100000,\"8??\",'Accounting Data'!$I$2:$I$100000,\"32??\",'Accounting Data'!$J$2:$J$100000,\"66??\")+SUMIFS('Accounting Data'!$C$2:$C$100000,'Accounting Data'!$E$2:$E$100000,\"9??\",'Accounting Data'!$H$2:$H$100000,\"9??\",'Accounting Data'!$I$2:$I$100000,\"32??\",'Accounting Data'!$J$2:$J$100000,\"66??\")","v":0},null,3200,{"$f":"SUMIFS('Accounting Data'!C2:C100000,'Accounting Data'!I2:I100000,\"32??\",'Accounting Data'!J2:J100000,\"67??\")","v":0},{"$f":"SUMIFS('Accounting Data'!$C$2:$C$100000,'Accounting Data'!$E$2:$E$100000,\"575\",'Accounting Data'!$I$2:$I$100000,\"32??\",'Accounting Data'!$J$2:$J$100000,\"67??\")+SUMIFS('Accounting Data'!$C$2:$C$100000,'Accounting Data'!$E$2:$E$100000,\"8??\",'Accounting Data'!$I$2:$I$100000,\"32??\",'Accounting Data'!$J$2:$J$100000,\"67??\")+SUMIFS('Accounting Data'!$C$2:$C$100000,'Accounting Data'!$E$2:$E$100000,\"9??\",'Accounting Data'!$I$2:$I$100000,\"32??\",'Accounting Data'!$J$2:$J$100000,\"67??\")","v":0},{"$f":"SUMIFS('Accounting Data'!$C$2:$C$100000,'Accounting Data'!$H$2:$H$100000,\"7??\",'Accounting Data'!$I$2:$I$100000,\"32??\",'Accounting Data'!$J$2:$J$100000,\"67??\")+SUMIFS('Accounting Data'!$C$2:$C$100000,'Accounting Data'!$H$2:$H$100000,\"8??\",'Accounting Data'!$I$2:$I$100000,\"32??\",'Accounting Data'!$J$2:$J$100000,\"67??\")+SUMIFS('Accounting Data'!$C$2:$C$100000,'Accounting Data'!$H$2:$H$100000,\"9??\",'Accounting Data'!$I$2:$I$100000,\"32??\",'Accounting Data'!$J$2:$J$100000,\"67??\")","v":0},{"$f":"SUMIFS('Accounting Data'!$C$2:$C$100000,'Accounting Data'!$E$2:$E$100000,\"575\",'Accounting Data'!$H$2:$H$100000,\"7??\",'Accounting Data'!$I$2:$I$100000,\"32??\",'Accounting Data'!$J$2:$J$100000,\"67??\")+SUMIFS('Accounting Data'!$C$2:$C$100000,'Accounting Data'!$E$2:$E$100000,\"575\",'Accounting Data'!$H$2:$H$100000,\"8??\",'Accounting Data'!$I$2:$I$100000,\"32??\",'Accounting Data'!$J$2:$J$100000,\"67??\")+SUMIFS('Accounting Data'!$C$2:$C$100000,'Accounting Data'!$E$2:$E$100000,\"575\",'Accounting Data'!$H$2:$H$100000,\"9??\",'Accounting Data'!$I$2:$I$100000,\"32??\",'Accounting Data'!$J$2:$J$100000,\"67??\")","v":0},{"$f":"SUMIFS('Accounting Data'!$C$2:$C$100000,'Accounting Data'!$E$2:$E$100000,\"8??\",'Accounting Data'!$H$2:$H$100000,\"7??\",'Accounting Data'!$I$2:$I$100000,\"32??\",'Accounting Data'!$J$2:$J$100000,\"67??\")+SUMIFS('Accounting Data'!$C$2:$C$100000,'Accounting Data'!$E$2:$E$100000,\"8??\",'Accounting Data'!$H$2:$H$100000,\"8??\",'Accounting Data'!$I$2:$I$100000,\"32??\",'Accounting Data'!$J$2:$J$100000,\"67??\")+SUMIFS('Accounting Data'!$C$2:$C$100000,'Accounting Data'!$E$2:$E$100000,\"8??\",'Accounting Data'!$H$2:$H$100000,\"9??\",'Accounting Data'!$I$2:$I$100000,\"32??\",'Accounting Data'!$J$2:$J$100000,\"67??\")","v":0},{"$f":"SUMIFS('Accounting Data'!$C$2:$C$100000,'Accounting Data'!$E$2:$E$100000,\"9??\",'Accounting Data'!$H$2:$H$100000,\"7??\",'Accounting Data'!$I$2:$I$100000,\"32??\",'Accounting Data'!$J$2:$J$100000,\"67??\")+SUMIFS('Accounting Data'!$C$2:$C$100000,'Accounting Data'!$E$2:$E$100000,\"9??\",'Accounting Data'!$H$2:$H$100000,\"8??\",'Accounting Data'!$I$2:$I$100000,\"32??\",'Accounting Data'!$J$2:$J$100000,\"67??\")+SUMIFS('Accounting Data'!$C$2:$C$100000,'Accounting Data'!$E$2:$E$100000,\"9??\",'Accounting Data'!$H$2:$H$100000,\"9??\",'Accounting Data'!$I$2:$I$100000,\"32??\",'Accounting Data'!$J$2:$J$100000,\"67??\")","v":0},null,3200,{"$f":"SUMIFS('Accounting Data'!C2:C100000,'Accounting Data'!I2:I100000,\"32??\",'Accounting Data'!J2:J100000,\"681?\")","v":0},{"$f":"SUMIFS('Accounting Data'!$C$2:$C$100000,'Accounting Data'!$E$2:$E$100000,\"575\",'Accounting Data'!$I$2:$I$100000,\"32??\",'Accounting Data'!$J$2:$J$100000,\"681?\")+SUMIFS('Accounting Data'!$C$2:$C$100000,'Accounting Data'!$E$2:$E$100000,\"8??\",'Accounting Data'!$I$2:$I$100000,\"32??\",'Accounting Data'!$J$2:$J$100000,\"681?\")+SUMIFS('Accounting Data'!$C$2:$C$100000,'Accounting Data'!$E$2:$E$100000,\"9??\",'Accounting Data'!$I$2:$I$100000,\"32??\",'Accounting Data'!$J$2:$J$100000,\"681?\")","v":0},{"$f":"SUMIFS('Accounting Data'!$C$2:$C$100000,'Accounting Data'!$H$2:$H$100000,\"7??\",'Accounting Data'!$I$2:$I$100000,\"32??\",'Accounting Data'!$J$2:$J$100000,\"681?\")+SUMIFS('Accounting Data'!$C$2:$C$100000,'Accounting Data'!$H$2:$H$100000,\"8??\",'Accounting Data'!$I$2:$I$100000,\"32??\",'Accounting Data'!$J$2:$J$100000,\"681?\")+SUMIFS('Accounting Data'!$C$2:$C$100000,'Accounting Data'!$H$2:$H$100000,\"9??\",'Accounting Data'!$I$2:$I$100000,\"32??\",'Accounting Data'!$J$2:$J$100000,\"681?\")","v":0},{"$f":"SUMIFS('Accounting Data'!$C$2:$C$100000,'Accounting Data'!$E$2:$E$100000,\"575\",'Accounting Data'!$H$2:$H$100000,\"7??\",'Accounting Data'!$I$2:$I$100000,\"32??\",'Accounting Data'!$J$2:$J$100000,\"681?\")+SUMIFS('Accounting Data'!$C$2:$C$100000,'Accounting Data'!$E$2:$E$100000,\"575\",'Accounting Data'!$H$2:$H$100000,\"8??\",'Accounting Data'!$I$2:$I$100000,\"32??\",'Accounting Data'!$J$2:$J$100000,\"681?\")+SUMIFS('Accounting Data'!$C$2:$C$100000,'Accounting Data'!$E$2:$E$100000,\"575\",'Accounting Data'!$H$2:$H$100000,\"9??\",'Accounting Data'!$I$2:$I$100000,\"32??\",'Accounting Data'!$J$2:$J$100000,\"681?\")","v":0},{"$f":"SUMIFS('Accounting Data'!$C$2:$C$100000,'Accounting Data'!$E$2:$E$100000,\"8??\",'Accounting Data'!$H$2:$H$100000,\"7??\",'Accounting Data'!$I$2:$I$100000,\"32??\",'Accounting Data'!$J$2:$J$100000,\"681?\")+SUMIFS('Accounting Data'!$C$2:$C$100000,'Accounting Data'!$E$2:$E$100000,\"8??\",'Accounting Data'!$H$2:$H$100000,\"8??\",'Accounting Data'!$I$2:$I$100000,\"32??\",'Accounting Data'!$J$2:$J$100000,\"681?\")+SUMIFS('Accounting Data'!$C$2:$C$100000,'Accounting Data'!$E$2:$E$100000,\"8??\",'Accounting Data'!$H$2:$H$100000,\"9??\",'Accounting Data'!$I$2:$I$100000,\"32??\",'Accounting Data'!$J$2:$J$100000,\"681?\")","v":0},{"$f":"SUMIFS('Accounting Data'!$C$2:$C$100000,'Accounting Data'!$E$2:$E$100000,\"9??\",'Accounting Data'!$H$2:$H$100000,\"7??\",'Accounting Data'!$I$2:$I$100000,\"32??\",'Accounting Data'!$J$2:$J$100000,\"681?\")+SUMIFS('Accounting Data'!$C$2:$C$100000,'Accounting Data'!$E$2:$E$100000,\"9??\",'Accounting Data'!$H$2:$H$100000,\"8??\",'Accounting Data'!$I$2:$I$100000,\"32??\",'Accounting Data'!$J$2:$J$100000,\"681?\")+SUMIFS('Accounting Data'!$C$2:$C$100000,'Accounting Data'!$E$2:$E$100000,\"9??\",'Accounting Data'!$H$2:$H$100000,\"9??\",'Accounting Data'!$I$2:$I$100000,\"32??\",'Accounting Data'!$J$2:$J$100000,\"681?\")","v":0},null,5000,{"$f":"SUMIFS('Accounting Data'!C2:C100000,'Accounting Data'!I2:I100000,\"5???\",'Accounting Data'!J2:J100000,\"6841\")+SUMIFS('Accounting Data'!C2:C100000,'Accounting Data'!I2:I100000,\"5???\",'Accounting Data'!J2:J100000,\"6842\")+SUMIFS('Accounting Data'!C2:C100000,'Accounting Data'!I2:I100000,\"5???\",'Accounting Data'!J2:J100000,\"6843\")","v":2146402},{"$f":"SUMIFS('Accounting Data'!$C$2:$C$100000,'Accounting Data'!$E$2:$E$100000,\"575\",'Accounting Data'!$I$2:$I$100000,\"5???\",'Accounting Data'!$J$2:$J$100000,\"6841\")+SUMIFS('Accounting Data'!$C$2:$C$100000,'Accounting Data'!$E$2:$E$100000,\"8??\",'Accounting Data'!$I$2:$I$100000,\"5???\",'Accounting Data'!$J$2:$J$100000,\"6841\")+SUMIFS('Accounting Data'!$C$2:$C$100000,'Accounting Data'!$E$2:$E$100000,\"9??\",'Accounting Data'!$I$2:$I$100000,\"5???\",'Accounting Data'!$J$2:$J$100000,\"6841\")","v":0},{"$f":"SUMIFS('Accounting Data'!$C$2:$C$100000,'Accounting Data'!$E$2:$E$100000,\"575\",'Accounting Data'!$I$2:$I$100000,\"5???\",'Accounting Data'!$J$2:$J$100000,\"6842\")+SUMIFS('Accounting Data'!$C$2:$C$100000,'Accounting Data'!$E$2:$E$100000,\"8??\",'Accounting Data'!$I$2:$I$100000,\"5???\",'Accounting Data'!$J$2:$J$100000,\"6842\")+SUMIFS('Accounting Data'!$C$2:$C$100000,'Accounting Data'!$E$2:$E$100000,\"9??\",'Accounting Data'!$I$2:$I$100000,\"5???\",'Accounting Data'!$J$2:$J$100000,\"6842\")","v":0},{"$f":"SUMIFS('Accounting Data'!$C$2:$C$100000,'Accounting Data'!$E$2:$E$100000,\"575\",'Accounting Data'!$I$2:$I$100000,\"5???\",'Accounting Data'!$J$2:$J$100000,\"6843\")+SUMIFS('Accounting Data'!$C$2:$C$100000,'Accounting Data'!$E$2:$E$100000,\"8??\",'Accounting Data'!$I$2:$I$100000,\"5???\",'Accounting Data'!$J$2:$J$100000,\"6843\")+SUMIFS('Accounting Data'!$C$2:$C$100000,'Accounting Data'!$E$2:$E$100000,\"9??\",'Accounting Data'!$I$2:$I$100000,\"5???\",'Accounting Data'!$J$2:$J$100000,\"6843\")","v":0},{"$f":"SUMIFS('Accounting Data'!C2:C100000,'Accounting Data'!H2:H100000,\"7??\",'Accounting Data'!I2:I100000,\"5???\",'Accounting Data'!J2:J100000,\"6841\")+SUMIFS('Accounting Data'!C2:C100000,'Accounting Data'!H2:H100000,\"8??\",'Accounting Data'!I2:I100000,\"5???\",'Accounting Data'!J2:J100000,\"6841\")+SUMIFS('Accounting Data'!C2:C100000,'Accounting Data'!H2:H100000,\"9??\",'Accounting Data'!I2:I100000,\"5???\",'Accounting Data'!J2:J100000,\"6841\")+SUMIFS('Accounting Data'!C2:C100000,'Accounting Data'!H2:H100000,\"7??\",'Accounting Data'!I2:I100000,\"5???\",'Accounting Data'!J2:J100000,\"6842\")+SUMIFS('Accounting Data'!C2:C100000,'Accounting Data'!H2:H100000,\"8??\",'Accounting Data'!I2:I100000,\"5???\",'Accounting Data'!J2:J100000,\"6842\")+SUMIFS('Accounting Data'!C2:C100000,'Accounting Data'!H2:H100000,\"9??\",'Accounting Data'!I2:I100000,\"5???\",'Accounting Data'!J2:J100000,\"6842\")+SUMIFS('Accounting Data'!C2:C100000,'Accounting Data'!H2:H100000,\"7??\",'Accounting Data'!I2:I100000,\"5???\",'Accounting Data'!J2:J100000,\"6843\")+SUMIFS('Accounting Data'!C2:C100000,'Accounting Data'!H2:H100000,\"8??\",'Accounting Data'!I2:I100000,\"5???\",'Accounting Data'!J2:J100000,\"6843\")+SUMIFS('Accounting Data'!C2:C100000,'Accounting Data'!H2:H100000,\"9??\",'Accounting Data'!I2:I100000,\"5???\",'Accounting Data'!J2:J100000,\"6843\")","v":0},{"$f":"SUMIFS('Accounting Data'!$C$2:$C$100000,'Accounting Data'!$E$2:$E$100000,\"575\",'Accounting Data'!$H$2:$H$100000,\"7??\",'Accounting Data'!$I$2:$I$100000,\"5???\",'Accounting Data'!$J$2:$J$100000,\"6841\")+SUMIFS('Accounting Data'!$C$2:$C$100000,'Accounting Data'!$E$2:$E$100000,\"575\",'Accounting Data'!$H$2:$H$100000,\"8??\",'Accounting Data'!$I$2:$I$100000,\"5???\",'Accounting Data'!$J$2:$J$100000,\"6841\")+SUMIFS('Accounting Data'!$C$2:$C$100000,'Accounting Data'!$E$2:$E$100000,\"575\",'Accounting Data'!$H$2:$H$100000,\"9??\",'Accounting Data'!$I$2:$I$100000,\"5???\",'Accounting Data'!$J$2:$J$100000,\"6841\")","v":0},{"$f":"SUMIFS('Accounting Data'!$C$2:$C$100000,'Accounting Data'!$E$2:$E$100000,\"575\",'Accounting Data'!$H$2:$H$100000,\"7??\",'Accounting Data'!$I$2:$I$100000,\"5???\",'Accounting Data'!$J$2:$J$100000,\"6842\")+SUMIFS('Accounting Data'!$C$2:$C$100000,'Accounting Data'!$E$2:$E$100000,\"575\",'Accounting Data'!$H$2:$H$100000,\"8??\",'Accounting Data'!$I$2:$I$100000,\"5???\",'Accounting Data'!$J$2:$J$100000,\"6842\")+SUMIFS('Accounting Data'!$C$2:$C$100000,'Accounting Data'!$E$2:$E$100000,\"575\",'Accounting Data'!$H$2:$H$100000,\"9??\",'Accounting Data'!$I$2:$I$100000,\"5???\",'Accounting Data'!$J$2:$J$100000,\"6842\")","v":0},{"$f":"SUMIFS('Accounting Data'!$C$2:$C$100000,'Accounting Data'!$E$2:$E$100000,\"575\",'Accounting Data'!$H$2:$H$100000,\"7??\",'Accounting Data'!$I$2:$I$100000,\"5???\",'Accounting Data'!$J$2:$J$100000,\"6843\")+SUMIFS('Accounting Data'!$C$2:$C$100000,'Accounting Data'!$E$2:$E$100000,\"575\",'Accounting Data'!$H$2:$H$100000,\"8??\",'Accounting Data'!$I$2:$I$100000,\"5???\",'Accounting Data'!$J$2:$J$100000,\"6843\")+SUMIFS('Accounting Data'!$C$2:$C$100000,'Accounting Data'!$E$2:$E$100000,\"575\",'Accounting Data'!$H$2:$H$100000,\"9??\",'Accounting Data'!$I$2:$I$100000,\"5???\",'Accounting Data'!$J$2:$J$100000,\"6843\")","v":0},{"$f":"SUMIFS('Accounting Data'!$C$2:$C$100000,'Accounting Data'!$E$2:$E$100000,\"8??\",'Accounting Data'!$H$2:$H$100000,\"7??\",'Accounting Data'!$I$2:$I$100000,\"5???\",'Accounting Data'!$J$2:$J$100000,\"6841\")+SUMIFS('Accounting Data'!$C$2:$C$100000,'Accounting Data'!$E$2:$E$100000,\"8??\",'Accounting Data'!$H$2:$H$100000,\"8??\",'Accounting Data'!$I$2:$I$100000,\"5???\",'Accounting Data'!$J$2:$J$100000,\"6841\")+SUMIFS('Accounting Data'!$C$2:$C$100000,'Accounting Data'!$E$2:$E$100000,\"8??\",'Accounting Data'!$H$2:$H$100000,\"9??\",'Accounting Data'!$I$2:$I$100000,\"5???\",'Accounting Data'!$J$2:$J$100000,\"6841\")","v":0},{"$f":"SUMIFS('Accounting Data'!$C$2:$C$100000,'Accounting Data'!$E$2:$E$100000,\"8??\",'Accounting Data'!$H$2:$H$100000,\"7??\",'Accounting Data'!$I$2:$I$100000,\"5???\",'Accounting Data'!$J$2:$J$100000,\"6842\")+SUMIFS('Accounting Data'!$C$2:$C$100000,'Accounting Data'!$E$2:$E$100000,\"8??\",'Accounting Data'!$H$2:$H$100000,\"8??\",'Accounting Data'!$I$2:$I$100000,\"5???\",'Accounting Data'!$J$2:$J$100000,\"6842\")+SUMIFS('Accounting Data'!$C$2:$C$100000,'Accounting Data'!$E$2:$E$100000,\"8??\",'Accounting Data'!$H$2:$H$100000,\"9??\",'Accounting Data'!$I$2:$I$100000,\"5???\",'Accounting Data'!$J$2:$J$100000,\"6842\")","v":0},{"$f":"SUMIFS('Accounting Data'!$C$2:$C$100000,'Accounting Data'!$E$2:$E$100000,\"8??\",'Accounting Data'!$H$2:$H$100000,\"7??\",'Accounting Data'!$I$2:$I$100000,\"5???\",'Accounting Data'!$J$2:$J$100000,\"6843\")+SUMIFS('Accounting Data'!$C$2:$C$100000,'Accounting Data'!$E$2:$E$100000,\"8??\",'Accounting Data'!$H$2:$H$100000,\"8??\",'Accounting Data'!$I$2:$I$100000,\"5???\",'Accounting Data'!$J$2:$J$100000,\"6843\")+SUMIFS('Accounting Data'!$C$2:$C$100000,'Accounting Data'!$E$2:$E$100000,\"8??\",'Accounting Data'!$H$2:$H$100000,\"9??\",'Accounting Data'!$I$2:$I$100000,\"5???\",'Accounting Data'!$J$2:$J$100000,\"6843\")","v":0},{"$f":"SUMIFS('Accounting Data'!$C$2:$C$100000,'Accounting Data'!$E$2:$E$100000,\"9??\",'Accounting Data'!$H$2:$H$100000,\"7??\",'Accounting Data'!$I$2:$I$100000,\"5???\",'Accounting Data'!$J$2:$J$100000,\"6841\")+SUMIFS('Accounting Data'!$C$2:$C$100000,'Accounting Data'!$E$2:$E$100000,\"9??\",'Accounting Data'!$H$2:$H$100000,\"8??\",'Accounting Data'!$I$2:$I$100000,\"5???\",'Accounting Data'!$J$2:$J$100000,\"6841\")+SUMIFS('Accounting Data'!$C$2:$C$100000,'Accounting Data'!$E$2:$E$100000,\"9??\",'Accounting Data'!$H$2:$H$100000,\"9??\",'Accounting Data'!$I$2:$I$100000,\"5???\",'Accounting Data'!$J$2:$J$100000,\"6841\")","v":0},{"$f":"SUMIFS('Accounting Data'!$C$2:$C$100000,'Accounting Data'!$E$2:$E$100000,\"9??\",'Accounting Data'!$H$2:$H$100000,\"7??\",'Accounting Data'!$I$2:$I$100000,\"5???\",'Accounting Data'!$J$2:$J$100000,\"6842\")+SUMIFS('Accounting Data'!$C$2:$C$100000,'Accounting Data'!$E$2:$E$100000,\"9??\",'Accounting Data'!$H$2:$H$100000,\"8??\",'Accounting Data'!$I$2:$I$100000,\"5???\",'Accounting Data'!$J$2:$J$100000,\"6842\")+SUMIFS('Accounting Data'!$C$2:$C$100000,'Accounting Data'!$E$2:$E$100000,\"9??\",'Accounting Data'!$H$2:$H$100000,\"9??\",'Accounting Data'!$I$2:$I$100000,\"5???\",'Accounting Data'!$J$2:$J$100000,\"6842\")","v":0},{"$f":"SUMIFS('Accounting Data'!$C$2:$C$100000,'Accounting Data'!$E$2:$E$100000,\"9??\",'Accounting Data'!$H$2:$H$100000,\"7??\",'Accounting Data'!$I$2:$I$100000,\"5???\",'Accounting Data'!$J$2:$J$100000,\"6843\")+SUMIFS('Accounting Data'!$C$2:$C$100000,'Accounting Data'!$E$2:$E$100000,\"9??\",'Accounting Data'!$H$2:$H$100000,\"8??\",'Accounting Data'!$I$2:$I$100000,\"5???\",'Accounting Data'!$J$2:$J$100000,\"6843\")+SUMIFS('Accounting Data'!$C$2:$C$100000,'Accounting Data'!$E$2:$E$100000,\"9??\",'Accounting Data'!$H$2:$H$100000,\"9??\",'Accounting Data'!$I$2:$I$100000,\"5???\",'Accounting Data'!$J$2:$J$100000,\"6843\")","v":0},null,3200,{"$f":"SUM(SUMIFS('Accounting Data'!C2:C100000,'Accounting Data'!I2:I100000,\"32??\",'Accounting Data'!J2:J100000,{\"689?\",\"6885\"}))","v":0},{"$f":"SUM(SUMIFS('Accounting Data'!$C$2:$C$100000,'Accounting Data'!$E$2:$E$100000,\"575\",'Accounting Data'!$I$2:$I$100000,\"32??\",'Accounting Data'!$J$2:$J$100000,{\"689?\",\"6885\"}))+SUM(SUMIFS('Accounting Data'!$C$2:$C$100000,'Accounting Data'!$E$2:$E$100000,\"8??\",'Accounting Data'!$I$2:$I$100000,\"32??\",'Accounting Data'!$J$2:$J$100000,{\"689?\",\"6885\"}))+SUM(SUMIFS('Accounting Data'!$C$2:$C$100000,'Accounting Data'!$E$2:$E$100000,\"9??\",'Accounting Data'!$I$2:$I$100000,\"32??\",'Accounting Data'!$J$2:$J$100000,{\"689?\",\"6885\"}))","v":0},{"$f":"SUM(SUMIFS('Accounting Data'!$C$2:$C$100000,'Accounting Data'!$H$2:$H$100000,\"7??\",'Accounting Data'!$I$2:$I$100000,\"32??\",'Accounting Data'!$J$2:$J$100000,{\"689?\",\"6885\"}))+SUM(SUMIFS('Accounting Data'!$C$2:$C$100000,'Accounting Data'!$H$2:$H$100000,\"8??\",'Accounting Data'!$I$2:$I$100000,\"32??\",'Accounting Data'!$J$2:$J$100000,{\"689?\",\"6885\"}))+SUM(SUMIFS('Accounting Data'!$C$2:$C$100000,'Accounting Data'!$H$2:$H$100000,\"9??\",'Accounting Data'!$I$2:$I$100000,\"32??\",'Accounting Data'!$J$2:$J$100000,{\"689?\",\"6885\"}))","v":0},{"$f":"SUM(SUMIFS('Accounting Data'!$C$2:$C$100000,'Accounting Data'!$E$2:$E$100000,\"575\",'Accounting Data'!$H$2:$H$100000,\"7??\",'Accounting Data'!$I$2:$I$100000,\"32??\",'Accounting Data'!$J$2:$J$100000,{\"689?\",\"6885\"}))+SUM(SUMIFS('Accounting Data'!$C$2:$C$100000,'Accounting Data'!$E$2:$E$100000,\"575\",'Accounting Data'!$H$2:$H$100000,\"8??\",'Accounting Data'!$I$2:$I$100000,\"32??\",'Accounting Data'!$J$2:$J$100000,{\"689?\",\"6885\"}))+SUM(SUMIFS('Accounting Data'!$C$2:$C$100000,'Accounting Data'!$E$2:$E$100000,\"575\",'Accounting Data'!$H$2:$H$100000,\"9??\",'Accounting Data'!$I$2:$I$100000,\"32??\",'Accounting Data'!$J$2:$J$100000,{\"689?\",\"6885\"}))","v":0},{"$f":"SUM(SUMIFS('Accounting Data'!$C$2:$C$100000,'Accounting Data'!$E$2:$E$100000,\"8??\",'Accounting Data'!$H$2:$H$100000,\"7??\",'Accounting Data'!$I$2:$I$100000,\"32??\",'Accounting Data'!$J$2:$J$100000,{\"689?\",\"6885\"}))+SUM(SUMIFS('Accounting Data'!$C$2:$C$100000,'Accounting Data'!$E$2:$E$100000,\"8??\",'Accounting Data'!$H$2:$H$100000,\"8??\",'Accounting Data'!$I$2:$I$100000,\"32??\",'Accounting Data'!$J$2:$J$100000,{\"689?\",\"6885\"}))+SUM(SUMIFS('Accounting Data'!$C$2:$C$100000,'Accounting Data'!$E$2:$E$100000,\"8??\",'Accounting Data'!$H$2:$H$100000,\"9??\",'Accounting Data'!$I$2:$I$100000,\"32??\",'Accounting Data'!$J$2:$J$100000,{\"689?\",\"6885\"}))","v":0},{"$f":"SUM(SUMIFS('Accounting Data'!$C$2:$C$100000,'Accounting Data'!$E$2:$E$100000,\"9??\",'Accounting Data'!$H$2:$H$100000,\"7??\",'Accounting Data'!$I$2:$I$100000,\"32??\",'Accounting Data'!$J$2:$J$100000,{\"689?\",\"6885\"}))+SUM(SUMIFS('Accounting Data'!$C$2:$C$100000,'Accounting Data'!$E$2:$E$100000,\"9??\",'Accounting Data'!$H$2:$H$100000,\"8??\",'Accounting Data'!$I$2:$I$100000,\"32??\",'Accounting Data'!$J$2:$J$100000,{\"689?\",\"6885\"}))+SUM(SUMIFS('Accounting Data'!$C$2:$C$100000,'Accounting Data'!$E$2:$E$100000,\"9??\",'Accounting Data'!$H$2:$H$100000,\"9??\",'Accounting Data'!$I$2:$I$100000,\"32??\",'Accounting Data'!$J$2:$J$100000,{\"689?\",\"6885\"}))","v":0},null,3300,{"$f":"SUMIFS('Accounting Data'!$C$2:$C$100000,'Accounting Data'!$I$2:$I$100000,\"33??\",'Accounting Data'!$J$2:$J$100000,\"6???\")","v":372759},{"$f":"SUMIFS('Accounting Data'!$C$2:$C$100000,'Accounting Data'!$I$2:$I$100000,\"33??\",'Accounting Data'!$J$2:$J$100000,\"69??\")","v":0},{"$f":"SUMIFS('Accounting Data'!$C$2:$C$100000,'Accounting Data'!$E$2:$E$100000,\"575\",'Accounting Data'!$I$2:$I$100000,\"33??\",'Accounting Data'!$J$2:$J$100000,\"6???\")","v":0},{"$f":"SUMIFS('Accounting Data'!$C$2:$C$100000,'Accounting Data'!$E$2:$E$100000,\"8??\",'Accounting Data'!$I$2:$I$100000,\"33??\",'Accounting Data'!$J$2:$J$100000,\"6???\")+SUMIFS('Accounting Data'!$C$2:$C$100000,'Accounting Data'!$E$2:$E$100000,\"9??\",'Accounting Data'!$I$2:$I$100000,\"33??\",'Accounting Data'!$J$2:$J$100000,\"6???\")","v":0},{"$f":"SUMIFS('Accounting Data'!$C$2:$C$100000,'Accounting Data'!$E$2:$E$100000,\"575\",'Accounting Data'!$I$2:$I$100000,\"33??\",'Accounting Data'!$J$2:$J$100000,\"69??\")","v":0},{"$f":"SUMIFS('Accounting Data'!$C$2:$C$100000,'Accounting Data'!$E$2:$E$100000,\"8??\",'Accounting Data'!$I$2:$I$100000,\"33??\",'Accounting Data'!$J$2:$J$100000,\"69??\")+SUMIFS('Accounting Data'!$C$2:$C$100000,'Accounting Data'!$E$2:$E$100000,\"9??\",'Accounting Data'!$I$2:$I$100000,\"33??\",'Accounting Data'!$J$2:$J$100000,\"69??\")","v":0}]
["         3400 Bookstore Operations","12.",{"$f":"(AA24-AB24-AC24)+(AD24+AE24+AF24)","v":0},{"$f":"(AI24-AJ24-AK24)+(AL24+AM24+AN24)","v":0},{"$f":"(AQ24-AR24-AS24-AT24-AU24)+(AV24+AW24+AX24+AY24+AZ24+BA24+BB24+BC24+BD24)","v":0},{"$f":"(BG24-BH24-BI24)+(BJ24+BK24+BL24)","v":0},{"$f":"(BO24-BP24-BQ24)+(BR24+BS24+BT24)","v":0},{"$f":"(BW24-BX24-BY24)+(BZ24+CA24+CB24)","v":0},null,null,null,{"$f":"(CU24-CV24-CW24)+(CX24+CY24+CZ24)","v":0},{"$f":"(DC23-DD23)-((DE23+DF23)-(DG23+DH23))","v":0},{"$f":"SUM(C23:M23)","v":0},"12.",null,null,null,"6500",{"$f":"SUMIFS('Accounting Data'!$C$2:$C$100000,'Accounting Data'!$E$2:$E$100000,\"378\",'Accounting Data'!$I$2:$I$100000,\"1???\",'Accounting Data'!$J$2:$J$100000,\"65??\")+SUMIFS('Accounting Data'!$C$2:$C$100000,'Accounting Data'!$E$2:$E$100000,\"378\",'Accounting Data'!$I$2:$I$100000,\"2???\",'Accounting Data'!$J$2:$J$100000,\"65??\")+SUMIFS('Accounting Data'!$C$2:$C$100000,'Accounting Data'!$E$2:$E$100000,\"378\",'Accounting Data'!$I$2:$I$100000,\"3???\",'Accounting Data'!$J$2:$J$100000,\"65??\")","v":0},0,0,0,null,null,null,null,null,null,null,null,null,null,null,null,null,null,null,null,null,null,null,null,null,null,null,null,null,null,null,null,null,null,null,null,null,null,null,null,null,null,null,null,null,null,null,null,null,null,null,null,null,null,null,null,null,null,null,null,null,null,null,null,null,null,null,null,null,null,null,null,null,null,null,null,null,null,null,null,null,null,null,null,null,null,3400,{"$f":"SUMIFS('Accounting Data'!$C$2:$C$100000,'Accounting Data'!$H$2:$H$100000,\"7??\",'Accounting Data'!$I$2:$I$100000,\"34??\",'Accounting Data'!$J$2:$J$100000,\"6???\")+SUMIFS('Accounting Data'!$C$2:$C$100000,'Accounting Data'!$H$2:$H$100000,\"8??\",'Accounting Data'!$I$2:$I$100000,\"34??\",'Accounting Data'!$J$2:$J$100000,\"6???\")+SUMIFS('Accounting Data'!$C$2:$C$100000,'Accounting Data'!$H$2:$H$100000,\"9??\",'Accounting Data'!$I$2:$I$100000,\"34??\",'Accounting Data'!$J$2:$J$100000,\"6???\")","v":0},{"$f":"SUMIFS('Accounting Data'!$C$2:$C$100000,'Accounting Data'!$H$2:$H$100000,\"7??\",'Accounting Data'!$I$2:$I$100000,\"34??\",'Accounting Data'!$J$2:$J$100000,\"69??\")+SUMIFS('Accounting Data'!$C$2:$C$100000,'Accounting Data'!$H$2:$H$100000,\"8??\",'Accounting Data'!$I$2:$I$100000,\"34??\",'Accounting Data'!$J$2:$J$100000,\"69??\")+SUMIFS('Accounting Data'!$C$2:$C$100000,'Accounting Data'!$H$2:$H$100000,\"9??\",'Accounting Data'!$I$2:$I$100000,\"34??\",'Accounting Data'!$J$2:$J$100000,\"69??\")","v":0},{"$f":"SUMIFS('Accounting Data'!$C$2:$C$100000,'Accounting Data'!$E$2:$E$100000,\"575\",'Accounting Data'!$H$2:$H$100000,\"7??\",'Accounting Data'!$I$2:$I$100000,\"34??\",'Accounting Data'!$J$2:$J$100000,\"6???\")+SUMIFS('Accounting Data'!$C$2:$C$100000,'Accounting Data'!$E$2:$E$100000,\"575\",'Accounting Data'!$H$2:$H$100000,\"8??\",'Accounting Data'!$I$2:$I$100000,\"34??\",'Accounting Data'!$J$2:$J$100000,\"6???\")+SUMIFS('Accounting Data'!$C$2:$C$100000,'Accounting Data'!$E$2:$E$100000,\"575\",'Accounting Data'!$H$2:$H$100000,\"9??\",'Accounting Data'!$I$2:$I$100000,\"34??\",'Accounting Data'!$J$2:$J$100000,\"6???\")","v":0},{"$f":"SUMIFS('Accounting Data'!$C$2:$C$100000,'Accounting Data'!$E$2:$E$100000,\"8??\",'Accounting Data'!$H$2:$H$100000,\"7??\",'Accounting Data'!$I$2:$I$100000,\"34??\",'Accounting Data'!$J$2:$J$100000,\"6???\")+SUMIFS('Accounting Data'!$C$2:$C$100000,'Accounting Data'!$E$2:$E$100000,\"8??\",'Accounting Data'!$H$2:$H$100000,\"8??\",'Accounting Data'!$I$2:$I$100000,\"34??\",'Accounting Data'!$J$2:$J$100000,\"6???\")+SUMIFS('Accounting Data'!$C$2:$C$100000,'Accounting Data'!$E$2:$E$100000,\"8??\",'Accounting Data'!$H$2:$H$100000,\"9??\",'Accounting Data'!$I$2:$I$100000,\"34??\",'Accounting Data'!$J$2:$J$100000,\"6???\")+SUMIFS('Accounting Data'!$C$2:$C$100000,'Accounting Data'!$E$2:$E$100000,\"9??\",'Accounting Data'!$H$2:$H$100000,\"7??\",'Accounting Data'!$I$2:$I$100000,\"34??\",'Accounting Data'!$J$2:$J$100000,\"6???\")+SUMIFS('Accounting Data'!$C$2:$C$100000,'Accounting Data'!$E$2:$E$100000,\"9??\",'Accounting Data'!$H$2:$H$100000,\"8??\",'Accounting Data'!$I$2:$I$100000,\"34??\",'Accounting Data'!$J$2:$J$100000,\"6???\")+SUMIFS('Accounting Data'!$C$2:$C$100000,'Accounting Data'!$E$2:$E$100000,\"9??\",'Accounting Data'!$H$2:$H$100000,\"9??\",'Accounting Data'!$I$2:$I$100000,\"34??\",'Accounting Data'!$J$2:$J$100000,\"6???\")","v":0},{"$f":"SUMIFS('Accounting Data'!$C$2:$C$100000,'Accounting Data'!$E$2:$E$100000,\"575\",'Accounting Data'!$H$2:$H$100000,\"7??\",'Accounting Data'!$I$2:$I$100000,\"34??\",'Accounting Data'!$J$2:$J$100000,\"69??\")+SUMIFS('Accounting Data'!$C$2:$C$100000,'Accounting Data'!$E$2:$E$100000,\"575\",'Accounting Data'!$H$2:$H$100000,\"8??\",'Accounting Data'!$I$2:$I$100000,\"34??\",'Accounting Data'!$J$2:$J$100000,\"69??\")+SUMIFS('Accounting Data'!$C$2:$C$100000,'Accounting Data'!$E$2:$E$100000,\"575\",'Accounting Data'!$H$2:$H$100000,\"9??\",'Accounting Data'!$I$2:$I$100000,\"34??\",'Accounting Data'!$J$2:$J$100000,\"69??\")","v":0},{"$f":"SUMIFS('Accounting Data'!$C$2:$C$100000,'Accounting Data'!$E$2:$E$100000,\"8??\",'Accounting Data'!$H$2:$H$100000,\"7??\",'Accounting Data'!$I$2:$I$100000,\"34??\",'Accounting Data'!$J$2:$J$100000,\"69??\")+SUMIFS('Accounting Data'!$C$2:$C$100000,'Accounting Data'!$E$2:$E$100000,\"8??\",'Accounting Data'!$H$2:$H$100000,\"8??\",'Accounting Data'!$I$2:$I$100000,\"34??\",'Accounting Data'!$J$2:$J$100000,\"69??\")+SUMIFS('Accounting Data'!$C$2:$C$100000,'Accounting Data'!$E$2:$E$100000,\"8??\",'Accounting Data'!$H$2:$H$100000,\"9??\",'Accounting Data'!$I$2:$I$100000,\"34??\",'Accounting Data'!$J$2:$J$100000,\"69??\")+SUMIFS('Accounting Data'!$C$2:$C$100000,'Accounting Data'!$E$2:$E$100000,\"9??\",'Accounting Data'!$H$2:$H$100000,\"7??\",'Accounting Data'!$I$2:$I$100000,\"34??\",'Accounting Data'!$J$2:$J$100000,\"69??\")+SUMIFS('Accounting Data'!$C$2:$C$100000,'Accounting Data'!$E$2:$E$100000,\"9??\",'Accounting Data'!$H$2:$H$100000,\"8??\",'Accounting Data'!$I$2:$I$100000,\"34??\",'Accounting Data'!$J$2:$J$100000,\"69??\")+SUMIFS('Accounting Data'!$C$2:$C$100000,'Accounting Data'!$E$2:$E$100000,\"9??\",'Accounting Data'!$H$2:$H$100000,\"9??\",'Accounting Data'!$I$2:$I$100000,\"34??\",'Accounting Data'!$J$2:$J$100000,\"69??\")","v":0}]
["Total (lines 1-12)","13.",{"$f":"SUM(C10:C23)","v":27153436},{"$f":"SUM(D10:D23)","v":8232830},8224115,4910712,2233616,84580,0,null,{"$f":"SUM(K10:K23)","v":0},{"$f":"SUM(L10:L23)","v":193184},{"$f":"SUM(M10:M23)","v":372759},{"$f":"SUM(N10:N23)","v":51405232},"13.",null,null,null,"6600",{"$f":"SUMIFS('Accounting Data'!$C$2:$C$100000,'Accounting Data'!$E$2:$E$100000,\"378\",'Accounting Data'!$I$2:$I$100000,\"1???\",'Accounting Data'!$J$2:$J$100000,\"66??\")+SUMIFS('Accounting Data'!$C$2:$C$100000,'Accounting Data'!$E$2:$E$100000,\"378\",'Accounting Data'!$I$2:$I$100000,\"2???\",'Accounting Data'!$J$2:$J$100000,\"66??\")+SUMIFS('Accounting Data'!$C$2:$C$100000,'Accounting Data'!$E$2:$E$100000,\"378\",'Accounting Data'!$I$2:$I$100000,\"3???\",'Accounting Data'!$J$2:$J$100000,\"66??\")","v":0},0,0,0,null,null,3400,{"$f":"SUMIFS('Accounting Data'!C2:C100000,'Accounting Data'!I2:I100000,\"34??\",'Accounting Data'!J2:J100000,\"61??\")","v":0},{"$f":"SUMIFS('Accounting Data'!C2:C100000,'Accounting Data'!E2:E100000,\"575\",'Accounting Data'!I2:I100000,\"34??\",'Accounting Data'!J2:J100000,\"61??\")+SUMIFS('Accounting Data'!C2:C100000,'Accounting Data'!E2:E100000,\"8??\",'Accounting Data'!I2:I100000,\"34??\",'Accounting Data'!J2:J100000,\"61??\")+SUMIFS('Accounting Data'!C2:C100000,'Accounting Data'!E2:E100000,\"9??\",'Accounting Data'!I2:I100000,\"34??\",'Accounting Data'!J2:J100000,\"61??\")","v":0},{"$f":"SUMIFS('Accounting Data'!C2:C100000,'Accounting Data'!H2:H100000,\"7??\",'Accounting Data'!I2:I100000,\"34??\",'Accounting Data'!J2:J100000,\"61??\")+SUMIFS('Accounting Data'!C2:C100000,'Accounting Data'!H2:H100000,\"8??\",'Accounting Data'!I2:I100000,\"34??\",'Accounting Data'!J2:J100000,\"61??\")+SUMIFS('Accounting Data'!C2:C100000,'Accounting Data'!H2:H100000,\"9??\",'Accounting Data'!I2:I100000,\"34??\",'Accounting Data'!J2:J100000,\"61??\")","v":0},{"$f":"SUMIFS('Accounting Data'!C2:C100000,'Accounting Data'!E2:E100000,\"575\",'Accounting Data'!H2:H100000,\"7??\",'Accounting Data'!I2:I100000,\"34??\",'Accounting Data'!J2:J100000,\"61??\")+SUMIFS('Accounting Data'!C2:C100000,'Accounting Data'!E2:E100000,\"575\",'Accounting Data'!H2:H100000,\"8??\",'Accounting Data'!I2:I100000,\"34??\",'Accounting Data'!J2:J100000,\"61??\")+SUMIFS('Accounting Data'!C2:C100000,'Accounting Data'!E2:E100000,\"575\",'Accounting Data'!H2:H100000,\"9??\",'Accounting Data'!I2:I100000,\"34??\",'Accounting Data'!J2:J100000,\"61??\")","v":0},{"$f":"SUMIFS('Accounting Data'!C2:C100000,'Accounting Data'!E2:E100000,\"8??\",'Accounting Data'!H2:H100000,\"7??\",'Accounting Data'!I2:I100000,\"34??\",'Accounting Data'!J2:J100000,\"61??\")+SUMIFS('Accounting Data'!C2:C100000,'Accounting Data'!E2:E100000,\"8??\",'Accounting Data'!H2:H100000,\"8??\",'Accounting Data'!I2:I100000,\"34??\",'Accounting Data'!J2:J100000,\"61??\")+SUMIFS('Accounting Data'!C2:C100000,'Accounting Data'!E2:E100000,\"8??\",'Accounting Data'!H2:H100000,\"9??\",'Accounting Data'!I2:I100000,\"34??\",'Accounting Data'!J2:J100000,\"61??\")","v":0},{"$f":"SUMIFS('Accounting Data'!C2:C100000,'Accounting Data'!E2:E100000,\"9??\",'Accounting Data'!H2:H100000,\"7??\",'Accounting Data'!I2:I100000,\"34??\",'Accounting Data'!J2:J100000,\"61??\")+SUMIFS('Accounting Data'!C2:C100000,'Accounting Data'!E2:E100000,\"9??\",'Accounting Data'!H2:H100000,\"8??\",'Accounting Data'!I2:I100000,\"34??\",'Accounting Data'!J2:J100000,\"61??\")+SUMIFS('Accounting Data'!C2:C100000,'Accounting Data'!E2:E100000,\"9??\",'Accounting Data'!H2:H100000,\"9??\",'Accounting Data'!I2:I100000,\"34??\",'Accounting Data'!J2:J100000,\"61??\")","v":0},null,3400,{"$f":"SUMIFS('Accounting Data'!C2:C100000,'Accounting Data'!I2:I100000,\"34??\",'Accounting Data'!J2:J100000,\"62??\")","v":0},{"$f":"SUMIFS('Accounting Data'!C2:C100000,'Accounting Data'!E2:E100000,\"575\",'Accounting Data'!I2:I100000,\"34??\",'Accounting Data'!J2:J100000,\"62??\")+SUMIFS('Accounting Data'!C2:C100000,'Accounting Data'!E2:E100000,\"8??\",'Accounting Data'!I2:I100000,\"34??\",'Accounting Data'!J2:J100000,\"62??\")+SUMIFS('Accounting Data'!C2:C100000,'Accounting Data'!E2:E100000,\"9??\",'Accounting Data'!I2:I100000,\"34??\",'Accounting Data'!J2:J100000,\"62??\")","v":0},{"$f":"SUMIFS('Accounting Data'!C2:C100000,'Accounting Data'!H2:H100000,\"7??\",'Accounting Data'!I2:I100000,\"34??\",'Accounting Data'!J2:J100000,\"62??\")+SUMIFS('Accounting Data'!C2:C100000,'Accounting Data'!H2:H100000,\"8??\",'Accounting Data'!I2:I100000,\"34??\",'Accounting Data'!J2:J100000,\"62??\")+SUMIFS('Accounting Data'!C2:C100000,'Accounting Data'!H2:H100000,\"9??\",'Accounting Data'!I2:I100000,\"34??\",'Accounting Data'!J2:J100000,\"62??\")","v":0},{"$f":"SUMIFS('Accounting Data'!C2:C100000,'Accounting Data'!E2:E100000,\"575\",'Accounting Data'!H2:H100000,\"7??\",'Accounting Data'!I2:I100000,\"34??\",'Accounting Data'!J2:J100000,\"62??\")+SUMIFS('Accounting Data'!C2:C100000,'Accounting Data'!E2:E100000,\"575\",'Accounting Data'!H2:H100000,\"8??\",'Accounting Data'!I2:I100000,\"34??\",'Accounting Data'!J2:J100000,\"62??\")+SUMIFS('Accounting Data'!C2:C100000,'Accounting Data'!E2:E100000,\"575\",'Accounting Data'!H2:H100000,\"9??\",'Accounting Data'!I2:I100000,\"34??\",'Accounting Data'!J2:J100000,\"62??\")","v":0},{"$f":"SUMIFS('Accounting Data'!C2:C100000,'Accounting Data'!E2:E100000,\"8??\",'Accounting Data'!H2:H100000,\"7??\",'Accounting Data'!I2:I100000,\"34??\",'Accounting Data'!J2:J100000,\"62??\")+SUMIFS('Accounting Data'!C2:C100000,'Accounting Data'!E2:E100000,\"8??\",'Accounting Data'!H2:H100000,\"8??\",'Accounting Data'!I2:I100000,\"34??\",'Accounting Data'!J2:J100000,\"62??\")+SUMIFS('Accounting Data'!C2:C100000,'Accounting Data'!E2:E100000,\"8??\",'Accounting Data'!H2:H100000,\"9??\",'Accounting Data'!I2:I100000,\"34??\",'Accounting Data'!J2:J100000,\"62??\")","v":0},{"$f":"SUMIFS('Accounting Data'!C2:C100000,'Accounting Data'!E2:E100000,\"9??\",'Accounting Data'!H2:H100000,\"7??\",'Accounting Data'!I2:I100000,\"34??\",'Accounting Data'!J2:J100000,\"62??\")+SUMIFS('Accounting Data'!C2:C100000,'Accounting Data'!E2:E100000,\"9??\",'Accounting Data'!H2:H100000,\"8??\",'Accounting Data'!I2:I100000,\"34??\",'Accounting Data'!J2:J100000,\"62??\")+SUMIFS('Accounting Data'!C2:C100000,'Accounting Data'!E2:E100000,\"9??\",'Accounting Data'!H2:H100000,\"9??\",'Accounting Data'!I2:I100000,\"34??\",'Accounting Data'!J2:J100000,\"62??\")","v":0},null,3400,{"$f":"SUMIFS('Accounting Data'!C2:C100000,'Accounting Data'!I2:I100000,\"34??\",'Accounting Data'!J2:J100000,\"63??\")+SUMIFS('Accounting Data'!C2:C100000,'Accounting Data'!I2:I100000,\"34??\",'Accounting Data'!J2:J100000,\"64??\")+SUMIFS('Accounting Data'!C2:C100000,'Accounting Data'!I2:I100000,\"34??\",'Accounting Data'!J2:J100000,\"65??\")","v":0},{"$f":"SUMIFS('Accounting Data'!C2:C100000,'Accounting Data'!E2:E100000,\"575\",'Accounting Data'!I2:I100000,\"34??\",'Accounting Data'!J2:J100000,\"63??\")+SUMIFS('Accounting Data'!C2:C100000,'Accounting Data'!E2:E100000,\"8??\",'Accounting Data'!I2:I100000,\"34??\",'Accounting Data'!J2:J100000,\"63??\")+SUMIFS('Accounting Data'!C2:C100000,'Accounting Data'!E2:E100000,\"9??\",'Accounting Data'!I2:I100000,\"34??\",'Accounting Data'!J2:J100000,\"63??\")","v":0},{"$f":"SUMIFS('Accounting Data'!C2:C100000,'Accounting Data'!E2:E100000,\"575\",'Accounting Data'!I2:I100000,\"34??\",'Accounting Data'!J2:J100000,\"64??\")+SUMIFS('Accounting Data'!C2:C100000,'Accounting Data'!E2:E100000,\"8??\",'Accounting Data'!I2:I100000,\"34??\",'Accounting Data'!J2:J100000,\"64??\")+SUMIFS('Accounting Data'!C2:C100000,'Accounting Data'!E2:E100000,\"9??\",'Accounting Data'!I2:I100000,\"34??\",'Accounting Data'!J2:J100000,\"64??\")","v":0},{"$f":"SUMIFS('Accounting Data'!C2:C100000,'Accounting Data'!E2:E100000,\"575\",'Accounting Data'!I2:I100000,\"34??\",'Accounting Data'!J2:J100000,\"65??\")+SUMIFS('Accounting Data'!C2:C100000,'Accounting Data'!E2:E100000,\"8??\",'Accounting Data'!I2:I100000,\"34??\",'Accounting Data'!J2:J100000,\"65??\")+SUMIFS('Accounting Data'!C2:C100000,'Accounting Data'!E2:E100000,\"9??\",'Accounting Data'!I2:I100000,\"34??\",'Accounting Data'!J2:J100000,\"65??\")","v":0},{"$f":"SUMIFS('Accounting Data'!C2:C100000,'Accounting Data'!H2:H100000,\"7??\",'Accounting Data'!I2:I100000,\"34??\",'Accounting Data'!J2:J100000,\"63??\")+SUMIFS('Accounting Data'!C2:C100000,'Accounting Data'!H2:H100000,\"8??\",'Accounting Data'!I2:I100000,\"34??\",'Accounting Data'!J2:J100000,\"63??\")+SUMIFS('Accounting Data'!C2:C100000,'Accounting Data'!H2:H100000,\"9??\",'Accounting Data'!I2:I100000,\"34??\",'Accounting Data'!J2:J100000,\"63??\")+SUMIFS('Accounting Data'!C2:C100000,'Accounting Data'!H2:H100000,\"7??\",'Accounting Data'!I2:I100000,\"34??\",'Accounting Data'!J2:J100000,\"64??\")+SUMIFS('Accounting Data'!C2:C100000,'Accounting Data'!H2:H100000,\"8??\",'Accounting Data'!I2:I100000,\"34??\",'Accounting Data'!J2:J100000,\"64??\")+SUMIFS('Accounting Data'!C2:C100000,'Accounting Data'!H2:H100000,\"9??\",'Accounting Data'!I2:I100000,\"34??\",'Accounting Data'!J2:J100000,\"64??\")+SUMIFS('Accounting Data'!C2:C100000,'Accounting Data'!H2:H100000,\"7??\",'Accounting Data'!I2:I100000,\"34??\",'Accounting Data'!J2:J100000,\"65??\")+SUMIFS('Accounting Data'!C2:C100000,'Accounting Data'!H2:H100000,\"8??\",'Accounting Data'!I2:I100000,\"34??\",'Accounting Data'!J2:J100000,\"65??\")+SUMIFS('Accounting Data'!C2:C100000,'Accounting Data'!H2:H100000,\"9??\",'Accounting Data'!I2:I100000,\"34??\",'Accounting Data'!J2:J100000,\"65??\")","v":0},{"$f":"SUMIFS('Accounting Data'!C2:C100000,'Accounting Data'!E2:E100000,\"575\",'Accounting Data'!H2:H100000,\"7??\",'Accounting Data'!I2:I100000,\"34??\",'Accounting Data'!J2:J100000,\"63??\")+SUMIFS('Accounting Data'!C2:C100000,'Accounting Data'!E2:E100000,\"575\",'Accounting Data'!H2:H100000,\"8??\",'Accounting Data'!I2:I100000,\"34??\",'Accounting Data'!J2:J100000,\"63??\")+SUMIFS('Accounting Data'!C2:C100000,'Accounting Data'!E2:E100000,\"575\",'Accounting Data'!H2:H100000,\"9??\",'Accounting Data'!I2:I100000,\"34??\",'Accounting Data'!J2:J100000,\"63??\")","v":0},{"$f":"SUMIFS('Accounting Data'!C2:C100000,'Accounting Data'!E2:E100000,\"575\",'Accounting Data'!H2:H100000,\"7??\",'Accounting Data'!I2:I100000,\"34??\",'Accounting Data'!J2:J100000,\"64??\")+SUMIFS('Accounting Data'!C2:C100000,'Accounting Data'!E2:E100000,\"575\",'Accounting Data'!H2:H100000,\"8??\",'Accounting Data'!I2:I100000,\"34??\",'Accounting Data'!J2:J100000,\"64??\")+SUMIFS('Accounting Data'!C2:C100000,'Accounting Data'!E2:E100000,\"575\",'Accounting Data'!H2:H100000,\"9??\",'Accounting Data'!I2:I100000,\"34??\",'Accounting Data'!J2:J100000,\"64??\")","v":0},{"$f":"SUMIFS('Accounting Data'!C2:C100000,'Accounting Data'!E2:E100000,\"575\",'Accounting Data'!H2:H100000,\"7??\",'Accounting Data'!I2:I100000,\"34??\",'Accounting Data'!J2:J100000,\"65??\")+SUMIFS('Accounting Data'!C2:C100000,'Accounting Data'!E2:E100000,\"575\",'Accounting Data'!H2:H100000,\"8??\",'Accounting Data'!I2:I100000,\"34??\",'Accounting Data'!J2:J100000,\"65??\")+SUMIFS('Accounting Data'!C2:C100000,'Accounting Data'!E2:E100000,\"575\",'Accounting Data'!H2:H100000,\"9??\",'Accounting Data'!I2:I100000,\"34??\",'Accounting Data'!J2:J100000,\"65??\")","v":0},{"$f":"SUMIFS('Accounting Data'!C2:C100000,'Accounting Data'!E2:E100000,\"8??\",'Accounting Data'!H2:H100000,\"7??\",'Accounting Data'!I2:I100000,\"34??\",'Accounting Data'!J2:J100000,\"63??\")+SUMIFS('Accounting Data'!C2:C100000,'Accounting Data'!E2:E100000,\"8??\",'Accounting Data'!H2:H100000,\"8??\",'Accounting Data'!I2:I100000,\"34??\",'Accounting Data'!J2:J100000,\"63??\")+SUMIFS('Accounting Data'!C2:C100000,'Accounting Data'!E2:E100000,\"8??\",'Accounting Data'!H2:H100000,\"9??\",'Accounting Data'!I2:I100000,\"34??\",'Accounting Data'!J2:J100000,\"63??\")","v":0},{"$f":"SUMIFS('Accounting Data'!C2:C100000,'Accounting Data'!E2:E100000,\"8??\",'Accounting Data'!H2:H100000,\"7??\",'Accounting Data'!I2:I100000,\"34??\",'Accounting Data'!J2:J100000,\"64??\")+SUMIFS('Accounting Data'!C2:C100000,'Accounting Data'!E2:E100000,\"8??\",'Accounting Data'!H2:H100000,\"8??\",'Accounting Data'!I2:I100000,\"34??\",'Accounting Data'!J2:J100000,\"64??\")+SUMIFS('Accounting Data'!C2:C100000,'Accounting Data'!E2:E100000,\"8??\",'Accounting Data'!H2:H100000,\"9??\",'Accounting Data'!I2:I100000,\"34??\",'Accounting Data'!J2:J100000,\"64??\")","v":0},{"$f":"SUMIFS('Accounting Data'!C2:C100000,'Accounting Data'!E2:E100000,\"8??\",'Accounting Data'!H2:H100000,\"7??\",'Accounting Data'!I2:I100000,\"34??\",'Accounting Data'!J2:J100000,\"65??\")+SUMIFS('Accounting Data'!C2:C100000,'Accounting Data'!E2:E100000,\"8??\",'Accounting Data'!H2:H100000,\"8??\",'Accounting Data'!I2:I100000,\"34??\",'Accounting Data'!J2:J100000,\"65??\")+SUMIFS('Accounting Data'!C2:C100000,'Accounting Data'!E2:E100000,\"8??\",'Accounting Data'!H2:H100000,\"9??\",'Accounting Data'!I2:I100000,\"34??\",'Accounting Data'!J2:J100000,\"65??\")","v":0},{"$f":"SUMIFS('Accounting Data'!C2:C100000,'Accounting Data'!E2:E100000,\"9??\",'Accounting Data'!H2:H100000,\"7??\",'Accounting Data'!I2:I100000,\"34??\",'Accounting Data'!J2:J100000,\"63??\")+SUMIFS('Accounting Data'!C2:C100000,'Accounting Data'!E2:E100000,\"9??\",'Accounting Data'!H2:H100000,\"8??\",'Accounting Data'!I2:I100000,\"34??\",'Accounting Data'!J2:J100000,\"63??\")+SUMIFS('Accounting Data'!C2:C100000,'Accounting Data'!E2:E100000,\"9??\",'Accounting Data'!H2:H100000,\"9??\",'Accounting Data'!I2:I100000,\"34??\",'Accounting Data'!J2:J100000,\"63??\")","v":0},{"$f":"SUMIFS('Accounting Data'!C2:C100000,'Accounting Data'!E2:E100000,\"9??\",'Accounting Data'!H2:H100000,\"7??\",'Accounting Data'!I2:I100000,\"34??\",'Accounting Data'!J2:J100000,\"64??\")+SUMIFS('Accounting Data'!C2:C100000,'Accounting Data'!E2:E100000,\"9??\",'Accounting Data'!H2:H100000,\"8??\",'Accounting Data'!I2:I100000,\"34??\",'Accounting Data'!J2:J100000,\"64??\")+SUMIFS('Accounting Data'!C2:C100000,'Accounting Data'!E2:E100000,\"9??\",'Accounting Data'!H2:H100000,\"9??\",'Accounting Data'!I2:I100000,\"34??\",'Accounting Data'!J2:J100000,\"64??\")","v":0},{"$f":"SUMIFS('Accounting Data'!C2:C100000,'Accounting Data'!E2:E100000,\"9??\",'Accounting Data'!H2:H100000,\"7??\",'Accounting Data'!I2:I100000,\"34??\",'Accounting Data'!J2:J100000,\"65??\")+SUMIFS('Accounting Data'!C2:C100000,'Accounting Data'!E2:E100000,\"9??\",'Accounting Data'!H2:H100000,\"8??\",'Accounting Data'!I2:I100000,\"34??\",'Accounting Data'!J2:J100000,\"65??\")+SUMIFS('Accounting Data'!C2:C100000,'Accounting Data'!E2:E100000,\"9??\",'Accounting Data'!H2:H100000,\"9??\",'Accounting Data'!I2:I100000,\"34??\",'Accounting Data'!J2:J100000,\"65??\")","v":0},null,3400,{"$f":"SUMIFS('Accounting Data'!C2:C100000,'Accounting Data'!I2:I100000,\"34??\",'Accounting Data'!J2:J100000,\"66??\")","v":0},{"$f":"SUMIFS('Accounting Data'!$C$2:$C$100000,'Accounting Data'!$E$2:$E$100000,\"575\",'Accounting Data'!$I$2:$I$100000,\"34??\",'Accounting Data'!$J$2:$J$100000,\"66??\")+SUMIFS('Accounting Data'!$C$2:$C$100000,'Accounting Data'!$E$2:$E$100000,\"8??\",'Accounting Data'!$I$2:$I$100000,\"34??\",'Accounting Data'!$J$2:$J$100000,\"66??\")+SUMIFS('Accounting Data'!$C$2:$C$100000,'Accounting Data'!$E$2:$E$100000,\"9??\",'Accounting Data'!$I$2:$I$100000,\"34??\",'Accounting Data'!$J$2:$J$100000,\"66??\")","v":0},{"$f":"SUMIFS('Accounting Data'!$C$2:$C$100000,'Accounting Data'!$H$2:$H$100000,\"7??\",'Accounting Data'!$I$2:$I$100000,\"34??\",'Accounting Data'!$J$2:$J$100000,\"66??\")+SUMIFS('Accounting Data'!$C$2:$C$100000,'Accounting Data'!$H$2:$H$100000,\"8??\",'Accounting Data'!$I$2:$I$100000,\"34??\",'Accounting Data'!$J$2:$J$100000,\"66??\")+SUMIFS('Accounting Data'!$C$2:$C$100000,'Accounting Data'!$H$2:$H$100000,\"9??\",'Accounting Data'!$I$2:$I$100000,\"34??\",'Accounting Data'!$J$2:$J$100000,\"66??\")","v":0},{"$f":"SUMIFS('Accounting Data'!$C$2:$C$100000,'Accounting Data'!$E$2:$E$100000,\"575\",'Accounting Data'!$H$2:$H$100000,\"7??\",'Accounting Data'!$I$2:$I$100000,\"34??\",'Accounting Data'!$J$2:$J$100000,\"66??\")+SUMIFS('Accounting Data'!$C$2:$C$100000,'Accounting Data'!$E$2:$E$100000,\"575\",'Accounting Data'!$H$2:$H$100000,\"8??\",'Accounting Data'!$I$2:$I$100000,\"34??\",'Accounting Data'!$J$2:$J$100000,\"66??\")+SUMIFS('Accounting Data'!$C$2:$C$100000,'Accounting Data'!$E$2:$E$100000,\"575\",'Accounting Data'!$H$2:$H$100000,\"9??\",'Accounting Data'!$I$2:$I$100000,\"34??\",'Accounting Data'!$J$2:$J$100000,\"66??\")","v":0},{"$f":"SUMIFS('Accounting Data'!$C$2:$C$100000,'Accounting Data'!$E$2:$E$100000,\"8??\",'Accounting Data'!$H$2:$H$100000,\"7??\",'Accounting Data'!$I$2:$I$100000,\"34??\",'Accounting Data'!$J$2:$J$100000,\"66??\")+SUMIFS('Accounting Data'!$C$2:$C$100000,'Accounting Data'!$E$2:$E$100000,\"8??\",'Accounting Data'!$H$2:$H$100000,\"8??\",'Accounting Data'!$I$2:$I$100000,\"34??\",'Accounting Data'!$J$2:$J$100000,\"66??\")+SUMIFS('Accounting Data'!$C$2:$C$100000,'Accounting Data'!$E$2:$E$100000,\"8??\",'Accounting Data'!$H$2:$H$100000,\"9??\",'Accounting Data'!$I$2:$I$100000,\"34??\",'Accounting Data'!$J$2:$J$100000,\"66??\")","v":0},{"$f":"SUMIFS('Accounting Data'!$C$2:$C$100000,'Accounting Data'!$E$2:$E$100000,\"9??\",'Accounting Data'!$H$2:$H$100000,\"7??\",'Accounting Data'!$I$2:$I$100000,\"34??\",'Accounting Data'!$J$2:$J$100000,\"66??\")+SUMIFS('Accounting Data'!$C$2:$C$100000,'Accounting Data'!$E$2:$E$100000,\"9??\",'Accounting Data'!$H$2:$H$100000,\"8??\",'Accounting Data'!$I$2:$I$100000,\"34??\",'Accounting Data'!$J$2:$J$100000,\"66??\")+SUMIFS('Accounting Data'!$C$2:$C$100000,'Accounting Data'!$E$2:$E$100000,\"9??\",'Accounting Data'!$H$2:$H$100000,\"9??\",'Accounting Data'!$I$2:$I$100000,\"34??\",'Accounting Data'!$J$2:$J$100000,\"66??\")","v":0},null,3400,{"$f":"SUMIFS('Accounting Data'!C2:C100000,'Accounting Data'!I2:I100000,\"34??\",'Accounting Data'!J2:J100000,\"67??\")","v":0},{"$f":"SUMIFS('Accounting Data'!$C$2:$C$100000,'Accounting Data'!$E$2:$E$100000,\"575\",'Accounting Data'!$I$2:$I$100000,\"34??\",'Accounting Data'!$J$2:$J$100000,\"67??\")+SUMIFS('Accounting Data'!$C$2:$C$100000,'Accounting Data'!$E$2:$E$100000,\"8??\",'Accounting Data'!$I$2:$I$100000,\"34??\",'Accounting Data'!$J$2:$J$100000,\"67??\")+SUMIFS('Accounting Data'!$C$2:$C$100000,'Accounting Data'!$E$2:$E$100000,\"9??\",'Accounting Data'!$I$2:$I$100000,\"34??\",'Accounting Data'!$J$2:$J$100000,\"67??\")","v":0},{"$f":"SUMIFS('Accounting Data'!$C$2:$C$100000,'Accounting Data'!$H$2:$H$100000,\"7??\",'Accounting Data'!$I$2:$I$100000,\"34??\",'Accounting Data'!$J$2:$J$100000,\"67??\")+SUMIFS('Accounting Data'!$C$2:$C$100000,'Accounting Data'!$H$2:$H$100000,\"8??\",'Accounting Data'!$I$2:$I$100000,\"34??\",'Accounting Data'!$J$2:$J$100000,\"67??\")+SUMIFS('Accounting Data'!$C$2:$C$100000,'Accounting Data'!$H$2:$H$100000,\"9??\",'Accounting Data'!$I$2:$I$100000,\"34??\",'Accounting Data'!$J$2:$J$100000,\"67??\")","v":0},{"$f":"SUMIFS('Accounting Data'!$C$2:$C$100000,'Accounting Data'!$E$2:$E$100000,\"575\",'Accounting Data'!$H$2:$H$100000,\"7??\",'Accounting Data'!$I$2:$I$100000,\"34??\",'Accounting Data'!$J$2:$J$100000,\"67??\")+SUMIFS('Accounting Data'!$C$2:$C$100000,'Accounting Data'!$E$2:$E$100000,\"575\",'Accounting Data'!$H$2:$H$100000,\"8??\",'Accounting Data'!$I$2:$I$100000,\"34??\",'Accounting Data'!$J$2:$J$100000,\"67??\")+SUMIFS('Accounting Data'!$C$2:$C$100000,'Accounting Data'!$E$2:$E$100000,\"575\",'Accounting Data'!$H$2:$H$100000,\"9??\",'Accounting Data'!$I$2:$I$100000,\"34??\",'Accounting Data'!$J$2:$J$100000,\"67??\")","v":0},{"$f":"SUMIFS('Accounting Data'!$C$2:$C$100000,'Accounting Data'!$E$2:$E$100000,\"8??\",'Accounting Data'!$H$2:$H$100000,\"7??\",'Accounting Data'!$I$2:$I$100000,\"34??\",'Accounting Data'!$J$2:$J$100000,\"67??\")+SUMIFS('Accounting Data'!$C$2:$C$100000,'Accounting Data'!$E$2:$E$100000,\"8??\",'Accounting Data'!$H$2:$H$100000,\"8??\",'Accounting Data'!$I$2:$I$100000,\"34??\",'Accounting Data'!$J$2:$J$100000,\"67??\")+SUMIFS('Accounting Data'!$C$2:$C$100000,'Accounting Data'!$E$2:$E$100000,\"8??\",'Accounting Data'!$H$2:$H$100000,\"9??\",'Accounting Data'!$I$2:$I$100000,\"34??\",'Accounting Data'!$J$2:$J$100000,\"67??\")","v":0},{"$f":"SUMIFS('Accounting Data'!$C$2:$C$100000,'Accounting Data'!$E$2:$E$100000,\"9??\",'Accounting Data'!$H$2:$H$100000,\"7??\",'Accounting Data'!$I$2:$I$100000,\"34??\",'Accounting Data'!$J$2:$J$100000,\"67??\")+SUMIFS('Accounting Data'!$C$2:$C$100000,'Accounting Data'!$E$2:$E$100000,\"9??\",'Accounting Data'!$H$2:$H$100000,\"8??\",'Accounting Data'!$I$2:$I$100000,\"34??\",'Accounting Data'!$J$2:$J$100000,\"67??\")+SUMIFS('Accounting Data'!$C$2:$C$100000,'Accounting Data'!$E$2:$E$100000,\"9??\",'Accounting Data'!$H$2:$H$100000,\"9??\",'Accounting Data'!$I$2:$I$100000,\"34??\",'Accounting Data'!$J$2:$J$100000,\"67??\")","v":0},null,3400,{"$f":"SUMIFS('Accounting Data'!C2:C100000,'Accounting Data'!I2:I100000,\"34??\",'Accounting Data'!J2:J100000,\"681?\")","v":0},{"$f":"SUMIFS('Accounting Data'!$C$2:$C$100000,'Accounting Data'!$E$2:$E$100000,\"575\",'Accounting Data'!$I$2:$I$100000,\"34??\",'Accounting Data'!$J$2:$J$100000,\"681?\")+SUMIFS('Accounting Data'!$C$2:$C$100000,'Accounting Data'!$E$2:$E$100000,\"8??\",'Accounting Data'!$I$2:$I$100000,\"34??\",'Accounting Data'!$J$2:$J$100000,\"681?\")+SUMIFS('Accounting Data'!$C$2:$C$100000,'Accounting Data'!$E$2:$E$100000,\"9??\",'Accounting Data'!$I$2:$I$100000,\"34??\",'Accounting Data'!$J$2:$J$100000,\"681?\")","v":0},{"$f":"SUMIFS('Accounting Data'!$C$2:$C$100000,'Accounting Data'!$H$2:$H$100000,\"7??\",'Accounting Data'!$I$2:$I$100000,\"34??\",'Accounting Data'!$J$2:$J$100000,\"681?\")+SUMIFS('Accounting Data'!$C$2:$C$100000,'Accounting Data'!$H$2:$H$100000,\"8??\",'Accounting Data'!$I$2:$I$100000,\"34??\",'Accounting Data'!$J$2:$J$100000,\"681?\")+SUMIFS('Accounting Data'!$C$2:$C$100000,'Accounting Data'!$H$2:$H$100000,\"9??\",'Accounting Data'!$I$2:$I$100000,\"34??\",'Accounting Data'!$J$2:$J$100000,\"681?\")","v":0},{"$f":"SUMIFS('Accounting Data'!$C$2:$C$100000,'Accounting Data'!$E$2:$E$100000,\"575\",'Accounting Data'!$H$2:$H$100000,\"7??\",'Accounting Data'!$I$2:$I$100000,\"34??\",'Accounting Data'!$J$2:$J$100000,\"681?\")+SUMIFS('Accounting Data'!$C$2:$C$100000,'Accounting Data'!$E$2:$E$100000,\"575\",'Accounting Data'!$H$2:$H$100000,\"8??\",'Accounting Data'!$I$2:$I$100000,\"34??\",'Accounting Data'!$J$2:$J$100000,\"681?\")+SUMIFS('Accounting Data'!$C$2:$C$100000,'Accounting Data'!$E$2:$E$100000,\"575\",'Accounting Data'!$H$2:$H$100000,\"9??\",'Accounting Data'!$I$2:$I$100000,\"34??\",'Accounting Data'!$J$2:$J$100000,\"681?\")","v":0},{"$f":"SUMIFS('Accounting Data'!$C$2:$C$100000,'Accounting Data'!$E$2:$E$100000,\"8??\",'Accounting Data'!$H$2:$H$100000,\"7??\",'Accounting Data'!$I$2:$I$100000,\"34??\",'Accounting Data'!$J$2:$J$100000,\"681?\")+SUMIFS('Accounting Data'!$C$2:$C$100000,'Accounting Data'!$E$2:$E$100000,\"8??\",'Accounting Data'!$H$2:$H$100000,\"8??\",'Accounting Data'!$I$2:$I$100000,\"34??\",'Accounting Data'!$J$2:$J$100000,\"681?\")+SUMIFS('Accounting Data'!$C$2:$C$100000,'Accounting Data'!$E$2:$E$100000,\"8??\",'Accounting Data'!$H$2:$H$100000,\"9??\",'Accounting Data'!$I$2:$I$100000,\"34??\",'Accounting Data'!$J$2:$J$100000,\"681?\")","v":0},{"$f":"SUMIFS('Accounting Data'!$C$2:$C$100000,'Accounting Data'!$E$2:$E$100000,\"9??\",'Accounting Data'!$H$2:$H$100000,\"7??\",'Accounting Data'!$I$2:$I$100000,\"34??\",'Accounting Data'!$J$2:$J$100000,\"681?\")+SUMIFS('Accounting Data'!$C$2:$C$100000,'Accounting Data'!$E$2:$E$100000,\"9??\",'Accounting Data'!$H$2:$H$100000,\"8??\",'Accounting Data'!$I$2:$I$100000,\"34??\",'Accounting Data'!$J$2:$J$100000,\"681?\")+SUMIFS('Accounting Data'!$C$2:$C$100000,'Accounting Data'!$E$2:$E$100000,\"9??\",'Accounting Data'!$H$2:$H$100000,\"9??\",'Accounting Data'!$I$2:$I$100000,\"34??\",'Accounting Data'!$J$2:$J$100000,\"681?\")","v":0},null,null,null,null,null,null,null,null,null,null,null,null,null,null,null,null,null,3400,{"$f":"SUM(SUMIFS('Accounting Data'!C2:C100000,'Accounting Data'!I2:I100000,\"34??\",'Accounting Data'!J2:J100000,{\"689?\",\"6885\"}))","v":0},{"$f":"SUM(SUMIFS('Accounting Data'!$C$2:$C$100000,'Accounting Data'!$E$2:$E$100000,\"575\",'Accounting Data'!$I$2:$I$100000,\"34??\",'Accounting Data'!$J$2:$J$100000,{\"689?\",\"6885\"}))+SUM(SUMIFS('Accounting Data'!$C$2:$C$100000,'Accounting Data'!$E$2:$E$100000,\"8??\",'Accounting Data'!$I$2:$I$100000,\"34??\",'Accounting Data'!$J$2:$J$100000,{\"689?\",\"6885\"}))+SUM(SUMIFS('Accounting Data'!$C$2:$C$100000,'Accounting Data'!$E$2:$E$100000,\"9??\",'Accounting Data'!$I$2:$I$100000,\"34??\",'Accounting Data'!$J$2:$J$100000,{\"689?\",\"6885\"}))","v":0},{"$f":"SUM(SUMIFS('Accounting Data'!$C$2:$C$100000,'Accounting Data'!$H$2:$H$100000,\"7??\",'Accounting Data'!$I$2:$I$100000,\"34??\",'Accounting Data'!$J$2:$J$100000,{\"689?\",\"6885\"}))+SUM(SUMIFS('Accounting Data'!$C$2:$C$100000,'Accounting Data'!$H$2:$H$100000,\"8??\",'Accounting Data'!$I$2:$I$100000,\"34??\",'Accounting Data'!$J$2:$J$100000,{\"689?\",\"6885\"}))+SUM(SUMIFS('Accounting Data'!$C$2:$C$100000,'Accounting Data'!$H$2:$H$100000,\"9??\",'Accounting Data'!$I$2:$I$100000,\"34??\",'Accounting Data'!$J$2:$J$100000,{\"689?\",\"6885\"}))","v":0},{"$f":"SUM(SUMIFS('Accounting Data'!$C$2:$C$100000,'Accounting Data'!$E$2:$E$100000,\"575\",'Accounting Data'!$H$2:$H$100000,\"7??\",'Accounting Data'!$I$2:$I$100000,\"34??\",'Accounting Data'!$J$2:$J$100000,{\"689?\",\"6885\"}))+SUM(SUMIFS('Accounting Data'!$C$2:$C$100000,'Accounting Data'!$E$2:$E$100000,\"575\",'Accounting Data'!$H$2:$H$100000,\"8??\",'Accounting Data'!$I$2:$I$100000,\"34??\",'Accounting Data'!$J$2:$J$100000,{\"689?\",\"6885\"}))+SUM(SUMIFS('Accounting Data'!$C$2:$C$100000,'Accounting Data'!$E$2:$E$100000,\"575\",'Accounting Data'!$H$2:$H$100000,\"9??\",'Accounting Data'!$I$2:$I$100000,\"34??\",'Accounting Data'!$J$2:$J$100000,{\"689?\",\"6885\"}))","v":0},{"$f":"SUM(SUMIFS('Accounting Data'!$C$2:$C$100000,'Accounting Data'!$E$2:$E$100000,\"8??\",'Accounting Data'!$H$2:$H$100000,\"7??\",'Accounting Data'!$I$2:$I$100000,\"34??\",'Accounting Data'!$J$2:$J$100000,{\"689?\",\"6885\"}))+SUM(SUMIFS('Accounting Data'!$C$2:$C$100000,'Accounting Data'!$E$2:$E$100000,\"8??\",'Accounting Data'!$H$2:$H$100000,\"8??\",'Accounting Data'!$I$2:$I$100000,\"34??\",'Accounting Data'!$J$2:$J$100000,{\"689?\",\"6885\"}))+SUM(SUMIFS('Accounting Data'!$C$2:$C$100000,'Accounting Data'!$E$2:$E$100000,\"8??\",'Accounting Data'!$H$2:$H$100000,\"9??\",'Accounting Data'!$I$2:$I$100000,\"34??\",'Accounting Data'!$J$2:$J$100000,{\"689?\",\"6885\"}))","v":0},{"$f":"SUM(SUMIFS('Accounting Data'!$C$2:$C$100000,'Accounting Data'!$E$2:$E$100000,\"9??\",'Accounting Data'!$H$2:$H$100000,\"7??\",'Accounting Data'!$I$2:$I$100000,\"34??\",'Accounting Data'!$J$2:$J$100000,{\"689?\",\"6885\"}))+SUM(SUMIFS('Accounting Data'!$C$2:$C$100000,'Accounting Data'!$E$2:$E$100000,\"9??\",'Accounting Data'!$H$2:$H$100000,\"8??\",'Accounting Data'!$I$2:$I$100000,\"34??\",'Accounting Data'!$J$2:$J$100000,{\"689?\",\"6885\"}))+SUM(SUMIFS('Accounting Data'!$C$2:$C$100000,'Accounting Data'!$E$2:$E$100000,\"9??\",'Accounting Data'!$H$2:$H$100000,\"9??\",'Accounting Data'!$I$2:$I$100000,\"34??\",'Accounting Data'!$J$2:$J$100000,{\"689?\",\"6885\"}))","v":0}]
["From Federal Funds","14.",{"$f":"(AA31+AB31+AC31)-(AD31+AE31+AF31+AG31+AH31+AI31+AJ31+AK31+AL31)-W19+IF(S10>0,IF(SUM(C20,D20,E20,S10,G20,H20,L20)>0,(T14)*(C20/(C20+D20+E20+S10+G20+H20+L20))),IF(SUM(C20,D20,E20,G20,H20,L20)>0,(T14)*(C20/(C20+D20+E20+G20+H20+L20)),0))","v":2647371},{"$f":"(AA32+AB32+AC32)-(AD32+AE32+AF32+AG32+AH32+AI32+AJ32+AK32+AL32)-W20+IF(S10>0,IF(SUM(C20,D20,E20,S10,G20,H20,L20)>0,(T14)*(D20/(C20+D20+E20+S10+G20+H20+L20))),IF(SUM(C20,D20,E20,G20,H20,L20)>0,(T14)*(D20/(C20+D20+E20+G20+H20+L20)),0))","v":762119},{"$f":"(SUM(AA33:AA35)+SUM(AB33:AB35)+SUM(AC33:AC35))-(SUM(AD33:AD35)+SUM(AE33:AE35)+SUM(AF33:AF35)+SUM(AG33:AG35)+SUM(AH33:AH35)+SUM(AI33:AI35)+SUM(AJ33:AJ35)+SUM(AK33:AK35)+SUM(AL33:AL35))-W21-W22-W23+IF(S10>0,IF(SUM(C20,D20,E20,S10,G20,H20,L20)>0,(T14)*(E20/(C20+D20+E20+S10+G20+H20+L20))),IF(SUM(C20,D20,E20,G20,H20,L20)>0,(T14)*(E20/(C20+D20+E20+G20+H20+L20)),0))","v":1320887},{"$f":"(AA36+AB36+AC36)-(AD36+AE36+AF36+AG36+AH36+AI36+AJ36+AK36+AL36)-W24+IF(S10>0,'[4]Food Service AFR'!$D$13,F20)+IF(AND(SUM(C20,D20,E20,S10,G20,H20,L20)>0,S10>0),(T14)*(S10/(C20+D20+E20+S10+G20+H20+L20)))","v":1190234},{"$f":"(AA37+AB37+AC37)-(AD37+AE37+AF37+AG37+AH37+AI37+AJ37+AK37+AL37)-W25+IF(S10>0,IF(SUM(C20,D20,E20,S10,G20,H20,L20)>0,(T14)*(G20/(C20+D20+E20+S10+G20+H20+L20))),IF(SUM(C20,D20,E20,G20,H20,L20)>0,(T14)*(G20/(C20+D20+E20+G20+H20+L20)),0))","v":41492},{"$f":"(AA38+AB38+AC38)-(AD38+AE38+AF38+AG38+AH38+AI38+AJ38+AK38+AL38)-W26+IF(S10>0,IF(SUM(C20,D20,E20,S10,G20,H20,L20)>0,(T14)*(H20/(C20+D20+E20+S10+G20+H20+L20))),IF(SUM(C20,D20,E20,G20,H20,L20)>0,(T14)*(H20/(C20+D20+E20+G20+H20+L20)),0))","v":95},{"$f":"AA53-AC53-AE53-AG53","v":0},null,{"$f":"AA55-AC55-AE55-AG55","v":0},{"$f":"(AA39+AB39+AC39)-(AD39+AE39+AF39+AG39+AH39+AI39+AJ39+AK39+AL39)-W27+IF(S10>0,IF(SUM(C20,D20,E20,S10,G20,H20,L20)>0,(T14)*(L20/(C20+D20+E20+S10+G20+H20+L20))),IF(SUM(C20,D20,E20,G20,H20,L20)>0,(T14)*(L20/(C20+D20+E20+G20+H20+L20)),0))","v":709},{"$f":"SUM(AA43:AI43)-SUM(AA44:AI44)","v":0},{"$f":"SUM(C25:M25)","v":5962907},"14.",0,null,null,"6700",{"$f":"SUMIFS('Accounting Data'!$C$2:$C$100000,'Accounting Data'!$E$2:$E$100000,\"378\",'Accounting Data'!$I$2:$I$100000,\"1???\",'Accounting Data'!$J$2:$J$100000,\"67??\")+SUMIFS('Accounting Data'!$C$2:$C$100000,'Accounting Data'!$E$2:$E$100000,\"378\",'Accounting Data'!$I$2:$I$100000,\"2???\",'Accounting Data'!$J$2:$J$100000,\"67??\")+SUMIFS('Accounting Data'!$C$2:$C$100000,'Accounting Data'!$E$2:$E$100000,\"378\",'Accounting Data'!$I$2:$I$100000,\"3???\",'Accounting Data'!$J$2:$J$100000,\"67??\")","v":0},0,0,0,null,null,null,null,null,null,null,null,null,null,null,null,null,null,null,null,null,null,null,null,null,null,null,null,null,null,null,null,null,null,null,null,null,null,null,null,null,null,null,null,null,null,null,null,null,null,null,null,null,null,null,null,null,null,null,null,null,null,"Object 6831, 6832 & 6833",null,null,null,null,null,null,null,null,null,null,null,null,null,null,null,4000,{"$f":"SUM(SUMIFS('Accounting Data'!C2:C100000,'Accounting Data'!I2:I100000,\"4???\",'Accounting Data'!J2:J100000,{\"689?\",\"6885\"}))","v":0},{"$f":"SUM(SUMIFS('Accounting Data'!$C$2:$C$100000,'Accounting Data'!$E$2:$E$100000,\"575\",'Accounting Data'!$I$2:$I$100000,\"4???\",'Accounting Data'!$J$2:$J$100000,{\"689?\",\"6885\"}))+SUM(SUMIFS('Accounting Data'!$C$2:$C$100000,'Accounting Data'!$E$2:$E$100000,\"8??\",'Accounting Data'!$I$2:$I$100000,\"4???\",'Accounting Data'!$J$2:$J$100000,{\"689?\",\"6885\"}))+SUM(SUMIFS('Accounting Data'!$C$2:$C$100000,'Accounting Data'!$E$2:$E$100000,\"9??\",'Accounting Data'!$I$2:$I$100000,\"4???\",'Accounting Data'!$J$2:$J$100000,{\"689?\",\"6885\"}))","v":0},{"$f":"SUM(SUMIFS('Accounting Data'!$C$2:$C$100000,'Accounting Data'!$H$2:$H$100000,\"7??\",'Accounting Data'!$I$2:$I$100000,\"4???\",'Accounting Data'!$J$2:$J$100000,{\"689?\",\"6885\"}))+SUM(SUMIFS('Accounting Data'!$C$2:$C$100000,'Accounting Data'!$H$2:$H$100000,\"8??\",'Accounting Data'!$I$2:$I$100000,\"4???\",'Accounting Data'!$J$2:$J$100000,{\"689?\",\"6885\"}))+SUM(SUMIFS('Accounting Data'!$C$2:$C$100000,'Accounting Data'!$H$2:$H$100000,\"9??\",'Accounting Data'!$I$2:$I$100000,\"4???\",'Accounting Data'!$J$2:$J$100000,{\"689?\",\"6885\"}))","v":0},{"$f":"SUM(SUMIFS('Accounting Data'!$C$2:$C$100000,'Accounting Data'!$E$2:$E$100000,\"575\",'Accounting Data'!$H$2:$H$100000,\"7??\",'Accounting Data'!$I$2:$I$100000,\"4???\",'Accounting Data'!$J$2:$J$100000,{\"689?\",\"6885\"}))+SUM(SUMIFS('Accounting Data'!$C$2:$C$100000,'Accounting Data'!$E$2:$E$100000,\"575\",'Accounting Data'!$H$2:$H$100000,\"8??\",'Accounting Data'!$I$2:$I$100000,\"4???\",'Accounting Data'!$J$2:$J$100000,{\"689?\",\"6885\"}))+SUM(SUMIFS('Accounting Data'!$C$2:$C$100000,'Accounting Data'!$E$2:$E$100000,\"575\",'Accounting Data'!$H$2:$H$100000,\"9??\",'Accounting Data'!$I$2:$I$100000,\"4???\",'Accounting Data'!$J$2:$J$100000,{\"689?\",\"6885\"}))","v":0},{"$f":"SUM(SUMIFS('Accounting Data'!$C$2:$C$100000,'Accounting Data'!$E$2:$E$100000,\"8??\",'Accounting Data'!$H$2:$H$100000,\"7??\",'Accounting Data'!$I$2:$I$100000,\"4???\",'Accounting Data'!$J$2:$J$100000,{\"689?\",\"6885\"}))+SUM(SUMIFS('Accounting Data'!$C$2:$C$100000,'Accounting Data'!$E$2:$E$100000,\"8??\",'Accounting Data'!$H$2:$H$100000,\"8??\",'Accounting Data'!$I$2:$I$100000,\"4???\",'Accounting Data'!$J$2:$J$100000,{\"689?\",\"6885\"}))+SUM(SUMIFS('Accounting Data'!$C$2:$C$100000,'Accounting Data'!$E$2:$E$100000,\"8??\",'Accounting Data'!$H$2:$H$100000,\"9??\",'Accounting Data'!$I$2:$I$100000,\"4???\",'Accounting Data'!$J$2:$J$100000,{\"689?\",\"6885\"}))","v":0},{"$f":"SUM(SUMIFS('Accounting Data'!$C$2:$C$100000,'Accounting Data'!$E$2:$E$100000,\"9??\",'Accounting Data'!$H$2:$H$100000,\"7??\",'Accounting Data'!$I$2:$I$100000,\"4???\",'Accounting Data'!$J$2:$J$100000,{\"689?\",\"6885\"}))+SUM(SUMIFS('Accounting Data'!$C$2:$C$100000,'Accounting Data'!$E$2:$E$100000,\"9??\",'Accounting Data'!$H$2:$H$100000,\"8??\",'Accounting Data'!$I$2:$I$100000,\"4???\",'Accounting Data'!$J$2:$J$100000,{\"689?\",\"6885\"}))+SUM(SUMIFS('Accounting Data'!$C$2:$C$100000,'Accounting Data'!$E$2:$E$100000,\"9??\",'Accounting Data'!$H$2:$H$100000,\"9??\",'Accounting Data'!$I$2:$I$100000,\"4???\",'Accounting Data'!$J$2:$J$100000,{\"689?\",\"6885\"}))","v":0},null,4000,{"$f":"SUMIFS('Accounting Data'!$C$2:$C$100000,'Accounting Data'!$H$2:$H$100000,\"7??\",'Accounting Data'!$I$2:$I$100000,\"4???\",'Accounting Data'!$J$2:$J$100000,\"6???\")+SUMIFS('Accounting Data'!$C$2:$C$100000,'Accounting Data'!$H$2:$H$100000,\"8??\",'Accounting Data'!$I$2:$I$100000,\"4???\",'Accounting Data'!$J$2:$J$100000,\"6???\")+SUMIFS('Accounting Data'!$C$2:$C$100000,'Accounting Data'!$H$2:$H$100000,\"9??\",'Accounting Data'!$I$2:$I$100000,\"4???\",'Accounting Data'!$J$2:$J$100000,\"6???\")","v":0},{"$f":"SUMIFS('Accounting Data'!$C$2:$C$100000,'Accounting Data'!$H$2:$H$100000,\"7??\",'Accounting Data'!$I$2:$I$100000,\"4???\",'Accounting Data'!$J$2:$J$100000,\"69??\")+SUMIFS('Accounting Data'!$C$2:$C$100000,'Accounting Data'!$H$2:$H$100000,\"8??\",'Accounting Data'!$I$2:$I$100000,\"4???\",'Accounting Data'!$J$2:$J$100000,\"69??\")+SUMIFS('Accounting Data'!$C$2:$C$100000,'Accounting Data'!$H$2:$H$100000,\"9??\",'Accounting Data'!$I$2:$I$100000,\"4???\",'Accounting Data'!$J$2:$J$100000,\"69??\")","v":0},{"$f":"SUMIFS('Accounting Data'!$C$2:$C$100000,'Accounting Data'!$E$2:$E$100000,\"575\",'Accounting Data'!$H$2:$H$100000,\"7??\",'Accounting Data'!$I$2:$I$100000,\"4???\",'Accounting Data'!$J$2:$J$100000,\"6???\")+SUMIFS('Accounting Data'!$C$2:$C$100000,'Accounting Data'!$E$2:$E$100000,\"575\",'Accounting Data'!$H$2:$H$100000,\"8??\",'Accounting Data'!$I$2:$I$100000,\"4???\",'Accounting Data'!$J$2:$J$100000,\"6???\")+SUMIFS('Accounting Data'!$C$2:$C$100000,'Accounting Data'!$E$2:$E$100000,\"575\",'Accounting Data'!$H$2:$H$100000,\"9??\",'Accounting Data'!$I$2:$I$100000,\"4???\",'Accounting Data'!$J$2:$J$100000,\"6???\")","v":0},{"$f":"SUMIFS('Accounting Data'!$C$2:$C$100000,'Accounting Data'!$E$2:$E$100000,\"8??\",'Accounting Data'!$H$2:$H$100000,\"7??\",'Accounting Data'!$I$2:$I$100000,\"4???\",'Accounting Data'!$J$2:$J$100000,\"6???\")+SUMIFS('Accounting Data'!$C$2:$C$100000,'Accounting Data'!$E$2:$E$100000,\"8??\",'Accounting Data'!$H$2:$H$100000,\"8??\",'Accounting Data'!$I$2:$I$100000,\"4???\",'Accounting Data'!$J$2:$J$100000,\"6???\")+SUMIFS('Accounting Data'!$C$2:$C$100000,'Accounting Data'!$E$2:$E$100000,\"8??\",'Accounting Data'!$H$2:$H$100000,\"9??\",'Accounting Data'!$I$2:$I$100000,\"4???\",'Accounting Data'!$J$2:$J$100000,\"6???\")+SUMIFS('Accounting Data'!$C$2:$C$100000,'Accounting Data'!$E$2:$E$100000,\"9??\",'Accounting Data'!$H$2:$H$100000,\"7??\",'Accounting Data'!$I$2:$I$100000,\"4???\",'Accounting Data'!$J$2:$J$100000,\"6???\")+SUMIFS('Accounting Data'!$C$2:$C$100000,'Accounting Data'!$E$2:$E$100000,\"9??\",'Accounting Data'!$H$2:$H$100000,\"8??\",'Accounting Data'!$I$2:$I$100000,\"4???\",'Accounting Data'!$J$2:$J$100000,\"6???\")+SUMIFS('Accounting Data'!$C$2:$C$100000,'Accounting Data'!$E$2:$E$100000,\"9??\",'Accounting Data'!$H$2:$H$100000,\"9??\",'Accounting Data'!$I$2:$I$100000,\"4???\",'Accounting Data'!$J$2:$J$100000,\"6???\")","v":0},{"$f":"SUMIFS('Accounting Data'!$C$2:$C$100000,'Accounting Data'!$E$2:$E$100000,\"575\",'Accounting Data'!$H$2:$H$100000,\"7??\",'Accounting Data'!$I$2:$I$100000,\"4???\",'Accounting Data'!$J$2:$J$100000,\"69??\")+SUMIFS('Accounting Data'!$C$2:$C$100000,'Accounting Data'!$E$2:$E$100000,\"575\",'Accounting Data'!$H$2:$H$100000,\"8??\",'Accounting Data'!$I$2:$I$100000,\"4???\",'Accounting Data'!$J$2:$J$100000,\"69??\")+SUMIFS('Accounting Data'!$C$2:$C$100000,'Accounting Data'!$E$2:$E$100000,\"575\",'Accounting Data'!$H$2:$H$100000,\"9??\",'Accounting Data'!$I$2:$I$100000,\"4???\",'Accounting Data'!$J$2:$J$100000,\"69??\")","v":0},{"$f":"SUMIFS('Accounting Data'!$C$2:$C$100000,'Accounting Data'!$E$2:$E$100000,\"8??\",'Accounting Data'!$H$2:$H$100000,\"7??\",'Accounting Data'!$I$2:$I$100000,\"4???\",'Accounting Data'!$J$2:$J$100000,\"69??\")+SUMIFS('Accounting Data'!$C$2:$C$100000,'Accounting Data'!$E$2:$E$100000,\"8??\",'Accounting Data'!$H$2:$H$100000,\"8??\",'Accounting Data'!$I$2:$I$100000,\"4???\",'Accounting Data'!$J$2:$J$100000,\"69??\")+SUMIFS('Accounting Data'!$C$2:$C$100000,'Accounting Data'!$E$2:$E$100000,\"8??\",'Accounting Data'!$H$2:$H$100000,\"9??\",'Accounting Data'!$I$2:$I$100000,\"4???\",'Accounting Data'!$J$2:$J$100000,\"69??\")+SUMIFS('Accounting Data'!$C$2:$C$100000,'Accounting Data'!$E$2:$E$100000,\"9??\",'Accounting Data'!$H$2:$H$100000,\"7??\",'Accounting Data'!$I$2:$I$100000,\"4???\",'Accounting Data'!$J$2:$J$100000,\"69??\")+SUMIFS('Accounting Data'!$C$2:$C$100000,'Accounting Data'!$E$2:$E$100000,\"9??\",'Accounting Data'!$H$2:$H$100000,\"8??\",'Accounting Data'!$I$2:$I$100000,\"4???\",'Accounting Data'!$J$2:$J$100000,\"69??\")+SUMIFS('Accounting Data'!$C$2:$C$100000,'Accounting Data'!$E$2:$E$100000,\"9??\",'Accounting Data'!$H$2:$H$100000,\"9??\",'Accounting Data'!$I$2:$I$100000,\"4???\",'Accounting Data'!$J$2:$J$100000,\"69??\")","v":0}]
["From State and Local Sources","15.",{"$f":"C24-C25","v":24506065},7470711,6903228,3720478,2192124,84485,0,null,{"$f":"K24-K25","v":0},{"$f":"L24-L25","v":192475},{"$f":"M24-M25","v":372759},{"$f":"N24-N25","v":45442325},"15.",null,null,null,"6810",{"$f":"SUMIFS('Accounting Data'!$C$2:$C$100000,'Accounting Data'!$E$2:$E$100000,\"378\",'Accounting Data'!$I$2:$I$100000,\"1???\",'Accounting Data'!$J$2:$J$100000,\"681?\")+SUMIFS('Accounting Data'!$C$2:$C$100000,'Accounting Data'!$E$2:$E$100000,\"378\",'Accounting Data'!$I$2:$I$100000,\"2???\",'Accounting Data'!$J$2:$J$100000,\"681?\")+SUMIFS('Accounting Data'!$C$2:$C$100000,'Accounting Data'!$E$2:$E$100000,\"378\",'Accounting Data'!$I$2:$I$100000,\"3???\",'Accounting Data'!$J$2:$J$100000,\"681?\")","v":0},0,0,0,null,null,4000,{"$f":"SUMIFS('Accounting Data'!C2:C100000,'Accounting Data'!I2:I100000,\"4???\",'Accounting Data'!J2:J100000,\"61??\")","v":0},{"$f":"SUMIFS('Accounting Data'!C2:C100000,'Accounting Data'!E2:E100000,\"575\",'Accounting Data'!I2:I100000,\"4???\",'Accounting Data'!J2:J100000,\"61??\")+SUMIFS('Accounting Data'!C2:C100000,'Accounting Data'!E2:E100000,\"8??\",'Accounting Data'!I2:I100000,\"4???\",'Accounting Data'!J2:J100000,\"61??\")+SUMIFS('Accounting Data'!C2:C100000,'Accounting Data'!E2:E100000,\"9??\",'Accounting Data'!I2:I100000,\"4???\",'Accounting Data'!J2:J100000,\"61??\")","v":0},{"$f":"SUMIFS('Accounting Data'!C2:C100000,'Accounting Data'!H2:H100000,\"7??\",'Accounting Data'!I2:I100000,\"4???\",'Accounting Data'!J2:J100000,\"61??\")+SUMIFS('Accounting Data'!C2:C100000,'Accounting Data'!H2:H100000,\"8??\",'Accounting Data'!I2:I100000,\"4???\",'Accounting Data'!J2:J100000,\"61??\")+SUMIFS('Accounting Data'!C2:C100000,'Accounting Data'!H2:H100000,\"9??\",'Accounting Data'!I2:I100000,\"4???\",'Accounting Data'!J2:J100000,\"61??\")","v":0},{"$f":"SUMIFS('Accounting Data'!C2:C100000,'Accounting Data'!E2:E100000,\"575\",'Accounting Data'!H2:H100000,\"7??\",'Accounting Data'!I2:I100000,\"4???\",'Accounting Data'!J2:J100000,\"61??\")+SUMIFS('Accounting Data'!C2:C100000,'Accounting Data'!E2:E100000,\"575\",'Accounting Data'!H2:H100000,\"8??\",'Accounting Data'!I2:I100000,\"4???\",'Accounting Data'!J2:J100000,\"61??\")+SUMIFS('Accounting Data'!C2:C100000,'Accounting Data'!E2:E100000,\"575\",'Accounting Data'!H2:H100000,\"9??\",'Accounting Data'!I2:I100000,\"4???\",'Accounting Data'!J2:J100000,\"61??\")","v":0},{"$f":"SUMIFS('Accounting Data'!C2:C100000,'Accounting Data'!E2:E100000,\"8??\",'Accounting Data'!H2:H100000,\"7??\",'Accounting Data'!I2:I100000,\"4???\",'Accounting Data'!J2:J100000,\"61??\")+SUMIFS('Accounting Data'!C2:C100000,'Accounting Data'!E2:E100000,\"8??\",'Accounting Data'!H2:H100000,\"8??\",'Accounting Data'!I2:I100000,\"4???\",'Accounting Data'!J2:J100000,\"61??\")+SUMIFS('Accounting Data'!C2:C100000,'Accounting Data'!E2:E100000,\"8??\",'Accounting Data'!H2:H100000,\"9??\",'Accounting Data'!I2:I100000,\"4???\",'Accounting Data'!J2:J100000,\"61??\")","v":0},{"$f":"SUMIFS('Accounting Data'!C2:C100000,'Accounting Data'!E2:E100000,\"9??\",'Accounting Data'!H2:H100000,\"7??\",'Accounting Data'!I2:I100000,\"4???\",'Accounting Data'!J2:J100000,\"61??\")+SUMIFS('Accounting Data'!C2:C100000,'Accounting Data'!E2:E100000,\"9??\",'Accounting Data'!H2:H100000,\"8??\",'Accounting Data'!I2:I100000,\"4???\",'Accounting Data'!J2:J100000,\"61??\")+SUMIFS('Accounting Data'!C2:C100000,'Accounting Data'!E2:E100000,\"9??\",'Accounting Data'!H2:H100000,\"9??\",'Accounting Data'!I2:I100000,\"4???\",'Accounting Data'!J2:J100000,\"61??\")","v":0},null,4000,{"$f":"SUMIFS('Accounting Data'!C2:C100000,'Accounting Data'!I2:I100000,\"4???\",'Accounting Data'!J2:J100000,\"62??\")","v":0},{"$f":"SUMIFS('Accounting Data'!C2:C100000,'Accounting Data'!E2:E100000,\"575\",'Accounting Data'!I2:I100000,\"4???\",'Accounting Data'!J2:J100000,\"62??\")+SUMIFS('Accounting Data'!C2:C100000,'Accounting Data'!E2:E100000,\"8??\",'Accounting Data'!I2:I100000,\"4???\",'Accounting Data'!J2:J100000,\"62??\")+SUMIFS('Accounting Data'!C2:C100000,'Accounting Data'!E2:E100000,\"9??\",'Accounting Data'!I2:I100000,\"4???\",'Accounting Data'!J2:J100000,\"62??\")","v":0},{"$f":"SUMIFS('Accounting Data'!C2:C100000,'Accounting Data'!H2:H100000,\"7??\",'Accounting Data'!I2:I100000,\"4???\",'Accounting Data'!J2:J100000,\"62??\")+SUMIFS('Accounting Data'!C2:C100000,'Accounting Data'!H2:H100000,\"8??\",'Accounting Data'!I2:I100000,\"4???\",'Accounting Data'!J2:J100000,\"62??\")+SUMIFS('Accounting Data'!C2:C100000,'Accounting Data'!H2:H100000,\"9??\",'Accounting Data'!I2:I100000,\"4???\",'Accounting Data'!J2:J100000,\"62??\")","v":0},{"$f":"SUMIFS('Accounting Data'!C2:C100000,'Accounting Data'!E2:E100000,\"575\",'Accounting Data'!H2:H100000,\"7??\",'Accounting Data'!I2:I100000,\"4???\",'Accounting Data'!J2:J100000,\"62??\")+SUMIFS('Accounting Data'!C2:C100000,'Accounting Data'!E2:E100000,\"575\",'Accounting Data'!H2:H100000,\"8??\",'Accounting Data'!I2:I100000,\"4???\",'Accounting Data'!J2:J100000,\"62??\")+SUMIFS('Accounting Data'!C2:C100000,'Accounting Data'!E2:E100000,\"575\",'Accounting Data'!H2:H100000,\"9??\",'Accounting Data'!I2:I100000,\"4???\",'Accounting Data'!J2:J100000,\"62??\")","v":0},{"$f":"SUMIFS('Accounting Data'!C2:C100000,'Accounting Data'!E2:E100000,\"8??\",'Accounting Data'!H2:H100000,\"7??\",'Accounting Data'!I2:I100000,\"4???\",'Accounting Data'!J2:J100000,\"62??\")+SUMIFS('Accounting Data'!C2:C100000,'Accounting Data'!E2:E100000,\"8??\",'Accounting Data'!H2:H100000,\"8??\",'Accounting Data'!I2:I100000,\"4???\",'Accounting Data'!J2:J100000,\"62??\")+SUMIFS('Accounting Data'!C2:C100000,'Accounting Data'!E2:E100000,\"8??\",'Accounting Data'!H2:H100000,\"9??\",'Accounting Data'!I2:I100000,\"4???\",'Accounting Data'!J2:J100000,\"62??\")","v":0},{"$f":"SUMIFS('Accounting Data'!C2:C100000,'Accounting Data'!E2:E100000,\"9??\",'Accounting Data'!H2:H100000,\"7??\",'Accounting Data'!I2:I100000,\"4???\",'Accounting Data'!J2:J100000,\"62??\")+SUMIFS('Accounting Data'!C2:C100000,'Accounting Data'!E2:E100000,\"9??\",'Accounting Data'!H2:H100000,\"8??\",'Accounting Data'!I2:I100000,\"4???\",'Accounting Data'!J2:J100000,\"62??\")+SUMIFS('Accounting Data'!C2:C100000,'Accounting Data'!E2:E100000,\"9??\",'Accounting Data'!H2:H100000,\"9??\",'Accounting Data'!I2:I100000,\"4???\",'Accounting Data'!J2:J100000,\"62??\")","v":0},null,4000,{"$f":"SUMIFS('Accounting Data'!C2:C100000,'Accounting Data'!I2:I100000,\"4???\",'Accounting Data'!J2:J100000,\"63??\")+SUMIFS('Accounting Data'!C2:C100000,'Accounting Data'!I2:I100000,\"4???\",'Accounting Data'!J2:J100000,\"64??\")+SUMIFS('Accounting Data'!C2:C100000,'Accounting Data'!I2:I100000,\"4???\",'Accounting Data'!J2:J100000,\"65??\")","v":4267662},{"$f":"SUMIFS('Accounting Data'!C2:C100000,'Accounting Data'!E2:E100000,\"575\",'Accounting Data'!I2:I100000,\"4???\",'Accounting Data'!J2:J100000,\"63??\")+SUMIFS('Accounting Data'!C2:C100000,'Accounting Data'!E2:E100000,\"8??\",'Accounting Data'!I2:I100000,\"4???\",'Accounting Data'!J2:J100000,\"63??\")+SUMIFS('Accounting Data'!C2:C100000,'Accounting Data'!E2:E100000,\"9??\",'Accounting Data'!I2:I100000,\"4???\",'Accounting Data'!J2:J100000,\"63??\")","v":0},{"$f":"SUMIFS('Accounting Data'!C2:C100000,'Accounting Data'!E2:E100000,\"575\",'Accounting Data'!I2:I100000,\"4???\",'Accounting Data'!J2:J100000,\"64??\")+SUMIFS('Accounting Data'!C2:C100000,'Accounting Data'!E2:E100000,\"8??\",'Accounting Data'!I2:I100000,\"4???\",'Accounting Data'!J2:J100000,\"64??\")+SUMIFS('Accounting Data'!C2:C100000,'Accounting Data'!E2:E100000,\"9??\",'Accounting Data'!I2:I100000,\"4???\",'Accounting Data'!J2:J100000,\"64??\")","v":0},{"$f":"SUMIFS('Accounting Data'!C2:C100000,'Accounting Data'!E2:E100000,\"575\",'Accounting Data'!I2:I100000,\"4???\",'Accounting Data'!J2:J100000,\"65??\")+SUMIFS('Accounting Data'!C2:C100000,'Accounting Data'!E2:E100000,\"8??\",'Accounting Data'!I2:I100000,\"4???\",'Accounting Data'!J2:J100000,\"65??\")+SUMIFS('Accounting Data'!C2:C100000,'Accounting Data'!E2:E100000,\"9??\",'Accounting Data'!I2:I100000,\"4???\",'Accounting Data'!J2:J100000,\"65??\")","v":0},{"$f":"SUMIFS('Accounting Data'!C2:C100000,'Accounting Data'!H2:H100000,\"7??\",'Accounting Data'!I2:I100000,\"4???\",'Accounting Data'!J2:J100000,\"63??\")+SUMIFS('Accounting Data'!C2:C100000,'Accounting Data'!H2:H100000,\"8??\",'Accounting Data'!I2:I100000,\"4???\",'Accounting Data'!J2:J100000,\"63??\")+SUMIFS('Accounting Data'!C2:C100000,'Accounting Data'!H2:H100000,\"9??\",'Accounting Data'!I2:I100000,\"4???\",'Accounting Data'!J2:J100000,\"63??\")+SUMIFS('Accounting Data'!C2:C100000,'Accounting Data'!H2:H100000,\"7??\",'Accounting Data'!I2:I100000,\"4???\",'Accounting Data'!J2:J100000,\"64??\")+SUMIFS('Accounting Data'!C2:C100000,'Accounting Data'!H2:H100000,\"8??\",'Accounting Data'!I2:I100000,\"4???\",'Accounting Data'!J2:J100000,\"64??\")+SUMIFS('Accounting Data'!C2:C100000,'Accounting Data'!H2:H100000,\"9??\",'Accounting Data'!I2:I100000,\"4???\",'Accounting Data'!J2:J100000,\"64??\")+SUMIFS('Accounting Data'!C2:C100000,'Accounting Data'!H2:H100000,\"7??\",'Accounting Data'!I2:I100000,\"4???\",'Accounting Data'!J2:J100000,\"65??\")+SUMIFS('Accounting Data'!C2:C100000,'Accounting Data'!H2:H100000,\"8??\",'Accounting Data'!I2:I100000,\"4???\",'Accounting Data'!J2:J100000,\"65??\")+SUMIFS('Accounting Data'!C2:C100000,'Accounting Data'!H2:H100000,\"9??\",'Accounting Data'!I2:I100000,\"4???\",'Accounting Data'!J2:J100000,\"65??\")","v":0},{"$f":"SUMIFS('Accounting Data'!C2:C100000,'Accounting Data'!E2:E100000,\"575\",'Accounting Data'!H2:H100000,\"7??\",'Accounting Data'!I2:I100000,\"4???\",'Accounting Data'!J2:J100000,\"63??\")+SUMIFS('Accounting Data'!C2:C100000,'Accounting Data'!E2:E100000,\"575\",'Accounting Data'!H2:H100000,\"8??\",'Accounting Data'!I2:I100000,\"4???\",'Accounting Data'!J2:J100000,\"63??\")+SUMIFS('Accounting Data'!C2:C100000,'Accounting Data'!E2:E100000,\"575\",'Accounting Data'!H2:H100000,\"9??\",'Accounting Data'!I2:I100000,\"4???\",'Accounting Data'!J2:J100000,\"63??\")","v":0},{"$f":"SUMIFS('Accounting Data'!C2:C100000,'Accounting Data'!E2:E100000,\"575\",'Accounting Data'!H2:H100000,\"7??\",'Accounting Data'!I2:I100000,\"4???\",'Accounting Data'!J2:J100000,\"64??\")+SUMIFS('Accounting Data'!C2:C100000,'Accounting Data'!E2:E100000,\"575\",'Accounting Data'!H2:H100000,\"8??\",'Accounting Data'!I2:I100000,\"4???\",'Accounting Data'!J2:J100000,\"64??\")+SUMIFS('Accounting Data'!C2:C100000,'Accounting Data'!E2:E100000,\"575\",'Accounting Data'!H2:H100000,\"9??\",'Accounting Data'!I2:I100000,\"4???\",'Accounting Data'!J2:J100000,\"64??\")","v":0},{"$f":"SUMIFS('Accounting Data'!C2:C100000,'Accounting Data'!E2:E100000,\"575\",'Accounting Data'!H2:H100000,\"7??\",'Accounting Data'!I2:I100000,\"4???\",'Accounting Data'!J2:J100000,\"65??\")+SUMIFS('Accounting Data'!C2:C100000,'Accounting Data'!E2:E100000,\"575\",'Accounting Data'!H2:H100000,\"8??\",'Accounting Data'!I2:I100000,\"4???\",'Accounting Data'!J2:J100000,\"65??\")+SUMIFS('Accounting Data'!C2:C100000,'Accounting Data'!E2:E100000,\"575\",'Accounting Data'!H2:H100000,\"9??\",'Accounting Data'!I2:I100000,\"4???\",'Accounting Data'!J2:J100000,\"65??\")","v":0},{"$f":"SUMIFS('Accounting Data'!C2:C100000,'Accounting Data'!E2:E100000,\"8??\",'Accounting Data'!H2:H100000,\"7??\",'Accounting Data'!I2:I100000,\"4???\",'Accounting Data'!J2:J100000,\"63??\")+SUMIFS('Accounting Data'!C2:C100000,'Accounting Data'!E2:E100000,\"8??\",'Accounting Data'!H2:H100000,\"8??\",'Accounting Data'!I2:I100000,\"4???\",'Accounting Data'!J2:J100000,\"63??\")+SUMIFS('Accounting Data'!C2:C100000,'Accounting Data'!E2:E100000,\"8??\",'Accounting Data'!H2:H100000,\"9??\",'Accounting Data'!I2:I100000,\"4???\",'Accounting Data'!J2:J100000,\"63??\")","v":0},{"$f":"SUMIFS('Accounting Data'!C2:C100000,'Accounting Data'!E2:E100000,\"8??\",'Accounting Data'!H2:H100000,\"7??\",'Accounting Data'!I2:I100000,\"4???\",'Accounting Data'!J2:J100000,\"64??\")+SUMIFS('Accounting Data'!C2:C100000,'Accounting Data'!E2:E100000,\"8??\",'Accounting Data'!H2:H100000,\"8??\",'Accounting Data'!I2:I100000,\"4???\",'Accounting Data'!J2:J100000,\"64??\")+SUMIFS('Accounting Data'!C2:C100000,'Accounting Data'!E2:E100000,\"8??\",'Accounting Data'!H2:H100000,\"9??\",'Accounting Data'!I2:I100000,\"4???\",'Accounting Data'!J2:J100000,\"64??\")","v":0},{"$f":"SUMIFS('Accounting Data'!C2:C100000,'Accounting Data'!E2:E100000,\"8??\",'Accounting Data'!H2:H100000,\"7??\",'Accounting Data'!I2:I100000,\"4???\",'Accounting Data'!J2:J100000,\"65??\")+SUMIFS('Accounting Data'!C2:C100000,'Accounting Data'!E2:E100000,\"8??\",'Accounting Data'!H2:H100000,\"8??\",'Accounting Data'!I2:I100000,\"4???\",'Accounting Data'!J2:J100000,\"65??\")+SUMIFS('Accounting Data'!C2:C100000,'Accounting Data'!E2:E100000,\"8??\",'Accounting Data'!H2:H100000,\"9??\",'Accounting Data'!I2:I100000,\"4???\",'Accounting Data'!J2:J100000,\"65??\")","v":0},{"$f":"SUMIFS('Accounting Data'!C2:C100000,'Accounting Data'!E2:E100000,\"9??\",'Accounting Data'!H2:H100000,\"7??\",'Accounting Data'!I2:I100000,\"4???\",'Accounting Data'!J2:J100000,\"63??\")+SUMIFS('Accounting Data'!C2:C100000,'Accounting Data'!E2:E100000,\"9??\",'Accounting Data'!H2:H100000,\"8??\",'Accounting Data'!I2:I100000,\"4???\",'Accounting Data'!J2:J100000,\"63??\")+SUMIFS('Accounting Data'!C2:C100000,'Accounting Data'!E2:E100000,\"9??\",'Accounting Data'!H2:H100000,\"9??\",'Accounting Data'!I2:I100000,\"4???\",'Accounting Data'!J2:J100000,\"63??\")","v":0},{"$f":"SUMIFS('Accounting Data'!C2:C100000,'Accounting Data'!E2:E100000,\"9??\",'Accounting Data'!H2:H100000,\"7??\",'Accounting Data'!I2:I100000,\"4???\",'Accounting Data'!J2:J100000,\"64??\")+SUMIFS('Accounting Data'!C2:C100000,'Accounting Data'!E2:E100000,\"9??\",'Accounting Data'!H2:H100000,\"8??\",'Accounting Data'!I2:I100000,\"4???\",'Accounting Data'!J2:J100000,\"64??\")+SUMIFS('Accounting Data'!C2:C100000,'Accounting Data'!E2:E100000,\"9??\",'Accounting Data'!H2:H100000,\"9??\",'Accounting Data'!I2:I100000,\"4???\",'Accounting Data'!J2:J100000,\"64??\")","v":0},{"$f":"SUMIFS('Accounting Data'!C2:C100000,'Accounting Data'!E2:E100000,\"9??\",'Accounting Data'!H2:H100000,\"7??\",'Accounting Data'!I2:I100000,\"4???\",'Accounting Data'!J2:J100000,\"65??\")+SUMIFS('Accounting Data'!C2:C100000,'Accounting Data'!E2:E100000,\"9??\",'Accounting Data'!H2:H100000,\"8??\",'Accounting Data'!I2:I100000,\"4???\",'Accounting Data'!J2:J100000,\"65??\")+SUMIFS('Accounting Data'!C2:C100000,'Accounting Data'!E2:E100000,\"9??\",'Accounting Data'!H2:H100000,\"9??\",'Accounting Data'!I2:I100000,\"4???\",'Accounting Data'!J2:J100000,\"65??\")","v":0},null,4000,{"$f":"SUMIFS('Accounting Data'!C2:C100000,'Accounting Data'!I2:I100000,\"4???\",'Accounting Data'!J2:J100000,\"66??\")","v":0},{"$f":"SUMIFS('Accounting Data'!$C$2:$C$100000,'Accounting Data'!$E$2:$E$100000,\"575\",'Accounting Data'!$I$2:$I$100000,\"4???\",'Accounting Data'!$J$2:$J$100000,\"66??\")+SUMIFS('Accounting Data'!$C$2:$C$100000,'Accounting Data'!$E$2:$E$100000,\"8??\",'Accounting Data'!$I$2:$I$100000,\"4???\",'Accounting Data'!$J$2:$J$100000,\"66??\")+SUMIFS('Accounting Data'!$C$2:$C$100000,'Accounting Data'!$E$2:$E$100000,\"9??\",'Accounting Data'!$I$2:$I$100000,\"4???\",'Accounting Data'!$J$2:$J$100000,\"66??\")","v":0},{"$f":"SUMIFS('Accounting Data'!$C$2:$C$100000,'Accounting Data'!$H$2:$H$100000,\"7??\",'Accounting Data'!$I$2:$I$100000,\"4???\",'Accounting Data'!$J$2:$J$100000,\"66??\")+SUMIFS('Accounting Data'!$C$2:$C$100000,'Accounting Data'!$H$2:$H$100000,\"8??\",'Accounting Data'!$I$2:$I$100000,\"4???\",'Accounting Data'!$J$2:$J$100000,\"66??\")+SUMIFS('Accounting Data'!$C$2:$C$100000,'Accounting Data'!$H$2:$H$100000,\"9??\",'Accounting Data'!$I$2:$I$100000,\"4???\",'Accounting Data'!$J$2:$J$100000,\"66??\")","v":0},{"$f":"SUMIFS('Accounting Data'!$C$2:$C$100000,'Accounting Data'!$E$2:$E$100000,\"575\",'Accounting Data'!$H$2:$H$100000,\"7??\",'Accounting Data'!$I$2:$I$100000,\"4???\",'Accounting Data'!$J$2:$J$100000,\"66??\")+SUMIFS('Accounting Data'!$C$2:$C$100000,'Accounting Data'!$E$2:$E$100000,\"575\",'Accounting Data'!$H$2:$H$100000,\"8??\",'Accounting Data'!$I$2:$I$100000,\"4???\",'Accounting Data'!$J$2:$J$100000,\"66??\")+SUMIFS('Accounting Data'!$C$2:$C$100000,'Accounting Data'!$E$2:$E$100000,\"575\",'Accounting Data'!$H$2:$H$100000,\"9??\",'Accounting Data'!$I$2:$I$100000,\"4???\",'Accounting Data'!$J$2:$J$100000,\"66??\")","v":0},{"$f":"SUMIFS('Accounting Data'!$C$2:$C$100000,'Accounting Data'!$E$2:$E$100000,\"8??\",'Accounting Data'!$H$2:$H$100000,\"7??\",'Accounting Data'!$I$2:$I$100000,\"4???\",'Accounting Data'!$J$2:$J$100000,\"66??\")+SUMIFS('Accounting Data'!$C$2:$C$100000,'Accounting Data'!$E$2:$E$100000,\"8??\",'Accounting Data'!$H$2:$H$100000,\"8??\",'Accounting Data'!$I$2:$I$100000,\"4???\",'Accounting Data'!$J$2:$J$100000,\"66??\")+SUMIFS('Accounting Data'!$C$2:$C$100000,'Accounting Data'!$E$2:$E$100000,\"8??\",'Accounting Data'!$H$2:$H$100000,\"9??\",'Accounting Data'!$I$2:$I$100000,\"4???\",'Accounting Data'!$J$2:$J$100000,\"66??\")","v":0},{"$f":"SUMIFS('Accounting Data'!$C$2:$C$100000,'Accounting Data'!$E$2:$E$100000,\"9??\",'Accounting Data'!$H$2:$H$100000,\"7??\",'Accounting Data'!$I$2:$I$100000,\"4???\",'Accounting Data'!$J$2:$J$100000,\"66??\")+SUMIFS('Accounting Data'!$C$2:$C$100000,'Accounting Data'!$E$2:$E$100000,\"9??\",'Accounting Data'!$H$2:$H$100000,\"8??\",'Accounting Data'!$I$2:$I$100000,\"4???\",'Accounting Data'!$J$2:$J$100000,\"66??\")+SUMIFS('Accounting Data'!$C$2:$C$100000,'Accounting Data'!$E$2:$E$100000,\"9??\",'Accounting Data'!$H$2:$H$100000,\"9??\",'Accounting Data'!$I$2:$I$100000,\"4???\",'Accounting Data'!$J$2:$J$100000,\"66??\")","v":0},null,4000,{"$f":"SUMIFS('Accounting Data'!C2:C100000,'Accounting Data'!I2:I100000,\"4???\",'Accounting Data'!J2:J100000,\"67??\")","v":92160},{"$f":"SUMIFS('Accounting Data'!$C$2:$C$100000,'Accounting Data'!$E$2:$E$100000,\"575\",'Accounting Data'!$I$2:$I$100000,\"4???\",'Accounting Data'!$J$2:$J$100000,\"67??\")+SUMIFS('Accounting Data'!$C$2:$C$100000,'Accounting Data'!$E$2:$E$100000,\"8??\",'Accounting Data'!$I$2:$I$100000,\"4???\",'Accounting Data'!$J$2:$J$100000,\"67??\")+SUMIFS('Accounting Data'!$C$2:$C$100000,'Accounting Data'!$E$2:$E$100000,\"9??\",'Accounting Data'!$I$2:$I$100000,\"4???\",'Accounting Data'!$J$2:$J$100000,\"67??\")","v":0},{"$f":"SUMIFS('Accounting Data'!$C$2:$C$100000,'Accounting Data'!$H$2:$H$100000,\"7??\",'Accounting Data'!$I$2:$I$100000,\"4???\",'Accounting Data'!$J$2:$J$100000,\"67??\")+SUMIFS('Accounting Data'!$C$2:$C$100000,'Accounting Data'!$H$2:$H$100000,\"8??\",'Accounting Data'!$I$2:$I$100000,\"4???\",'Accounting Data'!$J$2:$J$100000,\"67??\")+SUMIFS('Accounting Data'!$C$2:$C$100000,'Accounting Data'!$H$2:$H$100000,\"9??\",'Accounting Data'!$I$2:$I$100000,\"4???\",'Accounting Data'!$J$2:$J$100000,\"67??\")","v":0},{"$f":"SUMIFS('Accounting Data'!$C$2:$C$100000,'Accounting Data'!$E$2:$E$100000,\"575\",'Accounting Data'!$H$2:$H$100000,\"7??\",'Accounting Data'!$I$2:$I$100000,\"4???\",'Accounting Data'!$J$2:$J$100000,\"67??\")+SUMIFS('Accounting Data'!$C$2:$C$100000,'Accounting Data'!$E$2:$E$100000,\"575\",'Accounting Data'!$H$2:$H$100000,\"8??\",'Accounting Data'!$I$2:$I$100000,\"4???\",'Accounting Data'!$J$2:$J$100000,\"67??\")+SUMIFS('Accounting Data'!$C$2:$C$100000,'Accounting Data'!$E$2:$E$100000,\"575\",'Accounting Data'!$H$2:$H$100000,\"9??\",'Accounting Data'!$I$2:$I$100000,\"4???\",'Accounting Data'!$J$2:$J$100000,\"67??\")","v":0},{"$f":"SUMIFS('Accounting Data'!$C$2:$C$100000,'Accounting Data'!$E$2:$E$100000,\"8??\",'Accounting Data'!$H$2:$H$100000,\"7??\",'Accounting Data'!$I$2:$I$100000,\"4???\",'Accounting Data'!$J$2:$J$100000,\"67??\")+SUMIFS('Accounting Data'!$C$2:$C$100000,'Accounting Data'!$E$2:$E$100000,\"8??\",'Accounting Data'!$H$2:$H$100000,\"8??\",'Accounting Data'!$I$2:$I$100000,\"4???\",'Accounting Data'!$J$2:$J$100000,\"67??\")+SUMIFS('Accounting Data'!$C$2:$C$100000,'Accounting Data'!$E$2:$E$100000,\"8??\",'Accounting Data'!$H$2:$H$100000,\"9??\",'Accounting Data'!$I$2:$I$100000,\"4???\",'Accounting Data'!$J$2:$J$100000,\"67??\")","v":0},{"$f":"SUMIFS('Accounting Data'!$C$2:$C$100000,'Accounting Data'!$E$2:$E$100000,\"9??\",'Accounting Data'!$H$2:$H$100000,\"7??\",'Accounting Data'!$I$2:$I$100000,\"4???\",'Accounting Data'!$J$2:$J$100000,\"67??\")+SUMIFS('Accounting Data'!$C$2:$C$100000,'Accounting Data'!$E$2:$E$100000,\"9??\",'Accounting Data'!$H$2:$H$100000,\"8??\",'Accounting Data'!$I$2:$I$100000,\"4???\",'Accounting Data'!$J$2:$J$100000,\"67??\")+SUMIFS('Accounting Data'!$C$2:$C$100000,'Accounting Data'!$E$2:$E$100000,\"9??\",'Accounting Data'!$H$2:$H$100000,\"9??\",'Accounting Data'!$I$2:$I$100000,\"4???\",'Accounting Data'!$J$2:$J$100000,\"67??\")","v":0},null,4000,{"$f":"SUMIFS('Accounting Data'!C2:C100000,'Accounting Data'!I2:I100000,\"4???\",'Accounting Data'!J2:J100000,\"681?\")","v":0},{"$f":"SUMIFS('Accounting Data'!$C$2:$C$100000,'Accounting Data'!$E$2:$E$100000,\"575\",'Accounting Data'!$I$2:$I$100000,\"4???\",'Accounting Data'!$J$2:$J$100000,\"681?\")+SUMIFS('Accounting Data'!$C$2:$C$100000,'Accounting Data'!$E$2:$E$100000,\"8??\",'Accounting Data'!$I$2:$I$100000,\"4???\",'Accounting Data'!$J$2:$J$100000,\"681?\")+SUMIFS('Accounting Data'!$C$2:$C$100000,'Accounting Data'!$E$2:$E$100000,\"9??\",'Accounting Data'!$I$2:$I$100000,\"4???\",'Accounting Data'!$J$2:$J$100000,\"681?\")","v":0},{"$f":"SUMIFS('Accounting Data'!$C$2:$C$100000,'Accounting Data'!$H$2:$H$100000,\"7??\",'Accounting Data'!$I$2:$I$100000,\"4???\",'Accounting Data'!$J$2:$J$100000,\"681?\")+SUMIFS('Accounting Data'!$C$2:$C$100000,'Accounting Data'!$H$2:$H$100000,\"8??\",'Accounting Data'!$I$2:$I$100000,\"4???\",'Accounting Data'!$J$2:$J$100000,\"681?\")+SUMIFS('Accounting Data'!$C$2:$C$100000,'Accounting Data'!$H$2:$H$100000,\"9??\",'Accounting Data'!$I$2:$I$100000,\"4???\",'Accounting Data'!$J$2:$J$100000,\"681?\")","v":0},{"$f":"SUMIFS('Accounting Data'!$C$2:$C$100000,'Accounting Data'!$E$2:$E$100000,\"575\",'Accounting Data'!$H$2:$H$100000,\"7??\",'Accounting Data'!$I$2:$I$100000,\"4???\",'Accounting Data'!$J$2:$J$100000,\"681?\")+SUMIFS('Accounting Data'!$C$2:$C$100000,'Accounting Data'!$E$2:$E$100000,\"575\",'Accounting Data'!$H$2:$H$100000,\"8??\",'Accounting Data'!$I$2:$I$100000,\"4???\",'Accounting Data'!$J$2:$J$100000,\"681?\")+SUMIFS('Accounting Data'!$C$2:$C$100000,'Accounting Data'!$E$2:$E$100000,\"575\",'Accounting Data'!$H$2:$H$100000,\"9??\",'Accounting Data'!$I$2:$I$100000,\"4???\",'Accounting Data'!$J$2:$J$100000,\"681?\")","v":0},{"$f":"SUMIFS('Accounting Data'!$C$2:$C$100000,'Accounting Data'!$E$2:$E$100000,\"8??\",'Accounting Data'!$H$2:$H$100000,\"7??\",'Accounting Data'!$I$2:$I$100000,\"4???\",'Accounting Data'!$J$2:$J$100000,\"681?\")+SUMIFS('Accounting Data'!$C$2:$C$100000,'Accounting Data'!$E$2:$E$100000,\"8??\",'Accounting Data'!$H$2:$H$100000,\"8??\",'Accounting Data'!$I$2:$I$100000,\"4???\",'Accounting Data'!$J$2:$J$100000,\"681?\")+SUMIFS('Accounting Data'!$C$2:$C$100000,'Accounting Data'!$E$2:$E$100000,\"8??\",'Accounting Data'!$H$2:$H$100000,\"9??\",'Accounting Data'!$I$2:$I$100000,\"4???\",'Accounting Data'!$J$2:$J$100000,\"681?\")","v":0},{"$f":"SUMIFS('Accounting Data'!$C$2:$C$100000,'Accounting Data'!$E$2:$E$100000,\"9??\",'Accounting Data'!$H$2:$H$100000,\"7??\",'Accounting Data'!$I$2:$I$100000,\"4???\",'Accounting Data'!$J$2:$J$100000,\"681?\")+SUMIFS('Accounting Data'!$C$2:$C$100000,'Accounting Data'!$E$2:$E$100000,\"9??\",'Accounting Data'!$H$2:$H$100000,\"8??\",'Accounting Data'!$I$2:$I$100000,\"4???\",'Accounting Data'!$J$2:$J$100000,\"681?\")+SUMIFS('Accounting Data'!$C$2:$C$100000,'Accounting Data'!$E$2:$E$100000,\"9??\",'Accounting Data'!$H$2:$H$100000,\"9??\",'Accounting Data'!$I$2:$I$100000,\"4???\",'Accounting Data'!$J$2:$J$100000,\"681?\")","v":0},null,"Function","All funds ","Funds 575,800-999","Programs 700-900","Programs 700-900 Funds 575","Programs 700-900 Funds 800-899","Programs 700-900 Funds 900-999",null,null,null,null,null,null,null,null,null,null,null,null,null,null,null,null,null,5000,{"$f":"SUMIFS('Accounting Data'!$C$2:$C$100000,'Accounting Data'!$H$2:$H$100000,\"7??\",'Accounting Data'!$I$2:$I$100000,\"5???\",'Accounting Data'!$J$2:$J$100000,\"6???\")+SUMIFS('Accounting Data'!$C$2:$C$100000,'Accounting Data'!$H$2:$H$100000,\"8??\",'Accounting Data'!$I$2:$I$100000,\"5???\",'Accounting Data'!$J$2:$J$100000,\"6???\")+SUMIFS('Accounting Data'!$C$2:$C$100000,'Accounting Data'!$H$2:$H$100000,\"9??\",'Accounting Data'!$I$2:$I$100000,\"5???\",'Accounting Data'!$J$2:$J$100000,\"6???\")","v":0},{"$f":"SUMIFS('Accounting Data'!$C$2:$C$100000,'Accounting Data'!$H$2:$H$100000,\"7??\",'Accounting Data'!$I$2:$I$100000,\"5???\",'Accounting Data'!$J$2:$J$100000,\"69??\")+SUMIFS('Accounting Data'!$C$2:$C$100000,'Accounting Data'!$H$2:$H$100000,\"8??\",'Accounting Data'!$I$2:$I$100000,\"5???\",'Accounting Data'!$J$2:$J$100000,\"69??\")+SUMIFS('Accounting Data'!$C$2:$C$100000,'Accounting Data'!$H$2:$H$100000,\"9??\",'Accounting Data'!$I$2:$I$100000,\"5???\",'Accounting Data'!$J$2:$J$100000,\"69??\")","v":0},{"$f":"SUMIFS('Accounting Data'!$C$2:$C$100000,'Accounting Data'!$E$2:$E$100000,\"575\",'Accounting Data'!$H$2:$H$100000,\"7??\",'Accounting Data'!$I$2:$I$100000,\"5???\",'Accounting Data'!$J$2:$J$100000,\"6???\")+SUMIFS('Accounting Data'!$C$2:$C$100000,'Accounting Data'!$E$2:$E$100000,\"575\",'Accounting Data'!$H$2:$H$100000,\"8??\",'Accounting Data'!$I$2:$I$100000,\"5???\",'Accounting Data'!$J$2:$J$100000,\"6???\")+SUMIFS('Accounting Data'!$C$2:$C$100000,'Accounting Data'!$E$2:$E$100000,\"575\",'Accounting Data'!$H$2:$H$100000,\"9??\",'Accounting Data'!$I$2:$I$100000,\"5???\",'Accounting Data'!$J$2:$J$100000,\"6???\")","v":0},{"$f":"SUMIFS('Accounting Data'!$C$2:$C$100000,'Accounting Data'!$E$2:$E$100000,\"8??\",'Accounting Data'!$H$2:$H$100000,\"7??\",'Accounting Data'!$I$2:$I$100000,\"5???\",'Accounting Data'!$J$2:$J$100000,\"6???\")+SUMIFS('Accounting Data'!$C$2:$C$100000,'Accounting Data'!$E$2:$E$100000,\"8??\",'Accounting Data'!$H$2:$H$100000,\"8??\",'Accounting Data'!$I$2:$I$100000,\"5???\",'Accounting Data'!$J$2:$J$100000,\"6???\")+SUMIFS('Accounting Data'!$C$2:$C$100000,'Accounting Data'!$E$2:$E$100000,\"8??\",'Accounting Data'!$H$2:$H$100000,\"9??\",'Accounting Data'!$I$2:$I$100000,\"5???\",'Accounting Data'!$J$2:$J$100000,\"6???\")+SUMIFS('Accounting Data'!$C$2:$C$100000,'Accounting Data'!$E$2:$E$100000,\"9??\",'Accounting Data'!$H$2:$H$100000,\"7??\",'Accounting Data'!$I$2:$I$100000,\"5???\",'Accounting Data'!$J$2:$J$100000,\"6???\")+SUMIFS('Accounting Data'!$C$2:$C$100000,'Accounting Data'!$E$2:$E$100000,\"9??\",'Accounting Data'!$H$2:$H$100000,\"8??\",'Accounting Data'!$I$2:$I$100000,\"5???\",'Accounting Data'!$J$2:$J$100000,\"6???\")+SUMIFS('Accounting Data'!$C$2:$C$100000,'Accounting Data'!$E$2:$E$100000,\"9??\",'Accounting Data'!$H$2:$H$100000,\"9??\",'Accounting Data'!$I$2:$I$100000,\"5???\",'Accounting Data'!$J$2:$J$100000,\"6???\")","v":0},{"$f":"SUMIFS('Accounting Data'!$C$2:$C$100000,'Accounting Data'!$E$2:$E$100000,\"575\",'Accounting Data'!$H$2:$H$100000,\"7??\",'Accounting Data'!$I$2:$I$100000,\"5???\",'Accounting Data'!$J$2:$J$100000,\"69??\")+SUMIFS('Accounting Data'!$C$2:$C$100000,'Accounting Data'!$E$2:$E$100000,\"575\",'Accounting Data'!$H$2:$H$100000,\"8??\",'Accounting Data'!$I$2:$I$100000,\"5???\",'Accounting Data'!$J$2:$J$100000,\"69??\")+SUMIFS('Accounting Data'!$C$2:$C$100000,'Accounting Data'!$E$2:$E$100000,\"575\",'Accounting Data'!$H$2:$H$100000,\"9??\",'Accounting Data'!$I$2:$I$100000,\"5???\",'Accounting Data'!$J$2:$J$100000,\"69??\")","v":0},{"$f":"SUMIFS('Accounting Data'!$C$2:$C$100000,'Accounting Data'!$E$2:$E$100000,\"8??\",'Accounting Data'!$H$2:$H$100000,\"7??\",'Accounting Data'!$I$2:$I$100000,\"5???\",'Accounting Data'!$J$2:$J$100000,\"69??\")+SUMIFS('Accounting Data'!$C$2:$C$100000,'Accounting Data'!$E$2:$E$100000,\"8??\",'Accounting Data'!$H$2:$H$100000,\"8??\",'Accounting Data'!$I$2:$I$100000,\"5???\",'Accounting Data'!$J$2:$J$100000,\"69??\")+SUMIFS('Accounting Data'!$C$2:$C$100000,'Accounting Data'!$E$2:$E$100000,\"8??\",'Accounting Data'!$H$2:$H$100000,\"9??\",'Accounting Data'!$I$2:$I$100000,\"5???\",'Accounting Data'!$J$2:$J$100000,\"69??\")+SUMIFS('Accounting Data'!$C$2:$C$100000,'Accounting Data'!$E$2:$E$100000,\"9??\",'Accounting Data'!$H$2:$H$100000,\"7??\",'Accounting Data'!$I$2:$I$100000,\"5???\",'Accounting Data'!$J$2:$J$100000,\"69??\")+SUMIFS('Accounting Data'!$C$2:$C$100000,'Accounting Data'!$E$2:$E$100000,\"9??\",'Accounting Data'!$H$2:$H$100000,\"8??\",'Accounting Data'!$I$2:$I$100000,\"5???\",'Accounting Data'!$J$2:$J$100000,\"69??\")+SUMIFS('Accounting Data'!$C$2:$C$100000,'Accounting Data'!$E$2:$E$100000,\"9??\",'Accounting Data'!$H$2:$H$100000,\"9??\",'Accounting Data'!$I$2:$I$100000,\"5???\",'Accounting Data'!$J$2:$J$100000,\"69??\")","v":0}]
["4000 Facilities Acquisition and Construction","16.",{"$f":"(AA26-AB26-AC26)+(AD26+AE26+AF26)","v":0},{"$f":"(AI26-AJ26-AK26)+(AL26+AM26+AN26)","v":0},{"$f":"(AQ26-AR26-AS26-AT26-AU26)+(AV26+AW26+AX26+AY26+AZ26+BA26+BB26+BC26+BD26)","v":4267662},{"$f":"(BG26-BH26-BI26)+(BJ26+BK26+BL26)","v":0},{"$f":"(BO26-BP26-BQ26)+(BR26+BS26+BT26)","v":92160},{"$f":"(BW26-BX26-BY26)+(BZ26+CA26+CB26)","v":0},null,null,null,{"$f":"(CU25-CV25-CW25)+(CX25+CY25+CZ25)","v":0},{"$f":"(DC25-DD25)-((DE25+DF25)-(DG25+DH25))","v":0},4359822,"16.",null,null,null,6890,{"$f":"SUMIFS('Accounting Data'!$C$2:$C$100000,'Accounting Data'!$E$2:$E$100000,\"378\",'Accounting Data'!$I$2:$I$100000,\"1???\",'Accounting Data'!$J$2:$J$100000,\"689?\")+SUMIFS('Accounting Data'!$C$2:$C$100000,'Accounting Data'!$E$2:$E$100000,\"378\",'Accounting Data'!$I$2:$I$100000,\"2???\",'Accounting Data'!$J$2:$J$100000,\"689?\")+SUMIFS('Accounting Data'!$C$2:$C$100000,'Accounting Data'!$E$2:$E$100000,\"378\",'Accounting Data'!$I$2:$I$100000,\"3???\",'Accounting Data'!$J$2:$J$100000,\"689?\")","v":0},0,0,0]
["5000 Debt Service","17.",null,null,null,null,null,null,null,{"$f":"(CE28-CF28-CG28)+(CH28+CI28+CJ28)","v":3354651},{"$f":"(CE22-CF22-CG22-CH22-CI22)+(CJ22+CK22+CL22+CM22+CN22+CO22+CP22+CQ22+CR22)","v":2146402},null,{"$f":"(DC26-DD26)-((DE26+DF26)-(DG26+DH26))","v":0},{"$f":"SUM(C28:M28)","v":5501053},"17.",null,null,null,"Total",{"$f":"SUM(T19:T27)","v":0},null,null,null,null,null,"Federal Funds: 100-399, 639, 699, and 720",null,null,null,null,null,null,null,null,null,null,null,null,null,null,null,null,null,null,null,null,null,null,null,null,null,null,null,null,null,null,null,null,null,null,null,null,null,null,null,null,null,null,null,null,null,null,null,null,null,null,null,null,null,null,null,5000,{"$f":"SUMIFS('Accounting Data'!C2:C100000,'Accounting Data'!I2:I100000,\"5???\",'Accounting Data'!J2:J100000,\"6831\")+SUMIFS('Accounting Data'!C2:C100000,'Accounting Data'!I2:I100000,\"5???\",'Accounting Data'!J2:J100000,\"6832\")+SUMIFS('Accounting Data'!C2:C100000,'Accounting Data'!I2:I100000,\"5???\",'Accounting Data'!J2:J100000,\"6833\")","v":3354651},{"$f":"SUMIFS('Accounting Data'!C2:C100000,'Accounting Data'!E2:E100000,\"575\",'Accounting Data'!I2:I100000,\"5???\",'Accounting Data'!J2:J100000,\"6831\")+SUMIFS('Accounting Data'!C2:C100000,'Accounting Data'!E2:E100000,\"8??\",'Accounting Data'!I2:I100000,\"5???\",'Accounting Data'!J2:J100000,\"6831\")+SUMIFS('Accounting Data'!C2:C100000,'Accounting Data'!E2:E100000,\"9??\",'Accounting Data'!I2:I100000,\"5???\",'Accounting Data'!J2:J100000,\"6831\")+SUMIFS('Accounting Data'!C2:C100000,'Accounting Data'!E2:E100000,\"575\",'Accounting Data'!I2:I100000,\"5???\",'Accounting Data'!J2:J100000,\"6832\")+SUMIFS('Accounting Data'!C2:C100000,'Accounting Data'!E2:E100000,\"8??\",'Accounting Data'!I2:I100000,\"5???\",'Accounting Data'!J2:J100000,\"6832\")+SUMIFS('Accounting Data'!C2:C100000,'Accounting Data'!E2:E100000,\"9??\",'Accounting Data'!I2:I100000,\"5???\",'Accounting Data'!J2:J100000,\"6832\")+SUMIFS('Accounting Data'!C2:C100000,'Accounting Data'!E2:E100000,\"575\",'Accounting Data'!I2:I100000,\"5???\",'Accounting Data'!J2:J100000,\"6833\")+SUMIFS('Accounting Data'!C2:C100000,'Accounting Data'!E2:E100000,\"8??\",'Accounting Data'!I2:I100000,\"5???\",'Accounting Data'!J2:J100000,\"6833\")+SUMIFS('Accounting Data'!C2:C100000,'Accounting Data'!E2:E100000,\"9??\",'Accounting Data'!I2:I100000,\"5???\",'Accounting Data'!J2:J100000,\"6833\")","v":0},{"$f":"SUMIFS('Accounting Data'!C2:C100000,'Accounting Data'!H2:H100000,\"7??\",'Accounting Data'!I2:I100000,\"5???\",'Accounting Data'!J2:J100000,\"6831\")+SUMIFS('Accounting Data'!C2:C100000,'Accounting Data'!H2:H100000,\"8??\",'Accounting Data'!I2:I100000,\"5???\",'Accounting Data'!J2:J100000,\"6831\")+SUMIFS('Accounting Data'!C2:C100000,'Accounting Data'!H2:H100000,\"9??\",'Accounting Data'!I2:I100000,\"5???\",'Accounting Data'!J2:J100000,\"6831\")+SUMIFS('Accounting Data'!C2:C100000,'Accounting Data'!H2:H100000,\"7??\",'Accounting Data'!I2:I100000,\"5???\",'Accounting Data'!J2:J100000,\"6832\")+SUMIFS('Accounting Data'!C2:C100000,'Accounting Data'!H2:H100000,\"8??\",'Accounting Data'!I2:I100000,\"5???\",'Accounting Data'!J2:J100000,\"6832\")+SUMIFS('Accounting Data'!C2:C100000,'Accounting Data'!H2:H100000,\"9??\",'Accounting Data'!I2:I100000,\"5???\",'Accounting Data'!J2:J100000,\"6832\")+SUMIFS('Accounting Data'!C2:C100000,'Accounting Data'!H2:H100000,\"7??\",'Accounting Data'!I2:I100000,\"5???\",'Accounting Data'!J2:J100000,\"6833\")+SUMIFS('Accounting Data'!C2:C100000,'Accounting Data'!H2:H100000,\"8??\",'Accounting Data'!I2:I100000,\"5???\",'Accounting Data'!J2:J100000,\"6833\")+SUMIFS('Accounting Data'!C2:C100000,'Accounting Data'!H2:H100000,\"9??\",'Accounting Data'!I2:I100000,\"5???\",'Accounting Data'!J2:J100000,\"6833\")","v":0},{"$f":"SUMIFS('Accounting Data'!C2:C100000,'Accounting Data'!E2:E100000,\"575\",'Accounting Data'!H2:H100000,\"7??\",'Accounting Data'!I2:I100000,\"5???\",'Accounting Data'!J2:J100000,\"6831\")+SUMIFS('Accounting Data'!C2:C100000,'Accounting Data'!E2:E100000,\"575\",'Accounting Data'!H2:H100000,\"8??\",'Accounting Data'!I2:I100000,\"5???\",'Accounting Data'!J2:J100000,\"6831\")+SUMIFS('Accounting Data'!C2:C100000,'Accounting Data'!E2:E100000,\"575\",'Accounting Data'!H2:H100000,\"9??\",'Accounting Data'!I2:I100000,\"5???\",'Accounting Data'!J2:J100000,\"6831\")+SUMIFS('Accounting Data'!C2:C100000,'Accounting Data'!E2:E100000,\"575\",'Accounting Data'!H2:H100000,\"7??\",'Accounting Data'!I2:I100000,\"5???\",'Accounting Data'!J2:J100000,\"6832\")+SUMIFS('Accounting Data'!C2:C100000,'Accounting Data'!E2:E100000,\"575\",'Accounting Data'!H2:H100000,\"8??\",'Accounting Data'!I2:I100000,\"5???\",'Accounting Data'!J2:J100000,\"6832\")+SUMIFS('Accounting Data'!C2:C100000,'Accounting Data'!E2:E100000,\"575\",'Accounting Data'!H2:H100000,\"9??\",'Accounting Data'!I2:I100000,\"5???\",'Accounting Data'!J2:J100000,\"6832\")+SUMIFS('Accounting Data'!C2:C100000,'Accounting Data'!E2:E100000,\"575\",'Accounting Data'!H2:H100000,\"7??\",'Accounting Data'!I2:I100000,\"5???\",'Accounting Data'!J2:J100000,\"6833\")+SUMIFS('Accounting Data'!C2:C100000,'Accounting Data'!E2:E100000,\"575\",'Accounting Data'!H2:H100000,\"8??\",'Accounting Data'!I2:I100000,\"5???\",'Accounting Data'!J2:J100000,\"6833\")+SUMIFS('Accounting Data'!C2:C100000,'Accounting Data'!E2:E100000,\"575\",'Accounting Data'!H2:H100000,\"9??\",'Accounting Data'!I2:I100000,\"5???\",'Accounting Data'!J2:J100000,\"6833\")","v":0},{"$f":"SUMIFS('Accounting Data'!C2:C100000,'Accounting Data'!E2:E100000,\"8??\",'Accounting Data'!H2:H100000,\"7??\",'Accounting Data'!I2:I100000,\"5???\",'Accounting Data'!J2:J100000,\"6831\")+SUMIFS('Accounting Data'!C2:C100000,'Accounting Data'!E2:E100000,\"8??\",'Accounting Data'!H2:H100000,\"8??\",'Accounting Data'!I2:I100000,\"5???\",'Accounting Data'!J2:J100000,\"6831\")+SUMIFS('Accounting Data'!C2:C100000,'Accounting Data'!E2:E100000,\"8??\",'Accounting Data'!H2:H100000,\"9??\",'Accounting Data'!I2:I100000,\"5???\",'Accounting Data'!J2:J100000,\"6831\")+SUMIFS('Accounting Data'!C2:C100000,'Accounting Data'!E2:E100000,\"8??\",'Accounting Data'!H2:H100000,\"7??\",'Accounting Data'!I2:I100000,\"5???\",'Accounting Data'!J2:J100000,\"6832\")+SUMIFS('Accounting Data'!C2:C100000,'Accounting Data'!E2:E100000,\"8??\",'Accounting Data'!H2:H100000,\"8??\",'Accounting Data'!I2:I100000,\"5???\",'Accounting Data'!J2:J100000,\"6832\")+SUMIFS('Accounting Data'!C2:C100000,'Accounting Data'!E2:E100000,\"8??\",'Accounting Data'!H2:H100000,\"9??\",'Accounting Data'!I2:I100000,\"5???\",'Accounting Data'!J2:J100000,\"6832\")+SUMIFS('Accounting Data'!C2:C100000,'Accounting Data'!E2:E100000,\"8??\",'Accounting Data'!H2:H100000,\"7??\",'Accounting Data'!I2:I100000,\"5???\",'Accounting Data'!J2:J100000,\"6833\")+SUMIFS('Accounting Data'!C2:C100000,'Accounting Data'!E2:E100000,\"8??\",'Accounting Data'!H2:H100000,\"8??\",'Accounting Data'!I2:I100000,\"5???\",'Accounting Data'!J2:J100000,\"6833\")+SUMIFS('Accounting Data'!C2:C100000,'Accounting Data'!E2:E100000,\"8??\",'Accounting Data'!H2:H100000,\"9??\",'Accounting Data'!I2:I100000,\"5???\",'Accounting Data'!J2:J100000,\"6833\")","v":0},{"$f":"SUMIFS('Accounting Data'!C2:C100000,'Accounting Data'!E2:E100000,\"9??\",'Accounting Data'!H2:H100000,\"7??\",'Accounting Data'!I2:I100000,\"5???\",'Accounting Data'!J2:J100000,\"6831\")+SUMIFS('Accounting Data'!C2:C100000,'Accounting Data'!E2:E100000,\"9??\",'Accounting Data'!H2:H100000,\"8??\",'Accounting Data'!I2:I100000,\"5???\",'Accounting Data'!J2:J100000,\"6831\")+SUMIFS('Accounting Data'!C2:C100000,'Accounting Data'!E2:E100000,\"9??\",'Accounting Data'!H2:H100000,\"9??\",'Accounting Data'!I2:I100000,\"5???\",'Accounting Data'!J2:J100000,\"6831\")+SUMIFS('Accounting Data'!C2:C100000,'Accounting Data'!E2:E100000,\"9??\",'Accounting Data'!H2:H100000,\"7??\",'Accounting Data'!I2:I100000,\"5???\",'Accounting Data'!J2:J100000,\"6832\")+SUMIFS('Accounting Data'!C2:C100000,'Accounting Data'!E2:E100000,\"9??\",'Accounting Data'!H2:H100000,\"8??\",'Accounting Data'!I2:I100000,\"5???\",'Accounting Data'!J2:J100000,\"6832\")+SUMIFS('Accounting Data'!C2:C100000,'Accounting Data'!E2:E100000,\"9??\",'Accounting Data'!H2:H100000,\"9??\",'Accounting Data'!I2:I100000,\"5???\",'Accounting Data'!J2:J100000,\"6832\")+SUMIFS('Accounting Data'!C2:C100000,'Accounting Data'!E2:E100000,\"9??\",'Accounting Data'!H2:H100000,\"7??\",'Accounting Data'!I2:I100000,\"5???\",'Accounting Data'!J2:J100000,\"6833\")+SUMIFS('Accounting Data'!C2:C100000,'Accounting Data'!E2:E100000,\"9??\",'Accounting Data'!H2:H100000,\"8??\",'Accounting Data'!I2:I100000,\"5???\",'Accounting Data'!J2:J100000,\"6833\")+SUMIFS('Accounting Data'!C2:C100000,'Accounting Data'!E2:E100000,\"9??\",'Accounting Data'!H2:H100000,\"9??\",'Accounting Data'!I2:I100000,\"5???\",'Accounting Data'!J2:J100000,\"6833\")","v":0}]
[null,null,null,null,null,null,null,null,null,null,null,null,null,null,null,null,null,null,null,null,null,null,null,null,null,null,"All programs","All programs","All programs","Program 700","Program 800","Program 900","Program 700","Program 800","Program 900","Program 700","Program 800","Program 900"]
[null,null,null,{"$f":"IF(Q33<>SUM(D35:E39),\"Total certified teachers and substitutes salaries do not agree with your accounting records.            Please verify the amounts.\",\"\")","v":""},null,null,null,null,null,null,null,null,null,null,null,null,null,null,null,null,null,null,null,null,null,"Object","Function 1000","Function 2000","Function 3000","Function 1000","Function 1000","Function 1000","Function 2000","Function 2000","Function 2000","Function 3000","Function 3000","Function 3000"]
["Teacher Salaries (Funds 001-799 excluding 575, Function 1000)",null,null,null,null,null,null,null,"Programs 700-900 Expenditure Detail (Funds 001-799, excluding 575)",null,null,null,null,null,null,null,"Certified teacher and substitute salaries",null,null,null,null,null,null,null,null,6100,{"$f":"SUMIFS('Accounting Data'!C2:C100000,'Accounting Data'!E2:E100000,\"1??\",'Accounting Data'!I2:I100000,\"1???\",'Accounting Data'!J2:J100000,\"61??\")+SUMIFS('Accounting Data'!C2:C100000,'Accounting Data'!E2:E100000,\"2??\",'Accounting Data'!I2:I100000,\"1???\",'Accounting Data'!J2:J100000,\"61??\")+SUMIFS('Accounting Data'!C2:C100000,'Accounting Data'!E2:E100000,\"3??\",'Accounting Data'!I2:I100000,\"1???\",'Accounting Data'!J2:J100000,\"61??\")+SUMIFS('Accounting Data'!C2:C100000,'Accounting Data'!E2:E100000,\"639\",'Accounting Data'!I2:I100000,\"1???\",'Accounting Data'!J2:J100000,\"61??\")+SUMIFS('Accounting Data'!C2:C100000,'Accounting Data'!E2:E100000,\"699\",'Accounting Data'!I2:I100000,\"1???\",'Accounting Data'!J2:J100000,\"61??\")+SUMIFS('Accounting Data'!C2:C100000,'Accounting Data'!E2:E100000,\"720\",'Accounting Data'!I2:I100000,\"1???\",'Accounting Data'!J2:J100000,\"61??\")+SUMIFS('Accounting Data'!C2:C100000,'Accounting Data'!E2:E100000,\"COVID\",'Accounting Data'!I2:I100000,\"1???\",'Accounting Data'!J2:J100000,\"61??\")","v":1227407},{"$f":"SUMIFS('Accounting Data'!C2:C100000,'Accounting Data'!E2:E100000,\"1??\",'Accounting Data'!I2:I100000,\"2???\",'Accounting Data'!J2:J100000,\"61??\")+SUMIFS('Accounting Data'!C2:C100000,'Accounting Data'!E2:E100000,\"2??\",'Accounting Data'!I2:I100000,\"2???\",'Accounting Data'!J2:J100000,\"61??\")+SUMIFS('Accounting Data'!C2:C100000,'Accounting Data'!E2:E100000,\"3??\",'Accounting Data'!I2:I100000,\"2???\",'Accounting Data'!J2:J100000,\"61??\")+SUMIFS('Accounting Data'!C2:C100000,'Accounting Data'!E2:E100000,\"639\",'Accounting Data'!I2:I100000,\"2???\",'Accounting Data'!J2:J100000,\"61??\")+SUMIFS('Accounting Data'!C2:C100000,'Accounting Data'!E2:E100000,\"699\",'Accounting Data'!I2:I100000,\"2???\",'Accounting Data'!J2:J100000,\"61??\")+SUMIFS('Accounting Data'!C2:C100000,'Accounting Data'!E2:E100000,\"720\",'Accounting Data'!I2:I100000,\"2???\",'Accounting Data'!J2:J100000,\"61??\")+SUMIFS('Accounting Data'!C2:C100000,'Accounting Data'!E2:E100000,\"COVID\",'Accounting Data'!I2:I100000,\"2???\",'Accounting Data'!J2:J100000,\"61??\")","v":874575},{"$f":"SUMIFS('Accounting Data'!C2:C100000,'Accounting Data'!E2:E100000,\"1??\",'Accounting Data'!I2:I100000,\"3???\",'Accounting Data'!J2:J100000,\"61??\")+SUMIFS('Accounting Data'!C2:C100000,'Accounting Data'!E2:E100000,\"2??\",'Accounting Data'!I2:I100000,\"3???\",'Accounting Data'!J2:J100000,\"61??\")+SUMIFS('Accounting Data'!C2:C100000,'Accounting Data'!E2:E100000,\"3??\",'Accounting Data'!I2:I100000,\"3???\",'Accounting Data'!J2:J100000,\"61??\")+SUMIFS('Accounting Data'!C2:C100000,'Accounting Data'!E2:E100000,\"639\",'Accounting Data'!I2:I100000,\"3???\",'Accounting Data'!J2:J100000,\"61??\")+SUMIFS('Accounting Data'!C2:C100000,'Accounting Data'!E2:E100000,\"699\",'Accounting Data'!I2:I100000,\"3???\",'Accounting Data'!J2:J100000,\"61??\")+SUMIFS('Accounting Data'!C2:C100000,'Accounting Data'!E2:E100000,\"720\",'Accounting Data'!I2:I100000,\"3???\",'Accounting Data'!J2:J100000,\"61??\")+SUMIFS('Accounting Data'!C2:C100000,'Accounting Data'!E2:E100000,\"COVID\",'Accounting Data'!I2:I100000,\"3???\",'Accounting Data'!J2:J100000,\"61??\")","v":118145},{"$f":"SUMIFS('Accounting Data'!C2:C100000,'Accounting Data'!E2:E100000,\"1??\",'Accounting Data'!H2:H100000,\"7??\",'Accounting Data'!I2:I100000,\"1???\",'Accounting Data'!J2:J100000,\"61??\")+SUMIFS('Accounting Data'!C2:C100000,'Accounting Data'!E2:E100000,\"2??\",'Accounting Data'!H2:H100000,\"7??\",'Accounting Data'!I2:I100000,\"1???\",'Accounting Data'!J2:J100000,\"61??\")+SUMIFS('Accounting Data'!C2:C100000,'Accounting Data'!E2:E100000,\"3??\",'Accounting Data'!H2:H100000,\"7??\",'Accounting Data'!I2:I100000,\"1???\",'Accounting Data'!J2:J100000,\"61??\")+SUMIFS('Accounting Data'!C2:C100000,'Accounting Data'!E2:E100000,\"639\",'Accounting Data'!H2:H100000,\"7??\",'Accounting Data'!I2:I100000,\"1???\",'Accounting Data'!J2:J100000,\"61??\")+SUMIFS('Accounting Data'!C2:C100000,'Accounting Data'!E2:E100000,\"699\",'Accounting Data'!H2:H100000,\"7??\",'Accounting Data'!I2:I100000,\"1???\",'Accounting Data'!J2:J100000,\"61??\")+SUMIFS('Accounting Data'!C2:C100000,'Accounting Data'!E2:E100000,\"720\",'Accounting Data'!H2:H100000,\"7??\",'Accounting Data'!I2:I100000,\"1???\",'Accounting Data'!J2:J100000,\"61??\")+SUMIFS('Accounting Data'!C2:C100000,'Accounting Data'!E2:E100000,\"COVID\",'Accounting Data'!H2:H100000,\"7??\",'Accounting Data'!I2:I100000,\"1???\",'Accounting Data'!J2:J100000,\"61??\")","v":0},{"$f":"SUMIFS('Accounting Data'!C2:C100000,'Accounting Data'!E2:E100000,\"1??\",'Accounting Data'!H2:H100000,\"8??\",'Accounting Data'!I2:I100000,\"1???\",'Accounting Data'!J2:J100000,\"61??\")+SUMIFS('Accounting Data'!C2:C100000,'Accounting Data'!E2:E100000,\"2??\",'Accounting Data'!H2:H100000,\"8??\",'Accounting Data'!I2:I100000,\"1???\",'Accounting Data'!J2:J100000,\"61??\")+SUMIFS('Accounting Data'!C2:C100000,'Accounting Data'!E2:E100000,\"3??\",'Accounting Data'!H2:H100000,\"8??\",'Accounting Data'!I2:I100000,\"1???\",'Accounting Data'!J2:J100000,\"61??\")+SUMIFS('Accounting Data'!C2:C100000,'Accounting Data'!E2:E100000,\"639\",'Accounting Data'!H2:H100000,\"8??\",'Accounting Data'!I2:I100000,\"1???\",'Accounting Data'!J2:J100000,\"61??\")+SUMIFS('Accounting Data'!C2:C100000,'Accounting Data'!E2:E100000,\"699\",'Accounting Data'!H2:H100000,\"8??\",'Accounting Data'!I2:I100000,\"1???\",'Accounting Data'!J2:J100000,\"61??\")+SUMIFS('Accounting Data'!C2:C100000,'Accounting Data'!E2:E100000,\"720\",'Accounting Data'!H2:H100000,\"8??\",'Accounting Data'!I2:I100000,\"1???\",'Accounting Data'!J2:J100000,\"61??\")+SUMIFS('Accounting Data'!C2:C100000,'Accounting Data'!E2:E100000,\"COVID\",'Accounting Data'!H2:H100000,\"8??\",'Accounting Data'!I2:I100000,\"1???\",'Accounting Data'!J2:J100000,\"61??\")","v":0},{"$f":"SUMIFS('Accounting Data'!C2:C100000,'Accounting Data'!E2:E100000,\"1??\",'Accounting Data'!H2:H100000,\"9??\",'Accounting Data'!I2:I100000,\"1???\",'Accounting Data'!J2:J100000,\"61??\")+SUMIFS('Accounting Data'!C2:C100000,'Accounting Data'!E2:E100000,\"2??\",'Accounting Data'!H2:H100000,\"9??\",'Accounting Data'!I2:I100000,\"1???\",'Accounting Data'!J2:J100000,\"61??\")+SUMIFS('Accounting Data'!C2:C100000,'Accounting Data'!E2:E100000,\"3??\",'Accounting Data'!H2:H100000,\"9??\",'Accounting Data'!I2:I100000,\"1???\",'Accounting Data'!J2:J100000,\"61??\")+SUMIFS('Accounting Data'!C2:C100000,'Accounting Data'!E2:E100000,\"639\",'Accounting Data'!H2:H100000,\"9??\",'Accounting Data'!I2:I100000,\"1???\",'Accounting Data'!J2:J100000,\"61??\")+SUMIFS('Accounting Data'!C2:C100000,'Accounting Data'!E2:E100000,\"699\",'Accounting Data'!H2:H100000,\"9??\",'Accounting Data'!I2:I100000,\"1???\",'Accounting Data'!J2:J100000,\"61??\")+SUMIFS('Accounting Data'!C2:C100000,'Accounting Data'!E2:E100000,\"720\",'Accounting Data'!H2:H100000,\"9??\",'Accounting Data'!I2:I100000,\"1???\",'Accounting Data'!J2:J100000,\"61??\")+SUMIFS('Accounting Data'!C2:C100000,'Accounting Data'!E2:E100000,\"COVID\",'Accounting Data'!H2:H100000,\"9??\",'Accounting Data'!I2:I100000,\"1???\",'Accounting Data'!J2:J100000,\"61??\")","v":0},{"$f":"SUMIFS('Accounting Data'!C2:C100000,'Accounting Data'!E2:E100000,\"1??\",'Accounting Data'!H2:H100000,\"7??\",'Accounting Data'!I2:I100000,\"2???\",'Accounting Data'!J2:J100000,\"61??\")+SUMIFS('Accounting Data'!C2:C100000,'Accounting Data'!E2:E100000,\"2??\",'Accounting Data'!H2:H100000,\"7??\",'Accounting Data'!I2:I100000,\"2???\",'Accounting Data'!J2:J100000,\"61??\")+SUMIFS('Accounting Data'!C2:C100000,'Accounting Data'!E2:E100000,\"3??\",'Accounting Data'!H2:H100000,\"7??\",'Accounting Data'!I2:I100000,\"2???\",'Accounting Data'!J2:J100000,\"61??\")+SUMIFS('Accounting Data'!C2:C100000,'Accounting Data'!E2:E100000,\"639\",'Accounting Data'!H2:H100000,\"7??\",'Accounting Data'!I2:I100000,\"2???\",'Accounting Data'!J2:J100000,\"61??\")+SUMIFS('Accounting Data'!C2:C100000,'Accounting Data'!E2:E100000,\"699\",'Accounting Data'!H2:H100000,\"7??\",'Accounting Data'!I2:I100000,\"2???\",'Accounting Data'!J2:J100000,\"61??\")+SUMIFS('Accounting Data'!C2:C100000,'Accounting Data'!E2:E100000,\"720\",'Accounting Data'!H2:H100000,\"7??\",'Accounting Data'!I2:I100000,\"2???\",'Accounting Data'!J2:J100000,\"61??\")+SUMIFS('Accounting Data'!C2:C100000,'Accounting Data'!E2:E100000,\"COVID\",'Accounting Data'!H2:H100000,\"7??\",'Accounting Data'!I2:I100000,\"2???\",'Accounting Data'!J2:J100000,\"61??\")","v":0},{"$f":"SUMIFS('Accounting Data'!C2:C100000,'Accounting Data'!E2:E100000,\"1??\",'Accounting Data'!H2:H100000,\"8??\",'Accounting Data'!I2:I100000,\"2???\",'Accounting Data'!J2:J100000,\"61??\")+SUMIFS('Accounting Data'!C2:C100000,'Accounting Data'!E2:E100000,\"2??\",'Accounting Data'!H2:H100000,\"8??\",'Accounting Data'!I2:I100000,\"2???\",'Accounting Data'!J2:J100000,\"61??\")+SUMIFS('Accounting Data'!C2:C100000,'Accounting Data'!E2:E100000,\"3??\",'Accounting Data'!H2:H100000,\"8??\",'Accounting Data'!I2:I100000,\"2???\",'Accounting Data'!J2:J100000,\"61??\")+SUMIFS('Accounting Data'!C2:C100000,'Accounting Data'!E2:E100000,\"639\",'Accounting Data'!H2:H100000,\"8??\",'Accounting Data'!I2:I100000,\"2???\",'Accounting Data'!J2:J100000,\"61??\")+SUMIFS('Accounting Data'!C2:C100000,'Accounting Data'!E2:E100000,\"699\",'Accounting Data'!H2:H100000,\"8??\",'Accounting Data'!I2:I100000,\"2???\",'Accounting Data'!J2:J100000,\"61??\")+SUMIFS('Accounting Data'!C2:C100000,'Accounting Data'!E2:E100000,\"720\",'Accounting Data'!H2:H100000,\"8??\",'Accounting Data'!I2:I100000,\"2???\",'Accounting Data'!J2:J100000,\"61??\")+SUMIFS('Accounting Data'!C2:C100000,'Accounting Data'!E2:E100000,\"COVID\",'Accounting Data'!H2:H100000,\"8??\",'Accounting Data'!I2:I100000,\"2???\",'Accounting Data'!J2:J100000,\"61??\")","v":0},{"$f":"SUMIFS('Accounting Data'!C2:C100000,'Accounting Data'!E2:E100000,\"1??\",'Accounting Data'!H2:H100000,\"9??\",'Accounting Data'!I2:I100000,\"2???\",'Accounting Data'!J2:J100000,\"61??\")+SUMIFS('Accounting Data'!C2:C100000,'Accounting Data'!E2:E100000,\"2??\",'Accounting Data'!H2:H100000,\"9??\",'Accounting Data'!I2:I100000,\"2???\",'Accounting Data'!J2:J100000,\"61??\")+SUMIFS('Accounting Data'!C2:C100000,'Accounting Data'!E2:E100000,\"3??\",'Accounting Data'!H2:H100000,\"9??\",'Accounting Data'!I2:I100000,\"2???\",'Accounting Data'!J2:J100000,\"61??\")+SUMIFS('Accounting Data'!C2:C100000,'Accounting Data'!E2:E100000,\"639\",'Accounting Data'!H2:H100000,\"9??\",'Accounting Data'!I2:I100000,\"2???\",'Accounting Data'!J2:J100000,\"61??\")+SUMIFS('Accounting Data'!C2:C100000,'Accounting Data'!E2:E100000,\"699\",'Accounting Data'!H2:H100000,\"9??\",'Accounting Data'!I2:I100000,\"2???\",'Accounting Data'!J2:J100000,\"61??\")+SUMIFS('Accounting Data'!C2:C100000,'Accounting Data'!E2:E100000,\"720\",'Accounting Data'!H2:H100000,\"9??\",'Accounting Data'!I2:I100000,\"2???\",'Accounting Data'!J2:J100000,\"61??\")+SUMIFS('Accounting Data'!C2:C100000,'Accounting Data'!E2:E100000,\"COVID\",'Accounting Data'!H2:H100000,\"9??\",'Accounting Data'!I2:I100000,\"2???\",'Accounting Data'!J2:J100000,\"61??\")","v":0},{"$f":"SUMIFS('Accounting Data'!C2:C100000,'Accounting Data'!E2:E100000,\"1??\",'Accounting Data'!H2:H100000,\"7??\",'Accounting Data'!I2:I100000,\"3???\",'Accounting Data'!J2:J100000,\"61??\")+SUMIFS('Accounting Data'!C2:C100000,'Accounting Data'!E2:E100000,\"2??\",'Accounting Data'!H2:H100000,\"7??\",'Accounting Data'!I2:I100000,\"3???\",'Accounting Data'!J2:J100000,\"61??\")+SUMIFS('Accounting Data'!C2:C100000,'Accounting Data'!E2:E100000,\"3??\",'Accounting Data'!H2:H100000,\"7??\",'Accounting Data'!I2:I100000,\"3???\",'Accounting Data'!J2:J100000,\"61??\")+SUMIFS('Accounting Data'!C2:C100000,'Accounting Data'!E2:E100000,\"639\",'Accounting Data'!H2:H100000,\"7??\",'Accounting Data'!I2:I100000,\"3???\",'Accounting Data'!J2:J100000,\"61??\")+SUMIFS('Accounting Data'!C2:C100000,'Accounting Data'!E2:E100000,\"699\",'Accounting Data'!H2:H100000,\"7??\",'Accounting Data'!I2:I100000,\"3???\",'Accounting Data'!J2:J100000,\"61??\")+SUMIFS('Accounting Data'!C2:C100000,'Accounting Data'!E2:E100000,\"720\",'Accounting Data'!H2:H100000,\"7??\",'Accounting Data'!I2:I100000,\"3???\",'Accounting Data'!J2:J100000,\"61??\")+SUMIFS('Accounting Data'!C2:C100000,'Accounting Data'!E2:E100000,\"COVID\",'Accounting Data'!H2:H100000,\"7??\",'Accounting Data'!I2:I100000,\"3???\",'Accounting Data'!J2:J100000,\"61??\")","v":0},{"$f":"SUMIFS('Accounting Data'!C2:C100000,'Accounting Data'!E2:E100000,\"1??\",'Accounting Data'!H2:H100000,\"8??\",'Accounting Data'!I2:I100000,\"3???\",'Accounting Data'!J2:J100000,\"61??\")+SUMIFS('Accounting Data'!C2:C100000,'Accounting Data'!E2:E100000,\"2??\",'Accounting Data'!H2:H100000,\"8??\",'Accounting Data'!I2:I100000,\"3???\",'Accounting Data'!J2:J100000,\"61??\")+SUMIFS('Accounting Data'!C2:C100000,'Accounting Data'!E2:E100000,\"3??\",'Accounting Data'!H2:H100000,\"8??\",'Accounting Data'!I2:I100000,\"3???\",'Accounting Data'!J2:J100000,\"61??\")+SUMIFS('Accounting Data'!C2:C100000,'Accounting Data'!E2:E100000,\"639\",'Accounting Data'!H2:H100000,\"8??\",'Accounting Data'!I2:I100000,\"3???\",'Accounting Data'!J2:J100000,\"61??\")+SUMIFS('Accounting Data'!C2:C100000,'Accounting Data'!E2:E100000,\"699\",'Accounting Data'!H2:H100000,\"8??\",'Accounting Data'!I2:I100000,\"3???\",'Accounting Data'!J2:J100000,\"61??\")+SUMIFS('Accounting Data'!C2:C100000,'Accounting Data'!E2:E100000,\"720\",'Accounting Data'!H2:H100000,\"8??\",'Accounting Data'!I2:I100000,\"3???\",'Accounting Data'!J2:J100000,\"61??\")+SUMIFS('Accounting Data'!C2:C100000,'Accounting Data'!E2:E100000,\"COVID\",'Accounting Data'!H2:H100000,\"8??\",'Accounting Data'!I2:I100000,\"3???\",'Accounting Data'!J2:J100000,\"61??\")","v":0},{"$f":"SUMIFS('Accounting Data'!C2:C100000,'Accounting Data'!E2:E100000,\"1??\",'Accounting Data'!H2:H100000,\"9??\",'Accounting Data'!I2:I100000,\"3???\",'Accounting Data'!J2:J100000,\"61??\")+SUMIFS('Accounting Data'!C2:C100000,'Accounting Data'!E2:E100000,\"2??\",'Accounting Data'!H2:H100000,\"9??\",'Accounting Data'!I2:I100000,\"3???\",'Accounting Data'!J2:J100000,\"61??\")+SUMIFS('Accounting Data'!C2:C100000,'Accounting Data'!E2:E100000,\"3??\",'Accounting Data'!H2:H100000,\"9??\",'Accounting Data'!I2:I100000,\"3???\",'Accounting Data'!J2:J100000,\"61??\")+SUMIFS('Accounting Data'!C2:C100000,'Accounting Data'!E2:E100000,\"639\",'Accounting Data'!H2:H100000,\"9??\",'Accounting Data'!I2:I100000,\"3???\",'Accounting Data'!J2:J100000,\"61??\")+SUMIFS('Accounting Data'!C2:C100000,'Accounting Data'!E2:E100000,\"699\",'Accounting Data'!H2:H100000,\"9??\",'Accounting Data'!I2:I100000,\"3???\",'Accounting Data'!J2:J100000,\"61??\")+SUMIFS('Accounting Data'!C2:C100000,'Accounting Data'!E2:E100000,\"720\",'Accounting Data'!H2:H100000,\"9??\",'Accounting Data'!I2:I100000,\"3???\",'Accounting Data'!J2:J100000,\"61??\")+SUMIFS('Accounting Data'!C2:C100000,'Accounting Data'!E2:E100000,\"COVID\",'Accounting Data'!H2:H100000,\"9??\",'Accounting Data'!I2:I100000,\"3???\",'Accounting Data'!J2:J100000,\"61??\")","v":0}]
[null,null,null,"Certified Teachers \n(in Object 6100)","Certified Substitutes \n(in Object 6100)","Contract Teachers \n(in Object 6300)","Contract Substitutes \n(in Object 6300)",null,null,null,"Property","All Other",null,null,null,null,null,null,null,null,null,null,null,null,null,6200,{"$f":"SUMIFS('Accounting Data'!C2:C100000,'Accounting Data'!E2:E100000,\"1??\",'Accounting Data'!I2:I100000,\"1???\",'Accounting Data'!J2:J100000,\"62??\")+SUMIFS('Accounting Data'!C2:C100000,'Accounting Data'!E2:E100000,\"2??\",'Accounting Data'!I2:I100000,\"1???\",'Accounting Data'!J2:J100000,\"62??\")+SUMIFS('Accounting Data'!C2:C100000,'Accounting Data'!E2:E100000,\"3??\",'Accounting Data'!I2:I100000,\"1???\",'Accounting Data'!J2:J100000,\"62??\")+SUMIFS('Accounting Data'!C2:C100000,'Accounting Data'!E2:E100000,\"639\",'Accounting Data'!I2:I100000,\"1???\",'Accounting Data'!J2:J100000,\"62??\")+SUMIFS('Accounting Data'!C2:C100000,'Accounting Data'!E2:E100000,\"699\",'Accounting Data'!I2:I100000,\"1???\",'Accounting Data'!J2:J100000,\"62??\")+SUMIFS('Accounting Data'!C2:C100000,'Accounting Data'!E2:E100000,\"720\",'Accounting Data'!I2:I100000,\"1???\",'Accounting Data'!J2:J100000,\"62??\")+SUMIFS('Accounting Data'!C2:C100000,'Accounting Data'!E2:E100000,\"COVID\",'Accounting Data'!I2:I100000,\"1???\",'Accounting Data'!J2:J100000,\"62??\")","v":363706},{"$f":"SUMIFS('Accounting Data'!C2:C100000,'Accounting Data'!E2:E100000,\"1??\",'Accounting Data'!I2:I100000,\"2???\",'Accounting Data'!J2:J100000,\"62??\")+SUMIFS('Accounting Data'!C2:C100000,'Accounting Data'!E2:E100000,\"2??\",'Accounting Data'!I2:I100000,\"2???\",'Accounting Data'!J2:J100000,\"62??\")+SUMIFS('Accounting Data'!C2:C100000,'Accounting Data'!E2:E100000,\"3??\",'Accounting Data'!I2:I100000,\"2???\",'Accounting Data'!J2:J100000,\"62??\")+SUMIFS('Accounting Data'!C2:C100000,'Accounting Data'!E2:E100000,\"639\",'Accounting Data'!I2:I100000,\"2???\",'Accounting Data'!J2:J100000,\"62??\")+SUMIFS('Accounting Data'!C2:C100000,'Accounting Data'!E2:E100000,\"699\",'Accounting Data'!I2:I100000,\"2???\",'Accounting Data'!J2:J100000,\"62??\")+SUMIFS('Accounting Data'!C2:C100000,'Accounting Data'!E2:E100000,\"720\",'Accounting Data'!I2:I100000,\"2???\",'Accounting Data'!J2:J100000,\"62??\")+SUMIFS('Accounting Data'!C2:C100000,'Accounting Data'!E2:E100000,\"COVID\",'Accounting Data'!I2:I100000,\"2???\",'Accounting Data'!J2:J100000,\"62??\")","v":206776},{"$f":"SUMIFS('Accounting Data'!C2:C100000,'Accounting Data'!E2:E100000,\"1??\",'Accounting Data'!I2:I100000,\"3???\",'Accounting Data'!J2:J100000,\"62??\")+SUMIFS('Accounting Data'!C2:C100000,'Accounting Data'!E2:E100000,\"2??\",'Accounting Data'!I2:I100000,\"3???\",'Accounting Data'!J2:J100000,\"62??\")+SUMIFS('Accounting Data'!C2:C100000,'Accounting Data'!E2:E100000,\"3??\",'Accounting Data'!I2:I100000,\"3???\",'Accounting Data'!J2:J100000,\"62??\")+SUMIFS('Accounting Data'!C2:C100000,'Accounting Data'!E2:E100000,\"639\",'Accounting Data'!I2:I100000,\"3???\",'Accounting Data'!J2:J100000,\"62??\")+SUMIFS('Accounting Data'!C2:C100000,'Accounting Data'!E2:E100000,\"699\",'Accounting Data'!I2:I100000,\"3???\",'Accounting Data'!J2:J100000,\"62??\")+SUMIFS('Accounting Data'!C2:C100000,'Accounting Data'!E2:E100000,\"720\",'Accounting Data'!I2:I100000,\"3???\",'Accounting Data'!J2:J100000,\"62??\")+SUMIFS('Accounting Data'!C2:C100000,'Accounting Data'!E2:E100000,\"COVID\",'Accounting Data'!I2:I100000,\"3???\",'Accounting Data'!J2:J100000,\"62??\")","v":36367},{"$f":"SUMIFS('Accounting Data'!C2:C100000,'Accounting Data'!E2:E100000,\"1??\",'Accounting Data'!H2:H100000,\"7??\",'Accounting Data'!I2:I100000,\"1???\",'Accounting Data'!J2:J100000,\"62??\")+SUMIFS('Accounting Data'!C2:C100000,'Accounting Data'!E2:E100000,\"2??\",'Accounting Data'!H2:H100000,\"7??\",'Accounting Data'!I2:I100000,\"1???\",'Accounting Data'!J2:J100000,\"62??\")+SUMIFS('Accounting Data'!C2:C100000,'Accounting Data'!E2:E100000,\"3??\",'Accounting Data'!H2:H100000,\"7??\",'Accounting Data'!I2:I100000,\"1???\",'Accounting Data'!J2:J100000,\"62??\")+SUMIFS('Accounting Data'!C2:C100000,'Accounting Data'!E2:E100000,\"639\",'Accounting Data'!H2:H100000,\"7??\",'Accounting Data'!I2:I100000,\"1???\",'Accounting Data'!J2:J100000,\"62??\")+SUMIFS('Accounting Data'!C2:C100000,'Accounting Data'!E2:E100000,\"699\",'Accounting Data'!H2:H100000,\"7??\",'Accounting Data'!I2:I100000,\"1???\",'Accounting Data'!J2:J100000,\"62??\")+SUMIFS('Accounting Data'!C2:C100000,'Accounting Data'!E2:E100000,\"720\",'Accounting Data'!H2:H100000,\"7??\",'Accounting Data'!I2:I100000,\"1???\",'Accounting Data'!J2:J100000,\"62??\")+SUMIFS('Accounting Data'!C2:C100000,'Accounting Data'!E2:E100000,\"COVID\",'Accounting Data'!H2:H100000,\"7??\",'Accounting Data'!I2:I100000,\"1???\",'Accounting Data'!J2:J100000,\"62??\")","v":0},{"$f":"SUMIFS('Accounting Data'!C2:C100000,'Accounting Data'!E2:E100000,\"1??\",'Accounting Data'!H2:H100000,\"8??\",'Accounting Data'!I2:I100000,\"1???\",'Accounting Data'!J2:J100000,\"62??\")+SUMIFS('Accounting Data'!C2:C100000,'Accounting Data'!E2:E100000,\"2??\",'Accounting Data'!H2:H100000,\"8??\",'Accounting Data'!I2:I100000,\"1???\",'Accounting Data'!J2:J100000,\"62??\")+SUMIFS('Accounting Data'!C2:C100000,'Accounting Data'!E2:E100000,\"3??\",'Accounting Data'!H2:H100000,\"8??\",'Accounting Data'!I2:I100000,\"1???\",'Accounting Data'!J2:J100000,\"62??\")+SUMIFS('Accounting Data'!C2:C100000,'Accounting Data'!E2:E100000,\"639\",'Accounting Data'!H2:H100000,\"8??\",'Accounting Data'!I2:I100000,\"1???\",'Accounting Data'!J2:J100000,\"62??\")+SUMIFS('Accounting Data'!C2:C100000,'Accounting Data'!E2:E100000,\"699\",'Accounting Data'!H2:H100000,\"8??\",'Accounting Data'!I2:I100000,\"1???\",'Accounting Data'!J2:J100000,\"62??\")+SUMIFS('Accounting Data'!C2:C100000,'Accounting Data'!E2:E100000,\"720\",'Accounting Data'!H2:H100000,\"8??\",'Accounting Data'!I2:I100000,\"1???\",'Accounting Data'!J2:J100000,\"62??\")+SUMIFS('Accounting Data'!C2:C100000,'Accounting Data'!E2:E100000,\"COVID\",'Accounting Data'!H2:H100000,\"8??\",'Accounting Data'!I2:I100000,\"1???\",'Accounting Data'!J2:J100000,\"62??\")","v":0},{"$f":"SUMIFS('Accounting Data'!C2:C100000,'Accounting Data'!E2:E100000,\"1??\",'Accounting Data'!H2:H100000,\"9??\",'Accounting Data'!I2:I100000,\"1???\",'Accounting Data'!J2:J100000,\"62??\")+SUMIFS('Accounting Data'!C2:C100000,'Accounting Data'!E2:E100000,\"2??\",'Accounting Data'!H2:H100000,\"9??\",'Accounting Data'!I2:I100000,\"1???\",'Accounting Data'!J2:J100000,\"62??\")+SUMIFS('Accounting Data'!C2:C100000,'Accounting Data'!E2:E100000,\"3??\",'Accounting Data'!H2:H100000,\"9??\",'Accounting Data'!I2:I100000,\"1???\",'Accounting Data'!J2:J100000,\"62??\")+SUMIFS('Accounting Data'!C2:C100000,'Accounting Data'!E2:E100000,\"639\",'Accounting Data'!H2:H100000,\"9??\",'Accounting Data'!I2:I100000,\"1???\",'Accounting Data'!J2:J100000,\"62??\")+SUMIFS('Accounting Data'!C2:C100000,'Accounting Data'!E2:E100000,\"699\",'Accounting Data'!H2:H100000,\"9??\",'Accounting Data'!I2:I100000,\"1???\",'Accounting Data'!J2:J100000,\"62??\")+SUMIFS('Accounting Data'!C2:C100000,'Accounting Data'!E2:E100000,\"720\",'Accounting Data'!H2:H100000,\"9??\",'Accounting Data'!I2:I100000,\"1???\",'Accounting Data'!J2:J100000,\"62??\")+SUMIFS('Accounting Data'!C2:C100000,'Accounting Data'!E2:E100000,\"COVID\",'Accounting Data'!H2:H100000,\"9??\",'Accounting Data'!I2:I100000,\"1???\",'Accounting Data'!J2:J100000,\"62??\")","v":0},{"$f":"SUMIFS('Accounting Data'!C2:C100000,'Accounting Data'!E2:E100000,\"1??\",'Accounting Data'!H2:H100000,\"7??\",'Accounting Data'!I2:I100000,\"2???\",'Accounting Data'!J2:J100000,\"62??\")+SUMIFS('Accounting Data'!C2:C100000,'Accounting Data'!E2:E100000,\"2??\",'Accounting Data'!H2:H100000,\"7??\",'Accounting Data'!I2:I100000,\"2???\",'Accounting Data'!J2:J100000,\"62??\")+SUMIFS('Accounting Data'!C2:C100000,'Accounting Data'!E2:E100000,\"3??\",'Accounting Data'!H2:H100000,\"7??\",'Accounting Data'!I2:I100000,\"2???\",'Accounting Data'!J2:J100000,\"62??\")+SUMIFS('Accounting Data'!C2:C100000,'Accounting Data'!E2:E100000,\"639\",'Accounting Data'!H2:H100000,\"7??\",'Accounting Data'!I2:I100000,\"2???\",'Accounting Data'!J2:J100000,\"62??\")+SUMIFS('Accounting Data'!C2:C100000,'Accounting Data'!E2:E100000,\"699\",'Accounting Data'!H2:H100000,\"7??\",'Accounting Data'!I2:I100000,\"2???\",'Accounting Data'!J2:J100000,\"62??\")+SUMIFS('Accounting Data'!C2:C100000,'Accounting Data'!E2:E100000,\"720\",'Accounting Data'!H2:H100000,\"7??\",'Accounting Data'!I2:I100000,\"2???\",'Accounting Data'!J2:J100000,\"62??\")+SUMIFS('Accounting Data'!C2:C100000,'Accounting Data'!E2:E100000,\"COVID\",'Accounting Data'!H2:H100000,\"7??\",'Accounting Data'!I2:I100000,\"2???\",'Accounting Data'!J2:J100000,\"62??\")","v":0},{"$f":"SUMIFS('Accounting Data'!C2:C100000,'Accounting Data'!E2:E100000,\"1??\",'Accounting Data'!H2:H100000,\"8??\",'Accounting Data'!I2:I100000,\"2???\",'Accounting Data'!J2:J100000,\"62??\")+SUMIFS('Accounting Data'!C2:C100000,'Accounting Data'!E2:E100000,\"2??\",'Accounting Data'!H2:H100000,\"8??\",'Accounting Data'!I2:I100000,\"2???\",'Accounting Data'!J2:J100000,\"62??\")+SUMIFS('Accounting Data'!C2:C100000,'Accounting Data'!E2:E100000,\"3??\",'Accounting Data'!H2:H100000,\"8??\",'Accounting Data'!I2:I100000,\"2???\",'Accounting Data'!J2:J100000,\"62??\")+SUMIFS('Accounting Data'!C2:C100000,'Accounting Data'!E2:E100000,\"639\",'Accounting Data'!H2:H100000,\"8??\",'Accounting Data'!I2:I100000,\"2???\",'Accounting Data'!J2:J100000,\"62??\")+SUMIFS('Accounting Data'!C2:C100000,'Accounting Data'!E2:E100000,\"699\",'Accounting Data'!H2:H100000,\"8??\",'Accounting Data'!I2:I100000,\"2???\",'Accounting Data'!J2:J100000,\"62??\")+SUMIFS('Accounting Data'!C2:C100000,'Accounting Data'!E2:E100000,\"720\",'Accounting Data'!H2:H100000,\"8??\",'Accounting Data'!I2:I100000,\"2???\",'Accounting Data'!J2:J100000,\"62??\")+SUMIFS('Accounting Data'!C2:C100000,'Accounting Data'!E2:E100000,\"COVID\",'Accounting Data'!H2:H100000,\"8??\",'Accounting Data'!I2:I100000,\"2???\",'Accounting Data'!J2:J100000,\"62??\")","v":0},{"$f":"SUMIFS('Accounting Data'!C2:C100000,'Accounting Data'!E2:E100000,\"1??\",'Accounting Data'!H2:H100000,\"9??\",'Accounting Data'!I2:I100000,\"2???\",'Accounting Data'!J2:J100000,\"62??\")+SUMIFS('Accounting Data'!C2:C100000,'Accounting Data'!E2:E100000,\"2??\",'Accounting Data'!H2:H100000,\"9??\",'Accounting Data'!I2:I100000,\"2???\",'Accounting Data'!J2:J100000,\"62??\")+SUMIFS('Accounting Data'!C2:C100000,'Accounting Data'!E2:E100000,\"3??\",'Accounting Data'!H2:H100000,\"9??\",'Accounting Data'!I2:I100000,\"2???\",'Accounting Data'!J2:J100000,\"62??\")+SUMIFS('Accounting Data'!C2:C100000,'Accounting Data'!E2:E100000,\"639\",'Accounting Data'!H2:H100000,\"9??\",'Accounting Data'!I2:I100000,\"2???\",'Accounting Data'!J2:J100000,\"62??\")+SUMIFS('Accounting Data'!C2:C100000,'Accounting Data'!E2:E100000,\"699\",'Accounting Data'!H2:H100000,\"9??\",'Accounting Data'!I2:I100000,\"2???\",'Accounting Data'!J2:J100000,\"62??\")+SUMIFS('Accounting Data'!C2:C100000,'Accounting Data'!E2:E100000,\"720\",'Accounting Data'!H2:H100000,\"9??\",'Accounting Data'!I2:I100000,\"2???\",'Accounting Data'!J2:J100000,\"62??\")+SUMIFS('Accounting Data'!C2:C100000,'Accounting Data'!E2:E100000,\"COVID\",'Accounting Data'!H2:H100000,\"9??\",'Accounting Data'!I2:I100000,\"2???\",'Accounting Data'!J2:J100000,\"62??\")","v":0},{"$f":"SUMIFS('Accounting Data'!C2:C100000,'Accounting Data'!E2:E100000,\"1??\",'Accounting Data'!H2:H100000,\"7??\",'Accounting Data'!I2:I100000,\"3???\",'Accounting Data'!J2:J100000,\"62??\")+SUMIFS('Accounting Data'!C2:C100000,'Accounting Data'!E2:E100000,\"2??\",'Accounting Data'!H2:H100000,\"7??\",'Accounting Data'!I2:I100000,\"3???\",'Accounting Data'!J2:J100000,\"62??\")+SUMIFS('Accounting Data'!C2:C100000,'Accounting Data'!E2:E100000,\"3??\",'Accounting Data'!H2:H100000,\"7??\",'Accounting Data'!I2:I100000,\"3???\",'Accounting Data'!J2:J100000,\"62??\")+SUMIFS('Accounting Data'!C2:C100000,'Accounting Data'!E2:E100000,\"639\",'Accounting Data'!H2:H100000,\"7??\",'Accounting Data'!I2:I100000,\"3???\",'Accounting Data'!J2:J100000,\"62??\")+SUMIFS('Accounting Data'!C2:C100000,'Accounting Data'!E2:E100000,\"699\",'Accounting Data'!H2:H100000,\"7??\",'Accounting Data'!I2:I100000,\"3???\",'Accounting Data'!J2:J100000,\"62??\")+SUMIFS('Accounting Data'!C2:C100000,'Accounting Data'!E2:E100000,\"720\",'Accounting Data'!H2:H100000,\"7??\",'Accounting Data'!I2:I100000,\"3???\",'Accounting Data'!J2:J100000,\"62??\")+SUMIFS('Accounting Data'!C2:C100000,'Accounting Data'!E2:E100000,\"COVID\",'Accounting Data'!H2:H100000,\"7??\",'Accounting Data'!I2:I100000,\"3???\",'Accounting Data'!J2:J100000,\"62??\")","v":0},{"$f":"SUMIFS('Accounting Data'!C2:C100000,'Accounting Data'!E2:E100000,\"1??\",'Accounting Data'!H2:H100000,\"8??\",'Accounting Data'!I2:I100000,\"3???\",'Accounting Data'!J2:J100000,\"62??\")+SUMIFS('Accounting Data'!C2:C100000,'Accounting Data'!E2:E100000,\"2??\",'Accounting Data'!H2:H100000,\"8??\",'Accounting Data'!I2:I100000,\"3???\",'Accounting Data'!J2:J100000,\"62??\")+SUMIFS('Accounting Data'!C2:C100000,'Accounting Data'!E2:E100000,\"3??\",'Accounting Data'!H2:H100000,\"8??\",'Accounting Data'!I2:I100000,\"3???\",'Accounting Data'!J2:J100000,\"62??\")+SUMIFS('Accounting Data'!C2:C100000,'Accounting Data'!E2:E100000,\"639\",'Accounting Data'!H2:H100000,\"8??\",'Accounting Data'!I2:I100000,\"3???\",'Accounting Data'!J2:J100000,\"62??\")+SUMIFS('Accounting Data'!C2:C100000,'Accounting Data'!E2:E100000,\"699\",'Accounting Data'!H2:H100000,\"8??\",'Accounting Data'!I2:I100000,\"3???\",'Accounting Data'!J2:J100000,\"62??\")+SUMIFS('Accounting Data'!C2:C100000,'Accounting Data'!E2:E100000,\"720\",'Accounting Data'!H2:H100000,\"8??\",'Accounting Data'!I2:I100000,\"3???\",'Accounting Data'!J2:J100000,\"62??\")+SUMIFS('Accounting Data'!C2:C100000,'Accounting Data'!E2:E100000,\"COVID\",'Accounting Data'!H2:H100000,\"8??\",'Accounting Data'!I2:I100000,\"3???\",'Accounting Data'!J2:J100000,\"62??\")","v":0},{"$f":"SUMIFS('Accounting Data'!C2:C100000,'Accounting Data'!E2:E100000,\"1??\",'Accounting Data'!H2:H100000,\"9??\",'Accounting Data'!I2:I100000,\"3???\",'Accounting Data'!J2:J100000,\"62??\")+SUMIFS('Accounting Data'!C2:C100000,'Accounting Data'!E2:E100000,\"2??\",'Accounting Data'!H2:H100000,\"9??\",'Accounting Data'!I2:I100000,\"3???\",'Accounting Data'!J2:J100000,\"62??\")+SUMIFS('Accounting Data'!C2:C100000,'Accounting Data'!E2:E100000,\"3??\",'Accounting Data'!H2:H100000,\"9??\",'Accounting Data'!I2:I100000,\"3???\",'Accounting Data'!J2:J100000,\"62??\")+SUMIFS('Accounting Data'!C2:C100000,'Accounting Data'!E2:E100000,\"639\",'Accounting Data'!H2:H100000,\"9??\",'Accounting Data'!I2:I100000,\"3???\",'Accounting Data'!J2:J100000,\"62??\")+SUMIFS('Accounting Data'!C2:C100000,'Accounting Data'!E2:E100000,\"699\",'Accounting Data'!H2:H100000,\"9??\",'Accounting Data'!I2:I100000,\"3???\",'Accounting Data'!J2:J100000,\"62??\")+SUMIFS('Accounting Data'!C2:C100000,'Accounting Data'!E2:E100000,\"720\",'Accounting Data'!H2:H100000,\"9??\",'Accounting Data'!I2:I100000,\"3???\",'Accounting Data'!J2:J100000,\"62??\")+SUMIFS('Accounting Data'!C2:C100000,'Accounting Data'!E2:E100000,\"COVID\",'Accounting Data'!H2:H100000,\"9??\",'Accounting Data'!I2:I100000,\"3???\",'Accounting Data'!J2:J100000,\"62??\")","v":0}]
[null,null,null,null,null,null,null,null,null,null,6700,"(excluding 6900)","Total",null,null,null,{"$f":"(((AA10-AB10-AC10)+(AD10+AE10+AF10))-((AA49-AB49-AC49)+(AD49+AE49+AF49)))","v":16450473},null,null,null,null,null,null,null,null,6300,{"$f":"SUMIFS('Accounting Data'!C2:C100000,'Accounting Data'!E2:E100000,\"1??\",'Accounting Data'!I2:I100000,\"1???\",'Accounting Data'!J2:J100000,\"63??\")+SUMIFS('Accounting Data'!C2:C100000,'Accounting Data'!E2:E100000,\"2??\",'Accounting Data'!I2:I100000,\"1???\",'Accounting Data'!J2:J100000,\"63??\")+SUMIFS('Accounting Data'!C2:C100000,'Accounting Data'!E2:E100000,\"3??\",'Accounting Data'!I2:I100000,\"1???\",'Accounting Data'!J2:J100000,\"63??\")+SUMIFS('Accounting Data'!C2:C100000,'Accounting Data'!E2:E100000,\"639\",'Accounting Data'!I2:I100000,\"1???\",'Accounting Data'!J2:J100000,\"63??\")+SUMIFS('Accounting Data'!C2:C100000,'Accounting Data'!E2:E100000,\"699\",'Accounting Data'!I2:I100000,\"1???\",'Accounting Data'!J2:J100000,\"63??\")+SUMIFS('Accounting Data'!C2:C100000,'Accounting Data'!E2:E100000,\"720\",'Accounting Data'!I2:I100000,\"1???\",'Accounting Data'!J2:J100000,\"63??\")+SUMIFS('Accounting Data'!C2:C100000,'Accounting Data'!E2:E100000,\"COVID\",'Accounting Data'!I2:I100000,\"1???\",'Accounting Data'!J2:J100000,\"63??\")","v":48286},{"$f":"SUMIFS('Accounting Data'!C2:C100000,'Accounting Data'!E2:E100000,\"1??\",'Accounting Data'!I2:I100000,\"2???\",'Accounting Data'!J2:J100000,\"63??\")+SUMIFS('Accounting Data'!C2:C100000,'Accounting Data'!E2:E100000,\"2??\",'Accounting Data'!I2:I100000,\"2???\",'Accounting Data'!J2:J100000,\"63??\")+SUMIFS('Accounting Data'!C2:C100000,'Accounting Data'!E2:E100000,\"3??\",'Accounting Data'!I2:I100000,\"2???\",'Accounting Data'!J2:J100000,\"63??\")+SUMIFS('Accounting Data'!C2:C100000,'Accounting Data'!E2:E100000,\"639\",'Accounting Data'!I2:I100000,\"2???\",'Accounting Data'!J2:J100000,\"63??\")+SUMIFS('Accounting Data'!C2:C100000,'Accounting Data'!E2:E100000,\"699\",'Accounting Data'!I2:I100000,\"2???\",'Accounting Data'!J2:J100000,\"63??\")+SUMIFS('Accounting Data'!C2:C100000,'Accounting Data'!E2:E100000,\"720\",'Accounting Data'!I2:I100000,\"2???\",'Accounting Data'!J2:J100000,\"63??\")+SUMIFS('Accounting Data'!C2:C100000,'Accounting Data'!E2:E100000,\"COVID\",'Accounting Data'!I2:I100000,\"2???\",'Accounting Data'!J2:J100000,\"63??\")","v":386948},{"$f":"SUMIFS('Accounting Data'!C2:C100000,'Accounting Data'!E2:E100000,\"1??\",'Accounting Data'!I2:I100000,\"3???\",'Accounting Data'!J2:J100000,\"63??\")+SUMIFS('Accounting Data'!C2:C100000,'Accounting Data'!E2:E100000,\"2??\",'Accounting Data'!I2:I100000,\"3???\",'Accounting Data'!J2:J100000,\"63??\")+SUMIFS('Accounting Data'!C2:C100000,'Accounting Data'!E2:E100000,\"3??\",'Accounting Data'!I2:I100000,\"3???\",'Accounting Data'!J2:J100000,\"63??\")+SUMIFS('Accounting Data'!C2:C100000,'Accounting Data'!E2:E100000,\"639\",'Accounting Data'!I2:I100000,\"3???\",'Accounting Data'!J2:J100000,\"63??\")+SUMIFS('Accounting Data'!C2:C100000,'Accounting Data'!E2:E100000,\"699\",'Accounting Data'!I2:I100000,\"3???\",'Accounting Data'!J2:J100000,\"63??\")+SUMIFS('Accounting Data'!C2:C100000,'Accounting Data'!E2:E100000,\"720\",'Accounting Data'!I2:I100000,\"3???\",'Accounting Data'!J2:J100000,\"63??\")+SUMIFS('Accounting Data'!C2:C100000,'Accounting Data'!E2:E100000,\"COVID\",'Accounting Data'!I2:I100000,\"3???\",'Accounting Data'!J2:J100000,\"63??\")","v":0},{"$f":"SUMIFS('Accounting Data'!C2:C100000,'Accounting Data'!E2:E100000,\"1??\",'Accounting Data'!H2:H100000,\"7??\",'Accounting Data'!I2:I100000,\"1???\",'Accounting Data'!J2:J100000,\"63??\")+SUMIFS('Accounting Data'!C2:C100000,'Accounting Data'!E2:E100000,\"2??\",'Accounting Data'!H2:H100000,\"7??\",'Accounting Data'!I2:I100000,\"1???\",'Accounting Data'!J2:J100000,\"63??\")+SUMIFS('Accounting Data'!C2:C100000,'Accounting Data'!E2:E100000,\"3??\",'Accounting Data'!H2:H100000,\"7??\",'Accounting Data'!I2:I100000,\"1???\",'Accounting Data'!J2:J100000,\"63??\")+SUMIFS('Accounting Data'!C2:C100000,'Accounting Data'!E2:E100000,\"639\",'Accounting Data'!H2:H100000,\"7??\",'Accounting Data'!I2:I100000,\"1???\",'Accounting Data'!J2:J100000,\"63??\")+SUMIFS('Accounting Data'!C2:C100000,'Accounting Data'!E2:E100000,\"699\",'Accounting Data'!H2:H100000,\"7??\",'Accounting Data'!I2:I100000,\"1???\",'Accounting Data'!J2:J100000,\"63??\")+SUMIFS('Accounting Data'!C2:C100000,'Accounting Data'!E2:E100000,\"720\",'Accounting Data'!H2:H100000,\"7??\",'Accounting Data'!I2:I100000,\"1???\",'Accounting Data'!J2:J100000,\"63??\")+SUMIFS('Accounting Data'!C2:C100000,'Accounting Data'!E2:E100000,\"COVID\",'Accounting Data'!H2:H100000,\"7??\",'Accounting Data'!I2:I100000,\"1???\",'Accounting Data'!J2:J100000,\"63??\")","v":0},{"$f":"SUMIFS('Accounting Data'!C2:C100000,'Accounting Data'!E2:E100000,\"1??\",'Accounting Data'!H2:H100000,\"8??\",'Accounting Data'!I2:I100000,\"1???\",'Accounting Data'!J2:J100000,\"63??\")+SUMIFS('Accounting Data'!C2:C100000,'Accounting Data'!E2:E100000,\"2??\",'Accounting Data'!H2:H100000,\"8??\",'Accounting Data'!I2:I100000,\"1???\",'Accounting Data'!J2:J100000,\"63??\")+SUMIFS('Accounting Data'!C2:C100000,'Accounting Data'!E2:E100000,\"3??\",'Accounting Data'!H2:H100000,\"8??\",'Accounting Data'!I2:I100000,\"1???\",'Accounting Data'!J2:J100000,\"63??\")+SUMIFS('Accounting Data'!C2:C100000,'Accounting Data'!E2:E100000,\"639\",'Accounting Data'!H2:H100000,\"8??\",'Accounting Data'!I2:I100000,\"1???\",'Accounting Data'!J2:J100000,\"63??\")+SUMIFS('Accounting Data'!C2:C100000,'Accounting Data'!E2:E100000,\"699\",'Accounting Data'!H2:H100000,\"8??\",'Accounting Data'!I2:I100000,\"1???\",'Accounting Data'!J2:J100000,\"63??\")+SUMIFS('Accounting Data'!C2:C100000,'Accounting Data'!E2:E100000,\"720\",'Accounting Data'!H2:H100000,\"8??\",'Accounting Data'!I2:I100000,\"1???\",'Accounting Data'!J2:J100000,\"63??\")+SUMIFS('Accounting Data'!C2:C100000,'Accounting Data'!E2:E100000,\"COVID\",'Accounting Data'!H2:H100000,\"8??\",'Accounting Data'!I2:I100000,\"1???\",'Accounting Data'!J2:J100000,\"63??\")","v":0},{"$f":"SUMIFS('Accounting Data'!C2:C100000,'Accounting Data'!E2:E100000,\"1??\",'Accounting Data'!H2:H100000,\"9??\",'Accounting Data'!I2:I100000,\"1???\",'Accounting Data'!J2:J100000,\"63??\")+SUMIFS('Accounting Data'!C2:C100000,'Accounting Data'!E2:E100000,\"2??\",'Accounting Data'!H2:H100000,\"9??\",'Accounting Data'!I2:I100000,\"1???\",'Accounting Data'!J2:J100000,\"63??\")+SUMIFS('Accounting Data'!C2:C100000,'Accounting Data'!E2:E100000,\"3??\",'Accounting Data'!H2:H100000,\"9??\",'Accounting Data'!I2:I100000,\"1???\",'Accounting Data'!J2:J100000,\"63??\")+SUMIFS('Accounting Data'!C2:C100000,'Accounting Data'!E2:E100000,\"639\",'Accounting Data'!H2:H100000,\"9??\",'Accounting Data'!I2:I100000,\"1???\",'Accounting Data'!J2:J100000,\"63??\")+SUMIFS('Accounting Data'!C2:C100000,'Accounting Data'!E2:E100000,\"699\",'Accounting Data'!H2:H100000,\"9??\",'Accounting Data'!I2:I100000,\"1???\",'Accounting Data'!J2:J100000,\"63??\")+SUMIFS('Accounting Data'!C2:C100000,'Accounting Data'!E2:E100000,\"720\",'Accounting Data'!H2:H100000,\"9??\",'Accounting Data'!I2:I100000,\"1???\",'Accounting Data'!J2:J100000,\"63??\")+SUMIFS('Accounting Data'!C2:C100000,'Accounting Data'!E2:E100000,\"COVID\",'Accounting Data'!H2:H100000,\"9??\",'Accounting Data'!I2:I100000,\"1???\",'Accounting Data'!J2:J100000,\"63??\")","v":0},{"$f":"SUMIFS('Accounting Data'!C2:C100000,'Accounting Data'!E2:E100000,\"1??\",'Accounting Data'!H2:H100000,\"7??\",'Accounting Data'!I2:I100000,\"2???\",'Accounting Data'!J2:J100000,\"63??\")+SUMIFS('Accounting Data'!C2:C100000,'Accounting Data'!E2:E100000,\"2??\",'Accounting Data'!H2:H100000,\"7??\",'Accounting Data'!I2:I100000,\"2???\",'Accounting Data'!J2:J100000,\"63??\")+SUMIFS('Accounting Data'!C2:C100000,'Accounting Data'!E2:E100000,\"3??\",'Accounting Data'!H2:H100000,\"7??\",'Accounting Data'!I2:I100000,\"2???\",'Accounting Data'!J2:J100000,\"63??\")+SUMIFS('Accounting Data'!C2:C100000,'Accounting Data'!E2:E100000,\"639\",'Accounting Data'!H2:H100000,\"7??\",'Accounting Data'!I2:I100000,\"2???\",'Accounting Data'!J2:J100000,\"63??\")+SUMIFS('Accounting Data'!C2:C100000,'Accounting Data'!E2:E100000,\"699\",'Accounting Data'!H2:H100000,\"7??\",'Accounting Data'!I2:I100000,\"2???\",'Accounting Data'!J2:J100000,\"63??\")+SUMIFS('Accounting Data'!C2:C100000,'Accounting Data'!E2:E100000,\"720\",'Accounting Data'!H2:H100000,\"7??\",'Accounting Data'!I2:I100000,\"2???\",'Accounting Data'!J2:J100000,\"63??\")+SUMIFS('Accounting Data'!C2:C100000,'Accounting Data'!E2:E100000,\"COVID\",'Accounting Data'!H2:H100000,\"7??\",'Accounting Data'!I2:I100000,\"2???\",'Accounting Data'!J2:J100000,\"63??\")","v":0},{"$f":"SUMIFS('Accounting Data'!C2:C100000,'Accounting Data'!E2:E100000,\"1??\",'Accounting Data'!H2:H100000,\"8??\",'Accounting Data'!I2:I100000,\"2???\",'Accounting Data'!J2:J100000,\"63??\")+SUMIFS('Accounting Data'!C2:C100000,'Accounting Data'!E2:E100000,\"2??\",'Accounting Data'!H2:H100000,\"8??\",'Accounting Data'!I2:I100000,\"2???\",'Accounting Data'!J2:J100000,\"63??\")+SUMIFS('Accounting Data'!C2:C100000,'Accounting Data'!E2:E100000,\"3??\",'Accounting Data'!H2:H100000,\"8??\",'Accounting Data'!I2:I100000,\"2???\",'Accounting Data'!J2:J100000,\"63??\")+SUMIFS('Accounting Data'!C2:C100000,'Accounting Data'!E2:E100000,\"639\",'Accounting Data'!H2:H100000,\"8??\",'Accounting Data'!I2:I100000,\"2???\",'Accounting Data'!J2:J100000,\"63??\")+SUMIFS('Accounting Data'!C2:C100000,'Accounting Data'!E2:E100000,\"699\",'Accounting Data'!H2:H100000,\"8??\",'Accounting Data'!I2:I100000,\"2???\",'Accounting Data'!J2:J100000,\"63??\")+SUMIFS('Accounting Data'!C2:C100000,'Accounting Data'!E2:E100000,\"720\",'Accounting Data'!H2:H100000,\"8??\",'Accounting Data'!I2:I100000,\"2???\",'Accounting Data'!J2:J100000,\"63??\")+SUMIFS('Accounting Data'!C2:C100000,'Accounting Data'!E2:E100000,\"COVID\",'Accounting Data'!H2:H100000,\"8??\",'Accounting Data'!I2:I100000,\"2???\",'Accounting Data'!J2:J100000,\"63??\")","v":0},{"$f":"SUMIFS('Accounting Data'!C2:C100000,'Accounting Data'!E2:E100000,\"1??\",'Accounting Data'!H2:H100000,\"9??\",'Accounting Data'!I2:I100000,\"2???\",'Accounting Data'!J2:J100000,\"63??\")+SUMIFS('Accounting Data'!C2:C100000,'Accounting Data'!E2:E100000,\"2??\",'Accounting Data'!H2:H100000,\"9??\",'Accounting Data'!I2:I100000,\"2???\",'Accounting Data'!J2:J100000,\"63??\")+SUMIFS('Accounting Data'!C2:C100000,'Accounting Data'!E2:E100000,\"3??\",'Accounting Data'!H2:H100000,\"9??\",'Accounting Data'!I2:I100000,\"2???\",'Accounting Data'!J2:J100000,\"63??\")+SUMIFS('Accounting Data'!C2:C100000,'Accounting Data'!E2:E100000,\"639\",'Accounting Data'!H2:H100000,\"9??\",'Accounting Data'!I2:I100000,\"2???\",'Accounting Data'!J2:J100000,\"63??\")+SUMIFS('Accounting Data'!C2:C100000,'Accounting Data'!E2:E100000,\"699\",'Accounting Data'!H2:H100000,\"9??\",'Accounting Data'!I2:I100000,\"2???\",'Accounting Data'!J2:J100000,\"63??\")+SUMIFS('Accounting Data'!C2:C100000,'Accounting Data'!E2:E100000,\"720\",'Accounting Data'!H2:H100000,\"9??\",'Accounting Data'!I2:I100000,\"2???\",'Accounting Data'!J2:J100000,\"63??\")+SUMIFS('Accounting Data'!C2:C100000,'Accounting Data'!E2:E100000,\"COVID\",'Accounting Data'!H2:H100000,\"9??\",'Accounting Data'!I2:I100000,\"2???\",'Accounting Data'!J2:J100000,\"63??\")","v":0},{"$f":"SUMIFS('Accounting Data'!C2:C100000,'Accounting Data'!E2:E100000,\"1??\",'Accounting Data'!H2:H100000,\"7??\",'Accounting Data'!I2:I100000,\"3???\",'Accounting Data'!J2:J100000,\"63??\")+SUMIFS('Accounting Data'!C2:C100000,'Accounting Data'!E2:E100000,\"2??\",'Accounting Data'!H2:H100000,\"7??\",'Accounting Data'!I2:I100000,\"3???\",'Accounting Data'!J2:J100000,\"63??\")+SUMIFS('Accounting Data'!C2:C100000,'Accounting Data'!E2:E100000,\"3??\",'Accounting Data'!H2:H100000,\"7??\",'Accounting Data'!I2:I100000,\"3???\",'Accounting Data'!J2:J100000,\"63??\")+SUMIFS('Accounting Data'!C2:C100000,'Accounting Data'!E2:E100000,\"639\",'Accounting Data'!H2:H100000,\"7??\",'Accounting Data'!I2:I100000,\"3???\",'Accounting Data'!J2:J100000,\"63??\")+SUMIFS('Accounting Data'!C2:C100000,'Accounting Data'!E2:E100000,\"699\",'Accounting Data'!H2:H100000,\"7??\",'Accounting Data'!I2:I100000,\"3???\",'Accounting Data'!J2:J100000,\"63??\")+SUMIFS('Accounting Data'!C2:C100000,'Accounting Data'!E2:E100000,\"720\",'Accounting Data'!H2:H100000,\"7??\",'Accounting Data'!I2:I100000,\"3???\",'Accounting Data'!J2:J100000,\"63??\")+SUMIFS('Accounting Data'!C2:C100000,'Accounting Data'!E2:E100000,\"COVID\",'Accounting Data'!H2:H100000,\"7??\",'Accounting Data'!I2:I100000,\"3???\",'Accounting Data'!J2:J100000,\"63??\")","v":0},{"$f":"SUMIFS('Accounting Data'!C2:C100000,'Accounting Data'!E2:E100000,\"1??\",'Accounting Data'!H2:H100000,\"8??\",'Accounting Data'!I2:I100000,\"3???\",'Accounting Data'!J2:J100000,\"63??\")+SUMIFS('Accounting Data'!C2:C100000,'Accounting Data'!E2:E100000,\"2??\",'Accounting Data'!H2:H100000,\"8??\",'Accounting Data'!I2:I100000,\"3???\",'Accounting Data'!J2:J100000,\"63??\")+SUMIFS('Accounting Data'!C2:C100000,'Accounting Data'!E2:E100000,\"3??\",'Accounting Data'!H2:H100000,\"8??\",'Accounting Data'!I2:I100000,\"3???\",'Accounting Data'!J2:J100000,\"63??\")+SUMIFS('Accounting Data'!C2:C100000,'Accounting Data'!E2:E100000,\"639\",'Accounting Data'!H2:H100000,\"8??\",'Accounting Data'!I2:I100000,\"3???\",'Accounting Data'!J2:J100000,\"63??\")+SUMIFS('Accounting Data'!C2:C100000,'Accounting Data'!E2:E100000,\"699\",'Accounting Data'!H2:H100000,\"8??\",'Accounting Data'!I2:I100000,\"3???\",'Accounting Data'!J2:J100000,\"63??\")+SUMIFS('Accounting Data'!C2:C100000,'Accounting Data'!E2:E100000,\"720\",'Accounting Data'!H2:H100000,\"8??\",'Accounting Data'!I2:I100000,\"3???\",'Accounting Data'!J2:J100000,\"63??\")+SUMIFS('Accounting Data'!C2:C100000,'Accounting Data'!E2:E100000,\"COVID\",'Accounting Data'!H2:H100000,\"8??\",'Accounting Data'!I2:I100000,\"3???\",'Accounting Data'!J2:J100000,\"63??\")","v":0},{"$f":"SUMIFS('Accounting Data'!C2:C100000,'Accounting Data'!E2:E100000,\"1??\",'Accounting Data'!H2:H100000,\"9??\",'Accounting Data'!I2:I100000,\"3???\",'Accounting Data'!J2:J100000,\"63??\")+SUMIFS('Accounting Data'!C2:C100000,'Accounting Data'!E2:E100000,\"2??\",'Accounting Data'!H2:H100000,\"9??\",'Accounting Data'!I2:I100000,\"3???\",'Accounting Data'!J2:J100000,\"63??\")+SUMIFS('Accounting Data'!C2:C100000,'Accounting Data'!E2:E100000,\"3??\",'Accounting Data'!H2:H100000,\"9??\",'Accounting Data'!I2:I100000,\"3???\",'Accounting Data'!J2:J100000,\"63??\")+SUMIFS('Accounting Data'!C2:C100000,'Accounting Data'!E2:E100000,\"639\",'Accounting Data'!H2:H100000,\"9??\",'Accounting Data'!I2:I100000,\"3???\",'Accounting Data'!J2:J100000,\"63??\")+SUMIFS('Accounting Data'!C2:C100000,'Accounting Data'!E2:E100000,\"699\",'Accounting Data'!H2:H100000,\"9??\",'Accounting Data'!I2:I100000,\"3???\",'Accounting Data'!J2:J100000,\"63??\")+SUMIFS('Accounting Data'!C2:C100000,'Accounting Data'!E2:E100000,\"720\",'Accounting Data'!H2:H100000,\"9??\",'Accounting Data'!I2:I100000,\"3???\",'Accounting Data'!J2:J100000,\"63??\")+SUMIFS('Accounting Data'!C2:C100000,'Accounting Data'!E2:E100000,\"COVID\",'Accounting Data'!H2:H100000,\"9??\",'Accounting Data'!I2:I100000,\"3???\",'Accounting Data'!J2:J100000,\"63??\")","v":0}]
[null,null,null,null,null,null,null,null,"1. Program 700",null,{"$f":"(SUMIFS('Accounting Data'!C2:C100000,'Accounting Data'!H2:H100000,\"7??\",'Accounting Data'!J2:J100000,\"67??\"))-(SUMIFS('Accounting Data'!C2:C100000,'Accounting Data'!E2:E100000,\"575\",'Accounting Data'!H2:H100000,\"7??\",'Accounting Data'!J2:J100000,\"67??\")+SUMIFS('Accounting Data'!C2:C100000,'Accounting Data'!E2:E100000,\"8??\",'Accounting Data'!H2:H100000,\"7??\",'Accounting Data'!J2:J100000,\"67??\")+SUMIFS('Accounting Data'!C2:C100000,'Accounting Data'!E2:E100000,\"9??\",'Accounting Data'!H2:H100000,\"7??\",'Accounting Data'!J2:J100000,\"67??\"))","v":0},{"$f":"(SUMIFS('Accounting Data'!C2:C100000,'Accounting Data'!H2:H100000,\"7??\",'Accounting Data'!J2:J100000,\"6???\"))-(SUMIFS('Accounting Data'!C2:C100000,'Accounting Data'!E2:E100000,\"575\",'Accounting Data'!H2:H100000,\"7??\",'Accounting Data'!J2:J100000,\"6???\")+SUMIFS('Accounting Data'!C2:C100000,'Accounting Data'!E2:E100000,\"8??\",'Accounting Data'!H2:H100000,\"7??\",'Accounting Data'!J2:J100000,\"6???\")+SUMIFS('Accounting Data'!C2:C100000,'Accounting Data'!E2:E100000,\"9??\",'Accounting Data'!H2:H100000,\"7??\",'Accounting Data'!J2:J100000,\"6???\"))-(SUMIFS('Accounting Data'!C2:C100000,'Accounting Data'!H2:H100000,\"7??\",'Accounting Data'!J2:J100000,\"69??\"))+(SUMIFS('Accounting Data'!C2:C100000,'Accounting Data'!E2:E100000,\"575\",'Accounting Data'!H2:H100000,\"7??\",'Accounting Data'!J2:J100000,\"69??\")+SUMIFS('Accounting Data'!C2:C100000,'Accounting Data'!E2:E100000,\"8??\",'Accounting Data'!H2:H100000,\"7??\",'Accounting Data'!J2:J100000,\"69??\")+SUMIFS('Accounting Data'!C2:C100000,'Accounting Data'!E2:E100000,\"9??\",'Accounting Data'!H2:H100000,\"7??\",'Accounting Data'!J2:J100000,\"69??\"))-K34","v":0},{"$f":"K34+L34","v":0},"1.",null,null,null,null,null,null,null,null,null,null,null,6400,{"$f":"SUMIFS('Accounting Data'!C2:C100000,'Accounting Data'!E2:E100000,\"1??\",'Accounting Data'!I2:I100000,\"1???\",'Accounting Data'!J2:J100000,\"64??\")+SUMIFS('Accounting Data'!C2:C100000,'Accounting Data'!E2:E100000,\"2??\",'Accounting Data'!I2:I100000,\"1???\",'Accounting Data'!J2:J100000,\"64??\")+SUMIFS('Accounting Data'!C2:C100000,'Accounting Data'!E2:E100000,\"3??\",'Accounting Data'!I2:I100000,\"1???\",'Accounting Data'!J2:J100000,\"64??\")+SUMIFS('Accounting Data'!C2:C100000,'Accounting Data'!E2:E100000,\"639\",'Accounting Data'!I2:I100000,\"1???\",'Accounting Data'!J2:J100000,\"64??\")+SUMIFS('Accounting Data'!C2:C100000,'Accounting Data'!E2:E100000,\"699\",'Accounting Data'!I2:I100000,\"1???\",'Accounting Data'!J2:J100000,\"64??\")+SUMIFS('Accounting Data'!C2:C100000,'Accounting Data'!E2:E100000,\"720\",'Accounting Data'!I2:I100000,\"1???\",'Accounting Data'!J2:J100000,\"64??\")+SUMIFS('Accounting Data'!C2:C100000,'Accounting Data'!E2:E100000,\"COVID\",'Accounting Data'!I2:I100000,\"1???\",'Accounting Data'!J2:J100000,\"64??\")","v":0},{"$f":"SUMIFS('Accounting Data'!C2:C100000,'Accounting Data'!E2:E100000,\"1??\",'Accounting Data'!I2:I100000,\"2???\",'Accounting Data'!J2:J100000,\"64??\")+SUMIFS('Accounting Data'!C2:C100000,'Accounting Data'!E2:E100000,\"2??\",'Accounting Data'!I2:I100000,\"2???\",'Accounting Data'!J2:J100000,\"64??\")+SUMIFS('Accounting Data'!C2:C100000,'Accounting Data'!E2:E100000,\"3??\",'Accounting Data'!I2:I100000,\"2???\",'Accounting Data'!J2:J100000,\"64??\")+SUMIFS('Accounting Data'!C2:C100000,'Accounting Data'!E2:E100000,\"639\",'Accounting Data'!I2:I100000,\"2???\",'Accounting Data'!J2:J100000,\"64??\")+SUMIFS('Accounting Data'!C2:C100000,'Accounting Data'!E2:E100000,\"699\",'Accounting Data'!I2:I100000,\"2???\",'Accounting Data'!J2:J100000,\"64??\")+SUMIFS('Accounting Data'!C2:C100000,'Accounting Data'!E2:E100000,\"720\",'Accounting Data'!I2:I100000,\"2???\",'Accounting Data'!J2:J100000,\"64??\")+SUMIFS('Accounting Data'!C2:C100000,'Accounting Data'!E2:E100000,\"COVID\",'Accounting Data'!I2:I100000,\"2???\",'Accounting Data'!J2:J100000,\"64??\")","v":0},{"$f":"SUMIFS('Accounting Data'!C2:C100000,'Accounting Data'!E2:E100000,\"1??\",'Accounting Data'!I2:I100000,\"3???\",'Accounting Data'!J2:J100000,\"64??\")+SUMIFS('Accounting Data'!C2:C100000,'Accounting Data'!E2:E100000,\"2??\",'Accounting Data'!I2:I100000,\"3???\",'Accounting Data'!J2:J100000,\"64??\")+SUMIFS('Accounting Data'!C2:C100000,'Accounting Data'!E2:E100000,\"3??\",'Accounting Data'!I2:I100000,\"3???\",'Accounting Data'!J2:J100000,\"64??\")+SUMIFS('Accounting Data'!C2:C100000,'Accounting Data'!E2:E100000,\"639\",'Accounting Data'!I2:I100000,\"3???\",'Accounting Data'!J2:J100000,\"64??\")+SUMIFS('Accounting Data'!C2:C100000,'Accounting Data'!E2:E100000,\"699\",'Accounting Data'!I2:I100000,\"3???\",'Accounting Data'!J2:J100000,\"64??\")+SUMIFS('Accounting Data'!C2:C100000,'Accounting Data'!E2:E100000,\"720\",'Accounting Data'!I2:I100000,\"3???\",'Accounting Data'!J2:J100000,\"64??\")+SUMIFS('Accounting Data'!C2:C100000,'Accounting Data'!E2:E100000,\"COVID\",'Accounting Data'!I2:I100000,\"3???\",'Accounting Data'!J2:J100000,\"64??\")","v":0},{"$f":"SUMIFS('Accounting Data'!C2:C100000,'Accounting Data'!E2:E100000,\"1??\",'Accounting Data'!H2:H100000,\"7??\",'Accounting Data'!I2:I100000,\"1???\",'Accounting Data'!J2:J100000,\"64??\")+SUMIFS('Accounting Data'!C2:C100000,'Accounting Data'!E2:E100000,\"2??\",'Accounting Data'!H2:H100000,\"7??\",'Accounting Data'!I2:I100000,\"1???\",'Accounting Data'!J2:J100000,\"64??\")+SUMIFS('Accounting Data'!C2:C100000,'Accounting Data'!E2:E100000,\"3??\",'Accounting Data'!H2:H100000,\"7??\",'Accounting Data'!I2:I100000,\"1???\",'Accounting Data'!J2:J100000,\"64??\")+SUMIFS('Accounting Data'!C2:C100000,'Accounting Data'!E2:E100000,\"639\",'Accounting Data'!H2:H100000,\"7??\",'Accounting Data'!I2:I100000,\"1???\",'Accounting Data'!J2:J100000,\"64??\")+SUMIFS('Accounting Data'!C2:C100000,'Accounting Data'!E2:E100000,\"699\",'Accounting Data'!H2:H100000,\"7??\",'Accounting Data'!I2:I100000,\"1???\",'Accounting Data'!J2:J100000,\"64??\")+SUMIFS('Accounting Data'!C2:C100000,'Accounting Data'!E2:E100000,\"720\",'Accounting Data'!H2:H100000,\"7??\",'Accounting Data'!I2:I100000,\"1???\",'Accounting Data'!J2:J100000,\"64??\")+SUMIFS('Accounting Data'!C2:C100000,'Accounting Data'!E2:E100000,\"COVID\",'Accounting Data'!H2:H100000,\"7??\",'Accounting Data'!I2:I100000,\"1???\",'Accounting Data'!J2:J100000,\"64??\")","v":0},{"$f":"SUMIFS('Accounting Data'!C2:C100000,'Accounting Data'!E2:E100000,\"1??\",'Accounting Data'!H2:H100000,\"8??\",'Accounting Data'!I2:I100000,\"1???\",'Accounting Data'!J2:J100000,\"64??\")+SUMIFS('Accounting Data'!C2:C100000,'Accounting Data'!E2:E100000,\"2??\",'Accounting Data'!H2:H100000,\"8??\",'Accounting Data'!I2:I100000,\"1???\",'Accounting Data'!J2:J100000,\"64??\")+SUMIFS('Accounting Data'!C2:C100000,'Accounting Data'!E2:E100000,\"3??\",'Accounting Data'!H2:H100000,\"8??\",'Accounting Data'!I2:I100000,\"1???\",'Accounting Data'!J2:J100000,\"64??\")+SUMIFS('Accounting Data'!C2:C100000,'Accounting Data'!E2:E100000,\"639\",'Accounting Data'!H2:H100000,\"8??\",'Accounting Data'!I2:I100000,\"1???\",'Accounting Data'!J2:J100000,\"64??\")+SUMIFS('Accounting Data'!C2:C100000,'Accounting Data'!E2:E100000,\"699\",'Accounting Data'!H2:H100000,\"8??\",'Accounting Data'!I2:I100000,\"1???\",'Accounting Data'!J2:J100000,\"64??\")+SUMIFS('Accounting Data'!C2:C100000,'Accounting Data'!E2:E100000,\"720\",'Accounting Data'!H2:H100000,\"8??\",'Accounting Data'!I2:I100000,\"1???\",'Accounting Data'!J2:J100000,\"64??\")+SUMIFS('Accounting Data'!C2:C100000,'Accounting Data'!E2:E100000,\"COVID\",'Accounting Data'!H2:H100000,\"8??\",'Accounting Data'!I2:I100000,\"1???\",'Accounting Data'!J2:J100000,\"64??\")","v":0},{"$f":"SUMIFS('Accounting Data'!C2:C100000,'Accounting Data'!E2:E100000,\"1??\",'Accounting Data'!H2:H100000,\"9??\",'Accounting Data'!I2:I100000,\"1???\",'Accounting Data'!J2:J100000,\"64??\")+SUMIFS('Accounting Data'!C2:C100000,'Accounting Data'!E2:E100000,\"2??\",'Accounting Data'!H2:H100000,\"9??\",'Accounting Data'!I2:I100000,\"1???\",'Accounting Data'!J2:J100000,\"64??\")+SUMIFS('Accounting Data'!C2:C100000,'Accounting Data'!E2:E100000,\"3??\",'Accounting Data'!H2:H100000,\"9??\",'Accounting Data'!I2:I100000,\"1???\",'Accounting Data'!J2:J100000,\"64??\")+SUMIFS('Accounting Data'!C2:C100000,'Accounting Data'!E2:E100000,\"639\",'Accounting Data'!H2:H100000,\"9??\",'Accounting Data'!I2:I100000,\"1???\",'Accounting Data'!J2:J100000,\"64??\")+SUMIFS('Accounting Data'!C2:C100000,'Accounting Data'!E2:E100000,\"699\",'Accounting Data'!H2:H100000,\"9??\",'Accounting Data'!I2:I100000,\"1???\",'Accounting Data'!J2:J100000,\"64??\")+SUMIFS('Accounting Data'!C2:C100000,'Accounting Data'!E2:E100000,\"720\",'Accounting Data'!H2:H100000,\"9??\",'Accounting Data'!I2:I100000,\"1???\",'Accounting Data'!J2:J100000,\"64??\")+SUMIFS('Accounting Data'!C2:C100000,'Accounting Data'!E2:E100000,\"COVID\",'Accounting Data'!H2:H100000,\"9??\",'Accounting Data'!I2:I100000,\"1???\",'Accounting Data'!J2:J100000,\"64??\")","v":0},{"$f":"SUMIFS('Accounting Data'!C2:C100000,'Accounting Data'!E2:E100000,\"1??\",'Accounting Data'!H2:H100000,\"7??\",'Accounting Data'!I2:I100000,\"2???\",'Accounting Data'!J2:J100000,\"64??\")+SUMIFS('Accounting Data'!C2:C100000,'Accounting Data'!E2:E100000,\"2??\",'Accounting Data'!H2:H100000,\"7??\",'Accounting Data'!I2:I100000,\"2???\",'Accounting Data'!J2:J100000,\"64??\")+SUMIFS('Accounting Data'!C2:C100000,'Accounting Data'!E2:E100000,\"3??\",'Accounting Data'!H2:H100000,\"7??\",'Accounting Data'!I2:I100000,\"2???\",'Accounting Data'!J2:J100000,\"64??\")+SUMIFS('Accounting Data'!C2:C100000,'Accounting Data'!E2:E100000,\"639\",'Accounting Data'!H2:H100000,\"7??\",'Accounting Data'!I2:I100000,\"2???\",'Accounting Data'!J2:J100000,\"64??\")+SUMIFS('Accounting Data'!C2:C100000,'Accounting Data'!E2:E100000,\"699\",'Accounting Data'!H2:H100000,\"7??\",'Accounting Data'!I2:I100000,\"2???\",'Accounting Data'!J2:J100000,\"64??\")+SUMIFS('Accounting Data'!C2:C100000,'Accounting Data'!E2:E100000,\"720\",'Accounting Data'!H2:H100000,\"7??\",'Accounting Data'!I2:I100000,\"2???\",'Accounting Data'!J2:J100000,\"64??\")+SUMIFS('Accounting Data'!C2:C100000,'Accounting Data'!E2:E100000,\"COVID\",'Accounting Data'!H2:H100000,\"7??\",'Accounting Data'!I2:I100000,\"2???\",'Accounting Data'!J2:J100000,\"64??\")","v":0},{"$f":"SUMIFS('Accounting Data'!C2:C100000,'Accounting Data'!E2:E100000,\"1??\",'Accounting Data'!H2:H100000,\"8??\",'Accounting Data'!I2:I100000,\"2???\",'Accounting Data'!J2:J100000,\"64??\")+SUMIFS('Accounting Data'!C2:C100000,'Accounting Data'!E2:E100000,\"2??\",'Accounting Data'!H2:H100000,\"8??\",'Accounting Data'!I2:I100000,\"2???\",'Accounting Data'!J2:J100000,\"64??\")+SUMIFS('Accounting Data'!C2:C100000,'Accounting Data'!E2:E100000,\"3??\",'Accounting Data'!H2:H100000,\"8??\",'Accounting Data'!I2:I100000,\"2???\",'Accounting Data'!J2:J100000,\"64??\")+SUMIFS('Accounting Data'!C2:C100000,'Accounting Data'!E2:E100000,\"639\",'Accounting Data'!H2:H100000,\"8??\",'Accounting Data'!I2:I100000,\"2???\",'Accounting Data'!J2:J100000,\"64??\")+SUMIFS('Accounting Data'!C2:C100000,'Accounting Data'!E2:E100000,\"699\",'Accounting Data'!H2:H100000,\"8??\",'Accounting Data'!I2:I100000,\"2???\",'Accounting Data'!J2:J100000,\"64??\")+SUMIFS('Accounting Data'!C2:C100000,'Accounting Data'!E2:E100000,\"720\",'Accounting Data'!H2:H100000,\"8??\",'Accounting Data'!I2:I100000,\"2???\",'Accounting Data'!J2:J100000,\"64??\")+SUMIFS('Accounting Data'!C2:C100000,'Accounting Data'!E2:E100000,\"COVID\",'Accounting Data'!H2:H100000,\"8??\",'Accounting Data'!I2:I100000,\"2???\",'Accounting Data'!J2:J100000,\"64??\")","v":0},{"$f":"SUMIFS('Accounting Data'!C2:C100000,'Accounting Data'!E2:E100000,\"1??\",'Accounting Data'!H2:H100000,\"9??\",'Accounting Data'!I2:I100000,\"2???\",'Accounting Data'!J2:J100000,\"64??\")+SUMIFS('Accounting Data'!C2:C100000,'Accounting Data'!E2:E100000,\"2??\",'Accounting Data'!H2:H100000,\"9??\",'Accounting Data'!I2:I100000,\"2???\",'Accounting Data'!J2:J100000,\"64??\")+SUMIFS('Accounting Data'!C2:C100000,'Accounting Data'!E2:E100000,\"3??\",'Accounting Data'!H2:H100000,\"9??\",'Accounting Data'!I2:I100000,\"2???\",'Accounting Data'!J2:J100000,\"64??\")+SUMIFS('Accounting Data'!C2:C100000,'Accounting Data'!E2:E100000,\"639\",'Accounting Data'!H2:H100000,\"9??\",'Accounting Data'!I2:I100000,\"2???\",'Accounting Data'!J2:J100000,\"64??\")+SUMIFS('Accounting Data'!C2:C100000,'Accounting Data'!E2:E100000,\"699\",'Accounting Data'!H2:H100000,\"9??\",'Accounting Data'!I2:I100000,\"2???\",'Accounting Data'!J2:J100000,\"64??\")+SUMIFS('Accounting Data'!C2:C100000,'Accounting Data'!E2:E100000,\"720\",'Accounting Data'!H2:H100000,\"9??\",'Accounting Data'!I2:I100000,\"2???\",'Accounting Data'!J2:J100000,\"64??\")+SUMIFS('Accounting Data'!C2:C100000,'Accounting Data'!E2:E100000,\"COVID\",'Accounting Data'!H2:H100000,\"9??\",'Accounting Data'!I2:I100000,\"2???\",'Accounting Data'!J2:J100000,\"64??\")","v":0},{"$f":"SUMIFS('Accounting Data'!C2:C100000,'Accounting Data'!E2:E100000,\"1??\",'Accounting Data'!H2:H100000,\"7??\",'Accounting Data'!I2:I100000,\"3???\",'Accounting Data'!J2:J100000,\"64??\")+SUMIFS('Accounting Data'!C2:C100000,'Accounting Data'!E2:E100000,\"2??\",'Accounting Data'!H2:H100000,\"7??\",'Accounting Data'!I2:I100000,\"3???\",'Accounting Data'!J2:J100000,\"64??\")+SUMIFS('Accounting Data'!C2:C100000,'Accounting Data'!E2:E100000,\"3??\",'Accounting Data'!H2:H100000,\"7??\",'Accounting Data'!I2:I100000,\"3???\",'Accounting Data'!J2:J100000,\"64??\")+SUMIFS('Accounting Data'!C2:C100000,'Accounting Data'!E2:E100000,\"639\",'Accounting Data'!H2:H100000,\"7??\",'Accounting Data'!I2:I100000,\"3???\",'Accounting Data'!J2:J100000,\"64??\")+SUMIFS('Accounting Data'!C2:C100000,'Accounting Data'!E2:E100000,\"699\",'Accounting Data'!H2:H100000,\"7??\",'Accounting Data'!I2:I100000,\"3???\",'Accounting Data'!J2:J100000,\"64??\")+SUMIFS('Accounting Data'!C2:C100000,'Accounting Data'!E2:E100000,\"720\",'Accounting Data'!H2:H100000,\"7??\",'Accounting Data'!I2:I100000,\"3???\",'Accounting Data'!J2:J100000,\"64??\")+SUMIFS('Accounting Data'!C2:C100000,'Accounting Data'!E2:E100000,\"COVID\",'Accounting Data'!H2:H100000,\"7??\",'Accounting Data'!I2:I100000,\"3???\",'Accounting Data'!J2:J100000,\"64??\")","v":0},{"$f":"SUMIFS('Accounting Data'!C2:C100000,'Accounting Data'!E2:E100000,\"1??\",'Accounting Data'!H2:H100000,\"8??\",'Accounting Data'!I2:I100000,\"3???\",'Accounting Data'!J2:J100000,\"64??\")+SUMIFS('Accounting Data'!C2:C100000,'Accounting Data'!E2:E100000,\"2??\",'Accounting Data'!H2:H100000,\"8??\",'Accounting Data'!I2:I100000,\"3???\",'Accounting Data'!J2:J100000,\"64??\")+SUMIFS('Accounting Data'!C2:C100000,'Accounting Data'!E2:E100000,\"3??\",'Accounting Data'!H2:H100000,\"8??\",'Accounting Data'!I2:I100000,\"3???\",'Accounting Data'!J2:J100000,\"64??\")+SUMIFS('Accounting Data'!C2:C100000,'Accounting Data'!E2:E100000,\"639\",'Accounting Data'!H2:H100000,\"8??\",'Accounting Data'!I2:I100000,\"3???\",'Accounting Data'!J2:J100000,\"64??\")+SUMIFS('Accounting Data'!C2:C100000,'Accounting Data'!E2:E100000,\"699\",'Accounting Data'!H2:H100000,\"8??\",'Accounting Data'!I2:I100000,\"3???\",'Accounting Data'!J2:J100000,\"64??\")+SUMIFS('Accounting Data'!C2:C100000,'Accounting Data'!E2:E100000,\"720\",'Accounting Data'!H2:H100000,\"8??\",'Accounting Data'!I2:I100000,\"3???\",'Accounting Data'!J2:J100000,\"64??\")+SUMIFS('Accounting Data'!C2:C100000,'Accounting Data'!E2:E100000,\"COVID\",'Accounting Data'!H2:H100000,\"8??\",'Accounting Data'!I2:I100000,\"3???\",'Accounting Data'!J2:J100000,\"64??\")","v":0},{"$f":"SUMIFS('Accounting Data'!C2:C100000,'Accounting Data'!E2:E100000,\"1??\",'Accounting Data'!H2:H100000,\"9??\",'Accounting Data'!I2:I100000,\"3???\",'Accounting Data'!J2:J100000,\"64??\")+SUMIFS('Accounting Data'!C2:C100000,'Accounting Data'!E2:E100000,\"2??\",'Accounting Data'!H2:H100000,\"9??\",'Accounting Data'!I2:I100000,\"3???\",'Accounting Data'!J2:J100000,\"64??\")+SUMIFS('Accounting Data'!C2:C100000,'Accounting Data'!E2:E100000,\"3??\",'Accounting Data'!H2:H100000,\"9??\",'Accounting Data'!I2:I100000,\"3???\",'Accounting Data'!J2:J100000,\"64??\")+SUMIFS('Accounting Data'!C2:C100000,'Accounting Data'!E2:E100000,\"639\",'Accounting Data'!H2:H100000,\"9??\",'Accounting Data'!I2:I100000,\"3???\",'Accounting Data'!J2:J100000,\"64??\")+SUMIFS('Accounting Data'!C2:C100000,'Accounting Data'!E2:E100000,\"699\",'Accounting Data'!H2:H100000,\"9??\",'Accounting Data'!I2:I100000,\"3???\",'Accounting Data'!J2:J100000,\"64??\")+SUMIFS('Accounting Data'!C2:C100000,'Accounting Data'!E2:E100000,\"720\",'Accounting Data'!H2:H100000,\"9??\",'Accounting Data'!I2:I100000,\"3???\",'Accounting Data'!J2:J100000,\"64??\")+SUMIFS('Accounting Data'!C2:C100000,'Accounting Data'!E2:E100000,\"COVID\",'Accounting Data'!H2:H100000,\"9??\",'Accounting Data'!I2:I100000,\"3???\",'Accounting Data'!J2:J100000,\"64??\")","v":0}]
["1. Regular Education (Programs 100, 280, 520, and 550)",null,null,{"$f":"13234774+55000","v":13289774},763512,0,0,"1.","2. Program 800",null,{"$f":"(SUMIFS('Accounting Data'!C2:C100000,'Accounting Data'!H2:H100000,\"8??\",'Accounting Data'!J2:J100000,\"67??\"))-(SUMIFS('Accounting Data'!C2:C100000,'Accounting Data'!E2:E100000,\"575\",'Accounting Data'!H2:H100000,\"8??\",'Accounting Data'!J2:J100000,\"67??\")+SUMIFS('Accounting Data'!C2:C100000,'Accounting Data'!E2:E100000,\"8??\",'Accounting Data'!H2:H100000,\"8??\",'Accounting Data'!J2:J100000,\"67??\")+SUMIFS('Accounting Data'!C2:C100000,'Accounting Data'!E2:E100000,\"9??\",'Accounting Data'!H2:H100000,\"8??\",'Accounting Data'!J2:J100000,\"67??\"))","v":0},{"$f":"(SUMIFS('Accounting Data'!C2:C100000,'Accounting Data'!H2:H100000,\"8??\",'Accounting Data'!J2:J100000,\"6???\"))-(SUMIFS('Accounting Data'!C2:C100000,'Accounting Data'!E2:E100000,\"575\",'Accounting Data'!H2:H100000,\"8??\",'Accounting Data'!J2:J100000,\"6???\")+SUMIFS('Accounting Data'!C2:C100000,'Accounting Data'!E2:E100000,\"8??\",'Accounting Data'!H2:H100000,\"8??\",'Accounting Data'!J2:J100000,\"6???\")+SUMIFS('Accounting Data'!C2:C100000,'Accounting Data'!E2:E100000,\"9??\",'Accounting Data'!H2:H100000,\"8??\",'Accounting Data'!J2:J100000,\"6???\"))-(SUMIFS('Accounting Data'!C2:C100000,'Accounting Data'!H2:H100000,\"8??\",'Accounting Data'!J2:J100000,\"69??\"))+(SUMIFS('Accounting Data'!C2:C100000,'Accounting Data'!E2:E100000,\"575\",'Accounting Data'!H2:H100000,\"8??\",'Accounting Data'!J2:J100000,\"69??\")+SUMIFS('Accounting Data'!C2:C100000,'Accounting Data'!E2:E100000,\"8??\",'Accounting Data'!H2:H100000,\"8??\",'Accounting Data'!J2:J100000,\"69??\")+SUMIFS('Accounting Data'!C2:C100000,'Accounting Data'!E2:E100000,\"9??\",'Accounting Data'!H2:H100000,\"8??\",'Accounting Data'!J2:J100000,\"69??\"))-K35","v":0},{"$f":"K35+L35","v":0},"2.",null,null,null,null,null,null,null,null,null,null,null,6500,{"$f":"SUMIFS('Accounting Data'!C2:C100000,'Accounting Data'!E2:E100000,\"1??\",'Accounting Data'!I2:I100000,\"1???\",'Accounting Data'!J2:J100000,\"65??\")+SUMIFS('Accounting Data'!C2:C100000,'Accounting Data'!E2:E100000,\"2??\",'Accounting Data'!I2:I100000,\"1???\",'Accounting Data'!J2:J100000,\"65??\")+SUMIFS('Accounting Data'!C2:C100000,'Accounting Data'!E2:E100000,\"3??\",'Accounting Data'!I2:I100000,\"1???\",'Accounting Data'!J2:J100000,\"65??\")+SUMIFS('Accounting Data'!C2:C100000,'Accounting Data'!E2:E100000,\"639\",'Accounting Data'!I2:I100000,\"1???\",'Accounting Data'!J2:J100000,\"65??\")+SUMIFS('Accounting Data'!C2:C100000,'Accounting Data'!E2:E100000,\"699\",'Accounting Data'!I2:I100000,\"1???\",'Accounting Data'!J2:J100000,\"65??\")+SUMIFS('Accounting Data'!C2:C100000,'Accounting Data'!E2:E100000,\"720\",'Accounting Data'!I2:I100000,\"1???\",'Accounting Data'!J2:J100000,\"65??\")+SUMIFS('Accounting Data'!C2:C100000,'Accounting Data'!E2:E100000,\"COVID\",'Accounting Data'!I2:I100000,\"1???\",'Accounting Data'!J2:J100000,\"65??\")","v":123025},{"$f":"SUMIFS('Accounting Data'!C2:C100000,'Accounting Data'!E2:E100000,\"1??\",'Accounting Data'!I2:I100000,\"2???\",'Accounting Data'!J2:J100000,\"65??\")+SUMIFS('Accounting Data'!C2:C100000,'Accounting Data'!E2:E100000,\"2??\",'Accounting Data'!I2:I100000,\"2???\",'Accounting Data'!J2:J100000,\"65??\")+SUMIFS('Accounting Data'!C2:C100000,'Accounting Data'!E2:E100000,\"3??\",'Accounting Data'!I2:I100000,\"2???\",'Accounting Data'!J2:J100000,\"65??\")+SUMIFS('Accounting Data'!C2:C100000,'Accounting Data'!E2:E100000,\"639\",'Accounting Data'!I2:I100000,\"2???\",'Accounting Data'!J2:J100000,\"65??\")+SUMIFS('Accounting Data'!C2:C100000,'Accounting Data'!E2:E100000,\"699\",'Accounting Data'!I2:I100000,\"2???\",'Accounting Data'!J2:J100000,\"65??\")+SUMIFS('Accounting Data'!C2:C100000,'Accounting Data'!E2:E100000,\"720\",'Accounting Data'!I2:I100000,\"2???\",'Accounting Data'!J2:J100000,\"65??\")+SUMIFS('Accounting Data'!C2:C100000,'Accounting Data'!E2:E100000,\"COVID\",'Accounting Data'!I2:I100000,\"2???\",'Accounting Data'!J2:J100000,\"65??\")","v":8683},{"$f":"SUMIFS('Accounting Data'!C2:C100000,'Accounting Data'!E2:E100000,\"1??\",'Accounting Data'!I2:I100000,\"3???\",'Accounting Data'!J2:J100000,\"65??\")+SUMIFS('Accounting Data'!C2:C100000,'Accounting Data'!E2:E100000,\"2??\",'Accounting Data'!I2:I100000,\"3???\",'Accounting Data'!J2:J100000,\"65??\")+SUMIFS('Accounting Data'!C2:C100000,'Accounting Data'!E2:E100000,\"3??\",'Accounting Data'!I2:I100000,\"3???\",'Accounting Data'!J2:J100000,\"65??\")+SUMIFS('Accounting Data'!C2:C100000,'Accounting Data'!E2:E100000,\"639\",'Accounting Data'!I2:I100000,\"3???\",'Accounting Data'!J2:J100000,\"65??\")+SUMIFS('Accounting Data'!C2:C100000,'Accounting Data'!E2:E100000,\"699\",'Accounting Data'!I2:I100000,\"3???\",'Accounting Data'!J2:J100000,\"65??\")+SUMIFS('Accounting Data'!C2:C100000,'Accounting Data'!E2:E100000,\"720\",'Accounting Data'!I2:I100000,\"3???\",'Accounting Data'!J2:J100000,\"65??\")+SUMIFS('Accounting Data'!C2:C100000,'Accounting Data'!E2:E100000,\"COVID\",'Accounting Data'!I2:I100000,\"3???\",'Accounting Data'!J2:J100000,\"65??\")","v":0},{"$f":"SUMIFS('Accounting Data'!C2:C100000,'Accounting Data'!E2:E100000,\"1??\",'Accounting Data'!H2:H100000,\"7??\",'Accounting Data'!I2:I100000,\"1???\",'Accounting Data'!J2:J100000,\"65??\")+SUMIFS('Accounting Data'!C2:C100000,'Accounting Data'!E2:E100000,\"2??\",'Accounting Data'!H2:H100000,\"7??\",'Accounting Data'!I2:I100000,\"1???\",'Accounting Data'!J2:J100000,\"65??\")+SUMIFS('Accounting Data'!C2:C100000,'Accounting Data'!E2:E100000,\"3??\",'Accounting Data'!H2:H100000,\"7??\",'Accounting Data'!I2:I100000,\"1???\",'Accounting Data'!J2:J100000,\"65??\")+SUMIFS('Accounting Data'!C2:C100000,'Accounting Data'!E2:E100000,\"639\",'Accounting Data'!H2:H100000,\"7??\",'Accounting Data'!I2:I100000,\"1???\",'Accounting Data'!J2:J100000,\"65??\")+SUMIFS('Accounting Data'!C2:C100000,'Accounting Data'!E2:E100000,\"699\",'Accounting Data'!H2:H100000,\"7??\",'Accounting Data'!I2:I100000,\"1???\",'Accounting Data'!J2:J100000,\"65??\")+SUMIFS('Accounting Data'!C2:C100000,'Accounting Data'!E2:E100000,\"720\",'Accounting Data'!H2:H100000,\"7??\",'Accounting Data'!I2:I100000,\"1???\",'Accounting Data'!J2:J100000,\"65??\")+SUMIFS('Accounting Data'!C2:C100000,'Accounting Data'!E2:E100000,\"COVID\",'Accounting Data'!H2:H100000,\"7??\",'Accounting Data'!I2:I100000,\"1???\",'Accounting Data'!J2:J100000,\"65??\")","v":0},{"$f":"SUMIFS('Accounting Data'!C2:C100000,'Accounting Data'!E2:E100000,\"1??\",'Accounting Data'!H2:H100000,\"8??\",'Accounting Data'!I2:I100000,\"1???\",'Accounting Data'!J2:J100000,\"65??\")+SUMIFS('Accounting Data'!C2:C100000,'Accounting Data'!E2:E100000,\"2??\",'Accounting Data'!H2:H100000,\"8??\",'Accounting Data'!I2:I100000,\"1???\",'Accounting Data'!J2:J100000,\"65??\")+SUMIFS('Accounting Data'!C2:C100000,'Accounting Data'!E2:E100000,\"3??\",'Accounting Data'!H2:H100000,\"8??\",'Accounting Data'!I2:I100000,\"1???\",'Accounting Data'!J2:J100000,\"65??\")+SUMIFS('Accounting Data'!C2:C100000,'Accounting Data'!E2:E100000,\"639\",'Accounting Data'!H2:H100000,\"8??\",'Accounting Data'!I2:I100000,\"1???\",'Accounting Data'!J2:J100000,\"65??\")+SUMIFS('Accounting Data'!C2:C100000,'Accounting Data'!E2:E100000,\"699\",'Accounting Data'!H2:H100000,\"8??\",'Accounting Data'!I2:I100000,\"1???\",'Accounting Data'!J2:J100000,\"65??\")+SUMIFS('Accounting Data'!C2:C100000,'Accounting Data'!E2:E100000,\"720\",'Accounting Data'!H2:H100000,\"8??\",'Accounting Data'!I2:I100000,\"1???\",'Accounting Data'!J2:J100000,\"65??\")+SUMIFS('Accounting Data'!C2:C100000,'Accounting Data'!E2:E100000,\"COVID\",'Accounting Data'!H2:H100000,\"8??\",'Accounting Data'!I2:I100000,\"1???\",'Accounting Data'!J2:J100000,\"65??\")","v":0},{"$f":"SUMIFS('Accounting Data'!C2:C100000,'Accounting Data'!E2:E100000,\"1??\",'Accounting Data'!H2:H100000,\"9??\",'Accounting Data'!I2:I100000,\"1???\",'Accounting Data'!J2:J100000,\"65??\")+SUMIFS('Accounting Data'!C2:C100000,'Accounting Data'!E2:E100000,\"2??\",'Accounting Data'!H2:H100000,\"9??\",'Accounting Data'!I2:I100000,\"1???\",'Accounting Data'!J2:J100000,\"65??\")+SUMIFS('Accounting Data'!C2:C100000,'Accounting Data'!E2:E100000,\"3??\",'Accounting Data'!H2:H100000,\"9??\",'Accounting Data'!I2:I100000,\"1???\",'Accounting Data'!J2:J100000,\"65??\")+SUMIFS('Accounting Data'!C2:C100000,'Accounting Data'!E2:E100000,\"639\",'Accounting Data'!H2:H100000,\"9??\",'Accounting Data'!I2:I100000,\"1???\",'Accounting Data'!J2:J100000,\"65??\")+SUMIFS('Accounting Data'!C2:C100000,'Accounting Data'!E2:E100000,\"699\",'Accounting Data'!H2:H100000,\"9??\",'Accounting Data'!I2:I100000,\"1???\",'Accounting Data'!J2:J100000,\"65??\")+SUMIFS('Accounting Data'!C2:C100000,'Accounting Data'!E2:E100000,\"720\",'Accounting Data'!H2:H100000,\"9??\",'Accounting Data'!I2:I100000,\"1???\",'Accounting Data'!J2:J100000,\"65??\")+SUMIFS('Accounting Data'!C2:C100000,'Accounting Data'!E2:E100000,\"COVID\",'Accounting Data'!H2:H100000,\"9??\",'Accounting Data'!I2:I100000,\"1???\",'Accounting Data'!J2:J100000,\"65??\")","v":0},{"$f":"SUMIFS('Accounting Data'!C2:C100000,'Accounting Data'!E2:E100000,\"1??\",'Accounting Data'!H2:H100000,\"7??\",'Accounting Data'!I2:I100000,\"2???\",'Accounting Data'!J2:J100000,\"65??\")+SUMIFS('Accounting Data'!C2:C100000,'Accounting Data'!E2:E100000,\"2??\",'Accounting Data'!H2:H100000,\"7??\",'Accounting Data'!I2:I100000,\"2???\",'Accounting Data'!J2:J100000,\"65??\")+SUMIFS('Accounting Data'!C2:C100000,'Accounting Data'!E2:E100000,\"3??\",'Accounting Data'!H2:H100000,\"7??\",'Accounting Data'!I2:I100000,\"2???\",'Accounting Data'!J2:J100000,\"65??\")+SUMIFS('Accounting Data'!C2:C100000,'Accounting Data'!E2:E100000,\"639\",'Accounting Data'!H2:H100000,\"7??\",'Accounting Data'!I2:I100000,\"2???\",'Accounting Data'!J2:J100000,\"65??\")+SUMIFS('Accounting Data'!C2:C100000,'Accounting Data'!E2:E100000,\"699\",'Accounting Data'!H2:H100000,\"7??\",'Accounting Data'!I2:I100000,\"2???\",'Accounting Data'!J2:J100000,\"65??\")+SUMIFS('Accounting Data'!C2:C100000,'Accounting Data'!E2:E100000,\"720\",'Accounting Data'!H2:H100000,\"7??\",'Accounting Data'!I2:I100000,\"2???\",'Accounting Data'!J2:J100000,\"65??\")+SUMIFS('Accounting Data'!C2:C100000,'Accounting Data'!E2:E100000,\"COVID\",'Accounting Data'!H2:H100000,\"7??\",'Accounting Data'!I2:I100000,\"2???\",'Accounting Data'!J2:J100000,\"65??\")","v":0},{"$f":"SUMIFS('Accounting Data'!C2:C100000,'Accounting Data'!E2:E100000,\"1??\",'Accounting Data'!H2:H100000,\"8??\",'Accounting Data'!I2:I100000,\"2???\",'Accounting Data'!J2:J100000,\"65??\")+SUMIFS('Accounting Data'!C2:C100000,'Accounting Data'!E2:E100000,\"2??\",'Accounting Data'!H2:H100000,\"8??\",'Accounting Data'!I2:I100000,\"2???\",'Accounting Data'!J2:J100000,\"65??\")+SUMIFS('Accounting Data'!C2:C100000,'Accounting Data'!E2:E100000,\"3??\",'Accounting Data'!H2:H100000,\"8??\",'Accounting Data'!I2:I100000,\"2???\",'Accounting Data'!J2:J100000,\"65??\")+SUMIFS('Accounting Data'!C2:C100000,'Accounting Data'!E2:E100000,\"639\",'Accounting Data'!H2:H100000,\"8??\",'Accounting Data'!I2:I100000,\"2???\",'Accounting Data'!J2:J100000,\"65??\")+SUMIFS('Accounting Data'!C2:C100000,'Accounting Data'!E2:E100000,\"699\",'Accounting Data'!H2:H100000,\"8??\",'Accounting Data'!I2:I100000,\"2???\",'Accounting Data'!J2:J100000,\"65??\")+SUMIFS('Accounting Data'!C2:C100000,'Accounting Data'!E2:E100000,\"720\",'Accounting Data'!H2:H100000,\"8??\",'Accounting Data'!I2:I100000,\"2???\",'Accounting Data'!J2:J100000,\"65??\")+SUMIFS('Accounting Data'!C2:C100000,'Accounting Data'!E2:E100000,\"COVID\",'Accounting Data'!H2:H100000,\"8??\",'Accounting Data'!I2:I100000,\"2???\",'Accounting Data'!J2:J100000,\"65??\")","v":0},{"$f":"SUMIFS('Accounting Data'!C2:C100000,'Accounting Data'!E2:E100000,\"1??\",'Accounting Data'!H2:H100000,\"9??\",'Accounting Data'!I2:I100000,\"2???\",'Accounting Data'!J2:J100000,\"65??\")+SUMIFS('Accounting Data'!C2:C100000,'Accounting Data'!E2:E100000,\"2??\",'Accounting Data'!H2:H100000,\"9??\",'Accounting Data'!I2:I100000,\"2???\",'Accounting Data'!J2:J100000,\"65??\")+SUMIFS('Accounting Data'!C2:C100000,'Accounting Data'!E2:E100000,\"3??\",'Accounting Data'!H2:H100000,\"9??\",'Accounting Data'!I2:I100000,\"2???\",'Accounting Data'!J2:J100000,\"65??\")+SUMIFS('Accounting Data'!C2:C100000,'Accounting Data'!E2:E100000,\"639\",'Accounting Data'!H2:H100000,\"9??\",'Accounting Data'!I2:I100000,\"2???\",'Accounting Data'!J2:J100000,\"65??\")+SUMIFS('Accounting Data'!C2:C100000,'Accounting Data'!E2:E100000,\"699\",'Accounting Data'!H2:H100000,\"9??\",'Accounting Data'!I2:I100000,\"2???\",'Accounting Data'!J2:J100000,\"65??\")+SUMIFS('Accounting Data'!C2:C100000,'Accounting Data'!E2:E100000,\"720\",'Accounting Data'!H2:H100000,\"9??\",'Accounting Data'!I2:I100000,\"2???\",'Accounting Data'!J2:J100000,\"65??\")+SUMIFS('Accounting Data'!C2:C100000,'Accounting Data'!E2:E100000,\"COVID\",'Accounting Data'!H2:H100000,\"9??\",'Accounting Data'!I2:I100000,\"2???\",'Accounting Data'!J2:J100000,\"65??\")","v":0},{"$f":"SUMIFS('Accounting Data'!C2:C100000,'Accounting Data'!E2:E100000,\"1??\",'Accounting Data'!H2:H100000,\"7??\",'Accounting Data'!I2:I100000,\"3???\",'Accounting Data'!J2:J100000,\"65??\")+SUMIFS('Accounting Data'!C2:C100000,'Accounting Data'!E2:E100000,\"2??\",'Accounting Data'!H2:H100000,\"7??\",'Accounting Data'!I2:I100000,\"3???\",'Accounting Data'!J2:J100000,\"65??\")+SUMIFS('Accounting Data'!C2:C100000,'Accounting Data'!E2:E100000,\"3??\",'Accounting Data'!H2:H100000,\"7??\",'Accounting Data'!I2:I100000,\"3???\",'Accounting Data'!J2:J100000,\"65??\")+SUMIFS('Accounting Data'!C2:C100000,'Accounting Data'!E2:E100000,\"639\",'Accounting Data'!H2:H100000,\"7??\",'Accounting Data'!I2:I100000,\"3???\",'Accounting Data'!J2:J100000,\"65??\")+SUMIFS('Accounting Data'!C2:C100000,'Accounting Data'!E2:E100000,\"699\",'Accounting Data'!H2:H100000,\"7??\",'Accounting Data'!I2:I100000,\"3???\",'Accounting Data'!J2:J100000,\"65??\")+SUMIFS('Accounting Data'!C2:C100000,'Accounting Data'!E2:E100000,\"720\",'Accounting Data'!H2:H100000,\"7??\",'Accounting Data'!I2:I100000,\"3???\",'Accounting Data'!J2:J100000,\"65??\")+SUMIFS('Accounting Data'!C2:C100000,'Accounting Data'!E2:E100000,\"COVID\",'Accounting Data'!H2:H100000,\"7??\",'Accounting Data'!I2:I100000,\"3???\",'Accounting Data'!J2:J100000,\"65??\")","v":0},{"$f":"SUMIFS('Accounting Data'!C2:C100000,'Accounting Data'!E2:E100000,\"1??\",'Accounting Data'!H2:H100000,\"8??\",'Accounting Data'!I2:I100000,\"3???\",'Accounting Data'!J2:J100000,\"65??\")+SUMIFS('Accounting Data'!C2:C100000,'Accounting Data'!E2:E100000,\"2??\",'Accounting Data'!H2:H100000,\"8??\",'Accounting Data'!I2:I100000,\"3???\",'Accounting Data'!J2:J100000,\"65??\")+SUMIFS('Accounting Data'!C2:C100000,'Accounting Data'!E2:E100000,\"3??\",'Accounting Data'!H2:H100000,\"8??\",'Accounting Data'!I2:I100000,\"3???\",'Accounting Data'!J2:J100000,\"65??\")+SUMIFS('Accounting Data'!C2:C100000,'Accounting Data'!E2:E100000,\"639\",'Accounting Data'!H2:H100000,\"8??\",'Accounting Data'!I2:I100000,\"3???\",'Accounting Data'!J2:J100000,\"65??\")+SUMIFS('Accounting Data'!C2:C100000,'Accounting Data'!E2:E100000,\"699\",'Accounting Data'!H2:H100000,\"8??\",'Accounting Data'!I2:I100000,\"3???\",'Accounting Data'!J2:J100000,\"65??\")+SUMIFS('Accounting Data'!C2:C100000,'Accounting Data'!E2:E100000,\"720\",'Accounting Data'!H2:H100000,\"8??\",'Accounting Data'!I2:I100000,\"3???\",'Accounting Data'!J2:J100000,\"65??\")+SUMIFS('Accounting Data'!C2:C100000,'Accounting Data'!E2:E100000,\"COVID\",'Accounting Data'!H2:H100000,\"8??\",'Accounting Data'!I2:I100000,\"3???\",'Accounting Data'!J2:J100000,\"65??\")","v":0},{"$f":"SUMIFS('Accounting Data'!C2:C100000,'Accounting Data'!E2:E100000,\"1??\",'Accounting Data'!H2:H100000,\"9??\",'Accounting Data'!I2:I100000,\"3???\",'Accounting Data'!J2:J100000,\"65??\")+SUMIFS('Accounting Data'!C2:C100000,'Accounting Data'!E2:E100000,\"2??\",'Accounting Data'!H2:H100000,\"9??\",'Accounting Data'!I2:I100000,\"3???\",'Accounting Data'!J2:J100000,\"65??\")+SUMIFS('Accounting Data'!C2:C100000,'Accounting Data'!E2:E100000,\"3??\",'Accounting Data'!H2:H100000,\"9??\",'Accounting Data'!I2:I100000,\"3???\",'Accounting Data'!J2:J100000,\"65??\")+SUMIFS('Accounting Data'!C2:C100000,'Accounting Data'!E2:E100000,\"639\",'Accounting Data'!H2:H100000,\"9??\",'Accounting Data'!I2:I100000,\"3???\",'Accounting Data'!J2:J100000,\"65??\")+SUMIFS('Accounting Data'!C2:C100000,'Accounting Data'!E2:E100000,\"699\",'Accounting Data'!H2:H100000,\"9??\",'Accounting Data'!I2:I100000,\"3???\",'Accounting Data'!J2:J100000,\"65??\")+SUMIFS('Accounting Data'!C2:C100000,'Accounting Data'!E2:E100000,\"720\",'Accounting Data'!H2:H100000,\"9??\",'Accounting Data'!I2:I100000,\"3???\",'Accounting Data'!J2:J100000,\"65??\")+SUMIFS('Accounting Data'!C2:C100000,'Accounting Data'!E2:E100000,\"COVID\",'Accounting Data'!H2:H100000,\"9??\",'Accounting Data'!I2:I100000,\"3???\",'Accounting Data'!J2:J100000,\"65??\")","v":0}]
["2. Special Education (Programs 200-230, 250, 512, 514, and 515)",null,null,{"$f":"2062489+5000","v":2067489},10714,{"$f":"22890+53812.5+66450","v":143153},0,"2.","3. Program 900",null,{"$f":"(SUMIFS('Accounting Data'!C2:C100000,'Accounting Data'!H2:H100000,\"9??\",'Accounting Data'!J2:J100000,\"67??\"))-(SUMIFS('Accounting Data'!C2:C100000,'Accounting Data'!E2:E100000,\"575\",'Accounting Data'!H2:H100000,\"9??\",'Accounting Data'!J2:J100000,\"67??\")+SUMIFS('Accounting Data'!C2:C100000,'Accounting Data'!E2:E100000,\"8??\",'Accounting Data'!H2:H100000,\"9??\",'Accounting Data'!J2:J100000,\"67??\")+SUMIFS('Accounting Data'!C2:C100000,'Accounting Data'!E2:E100000,\"9??\",'Accounting Data'!H2:H100000,\"9??\",'Accounting Data'!J2:J100000,\"67??\"))","v":0},{"$f":"(SUMIFS('Accounting Data'!C2:C100000,'Accounting Data'!H2:H100000,\"9??\",'Accounting Data'!J2:J100000,\"6???\"))-(SUMIFS('Accounting Data'!C2:C100000,'Accounting Data'!E2:E100000,\"575\",'Accounting Data'!H2:H100000,\"9??\",'Accounting Data'!J2:J100000,\"6???\")+SUMIFS('Accounting Data'!C2:C100000,'Accounting Data'!E2:E100000,\"8??\",'Accounting Data'!H2:H100000,\"9??\",'Accounting Data'!J2:J100000,\"6???\")+SUMIFS('Accounting Data'!C2:C100000,'Accounting Data'!E2:E100000,\"9??\",'Accounting Data'!H2:H100000,\"9??\",'Accounting Data'!J2:J100000,\"6???\"))-(SUMIFS('Accounting Data'!C2:C100000,'Accounting Data'!H2:H100000,\"9??\",'Accounting Data'!J2:J100000,\"69??\"))+(SUMIFS('Accounting Data'!C2:C100000,'Accounting Data'!E2:E100000,\"575\",'Accounting Data'!H2:H100000,\"9??\",'Accounting Data'!J2:J100000,\"69??\")+SUMIFS('Accounting Data'!C2:C100000,'Accounting Data'!E2:E100000,\"8??\",'Accounting Data'!H2:H100000,\"9??\",'Accounting Data'!J2:J100000,\"69??\")+SUMIFS('Accounting Data'!C2:C100000,'Accounting Data'!E2:E100000,\"9??\",'Accounting Data'!H2:H100000,\"9??\",'Accounting Data'!J2:J100000,\"69??\"))-K36","v":162},{"$f":"K36+L36","v":162},"3.",null,null,null,null,null,null,null,null,null,null,null,6600,{"$f":"SUMIFS('Accounting Data'!C2:C100000,'Accounting Data'!E2:E100000,\"1??\",'Accounting Data'!I2:I100000,\"1???\",'Accounting Data'!J2:J100000,\"66??\")+SUMIFS('Accounting Data'!C2:C100000,'Accounting Data'!E2:E100000,\"2??\",'Accounting Data'!I2:I100000,\"1???\",'Accounting Data'!J2:J100000,\"66??\")+SUMIFS('Accounting Data'!C2:C100000,'Accounting Data'!E2:E100000,\"3??\",'Accounting Data'!I2:I100000,\"1???\",'Accounting Data'!J2:J100000,\"66??\")+SUMIFS('Accounting Data'!C2:C100000,'Accounting Data'!E2:E100000,\"639\",'Accounting Data'!I2:I100000,\"1???\",'Accounting Data'!J2:J100000,\"66??\")+SUMIFS('Accounting Data'!C2:C100000,'Accounting Data'!E2:E100000,\"699\",'Accounting Data'!I2:I100000,\"1???\",'Accounting Data'!J2:J100000,\"66??\")+SUMIFS('Accounting Data'!C2:C100000,'Accounting Data'!E2:E100000,\"720\",'Accounting Data'!I2:I100000,\"1???\",'Accounting Data'!J2:J100000,\"66??\")+SUMIFS('Accounting Data'!C2:C100000,'Accounting Data'!E2:E100000,\"COVID\",'Accounting Data'!I2:I100000,\"1???\",'Accounting Data'!J2:J100000,\"66??\")","v":660179},{"$f":"SUMIFS('Accounting Data'!C2:C100000,'Accounting Data'!E2:E100000,\"1??\",'Accounting Data'!I2:I100000,\"2???\",'Accounting Data'!J2:J100000,\"66??\")+SUMIFS('Accounting Data'!C2:C100000,'Accounting Data'!E2:E100000,\"2??\",'Accounting Data'!I2:I100000,\"2???\",'Accounting Data'!J2:J100000,\"66??\")+SUMIFS('Accounting Data'!C2:C100000,'Accounting Data'!E2:E100000,\"3??\",'Accounting Data'!I2:I100000,\"2???\",'Accounting Data'!J2:J100000,\"66??\")+SUMIFS('Accounting Data'!C2:C100000,'Accounting Data'!E2:E100000,\"639\",'Accounting Data'!I2:I100000,\"2???\",'Accounting Data'!J2:J100000,\"66??\")+SUMIFS('Accounting Data'!C2:C100000,'Accounting Data'!E2:E100000,\"699\",'Accounting Data'!I2:I100000,\"2???\",'Accounting Data'!J2:J100000,\"66??\")+SUMIFS('Accounting Data'!C2:C100000,'Accounting Data'!E2:E100000,\"720\",'Accounting Data'!I2:I100000,\"2???\",'Accounting Data'!J2:J100000,\"66??\")+SUMIFS('Accounting Data'!C2:C100000,'Accounting Data'!E2:E100000,\"COVID\",'Accounting Data'!I2:I100000,\"2???\",'Accounting Data'!J2:J100000,\"66??\")","v":218951},{"$f":"SUMIFS('Accounting Data'!C2:C100000,'Accounting Data'!E2:E100000,\"1??\",'Accounting Data'!I2:I100000,\"3???\",'Accounting Data'!J2:J100000,\"66??\")+SUMIFS('Accounting Data'!C2:C100000,'Accounting Data'!E2:E100000,\"2??\",'Accounting Data'!I2:I100000,\"3???\",'Accounting Data'!J2:J100000,\"66??\")+SUMIFS('Accounting Data'!C2:C100000,'Accounting Data'!E2:E100000,\"3??\",'Accounting Data'!I2:I100000,\"3???\",'Accounting Data'!J2:J100000,\"66??\")+SUMIFS('Accounting Data'!C2:C100000,'Accounting Data'!E2:E100000,\"639\",'Accounting Data'!I2:I100000,\"3???\",'Accounting Data'!J2:J100000,\"66??\")+SUMIFS('Accounting Data'!C2:C100000,'Accounting Data'!E2:E100000,\"699\",'Accounting Data'!I2:I100000,\"3???\",'Accounting Data'!J2:J100000,\"66??\")+SUMIFS('Accounting Data'!C2:C100000,'Accounting Data'!E2:E100000,\"720\",'Accounting Data'!I2:I100000,\"3???\",'Accounting Data'!J2:J100000,\"66??\")+SUMIFS('Accounting Data'!C2:C100000,'Accounting Data'!E2:E100000,\"COVID\",'Accounting Data'!I2:I100000,\"3???\",'Accounting Data'!J2:J100000,\"66??\")","v":0},{"$f":"SUMIFS('Accounting Data'!C2:C100000,'Accounting Data'!E2:E100000,\"1??\",'Accounting Data'!H2:H100000,\"7??\",'Accounting Data'!I2:I100000,\"1???\",'Accounting Data'!J2:J100000,\"66??\")+SUMIFS('Accounting Data'!C2:C100000,'Accounting Data'!E2:E100000,\"2??\",'Accounting Data'!H2:H100000,\"7??\",'Accounting Data'!I2:I100000,\"1???\",'Accounting Data'!J2:J100000,\"66??\")+SUMIFS('Accounting Data'!C2:C100000,'Accounting Data'!E2:E100000,\"3??\",'Accounting Data'!H2:H100000,\"7??\",'Accounting Data'!I2:I100000,\"1???\",'Accounting Data'!J2:J100000,\"66??\")+SUMIFS('Accounting Data'!C2:C100000,'Accounting Data'!E2:E100000,\"639\",'Accounting Data'!H2:H100000,\"7??\",'Accounting Data'!I2:I100000,\"1???\",'Accounting Data'!J2:J100000,\"66??\")+SUMIFS('Accounting Data'!C2:C100000,'Accounting Data'!E2:E100000,\"699\",'Accounting Data'!H2:H100000,\"7??\",'Accounting Data'!I2:I100000,\"1???\",'Accounting Data'!J2:J100000,\"66??\")+SUMIFS('Accounting Data'!C2:C100000,'Accounting Data'!E2:E100000,\"720\",'Accounting Data'!H2:H100000,\"7??\",'Accounting Data'!I2:I100000,\"1???\",'Accounting Data'!J2:J100000,\"66??\")+SUMIFS('Accounting Data'!C2:C100000,'Accounting Data'!E2:E100000,\"COVID\",'Accounting Data'!H2:H100000,\"7??\",'Accounting Data'!I2:I100000,\"1???\",'Accounting Data'!J2:J100000,\"66??\")","v":0},{"$f":"SUMIFS('Accounting Data'!C2:C100000,'Accounting Data'!E2:E100000,\"1??\",'Accounting Data'!H2:H100000,\"8??\",'Accounting Data'!I2:I100000,\"1???\",'Accounting Data'!J2:J100000,\"66??\")+SUMIFS('Accounting Data'!C2:C100000,'Accounting Data'!E2:E100000,\"2??\",'Accounting Data'!H2:H100000,\"8??\",'Accounting Data'!I2:I100000,\"1???\",'Accounting Data'!J2:J100000,\"66??\")+SUMIFS('Accounting Data'!C2:C100000,'Accounting Data'!E2:E100000,\"3??\",'Accounting Data'!H2:H100000,\"8??\",'Accounting Data'!I2:I100000,\"1???\",'Accounting Data'!J2:J100000,\"66??\")+SUMIFS('Accounting Data'!C2:C100000,'Accounting Data'!E2:E100000,\"639\",'Accounting Data'!H2:H100000,\"8??\",'Accounting Data'!I2:I100000,\"1???\",'Accounting Data'!J2:J100000,\"66??\")+SUMIFS('Accounting Data'!C2:C100000,'Accounting Data'!E2:E100000,\"699\",'Accounting Data'!H2:H100000,\"8??\",'Accounting Data'!I2:I100000,\"1???\",'Accounting Data'!J2:J100000,\"66??\")+SUMIFS('Accounting Data'!C2:C100000,'Accounting Data'!E2:E100000,\"720\",'Accounting Data'!H2:H100000,\"8??\",'Accounting Data'!I2:I100000,\"1???\",'Accounting Data'!J2:J100000,\"66??\")+SUMIFS('Accounting Data'!C2:C100000,'Accounting Data'!E2:E100000,\"COVID\",'Accounting Data'!H2:H100000,\"8??\",'Accounting Data'!I2:I100000,\"1???\",'Accounting Data'!J2:J100000,\"66??\")","v":0},{"$f":"SUMIFS('Accounting Data'!C2:C100000,'Accounting Data'!E2:E100000,\"1??\",'Accounting Data'!H2:H100000,\"9??\",'Accounting Data'!I2:I100000,\"1???\",'Accounting Data'!J2:J100000,\"66??\")+SUMIFS('Accounting Data'!C2:C100000,'Accounting Data'!E2:E100000,\"2??\",'Accounting Data'!H2:H100000,\"9??\",'Accounting Data'!I2:I100000,\"1???\",'Accounting Data'!J2:J100000,\"66??\")+SUMIFS('Accounting Data'!C2:C100000,'Accounting Data'!E2:E100000,\"3??\",'Accounting Data'!H2:H100000,\"9??\",'Accounting Data'!I2:I100000,\"1???\",'Accounting Data'!J2:J100000,\"66??\")+SUMIFS('Accounting Data'!C2:C100000,'Accounting Data'!E2:E100000,\"639\",'Accounting Data'!H2:H100000,\"9??\",'Accounting Data'!I2:I100000,\"1???\",'Accounting Data'!J2:J100000,\"66??\")+SUMIFS('Accounting Data'!C2:C100000,'Accounting Data'!E2:E100000,\"699\",'Accounting Data'!H2:H100000,\"9??\",'Accounting Data'!I2:I100000,\"1???\",'Accounting Data'!J2:J100000,\"66??\")+SUMIFS('Accounting Data'!C2:C100000,'Accounting Data'!E2:E100000,\"720\",'Accounting Data'!H2:H100000,\"9??\",'Accounting Data'!I2:I100000,\"1???\",'Accounting Data'!J2:J100000,\"66??\")+SUMIFS('Accounting Data'!C2:C100000,'Accounting Data'!E2:E100000,\"COVID\",'Accounting Data'!H2:H100000,\"9??\",'Accounting Data'!I2:I100000,\"1???\",'Accounting Data'!J2:J100000,\"66??\")","v":0},{"$f":"SUMIFS('Accounting Data'!C2:C100000,'Accounting Data'!E2:E100000,\"1??\",'Accounting Data'!H2:H100000,\"7??\",'Accounting Data'!I2:I100000,\"2???\",'Accounting Data'!J2:J100000,\"66??\")+SUMIFS('Accounting Data'!C2:C100000,'Accounting Data'!E2:E100000,\"2??\",'Accounting Data'!H2:H100000,\"7??\",'Accounting Data'!I2:I100000,\"2???\",'Accounting Data'!J2:J100000,\"66??\")+SUMIFS('Accounting Data'!C2:C100000,'Accounting Data'!E2:E100000,\"3??\",'Accounting Data'!H2:H100000,\"7??\",'Accounting Data'!I2:I100000,\"2???\",'Accounting Data'!J2:J100000,\"66??\")+SUMIFS('Accounting Data'!C2:C100000,'Accounting Data'!E2:E100000,\"639\",'Accounting Data'!H2:H100000,\"7??\",'Accounting Data'!I2:I100000,\"2???\",'Accounting Data'!J2:J100000,\"66??\")+SUMIFS('Accounting Data'!C2:C100000,'Accounting Data'!E2:E100000,\"699\",'Accounting Data'!H2:H100000,\"7??\",'Accounting Data'!I2:I100000,\"2???\",'Accounting Data'!J2:J100000,\"66??\")+SUMIFS('Accounting Data'!C2:C100000,'Accounting Data'!E2:E100000,\"720\",'Accounting Data'!H2:H100000,\"7??\",'Accounting Data'!I2:I100000,\"2???\",'Accounting Data'!J2:J100000,\"66??\")+SUMIFS('Accounting Data'!C2:C100000,'Accounting Data'!E2:E100000,\"COVID\",'Accounting Data'!H2:H100000,\"7??\",'Accounting Data'!I2:I100000,\"2???\",'Accounting Data'!J2:J100000,\"66??\")","v":0},{"$f":"SUMIFS('Accounting Data'!C2:C100000,'Accounting Data'!E2:E100000,\"1??\",'Accounting Data'!H2:H100000,\"8??\",'Accounting Data'!I2:I100000,\"2???\",'Accounting Data'!J2:J100000,\"66??\")+SUMIFS('Accounting Data'!C2:C100000,'Accounting Data'!E2:E100000,\"2??\",'Accounting Data'!H2:H100000,\"8??\",'Accounting Data'!I2:I100000,\"2???\",'Accounting Data'!J2:J100000,\"66??\")+SUMIFS('Accounting Data'!C2:C100000,'Accounting Data'!E2:E100000,\"3??\",'Accounting Data'!H2:H100000,\"8??\",'Accounting Data'!I2:I100000,\"2???\",'Accounting Data'!J2:J100000,\"66??\")+SUMIFS('Accounting Data'!C2:C100000,'Accounting Data'!E2:E100000,\"639\",'Accounting Data'!H2:H100000,\"8??\",'Accounting Data'!I2:I100000,\"2???\",'Accounting Data'!J2:J100000,\"66??\")+SUMIFS('Accounting Data'!C2:C100000,'Accounting Data'!E2:E100000,\"699\",'Accounting Data'!H2:H100000,\"8??\",'Accounting Data'!I2:I100000,\"2???\",'Accounting Data'!J2:J100000,\"66??\")+SUMIFS('Accounting Data'!C2:C100000,'Accounting Data'!E2:E100000,\"720\",'Accounting Data'!H2:H100000,\"8??\",'Accounting Data'!I2:I100000,\"2???\",'Accounting Data'!J2:J100000,\"66??\")+SUMIFS('Accounting Data'!C2:C100000,'Accounting Data'!E2:E100000,\"COVID\",'Accounting Data'!H2:H100000,\"8??\",'Accounting Data'!I2:I100000,\"2???\",'Accounting Data'!J2:J100000,\"66??\")","v":0},{"$f":"SUMIFS('Accounting Data'!C2:C100000,'Accounting Data'!E2:E100000,\"1??\",'Accounting Data'!H2:H100000,\"9??\",'Accounting Data'!I2:I100000,\"2???\",'Accounting Data'!J2:J100000,\"66??\")+SUMIFS('Accounting Data'!C2:C100000,'Accounting Data'!E2:E100000,\"2??\",'Accounting Data'!H2:H100000,\"9??\",'Accounting Data'!I2:I100000,\"2???\",'Accounting Data'!J2:J100000,\"66??\")+SUMIFS('Accounting Data'!C2:C100000,'Accounting Data'!E2:E100000,\"3??\",'Accounting Data'!H2:H100000,\"9??\",'Accounting Data'!I2:I100000,\"2???\",'Accounting Data'!J2:J100000,\"66??\")+SUMIFS('Accounting Data'!C2:C100000,'Accounting Data'!E2:E100000,\"639\",'Accounting Data'!H2:H100000,\"9??\",'Accounting Data'!I2:I100000,\"2???\",'Accounting Data'!J2:J100000,\"66??\")+SUMIFS('Accounting Data'!C2:C100000,'Accounting Data'!E2:E100000,\"699\",'Accounting Data'!H2:H100000,\"9??\",'Accounting Data'!I2:I100000,\"2???\",'Accounting Data'!J2:J100000,\"66??\")+SUMIFS('Accounting Data'!C2:C100000,'Accounting Data'!E2:E100000,\"720\",'Accounting Data'!H2:H100000,\"9??\",'Accounting Data'!I2:I100000,\"2???\",'Accounting Data'!J2:J100000,\"66??\")+SUMIFS('Accounting Data'!C2:C100000,'Accounting Data'!E2:E100000,\"COVID\",'Accounting Data'!H2:H100000,\"9??\",'Accounting Data'!I2:I100000,\"2???\",'Accounting Data'!J2:J100000,\"66??\")","v":0},{"$f":"SUMIFS('Accounting Data'!C2:C100000,'Accounting Data'!E2:E100000,\"1??\",'Accounting Data'!H2:H100000,\"7??\",'Accounting Data'!I2:I100000,\"3???\",'Accounting Data'!J2:J100000,\"66??\")+SUMIFS('Accounting Data'!C2:C100000,'Accounting Data'!E2:E100000,\"2??\",'Accounting Data'!H2:H100000,\"7??\",'Accounting Data'!I2:I100000,\"3???\",'Accounting Data'!J2:J100000,\"66??\")+SUMIFS('Accounting Data'!C2:C100000,'Accounting Data'!E2:E100000,\"3??\",'Accounting Data'!H2:H100000,\"7??\",'Accounting Data'!I2:I100000,\"3???\",'Accounting Data'!J2:J100000,\"66??\")+SUMIFS('Accounting Data'!C2:C100000,'Accounting Data'!E2:E100000,\"639\",'Accounting Data'!H2:H100000,\"7??\",'Accounting Data'!I2:I100000,\"3???\",'Accounting Data'!J2:J100000,\"66??\")+SUMIFS('Accounting Data'!C2:C100000,'Accounting Data'!E2:E100000,\"699\",'Accounting Data'!H2:H100000,\"7??\",'Accounting Data'!I2:I100000,\"3???\",'Accounting Data'!J2:J100000,\"66??\")+SUMIFS('Accounting Data'!C2:C100000,'Accounting Data'!E2:E100000,\"720\",'Accounting Data'!H2:H100000,\"7??\",'Accounting Data'!I2:I100000,\"3???\",'Accounting Data'!J2:J100000,\"66??\")+SUMIFS('Accounting Data'!C2:C100000,'Accounting Data'!E2:E100000,\"COVID\",'Accounting Data'!H2:H100000,\"7??\",'Accounting Data'!I2:I100000,\"3???\",'Accounting Data'!J2:J100000,\"66??\")","v":0},{"$f":"SUMIFS('Accounting Data'!C2:C100000,'Accounting Data'!E2:E100000,\"1??\",'Accounting Data'!H2:H100000,\"8??\",'Accounting Data'!I2:I100000,\"3???\",'Accounting Data'!J2:J100000,\"66??\")+SUMIFS('Accounting Data'!C2:C100000,'Accounting Data'!E2:E100000,\"2??\",'Accounting Data'!H2:H100000,\"8??\",'Accounting Data'!I2:I100000,\"3???\",'Accounting Data'!J2:J100000,\"66??\")+SUMIFS('Accounting Data'!C2:C100000,'Accounting Data'!E2:E100000,\"3??\",'Accounting Data'!H2:H100000,\"8??\",'Accounting Data'!I2:I100000,\"3???\",'Accounting Data'!J2:J100000,\"66??\")+SUMIFS('Accounting Data'!C2:C100000,'Accounting Data'!E2:E100000,\"639\",'Accounting Data'!H2:H100000,\"8??\",'Accounting Data'!I2:I100000,\"3???\",'Accounting Data'!J2:J100000,\"66??\")+SUMIFS('Accounting Data'!C2:C100000,'Accounting Data'!E2:E100000,\"699\",'Accounting Data'!H2:H100000,\"8??\",'Accounting Data'!I2:I100000,\"3???\",'Accounting Data'!J2:J100000,\"66??\")+SUMIFS('Accounting Data'!C2:C100000,'Accounting Data'!E2:E100000,\"720\",'Accounting Data'!H2:H100000,\"8??\",'Accounting Data'!I2:I100000,\"3???\",'Accounting Data'!J2:J100000,\"66??\")+SUMIFS('Accounting Data'!C2:C100000,'Accounting Data'!E2:E100000,\"COVID\",'Accounting Data'!H2:H100000,\"8??\",'Accounting Data'!I2:I100000,\"3???\",'Accounting Data'!J2:J100000,\"66??\")","v":0},{"$f":"SUMIFS('Accounting Data'!C2:C100000,'Accounting Data'!E2:E100000,\"1??\",'Accounting Data'!H2:H100000,\"9??\",'Accounting Data'!I2:I100000,\"3???\",'Accounting Data'!J2:J100000,\"66??\")+SUMIFS('Accounting Data'!C2:C100000,'Accounting Data'!E2:E100000,\"2??\",'Accounting Data'!H2:H100000,\"9??\",'Accounting Data'!I2:I100000,\"3???\",'Accounting Data'!J2:J100000,\"66??\")+SUMIFS('Accounting Data'!C2:C100000,'Accounting Data'!E2:E100000,\"3??\",'Accounting Data'!H2:H100000,\"9??\",'Accounting Data'!I2:I100000,\"3???\",'Accounting Data'!J2:J100000,\"66??\")+SUMIFS('Accounting Data'!C2:C100000,'Accounting Data'!E2:E100000,\"639\",'Accounting Data'!H2:H100000,\"9??\",'Accounting Data'!I2:I100000,\"3???\",'Accounting Data'!J2:J100000,\"66??\")+SUMIFS('Accounting Data'!C2:C100000,'Accounting Data'!E2:E100000,\"699\",'Accounting Data'!H2:H100000,\"9??\",'Accounting Data'!I2:I100000,\"3???\",'Accounting Data'!J2:J100000,\"66??\")+SUMIFS('Accounting Data'!C2:C100000,'Accounting Data'!E2:E100000,\"720\",'Accounting Data'!H2:H100000,\"9??\",'Accounting Data'!I2:I100000,\"3???\",'Accounting Data'!J2:J100000,\"66??\")+SUMIFS('Accounting Data'!C2:C100000,'Accounting Data'!E2:E100000,\"COVID\",'Accounting Data'!H2:H100000,\"9??\",'Accounting Data'!I2:I100000,\"3???\",'Accounting Data'!J2:J100000,\"66??\")","v":0}]
["3. Vocational Ed. and CTED (Programs 270, 300-399, and 540)",null,null,0,0,0,0,"3.","4. Function 3300-Community Service Operations (program 900)",null,{"$f":"(SUMIFS('Accounting Data'!C2:C100000,'Accounting Data'!H2:H100000,\"9??\",'Accounting Data'!J2:J100000,\"67??\",'Accounting Data'!I2:I100000,\"33??\"))","v":0},null,null,"4.",null,null,null,null,null,null,null,null,null,null,null,6700,{"$f":"SUMIFS('Accounting Data'!C2:C100000,'Accounting Data'!E2:E100000,\"1??\",'Accounting Data'!I2:I100000,\"1???\",'Accounting Data'!J2:J100000,\"67??\")+SUMIFS('Accounting Data'!C2:C100000,'Accounting Data'!E2:E100000,\"2??\",'Accounting Data'!I2:I100000,\"1???\",'Accounting Data'!J2:J100000,\"67??\")+SUMIFS('Accounting Data'!C2:C100000,'Accounting Data'!E2:E100000,\"3??\",'Accounting Data'!I2:I100000,\"1???\",'Accounting Data'!J2:J100000,\"67??\")+SUMIFS('Accounting Data'!C2:C100000,'Accounting Data'!E2:E100000,\"639\",'Accounting Data'!I2:I100000,\"1???\",'Accounting Data'!J2:J100000,\"67??\")+SUMIFS('Accounting Data'!C2:C100000,'Accounting Data'!E2:E100000,\"699\",'Accounting Data'!I2:I100000,\"1???\",'Accounting Data'!J2:J100000,\"67??\")+SUMIFS('Accounting Data'!C2:C100000,'Accounting Data'!E2:E100000,\"720\",'Accounting Data'!I2:I100000,\"1???\",'Accounting Data'!J2:J100000,\"67??\")+SUMIFS('Accounting Data'!C2:C100000,'Accounting Data'!E2:E100000,\"COVID\",'Accounting Data'!I2:I100000,\"1???\",'Accounting Data'!J2:J100000,\"67??\")","v":3618},{"$f":"SUMIFS('Accounting Data'!C2:C100000,'Accounting Data'!E2:E100000,\"1??\",'Accounting Data'!I2:I100000,\"2???\",'Accounting Data'!J2:J100000,\"67??\")+SUMIFS('Accounting Data'!C2:C100000,'Accounting Data'!E2:E100000,\"2??\",'Accounting Data'!I2:I100000,\"2???\",'Accounting Data'!J2:J100000,\"67??\")+SUMIFS('Accounting Data'!C2:C100000,'Accounting Data'!E2:E100000,\"3??\",'Accounting Data'!I2:I100000,\"2???\",'Accounting Data'!J2:J100000,\"67??\")+SUMIFS('Accounting Data'!C2:C100000,'Accounting Data'!E2:E100000,\"639\",'Accounting Data'!I2:I100000,\"2???\",'Accounting Data'!J2:J100000,\"67??\")+SUMIFS('Accounting Data'!C2:C100000,'Accounting Data'!E2:E100000,\"699\",'Accounting Data'!I2:I100000,\"2???\",'Accounting Data'!J2:J100000,\"67??\")+SUMIFS('Accounting Data'!C2:C100000,'Accounting Data'!E2:E100000,\"720\",'Accounting Data'!I2:I100000,\"2???\",'Accounting Data'!J2:J100000,\"67??\")+SUMIFS('Accounting Data'!C2:C100000,'Accounting Data'!E2:E100000,\"COVID\",'Accounting Data'!I2:I100000,\"2???\",'Accounting Data'!J2:J100000,\"67??\")","v":8556},{"$f":"SUMIFS('Accounting Data'!C2:C100000,'Accounting Data'!E2:E100000,\"1??\",'Accounting Data'!I2:I100000,\"3???\",'Accounting Data'!J2:J100000,\"67??\")+SUMIFS('Accounting Data'!C2:C100000,'Accounting Data'!E2:E100000,\"2??\",'Accounting Data'!I2:I100000,\"3???\",'Accounting Data'!J2:J100000,\"67??\")+SUMIFS('Accounting Data'!C2:C100000,'Accounting Data'!E2:E100000,\"3??\",'Accounting Data'!I2:I100000,\"3???\",'Accounting Data'!J2:J100000,\"67??\")+SUMIFS('Accounting Data'!C2:C100000,'Accounting Data'!E2:E100000,\"639\",'Accounting Data'!I2:I100000,\"3???\",'Accounting Data'!J2:J100000,\"67??\")+SUMIFS('Accounting Data'!C2:C100000,'Accounting Data'!E2:E100000,\"699\",'Accounting Data'!I2:I100000,\"3???\",'Accounting Data'!J2:J100000,\"67??\")+SUMIFS('Accounting Data'!C2:C100000,'Accounting Data'!E2:E100000,\"720\",'Accounting Data'!I2:I100000,\"3???\",'Accounting Data'!J2:J100000,\"67??\")+SUMIFS('Accounting Data'!C2:C100000,'Accounting Data'!E2:E100000,\"COVID\",'Accounting Data'!I2:I100000,\"3???\",'Accounting Data'!J2:J100000,\"67??\")","v":0},{"$f":"SUMIFS('Accounting Data'!C2:C100000,'Accounting Data'!E2:E100000,\"1??\",'Accounting Data'!H2:H100000,\"7??\",'Accounting Data'!I2:I100000,\"1???\",'Accounting Data'!J2:J100000,\"67??\")+SUMIFS('Accounting Data'!C2:C100000,'Accounting Data'!E2:E100000,\"2??\",'Accounting Data'!H2:H100000,\"7??\",'Accounting Data'!I2:I100000,\"1???\",'Accounting Data'!J2:J100000,\"67??\")+SUMIFS('Accounting Data'!C2:C100000,'Accounting Data'!E2:E100000,\"3??\",'Accounting Data'!H2:H100000,\"7??\",'Accounting Data'!I2:I100000,\"1???\",'Accounting Data'!J2:J100000,\"67??\")+SUMIFS('Accounting Data'!C2:C100000,'Accounting Data'!E2:E100000,\"639\",'Accounting Data'!H2:H100000,\"7??\",'Accounting Data'!I2:I100000,\"1???\",'Accounting Data'!J2:J100000,\"67??\")+SUMIFS('Accounting Data'!C2:C100000,'Accounting Data'!E2:E100000,\"699\",'Accounting Data'!H2:H100000,\"7??\",'Accounting Data'!I2:I100000,\"1???\",'Accounting Data'!J2:J100000,\"67??\")+SUMIFS('Accounting Data'!C2:C100000,'Accounting Data'!E2:E100000,\"720\",'Accounting Data'!H2:H100000,\"7??\",'Accounting Data'!I2:I100000,\"1???\",'Accounting Data'!J2:J100000,\"67??\")+SUMIFS('Accounting Data'!C2:C100000,'Accounting Data'!E2:E100000,\"COVID\",'Accounting Data'!H2:H100000,\"7??\",'Accounting Data'!I2:I100000,\"1???\",'Accounting Data'!J2:J100000,\"67??\")","v":0},{"$f":"SUMIFS('Accounting Data'!C2:C100000,'Accounting Data'!E2:E100000,\"1??\",'Accounting Data'!H2:H100000,\"8??\",'Accounting Data'!I2:I100000,\"1???\",'Accounting Data'!J2:J100000,\"67??\")+SUMIFS('Accounting Data'!C2:C100000,'Accounting Data'!E2:E100000,\"2??\",'Accounting Data'!H2:H100000,\"8??\",'Accounting Data'!I2:I100000,\"1???\",'Accounting Data'!J2:J100000,\"67??\")+SUMIFS('Accounting Data'!C2:C100000,'Accounting Data'!E2:E100000,\"3??\",'Accounting Data'!H2:H100000,\"8??\",'Accounting Data'!I2:I100000,\"1???\",'Accounting Data'!J2:J100000,\"67??\")+SUMIFS('Accounting Data'!C2:C100000,'Accounting Data'!E2:E100000,\"639\",'Accounting Data'!H2:H100000,\"8??\",'Accounting Data'!I2:I100000,\"1???\",'Accounting Data'!J2:J100000,\"67??\")+SUMIFS('Accounting Data'!C2:C100000,'Accounting Data'!E2:E100000,\"699\",'Accounting Data'!H2:H100000,\"8??\",'Accounting Data'!I2:I100000,\"1???\",'Accounting Data'!J2:J100000,\"67??\")+SUMIFS('Accounting Data'!C2:C100000,'Accounting Data'!E2:E100000,\"720\",'Accounting Data'!H2:H100000,\"8??\",'Accounting Data'!I2:I100000,\"1???\",'Accounting Data'!J2:J100000,\"67??\")+SUMIFS('Accounting Data'!C2:C100000,'Accounting Data'!E2:E100000,\"COVID\",'Accounting Data'!H2:H100000,\"8??\",'Accounting Data'!I2:I100000,\"1???\",'Accounting Data'!J2:J100000,\"67??\")","v":0},{"$f":"SUMIFS('Accounting Data'!C2:C100000,'Accounting Data'!E2:E100000,\"1??\",'Accounting Data'!H2:H100000,\"9??\",'Accounting Data'!I2:I100000,\"1???\",'Accounting Data'!J2:J100000,\"67??\")+SUMIFS('Accounting Data'!C2:C100000,'Accounting Data'!E2:E100000,\"2??\",'Accounting Data'!H2:H100000,\"9??\",'Accounting Data'!I2:I100000,\"1???\",'Accounting Data'!J2:J100000,\"67??\")+SUMIFS('Accounting Data'!C2:C100000,'Accounting Data'!E2:E100000,\"3??\",'Accounting Data'!H2:H100000,\"9??\",'Accounting Data'!I2:I100000,\"1???\",'Accounting Data'!J2:J100000,\"67??\")+SUMIFS('Accounting Data'!C2:C100000,'Accounting Data'!E2:E100000,\"639\",'Accounting Data'!H2:H100000,\"9??\",'Accounting Data'!I2:I100000,\"1???\",'Accounting Data'!J2:J100000,\"67??\")+SUMIFS('Accounting Data'!C2:C100000,'Accounting Data'!E2:E100000,\"699\",'Accounting Data'!H2:H100000,\"9??\",'Accounting Data'!I2:I100000,\"1???\",'Accounting Data'!J2:J100000,\"67??\")+SUMIFS('Accounting Data'!C2:C100000,'Accounting Data'!E2:E100000,\"720\",'Accounting Data'!H2:H100000,\"9??\",'Accounting Data'!I2:I100000,\"1???\",'Accounting Data'!J2:J100000,\"67??\")+SUMIFS('Accounting Data'!C2:C100000,'Accounting Data'!E2:E100000,\"COVID\",'Accounting Data'!H2:H100000,\"9??\",'Accounting Data'!I2:I100000,\"1???\",'Accounting Data'!J2:J100000,\"67??\")","v":0},{"$f":"SUMIFS('Accounting Data'!C2:C100000,'Accounting Data'!E2:E100000,\"1??\",'Accounting Data'!H2:H100000,\"7??\",'Accounting Data'!I2:I100000,\"2???\",'Accounting Data'!J2:J100000,\"67??\")+SUMIFS('Accounting Data'!C2:C100000,'Accounting Data'!E2:E100000,\"2??\",'Accounting Data'!H2:H100000,\"7??\",'Accounting Data'!I2:I100000,\"2???\",'Accounting Data'!J2:J100000,\"67??\")+SUMIFS('Accounting Data'!C2:C100000,'Accounting Data'!E2:E100000,\"3??\",'Accounting Data'!H2:H100000,\"7??\",'Accounting Data'!I2:I100000,\"2???\",'Accounting Data'!J2:J100000,\"67??\")+SUMIFS('Accounting Data'!C2:C100000,'Accounting Data'!E2:E100000,\"639\",'Accounting Data'!H2:H100000,\"7??\",'Accounting Data'!I2:I100000,\"2???\",'Accounting Data'!J2:J100000,\"67??\")+SUMIFS('Accounting Data'!C2:C100000,'Accounting Data'!E2:E100000,\"699\",'Accounting Data'!H2:H100000,\"7??\",'Accounting Data'!I2:I100000,\"2???\",'Accounting Data'!J2:J100000,\"67??\")+SUMIFS('Accounting Data'!C2:C100000,'Accounting Data'!E2:E100000,\"720\",'Accounting Data'!H2:H100000,\"7??\",'Accounting Data'!I2:I100000,\"2???\",'Accounting Data'!J2:J100000,\"67??\")+SUMIFS('Accounting Data'!C2:C100000,'Accounting Data'!E2:E100000,\"COVID\",'Accounting Data'!H2:H100000,\"7??\",'Accounting Data'!I2:I100000,\"2???\",'Accounting Data'!J2:J100000,\"67??\")","v":0},{"$f":"SUMIFS('Accounting Data'!C2:C100000,'Accounting Data'!E2:E100000,\"1??\",'Accounting Data'!H2:H100000,\"8??\",'Accounting Data'!I2:I100000,\"2???\",'Accounting Data'!J2:J100000,\"67??\")+SUMIFS('Accounting Data'!C2:C100000,'Accounting Data'!E2:E100000,\"2??\",'Accounting Data'!H2:H100000,\"8??\",'Accounting Data'!I2:I100000,\"2???\",'Accounting Data'!J2:J100000,\"67??\")+SUMIFS('Accounting Data'!C2:C100000,'Accounting Data'!E2:E100000,\"3??\",'Accounting Data'!H2:H100000,\"8??\",'Accounting Data'!I2:I100000,\"2???\",'Accounting Data'!J2:J100000,\"67??\")+SUMIFS('Accounting Data'!C2:C100000,'Accounting Data'!E2:E100000,\"639\",'Accounting Data'!H2:H100000,\"8??\",'Accounting Data'!I2:I100000,\"2???\",'Accounting Data'!J2:J100000,\"67??\")+SUMIFS('Accounting Data'!C2:C100000,'Accounting Data'!E2:E100000,\"699\",'Accounting Data'!H2:H100000,\"8??\",'Accounting Data'!I2:I100000,\"2???\",'Accounting Data'!J2:J100000,\"67??\")+SUMIFS('Accounting Data'!C2:C100000,'Accounting Data'!E2:E100000,\"720\",'Accounting Data'!H2:H100000,\"8??\",'Accounting Data'!I2:I100000,\"2???\",'Accounting Data'!J2:J100000,\"67??\")+SUMIFS('Accounting Data'!C2:C100000,'Accounting Data'!E2:E100000,\"COVID\",'Accounting Data'!H2:H100000,\"8??\",'Accounting Data'!I2:I100000,\"2???\",'Accounting Data'!J2:J100000,\"67??\")","v":0},{"$f":"SUMIFS('Accounting Data'!C2:C100000,'Accounting Data'!E2:E100000,\"1??\",'Accounting Data'!H2:H100000,\"9??\",'Accounting Data'!I2:I100000,\"2???\",'Accounting Data'!J2:J100000,\"67??\")+SUMIFS('Accounting Data'!C2:C100000,'Accounting Data'!E2:E100000,\"2??\",'Accounting Data'!H2:H100000,\"9??\",'Accounting Data'!I2:I100000,\"2???\",'Accounting Data'!J2:J100000,\"67??\")+SUMIFS('Accounting Data'!C2:C100000,'Accounting Data'!E2:E100000,\"3??\",'Accounting Data'!H2:H100000,\"9??\",'Accounting Data'!I2:I100000,\"2???\",'Accounting Data'!J2:J100000,\"67??\")+SUMIFS('Accounting Data'!C2:C100000,'Accounting Data'!E2:E100000,\"639\",'Accounting Data'!H2:H100000,\"9??\",'Accounting Data'!I2:I100000,\"2???\",'Accounting Data'!J2:J100000,\"67??\")+SUMIFS('Accounting Data'!C2:C100000,'Accounting Data'!E2:E100000,\"699\",'Accounting Data'!H2:H100000,\"9??\",'Accounting Data'!I2:I100000,\"2???\",'Accounting Data'!J2:J100000,\"67??\")+SUMIFS('Accounting Data'!C2:C100000,'Accounting Data'!E2:E100000,\"720\",'Accounting Data'!H2:H100000,\"9??\",'Accounting Data'!I2:I100000,\"2???\",'Accounting Data'!J2:J100000,\"67??\")+SUMIFS('Accounting Data'!C2:C100000,'Accounting Data'!E2:E100000,\"COVID\",'Accounting Data'!H2:H100000,\"9??\",'Accounting Data'!I2:I100000,\"2???\",'Accounting Data'!J2:J100000,\"67??\")","v":0},{"$f":"SUMIFS('Accounting Data'!C2:C100000,'Accounting Data'!E2:E100000,\"1??\",'Accounting Data'!H2:H100000,\"7??\",'Accounting Data'!I2:I100000,\"3???\",'Accounting Data'!J2:J100000,\"67??\")+SUMIFS('Accounting Data'!C2:C100000,'Accounting Data'!E2:E100000,\"2??\",'Accounting Data'!H2:H100000,\"7??\",'Accounting Data'!I2:I100000,\"3???\",'Accounting Data'!J2:J100000,\"67??\")+SUMIFS('Accounting Data'!C2:C100000,'Accounting Data'!E2:E100000,\"3??\",'Accounting Data'!H2:H100000,\"7??\",'Accounting Data'!I2:I100000,\"3???\",'Accounting Data'!J2:J100000,\"67??\")+SUMIFS('Accounting Data'!C2:C100000,'Accounting Data'!E2:E100000,\"639\",'Accounting Data'!H2:H100000,\"7??\",'Accounting Data'!I2:I100000,\"3???\",'Accounting Data'!J2:J100000,\"67??\")+SUMIFS('Accounting Data'!C2:C100000,'Accounting Data'!E2:E100000,\"699\",'Accounting Data'!H2:H100000,\"7??\",'Accounting Data'!I2:I100000,\"3???\",'Accounting Data'!J2:J100000,\"67??\")+SUMIFS('Accounting Data'!C2:C100000,'Accounting Data'!E2:E100000,\"720\",'Accounting Data'!H2:H100000,\"7??\",'Accounting Data'!I2:I100000,\"3???\",'Accounting Data'!J2:J100000,\"67??\")+SUMIFS('Accounting Data'!C2:C100000,'Accounting Data'!E2:E100000,\"COVID\",'Accounting Data'!H2:H100000,\"7??\",'Accounting Data'!I2:I100000,\"3???\",'Accounting Data'!J2:J100000,\"67??\")","v":0},{"$f":"SUMIFS('Accounting Data'!C2:C100000,'Accounting Data'!E2:E100000,\"1??\",'Accounting Data'!H2:H100000,\"8??\",'Accounting Data'!I2:I100000,\"3???\",'Accounting Data'!J2:J100000,\"67??\")+SUMIFS('Accounting Data'!C2:C100000,'Accounting Data'!E2:E100000,\"2??\",'Accounting Data'!H2:H100000,\"8??\",'Accounting Data'!I2:I100000,\"3???\",'Accounting Data'!J2:J100000,\"67??\")+SUMIFS('Accounting Data'!C2:C100000,'Accounting Data'!E2:E100000,\"3??\",'Accounting Data'!H2:H100000,\"8??\",'Accounting Data'!I2:I100000,\"3???\",'Accounting Data'!J2:J100000,\"67??\")+SUMIFS('Accounting Data'!C2:C100000,'Accounting Data'!E2:E100000,\"639\",'Accounting Data'!H2:H100000,\"8??\",'Accounting Data'!I2:I100000,\"3???\",'Accounting Data'!J2:J100000,\"67??\")+SUMIFS('Accounting Data'!C2:C100000,'Accounting Data'!E2:E100000,\"699\",'Accounting Data'!H2:H100000,\"8??\",'Accounting Data'!I2:I100000,\"3???\",'Accounting Data'!J2:J100000,\"67??\")+SUMIFS('Accounting Data'!C2:C100000,'Accounting Data'!E2:E100000,\"720\",'Accounting Data'!H2:H100000,\"8??\",'Accounting Data'!I2:I100000,\"3???\",'Accounting Data'!J2:J100000,\"67??\")+SUMIFS('Accounting Data'!C2:C100000,'Accounting Data'!E2:E100000,\"COVID\",'Accounting Data'!H2:H100000,\"8??\",'Accounting Data'!I2:I100000,\"3???\",'Accounting Data'!J2:J100000,\"67??\")","v":0},{"$f":"SUMIFS('Accounting Data'!C2:C100000,'Accounting Data'!E2:E100000,\"1??\",'Accounting Data'!H2:H100000,\"9??\",'Accounting Data'!I2:I100000,\"3???\",'Accounting Data'!J2:J100000,\"67??\")+SUMIFS('Accounting Data'!C2:C100000,'Accounting Data'!E2:E100000,\"2??\",'Accounting Data'!H2:H100000,\"9??\",'Accounting Data'!I2:I100000,\"3???\",'Accounting Data'!J2:J100000,\"67??\")+SUMIFS('Accounting Data'!C2:C100000,'Accounting Data'!E2:E100000,\"3??\",'Accounting Data'!H2:H100000,\"9??\",'Accounting Data'!I2:I100000,\"3???\",'Accounting Data'!J2:J100000,\"67??\")+SUMIFS('Accounting Data'!C2:C100000,'Accounting Data'!E2:E100000,\"639\",'Accounting Data'!H2:H100000,\"9??\",'Accounting Data'!I2:I100000,\"3???\",'Accounting Data'!J2:J100000,\"67??\")+SUMIFS('Accounting Data'!C2:C100000,'Accounting Data'!E2:E100000,\"699\",'Accounting Data'!H2:H100000,\"9??\",'Accounting Data'!I2:I100000,\"3???\",'Accounting Data'!J2:J100000,\"67??\")+SUMIFS('Accounting Data'!C2:C100000,'Accounting Data'!E2:E100000,\"720\",'Accounting Data'!H2:H100000,\"9??\",'Accounting Data'!I2:I100000,\"3???\",'Accounting Data'!J2:J100000,\"67??\")+SUMIFS('Accounting Data'!C2:C100000,'Accounting Data'!E2:E100000,\"COVID\",'Accounting Data'!H2:H100000,\"9??\",'Accounting Data'!I2:I100000,\"3???\",'Accounting Data'!J2:J100000,\"67??\")","v":0}]
["4. Other (Programs 240, 260, 265, 510, 511, 513, and 530)",null,null,205424,0,0,0,"4.",null,null,null,null,null,null,null,null,null,null,null,null,null,null,null,null,null,6810,{"$f":"SUMIFS('Accounting Data'!C2:C100000,'Accounting Data'!E2:E100000,\"1??\",'Accounting Data'!I2:I100000,\"1???\",'Accounting Data'!J2:J100000,\"681?\")+SUMIFS('Accounting Data'!C2:C100000,'Accounting Data'!E2:E100000,\"2??\",'Accounting Data'!I2:I100000,\"1???\",'Accounting Data'!J2:J100000,\"681?\")+SUMIFS('Accounting Data'!C2:C100000,'Accounting Data'!E2:E100000,\"3??\",'Accounting Data'!I2:I100000,\"1???\",'Accounting Data'!J2:J100000,\"681?\")+SUMIFS('Accounting Data'!C2:C100000,'Accounting Data'!E2:E100000,\"639\",'Accounting Data'!I2:I100000,\"1???\",'Accounting Data'!J2:J100000,\"681?\")+SUMIFS('Accounting Data'!C2:C100000,'Accounting Data'!E2:E100000,\"699\",'Accounting Data'!I2:I100000,\"1???\",'Accounting Data'!J2:J100000,\"681?\")+SUMIFS('Accounting Data'!C2:C100000,'Accounting Data'!E2:E100000,\"720\",'Accounting Data'!I2:I100000,\"1???\",'Accounting Data'!J2:J100000,\"681?\")+SUMIFS('Accounting Data'!C2:C100000,'Accounting Data'!E2:E100000,\"COVID\",'Accounting Data'!I2:I100000,\"1???\",'Accounting Data'!J2:J100000,\"681?\")","v":0},{"$f":"SUMIFS('Accounting Data'!C2:C100000,'Accounting Data'!E2:E100000,\"1??\",'Accounting Data'!I2:I100000,\"2???\",'Accounting Data'!J2:J100000,\"681?\")+SUMIFS('Accounting Data'!C2:C100000,'Accounting Data'!E2:E100000,\"2??\",'Accounting Data'!I2:I100000,\"2???\",'Accounting Data'!J2:J100000,\"681?\")+SUMIFS('Accounting Data'!C2:C100000,'Accounting Data'!E2:E100000,\"3??\",'Accounting Data'!I2:I100000,\"2???\",'Accounting Data'!J2:J100000,\"681?\")+SUMIFS('Accounting Data'!C2:C100000,'Accounting Data'!E2:E100000,\"639\",'Accounting Data'!I2:I100000,\"2???\",'Accounting Data'!J2:J100000,\"681?\")+SUMIFS('Accounting Data'!C2:C100000,'Accounting Data'!E2:E100000,\"699\",'Accounting Data'!I2:I100000,\"2???\",'Accounting Data'!J2:J100000,\"681?\")+SUMIFS('Accounting Data'!C2:C100000,'Accounting Data'!E2:E100000,\"720\",'Accounting Data'!I2:I100000,\"2???\",'Accounting Data'!J2:J100000,\"681?\")+SUMIFS('Accounting Data'!C2:C100000,'Accounting Data'!E2:E100000,\"COVID\",'Accounting Data'!I2:I100000,\"2???\",'Accounting Data'!J2:J100000,\"681?\")","v":95},{"$f":"SUMIFS('Accounting Data'!C2:C100000,'Accounting Data'!E2:E100000,\"1??\",'Accounting Data'!I2:I100000,\"3???\",'Accounting Data'!J2:J100000,\"681?\")+SUMIFS('Accounting Data'!C2:C100000,'Accounting Data'!E2:E100000,\"2??\",'Accounting Data'!I2:I100000,\"3???\",'Accounting Data'!J2:J100000,\"681?\")+SUMIFS('Accounting Data'!C2:C100000,'Accounting Data'!E2:E100000,\"3??\",'Accounting Data'!I2:I100000,\"3???\",'Accounting Data'!J2:J100000,\"681?\")+SUMIFS('Accounting Data'!C2:C100000,'Accounting Data'!E2:E100000,\"639\",'Accounting Data'!I2:I100000,\"3???\",'Accounting Data'!J2:J100000,\"681?\")+SUMIFS('Accounting Data'!C2:C100000,'Accounting Data'!E2:E100000,\"699\",'Accounting Data'!I2:I100000,\"3???\",'Accounting Data'!J2:J100000,\"681?\")+SUMIFS('Accounting Data'!C2:C100000,'Accounting Data'!E2:E100000,\"720\",'Accounting Data'!I2:I100000,\"3???\",'Accounting Data'!J2:J100000,\"681?\")+SUMIFS('Accounting Data'!C2:C100000,'Accounting Data'!E2:E100000,\"COVID\",'Accounting Data'!I2:I100000,\"3???\",'Accounting Data'!J2:J100000,\"681?\")","v":0},{"$f":"SUMIFS('Accounting Data'!C2:C100000,'Accounting Data'!E2:E100000,\"1??\",'Accounting Data'!H2:H100000,\"7??\",'Accounting Data'!I2:I100000,\"1???\",'Accounting Data'!J2:J100000,\"681?\")+SUMIFS('Accounting Data'!C2:C100000,'Accounting Data'!E2:E100000,\"2??\",'Accounting Data'!H2:H100000,\"7??\",'Accounting Data'!I2:I100000,\"1???\",'Accounting Data'!J2:J100000,\"681?\")+SUMIFS('Accounting Data'!C2:C100000,'Accounting Data'!E2:E100000,\"3??\",'Accounting Data'!H2:H100000,\"7??\",'Accounting Data'!I2:I100000,\"1???\",'Accounting Data'!J2:J100000,\"681?\")+SUMIFS('Accounting Data'!C2:C100000,'Accounting Data'!E2:E100000,\"639\",'Accounting Data'!H2:H100000,\"7??\",'Accounting Data'!I2:I100000,\"1???\",'Accounting Data'!J2:J100000,\"681?\")+SUMIFS('Accounting Data'!C2:C100000,'Accounting Data'!E2:E100000,\"699\",'Accounting Data'!H2:H100000,\"7??\",'Accounting Data'!I2:I100000,\"1???\",'Accounting Data'!J2:J100000,\"681?\")+SUMIFS('Accounting Data'!C2:C100000,'Accounting Data'!E2:E100000,\"720\",'Accounting Data'!H2:H100000,\"7??\",'Accounting Data'!I2:I100000,\"1???\",'Accounting Data'!J2:J100000,\"681?\")+SUMIFS('Accounting Data'!C2:C100000,'Accounting Data'!E2:E100000,\"COVID\",'Accounting Data'!H2:H100000,\"7??\",'Accounting Data'!I2:I100000,\"1???\",'Accounting Data'!J2:J100000,\"681?\")","v":0},{"$f":"SUMIFS('Accounting Data'!C2:C100000,'Accounting Data'!E2:E100000,\"1??\",'Accounting Data'!H2:H100000,\"8??\",'Accounting Data'!I2:I100000,\"1???\",'Accounting Data'!J2:J100000,\"681?\")+SUMIFS('Accounting Data'!C2:C100000,'Accounting Data'!E2:E100000,\"2??\",'Accounting Data'!H2:H100000,\"8??\",'Accounting Data'!I2:I100000,\"1???\",'Accounting Data'!J2:J100000,\"681?\")+SUMIFS('Accounting Data'!C2:C100000,'Accounting Data'!E2:E100000,\"3??\",'Accounting Data'!H2:H100000,\"8??\",'Accounting Data'!I2:I100000,\"1???\",'Accounting Data'!J2:J100000,\"681?\")+SUMIFS('Accounting Data'!C2:C100000,'Accounting Data'!E2:E100000,\"639\",'Accounting Data'!H2:H100000,\"8??\",'Accounting Data'!I2:I100000,\"1???\",'Accounting Data'!J2:J100000,\"681?\")+SUMIFS('Accounting Data'!C2:C100000,'Accounting Data'!E2:E100000,\"699\",'Accounting Data'!H2:H100000,\"8??\",'Accounting Data'!I2:I100000,\"1???\",'Accounting Data'!J2:J100000,\"681?\")+SUMIFS('Accounting Data'!C2:C100000,'Accounting Data'!E2:E100000,\"720\",'Accounting Data'!H2:H100000,\"8??\",'Accounting Data'!I2:I100000,\"1???\",'Accounting Data'!J2:J100000,\"681?\")+SUMIFS('Accounting Data'!C2:C100000,'Accounting Data'!E2:E100000,\"COVID\",'Accounting Data'!H2:H100000,\"8??\",'Accounting Data'!I2:I100000,\"1???\",'Accounting Data'!J2:J100000,\"681?\")","v":0},{"$f":"SUMIFS('Accounting Data'!C2:C100000,'Accounting Data'!E2:E100000,\"1??\",'Accounting Data'!H2:H100000,\"9??\",'Accounting Data'!I2:I100000,\"1???\",'Accounting Data'!J2:J100000,\"681?\")+SUMIFS('Accounting Data'!C2:C100000,'Accounting Data'!E2:E100000,\"2??\",'Accounting Data'!H2:H100000,\"9??\",'Accounting Data'!I2:I100000,\"1???\",'Accounting Data'!J2:J100000,\"681?\")+SUMIFS('Accounting Data'!C2:C100000,'Accounting Data'!E2:E100000,\"3??\",'Accounting Data'!H2:H100000,\"9??\",'Accounting Data'!I2:I100000,\"1???\",'Accounting Data'!J2:J100000,\"681?\")+SUMIFS('Accounting Data'!C2:C100000,'Accounting Data'!E2:E100000,\"639\",'Accounting Data'!H2:H100000,\"9??\",'Accounting Data'!I2:I100000,\"1???\",'Accounting Data'!J2:J100000,\"681?\")+SUMIFS('Accounting Data'!C2:C100000,'Accounting Data'!E2:E100000,\"699\",'Accounting Data'!H2:H100000,\"9??\",'Accounting Data'!I2:I100000,\"1???\",'Accounting Data'!J2:J100000,\"681?\")+SUMIFS('Accounting Data'!C2:C100000,'Accounting Data'!E2:E100000,\"720\",'Accounting Data'!H2:H100000,\"9??\",'Accounting Data'!I2:I100000,\"1???\",'Accounting Data'!J2:J100000,\"681?\")+SUMIFS('Accounting Data'!C2:C100000,'Accounting Data'!E2:E100000,\"COVID\",'Accounting Data'!H2:H100000,\"9??\",'Accounting Data'!I2:I100000,\"1???\",'Accounting Data'!J2:J100000,\"681?\")","v":0},{"$f":"SUMIFS('Accounting Data'!C2:C100000,'Accounting Data'!E2:E100000,\"1??\",'Accounting Data'!H2:H100000,\"7??\",'Accounting Data'!I2:I100000,\"2???\",'Accounting Data'!J2:J100000,\"681?\")+SUMIFS('Accounting Data'!C2:C100000,'Accounting Data'!E2:E100000,\"2??\",'Accounting Data'!H2:H100000,\"7??\",'Accounting Data'!I2:I100000,\"2???\",'Accounting Data'!J2:J100000,\"681?\")+SUMIFS('Accounting Data'!C2:C100000,'Accounting Data'!E2:E100000,\"3??\",'Accounting Data'!H2:H100000,\"7??\",'Accounting Data'!I2:I100000,\"2???\",'Accounting Data'!J2:J100000,\"681?\")+SUMIFS('Accounting Data'!C2:C100000,'Accounting Data'!E2:E100000,\"639\",'Accounting Data'!H2:H100000,\"7??\",'Accounting Data'!I2:I100000,\"2???\",'Accounting Data'!J2:J100000,\"681?\")+SUMIFS('Accounting Data'!C2:C100000,'Accounting Data'!E2:E100000,\"699\",'Accounting Data'!H2:H100000,\"7??\",'Accounting Data'!I2:I100000,\"2???\",'Accounting Data'!J2:J100000,\"681?\")+SUMIFS('Accounting Data'!C2:C100000,'Accounting Data'!E2:E100000,\"720\",'Accounting Data'!H2:H100000,\"7??\",'Accounting Data'!I2:I100000,\"2???\",'Accounting Data'!J2:J100000,\"681?\")+SUMIFS('Accounting Data'!C2:C100000,'Accounting Data'!E2:E100000,\"COVID\",'Accounting Data'!H2:H100000,\"7??\",'Accounting Data'!I2:I100000,\"2???\",'Accounting Data'!J2:J100000,\"681?\")","v":0},{"$f":"SUMIFS('Accounting Data'!C2:C100000,'Accounting Data'!E2:E100000,\"1??\",'Accounting Data'!H2:H100000,\"8??\",'Accounting Data'!I2:I100000,\"2???\",'Accounting Data'!J2:J100000,\"681?\")+SUMIFS('Accounting Data'!C2:C100000,'Accounting Data'!E2:E100000,\"2??\",'Accounting Data'!H2:H100000,\"8??\",'Accounting Data'!I2:I100000,\"2???\",'Accounting Data'!J2:J100000,\"681?\")+SUMIFS('Accounting Data'!C2:C100000,'Accounting Data'!E2:E100000,\"3??\",'Accounting Data'!H2:H100000,\"8??\",'Accounting Data'!I2:I100000,\"2???\",'Accounting Data'!J2:J100000,\"681?\")+SUMIFS('Accounting Data'!C2:C100000,'Accounting Data'!E2:E100000,\"639\",'Accounting Data'!H2:H100000,\"8??\",'Accounting Data'!I2:I100000,\"2???\",'Accounting Data'!J2:J100000,\"681?\")+SUMIFS('Accounting Data'!C2:C100000,'Accounting Data'!E2:E100000,\"699\",'Accounting Data'!H2:H100000,\"8??\",'Accounting Data'!I2:I100000,\"2???\",'Accounting Data'!J2:J100000,\"681?\")+SUMIFS('Accounting Data'!C2:C100000,'Accounting Data'!E2:E100000,\"720\",'Accounting Data'!H2:H100000,\"8??\",'Accounting Data'!I2:I100000,\"2???\",'Accounting Data'!J2:J100000,\"681?\")+SUMIFS('Accounting Data'!C2:C100000,'Accounting Data'!E2:E100000,\"COVID\",'Accounting Data'!H2:H100000,\"8??\",'Accounting Data'!I2:I100000,\"2???\",'Accounting Data'!J2:J100000,\"681?\")","v":0},{"$f":"SUMIFS('Accounting Data'!C2:C100000,'Accounting Data'!E2:E100000,\"1??\",'Accounting Data'!H2:H100000,\"9??\",'Accounting Data'!I2:I100000,\"2???\",'Accounting Data'!J2:J100000,\"681?\")+SUMIFS('Accounting Data'!C2:C100000,'Accounting Data'!E2:E100000,\"2??\",'Accounting Data'!H2:H100000,\"9??\",'Accounting Data'!I2:I100000,\"2???\",'Accounting Data'!J2:J100000,\"681?\")+SUMIFS('Accounting Data'!C2:C100000,'Accounting Data'!E2:E100000,\"3??\",'Accounting Data'!H2:H100000,\"9??\",'Accounting Data'!I2:I100000,\"2???\",'Accounting Data'!J2:J100000,\"681?\")+SUMIFS('Accounting Data'!C2:C100000,'Accounting Data'!E2:E100000,\"639\",'Accounting Data'!H2:H100000,\"9??\",'Accounting Data'!I2:I100000,\"2???\",'Accounting Data'!J2:J100000,\"681?\")+SUMIFS('Accounting Data'!C2:C100000,'Accounting Data'!E2:E100000,\"699\",'Accounting Data'!H2:H100000,\"9??\",'Accounting Data'!I2:I100000,\"2???\",'Accounting Data'!J2:J100000,\"681?\")+SUMIFS('Accounting Data'!C2:C100000,'Accounting Data'!E2:E100000,\"720\",'Accounting Data'!H2:H100000,\"9??\",'Accounting Data'!I2:I100000,\"2???\",'Accounting Data'!J2:J100000,\"681?\")+SUMIFS('Accounting Data'!C2:C100000,'Accounting Data'!E2:E100000,\"COVID\",'Accounting Data'!H2:H100000,\"9??\",'Accounting Data'!I2:I100000,\"2???\",'Accounting Data'!J2:J100000,\"681?\")","v":0},{"$f":"SUMIFS('Accounting Data'!C2:C100000,'Accounting Data'!E2:E100000,\"1??\",'Accounting Data'!H2:H100000,\"7??\",'Accounting Data'!I2:I100000,\"3???\",'Accounting Data'!J2:J100000,\"681?\")+SUMIFS('Accounting Data'!C2:C100000,'Accounting Data'!E2:E100000,\"2??\",'Accounting Data'!H2:H100000,\"7??\",'Accounting Data'!I2:I100000,\"3???\",'Accounting Data'!J2:J100000,\"681?\")+SUMIFS('Accounting Data'!C2:C100000,'Accounting Data'!E2:E100000,\"3??\",'Accounting Data'!H2:H100000,\"7??\",'Accounting Data'!I2:I100000,\"3???\",'Accounting Data'!J2:J100000,\"681?\")+SUMIFS('Accounting Data'!C2:C100000,'Accounting Data'!E2:E100000,\"639\",'Accounting Data'!H2:H100000,\"7??\",'Accounting Data'!I2:I100000,\"3???\",'Accounting Data'!J2:J100000,\"681?\")+SUMIFS('Accounting Data'!C2:C100000,'Accounting Data'!E2:E100000,\"699\",'Accounting Data'!H2:H100000,\"7??\",'Accounting Data'!I2:I100000,\"3???\",'Accounting Data'!J2:J100000,\"681?\")+SUMIFS('Accounting Data'!C2:C100000,'Accounting Data'!E2:E100000,\"720\",'Accounting Data'!H2:H100000,\"7??\",'Accounting Data'!I2:I100000,\"3???\",'Accounting Data'!J2:J100000,\"681?\")+SUMIFS('Accounting Data'!C2:C100000,'Accounting Data'!E2:E100000,\"COVID\",'Accounting Data'!H2:H100000,\"7??\",'Accounting Data'!I2:I100000,\"3???\",'Accounting Data'!J2:J100000,\"681?\")","v":0},{"$f":"SUMIFS('Accounting Data'!C2:C100000,'Accounting Data'!E2:E100000,\"1??\",'Accounting Data'!H2:H100000,\"8??\",'Accounting Data'!I2:I100000,\"3???\",'Accounting Data'!J2:J100000,\"681?\")+SUMIFS('Accounting Data'!C2:C100000,'Accounting Data'!E2:E100000,\"2??\",'Accounting Data'!H2:H100000,\"8??\",'Accounting Data'!I2:I100000,\"3???\",'Accounting Data'!J2:J100000,\"681?\")+SUMIFS('Accounting Data'!C2:C100000,'Accounting Data'!E2:E100000,\"3??\",'Accounting Data'!H2:H100000,\"8??\",'Accounting Data'!I2:I100000,\"3???\",'Accounting Data'!J2:J100000,\"681?\")+SUMIFS('Accounting Data'!C2:C100000,'Accounting Data'!E2:E100000,\"639\",'Accounting Data'!H2:H100000,\"8??\",'Accounting Data'!I2:I100000,\"3???\",'Accounting Data'!J2:J100000,\"681?\")+SUMIFS('Accounting Data'!C2:C100000,'Accounting Data'!E2:E100000,\"699\",'Accounting Data'!H2:H100000,\"8??\",'Accounting Data'!I2:I100000,\"3???\",'Accounting Data'!J2:J100000,\"681?\")+SUMIFS('Accounting Data'!C2:C100000,'Accounting Data'!E2:E100000,\"720\",'Accounting Data'!H2:H100000,\"8??\",'Accounting Data'!I2:I100000,\"3???\",'Accounting Data'!J2:J100000,\"681?\")+SUMIFS('Accounting Data'!C2:C100000,'Accounting Data'!E2:E100000,\"COVID\",'Accounting Data'!H2:H100000,\"8??\",'Accounting Data'!I2:I100000,\"3???\",'Accounting Data'!J2:J100000,\"681?\")","v":0},{"$f":"SUMIFS('Accounting Data'!C2:C100000,'Accounting Data'!E2:E100000,\"1??\",'Accounting Data'!H2:H100000,\"9??\",'Accounting Data'!I2:I100000,\"3???\",'Accounting Data'!J2:J100000,\"681?\")+SUMIFS('Accounting Data'!C2:C100000,'Accounting Data'!E2:E100000,\"2??\",'Accounting Data'!H2:H100000,\"9??\",'Accounting Data'!I2:I100000,\"3???\",'Accounting Data'!J2:J100000,\"681?\")+SUMIFS('Accounting Data'!C2:C100000,'Accounting Data'!E2:E100000,\"3??\",'Accounting Data'!H2:H100000,\"9??\",'Accounting Data'!I2:I100000,\"3???\",'Accounting Data'!J2:J100000,\"681?\")+SUMIFS('Accounting Data'!C2:C100000,'Accounting Data'!E2:E100000,\"639\",'Accounting Data'!H2:H100000,\"9??\",'Accounting Data'!I2:I100000,\"3???\",'Accounting Data'!J2:J100000,\"681?\")+SUMIFS('Accounting Data'!C2:C100000,'Accounting Data'!E2:E100000,\"699\",'Accounting Data'!H2:H100000,\"9??\",'Accounting Data'!I2:I100000,\"3???\",'Accounting Data'!J2:J100000,\"681?\")+SUMIFS('Accounting Data'!C2:C100000,'Accounting Data'!E2:E100000,\"720\",'Accounting Data'!H2:H100000,\"9??\",'Accounting Data'!I2:I100000,\"3???\",'Accounting Data'!J2:J100000,\"681?\")+SUMIFS('Accounting Data'!C2:C100000,'Accounting Data'!E2:E100000,\"COVID\",'Accounting Data'!H2:H100000,\"9??\",'Accounting Data'!I2:I100000,\"3???\",'Accounting Data'!J2:J100000,\"681?\")","v":0}]
["5. Cocurricular Activities, Athletics, and Other (Program 600-630) ",null,null,113560,0,0,0,"5.","Property Detail for Function 4000 (Funds 001-799, excluding 575)",null,null,null,null,null,null,null,null,null,null,null,null,null,null,null,null,6890,{"$f":"SUMIFS('Accounting Data'!C2:C100000,'Accounting Data'!E2:E100000,\"1??\",'Accounting Data'!I2:I100000,\"1???\",'Accounting Data'!J2:J100000,\"689?\")+SUMIFS('Accounting Data'!C2:C100000,'Accounting Data'!E2:E100000,\"2??\",'Accounting Data'!I2:I100000,\"1???\",'Accounting Data'!J2:J100000,\"689?\")+SUMIFS('Accounting Data'!C2:C100000,'Accounting Data'!E2:E100000,\"3??\",'Accounting Data'!I2:I100000,\"1???\",'Accounting Data'!J2:J100000,\"689?\")+SUMIFS('Accounting Data'!C2:C100000,'Accounting Data'!E2:E100000,\"639\",'Accounting Data'!I2:I100000,\"1???\",'Accounting Data'!J2:J100000,\"689?\")+SUMIFS('Accounting Data'!C2:C100000,'Accounting Data'!E2:E100000,\"699\",'Accounting Data'!I2:I100000,\"1???\",'Accounting Data'!J2:J100000,\"689?\")+SUMIFS('Accounting Data'!C2:C100000,'Accounting Data'!E2:E100000,\"720\",'Accounting Data'!I2:I100000,\"1???\",'Accounting Data'!J2:J100000,\"689?\")+SUMIFS('Accounting Data'!C2:C100000,'Accounting Data'!E2:E100000,\"COVID\",'Accounting Data'!I2:I100000,\"1???\",'Accounting Data'!J2:J100000,\"689?\")","v":0},{"$f":"SUMIFS('Accounting Data'!C2:C100000,'Accounting Data'!E2:E100000,\"1??\",'Accounting Data'!I2:I100000,\"2???\",'Accounting Data'!J2:J100000,\"689?\")+SUMIFS('Accounting Data'!C2:C100000,'Accounting Data'!E2:E100000,\"2??\",'Accounting Data'!I2:I100000,\"2???\",'Accounting Data'!J2:J100000,\"689?\")+SUMIFS('Accounting Data'!C2:C100000,'Accounting Data'!E2:E100000,\"3??\",'Accounting Data'!I2:I100000,\"2???\",'Accounting Data'!J2:J100000,\"689?\")+SUMIFS('Accounting Data'!C2:C100000,'Accounting Data'!E2:E100000,\"639\",'Accounting Data'!I2:I100000,\"2???\",'Accounting Data'!J2:J100000,\"689?\")+SUMIFS('Accounting Data'!C2:C100000,'Accounting Data'!E2:E100000,\"699\",'Accounting Data'!I2:I100000,\"2???\",'Accounting Data'!J2:J100000,\"689?\")+SUMIFS('Accounting Data'!C2:C100000,'Accounting Data'!E2:E100000,\"720\",'Accounting Data'!I2:I100000,\"2???\",'Accounting Data'!J2:J100000,\"689?\")+SUMIFS('Accounting Data'!C2:C100000,'Accounting Data'!E2:E100000,\"COVID\",'Accounting Data'!I2:I100000,\"2???\",'Accounting Data'!J2:J100000,\"689?\")","v":0},{"$f":"SUMIFS('Accounting Data'!C2:C100000,'Accounting Data'!E2:E100000,\"1??\",'Accounting Data'!I2:I100000,\"3???\",'Accounting Data'!J2:J100000,\"689?\")+SUMIFS('Accounting Data'!C2:C100000,'Accounting Data'!E2:E100000,\"2??\",'Accounting Data'!I2:I100000,\"3???\",'Accounting Data'!J2:J100000,\"689?\")+SUMIFS('Accounting Data'!C2:C100000,'Accounting Data'!E2:E100000,\"3??\",'Accounting Data'!I2:I100000,\"3???\",'Accounting Data'!J2:J100000,\"689?\")+SUMIFS('Accounting Data'!C2:C100000,'Accounting Data'!E2:E100000,\"639\",'Accounting Data'!I2:I100000,\"3???\",'Accounting Data'!J2:J100000,\"689?\")+SUMIFS('Accounting Data'!C2:C100000,'Accounting Data'!E2:E100000,\"699\",'Accounting Data'!I2:I100000,\"3???\",'Accounting Data'!J2:J100000,\"689?\")+SUMIFS('Accounting Data'!C2:C100000,'Accounting Data'!E2:E100000,\"720\",'Accounting Data'!I2:I100000,\"3???\",'Accounting Data'!J2:J100000,\"689?\")+SUMIFS('Accounting Data'!C2:C100000,'Accounting Data'!E2:E100000,\"COVID\",'Accounting Data'!I2:I100000,\"3???\",'Accounting Data'!J2:J100000,\"689?\")","v":0},{"$f":"SUMIFS('Accounting Data'!C2:C100000,'Accounting Data'!E2:E100000,\"1??\",'Accounting Data'!H2:H100000,\"7??\",'Accounting Data'!I2:I100000,\"1???\",'Accounting Data'!J2:J100000,\"689?\")+SUMIFS('Accounting Data'!C2:C100000,'Accounting Data'!E2:E100000,\"2??\",'Accounting Data'!H2:H100000,\"7??\",'Accounting Data'!I2:I100000,\"1???\",'Accounting Data'!J2:J100000,\"689?\")+SUMIFS('Accounting Data'!C2:C100000,'Accounting Data'!E2:E100000,\"3??\",'Accounting Data'!H2:H100000,\"7??\",'Accounting Data'!I2:I100000,\"1???\",'Accounting Data'!J2:J100000,\"689?\")+SUMIFS('Accounting Data'!C2:C100000,'Accounting Data'!E2:E100000,\"639\",'Accounting Data'!H2:H100000,\"7??\",'Accounting Data'!I2:I100000,\"1???\",'Accounting Data'!J2:J100000,\"689?\")+SUMIFS('Accounting Data'!C2:C100000,'Accounting Data'!E2:E100000,\"699\",'Accounting Data'!H2:H100000,\"7??\",'Accounting Data'!I2:I100000,\"1???\",'Accounting Data'!J2:J100000,\"689?\")+SUMIFS('Accounting Data'!C2:C100000,'Accounting Data'!E2:E100000,\"720\",'Accounting Data'!H2:H100000,\"7??\",'Accounting Data'!I2:I100000,\"1???\",'Accounting Data'!J2:J100000,\"689?\")+SUMIFS('Accounting Data'!C2:C100000,'Accounting Data'!E2:E100000,\"COVID\",'Accounting Data'!H2:H100000,\"7??\",'Accounting Data'!I2:I100000,\"1???\",'Accounting Data'!J2:J100000,\"689?\")","v":0},{"$f":"SUMIFS('Accounting Data'!C2:C100000,'Accounting Data'!E2:E100000,\"1??\",'Accounting Data'!H2:H100000,\"8??\",'Accounting Data'!I2:I100000,\"1???\",'Accounting Data'!J2:J100000,\"689?\")+SUMIFS('Accounting Data'!C2:C100000,'Accounting Data'!E2:E100000,\"2??\",'Accounting Data'!H2:H100000,\"8??\",'Accounting Data'!I2:I100000,\"1???\",'Accounting Data'!J2:J100000,\"689?\")+SUMIFS('Accounting Data'!C2:C100000,'Accounting Data'!E2:E100000,\"3??\",'Accounting Data'!H2:H100000,\"8??\",'Accounting Data'!I2:I100000,\"1???\",'Accounting Data'!J2:J100000,\"689?\")+SUMIFS('Accounting Data'!C2:C100000,'Accounting Data'!E2:E100000,\"639\",'Accounting Data'!H2:H100000,\"8??\",'Accounting Data'!I2:I100000,\"1???\",'Accounting Data'!J2:J100000,\"689?\")+SUMIFS('Accounting Data'!C2:C100000,'Accounting Data'!E2:E100000,\"699\",'Accounting Data'!H2:H100000,\"8??\",'Accounting Data'!I2:I100000,\"1???\",'Accounting Data'!J2:J100000,\"689?\")+SUMIFS('Accounting Data'!C2:C100000,'Accounting Data'!E2:E100000,\"720\",'Accounting Data'!H2:H100000,\"8??\",'Accounting Data'!I2:I100000,\"1???\",'Accounting Data'!J2:J100000,\"689?\")+SUMIFS('Accounting Data'!C2:C100000,'Accounting Data'!E2:E100000,\"COVID\",'Accounting Data'!H2:H100000,\"8??\",'Accounting Data'!I2:I100000,\"1???\",'Accounting Data'!J2:J100000,\"689?\")","v":0},{"$f":"SUMIFS('Accounting Data'!C2:C100000,'Accounting Data'!E2:E100000,\"1??\",'Accounting Data'!H2:H100000,\"9??\",'Accounting Data'!I2:I100000,\"1???\",'Accounting Data'!J2:J100000,\"689?\")+SUMIFS('Accounting Data'!C2:C100000,'Accounting Data'!E2:E100000,\"2??\",'Accounting Data'!H2:H100000,\"9??\",'Accounting Data'!I2:I100000,\"1???\",'Accounting Data'!J2:J100000,\"689?\")+SUMIFS('Accounting Data'!C2:C100000,'Accounting Data'!E2:E100000,\"3??\",'Accounting Data'!H2:H100000,\"9??\",'Accounting Data'!I2:I100000,\"1???\",'Accounting Data'!J2:J100000,\"689?\")+SUMIFS('Accounting Data'!C2:C100000,'Accounting Data'!E2:E100000,\"639\",'Accounting Data'!H2:H100000,\"9??\",'Accounting Data'!I2:I100000,\"1???\",'Accounting Data'!J2:J100000,\"689?\")+SUMIFS('Accounting Data'!C2:C100000,'Accounting Data'!E2:E100000,\"699\",'Accounting Data'!H2:H100000,\"9??\",'Accounting Data'!I2:I100000,\"1???\",'Accounting Data'!J2:J100000,\"689?\")+SUMIFS('Accounting Data'!C2:C100000,'Accounting Data'!E2:E100000,\"720\",'Accounting Data'!H2:H100000,\"9??\",'Accounting Data'!I2:I100000,\"1???\",'Accounting Data'!J2:J100000,\"689?\")+SUMIFS('Accounting Data'!C2:C100000,'Accounting Data'!E2:E100000,\"COVID\",'Accounting Data'!H2:H100000,\"9??\",'Accounting Data'!I2:I100000,\"1???\",'Accounting Data'!J2:J100000,\"689?\")","v":0},{"$f":"SUMIFS('Accounting Data'!C2:C100000,'Accounting Data'!E2:E100000,\"1??\",'Accounting Data'!H2:H100000,\"7??\",'Accounting Data'!I2:I100000,\"2???\",'Accounting Data'!J2:J100000,\"689?\")+SUMIFS('Accounting Data'!C2:C100000,'Accounting Data'!E2:E100000,\"2??\",'Accounting Data'!H2:H100000,\"7??\",'Accounting Data'!I2:I100000,\"2???\",'Accounting Data'!J2:J100000,\"689?\")+SUMIFS('Accounting Data'!C2:C100000,'Accounting Data'!E2:E100000,\"3??\",'Accounting Data'!H2:H100000,\"7??\",'Accounting Data'!I2:I100000,\"2???\",'Accounting Data'!J2:J100000,\"689?\")+SUMIFS('Accounting Data'!C2:C100000,'Accounting Data'!E2:E100000,\"639\",'Accounting Data'!H2:H100000,\"7??\",'Accounting Data'!I2:I100000,\"2???\",'Accounting Data'!J2:J100000,\"689?\")+SUMIFS('Accounting Data'!C2:C100000,'Accounting Data'!E2:E100000,\"699\",'Accounting Data'!H2:H100000,\"7??\",'Accounting Data'!I2:I100000,\"2???\",'Accounting Data'!J2:J100000,\"689?\")+SUMIFS('Accounting Data'!C2:C100000,'Accounting Data'!E2:E100000,\"720\",'Accounting Data'!H2:H100000,\"7??\",'Accounting Data'!I2:I100000,\"2???\",'Accounting Data'!J2:J100000,\"689?\")+SUMIFS('Accounting Data'!C2:C100000,'Accounting Data'!E2:E100000,\"COVID\",'Accounting Data'!H2:H100000,\"7??\",'Accounting Data'!I2:I100000,\"2???\",'Accounting Data'!J2:J100000,\"689?\")","v":0},{"$f":"SUMIFS('Accounting Data'!C2:C100000,'Accounting Data'!E2:E100000,\"1??\",'Accounting Data'!H2:H100000,\"8??\",'Accounting Data'!I2:I100000,\"2???\",'Accounting Data'!J2:J100000,\"689?\")+SUMIFS('Accounting Data'!C2:C100000,'Accounting Data'!E2:E100000,\"2??\",'Accounting Data'!H2:H100000,\"8??\",'Accounting Data'!I2:I100000,\"2???\",'Accounting Data'!J2:J100000,\"689?\")+SUMIFS('Accounting Data'!C2:C100000,'Accounting Data'!E2:E100000,\"3??\",'Accounting Data'!H2:H100000,\"8??\",'Accounting Data'!I2:I100000,\"2???\",'Accounting Data'!J2:J100000,\"689?\")+SUMIFS('Accounting Data'!C2:C100000,'Accounting Data'!E2:E100000,\"639\",'Accounting Data'!H2:H100000,\"8??\",'Accounting Data'!I2:I100000,\"2???\",'Accounting Data'!J2:J100000,\"689?\")+SUMIFS('Accounting Data'!C2:C100000,'Accounting Data'!E2:E100000,\"699\",'Accounting Data'!H2:H100000,\"8??\",'Accounting Data'!I2:I100000,\"2???\",'Accounting Data'!J2:J100000,\"689?\")+SUMIFS('Accounting Data'!C2:C100000,'Accounting Data'!E2:E100000,\"720\",'Accounting Data'!H2:H100000,\"8??\",'Accounting Data'!I2:I100000,\"2???\",'Accounting Data'!J2:J100000,\"689?\")+SUMIFS('Accounting Data'!C2:C100000,'Accounting Data'!E2:E100000,\"COVID\",'Accounting Data'!H2:H100000,\"8??\",'Accounting Data'!I2:I100000,\"2???\",'Accounting Data'!J2:J100000,\"689?\")","v":0},{"$f":"SUMIFS('Accounting Data'!C2:C100000,'Accounting Data'!E2:E100000,\"1??\",'Accounting Data'!H2:H100000,\"9??\",'Accounting Data'!I2:I100000,\"2???\",'Accounting Data'!J2:J100000,\"689?\")+SUMIFS('Accounting Data'!C2:C100000,'Accounting Data'!E2:E100000,\"2??\",'Accounting Data'!H2:H100000,\"9??\",'Accounting Data'!I2:I100000,\"2???\",'Accounting Data'!J2:J100000,\"689?\")+SUMIFS('Accounting Data'!C2:C100000,'Accounting Data'!E2:E100000,\"3??\",'Accounting Data'!H2:H100000,\"9??\",'Accounting Data'!I2:I100000,\"2???\",'Accounting Data'!J2:J100000,\"689?\")+SUMIFS('Accounting Data'!C2:C100000,'Accounting Data'!E2:E100000,\"639\",'Accounting Data'!H2:H100000,\"9??\",'Accounting Data'!I2:I100000,\"2???\",'Accounting Data'!J2:J100000,\"689?\")+SUMIFS('Accounting Data'!C2:C100000,'Accounting Data'!E2:E100000,\"699\",'Accounting Data'!H2:H100000,\"9??\",'Accounting Data'!I2:I100000,\"2???\",'Accounting Data'!J2:J100000,\"689?\")+SUMIFS('Accounting Data'!C2:C100000,'Accounting Data'!E2:E100000,\"720\",'Accounting Data'!H2:H100000,\"9??\",'Accounting Data'!I2:I100000,\"2???\",'Accounting Data'!J2:J100000,\"689?\")+SUMIFS('Accounting Data'!C2:C100000,'Accounting Data'!E2:E100000,\"COVID\",'Accounting Data'!H2:H100000,\"9??\",'Accounting Data'!I2:I100000,\"2???\",'Accounting Data'!J2:J100000,\"689?\")","v":0},{"$f":"SUMIFS('Accounting Data'!C2:C100000,'Accounting Data'!E2:E100000,\"1??\",'Accounting Data'!H2:H100000,\"7??\",'Accounting Data'!I2:I100000,\"3???\",'Accounting Data'!J2:J100000,\"689?\")+SUMIFS('Accounting Data'!C2:C100000,'Accounting Data'!E2:E100000,\"2??\",'Accounting Data'!H2:H100000,\"7??\",'Accounting Data'!I2:I100000,\"3???\",'Accounting Data'!J2:J100000,\"689?\")+SUMIFS('Accounting Data'!C2:C100000,'Accounting Data'!E2:E100000,\"3??\",'Accounting Data'!H2:H100000,\"7??\",'Accounting Data'!I2:I100000,\"3???\",'Accounting Data'!J2:J100000,\"689?\")+SUMIFS('Accounting Data'!C2:C100000,'Accounting Data'!E2:E100000,\"639\",'Accounting Data'!H2:H100000,\"7??\",'Accounting Data'!I2:I100000,\"3???\",'Accounting Data'!J2:J100000,\"689?\")+SUMIFS('Accounting Data'!C2:C100000,'Accounting Data'!E2:E100000,\"699\",'Accounting Data'!H2:H100000,\"7??\",'Accounting Data'!I2:I100000,\"3???\",'Accounting Data'!J2:J100000,\"689?\")+SUMIFS('Accounting Data'!C2:C100000,'Accounting Data'!E2:E100000,\"720\",'Accounting Data'!H2:H100000,\"7??\",'Accounting Data'!I2:I100000,\"3???\",'Accounting Data'!J2:J100000,\"689?\")+SUMIFS('Accounting Data'!C2:C100000,'Accounting Data'!E2:E100000,\"COVID\",'Accounting Data'!H2:H100000,\"7??\",'Accounting Data'!I2:I100000,\"3???\",'Accounting Data'!J2:J100000,\"689?\")","v":0},{"$f":"SUMIFS('Accounting Data'!C2:C100000,'Accounting Data'!E2:E100000,\"1??\",'Accounting Data'!H2:H100000,\"8??\",'Accounting Data'!I2:I100000,\"3???\",'Accounting Data'!J2:J100000,\"689?\")+SUMIFS('Accounting Data'!C2:C100000,'Accounting Data'!E2:E100000,\"2??\",'Accounting Data'!H2:H100000,\"8??\",'Accounting Data'!I2:I100000,\"3???\",'Accounting Data'!J2:J100000,\"689?\")+SUMIFS('Accounting Data'!C2:C100000,'Accounting Data'!E2:E100000,\"3??\",'Accounting Data'!H2:H100000,\"8??\",'Accounting Data'!I2:I100000,\"3???\",'Accounting Data'!J2:J100000,\"689?\")+SUMIFS('Accounting Data'!C2:C100000,'Accounting Data'!E2:E100000,\"639\",'Accounting Data'!H2:H100000,\"8??\",'Accounting Data'!I2:I100000,\"3???\",'Accounting Data'!J2:J100000,\"689?\")+SUMIFS('Accounting Data'!C2:C100000,'Accounting Data'!E2:E100000,\"699\",'Accounting Data'!H2:H100000,\"8??\",'Accounting Data'!I2:I100000,\"3???\",'Accounting Data'!J2:J100000,\"689?\")+SUMIFS('Accounting Data'!C2:C100000,'Accounting Data'!E2:E100000,\"720\",'Accounting Data'!H2:H100000,\"8??\",'Accounting Data'!I2:I100000,\"3???\",'Accounting Data'!J2:J100000,\"689?\")+SUMIFS('Accounting Data'!C2:C100000,'Accounting Data'!E2:E100000,\"COVID\",'Accounting Data'!H2:H100000,\"8??\",'Accounting Data'!I2:I100000,\"3???\",'Accounting Data'!J2:J100000,\"689?\")","v":0},{"$f":"SUMIFS('Accounting Data'!C2:C100000,'Accounting Data'!E2:E100000,\"1??\",'Accounting Data'!H2:H100000,\"9??\",'Accounting Data'!I2:I100000,\"3???\",'Accounting Data'!J2:J100000,\"689?\")+SUMIFS('Accounting Data'!C2:C100000,'Accounting Data'!E2:E100000,\"2??\",'Accounting Data'!H2:H100000,\"9??\",'Accounting Data'!I2:I100000,\"3???\",'Accounting Data'!J2:J100000,\"689?\")+SUMIFS('Accounting Data'!C2:C100000,'Accounting Data'!E2:E100000,\"3??\",'Accounting Data'!H2:H100000,\"9??\",'Accounting Data'!I2:I100000,\"3???\",'Accounting Data'!J2:J100000,\"689?\")+SUMIFS('Accounting Data'!C2:C100000,'Accounting Data'!E2:E100000,\"639\",'Accounting Data'!H2:H100000,\"9??\",'Accounting Data'!I2:I100000,\"3???\",'Accounting Data'!J2:J100000,\"689?\")+SUMIFS('Accounting Data'!C2:C100000,'Accounting Data'!E2:E100000,\"699\",'Accounting Data'!H2:H100000,\"9??\",'Accounting Data'!I2:I100000,\"3???\",'Accounting Data'!J2:J100000,\"689?\")+SUMIFS('Accounting Data'!C2:C100000,'Accounting Data'!E2:E100000,\"720\",'Accounting Data'!H2:H100000,\"9??\",'Accounting Data'!I2:I100000,\"3???\",'Accounting Data'!J2:J100000,\"689?\")+SUMIFS('Accounting Data'!C2:C100000,'Accounting Data'!E2:E100000,\"COVID\",'Accounting Data'!H2:H100000,\"9??\",'Accounting Data'!I2:I100000,\"3???\",'Accounting Data'!J2:J100000,\"689?\")","v":0}]
[null,null,null,null,null,null,null,null,"1. 6710 Land and Improvements",null,null,{"$f":"(SUMIFS('Accounting Data'!C2:C100000,'Accounting Data'!I2:I100000,\"4???\",'Accounting Data'!J2:J100000,\"671?\"))-(SUMIFS('Accounting Data'!C2:C100000,'Accounting Data'!E2:E100000,\"575\",'Accounting Data'!I2:I100000,\"4???\",'Accounting Data'!J2:J100000,\"671?\")+SUMIFS('Accounting Data'!C2:C100000,'Accounting Data'!E2:E100000,\"8??\",'Accounting Data'!I2:I100000,\"4???\",'Accounting Data'!J2:J100000,\"671?\")+SUMIFS('Accounting Data'!C2:C100000,'Accounting Data'!E2:E100000,\"9??\",'Accounting Data'!I2:I100000,\"4???\",'Accounting Data'!J2:J100000,\"671?\"))","v":32400},"1."]
["Other Items (Funds 001-799, excluding 575)",null,null,null,null,null,null,null,"2. 6720 Buildings and Improvements",null,null,{"$f":"(SUMIFS('Accounting Data'!C2:C100000,'Accounting Data'!I2:I100000,\"4???\",'Accounting Data'!J2:J100000,\"672?\"))-(SUMIFS('Accounting Data'!C2:C100000,'Accounting Data'!E2:E100000,\"575\",'Accounting Data'!I2:I100000,\"4???\",'Accounting Data'!J2:J100000,\"672?\")+SUMIFS('Accounting Data'!C2:C100000,'Accounting Data'!E2:E100000,\"8??\",'Accounting Data'!I2:I100000,\"4???\",'Accounting Data'!J2:J100000,\"672?\")+SUMIFS('Accounting Data'!C2:C100000,'Accounting Data'!E2:E100000,\"9??\",'Accounting Data'!I2:I100000,\"4???\",'Accounting Data'!J2:J100000,\"672?\"))","v":0},"2.",null,null,null,null,null,null,null,null,null,null,null,null,null,"Program 700","Program 800","Program 900","Program 700","Program 800","Program 900","Program 700","Program 800","Program 900"]
["6. Textbooks used for Instruction (Function 1000, Object 6640)",null,null,1864663,"6.",null,null,null,"3. 6731-39 Equipment",null,null,{"$f":"(SUMIFS('Accounting Data'!C2:C100000,'Accounting Data'!I2:I100000,\"4???\",'Accounting Data'!J2:J100000,\"673?\"))-(SUMIFS('Accounting Data'!C2:C100000,'Accounting Data'!E2:E100000,\"575\",'Accounting Data'!I2:I100000,\"4???\",'Accounting Data'!J2:J100000,\"673?\")+SUMIFS('Accounting Data'!C2:C100000,'Accounting Data'!E2:E100000,\"8??\",'Accounting Data'!I2:I100000,\"4???\",'Accounting Data'!J2:J100000,\"673?\")+SUMIFS('Accounting Data'!C2:C100000,'Accounting Data'!E2:E100000,\"9??\",'Accounting Data'!I2:I100000,\"4???\",'Accounting Data'!J2:J100000,\"673?\"))","v":59760},"3.",null,null,null,null,null,null,null,null,null,null,null,null,"Object","Function 1000","Function 1000","Function 1000","Function 2000","Function 2000","Function 2000","Function 3000","Function 3000","Function 3000"]
["7. Number of FTE-Certified Teachers",null,null,240,"7.",null,null,null,"4. Total (lines 1-3)",null,null,{"$f":"SUM(L40:L42)","v":92160},"4.",null,null,null,null,null,null,null,null,null,null,null,null,6000,{"$f":"SUMIFS('Accounting Data'!C2:C100000,'Accounting Data'!E2:E100000,\"1??\",'Accounting Data'!H2:H100000,\"7??\",'Accounting Data'!I2:I100000,\"1???\",'Accounting Data'!J2:J100000,\"6???\")+SUMIFS('Accounting Data'!C2:C100000,'Accounting Data'!E2:E100000,\"2??\",'Accounting Data'!H2:H100000,\"7??\",'Accounting Data'!I2:I100000,\"1???\",'Accounting Data'!J2:J100000,\"6???\")+SUMIFS('Accounting Data'!C2:C100000,'Accounting Data'!E2:E100000,\"3??\",'Accounting Data'!H2:H100000,\"7??\",'Accounting Data'!I2:I100000,\"1???\",'Accounting Data'!J2:J100000,\"6???\")+SUMIFS('Accounting Data'!C2:C100000,'Accounting Data'!E2:E100000,\"639\",'Accounting Data'!H2:H100000,\"7??\",'Accounting Data'!I2:I100000,\"1???\",'Accounting Data'!J2:J100000,\"6???\")+SUMIFS('Accounting Data'!C2:C100000,'Accounting Data'!E2:E100000,\"699\",'Accounting Data'!H2:H100000,\"7??\",'Accounting Data'!I2:I100000,\"1???\",'Accounting Data'!J2:J100000,\"6???\")+SUMIFS('Accounting Data'!C2:C100000,'Accounting Data'!E2:E100000,\"720\",'Accounting Data'!H2:H100000,\"7??\",'Accounting Data'!I2:I100000,\"1???\",'Accounting Data'!J2:J100000,\"6???\")+SUMIFS('Accounting Data'!C2:C100000,'Accounting Data'!E2:E100000,\"COVID\",'Accounting Data'!H2:H100000,\"7??\",'Accounting Data'!I2:I100000,\"1???\",'Accounting Data'!J2:J100000,\"6???\")","v":0},{"$f":"SUMIFS('Accounting Data'!C2:C100000,'Accounting Data'!E2:E100000,\"1??\",'Accounting Data'!H2:H100000,\"8??\",'Accounting Data'!I2:I100000,\"1???\",'Accounting Data'!J2:J100000,\"6???\")+SUMIFS('Accounting Data'!C2:C100000,'Accounting Data'!E2:E100000,\"2??\",'Accounting Data'!H2:H100000,\"8??\",'Accounting Data'!I2:I100000,\"1???\",'Accounting Data'!J2:J100000,\"6???\")+SUMIFS('Accounting Data'!C2:C100000,'Accounting Data'!E2:E100000,\"3??\",'Accounting Data'!H2:H100000,\"8??\",'Accounting Data'!I2:I100000,\"1???\",'Accounting Data'!J2:J100000,\"6???\")+SUMIFS('Accounting Data'!C2:C100000,'Accounting Data'!E2:E100000,\"639\",'Accounting Data'!H2:H100000,\"8??\",'Accounting Data'!I2:I100000,\"1???\",'Accounting Data'!J2:J100000,\"6???\")+SUMIFS('Accounting Data'!C2:C100000,'Accounting Data'!E2:E100000,\"699\",'Accounting Data'!H2:H100000,\"8??\",'Accounting Data'!I2:I100000,\"1???\",'Accounting Data'!J2:J100000,\"6???\")+SUMIFS('Accounting Data'!C2:C100000,'Accounting Data'!E2:E100000,\"720\",'Accounting Data'!H2:H100000,\"8??\",'Accounting Data'!I2:I100000,\"1???\",'Accounting Data'!J2:J100000,\"6???\")+SUMIFS('Accounting Data'!C2:C100000,'Accounting Data'!E2:E100000,\"COVID\",'Accounting Data'!H2:H100000,\"8??\",'Accounting Data'!I2:I100000,\"1???\",'Accounting Data'!J2:J100000,\"6???\")","v":0},{"$f":"SUMIFS('Accounting Data'!C2:C100000,'Accounting Data'!E2:E100000,\"1??\",'Accounting Data'!H2:H100000,\"9??\",'Accounting Data'!I2:I100000,\"1???\",'Accounting Data'!J2:J100000,\"6???\")+SUMIFS('Accounting Data'!C2:C100000,'Accounting Data'!E2:E100000,\"2??\",'Accounting Data'!H2:H100000,\"9??\",'Accounting Data'!I2:I100000,\"1???\",'Accounting Data'!J2:J100000,\"6???\")+SUMIFS('Accounting Data'!C2:C100000,'Accounting Data'!E2:E100000,\"3??\",'Accounting Data'!H2:H100000,\"9??\",'Accounting Data'!I2:I100000,\"1???\",'Accounting Data'!J2:J100000,\"6???\")+SUMIFS('Accounting Data'!C2:C100000,'Accounting Data'!E2:E100000,\"639\",'Accounting Data'!H2:H100000,\"9??\",'Accounting Data'!I2:I100000,\"1???\",'Accounting Data'!J2:J100000,\"6???\")+SUMIFS('Accounting Data'!C2:C100000,'Accounting Data'!E2:E100000,\"699\",'Accounting Data'!H2:H100000,\"9??\",'Accounting Data'!I2:I100000,\"1???\",'Accounting Data'!J2:J100000,\"6???\")+SUMIFS('Accounting Data'!C2:C100000,'Accounting Data'!E2:E100000,\"720\",'Accounting Data'!H2:H100000,\"9??\",'Accounting Data'!I2:I100000,\"1???\",'Accounting Data'!J2:J100000,\"6???\")+SUMIFS('Accounting Data'!C2:C100000,'Accounting Data'!E2:E100000,\"COVID\",'Accounting Data'!H2:H100000,\"9??\",'Accounting Data'!I2:I100000,\"1???\",'Accounting Data'!J2:J100000,\"6???\")","v":0},{"$f":"SUMIFS('Accounting Data'!C2:C100000,'Accounting Data'!E2:E100000,\"1??\",'Accounting Data'!H2:H100000,\"7??\",'Accounting Data'!I2:I100000,\"2???\",'Accounting Data'!J2:J100000,\"6???\")+SUMIFS('Accounting Data'!C2:C100000,'Accounting Data'!E2:E100000,\"2??\",'Accounting Data'!H2:H100000,\"7??\",'Accounting Data'!I2:I100000,\"2???\",'Accounting Data'!J2:J100000,\"6???\")+SUMIFS('Accounting Data'!C2:C100000,'Accounting Data'!E2:E100000,\"3??\",'Accounting Data'!H2:H100000,\"7??\",'Accounting Data'!I2:I100000,\"2???\",'Accounting Data'!J2:J100000,\"6???\")+SUMIFS('Accounting Data'!C2:C100000,'Accounting Data'!E2:E100000,\"639\",'Accounting Data'!H2:H100000,\"7??\",'Accounting Data'!I2:I100000,\"2???\",'Accounting Data'!J2:J100000,\"6???\")+SUMIFS('Accounting Data'!C2:C100000,'Accounting Data'!E2:E100000,\"699\",'Accounting Data'!H2:H100000,\"7??\",'Accounting Data'!I2:I100000,\"2???\",'Accounting Data'!J2:J100000,\"6???\")+SUMIFS('Accounting Data'!C2:C100000,'Accounting Data'!E2:E100000,\"720\",'Accounting Data'!H2:H100000,\"7??\",'Accounting Data'!I2:I100000,\"2???\",'Accounting Data'!J2:J100000,\"6???\")+SUMIFS('Accounting Data'!C2:C100000,'Accounting Data'!E2:E100000,\"COVID\",'Accounting Data'!H2:H100000,\"7??\",'Accounting Data'!I2:I100000,\"2???\",'Accounting Data'!J2:J100000,\"6???\")","v":0},{"$f":"SUMIFS('Accounting Data'!C2:C100000,'Accounting Data'!E2:E100000,\"1??\",'Accounting Data'!H2:H100000,\"8??\",'Accounting Data'!I2:I100000,\"2???\",'Accounting Data'!J2:J100000,\"6???\")+SUMIFS('Accounting Data'!C2:C100000,'Accounting Data'!E2:E100000,\"2??\",'Accounting Data'!H2:H100000,\"8??\",'Accounting Data'!I2:I100000,\"2???\",'Accounting Data'!J2:J100000,\"6???\")+SUMIFS('Accounting Data'!C2:C100000,'Accounting Data'!E2:E100000,\"3??\",'Accounting Data'!H2:H100000,\"8??\",'Accounting Data'!I2:I100000,\"2???\",'Accounting Data'!J2:J100000,\"6???\")+SUMIFS('Accounting Data'!C2:C100000,'Accounting Data'!E2:E100000,\"639\",'Accounting Data'!H2:H100000,\"8??\",'Accounting Data'!I2:I100000,\"2???\",'Accounting Data'!J2:J100000,\"6???\")+SUMIFS('Accounting Data'!C2:C100000,'Accounting Data'!E2:E100000,\"699\",'Accounting Data'!H2:H100000,\"8??\",'Accounting Data'!I2:I100000,\"2???\",'Accounting Data'!J2:J100000,\"6???\")+SUMIFS('Accounting Data'!C2:C100000,'Accounting Data'!E2:E100000,\"720\",'Accounting Data'!H2:H100000,\"8??\",'Accounting Data'!I2:I100000,\"2???\",'Accounting Data'!J2:J100000,\"6???\")+SUMIFS('Accounting Data'!C2:C100000,'Accounting Data'!E2:E100000,\"COVID\",'Accounting Data'!H2:H100000,\"8??\",'Accounting Data'!I2:I100000,\"2???\",'Accounting Data'!J2:J100000,\"6???\")","v":0},{"$f":"SUMIFS('Accounting Data'!C2:C100000,'Accounting Data'!E2:E100000,\"1??\",'Accounting Data'!H2:H100000,\"9??\",'Accounting Data'!I2:I100000,\"2???\",'Accounting Data'!J2:J100000,\"6???\")+SUMIFS('Accounting Data'!C2:C100000,'Accounting Data'!E2:E100000,\"2??\",'Accounting Data'!H2:H100000,\"9??\",'Accounting Data'!I2:I100000,\"2???\",'Accounting Data'!J2:J100000,\"6???\")+SUMIFS('Accounting Data'!C2:C100000,'Accounting Data'!E2:E100000,\"3??\",'Accounting Data'!H2:H100000,\"9??\",'Accounting Data'!I2:I100000,\"2???\",'Accounting Data'!J2:J100000,\"6???\")+SUMIFS('Accounting Data'!C2:C100000,'Accounting Data'!E2:E100000,\"639\",'Accounting Data'!H2:H100000,\"9??\",'Accounting Data'!I2:I100000,\"2???\",'Accounting Data'!J2:J100000,\"6???\")+SUMIFS('Accounting Data'!C2:C100000,'Accounting Data'!E2:E100000,\"699\",'Accounting Data'!H2:H100000,\"9??\",'Accounting Data'!I2:I100000,\"2???\",'Accounting Data'!J2:J100000,\"6???\")+SUMIFS('Accounting Data'!C2:C100000,'Accounting Data'!E2:E100000,\"720\",'Accounting Data'!H2:H100000,\"9??\",'Accounting Data'!I2:I100000,\"2???\",'Accounting Data'!J2:J100000,\"6???\")+SUMIFS('Accounting Data'!C2:C100000,'Accounting Data'!E2:E100000,\"COVID\",'Accounting Data'!H2:H100000,\"9??\",'Accounting Data'!I2:I100000,\"2???\",'Accounting Data'!J2:J100000,\"6???\")","v":0},{"$f":"SUMIFS('Accounting Data'!C2:C100000,'Accounting Data'!E2:E100000,\"1??\",'Accounting Data'!H2:H100000,\"7??\",'Accounting Data'!I2:I100000,\"3???\",'Accounting Data'!J2:J100000,\"6???\")+SUMIFS('Accounting Data'!C2:C100000,'Accounting Data'!E2:E100000,\"2??\",'Accounting Data'!H2:H100000,\"7??\",'Accounting Data'!I2:I100000,\"3???\",'Accounting Data'!J2:J100000,\"6???\")+SUMIFS('Accounting Data'!C2:C100000,'Accounting Data'!E2:E100000,\"3??\",'Accounting Data'!H2:H100000,\"7??\",'Accounting Data'!I2:I100000,\"3???\",'Accounting Data'!J2:J100000,\"6???\")+SUMIFS('Accounting Data'!C2:C100000,'Accounting Data'!E2:E100000,\"639\",'Accounting Data'!H2:H100000,\"7??\",'Accounting Data'!I2:I100000,\"3???\",'Accounting Data'!J2:J100000,\"6???\")+SUMIFS('Accounting Data'!C2:C100000,'Accounting Data'!E2:E100000,\"699\",'Accounting Data'!H2:H100000,\"7??\",'Accounting Data'!I2:I100000,\"3???\",'Accounting Data'!J2:J100000,\"6???\")+SUMIFS('Accounting Data'!C2:C100000,'Accounting Data'!E2:E100000,\"720\",'Accounting Data'!H2:H100000,\"7??\",'Accounting Data'!I2:I100000,\"3???\",'Accounting Data'!J2:J100000,\"6???\")+SUMIFS('Accounting Data'!C2:C100000,'Accounting Data'!E2:E100000,\"COVID\",'Accounting Data'!H2:H100000,\"7??\",'Accounting Data'!I2:I100000,\"3???\",'Accounting Data'!J2:J100000,\"6???\")","v":0},{"$f":"SUMIFS('Accounting Data'!C2:C100000,'Accounting Data'!E2:E100000,\"1??\",'Accounting Data'!H2:H100000,\"8??\",'Accounting Data'!I2:I100000,\"3???\",'Accounting Data'!J2:J100000,\"6???\")+SUMIFS('Accounting Data'!C2:C100000,'Accounting Data'!E2:E100000,\"2??\",'Accounting Data'!H2:H100000,\"8??\",'Accounting Data'!I2:I100000,\"3???\",'Accounting Data'!J2:J100000,\"6???\")+SUMIFS('Accounting Data'!C2:C100000,'Accounting Data'!E2:E100000,\"3??\",'Accounting Data'!H2:H100000,\"8??\",'Accounting Data'!I2:I100000,\"3???\",'Accounting Data'!J2:J100000,\"6???\")+SUMIFS('Accounting Data'!C2:C100000,'Accounting Data'!E2:E100000,\"639\",'Accounting Data'!H2:H100000,\"8??\",'Accounting Data'!I2:I100000,\"3???\",'Accounting Data'!J2:J100000,\"6???\")+SUMIFS('Accounting Data'!C2:C100000,'Accounting Data'!E2:E100000,\"699\",'Accounting Data'!H2:H100000,\"8??\",'Accounting Data'!I2:I100000,\"3???\",'Accounting Data'!J2:J100000,\"6???\")+SUMIFS('Accounting Data'!C2:C100000,'Accounting Data'!E2:E100000,\"720\",'Accounting Data'!H2:H100000,\"8??\",'Accounting Data'!I2:I100000,\"3???\",'Accounting Data'!J2:J100000,\"6???\")+SUMIFS('Accounting Data'!C2:C100000,'Accounting Data'!E2:E100000,\"COVID\",'Accounting Data'!H2:H100000,\"8??\",'Accounting Data'!I2:I100000,\"3???\",'Accounting Data'!J2:J100000,\"6???\")","v":0},{"$f":"SUMIFS('Accounting Data'!C2:C100000,'Accounting Data'!E2:E100000,\"1??\",'Accounting Data'!H2:H100000,\"9??\",'Accounting Data'!I2:I100000,\"3???\",'Accounting Data'!J2:J100000,\"6???\")+SUMIFS('Accounting Data'!C2:C100000,'Accounting Data'!E2:E100000,\"2??\",'Accounting Data'!H2:H100000,\"9??\",'Accounting Data'!I2:I100000,\"3???\",'Accounting Data'!J2:J100000,\"6???\")+SUMIFS('Accounting Data'!C2:C100000,'Accounting Data'!E2:E100000,\"3??\",'Accounting Data'!H2:H100000,\"9??\",'Accounting Data'!I2:I100000,\"3???\",'Accounting Data'!J2:J100000,\"6???\")+SUMIFS('Accounting Data'!C2:C100000,'Accounting Data'!E2:E100000,\"639\",'Accounting Data'!H2:H100000,\"9??\",'Accounting Data'!I2:I100000,\"3???\",'Accounting Data'!J2:J100000,\"6???\")+SUMIFS('Accounting Data'!C2:C100000,'Accounting Data'!E2:E100000,\"699\",'Accounting Data'!H2:H100000,\"9??\",'Accounting Data'!I2:I100000,\"3???\",'Accounting Data'!J2:J100000,\"6???\")+SUMIFS('Accounting Data'!C2:C100000,'Accounting Data'!E2:E100000,\"720\",'Accounting Data'!H2:H100000,\"9??\",'Accounting Data'!I2:I100000,\"3???\",'Accounting Data'!J2:J100000,\"6???\")+SUMIFS('Accounting Data'!C2:C100000,'Accounting Data'!E2:E100000,\"COVID\",'Accounting Data'!H2:H100000,\"9??\",'Accounting Data'!I2:I100000,\"3???\",'Accounting Data'!J2:J100000,\"6???\")","v":0}]
["8. Number of FTE-Contract Teachers",null,null,3,"8.",null,null,null,"5. 6450 Construction",null,null,{"$f":"(SUMIFS('Accounting Data'!C2:C100000,'Accounting Data'!I2:I100000,\"4???\",'Accounting Data'!J2:J100000,\"645?\"))-(SUMIFS('Accounting Data'!C2:C100000,'Accounting Data'!E2:E100000,\"575\",'Accounting Data'!I2:I100000,\"4???\",'Accounting Data'!J2:J100000,\"645?\")+SUMIFS('Accounting Data'!C2:C100000,'Accounting Data'!E2:E100000,\"8??\",'Accounting Data'!I2:I100000,\"4???\",'Accounting Data'!J2:J100000,\"645?\")+SUMIFS('Accounting Data'!C2:C100000,'Accounting Data'!E2:E100000,\"9??\",'Accounting Data'!I2:I100000,\"4???\",'Accounting Data'!J2:J100000,\"645?\"))","v":2556427},"5.",null,null,null,null,null,null,null,null,null,null,null,null,6900,{"$f":"SUMIFS('Accounting Data'!C2:C100000,'Accounting Data'!E2:E100000,\"1??\",'Accounting Data'!H2:H100000,\"7??\",'Accounting Data'!I2:I100000,\"1???\",'Accounting Data'!J2:J100000,\"69??\")+SUMIFS('Accounting Data'!C2:C100000,'Accounting Data'!E2:E100000,\"2??\",'Accounting Data'!H2:H100000,\"7??\",'Accounting Data'!I2:I100000,\"1???\",'Accounting Data'!J2:J100000,\"69??\")+SUMIFS('Accounting Data'!C2:C100000,'Accounting Data'!E2:E100000,\"3??\",'Accounting Data'!H2:H100000,\"7??\",'Accounting Data'!I2:I100000,\"1???\",'Accounting Data'!J2:J100000,\"69??\")+SUMIFS('Accounting Data'!C2:C100000,'Accounting Data'!E2:E100000,\"639\",'Accounting Data'!H2:H100000,\"7??\",'Accounting Data'!I2:I100000,\"1???\",'Accounting Data'!J2:J100000,\"69??\")+SUMIFS('Accounting Data'!C2:C100000,'Accounting Data'!E2:E100000,\"699\",'Accounting Data'!H2:H100000,\"7??\",'Accounting Data'!I2:I100000,\"1???\",'Accounting Data'!J2:J100000,\"69??\")+SUMIFS('Accounting Data'!C2:C100000,'Accounting Data'!E2:E100000,\"720\",'Accounting Data'!H2:H100000,\"7??\",'Accounting Data'!I2:I100000,\"1???\",'Accounting Data'!J2:J100000,\"69??\")+SUMIFS('Accounting Data'!C2:C100000,'Accounting Data'!E2:E100000,\"COVID\",'Accounting Data'!H2:H100000,\"7??\",'Accounting Data'!I2:I100000,\"1???\",'Accounting Data'!J2:J100000,\"69??\")","v":0},{"$f":"SUMIFS('Accounting Data'!C2:C100000,'Accounting Data'!E2:E100000,\"1??\",'Accounting Data'!H2:H100000,\"8??\",'Accounting Data'!I2:I100000,\"1???\",'Accounting Data'!J2:J100000,\"69??\")+SUMIFS('Accounting Data'!C2:C100000,'Accounting Data'!E2:E100000,\"2??\",'Accounting Data'!H2:H100000,\"8??\",'Accounting Data'!I2:I100000,\"1???\",'Accounting Data'!J2:J100000,\"69??\")+SUMIFS('Accounting Data'!C2:C100000,'Accounting Data'!E2:E100000,\"3??\",'Accounting Data'!H2:H100000,\"8??\",'Accounting Data'!I2:I100000,\"1???\",'Accounting Data'!J2:J100000,\"69??\")+SUMIFS('Accounting Data'!C2:C100000,'Accounting Data'!E2:E100000,\"639\",'Accounting Data'!H2:H100000,\"8??\",'Accounting Data'!I2:I100000,\"1???\",'Accounting Data'!J2:J100000,\"69??\")+SUMIFS('Accounting Data'!C2:C100000,'Accounting Data'!E2:E100000,\"699\",'Accounting Data'!H2:H100000,\"8??\",'Accounting Data'!I2:I100000,\"1???\",'Accounting Data'!J2:J100000,\"69??\")+SUMIFS('Accounting Data'!C2:C100000,'Accounting Data'!E2:E100000,\"720\",'Accounting Data'!H2:H100000,\"8??\",'Accounting Data'!I2:I100000,\"1???\",'Accounting Data'!J2:J100000,\"69??\")+SUMIFS('Accounting Data'!C2:C100000,'Accounting Data'!E2:E100000,\"COVID\",'Accounting Data'!H2:H100000,\"8??\",'Accounting Data'!I2:I100000,\"1???\",'Accounting Data'!J2:J100000,\"69??\")","v":0},{"$f":"SUMIFS('Accounting Data'!C2:C100000,'Accounting Data'!E2:E100000,\"1??\",'Accounting Data'!H2:H100000,\"9??\",'Accounting Data'!I2:I100000,\"1???\",'Accounting Data'!J2:J100000,\"69??\")+SUMIFS('Accounting Data'!C2:C100000,'Accounting Data'!E2:E100000,\"2??\",'Accounting Data'!H2:H100000,\"9??\",'Accounting Data'!I2:I100000,\"1???\",'Accounting Data'!J2:J100000,\"69??\")+SUMIFS('Accounting Data'!C2:C100000,'Accounting Data'!E2:E100000,\"3??\",'Accounting Data'!H2:H100000,\"9??\",'Accounting Data'!I2:I100000,\"1???\",'Accounting Data'!J2:J100000,\"69??\")+SUMIFS('Accounting Data'!C2:C100000,'Accounting Data'!E2:E100000,\"639\",'Accounting Data'!H2:H100000,\"9??\",'Accounting Data'!I2:I100000,\"1???\",'Accounting Data'!J2:J100000,\"69??\")+SUMIFS('Accounting Data'!C2:C100000,'Accounting Data'!E2:E100000,\"699\",'Accounting Data'!H2:H100000,\"9??\",'Accounting Data'!I2:I100000,\"1???\",'Accounting Data'!J2:J100000,\"69??\")+SUMIFS('Accounting Data'!C2:C100000,'Accounting Data'!E2:E100000,\"720\",'Accounting Data'!H2:H100000,\"9??\",'Accounting Data'!I2:I100000,\"1???\",'Accounting Data'!J2:J100000,\"69??\")+SUMIFS('Accounting Data'!C2:C100000,'Accounting Data'!E2:E100000,\"COVID\",'Accounting Data'!H2:H100000,\"9??\",'Accounting Data'!I2:I100000,\"1???\",'Accounting Data'!J2:J100000,\"69??\")","v":0},{"$f":"SUMIFS('Accounting Data'!C2:C100000,'Accounting Data'!E2:E100000,\"1??\",'Accounting Data'!H2:H100000,\"7??\",'Accounting Data'!I2:I100000,\"2???\",'Accounting Data'!J2:J100000,\"69??\")+SUMIFS('Accounting Data'!C2:C100000,'Accounting Data'!E2:E100000,\"2??\",'Accounting Data'!H2:H100000,\"7??\",'Accounting Data'!I2:I100000,\"2???\",'Accounting Data'!J2:J100000,\"69??\")+SUMIFS('Accounting Data'!C2:C100000,'Accounting Data'!E2:E100000,\"3??\",'Accounting Data'!H2:H100000,\"7??\",'Accounting Data'!I2:I100000,\"2???\",'Accounting Data'!J2:J100000,\"69??\")+SUMIFS('Accounting Data'!C2:C100000,'Accounting Data'!E2:E100000,\"639\",'Accounting Data'!H2:H100000,\"7??\",'Accounting Data'!I2:I100000,\"2???\",'Accounting Data'!J2:J100000,\"69??\")+SUMIFS('Accounting Data'!C2:C100000,'Accounting Data'!E2:E100000,\"699\",'Accounting Data'!H2:H100000,\"7??\",'Accounting Data'!I2:I100000,\"2???\",'Accounting Data'!J2:J100000,\"69??\")+SUMIFS('Accounting Data'!C2:C100000,'Accounting Data'!E2:E100000,\"720\",'Accounting Data'!H2:H100000,\"7??\",'Accounting Data'!I2:I100000,\"2???\",'Accounting Data'!J2:J100000,\"69??\")+SUMIFS('Accounting Data'!C2:C100000,'Accounting Data'!E2:E100000,\"COVID\",'Accounting Data'!H2:H100000,\"7??\",'Accounting Data'!I2:I100000,\"2???\",'Accounting Data'!J2:J100000,\"69??\")","v":0},{"$f":"SUMIFS('Accounting Data'!C2:C100000,'Accounting Data'!E2:E100000,\"1??\",'Accounting Data'!H2:H100000,\"8??\",'Accounting Data'!I2:I100000,\"2???\",'Accounting Data'!J2:J100000,\"69??\")+SUMIFS('Accounting Data'!C2:C100000,'Accounting Data'!E2:E100000,\"2??\",'Accounting Data'!H2:H100000,\"8??\",'Accounting Data'!I2:I100000,\"2???\",'Accounting Data'!J2:J100000,\"69??\")+SUMIFS('Accounting Data'!C2:C100000,'Accounting Data'!E2:E100000,\"3??\",'Accounting Data'!H2:H100000,\"8??\",'Accounting Data'!I2:I100000,\"2???\",'Accounting Data'!J2:J100000,\"69??\")+SUMIFS('Accounting Data'!C2:C100000,'Accounting Data'!E2:E100000,\"639\",'Accounting Data'!H2:H100000,\"8??\",'Accounting Data'!I2:I100000,\"2???\",'Accounting Data'!J2:J100000,\"69??\")+SUMIFS('Accounting Data'!C2:C100000,'Accounting Data'!E2:E100000,\"699\",'Accounting Data'!H2:H100000,\"8??\",'Accounting Data'!I2:I100000,\"2???\",'Accounting Data'!J2:J100000,\"69??\")+SUMIFS('Accounting Data'!C2:C100000,'Accounting Data'!E2:E100000,\"720\",'Accounting Data'!H2:H100000,\"8??\",'Accounting Data'!I2:I100000,\"2???\",'Accounting Data'!J2:J100000,\"69??\")+SUMIFS('Accounting Data'!C2:C100000,'Accounting Data'!E2:E100000,\"COVID\",'Accounting Data'!H2:H100000,\"8??\",'Accounting Data'!I2:I100000,\"2???\",'Accounting Data'!J2:J100000,\"69??\")","v":0},{"$f":"SUMIFS('Accounting Data'!C2:C100000,'Accounting Data'!E2:E100000,\"1??\",'Accounting Data'!H2:H100000,\"9??\",'Accounting Data'!I2:I100000,\"2???\",'Accounting Data'!J2:J100000,\"69??\")+SUMIFS('Accounting Data'!C2:C100000,'Accounting Data'!E2:E100000,\"2??\",'Accounting Data'!H2:H100000,\"9??\",'Accounting Data'!I2:I100000,\"2???\",'Accounting Data'!J2:J100000,\"69??\")+SUMIFS('Accounting Data'!C2:C100000,'Accounting Data'!E2:E100000,\"3??\",'Accounting Data'!H2:H100000,\"9??\",'Accounting Data'!I2:I100000,\"2???\",'Accounting Data'!J2:J100000,\"69??\")+SUMIFS('Accounting Data'!C2:C100000,'Accounting Data'!E2:E100000,\"639\",'Accounting Data'!H2:H100000,\"9??\",'Accounting Data'!I2:I100000,\"2???\",'Accounting Data'!J2:J100000,\"69??\")+SUMIFS('Accounting Data'!C2:C100000,'Accounting Data'!E2:E100000,\"699\",'Accounting Data'!H2:H100000,\"9??\",'Accounting Data'!I2:I100000,\"2???\",'Accounting Data'!J2:J100000,\"69??\")+SUMIFS('Accounting Data'!C2:C100000,'Accounting Data'!E2:E100000,\"720\",'Accounting Data'!H2:H100000,\"9??\",'Accounting Data'!I2:I100000,\"2???\",'Accounting Data'!J2:J100000,\"69??\")+SUMIFS('Accounting Data'!C2:C100000,'Accounting Data'!E2:E100000,\"COVID\",'Accounting Data'!H2:H100000,\"9??\",'Accounting Data'!I2:I100000,\"2???\",'Accounting Data'!J2:J100000,\"69??\")","v":0},{"$f":"SUMIFS('Accounting Data'!C2:C100000,'Accounting Data'!E2:E100000,\"1??\",'Accounting Data'!H2:H100000,\"7??\",'Accounting Data'!I2:I100000,\"3???\",'Accounting Data'!J2:J100000,\"69??\")+SUMIFS('Accounting Data'!C2:C100000,'Accounting Data'!E2:E100000,\"2??\",'Accounting Data'!H2:H100000,\"7??\",'Accounting Data'!I2:I100000,\"3???\",'Accounting Data'!J2:J100000,\"69??\")+SUMIFS('Accounting Data'!C2:C100000,'Accounting Data'!E2:E100000,\"3??\",'Accounting Data'!H2:H100000,\"7??\",'Accounting Data'!I2:I100000,\"3???\",'Accounting Data'!J2:J100000,\"69??\")+SUMIFS('Accounting Data'!C2:C100000,'Accounting Data'!E2:E100000,\"639\",'Accounting Data'!H2:H100000,\"7??\",'Accounting Data'!I2:I100000,\"3???\",'Accounting Data'!J2:J100000,\"69??\")+SUMIFS('Accounting Data'!C2:C100000,'Accounting Data'!E2:E100000,\"699\",'Accounting Data'!H2:H100000,\"7??\",'Accounting Data'!I2:I100000,\"3???\",'Accounting Data'!J2:J100000,\"69??\")+SUMIFS('Accounting Data'!C2:C100000,'Accounting Data'!E2:E100000,\"720\",'Accounting Data'!H2:H100000,\"7??\",'Accounting Data'!I2:I100000,\"3???\",'Accounting Data'!J2:J100000,\"69??\")+SUMIFS('Accounting Data'!C2:C100000,'Accounting Data'!E2:E100000,\"COVID\",'Accounting Data'!H2:H100000,\"7??\",'Accounting Data'!I2:I100000,\"3???\",'Accounting Data'!J2:J100000,\"69??\")","v":0},{"$f":"SUMIFS('Accounting Data'!C2:C100000,'Accounting Data'!E2:E100000,\"1??\",'Accounting Data'!H2:H100000,\"8??\",'Accounting Data'!I2:I100000,\"3???\",'Accounting Data'!J2:J100000,\"69??\")+SUMIFS('Accounting Data'!C2:C100000,'Accounting Data'!E2:E100000,\"2??\",'Accounting Data'!H2:H100000,\"8??\",'Accounting Data'!I2:I100000,\"3???\",'Accounting Data'!J2:J100000,\"69??\")+SUMIFS('Accounting Data'!C2:C100000,'Accounting Data'!E2:E100000,\"3??\",'Accounting Data'!H2:H100000,\"8??\",'Accounting Data'!I2:I100000,\"3???\",'Accounting Data'!J2:J100000,\"69??\")+SUMIFS('Accounting Data'!C2:C100000,'Accounting Data'!E2:E100000,\"639\",'Accounting Data'!H2:H100000,\"8??\",'Accounting Data'!I2:I100000,\"3???\",'Accounting Data'!J2:J100000,\"69??\")+SUMIFS('Accounting Data'!C2:C100000,'Accounting Data'!E2:E100000,\"699\",'Accounting Data'!H2:H100000,\"8??\",'Accounting Data'!I2:I100000,\"3???\",'Accounting Data'!J2:J100000,\"69??\")+SUMIFS('Accounting Data'!C2:C100000,'Accounting Data'!E2:E100000,\"720\",'Accounting Data'!H2:H100000,\"8??\",'Accounting Data'!I2:I100000,\"3???\",'Accounting Data'!J2:J100000,\"69??\")+SUMIFS('Accounting Data'!C2:C100000,'Accounting Data'!E2:E100000,\"COVID\",'Accounting Data'!H2:H100000,\"8??\",'Accounting Data'!I2:I100000,\"3???\",'Accounting Data'!J2:J100000,\"69??\")","v":0},{"$f":"SUMIFS('Accounting Data'!C2:C100000,'Accounting Data'!E2:E100000,\"1??\",'Accounting Data'!H2:H100000,\"9??\",'Accounting Data'!I2:I100000,\"3???\",'Accounting Data'!J2:J100000,\"69??\")+SUMIFS('Accounting Data'!C2:C100000,'Accounting Data'!E2:E100000,\"2??\",'Accounting Data'!H2:H100000,\"9??\",'Accounting Data'!I2:I100000,\"3???\",'Accounting Data'!J2:J100000,\"69??\")+SUMIFS('Accounting Data'!C2:C100000,'Accounting Data'!E2:E100000,\"3??\",'Accounting Data'!H2:H100000,\"9??\",'Accounting Data'!I2:I100000,\"3???\",'Accounting Data'!J2:J100000,\"69??\")+SUMIFS('Accounting Data'!C2:C100000,'Accounting Data'!E2:E100000,\"639\",'Accounting Data'!H2:H100000,\"9??\",'Accounting Data'!I2:I100000,\"3???\",'Accounting Data'!J2:J100000,\"69??\")+SUMIFS('Accounting Data'!C2:C100000,'Accounting Data'!E2:E100000,\"699\",'Accounting Data'!H2:H100000,\"9??\",'Accounting Data'!I2:I100000,\"3???\",'Accounting Data'!J2:J100000,\"69??\")+SUMIFS('Accounting Data'!C2:C100000,'Accounting Data'!E2:E100000,\"720\",'Accounting Data'!H2:H100000,\"9??\",'Accounting Data'!I2:I100000,\"3???\",'Accounting Data'!J2:J100000,\"69??\")+SUMIFS('Accounting Data'!C2:C100000,'Accounting Data'!E2:E100000,\"COVID\",'Accounting Data'!H2:H100000,\"9??\",'Accounting Data'!I2:I100000,\"3???\",'Accounting Data'!J2:J100000,\"69??\")","v":0}]
[]
["Utilities and Energy Detail (Funds 001-799 excluding 575, Only Function 2600)",null,null,null,null,null,null,null,"Technology (Funds 001-799 excluding 575, All Functions)",null,null,null,null,null,null,null,null,null,null,null,null,null,null,null,null,"Object 6100"]
["1. 6410-6411 Utility Services",null,null,{"$f":"SUMIFS('Accounting Data'!C2:C100000,'Accounting Data'!I2:I100000,\"26??\",'Accounting Data'!J2:J100000,\"6410\")+SUMIFS('Accounting Data'!C2:C100000,'Accounting Data'!I2:I100000,\"26??\",'Accounting Data'!J2:J100000,\"6411\")-(SUMIFS('Accounting Data'!C2:C100000,'Accounting Data'!E2:E100000,\"575\",'Accounting Data'!I2:I100000,\"26??\",'Accounting Data'!J2:J100000,\"6410\")+SUMIFS('Accounting Data'!C2:C100000,'Accounting Data'!E2:E100000,\"8??\",'Accounting Data'!I2:I100000,\"26??\",'Accounting Data'!J2:J100000,\"6410\")+SUMIFS('Accounting Data'!C2:C100000,'Accounting Data'!E2:E100000,\"9??\",'Accounting Data'!I2:I100000,\"26??\",'Accounting Data'!J2:J100000,\"6410\")+SUMIFS('Accounting Data'!C2:C100000,'Accounting Data'!E2:E100000,\"575\",'Accounting Data'!I2:I100000,\"26??\",'Accounting Data'!J2:J100000,\"6411\")+SUMIFS('Accounting Data'!C2:C100000,'Accounting Data'!E2:E100000,\"8??\",'Accounting Data'!I2:I100000,\"26??\",'Accounting Data'!J2:J100000,\"6411\")+SUMIFS('Accounting Data'!C2:C100000,'Accounting Data'!E2:E100000,\"9??\",'Accounting Data'!I2:I100000,\"26??\",'Accounting Data'!J2:J100000,\"6411\"))","v":333157},"1.",null,null,null,"1. 6340 Technical Services",null,null,null,null,{"$f":"SUMIFS('Accounting Data'!C2:C100000,'Accounting Data'!J2:J100000,\"634?\")-(SUM(SUMIFS('Accounting Data'!C2:C100000,'Accounting Data'!E2:E100000,{\"575\",\"8??\",\"9??\"},'Accounting Data'!J2:J100000,\"634?\")))","v":106458},"1.",null,null,null,null,null,null,null,null,null,null,null,"All Funds ","Excluded Funds\n575, 800-999","Programs 700-900","Programs 700-900 Excluded Funds (to add back to avoid double exclusion)"]
["2. 6620-6629 Energy",null,null,{"$f":"SUMIFS('Accounting Data'!C2:C100000,'Accounting Data'!I2:I100000,\"26??\",'Accounting Data'!J2:J100000,\"662?\")-(SUMIFS('Accounting Data'!C2:C100000,'Accounting Data'!E2:E100000,\"575\",'Accounting Data'!I2:I100000,\"26??\",'Accounting Data'!J2:J100000,\"662?\")+SUMIFS('Accounting Data'!C2:C100000,'Accounting Data'!E2:E100000,\"8??\",'Accounting Data'!I2:I100000,\"26??\",'Accounting Data'!J2:J100000,\"662?\")+SUMIFS('Accounting Data'!C2:C100000,'Accounting Data'!E2:E100000,\"9??\",'Accounting Data'!I2:I100000,\"26??\",'Accounting Data'!J2:J100000,\"662?\"))","v":827550},"2.",null,null,null,"2. 6432 Technology-Related Repairs and Maintenance",null,null,null,null,{"$f":"SUMIFS('Accounting Data'!C2:C100000,'Accounting Data'!J2:J100000,\"6432\")-(SUM(SUMIFS('Accounting Data'!C2:C100000,'Accounting Data'!E2:E100000,{\"575\",\"8??\",\"9??\"},'Accounting Data'!J2:J100000,\"6432\")))","v":13908},"2.",null,null,null,null,null,null,null,null,null,null,"Function",null,null,"All Funds","Fund 575 ","Funds 800-899","Funds 900-999"]
[null,null,null,null,null,null,null,null,"3. 6443 Rental of Computers and Related Equipment",null,null,null,null,{"$f":"SUMIFS('Accounting Data'!C2:C100000,'Accounting Data'!J2:J100000,\"6443\")-(SUM(SUMIFS('Accounting Data'!C2:C100000,'Accounting Data'!E2:E100000,{\"575\",\"8??\",\"9??\"},'Accounting Data'!J2:J100000,\"6443\")))","v":0},"3.",null,null,null,null,null,null,null,null,null,null,1900,{"$f":"ROUND(SUMIFS('Accounting Data'!C2:C100000,'Accounting Data'!I2:I100000,\"19??\",'Accounting Data'!J2:J100000,\"61??\"),0)","v":1038982},{"$f":"ROUND(SUMIFS('Accounting Data'!C2:C100000,'Accounting Data'!E2:E100000,\"575\",'Accounting Data'!I2:I100000,\"19??\",'Accounting Data'!J2:J100000,\"61??\")+SUMIFS('Accounting Data'!C2:C100000,'Accounting Data'!E2:E100000,\"8??\",'Accounting Data'!I2:I100000,\"19??\",'Accounting Data'!J2:J100000,\"61??\")+SUMIFS('Accounting Data'!C2:C100000,'Accounting Data'!E2:E100000,\"9??\",'Accounting Data'!I2:I100000,\"19??\",'Accounting Data'!J2:J100000,\"61??\"),0)","v":0},{"$f":"ROUND(SUMIFS('Accounting Data'!C2:C100000,'Accounting Data'!H2:H100000,\"7??\",'Accounting Data'!I2:I100000,\"19??\",'Accounting Data'!J2:J100000,\"61??\")+SUMIFS('Accounting Data'!C2:C100000,'Accounting Data'!H2:H100000,\"8??\",'Accounting Data'!I2:I100000,\"19??\",'Accounting Data'!J2:J100000,\"61??\")+SUMIFS('Accounting Data'!C2:C100000,'Accounting Data'!H2:H100000,\"9??\",'Accounting Data'!I2:I100000,\"19??\",'Accounting Data'!J2:J100000,\"61??\"),0)","v":0},{"$f":"ROUND(SUMIFS('Accounting Data'!C2:C100000,'Accounting Data'!E2:E100000,\"575\",'Accounting Data'!H2:H100000,\"7??\",'Accounting Data'!I2:I100000,\"19??\",'Accounting Data'!J2:J100000,\"61??\")+SUMIFS('Accounting Data'!C2:C100000,'Accounting Data'!E2:E100000,\"575\",'Accounting Data'!H2:H100000,\"8??\",'Accounting Data'!I2:I100000,\"19??\",'Accounting Data'!J2:J100000,\"61??\")+SUMIFS('Accounting Data'!C2:C100000,'Accounting Data'!E2:E100000,\"575\",'Accounting Data'!H2:H100000,\"9??\",'Accounting Data'!I2:I100000,\"19??\",'Accounting Data'!J2:J100000,\"61??\"),0)","v":0},{"$f":"ROUND(SUMIFS('Accounting Data'!C2:C100000,'Accounting Data'!E2:E100000,\"8??\",'Accounting Data'!H2:H100000,\"7??\",'Accounting Data'!I2:I100000,\"19??\",'Accounting Data'!J2:J100000,\"61??\")+SUMIFS('Accounting Data'!C2:C100000,'Accounting Data'!E2:E100000,\"8??\",'Accounting Data'!H2:H100000,\"8??\",'Accounting Data'!I2:I100000,\"19??\",'Accounting Data'!J2:J100000,\"61??\")+SUMIFS('Accounting Data'!C2:C100000,'Accounting Data'!E2:E100000,\"8??\",'Accounting Data'!H2:H100000,\"9??\",'Accounting Data'!I2:I100000,\"19??\",'Accounting Data'!J2:J100000,\"61??\"),0)","v":0},{"$f":"ROUND(SUMIFS('Accounting Data'!C2:C100000,'Accounting Data'!E2:E100000,\"9??\",'Accounting Data'!H2:H100000,\"7??\",'Accounting Data'!I2:I100000,\"19??\",'Accounting Data'!J2:J100000,\"61??\")+SUMIFS('Accounting Data'!C2:C100000,'Accounting Data'!E2:E100000,\"9??\",'Accounting Data'!H2:H100000,\"8??\",'Accounting Data'!I2:I100000,\"19??\",'Accounting Data'!J2:J100000,\"61??\")+SUMIFS('Accounting Data'!C2:C100000,'Accounting Data'!E2:E100000,\"9??\",'Accounting Data'!H2:H100000,\"9??\",'Accounting Data'!I2:I100000,\"19??\",'Accounting Data'!J2:J100000,\"61??\"),0)","v":0}]
["CTED Districts Only (Funds 001-799 excluding 575, All Functions)",null,null,null,null,null,null,null,"4. 6531 Telecommunications",null,null,null,null,{"$f":"SUMIFS('Accounting Data'!C2:C100000,'Accounting Data'!J2:J100000,\"6531\")-(SUMIFS('Accounting Data'!C2:C100000,'Accounting Data'!E2:E100000,\"575\",'Accounting Data'!J2:J100000,\"6531\")+SUMIFS('Accounting Data'!C2:C100000,'Accounting Data'!E2:E100000,\"8??\",'Accounting Data'!J2:J100000,\"6531\")+SUMIFS('Accounting Data'!C2:C100000,'Accounting Data'!E2:E100000,\"9??\",'Accounting Data'!J2:J100000,\"6531\"))","v":118300},"4."]
["1. 6591 Services Purchased from Other Arizona Districts",null,null,{"$f":"IF(VALUE(LEFT(RIGHT(N1,7),2))=8,SUMIFS('Accounting Data'!C2:C100000,'Accounting Data'!J2:J100000,\"6591\"),0)","v":0},"1.",null,null,null,"5. 6641-43 Software reported in library books, texbooks, or instructional aids",null,null,null,null,2033599,"5.",null,null,null,null,null,null,null,null,null,null,"Federal Funds: 100-399, 639, 600, and 720"]
["2. 6870 Pass-through Payments",null,null,{"$f":"IF(VALUE(LEFT(RIGHT(N1,7),2))=8,SUMIFS('Accounting Data'!C2:C100000,'Accounting Data'!J2:J100000,\"687?\"),0)","v":0},"2.",null,null,null,"6. 6650 and 6655 Supplies–Technology-Related and Short-term noninstructional software subscriptions",null,null,null,null,{"$f":"SUMIFS('Accounting Data'!C2:C100000,'Accounting Data'!J2:J100000,\"665?\")-(SUMIFS('Accounting Data'!C2:C100000,'Accounting Data'!E2:E100000,\"575\",'Accounting Data'!J2:J100000,\"665?\")+SUMIFS('Accounting Data'!C2:C100000,'Accounting Data'!E2:E100000,\"8??\",'Accounting Data'!J2:J100000,\"665?\")+SUMIFS('Accounting Data'!C2:C100000,'Accounting Data'!E2:E100000,\"9??\",'Accounting Data'!J2:J100000,\"665?\"))","v":381727},"6.",null,null,null,null,null,null,null,null,null,null,"Object","All programs, function 2300",null,"Program 700,  function 2300",null,"Program 800,  function 2300",null,"Program 900,  function 2300"]
["3. 6880 Sub-awards",null,null,{"$f":"IF(VALUE(LEFT(RIGHT(N1,7),2))=8,SUMIFS('Accounting Data'!C2:C100000,'Accounting Data'!J2:J100000,\"6880\")+SUMIFS('Accounting Data'!C2:C100000,'Accounting Data'!J2:J100000,\"6881\")+SUMIFS('Accounting Data'!C2:C100000,'Accounting Data'!J2:J100000,\"6882\")+SUMIFS('Accounting Data'!C2:C100000,'Accounting Data'!J2:J100000,\"6883\")+SUMIFS('Accounting Data'!C2:C100000,'Accounting Data'!J2:J100000,\"6884\"),0)","v":0},"3.",null,null,null,"7. 6737-38 Technology-Related Hardware & Software (less than $5,000)",null,null,null,null,{"$f":"(SUMIFS('Accounting Data'!C2:C100000,'Accounting Data'!J2:J100000,\"6737\")+SUMIFS('Accounting Data'!C2:C100000,'Accounting Data'!J2:J100000,\"6738\"))-(SUMIFS('Accounting Data'!C2:C100000,'Accounting Data'!E2:E100000,\"575\",'Accounting Data'!J2:J100000,\"6737\")+SUMIFS('Accounting Data'!C2:C100000,'Accounting Data'!E2:E100000,\"8??\",'Accounting Data'!J2:J100000,\"6737\")+SUMIFS('Accounting Data'!C2:C100000,'Accounting Data'!E2:E100000,\"9??\",'Accounting Data'!J2:J100000,\"6737\")+SUMIFS('Accounting Data'!C2:C100000,'Accounting Data'!E2:E100000,\"575\",'Accounting Data'!J2:J100000,\"6738\")+SUMIFS('Accounting Data'!C2:C100000,'Accounting Data'!E2:E100000,\"8??\",'Accounting Data'!J2:J100000,\"6738\")+SUMIFS('Accounting Data'!C2:C100000,'Accounting Data'!E2:E100000,\"9??\",'Accounting Data'!J2:J100000,\"6738\"))","v":356044},"7.",null,null,null,null,null,null,null,null,null,null,6820,{"$f":"SUMIFS('Accounting Data'!$C$2:$C$100000,'Accounting Data'!$E$2:$E$100000,\"1??\",'Accounting Data'!$I$2:$I$100000,\"23??\",'Accounting Data'!$J$2:$J$100000,\"682?\")+SUMIFS('Accounting Data'!$C$2:$C$100000,'Accounting Data'!$E$2:$E$100000,\"2??\",'Accounting Data'!$I$2:$I$100000,\"23??\",'Accounting Data'!$J$2:$J$100000,\"682?\")+SUMIFS('Accounting Data'!$C$2:$C$100000,'Accounting Data'!$E$2:$E$100000,\"3??\",'Accounting Data'!$I$2:$I$100000,\"23??\",'Accounting Data'!$J$2:$J$100000,\"682?\")+SUMIFS('Accounting Data'!$C$2:$C$100000,'Accounting Data'!$E$2:$E$100000,\"639\",'Accounting Data'!$I$2:$I$100000,\"23??\",'Accounting Data'!$J$2:$J$100000,\"682?\")+SUMIFS('Accounting Data'!$C$2:$C$100000,'Accounting Data'!$E$2:$E$100000,\"699\",'Accounting Data'!$I$2:$I$100000,\"23??\",'Accounting Data'!$J$2:$J$100000,\"682?\")+SUMIFS('Accounting Data'!$C$2:$C$100000,'Accounting Data'!$E$2:$E$100000,\"720\",'Accounting Data'!$I$2:$I$100000,\"23??\",'Accounting Data'!$J$2:$J$100000,\"682?\")+SUMIFS('Accounting Data'!$C$2:$C$100000,'Accounting Data'!$E$2:$E$100000,\"COVID\",'Accounting Data'!$I$2:$I$100000,\"23??\",'Accounting Data'!$J$2:$J$100000,\"682?\")","v":0},null,{"$f":"SUMIFS('Accounting Data'!$C$2:$C$100000,'Accounting Data'!$E$2:$E$100000,\"1??\",'Accounting Data'!$H$2:$H$100000,\"7??\",'Accounting Data'!$I$2:$I$100000,\"23??\",'Accounting Data'!$J$2:$J$100000,\"682?\")+SUMIFS('Accounting Data'!$C$2:$C$100000,'Accounting Data'!$E$2:$E$100000,\"2??\",'Accounting Data'!$H$2:$H$100000,\"7??\",'Accounting Data'!$I$2:$I$100000,\"23??\",'Accounting Data'!$J$2:$J$100000,\"682?\")+SUMIFS('Accounting Data'!$C$2:$C$100000,'Accounting Data'!$E$2:$E$100000,\"3??\",'Accounting Data'!$H$2:$H$100000,\"7??\",'Accounting Data'!$I$2:$I$100000,\"23??\",'Accounting Data'!$J$2:$J$100000,\"682?\")+SUMIFS('Accounting Data'!$C$2:$C$100000,'Accounting Data'!$E$2:$E$100000,\"639\",'Accounting Data'!$H$2:$H$100000,\"7??\",'Accounting Data'!$I$2:$I$100000,\"23??\",'Accounting Data'!$J$2:$J$100000,\"682?\")+SUMIFS('Accounting Data'!$C$2:$C$100000,'Accounting Data'!$E$2:$E$100000,\"699\",'Accounting Data'!$H$2:$H$100000,\"7??\",'Accounting Data'!$I$2:$I$100000,\"23??\",'Accounting Data'!$J$2:$J$100000,\"682?\")+SUMIFS('Accounting Data'!$C$2:$C$100000,'Accounting Data'!$E$2:$E$100000,\"720\",'Accounting Data'!$H$2:$H$100000,\"7??\",'Accounting Data'!$I$2:$I$100000,\"23??\",'Accounting Data'!$J$2:$J$100000,\"682?\")+SUMIFS('Accounting Data'!$C$2:$C$100000,'Accounting Data'!$E$2:$E$100000,\"COVID\",'Accounting Data'!$H$2:$H$100000,\"7??\",'Accounting Data'!$I$2:$I$100000,\"23??\",'Accounting Data'!$J$2:$J$100000,\"682?\")","v":0},null,{"$f":"SUMIFS('Accounting Data'!$C$2:$C$100000,'Accounting Data'!$E$2:$E$100000,\"1??\",'Accounting Data'!$H$2:$H$100000,\"8??\",'Accounting Data'!$I$2:$I$100000,\"23??\",'Accounting Data'!$J$2:$J$100000,\"682?\")+SUMIFS('Accounting Data'!$C$2:$C$100000,'Accounting Data'!$E$2:$E$100000,\"2??\",'Accounting Data'!$H$2:$H$100000,\"8??\",'Accounting Data'!$I$2:$I$100000,\"23??\",'Accounting Data'!$J$2:$J$100000,\"682?\")+SUMIFS('Accounting Data'!$C$2:$C$100000,'Accounting Data'!$E$2:$E$100000,\"3??\",'Accounting Data'!$H$2:$H$100000,\"8??\",'Accounting Data'!$I$2:$I$100000,\"23??\",'Accounting Data'!$J$2:$J$100000,\"682?\")+SUMIFS('Accounting Data'!$C$2:$C$100000,'Accounting Data'!$E$2:$E$100000,\"639\",'Accounting Data'!$H$2:$H$100000,\"8??\",'Accounting Data'!$I$2:$I$100000,\"23??\",'Accounting Data'!$J$2:$J$100000,\"682?\")+SUMIFS('Accounting Data'!$C$2:$C$100000,'Accounting Data'!$E$2:$E$100000,\"699\",'Accounting Data'!$H$2:$H$100000,\"8??\",'Accounting Data'!$I$2:$I$100000,\"23??\",'Accounting Data'!$J$2:$J$100000,\"682?\")+SUMIFS('Accounting Data'!$C$2:$C$100000,'Accounting Data'!$E$2:$E$100000,\"720\",'Accounting Data'!$H$2:$H$100000,\"8??\",'Accounting Data'!$I$2:$I$100000,\"23??\",'Accounting Data'!$J$2:$J$100000,\"682?\")+SUMIFS('Accounting Data'!$C$2:$C$100000,'Accounting Data'!$E$2:$E$100000,\"COVID\",'Accounting Data'!$H$2:$H$100000,\"8??\",'Accounting Data'!$I$2:$I$100000,\"23??\",'Accounting Data'!$J$2:$J$100000,\"682?\")","v":0},null,{"$f":"SUMIFS('Accounting Data'!$C$2:$C$100000,'Accounting Data'!$E$2:$E$100000,\"1??\",'Accounting Data'!$H$2:$H$100000,\"9??\",'Accounting Data'!$I$2:$I$100000,\"23??\",'Accounting Data'!$J$2:$J$100000,\"682?\")+SUMIFS('Accounting Data'!$C$2:$C$100000,'Accounting Data'!$E$2:$E$100000,\"2??\",'Accounting Data'!$H$2:$H$100000,\"9??\",'Accounting Data'!$I$2:$I$100000,\"23??\",'Accounting Data'!$J$2:$J$100000,\"682?\")+SUMIFS('Accounting Data'!$C$2:$C$100000,'Accounting Data'!$E$2:$E$100000,\"3??\",'Accounting Data'!$H$2:$H$100000,\"9??\",'Accounting Data'!$I$2:$I$100000,\"23??\",'Accounting Data'!$J$2:$J$100000,\"682?\")+SUMIFS('Accounting Data'!$C$2:$C$100000,'Accounting Data'!$E$2:$E$100000,\"639\",'Accounting Data'!$H$2:$H$100000,\"9??\",'Accounting Data'!$I$2:$I$100000,\"23??\",'Accounting Data'!$J$2:$J$100000,\"682?\")+SUMIFS('Accounting Data'!$C$2:$C$100000,'Accounting Data'!$E$2:$E$100000,\"699\",'Accounting Data'!$H$2:$H$100000,\"9??\",'Accounting Data'!$I$2:$I$100000,\"23??\",'Accounting Data'!$J$2:$J$100000,\"682?\")+SUMIFS('Accounting Data'!$C$2:$C$100000,'Accounting Data'!$E$2:$E$100000,\"720\",'Accounting Data'!$H$2:$H$100000,\"9??\",'Accounting Data'!$I$2:$I$100000,\"23??\",'Accounting Data'!$J$2:$J$100000,\"682?\")+SUMIFS('Accounting Data'!$C$2:$C$100000,'Accounting Data'!$E$2:$E$100000,\"COVID\",'Accounting Data'!$H$2:$H$100000,\"9??\",'Accounting Data'!$I$2:$I$100000,\"23??\",'Accounting Data'!$J$2:$J$100000,\"682?\")","v":0}]
[null,null,null,null,null,null,null,null,"8. Subtotal (Lines 1-7)",null,null,null,null,{"$f":"SUM(N47:N53)","v":3010036},"8.",null,null,null,null,null,null,null,null,null,null,"Object","All programs, function 2500",null,"Program 700,  function 2500",null,"Program 800,  function 2500",null,"Program 900,  function 2500"]
["Revenue from selected federal sources",null,null,null,null,null,null,null,"9. 6739 Technology-Related Hardware & Software ($5,000 or more)",null,null,null,null,{"$f":"SUMIFS('Accounting Data'!C2:C100000,'Accounting Data'!J2:J100000,\"6739\")-(SUMIFS('Accounting Data'!C2:C100000,'Accounting Data'!E2:E100000,\"575\",'Accounting Data'!J2:J100000,\"6739\")+SUMIFS('Accounting Data'!C2:C100000,'Accounting Data'!E2:E100000,\"8??\",'Accounting Data'!J2:J100000,\"6739\")+SUMIFS('Accounting Data'!C2:C100000,'Accounting Data'!E2:E100000,\"9??\",'Accounting Data'!J2:J100000,\"6739\"))","v":16258},"9.",null,null,null,null,null,null,null,null,null,null,6850,{"$f":"SUMIFS('Accounting Data'!$C$2:$C$100000,'Accounting Data'!$E$2:$E$100000,\"1??\",'Accounting Data'!$I$2:$I$100000,\"25??\",'Accounting Data'!$J$2:$J$100000,\"685?\")+SUMIFS('Accounting Data'!$C$2:$C$100000,'Accounting Data'!$E$2:$E$100000,\"2??\",'Accounting Data'!$I$2:$I$100000,\"25??\",'Accounting Data'!$J$2:$J$100000,\"685?\")+SUMIFS('Accounting Data'!$C$2:$C$100000,'Accounting Data'!$E$2:$E$100000,\"3??\",'Accounting Data'!$I$2:$I$100000,\"25??\",'Accounting Data'!$J$2:$J$100000,\"685?\")+SUMIFS('Accounting Data'!$C$2:$C$100000,'Accounting Data'!$E$2:$E$100000,\"639\",'Accounting Data'!$I$2:$I$100000,\"25??\",'Accounting Data'!$J$2:$J$100000,\"685?\")+SUMIFS('Accounting Data'!$C$2:$C$100000,'Accounting Data'!$E$2:$E$100000,\"699\",'Accounting Data'!$I$2:$I$100000,\"25??\",'Accounting Data'!$J$2:$J$100000,\"685?\")+SUMIFS('Accounting Data'!$C$2:$C$100000,'Accounting Data'!$E$2:$E$100000,\"720\",'Accounting Data'!$I$2:$I$100000,\"25??\",'Accounting Data'!$J$2:$J$100000,\"685?\")+SUMIFS('Accounting Data'!$C$2:$C$100000,'Accounting Data'!$E$2:$E$100000,\"COVID\",'Accounting Data'!$I$2:$I$100000,\"25??\",'Accounting Data'!$J$2:$J$100000,\"685?\")","v":0},null,{"$f":"SUMIFS('Accounting Data'!$C$2:$C$100000,'Accounting Data'!$E$2:$E$100000,\"1??\",'Accounting Data'!$H$2:$H$100000,\"7??\",'Accounting Data'!$I$2:$I$100000,\"25??\",'Accounting Data'!$J$2:$J$100000,\"685?\")+SUMIFS('Accounting Data'!$C$2:$C$100000,'Accounting Data'!$E$2:$E$100000,\"2??\",'Accounting Data'!$H$2:$H$100000,\"7??\",'Accounting Data'!$I$2:$I$100000,\"25??\",'Accounting Data'!$J$2:$J$100000,\"685?\")+SUMIFS('Accounting Data'!$C$2:$C$100000,'Accounting Data'!$E$2:$E$100000,\"3??\",'Accounting Data'!$H$2:$H$100000,\"7??\",'Accounting Data'!$I$2:$I$100000,\"25??\",'Accounting Data'!$J$2:$J$100000,\"685?\")+SUMIFS('Accounting Data'!$C$2:$C$100000,'Accounting Data'!$E$2:$E$100000,\"639\",'Accounting Data'!$H$2:$H$100000,\"7??\",'Accounting Data'!$I$2:$I$100000,\"25??\",'Accounting Data'!$J$2:$J$100000,\"685?\")+SUMIFS('Accounting Data'!$C$2:$C$100000,'Accounting Data'!$E$2:$E$100000,\"699\",'Accounting Data'!$H$2:$H$100000,\"7??\",'Accounting Data'!$I$2:$I$100000,\"25??\",'Accounting Data'!$J$2:$J$100000,\"685?\")+SUMIFS('Accounting Data'!$C$2:$C$100000,'Accounting Data'!$E$2:$E$100000,\"720\",'Accounting Data'!$H$2:$H$100000,\"7??\",'Accounting Data'!$I$2:$I$100000,\"25??\",'Accounting Data'!$J$2:$J$100000,\"685?\")+SUMIFS('Accounting Data'!$C$2:$C$100000,'Accounting Data'!$E$2:$E$100000,\"COVID\",'Accounting Data'!$H$2:$H$100000,\"7??\",'Accounting Data'!$I$2:$I$100000,\"25??\",'Accounting Data'!$J$2:$J$100000,\"685?\")","v":0},null,{"$f":"SUMIFS('Accounting Data'!$C$2:$C$100000,'Accounting Data'!$E$2:$E$100000,\"1??\",'Accounting Data'!$H$2:$H$100000,\"8??\",'Accounting Data'!$I$2:$I$100000,\"25??\",'Accounting Data'!$J$2:$J$100000,\"685?\")+SUMIFS('Accounting Data'!$C$2:$C$100000,'Accounting Data'!$E$2:$E$100000,\"2??\",'Accounting Data'!$H$2:$H$100000,\"8??\",'Accounting Data'!$I$2:$I$100000,\"25??\",'Accounting Data'!$J$2:$J$100000,\"685?\")+SUMIFS('Accounting Data'!$C$2:$C$100000,'Accounting Data'!$E$2:$E$100000,\"3??\",'Accounting Data'!$H$2:$H$100000,\"8??\",'Accounting Data'!$I$2:$I$100000,\"25??\",'Accounting Data'!$J$2:$J$100000,\"685?\")+SUMIFS('Accounting Data'!$C$2:$C$100000,'Accounting Data'!$E$2:$E$100000,\"639\",'Accounting Data'!$H$2:$H$100000,\"8??\",'Accounting Data'!$I$2:$I$100000,\"25??\",'Accounting Data'!$J$2:$J$100000,\"685?\")+SUMIFS('Accounting Data'!$C$2:$C$100000,'Accounting Data'!$E$2:$E$100000,\"699\",'Accounting Data'!$H$2:$H$100000,\"8??\",'Accounting Data'!$I$2:$I$100000,\"25??\",'Accounting Data'!$J$2:$J$100000,\"685?\")+SUMIFS('Accounting Data'!$C$2:$C$100000,'Accounting Data'!$E$2:$E$100000,\"720\",'Accounting Data'!$H$2:$H$100000,\"8??\",'Accounting Data'!$I$2:$I$100000,\"25??\",'Accounting Data'!$J$2:$J$100000,\"685?\")+SUMIFS('Accounting Data'!$C$2:$C$100000,'Accounting Data'!$E$2:$E$100000,\"COVID\",'Accounting Data'!$H$2:$H$100000,\"8??\",'Accounting Data'!$I$2:$I$100000,\"25??\",'Accounting Data'!$J$2:$J$100000,\"685?\")","v":0},null,{"$f":"SUMIFS('Accounting Data'!$C$2:$C$100000,'Accounting Data'!$E$2:$E$100000,\"1??\",'Accounting Data'!$H$2:$H$100000,\"9??\",'Accounting Data'!$I$2:$I$100000,\"25??\",'Accounting Data'!$J$2:$J$100000,\"685?\")+SUMIFS('Accounting Data'!$C$2:$C$100000,'Accounting Data'!$E$2:$E$100000,\"2??\",'Accounting Data'!$H$2:$H$100000,\"9??\",'Accounting Data'!$I$2:$I$100000,\"25??\",'Accounting Data'!$J$2:$J$100000,\"685?\")+SUMIFS('Accounting Data'!$C$2:$C$100000,'Accounting Data'!$E$2:$E$100000,\"3??\",'Accounting Data'!$H$2:$H$100000,\"9??\",'Accounting Data'!$I$2:$I$100000,\"25??\",'Accounting Data'!$J$2:$J$100000,\"685?\")+SUMIFS('Accounting Data'!$C$2:$C$100000,'Accounting Data'!$E$2:$E$100000,\"639\",'Accounting Data'!$H$2:$H$100000,\"9??\",'Accounting Data'!$I$2:$I$100000,\"25??\",'Accounting Data'!$J$2:$J$100000,\"685?\")+SUMIFS('Accounting Data'!$C$2:$C$100000,'Accounting Data'!$E$2:$E$100000,\"699\",'Accounting Data'!$H$2:$H$100000,\"9??\",'Accounting Data'!$I$2:$I$100000,\"25??\",'Accounting Data'!$J$2:$J$100000,\"685?\")+SUMIFS('Accounting Data'!$C$2:$C$100000,'Accounting Data'!$E$2:$E$100000,\"720\",'Accounting Data'!$H$2:$H$100000,\"9??\",'Accounting Data'!$I$2:$I$100000,\"25??\",'Accounting Data'!$J$2:$J$100000,\"685?\")+SUMIFS('Accounting Data'!$C$2:$C$100000,'Accounting Data'!$E$2:$E$100000,\"COVID\",'Accounting Data'!$H$2:$H$100000,\"9??\",'Accounting Data'!$I$2:$I$100000,\"25??\",'Accounting Data'!$J$2:$J$100000,\"685?\")","v":0}]
["1. ESEA Title IV - Student Support and Academic Enrichment Grants",null,null,null,29969,"1. ",null,null,"10. 6832 and 6842 Noninstructional software subscriptions (more than 12 months) Principal and Interest",null,null,null,null,0,"10."]
["2. ESEA Title IV - 21st Century Community Learning Centers",null,null,null,0,"2.",null,null,"11. 6833 and 6843 Instructional software subscriptions (more than 12 months) Principal and Interest",null,null,null,null,{"$f":"SUMIFS('Accounting Data'!C2:C100000,'Accounting Data'!J2:J100000,\"6833\")-(SUM(SUMIFS('Accounting Data'!C2:C100000,'Accounting Data'!E2:E100000,{\"575\",\"8??\",\"9??\"},'Accounting Data'!J2:J100000,\"6833\")))+SUMIFS('Accounting Data'!C2:C100000,'Accounting Data'!J2:J100000,\"6843\")-(SUM(SUMIFS('Accounting Data'!C2:C100000,'Accounting Data'!E2:E100000,{\"575\",\"8??\",\"9??\"},'Accounting Data'!J2:J100000,\"6843\")))","v":4651},"11.",null,null,null,null,null,null,null,null,null,null,null,{"$f":"IF(OR(AA58=\"yes\",AA59=\"yes\",AA60=\"yes\",AA61=\"yes\",AA62=\"yes\",AA63=\"yes\",AA65=\"yes\"),\"yes\",\"\")","v":""}]
["3. ESEA Title V - Rural Education - Rural and Low-Income School Program ",null,null,null,0,"3. ",null,null,null,null,null,null,null,null,null,null,null,null,null,null,null,null,null,null,null,null,{"$f":"IF(OR(D35=\"\",E35=\"\",F35=\"\",G35=\"\"),\"yes\",\"\")","v":""}]
["4. ESEA Title V - Rural Education - Small, Rural School Achievement Program",null,null,null,0,"4. ",null,null,"Support Services-Instruction Detail (Funds 001-799 excluding 575, All Objects)",null,null,null,null,null,null,null,null,null,null,null,null,null,null,null,null,null,{"$f":"IF(OR(D36=\"\",E36=\"\",F36=\"\",G36=\"\"),\"yes\",\"\")","v":""}]
[null,null,null,null,null,null,null,null,"1. 2210 Improvement of Instruction",null,null,null,{"$f":"SUMIFS('Accounting Data'!C2:C100000,'Accounting Data'!I2:I100000,\"221?\")-(SUM(SUMIFS('Accounting Data'!C2:C100000,'Accounting Data'!E2:E100000,{\"575\",\"8??\",\"9??\"},'Accounting Data'!I2:I100000,\"221?\")))","v":2411980},"1.",null,null,null,null,null,null,null,null,null,null,null,null,{"$f":"IF(OR(D37=\"\",E37=\"\",F37=\"\",G37=\"\"),\"yes\",\"\")","v":""}]
[null,null,null,null,null,null,null,null,"2. 2220 Library/Media Services",null,null,null,{"$f":"SUMIFS('Accounting Data'!C2:C100000,'Accounting Data'!I2:I100000,\"222?\")-(SUM(SUMIFS('Accounting Data'!C2:C100000,'Accounting Data'!E2:E100000,{\"575\",\"8??\",\"9??\"},'Accounting Data'!I2:I100000,\"222?\")))","v":195096},"2.",null,null,null,null,null,null,null,null,null,null,null,null,{"$f":"IF(OR(D38=\"\",E38=\"\",F38=\"\",G38=\"\"),\"yes\",\"\")","v":""}]
[null,null,null,null,null,null,null,null,null,null,null,null,null,null,null,null,null,null,null,null,null,null,null,null,null,null,{"$f":"IF(OR(D39=\"\",E39=\"\",F39=\"\",G39=\"\"),\"yes\",\"\")","v":""}]
[null,null,null,null,null,null,null,null,null,null,null,null,null,null,null,null,null,null,null,null,null,null,null,null,null,null,{"$f":"IF(OR(D42=\"\",D43=\"\",D44=\"\",E56=\"\",E57=\"\",E58=\"\",E59=\"\"),\"yes\",\"\")","v":""}]
[]
[null,null,null,null,null,null,null,null,null,null,null,null,null,null,null,null,null,null,null,null,null,null,null,null,null,null,{"$f":"IF(P25=\"\",\"yes\",\"\")","v":""}]

{"sheet":"Page 10","index":10,"n_rows":50,"n_cols":55,"rows_kept":50,"cut":false,"hidden":false,"merged":[[22,6,22,9],[42,0,42,2],[43,0,43,2],[44,0,44,2],[45,0,45,2],[22,0,22,2],[23,6,23,8],[40,0,40,2],[41,0,41,2],[0,7,0,8],[4,0,5,0],[4,2,4,11],[4,13,8,13],[7,0,8,1],[0,1,0,4],[49,5,50,6],[25,16,26,16],[27,16,28,16],[25,6,28,9],[52,1,52,2],[34,0,34,3],[38,3,39,3],[38,4,39,4],[38,5,39,5],[38,6,39,6],[39,0,39,2],[46,0,46,2],[48,8,50,12],[49,0,49,1],[51,1,51,2],[59,1,59,2],[53,1,53,2],[54,1,54,2],[55,1,55,2],[56,1,56,2],[57,1,57,2],[58,1,58,2]]}
["DISTRICT NAME",{"$f":"CoverDistrictName","v":"Liberty Elementary School District No. 25"},null,null,null,null,"COUNTY",{"$f":"Cover!J1","v":"Maricopa"},null,null,"CTDS NUMBER",{"$f":"CoverCTDS","v":"070425000"}]
[]
[null,null,"Additional information for National Public Education Financial Survey (NPEFS) reporting of COVID-19 federal relief funds"]
[]
[null,null,"Programs 100-630",null,null,null,null,null,null,null,null,null,"Programs 700-900","Total"]
[null,null,null,null,"Purchased",null,null,null,"Judgments"]
[null,null,null,"Employee","Services",null,null,null,"Against a","Interest on Short",null,null,"All"]
["Current Expenditures from COVID-19 federal relief funds",null,"Salaries","Benefits","6300, 6400,","Supplies","Property","Dues and Fees","District","Term Debt","Miscellaneous","Other","Object Codes"]
[null,null,6100,6200,6500,6600,6700,6810,6820,6850,6890,6800,"(excluding 6900)"]
["1000 Instruction","1.",{"$f":"SUM(SUMIFS('Accounting Data'!C2:C100000,'Accounting Data'!E2:E100000,\"COVID\",'Accounting Data'!H2:H100000,{\"0??\",\"1??\",\"2??\",\"3??\",\"4??\",\"5??\",\"6??\"},'Accounting Data'!I2:I100000,\"1???\",'Accounting Data'!J2:J100000,\"61??\"))+SUM(SUMIFS('Accounting Data'!C2:C100000,'Accounting Data'!E2:E100000,\"227\",'Accounting Data'!H2:H100000,{\"0??\",\"1??\",\"2??\",\"3??\",\"4??\",\"5??\",\"6??\"},'Accounting Data'!I2:I100000,\"1???\",'Accounting Data'!J2:J100000,\"61??\"))+SUM(SUMIFS('Accounting Data'!C2:C100000,'Accounting Data'!E2:E100000,\"228\",'Accounting Data'!H2:H100000,{\"0??\",\"1??\",\"2??\",\"3??\",\"4??\",\"5??\",\"6??\"},'Accounting Data'!I2:I100000,\"1???\",'Accounting Data'!J2:J100000,\"61??\"))","v":490631},{"$f":"SUM(SUMIFS('Accounting Data'!C2:C100000,'Accounting Data'!E2:E100000,\"COVID\",'Accounting Data'!H2:H100000,{\"0??\",\"1??\",\"2??\",\"3??\",\"4??\",\"5??\",\"6??\"},'Accounting Data'!I2:I100000,\"1???\",'Accounting Data'!J2:J100000,\"62??\"))+SUM(SUMIFS('Accounting Data'!C2:C100000,'Accounting Data'!E2:E100000,\"227\",'Accounting Data'!H2:H100000,{\"0??\",\"1??\",\"2??\",\"3??\",\"4??\",\"5??\",\"6??\"},'Accounting Data'!I2:I100000,\"1???\",'Accounting Data'!J2:J100000,\"62??\"))+SUM(SUMIFS('Accounting Data'!C2:C100000,'Accounting Data'!E2:E100000,\"228\",'Accounting Data'!H2:H100000,{\"0??\",\"1??\",\"2??\",\"3??\",\"4??\",\"5??\",\"6??\"},'Accounting Data'!I2:I100000,\"1???\",'Accounting Data'!J2:J100000,\"62??\"))","v":140881},{"$f":"SUM(SUMIFS('Accounting Data'!C2:C100000,'Accounting Data'!E2:E100000,\"COVID\",'Accounting Data'!H2:H100000,{\"0??\",\"1??\",\"2??\",\"3??\",\"4??\",\"5??\",\"6??\"},'Accounting Data'!I2:I100000,\"1???\",'Accounting Data'!J2:J100000,\"63??\"))+SUM(SUMIFS('Accounting Data'!C2:C100000,'Accounting Data'!E2:E100000,\"COVID\",'Accounting Data'!H2:H100000,{\"0??\",\"1??\",\"2??\",\"3??\",\"4??\",\"5??\",\"6??\"},'Accounting Data'!I2:I100000,\"1???\",'Accounting Data'!J2:J100000,\"64??\"))+SUM(SUMIFS('Accounting Data'!C2:C100000,'Accounting Data'!E2:E100000,\"COVID\",'Accounting Data'!H2:H100000,{\"0??\",\"1??\",\"2??\",\"3??\",\"4??\",\"5??\",\"6??\"},'Accounting Data'!I2:I100000,\"1???\",'Accounting Data'!J2:J100000,\"65??\"))+SUM(SUMIFS('Accounting Data'!C2:C100000,'Accounting Data'!E2:E100000,\"227\",'Accounting Data'!H2:H100000,{\"0??\",\"1??\",\"2??\",\"3??\",\"4??\",\"5??\",\"6??\"},'Accounting Data'!I2:I100000,\"1???\",'Accounting Data'!J2:J100000,\"63??\"))+SUM(SUMIFS('Accounting Data'!C2:C100000,'Accounting Data'!E2:E100000,\"227\",'Accounting Data'!H2:H100000,{\"0??\",\"1??\",\"2??\",\"3??\",\"4??\",\"5??\",\"6??\"},'Accounting Data'!I2:I100000,\"1???\",'Accounting Data'!J2:J100000,\"64??\"))+SUM(SUMIFS('Accounting Data'!C2:C100000,'Accounting Data'!E2:E100000,\"227\",'Accounting Data'!H2:H100000,{\"0??\",\"1??\",\"2??\",\"3??\",\"4??\",\"5??\",\"6??\"},'Accounting Data'!I2:I100000,\"1???\",'Accounting Data'!J2:J100000,\"65??\"))+SUM(SUMIFS('Accounting Data'!C2:C100000,'Accounting Data'!E2:E100000,\"228\",'Accounting Data'!H2:H100000,{\"0??\",\"1??\",\"2??\",\"3??\",\"4??\",\"5??\",\"6??\"},'Accounting Data'!I2:I100000,\"1???\",'Accounting Data'!J2:J100000,\"63??\"))+SUM(SUMIFS('Accounting Data'!C2:C100000,'Accounting Data'!E2:E100000,\"228\",'Accounting Data'!H2:H100000,{\"0??\",\"1??\",\"2??\",\"3??\",\"4??\",\"5??\",\"6??\"},'Accounting Data'!I2:I100000,\"1???\",'Accounting Data'!J2:J100000,\"64??\"))+SUM(SUMIFS('Accounting Data'!C2:C100000,'Accounting Data'!E2:E100000,\"228\",'Accounting Data'!H2:H100000,{\"0??\",\"1??\",\"2??\",\"3??\",\"4??\",\"5??\",\"6??\"},'Accounting Data'!I2:I100000,\"1???\",'Accounting Data'!J2:J100000,\"65??\"))","v":0},{"$f":"SUM(SUMIFS('Accounting Data'!C2:C100000,'Accounting Data'!E2:E100000,\"COVID\",'Accounting Data'!H2:H100000,{\"0??\",\"1??\",\"2??\",\"3??\",\"4??\",\"5??\",\"6??\"},'Accounting Data'!I2:I100000,\"1???\",'Accounting Data'!J2:J100000,\"66??\"))+SUM(SUMIFS('Accounting Data'!C2:C100000,'Accounting Data'!E2:E100000,\"227\",'Accounting Data'!H2:H100000,{\"0??\",\"1??\",\"2??\",\"3??\",\"4??\",\"5??\",\"6??\"},'Accounting Data'!I2:I100000,\"1???\",'Accounting Data'!J2:J100000,\"66??\"))+SUM(SUMIFS('Accounting Data'!C2:C100000,'Accounting Data'!E2:E100000,\"228\",'Accounting Data'!H2:H100000,{\"0??\",\"1??\",\"2??\",\"3??\",\"4??\",\"5??\",\"6??\"},'Accounting Data'!I2:I100000,\"1???\",'Accounting Data'!J2:J100000,\"66??\"))","v":527661},{"$f":"SUM(SUMIFS('Accounting Data'!C2:C100000,'Accounting Data'!E2:E100000,\"COVID\",'Accounting Data'!H2:H100000,{\"0??\",\"1??\",\"2??\",\"3??\",\"4??\",\"5??\",\"6??\"},'Accounting Data'!I2:I100000,\"1???\",'Accounting Data'!J2:J100000,\"67??\"))+SUM(SUMIFS('Accounting Data'!C2:C100000,'Accounting Data'!E2:E100000,\"227\",'Accounting Data'!H2:H100000,{\"0??\",\"1??\",\"2??\",\"3??\",\"4??\",\"5??\",\"6??\"},'Accounting Data'!I2:I100000,\"1???\",'Accounting Data'!J2:J100000,\"67??\"))+SUM(SUMIFS('Accounting Data'!C2:C100000,'Accounting Data'!E2:E100000,\"228\",'Accounting Data'!H2:H100000,{\"0??\",\"1??\",\"2??\",\"3??\",\"4??\",\"5??\",\"6??\"},'Accounting Data'!I2:I100000,\"1???\",'Accounting Data'!J2:J100000,\"67??\"))","v":0},{"$f":"SUM(SUMIFS('Accounting Data'!C2:C100000,'Accounting Data'!E2:E100000,\"COVID\",'Accounting Data'!H2:H100000,{\"0??\",\"1??\",\"2??\",\"3??\",\"4??\",\"5??\",\"6??\"},'Accounting Data'!I2:I100000,\"1???\",'Accounting Data'!J2:J100000,\"681?\"))+SUM(SUMIFS('Accounting Data'!C2:C100000,'Accounting Data'!E2:E100000,\"227\",'Accounting Data'!H2:H100000,{\"0??\",\"1??\",\"2??\",\"3??\",\"4??\",\"5??\",\"6??\"},'Accounting Data'!I2:I100000,\"1???\",'Accounting Data'!J2:J100000,\"681?\"))+SUM(SUMIFS('Accounting Data'!C2:C100000,'Accounting Data'!E2:E100000,\"228\",'Accounting Data'!H2:H100000,{\"0??\",\"1??\",\"2??\",\"3??\",\"4??\",\"5??\",\"6??\"},'Accounting Data'!I2:I100000,\"1???\",'Accounting Data'!J2:J100000,\"681?\"))","v":0},null,null,{"$f":"SUM(SUMIFS('Accounting Data'!C2:C100000,'Accounting Data'!E2:E100000,\"COVID\",'Accounting Data'!H2:H100000,{\"0??\",\"1??\",\"2??\",\"3??\",\"4??\",\"5??\",\"6??\"},'Accounting Data'!I2:I100000,\"1???\",'Accounting Data'!J2:J100000,\"689?\"))+SUM(SUMIFS('Accounting Data'!C2:C100000,'Accounting Data'!E2:E100000,\"227\",'Accounting Data'!H2:H100000,{\"0??\",\"1??\",\"2??\",\"3??\",\"4??\",\"5??\",\"6??\"},'Accounting Data'!I2:I100000,\"1???\",'Accounting Data'!J2:J100000,\"689?\"))+SUM(SUMIFS('Accounting Data'!C2:C100000,'Accounting Data'!E2:E100000,\"228\",'Accounting Data'!H2:H100000,{\"0??\",\"1??\",\"2??\",\"3??\",\"4??\",\"5??\",\"6??\"},'Accounting Data'!I2:I100000,\"1???\",'Accounting Data'!J2:J100000,\"689?\"))","v":0},{"$f":"SUM(SUMIFS('Accounting Data'!C2:C100000,'Accounting Data'!E2:E100000,\"COVID\",'Accounting Data'!H2:H100000,{\"0??\",\"1??\",\"2??\",\"3??\",\"4??\",\"5??\",\"6??\"},'Accounting Data'!I2:I100000,\"1???\",'Accounting Data'!J2:J100000,\"68??\"))+SUM(SUMIFS('Accounting Data'!C2:C100000,'Accounting Data'!E2:E100000,\"227\",'Accounting Data'!H2:H100000,{\"0??\",\"1??\",\"2??\",\"3??\",\"4??\",\"5??\",\"6??\"},'Accounting Data'!I2:I100000,\"1???\",'Accounting Data'!J2:J100000,\"68??\"))+SUM(SUMIFS('Accounting Data'!C2:C100000,'Accounting Data'!E2:E100000,\"228\",'Accounting Data'!H2:H100000,{\"0??\",\"1??\",\"2??\",\"3??\",\"4??\",\"5??\",\"6??\"},'Accounting Data'!I2:I100000,\"1???\",'Accounting Data'!J2:J100000,\"68??\"))-H10-K10","v":0},{"$f":"SUM(SUMIFS('Accounting Data'!C2:C100000,'Accounting Data'!E2:E100000,\"COVID\",'Accounting Data'!H2:H100000,{\"7??\",\"8??\",\"9??\"},'Accounting Data'!I2:I100000,\"1???\",'Accounting Data'!J2:J100000,\"6???\"))-SUM(SUMIFS('Accounting Data'!C2:C100000,'Accounting Data'!E2:E100000,\"COVID\",'Accounting Data'!H2:H100000,{\"7??\",\"8??\",\"9??\"},'Accounting Data'!I2:I100000,\"1???\",'Accounting Data'!J2:J100000,\"69??\"))+SUM(SUMIFS('Accounting Data'!C2:C100000,'Accounting Data'!E2:E100000,\"227\",'Accounting Data'!H2:H100000,{\"7??\",\"8??\",\"9??\"},'Accounting Data'!I2:I100000,\"1???\",'Accounting Data'!J2:J100000,\"6???\"))-SUM(SUMIFS('Accounting Data'!C2:C100000,'Accounting Data'!E2:E100000,\"227\",'Accounting Data'!H2:H100000,{\"7??\",\"8??\",\"9??\"},'Accounting Data'!I2:I100000,\"1???\",'Accounting Data'!J2:J100000,\"69??\"))+SUM(SUMIFS('Accounting Data'!C2:C100000,'Accounting Data'!E2:E100000,\"228\",'Accounting Data'!H2:H100000,{\"7??\",\"8??\",\"9??\"},'Accounting Data'!I2:I100000,\"1???\",'Accounting Data'!J2:J100000,\"6???\"))-SUM(SUMIFS('Accounting Data'!C2:C100000,'Accounting Data'!E2:E100000,\"228\",'Accounting Data'!H2:H100000,{\"7??\",\"8??\",\"9??\"},'Accounting Data'!I2:I100000,\"1???\",'Accounting Data'!J2:J100000,\"69??\"))","v":0},{"$f":"ROUND(SUM(C10:M10),0)","v":1159173}]
["2100, 2200 Student Support Services","2.",{"$f":"SUM(SUMIFS('Accounting Data'!C2:C100000,'Accounting Data'!E2:E100000,\"COVID\",'Accounting Data'!H2:H100000,{\"0??\",\"1??\",\"2??\",\"3??\",\"4??\",\"5??\",\"6??\"},'Accounting Data'!I2:I100000,\"21??\",'Accounting Data'!J2:J100000,\"61??\"))+SUM(SUMIFS('Accounting Data'!C2:C100000,'Accounting Data'!E2:E100000,\"COVID\",'Accounting Data'!H2:H100000,{\"0??\",\"1??\",\"2??\",\"3??\",\"4??\",\"5??\",\"6??\"},'Accounting Data'!I2:I100000,\"22??\",'Accounting Data'!J2:J100000,\"61??\"))+SUM(SUMIFS('Accounting Data'!C2:C100000,'Accounting Data'!E2:E100000,\"227\",'Accounting Data'!H2:H100000,{\"0??\",\"1??\",\"2??\",\"3??\",\"4??\",\"5??\",\"6??\"},'Accounting Data'!I2:I100000,\"21??\",'Accounting Data'!J2:J100000,\"61??\"))+SUM(SUMIFS('Accounting Data'!C2:C100000,'Accounting Data'!E2:E100000,\"227\",'Accounting Data'!H2:H100000,{\"0??\",\"1??\",\"2??\",\"3??\",\"4??\",\"5??\",\"6??\"},'Accounting Data'!I2:I100000,\"22??\",'Accounting Data'!J2:J100000,\"61??\"))+SUM(SUMIFS('Accounting Data'!C2:C100000,'Accounting Data'!E2:E100000,\"228\",'Accounting Data'!H2:H100000,{\"0??\",\"1??\",\"2??\",\"3??\",\"4??\",\"5??\",\"6??\"},'Accounting Data'!I2:I100000,\"21??\",'Accounting Data'!J2:J100000,\"61??\"))+SUM(SUMIFS('Accounting Data'!C2:C100000,'Accounting Data'!E2:E100000,\"228\",'Accounting Data'!H2:H100000,{\"0??\",\"1??\",\"2??\",\"3??\",\"4??\",\"5??\",\"6??\"},'Accounting Data'!I2:I100000,\"22??\",'Accounting Data'!J2:J100000,\"61??\"))","v":688357},{"$f":"SUM(SUMIFS('Accounting Data'!C2:C100000,'Accounting Data'!E2:E100000,\"COVID\",'Accounting Data'!H2:H100000,{\"0??\",\"1??\",\"2??\",\"3??\",\"4??\",\"5??\",\"6??\"},'Accounting Data'!I2:I100000,\"21??\",'Accounting Data'!J2:J100000,\"62??\"))+SUM(SUMIFS('Accounting Data'!C2:C100000,'Accounting Data'!E2:E100000,\"COVID\",'Accounting Data'!H2:H100000,{\"0??\",\"1??\",\"2??\",\"3??\",\"4??\",\"5??\",\"6??\"},'Accounting Data'!I2:I100000,\"22??\",'Accounting Data'!J2:J100000,\"62??\"))+SUM(SUMIFS('Accounting Data'!C2:C100000,'Accounting Data'!E2:E100000,\"227\",'Accounting Data'!H2:H100000,{\"0??\",\"1??\",\"2??\",\"3??\",\"4??\",\"5??\",\"6??\"},'Accounting Data'!I2:I100000,\"21??\",'Accounting Data'!J2:J100000,\"62??\"))+SUM(SUMIFS('Accounting Data'!C2:C100000,'Accounting Data'!E2:E100000,\"227\",'Accounting Data'!H2:H100000,{\"0??\",\"1??\",\"2??\",\"3??\",\"4??\",\"5??\",\"6??\"},'Accounting Data'!I2:I100000,\"22??\",'Accounting Data'!J2:J100000,\"62??\"))+SUM(SUMIFS('Accounting Data'!C2:C100000,'Accounting Data'!E2:E100000,\"228\",'Accounting Data'!H2:H100000,{\"0??\",\"1??\",\"2??\",\"3??\",\"4??\",\"5??\",\"6??\"},'Accounting Data'!I2:I100000,\"21??\",'Accounting Data'!J2:J100000,\"62??\"))+SUM(SUMIFS('Accounting Data'!C2:C100000,'Accounting Data'!E2:E100000,\"228\",'Accounting Data'!H2:H100000,{\"0??\",\"1??\",\"2??\",\"3??\",\"4??\",\"5??\",\"6??\"},'Accounting Data'!I2:I100000,\"22??\",'Accounting Data'!J2:J100000,\"62??\"))","v":157076},{"$f":"AX11+AY11","v":113821},{"$f":"SUM(SUMIFS('Accounting Data'!C2:C100000,'Accounting Data'!E2:E100000,\"COVID\",'Accounting Data'!H2:H100000,{\"0??\",\"1??\",\"2??\",\"3??\",\"4??\",\"5??\",\"6??\"},'Accounting Data'!I2:I100000,\"21??\",'Accounting Data'!J2:J100000,\"66??\"))+SUM(SUMIFS('Accounting Data'!C2:C100000,'Accounting Data'!E2:E100000,\"COVID\",'Accounting Data'!H2:H100000,{\"0??\",\"1??\",\"2??\",\"3??\",\"4??\",\"5??\",\"6??\"},'Accounting Data'!I2:I100000,\"22??\",'Accounting Data'!J2:J100000,\"66??\"))+SUM(SUMIFS('Accounting Data'!C2:C100000,'Accounting Data'!E2:E100000,\"227\",'Accounting Data'!H2:H100000,{\"0??\",\"1??\",\"2??\",\"3??\",\"4??\",\"5??\",\"6??\"},'Accounting Data'!I2:I100000,\"21??\",'Accounting Data'!J2:J100000,\"66??\"))+SUM(SUMIFS('Accounting Data'!C2:C100000,'Accounting Data'!E2:E100000,\"227\",'Accounting Data'!H2:H100000,{\"0??\",\"1??\",\"2??\",\"3??\",\"4??\",\"5??\",\"6??\"},'Accounting Data'!I2:I100000,\"22??\",'Accounting Data'!J2:J100000,\"66??\"))+SUM(SUMIFS('Accounting Data'!C2:C100000,'Accounting Data'!E2:E100000,\"228\",'Accounting Data'!H2:H100000,{\"0??\",\"1??\",\"2??\",\"3??\",\"4??\",\"5??\",\"6??\"},'Accounting Data'!I2:I100000,\"21??\",'Accounting Data'!J2:J100000,\"66??\"))+SUM(SUMIFS('Accounting Data'!C2:C100000,'Accounting Data'!E2:E100000,\"228\",'Accounting Data'!H2:H100000,{\"0??\",\"1??\",\"2??\",\"3??\",\"4??\",\"5??\",\"6??\"},'Accounting Data'!I2:I100000,\"22??\",'Accounting Data'!J2:J100000,\"66??\"))","v":180860},{"$f":"SUM(SUMIFS('Accounting Data'!C2:C100000,'Accounting Data'!E2:E100000,\"COVID\",'Accounting Data'!H2:H100000,{\"0??\",\"1??\",\"2??\",\"3??\",\"4??\",\"5??\",\"6??\"},'Accounting Data'!I2:I100000,\"21??\",'Accounting Data'!J2:J100000,\"67??\"))+SUM(SUMIFS('Accounting Data'!C2:C100000,'Accounting Data'!E2:E100000,\"COVID\",'Accounting Data'!H2:H100000,{\"0??\",\"1??\",\"2??\",\"3??\",\"4??\",\"5??\",\"6??\"},'Accounting Data'!I2:I100000,\"22??\",'Accounting Data'!J2:J100000,\"67??\"))+SUM(SUMIFS('Accounting Data'!C2:C100000,'Accounting Data'!E2:E100000,\"227\",'Accounting Data'!H2:H100000,{\"0??\",\"1??\",\"2??\",\"3??\",\"4??\",\"5??\",\"6??\"},'Accounting Data'!I2:I100000,\"21??\",'Accounting Data'!J2:J100000,\"67??\"))+SUM(SUMIFS('Accounting Data'!C2:C100000,'Accounting Data'!E2:E100000,\"227\",'Accounting Data'!H2:H100000,{\"0??\",\"1??\",\"2??\",\"3??\",\"4??\",\"5??\",\"6??\"},'Accounting Data'!I2:I100000,\"22??\",'Accounting Data'!J2:J100000,\"67??\"))+SUM(SUMIFS('Accounting Data'!C2:C100000,'Accounting Data'!E2:E100000,\"228\",'Accounting Data'!H2:H100000,{\"0??\",\"1??\",\"2??\",\"3??\",\"4??\",\"5??\",\"6??\"},'Accounting Data'!I2:I100000,\"21??\",'Accounting Data'!J2:J100000,\"67??\"))+SUM(SUMIFS('Accounting Data'!C2:C100000,'Accounting Data'!E2:E100000,\"228\",'Accounting Data'!H2:H100000,{\"0??\",\"1??\",\"2??\",\"3??\",\"4??\",\"5??\",\"6??\"},'Accounting Data'!I2:I100000,\"22??\",'Accounting Data'!J2:J100000,\"67??\"))","v":0},{"$f":"SUM(SUMIFS('Accounting Data'!C2:C100000,'Accounting Data'!E2:E100000,\"COVID\",'Accounting Data'!H2:H100000,{\"0??\",\"1??\",\"2??\",\"3??\",\"4??\",\"5??\",\"6??\"},'Accounting Data'!I2:I100000,\"21??\",'Accounting Data'!J2:J100000,\"681?\"))+SUM(SUMIFS('Accounting Data'!C2:C100000,'Accounting Data'!E2:E100000,\"COVID\",'Accounting Data'!H2:H100000,{\"0??\",\"1??\",\"2??\",\"3??\",\"4??\",\"5??\",\"6??\"},'Accounting Data'!I2:I100000,\"22??\",'Accounting Data'!J2:J100000,\"681?\"))+SUM(SUMIFS('Accounting Data'!C2:C100000,'Accounting Data'!E2:E100000,\"227\",'Accounting Data'!H2:H100000,{\"0??\",\"1??\",\"2??\",\"3??\",\"4??\",\"5??\",\"6??\"},'Accounting Data'!I2:I100000,\"21??\",'Accounting Data'!J2:J100000,\"681?\"))+SUM(SUMIFS('Accounting Data'!C2:C100000,'Accounting Data'!E2:E100000,\"227\",'Accounting Data'!H2:H100000,{\"0??\",\"1??\",\"2??\",\"3??\",\"4??\",\"5??\",\"6??\"},'Accounting Data'!I2:I100000,\"22??\",'Accounting Data'!J2:J100000,\"681?\"))+SUM(SUMIFS('Accounting Data'!C2:C100000,'Accounting Data'!E2:E100000,\"228\",'Accounting Data'!H2:H100000,{\"0??\",\"1??\",\"2??\",\"3??\",\"4??\",\"5??\",\"6??\"},'Accounting Data'!I2:I100000,\"21??\",'Accounting Data'!J2:J100000,\"681?\"))+SUM(SUMIFS('Accounting Data'!C2:C100000,'Accounting Data'!E2:E100000,\"228\",'Accounting Data'!H2:H100000,{\"0??\",\"1??\",\"2??\",\"3??\",\"4??\",\"5??\",\"6??\"},'Accounting Data'!I2:I100000,\"22??\",'Accounting Data'!J2:J100000,\"681?\"))","v":0},null,null,{"$f":"SUM(SUMIFS('Accounting Data'!C2:C100000,'Accounting Data'!E2:E100000,\"COVID\",'Accounting Data'!H2:H100000,{\"0??\",\"1??\",\"2??\",\"3??\",\"4??\",\"5??\",\"6??\"},'Accounting Data'!I2:I100000,\"21??\",'Accounting Data'!J2:J100000,\"689?\"))+SUM(SUMIFS('Accounting Data'!C2:C100000,'Accounting Data'!E2:E100000,\"COVID\",'Accounting Data'!H2:H100000,{\"0??\",\"1??\",\"2??\",\"3??\",\"4??\",\"5??\",\"6??\"},'Accounting Data'!I2:I100000,\"22??\",'Accounting Data'!J2:J100000,\"689?\"))+SUM(SUMIFS('Accounting Data'!C2:C100000,'Accounting Data'!E2:E100000,\"227\",'Accounting Data'!H2:H100000,{\"0??\",\"1??\",\"2??\",\"3??\",\"4??\",\"5??\",\"6??\"},'Accounting Data'!I2:I100000,\"21??\",'Accounting Data'!J2:J100000,\"689?\"))+SUM(SUMIFS('Accounting Data'!C2:C100000,'Accounting Data'!E2:E100000,\"227\",'Accounting Data'!H2:H100000,{\"0??\",\"1??\",\"2??\",\"3??\",\"4??\",\"5??\",\"6??\"},'Accounting Data'!I2:I100000,\"22??\",'Accounting Data'!J2:J100000,\"689?\"))+SUM(SUMIFS('Accounting Data'!C2:C100000,'Accounting Data'!E2:E100000,\"228\",'Accounting Data'!H2:H100000,{\"0??\",\"1??\",\"2??\",\"3??\",\"4??\",\"5??\",\"6??\"},'Accounting Data'!I2:I100000,\"21??\",'Accounting Data'!J2:J100000,\"689?\"))+SUM(SUMIFS('Accounting Data'!C2:C100000,'Accounting Data'!E2:E100000,\"228\",'Accounting Data'!H2:H100000,{\"0??\",\"1??\",\"2??\",\"3??\",\"4??\",\"5??\",\"6??\"},'Accounting Data'!I2:I100000,\"22??\",'Accounting Data'!J2:J100000,\"689?\"))","v":0},{"$f":"SUM(SUMIFS('Accounting Data'!C2:C100000,'Accounting Data'!E2:E100000,\"COVID\",'Accounting Data'!H2:H100000,{\"0??\",\"1??\",\"2??\",\"3??\",\"4??\",\"5??\",\"6??\"},'Accounting Data'!I2:I100000,\"21??\",'Accounting Data'!J2:J100000,\"68??\"))+SUM(SUMIFS('Accounting Data'!C2:C100000,'Accounting Data'!E2:E100000,\"COVID\",'Accounting Data'!H2:H100000,{\"0??\",\"1??\",\"2??\",\"3??\",\"4??\",\"5??\",\"6??\"},'Accounting Data'!I2:I100000,\"22??\",'Accounting Data'!J2:J100000,\"68??\"))+SUM(SUMIFS('Accounting Data'!C2:C100000,'Accounting Data'!E2:E100000,\"227\",'Accounting Data'!H2:H100000,{\"0??\",\"1??\",\"2??\",\"3??\",\"4??\",\"5??\",\"6??\"},'Accounting Data'!I2:I100000,\"21??\",'Accounting Data'!J2:J100000,\"68??\"))+SUM(SUMIFS('Accounting Data'!C2:C100000,'Accounting Data'!E2:E100000,\"227\",'Accounting Data'!H2:H100000,{\"0??\",\"1??\",\"2??\",\"3??\",\"4??\",\"5??\",\"6??\"},'Accounting Data'!I2:I100000,\"22??\",'Accounting Data'!J2:J100000,\"68??\"))+SUM(SUMIFS('Accounting Data'!C2:C100000,'Accounting Data'!E2:E100000,\"228\",'Accounting Data'!H2:H100000,{\"0??\",\"1??\",\"2??\",\"3??\",\"4??\",\"5??\",\"6??\"},'Accounting Data'!I2:I100000,\"21??\",'Accounting Data'!J2:J100000,\"68??\"))+SUM(SUMIFS('Accounting Data'!C2:C100000,'Accounting Data'!E2:E100000,\"228\",'Accounting Data'!H2:H100000,{\"0??\",\"1??\",\"2??\",\"3??\",\"4??\",\"5??\",\"6??\"},'Accounting Data'!I2:I100000,\"22??\",'Accounting Data'!J2:J100000,\"68??\"))-H11-K11","v":0},{"$f":"(SUM(SUMIFS('Accounting Data'!C2:C100000,'Accounting Data'!E2:E100000,\"COVID\",'Accounting Data'!H2:H100000,{\"7??\",\"8??\",\"9??\"},'Accounting Data'!I2:I100000,\"21??\",'Accounting Data'!J2:J100000,\"6???\"))-SUM(SUMIFS('Accounting Data'!C2:C100000,'Accounting Data'!E2:E100000,\"COVID\",'Accounting Data'!H2:H100000,{\"7??\",\"8??\",\"9??\"},'Accounting Data'!I2:I100000,\"21??\",'Accounting Data'!J2:J100000,\"69??\")))+(SUM(SUMIFS('Accounting Data'!C2:C100000,'Accounting Data'!E2:E100000,\"COVID\",'Accounting Data'!H2:H100000,{\"7??\",\"8??\",\"9??\"},'Accounting Data'!I2:I100000,\"22??\",'Accounting Data'!J2:J100000,\"6???\"))-SUM(SUMIFS('Accounting Data'!C2:C100000,'Accounting Data'!E2:E100000,\"COVID\",'Accounting Data'!H2:H100000,{\"7??\",\"8??\",\"9??\"},'Accounting Data'!I2:I100000,\"22??\",'Accounting Data'!J2:J100000,\"69??\")))+(SUM(SUMIFS('Accounting Data'!C2:C100000,'Accounting Data'!E2:E100000,\"227\",'Accounting Data'!H2:H100000,{\"7??\",\"8??\",\"9??\"},'Accounting Data'!I2:I100000,\"21??\",'Accounting Data'!J2:J100000,\"6???\"))-SUM(SUMIFS('Accounting Data'!C2:C100000,'Accounting Data'!E2:E100000,\"227\",'Accounting Data'!H2:H100000,{\"7??\",\"8??\",\"9??\"},'Accounting Data'!I2:I100000,\"21??\",'Accounting Data'!J2:J100000,\"69??\")))+(SUM(SUMIFS('Accounting Data'!C2:C100000,'Accounting Data'!E2:E100000,\"227\",'Accounting Data'!H2:H100000,{\"7??\",\"8??\",\"9??\"},'Accounting Data'!I2:I100000,\"22??\",'Accounting Data'!J2:J100000,\"6???\"))-SUM(SUMIFS('Accounting Data'!C2:C100000,'Accounting Data'!E2:E100000,\"227\",'Accounting Data'!H2:H100000,{\"7??\",\"8??\",\"9??\"},'Accounting Data'!I2:I100000,\"22??\",'Accounting Data'!J2:J100000,\"69??\")))+(SUM(SUMIFS('Accounting Data'!C2:C100000,'Accounting Data'!E2:E100000,\"228\",'Accounting Data'!H2:H100000,{\"7??\",\"8??\",\"9??\"},'Accounting Data'!I2:I100000,\"21??\",'Accounting Data'!J2:J100000,\"6???\"))-SUM(SUMIFS('Accounting Data'!C2:C100000,'Accounting Data'!E2:E100000,\"228\",'Accounting Data'!H2:H100000,{\"7??\",\"8??\",\"9??\"},'Accounting Data'!I2:I100000,\"21??\",'Accounting Data'!J2:J100000,\"69??\")))+(SUM(SUMIFS('Accounting Data'!C2:C100000,'Accounting Data'!E2:E100000,\"228\",'Accounting Data'!H2:H100000,{\"7??\",\"8??\",\"9??\"},'Accounting Data'!I2:I100000,\"22??\",'Accounting Data'!J2:J100000,\"6???\"))-SUM(SUMIFS('Accounting Data'!C2:C100000,'Accounting Data'!E2:E100000,\"228\",'Accounting Data'!H2:H100000,{\"7??\",\"8??\",\"9??\"},'Accounting Data'!I2:I100000,\"22??\",'Accounting Data'!J2:J100000,\"69??\")))","v":0},{"$f":"ROUND(SUM(C11:M11),0)","v":1140114},null,null,null,null,null,null,null,null,null,null,null,null,null,null,null,null,null,null,null,null,null,null,null,null,null,null,null,null,null,null,null,null,null,null,null,{"$f":"SUM(SUMIFS('Accounting Data'!C2:C100000,'Accounting Data'!E2:E100000,\"COVID\",'Accounting Data'!H2:H100000,{\"0??\",\"1??\",\"2??\",\"3??\",\"4??\",\"5??\",\"6??\"},'Accounting Data'!I2:I100000,\"21??\",'Accounting Data'!J2:J100000,\"63??\"))+SUM(SUMIFS('Accounting Data'!C2:C100000,'Accounting Data'!E2:E100000,\"COVID\",'Accounting Data'!H2:H100000,{\"0??\",\"1??\",\"2??\",\"3??\",\"4??\",\"5??\",\"6??\"},'Accounting Data'!I2:I100000,\"21??\",'Accounting Data'!J2:J100000,\"64??\"))+SUM(SUMIFS('Accounting Data'!C2:C100000,'Accounting Data'!E2:E100000,\"COVID\",'Accounting Data'!H2:H100000,{\"0??\",\"1??\",\"2??\",\"3??\",\"4??\",\"5??\",\"6??\"},'Accounting Data'!I2:I100000,\"21??\",'Accounting Data'!J2:J100000,\"65??\"))+SUM(SUMIFS('Accounting Data'!C2:C100000,'Accounting Data'!E2:E100000,\"227\",'Accounting Data'!H2:H100000,{\"0??\",\"1??\",\"2??\",\"3??\",\"4??\",\"5??\",\"6??\"},'Accounting Data'!I2:I100000,\"21??\",'Accounting Data'!J2:J100000,\"63??\"))+SUM(SUMIFS('Accounting Data'!C2:C100000,'Accounting Data'!E2:E100000,\"227\",'Accounting Data'!H2:H100000,{\"0??\",\"1??\",\"2??\",\"3??\",\"4??\",\"5??\",\"6??\"},'Accounting Data'!I2:I100000,\"21??\",'Accounting Data'!J2:J100000,\"64??\"))+SUM(SUMIFS('Accounting Data'!C2:C100000,'Accounting Data'!E2:E100000,\"227\",'Accounting Data'!H2:H100000,{\"0??\",\"1??\",\"2??\",\"3??\",\"4??\",\"5??\",\"6??\"},'Accounting Data'!I2:I100000,\"21??\",'Accounting Data'!J2:J100000,\"65??\"))+SUM(SUMIFS('Accounting Data'!C2:C100000,'Accounting Data'!E2:E100000,\"228\",'Accounting Data'!H2:H100000,{\"0??\",\"1??\",\"2??\",\"3??\",\"4??\",\"5??\",\"6??\"},'Accounting Data'!I2:I100000,\"21??\",'Accounting Data'!J2:J100000,\"63??\"))+SUM(SUMIFS('Accounting Data'!C2:C100000,'Accounting Data'!E2:E100000,\"228\",'Accounting Data'!H2:H100000,{\"0??\",\"1??\",\"2??\",\"3??\",\"4??\",\"5??\",\"6??\"},'Accounting Data'!I2:I100000,\"21??\",'Accounting Data'!J2:J100000,\"64??\"))+SUM(SUMIFS('Accounting Data'!C2:C100000,'Accounting Data'!E2:E100000,\"228\",'Accounting Data'!H2:H100000,{\"0??\",\"1??\",\"2??\",\"3??\",\"4??\",\"5??\",\"6??\"},'Accounting Data'!I2:I100000,\"21??\",'Accounting Data'!J2:J100000,\"65??\"))","v":0},{"$f":"SUM(SUMIFS('Accounting Data'!C2:C100000,'Accounting Data'!E2:E100000,\"COVID\",'Accounting Data'!H2:H100000,{\"0??\",\"1??\",\"2??\",\"3??\",\"4??\",\"5??\",\"6??\"},'Accounting Data'!I2:I100000,\"22??\",'Accounting Data'!J2:J100000,\"63??\"))+SUM(SUMIFS('Accounting Data'!C2:C100000,'Accounting Data'!E2:E100000,\"COVID\",'Accounting Data'!H2:H100000,{\"0??\",\"1??\",\"2??\",\"3??\",\"4??\",\"5??\",\"6??\"},'Accounting Data'!I2:I100000,\"22??\",'Accounting Data'!J2:J100000,\"64??\"))+SUM(SUMIFS('Accounting Data'!C2:C100000,'Accounting Data'!E2:E100000,\"COVID\",'Accounting Data'!H2:H100000,{\"0??\",\"1??\",\"2??\",\"3??\",\"4??\",\"5??\",\"6??\"},'Accounting Data'!I2:I100000,\"22??\",'Accounting Data'!J2:J100000,\"65??\"))+SUM(SUMIFS('Accounting Data'!C2:C100000,'Accounting Data'!E2:E100000,\"227\",'Accounting Data'!H2:H100000,{\"0??\",\"1??\",\"2??\",\"3??\",\"4??\",\"5??\",\"6??\"},'Accounting Data'!I2:I100000,\"22??\",'Accounting Data'!J2:J100000,\"63??\"))+SUM(SUMIFS('Accounting Data'!C2:C100000,'Accounting Data'!E2:E100000,\"227\",'Accounting Data'!H2:H100000,{\"0??\",\"1??\",\"2??\",\"3??\",\"4??\",\"5??\",\"6??\"},'Accounting Data'!I2:I100000,\"22??\",'Accounting Data'!J2:J100000,\"64??\"))+SUM(SUMIFS('Accounting Data'!C2:C100000,'Accounting Data'!E2:E100000,\"227\",'Accounting Data'!H2:H100000,{\"0??\",\"1??\",\"2??\",\"3??\",\"4??\",\"5??\",\"6??\"},'Accounting Data'!I2:I100000,\"22??\",'Accounting Data'!J2:J100000,\"65??\"))+SUM(SUMIFS('Accounting Data'!C2:C100000,'Accounting Data'!E2:E100000,\"228\",'Accounting Data'!H2:H100000,{\"0??\",\"1??\",\"2??\",\"3??\",\"4??\",\"5??\",\"6??\"},'Accounting Data'!I2:I100000,\"22??\",'Accounting Data'!J2:J100000,\"63??\"))+SUM(SUMIFS('Accounting Data'!C2:C100000,'Accounting Data'!E2:E100000,\"228\",'Accounting Data'!H2:H100000,{\"0??\",\"1??\",\"2??\",\"3??\",\"4??\",\"5??\",\"6??\"},'Accounting Data'!I2:I100000,\"22??\",'Accounting Data'!J2:J100000,\"64??\"))+SUM(SUMIFS('Accounting Data'!C2:C100000,'Accounting Data'!E2:E100000,\"228\",'Accounting Data'!H2:H100000,{\"0??\",\"1??\",\"2??\",\"3??\",\"4??\",\"5??\",\"6??\"},'Accounting Data'!I2:I100000,\"22??\",'Accounting Data'!J2:J100000,\"65??\"))","v":113820.8}]
["2300, 2500, 2900 Other Support Services","3.",{"$f":"SUM(SUMIFS('Accounting Data'!C2:C100000,'Accounting Data'!E2:E100000,\"COVID\",'Accounting Data'!H2:H100000,{\"0??\",\"1??\",\"2??\",\"3??\",\"4??\",\"5??\",\"6??\"},'Accounting Data'!I2:I100000,\"23??\",'Accounting Data'!J2:J100000,\"61??\"))+SUM(SUMIFS('Accounting Data'!C2:C100000,'Accounting Data'!E2:E100000,\"COVID\",'Accounting Data'!H2:H100000,{\"0??\",\"1??\",\"2??\",\"3??\",\"4??\",\"5??\",\"6??\"},'Accounting Data'!I2:I100000,\"25??\",'Accounting Data'!J2:J100000,\"61??\"))+SUM(SUMIFS('Accounting Data'!C2:C100000,'Accounting Data'!E2:E100000,\"COVID\",'Accounting Data'!H2:H100000,{\"0??\",\"1??\",\"2??\",\"3??\",\"4??\",\"5??\",\"6??\"},'Accounting Data'!I2:I100000,\"29??\",'Accounting Data'!J2:J100000,\"61??\"))+SUM(SUMIFS('Accounting Data'!C2:C100000,'Accounting Data'!E2:E100000,\"227\",'Accounting Data'!H2:H100000,{\"0??\",\"1??\",\"2??\",\"3??\",\"4??\",\"5??\",\"6??\"},'Accounting Data'!I2:I100000,\"23??\",'Accounting Data'!J2:J100000,\"61??\"))+SUM(SUMIFS('Accounting Data'!C2:C100000,'Accounting Data'!E2:E100000,\"227\",'Accounting Data'!H2:H100000,{\"0??\",\"1??\",\"2??\",\"3??\",\"4??\",\"5??\",\"6??\"},'Accounting Data'!I2:I100000,\"25??\",'Accounting Data'!J2:J100000,\"61??\"))+SUM(SUMIFS('Accounting Data'!C2:C100000,'Accounting Data'!E2:E100000,\"227\",'Accounting Data'!H2:H100000,{\"0??\",\"1??\",\"2??\",\"3??\",\"4??\",\"5??\",\"6??\"},'Accounting Data'!I2:I100000,\"29??\",'Accounting Data'!J2:J100000,\"61??\"))+SUM(SUMIFS('Accounting Data'!C2:C100000,'Accounting Data'!E2:E100000,\"228\",'Accounting Data'!H2:H100000,{\"0??\",\"1??\",\"2??\",\"3??\",\"4??\",\"5??\",\"6??\"},'Accounting Data'!I2:I100000,\"23??\",'Accounting Data'!J2:J100000,\"61??\"))+SUM(SUMIFS('Accounting Data'!C2:C100000,'Accounting Data'!E2:E100000,\"228\",'Accounting Data'!H2:H100000,{\"0??\",\"1??\",\"2??\",\"3??\",\"4??\",\"5??\",\"6??\"},'Accounting Data'!I2:I100000,\"25??\",'Accounting Data'!J2:J100000,\"61??\"))+SUM(SUMIFS('Accounting Data'!C2:C100000,'Accounting Data'!E2:E100000,\"228\",'Accounting Data'!H2:H100000,{\"0??\",\"1??\",\"2??\",\"3??\",\"4??\",\"5??\",\"6??\"},'Accounting Data'!I2:I100000,\"29??\",'Accounting Data'!J2:J100000,\"61??\"))","v":0},{"$f":"SUM(SUMIFS('Accounting Data'!C2:C100000,'Accounting Data'!E2:E100000,\"COVID\",'Accounting Data'!H2:H100000,{\"0??\",\"1??\",\"2??\",\"3??\",\"4??\",\"5??\",\"6??\"},'Accounting Data'!I2:I100000,\"23??\",'Accounting Data'!J2:J100000,\"62??\"))+SUM(SUMIFS('Accounting Data'!C2:C100000,'Accounting Data'!E2:E100000,\"COVID\",'Accounting Data'!H2:H100000,{\"0??\",\"1??\",\"2??\",\"3??\",\"4??\",\"5??\",\"6??\"},'Accounting Data'!I2:I100000,\"25??\",'Accounting Data'!J2:J100000,\"62??\"))+SUM(SUMIFS('Accounting Data'!C2:C100000,'Accounting Data'!E2:E100000,\"COVID\",'Accounting Data'!H2:H100000,{\"0??\",\"1??\",\"2??\",\"3??\",\"4??\",\"5??\",\"6??\"},'Accounting Data'!I2:I100000,\"29??\",'Accounting Data'!J2:J100000,\"62??\"))+SUM(SUMIFS('Accounting Data'!C2:C100000,'Accounting Data'!E2:E100000,\"227\",'Accounting Data'!H2:H100000,{\"0??\",\"1??\",\"2??\",\"3??\",\"4??\",\"5??\",\"6??\"},'Accounting Data'!I2:I100000,\"23??\",'Accounting Data'!J2:J100000,\"62??\"))+SUM(SUMIFS('Accounting Data'!C2:C100000,'Accounting Data'!E2:E100000,\"227\",'Accounting Data'!H2:H100000,{\"0??\",\"1??\",\"2??\",\"3??\",\"4??\",\"5??\",\"6??\"},'Accounting Data'!I2:I100000,\"25??\",'Accounting Data'!J2:J100000,\"62??\"))+SUM(SUMIFS('Accounting Data'!C2:C100000,'Accounting Data'!E2:E100000,\"227\",'Accounting Data'!H2:H100000,{\"0??\",\"1??\",\"2??\",\"3??\",\"4??\",\"5??\",\"6??\"},'Accounting Data'!I2:I100000,\"29??\",'Accounting Data'!J2:J100000,\"62??\"))+SUM(SUMIFS('Accounting Data'!C2:C100000,'Accounting Data'!E2:E100000,\"228\",'Accounting Data'!H2:H100000,{\"0??\",\"1??\",\"2??\",\"3??\",\"4??\",\"5??\",\"6??\"},'Accounting Data'!I2:I100000,\"23??\",'Accounting Data'!J2:J100000,\"62??\"))+SUM(SUMIFS('Accounting Data'!C2:C100000,'Accounting Data'!E2:E100000,\"228\",'Accounting Data'!H2:H100000,{\"0??\",\"1??\",\"2??\",\"3??\",\"4??\",\"5??\",\"6??\"},'Accounting Data'!I2:I100000,\"25??\",'Accounting Data'!J2:J100000,\"62??\"))+SUM(SUMIFS('Accounting Data'!C2:C100000,'Accounting Data'!E2:E100000,\"228\",'Accounting Data'!H2:H100000,{\"0??\",\"1??\",\"2??\",\"3??\",\"4??\",\"5??\",\"6??\"},'Accounting Data'!I2:I100000,\"29??\",'Accounting Data'!J2:J100000,\"62??\"))","v":0},{"$f":"AX12+AY12+AZ12","v":0},{"$f":"SUM(SUMIFS('Accounting Data'!C2:C100000,'Accounting Data'!E2:E100000,\"COVID\",'Accounting Data'!H2:H100000,{\"0??\",\"1??\",\"2??\",\"3??\",\"4??\",\"5??\",\"6??\"},'Accounting Data'!I2:I100000,\"23??\",'Accounting Data'!J2:J100000,\"66??\"))+SUM(SUMIFS('Accounting Data'!C2:C100000,'Accounting Data'!E2:E100000,\"COVID\",'Accounting Data'!H2:H100000,{\"0??\",\"1??\",\"2??\",\"3??\",\"4??\",\"5??\",\"6??\"},'Accounting Data'!I2:I100000,\"25??\",'Accounting Data'!J2:J100000,\"66??\"))+SUM(SUMIFS('Accounting Data'!C2:C100000,'Accounting Data'!E2:E100000,\"COVID\",'Accounting Data'!H2:H100000,{\"0??\",\"1??\",\"2??\",\"3??\",\"4??\",\"5??\",\"6??\"},'Accounting Data'!I2:I100000,\"29??\",'Accounting Data'!J2:J100000,\"66??\"))+SUM(SUMIFS('Accounting Data'!C2:C100000,'Accounting Data'!E2:E100000,\"227\",'Accounting Data'!H2:H100000,{\"0??\",\"1??\",\"2??\",\"3??\",\"4??\",\"5??\",\"6??\"},'Accounting Data'!I2:I100000,\"23??\",'Accounting Data'!J2:J100000,\"66??\"))+SUM(SUMIFS('Accounting Data'!C2:C100000,'Accounting Data'!E2:E100000,\"227\",'Accounting Data'!H2:H100000,{\"0??\",\"1??\",\"2??\",\"3??\",\"4??\",\"5??\",\"6??\"},'Accounting Data'!I2:I100000,\"25??\",'Accounting Data'!J2:J100000,\"66??\"))+SUM(SUMIFS('Accounting Data'!C2:C100000,'Accounting Data'!E2:E100000,\"227\",'Accounting Data'!H2:H100000,{\"0??\",\"1??\",\"2??\",\"3??\",\"4??\",\"5??\",\"6??\"},'Accounting Data'!I2:I100000,\"29??\",'Accounting Data'!J2:J100000,\"66??\"))+SUM(SUMIFS('Accounting Data'!C2:C100000,'Accounting Data'!E2:E100000,\"228\",'Accounting Data'!H2:H100000,{\"0??\",\"1??\",\"2??\",\"3??\",\"4??\",\"5??\",\"6??\"},'Accounting Data'!I2:I100000,\"23??\",'Accounting Data'!J2:J100000,\"66??\"))+SUM(SUMIFS('Accounting Data'!C2:C100000,'Accounting Data'!E2:E100000,\"228\",'Accounting Data'!H2:H100000,{\"0??\",\"1??\",\"2??\",\"3??\",\"4??\",\"5??\",\"6??\"},'Accounting Data'!I2:I100000,\"25??\",'Accounting Data'!J2:J100000,\"66??\"))+SUM(SUMIFS('Accounting Data'!C2:C100000,'Accounting Data'!E2:E100000,\"228\",'Accounting Data'!H2:H100000,{\"0??\",\"1??\",\"2??\",\"3??\",\"4??\",\"5??\",\"6??\"},'Accounting Data'!I2:I100000,\"29??\",'Accounting Data'!J2:J100000,\"66??\"))","v":21674},{"$f":"SUM(SUMIFS('Accounting Data'!C2:C100000,'Accounting Data'!E2:E100000,\"COVID\",'Accounting Data'!H2:H100000,{\"0??\",\"1??\",\"2??\",\"3??\",\"4??\",\"5??\",\"6??\"},'Accounting Data'!I2:I100000,\"23??\",'Accounting Data'!J2:J100000,\"67??\"))+SUM(SUMIFS('Accounting Data'!C2:C100000,'Accounting Data'!E2:E100000,\"COVID\",'Accounting Data'!H2:H100000,{\"0??\",\"1??\",\"2??\",\"3??\",\"4??\",\"5??\",\"6??\"},'Accounting Data'!I2:I100000,\"25??\",'Accounting Data'!J2:J100000,\"67??\"))+SUM(SUMIFS('Accounting Data'!C2:C100000,'Accounting Data'!E2:E100000,\"COVID\",'Accounting Data'!H2:H100000,{\"0??\",\"1??\",\"2??\",\"3??\",\"4??\",\"5??\",\"6??\"},'Accounting Data'!I2:I100000,\"29??\",'Accounting Data'!J2:J100000,\"67??\"))+SUM(SUMIFS('Accounting Data'!C2:C100000,'Accounting Data'!E2:E100000,\"227\",'Accounting Data'!H2:H100000,{\"0??\",\"1??\",\"2??\",\"3??\",\"4??\",\"5??\",\"6??\"},'Accounting Data'!I2:I100000,\"23??\",'Accounting Data'!J2:J100000,\"67??\"))+SUM(SUMIFS('Accounting Data'!C2:C100000,'Accounting Data'!E2:E100000,\"227\",'Accounting Data'!H2:H100000,{\"0??\",\"1??\",\"2??\",\"3??\",\"4??\",\"5??\",\"6??\"},'Accounting Data'!I2:I100000,\"25??\",'Accounting Data'!J2:J100000,\"67??\"))+SUM(SUMIFS('Accounting Data'!C2:C100000,'Accounting Data'!E2:E100000,\"227\",'Accounting Data'!H2:H100000,{\"0??\",\"1??\",\"2??\",\"3??\",\"4??\",\"5??\",\"6??\"},'Accounting Data'!I2:I100000,\"29??\",'Accounting Data'!J2:J100000,\"67??\"))+SUM(SUMIFS('Accounting Data'!C2:C100000,'Accounting Data'!E2:E100000,\"228\",'Accounting Data'!H2:H100000,{\"0??\",\"1??\",\"2??\",\"3??\",\"4??\",\"5??\",\"6??\"},'Accounting Data'!I2:I100000,\"23??\",'Accounting Data'!J2:J100000,\"67??\"))+SUM(SUMIFS('Accounting Data'!C2:C100000,'Accounting Data'!E2:E100000,\"228\",'Accounting Data'!H2:H100000,{\"0??\",\"1??\",\"2??\",\"3??\",\"4??\",\"5??\",\"6??\"},'Accounting Data'!I2:I100000,\"25??\",'Accounting Data'!J2:J100000,\"67??\"))+SUM(SUMIFS('Accounting Data'!C2:C100000,'Accounting Data'!E2:E100000,\"228\",'Accounting Data'!H2:H100000,{\"0??\",\"1??\",\"2??\",\"3??\",\"4??\",\"5??\",\"6??\"},'Accounting Data'!I2:I100000,\"29??\",'Accounting Data'!J2:J100000,\"67??\"))","v":0},{"$f":"SUM(SUMIFS('Accounting Data'!C2:C100000,'Accounting Data'!E2:E100000,\"COVID\",'Accounting Data'!H2:H100000,{\"0??\",\"1??\",\"2??\",\"3??\",\"4??\",\"5??\",\"6??\"},'Accounting Data'!I2:I100000,\"23??\",'Accounting Data'!J2:J100000,\"681?\"))+SUM(SUMIFS('Accounting Data'!C2:C100000,'Accounting Data'!E2:E100000,\"COVID\",'Accounting Data'!H2:H100000,{\"0??\",\"1??\",\"2??\",\"3??\",\"4??\",\"5??\",\"6??\"},'Accounting Data'!I2:I100000,\"25??\",'Accounting Data'!J2:J100000,\"681?\"))+SUM(SUMIFS('Accounting Data'!C2:C100000,'Accounting Data'!E2:E100000,\"COVID\",'Accounting Data'!H2:H100000,{\"0??\",\"1??\",\"2??\",\"3??\",\"4??\",\"5??\",\"6??\"},'Accounting Data'!I2:I100000,\"29??\",'Accounting Data'!J2:J100000,\"681?\"))+SUM(SUMIFS('Accounting Data'!C2:C100000,'Accounting Data'!E2:E100000,\"227\",'Accounting Data'!H2:H100000,{\"0??\",\"1??\",\"2??\",\"3??\",\"4??\",\"5??\",\"6??\"},'Accounting Data'!I2:I100000,\"23??\",'Accounting Data'!J2:J100000,\"681?\"))+SUM(SUMIFS('Accounting Data'!C2:C100000,'Accounting Data'!E2:E100000,\"227\",'Accounting Data'!H2:H100000,{\"0??\",\"1??\",\"2??\",\"3??\",\"4??\",\"5??\",\"6??\"},'Accounting Data'!I2:I100000,\"25??\",'Accounting Data'!J2:J100000,\"681?\"))+SUM(SUMIFS('Accounting Data'!C2:C100000,'Accounting Data'!E2:E100000,\"227\",'Accounting Data'!H2:H100000,{\"0??\",\"1??\",\"2??\",\"3??\",\"4??\",\"5??\",\"6??\"},'Accounting Data'!I2:I100000,\"29??\",'Accounting Data'!J2:J100000,\"681?\"))+SUM(SUMIFS('Accounting Data'!C2:C100000,'Accounting Data'!E2:E100000,\"228\",'Accounting Data'!H2:H100000,{\"0??\",\"1??\",\"2??\",\"3??\",\"4??\",\"5??\",\"6??\"},'Accounting Data'!I2:I100000,\"23??\",'Accounting Data'!J2:J100000,\"681?\"))+SUM(SUMIFS('Accounting Data'!C2:C100000,'Accounting Data'!E2:E100000,\"228\",'Accounting Data'!H2:H100000,{\"0??\",\"1??\",\"2??\",\"3??\",\"4??\",\"5??\",\"6??\"},'Accounting Data'!I2:I100000,\"25??\",'Accounting Data'!J2:J100000,\"681?\"))+SUM(SUMIFS('Accounting Data'!C2:C100000,'Accounting Data'!E2:E100000,\"228\",'Accounting Data'!H2:H100000,{\"0??\",\"1??\",\"2??\",\"3??\",\"4??\",\"5??\",\"6??\"},'Accounting Data'!I2:I100000,\"29??\",'Accounting Data'!J2:J100000,\"681?\"))","v":0},{"$f":"SUM(SUMIFS('Accounting Data'!C2:C100000,'Accounting Data'!E2:E100000,\"COVID\",'Accounting Data'!H2:H100000,{\"0??\",\"1??\",\"2??\",\"3??\",\"4??\",\"5??\",\"6??\"},'Accounting Data'!I2:I100000,\"23??\",'Accounting Data'!J2:J100000,\"682?\"))+SUM(SUMIFS('Accounting Data'!C2:C100000,'Accounting Data'!E2:E100000,\"COVID\",'Accounting Data'!H2:H100000,{\"0??\",\"1??\",\"2??\",\"3??\",\"4??\",\"5??\",\"6??\"},'Accounting Data'!I2:I100000,\"25??\",'Accounting Data'!J2:J100000,\"682?\"))+SUM(SUMIFS('Accounting Data'!C2:C100000,'Accounting Data'!E2:E100000,\"COVID\",'Accounting Data'!H2:H100000,{\"0??\",\"1??\",\"2??\",\"3??\",\"4??\",\"5??\",\"6??\"},'Accounting Data'!I2:I100000,\"29??\",'Accounting Data'!J2:J100000,\"682?\"))+SUM(SUMIFS('Accounting Data'!C2:C100000,'Accounting Data'!E2:E100000,\"227\",'Accounting Data'!H2:H100000,{\"0??\",\"1??\",\"2??\",\"3??\",\"4??\",\"5??\",\"6??\"},'Accounting Data'!I2:I100000,\"23??\",'Accounting Data'!J2:J100000,\"682?\"))+SUM(SUMIFS('Accounting Data'!C2:C100000,'Accounting Data'!E2:E100000,\"227\",'Accounting Data'!H2:H100000,{\"0??\",\"1??\",\"2??\",\"3??\",\"4??\",\"5??\",\"6??\"},'Accounting Data'!I2:I100000,\"25??\",'Accounting Data'!J2:J100000,\"682?\"))+SUM(SUMIFS('Accounting Data'!C2:C100000,'Accounting Data'!E2:E100000,\"227\",'Accounting Data'!H2:H100000,{\"0??\",\"1??\",\"2??\",\"3??\",\"4??\",\"5??\",\"6??\"},'Accounting Data'!I2:I100000,\"29??\",'Accounting Data'!J2:J100000,\"682?\"))+SUM(SUMIFS('Accounting Data'!C2:C100000,'Accounting Data'!E2:E100000,\"228\",'Accounting Data'!H2:H100000,{\"0??\",\"1??\",\"2??\",\"3??\",\"4??\",\"5??\",\"6??\"},'Accounting Data'!I2:I100000,\"23??\",'Accounting Data'!J2:J100000,\"682?\"))+SUM(SUMIFS('Accounting Data'!C2:C100000,'Accounting Data'!E2:E100000,\"228\",'Accounting Data'!H2:H100000,{\"0??\",\"1??\",\"2??\",\"3??\",\"4??\",\"5??\",\"6??\"},'Accounting Data'!I2:I100000,\"25??\",'Accounting Data'!J2:J100000,\"682?\"))+SUM(SUMIFS('Accounting Data'!C2:C100000,'Accounting Data'!E2:E100000,\"228\",'Accounting Data'!H2:H100000,{\"0??\",\"1??\",\"2??\",\"3??\",\"4??\",\"5??\",\"6??\"},'Accounting Data'!I2:I100000,\"29??\",'Accounting Data'!J2:J100000,\"682?\"))","v":0},{"$f":"SUM(SUMIFS('Accounting Data'!C2:C100000,'Accounting Data'!E2:E100000,\"COVID\",'Accounting Data'!H2:H100000,{\"0??\",\"1??\",\"2??\",\"3??\",\"4??\",\"5??\",\"6??\"},'Accounting Data'!I2:I100000,\"23??\",'Accounting Data'!J2:J100000,\"685?\"))+SUM(SUMIFS('Accounting Data'!C2:C100000,'Accounting Data'!E2:E100000,\"COVID\",'Accounting Data'!H2:H100000,{\"0??\",\"1??\",\"2??\",\"3??\",\"4??\",\"5??\",\"6??\"},'Accounting Data'!I2:I100000,\"25??\",'Accounting Data'!J2:J100000,\"685?\"))+SUM(SUMIFS('Accounting Data'!C2:C100000,'Accounting Data'!E2:E100000,\"COVID\",'Accounting Data'!H2:H100000,{\"0??\",\"1??\",\"2??\",\"3??\",\"4??\",\"5??\",\"6??\"},'Accounting Data'!I2:I100000,\"29??\",'Accounting Data'!J2:J100000,\"685?\"))+SUM(SUMIFS('Accounting Data'!C2:C100000,'Accounting Data'!E2:E100000,\"227\",'Accounting Data'!H2:H100000,{\"0??\",\"1??\",\"2??\",\"3??\",\"4??\",\"5??\",\"6??\"},'Accounting Data'!I2:I100000,\"23??\",'Accounting Data'!J2:J100000,\"685?\"))+SUM(SUMIFS('Accounting Data'!C2:C100000,'Accounting Data'!E2:E100000,\"227\",'Accounting Data'!H2:H100000,{\"0??\",\"1??\",\"2??\",\"3??\",\"4??\",\"5??\",\"6??\"},'Accounting Data'!I2:I100000,\"25??\",'Accounting Data'!J2:J100000,\"685?\"))+SUM(SUMIFS('Accounting Data'!C2:C100000,'Accounting Data'!E2:E100000,\"227\",'Accounting Data'!H2:H100000,{\"0??\",\"1??\",\"2??\",\"3??\",\"4??\",\"5??\",\"6??\"},'Accounting Data'!I2:I100000,\"29??\",'Accounting Data'!J2:J100000,\"685?\"))+SUM(SUMIFS('Accounting Data'!C2:C100000,'Accounting Data'!E2:E100000,\"228\",'Accounting Data'!H2:H100000,{\"0??\",\"1??\",\"2??\",\"3??\",\"4??\",\"5??\",\"6??\"},'Accounting Data'!I2:I100000,\"23??\",'Accounting Data'!J2:J100000,\"685?\"))+SUM(SUMIFS('Accounting Data'!C2:C100000,'Accounting Data'!E2:E100000,\"228\",'Accounting Data'!H2:H100000,{\"0??\",\"1??\",\"2??\",\"3??\",\"4??\",\"5??\",\"6??\"},'Accounting Data'!I2:I100000,\"25??\",'Accounting Data'!J2:J100000,\"685?\"))+SUM(SUMIFS('Accounting Data'!C2:C100000,'Accounting Data'!E2:E100000,\"228\",'Accounting Data'!H2:H100000,{\"0??\",\"1??\",\"2??\",\"3??\",\"4??\",\"5??\",\"6??\"},'Accounting Data'!I2:I100000,\"29??\",'Accounting Data'!J2:J100000,\"685?\"))","v":0},{"$f":"SUM(SUMIFS('Accounting Data'!C2:C100000,'Accounting Data'!E2:E100000,\"COVID\",'Accounting Data'!H2:H100000,{\"0??\",\"1??\",\"2??\",\"3??\",\"4??\",\"5??\",\"6??\"},'Accounting Data'!I2:I100000,\"23??\",'Accounting Data'!J2:J100000,\"689?\"))+SUM(SUMIFS('Accounting Data'!C2:C100000,'Accounting Data'!E2:E100000,\"COVID\",'Accounting Data'!H2:H100000,{\"0??\",\"1??\",\"2??\",\"3??\",\"4??\",\"5??\",\"6??\"},'Accounting Data'!I2:I100000,\"25??\",'Accounting Data'!J2:J100000,\"689?\"))+SUM(SUMIFS('Accounting Data'!C2:C100000,'Accounting Data'!E2:E100000,\"COVID\",'Accounting Data'!H2:H100000,{\"0??\",\"1??\",\"2??\",\"3??\",\"4??\",\"5??\",\"6??\"},'Accounting Data'!I2:I100000,\"29??\",'Accounting Data'!J2:J100000,\"689?\"))+SUM(SUMIFS('Accounting Data'!C2:C100000,'Accounting Data'!E2:E100000,\"227\",'Accounting Data'!H2:H100000,{\"0??\",\"1??\",\"2??\",\"3??\",\"4??\",\"5??\",\"6??\"},'Accounting Data'!I2:I100000,\"23??\",'Accounting Data'!J2:J100000,\"689?\"))+SUM(SUMIFS('Accounting Data'!C2:C100000,'Accounting Data'!E2:E100000,\"227\",'Accounting Data'!H2:H100000,{\"0??\",\"1??\",\"2??\",\"3??\",\"4??\",\"5??\",\"6??\"},'Accounting Data'!I2:I100000,\"25??\",'Accounting Data'!J2:J100000,\"689?\"))+SUM(SUMIFS('Accounting Data'!C2:C100000,'Accounting Data'!E2:E100000,\"227\",'Accounting Data'!H2:H100000,{\"0??\",\"1??\",\"2??\",\"3??\",\"4??\",\"5??\",\"6??\"},'Accounting Data'!I2:I100000,\"29??\",'Accounting Data'!J2:J100000,\"689?\"))+SUM(SUMIFS('Accounting Data'!C2:C100000,'Accounting Data'!E2:E100000,\"228\",'Accounting Data'!H2:H100000,{\"0??\",\"1??\",\"2??\",\"3??\",\"4??\",\"5??\",\"6??\"},'Accounting Data'!I2:I100000,\"23??\",'Accounting Data'!J2:J100000,\"689?\"))+SUM(SUMIFS('Accounting Data'!C2:C100000,'Accounting Data'!E2:E100000,\"228\",'Accounting Data'!H2:H100000,{\"0??\",\"1??\",\"2??\",\"3??\",\"4??\",\"5??\",\"6??\"},'Accounting Data'!I2:I100000,\"25??\",'Accounting Data'!J2:J100000,\"689?\"))+SUM(SUMIFS('Accounting Data'!C2:C100000,'Accounting Data'!E2:E100000,\"228\",'Accounting Data'!H2:H100000,{\"0??\",\"1??\",\"2??\",\"3??\",\"4??\",\"5??\",\"6??\"},'Accounting Data'!I2:I100000,\"29??\",'Accounting Data'!J2:J100000,\"689?\"))","v":0},{"$f":"SUM(SUMIFS('Accounting Data'!C2:C100000,'Accounting Data'!E2:E100000,\"COVID\",'Accounting Data'!H2:H100000,{\"0??\",\"1??\",\"2??\",\"3??\",\"4??\",\"5??\",\"6??\"},'Accounting Data'!I2:I100000,\"23??\",'Accounting Data'!J2:J100000,\"68??\"))+SUM(SUMIFS('Accounting Data'!C2:C100000,'Accounting Data'!E2:E100000,\"COVID\",'Accounting Data'!H2:H100000,{\"0??\",\"1??\",\"2??\",\"3??\",\"4??\",\"5??\",\"6??\"},'Accounting Data'!I2:I100000,\"25??\",'Accounting Data'!J2:J100000,\"68??\"))+SUM(SUMIFS('Accounting Data'!C2:C100000,'Accounting Data'!E2:E100000,\"COVID\",'Accounting Data'!H2:H100000,{\"0??\",\"1??\",\"2??\",\"3??\",\"4??\",\"5??\",\"6??\"},'Accounting Data'!I2:I100000,\"29??\",'Accounting Data'!J2:J100000,\"68??\"))+SUM(SUMIFS('Accounting Data'!C2:C100000,'Accounting Data'!E2:E100000,\"227\",'Accounting Data'!H2:H100000,{\"0??\",\"1??\",\"2??\",\"3??\",\"4??\",\"5??\",\"6??\"},'Accounting Data'!I2:I100000,\"23??\",'Accounting Data'!J2:J100000,\"68??\"))+SUM(SUMIFS('Accounting Data'!C2:C100000,'Accounting Data'!E2:E100000,\"227\",'Accounting Data'!H2:H100000,{\"0??\",\"1??\",\"2??\",\"3??\",\"4??\",\"5??\",\"6??\"},'Accounting Data'!I2:I100000,\"25??\",'Accounting Data'!J2:J100000,\"68??\"))+SUM(SUMIFS('Accounting Data'!C2:C100000,'Accounting Data'!E2:E100000,\"227\",'Accounting Data'!H2:H100000,{\"0??\",\"1??\",\"2??\",\"3??\",\"4??\",\"5??\",\"6??\"},'Accounting Data'!I2:I100000,\"29??\",'Accounting Data'!J2:J100000,\"68??\"))+SUM(SUMIFS('Accounting Data'!C2:C100000,'Accounting Data'!E2:E100000,\"228\",'Accounting Data'!H2:H100000,{\"0??\",\"1??\",\"2??\",\"3??\",\"4??\",\"5??\",\"6??\"},'Accounting Data'!I2:I100000,\"23??\",'Accounting Data'!J2:J100000,\"68??\"))+SUM(SUMIFS('Accounting Data'!C2:C100000,'Accounting Data'!E2:E100000,\"228\",'Accounting Data'!H2:H100000,{\"0??\",\"1??\",\"2??\",\"3??\",\"4??\",\"5??\",\"6??\"},'Accounting Data'!I2:I100000,\"25??\",'Accounting Data'!J2:J100000,\"68??\"))+SUM(SUMIFS('Accounting Data'!C2:C100000,'Accounting Data'!E2:E100000,\"228\",'Accounting Data'!H2:H100000,{\"0??\",\"1??\",\"2??\",\"3??\",\"4??\",\"5??\",\"6??\"},'Accounting Data'!I2:I100000,\"29??\",'Accounting Data'!J2:J100000,\"68??\"))-H12-I12-J12-K12","v":0},{"$f":"BA12+BB12+BC12","v":0},{"$f":"ROUND(SUM(C12:M12),0)","v":21674},null,null,null,null,null,null,null,null,null,null,null,null,null,null,null,null,null,null,null,null,null,null,null,null,null,null,null,null,null,null,null,null,null,null,null,{"$f":"SUM(SUMIFS('Accounting Data'!C2:C100000,'Accounting Data'!E2:E100000,\"COVID\",'Accounting Data'!H2:H100000,{\"0??\",\"1??\",\"2??\",\"3??\",\"4??\",\"5??\",\"6??\"},'Accounting Data'!I2:I100000,\"23??\",'Accounting Data'!J2:J100000,\"63??\"))+SUM(SUMIFS('Accounting Data'!C2:C100000,'Accounting Data'!E2:E100000,\"COVID\",'Accounting Data'!H2:H100000,{\"0??\",\"1??\",\"2??\",\"3??\",\"4??\",\"5??\",\"6??\"},'Accounting Data'!I2:I100000,\"23??\",'Accounting Data'!J2:J100000,\"64??\"))+SUM(SUMIFS('Accounting Data'!C2:C100000,'Accounting Data'!E2:E100000,\"COVID\",'Accounting Data'!H2:H100000,{\"0??\",\"1??\",\"2??\",\"3??\",\"4??\",\"5??\",\"6??\"},'Accounting Data'!I2:I100000,\"23??\",'Accounting Data'!J2:J100000,\"65??\"))+SUM(SUMIFS('Accounting Data'!C2:C100000,'Accounting Data'!E2:E100000,\"227\",'Accounting Data'!H2:H100000,{\"0??\",\"1??\",\"2??\",\"3??\",\"4??\",\"5??\",\"6??\"},'Accounting Data'!I2:I100000,\"23??\",'Accounting Data'!J2:J100000,\"63??\"))+SUM(SUMIFS('Accounting Data'!C2:C100000,'Accounting Data'!E2:E100000,\"227\",'Accounting Data'!H2:H100000,{\"0??\",\"1??\",\"2??\",\"3??\",\"4??\",\"5??\",\"6??\"},'Accounting Data'!I2:I100000,\"23??\",'Accounting Data'!J2:J100000,\"64??\"))+SUM(SUMIFS('Accounting Data'!C2:C100000,'Accounting Data'!E2:E100000,\"227\",'Accounting Data'!H2:H100000,{\"0??\",\"1??\",\"2??\",\"3??\",\"4??\",\"5??\",\"6??\"},'Accounting Data'!I2:I100000,\"23??\",'Accounting Data'!J2:J100000,\"65??\"))+SUM(SUMIFS('Accounting Data'!C2:C100000,'Accounting Data'!E2:E100000,\"228\",'Accounting Data'!H2:H100000,{\"0??\",\"1??\",\"2??\",\"3??\",\"4??\",\"5??\",\"6??\"},'Accounting Data'!I2:I100000,\"23??\",'Accounting Data'!J2:J100000,\"63??\"))+SUM(SUMIFS('Accounting Data'!C2:C100000,'Accounting Data'!E2:E100000,\"228\",'Accounting Data'!H2:H100000,{\"0??\",\"1??\",\"2??\",\"3??\",\"4??\",\"5??\",\"6??\"},'Accounting Data'!I2:I100000,\"23??\",'Accounting Data'!J2:J100000,\"64??\"))+SUM(SUMIFS('Accounting Data'!C2:C100000,'Accounting Data'!E2:E100000,\"228\",'Accounting Data'!H2:H100000,{\"0??\",\"1??\",\"2??\",\"3??\",\"4??\",\"5??\",\"6??\"},'Accounting Data'!I2:I100000,\"23??\",'Accounting Data'!J2:J100000,\"65??\"))","v":0},{"$f":"SUM(SUMIFS('Accounting Data'!C2:C100000,'Accounting Data'!E2:E100000,\"COVID\",'Accounting Data'!H2:H100000,{\"0??\",\"1??\",\"2??\",\"3??\",\"4??\",\"5??\",\"6??\"},'Accounting Data'!I2:I100000,\"25??\",'Accounting Data'!J2:J100000,\"63??\"))+SUM(SUMIFS('Accounting Data'!C2:C100000,'Accounting Data'!E2:E100000,\"COVID\",'Accounting Data'!H2:H100000,{\"0??\",\"1??\",\"2??\",\"3??\",\"4??\",\"5??\",\"6??\"},'Accounting Data'!I2:I100000,\"25??\",'Accounting Data'!J2:J100000,\"64??\"))+SUM(SUMIFS('Accounting Data'!C2:C100000,'Accounting Data'!E2:E100000,\"COVID\",'Accounting Data'!H2:H100000,{\"0??\",\"1??\",\"2??\",\"3??\",\"4??\",\"5??\",\"6??\"},'Accounting Data'!I2:I100000,\"25??\",'Accounting Data'!J2:J100000,\"65??\"))+SUM(SUMIFS('Accounting Data'!C2:C100000,'Accounting Data'!E2:E100000,\"227\",'Accounting Data'!H2:H100000,{\"0??\",\"1??\",\"2??\",\"3??\",\"4??\",\"5??\",\"6??\"},'Accounting Data'!I2:I100000,\"25??\",'Accounting Data'!J2:J100000,\"63??\"))+SUM(SUMIFS('Accounting Data'!C2:C100000,'Accounting Data'!E2:E100000,\"227\",'Accounting Data'!H2:H100000,{\"0??\",\"1??\",\"2??\",\"3??\",\"4??\",\"5??\",\"6??\"},'Accounting Data'!I2:I100000,\"25??\",'Accounting Data'!J2:J100000,\"64??\"))+SUM(SUMIFS('Accounting Data'!C2:C100000,'Accounting Data'!E2:E100000,\"227\",'Accounting Data'!H2:H100000,{\"0??\",\"1??\",\"2??\",\"3??\",\"4??\",\"5??\",\"6??\"},'Accounting Data'!I2:I100000,\"25??\",'Accounting Data'!J2:J100000,\"65??\"))+SUM(SUMIFS('Accounting Data'!C2:C100000,'Accounting Data'!E2:E100000,\"228\",'Accounting Data'!H2:H100000,{\"0??\",\"1??\",\"2??\",\"3??\",\"4??\",\"5??\",\"6??\"},'Accounting Data'!I2:I100000,\"25??\",'Accounting Data'!J2:J100000,\"63??\"))+SUM(SUMIFS('Accounting Data'!C2:C100000,'Accounting Data'!E2:E100000,\"228\",'Accounting Data'!H2:H100000,{\"0??\",\"1??\",\"2??\",\"3??\",\"4??\",\"5??\",\"6??\"},'Accounting Data'!I2:I100000,\"25??\",'Accounting Data'!J2:J100000,\"64??\"))+SUM(SUMIFS('Accounting Data'!C2:C100000,'Accounting Data'!E2:E100000,\"228\",'Accounting Data'!H2:H100000,{\"0??\",\"1??\",\"2??\",\"3??\",\"4??\",\"5??\",\"6??\"},'Accounting Data'!I2:I100000,\"25??\",'Accounting Data'!J2:J100000,\"65??\"))","v":0},{"$f":"SUM(SUMIFS('Accounting Data'!C2:C100000,'Accounting Data'!E2:E100000,\"COVID\",'Accounting Data'!H2:H100000,{\"0??\",\"1??\",\"2??\",\"3??\",\"4??\",\"5??\",\"6??\"},'Accounting Data'!I2:I100000,\"29??\",'Accounting Data'!J2:J100000,\"63??\"))+SUM(SUMIFS('Accounting Data'!C2:C100000,'Accounting Data'!E2:E100000,\"COVID\",'Accounting Data'!H2:H100000,{\"0??\",\"1??\",\"2??\",\"3??\",\"4??\",\"5??\",\"6??\"},'Accounting Data'!I2:I100000,\"29??\",'Accounting Data'!J2:J100000,\"64??\"))+SUM(SUMIFS('Accounting Data'!C2:C100000,'Accounting Data'!E2:E100000,\"COVID\",'Accounting Data'!H2:H100000,{\"0??\",\"1??\",\"2??\",\"3??\",\"4??\",\"5??\",\"6??\"},'Accounting Data'!I2:I100000,\"29??\",'Accounting Data'!J2:J100000,\"65??\"))+SUM(SUMIFS('Accounting Data'!C2:C100000,'Accounting Data'!E2:E100000,\"227\",'Accounting Data'!H2:H100000,{\"0??\",\"1??\",\"2??\",\"3??\",\"4??\",\"5??\",\"6??\"},'Accounting Data'!I2:I100000,\"29??\",'Accounting Data'!J2:J100000,\"63??\"))+SUM(SUMIFS('Accounting Data'!C2:C100000,'Accounting Data'!E2:E100000,\"227\",'Accounting Data'!H2:H100000,{\"0??\",\"1??\",\"2??\",\"3??\",\"4??\",\"5??\",\"6??\"},'Accounting Data'!I2:I100000,\"29??\",'Accounting Data'!J2:J100000,\"64??\"))+SUM(SUMIFS('Accounting Data'!C2:C100000,'Accounting Data'!E2:E100000,\"227\",'Accounting Data'!H2:H100000,{\"0??\",\"1??\",\"2??\",\"3??\",\"4??\",\"5??\",\"6??\"},'Accounting Data'!I2:I100000,\"29??\",'Accounting Data'!J2:J100000,\"65??\"))+SUM(SUMIFS('Accounting Data'!C2:C100000,'Accounting Data'!E2:E100000,\"228\",'Accounting Data'!H2:H100000,{\"0??\",\"1??\",\"2??\",\"3??\",\"4??\",\"5??\",\"6??\"},'Accounting Data'!I2:I100000,\"29??\",'Accounting Data'!J2:J100000,\"63??\"))+SUM(SUMIFS('Accounting Data'!C2:C100000,'Accounting Data'!E2:E100000,\"228\",'Accounting Data'!H2:H100000,{\"0??\",\"1??\",\"2??\",\"3??\",\"4??\",\"5??\",\"6??\"},'Accounting Data'!I2:I100000,\"29??\",'Accounting Data'!J2:J100000,\"64??\"))+SUM(SUMIFS('Accounting Data'!C2:C100000,'Accounting Data'!E2:E100000,\"228\",'Accounting Data'!H2:H100000,{\"0??\",\"1??\",\"2??\",\"3??\",\"4??\",\"5??\",\"6??\"},'Accounting Data'!I2:I100000,\"29??\",'Accounting Data'!J2:J100000,\"65??\"))","v":0},{"$f":"(SUM(SUMIFS('Accounting Data'!C2:C100000,'Accounting Data'!E2:E100000,\"COVID\",'Accounting Data'!H2:H100000,{\"7??\",\"8??\",\"9??\"},'Accounting Data'!I2:I100000,\"23??\",'Accounting Data'!J2:J100000,\"6???\"))-SUM(SUMIFS('Accounting Data'!C2:C100000,'Accounting Data'!E2:E100000,\"COVID\",'Accounting Data'!H2:H100000,{\"7??\",\"8??\",\"9??\"},'Accounting Data'!I2:I100000,\"23??\",'Accounting Data'!J2:J100000,\"69??\")))+(SUM(SUMIFS('Accounting Data'!C2:C100000,'Accounting Data'!E2:E100000,\"COVID\",'Accounting Data'!H2:H100000,{\"7??\",\"8??\",\"9??\"},'Accounting Data'!I2:I100000,\"25??\",'Accounting Data'!J2:J100000,\"6???\"))-SUM(SUMIFS('Accounting Data'!C2:C100000,'Accounting Data'!E2:E100000,\"COVID\",'Accounting Data'!H2:H100000,{\"7??\",\"8??\",\"9??\"},'Accounting Data'!I2:I100000,\"25??\",'Accounting Data'!J2:J100000,\"69??\")))+(SUM(SUMIFS('Accounting Data'!C2:C100000,'Accounting Data'!E2:E100000,\"COVID\",'Accounting Data'!H2:H100000,{\"7??\",\"8??\",\"9??\"},'Accounting Data'!I2:I100000,\"29??\",'Accounting Data'!J2:J100000,\"6???\"))-SUM(SUMIFS('Accounting Data'!C2:C100000,'Accounting Data'!E2:E100000,\"COVID\",'Accounting Data'!H2:H100000,{\"7??\",\"8??\",\"9??\"},'Accounting Data'!I2:I100000,\"29??\",'Accounting Data'!J2:J100000,\"69??\")))","v":0},{"$f":"(SUM(SUMIFS('Accounting Data'!C2:C100000,'Accounting Data'!E2:E100000,\"227\",'Accounting Data'!H2:H100000,{\"7??\",\"8??\",\"9??\"},'Accounting Data'!I2:I100000,\"23??\",'Accounting Data'!J2:J100000,\"6???\"))-SUM(SUMIFS('Accounting Data'!C2:C100000,'Accounting Data'!E2:E100000,\"227\",'Accounting Data'!H2:H100000,{\"7??\",\"8??\",\"9??\"},'Accounting Data'!I2:I100000,\"23??\",'Accounting Data'!J2:J100000,\"69??\")))+(SUM(SUMIFS('Accounting Data'!C2:C100000,'Accounting Data'!E2:E100000,\"227\",'Accounting Data'!H2:H100000,{\"7??\",\"8??\",\"9??\"},'Accounting Data'!I2:I100000,\"25??\",'Accounting Data'!J2:J100000,\"6???\"))-SUM(SUMIFS('Accounting Data'!C2:C100000,'Accounting Data'!E2:E100000,\"227\",'Accounting Data'!H2:H100000,{\"7??\",\"8??\",\"9??\"},'Accounting Data'!I2:I100000,\"25??\",'Accounting Data'!J2:J100000,\"69??\")))+(SUM(SUMIFS('Accounting Data'!C2:C100000,'Accounting Data'!E2:E100000,\"227\",'Accounting Data'!H2:H100000,{\"7??\",\"8??\",\"9??\"},'Accounting Data'!I2:I100000,\"29??\",'Accounting Data'!J2:J100000,\"6???\"))-SUM(SUMIFS('Accounting Data'!C2:C100000,'Accounting Data'!E2:E100000,\"227\",'Accounting Data'!H2:H100000,{\"7??\",\"8??\",\"9??\"},'Accounting Data'!I2:I100000,\"29??\",'Accounting Data'!J2:J100000,\"69??\")))","v":0},{"$f":"(SUM(SUMIFS('Accounting Data'!C2:C100000,'Accounting Data'!E2:E100000,\"228\",'Accounting Data'!H2:H100000,{\"7??\",\"8??\",\"9??\"},'Accounting Data'!I2:I100000,\"23??\",'Accounting Data'!J2:J100000,\"6???\"))-SUM(SUMIFS('Accounting Data'!C2:C100000,'Accounting Data'!E2:E100000,\"228\",'Accounting Data'!H2:H100000,{\"7??\",\"8??\",\"9??\"},'Accounting Data'!I2:I100000,\"23??\",'Accounting Data'!J2:J100000,\"69??\")))+(SUM(SUMIFS('Accounting Data'!C2:C100000,'Accounting Data'!E2:E100000,\"228\",'Accounting Data'!H2:H100000,{\"7??\",\"8??\",\"9??\"},'Accounting Data'!I2:I100000,\"25??\",'Accounting Data'!J2:J100000,\"6???\"))-SUM(SUMIFS('Accounting Data'!C2:C100000,'Accounting Data'!E2:E100000,\"228\",'Accounting Data'!H2:H100000,{\"7??\",\"8??\",\"9??\"},'Accounting Data'!I2:I100000,\"25??\",'Accounting Data'!J2:J100000,\"69??\")))+(SUM(SUMIFS('Accounting Data'!C2:C100000,'Accounting Data'!E2:E100000,\"228\",'Accounting Data'!H2:H100000,{\"7??\",\"8??\",\"9??\"},'Accounting Data'!I2:I100000,\"29??\",'Accounting Data'!J2:J100000,\"6???\"))-SUM(SUMIFS('Accounting Data'!C2:C100000,'Accounting Data'!E2:E100000,\"228\",'Accounting Data'!H2:H100000,{\"7??\",\"8??\",\"9??\"},'Accounting Data'!I2:I100000,\"29??\",'Accounting Data'!J2:J100000,\"69??\")))","v":0}]
["2400 School Administration","4.",{"$f":"SUM(SUMIFS('Accounting Data'!C2:C100000,'Accounting Data'!E2:E100000,\"COVID\",'Accounting Data'!H2:H100000,{\"0??\",\"1??\",\"2??\",\"3??\",\"4??\",\"5??\",\"6??\"},'Accounting Data'!I2:I100000,\"24??\",'Accounting Data'!J2:J100000,\"61??\"))+SUM(SUMIFS('Accounting Data'!C2:C100000,'Accounting Data'!E2:E100000,\"227\",'Accounting Data'!H2:H100000,{\"0??\",\"1??\",\"2??\",\"3??\",\"4??\",\"5??\",\"6??\"},'Accounting Data'!I2:I100000,\"24??\",'Accounting Data'!J2:J100000,\"61??\"))+SUM(SUMIFS('Accounting Data'!C2:C100000,'Accounting Data'!E2:E100000,\"228\",'Accounting Data'!H2:H100000,{\"0??\",\"1??\",\"2??\",\"3??\",\"4??\",\"5??\",\"6??\"},'Accounting Data'!I2:I100000,\"24??\",'Accounting Data'!J2:J100000,\"61??\"))","v":0},{"$f":"SUM(SUMIFS('Accounting Data'!C2:C100000,'Accounting Data'!E2:E100000,\"COVID\",'Accounting Data'!H2:H100000,{\"0??\",\"1??\",\"2??\",\"3??\",\"4??\",\"5??\",\"6??\"},'Accounting Data'!I2:I100000,\"24??\",'Accounting Data'!J2:J100000,\"62??\"))+SUM(SUMIFS('Accounting Data'!C2:C100000,'Accounting Data'!E2:E100000,\"227\",'Accounting Data'!H2:H100000,{\"0??\",\"1??\",\"2??\",\"3??\",\"4??\",\"5??\",\"6??\"},'Accounting Data'!I2:I100000,\"24??\",'Accounting Data'!J2:J100000,\"62??\"))+SUM(SUMIFS('Accounting Data'!C2:C100000,'Accounting Data'!E2:E100000,\"227\",'Accounting Data'!H2:H100000,{\"0??\",\"1??\",\"2??\",\"3??\",\"4??\",\"5??\",\"6??\"},'Accounting Data'!I2:I100000,\"24??\",'Accounting Data'!J2:J100000,\"62??\"))","v":0},{"$f":"SUM(SUMIFS('Accounting Data'!C2:C100000,'Accounting Data'!E2:E100000,\"COVID\",'Accounting Data'!H2:H100000,{\"0??\",\"1??\",\"2??\",\"3??\",\"4??\",\"5??\",\"6??\"},'Accounting Data'!I2:I100000,\"24??\",'Accounting Data'!J2:J100000,\"63??\"))+SUM(SUMIFS('Accounting Data'!C2:C100000,'Accounting Data'!E2:E100000,\"COVID\",'Accounting Data'!H2:H100000,{\"0??\",\"1??\",\"2??\",\"3??\",\"4??\",\"5??\",\"6??\"},'Accounting Data'!I2:I100000,\"24??\",'Accounting Data'!J2:J100000,\"64??\"))+SUM(SUMIFS('Accounting Data'!C2:C100000,'Accounting Data'!E2:E100000,\"COVID\",'Accounting Data'!H2:H100000,{\"0??\",\"1??\",\"2??\",\"3??\",\"4??\",\"5??\",\"6??\"},'Accounting Data'!I2:I100000,\"24??\",'Accounting Data'!J2:J100000,\"65??\"))+SUM(SUMIFS('Accounting Data'!C2:C100000,'Accounting Data'!E2:E100000,\"227\",'Accounting Data'!H2:H100000,{\"0??\",\"1??\",\"2??\",\"3??\",\"4??\",\"5??\",\"6??\"},'Accounting Data'!I2:I100000,\"24??\",'Accounting Data'!J2:J100000,\"63??\"))+SUM(SUMIFS('Accounting Data'!C2:C100000,'Accounting Data'!E2:E100000,\"227\",'Accounting Data'!H2:H100000,{\"0??\",\"1??\",\"2??\",\"3??\",\"4??\",\"5??\",\"6??\"},'Accounting Data'!I2:I100000,\"24??\",'Accounting Data'!J2:J100000,\"64??\"))+SUM(SUMIFS('Accounting Data'!C2:C100000,'Accounting Data'!E2:E100000,\"227\",'Accounting Data'!H2:H100000,{\"0??\",\"1??\",\"2??\",\"3??\",\"4??\",\"5??\",\"6??\"},'Accounting Data'!I2:I100000,\"24??\",'Accounting Data'!J2:J100000,\"65??\"))+SUM(SUMIFS('Accounting Data'!C2:C100000,'Accounting Data'!E2:E100000,\"228\",'Accounting Data'!H2:H100000,{\"0??\",\"1??\",\"2??\",\"3??\",\"4??\",\"5??\",\"6??\"},'Accounting Data'!I2:I100000,\"24??\",'Accounting Data'!J2:J100000,\"63??\"))+SUM(SUMIFS('Accounting Data'!C2:C100000,'Accounting Data'!E2:E100000,\"228\",'Accounting Data'!H2:H100000,{\"0??\",\"1??\",\"2??\",\"3??\",\"4??\",\"5??\",\"6??\"},'Accounting Data'!I2:I100000,\"24??\",'Accounting Data'!J2:J100000,\"64??\"))+SUM(SUMIFS('Accounting Data'!C2:C100000,'Accounting Data'!E2:E100000,\"228\",'Accounting Data'!H2:H100000,{\"0??\",\"1??\",\"2??\",\"3??\",\"4??\",\"5??\",\"6??\"},'Accounting Data'!I2:I100000,\"24??\",'Accounting Data'!J2:J100000,\"65??\"))","v":147490},{"$f":"SUM(SUMIFS('Accounting Data'!C2:C100000,'Accounting Data'!E2:E100000,\"COVID\",'Accounting Data'!H2:H100000,{\"0??\",\"1??\",\"2??\",\"3??\",\"4??\",\"5??\",\"6??\"},'Accounting Data'!I2:I100000,\"24??\",'Accounting Data'!J2:J100000,\"66??\"))+SUM(SUMIFS('Accounting Data'!C2:C100000,'Accounting Data'!E2:E100000,\"227\",'Accounting Data'!H2:H100000,{\"0??\",\"1??\",\"2??\",\"3??\",\"4??\",\"5??\",\"6??\"},'Accounting Data'!I2:I100000,\"24??\",'Accounting Data'!J2:J100000,\"66??\"))+SUM(SUMIFS('Accounting Data'!C2:C100000,'Accounting Data'!E2:E100000,\"228\",'Accounting Data'!H2:H100000,{\"0??\",\"1??\",\"2??\",\"3??\",\"4??\",\"5??\",\"6??\"},'Accounting Data'!I2:I100000,\"24??\",'Accounting Data'!J2:J100000,\"66??\"))","v":0},{"$f":"SUM(SUMIFS('Accounting Data'!C2:C100000,'Accounting Data'!E2:E100000,\"COVID\",'Accounting Data'!H2:H100000,{\"0??\",\"1??\",\"2??\",\"3??\",\"4??\",\"5??\",\"6??\"},'Accounting Data'!I2:I100000,\"24??\",'Accounting Data'!J2:J100000,\"67??\"))+SUM(SUMIFS('Accounting Data'!C2:C100000,'Accounting Data'!E2:E100000,\"227\",'Accounting Data'!H2:H100000,{\"0??\",\"1??\",\"2??\",\"3??\",\"4??\",\"5??\",\"6??\"},'Accounting Data'!I2:I100000,\"24??\",'Accounting Data'!J2:J100000,\"67??\"))+SUM(SUMIFS('Accounting Data'!C2:C100000,'Accounting Data'!E2:E100000,\"228\",'Accounting Data'!H2:H100000,{\"0??\",\"1??\",\"2??\",\"3??\",\"4??\",\"5??\",\"6??\"},'Accounting Data'!I2:I100000,\"24??\",'Accounting Data'!J2:J100000,\"67??\"))","v":0},{"$f":"SUM(SUMIFS('Accounting Data'!C2:C100000,'Accounting Data'!E2:E100000,\"COVID\",'Accounting Data'!H2:H100000,{\"0??\",\"1??\",\"2??\",\"3??\",\"4??\",\"5??\",\"6??\"},'Accounting Data'!I2:I100000,\"24??\",'Accounting Data'!J2:J100000,\"681?\"))+SUM(SUMIFS('Accounting Data'!C2:C100000,'Accounting Data'!E2:E100000,\"227\",'Accounting Data'!H2:H100000,{\"0??\",\"1??\",\"2??\",\"3??\",\"4??\",\"5??\",\"6??\"},'Accounting Data'!I2:I100000,\"24??\",'Accounting Data'!J2:J100000,\"681?\"))+SUM(SUMIFS('Accounting Data'!C2:C100000,'Accounting Data'!E2:E100000,\"228\",'Accounting Data'!H2:H100000,{\"0??\",\"1??\",\"2??\",\"3??\",\"4??\",\"5??\",\"6??\"},'Accounting Data'!I2:I100000,\"24??\",'Accounting Data'!J2:J100000,\"681?\"))","v":0},null,null,{"$f":"SUM(SUMIFS('Accounting Data'!C2:C100000,'Accounting Data'!E2:E100000,\"COVID\",'Accounting Data'!H2:H100000,{\"0??\",\"1??\",\"2??\",\"3??\",\"4??\",\"5??\",\"6??\"},'Accounting Data'!I2:I100000,\"24??\",'Accounting Data'!J2:J100000,\"689?\"))+SUM(SUMIFS('Accounting Data'!C2:C100000,'Accounting Data'!E2:E100000,\"227\",'Accounting Data'!H2:H100000,{\"0??\",\"1??\",\"2??\",\"3??\",\"4??\",\"5??\",\"6??\"},'Accounting Data'!I2:I100000,\"24??\",'Accounting Data'!J2:J100000,\"689?\"))+SUM(SUMIFS('Accounting Data'!C2:C100000,'Accounting Data'!E2:E100000,\"228\",'Accounting Data'!H2:H100000,{\"0??\",\"1??\",\"2??\",\"3??\",\"4??\",\"5??\",\"6??\"},'Accounting Data'!I2:I100000,\"24??\",'Accounting Data'!J2:J100000,\"689?\"))","v":0},{"$f":"SUM(SUMIFS('Accounting Data'!C2:C100000,'Accounting Data'!E2:E100000,\"COVID\",'Accounting Data'!H2:H100000,{\"0??\",\"1??\",\"2??\",\"3??\",\"4??\",\"5??\",\"6??\"},'Accounting Data'!I2:I100000,\"24??\",'Accounting Data'!J2:J100000,\"68??\"))+SUM(SUMIFS('Accounting Data'!C2:C100000,'Accounting Data'!E2:E100000,\"227\",'Accounting Data'!H2:H100000,{\"0??\",\"1??\",\"2??\",\"3??\",\"4??\",\"5??\",\"6??\"},'Accounting Data'!I2:I100000,\"24??\",'Accounting Data'!J2:J100000,\"68??\"))+SUM(SUMIFS('Accounting Data'!C2:C100000,'Accounting Data'!E2:E100000,\"228\",'Accounting Data'!H2:H100000,{\"0??\",\"1??\",\"2??\",\"3??\",\"4??\",\"5??\",\"6??\"},'Accounting Data'!I2:I100000,\"24??\",'Accounting Data'!J2:J100000,\"68??\"))-H13-K13","v":0},{"$f":"SUM(SUMIFS('Accounting Data'!C2:C100000,'Accounting Data'!E2:E100000,\"COVID\",'Accounting Data'!H2:H100000,{\"7??\",\"8??\",\"9??\"},'Accounting Data'!I2:I100000,\"24??\",'Accounting Data'!J2:J100000,\"6???\"))-SUM(SUMIFS('Accounting Data'!C2:C100000,'Accounting Data'!E2:E100000,\"COVID\",'Accounting Data'!H2:H100000,{\"7??\",\"8??\",\"9??\"},'Accounting Data'!I2:I100000,\"24??\",'Accounting Data'!J2:J100000,\"69??\"))+SUM(SUMIFS('Accounting Data'!C2:C100000,'Accounting Data'!E2:E100000,\"227\",'Accounting Data'!H2:H100000,{\"7??\",\"8??\",\"9??\"},'Accounting Data'!I2:I100000,\"24??\",'Accounting Data'!J2:J100000,\"6???\"))-SUM(SUMIFS('Accounting Data'!C2:C100000,'Accounting Data'!E2:E100000,\"227\",'Accounting Data'!H2:H100000,{\"7??\",\"8??\",\"9??\"},'Accounting Data'!I2:I100000,\"24??\",'Accounting Data'!J2:J100000,\"69??\"))+SUM(SUMIFS('Accounting Data'!C2:C100000,'Accounting Data'!E2:E100000,\"228\",'Accounting Data'!H2:H100000,{\"7??\",\"8??\",\"9??\"},'Accounting Data'!I2:I100000,\"24??\",'Accounting Data'!J2:J100000,\"6???\"))-SUM(SUMIFS('Accounting Data'!C2:C100000,'Accounting Data'!E2:E100000,\"228\",'Accounting Data'!H2:H100000,{\"7??\",\"8??\",\"9??\"},'Accounting Data'!I2:I100000,\"24??\",'Accounting Data'!J2:J100000,\"69??\"))","v":0},{"$f":"ROUND(SUM(C13:M13),0)","v":147490}]
["2600 Operation and Maintenance of Plant","5.",{"$f":"SUM(SUMIFS('Accounting Data'!C2:C100000,'Accounting Data'!E2:E100000,\"COVID\",'Accounting Data'!H2:H100000,{\"0??\",\"1??\",\"2??\",\"3??\",\"4??\",\"5??\",\"6??\"},'Accounting Data'!I2:I100000,\"26??\",'Accounting Data'!J2:J100000,\"61??\"))+SUM(SUMIFS('Accounting Data'!C2:C100000,'Accounting Data'!E2:E100000,\"227\",'Accounting Data'!H2:H100000,{\"0??\",\"1??\",\"2??\",\"3??\",\"4??\",\"5??\",\"6??\"},'Accounting Data'!I2:I100000,\"26??\",'Accounting Data'!J2:J100000,\"61??\"))+SUM(SUMIFS('Accounting Data'!C2:C100000,'Accounting Data'!E2:E100000,\"228\",'Accounting Data'!H2:H100000,{\"0??\",\"1??\",\"2??\",\"3??\",\"4??\",\"5??\",\"6??\"},'Accounting Data'!I2:I100000,\"26??\",'Accounting Data'!J2:J100000,\"61??\"))","v":0},{"$f":"SUM(SUMIFS('Accounting Data'!C2:C100000,'Accounting Data'!E2:E100000,\"COVID\",'Accounting Data'!H2:H100000,{\"0??\",\"1??\",\"2??\",\"3??\",\"4??\",\"5??\",\"6??\"},'Accounting Data'!I2:I100000,\"26??\",'Accounting Data'!J2:J100000,\"62??\"))+SUM(SUMIFS('Accounting Data'!C2:C100000,'Accounting Data'!E2:E100000,\"227\",'Accounting Data'!H2:H100000,{\"0??\",\"1??\",\"2??\",\"3??\",\"4??\",\"5??\",\"6??\"},'Accounting Data'!I2:I100000,\"26??\",'Accounting Data'!J2:J100000,\"62??\"))+SUM(SUMIFS('Accounting Data'!C2:C100000,'Accounting Data'!E2:E100000,\"228\",'Accounting Data'!H2:H100000,{\"0??\",\"1??\",\"2??\",\"3??\",\"4??\",\"5??\",\"6??\"},'Accounting Data'!I2:I100000,\"26??\",'Accounting Data'!J2:J100000,\"62??\"))","v":0},{"$f":"SUM(SUMIFS('Accounting Data'!C2:C100000,'Accounting Data'!E2:E100000,\"COVID\",'Accounting Data'!H2:H100000,{\"0??\",\"1??\",\"2??\",\"3??\",\"4??\",\"5??\",\"6??\"},'Accounting Data'!I2:I100000,\"26??\",'Accounting Data'!J2:J100000,\"63??\"))+SUM(SUMIFS('Accounting Data'!C2:C100000,'Accounting Data'!E2:E100000,\"COVID\",'Accounting Data'!H2:H100000,{\"0??\",\"1??\",\"2??\",\"3??\",\"4??\",\"5??\",\"6??\"},'Accounting Data'!I2:I100000,\"26??\",'Accounting Data'!J2:J100000,\"64??\"))+SUM(SUMIFS('Accounting Data'!C2:C100000,'Accounting Data'!E2:E100000,\"COVID\",'Accounting Data'!H2:H100000,{\"0??\",\"1??\",\"2??\",\"3??\",\"4??\",\"5??\",\"6??\"},'Accounting Data'!I2:I100000,\"26??\",'Accounting Data'!J2:J100000,\"65??\"))+SUM(SUMIFS('Accounting Data'!C2:C100000,'Accounting Data'!E2:E100000,\"227\",'Accounting Data'!H2:H100000,{\"0??\",\"1??\",\"2??\",\"3??\",\"4??\",\"5??\",\"6??\"},'Accounting Data'!I2:I100000,\"26??\",'Accounting Data'!J2:J100000,\"63??\"))+SUM(SUMIFS('Accounting Data'!C2:C100000,'Accounting Data'!E2:E100000,\"227\",'Accounting Data'!H2:H100000,{\"0??\",\"1??\",\"2??\",\"3??\",\"4??\",\"5??\",\"6??\"},'Accounting Data'!I2:I100000,\"26??\",'Accounting Data'!J2:J100000,\"64??\"))+SUM(SUMIFS('Accounting Data'!C2:C100000,'Accounting Data'!E2:E100000,\"227\",'Accounting Data'!H2:H100000,{\"0??\",\"1??\",\"2??\",\"3??\",\"4??\",\"5??\",\"6??\"},'Accounting Data'!I2:I100000,\"26??\",'Accounting Data'!J2:J100000,\"65??\"))+SUM(SUMIFS('Accounting Data'!C2:C100000,'Accounting Data'!E2:E100000,\"228\",'Accounting Data'!H2:H100000,{\"0??\",\"1??\",\"2??\",\"3??\",\"4??\",\"5??\",\"6??\"},'Accounting Data'!I2:I100000,\"26??\",'Accounting Data'!J2:J100000,\"63??\"))+SUM(SUMIFS('Accounting Data'!C2:C100000,'Accounting Data'!E2:E100000,\"228\",'Accounting Data'!H2:H100000,{\"0??\",\"1??\",\"2??\",\"3??\",\"4??\",\"5??\",\"6??\"},'Accounting Data'!I2:I100000,\"26??\",'Accounting Data'!J2:J100000,\"64??\"))+SUM(SUMIFS('Accounting Data'!C2:C100000,'Accounting Data'!E2:E100000,\"228\",'Accounting Data'!H2:H100000,{\"0??\",\"1??\",\"2??\",\"3??\",\"4??\",\"5??\",\"6??\"},'Accounting Data'!I2:I100000,\"26??\",'Accounting Data'!J2:J100000,\"65??\"))","v":0},{"$f":"SUM(SUMIFS('Accounting Data'!C2:C100000,'Accounting Data'!E2:E100000,\"COVID\",'Accounting Data'!H2:H100000,{\"0??\",\"1??\",\"2??\",\"3??\",\"4??\",\"5??\",\"6??\"},'Accounting Data'!I2:I100000,\"26??\",'Accounting Data'!J2:J100000,\"66??\"))+SUM(SUMIFS('Accounting Data'!C2:C100000,'Accounting Data'!E2:E100000,\"227\",'Accounting Data'!H2:H100000,{\"0??\",\"1??\",\"2??\",\"3??\",\"4??\",\"5??\",\"6??\"},'Accounting Data'!I2:I100000,\"26??\",'Accounting Data'!J2:J100000,\"66??\"))+SUM(SUMIFS('Accounting Data'!C2:C100000,'Accounting Data'!E2:E100000,\"228\",'Accounting Data'!H2:H100000,{\"0??\",\"1??\",\"2??\",\"3??\",\"4??\",\"5??\",\"6??\"},'Accounting Data'!I2:I100000,\"26??\",'Accounting Data'!J2:J100000,\"66??\"))","v":12939},{"$f":"SUM(SUMIFS('Accounting Data'!C2:C100000,'Accounting Data'!E2:E100000,\"COVID\",'Accounting Data'!H2:H100000,{\"0??\",\"1??\",\"2??\",\"3??\",\"4??\",\"5??\",\"6??\"},'Accounting Data'!I2:I100000,\"26??\",'Accounting Data'!J2:J100000,\"67??\"))+SUM(SUMIFS('Accounting Data'!C2:C100000,'Accounting Data'!E2:E100000,\"227\",'Accounting Data'!H2:H100000,{\"0??\",\"1??\",\"2??\",\"3??\",\"4??\",\"5??\",\"6??\"},'Accounting Data'!I2:I100000,\"26??\",'Accounting Data'!J2:J100000,\"67??\"))+SUM(SUMIFS('Accounting Data'!C2:C100000,'Accounting Data'!E2:E100000,\"228\",'Accounting Data'!H2:H100000,{\"0??\",\"1??\",\"2??\",\"3??\",\"4??\",\"5??\",\"6??\"},'Accounting Data'!I2:I100000,\"26??\",'Accounting Data'!J2:J100000,\"67??\"))","v":0},{"$f":"SUM(SUMIFS('Accounting Data'!C2:C100000,'Accounting Data'!E2:E100000,\"COVID\",'Accounting Data'!H2:H100000,{\"0??\",\"1??\",\"2??\",\"3??\",\"4??\",\"5??\",\"6??\"},'Accounting Data'!I2:I100000,\"26??\",'Accounting Data'!J2:J100000,\"681?\"))+SUM(SUMIFS('Accounting Data'!C2:C100000,'Accounting Data'!E2:E100000,\"227\",'Accounting Data'!H2:H100000,{\"0??\",\"1??\",\"2??\",\"3??\",\"4??\",\"5??\",\"6??\"},'Accounting Data'!I2:I100000,\"26??\",'Accounting Data'!J2:J100000,\"681?\"))+SUM(SUMIFS('Accounting Data'!C2:C100000,'Accounting Data'!E2:E100000,\"228\",'Accounting Data'!H2:H100000,{\"0??\",\"1??\",\"2??\",\"3??\",\"4??\",\"5??\",\"6??\"},'Accounting Data'!I2:I100000,\"26??\",'Accounting Data'!J2:J100000,\"681?\"))","v":0},null,null,{"$f":"SUM(SUMIFS('Accounting Data'!C2:C100000,'Accounting Data'!E2:E100000,\"COVID\",'Accounting Data'!H2:H100000,{\"0??\",\"1??\",\"2??\",\"3??\",\"4??\",\"5??\",\"6??\"},'Accounting Data'!I2:I100000,\"26??\",'Accounting Data'!J2:J100000,\"689?\"))+SUM(SUMIFS('Accounting Data'!C2:C100000,'Accounting Data'!E2:E100000,\"227\",'Accounting Data'!H2:H100000,{\"0??\",\"1??\",\"2??\",\"3??\",\"4??\",\"5??\",\"6??\"},'Accounting Data'!I2:I100000,\"26??\",'Accounting Data'!J2:J100000,\"689?\"))+SUM(SUMIFS('Accounting Data'!C2:C100000,'Accounting Data'!E2:E100000,\"228\",'Accounting Data'!H2:H100000,{\"0??\",\"1??\",\"2??\",\"3??\",\"4??\",\"5??\",\"6??\"},'Accounting Data'!I2:I100000,\"26??\",'Accounting Data'!J2:J100000,\"689?\"))","v":0},{"$f":"SUM(SUMIFS('Accounting Data'!C2:C100000,'Accounting Data'!E2:E100000,\"COVID\",'Accounting Data'!H2:H100000,{\"0??\",\"1??\",\"2??\",\"3??\",\"4??\",\"5??\",\"6??\"},'Accounting Data'!I2:I100000,\"26??\",'Accounting Data'!J2:J100000,\"68??\"))+SUM(SUMIFS('Accounting Data'!C2:C100000,'Accounting Data'!E2:E100000,\"227\",'Accounting Data'!H2:H100000,{\"0??\",\"1??\",\"2??\",\"3??\",\"4??\",\"5??\",\"6??\"},'Accounting Data'!I2:I100000,\"26??\",'Accounting Data'!J2:J100000,\"68??\"))+SUM(SUMIFS('Accounting Data'!C2:C100000,'Accounting Data'!E2:E100000,\"228\",'Accounting Data'!H2:H100000,{\"0??\",\"1??\",\"2??\",\"3??\",\"4??\",\"5??\",\"6??\"},'Accounting Data'!I2:I100000,\"26??\",'Accounting Data'!J2:J100000,\"68??\"))-H14-K14","v":0},{"$f":"SUM(SUMIFS('Accounting Data'!C2:C100000,'Accounting Data'!E2:E100000,\"COVID\",'Accounting Data'!H2:H100000,{\"7??\",\"8??\",\"9??\"},'Accounting Data'!I2:I100000,\"26??\",'Accounting Data'!J2:J100000,\"6???\"))-SUM(SUMIFS('Accounting Data'!C2:C100000,'Accounting Data'!E2:E100000,\"COVID\",'Accounting Data'!H2:H100000,{\"7??\",\"8??\",\"9??\"},'Accounting Data'!I2:I100000,\"26??\",'Accounting Data'!J2:J100000,\"69??\"))+SUM(SUMIFS('Accounting Data'!C2:C100000,'Accounting Data'!E2:E100000,\"227\",'Accounting Data'!H2:H100000,{\"7??\",\"8??\",\"9??\"},'Accounting Data'!I2:I100000,\"26??\",'Accounting Data'!J2:J100000,\"6???\"))-SUM(SUMIFS('Accounting Data'!C2:C100000,'Accounting Data'!E2:E100000,\"227\",'Accounting Data'!H2:H100000,{\"7??\",\"8??\",\"9??\"},'Accounting Data'!I2:I100000,\"26??\",'Accounting Data'!J2:J100000,\"69??\"))+SUM(SUMIFS('Accounting Data'!C2:C100000,'Accounting Data'!E2:E100000,\"228\",'Accounting Data'!H2:H100000,{\"7??\",\"8??\",\"9??\"},'Accounting Data'!I2:I100000,\"26??\",'Accounting Data'!J2:J100000,\"6???\"))-SUM(SUMIFS('Accounting Data'!C2:C100000,'Accounting Data'!E2:E100000,\"228\",'Accounting Data'!H2:H100000,{\"7??\",\"8??\",\"9??\"},'Accounting Data'!I2:I100000,\"26??\",'Accounting Data'!J2:J100000,\"69??\"))","v":0},12939]
["2700 Student Transportation","6.",{"$f":"SUM(SUMIFS('Accounting Data'!C2:C100000,'Accounting Data'!E2:E100000,\"COVID\",'Accounting Data'!H2:H100000,{\"0??\",\"1??\",\"2??\",\"3??\",\"4??\",\"5??\",\"6??\"},'Accounting Data'!I2:I100000,\"27??\",'Accounting Data'!J2:J100000,\"61??\"))+SUM(SUMIFS('Accounting Data'!C2:C100000,'Accounting Data'!E2:E100000,\"227\",'Accounting Data'!H2:H100000,{\"0??\",\"1??\",\"2??\",\"3??\",\"4??\",\"5??\",\"6??\"},'Accounting Data'!I2:I100000,\"27??\",'Accounting Data'!J2:J100000,\"61??\"))+SUM(SUMIFS('Accounting Data'!C2:C100000,'Accounting Data'!E2:E100000,\"228\",'Accounting Data'!H2:H100000,{\"0??\",\"1??\",\"2??\",\"3??\",\"4??\",\"5??\",\"6??\"},'Accounting Data'!I2:I100000,\"27??\",'Accounting Data'!J2:J100000,\"61??\"))","v":38197},{"$f":"SUM(SUMIFS('Accounting Data'!C2:C100000,'Accounting Data'!E2:E100000,\"COVID\",'Accounting Data'!H2:H100000,{\"0??\",\"1??\",\"2??\",\"3??\",\"4??\",\"5??\",\"6??\"},'Accounting Data'!I2:I100000,\"27??\",'Accounting Data'!J2:J100000,\"62??\"))+SUM(SUMIFS('Accounting Data'!C2:C100000,'Accounting Data'!E2:E100000,\"227\",'Accounting Data'!H2:H100000,{\"0??\",\"1??\",\"2??\",\"3??\",\"4??\",\"5??\",\"6??\"},'Accounting Data'!I2:I100000,\"27??\",'Accounting Data'!J2:J100000,\"62??\"))+SUM(SUMIFS('Accounting Data'!C2:C100000,'Accounting Data'!E2:E100000,\"228\",'Accounting Data'!H2:H100000,{\"0??\",\"1??\",\"2??\",\"3??\",\"4??\",\"5??\",\"6??\"},'Accounting Data'!I2:I100000,\"27??\",'Accounting Data'!J2:J100000,\"62??\"))","v":8035},{"$f":"SUM(SUMIFS('Accounting Data'!C2:C100000,'Accounting Data'!E2:E100000,\"COVID\",'Accounting Data'!H2:H100000,{\"0??\",\"1??\",\"2??\",\"3??\",\"4??\",\"5??\",\"6??\"},'Accounting Data'!I2:I100000,\"27??\",'Accounting Data'!J2:J100000,\"63??\"))+SUM(SUMIFS('Accounting Data'!C2:C100000,'Accounting Data'!E2:E100000,\"COVID\",'Accounting Data'!H2:H100000,{\"0??\",\"1??\",\"2??\",\"3??\",\"4??\",\"5??\",\"6??\"},'Accounting Data'!I2:I100000,\"27??\",'Accounting Data'!J2:J100000,\"64??\"))+SUM(SUMIFS('Accounting Data'!C2:C100000,'Accounting Data'!E2:E100000,\"COVID\",'Accounting Data'!H2:H100000,{\"0??\",\"1??\",\"2??\",\"3??\",\"4??\",\"5??\",\"6??\"},'Accounting Data'!I2:I100000,\"27??\",'Accounting Data'!J2:J100000,\"65??\"))+SUM(SUMIFS('Accounting Data'!C2:C100000,'Accounting Data'!E2:E100000,\"227\",'Accounting Data'!H2:H100000,{\"0??\",\"1??\",\"2??\",\"3??\",\"4??\",\"5??\",\"6??\"},'Accounting Data'!I2:I100000,\"27??\",'Accounting Data'!J2:J100000,\"63??\"))+SUM(SUMIFS('Accounting Data'!C2:C100000,'Accounting Data'!E2:E100000,\"227\",'Accounting Data'!H2:H100000,{\"0??\",\"1??\",\"2??\",\"3??\",\"4??\",\"5??\",\"6??\"},'Accounting Data'!I2:I100000,\"27??\",'Accounting Data'!J2:J100000,\"64??\"))+SUM(SUMIFS('Accounting Data'!C2:C100000,'Accounting Data'!E2:E100000,\"227\",'Accounting Data'!H2:H100000,{\"0??\",\"1??\",\"2??\",\"3??\",\"4??\",\"5??\",\"6??\"},'Accounting Data'!I2:I100000,\"27??\",'Accounting Data'!J2:J100000,\"65??\"))+SUM(SUMIFS('Accounting Data'!C2:C100000,'Accounting Data'!E2:E100000,\"228\",'Accounting Data'!H2:H100000,{\"0??\",\"1??\",\"2??\",\"3??\",\"4??\",\"5??\",\"6??\"},'Accounting Data'!I2:I100000,\"27??\",'Accounting Data'!J2:J100000,\"63??\"))+SUM(SUMIFS('Accounting Data'!C2:C100000,'Accounting Data'!E2:E100000,\"228\",'Accounting Data'!H2:H100000,{\"0??\",\"1??\",\"2??\",\"3??\",\"4??\",\"5??\",\"6??\"},'Accounting Data'!I2:I100000,\"27??\",'Accounting Data'!J2:J100000,\"64??\"))+SUM(SUMIFS('Accounting Data'!C2:C100000,'Accounting Data'!E2:E100000,\"228\",'Accounting Data'!H2:H100000,{\"0??\",\"1??\",\"2??\",\"3??\",\"4??\",\"5??\",\"6??\"},'Accounting Data'!I2:I100000,\"27??\",'Accounting Data'!J2:J100000,\"65??\"))","v":0},{"$f":"SUM(SUMIFS('Accounting Data'!C2:C100000,'Accounting Data'!E2:E100000,\"COVID\",'Accounting Data'!H2:H100000,{\"0??\",\"1??\",\"2??\",\"3??\",\"4??\",\"5??\",\"6??\"},'Accounting Data'!I2:I100000,\"27??\",'Accounting Data'!J2:J100000,\"66??\"))+SUM(SUMIFS('Accounting Data'!C2:C100000,'Accounting Data'!E2:E100000,\"227\",'Accounting Data'!H2:H100000,{\"0??\",\"1??\",\"2??\",\"3??\",\"4??\",\"5??\",\"6??\"},'Accounting Data'!I2:I100000,\"27??\",'Accounting Data'!J2:J100000,\"66??\"))+SUM(SUMIFS('Accounting Data'!C2:C100000,'Accounting Data'!E2:E100000,\"228\",'Accounting Data'!H2:H100000,{\"0??\",\"1??\",\"2??\",\"3??\",\"4??\",\"5??\",\"6??\"},'Accounting Data'!I2:I100000,\"27??\",'Accounting Data'!J2:J100000,\"66??\"))","v":0},{"$f":"SUM(SUMIFS('Accounting Data'!C2:C100000,'Accounting Data'!E2:E100000,\"COVID\",'Accounting Data'!H2:H100000,{\"0??\",\"1??\",\"2??\",\"3??\",\"4??\",\"5??\",\"6??\"},'Accounting Data'!I2:I100000,\"27??\",'Accounting Data'!J2:J100000,\"67??\"))+SUM(SUMIFS('Accounting Data'!C2:C100000,'Accounting Data'!E2:E100000,\"227\",'Accounting Data'!H2:H100000,{\"0??\",\"1??\",\"2??\",\"3??\",\"4??\",\"5??\",\"6??\"},'Accounting Data'!I2:I100000,\"27??\",'Accounting Data'!J2:J100000,\"67??\"))+SUM(SUMIFS('Accounting Data'!C2:C100000,'Accounting Data'!E2:E100000,\"228\",'Accounting Data'!H2:H100000,{\"0??\",\"1??\",\"2??\",\"3??\",\"4??\",\"5??\",\"6??\"},'Accounting Data'!I2:I100000,\"27??\",'Accounting Data'!J2:J100000,\"67??\"))","v":0},{"$f":"SUM(SUMIFS('Accounting Data'!C2:C100000,'Accounting Data'!E2:E100000,\"COVID\",'Accounting Data'!H2:H100000,{\"0??\",\"1??\",\"2??\",\"3??\",\"4??\",\"5??\",\"6??\"},'Accounting Data'!I2:I100000,\"27??\",'Accounting Data'!J2:J100000,\"681?\"))+SUM(SUMIFS('Accounting Data'!C2:C100000,'Accounting Data'!E2:E100000,\"227\",'Accounting Data'!H2:H100000,{\"0??\",\"1??\",\"2??\",\"3??\",\"4??\",\"5??\",\"6??\"},'Accounting Data'!I2:I100000,\"27??\",'Accounting Data'!J2:J100000,\"681?\"))+SUM(SUMIFS('Accounting Data'!C2:C100000,'Accounting Data'!E2:E100000,\"228\",'Accounting Data'!H2:H100000,{\"0??\",\"1??\",\"2??\",\"3??\",\"4??\",\"5??\",\"6??\"},'Accounting Data'!I2:I100000,\"27??\",'Accounting Data'!J2:J100000,\"681?\"))","v":0},null,null,{"$f":"SUM(SUMIFS('Accounting Data'!C2:C100000,'Accounting Data'!E2:E100000,\"COVID\",'Accounting Data'!H2:H100000,{\"0??\",\"1??\",\"2??\",\"3??\",\"4??\",\"5??\",\"6??\"},'Accounting Data'!I2:I100000,\"27??\",'Accounting Data'!J2:J100000,\"689?\"))+SUM(SUMIFS('Accounting Data'!C2:C100000,'Accounting Data'!E2:E100000,\"227\",'Accounting Data'!H2:H100000,{\"0??\",\"1??\",\"2??\",\"3??\",\"4??\",\"5??\",\"6??\"},'Accounting Data'!I2:I100000,\"27??\",'Accounting Data'!J2:J100000,\"689?\"))+SUM(SUMIFS('Accounting Data'!C2:C100000,'Accounting Data'!E2:E100000,\"228\",'Accounting Data'!H2:H100000,{\"0??\",\"1??\",\"2??\",\"3??\",\"4??\",\"5??\",\"6??\"},'Accounting Data'!I2:I100000,\"27??\",'Accounting Data'!J2:J100000,\"689?\"))","v":0},{"$f":"SUM(SUMIFS('Accounting Data'!C2:C100000,'Accounting Data'!E2:E100000,\"COVID\",'Accounting Data'!H2:H100000,{\"0??\",\"1??\",\"2??\",\"3??\",\"4??\",\"5??\",\"6??\"},'Accounting Data'!I2:I100000,\"27??\",'Accounting Data'!J2:J100000,\"68??\"))+SUM(SUMIFS('Accounting Data'!C2:C100000,'Accounting Data'!E2:E100000,\"227\",'Accounting Data'!H2:H100000,{\"0??\",\"1??\",\"2??\",\"3??\",\"4??\",\"5??\",\"6??\"},'Accounting Data'!I2:I100000,\"27??\",'Accounting Data'!J2:J100000,\"68??\"))+SUM(SUMIFS('Accounting Data'!C2:C100000,'Accounting Data'!E2:E100000,\"228\",'Accounting Data'!H2:H100000,{\"0??\",\"1??\",\"2??\",\"3??\",\"4??\",\"5??\",\"6??\"},'Accounting Data'!I2:I100000,\"27??\",'Accounting Data'!J2:J100000,\"68??\"))-H15-K15","v":0},{"$f":"SUM(SUMIFS('Accounting Data'!C2:C100000,'Accounting Data'!E2:E100000,\"COVID\",'Accounting Data'!H2:H100000,{\"7??\",\"8??\",\"9??\"},'Accounting Data'!I2:I100000,\"27??\",'Accounting Data'!J2:J100000,\"6???\"))-SUM(SUMIFS('Accounting Data'!C2:C100000,'Accounting Data'!E2:E100000,\"COVID\",'Accounting Data'!H2:H100000,{\"7??\",\"8??\",\"9??\"},'Accounting Data'!I2:I100000,\"27??\",'Accounting Data'!J2:J100000,\"69??\"))+SUM(SUMIFS('Accounting Data'!C2:C100000,'Accounting Data'!E2:E100000,\"227\",'Accounting Data'!H2:H100000,{\"7??\",\"8??\",\"9??\"},'Accounting Data'!I2:I100000,\"27??\",'Accounting Data'!J2:J100000,\"6???\"))-SUM(SUMIFS('Accounting Data'!C2:C100000,'Accounting Data'!E2:E100000,\"227\",'Accounting Data'!H2:H100000,{\"7??\",\"8??\",\"9??\"},'Accounting Data'!I2:I100000,\"27??\",'Accounting Data'!J2:J100000,\"69??\"))+SUM(SUMIFS('Accounting Data'!C2:C100000,'Accounting Data'!E2:E100000,\"228\",'Accounting Data'!H2:H100000,{\"7??\",\"8??\",\"9??\"},'Accounting Data'!I2:I100000,\"27??\",'Accounting Data'!J2:J100000,\"6???\"))-SUM(SUMIFS('Accounting Data'!C2:C100000,'Accounting Data'!E2:E100000,\"228\",'Accounting Data'!H2:H100000,{\"7??\",\"8??\",\"9??\"},'Accounting Data'!I2:I100000,\"27??\",'Accounting Data'!J2:J100000,\"69??\"))","v":0},46232]
["3100 Food Service Operations","7.",{"$f":"SUM(SUMIFS('Accounting Data'!C2:C100000,'Accounting Data'!E2:E100000,\"COVID\",'Accounting Data'!H2:H100000,{\"0??\",\"1??\",\"2??\",\"3??\",\"4??\",\"5??\",\"6??\"},'Accounting Data'!I2:I100000,\"31??\",'Accounting Data'!J2:J100000,\"61??\"))+SUM(SUMIFS('Accounting Data'!C2:C100000,'Accounting Data'!E2:E100000,\"227\",'Accounting Data'!H2:H100000,{\"0??\",\"1??\",\"2??\",\"3??\",\"4??\",\"5??\",\"6??\"},'Accounting Data'!I2:I100000,\"31??\",'Accounting Data'!J2:J100000,\"61??\"))+SUM(SUMIFS('Accounting Data'!C2:C100000,'Accounting Data'!E2:E100000,\"228\",'Accounting Data'!H2:H100000,{\"0??\",\"1??\",\"2??\",\"3??\",\"4??\",\"5??\",\"6??\"},'Accounting Data'!I2:I100000,\"31??\",'Accounting Data'!J2:J100000,\"61??\"))","v":0},{"$f":"SUM(SUMIFS('Accounting Data'!C2:C100000,'Accounting Data'!E2:E100000,\"COVID\",'Accounting Data'!H2:H100000,{\"0??\",\"1??\",\"2??\",\"3??\",\"4??\",\"5??\",\"6??\"},'Accounting Data'!I2:I100000,\"31??\",'Accounting Data'!J2:J100000,\"62??\"))+SUM(SUMIFS('Accounting Data'!C2:C100000,'Accounting Data'!E2:E100000,\"227\",'Accounting Data'!H2:H100000,{\"0??\",\"1??\",\"2??\",\"3??\",\"4??\",\"5??\",\"6??\"},'Accounting Data'!I2:I100000,\"31??\",'Accounting Data'!J2:J100000,\"62??\"))+SUM(SUMIFS('Accounting Data'!C2:C100000,'Accounting Data'!E2:E100000,\"228\",'Accounting Data'!H2:H100000,{\"0??\",\"1??\",\"2??\",\"3??\",\"4??\",\"5??\",\"6??\"},'Accounting Data'!I2:I100000,\"31??\",'Accounting Data'!J2:J100000,\"62??\"))","v":0},{"$f":"SUM(SUMIFS('Accounting Data'!C2:C100000,'Accounting Data'!E2:E100000,\"COVID\",'Accounting Data'!H2:H100000,{\"0??\",\"1??\",\"2??\",\"3??\",\"4??\",\"5??\",\"6??\"},'Accounting Data'!I2:I100000,\"31??\",'Accounting Data'!J2:J100000,\"63??\"))+SUM(SUMIFS('Accounting Data'!C2:C100000,'Accounting Data'!E2:E100000,\"COVID\",'Accounting Data'!H2:H100000,{\"0??\",\"1??\",\"2??\",\"3??\",\"4??\",\"5??\",\"6??\"},'Accounting Data'!I2:I100000,\"31??\",'Accounting Data'!J2:J100000,\"64??\"))+SUM(SUMIFS('Accounting Data'!C2:C100000,'Accounting Data'!E2:E100000,\"COVID\",'Accounting Data'!H2:H100000,{\"0??\",\"1??\",\"2??\",\"3??\",\"4??\",\"5??\",\"6??\"},'Accounting Data'!I2:I100000,\"31??\",'Accounting Data'!J2:J100000,\"65??\"))+SUM(SUMIFS('Accounting Data'!C2:C100000,'Accounting Data'!E2:E100000,\"227\",'Accounting Data'!H2:H100000,{\"0??\",\"1??\",\"2??\",\"3??\",\"4??\",\"5??\",\"6??\"},'Accounting Data'!I2:I100000,\"31??\",'Accounting Data'!J2:J100000,\"63??\"))+SUM(SUMIFS('Accounting Data'!C2:C100000,'Accounting Data'!E2:E100000,\"227\",'Accounting Data'!H2:H100000,{\"0??\",\"1??\",\"2??\",\"3??\",\"4??\",\"5??\",\"6??\"},'Accounting Data'!I2:I100000,\"31??\",'Accounting Data'!J2:J100000,\"64??\"))+SUM(SUMIFS('Accounting Data'!C2:C100000,'Accounting Data'!E2:E100000,\"227\",'Accounting Data'!H2:H100000,{\"0??\",\"1??\",\"2??\",\"3??\",\"4??\",\"5??\",\"6??\"},'Accounting Data'!I2:I100000,\"31??\",'Accounting Data'!J2:J100000,\"65??\"))+SUM(SUMIFS('Accounting Data'!C2:C100000,'Accounting Data'!E2:E100000,\"228\",'Accounting Data'!H2:H100000,{\"0??\",\"1??\",\"2??\",\"3??\",\"4??\",\"5??\",\"6??\"},'Accounting Data'!I2:I100000,\"31??\",'Accounting Data'!J2:J100000,\"63??\"))+SUM(SUMIFS('Accounting Data'!C2:C100000,'Accounting Data'!E2:E100000,\"228\",'Accounting Data'!H2:H100000,{\"0??\",\"1??\",\"2??\",\"3??\",\"4??\",\"5??\",\"6??\"},'Accounting Data'!I2:I100000,\"31??\",'Accounting Data'!J2:J100000,\"64??\"))+SUM(SUMIFS('Accounting Data'!C2:C100000,'Accounting Data'!E2:E100000,\"228\",'Accounting Data'!H2:H100000,{\"0??\",\"1??\",\"2??\",\"3??\",\"4??\",\"5??\",\"6??\"},'Accounting Data'!I2:I100000,\"31??\",'Accounting Data'!J2:J100000,\"65??\"))","v":0},{"$f":"SUM(SUMIFS('Accounting Data'!C2:C100000,'Accounting Data'!E2:E100000,\"COVID\",'Accounting Data'!H2:H100000,{\"0??\",\"1??\",\"2??\",\"3??\",\"4??\",\"5??\",\"6??\"},'Accounting Data'!I2:I100000,\"31??\",'Accounting Data'!J2:J100000,\"66??\"))+SUM(SUMIFS('Accounting Data'!C2:C100000,'Accounting Data'!E2:E100000,\"227\",'Accounting Data'!H2:H100000,{\"0??\",\"1??\",\"2??\",\"3??\",\"4??\",\"5??\",\"6??\"},'Accounting Data'!I2:I100000,\"31??\",'Accounting Data'!J2:J100000,\"66??\"))+SUM(SUMIFS('Accounting Data'!C2:C100000,'Accounting Data'!E2:E100000,\"228\",'Accounting Data'!H2:H100000,{\"0??\",\"1??\",\"2??\",\"3??\",\"4??\",\"5??\",\"6??\"},'Accounting Data'!I2:I100000,\"31??\",'Accounting Data'!J2:J100000,\"66??\"))","v":0},{"$f":"SUM(SUMIFS('Accounting Data'!C2:C100000,'Accounting Data'!E2:E100000,\"COVID\",'Accounting Data'!H2:H100000,{\"0??\",\"1??\",\"2??\",\"3??\",\"4??\",\"5??\",\"6??\"},'Accounting Data'!I2:I100000,\"31??\",'Accounting Data'!J2:J100000,\"67??\"))+SUM(SUMIFS('Accounting Data'!C2:C100000,'Accounting Data'!E2:E100000,\"227\",'Accounting Data'!H2:H100000,{\"0??\",\"1??\",\"2??\",\"3??\",\"4??\",\"5??\",\"6??\"},'Accounting Data'!I2:I100000,\"31??\",'Accounting Data'!J2:J100000,\"67??\"))+SUM(SUMIFS('Accounting Data'!C2:C100000,'Accounting Data'!E2:E100000,\"228\",'Accounting Data'!H2:H100000,{\"0??\",\"1??\",\"2??\",\"3??\",\"4??\",\"5??\",\"6??\"},'Accounting Data'!I2:I100000,\"31??\",'Accounting Data'!J2:J100000,\"67??\"))","v":0},{"$f":"SUM(SUMIFS('Accounting Data'!C2:C100000,'Accounting Data'!E2:E100000,\"COVID\",'Accounting Data'!H2:H100000,{\"0??\",\"1??\",\"2??\",\"3??\",\"4??\",\"5??\",\"6??\"},'Accounting Data'!I2:I100000,\"31??\",'Accounting Data'!J2:J100000,\"681?\"))+SUM(SUMIFS('Accounting Data'!C2:C100000,'Accounting Data'!E2:E100000,\"227\",'Accounting Data'!H2:H100000,{\"0??\",\"1??\",\"2??\",\"3??\",\"4??\",\"5??\",\"6??\"},'Accounting Data'!I2:I100000,\"31??\",'Accounting Data'!J2:J100000,\"681?\"))+SUM(SUMIFS('Accounting Data'!C2:C100000,'Accounting Data'!E2:E100000,\"228\",'Accounting Data'!H2:H100000,{\"0??\",\"1??\",\"2??\",\"3??\",\"4??\",\"5??\",\"6??\"},'Accounting Data'!I2:I100000,\"31??\",'Accounting Data'!J2:J100000,\"681?\"))","v":0},null,null,{"$f":"SUM(SUMIFS('Accounting Data'!C2:C100000,'Accounting Data'!E2:E100000,\"COVID\",'Accounting Data'!H2:H100000,{\"0??\",\"1??\",\"2??\",\"3??\",\"4??\",\"5??\",\"6??\"},'Accounting Data'!I2:I100000,\"31??\",'Accounting Data'!J2:J100000,\"689?\"))+SUM(SUMIFS('Accounting Data'!C2:C100000,'Accounting Data'!E2:E100000,\"227\",'Accounting Data'!H2:H100000,{\"0??\",\"1??\",\"2??\",\"3??\",\"4??\",\"5??\",\"6??\"},'Accounting Data'!I2:I100000,\"31??\",'Accounting Data'!J2:J100000,\"689?\"))+SUM(SUMIFS('Accounting Data'!C2:C100000,'Accounting Data'!E2:E100000,\"228\",'Accounting Data'!H2:H100000,{\"0??\",\"1??\",\"2??\",\"3??\",\"4??\",\"5??\",\"6??\"},'Accounting Data'!I2:I100000,\"31??\",'Accounting Data'!J2:J100000,\"689?\"))","v":0},{"$f":"SUM(SUMIFS('Accounting Data'!C2:C100000,'Accounting Data'!E2:E100000,\"COVID\",'Accounting Data'!H2:H100000,{\"0??\",\"1??\",\"2??\",\"3??\",\"4??\",\"5??\",\"6??\"},'Accounting Data'!I2:I100000,\"31??\",'Accounting Data'!J2:J100000,\"68??\"))+SUM(SUMIFS('Accounting Data'!C2:C100000,'Accounting Data'!E2:E100000,\"227\",'Accounting Data'!H2:H100000,{\"0??\",\"1??\",\"2??\",\"3??\",\"4??\",\"5??\",\"6??\"},'Accounting Data'!I2:I100000,\"31??\",'Accounting Data'!J2:J100000,\"68??\"))+SUM(SUMIFS('Accounting Data'!C2:C100000,'Accounting Data'!E2:E100000,\"228\",'Accounting Data'!H2:H100000,{\"0??\",\"1??\",\"2??\",\"3??\",\"4??\",\"5??\",\"6??\"},'Accounting Data'!I2:I100000,\"31??\",'Accounting Data'!J2:J100000,\"68??\"))-H16-K16","v":0},{"$f":"SUM(SUMIFS('Accounting Data'!C2:C100000,'Accounting Data'!E2:E100000,\"COVID\",'Accounting Data'!H2:H100000,{\"7??\",\"8??\",\"9??\"},'Accounting Data'!I2:I100000,\"31??\",'Accounting Data'!J2:J100000,\"6???\"))-SUM(SUMIFS('Accounting Data'!C2:C100000,'Accounting Data'!E2:E100000,\"COVID\",'Accounting Data'!H2:H100000,{\"7??\",\"8??\",\"9??\"},'Accounting Data'!I2:I100000,\"31??\",'Accounting Data'!J2:J100000,\"69??\"))+SUM(SUMIFS('Accounting Data'!C2:C100000,'Accounting Data'!E2:E100000,\"227\",'Accounting Data'!H2:H100000,{\"7??\",\"8??\",\"9??\"},'Accounting Data'!I2:I100000,\"31??\",'Accounting Data'!J2:J100000,\"6???\"))-SUM(SUMIFS('Accounting Data'!C2:C100000,'Accounting Data'!E2:E100000,\"227\",'Accounting Data'!H2:H100000,{\"7??\",\"8??\",\"9??\"},'Accounting Data'!I2:I100000,\"31??\",'Accounting Data'!J2:J100000,\"69??\"))+SUM(SUMIFS('Accounting Data'!C2:C100000,'Accounting Data'!E2:E100000,\"228\",'Accounting Data'!H2:H100000,{\"7??\",\"8??\",\"9??\"},'Accounting Data'!I2:I100000,\"31??\",'Accounting Data'!J2:J100000,\"6???\"))-SUM(SUMIFS('Accounting Data'!C2:C100000,'Accounting Data'!E2:E100000,\"228\",'Accounting Data'!H2:H100000,{\"7??\",\"8??\",\"9??\"},'Accounting Data'!I2:I100000,\"31??\",'Accounting Data'!J2:J100000,\"69??\"))","v":0},0]
["3200 Enterprise Operations","8.",{"$f":"SUM(SUMIFS('Accounting Data'!C2:C100000,'Accounting Data'!E2:E100000,\"COVID\",'Accounting Data'!H2:H100000,{\"0??\",\"1??\",\"2??\",\"3??\",\"4??\",\"5??\",\"6??\"},'Accounting Data'!I2:I100000,\"32??\",'Accounting Data'!J2:J100000,\"61??\"))+SUM(SUMIFS('Accounting Data'!C2:C100000,'Accounting Data'!E2:E100000,\"227\",'Accounting Data'!H2:H100000,{\"0??\",\"1??\",\"2??\",\"3??\",\"4??\",\"5??\",\"6??\"},'Accounting Data'!I2:I100000,\"32??\",'Accounting Data'!J2:J100000,\"61??\"))+SUM(SUMIFS('Accounting Data'!C2:C100000,'Accounting Data'!E2:E100000,\"228\",'Accounting Data'!H2:H100000,{\"0??\",\"1??\",\"2??\",\"3??\",\"4??\",\"5??\",\"6??\"},'Accounting Data'!I2:I100000,\"32??\",'Accounting Data'!J2:J100000,\"61??\"))","v":0},{"$f":"SUM(SUMIFS('Accounting Data'!C2:C100000,'Accounting Data'!E2:E100000,\"COVID\",'Accounting Data'!H2:H100000,{\"0??\",\"1??\",\"2??\",\"3??\",\"4??\",\"5??\",\"6??\"},'Accounting Data'!I2:I100000,\"32??\",'Accounting Data'!J2:J100000,\"62??\"))+SUM(SUMIFS('Accounting Data'!C2:C100000,'Accounting Data'!E2:E100000,\"227\",'Accounting Data'!H2:H100000,{\"0??\",\"1??\",\"2??\",\"3??\",\"4??\",\"5??\",\"6??\"},'Accounting Data'!I2:I100000,\"32??\",'Accounting Data'!J2:J100000,\"62??\"))+SUM(SUMIFS('Accounting Data'!C2:C100000,'Accounting Data'!E2:E100000,\"228\",'Accounting Data'!H2:H100000,{\"0??\",\"1??\",\"2??\",\"3??\",\"4??\",\"5??\",\"6??\"},'Accounting Data'!I2:I100000,\"32??\",'Accounting Data'!J2:J100000,\"62??\"))","v":0},{"$f":"SUM(SUMIFS('Accounting Data'!C2:C100000,'Accounting Data'!E2:E100000,\"COVID\",'Accounting Data'!H2:H100000,{\"0??\",\"1??\",\"2??\",\"3??\",\"4??\",\"5??\",\"6??\"},'Accounting Data'!I2:I100000,\"32??\",'Accounting Data'!J2:J100000,\"63??\"))+SUM(SUMIFS('Accounting Data'!C2:C100000,'Accounting Data'!E2:E100000,\"COVID\",'Accounting Data'!H2:H100000,{\"0??\",\"1??\",\"2??\",\"3??\",\"4??\",\"5??\",\"6??\"},'Accounting Data'!I2:I100000,\"32??\",'Accounting Data'!J2:J100000,\"64??\"))+SUM(SUMIFS('Accounting Data'!C2:C100000,'Accounting Data'!E2:E100000,\"COVID\",'Accounting Data'!H2:H100000,{\"0??\",\"1??\",\"2??\",\"3??\",\"4??\",\"5??\",\"6??\"},'Accounting Data'!I2:I100000,\"32??\",'Accounting Data'!J2:J100000,\"65??\"))+SUM(SUMIFS('Accounting Data'!C2:C100000,'Accounting Data'!E2:E100000,\"227\",'Accounting Data'!H2:H100000,{\"0??\",\"1??\",\"2??\",\"3??\",\"4??\",\"5??\",\"6??\"},'Accounting Data'!I2:I100000,\"32??\",'Accounting Data'!J2:J100000,\"63??\"))+SUM(SUMIFS('Accounting Data'!C2:C100000,'Accounting Data'!E2:E100000,\"227\",'Accounting Data'!H2:H100000,{\"0??\",\"1??\",\"2??\",\"3??\",\"4??\",\"5??\",\"6??\"},'Accounting Data'!I2:I100000,\"32??\",'Accounting Data'!J2:J100000,\"64??\"))+SUM(SUMIFS('Accounting Data'!C2:C100000,'Accounting Data'!E2:E100000,\"227\",'Accounting Data'!H2:H100000,{\"0??\",\"1??\",\"2??\",\"3??\",\"4??\",\"5??\",\"6??\"},'Accounting Data'!I2:I100000,\"32??\",'Accounting Data'!J2:J100000,\"65??\"))+SUM(SUMIFS('Accounting Data'!C2:C100000,'Accounting Data'!E2:E100000,\"228\",'Accounting Data'!H2:H100000,{\"0??\",\"1??\",\"2??\",\"3??\",\"4??\",\"5??\",\"6??\"},'Accounting Data'!I2:I100000,\"32??\",'Accounting Data'!J2:J100000,\"63??\"))+SUM(SUMIFS('Accounting Data'!C2:C100000,'Accounting Data'!E2:E100000,\"228\",'Accounting Data'!H2:H100000,{\"0??\",\"1??\",\"2??\",\"3??\",\"4??\",\"5??\",\"6??\"},'Accounting Data'!I2:I100000,\"32??\",'Accounting Data'!J2:J100000,\"64??\"))+SUM(SUMIFS('Accounting Data'!C2:C100000,'Accounting Data'!E2:E100000,\"228\",'Accounting Data'!H2:H100000,{\"0??\",\"1??\",\"2??\",\"3??\",\"4??\",\"5??\",\"6??\"},'Accounting Data'!I2:I100000,\"32??\",'Accounting Data'!J2:J100000,\"65??\"))","v":0},{"$f":"SUM(SUMIFS('Accounting Data'!C2:C100000,'Accounting Data'!E2:E100000,\"COVID\",'Accounting Data'!H2:H100000,{\"0??\",\"1??\",\"2??\",\"3??\",\"4??\",\"5??\",\"6??\"},'Accounting Data'!I2:I100000,\"32??\",'Accounting Data'!J2:J100000,\"66??\"))+SUM(SUMIFS('Accounting Data'!C2:C100000,'Accounting Data'!E2:E100000,\"227\",'Accounting Data'!H2:H100000,{\"0??\",\"1??\",\"2??\",\"3??\",\"4??\",\"5??\",\"6??\"},'Accounting Data'!I2:I100000,\"32??\",'Accounting Data'!J2:J100000,\"66??\"))+SUM(SUMIFS('Accounting Data'!C2:C100000,'Accounting Data'!E2:E100000,\"228\",'Accounting Data'!H2:H100000,{\"0??\",\"1??\",\"2??\",\"3??\",\"4??\",\"5??\",\"6??\"},'Accounting Data'!I2:I100000,\"32??\",'Accounting Data'!J2:J100000,\"66??\"))","v":0},{"$f":"SUM(SUMIFS('Accounting Data'!C2:C100000,'Accounting Data'!E2:E100000,\"COVID\",'Accounting Data'!H2:H100000,{\"0??\",\"1??\",\"2??\",\"3??\",\"4??\",\"5??\",\"6??\"},'Accounting Data'!I2:I100000,\"32??\",'Accounting Data'!J2:J100000,\"67??\"))+SUM(SUMIFS('Accounting Data'!C2:C100000,'Accounting Data'!E2:E100000,\"227\",'Accounting Data'!H2:H100000,{\"0??\",\"1??\",\"2??\",\"3??\",\"4??\",\"5??\",\"6??\"},'Accounting Data'!I2:I100000,\"32??\",'Accounting Data'!J2:J100000,\"67??\"))+SUM(SUMIFS('Accounting Data'!C2:C100000,'Accounting Data'!E2:E100000,\"228\",'Accounting Data'!H2:H100000,{\"0??\",\"1??\",\"2??\",\"3??\",\"4??\",\"5??\",\"6??\"},'Accounting Data'!I2:I100000,\"32??\",'Accounting Data'!J2:J100000,\"67??\"))","v":0},{"$f":"SUM(SUMIFS('Accounting Data'!C2:C100000,'Accounting Data'!E2:E100000,\"COVID\",'Accounting Data'!H2:H100000,{\"0??\",\"1??\",\"2??\",\"3??\",\"4??\",\"5??\",\"6??\"},'Accounting Data'!I2:I100000,\"32??\",'Accounting Data'!J2:J100000,\"681?\"))+SUM(SUMIFS('Accounting Data'!C2:C100000,'Accounting Data'!E2:E100000,\"227\",'Accounting Data'!H2:H100000,{\"0??\",\"1??\",\"2??\",\"3??\",\"4??\",\"5??\",\"6??\"},'Accounting Data'!I2:I100000,\"32??\",'Accounting Data'!J2:J100000,\"681?\"))+SUM(SUMIFS('Accounting Data'!C2:C100000,'Accounting Data'!E2:E100000,\"228\",'Accounting Data'!H2:H100000,{\"0??\",\"1??\",\"2??\",\"3??\",\"4??\",\"5??\",\"6??\"},'Accounting Data'!I2:I100000,\"32??\",'Accounting Data'!J2:J100000,\"681?\"))","v":0},null,null,{"$f":"SUM(SUMIFS('Accounting Data'!C2:C100000,'Accounting Data'!E2:E100000,\"COVID\",'Accounting Data'!H2:H100000,{\"0??\",\"1??\",\"2??\",\"3??\",\"4??\",\"5??\",\"6??\"},'Accounting Data'!I2:I100000,\"32??\",'Accounting Data'!J2:J100000,\"689?\"))+SUM(SUMIFS('Accounting Data'!C2:C100000,'Accounting Data'!E2:E100000,\"227\",'Accounting Data'!H2:H100000,{\"0??\",\"1??\",\"2??\",\"3??\",\"4??\",\"5??\",\"6??\"},'Accounting Data'!I2:I100000,\"32??\",'Accounting Data'!J2:J100000,\"689?\"))+SUM(SUMIFS('Accounting Data'!C2:C100000,'Accounting Data'!E2:E100000,\"228\",'Accounting Data'!H2:H100000,{\"0??\",\"1??\",\"2??\",\"3??\",\"4??\",\"5??\",\"6??\"},'Accounting Data'!I2:I100000,\"32??\",'Accounting Data'!J2:J100000,\"689?\"))","v":0},{"$f":"SUM(SUMIFS('Accounting Data'!C2:C100000,'Accounting Data'!E2:E100000,\"COVID\",'Accounting Data'!H2:H100000,{\"0??\",\"1??\",\"2??\",\"3??\",\"4??\",\"5??\",\"6??\"},'Accounting Data'!I2:I100000,\"32??\",'Accounting Data'!J2:J100000,\"68??\"))+SUM(SUMIFS('Accounting Data'!C2:C100000,'Accounting Data'!E2:E100000,\"227\",'Accounting Data'!H2:H100000,{\"0??\",\"1??\",\"2??\",\"3??\",\"4??\",\"5??\",\"6??\"},'Accounting Data'!I2:I100000,\"32??\",'Accounting Data'!J2:J100000,\"68??\"))+SUM(SUMIFS('Accounting Data'!C2:C100000,'Accounting Data'!E2:E100000,\"228\",'Accounting Data'!H2:H100000,{\"0??\",\"1??\",\"2??\",\"3??\",\"4??\",\"5??\",\"6??\"},'Accounting Data'!I2:I100000,\"32??\",'Accounting Data'!J2:J100000,\"68??\"))-H17-K17","v":0},{"$f":"SUM(SUMIFS('Accounting Data'!C2:C100000,'Accounting Data'!E2:E100000,\"COVID\",'Accounting Data'!H2:H100000,{\"7??\",\"8??\",\"9??\"},'Accounting Data'!I2:I100000,\"32??\",'Accounting Data'!J2:J100000,\"6???\"))-SUM(SUMIFS('Accounting Data'!C2:C100000,'Accounting Data'!E2:E100000,\"COVID\",'Accounting Data'!H2:H100000,{\"7??\",\"8??\",\"9??\"},'Accounting Data'!I2:I100000,\"32??\",'Accounting Data'!J2:J100000,\"69??\"))+SUM(SUMIFS('Accounting Data'!C2:C100000,'Accounting Data'!E2:E100000,\"227\",'Accounting Data'!H2:H100000,{\"7??\",\"8??\",\"9??\"},'Accounting Data'!I2:I100000,\"32??\",'Accounting Data'!J2:J100000,\"6???\"))-SUM(SUMIFS('Accounting Data'!C2:C100000,'Accounting Data'!E2:E100000,\"227\",'Accounting Data'!H2:H100000,{\"7??\",\"8??\",\"9??\"},'Accounting Data'!I2:I100000,\"32??\",'Accounting Data'!J2:J100000,\"69??\"))+SUM(SUMIFS('Accounting Data'!C2:C100000,'Accounting Data'!E2:E100000,\"228\",'Accounting Data'!H2:H100000,{\"7??\",\"8??\",\"9??\"},'Accounting Data'!I2:I100000,\"32??\",'Accounting Data'!J2:J100000,\"6???\"))-SUM(SUMIFS('Accounting Data'!C2:C100000,'Accounting Data'!E2:E100000,\"228\",'Accounting Data'!H2:H100000,{\"7??\",\"8??\",\"9??\"},'Accounting Data'!I2:I100000,\"32??\",'Accounting Data'!J2:J100000,\"69??\"))","v":0},0]
["3300 Community Services Operations","9.",{"$f":"SUM(SUMIFS('Accounting Data'!C2:C100000,'Accounting Data'!E2:E100000,\"COVID\",'Accounting Data'!H2:H100000,{\"0??\",\"1??\",\"2??\",\"3??\",\"4??\",\"5??\",\"6??\"},'Accounting Data'!I2:I100000,\"33??\",'Accounting Data'!J2:J100000,\"61??\"))+SUM(SUMIFS('Accounting Data'!C2:C100000,'Accounting Data'!E2:E100000,\"227\",'Accounting Data'!H2:H100000,{\"0??\",\"1??\",\"2??\",\"3??\",\"4??\",\"5??\",\"6??\"},'Accounting Data'!I2:I100000,\"33??\",'Accounting Data'!J2:J100000,\"61??\"))+SUM(SUMIFS('Accounting Data'!C2:C100000,'Accounting Data'!E2:E100000,\"228\",'Accounting Data'!H2:H100000,{\"0??\",\"1??\",\"2??\",\"3??\",\"4??\",\"5??\",\"6??\"},'Accounting Data'!I2:I100000,\"33??\",'Accounting Data'!J2:J100000,\"61??\"))","v":0},{"$f":"SUM(SUMIFS('Accounting Data'!C2:C100000,'Accounting Data'!E2:E100000,\"COVID\",'Accounting Data'!H2:H100000,{\"0??\",\"1??\",\"2??\",\"3??\",\"4??\",\"5??\",\"6??\"},'Accounting Data'!I2:I100000,\"33??\",'Accounting Data'!J2:J100000,\"62??\"))+SUM(SUMIFS('Accounting Data'!C2:C100000,'Accounting Data'!E2:E100000,\"227\",'Accounting Data'!H2:H100000,{\"0??\",\"1??\",\"2??\",\"3??\",\"4??\",\"5??\",\"6??\"},'Accounting Data'!I2:I100000,\"33??\",'Accounting Data'!J2:J100000,\"62??\"))+SUM(SUMIFS('Accounting Data'!C2:C100000,'Accounting Data'!E2:E100000,\"228\",'Accounting Data'!H2:H100000,{\"0??\",\"1??\",\"2??\",\"3??\",\"4??\",\"5??\",\"6??\"},'Accounting Data'!I2:I100000,\"33??\",'Accounting Data'!J2:J100000,\"62??\"))","v":0},{"$f":"SUM(SUMIFS('Accounting Data'!C2:C100000,'Accounting Data'!E2:E100000,\"COVID\",'Accounting Data'!H2:H100000,{\"0??\",\"1??\",\"2??\",\"3??\",\"4??\",\"5??\",\"6??\"},'Accounting Data'!I2:I100000,\"33??\",'Accounting Data'!J2:J100000,\"63??\"))+SUM(SUMIFS('Accounting Data'!C2:C100000,'Accounting Data'!E2:E100000,\"COVID\",'Accounting Data'!H2:H100000,{\"0??\",\"1??\",\"2??\",\"3??\",\"4??\",\"5??\",\"6??\"},'Accounting Data'!I2:I100000,\"33??\",'Accounting Data'!J2:J100000,\"64??\"))+SUM(SUMIFS('Accounting Data'!C2:C100000,'Accounting Data'!E2:E100000,\"COVID\",'Accounting Data'!H2:H100000,{\"0??\",\"1??\",\"2??\",\"3??\",\"4??\",\"5??\",\"6??\"},'Accounting Data'!I2:I100000,\"33??\",'Accounting Data'!J2:J100000,\"65??\"))+SUM(SUMIFS('Accounting Data'!C2:C100000,'Accounting Data'!E2:E100000,\"227\",'Accounting Data'!H2:H100000,{\"0??\",\"1??\",\"2??\",\"3??\",\"4??\",\"5??\",\"6??\"},'Accounting Data'!I2:I100000,\"33??\",'Accounting Data'!J2:J100000,\"63??\"))+SUM(SUMIFS('Accounting Data'!C2:C100000,'Accounting Data'!E2:E100000,\"227\",'Accounting Data'!H2:H100000,{\"0??\",\"1??\",\"2??\",\"3??\",\"4??\",\"5??\",\"6??\"},'Accounting Data'!I2:I100000,\"33??\",'Accounting Data'!J2:J100000,\"64??\"))+SUM(SUMIFS('Accounting Data'!C2:C100000,'Accounting Data'!E2:E100000,\"227\",'Accounting Data'!H2:H100000,{\"0??\",\"1??\",\"2??\",\"3??\",\"4??\",\"5??\",\"6??\"},'Accounting Data'!I2:I100000,\"33??\",'Accounting Data'!J2:J100000,\"65??\"))+SUM(SUMIFS('Accounting Data'!C2:C100000,'Accounting Data'!E2:E100000,\"228\",'Accounting Data'!H2:H100000,{\"0??\",\"1??\",\"2??\",\"3??\",\"4??\",\"5??\",\"6??\"},'Accounting Data'!I2:I100000,\"33??\",'Accounting Data'!J2:J100000,\"63??\"))+SUM(SUMIFS('Accounting Data'!C2:C100000,'Accounting Data'!E2:E100000,\"228\",'Accounting Data'!H2:H100000,{\"0??\",\"1??\",\"2??\",\"3??\",\"4??\",\"5??\",\"6??\"},'Accounting Data'!I2:I100000,\"33??\",'Accounting Data'!J2:J100000,\"64??\"))+SUM(SUMIFS('Accounting Data'!C2:C100000,'Accounting Data'!E2:E100000,\"228\",'Accounting Data'!H2:H100000,{\"0??\",\"1??\",\"2??\",\"3??\",\"4??\",\"5??\",\"6??\"},'Accounting Data'!I2:I100000,\"33??\",'Accounting Data'!J2:J100000,\"65??\"))","v":0},{"$f":"SUM(SUMIFS('Accounting Data'!C2:C100000,'Accounting Data'!E2:E100000,\"COVID\",'Accounting Data'!H2:H100000,{\"0??\",\"1??\",\"2??\",\"3??\",\"4??\",\"5??\",\"6??\"},'Accounting Data'!I2:I100000,\"33??\",'Accounting Data'!J2:J100000,\"66??\"))+SUM(SUMIFS('Accounting Data'!C2:C100000,'Accounting Data'!E2:E100000,\"227\",'Accounting Data'!H2:H100000,{\"0??\",\"1??\",\"2??\",\"3??\",\"4??\",\"5??\",\"6??\"},'Accounting Data'!I2:I100000,\"33??\",'Accounting Data'!J2:J100000,\"66??\"))+SUM(SUMIFS('Accounting Data'!C2:C100000,'Accounting Data'!E2:E100000,\"228\",'Accounting Data'!H2:H100000,{\"0??\",\"1??\",\"2??\",\"3??\",\"4??\",\"5??\",\"6??\"},'Accounting Data'!I2:I100000,\"33??\",'Accounting Data'!J2:J100000,\"66??\"))","v":0},{"$f":"SUM(SUMIFS('Accounting Data'!C2:C100000,'Accounting Data'!E2:E100000,\"COVID\",'Accounting Data'!H2:H100000,{\"0??\",\"1??\",\"2??\",\"3??\",\"4??\",\"5??\",\"6??\"},'Accounting Data'!I2:I100000,\"33??\",'Accounting Data'!J2:J100000,\"67??\"))+SUM(SUMIFS('Accounting Data'!C2:C100000,'Accounting Data'!E2:E100000,\"227\",'Accounting Data'!H2:H100000,{\"0??\",\"1??\",\"2??\",\"3??\",\"4??\",\"5??\",\"6??\"},'Accounting Data'!I2:I100000,\"33??\",'Accounting Data'!J2:J100000,\"67??\"))+SUM(SUMIFS('Accounting Data'!C2:C100000,'Accounting Data'!E2:E100000,\"228\",'Accounting Data'!H2:H100000,{\"0??\",\"1??\",\"2??\",\"3??\",\"4??\",\"5??\",\"6??\"},'Accounting Data'!I2:I100000,\"33??\",'Accounting Data'!J2:J100000,\"67??\"))","v":0},{"$f":"SUM(SUMIFS('Accounting Data'!C2:C100000,'Accounting Data'!E2:E100000,\"COVID\",'Accounting Data'!H2:H100000,{\"0??\",\"1??\",\"2??\",\"3??\",\"4??\",\"5??\",\"6??\"},'Accounting Data'!I2:I100000,\"33??\",'Accounting Data'!J2:J100000,\"681?\"))+SUM(SUMIFS('Accounting Data'!C2:C100000,'Accounting Data'!E2:E100000,\"227\",'Accounting Data'!H2:H100000,{\"0??\",\"1??\",\"2??\",\"3??\",\"4??\",\"5??\",\"6??\"},'Accounting Data'!I2:I100000,\"33??\",'Accounting Data'!J2:J100000,\"681?\"))+SUM(SUMIFS('Accounting Data'!C2:C100000,'Accounting Data'!E2:E100000,\"228\",'Accounting Data'!H2:H100000,{\"0??\",\"1??\",\"2??\",\"3??\",\"4??\",\"5??\",\"6??\"},'Accounting Data'!I2:I100000,\"33??\",'Accounting Data'!J2:J100000,\"681?\"))","v":0},null,null,null,{"$f":"SUM(SUMIFS('Accounting Data'!C2:C100000,'Accounting Data'!E2:E100000,\"COVID\",'Accounting Data'!H2:H100000,{\"0??\",\"1??\",\"2??\",\"3??\",\"4??\",\"5??\",\"6??\"},'Accounting Data'!I2:I100000,\"33??\",'Accounting Data'!J2:J100000,\"68??\"))+SUM(SUMIFS('Accounting Data'!C2:C100000,'Accounting Data'!E2:E100000,\"227\",'Accounting Data'!H2:H100000,{\"0??\",\"1??\",\"2??\",\"3??\",\"4??\",\"5??\",\"6??\"},'Accounting Data'!I2:I100000,\"33??\",'Accounting Data'!J2:J100000,\"68??\"))+SUM(SUMIFS('Accounting Data'!C2:C100000,'Accounting Data'!E2:E100000,\"228\",'Accounting Data'!H2:H100000,{\"0??\",\"1??\",\"2??\",\"3??\",\"4??\",\"5??\",\"6??\"},'Accounting Data'!I2:I100000,\"33??\",'Accounting Data'!J2:J100000,\"68??\"))-H18","v":0},{"$f":"SUM(SUMIFS('Accounting Data'!C2:C100000,'Accounting Data'!E2:E100000,\"COVID\",'Accounting Data'!H2:H100000,{\"7??\",\"8??\",\"9??\"},'Accounting Data'!I2:I100000,\"33??\",'Accounting Data'!J2:J100000,\"6???\"))-SUM(SUMIFS('Accounting Data'!C2:C100000,'Accounting Data'!E2:E100000,\"COVID\",'Accounting Data'!H2:H100000,{\"7??\",\"8??\",\"9??\"},'Accounting Data'!I2:I100000,\"33??\",'Accounting Data'!J2:J100000,\"69??\"))+SUM(SUMIFS('Accounting Data'!C2:C100000,'Accounting Data'!E2:E100000,\"227\",'Accounting Data'!H2:H100000,{\"7??\",\"8??\",\"9??\"},'Accounting Data'!I2:I100000,\"33??\",'Accounting Data'!J2:J100000,\"6???\"))-SUM(SUMIFS('Accounting Data'!C2:C100000,'Accounting Data'!E2:E100000,\"227\",'Accounting Data'!H2:H100000,{\"7??\",\"8??\",\"9??\"},'Accounting Data'!I2:I100000,\"33??\",'Accounting Data'!J2:J100000,\"69??\"))+SUM(SUMIFS('Accounting Data'!C2:C100000,'Accounting Data'!E2:E100000,\"228\",'Accounting Data'!H2:H100000,{\"7??\",\"8??\",\"9??\"},'Accounting Data'!I2:I100000,\"33??\",'Accounting Data'!J2:J100000,\"6???\"))-SUM(SUMIFS('Accounting Data'!C2:C100000,'Accounting Data'!E2:E100000,\"228\",'Accounting Data'!H2:H100000,{\"7??\",\"8??\",\"9??\"},'Accounting Data'!I2:I100000,\"33??\",'Accounting Data'!J2:J100000,\"69??\"))","v":0},0]
["3400 Bookstore Operations","10.",{"$f":"SUM(SUMIFS('Accounting Data'!C2:C100000,'Accounting Data'!E2:E100000,\"COVID\",'Accounting Data'!H2:H100000,{\"0??\",\"1??\",\"2??\",\"3??\",\"4??\",\"5??\",\"6??\"},'Accounting Data'!I2:I100000,\"34??\",'Accounting Data'!J2:J100000,\"61??\"))+SUM(SUMIFS('Accounting Data'!C2:C100000,'Accounting Data'!E2:E100000,\"227\",'Accounting Data'!H2:H100000,{\"0??\",\"1??\",\"2??\",\"3??\",\"4??\",\"5??\",\"6??\"},'Accounting Data'!I2:I100000,\"34??\",'Accounting Data'!J2:J100000,\"61??\"))+SUM(SUMIFS('Accounting Data'!C2:C100000,'Accounting Data'!E2:E100000,\"228\",'Accounting Data'!H2:H100000,{\"0??\",\"1??\",\"2??\",\"3??\",\"4??\",\"5??\",\"6??\"},'Accounting Data'!I2:I100000,\"34??\",'Accounting Data'!J2:J100000,\"61??\"))","v":0},{"$f":"SUM(SUMIFS('Accounting Data'!C2:C100000,'Accounting Data'!E2:E100000,\"COVID\",'Accounting Data'!H2:H100000,{\"0??\",\"1??\",\"2??\",\"3??\",\"4??\",\"5??\",\"6??\"},'Accounting Data'!I2:I100000,\"34??\",'Accounting Data'!J2:J100000,\"62??\"))+SUM(SUMIFS('Accounting Data'!C2:C100000,'Accounting Data'!E2:E100000,\"227\",'Accounting Data'!H2:H100000,{\"0??\",\"1??\",\"2??\",\"3??\",\"4??\",\"5??\",\"6??\"},'Accounting Data'!I2:I100000,\"34??\",'Accounting Data'!J2:J100000,\"62??\"))+SUM(SUMIFS('Accounting Data'!C2:C100000,'Accounting Data'!E2:E100000,\"228\",'Accounting Data'!H2:H100000,{\"0??\",\"1??\",\"2??\",\"3??\",\"4??\",\"5??\",\"6??\"},'Accounting Data'!I2:I100000,\"34??\",'Accounting Data'!J2:J100000,\"62??\"))","v":0},{"$f":"SUM(SUMIFS('Accounting Data'!C2:C100000,'Accounting Data'!E2:E100000,\"COVID\",'Accounting Data'!H2:H100000,{\"0??\",\"1??\",\"2??\",\"3??\",\"4??\",\"5??\",\"6??\"},'Accounting Data'!I2:I100000,\"34??\",'Accounting Data'!J2:J100000,\"63??\"))+SUM(SUMIFS('Accounting Data'!C2:C100000,'Accounting Data'!E2:E100000,\"COVID\",'Accounting Data'!H2:H100000,{\"0??\",\"1??\",\"2??\",\"3??\",\"4??\",\"5??\",\"6??\"},'Accounting Data'!I2:I100000,\"34??\",'Accounting Data'!J2:J100000,\"64??\"))+SUM(SUMIFS('Accounting Data'!C2:C100000,'Accounting Data'!E2:E100000,\"COVID\",'Accounting Data'!H2:H100000,{\"0??\",\"1??\",\"2??\",\"3??\",\"4??\",\"5??\",\"6??\"},'Accounting Data'!I2:I100000,\"34??\",'Accounting Data'!J2:J100000,\"65??\"))+SUM(SUMIFS('Accounting Data'!C2:C100000,'Accounting Data'!E2:E100000,\"227\",'Accounting Data'!H2:H100000,{\"0??\",\"1??\",\"2??\",\"3??\",\"4??\",\"5??\",\"6??\"},'Accounting Data'!I2:I100000,\"34??\",'Accounting Data'!J2:J100000,\"63??\"))+SUM(SUMIFS('Accounting Data'!C2:C100000,'Accounting Data'!E2:E100000,\"227\",'Accounting Data'!H2:H100000,{\"0??\",\"1??\",\"2??\",\"3??\",\"4??\",\"5??\",\"6??\"},'Accounting Data'!I2:I100000,\"34??\",'Accounting Data'!J2:J100000,\"64??\"))+SUM(SUMIFS('Accounting Data'!C2:C100000,'Accounting Data'!E2:E100000,\"227\",'Accounting Data'!H2:H100000,{\"0??\",\"1??\",\"2??\",\"3??\",\"4??\",\"5??\",\"6??\"},'Accounting Data'!I2:I100000,\"34??\",'Accounting Data'!J2:J100000,\"65??\"))+SUM(SUMIFS('Accounting Data'!C2:C100000,'Accounting Data'!E2:E100000,\"228\",'Accounting Data'!H2:H100000,{\"0??\",\"1??\",\"2??\",\"3??\",\"4??\",\"5??\",\"6??\"},'Accounting Data'!I2:I100000,\"34??\",'Accounting Data'!J2:J100000,\"63??\"))+SUM(SUMIFS('Accounting Data'!C2:C100000,'Accounting Data'!E2:E100000,\"228\",'Accounting Data'!H2:H100000,{\"0??\",\"1??\",\"2??\",\"3??\",\"4??\",\"5??\",\"6??\"},'Accounting Data'!I2:I100000,\"34??\",'Accounting Data'!J2:J100000,\"64??\"))+SUM(SUMIFS('Accounting Data'!C2:C100000,'Accounting Data'!E2:E100000,\"228\",'Accounting Data'!H2:H100000,{\"0??\",\"1??\",\"2??\",\"3??\",\"4??\",\"5??\",\"6??\"},'Accounting Data'!I2:I100000,\"34??\",'Accounting Data'!J2:J100000,\"65??\"))","v":0},{"$f":"SUM(SUMIFS('Accounting Data'!C2:C100000,'Accounting Data'!E2:E100000,\"COVID\",'Accounting Data'!H2:H100000,{\"0??\",\"1??\",\"2??\",\"3??\",\"4??\",\"5??\",\"6??\"},'Accounting Data'!I2:I100000,\"34??\",'Accounting Data'!J2:J100000,\"66??\"))+SUM(SUMIFS('Accounting Data'!C2:C100000,'Accounting Data'!E2:E100000,\"227\",'Accounting Data'!H2:H100000,{\"0??\",\"1??\",\"2??\",\"3??\",\"4??\",\"5??\",\"6??\"},'Accounting Data'!I2:I100000,\"34??\",'Accounting Data'!J2:J100000,\"66??\"))+SUM(SUMIFS('Accounting Data'!C2:C100000,'Accounting Data'!E2:E100000,\"228\",'Accounting Data'!H2:H100000,{\"0??\",\"1??\",\"2??\",\"3??\",\"4??\",\"5??\",\"6??\"},'Accounting Data'!I2:I100000,\"34??\",'Accounting Data'!J2:J100000,\"66??\"))","v":0},{"$f":"SUM(SUMIFS('Accounting Data'!C2:C100000,'Accounting Data'!E2:E100000,\"COVID\",'Accounting Data'!H2:H100000,{\"0??\",\"1??\",\"2??\",\"3??\",\"4??\",\"5??\",\"6??\"},'Accounting Data'!I2:I100000,\"34??\",'Accounting Data'!J2:J100000,\"67??\"))+SUM(SUMIFS('Accounting Data'!C2:C100000,'Accounting Data'!E2:E100000,\"227\",'Accounting Data'!H2:H100000,{\"0??\",\"1??\",\"2??\",\"3??\",\"4??\",\"5??\",\"6??\"},'Accounting Data'!I2:I100000,\"34??\",'Accounting Data'!J2:J100000,\"67??\"))+SUM(SUMIFS('Accounting Data'!C2:C100000,'Accounting Data'!E2:E100000,\"228\",'Accounting Data'!H2:H100000,{\"0??\",\"1??\",\"2??\",\"3??\",\"4??\",\"5??\",\"6??\"},'Accounting Data'!I2:I100000,\"34??\",'Accounting Data'!J2:J100000,\"67??\"))","v":0},{"$f":"SUM(SUMIFS('Accounting Data'!C2:C100000,'Accounting Data'!E2:E100000,\"COVID\",'Accounting Data'!H2:H100000,{\"0??\",\"1??\",\"2??\",\"3??\",\"4??\",\"5??\",\"6??\"},'Accounting Data'!I2:I100000,\"34??\",'Accounting Data'!J2:J100000,\"681?\"))+SUM(SUMIFS('Accounting Data'!C2:C100000,'Accounting Data'!E2:E100000,\"227\",'Accounting Data'!H2:H100000,{\"0??\",\"1??\",\"2??\",\"3??\",\"4??\",\"5??\",\"6??\"},'Accounting Data'!I2:I100000,\"34??\",'Accounting Data'!J2:J100000,\"681?\"))+SUM(SUMIFS('Accounting Data'!C2:C100000,'Accounting Data'!E2:E100000,\"228\",'Accounting Data'!H2:H100000,{\"0??\",\"1??\",\"2??\",\"3??\",\"4??\",\"5??\",\"6??\"},'Accounting Data'!I2:I100000,\"34??\",'Accounting Data'!J2:J100000,\"681?\"))","v":0},null,null,{"$f":"SUM(SUMIFS('Accounting Data'!C2:C100000,'Accounting Data'!E2:E100000,\"COVID\",'Accounting Data'!H2:H100000,{\"0??\",\"1??\",\"2??\",\"3??\",\"4??\",\"5??\",\"6??\"},'Accounting Data'!I2:I100000,\"34??\",'Accounting Data'!J2:J100000,\"689?\"))+SUM(SUMIFS('Accounting Data'!C2:C100000,'Accounting Data'!E2:E100000,\"227\",'Accounting Data'!H2:H100000,{\"0??\",\"1??\",\"2??\",\"3??\",\"4??\",\"5??\",\"6??\"},'Accounting Data'!I2:I100000,\"34??\",'Accounting Data'!J2:J100000,\"689?\"))+SUM(SUMIFS('Accounting Data'!C2:C100000,'Accounting Data'!E2:E100000,\"228\",'Accounting Data'!H2:H100000,{\"0??\",\"1??\",\"2??\",\"3??\",\"4??\",\"5??\",\"6??\"},'Accounting Data'!I2:I100000,\"34??\",'Accounting Data'!J2:J100000,\"689?\"))","v":0},{"$f":"SUM(SUMIFS('Accounting Data'!C2:C100000,'Accounting Data'!E2:E100000,\"COVID\",'Accounting Data'!H2:H100000,{\"0??\",\"1??\",\"2??\",\"3??\",\"4??\",\"5??\",\"6??\"},'Accounting Data'!I2:I100000,\"34??\",'Accounting Data'!J2:J100000,\"68??\"))+SUM(SUMIFS('Accounting Data'!C2:C100000,'Accounting Data'!E2:E100000,\"227\",'Accounting Data'!H2:H100000,{\"0??\",\"1??\",\"2??\",\"3??\",\"4??\",\"5??\",\"6??\"},'Accounting Data'!I2:I100000,\"34??\",'Accounting Data'!J2:J100000,\"68??\"))+SUM(SUMIFS('Accounting Data'!C2:C100000,'Accounting Data'!E2:E100000,\"228\",'Accounting Data'!H2:H100000,{\"0??\",\"1??\",\"2??\",\"3??\",\"4??\",\"5??\",\"6??\"},'Accounting Data'!I2:I100000,\"34??\",'Accounting Data'!J2:J100000,\"68??\"))-H19-K19","v":0},{"$f":"SUM(SUMIFS('Accounting Data'!C2:C100000,'Accounting Data'!E2:E100000,\"COVID\",'Accounting Data'!H2:H100000,{\"7??\",\"8??\",\"9??\"},'Accounting Data'!I2:I100000,\"34??\",'Accounting Data'!J2:J100000,\"6???\"))-SUM(SUMIFS('Accounting Data'!C2:C100000,'Accounting Data'!E2:E100000,\"COVID\",'Accounting Data'!H2:H100000,{\"7??\",\"8??\",\"9??\"},'Accounting Data'!I2:I100000,\"34??\",'Accounting Data'!J2:J100000,\"69??\"))+SUM(SUMIFS('Accounting Data'!C2:C100000,'Accounting Data'!E2:E100000,\"227\",'Accounting Data'!H2:H100000,{\"7??\",\"8??\",\"9??\"},'Accounting Data'!I2:I100000,\"34??\",'Accounting Data'!J2:J100000,\"6???\"))-SUM(SUMIFS('Accounting Data'!C2:C100000,'Accounting Data'!E2:E100000,\"227\",'Accounting Data'!H2:H100000,{\"7??\",\"8??\",\"9??\"},'Accounting Data'!I2:I100000,\"34??\",'Accounting Data'!J2:J100000,\"69??\"))+SUM(SUMIFS('Accounting Data'!C2:C100000,'Accounting Data'!E2:E100000,\"228\",'Accounting Data'!H2:H100000,{\"7??\",\"8??\",\"9??\"},'Accounting Data'!I2:I100000,\"34??\",'Accounting Data'!J2:J100000,\"6???\"))-SUM(SUMIFS('Accounting Data'!C2:C100000,'Accounting Data'!E2:E100000,\"228\",'Accounting Data'!H2:H100000,{\"7??\",\"8??\",\"9??\"},'Accounting Data'!I2:I100000,\"34??\",'Accounting Data'!J2:J100000,\"69??\"))","v":0},0]
["Other ","11.",{"$f":"SUM(SUMIFS('Accounting Data'!C2:C100000,'Accounting Data'!E2:E100000,\"COVID\",'Accounting Data'!H2:H100000,{\"0??\",\"1??\",\"2??\",\"3??\",\"4??\",\"5??\",\"6??\"},'Accounting Data'!J2:J100000,\"61??\"))+SUM(SUMIFS('Accounting Data'!C2:C100000,'Accounting Data'!E2:E100000,\"227\",'Accounting Data'!H2:H100000,{\"0??\",\"1??\",\"2??\",\"3??\",\"4??\",\"5??\",\"6??\"},'Accounting Data'!J2:J100000,\"61??\"))+SUM(SUMIFS('Accounting Data'!C2:C100000,'Accounting Data'!E2:E100000,\"228\",'Accounting Data'!H2:H100000,{\"0??\",\"1??\",\"2??\",\"3??\",\"4??\",\"5??\",\"6??\"},'Accounting Data'!J2:J100000,\"61??\"))-(SUM(C10:C19))","v":0},{"$f":"SUM(SUMIFS('Accounting Data'!C2:C100000,'Accounting Data'!E2:E100000,\"COVID\",'Accounting Data'!H2:H100000,{\"0??\",\"1??\",\"2??\",\"3??\",\"4??\",\"5??\",\"6??\"},'Accounting Data'!J2:J100000,\"62??\"))+SUM(SUMIFS('Accounting Data'!C2:C100000,'Accounting Data'!E2:E100000,\"227\",'Accounting Data'!H2:H100000,{\"0??\",\"1??\",\"2??\",\"3??\",\"4??\",\"5??\",\"6??\"},'Accounting Data'!J2:J100000,\"62??\"))+SUM(SUMIFS('Accounting Data'!C2:C100000,'Accounting Data'!E2:E100000,\"228\",'Accounting Data'!H2:H100000,{\"0??\",\"1??\",\"2??\",\"3??\",\"4??\",\"5??\",\"6??\"},'Accounting Data'!J2:J100000,\"62??\"))-(SUM(D10:D19))","v":0},{"$f":"SUM(SUMIFS('Accounting Data'!C2:C100000,'Accounting Data'!E2:E100000,\"COVID\",'Accounting Data'!H2:H100000,{\"0??\",\"1??\",\"2??\",\"3??\",\"4??\",\"5??\",\"6??\"},'Accounting Data'!J2:J100000,\"63??\"))+SUM(SUMIFS('Accounting Data'!C2:C100000,'Accounting Data'!E2:E100000,\"227\",'Accounting Data'!H2:H100000,{\"0??\",\"1??\",\"2??\",\"3??\",\"4??\",\"5??\",\"6??\"},'Accounting Data'!J2:J100000,\"63??\"))+SUM(SUMIFS('Accounting Data'!C2:C100000,'Accounting Data'!E2:E100000,\"228\",'Accounting Data'!H2:H100000,{\"0??\",\"1??\",\"2??\",\"3??\",\"4??\",\"5??\",\"6??\"},'Accounting Data'!J2:J100000,\"63??\"))+SUM(SUMIFS('Accounting Data'!C2:C100000,'Accounting Data'!E2:E100000,\"COVID\",'Accounting Data'!H2:H100000,{\"0??\",\"1??\",\"2??\",\"3??\",\"4??\",\"5??\",\"6??\"},'Accounting Data'!J2:J100000,\"64??\"))+SUM(SUMIFS('Accounting Data'!C2:C100000,'Accounting Data'!E2:E100000,\"227\",'Accounting Data'!H2:H100000,{\"0??\",\"1??\",\"2??\",\"3??\",\"4??\",\"5??\",\"6??\"},'Accounting Data'!J2:J100000,\"64??\"))+SUM(SUMIFS('Accounting Data'!C2:C100000,'Accounting Data'!E2:E100000,\"228\",'Accounting Data'!H2:H100000,{\"0??\",\"1??\",\"2??\",\"3??\",\"4??\",\"5??\",\"6??\"},'Accounting Data'!J2:J100000,\"64??\"))+SUM(SUMIFS('Accounting Data'!C2:C100000,'Accounting Data'!E2:E100000,\"COVID\",'Accounting Data'!H2:H100000,{\"0??\",\"1??\",\"2??\",\"3??\",\"4??\",\"5??\",\"6??\"},'Accounting Data'!J2:J100000,\"65??\"))+SUM(SUMIFS('Accounting Data'!C2:C100000,'Accounting Data'!E2:E100000,\"227\",'Accounting Data'!H2:H100000,{\"0??\",\"1??\",\"2??\",\"3??\",\"4??\",\"5??\",\"6??\"},'Accounting Data'!J2:J100000,\"65??\"))+SUM(SUMIFS('Accounting Data'!C2:C100000,'Accounting Data'!E2:E100000,\"228\",'Accounting Data'!H2:H100000,{\"0??\",\"1??\",\"2??\",\"3??\",\"4??\",\"5??\",\"6??\"},'Accounting Data'!J2:J100000,\"65??\"))-(SUM(E10:E19))","v":0},{"$f":"SUM(SUMIFS('Accounting Data'!C2:C100000,'Accounting Data'!E2:E100000,\"COVID\",'Accounting Data'!H2:H100000,{\"0??\",\"1??\",\"2??\",\"3??\",\"4??\",\"5??\",\"6??\"},'Accounting Data'!J2:J100000,\"66??\"))+SUM(SUMIFS('Accounting Data'!C2:C100000,'Accounting Data'!E2:E100000,\"227\",'Accounting Data'!H2:H100000,{\"0??\",\"1??\",\"2??\",\"3??\",\"4??\",\"5??\",\"6??\"},'Accounting Data'!J2:J100000,\"66??\"))+SUM(SUMIFS('Accounting Data'!C2:C100000,'Accounting Data'!E2:E100000,\"228\",'Accounting Data'!H2:H100000,{\"0??\",\"1??\",\"2??\",\"3??\",\"4??\",\"5??\",\"6??\"},'Accounting Data'!J2:J100000,\"66??\"))-(SUM(F10:F19))+1","v":0},{"$f":"SUM(SUMIFS('Accounting Data'!C2:C100000,'Accounting Data'!E2:E100000,\"COVID\",'Accounting Data'!H2:H100000,{\"0??\",\"1??\",\"2??\",\"3??\",\"4??\",\"5??\",\"6??\"},'Accounting Data'!J2:J100000,\"67??\"))+SUM(SUMIFS('Accounting Data'!C2:C100000,'Accounting Data'!E2:E100000,\"227\",'Accounting Data'!H2:H100000,{\"0??\",\"1??\",\"2??\",\"3??\",\"4??\",\"5??\",\"6??\"},'Accounting Data'!J2:J100000,\"67??\"))+SUM(SUMIFS('Accounting Data'!C2:C100000,'Accounting Data'!E2:E100000,\"228\",'Accounting Data'!H2:H100000,{\"0??\",\"1??\",\"2??\",\"3??\",\"4??\",\"5??\",\"6??\"},'Accounting Data'!J2:J100000,\"67??\"))-(SUM(G10:G19))","v":0},{"$f":"SUM(SUMIFS('Accounting Data'!C2:C100000,'Accounting Data'!E2:E100000,\"COVID\",'Accounting Data'!H2:H100000,{\"0??\",\"1??\",\"2??\",\"3??\",\"4??\",\"5??\",\"6??\"},'Accounting Data'!J2:J100000,\"681?\"))+SUM(SUMIFS('Accounting Data'!C2:C100000,'Accounting Data'!E2:E100000,\"227\",'Accounting Data'!H2:H100000,{\"0??\",\"1??\",\"2??\",\"3??\",\"4??\",\"5??\",\"6??\"},'Accounting Data'!J2:J100000,\"681?\"))+SUM(SUMIFS('Accounting Data'!C2:C100000,'Accounting Data'!E2:E100000,\"228\",'Accounting Data'!H2:H100000,{\"0??\",\"1??\",\"2??\",\"3??\",\"4??\",\"5??\",\"6??\"},'Accounting Data'!J2:J100000,\"681?\"))-(SUM(H10:H19))","v":0},{"$f":"SUM(SUMIFS('Accounting Data'!C2:C100000,'Accounting Data'!E2:E100000,\"COVID\",'Accounting Data'!H2:H100000,{\"0??\",\"1??\",\"2??\",\"3??\",\"4??\",\"5??\",\"6??\"},'Accounting Data'!J2:J100000,\"682?\"))+SUM(SUMIFS('Accounting Data'!C2:C100000,'Accounting Data'!E2:E100000,\"227\",'Accounting Data'!H2:H100000,{\"0??\",\"1??\",\"2??\",\"3??\",\"4??\",\"5??\",\"6??\"},'Accounting Data'!J2:J100000,\"682?\"))+SUM(SUMIFS('Accounting Data'!C2:C100000,'Accounting Data'!E2:E100000,\"228\",'Accounting Data'!H2:H100000,{\"0??\",\"1??\",\"2??\",\"3??\",\"4??\",\"5??\",\"6??\"},'Accounting Data'!J2:J100000,\"682?\"))-(SUM(I10:I19))","v":0},{"$f":"SUM(SUMIFS('Accounting Data'!C2:C100000,'Accounting Data'!E2:E100000,\"COVID\",'Accounting Data'!H2:H100000,{\"0??\",\"1??\",\"2??\",\"3??\",\"4??\",\"5??\",\"6??\"},'Accounting Data'!J2:J100000,\"685?\"))+SUM(SUMIFS('Accounting Data'!C2:C100000,'Accounting Data'!E2:E100000,\"227\",'Accounting Data'!H2:H100000,{\"0??\",\"1??\",\"2??\",\"3??\",\"4??\",\"5??\",\"6??\"},'Accounting Data'!J2:J100000,\"685?\"))+SUM(SUMIFS('Accounting Data'!C2:C100000,'Accounting Data'!E2:E100000,\"228\",'Accounting Data'!H2:H100000,{\"0??\",\"1??\",\"2??\",\"3??\",\"4??\",\"5??\",\"6??\"},'Accounting Data'!J2:J100000,\"685?\"))-(SUM(J10:J19))","v":0},{"$f":"SUM(SUMIFS('Accounting Data'!C2:C100000,'Accounting Data'!E2:E100000,\"COVID\",'Accounting Data'!H2:H100000,{\"0??\",\"1??\",\"2??\",\"3??\",\"4??\",\"5??\",\"6??\"},'Accounting Data'!J2:J100000,\"689?\"))+SUM(SUMIFS('Accounting Data'!C2:C100000,'Accounting Data'!E2:E100000,\"227\",'Accounting Data'!H2:H100000,{\"0??\",\"1??\",\"2??\",\"3??\",\"4??\",\"5??\",\"6??\"},'Accounting Data'!J2:J100000,\"689?\"))+SUM(SUMIFS('Accounting Data'!C2:C100000,'Accounting Data'!E2:E100000,\"228\",'Accounting Data'!H2:H100000,{\"0??\",\"1??\",\"2??\",\"3??\",\"4??\",\"5??\",\"6??\"},'Accounting Data'!J2:J100000,\"689?\"))-(SUM(K10:K19))","v":0},{"$f":"SUM(SUMIFS('Accounting Data'!C2:C100000,'Accounting Data'!E2:E100000,\"COVID\",'Accounting Data'!H2:H100000,{\"0??\",\"1??\",\"2??\",\"3??\",\"4??\",\"5??\",\"6??\"},'Accounting Data'!J2:J100000,\"68??\"))+SUM(SUMIFS('Accounting Data'!C2:C100000,'Accounting Data'!E2:E100000,\"227\",'Accounting Data'!H2:H100000,{\"0??\",\"1??\",\"2??\",\"3??\",\"4??\",\"5??\",\"6??\"},'Accounting Data'!J2:J100000,\"68??\"))+SUM(SUMIFS('Accounting Data'!C2:C100000,'Accounting Data'!E2:E100000,\"228\",'Accounting Data'!H2:H100000,{\"0??\",\"1??\",\"2??\",\"3??\",\"4??\",\"5??\",\"6??\"},'Accounting Data'!J2:J100000,\"68??\"))-(SUM(H21+I21+J21+K21+L10+L11+L12+L13+L14+L15+L16+L17+L18+L19))","v":0},{"$f":"SUM(SUMIFS('Accounting Data'!C2:C100000,'Accounting Data'!E2:E100000,\"COVID\",'Accounting Data'!H2:H100000,{\"7??\",\"8??\",\"9??\"},'Accounting Data'!J2:J100000,\"6???\"))-SUM(SUMIFS('Accounting Data'!C2:C100000,'Accounting Data'!E2:E100000,\"COVID\",'Accounting Data'!H2:H100000,{\"7??\",\"8??\",\"9??\"},'Accounting Data'!J2:J100000,\"69??\"))+SUM(SUMIFS('Accounting Data'!C2:C100000,'Accounting Data'!E2:E100000,\"227\",'Accounting Data'!H2:H100000,{\"7??\",\"8??\",\"9??\"},'Accounting Data'!J2:J100000,\"6???\"))-SUM(SUMIFS('Accounting Data'!C2:C100000,'Accounting Data'!E2:E100000,\"227\",'Accounting Data'!H2:H100000,{\"7??\",\"8??\",\"9??\"},'Accounting Data'!J2:J100000,\"69??\"))+SUM(SUMIFS('Accounting Data'!C2:C100000,'Accounting Data'!E2:E100000,\"228\",'Accounting Data'!H2:H100000,{\"7??\",\"8??\",\"9??\"},'Accounting Data'!J2:J100000,\"6???\"))-SUM(SUMIFS('Accounting Data'!C2:C100000,'Accounting Data'!E2:E100000,\"228\",'Accounting Data'!H2:H100000,{\"7??\",\"8??\",\"9??\"},'Accounting Data'!J2:J100000,\"69??\"))-(SUM(M10:M19))","v":0},{"$f":"ROUND(SUM(C20:M20),0)","v":0}]
["Total (lines 1-12)","12.",{"$f":"ROUND(SUM(C10:C20),0)","v":1217185},{"$f":"ROUND(SUM(D10:D20),0)","v":305992},{"$f":"ROUND(SUM(E10:E20),0)","v":261311},743134,0,0,0,0,{"$f":"ROUND(SUM(K10:K20),0)","v":0},0,{"$f":"ROUND(SUM(M10:M20),0)","v":0},{"$f":"ROUND(SUM(N10:N20),0)","v":2527622}]
[null,null,null,""]
["Technology Related Expenditures from COVID-19 federal relief funds",null,null,"Total spending detail","Classroom spending detail",null,"Other Financing Uses for federal relief funds"]
["1. 6340 Technical Services",null,null,{"$f":"SUMIFS('Accounting Data'!C2:C100000,'Accounting Data'!E2:E100000,\"COVID\",'Accounting Data'!J2:J100000,\"634?\")+SUMIFS('Accounting Data'!C2:C100000,'Accounting Data'!E2:E100000,\"227\",'Accounting Data'!J2:J100000,\"634?\")+SUMIFS('Accounting Data'!C2:C100000,'Accounting Data'!E2:E100000,\"228\",'Accounting Data'!J2:J100000,\"634?\")","v":0},{"$f":"SUM(SUMIFS('Accounting Data'!C2:C100000,'Accounting Data'!E2:E100000,\"COVID\",'Accounting Data'!J2:J100000,\"6340\",'Accounting Data'!I2:I100000,{\"1???\",\"21??\",\"22??\"})+SUMIFS('Accounting Data'!C2:C100000,'Accounting Data'!E2:E100000,\"227\",'Accounting Data'!J2:J100000,\"6340\",'Accounting Data'!I2:I100000,{\"1???\",\"21??\",\"22??\"})+SUMIFS('Accounting Data'!C2:C100000,'Accounting Data'!E2:E100000,\"228\",'Accounting Data'!J2:J100000,\"6340\",'Accounting Data'!I2:I100000,{\"1???\",\"21??\",\"22??\"}))","v":0},null,"1. 6910 Indirect costs transfers-out",null,null,{"$f":"ROUND(SUM(SUMIFS('Accounting Data'!C2:C100000,'Accounting Data'!E2:E100000,\"COVID\",'Accounting Data'!J2:J100000,\"691?\")),0)+ROUND(SUM(SUMIFS('Accounting Data'!C2:C100000,'Accounting Data'!E2:E100000,\"227\",'Accounting Data'!J2:J100000,\"691?\")),0)+ROUND(SUM(SUMIFS('Accounting Data'!C2:C100000,'Accounting Data'!E2:E100000,\"228\",'Accounting Data'!J2:J100000,\"691?\")),0)","v":214310}]
["2. 6432 Technology-Related Repairs and Maintenance",null,null,{"$f":"SUMIFS('Accounting Data'!C2:C100000,'Accounting Data'!E2:E100000,\"COVID\",'Accounting Data'!J2:J100000,\"6432\")+SUMIFS('Accounting Data'!C2:C100000,'Accounting Data'!E2:E100000,\"227\",'Accounting Data'!J2:J100000,\"6432\")+SUMIFS('Accounting Data'!C2:C100000,'Accounting Data'!E2:E100000,\"228\",'Accounting Data'!J2:J100000,\"6432\")","v":0},{"$f":"SUM(SUMIFS('Accounting Data'!C2:C100000,'Accounting Data'!E2:E100000,\"COVID\",'Accounting Data'!J2:J100000,\"6432\",'Accounting Data'!I2:I100000,{\"1???\",\"21??\",\"22??\"})+SUMIFS('Accounting Data'!C2:C100000,'Accounting Data'!E2:E100000,\"227\",'Accounting Data'!J2:J100000,\"6432\",'Accounting Data'!I2:I100000,{\"1???\",\"21??\",\"22??\"})+SUMIFS('Accounting Data'!C2:C100000,'Accounting Data'!E2:E100000,\"228\",'Accounting Data'!J2:J100000,\"6432\",'Accounting Data'!I2:I100000,{\"1???\",\"21??\",\"22??\"}))","v":0}]
["3. 6443 Rental of Computers and Related Equipment",null,null,{"$f":"SUMIFS('Accounting Data'!C2:C100000,'Accounting Data'!E2:E100000,\"COVID\",'Accounting Data'!J2:J100000,\"6443\")+SUMIFS('Accounting Data'!C2:C100000,'Accounting Data'!E2:E100000,\"227\",'Accounting Data'!J2:J100000,\"6443\")+SUMIFS('Accounting Data'!C2:C100000,'Accounting Data'!E2:E100000,\"228\",'Accounting Data'!J2:J100000,\"6443\")","v":0},{"$f":"SUM(SUMIFS('Accounting Data'!C2:C100000,'Accounting Data'!E2:E100000,\"COVID\",'Accounting Data'!J2:J100000,\"6443\",'Accounting Data'!I2:I100000,{\"1???\",\"21??\",\"22??\"})+SUMIFS('Accounting Data'!C2:C100000,'Accounting Data'!E2:E100000,\"227\",'Accounting Data'!J2:J100000,\"6443\",'Accounting Data'!I2:I100000,{\"1???\",\"21??\",\"22??\"})+SUMIFS('Accounting Data'!C2:C100000,'Accounting Data'!E2:E100000,\"228\",'Accounting Data'!J2:J100000,\"6443\",'Accounting Data'!I2:I100000,{\"1???\",\"21??\",\"22??\"}))","v":0},null,{"$f":"IF(OR(C20<0,D20<0,E20<0,F20<0,G20<0,H20<0,I20<0,J20<0,K20<0,L20<0,M20<0,N20<0),\"Line 11 in the current expenditures table should not contain negative amounts. Click the instruction link in cell A20 for more information.\",\"\")","v":""}]
["4. 6531 Telecommunications",null,null,{"$f":"SUMIFS('Accounting Data'!C2:C100000,'Accounting Data'!E2:E100000,\"COVID\",'Accounting Data'!J2:J100000,\"6531\")+SUMIFS('Accounting Data'!C2:C100000,'Accounting Data'!E2:E100000,\"227\",'Accounting Data'!J2:J100000,\"6531\")+SUMIFS('Accounting Data'!C2:C100000,'Accounting Data'!E2:E100000,\"228\",'Accounting Data'!J2:J100000,\"6531\")","v":5521},{"$f":"SUM(SUMIFS('Accounting Data'!C2:C100000,'Accounting Data'!E2:E100000,\"COVID\",'Accounting Data'!J2:J100000,\"6531\",'Accounting Data'!I2:I100000,{\"1???\",\"21??\",\"22??\"})+SUMIFS('Accounting Data'!C2:C100000,'Accounting Data'!E2:E100000,\"227\",'Accounting Data'!J2:J100000,\"6531\",'Accounting Data'!I2:I100000,{\"1???\",\"21??\",\"22??\"})+SUMIFS('Accounting Data'!C2:C100000,'Accounting Data'!E2:E100000,\"228\",'Accounting Data'!J2:J100000,\"6531\",'Accounting Data'!I2:I100000,{\"1???\",\"21??\",\"22??\"}))","v":5521}]
["5. 6650 Supplies–Technology-Related",null,null,{"$f":"SUMIFS('Accounting Data'!C2:C100000,'Accounting Data'!E2:E100000,\"COVID\",'Accounting Data'!J2:J100000,\"665?\")+SUMIFS('Accounting Data'!C2:C100000,'Accounting Data'!E2:E100000,\"227\",'Accounting Data'!J2:J100000,\"665?\")+SUMIFS('Accounting Data'!C2:C100000,'Accounting Data'!E2:E100000,\"228\",'Accounting Data'!J2:J100000,\"665?\")","v":21674},{"$f":"SUM(SUMIFS('Accounting Data'!C2:C100000,'Accounting Data'!E2:E100000,\"COVID\",'Accounting Data'!J2:J100000,\"6650\",'Accounting Data'!I2:I100000,{\"1???\",\"21??\",\"22??\"})+SUMIFS('Accounting Data'!C2:C100000,'Accounting Data'!E2:E100000,\"227\",'Accounting Data'!J2:J100000,\"6650\",'Accounting Data'!I2:I100000,{\"1???\",\"21??\",\"22??\"})+SUMIFS('Accounting Data'!C2:C100000,'Accounting Data'!E2:E100000,\"228\",'Accounting Data'!J2:J100000,\"6650\",'Accounting Data'!I2:I100000,{\"1???\",\"21??\",\"22??\"}))","v":0}]
["6. 6737-38 Technology-Related Hardware & Software (less than $5,000)",null,null,{"$f":"SUM(SUMIFS('Accounting Data'!C2:C100000,'Accounting Data'!E2:E100000,\"COVID\",'Accounting Data'!J2:J100000,{\"6737\",\"6738\"}))+SUM(SUMIFS('Accounting Data'!C2:C100000,'Accounting Data'!E2:E100000,\"227\",'Accounting Data'!J2:J100000,{\"6737\",\"6738\"}))+SUM(SUMIFS('Accounting Data'!C2:C100000,'Accounting Data'!E2:E100000,\"228\",'Accounting Data'!J2:J100000,{\"6737\",\"6738\"}))","v":0},{"$f":"SUM(SUMIFS('Accounting Data'!C2:C100000,'Accounting Data'!E2:E100000,\"COVID\",'Accounting Data'!J2:J100000,{\"6737\",\"6738\"},'Accounting Data'!I2:I100000,{\"1???\",\"21??\",\"22??\"})+SUMIFS('Accounting Data'!C2:C100000,'Accounting Data'!E2:E100000,\"227\",'Accounting Data'!J2:J100000,{\"6737\",\"6738\"},'Accounting Data'!I2:I100000,{\"1???\",\"21??\",\"22??\"})+SUMIFS('Accounting Data'!C2:C100000,'Accounting Data'!E2:E100000,\"228\",'Accounting Data'!J2:J100000,{\"6737\",\"6738\"},'Accounting Data'!I2:I100000,{\"1???\",\"21??\",\"22??\"}))","v":0}]
["7. 6739 Technology-Related Hardware & Software ($5,000 or more)",null,null,{"$f":"SUMIFS('Accounting Data'!C2:C100000,'Accounting Data'!E2:E100000,\"COVID\",'Accounting Data'!J2:J100000,\"6739\")+SUMIFS('Accounting Data'!C2:C100000,'Accounting Data'!E2:E100000,\"227\",'Accounting Data'!J2:J100000,\"6739\")+SUMIFS('Accounting Data'!C2:C100000,'Accounting Data'!E2:E100000,\"228\",'Accounting Data'!J2:J100000,\"6739\")","v":0},{"$f":"SUM(SUMIFS('Accounting Data'!C2:C100000,'Accounting Data'!E2:E100000,\"COVID\",'Accounting Data'!J2:J100000,\"6739\",'Accounting Data'!I2:I100000,{\"1???\",\"21??\",\"22??\"})+SUMIFS('Accounting Data'!C2:C100000,'Accounting Data'!E2:E100000,\"227\",'Accounting Data'!J2:J100000,\"6739\",'Accounting Data'!I2:I100000,{\"1???\",\"21??\",\"22??\"})+SUMIFS('Accounting Data'!C2:C100000,'Accounting Data'!E2:E100000,\"228\",'Accounting Data'!J2:J100000,\"6739\",'Accounting Data'!I2:I100000,{\"1???\",\"21??\",\"22??\"}))","v":0}]
["8. 6641-43 Software reported in library books, textbooks, or instructional aids ",null,null,686713,{"$f":"D31","v":686713}]
["9. 6832 and 6842  Noninstructional software subscriptions (more than 12 months) Principal and Interest",null,null,0]
["10. 6833 and 6843 Instructional software subscriptions (more than 12 months) Principal and Interest",null,null,{"$f":"SUMIFS('Accounting Data'!C2:C100000,'Accounting Data'!E2:E100000,\"COVID\",'Accounting Data'!J2:J100000,\"6843\")+SUMIFS('Accounting Data'!C2:C100000,'Accounting Data'!E2:E100000,\"227\",'Accounting Data'!J2:J100000,\"6843\")+SUMIFS('Accounting Data'!C2:C100000,'Accounting Data'!E2:E100000,\"228\",'Accounting Data'!J2:J100000,\"6843\")+SUMIFS('Accounting Data'!C2:C100000,'Accounting Data'!E2:E100000,\"COVID\",'Accounting Data'!J2:J100000,\"6833\")+SUMIFS('Accounting Data'!C2:C100000,'Accounting Data'!E2:E100000,\"227\",'Accounting Data'!J2:J100000,\"6833\")+SUMIFS('Accounting Data'!C2:C100000,'Accounting Data'!E2:E100000,\"228\",'Accounting Data'!J2:J100000,\"6833\")","v":0},{"$f":"D33","v":0}]
[]
["Capital Outlay Expenditures detail for COVID-19 federal relief funds"]
["1. Programs 100-630, Function 4000, Objects 6100-6700 and 6890",null,null,{"$f":"(SUM(SUMIFS('Accounting Data'!C2:C100000,'Accounting Data'!E2:E100000,\"COVID\",'Accounting Data'!H2:H100000,{\"0??\",\"1??\",\"2??\",\"3??\",\"4??\",\"5??\",\"6??\"},'Accounting Data'!I2:I100000,\"4???\",'Accounting Data'!J2:J100000,\"6???\")))-(SUM(SUMIFS('Accounting Data'!C2:C100000,'Accounting Data'!E2:E100000,\"COVID\",'Accounting Data'!H2:H100000,{\"0??\",\"1??\",\"2??\",\"3??\",\"4??\",\"5??\",\"6??\"},'Accounting Data'!I2:I100000,\"4???\",'Accounting Data'!J2:J100000,\"68??\")))-(SUM(SUMIFS('Accounting Data'!C2:C100000,'Accounting Data'!E2:E100000,\"COVID\",'Accounting Data'!H2:H100000,{\"0??\",\"1??\",\"2??\",\"3??\",\"4??\",\"5??\",\"6??\"},'Accounting Data'!I2:I100000,\"4???\",'Accounting Data'!J2:J100000,\"69??\")))+(SUM(SUMIFS('Accounting Data'!C2:C100000,'Accounting Data'!E2:E100000,\"COVID\",'Accounting Data'!H2:H100000,{\"0??\",\"1??\",\"2??\",\"3??\",\"4??\",\"5??\",\"6??\"},'Accounting Data'!I2:I100000,\"4???\",'Accounting Data'!J2:J100000,\"689?\")))+(SUM(SUMIFS('Accounting Data'!C2:C100000,'Accounting Data'!E2:E100000,\"227\",'Accounting Data'!H2:H100000,{\"0??\",\"1??\",\"2??\",\"3??\",\"4??\",\"5??\",\"6??\"},'Accounting Data'!I2:I100000,\"4???\",'Accounting Data'!J2:J100000,\"6???\")))-(SUM(SUMIFS('Accounting Data'!C2:C100000,'Accounting Data'!E2:E100000,\"227\",'Accounting Data'!H2:H100000,{\"0??\",\"1??\",\"2??\",\"3??\",\"4??\",\"5??\",\"6??\"},'Accounting Data'!I2:I100000,\"4???\",'Accounting Data'!J2:J100000,\"68??\")))-(SUM(SUMIFS('Accounting Data'!C2:C100000,'Accounting Data'!E2:E100000,\"227\",'Accounting Data'!H2:H100000,{\"0??\",\"1??\",\"2??\",\"3??\",\"4??\",\"5??\",\"6??\"},'Accounting Data'!I2:I100000,\"4???\",'Accounting Data'!J2:J100000,\"69??\")))+(SUM(SUMIFS('Accounting Data'!C2:C100000,'Accounting Data'!E2:E100000,\"227\",'Accounting Data'!H2:H100000,{\"0??\",\"1??\",\"2??\",\"3??\",\"4??\",\"5??\",\"6??\"},'Accounting Data'!I2:I100000,\"4???\",'Accounting Data'!J2:J100000,\"689?\")))+(SUM(SUMIFS('Accounting Data'!C2:C100000,'Accounting Data'!E2:E100000,\"228\",'Accounting Data'!H2:H100000,{\"0??\",\"1??\",\"2??\",\"3??\",\"4??\",\"5??\",\"6??\"},'Accounting Data'!I2:I100000,\"4???\",'Accounting Data'!J2:J100000,\"6???\")))-(SUM(SUMIFS('Accounting Data'!C2:C100000,'Accounting Data'!E2:E100000,\"228\",'Accounting Data'!H2:H100000,{\"0??\",\"1??\",\"2??\",\"3??\",\"4??\",\"5??\",\"6??\"},'Accounting Data'!I2:I100000,\"4???\",'Accounting Data'!J2:J100000,\"68??\")))-(SUM(SUMIFS('Accounting Data'!C2:C100000,'Accounting Data'!E2:E100000,\"228\",'Accounting Data'!H2:H100000,{\"0??\",\"1??\",\"2??\",\"3??\",\"4??\",\"5??\",\"6??\"},'Accounting Data'!I2:I100000,\"4???\",'Accounting Data'!J2:J100000,\"69??\")))+(SUM(SUMIFS('Accounting Data'!C2:C100000,'Accounting Data'!E2:E100000,\"228\",'Accounting Data'!H2:H100000,{\"0??\",\"1??\",\"2??\",\"3??\",\"4??\",\"5??\",\"6??\"},'Accounting Data'!I2:I100000,\"4???\",'Accounting Data'!J2:J100000,\"689?\")))","v":0}]
["2. Programs 100-630, All functions, Object 67XX",null,null,{"$f":"SUM(SUMIFS('Accounting Data'!C2:C100000,'Accounting Data'!E2:E100000,\"COVID\",'Accounting Data'!H2:H100000,{\"0??\",\"1??\",\"2??\",\"3??\",\"4??\",\"5??\",\"6??\"},'Accounting Data'!J2:J100000,\"67??\"))+SUM(SUMIFS('Accounting Data'!C2:C100000,'Accounting Data'!E2:E100000,\"227\",'Accounting Data'!H2:H100000,{\"0??\",\"1??\",\"2??\",\"3??\",\"4??\",\"5??\",\"6??\"},'Accounting Data'!J2:J100000,\"67??\"))+SUM(SUMIFS('Accounting Data'!C2:C100000,'Accounting Data'!E2:E100000,\"228\",'Accounting Data'!H2:H100000,{\"0??\",\"1??\",\"2??\",\"3??\",\"4??\",\"5??\",\"6??\"},'Accounting Data'!J2:J100000,\"67??\"))","v":0}]
[]
[null,null,null,"Total Award\n(all fiscal years)","FY 2020 through \nFY 2023\nExpenditures and Other Financing Uses","FY 2024\nExpenditures and Other Financing Uses","Amount\nremaining to\nspend"]
["COVID-19 federal relief funds"]
["1. Elementary and Secondary School Emergency Relief Funds (ESSER I)",null,null,340990,340990,null,null,null,null,null,null,null,null,null,null,null,null,null,null,null,null,null,null,null,null,{"$f":"IF(OR(Z42=\"yes\",Z43=\"yes\"),\"yes\",\"\")","v":""}]
["2. Elementary and Secondary School Emergency Relief Funds (ESSER II)",null,null,1388095,1322266,65829,{"$f":"ROUND(D42-E42-F42,0)","v":0},null,null,null,null,null,null,null,null,null,null,null,null,null,null,null,null,null,null,{"$f":"IF(OR(D31=\"\",D32=\"\",D41=\"\",D42=\"\",D43=\"\",D44=\"\",D45=\"\",D46=\"\",E41=\"\",E42=\"\",E43=\"\",E44=\"\",E45=\"\",E46=\"\"),\"yes\",\"\")","v":""}]
["3. Elementary and Secondary School Emergency Relief Funds (ESSER III)",null,null,3096818,764642,1327163,{"$f":"ROUND(D43-E43-F43,0)","v":1005013},null,null,null,null,null,null,null,null,null,null,null,null,null,null,null,null,null,null,"`"]
["4. Governor’s Emergency Education Relief Funds (GEER) - includes Acceleration Academies Program",null,null,1483100,726293,0,{"$f":"ROUND(D44-E44-F44,0)","v":756807}]
["5. Coronavirus Relief Fund (CRF)—Enrollment Stability Grant (ESG) Program",null,null,1038706,1038706]
["6. Other COVID-19 Federal Relief Funds",null,null,{"$f":"2493466+1","v":2493467},1144527,{"$f":"1348939+1","v":1348940},{"$f":"ROUND(D46-E46-F46,0)","v":0}]
["7. Total",null,null,{"$f":"ROUND(SUM(D41:D46),0)","v":9841176},{"$f":"ROUND(SUM(E41:E46),0)","v":5337424},{"$f":"ROUND(SUM(F42:F46),0)","v":2741932},{"$f":"ROUND(SUM(G41:G46),0)","v":1761820}]
[]
[null,null,null,null,"Total FY 2024 expenditures + other financing uses",{"$f":"ROUND(SUM(N21+J24),0)","v":2741932},null,null,{"$f":"IF(OR(G42<0,G43<0,G44<0,G45<0,G46<0),\"Column G should not contain negative amounts. Click the instruction link in cell G39 for more information.\",\"\")","v":""}]
[null,null,null,null,null,{"$f":"IF(F47<>F49,\"The amount in cell F47 should agree to the amount in cell F49\",\"\")","v":""}]

{"sheet":"Summary","index":11,"n_rows":70,"n_cols":17,"rows_kept":70,"cut":false,"hidden":false,"merged":[[7,10,9,10],[8,8,8,9],[9,8,9,9],[10,4,10,5],[10,6,10,7],[10,8,10,9],[12,6,12,7],[15,4,15,5],[61,8,61,9],[61,6,61,7],[61,4,61,5],[15,8,15,9],[11,8,11,9],[12,8,12,9],[14,4,14,5],[14,6,14,7],[14,8,14,9],[12,4,12,5],[13,4,13,5],[11,6,11,7],[13,8,13,9],[17,8,17,9],[16,4,16,5],[16,6,16,7],[7,2,9,2],[57,4,57,5],[57,6,57,7],[19,4,19,5],[19,6,19,7],[25,6,25,7],[11,4,11,5],[36,4,36,5],[36,6,36,7],[34,6,34,7],[32,4,32,5],[32,6,32,7],[31,4,31,5],[17,6,17,7],[15,6,15,7],[52,6,52,7],[33,6,33,7],[7,6,9,7],[13,6,13,7],[39,4,39,5],[39,6,39,7],[24,4,24,5],[24,6,24,7],[16,8,16,9],[35,8,35,9],[33,8,33,9],[31,6,31,7],[31,8,31,9],[29,4,29,5],[17,4,17,5],[46,6,46,7],[46,8,46,9],[32,8,32,9],[20,6,20,7],[22,6,22,7],[42,4,42,5],[42,6,42,7],[46,4,46,5],[29,6,29,7],[23,4,23,5],[39,8,39,9],[24,8,24,9],[59,4,59,5],[57,8,57,9],[58,6,58,7],[59,6,59,7],[59,8,59,9],[58,8,58,9],[48,4,48,5],[23,6,23,7],[28,4,28,5],[28,6,28,7],[28,8,28,9],[26,4,26,5],[26,6,26,7],[26,8,26,9],[27,4,27,5],[27,6,27,7],[53,6,53,7],[53,8,53,9],[52,8,52,9],[54,6,54,7],[53,4,53,5],[54,4,54,5],[48,6,48,7],[45,8,45,9],[58,4,58,5],[55,8,55,9],[55,4,55,5],[38,6,38,7],[38,8,38,9],[40,4,40,5],[40,6,40,7],[40,8,40,9],[41,4,41,5],[41,6,41,7],[56,4,56,5],[56,6,56,7],[56,8,56,9],[55,6,55,7],[49,8,49,9],[54,8,54,9],[50,4,50,5],[50,6,50,7],[50,8,50,9],[51,4,51,5],[51,6,51,7],[52,4,52,5],[48,8,48,9],[9,11,10,14],[11,12,13,14],[23,8,23,9],[25,4,25,5],[25,8,25,9],[51,8,51,9],[49,4,49,5],[49,6,49,7],[33,4,33,5],[27,8,27,9],[47,4,47,5],[47,6,47,7],[47,8,47,9],[43,6,43,7],[43,8,43,9],[44,4,44,5],[44,6,44,7],[43,4,43,5],[44,8,44,9],[41,8,41,9],[42,8,42,9],[45,4,45,5],[45,6,45,7],[7,4,9,5],[64,8,64,9],[64,6,64,7],[64,4,64,5],[37,8,37,9],[38,4,38,5],[18,6,18,7],[18,8,18,9],[20,4,20,5],[19,8,19,9],[22,8,22,9],[22,4,22,5],[20,8,20,9],[18,4,18,5],[35,4,35,5],[35,6,35,7],[30,4,30,5],[30,6,30,7],[34,4,34,5],[37,4,37,5],[37,6,37,7],[29,8,29,9],[36,8,36,9],[34,8,34,9],[30,8,30,9],[62,8,62,9],[62,6,62,7],[62,4,62,5],[60,4,60,5],[60,6,60,7],[60,8,60,9],[69,4,69,5],[69,6,69,7],[69,8,69,9],[63,4,63,5],[63,6,63,7],[63,8,63,9],[66,6,66,7],[68,8,68,9],[68,6,68,7],[66,8,66,9],[67,6,67,7],[67,8,67,9],[68,4,68,5],[67,4,67,5],[66,4,66,5],[65,8,65,9],[65,6,65,7],[65,4,65,5]]}
[null,null,null,null,null,null,"CTDS NUMBER",null,{"$f":"Cover!Q1","v":"070425000"},null,null,null,null,null,null,null,"General"]
["I certify that the Annual Financial Report of Liberty Elementary School District, Maricopa",null,null,null,"Avg. Daily Membership",null,"2023",null,"2024",null,null,null,null,null,null,null,"Capital Projects"]
["County, for fiscal year 2024 was approved by the Governing Board on October 7th, 2024,  and that the",null,null,null,null,"Attending",4199.6826000000001,null,4204.3252000000002,null,null,null,null,null,null,null,"Special Revenue"]
["complete Annual Financial Report may be reviewed by contacting Dane Bolden  at the District Office,",null,null,null,null,null,null,null,null,null,null,null,null,null,null,null,"Debt Service"]
["telephone 623-474-6600, during normal business hours.",null,null,null,null,"2024 Tax Rates:","Primary",null,"Secondary"]
[null,null,null,null,null,null,{"$f":"PrimaryTaxRate","v":2.1585000000000001},null,{"$f":"SecondaryTaxRate","v":1.9358}]
["Rev. 8/24 Arizona Department of Education and Auditor General",null,"President of the Governing Board"]
[null,null,"Revenues ","Net Other Financing ","Budgeted Expenditures",null,"Actual Expenditures",null,null,null,"Fund Types"]
[null,"Beginning",null,"Sources and Uses ",null,null,null,null,"Ending"]
["Fund/Program","Fund Balance",null,"Including Transfers",null,null,null,null,"Fund Balance",null,null,"Additional fund balance reserve information \n(See Fund Balance Reserve tab for more detail)"]
["Regular Education",null,null,null,{"$f":"F001P100TotBudgExp","v":26375366},null,{"$f":"F001P100TotActExp","v":26005099}]
["Special Education",null,null,null,{"$f":"F001P200TotBudgExp","v":8351964},null,{"$f":"F001P200TotActExp","v":7752498},null,null,null,null,-1,{"$f":"\"The District \"&IF('Fund Balance Reserve'!F28=\"Yes\",\"has\",\"does not have\")&\" a process or policy to establish a targeted fund balance reserve for FY 2024.\"","v":"The District does not have a process or policy to establish a targeted fund balance reserve for FY 2024."}]
["Pupil Transportation",null,null,null,{"$f":"F001P400TotBudgExp","v":2523256},null,{"$f":"F001P400","v":2576238}]
["Desegregation",null,null,null,{"$f":"F001P510TotBudgExp","v":0},null,{"$f":"F001P510","v":0}]
["Dropout Prevention Programs",null,null,null,{"$f":"F001P530TotBudgExp","v":0},null,{"$f":"F001P530TotActExp","v":0},null,null,null,null,-2,"The District's actual fund balance reserve for FY 2024 was:"]
["Joint Career & Tech. Ed. & Voc. Ed. Center",null,null,null,{"$f":"F001P540TotBudgExp","v":0},null,{"$f":"F001P540","v":0},null,null,null,null,null,{"$f":"'Fund Balance Reserve'!D43","v":0}]
["K-3 Reading Program",null,null,null,{"$f":"F001P550TotBudgExp","v":344731},null,{"$f":"F001P550TotActExp","v":346768}]
["Maintenance and Operation Total",{"$f":"F001BegFunBal","v":3985307},{"$f":"F001TotRev","v":34524357},{"$f":"F001TransIn+F001OtherFinSources-F001OtherFinUses","v":0},{"$f":"F001TOTALBUDGEXP","v":37595317},null,{"$f":"F001TOTALEXP","v":36680603},null,{"$f":"B18+C18+D18-G18","v":1829061},null,"General"]
["Classroom Site Funds",{"$f":"'Page 3'!D21","v":1756532},{"$f":"'Page 3'!E21","v":3756453},null,{"$f":"'Page 3'!L21","v":5353374},null,{"$f":"'Page 3'!M21","v":3147105},null,{"$f":"B19+C19-G19","v":2365880},null,"Special Revenue"]
["Instructional Improvement",{"$f":"F020BegFunBal","v":492885},{"$f":"F020ActRev","v":316388},null,{"$f":"F020BudgExp","v":250000},null,{"$f":"F020ActExp","v":178725},null,{"$f":"B20+C20-G20","v":630548},null,"Special Revenue"]
["Unrestricted Capital Outlay",{"$f":"F610BegFunBal","v":592356},{"$f":"F610TotRev","v":3220943},{"$f":"F610TransIn+F610OtherFinSources-F610OtherFinUses","v":0},{"$f":"F610TotBudgExp","v":4020061},null,{"$f":"F610TotActExp","v":3102432},null,710867,null,"General"]
[]
["Adjacent Ways",{"$f":"F620BegFunBal","v":1125680},{"$f":"F620TotRev","v":1774848},{"$f":"F620TransfIn+F620OtherFinSources-F620OtherFinUses","v":0},{"$f":"F620BudgExp","v":1750000},null,{"$f":"F620TotExp","v":31138},null,2869390,null,"Capital Projects"]
["Bond Building",{"$f":"F630BegFunBal","v":17799841},{"$f":"F630TotRev","v":0},{"$f":"F630BondIssuance+F630TransIn+F630OtherFinSources-F630OtherFinUses","v":3288462},{"$f":"[1]!F630TotalBudgFY","v":21088302},null,{"$f":"F630TotExp","v":3391910},null,17696393,null,"Capital Projects"]
["Condemnation",{"$f":"F660BegFunBal","v":0},{"$f":"F660ActRev","v":0},{"$f":"F660Transf","v":0},{"$f":"F660BudgExp","v":0},null,{"$f":"F660ActExp","v":0},null,{"$f":"B25+C25+D25-G25","v":0},null,"General"]
["Energy and Water Savings",{"$f":"F665BegFunBal","v":0},{"$f":"F665ActRev","v":0},{"$f":"F665Transf","v":0},{"$f":"F665BudgExp","v":0},null,{"$f":"F665ActExp","v":0},null,{"$f":"B26+C26+D26-G26","v":0},null,"General"]
["New School Facilities",{"$f":"F695BegFunBal","v":0},{"$f":"F695ActRev","v":332883},null,{"$f":"F695BudgExp","v":23151005},null,{"$f":"F695ActExp","v":1209830},null,{"$f":"B27+C27-G27","v":-876947},null,"Capital Projects"]
["Federal Projects",{"$f":"FedProjBegFunBal","v":937252},{"$f":"FedProjActRev","v":4367220},{"$f":"FedProjTransf","v":-297419},{"$f":"FedProjTotBudgExp","v":6158627},null,{"$f":"FedProjTotActExp","v":4285318},null,721735]
["State Projects",{"$f":"StateProjBegFunBal","v":-41249},{"$f":"StateProjActRev","v":182858},{"$f":"StateProjOFSOFU","v":0},{"$f":"StateProjTotBudgExp","v":372164},null,{"$f":"StateProjTotActExp","v":159572},null,{"$f":"B29+C29+D29-G29","v":-17963}]
["County, City, and Town Grants",{"$f":"F050BegFunBal","v":0},{"$f":"F050ActRev","v":0},{"$f":"F050Transf","v":0},{"$f":"F050BudgExp","v":0},null,{"$f":"F050ActExp","v":0},null,0,null,"Special Revenue"]
["English Language Learner",{"$f":"F071BegFunBal","v":0},{"$f":"F071ActRev","v":0},{"$f":"F071OFSOFU","v":0},{"$f":"F071BudgExp","v":0},null,{"$f":"F071ActExp","v":0},null,{"$f":"B31+C31+D31-G31","v":0},null,"Special Revenue"]
["Compensatory Instruction",{"$f":"F072BegFunBal","v":0},{"$f":"F072ActRev","v":0},{"$f":"F072OFSOFU","v":0},{"$f":"F072BudgExp","v":0},null,{"$f":"F072ActExp","v":0},null,{"$f":"B32+C32+D32-G32","v":0},null,"Special Revenue"]
["School Plant Fund",{"$f":"F500BegFunBal","v":70330},{"$f":"F500ActRev","v":2898},{"$f":"F500Transf","v":16566},{"$f":"F500BudgExp","v":88177},null,{"$f":"F500ActExp","v":0},null,89794,null,"Capital Projects"]
["Food Service",{"$f":"[5]!FSBegFundBal","v":1640909},{"$f":"[5]!FSTotRev","v":2009611},{"$f":"[5]!FSTransferIn-[5]!FSTransferOut-[5]!FSIndirectCost","v":-127214},{"$f":"[5]!FSBudgetExp","v":3419350},null,{"$f":"[5]!FSActExp","v":1749662},null,1773644,null,"Special Revenue"]
["Civic Center",{"$f":"F515BegFunBal","v":501969},{"$f":"F515ActRev","v":79260},{"$f":"F515Transf","v":0},{"$f":"F515BudgExp","v":530000},null,{"$f":"F515ActExp","v":37623},null,543606,null,"Special Revenue"]
["Community School",{"$f":"F520BegFunBal","v":384722},{"$f":"F520ActRev","v":294543},{"$f":"F520Transf","v":0},{"$f":"F520BudgExp","v":656428},null,{"$f":"F520ActExp","v":234201},null,445064,null,"Special Revenue"]
["Auxiliary Operations",{"$f":"F525BegFunBal","v":232024},{"$f":"F525ActRev","v":394633},{"$f":"F525Transf","v":0},{"$f":"F525BudgExp","v":525839},null,{"$f":"F525ActExp","v":383617},null,243040,null,"Special Revenue"]
["Extracurricular Activities Fees",{"$f":"F526BegFunBal","v":231891},{"$f":"F526ActRev","v":77222},{"$f":"F526Transf","v":0},{"$f":"F526BudgExp","v":301556},null,{"$f":"F526ActExp","v":95013},null,214100,null,"Special Revenue"]
["Gifts and Donations ",{"$f":"F530BegFunBal","v":134210},{"$f":"F530ActRev","v":209806},{"$f":"F530Transf","v":0},{"$f":"F530BudgExp","v":170381},null,{"$f":"F530ActExp","v":49706},null,{"$f":"B39+C39+D39-G39","v":294310},null,"Special Revenue"]
["Gifts and Donations—Capital",{"$f":"F650BegFunBal","v":0},{"$f":"F650ActRev","v":0},{"$f":"F650Transf","v":0},{"$f":"F650BudgExp","v":10000},null,{"$f":"F650ActExp","v":0},null,{"$f":"B40+C40+D40-G40","v":0},null,"Capital Projects"]
["Career & Technical Education Projects",{"$f":"F535BegFunBal","v":394341},{"$f":"F535ActRev","v":0},{"$f":"F535Transf","v":0},{"$f":"F535BudgExp","v":0},null,{"$f":"F535ActExp","v":0},null,394341,null,"Special Revenue"]
["Fingerprint",{"$f":"F540BegFunBal","v":-680},{"$f":"F540ActRev","v":0},{"$f":"F540Transf","v":0},{"$f":"F540BudgExp","v":0},null,{"$f":"F540ActExp","v":260},null,-940,null,"Special Revenue"]
["School Opening",{"$f":"F545BegFunBal","v":0},{"$f":"F545ActRev","v":0},{"$f":"F545Transf","v":0},{"$f":"F545BudgExp","v":0},null,{"$f":"F545ActExp","v":0},null,0,null,"General"]
["Insurance Proceeds",{"$f":"F550BegFunBal","v":56092},{"$f":"F550ActRev","v":97854},{"$f":"F550Transf","v":13472},{"$f":"F550BudgExp","v":102831},null,{"$f":"F550ActExp","v":6115},null,161303,null,"Capital Projects"]
["Textbooks",{"$f":"F555BegFunBal","v":1366},{"$f":"F555ActRev","v":412},{"$f":"F555Transf","v":0},{"$f":"F555BudgExp","v":1565},null,{"$f":"F555ActExp","v":0},null,1778,null,"Special Revenue"]
["Litigation Recovery",{"$f":"F565BegFunBal","v":800},{"$f":"F565ActRev","v":29},{"$f":"F565Transf","v":0},{"$f":"F565BudgExp","v":817},null,{"$f":"F565ActExp","v":0},null,829,null,"General"]
["Indirect Costs",{"$f":"F570BegFunBal","v":610295},{"$f":"F570ActRev","v":16646},{"$f":"F570Transf","v":424634},{"$f":"F570BudgExp","v":621126},null,{"$f":"F570ActExp","v":278121},null,773454,null,"General"]
["Unemployment Insurance",{"$f":"F575BegFunBal","v":223323},{"$f":"F575ActRev","v":7974},{"$f":"F575Transf","v":0},{"$f":"F575BudgExp","v":228240},null,{"$f":"F575ActExp","v":487},null,230810,null,"General"]
["Teacherage",{"$f":"F580BegFunBal","v":0},{"$f":"F580ActRev","v":0},{"$f":"F580Transf","v":0},{"$f":"F580BudgExp","v":0},null,{"$f":"F580ActExp","v":0},null,0,null,"General"]
["Insurance Refund",{"$f":"F585BegFunBal","v":0},{"$f":"F585ActRev","v":0},{"$f":"F585Transf","v":0},{"$f":"F585BudgExp","v":0},null,{"$f":"F585ActExp","v":0},null,0,null,"Special Revenue"]
["Grants and Gifts to Teachers",{"$f":"F590BegFunBal","v":0},{"$f":"F590ActRev","v":0},{"$f":"F590Transf","v":0},{"$f":"F590BudgExp","v":0},null,{"$f":"F590ActExp","v":0},null,0,null,"Special Revenue"]
["Advertisement ",{"$f":"F595BegFunBal","v":0},{"$f":"F595ActRev","v":0},{"$f":"F595Transf","v":0},{"$f":"F595BudgExp","v":0},null,{"$f":"F595ActExp","v":0},null,0,null,"General"]
["Career Technical Education",{"$f":"F596BegFunBal","v":0},{"$f":"F596ActRev","v":0},{"$f":"F596Transf","v":0},{"$f":"F596BudgExp","v":0},null,{"$f":"F596ActExp","v":0},null,{"$f":"B53+C53+D53-G53","v":0},null,"Special Revenue"]
["Arizona Industry Credentials Incentive",{"$f":"F597BegFunBal","v":0},{"$f":"F597ActRev","v":0},{"$f":"F597Transf","v":0},{"$f":"F597BudgExp","v":0},null,{"$f":"F597ActExp","v":0},null,{"$f":"B54+C54+D54-G54","v":0},null,"Special Revenue"]
["Impact Aid Revenue Bond Building",{"$f":"F639BegFunBal","v":0},{"$f":"F639ActRev","v":0},{"$f":"F639Transf","v":0},{"$f":"F639BudgExp","v":0},null,{"$f":"F639ActExp","v":0},null,0,null,"Capital Projects"]
["Debt Service",{"$f":"F700BegFunBal","v":465685},{"$f":"F700TotRev","v":5726049},{"$f":"F700BondIssuance+F700TransIn+F700OtherFinSources-F700OtherFinUses","v":0},{"$f":"[1]!F700BudgFY","v":0},null,{"$f":"F700TotExp","v":5499252},null,692482,null,"Debt Service"]
["Emergency Deficiencies Correction",{"$f":"F686BegFunBal","v":0},{"$f":"F686ActRev","v":0},{"$f":"F686Transf","v":0},{"$f":"F686BudgExp","v":0},null,{"$f":"F686ActExp","v":0},null,{"$f":"B57+C57+D57-G57","v":0},null,"Capital Projects"]
["Building Renewal Grant",{"$f":"F691BegFunBal","v":-68881},{"$f":"F691ActRev","v":418172},{"$f":"F691Transf","v":0},{"$f":"F691BudgExp","v":1056460},null,{"$f":"F691ActExp","v":741384},null,{"$f":"B58+C58+D58-G58","v":-392093},null,"Capital Projects"]
["Impact Aid Rev. Bond Debt Service",{"$f":"F720BegFunBal","v":0},{"$f":"F720ActRev","v":0},{"$f":"F720Transf","v":0},{"$f":"F720BudgExp","v":0},null,{"$f":"F720ActExp","v":0},null,0,null,"Debt Service"]
["Student Activities",{"$f":"F850BegFunBal","v":48493},{"$f":"F850ActRev","v":26930},{"$f":"F850Transf","v":0},{"$f":"F850BudgExp","v":67680},null,{"$f":"F850ActExp","v":36864},null,{"$f":"B60+C60-G60","v":38559},null,"Special Revenue"]
["Employee Insurance Program Withholdings",{"$f":"F855BegFunBal","v":0},{"$f":"F855ActRev","v":0},{"$f":"F855Transf","v":0},{"$f":"F855BudgExp","v":0},null,{"$f":"F855ActExp","v":0},null,{"$f":"B61+C61+D61-G61","v":0}]
["State Income Tax Withholdings",{"$f":"F865BegFunBal","v":0},{"$f":"F865ActRev","v":0},{"$f":"F865Transf","v":0},{"$f":"F865BudgExp","v":0},null,{"$f":"F865ActExp","v":0},null,0]
["Other Funds ",{"$f":"OthBegFunBal","v":85735},{"$f":"OthActRev","v":1145},{"$f":"OthTransf","v":0},{"$f":"OthBudgExp","v":0},null,{"$f":"OthActExp","v":24803},null,{"$f":"B63+C63+D63-G63","v":62077},null,"General"]
["Permanent Fund",{"$f":"F750BegFunBal","v":0},{"$f":"F750ActRev","v":0},{"$f":"F750Transf","v":0},{"$f":"F750BudgExp","v":0},null,{"$f":"F750ActExp","v":0},null,0,null,"Permanent"]
["Trust and Custodial Funds",{"$f":"F800_849BegFunBal","v":0},{"$f":"F800_849ActRev","v":0},{"$f":"F800_849Transf","v":0},{"$f":"F800_849BudgExp","v":0},null,{"$f":"F800_849ActExp","v":0},null,0]
["Enterprise Funds",{"$f":"F900_949BegFunBal","v":0},{"$f":"F900_949ActRev","v":0},{"$f":"F900_949Transf","v":0},{"$f":"F900_949BudgExp","v":0},null,{"$f":"F900_949ActExp","v":0},null,0,null,"Enterprise"]
["Self-Insurance",{"$f":"SIBegFunBal","v":0},{"$f":"SIActRev","v":0},{"$f":"SITransf","v":0},{"$f":"SIBudgExp","v":0},null,{"$f":"SIActExp","v":0},null,0,null,"Internal Services"]
["Intergovernmental Agreements",{"$f":"F955BegFunBal","v":0},{"$f":"F955ActRev","v":0},{"$f":"F955Transf","v":0},{"$f":"F955BudgExp","v":0},null,{"$f":"F955ActExp","v":0},null,0,null,"Internal Services"]
["OPEB",{"$f":"OPEBBegFunBal","v":0},{"$f":"OPEBActRev","v":0},{"$f":"OPEBTransf","v":0},{"$f":"OPEBBudgExp","v":0},null,{"$f":"OPEBActExp","v":0},null,0,null,"Internal Services"]
["Other Internal Service Fund",{"$f":"ISFOthBegFunBal","v":0},{"$f":"ISFOthActRev","v":0},{"$f":"ISFOthTransf","v":0},{"$f":"ISFOthBudgExp","v":0},null,{"$f":"ISFOthActExp","v":0},null,0,null,"Internal Services"]

{"sheet":"Supplement","index":12,"n_rows":43,"n_cols":15,"rows_kept":43,"cut":false,"hidden":false,"merged":[[0,1,0,5],[0,12,0,13],[0,7,0,9],[3,0,3,13],[42,0,42,1],[31,3,32,3],[31,11,32,11],[31,12,32,12],[31,13,32,13],[33,3,34,3],[25,0,25,1],[14,3,15,3],[2,0,2,13],[14,11,15,11],[16,12,17,12],[16,3,17,3],[33,11,34,11],[33,12,34,12],[33,13,34,13],[7,0,7,2],[16,13,17,13],[14,12,15,12],[14,13,15,13],[16,11,17,11]]}
["DISTRICT NAME",{"$f":"CoverDistrictName","v":"Liberty Elementary School District No. 25"},null,null,null,null,"COUNTY",{"$f":"County","v":"Maricopa"},null,null,null,"CTDS NUMBER",{"$f":"Cover!Q1","v":"070425000"}]
[]
["SUPPLEMENT TO SCHOOL DISTRICT ANNUAL FINANCIAL REPORT FOR DISTRICTS THAT INCURRED EXPENDITURES FOR"]
["ENGLISH LANGUAGE LEARNERS (A.R.S. §§15-756.04 and 15-756.11)"]
[]
[null,null,null,null,null,null,null,"Purchased",null,null,null,"Total Expenditures"]
[null,null,null,"Beginning ",null,null,"Employee","Services",null,null,null,null,null,"Ending"]
["Revenue Object Codes/Expenditure Function Codes",null,null,"Fund","Actual ","Salaries","Benefits","6300, 6400,","Supplies","Property","Other","Budget","Actual ","Fund"]
[null,null,null,"Balance","Revenues","6100","6200","6500","6600","6700","6800",null,null,"Balance"]
["English Language Learner Fund 071"]
["Revenues "]
["        3200 Restricted Revenue from State Sources",null,"1.",null,{"$f":"-(SUMIFS('Accounting Data'!C2:C100000,'Accounting Data'!E2:E100000,\"071\",'Accounting Data'!J2:J100000,\"32??\"))","v":0},null,null,null,null,null,null,null,null,null,"1."]
["        Investment Income and Other Revenues",null,"2.",null,{"$f":"-(SUMIFS('Accounting Data'!C2:C100000,'Accounting Data'!E2:E100000,\"071\",'Accounting Data'!J2:J100000,\"15??\")+SUMIFS('Accounting Data'!C2:C100000,'Accounting Data'!E2:E100000,\"071\",'Accounting Data'!J2:J100000,\"198?\"))","v":0},null,null,null,null,null,null,null,null,null,"2."]
["Total Revenues (lines 1 and 2)",null,"3.",null,{"$f":"IF(SUM(E12:E13)=F071ActRev,SUM(E12:E13),\"Check Page 6, cell V9\")","v":0},null,null,null,null,null,null,null,null,null,"3."]
["Expenditures",null,null,null,null,null,null,null,null,null,null,{"$f":"[1]!F071F1000","v":0},{"$f":"SUM(F16:K16)","v":0}]
["   1000 Instruction",null,"4.",null,null,{"$f":"SUMIFS('Accounting Data'!C2:C100000,'Accounting Data'!E2:E100000,\"071\",'Accounting Data'!I2:I100000,\"1???\",'Accounting Data'!J2:J100000,\"61??\")","v":0},{"$f":"SUMIFS('Accounting Data'!C2:C100000,'Accounting Data'!E2:E100000,\"071\",'Accounting Data'!I2:I100000,\"1???\",'Accounting Data'!J2:J100000,\"62??\")","v":0},{"$f":"SUMIFS('Accounting Data'!C2:C100000,'Accounting Data'!E2:E100000,\"071\",'Accounting Data'!I2:I100000,\"1???\",'Accounting Data'!J2:J100000,\"63??\")+SUMIFS('Accounting Data'!C2:C100000,'Accounting Data'!E2:E100000,\"071\",'Accounting Data'!I2:I100000,\"1???\",'Accounting Data'!J2:J100000,\"64??\")+SUMIFS('Accounting Data'!C2:C100000,'Accounting Data'!E2:E100000,\"071\",'Accounting Data'!I2:I100000,\"1???\",'Accounting Data'!J2:J100000,\"65??\")","v":0},{"$f":"SUMIFS('Accounting Data'!C2:C100000,'Accounting Data'!E2:E100000,\"071\",'Accounting Data'!I2:I100000,\"1???\",'Accounting Data'!J2:J100000,\"66??\")","v":0},{"$f":"SUMIFS('Accounting Data'!C2:C100000,'Accounting Data'!E2:E100000,\"071\",'Accounting Data'!I2:I100000,\"1???\",'Accounting Data'!J2:J100000,\"67??\")","v":0},{"$f":"SUMIFS('Accounting Data'!C2:C100000,'Accounting Data'!E2:E100000,\"071\",'Accounting Data'!I2:I100000,\"1???\",'Accounting Data'!J2:J100000,\"68??\")","v":0},null,null,null,"4."]
["   2000 Support Services",null,null,null,null,null,null,null,null,null,null,{"$f":"[1]!F071F2100","v":0},{"$f":"SUM(F18:K18)","v":0},null," "]
["      2100 Students",null,"5.",null,null,{"$f":"SUMIFS('Accounting Data'!C$2:C$100000,'Accounting Data'!E$2:E$100000,\"071\",'Accounting Data'!I$2:I$100000,\"21??\",'Accounting Data'!J$2:J$100000,\"61??\")","v":0},{"$f":"SUMIFS('Accounting Data'!C$2:C$100000,'Accounting Data'!E$2:E$100000,\"071\",'Accounting Data'!I$2:I$100000,\"21??\",'Accounting Data'!J$2:J$100000,\"62??\")","v":0},{"$f":"SUMIFS('Accounting Data'!C2:C100000,'Accounting Data'!E2:E100000,\"071\",'Accounting Data'!I2:I100000,\"21??\",'Accounting Data'!J2:J100000,\"63??\")+SUMIFS('Accounting Data'!C2:C100000,'Accounting Data'!E2:E100000,\"071\",'Accounting Data'!I2:I100000,\"21??\",'Accounting Data'!J2:J100000,\"64??\")+SUMIFS('Accounting Data'!C2:C100000,'Accounting Data'!E2:E100000,\"071\",'Accounting Data'!I2:I100000,\"21??\",'Accounting Data'!J2:J100000,\"65??\")","v":0},{"$f":"SUMIFS('Accounting Data'!C$2:C$100000,'Accounting Data'!E$2:E$100000,\"071\",'Accounting Data'!I$2:I$100000,\"21??\",'Accounting Data'!J$2:J$100000,\"66??\")","v":0},{"$f":"SUMIFS('Accounting Data'!C$2:C$100000,'Accounting Data'!E$2:E$100000,\"071\",'Accounting Data'!I$2:I$100000,\"21??\",'Accounting Data'!J$2:J$100000,\"67??\")","v":0},{"$f":"SUMIFS('Accounting Data'!C$2:C$100000,'Accounting Data'!E$2:E$100000,\"071\",'Accounting Data'!I$2:I$100000,\"21??\",'Accounting Data'!J$2:J$100000,\"68??\")","v":0},null,null,null,"5."]
["      2200 Instructional Staff",null,"6.",null,null,{"$f":"SUMIFS('Accounting Data'!C$2:C$100000,'Accounting Data'!E$2:E$100000,\"071\",'Accounting Data'!I$2:I$100000,\"22??\",'Accounting Data'!J$2:J$100000,\"61??\")","v":0},{"$f":"SUMIFS('Accounting Data'!C$2:C$100000,'Accounting Data'!E$2:E$100000,\"071\",'Accounting Data'!I$2:I$100000,\"22??\",'Accounting Data'!J$2:J$100000,\"62??\")","v":0},{"$f":"SUMIFS('Accounting Data'!C2:C100000,'Accounting Data'!E2:E100000,\"071\",'Accounting Data'!I2:I100000,\"22??\",'Accounting Data'!J2:J100000,\"63??\")+SUMIFS('Accounting Data'!C2:C100000,'Accounting Data'!E2:E100000,\"071\",'Accounting Data'!I2:I100000,\"22??\",'Accounting Data'!J2:J100000,\"64??\")+SUMIFS('Accounting Data'!C2:C100000,'Accounting Data'!E2:E100000,\"071\",'Accounting Data'!I2:I100000,\"22??\",'Accounting Data'!J2:J100000,\"65??\")","v":0},{"$f":"SUMIFS('Accounting Data'!C$2:C$100000,'Accounting Data'!E$2:E$100000,\"071\",'Accounting Data'!I$2:I$100000,\"22??\",'Accounting Data'!J$2:J$100000,\"66??\")","v":0},{"$f":"SUMIFS('Accounting Data'!C$2:C$100000,'Accounting Data'!E$2:E$100000,\"071\",'Accounting Data'!I$2:I$100000,\"22??\",'Accounting Data'!J$2:J$100000,\"67??\")","v":0},{"$f":"SUMIFS('Accounting Data'!C$2:C$100000,'Accounting Data'!E$2:E$100000,\"071\",'Accounting Data'!I$2:I$100000,\"22??\",'Accounting Data'!J$2:J$100000,\"68??\")","v":0},{"$f":"[1]!F071F2200","v":0},{"$f":"SUM(F19:K19)","v":0},null,"6."]
["      2300 General Administration",null,"7.",null,null,{"$f":"SUMIFS('Accounting Data'!C$2:C$100000,'Accounting Data'!E$2:E$100000,\"071\",'Accounting Data'!I$2:I$100000,\"23??\",'Accounting Data'!J$2:J$100000,\"61??\")","v":0},{"$f":"SUMIFS('Accounting Data'!C$2:C$100000,'Accounting Data'!E$2:E$100000,\"071\",'Accounting Data'!I$2:I$100000,\"23??\",'Accounting Data'!J$2:J$100000,\"62??\")","v":0},{"$f":"SUMIFS('Accounting Data'!C2:C100000,'Accounting Data'!E2:E100000,\"071\",'Accounting Data'!I2:I100000,\"23??\",'Accounting Data'!J2:J100000,\"63??\")+SUMIFS('Accounting Data'!C2:C100000,'Accounting Data'!E2:E100000,\"071\",'Accounting Data'!I2:I100000,\"23??\",'Accounting Data'!J2:J100000,\"64??\")+SUMIFS('Accounting Data'!C2:C100000,'Accounting Data'!E2:E100000,\"071\",'Accounting Data'!I2:I100000,\"23??\",'Accounting Data'!J2:J100000,\"65??\")","v":0},{"$f":"SUMIFS('Accounting Data'!C$2:C$100000,'Accounting Data'!E$2:E$100000,\"071\",'Accounting Data'!I$2:I$100000,\"23??\",'Accounting Data'!J$2:J$100000,\"66??\")","v":0},{"$f":"SUMIFS('Accounting Data'!C$2:C$100000,'Accounting Data'!E$2:E$100000,\"071\",'Accounting Data'!I$2:I$100000,\"23??\",'Accounting Data'!J$2:J$100000,\"67??\")","v":0},{"$f":"SUMIFS('Accounting Data'!C$2:C$100000,'Accounting Data'!E$2:E$100000,\"071\",'Accounting Data'!I$2:I$100000,\"23??\",'Accounting Data'!J$2:J$100000,\"68??\")","v":0},{"$f":"[1]!F071F2300","v":0},{"$f":"SUM(F20:K20)","v":0},null,"7."]
["      2400 School Administration",null,"8.",null,null,{"$f":"SUMIFS('Accounting Data'!C$2:C$100000,'Accounting Data'!E$2:E$100000,\"071\",'Accounting Data'!I$2:I$100000,\"24??\",'Accounting Data'!J$2:J$100000,\"61??\")","v":0},{"$f":"SUMIFS('Accounting Data'!C$2:C$100000,'Accounting Data'!E$2:E$100000,\"071\",'Accounting Data'!I$2:I$100000,\"24??\",'Accounting Data'!J$2:J$100000,\"62??\")","v":0},{"$f":"SUMIFS('Accounting Data'!C2:C100000,'Accounting Data'!E2:E100000,\"071\",'Accounting Data'!I2:I100000,\"24??\",'Accounting Data'!J2:J100000,\"63??\")+SUMIFS('Accounting Data'!C2:C100000,'Accounting Data'!E2:E100000,\"071\",'Accounting Data'!I2:I100000,\"24??\",'Accounting Data'!J2:J100000,\"64??\")+SUMIFS('Accounting Data'!C2:C100000,'Accounting Data'!E2:E100000,\"071\",'Accounting Data'!I2:I100000,\"24??\",'Accounting Data'!J2:J100000,\"65??\")","v":0},{"$f":"SUMIFS('Accounting Data'!C$2:C$100000,'Accounting Data'!E$2:E$100000,\"071\",'Accounting Data'!I$2:I$100000,\"24??\",'Accounting Data'!J$2:J$100000,\"66??\")","v":0},{"$f":"SUMIFS('Accounting Data'!C$2:C$100000,'Accounting Data'!E$2:E$100000,\"071\",'Accounting Data'!I$2:I$100000,\"24??\",'Accounting Data'!J$2:J$100000,\"67??\")","v":0},{"$f":"SUMIFS('Accounting Data'!C$2:C$100000,'Accounting Data'!E$2:E$100000,\"071\",'Accounting Data'!I$2:I$100000,\"24??\",'Accounting Data'!J$2:J$100000,\"68??\")","v":0},{"$f":"[1]!F071F2400","v":0},0,null,"8."]
["      2500 Central Services",null,"9.",null,null,{"$f":"SUMIFS('Accounting Data'!C$2:C$100000,'Accounting Data'!E$2:E$100000,\"071\",'Accounting Data'!I$2:I$100000,\"25??\",'Accounting Data'!J$2:J$100000,\"61??\")","v":0},{"$f":"SUMIFS('Accounting Data'!C$2:C$100000,'Accounting Data'!E$2:E$100000,\"071\",'Accounting Data'!I$2:I$100000,\"25??\",'Accounting Data'!J$2:J$100000,\"62??\")","v":0},{"$f":"SUMIFS('Accounting Data'!C2:C100000,'Accounting Data'!E2:E100000,\"071\",'Accounting Data'!I2:I100000,\"25??\",'Accounting Data'!J2:J100000,\"63??\")+SUMIFS('Accounting Data'!C2:C100000,'Accounting Data'!E2:E100000,\"071\",'Accounting Data'!I2:I100000,\"25??\",'Accounting Data'!J2:J100000,\"64??\")+SUMIFS('Accounting Data'!C2:C100000,'Accounting Data'!E2:E100000,\"071\",'Accounting Data'!I2:I100000,\"25??\",'Accounting Data'!J2:J100000,\"65??\")","v":0},{"$f":"SUMIFS('Accounting Data'!C$2:C$100000,'Accounting Data'!E$2:E$100000,\"071\",'Accounting Data'!I$2:I$100000,\"25??\",'Accounting Data'!J$2:J$100000,\"66??\")","v":0},{"$f":"SUMIFS('Accounting Data'!C$2:C$100000,'Accounting Data'!E$2:E$100000,\"071\",'Accounting Data'!I$2:I$100000,\"25??\",'Accounting Data'!J$2:J$100000,\"67??\")","v":0},{"$f":"SUMIFS('Accounting Data'!C$2:C$100000,'Accounting Data'!E$2:E$100000,\"071\",'Accounting Data'!I$2:I$100000,\"25??\",'Accounting Data'!J$2:J$100000,\"68??\")","v":0},{"$f":"[1]!F071F2500","v":0},0,null,"9."]
["      2600 Operation & Maintenance of Plant",null,"10.",null,null,{"$f":"SUMIFS('Accounting Data'!C$2:C$100000,'Accounting Data'!E$2:E$100000,\"071\",'Accounting Data'!I$2:I$100000,\"26??\",'Accounting Data'!J$2:J$100000,\"61??\")","v":0},{"$f":"SUMIFS('Accounting Data'!C$2:C$100000,'Accounting Data'!E$2:E$100000,\"071\",'Accounting Data'!I$2:I$100000,\"26??\",'Accounting Data'!J$2:J$100000,\"62??\")","v":0},{"$f":"SUMIFS('Accounting Data'!C2:C100000,'Accounting Data'!E2:E100000,\"071\",'Accounting Data'!I2:I100000,\"26??\",'Accounting Data'!J2:J100000,\"63??\")+SUMIFS('Accounting Data'!C2:C100000,'Accounting Data'!E2:E100000,\"071\",'Accounting Data'!I2:I100000,\"26??\",'Accounting Data'!J2:J100000,\"64??\")+SUMIFS('Accounting Data'!C2:C100000,'Accounting Data'!E2:E100000,\"071\",'Accounting Data'!I2:I100000,\"26??\",'Accounting Data'!J2:J100000,\"65??\")","v":0},{"$f":"SUMIFS('Accounting Data'!C$2:C$100000,'Accounting Data'!E$2:E$100000,\"071\",'Accounting Data'!I$2:I$100000,\"26??\",'Accounting Data'!J$2:J$100000,\"66??\")","v":0},{"$f":"SUMIFS('Accounting Data'!C$2:C$100000,'Accounting Data'!E$2:E$100000,\"071\",'Accounting Data'!I$2:I$100000,\"26??\",'Accounting Data'!J$2:J$100000,\"67??\")","v":0},{"$f":"SUMIFS('Accounting Data'!C$2:C$100000,'Accounting Data'!E$2:E$100000,\"071\",'Accounting Data'!I$2:I$100000,\"26??\",'Accounting Data'!J$2:J$100000,\"68??\")","v":0},{"$f":"[1]!F071F2600","v":0},0,null,"10."]
["      2700 Student Transportation ",null,"11.",null,null,{"$f":"SUMIFS('Accounting Data'!C$2:C$100000,'Accounting Data'!E$2:E$100000,\"071\",'Accounting Data'!I$2:I$100000,\"27??\",'Accounting Data'!J$2:J$100000,\"61??\")","v":0},{"$f":"SUMIFS('Accounting Data'!C$2:C$100000,'Accounting Data'!E$2:E$100000,\"071\",'Accounting Data'!I$2:I$100000,\"27??\",'Accounting Data'!J$2:J$100000,\"62??\")","v":0},{"$f":"SUMIFS('Accounting Data'!C2:C100000,'Accounting Data'!E2:E100000,\"071\",'Accounting Data'!I2:I100000,\"27??\",'Accounting Data'!J2:J100000,\"63??\")+SUMIFS('Accounting Data'!C2:C100000,'Accounting Data'!E2:E100000,\"071\",'Accounting Data'!I2:I100000,\"27??\",'Accounting Data'!J2:J100000,\"64??\")+SUMIFS('Accounting Data'!C2:C100000,'Accounting Data'!E2:E100000,\"071\",'Accounting Data'!I2:I100000,\"27??\",'Accounting Data'!J2:J100000,\"65??\")","v":0},{"$f":"SUMIFS('Accounting Data'!C$2:C$100000,'Accounting Data'!E$2:E$100000,\"071\",'Accounting Data'!I$2:I$100000,\"27??\",'Accounting Data'!J$2:J$100000,\"66??\")","v":0},{"$f":"SUMIFS('Accounting Data'!C$2:C$100000,'Accounting Data'!E$2:E$100000,\"071\",'Accounting Data'!I$2:I$100000,\"27??\",'Accounting Data'!J$2:J$100000,\"67??\")","v":0},{"$f":"SUMIFS('Accounting Data'!C$2:C$100000,'Accounting Data'!E$2:E$100000,\"071\",'Accounting Data'!I$2:I$100000,\"27??\",'Accounting Data'!J$2:J$100000,\"68??\")","v":0},{"$f":"[1]!F071F2700","v":0},0,null,"11."]
["      2900 Other",null,"12.",null,null,{"$f":"SUMIFS('Accounting Data'!C$2:C$100000,'Accounting Data'!E$2:E$100000,\"071\",'Accounting Data'!I$2:I$100000,\"29??\",'Accounting Data'!J$2:J$100000,\"61??\")","v":0},{"$f":"SUMIFS('Accounting Data'!C$2:C$100000,'Accounting Data'!E$2:E$100000,\"071\",'Accounting Data'!I$2:I$100000,\"29??\",'Accounting Data'!J$2:J$100000,\"62??\")","v":0},{"$f":"SUMIFS('Accounting Data'!C2:C100000,'Accounting Data'!E2:E100000,\"071\",'Accounting Data'!I2:I100000,\"29??\",'Accounting Data'!J2:J100000,\"63??\")+SUMIFS('Accounting Data'!C2:C100000,'Accounting Data'!E2:E100000,\"071\",'Accounting Data'!I2:I100000,\"29??\",'Accounting Data'!J2:J100000,\"64??\")+SUMIFS('Accounting Data'!C2:C100000,'Accounting Data'!E2:E100000,\"071\",'Accounting Data'!I2:I100000,\"29??\",'Accounting Data'!J2:J100000,\"65??\")","v":0},{"$f":"SUMIFS('Accounting Data'!C$2:C$100000,'Accounting Data'!E$2:E$100000,\"071\",'Accounting Data'!I$2:I$100000,\"29??\",'Accounting Data'!J$2:J$100000,\"66??\")","v":0},{"$f":"SUMIFS('Accounting Data'!C$2:C$100000,'Accounting Data'!E$2:E$100000,\"071\",'Accounting Data'!I$2:I$100000,\"29??\",'Accounting Data'!J$2:J$100000,\"67??\")","v":0},{"$f":"SUMIFS('Accounting Data'!C$2:C$100000,'Accounting Data'!E$2:E$100000,\"071\",'Accounting Data'!I$2:I$100000,\"29??\",'Accounting Data'!J$2:J$100000,\"68??\")","v":0},{"$f":"[1]!F071F2900","v":0},0,null,"12."]
["Total (must agree with the AFR page 6, line 3)",null,"13.","BFB071SEI3",{"$f":"E14","v":0},{"$f":"F16+SUM(F18:F25)","v":0},0,0,0,0,0,{"$f":"L15+L17+SUM(L19:L25)","v":0},{"$f":"M15+M17+SUM(M19:M25)","v":0},"SEIFUNDENDING","13."]
["Compensatory Instruction Fund 072"]
["Revenues "]
["        3200 Restricted Revenue from State Sources",null,"14.",null,{"$f":"-(SUMIFS('Accounting Data'!C2:C100000,'Accounting Data'!E2:E100000,\"072\",'Accounting Data'!J2:J100000,\"32??\"))","v":0},null,null,null,null,null,null,null,null,null,"14"]
["        Investment Income and Other Revenues",null,"15.",null,{"$f":"-(SUMIFS('Accounting Data'!C2:C100000,'Accounting Data'!E2:E100000,\"072\",'Accounting Data'!J2:J100000,\"15??\")+SUMIFS('Accounting Data'!C2:C100000,'Accounting Data'!E2:E100000,\"072\",'Accounting Data'!J2:J100000,\"198?\"))","v":0},null,null,null,null,null,null,null,null,null,"15."]
["Total Revenues (lines 14 and 15)",null,"16.",null,{"$f":"IF(SUM(E29:E30)=F072ActRev,SUM(E29:E30),\"Check Page 6, cell V10\")","v":0},null,null,null,null,null,null,null,null,null,"16."]
["Expenditures",null,null,null,null,null,null,null,null,null,null,{"$f":"[1]!F072F1000","v":0},{"$f":"SUM(F33:K33)","v":0}]
["   1000 Instruction",null,"17.",null,null,{"$f":"SUMIFS('Accounting Data'!C2:C100000,'Accounting Data'!E2:E100000,\"072\",'Accounting Data'!I2:I100000,\"1???\",'Accounting Data'!J2:J100000,\"61??\")","v":0},{"$f":"SUMIFS('Accounting Data'!C2:C100000,'Accounting Data'!E2:E100000,\"072\",'Accounting Data'!I2:I100000,\"1???\",'Accounting Data'!J2:J100000,\"62??\")","v":0},{"$f":"SUMIFS('Accounting Data'!C2:C100000,'Accounting Data'!E2:E100000,\"072\",'Accounting Data'!I2:I100000,\"1???\",'Accounting Data'!J2:J100000,\"63??\")+SUMIFS('Accounting Data'!C2:C100000,'Accounting Data'!E2:E100000,\"072\",'Accounting Data'!I2:I100000,\"1???\",'Accounting Data'!J2:J100000,\"64??\")+SUMIFS('Accounting Data'!C2:C100000,'Accounting Data'!E2:E100000,\"072\",'Accounting Data'!I2:I100000,\"1???\",'Accounting Data'!J2:J100000,\"65??\")","v":0},{"$f":"SUMIFS('Accounting Data'!C2:C100000,'Accounting Data'!E2:E100000,\"072\",'Accounting Data'!I2:I100000,\"1???\",'Accounting Data'!J2:J100000,\"66??\")","v":0},{"$f":"SUMIFS('Accounting Data'!C2:C100000,'Accounting Data'!E2:E100000,\"072\",'Accounting Data'!I2:I100000,\"1???\",'Accounting Data'!J2:J100000,\"67??\")","v":0},{"$f":"SUMIFS('Accounting Data'!C2:C100000,'Accounting Data'!E2:E100000,\"072\",'Accounting Data'!I2:I100000,\"1???\",'Accounting Data'!J2:J100000,\"68??\")","v":0},null,null,null,"17."]
["   2000 Support Services",null,null,null,null,null,null,null,null,null,null,{"$f":"[1]!F072F2100","v":0},{"$f":"SUM(F35:K35)","v":0},null," "]
["      2100 Students",null,"18.",null,null,{"$f":"SUMIFS('Accounting Data'!C$2:C$100000,'Accounting Data'!E$2:E$100000,\"072\",'Accounting Data'!I$2:I$100000,\"21??\",'Accounting Data'!J$2:J$100000,\"61??\")","v":0},{"$f":"SUMIFS('Accounting Data'!C$2:C$100000,'Accounting Data'!E$2:E$100000,\"072\",'Accounting Data'!I$2:I$100000,\"21??\",'Accounting Data'!J$2:J$100000,\"62??\")","v":0},{"$f":"SUMIFS('Accounting Data'!C2:C100000,'Accounting Data'!E2:E100000,\"072\",'Accounting Data'!I2:I100000,\"21??\",'Accounting Data'!J2:J100000,\"63??\")+SUMIFS('Accounting Data'!C2:C100000,'Accounting Data'!E2:E100000,\"072\",'Accounting Data'!I2:I100000,\"21??\",'Accounting Data'!J2:J100000,\"64??\")+SUMIFS('Accounting Data'!C2:C100000,'Accounting Data'!E2:E100000,\"072\",'Accounting Data'!I2:I100000,\"21??\",'Accounting Data'!J2:J100000,\"65??\")","v":0},{"$f":"SUMIFS('Accounting Data'!C2:C100000,'Accounting Data'!E2:E100000,\"072\",'Accounting Data'!I2:I100000,\"21??\",'Accounting Data'!J2:J100000,\"66??\")","v":0},{"$f":"SUMIFS('Accounting Data'!C2:C100000,'Accounting Data'!E2:E100000,\"072\",'Accounting Data'!I2:I100000,\"21??\",'Accounting Data'!J2:J100000,\"67??\")","v":0},{"$f":"SUMIFS('Accounting Data'!C2:C100000,'Accounting Data'!E2:E100000,\"072\",'Accounting Data'!I2:I100000,\"21??\",'Accounting Data'!J2:J100000,\"68??\")","v":0},null,null,null,"18."]
["      2200 Instructional Staff",null,"19.",null,null,{"$f":"SUMIFS('Accounting Data'!C$2:C$100000,'Accounting Data'!E$2:E$100000,\"072\",'Accounting Data'!I$2:I$100000,\"22??\",'Accounting Data'!J$2:J$100000,\"61??\")","v":0},{"$f":"SUMIFS('Accounting Data'!C$2:C$100000,'Accounting Data'!E$2:E$100000,\"072\",'Accounting Data'!I$2:I$100000,\"22??\",'Accounting Data'!J$2:J$100000,\"62??\")","v":0},{"$f":"SUMIFS('Accounting Data'!C2:C100000,'Accounting Data'!E2:E100000,\"072\",'Accounting Data'!I2:I100000,\"22??\",'Accounting Data'!J2:J100000,\"63??\")+SUMIFS('Accounting Data'!C2:C100000,'Accounting Data'!E2:E100000,\"072\",'Accounting Data'!I2:I100000,\"22??\",'Accounting Data'!J2:J100000,\"64??\")+SUMIFS('Accounting Data'!C2:C100000,'Accounting Data'!E2:E100000,\"072\",'Accounting Data'!I2:I100000,\"22??\",'Accounting Data'!J2:J100000,\"65??\")","v":0},{"$f":"SUMIFS('Accounting Data'!C2:C100000,'Accounting Data'!E2:E100000,\"072\",'Accounting Data'!I2:I100000,\"22??\",'Accounting Data'!J2:J100000,\"66??\")","v":0},{"$f":"SUMIFS('Accounting Data'!C2:C100000,'Accounting Data'!E2:E100000,\"072\",'Accounting Data'!I2:I100000,\"22??\",'Accounting Data'!J2:J100000,\"67??\")","v":0},{"$f":"SUMIFS('Accounting Data'!C2:C100000,'Accounting Data'!E2:E100000,\"072\",'Accounting Data'!I2:I100000,\"22??\",'Accounting Data'!J2:J100000,\"68??\")","v":0},{"$f":"[1]!F072F2200","v":0},{"$f":"SUM(F36:K36)","v":0},null,"19."]
["      2300 General Administration",null,"20.",null,null,{"$f":"SUMIFS('Accounting Data'!C$2:C$100000,'Accounting Data'!E$2:E$100000,\"072\",'Accounting Data'!I$2:I$100000,\"23??\",'Accounting Data'!J$2:J$100000,\"61??\")","v":0},{"$f":"SUMIFS('Accounting Data'!C$2:C$100000,'Accounting Data'!E$2:E$100000,\"072\",'Accounting Data'!I$2:I$100000,\"23??\",'Accounting Data'!J$2:J$100000,\"62??\")","v":0},{"$f":"SUMIFS('Accounting Data'!C2:C100000,'Accounting Data'!E2:E100000,\"072\",'Accounting Data'!I2:I100000,\"23??\",'Accounting Data'!J2:J100000,\"63??\")+SUMIFS('Accounting Data'!C2:C100000,'Accounting Data'!E2:E100000,\"072\",'Accounting Data'!I2:I100000,\"23??\",'Accounting Data'!J2:J100000,\"64??\")+SUMIFS('Accounting Data'!C2:C100000,'Accounting Data'!E2:E100000,\"072\",'Accounting Data'!I2:I100000,\"23??\",'Accounting Data'!J2:J100000,\"65??\")","v":0},{"$f":"SUMIFS('Accounting Data'!C2:C100000,'Accounting Data'!E2:E100000,\"072\",'Accounting Data'!I2:I100000,\"23??\",'Accounting Data'!J2:J100000,\"66??\")","v":0},{"$f":"SUMIFS('Accounting Data'!C2:C100000,'Accounting Data'!E2:E100000,\"072\",'Accounting Data'!I2:I100000,\"23??\",'Accounting Data'!J2:J100000,\"67??\")","v":0},{"$f":"SUMIFS('Accounting Data'!C2:C100000,'Accounting Data'!E2:E100000,\"072\",'Accounting Data'!I2:I100000,\"23??\",'Accounting Data'!J2:J100000,\"68??\")","v":0},{"$f":"[1]!F072F2300","v":0},{"$f":"SUM(F37:K37)","v":0},null,"20."]
["      2400 School Administration",null,"21.",null,null,{"$f":"SUMIFS('Accounting Data'!C$2:C$100000,'Accounting Data'!E$2:E$100000,\"072\",'Accounting Data'!I$2:I$100000,\"24??\",'Accounting Data'!J$2:J$100000,\"61??\")","v":0},{"$f":"SUMIFS('Accounting Data'!C$2:C$100000,'Accounting Data'!E$2:E$100000,\"072\",'Accounting Data'!I$2:I$100000,\"24??\",'Accounting Data'!J$2:J$100000,\"62??\")","v":0},{"$f":"SUMIFS('Accounting Data'!C2:C100000,'Accounting Data'!E2:E100000,\"072\",'Accounting Data'!I2:I100000,\"24??\",'Accounting Data'!J2:J100000,\"63??\")+SUMIFS('Accounting Data'!C2:C100000,'Accounting Data'!E2:E100000,\"072\",'Accounting Data'!I2:I100000,\"24??\",'Accounting Data'!J2:J100000,\"64??\")+SUMIFS('Accounting Data'!C2:C100000,'Accounting Data'!E2:E100000,\"072\",'Accounting Data'!I2:I100000,\"24??\",'Accounting Data'!J2:J100000,\"65??\")","v":0},{"$f":"SUMIFS('Accounting Data'!C2:C100000,'Accounting Data'!E2:E100000,\"072\",'Accounting Data'!I2:I100000,\"24??\",'Accounting Data'!J2:J100000,\"66??\")","v":0},{"$f":"SUMIFS('Accounting Data'!C2:C100000,'Accounting Data'!E2:E100000,\"072\",'Accounting Data'!I2:I100000,\"24??\",'Accounting Data'!J2:J100000,\"67??\")","v":0},{"$f":"SUMIFS('Accounting Data'!C2:C100000,'Accounting Data'!E2:E100000,\"072\",'Accounting Data'!I2:I100000,\"24??\",'Accounting Data'!J2:J100000,\"68??\")","v":0},{"$f":"[1]!F072F2400","v":0},0,null,"21."]
["      2500 Central Services",null,"22.",null,null,{"$f":"SUMIFS('Accounting Data'!C$2:C$100000,'Accounting Data'!E$2:E$100000,\"072\",'Accounting Data'!I$2:I$100000,\"25??\",'Accounting Data'!J$2:J$100000,\"61??\")","v":0},{"$f":"SUMIFS('Accounting Data'!C$2:C$100000,'Accounting Data'!E$2:E$100000,\"072\",'Accounting Data'!I$2:I$100000,\"25??\",'Accounting Data'!J$2:J$100000,\"62??\")","v":0},{"$f":"SUMIFS('Accounting Data'!C2:C100000,'Accounting Data'!E2:E100000,\"072\",'Accounting Data'!I2:I100000,\"25??\",'Accounting Data'!J2:J100000,\"63??\")+SUMIFS('Accounting Data'!C2:C100000,'Accounting Data'!E2:E100000,\"072\",'Accounting Data'!I2:I100000,\"25??\",'Accounting Data'!J2:J100000,\"64??\")+SUMIFS('Accounting Data'!C2:C100000,'Accounting Data'!E2:E100000,\"072\",'Accounting Data'!I2:I100000,\"25??\",'Accounting Data'!J2:J100000,\"65??\")","v":0},{"$f":"SUMIFS('Accounting Data'!C2:C100000,'Accounting Data'!E2:E100000,\"072\",'Accounting Data'!I2:I100000,\"25??\",'Accounting Data'!J2:J100000,\"66??\")","v":0},{"$f":"SUMIFS('Accounting Data'!C2:C100000,'Accounting Data'!E2:E100000,\"072\",'Accounting Data'!I2:I100000,\"25??\",'Accounting Data'!J2:J100000,\"67??\")","v":0},{"$f":"SUMIFS('Accounting Data'!C2:C100000,'Accounting Data'!E2:E100000,\"072\",'Accounting Data'!I2:I100000,\"25??\",'Accounting Data'!J2:J100000,\"68??\")","v":0},{"$f":"[1]!F072F2500","v":0},0,null,"22."]
["      2600 Operation & Maintenance of Plant",null,"23.",null,null,{"$f":"SUMIFS('Accounting Data'!C$2:C$100000,'Accounting Data'!E$2:E$100000,\"072\",'Accounting Data'!I$2:I$100000,\"26??\",'Accounting Data'!J$2:J$100000,\"61??\")","v":0},{"$f":"SUMIFS('Accounting Data'!C$2:C$100000,'Accounting Data'!E$2:E$100000,\"072\",'Accounting Data'!I$2:I$100000,\"26??\",'Accounting Data'!J$2:J$100000,\"62??\")","v":0},{"$f":"SUMIFS('Accounting Data'!C2:C100000,'Accounting Data'!E2:E100000,\"072\",'Accounting Data'!I2:I100000,\"26??\",'Accounting Data'!J2:J100000,\"63??\")+SUMIFS('Accounting Data'!C2:C100000,'Accounting Data'!E2:E100000,\"072\",'Accounting Data'!I2:I100000,\"26??\",'Accounting Data'!J2:J100000,\"64??\")+SUMIFS('Accounting Data'!C2:C100000,'Accounting Data'!E2:E100000,\"072\",'Accounting Data'!I2:I100000,\"26??\",'Accounting Data'!J2:J100000,\"65??\")","v":0},{"$f":"SUMIFS('Accounting Data'!C2:C100000,'Accounting Data'!E2:E100000,\"072\",'Accounting Data'!I2:I100000,\"26??\",'Accounting Data'!J2:J100000,\"66??\")","v":0},{"$f":"SUMIFS('Accounting Data'!C2:C100000,'Accounting Data'!E2:E100000,\"072\",'Accounting Data'!I2:I100000,\"26??\",'Accounting Data'!J2:J100000,\"67??\")","v":0},{"$f":"SUMIFS('Accounting Data'!C2:C100000,'Accounting Data'!E2:E100000,\"072\",'Accounting Data'!I2:I100000,\"26??\",'Accounting Data'!J2:J100000,\"68??\")","v":0},{"$f":"[1]!F072F2600","v":0},0,null,"23."]
["      2700 Student Transportation ",null,"24.",null,null,{"$f":"SUMIFS('Accounting Data'!C$2:C$100000,'Accounting Data'!E$2:E$100000,\"072\",'Accounting Data'!I$2:I$100000,\"27??\",'Accounting Data'!J$2:J$100000,\"61??\")","v":0},{"$f":"SUMIFS('Accounting Data'!C$2:C$100000,'Accounting Data'!E$2:E$100000,\"072\",'Accounting Data'!I$2:I$100000,\"27??\",'Accounting Data'!J$2:J$100000,\"62??\")","v":0},{"$f":"SUMIFS('Accounting Data'!C2:C100000,'Accounting Data'!E2:E100000,\"072\",'Accounting Data'!I2:I100000,\"27??\",'Accounting Data'!J2:J100000,\"63??\")+SUMIFS('Accounting Data'!C2:C100000,'Accounting Data'!E2:E100000,\"072\",'Accounting Data'!I2:I100000,\"27??\",'Accounting Data'!J2:J100000,\"64??\")+SUMIFS('Accounting Data'!C2:C100000,'Accounting Data'!E2:E100000,\"072\",'Accounting Data'!I2:I100000,\"27??\",'Accounting Data'!J2:J100000,\"65??\")","v":0},{"$f":"SUMIFS('Accounting Data'!C2:C100000,'Accounting Data'!E2:E100000,\"072\",'Accounting Data'!I2:I100000,\"27??\",'Accounting Data'!J2:J100000,\"66??\")","v":0},{"$f":"SUMIFS('Accounting Data'!C2:C100000,'Accounting Data'!E2:E100000,\"072\",'Accounting Data'!I2:I100000,\"27??\",'Accounting Data'!J2:J100000,\"67??\")","v":0},{"$f":"SUMIFS('Accounting Data'!C2:C100000,'Accounting Data'!E2:E100000,\"072\",'Accounting Data'!I2:I100000,\"27??\",'Accounting Data'!J2:J100000,\"68??\")","v":0},{"$f":"[1]!F072F2700","v":0},0,null,"24."]
["      2900 Other",null,"25.",null,null,{"$f":"SUMIFS('Accounting Data'!C$2:C$100000,'Accounting Data'!E$2:E$100000,\"072\",'Accounting Data'!I$2:I$100000,\"29??\",'Accounting Data'!J$2:J$100000,\"61??\")","v":0},{"$f":"SUMIFS('Accounting Data'!C$2:C$100000,'Accounting Data'!E$2:E$100000,\"072\",'Accounting Data'!I$2:I$100000,\"29??\",'Accounting Data'!J$2:J$100000,\"62??\")","v":0},{"$f":"SUMIFS('Accounting Data'!C2:C100000,'Accounting Data'!E2:E100000,\"072\",'Accounting Data'!I2:I100000,\"29??\",'Accounting Data'!J2:J100000,\"63??\")+SUMIFS('Accounting Data'!C2:C100000,'Accounting Data'!E2:E100000,\"072\",'Accounting Data'!I2:I100000,\"29??\",'Accounting Data'!J2:J100000,\"64??\")+SUMIFS('Accounting Data'!C2:C100000,'Accounting Data'!E2:E100000,\"072\",'Accounting Data'!I2:I100000,\"29??\",'Accounting Data'!J2:J100000,\"65??\")","v":0},{"$f":"SUMIFS('Accounting Data'!C2:C100000,'Accounting Data'!E2:E100000,\"072\",'Accounting Data'!I2:I100000,\"29??\",'Accounting Data'!J2:J100000,\"66??\")","v":0},{"$f":"SUMIFS('Accounting Data'!C2:C100000,'Accounting Data'!E2:E100000,\"072\",'Accounting Data'!I2:I100000,\"29??\",'Accounting Data'!J2:J100000,\"67??\")","v":0},{"$f":"SUMIFS('Accounting Data'!C2:C100000,'Accounting Data'!E2:E100000,\"072\",'Accounting Data'!I2:I100000,\"29??\",'Accounting Data'!J2:J100000,\"68??\")","v":0},{"$f":"[1]!F072F2900","v":0},0,null,"25."]
["Total (must agree with the AFR page 6, line 4)",null,"26.","COMPINSBFB",{"$f":"E31","v":0},{"$f":"F33+SUM(F35:F42)","v":0},0,0,0,0,0,{"$f":"L32+L34+SUM(L36:L42)","v":0},{"$f":"M32+M34+SUM(M36:M42)","v":0},"COMPINSFUNDENDING","26."]

{"sheet":"Fund Balance Reserve","index":13,"n_rows":46,"n_cols":28,"rows_kept":46,"cut":false,"hidden":false,"merged":[[41,4,41,9],[45,1,49,9],[36,4,36,9],[37,4,37,9],[38,4,38,9],[39,4,39,9],[40,4,40,9],[31,4,31,9],[32,4,32,9],[33,4,33,9],[34,4,34,9],[35,4,35,9],[5,0,5,1],[27,1,27,4],[0,7,0,8],[5,16,6,16],[5,15,6,15],[5,13,6,13],[5,14,6,14],[4,0,4,1],[4,2,4,16],[5,12,6,12],[5,2,5,4],[5,5,5,8],[5,9,5,11],[11,0,11,1],[26,0,26,1],[2,0,3,11]]}
[null,"DISTRICT NAME",{"$f":"CoverDistrictName","v":"Liberty Elementary School District No. 25"},null,null,null,"COUNTY",{"$f":"Cover!J1","v":"Maricopa"},null,null,"CTDS NUMBER",{"$f":"CoverCTDS","v":"070425000"}]
[]
["This tab presents information on the amount and planned use of the District's fund balance reserves to increase transparency and provide decision-makers, other stakeholders, and the public more complete financial information. It also presents information about policies or guidelines used to establish target fund balance reserve amounts."]
[]
[null,null,"Funds"]
["A. Ending fund balance amounts and planned uses",null,"General Fund*",null,null,"Capital Projects Fund",null,null,null,"Special Revenue Funds",null,null,"Debt Service Funds","Permanent Fund","Enterprise funds","Internal Services Funds","Total all funds"]
[null,null,"Maintenance and Operations Fund","Unrestricted Capital Outlay Fund \n(if included in the General Fund)","Other funds reported in the General Fund","Unrestricted Capital Outlay Fund (if not included in the General Fund)","Bond Building Funds","Adjacent Ways Fund","Other capital projects funds","Classroom Site Fund","Federal and State Grants","Other special revenue funds"]
["Prior year ending fund balance",null,null,null,null,null,null,null,null,null,null,null,null,null,null,null,null,null,null,null,null,null,null,null,null,null,null,"Yes"]
["1.","Ending fund balance reported in FY 2023 AFR",{"$f":"Summary!B18","v":3985307},{"$f":"IF(Summary!K21=\"General\",Summary!B21,0)","v":592356},{"$f":"SUMIF(Summary!K23:K63,\"General\",Summary!B23:B63)+SUMIF(Summary!K19:K20,\"General\",Summary!B19:B20)+SUMIF('Page 5'!K9:K28,\"General\",'Page 5'!E9:E28)+SUMIF('Page 5'!K36:K45,\"General\",'Page 5'!E36:E45)","v":2346234},{"$f":"IF(Summary!K21=\"Capital Projects\",Summary!B21,0)","v":0},{"$f":"SUMIF(Summary!K24:K24,\"Capital Projects\",Summary!B24:B24)+SUMIF(Summary!K55:K55,\"Capital Projects\",Summary!B55:B55)","v":17799841},{"$f":"SUMIF(Summary!K23:K23,\"Capital Projects\",Summary!B23:B23)","v":1125680},{"$f":"SUMIF(Summary!K19:K20,\"Capital Projects\",Summary!B19:B20)+SUMIF(Summary!K25:K54,\"Capital Projects\",Summary!B25:B54)+SUMIF(Summary!K56:K63,\"Capital Projects\",Summary!B56:B63)+SUMIF('Page 5'!K9:K28,\"Capital Projects\",'Page 5'!E9:E28)+SUMIF('Page 5'!K36:K45,\"Capital Projects\",'Page 5'!E36:E45)","v":57541},{"$f":"SUMIF(Summary!K19:K19,\"Special Revenue\",Summary!B19:B19)","v":1756532},{"$f":"SUMIF('Page 5'!K9:K28,\"Special Revenue\",'Page 5'!E9:E28)+SUMIF('Page 5'!K36:K45,\"Special Revenue\",'Page 5'!E36:E45)","v":-530078},{"$f":"SUMIF(Summary!K20:K63,\"Special Revenue\",Summary!B20:B63)","v":4062130},{"$f":"SUMIF(Summary!K19:K63,\"Debt Service\",Summary!B19:B63)+SUMIF('Page 5'!K9:K28,\"Debt Service\",'Page 5'!E9:E28)+SUMIF('Page 5'!K36:K45,\"Debt Service\",'Page 5'!E36:E45)","v":465685},{"$f":"Summary!B64","v":0},{"$f":"Summary!B66","v":0},{"$f":"SUM(Summary!B67:'Summary'!B70)","v":0},{"$f":"SUM(C9:P9)","v":31661228},null,null,null,null,null,null,null,null,null,null,"No"]
["Current year ending fund balance"]
["2.","Total FY 2024 ending fund balance",{"$f":"Summary!I18","v":1829061},{"$f":"IF(Summary!K21=\"General\",Summary!I21,0)","v":710867},{"$f":"SUMIF(Summary!K23:K63,\"General\",Summary!I23:I63)+SUMIF(Summary!K19:K20,\"General\",Summary!I19:I20)+SUMIF('Page 5'!K9:K28,\"General\",'Page 5'!J9:J28)+SUMIF('Page 5'!K36:K45,\"General\",'Page 5'!J36:J45)","v":2902235},{"$f":"IF(Summary!K21=\"Capital Projects\",Summary!I21,0)","v":0},{"$f":"SUMIF(Summary!K24:K24,\"Capital Projects\",Summary!I24:I24)+SUMIF(Summary!K55:K55,\"Capital Projects\",Summary!I55:I55)","v":17696393},{"$f":"SUMIF(Summary!K23:K23,\"Capital Projects\",Summary!I23:I23)","v":2869390},{"$f":"SUMIF(Summary!K19:K20,\"Capital Projects\",Summary!I19:I20)+SUMIF(Summary!K25:K54,\"Capital Projects\",Summary!I25:I54)+SUMIF(Summary!K56:K63,\"Capital Projects\",Summary!I56:I63)+SUMIF('Page 5'!K9:K28,\"Capital Projects\",'Page 5'!J9:J28)+SUMIF('Page 5'!K36:K45,\"Capital Projects\",'Page 5'!J36:J45)","v":-1017943},{"$f":"SUMIF(Summary!K19:K19,\"Special Revenue\",Summary!I19:I19)","v":2365880},{"$f":"SUMIF('Page 5'!K9:K28,\"Special Revenue\",'Page 5'!J9:J28)+SUMIF('Page 5'!K36:K45,\"Special Revenue\",'Page 5'!J36:J45)","v":-1131293},{"$f":"SUMIF(Summary!K20:K63,\"Special Revenue\",Summary!I20:I63)","v":4578050},{"$f":"SUMIF(Summary!K19:K63,\"Debt Service\",Summary!I19:I63)+SUMIF('Page 5'!K9:K28,\"Debt Service\",'Page 5'!J9:J28)+SUMIF('Page 5'!K36:K45,\"Debt Service\",'Page 5'!J36:J45)","v":692482},{"$f":"Summary!I64","v":0},{"$f":"Summary!I66","v":0},{"$f":"SUM(Summary!I67:'Summary'!I70)","v":0},{"$f":"SUM(C11:P11)","v":31495122}]
["FY 2024 ending fund balance details:"]
["3.a","Fund deficit",0,0,0,0,0,0,-1017943,0,-1131293,0,0,0,0,0,{"$f":"SUM(C13:P13)","v":-2149236}]
["3.b","Fund balance exceeding budget capacity in budget-controlled funds",0,0,null,0,null,0,null,0,0,null,null,null,null,null,0]
["3.c","Planned to be spent in FY 2025 to support budgeted spending",0,0,0,0,17696393,2869390,0,2365880,0,4578050,null,0,0,0,27509713]
["3.d","Maintained for debt retirement after FY 2025",null,null,null,null,null,null,null,null,null,null,692482,0,0,0,692482]
["3.e","Maintained for capital projects after FY 2025",null,0,0,0,0,0,0,0,0,0,null,0,0,0,0]
["3.f","Maintained for retirement contributions after FY2025",0,0,0,0,0,0,0,0,0,0,null,0,0,0,0]
["3.g","Maintained for self-insurance or OPEB after FY 2025",null,null,null,null,null,null,null,null,null,null,null,null,null,0,0]
["3.h","Maintained for future financial stability",1829061,710867,2902235,0,0,0,0,0,0,0,null,0,0,0,5442163]
["3.i","other purposes (Specify)",0,0,0,0,0,0,0,0,0,0,null,0,0,0,0]
["3.j","other purposes (Specify)",0,0,0,0,0,0,0,0,0,0,null,0,0,0,0]
["3.k","Total FY 2024 ending fund balance",{"$f":"IF(ROUND(SUM(C13:C22),0)=ROUND(C11,0),SUM(C13:C22),\"Must equal line 2\")","v":1829061},710867,2902235,0,17696393,2869390,{"$f":"IF(ROUND(SUM(I13:I22),0)=ROUND(I11,0),SUM(I13:I22),\"Must equal line 2\")","v":-1017943},2365880,-1131293,4578050,692482,0,0,0,31495122]
[]
["*See the Summary tab, column K, and page 5, column K, to identify which funds are included in the General, Capital Projects, and Special Revenue, and other funds columns on this page."]
[]
["B. Fund balance reserve process or policy ",null,null,null,null,null,"Governing Board \npolicy number \n(N/A if no adopted \npolicy exists):"]
["1.","Does the District have a process or policy it follows to establish a targeted (goal) fund balance reserve level that the District is working to maintain each year? (Yes or No in cell F28) If the District has an adopted Governing Board policy, enter the policy number in the box provided (cell G28).",null,null,null,"No","N/A"]
[]
["If question 1 was answered yes, complete the table below to describe the District's specific FY 2024 targeted and actual fund balance reserve amounts and methods used to establish those targeted fund balance reserve amounts. "]
[]
["2.","Fund(s) ","Targeted FY 2024 fund balance reserve amount(s) ","Actual FY 2024 fund balance reserve amount(s)"," Method used to establish a targeted fund balance reserve amount"]
[]
[]
[]
[]
[]
[]
[]
[]
[]
[]
[null,"Total: ",{"$f":"SUM(C33:C42)","v":0},{"$f":"SUM(D33:D42)","v":0}]
[]
["3.","The District plans to take the following actions related to its ending fund balance in FY 2025 and thereafter:"]
[null,"The District is in growth.  The plan for the funds is to assist with staffing and construction of Schools #8 and #9 in the upcoming fiscal year."]

{"sheet":"Coding Errors","index":14,"n_rows":99,"n_cols":30,"rows_kept":99,"cut":false,"hidden":false,"merged":[[62,25,68,25],[62,20,68,20],[62,21,68,21],[62,22,68,22],[62,23,68,23],[62,24,68,24],[2,1,3,6],[5,1,6,6],[8,1,9,6],[11,1,12,6],[13,5,13,6]]}
[null,"DISTRICT NAME",{"$f":"CoverDistrictName","v":"Liberty Elementary School District No. 25"},null,"COUNTY",{"$f":"County","v":"Maricopa"},null,"CTDS NUMBER",{"$f":"CoverCTDS","v":"070425000"}]
[]
[null,"This page identifies coding errors noted in the district's accounting records. The formulas on pages 1 through 4 and 9 will not include these miscoded amounts. Miscodings are identified in column G by pink or purple highlighting and must be corrected, before submitting the AFR, as described below."]
[]
[]
[null,"Amounts identified in pink highlighted cells will materially misstate the amounts reported on the respective pages. Districts with amounts shown in pink-shaded cells will need to make journal entries in their accounting records to bring total miscoded amounts for the fund or page, as applicable, below the respective threshold amount shown in Column J."]
[]
[]
[null,"Amounts identified in purple highlighted cells should not be coded to the fund or object used, as applicable. Districts with amounts shown in purple-shaded cells will need to make journal entries in their accounting records to correct the fund or object code, as applicable, for each line. "]
[]
[]
[null,"After corrections have been made in the accounting records, districts should upload the corrected version of their accounting records into the Accounting Data tab. Districts may use a new copy of the AFR file or should follow step 18 in the \"Checking and copying your data to the AFR file\" section of the Data Uploading Instructions (linked below). "]
[]
[null,"Data Uploading Instructions",null,null,null,"USFR Chart of Accounts"]
[]
[]
[null,"Revenue object code corrections needed for accurate reporting on Page 1",null,null,null,null,{"$f":"IF(OR(G20>J20,(G21+G22+G23)>J21,(G24+G25+G26)>J24,G27>J27),\"Material miscoding identified below\",\"\")","v":""}]
[]
[null,"Issue","Fund","Program","Function","Object","Identified Miscoding Amount",null,null,"Page 1 Thresholds"]
["1.","Federal revenues are not allowed in Fund 610","610",null,null,"4000-4999",{"$f":"-(SUMIFS('Accounting Data'!$C$2:$C$100000,'Accounting Data'!$E$2:$E$100000,\"610\",'Accounting Data'!$J$2:$J$100000,\"4???\"))","v":0},"1.","610",{"$f":"('Page 1'!$F$51)*0.1","v":322094}]
["2.","County revenues are not allowed in Fund 620","620",null,null,"2000-2999",{"$f":"-(SUMIFS('Accounting Data'!$C$2:$C$100000,'Accounting Data'!$E$2:$E$100000,\"620\",'Accounting Data'!$J$2:$J$100000,\"2???\"))","v":0},"2.","620",{"$f":"('Page 1'!$G$51)*0.1","v":177485}]
["3.","State revenues are not allowed in Fund 620","620",null,null,"3000-3999",{"$f":"-(SUMIFS('Accounting Data'!$C$2:$C$100000,'Accounting Data'!$E$2:$E$100000,\"620\",'Accounting Data'!$J$2:$J$100000,\"3???\"))","v":0},"3."]
["4.","Federal revenues are not allowed in Fund 620","620",null,null,"4000-4999",{"$f":"-(SUMIFS('Accounting Data'!$C$2:$C$100000,'Accounting Data'!$E$2:$E$100000,\"620\",'Accounting Data'!$J$2:$J$100000,\"4???\"))","v":0},"4."]
["5.","County revenues are not allowed in Fund 630","630",null,null,"2000-2999",{"$f":"-(SUMIFS('Accounting Data'!$C$2:$C$100000,'Accounting Data'!$E$2:$E$100000,\"630\",'Accounting Data'!$J$2:$J$100000,\"2???\"))","v":0},"5.","630",{"$f":"('Page 1'!$H$51)*0.1","v":0}]
["6.","State revenues are not allowed in Fund 630","630",null,null,"3000-3999",{"$f":"-(SUMIFS('Accounting Data'!$C$2:$C$100000,'Accounting Data'!$E$2:$E$100000,\"630\",'Accounting Data'!$J$2:$J$100000,\"3???\"))","v":0},"6."]
["7.","Federal revenues are not allowed in Fund 630","630",null,null,"4000-4999",{"$f":"-(SUMIFS('Accounting Data'!$C$2:$C$100000,'Accounting Data'!$E$2:$E$100000,\"630\",'Accounting Data'!$J$2:$J$100000,\"4???\"))","v":0},"7."]
["8.","County revenues are not allowed in Fund 700","700",null,null,"2000-2999",{"$f":"-(SUMIFS('Accounting Data'!$C$2:$C$100000,'Accounting Data'!$E$2:$E$100000,\"700\",'Accounting Data'!$J$2:$J$100000,\"2???\"))","v":0},"8.","700",{"$f":"('Page 1'!$I$51)*0.1","v":572605}]
[]
[null,"Maintenance and Operations Fund corrections needed for accurate reporting on Page 2",null,null,null,null,{"$f":"IF(G32+G33+G34+G35+G37+G38+G40>J32,\"Material miscoding identified below\",\"\")","v":""}]
[]
[null,"Issue","Fund","Program","Function","Object","Identified Miscoding Amount",null,null,"Page 2 Threshold"]
["9.","Do not use Program codes 000-099","001","000-099",null,"6100-6899",{"$f":"SUMIFS('Accounting Data'!$C$2:$C$100000,'Accounting Data'!$E$2:$E$100000,\"001\",'Accounting Data'!$H$2:$H$100000,\"0??\",'Accounting Data'!$J$2:$J$100000,\"6???\")-SUMIFS('Accounting Data'!$C$2:$C$100000,'Accounting Data'!$E$2:$E$100000,\"001\",'Accounting Data'!$H$2:$H$100000,\"0??\",'Accounting Data'!$J$2:$J$100000,\"69??\")","v":0},"9.",null,{"$f":"($G$32+$G$33+$G$34+$G$35+$G$37+$G$38+$G$40+'Page 2'!$J$46)*0.1","v":3668060}]
["10.","Expenditures in Function 2700 not coded to Programs 400, 513","001","100-399, 500-512, 514-999","2700-2799","6100-6899",{"$f":"(SUMIFS('Accounting Data'!C2:C65535,'Accounting Data'!E2:E65535,\"001\",'Accounting Data'!I2:I65535,\"27??\",'Accounting Data'!J2:J65535,\"6???\")-SUMIFS('Accounting Data'!C2:C65535,'Accounting Data'!E2:E65535,\"001\",'Accounting Data'!I2:I65535,\"27??\",'Accounting Data'!J2:J65535,\"69??\"))-(SUMIFS('Accounting Data'!C2:C65535,'Accounting Data'!E2:E65535,\"001\",'Accounting Data'!H2:H65535,\"4??\",'Accounting Data'!I2:I65535,\"27??\",'Accounting Data'!J2:J65535,\"6???\")-SUMIFS('Accounting Data'!C2:C65535,'Accounting Data'!E2:E65535,\"001\",'Accounting Data'!H2:H65535,\"4??\",'Accounting Data'!I2:I65535,\"27??\",'Accounting Data'!J2:J65535,\"69??\"))-(SUMIFS('Accounting Data'!C2:C65535,'Accounting Data'!E2:E65535,\"001\",'Accounting Data'!H2:H65535,\"51?\",'Accounting Data'!I2:I65535,\"27??\",'Accounting Data'!J2:J65535,\"6???\")-SUMIFS('Accounting Data'!C2:C65535,'Accounting Data'!E2:E65535,\"001\",'Accounting Data'!H2:H65535,\"51?\",'Accounting Data'!I2:I65535,\"27??\",'Accounting Data'!J2:J65535,\"69??\"))","v":0},"10."]
["11.","Expenditures coded to unallowable 500 range programs","001","500-510, 520-529, 540-549, 560-599",null,"6100-6899",{"$f":"(SUMIFS('Accounting Data'!C2:C100000,'Accounting Data'!E2:E100000,\"001\",'Accounting Data'!H2:H100000,\"5??\",'Accounting Data'!J2:J100000,\"6???\")-SUMIFS('Accounting Data'!C2:C100000,'Accounting Data'!E2:E100000,\"001\",'Accounting Data'!H2:H100000,\"5??\",'Accounting Data'!J2:J100000,\"69??\"))-(SUMIFS('Accounting Data'!C2:C100000,'Accounting Data'!E2:E100000,\"001\",'Accounting Data'!H2:H100000,\"51?\",'Accounting Data'!J2:J100000,\"6???\")-SUMIFS('Accounting Data'!C2:C100000,'Accounting Data'!E2:E100000,\"001\",'Accounting Data'!H2:H100000,\"51?\",'Accounting Data'!J2:J100000,\"69??\"))-(SUMIFS('Accounting Data'!C2:C100000,'Accounting Data'!E2:E100000,\"001\",'Accounting Data'!H2:H100000,\"53?\",'Accounting Data'!J2:J100000,\"6???\")-SUMIFS('Accounting Data'!C2:C100000,'Accounting Data'!E2:E100000,\"001\",'Accounting Data'!H2:H100000,\"53?\",'Accounting Data'!J2:J100000,\"69??\"))-(SUMIFS('Accounting Data'!C2:C100000,'Accounting Data'!E2:E100000,\"001\",'Accounting Data'!H2:H100000,\"55?\",'Accounting Data'!J2:J100000,\"6???\")-SUMIFS('Accounting Data'!C2:C100000,'Accounting Data'!E2:E100000,\"001\",'Accounting Data'!H2:H100000,\"55?\",'Accounting Data'!J2:J100000,\"69??\"))","v":0},"11."]
["12.","Expenditures coded to unallowable 600 range programs","001","600-609, 640-699",null,"6100-6899",{"$f":"(SUMIFS('Accounting Data'!C2:C100000,'Accounting Data'!E2:E100000,\"001\",'Accounting Data'!H2:H100000,\"6??\",'Accounting Data'!J2:J100000,\"6???\")-SUMIFS('Accounting Data'!C2:C100000,'Accounting Data'!E2:E100000,\"001\",'Accounting Data'!H2:H100000,\"6??\",'Accounting Data'!J2:J100000,\"69??\"))-(SUMIFS('Accounting Data'!C2:C100000,'Accounting Data'!E2:E100000,\"001\",'Accounting Data'!H2:H100000,\"61?\",'Accounting Data'!J2:J100000,\"6???\")-SUMIFS('Accounting Data'!C2:C100000,'Accounting Data'!E2:E100000,\"001\",'Accounting Data'!H2:H100000,\"61?\",'Accounting Data'!J2:J100000,\"69??\"))-(SUMIFS('Accounting Data'!C2:C100000,'Accounting Data'!E2:E100000,\"001\",'Accounting Data'!H2:H100000,\"62?\",'Accounting Data'!J2:J100000,\"6???\")-SUMIFS('Accounting Data'!C2:C100000,'Accounting Data'!E2:E100000,\"001\",'Accounting Data'!H2:H100000,\"62?\",'Accounting Data'!J2:J100000,\"69??\"))-(SUMIFS('Accounting Data'!C2:C100000,'Accounting Data'!E2:E100000,\"001\",'Accounting Data'!H2:H100000,\"63?\",'Accounting Data'!J2:J100000,\"6???\")-SUMIFS('Accounting Data'!C2:C100000,'Accounting Data'!E2:E100000,\"001\",'Accounting Data'!H2:H100000,\"63?\",'Accounting Data'!J2:J100000,\"69??\"))","v":0},"12."]
[]
["13.","Function 4000 not allowed in Fund 001","001",null,"4000-4999","6100-6899",{"$f":"SUMIFS('Accounting Data'!C2:C100000,'Accounting Data'!E2:E100000,\"001\",'Accounting Data'!I2:I100000,\"4???\",'Accounting Data'!J2:J100000,\"6???\")-SUMIFS('Accounting Data'!C2:C100000,'Accounting Data'!E2:E100000,\"001\",'Accounting Data'!I2:I100000,\"4???\",'Accounting Data'!J2:J100000,\"69??\")","v":0},"13."]
["14.","Function 5000 not allowed in Fund 001","001",null,"5000-5999","6100-6899",{"$f":"SUMIFS('Accounting Data'!C2:C100000,'Accounting Data'!E2:E100000,\"001\",'Accounting Data'!I2:I100000,\"5???\",'Accounting Data'!J2:J100000,\"6???\")-SUMIFS('Accounting Data'!C2:C100000,'Accounting Data'!E2:E100000,\"001\",'Accounting Data'!I2:I100000,\"5???\",'Accounting Data'!J2:J100000,\"69??\")","v":0},"14."]
[]
["15.","Expenditures for Object 6700 are not allowed in Fund 001","001",null,null,"6700-6799",{"$f":"SUMIFS('Accounting Data'!C2:C100000,'Accounting Data'!E2:E100000,\"001\",'Accounting Data'!J2:J100000,\"67??\")","v":0},"15."]
[]
[null,"Classroom Site Fund corrections needed for accurate reporting on Page 3",null,null,null,null,{"$f":"IF(OR(G45>J45,G46+G47+G48+G49+G50+G51+G52>J46),\"Material miscoding identified below\",\"\")","v":""}]
[]
[null,"Issue","Fund","Program","Function","Object","Identified Miscoding Amount",null,null,"Page 3 Thresholds"]
["16.","Unallowable revenues coded to Fund 010","010",null,null,"1000-1499, 1600-1979,\n2000-2999, 4000-4999",{"$f":"-(SUM(SUMIFS('Accounting Data'!C2:C100000,'Accounting Data'!E2:E100000,\"010\",'Accounting Data'!J2:J100000,{\"10??\",\"11??\",\"12??\",\"13??\",\"14??\",\"16??\",\"17??\",\"18??\",\"190?\",\"191?\",\"192?\",\"193?\",\"194?\",\"195?\",\"196?\",\"197?\",\"2???\",\"4???\"})))","v":0},"16.",null,{"$f":"('Page 3'!$E$21)*0.1","v":375645}]
["17.","Function 2300 should only be coded to object 652X","010",null,"2300","6000-6519, 6530-6800",{"$f":"SUMIFS('Accounting Data'!C2:C100000,'Accounting Data'!E2:E100000,\"010\",'Accounting Data'!I2:I100000,\"23??\",'Accounting Data'!J2:J100000,\"6???\")-SUMIFS('Accounting Data'!C2:C100000,'Accounting Data'!E2:E100000,\"010\",'Accounting Data'!I2:I100000,\"23??\",'Accounting Data'!J2:J100000,\"652?\")","v":0},"17.",null,{"$f":"(G46+G47+G48+G49+G50+G51+G52+'Page 3'!$M$21)*0.1","v":314711}]
["18.","Object 6100 should not be coded to Function codes 2300-3200 and 3400-5000","010",null,"2300-3200, 3400-5000","6100",{"$f":"SUM(SUMIFS('Accounting Data'!C2:C100000,'Accounting Data'!E2:E100000,\"010\",'Accounting Data'!I2:I100000,{\"23??\",\"24??\",\"25??\",\"26??\",\"27??\",\"28??\",\"29??\",\"30??\",\"31??\",\"32??\",\"34??\",\"35??\",\"36??\",\"37??\",\"38??\",\"39??\",\"4???\",\"5???\"},'Accounting Data'!J2:J100000,\"61??\"))","v":0},"18."]
["19.","Object 6200 should not be coded to Function codes 2300-3200 and 3400-5000","010",null,"2300-3200, 3400-5000","6200",{"$f":"SUM(SUMIFS('Accounting Data'!C2:C100000,'Accounting Data'!E2:E100000,\"010\",'Accounting Data'!I2:I100000,{\"23??\",\"24??\",\"25??\",\"26??\",\"27??\",\"28??\",\"29??\",\"30??\",\"31??\",\"32??\",\"34??\",\"35??\",\"36??\",\"37??\",\"38??\",\"39??\",\"4???\",\"5???\"},'Accounting Data'!J2:J100000,\"62??\"))","v":0},"19."]
["20.","Object 6300,6400,6500 should not be coded to Function codes 2400-3200 and 3400-5000","010",null,"2400-3200, 3400-5000","6300, 6400, 6500",{"$f":"SUM(SUMIFS('Accounting Data'!C2:C100000,'Accounting Data'!E2:E100000,\"010\",'Accounting Data'!I2:I100000,{\"24??\",\"25??\",\"26??\",\"27??\",\"28??\",\"29??\",\"30??\",\"31??\",\"32??\",\"34??\",\"35??\",\"36??\",\"37??\",\"38??\",\"39??\",\"4???\",\"5???\"},'Accounting Data'!J2:J100000,\"63??\"))+SUM(SUMIFS('Accounting Data'!C2:C100000,'Accounting Data'!E2:E100000,\"010\",'Accounting Data'!I2:I100000,{\"24??\",\"25??\",\"26??\",\"27??\",\"28??\",\"29??\",\"30??\",\"31??\",\"32??\",\"34??\",\"35??\",\"36??\",\"37??\",\"38??\",\"39??\",\"4???\",\"5???\"},'Accounting Data'!J2:J100000,\"64??\"))+SUM(SUMIFS('Accounting Data'!C2:C100000,'Accounting Data'!E2:E100000,\"010\",'Accounting Data'!I2:I100000,{\"24??\",\"25??\",\"26??\",\"27??\",\"28??\",\"29??\",\"30??\",\"31??\",\"32??\",\"34??\",\"35??\",\"36??\",\"37??\",\"38??\",\"39??\",\"4???\",\"5???\"},'Accounting Data'!J2:J100000,\"65??\"))","v":0},"20.",null,null,null,null,null,null,null,null,null,null,null,null,null,null,null,null,null,null,{"$f":"SUMIFS('Accounting Data'!C2:C100000,'Accounting Data'!E2:E100000,\"010\",'Accounting Data'!I2:I100000,\"25??\",'Accounting Data'!J2:J100000,\"65??\")+SUMIFS('Accounting Data'!C2:C100000,'Accounting Data'!E2:E100000,\"010\",'Accounting Data'!I2:I100000,\"26??\",'Accounting Data'!J2:J100000,\"65??\")+SUMIFS('Accounting Data'!C2:C100000,'Accounting Data'!E2:E100000,\"010\",'Accounting Data'!I2:I100000,\"27??\",'Accounting Data'!J2:J100000,\"65??\")+SUMIFS('Accounting Data'!C2:C100000,'Accounting Data'!E2:E100000,\"010\",'Accounting Data'!I2:I100000,\"28??\",'Accounting Data'!J2:J100000,\"65??\")+SUMIFS('Accounting Data'!C2:C100000,'Accounting Data'!E2:E100000,\"010\",'Accounting Data'!I2:I100000,\"29??\",'Accounting Data'!J2:J100000,\"65??\")+SUMIFS('Accounting Data'!C2:C100000,'Accounting Data'!E2:E100000,\"010\",'Accounting Data'!I2:I100000,\"4???\",'Accounting Data'!J2:J100000,\"65??\")+SUMIFS('Accounting Data'!C2:C100000,'Accounting Data'!E2:E100000,\"010\",'Accounting Data'!I2:I100000,\"5???\",'Accounting Data'!J2:J100000,\"65??\")","v":0}]
["21.","Object 6600 should not be coded to Function codes 2300-5000","010",null,"2300-5000","6600",{"$f":"SUM(SUMIFS('Accounting Data'!C2:C100000,'Accounting Data'!E2:E100000,\"010\",'Accounting Data'!I2:I100000,{\"23??\",\"24??\",\"25??\",\"26??\",\"27??\",\"28??\",\"29??\",\"3???\",\"4???\",\"5???\"},'Accounting Data'!J2:J100000,\"66??\"))","v":0},"21."]
["22.","Object 6700 should not be coded to Function codes 2200-3900 and 5000","010",null,"2200-3900, 5000","6700",{"$f":"SUM(SUMIFS('Accounting Data'!C2:C100000,'Accounting Data'!E2:E100000,\"010\",'Accounting Data'!I2:I100000,{\"22??\",\"23??\",\"24??\",\"25??\",\"26??\",\"27??\",\"28??\",\"29??\",\"3???\",\"5???\"},'Accounting Data'!J2:J100000,\"67??\"))","v":0},"22.",null,null,null,null,null,null,null,null,null,null,null,null,null,null,null,null,null,null,{"$f":"SUMIFS('Accounting Data'!C2:C100000,'Accounting Data'!E2:E100000,\"010\",'Accounting Data'!I2:I100000,\"33??\",'Accounting Data'!J2:J100000,\"67??\")+SUMIFS('Accounting Data'!C2:C100000,'Accounting Data'!E2:E100000,\"010\",'Accounting Data'!I2:I100000,\"34??\",'Accounting Data'!J2:J100000,\"67??\")+SUMIFS('Accounting Data'!C2:C100000,'Accounting Data'!E2:E100000,\"010\",'Accounting Data'!I2:I100000,\"35??\",'Accounting Data'!J2:J100000,\"67??\")+SUMIFS('Accounting Data'!C2:C100000,'Accounting Data'!E2:E100000,\"010\",'Accounting Data'!I2:I100000,\"36??\",'Accounting Data'!J2:J100000,\"67??\")+SUMIFS('Accounting Data'!C2:C100000,'Accounting Data'!E2:E100000,\"010\",'Accounting Data'!I2:I100000,\"37??\",'Accounting Data'!J2:J100000,\"67??\")+SUMIFS('Accounting Data'!C2:C100000,'Accounting Data'!E2:E100000,\"010\",'Accounting Data'!I2:I100000,\"38??\",'Accounting Data'!J2:J100000,\"67??\")+SUMIFS('Accounting Data'!C2:C100000,'Accounting Data'!E2:E100000,\"010\",'Accounting Data'!I2:I100000,\"39??\",'Accounting Data'!J2:J100000,\"67??\")+SUMIFS('Accounting Data'!C2:C100000,'Accounting Data'!E2:E100000,\"010\",'Accounting Data'!I2:I100000,\"5???\",'Accounting Data'!J2:J100000,\"67??\")","v":0}]
["23.","Object 6800 should not be coded to Function codes 2300-2400 and 2600-4000","010",null,"2300-2400, 2600-4000","6800",{"$f":"SUM(SUMIFS('Accounting Data'!C2:C100000,'Accounting Data'!E2:E100000,\"010\",'Accounting Data'!I2:I100000,{\"23??\",\"24??\",\"26??\",\"27??\",\"28??\",\"29\",\"30??\",\"31??\",\"32??\",\"33??\",\"34??\",\"35??\",\"36??\",\"37??\",\"38??\",\"39??\",\"4???\"},'Accounting Data'!J2:J100000,\"68??\"))","v":0},"23."]
[]
[]
[]
[null,"Unrestricted Capital Outlay Fund corrections needed for accurate reporting on Page 4",null,null,null,null,{"$f":"IF(OR(G59>J59,G60>J60,G61>J61,G62>J62),\"Material miscoding identified below\",\"\")","v":""}]
[]
[null,"Issue","Fund","Program","Function","Object","Identified Miscoding Amount",null,null,"Page 4 Thresholds"]
["24.","Object 6730 should be coded to 6731-6739","610",null,null,"6730",{"$f":"SUMIFS('Accounting Data'!$C$2:$C$100000,'Accounting Data'!$E$2:$E$100000,\"610\",'Accounting Data'!$J$2:$J$100000,\"6730\")","v":0},"24.","610",{"$f":"($G$59+'Page 4'!$E$28)*0.1","v":310243}]
["25.","Object 6730 should be coded to 6731-6739","620",null,null,"6730",{"$f":"SUMIFS('Accounting Data'!$C$2:$C$100000,'Accounting Data'!$E$2:$E$100000,\"620\",'Accounting Data'!$J$2:$J$100000,\"6730\")","v":0},"25.","620",{"$f":"($G$60+'Page 4'!$K$28)*0.1","v":3114}]
["26.","Object 6730 should be coded to 6731-6739","630",null,null,"6730",{"$f":"SUMIFS('Accounting Data'!$C$2:$C$100000,'Accounting Data'!$E$2:$E$100000,\"630\",'Accounting Data'!$J$2:$J$100000,\"6730\")","v":0},"26.","630",{"$f":"($G$61+'Page 4'!$G$28)*0.1","v":339191}]
["27.","Object 6730 should be coded to 6731-6739","695",null,null,"6730",{"$f":"SUMIFS('Accounting Data'!$C$2:$C$100000,'Accounting Data'!$E$2:$E$100000,\"695\",'Accounting Data'!$J$2:$J$100000,\"6730\")","v":0},"27.","695",{"$f":"($G$62+'Page 4'!$I$28)*0.1","v":120983}]
[]
[null,"National Public Education Financial Survey (NPEFS) Reporting corrections needed for accurate reporting on Page 9 (all funds 001-799, except 575)",null,null,null,null,{"$f":"IF(SUM(G67:G99)>J67,\"Material miscoding identified below\",\"\")","v":""}]
[]
[null,"Issue","Fund","Program","Function","Object","Identified Miscoding Amount",null,null,"Page 9 Threshold"]
["28.","Do not use Program codes 700-900 for Function 2700","001-799 (excl. 575)","700-999","2700-2799","6100-6899",{"$f":"AA67-AB67-AC67-AD67","v":0},"28.",null,{"$f":"(SUM($G$67:$G$99)+'Page 9'!$N$24+'Page 9'!$N$27+'Page 9'!$N$28)*0.1","v":6126641},null,null,null,null,null,null,null,null,null,null,null,null,null,null,null,null,{"$f":"(SUMIFS('Accounting Data'!C2:C100000,'Accounting Data'!H2:H100000,\"7??\",'Accounting Data'!I2:I100000,\"27??\",'Accounting Data'!J2:J100000,\"6???\")+SUMIFS('Accounting Data'!C2:C100000,'Accounting Data'!H2:H100000,\"8??\",'Accounting Data'!I2:I100000,\"27??\",'Accounting Data'!J2:J100000,\"6???\")+SUMIFS('Accounting Data'!C2:C100000,'Accounting Data'!H2:H100000,\"9??\",'Accounting Data'!I2:I100000,\"27??\",'Accounting Data'!J2:J100000,\"6???\"))-(SUMIFS('Accounting Data'!C2:C100000,'Accounting Data'!H2:H100000,\"7??\",'Accounting Data'!I2:I100000,\"27??\",'Accounting Data'!J2:J100000,\"69??\")+SUMIFS('Accounting Data'!C2:C100000,'Accounting Data'!H2:H100000,\"8??\",'Accounting Data'!I2:I100000,\"27??\",'Accounting Data'!J2:J100000,\"69??\")+SUMIFS('Accounting Data'!C2:C100000,'Accounting Data'!H2:H100000,\"9??\",'Accounting Data'!I2:I100000,\"27??\",'Accounting Data'!J2:J100000,\"69??\"))","v":0},{"$f":"(SUMIFS('Accounting Data'!C2:C100000,'Accounting Data'!E2:E100000,\"575\",'Accounting Data'!H2:H100000,\"7??\",'Accounting Data'!I2:I100000,\"27??\",'Accounting Data'!J2:J100000,\"6???\")+SUMIFS('Accounting Data'!C2:C100000,'Accounting Data'!E2:E100000,\"575\",'Accounting Data'!H2:H100000,\"8??\",'Accounting Data'!I2:I100000,\"27??\",'Accounting Data'!J2:J100000,\"6???\")+SUMIFS('Accounting Data'!C2:C100000,'Accounting Data'!E2:E100000,\"575\",'Accounting Data'!H2:H100000,\"9??\",'Accounting Data'!I2:I100000,\"27??\",'Accounting Data'!J2:J100000,\"6???\"))-(SUMIFS('Accounting Data'!C2:C100000,'Accounting Data'!E2:E100000,\"575\",'Accounting Data'!H2:H100000,\"7??\",'Accounting Data'!I2:I100000,\"27??\",'Accounting Data'!J2:J100000,\"69??\")+SUMIFS('Accounting Data'!C2:C100000,'Accounting Data'!E2:E100000,\"575\",'Accounting Data'!H2:H100000,\"8??\",'Accounting Data'!I2:I100000,\"27??\",'Accounting Data'!J2:J100000,\"69??\")+SUMIFS('Accounting Data'!C2:C100000,'Accounting Data'!E2:E100000,\"575\",'Accounting Data'!H2:H100000,\"9??\",'Accounting Data'!I2:I100000,\"27??\",'Accounting Data'!J2:J100000,\"69??\"))","v":0},{"$f":"(SUMIFS('Accounting Data'!C2:C100000,'Accounting Data'!E2:E100000,\"8??\",'Accounting Data'!H2:H100000,\"7??\",'Accounting Data'!I2:I100000,\"27??\",'Accounting Data'!J2:J100000,\"6???\")+SUMIFS('Accounting Data'!C2:C100000,'Accounting Data'!E2:E100000,\"8??\",'Accounting Data'!H2:H100000,\"8??\",'Accounting Data'!I2:I100000,\"27??\",'Accounting Data'!J2:J100000,\"6???\")+SUMIFS('Accounting Data'!C2:C100000,'Accounting Data'!E2:E100000,\"8??\",'Accounting Data'!H2:H100000,\"9??\",'Accounting Data'!I2:I100000,\"27??\",'Accounting Data'!J2:J100000,\"6???\"))-(SUMIFS('Accounting Data'!C2:C100000,'Accounting Data'!E2:E100000,\"8??\",'Accounting Data'!H2:H100000,\"7??\",'Accounting Data'!I2:I100000,\"27??\",'Accounting Data'!J2:J100000,\"69??\")+SUMIFS('Accounting Data'!C2:C100000,'Accounting Data'!E2:E100000,\"8??\",'Accounting Data'!H2:H100000,\"8??\",'Accounting Data'!I2:I100000,\"27??\",'Accounting Data'!J2:J100000,\"69??\")+SUMIFS('Accounting Data'!C2:C100000,'Accounting Data'!E2:E100000,\"8??\",'Accounting Data'!H2:H100000,\"9??\",'Accounting Data'!I2:I100000,\"27??\",'Accounting Data'!J2:J100000,\"69??\"))","v":0},{"$f":"(SUMIFS('Accounting Data'!C2:C100000,'Accounting Data'!E2:E100000,\"9??\",'Accounting Data'!H2:H100000,\"7??\",'Accounting Data'!I2:I100000,\"27??\",'Accounting Data'!J2:J100000,\"6???\")+SUMIFS('Accounting Data'!C2:C100000,'Accounting Data'!E2:E100000,\"9??\",'Accounting Data'!H2:H100000,\"8??\",'Accounting Data'!I2:I100000,\"27??\",'Accounting Data'!J2:J100000,\"6???\")+SUMIFS('Accounting Data'!C2:C100000,'Accounting Data'!E2:E100000,\"9??\",'Accounting Data'!H2:H100000,\"9??\",'Accounting Data'!I2:I100000,\"27??\",'Accounting Data'!J2:J100000,\"6???\"))-(SUMIFS('Accounting Data'!C2:C100000,'Accounting Data'!E2:E100000,\"9??\",'Accounting Data'!H2:H100000,\"7??\",'Accounting Data'!I2:I100000,\"27??\",'Accounting Data'!J2:J100000,\"69??\")+SUMIFS('Accounting Data'!C2:C100000,'Accounting Data'!E2:E100000,\"9??\",'Accounting Data'!H2:H100000,\"8??\",'Accounting Data'!I2:I100000,\"27??\",'Accounting Data'!J2:J100000,\"69??\")+SUMIFS('Accounting Data'!C2:C100000,'Accounting Data'!E2:E100000,\"9??\",'Accounting Data'!H2:H100000,\"9??\",'Accounting Data'!I2:I100000,\"27??\",'Accounting Data'!J2:J100000,\"69??\"))","v":0}]
[]
["29.","Do not use Function codes 0000-0999","001-799 (excl. 575)",null,"0000-0999","6100-6899",{"$f":"(SUMIFS('Accounting Data'!C2:C100000,'Accounting Data'!I2:I100000,\"0???\",'Accounting Data'!J2:J100000,\"6???\")-SUMIFS('Accounting Data'!C2:C100000,'Accounting Data'!I2:I100000,\"0???\",'Accounting Data'!J2:J100000,\"69??\"))-((SUMIFS('Accounting Data'!C2:C100000,'Accounting Data'!E2:E100000,\"575\",'Accounting Data'!I2:I100000,\"0???\",'Accounting Data'!J2:J100000,\"6???\")-(SUMIFS('Accounting Data'!C2:C100000,'Accounting Data'!E2:E100000,\"575\",'Accounting Data'!I2:I100000,\"0???\",'Accounting Data'!J2:J100000,\"69??\")-(SUMIFS('Accounting Data'!C2:C100000,'Accounting Data'!E2:E100000,\"8??\",'Accounting Data'!I2:I100000,\"0???\",'Accounting Data'!J2:J100000,\"6???\")-(SUMIFS('Accounting Data'!C2:C100000,'Accounting Data'!E2:E100000,\"8??\",'Accounting Data'!I2:I100000,\"0???\",'Accounting Data'!J2:J100000,\"69??\")-(SUMIFS('Accounting Data'!C2:C100000,'Accounting Data'!E2:E100000,\"9??\",'Accounting Data'!I2:I100000,\"0???\",'Accounting Data'!J2:J100000,\"6???\")-(SUMIFS('Accounting Data'!C2:C100000,'Accounting Data'!E2:E100000,\"9??\",'Accounting Data'!I2:I100000,\"0???\",'Accounting Data'!J2:J100000,\"69??\"))))))))","v":0},"29."]
["30.","Do not use Function codes 2000-2099","001-799 (excl. 575)",null,"2000-2099","6100-6899",{"$f":"(SUMIFS('Accounting Data'!C2:C100000,'Accounting Data'!I2:I100000,\"20??\",'Accounting Data'!J2:J100000,\"6???\")-SUMIFS('Accounting Data'!C2:C100000,'Accounting Data'!I2:I100000,\"20??\",'Accounting Data'!J2:J100000,\"69??\"))-((SUMIFS('Accounting Data'!C2:C100000,'Accounting Data'!E2:E100000,\"575\",'Accounting Data'!I2:I100000,\"20??\",'Accounting Data'!J2:J100000,\"6???\")-(SUMIFS('Accounting Data'!C2:C100000,'Accounting Data'!E2:E100000,\"575\",'Accounting Data'!I2:I100000,\"20??\",'Accounting Data'!J2:J100000,\"69??\")-(SUMIFS('Accounting Data'!C2:C100000,'Accounting Data'!E2:E100000,\"8??\",'Accounting Data'!I2:I100000,\"20??\",'Accounting Data'!J2:J100000,\"6???\")-(SUMIFS('Accounting Data'!C2:C100000,'Accounting Data'!E2:E100000,\"8??\",'Accounting Data'!I2:I100000,\"20??\",'Accounting Data'!J2:J100000,\"69??\")-(SUMIFS('Accounting Data'!C2:C100000,'Accounting Data'!E2:E100000,\"9??\",'Accounting Data'!I2:I100000,\"20??\",'Accounting Data'!J2:J100000,\"6???\")-(SUMIFS('Accounting Data'!C2:C100000,'Accounting Data'!E2:E100000,\"9??\",'Accounting Data'!I2:I100000,\"20??\",'Accounting Data'!J2:J100000,\"69??\"))))))))","v":0},"30."]
["31.","Do not use Function codes 2800-2899","001-799 (excl. 575)",null,"2800-2899","6100-6899",{"$f":"(SUMIFS('Accounting Data'!C2:C100000,'Accounting Data'!I2:I100000,\"28??\",'Accounting Data'!J2:J100000,\"6???\")-SUMIFS('Accounting Data'!C2:C100000,'Accounting Data'!I2:I100000,\"28??\",'Accounting Data'!J2:J100000,\"69??\"))-((SUMIFS('Accounting Data'!C2:C100000,'Accounting Data'!E2:E100000,\"575\",'Accounting Data'!I2:I100000,\"28??\",'Accounting Data'!J2:J100000,\"6???\")-(SUMIFS('Accounting Data'!C2:C100000,'Accounting Data'!E2:E100000,\"575\",'Accounting Data'!I2:I100000,\"28??\",'Accounting Data'!J2:J100000,\"69??\")-(SUMIFS('Accounting Data'!C2:C100000,'Accounting Data'!E2:E100000,\"8??\",'Accounting Data'!I2:I100000,\"28??\",'Accounting Data'!J2:J100000,\"6???\")-(SUMIFS('Accounting Data'!C2:C100000,'Accounting Data'!E2:E100000,\"8??\",'Accounting Data'!I2:I100000,\"28??\",'Accounting Data'!J2:J100000,\"69??\")-(SUMIFS('Accounting Data'!C2:C100000,'Accounting Data'!E2:E100000,\"9??\",'Accounting Data'!I2:I100000,\"28??\",'Accounting Data'!J2:J100000,\"6???\")-(SUMIFS('Accounting Data'!C2:C100000,'Accounting Data'!E2:E100000,\"9??\",'Accounting Data'!I2:I100000,\"28??\",'Accounting Data'!J2:J100000,\"69??\"))))))))","v":0},"31."]
["32.","Do not use Function codes 3000-3099","001-799 (excl. 575)",null,"3000-3099","6100-6899",{"$f":"(SUMIFS('Accounting Data'!C2:C100000,'Accounting Data'!I2:I100000,\"30??\",'Accounting Data'!J2:J100000,\"6???\")-SUMIFS('Accounting Data'!C2:C100000,'Accounting Data'!I2:I100000,\"30??\",'Accounting Data'!J2:J100000,\"69??\"))-((SUMIFS('Accounting Data'!C2:C100000,'Accounting Data'!E2:E100000,\"575\",'Accounting Data'!I2:I100000,\"30??\",'Accounting Data'!J2:J100000,\"6???\")-(SUMIFS('Accounting Data'!C2:C100000,'Accounting Data'!E2:E100000,\"575\",'Accounting Data'!I2:I100000,\"30??\",'Accounting Data'!J2:J100000,\"69??\")-(SUMIFS('Accounting Data'!C2:C100000,'Accounting Data'!E2:E100000,\"8??\",'Accounting Data'!I2:I100000,\"30??\",'Accounting Data'!J2:J100000,\"6???\")-(SUMIFS('Accounting Data'!C2:C100000,'Accounting Data'!E2:E100000,\"8??\",'Accounting Data'!I2:I100000,\"30??\",'Accounting Data'!J2:J100000,\"69??\")-(SUMIFS('Accounting Data'!C2:C100000,'Accounting Data'!E2:E100000,\"9??\",'Accounting Data'!I2:I100000,\"30??\",'Accounting Data'!J2:J100000,\"6???\")-(SUMIFS('Accounting Data'!C2:C100000,'Accounting Data'!E2:E100000,\"9??\",'Accounting Data'!I2:I100000,\"30??\",'Accounting Data'!J2:J100000,\"69??\"))))))))","v":0},"32."]
["33.","Do not use Function codes 3500-3599","001-799 (excl. 575)",null,"3500-3599","6100-6899",{"$f":"(SUMIFS('Accounting Data'!C2:C100000,'Accounting Data'!I2:I100000,\"35??\",'Accounting Data'!J2:J100000,\"6???\")-SUMIFS('Accounting Data'!C2:C100000,'Accounting Data'!I2:I100000,\"35??\",'Accounting Data'!J2:J100000,\"69??\"))-((SUMIFS('Accounting Data'!C2:C100000,'Accounting Data'!E2:E100000,\"575\",'Accounting Data'!I2:I100000,\"35??\",'Accounting Data'!J2:J100000,\"6???\")-(SUMIFS('Accounting Data'!C2:C100000,'Accounting Data'!E2:E100000,\"575\",'Accounting Data'!I2:I100000,\"35??\",'Accounting Data'!J2:J100000,\"69??\")-(SUMIFS('Accounting Data'!C2:C100000,'Accounting Data'!E2:E100000,\"8??\",'Accounting Data'!I2:I100000,\"35??\",'Accounting Data'!J2:J100000,\"6???\")-(SUMIFS('Accounting Data'!C2:C100000,'Accounting Data'!E2:E100000,\"8??\",'Accounting Data'!I2:I100000,\"35??\",'Accounting Data'!J2:J100000,\"69??\")-(SUMIFS('Accounting Data'!C2:C100000,'Accounting Data'!E2:E100000,\"9??\",'Accounting Data'!I2:I100000,\"35??\",'Accounting Data'!J2:J100000,\"6???\")-(SUMIFS('Accounting Data'!C2:C100000,'Accounting Data'!E2:E100000,\"9??\",'Accounting Data'!I2:I100000,\"35??\",'Accounting Data'!J2:J100000,\"69??\"))))))))","v":0},"33."]
["34.","Do not use Function codes 3600-3699","001-799 (excl. 575)",null,"3600-3699","6100-6899",{"$f":"(SUMIFS('Accounting Data'!C2:C100000,'Accounting Data'!I2:I100000,\"36??\",'Accounting Data'!J2:J100000,\"6???\")-SUMIFS('Accounting Data'!C2:C100000,'Accounting Data'!I2:I100000,\"36??\",'Accounting Data'!J2:J100000,\"69??\"))-((SUMIFS('Accounting Data'!C2:C100000,'Accounting Data'!E2:E100000,\"575\",'Accounting Data'!I2:I100000,\"36??\",'Accounting Data'!J2:J100000,\"6???\")-(SUMIFS('Accounting Data'!C2:C100000,'Accounting Data'!E2:E100000,\"575\",'Accounting Data'!I2:I100000,\"36??\",'Accounting Data'!J2:J100000,\"69??\")-(SUMIFS('Accounting Data'!C2:C100000,'Accounting Data'!E2:E100000,\"8??\",'Accounting Data'!I2:I100000,\"36??\",'Accounting Data'!J2:J100000,\"6???\")-(SUMIFS('Accounting Data'!C2:C100000,'Accounting Data'!E2:E100000,\"8??\",'Accounting Data'!I2:I100000,\"36??\",'Accounting Data'!J2:J100000,\"69??\")-(SUMIFS('Accounting Data'!C2:C100000,'Accounting Data'!E2:E100000,\"9??\",'Accounting Data'!I2:I100000,\"36??\",'Accounting Data'!J2:J100000,\"6???\")-(SUMIFS('Accounting Data'!C2:C100000,'Accounting Data'!E2:E100000,\"9??\",'Accounting Data'!I2:I100000,\"36??\",'Accounting Data'!J2:J100000,\"69??\"))))))))","v":0},"34."]
["35.","Do not use Function codes 3700-3799","001-799 (excl. 575)",null,"3700-3799","6100-6899",{"$f":"(SUMIFS('Accounting Data'!C2:C100000,'Accounting Data'!I2:I100000,\"37??\",'Accounting Data'!J2:J100000,\"6???\")-SUMIFS('Accounting Data'!C2:C100000,'Accounting Data'!I2:I100000,\"37??\",'Accounting Data'!J2:J100000,\"69??\"))-((SUMIFS('Accounting Data'!C2:C100000,'Accounting Data'!E2:E100000,\"575\",'Accounting Data'!I2:I100000,\"37??\",'Accounting Data'!J2:J100000,\"6???\")-(SUMIFS('Accounting Data'!C2:C100000,'Accounting Data'!E2:E100000,\"575\",'Accounting Data'!I2:I100000,\"37??\",'Accounting Data'!J2:J100000,\"69??\")-(SUMIFS('Accounting Data'!C2:C100000,'Accounting Data'!E2:E100000,\"8??\",'Accounting Data'!I2:I100000,\"37??\",'Accounting Data'!J2:J100000,\"6???\")-(SUMIFS('Accounting Data'!C2:C100000,'Accounting Data'!E2:E100000,\"8??\",'Accounting Data'!I2:I100000,\"37??\",'Accounting Data'!J2:J100000,\"69??\")-(SUMIFS('Accounting Data'!C2:C100000,'Accounting Data'!E2:E100000,\"9??\",'Accounting Data'!I2:I100000,\"37??\",'Accounting Data'!J2:J100000,\"6???\")-(SUMIFS('Accounting Data'!C2:C100000,'Accounting Data'!E2:E100000,\"9??\",'Accounting Data'!I2:I100000,\"37??\",'Accounting Data'!J2:J100000,\"69??\"))))))))","v":0},"35."]
["36.","Do not use Function codes 3800-3899","001-799 (excl. 575)",null,"3800-3899","6100-6899",{"$f":"(SUMIFS('Accounting Data'!C2:C100000,'Accounting Data'!I2:I100000,\"38??\",'Accounting Data'!J2:J100000,\"6???\")-SUMIFS('Accounting Data'!C2:C100000,'Accounting Data'!I2:I100000,\"38??\",'Accounting Data'!J2:J100000,\"69??\"))-((SUMIFS('Accounting Data'!C2:C100000,'Accounting Data'!E2:E100000,\"575\",'Accounting Data'!I2:I100000,\"38??\",'Accounting Data'!J2:J100000,\"6???\")-(SUMIFS('Accounting Data'!C2:C100000,'Accounting Data'!E2:E100000,\"575\",'Accounting Data'!I2:I100000,\"38??\",'Accounting Data'!J2:J100000,\"69??\")-(SUMIFS('Accounting Data'!C2:C100000,'Accounting Data'!E2:E100000,\"8??\",'Accounting Data'!I2:I100000,\"38??\",'Accounting Data'!J2:J100000,\"6???\")-(SUMIFS('Accounting Data'!C2:C100000,'Accounting Data'!E2:E100000,\"8??\",'Accounting Data'!I2:I100000,\"38??\",'Accounting Data'!J2:J100000,\"69??\")-(SUMIFS('Accounting Data'!C2:C100000,'Accounting Data'!E2:E100000,\"9??\",'Accounting Data'!I2:I100000,\"38??\",'Accounting Data'!J2:J100000,\"6???\")-(SUMIFS('Accounting Data'!C2:C100000,'Accounting Data'!E2:E100000,\"9??\",'Accounting Data'!I2:I100000,\"38??\",'Accounting Data'!J2:J100000,\"69??\"))))))))","v":0},"36."]
["37.","Do not use Function codes 3900-3999","001-799 (excl. 575)",null,"3900-3999","6100-6899",{"$f":"(SUMIFS('Accounting Data'!C2:C100000,'Accounting Data'!I2:I100000,\"39??\",'Accounting Data'!J2:J100000,\"6???\")-SUMIFS('Accounting Data'!C2:C100000,'Accounting Data'!I2:I100000,\"39??\",'Accounting Data'!J2:J100000,\"69??\"))-((SUMIFS('Accounting Data'!C2:C100000,'Accounting Data'!E2:E100000,\"575\",'Accounting Data'!I2:I100000,\"39??\",'Accounting Data'!J2:J100000,\"6???\")-(SUMIFS('Accounting Data'!C2:C100000,'Accounting Data'!E2:E100000,\"575\",'Accounting Data'!I2:I100000,\"39??\",'Accounting Data'!J2:J100000,\"69??\")-(SUMIFS('Accounting Data'!C2:C100000,'Accounting Data'!E2:E100000,\"8??\",'Accounting Data'!I2:I100000,\"39??\",'Accounting Data'!J2:J100000,\"6???\")-(SUMIFS('Accounting Data'!C2:C100000,'Accounting Data'!E2:E100000,\"8??\",'Accounting Data'!I2:I100000,\"39??\",'Accounting Data'!J2:J100000,\"69??\")-(SUMIFS('Accounting Data'!C2:C100000,'Accounting Data'!E2:E100000,\"9??\",'Accounting Data'!I2:I100000,\"39??\",'Accounting Data'!J2:J100000,\"6???\")-(SUMIFS('Accounting Data'!C2:C100000,'Accounting Data'!E2:E100000,\"9??\",'Accounting Data'!I2:I100000,\"39??\",'Accounting Data'!J2:J100000,\"69??\"))))))))","v":0},"37."]
["38.","Function 5000 should only be coded to Object codes 683X, 684X, and 686X.","001-799 (excl. 575)",null,"5000-5999","6100-6829, 6850-6859, \n6870-6999",{"$f":"U82-V82-W82-X82","v":300},"38."]
["39.","Function 6000 should only be coded to Object codes 6900-6999.","001-799 (excl. 575)",null,"6000-6999","6100-6899",{"$f":"((SUMIFS('Accounting Data'!C2:C100000,'Accounting Data'!I2:I100000,\"6???\",'Accounting Data'!J2:J100000,\"6???\")-SUMIFS('Accounting Data'!C2:C100000,'Accounting Data'!I2:I100000,\"6???\",'Accounting Data'!J2:J100000,\"69??\"))-((SUMIFS('Accounting Data'!C2:C100000,'Accounting Data'!E2:E100000,\"575\",'Accounting Data'!I2:I100000,\"6???\",'Accounting Data'!J2:J100000,\"6???\")-(SUMIFS('Accounting Data'!C2:C100000,'Accounting Data'!E2:E100000,\"575\",'Accounting Data'!I2:I100000,\"6???\",'Accounting Data'!J2:J100000,\"69??\"))-((SUMIFS('Accounting Data'!C2:C100000,'Accounting Data'!E2:E100000,\"8??\",'Accounting Data'!I2:I100000,\"6???\",'Accounting Data'!J2:J100000,\"6???\")-(SUMIFS('Accounting Data'!C2:C100000,'Accounting Data'!E2:E100000,\"8??\",'Accounting Data'!I2:I100000,\"6???\",'Accounting Data'!J2:J100000,\"69??\"))-((SUMIFS('Accounting Data'!C2:C100000,'Accounting Data'!E2:E100000,\"9??\",'Accounting Data'!I2:I100000,\"6???\",'Accounting Data'!J2:J100000,\"6???\")-(SUMIFS('Accounting Data'!C2:C100000,'Accounting Data'!E2:E100000,\"9??\",'Accounting Data'!I2:I100000,\"6???\",'Accounting Data'!J2:J100000,\"69??\")))))))))","v":0},"39."]
["40.","Do not use Function codes 7000-7999","001-799 (excl. 575)",null,"7000-7999","6100-6899",{"$f":"(SUMIFS('Accounting Data'!C2:C100000,'Accounting Data'!I2:I100000,\"7???\",'Accounting Data'!J2:J100000,\"6???\")-SUMIFS('Accounting Data'!C2:C100000,'Accounting Data'!I2:I100000,\"7???\",'Accounting Data'!J2:J100000,\"69??\"))-((SUMIFS('Accounting Data'!C2:C100000,'Accounting Data'!E2:E100000,\"575\",'Accounting Data'!I2:I100000,\"7???\",'Accounting Data'!J2:J100000,\"6???\")-(SUMIFS('Accounting Data'!C2:C100000,'Accounting Data'!E2:E100000,\"575\",'Accounting Data'!I2:I100000,\"7???\",'Accounting Data'!J2:J100000,\"69??\")-(SUMIFS('Accounting Data'!C2:C100000,'Accounting Data'!E2:E100000,\"8??\",'Accounting Data'!I2:I100000,\"7???\",'Accounting Data'!J2:J100000,\"6???\")-(SUMIFS('Accounting Data'!C2:C100000,'Accounting Data'!E2:E100000,\"8??\",'Accounting Data'!I2:I100000,\"7???\",'Accounting Data'!J2:J100000,\"69??\")-(SUMIFS('Accounting Data'!C2:C100000,'Accounting Data'!E2:E100000,\"9??\",'Accounting Data'!I2:I100000,\"7???\",'Accounting Data'!J2:J100000,\"6???\")-(SUMIFS('Accounting Data'!C2:C100000,'Accounting Data'!E2:E100000,\"9??\",'Accounting Data'!I2:I100000,\"7???\",'Accounting Data'!J2:J100000,\"69??\"))))))))","v":0},"40."]
["41.","Do not use Function codes 8000-8999","001-799 (excl. 575)",null,"8000-8999","6100-6899",{"$f":"(SUMIFS('Accounting Data'!C2:C100000,'Accounting Data'!I2:I100000,\"8???\",'Accounting Data'!J2:J100000,\"6???\")-SUMIFS('Accounting Data'!C2:C100000,'Accounting Data'!I2:I100000,\"8???\",'Accounting Data'!J2:J100000,\"69??\"))-((SUMIFS('Accounting Data'!C2:C100000,'Accounting Data'!E2:E100000,\"575\",'Accounting Data'!I2:I100000,\"8???\",'Accounting Data'!J2:J100000,\"6???\")-(SUMIFS('Accounting Data'!C2:C100000,'Accounting Data'!E2:E100000,\"575\",'Accounting Data'!I2:I100000,\"8???\",'Accounting Data'!J2:J100000,\"69??\")-(SUMIFS('Accounting Data'!C2:C100000,'Accounting Data'!E2:E100000,\"8??\",'Accounting Data'!I2:I100000,\"8???\",'Accounting Data'!J2:J100000,\"6???\")-(SUMIFS('Accounting Data'!C2:C100000,'Accounting Data'!E2:E100000,\"8??\",'Accounting Data'!I2:I100000,\"8???\",'Accounting Data'!J2:J100000,\"69??\")-(SUMIFS('Accounting Data'!C2:C100000,'Accounting Data'!E2:E100000,\"9??\",'Accounting Data'!I2:I100000,\"8???\",'Accounting Data'!J2:J100000,\"6???\")-(SUMIFS('Accounting Data'!C2:C100000,'Accounting Data'!E2:E100000,\"9??\",'Accounting Data'!I2:I100000,\"8???\",'Accounting Data'!J2:J100000,\"69??\"))))))))","v":0},"41."]
["42.","Do not use Function codes 9000-9999","001-799 (excl. 575)",null,"9000-9999","6100-6899",{"$f":"(SUMIFS('Accounting Data'!C2:C100000,'Accounting Data'!I2:I100000,\"9???\",'Accounting Data'!J2:J100000,\"6???\")-SUMIFS('Accounting Data'!C2:C100000,'Accounting Data'!I2:I100000,\"9???\",'Accounting Data'!J2:J100000,\"69??\"))-((SUMIFS('Accounting Data'!C2:C100000,'Accounting Data'!E2:E100000,\"575\",'Accounting Data'!I2:I100000,\"9???\",'Accounting Data'!J2:J100000,\"6???\")-(SUMIFS('Accounting Data'!C2:C100000,'Accounting Data'!E2:E100000,\"575\",'Accounting Data'!I2:I100000,\"9???\",'Accounting Data'!J2:J100000,\"69??\")-(SUMIFS('Accounting Data'!C2:C100000,'Accounting Data'!E2:E100000,\"8??\",'Accounting Data'!I2:I100000,\"9???\",'Accounting Data'!J2:J100000,\"6???\")-(SUMIFS('Accounting Data'!C2:C100000,'Accounting Data'!E2:E100000,\"8??\",'Accounting Data'!I2:I100000,\"9???\",'Accounting Data'!J2:J100000,\"69??\")-(SUMIFS('Accounting Data'!C2:C100000,'Accounting Data'!E2:E100000,\"9??\",'Accounting Data'!I2:I100000,\"9???\",'Accounting Data'!J2:J100000,\"6???\")-(SUMIFS('Accounting Data'!C2:C100000,'Accounting Data'!E2:E100000,\"9??\",'Accounting Data'!I2:I100000,\"9???\",'Accounting Data'!J2:J100000,\"69??\"))))))))","v":0},"42.",null,null,null,null,null,null,null,null,null,null,null,null,{"$f":"((SUMIFS('Accounting Data'!$C$2:$C$100000,'Accounting Data'!$I$2:$I$100000,\"5???\",'Accounting Data'!$J$2:$J$100000,\"6???\")-SUMIFS('Accounting Data'!$C$2:$C$100000,'Accounting Data'!$I$2:$I$100000,\"5???\",'Accounting Data'!$J$2:$J$100000,\"683?\")-SUMIFS('Accounting Data'!$C$2:$C$100000,'Accounting Data'!$I$2:$I$100000,\"5???\",'Accounting Data'!$J$2:$J$100000,\"684?\")-SUMIFS('Accounting Data'!$C$2:$C$100000,'Accounting Data'!$I$2:$I$100000,\"5???\",'Accounting Data'!$J$2:$J$100000,\"686?\")))","v":300},{"$f":"((SUMIFS('Accounting Data'!$C$2:$C$100000,'Accounting Data'!$E$2:$E$100000,\"575\",'Accounting Data'!$I$2:$I$100000,\"5???\",'Accounting Data'!$J$2:$J$100000,\"6???\")-(SUMIFS('Accounting Data'!$C$2:$C$100000,'Accounting Data'!$E$2:$E$100000,\"575\",'Accounting Data'!$I$2:$I$100000,\"5???\",'Accounting Data'!$J$2:$J$100000,\"683?\")-(SUMIFS('Accounting Data'!$C$2:$C$100000,'Accounting Data'!$E$2:$E$100000,\"575\",'Accounting Data'!$I$2:$I$100000,\"5???\",'Accounting Data'!$J$2:$J$100000,\"684?\")-(SUMIFS('Accounting Data'!$C$2:$C$100000,'Accounting Data'!$E$2:$E$100000,\"575\",'Accounting Data'!$I$2:$I$100000,\"5???\",'Accounting Data'!$J$2:$J$100000,\"686?\"))))))","v":0},{"$f":"((SUMIFS('Accounting Data'!$C$2:$C$100000,'Accounting Data'!$E$2:$E$100000,\"8??\",'Accounting Data'!$I$2:$I$100000,\"5???\",'Accounting Data'!$J$2:$J$100000,\"6???\")-(SUMIFS('Accounting Data'!$C$2:$C$100000,'Accounting Data'!$E$2:$E$100000,\"8??\",'Accounting Data'!$I$2:$I$100000,\"5???\",'Accounting Data'!$J$2:$J$100000,\"683?\")-(SUMIFS('Accounting Data'!$C$2:$C$100000,'Accounting Data'!$E$2:$E$100000,\"8??\",'Accounting Data'!$I$2:$I$100000,\"5???\",'Accounting Data'!$J$2:$J$100000,\"684?\")-(SUMIFS('Accounting Data'!$C$2:$C$100000,'Accounting Data'!$E$2:$E$100000,\"8??\",'Accounting Data'!$I$2:$I$100000,\"5???\",'Accounting Data'!$J$2:$J$100000,\"686?\"))))))","v":0},{"$f":"((SUMIFS('Accounting Data'!$C$2:$C$100000,'Accounting Data'!$E$2:$E$100000,\"9??\",'Accounting Data'!$I$2:$I$100000,\"5???\",'Accounting Data'!$J$2:$J$100000,\"6???\")-(SUMIFS('Accounting Data'!$C$2:$C$100000,'Accounting Data'!$E$2:$E$100000,\"9??\",'Accounting Data'!$I$2:$I$100000,\"5???\",'Accounting Data'!$J$2:$J$100000,\"683?\")-(SUMIFS('Accounting Data'!$C$2:$C$100000,'Accounting Data'!$E$2:$E$100000,\"9??\",'Accounting Data'!$I$2:$I$100000,\"5???\",'Accounting Data'!$J$2:$J$100000,\"684?\")-(SUMIFS('Accounting Data'!$C$2:$C$100000,'Accounting Data'!$E$2:$E$100000,\"9??\",'Accounting Data'!$I$2:$I$100000,\"5???\",'Accounting Data'!$J$2:$J$100000,\"686?\"))))))","v":0}]
[]
["43.","Do not use Object codes 0000-0099","001-799 (excl. 575)",null,null,"0000-0099",{"$f":"SUMIFS('Accounting Data'!C2:C100000,'Accounting Data'!J2:J100000,\"00??\")-SUMIFS('Accounting Data'!C2:C100000,'Accounting Data'!E2:E100000,\"575\",'Accounting Data'!J2:J100000,\"00??\")-SUMIFS('Accounting Data'!C2:C100000,'Accounting Data'!E2:E100000,\"8??\",'Accounting Data'!J2:J100000,\"00??\")-SUMIFS('Accounting Data'!C2:C100000,'Accounting Data'!E2:E100000,\"9??\",'Accounting Data'!J2:J100000,\"00??\")","v":0},"43."]
["44.","Do not use Object codes 6000-6099","001-799 (excl. 575)",null,null,"6000-6099",{"$f":"SUMIFS('Accounting Data'!C2:C100000,'Accounting Data'!J2:J100000,\"60??\")-SUMIFS('Accounting Data'!C2:C100000,'Accounting Data'!E2:E100000,\"575\",'Accounting Data'!J2:J100000,\"60??\")-SUMIFS('Accounting Data'!C2:C100000,'Accounting Data'!E2:E100000,\"8??\",'Accounting Data'!J2:J100000,\"60??\")-SUMIFS('Accounting Data'!C2:C100000,'Accounting Data'!E2:E100000,\"9??\",'Accounting Data'!J2:J100000,\"60??\")","v":0},"44."]
["45.","Do not use Object codes 6800-6809","001-799 (excl. 575)",null,null,"6800-6809",{"$f":"SUMIFS('Accounting Data'!C2:C100000,'Accounting Data'!J2:J100000,\"680?\")-SUMIFS('Accounting Data'!C2:C100000,'Accounting Data'!E2:E100000,\"575\",'Accounting Data'!J2:J100000,\"680?\")-SUMIFS('Accounting Data'!C2:C100000,'Accounting Data'!E2:E100000,\"8??\",'Accounting Data'!J2:J100000,\"680?\")-SUMIFS('Accounting Data'!C2:C100000,'Accounting Data'!E2:E100000,\"9??\",'Accounting Data'!J2:J100000,\"680?\")","v":0},"45."]
["46.","Object 6820 should only be coded to Function 2300","001-799 (excl. 575)",null,"1000-2299, 2400-6999","6820-6829",{"$f":"SUMIFS('Accounting Data'!C2:C100000,'Accounting Data'!J2:J100000,\"682?\")-SUMIFS('Accounting Data'!C2:C100000,'Accounting Data'!E2:E100000,\"575\",'Accounting Data'!J2:J100000,\"682?\")-SUMIFS('Accounting Data'!C2:C100000,'Accounting Data'!E2:E100000,\"8??\",'Accounting Data'!J2:J100000,\"682?\")-SUMIFS('Accounting Data'!C2:C100000,'Accounting Data'!E2:E100000,\"9??\",'Accounting Data'!J2:J100000,\"682?\")-SUMIFS('Accounting Data'!C2:C100000,'Accounting Data'!I2:I100000,\"23??\",'Accounting Data'!J2:J100000,\"682?\")+SUMIFS('Accounting Data'!C2:C100000,'Accounting Data'!E2:E100000,\"575\",'Accounting Data'!I2:I100000,\"23??\",'Accounting Data'!J2:J100000,\"682?\")+SUMIFS('Accounting Data'!C2:C100000,'Accounting Data'!E2:E100000,\"8??\",'Accounting Data'!I2:I100000,\"23??\",'Accounting Data'!J2:J100000,\"682?\")+SUMIFS('Accounting Data'!C2:C100000,'Accounting Data'!E2:E100000,\"9??\",'Accounting Data'!I2:I100000,\"23??\",'Accounting Data'!J2:J100000,\"682?\")","v":0},"46."]
["47.","Expenditures coded to 6830 and 6834-39 should be coded to 6831, 6832, or 6833","001-799 (excl. 575)",null,null,"6830, 6834-39",{"$f":"SUMIFS('Accounting Data'!C2:C100000,'Accounting Data'!J2:J100000,\"683?\")-SUMIFS('Accounting Data'!C2:C100000,'Accounting Data'!J2:J100000,\"6831\")-SUMIFS('Accounting Data'!C2:C100000,'Accounting Data'!J2:J100000,\"6832\")-SUMIFS('Accounting Data'!C2:C100000,'Accounting Data'!J2:J100000,\"6833\")-SUMIFS('Accounting Data'!C2:C100000,'Accounting Data'!E2:E100000,\"575\",'Accounting Data'!J2:J100000,\"683?\")-SUMIFS('Accounting Data'!C2:C100000,'Accounting Data'!E2:E100000,\"8??\",'Accounting Data'!J2:J100000,\"683?\")-SUMIFS('Accounting Data'!C2:C100000,'Accounting Data'!E2:E100000,\"9??\",'Accounting Data'!J2:J100000,\"683?\")+SUMIFS('Accounting Data'!C2:C100000,'Accounting Data'!E2:E100000,\"575\",'Accounting Data'!J2:J100000,\"6831\")+SUMIFS('Accounting Data'!C2:C100000,'Accounting Data'!E2:E100000,\"8??\",'Accounting Data'!J2:J100000,\"6831\")+SUMIFS('Accounting Data'!C2:C100000,'Accounting Data'!E2:E100000,\"9??\",'Accounting Data'!J2:J100000,\"6831\")+SUMIFS('Accounting Data'!C2:C100000,'Accounting Data'!E2:E100000,\"575\",'Accounting Data'!J2:J100000,\"6832\")+SUMIFS('Accounting Data'!C2:C100000,'Accounting Data'!E2:E100000,\"8??\",'Accounting Data'!J2:J100000,\"6832\")+SUMIFS('Accounting Data'!C2:C100000,'Accounting Data'!E2:E100000,\"9??\",'Accounting Data'!J2:J100000,\"6832\")+SUMIFS('Accounting Data'!C2:C100000,'Accounting Data'!E2:E100000,\"575\",'Accounting Data'!J2:J100000,\"6833\")+SUMIFS('Accounting Data'!C2:C100000,'Accounting Data'!E2:E100000,\"8??\",'Accounting Data'!J2:J100000,\"6833\")+SUMIFS('Accounting Data'!C2:C100000,'Accounting Data'!E2:E100000,\"9??\",'Accounting Data'!J2:J100000,\"6833\")","v":0},"47."]
["48.","Object 6831 should only be coded to Function 5000","001-799 (excl. 575)",null,"1000-4999, 6000-6999","6831",{"$f":"SUMIFS('Accounting Data'!C2:C100000,'Accounting Data'!J2:J100000,\"6831\")-SUMIFS('Accounting Data'!C2:C100000,'Accounting Data'!E2:E100000,\"575\",'Accounting Data'!J2:J100000,\"6831\")-SUMIFS('Accounting Data'!C2:C100000,'Accounting Data'!E2:E100000,\"8??\",'Accounting Data'!J2:J100000,\"6831\")-SUMIFS('Accounting Data'!C2:C100000,'Accounting Data'!E2:E100000,\"9??\",'Accounting Data'!J2:J100000,\"6831\")-SUMIFS('Accounting Data'!C2:C100000,'Accounting Data'!I2:I100000,\"5???\",'Accounting Data'!J2:J100000,\"6831\")+SUMIFS('Accounting Data'!C2:C100000,'Accounting Data'!E2:E100000,\"575\",'Accounting Data'!I2:I100000,\"5???\",'Accounting Data'!J2:J100000,\"6831\")+SUMIFS('Accounting Data'!C2:C100000,'Accounting Data'!E2:E100000,\"8??\",'Accounting Data'!I2:I100000,\"5???\",'Accounting Data'!J2:J100000,\"6831\")+SUMIFS('Accounting Data'!C2:C100000,'Accounting Data'!E2:E100000,\"9??\",'Accounting Data'!I2:I100000,\"5???\",'Accounting Data'!J2:J100000,\"6831\")","v":0},"48."]
["49.","Object 6832 should only be coded to Function 5000","001-799 (excl. 575)",null,"1000-4999, 6000-6999","6832",{"$f":"SUMIFS('Accounting Data'!C2:C100000,'Accounting Data'!J2:J100000,\"6832\")-SUMIFS('Accounting Data'!C2:C100000,'Accounting Data'!E2:E100000,\"575\",'Accounting Data'!J2:J100000,\"6832\")-SUMIFS('Accounting Data'!C2:C100000,'Accounting Data'!E2:E100000,\"8??\",'Accounting Data'!J2:J100000,\"6832\")-SUMIFS('Accounting Data'!C2:C100000,'Accounting Data'!E2:E100000,\"9??\",'Accounting Data'!J2:J100000,\"6832\")-SUMIFS('Accounting Data'!C2:C100000,'Accounting Data'!I2:I100000,\"5???\",'Accounting Data'!J2:J100000,\"6832\")+SUMIFS('Accounting Data'!C2:C100000,'Accounting Data'!E2:E100000,\"575\",'Accounting Data'!I2:I100000,\"5???\",'Accounting Data'!J2:J100000,\"6832\")+SUMIFS('Accounting Data'!C2:C100000,'Accounting Data'!E2:E100000,\"8??\",'Accounting Data'!I2:I100000,\"5???\",'Accounting Data'!J2:J100000,\"6832\")+SUMIFS('Accounting Data'!C2:C100000,'Accounting Data'!E2:E100000,\"9??\",'Accounting Data'!I2:I100000,\"5???\",'Accounting Data'!J2:J100000,\"6832\")","v":0},"49."]
["50.","Object 6833 should only be coded to Function 5000","001-799 (excl. 575)",null,"1000-4999, 6000-6999","6833",{"$f":"SUMIFS('Accounting Data'!C2:C100000,'Accounting Data'!J2:J100000,\"6833\")-SUMIFS('Accounting Data'!C2:C100000,'Accounting Data'!E2:E100000,\"575\",'Accounting Data'!J2:J100000,\"6833\")-SUMIFS('Accounting Data'!C2:C100000,'Accounting Data'!E2:E100000,\"8??\",'Accounting Data'!J2:J100000,\"6833\")-SUMIFS('Accounting Data'!C2:C100000,'Accounting Data'!E2:E100000,\"9??\",'Accounting Data'!J2:J100000,\"6833\")-SUMIFS('Accounting Data'!C2:C100000,'Accounting Data'!I2:I100000,\"5???\",'Accounting Data'!J2:J100000,\"6833\")+SUMIFS('Accounting Data'!C2:C100000,'Accounting Data'!E2:E100000,\"575\",'Accounting Data'!I2:I100000,\"5???\",'Accounting Data'!J2:J100000,\"6833\")+SUMIFS('Accounting Data'!C2:C100000,'Accounting Data'!E2:E100000,\"8??\",'Accounting Data'!I2:I100000,\"5???\",'Accounting Data'!J2:J100000,\"6833\")+SUMIFS('Accounting Data'!C2:C100000,'Accounting Data'!E2:E100000,\"9??\",'Accounting Data'!I2:I100000,\"5???\",'Accounting Data'!J2:J100000,\"6833\")","v":0},"50."]
["51.","Expenditures coded to 6840 and 6844-49 should be coded to 6841, 6842, or 6843","001-799 (excl. 575)",null,null,"6840, 6844-49",{"$f":"SUMIFS('Accounting Data'!C2:C100000,'Accounting Data'!J2:J100000,\"684?\")-SUMIFS('Accounting Data'!C2:C100000,'Accounting Data'!J2:J100000,\"6841\")-SUMIFS('Accounting Data'!C2:C100000,'Accounting Data'!J2:J100000,\"6842\")-SUMIFS('Accounting Data'!C2:C100000,'Accounting Data'!J2:J100000,\"6843\")-SUMIFS('Accounting Data'!C2:C100000,'Accounting Data'!E2:E100000,\"575\",'Accounting Data'!J2:J100000,\"684?\")-SUMIFS('Accounting Data'!C2:C100000,'Accounting Data'!E2:E100000,\"8??\",'Accounting Data'!J2:J100000,\"684?\")-SUMIFS('Accounting Data'!C2:C100000,'Accounting Data'!E2:E100000,\"9??\",'Accounting Data'!J2:J100000,\"684?\")+SUMIFS('Accounting Data'!C2:C100000,'Accounting Data'!E2:E100000,\"575\",'Accounting Data'!J2:J100000,\"6841\")+SUMIFS('Accounting Data'!C2:C100000,'Accounting Data'!E2:E100000,\"8??\",'Accounting Data'!J2:J100000,\"6841\")+SUMIFS('Accounting Data'!C2:C100000,'Accounting Data'!E2:E100000,\"9??\",'Accounting Data'!J2:J100000,\"6841\")+SUMIFS('Accounting Data'!C2:C100000,'Accounting Data'!E2:E100000,\"575\",'Accounting Data'!J2:J100000,\"6842\")+SUMIFS('Accounting Data'!C2:C100000,'Accounting Data'!E2:E100000,\"8??\",'Accounting Data'!J2:J100000,\"6842\")+SUMIFS('Accounting Data'!C2:C100000,'Accounting Data'!E2:E100000,\"9??\",'Accounting Data'!J2:J100000,\"6842\")+SUMIFS('Accounting Data'!C2:C100000,'Accounting Data'!E2:E100000,\"575\",'Accounting Data'!J2:J100000,\"6843\")+SUMIFS('Accounting Data'!C2:C100000,'Accounting Data'!E2:E100000,\"8??\",'Accounting Data'!J2:J100000,\"6843\")+SUMIFS('Accounting Data'!C2:C100000,'Accounting Data'!E2:E100000,\"9??\",'Accounting Data'!J2:J100000,\"6843\")","v":0},"51."]
["52.","Object 6841 should only be coded to Function 5000","001-799 (excl. 575)",null,"1000-4999, 6000-6999","6841",{"$f":"SUMIFS('Accounting Data'!C2:C100000,'Accounting Data'!J2:J100000,\"6841\")-SUMIFS('Accounting Data'!C2:C100000,'Accounting Data'!E2:E100000,\"575\",'Accounting Data'!J2:J100000,\"6841\")-SUMIFS('Accounting Data'!C2:C100000,'Accounting Data'!E2:E100000,\"8??\",'Accounting Data'!J2:J100000,\"6841\")-SUMIFS('Accounting Data'!C2:C100000,'Accounting Data'!E2:E100000,\"9??\",'Accounting Data'!J2:J100000,\"6841\")-SUMIFS('Accounting Data'!C2:C100000,'Accounting Data'!I2:I100000,\"5???\",'Accounting Data'!J2:J100000,\"6841\")+SUMIFS('Accounting Data'!C2:C100000,'Accounting Data'!E2:E100000,\"575\",'Accounting Data'!I2:I100000,\"5???\",'Accounting Data'!J2:J100000,\"6841\")+SUMIFS('Accounting Data'!C2:C100000,'Accounting Data'!E2:E100000,\"8??\",'Accounting Data'!I2:I100000,\"5???\",'Accounting Data'!J2:J100000,\"6841\")+SUMIFS('Accounting Data'!C2:C100000,'Accounting Data'!E2:E100000,\"9??\",'Accounting Data'!I2:I100000,\"5???\",'Accounting Data'!J2:J100000,\"6841\")","v":0},"52."]
["53.","Object 6842 should only be coded to Function 5000","001-799 (excl. 575)",null,"1000-4999, 6000-6999","6842",{"$f":"SUMIFS('Accounting Data'!C2:C100000,'Accounting Data'!J2:J100000,\"6842\")-SUMIFS('Accounting Data'!C2:C100000,'Accounting Data'!E2:E100000,\"575\",'Accounting Data'!J2:J100000,\"6842\")-SUMIFS('Accounting Data'!C2:C100000,'Accounting Data'!E2:E100000,\"8??\",'Accounting Data'!J2:J100000,\"6842\")-SUMIFS('Accounting Data'!C2:C100000,'Accounting Data'!E2:E100000,\"9??\",'Accounting Data'!J2:J100000,\"6842\")-SUMIFS('Accounting Data'!C2:C100000,'Accounting Data'!I2:I100000,\"5???\",'Accounting Data'!J2:J100000,\"6842\")+SUMIFS('Accounting Data'!C2:C100000,'Accounting Data'!E2:E100000,\"575\",'Accounting Data'!I2:I100000,\"5???\",'Accounting Data'!J2:J100000,\"6842\")+SUMIFS('Accounting Data'!C2:C100000,'Accounting Data'!E2:E100000,\"8??\",'Accounting Data'!I2:I100000,\"5???\",'Accounting Data'!J2:J100000,\"6842\")+SUMIFS('Accounting Data'!C2:C100000,'Accounting Data'!E2:E100000,\"9??\",'Accounting Data'!I2:I100000,\"5???\",'Accounting Data'!J2:J100000,\"6842\")","v":0},"53."]
["54.","Object 6843 should only be coded to Function 5000","001-799 (excl. 575)",null,"1000-4999, 6000-6999","6843",{"$f":"SUMIFS('Accounting Data'!C2:C100000,'Accounting Data'!J2:J100000,\"6843\")-SUMIFS('Accounting Data'!C2:C100000,'Accounting Data'!E2:E100000,\"575\",'Accounting Data'!J2:J100000,\"6843\")-SUMIFS('Accounting Data'!C2:C100000,'Accounting Data'!E2:E100000,\"8??\",'Accounting Data'!J2:J100000,\"6843\")-SUMIFS('Accounting Data'!C2:C100000,'Accounting Data'!E2:E100000,\"9??\",'Accounting Data'!J2:J100000,\"6843\")-SUMIFS('Accounting Data'!C2:C100000,'Accounting Data'!I2:I100000,\"5???\",'Accounting Data'!J2:J100000,\"6843\")+SUMIFS('Accounting Data'!C2:C100000,'Accounting Data'!E2:E100000,\"575\",'Accounting Data'!I2:I100000,\"5???\",'Accounting Data'!J2:J100000,\"6843\")+SUMIFS('Accounting Data'!C2:C100000,'Accounting Data'!E2:E100000,\"8??\",'Accounting Data'!I2:I100000,\"5???\",'Accounting Data'!J2:J100000,\"6843\")+SUMIFS('Accounting Data'!C2:C100000,'Accounting Data'!E2:E100000,\"9??\",'Accounting Data'!I2:I100000,\"5???\",'Accounting Data'!J2:J100000,\"6843\")","v":0},"54."]
["55.","Object 6850 should be coded to Function 2500","001-799 (excl. 575)",null,"1000-2499, 2600-6999","6850-6859",{"$f":"SUMIFS('Accounting Data'!C2:C100000,'Accounting Data'!J2:J100000,\"685?\")-SUMIFS('Accounting Data'!C2:C100000,'Accounting Data'!E2:E100000,\"575\",'Accounting Data'!J2:J100000,\"685?\")-SUMIFS('Accounting Data'!C2:C100000,'Accounting Data'!E2:E100000,\"8??\",'Accounting Data'!J2:J100000,\"685?\")-SUMIFS('Accounting Data'!C2:C100000,'Accounting Data'!E2:E100000,\"9??\",'Accounting Data'!J2:J100000,\"685?\")-SUMIFS('Accounting Data'!C2:C100000,'Accounting Data'!I2:I100000,\"25??\",'Accounting Data'!J2:J100000,\"685?\")+SUMIFS('Accounting Data'!C2:C100000,'Accounting Data'!E2:E100000,\"575\",'Accounting Data'!I2:I100000,\"25??\",'Accounting Data'!J2:J100000,\"685?\")+SUMIFS('Accounting Data'!C2:C100000,'Accounting Data'!E2:E100000,\"8??\",'Accounting Data'!I2:I100000,\"25??\",'Accounting Data'!J2:J100000,\"685?\")+SUMIFS('Accounting Data'!C2:C100000,'Accounting Data'!E2:E100000,\"9??\",'Accounting Data'!I2:I100000,\"25??\",'Accounting Data'!J2:J100000,\"685?\")","v":0},"55."]
["56.","Do not use Object codes 7000-7999","001-799 (excl. 575)",null,null,"7000-7999",{"$f":"SUMIFS('Accounting Data'!C2:C100000,'Accounting Data'!J2:J100000,\"7???\")-SUMIFS('Accounting Data'!C2:C100000,'Accounting Data'!E2:E100000,\"575\",'Accounting Data'!J2:J100000,\"7???\")-SUMIFS('Accounting Data'!C2:C100000,'Accounting Data'!E2:E100000,\"8??\",'Accounting Data'!J2:J100000,\"7???\")-SUMIFS('Accounting Data'!C2:C100000,'Accounting Data'!E2:E100000,\"9??\",'Accounting Data'!J2:J100000,\"7???\")","v":0},"56."]
["57.","Do not use Object codes 8000-8999","001-799 (excl. 575)",null,null,"8000-8999",{"$f":"SUMIFS('Accounting Data'!C2:C100000,'Accounting Data'!J2:J100000,\"8???\")-SUMIFS('Accounting Data'!C2:C100000,'Accounting Data'!E2:E100000,\"575\",'Accounting Data'!J2:J100000,\"8???\")-SUMIFS('Accounting Data'!C2:C100000,'Accounting Data'!E2:E100000,\"8??\",'Accounting Data'!J2:J100000,\"8???\")-SUMIFS('Accounting Data'!C2:C100000,'Accounting Data'!E2:E100000,\"9??\",'Accounting Data'!J2:J100000,\"8???\")","v":0},"57."]
["58.","Do not use Object codes 9000-9999","001-799 (excl. 575)",null,null,"9000-9999",{"$f":"SUMIFS('Accounting Data'!C2:C100000,'Accounting Data'!J2:J100000,\"9???\")-SUMIFS('Accounting Data'!C2:C100000,'Accounting Data'!E2:E100000,\"575\",'Accounting Data'!J2:J100000,\"9???\")-SUMIFS('Accounting Data'!C2:C100000,'Accounting Data'!E2:E100000,\"8??\",'Accounting Data'!J2:J100000,\"9???\")-SUMIFS('Accounting Data'!C2:C100000,'Accounting Data'!E2:E100000,\"9??\",'Accounting Data'!J2:J100000,\"9???\")","v":0},"58."]

{"sheet":"School listing","index":15,"n_rows":99,"n_cols":12,"rows_kept":99,"cut":false,"hidden":false,"merged":[[2,2,2,6]]}
["District Name",{"$f":"CoverDistrictName","v":"Liberty Elementary School District No. 25"}]
["CTDS Number",{"$f":"Cover!Q1","v":"070425000"}]
["County",{"$f":"County","v":"Maricopa"},"Districts must complete all required detail for each school site, including districts with only 1 school."]
[]
[]
["School #","School Name","School CTDS","Unweighted Attending Student Count","Unit Code(s)","Primary Unit Code","Comments"]
["Districtwide","Districtwide","070425000",null,"500, 501, 502, 503, 504, 507, 508, 509, 510",500,null,null,null,null,null,"School Listing–Districtwide"]
["Private Schools",null,null,null,null,null,null,null,null,null,null,"School Listing–Private Schools"]
["CTED (Member Districts)",null,null,null,null,null,null,null,null,null,null,"School Listing–CTED (Member Districts)"]
["School 1","Liberty Elementary School","070425101",311.505,101,101,null,null,null,null,null,"School Listing–School 1"]
["School 2","Estrella Mountain Elementary School","070425102",508.94600000000003,102,102,null,null,null,null,null,"School Listing–School 2"]
["School 3","Rainbow Valley Elementary School","070425103",574.23900000000003,103,103,null,null,null,null,null,"School Listing–School 3"]
["School 4","Westar Elementary School","070425104",743.16600000000005,104,104,null,null,null,null,null,"School Listing–School 4"]
["School 5","Freedom Elementary School","070425105",604.37900000000002,105,105,null,null,null,null,null,"School Listing–School 5"]
["School 6","Las Brisas Academy","070425106",625.30899999999997,106,106,null,null,null,null,null,"School Listing–School 6"]
["School 7","Blue Horizons Elementary School","070425107",811.33299999999997,107,107,null,null,null,null,null,"School Listing–School 7"]
["School 8",null,null,null,null,null,null,null,null,null,null,"School Listing–School 8"]
["School 9",null,null,null,null,null,null,null,null,null,null,"School Listing–School 9"]
["School 10",null,null,null,null,null,null,null,null,null,null,"School Listing–School 10"]
["School 11",null,null,null,null,null,null,null,null,null,null,"School Listing–School 11"]
["School 12",null,null,null,null,null,null,null,null,null,null,"School Listing–School 12"]
["School 13",null,null,null,null,null,null,null,null,null,null,"School Listing–School 13"]
["School 14",null,null,null,null,null,null,null,null,null,null,"School Listing–School 14"]
["School 15",null,null,null,null,null,null,null,null,null,null,"School Listing–School 15"]
["School 16",null,null,null,null,null,null,null,null,null,null,"School Listing–School 16"]
["School 17",null,null,null,null,null,null,null,null,null,null,"School Listing–School 17"]
["School 18",null,null,null,null,null,null,null,null,null,null,"School Listing–School 18"]
["School 19",null,null,null,null,null,null,null,null,null,null,"School Listing–School 19"]
["School 20",null,null,null,null,null,null,null,null,null,null,"School Listing–School 20"]
["School 21",null,null,null,null,null,null,null,null,null,null,"School Listing–School 21"]
["School 22",null,null,null,null,null,null,null,null,null,null,"School Listing–School 22"]
["School 23",null,null,null,null,null,null,null,null,null,null,"School Listing–School 23"]
["School 24",null,null,null,null,null,null,null,null,null,null,"School Listing–School 24"]
["School 25",null,null,null,null,null,null,null,null,null,null,"School Listing–School 25"]
["School 26",null,null,null,null,null,null,null,null,null,null,"School Listing–School 26"]
["School 27",null,null,null,null,null,null,null,null,null,null,"School Listing–School 27"]
["School 28",null,null,null,null,null,null,null,null,null,null,"School Listing–School 28"]
["School 29",null,null,null,null,null,null,null,null,null,null,"School Listing–School 29"]
["School 30",null,null,null,null,null,null,null,null,null,null,"School Listing–School 30"]
["School 31",null,null,null,null,null,null,null,null,null,null,"School Listing–School 31"]
["School 32",null,null,null,null,null,null,null,null,null,null,"School Listing–School 32"]
["School 33",null,null,null,null,null,null,null,null,null,null,"School Listing–School 33"]
["School 34",null,null,null,null,null,null,null,null,null,null,"School Listing–School 34"]
["School 35",null,null,null,null,null,null,null,null,null,null,"School Listing–School 35"]
["School 36",null,null,null,null,null,null,null,null,null,null,"School Listing–School 36"]
["School 37",null,null,null,null,null,null,null,null,null,null,"School Listing–School 37"]
["School 38",null,null,null,null,null,null,null,null,null,null,"School Listing–School 38"]
["School 39",null,null,null,null,null,null,null,null,null,null,"School Listing–School 39"]
["School 40",null,null,null,null,null,null,null,null,null,null,"School Listing–School 40"]
["School 41",null,null,null,null,null,null,null,null,null,null,"School Listing–School 41"]
["School 42",null,null,null,null,null,null,null,null,null,null,"School Listing–School 42"]
["School 43",null,null,null,null,null,null,null,null,null,null,"School Listing–School 43"]
["School 44",null,null,null,null,null,null,null,null,null,null,"School Listing–School 44"]
["School 45",null,null,null,null,null,null,null,null,null,null,"School Listing–School 45"]
["School 46",null,null,null,null,null,null,null,null,null,null,"School Listing–School 46"]
["School 47",null,null,null,null,null,null,null,null,null,null,"School Listing–School 47"]
["School 48",null,null,null,null,null,null,null,null,null,null,"School Listing–School 48"]
["School 49",null,null,null,null,null,null,null,null,null,null,"School Listing–School 49"]
["School 50",null,null,null,null,null,null,null,null,null,null,"School Listing–School 50"]
["School 51",null,null,null,null,null,null,null,null,null,null,"School Listing–School 51"]
["School 52",null,null,null,null,null,null,null,null,null,null,"School Listing–School 52"]
["School 53",null,null,null,null,null,null,null,null,null,null,"School Listing–School 53"]
["School 54",null,null,null,null,null,null,null,null,null,null,"School Listing–School 54"]
["School 55",null,null,null,null,null,null,null,null,null,null,"School Listing–School 55"]
["School 56",null,null,null,null,null,null,null,null,null,null,"School Listing–School 56"]
["School 57",null,null,null,null,null,null,null,null,null,null,"School Listing–School 57"]
["School 58",null,null,null,null,null,null,null,null,null,null,"School Listing–School 58"]
["School 59",null,null,null,null,null,null,null,null,null,null,"School Listing–School 59"]
["School 60",null,null,null,null,null,null,null,null,null,null,"School Listing–School 60"]
["School 61",null,null,null,null,null,null,null,null,null,null,"School Listing–School 61"]
["School 62",null,null,null,null,null,null,null,null,null,null,"School Listing–School 62"]
["School 63",null,null,null,null,null,null,null,null,null,null,"School Listing–School 63"]
["School 64",null,null,null,null,null,null,null,null,null,null,"School Listing–School 64"]
["School 65",null,null,null,null,null,null,null,null,null,null,"School Listing–School 65"]
["School 66",null,null,null,null,null,null,null,null,null,null,"School Listing–School 66"]
["School 67",null,null,null,null,null,null,null,null,null,null,"School Listing–School 67"]
["School 68",null,null,null,null,null,null,null,null,null,null,"School Listing–School 68"]
["School 69",null,null,null,null,null,null,null,null,null,null,"School Listing–School 69"]
["School 70",null,null,null,null,null,null,null,null,null,null,"School Listing–School 70"]
["School 71",null,null,null,null,null,null,null,null,null,null,"School Listing–School 71"]
["School 72",null,null,null,null,null,null,null,null,null,null,"School Listing–School 72"]
["School 73",null,null,null,null,null,null,null,null,null,null,"School Listing–School 73"]
["School 74",null,null,null,null,null,null,null,null,null,null,"School Listing–School 74"]
["School 75",null,null,null,null,null,null,null,null,null,null,"School Listing–School 75"]
["School 76",null,null,null,null,null,null,null,null,null,null,"School Listing–School 76"]
["School 77",null,null,null,null,null,null,null,null,null,null,"School Listing–School 77"]
["School 78",null,null,null,null,null,null,null,null,null,null,"School Listing–School 78"]
["School 79",null,null,null,null,null,null,null,null,null,null,"School Listing–School 79"]
["School 80",null,null,null,null,null,null,null,null,null,null,"School Listing–School 80"]
["School 81",null,null,null,null,null,null,null,null,null,null,"School Listing–School 81"]
["School 82",null,null,null,null,null,null,null,null,null,null,"School Listing–School 82"]
["School 83",null,null,null,null,null,null,null,null,null,null,"School Listing–School 83"]
["School 84",null,null,null,null,null,null,null,null,null,null,"School Listing–School 84"]
["School 85",null,null,null,null,null,null,null,null,null,null,"School Listing–School 85"]
["School 86",null,null,null,null,null,null,null,null,null,null,"School Listing–School 86"]
["School 87",null,null,null,null,null,null,null,null,null,null,"School Listing–School 87"]
["School 88",null,null,null,null,null,null,null,null,null,null,"School Listing–School 88"]
["School 89",null,null,null,null,null,null,null,null,null,null,"School Listing–School 89"]
["School 90",null,null,null,null,null,null,null,null,null,null,"School Listing–School 90"]

{"sheet":"COA","index":16,"n_rows":1366,"n_cols":3,"rows_kept":1366,"cut":false,"hidden":false,"merged":[]}
["Element Name","Element","Description"]
["FUND","001","MAINTENANCE AND OPERATION"]
["FUND","010","PROPOSITION 301"]
["FUND","011","CLASSROOM SITE - BASE SAL"]
["FUND","012","CLASSROOM SITE - PERFORM"]
["FUND","013","CLASSROOM SITE - OTHER"]
["FUND","020","INSTRUCTIONAL IMPROVEMENT FUND"]
["FUND","021","IIF - TEACHER COMPENSATION"]
["FUND","050","M.C. TOBACCO PREVENTION"]
["FUND","059","NOTUSED - County Grant"]
["FUND","060","NOTUSED - UNDESIGNATED"]
["FUND","071","ELD "]
["FUND","072","COMPENSATORY INSTRUCTION- ELD"]
["FUND","073","Do Not Use SEI REIMBURSEMENT - CONTINUATION"]
["FUND","074","Do Not Use SEI REIMBURSEMENT - COMPLETE"]
["FUND","075","Do Not Use SEI REIMBURSEMENT - 45 PROVISIONAL"]
["FUND","079","NOTUSED - PRIOR YEAR, FNDS 070-078, SEI AND COMP I"]
["FUND","080","Student Success Funding"]
["FUND","099","NOTUSED - ADD"]
["FUND","100","TITLE I - BASIC "]
["FUND","101","TITLE I - BASIC "]
["FUND","102","TITLE I LEA IMPROVEMENT YR 1"]
["FUND","106","ARRA Title I Grant"]
["FUND","107","TITLE I - DISADVANTAGED"]
["FUND","108","NOTUSED - TITLE I - DISADVANTAGED"]
["FUND","109","NOTUSED - PRIOR YR C/O FUND 100-108"]
["FUND","110","NOTUSED - OTHER TITLE I-DISADVANTAG"]
["FUND","111","NOTUSED - TITLE I - OTHER"]
["FUND","112","NOTUSED - TITLE I - OTHER"]
["FUND","113","NOTUSED - TITLE I - OTHER"]
["FUND","114","TITLE I - Sch Imp Warning"]
["FUND","115","TARGETED SCHOOL IMPROVEMENT GRANT"]
["FUND","116","TARGETED SCHOOL IMPROVEMENT GRANT FY22"]
["FUND","117","NOTUSED - TITLE I - OTHER"]
["FUND","118","NOTUSED - TITLE I - OTHER"]
["FUND","119","NOTUSED - PRIOR YR C/O FUND 110-118"]
["FUND","120","READING FIRST SUBGRANT"]
["FUND","129","NOTUSED - PRIOR YR C/O FUND 120-128"]
["FUND","130","TITLE I - MIGRANT "]
["FUND","131","TITLE I - MIGRANT "]
["FUND","139","NOTUSED - PRIOR YR C/O FUND 130-138"]
["FUND","140","TITLE IIA - IMPRVG TCHR QUALITY"]
["FUND","141","TITLE IIA IMPRVG TCHR QLT"]
["FUND","142","ARRA Title II Education Tech Grant"]
["FUND","143","NOTUSED - TITLE IIA IMPRVG TCHR QLT"]
["FUND","144","NOTUSED - TITLE IIA IMPRVG TCHR QLT"]
["FUND","145","NOTUSED - TITLE IIA IMPRVG TCHR QLT"]
["FUND","146","NOTUSED - TITLE IIA IMPRVG TCHR QLT"]
["FUND","147","NOTUSED - TITLE IIA IMPRVG TCHR QLT"]
["FUND","148","NOTUSED - TITLE IIA IMPRVG TCHR QLT"]
["FUND","149","NOTUSED - PRIOR YR C/O FUND 140-148"]
["FUND","150","TITLE IID ENHNCNG ED/TECH"]
["FUND","151","TITLE IID ENHNCNG ED/TECH"]
["FUND","152","TITLE IID ENHNCNG ED THRU TECH"]
["FUND","153","NOTUSED - TITLE IID ENHNCNG ED/TECH"]
["FUND","154","NOTUSED - TITLE IID ENHNCNG ED/TECH"]
["FUND","155","NOTUSED - TITLE IID ENHNCNG ED/TECH"]
["FUND","156","NOTUSED - TITLE IID ENHNCNG ED/TECH"]
["FUND","157","NOTUSED - TITLE IID ENHNCNG ED/TECH"]
["FUND","158","NOTUSED - TITLE IID ENHNCNG ED/TECH"]
["FUND","159","NOTUSED - PRIOR YR C/O FUND 150-158"]
["FUND","160","TITLE IV STUDENT SUPPORT & ENRICHMENT"]
["FUND","161","TITLE IV STUDENT SUPPORT & ENRICH GRANT FY22"]
["FUND","162","NOTUSED - TITLE IV S&DRUG-FREE SCH"]
["FUND","163","NOTUSED - TITLE IV S&DRUG-FREE SCH"]
["FUND","164","NOTUSED - TITLE IV S&DRUG-FREE SCH"]
["FUND","165","NOTUSED - TITLE IV S&DRUG-FREE SCH"]
["FUND","166","NOTUSED - TITLE IV S&DRUG-FREE SCH"]
["FUND","167","NOTUSED - TITLE IV S&DRUG-FREE SCH"]
["FUND","168","NOTUSED - TITLE IV S&DRUG-FREE SCH"]
["FUND","169","NOTUSED - PRIOR YR C/O FUND 160-168 (INCLUDES 21ST"]
["FUND","170","NOTUSED - TITLE V-PROMOTING EQUITY"]
["FUND","171","NOTUSED - TITLE V-PROMOTING EQUITY"]
["FUND","172","NOTUSED - TITLE V-PROMOTING EQUITY"]
["FUND","173","NOTUSED - TITLE V-PROMOTING EQUITY"]
["FUND","174","NOTUSED - TITLE V-PROMOTING EQUITY"]
["FUND","175","NOTUSED - TITLE V-PROMOTING EQUITY"]
["FUND","176","NOTUSED - TITLE V-PROMOTING EQUITY"]
["FUND","177","NOTUSED - TITLE V-PROMOTING EQUITY"]
["FUND","178","NOTUSED - TITLE V-PROMOTING EQUITY"]
["FUND","179","NOTUSED - PRIOR YR C/O FUND 170-178"]
["FUND","180","TITLE V-A INNOVATIVE ED"]
["FUND","181","NOTUSED - TITLE V-A INNOV STRAT/PRG"]
["FUND","182","TITLE V-A INNOV STRAT/PRG"]
["FUND","183","NOTUSED - TITLE V-A INNOV STRAT/PRG"]
["FUND","184","NOTUSED - TITLE V-A INNOV STRAT/PRG"]
["FUND","185","NOTUSED - TITLE V-A INNOV STRAT/PRG"]
["FUND","186","NOTUSED - TITLE V-A INNOV STRAT/PRG"]
["FUND","187","NOTUSED - TITLE V-A INNOV STRAT/PRG"]
["FUND","188","NOTUSED - TITLE V-A INNOV STRAT/PRG"]
["FUND","189","NOTUSED - PRIOR YR C/O FUND 180-188"]
["FUND","190","NOTUSED - TITLE III - BILINGUAL ED"]
["FUND","191","NOTUSED - TITLE III - BILINGUAL ED"]
["FUND","192","NOTUSED - TITLE III - BILINGUAL ED"]
["FUND","193","TITLE III - LEP PROGRAMS "]
["FUND","194","TITLE III - LEP PROGRAMS"]
["FUND","195","NOTUSED - TITLE III LEP PROGRAMS"]
["FUND","196","NOTUSED - TITLE III"]
["FUND","197","NOTUSED - TITLE III"]
["FUND","198","NOTUSED - TITLE III"]
["FUND","199","NOTUSED - PRIOR YR C/O FUND 190-198"]
["FUND","200","NOTUSED - TITLE IX - INDIAN ED"]
["FUND","201","NOTUSED - TITLE IX - INDIAN ED"]
["FUND","202","NOTUSED - TITLE IX - INDIAN ED"]
["FUND","203","NOTUSED - TITLE IX - INDIAN ED"]
["FUND","204","NOTUSED - TITLE IX - INDIAN ED"]
["FUND","205","NOTUSED - TITLE IX - INDIAN ED"]
["FUND","206","NOTUSED - TITLE IX - INDIAN ED"]
["FUND","207","NOTUSED - TITLE IX - INDIAN ED"]
["FUND","208","NOTUSED - TITLE IX - INDIAN ED"]
["FUND","209","NOTUSED - PRIOR YR C/O FUND 200-209"]
["FUND","210","NOTUSED - TITLE X-NATIONAL SIGNIF"]
["FUND","211","NOTUSED - TITLE X-NATIONAL SIGNIF"]
["FUND","212","NOTUSED - TITLE X-NATIONAL SIGNIF"]
["FUND","213","NOTUSED - TITLE X-NATIONAL SIGNIF"]
["FUND","214","NOTUSED - TITLE X-NATIONAL SIGNIF"]
["FUND","215","NOTUSED - TITLE X-NATIONAL SIGNIF"]
["FUND","216","NOTUSED - TITLE X-NATIONAL SIGNIF"]
["FUND","217","NOTUSED - TITLE X-NATIONAL SIGNIF"]
["FUND","218","NOTUSED - TITLE X-NATIONAL SIGNIF"]
["FUND","219","NOTUSED - PRIOR YR C/O FUND 210-218"]
["FUND","220","IDEA-PART B GENERL ENTITL"]
["FUND","221","IDEA-PART B PRESCH ENTITL"]
["FUND","222","ASA Math Academy Yr 2 -Rainbow"]
["FUND","223","IDEA -PART B GENERAL ENTITL"]
["FUND","224","IDEA-PART B PRESCH ENTITL"]
["FUND","225","ARRA IDEA Preschool"]
["FUND","226","ARRA IDEA Grant"]
["FUND","227","ARP IDEA PRESCHOOL"]
["FUND","228","ARP IDEA BASIC"]
["FUND","229","NOTUSED - PRIOR YR C/O FUND 220-228"]
["FUND","230","NOTUSED - JOHNSON OMALLEY/IND ED"]
["FUND","231","NOTUSED - JOHNSON OMALLEY/IND ED"]
["FUND","232","NOTUSED - JOHNSON OMALLEY/IND ED"]
["FUND","233","NOTUSED - JOHNSON OMALLEY/IND ED"]
["FUND","234","NOTUSED - JOHNSON OMALLEY/IND ED"]
["FUND","235","NOTUSED - JOHNSON OMALLEY/IND ED"]
["FUND","236","NOTUSED - JOHNSON OMALLEY/IND ED"]
["FUND","237","NOTUSED - JOHNSON OMALLEY/IND ED"]
["FUND","238","NOTUSED - JOHNSON OMALLEY/IND ED"]
["FUND","239","NOTUSED - PRIOR YR C/O FUND 230-238"]
["FUND","240","NOTUSED - JOB TRAINING PARTNERSHIP"]
["FUND","241","NOTUSED - JTPA"]
["FUND","242","NOTUSED - JOB TRAINING PARTNERSHIP"]
["FUND","243","NOTUSED - JOB TRAINING PARTNERSHIP"]
["FUND","244","NOTUSED - JOB TRAINING PARTNERSHIP"]
["FUND","245","NOTUSED - JOB TRAINING PARTNERSHIP"]
["FUND","246","NOTUSED - JOB TRAINING PARTNERSHIP"]
["FUND","247","NOTUSED - JOB TRAINING PARTNERSHIP"]
["FUND","248","NOTUSED - JOB TRAINING PARTNERSHIP"]
["FUND","249","NOTUSED - PRIRO YR C/O FUND 240-248"]
["FUND","250","NOTUSED - AEA-FED ADULT EDUCATION"]
["FUND","251","NOTUSED - AEA - ADULT EDUCATION"]
["FUND","252","NOTUSED - AEA - ADULT EDUCATION"]
["FUND","253","NOTUSED - AEA - ADULT EDUCATION"]
["FUND","254","NOTUSED - AEA - ADULT EDUCATION"]
["FUND","255","NOTUSED - AEA - ADULT EDUCATION"]
["FUND","256","NOTUSED - AEA - ADULT EDUCATION"]
["FUND","257","NOTUSED - AEA - ADULT EDUCATION"]
["FUND","258","NOTUSED - AEA - ADULT EDUCATION"]
["FUND","259","NOTUSED - PRIOR YR C/O FUND 250-258"]
["FUND","260","NOTUSED - FED VOC ED-BASIC GRANT"]
["FUND","261","NOTUSED - FED VOC ED-BASIC"]
["FUND","262","NOTUSED - VOCATIONAL ED-BASIC GRANT"]
["FUND","263","NOTUSED - VOCATIONAL ED-BASIC GRANT"]
["FUND","264","NOTUSED - VOCATIONAL ED-BASIC GRANT"]
["FUND","265","NOTUSED - VOCATIONAL ED-BASIC GRANT"]
["FUND","266","NOTUSED - VOCATIONAL ED-BASIC GRANT"]
["FUND","267","NOTUSED - VOCATIONAL ED-BASIC GRANT"]
["FUND","268","NOTUSED - VOCATIONAL ED-BASIC GRANT"]
["FUND","269","NOTUSED - PRIOR YR C/O FUND 260-268"]
["FUND","270","NOTUSED - FED VOC ED-DISPL HOMEMAKR"]
["FUND","271","NOTUSED - FED VOC ED-DISP HMKR"]
["FUND","279","NOTUSED - PRIOR YR C/O FUND 270-278"]
["FUND","280","FED VOC ED - SEX EQUITY"]
["FUND","281","NOTUSED - FED VOC ED-SEX EQUITY"]
["FUND","282","NOTUSED - FED VOC ED-STATEWIDE LDRS"]
["FUND","283","ARRA McKinney Vento Homeless Ed"]
["FUND","289","NOTUSED - PRIOR YR C/O FUND 280-288"]
["FUND","290","MEDICAID REIMBURSEMENT"]
["FUND","291","NOTUSED - OTHER FEDERAL PROJECTS"]
["FUND","292","NOTUSED - OTHER FEDERAL PROJECTS"]
["FUND","293","NOTUSED - OTHER FEDERAL PROJECTS"]
["FUND","294","NOTUSED - OTHER FEDERAL PROJECTS"]
["FUND","295","GOALS 2000"]
["FUND","296","NOTUSED - OTHER FEDERAL PROJECTS"]
["FUND","297","NOTUSED - OTHER FEDERAL PROJECTS"]
["FUND","298","NOTUSED - OTHER FEDERAL PROJECTS"]
["FUND","299","NOTUSED - PRIOR YR C/O FUND 290-298"]
["FUND","300","NOTUSED - OTHER FEDERAL PROJECT"]
["FUND","302","DEMA Funds"]
["FUND","304","FY21 Child Care Grant COVID"]
["FUND","305","FY22 AZ Child Care Stabilization Grant COVID"]
["FUND","306","Education Plus-Up Grant COVID"]
["FUND","307","School Safety Program-ESSER COVID"]
["FUND","309","NOTUSED - PRIOR YR C/O FUND 300-308"]
["FUND","310","NOTUSED - FOREIGN LANGUAGE"]
["FUND","319","NOTUSED - PRIOR YR C/O FUND 310-318"]
["FUND","320","ARRA TITLE I - Edu Jobs"]
["FUND","321","NOTUSED - EMERGENCY IMMIGRANT"]
["FUND","326","ESSER I Grant COVID"]
["FUND","328","Enrollment Stability Grant COVID"]
["FUND","329","NOTUSED - PRIOR YR C/O FUND 320-328"]
["FUND","330","ARRA TITLE II D"]
["FUND","334","ARRA HOMELESS"]
["FUND","335","SUMMER ENRICHMENT PROGRAMMING 2023 COVID"]
["FUND","336","ESSER II COVID"]
["FUND","338","Project Momentum COVID"]
["FUND","339","NOTUSED - PRIOR YR C/O FUND 330-328"]
["FUND","340","ARRA IDEA"]
["FUND","342","ARRA PRESCHOOL"]
["FUND","346","ESSER III COVID"]
["FUND","349","NOTUSED - PRIOR YR C/O FUND 340-348"]
["FUND","350","NOTUSED - NUTRITION,EDUCATION,TRAIN"]
["FUND","353","NOTUSED - Taylor Grazing Fees"]
["FUND","356","ESSER School Safety COVID"]
["FUND","359","NOTUSED - PRIOR YR C/O FUND 350-358"]
["FUND","369","NOTUSED - PRIOR YR C/O FUND 360-368"]
["FUND","374","ERATE"]
["FUND","375","Emergency Connectivity Fund COVID"]
["FUND","379","NOTUSED - PRIOR YR C/O FUND 370-378, NO 21ST CCLC "]
["FUND","387","Dyslexia Training Designee Grant"]
["FUND","389","NOTUSED - PRIOR YR C/O FUND 380-388"]
["FUND","399","NOTUSED - PRIOR YR C/O FUND 390-398"]
["FUND","400","NOTUSED - VOC ED-STATE-PRIORITY"]
["FUND","401","NOTUSED - VOC ED-STATE-LOCAL SUPORT"]
["FUND","402","NOTUSED - VOC ED-STATE-AZ WORKFORCE"]
["FUND","403","NOTUSED - VOCATIONAL ED - STATE"]
["FUND","404","NOTUSED - VOCATIONAL ED - STATE"]
["FUND","405","NOTUSED - VOCATIONAL ED - STATE"]
["FUND","406","NOTUSED - VOCATIONAL ED - STATE"]
["FUND","407","NOTUSED - VOCATIONAL ED - STATE"]
["FUND","408","NOTUSED - VOCATIONAL ED - STATE"]
["FUND","409","NOTUSED - PRIOR YR C/O FUND 400-408"]
["FUND","410","EARLY CHILDHOOD BLOCK GRANT"]
["FUND","412","NOTUSED - UNDEFINED"]
["FUND","419","NOTUSED - PRIOR YR C/O FUND 410-418"]
["FUND","420","NOTUSED - HANDICAPPED PUPILS-ESY"]
["FUND","425","NOTUSED - ADULT BASIC ED"]
["FUND","429","NOTUSED - PRIOR YR C/O FUND 429-428"]
["FUND","430","STATE CHEMICAL ABUSE PREV"]
["FUND","431","NOTUSED - CHEM ABUSE PREVENT"]
["FUND","435","NOTUSED - ACADEMIC CONTESTS"]
["FUND","439","NOTUSED - PRIOR YR C/O FUND 430-438"]
["FUND","445","NOTUSED - AT-RISK DROPOUT PREVENT"]
["FUND","449","NOTUSED - PRIOR YR C/O FUND 440-448"]
["FUND","450","GIFTED EDUCATION"]
["FUND","455","NOTUSED - FAMILY LITERACY PILOT"]
["FUND","457","Results Based Funding"]
["FUND","459","NOTUSED - PRIOR YR C/O FUND 450-458"]
["FUND","460","NOTUSED - ENVIRONMENTAL SPEC  PLATE"]
["FUND","463","K12 Center Grant"]
["FUND","465","NOTUSED - OTHER STATE PROJECTS"]
["FUND","466","NOTUSED - OTHER STATE PROJECTS"]
["FUND","467","FIRST THINGS FIRST"]
["FUND","468","NOTUSED - OTHER STATE PROJECTS"]
["FUND","469","NOTUSED - PRIOR YR C/O FUND 460-468"]
["FUND","470","STATE TOBACCO TAX"]
["FUND","471","Compensatory Instruction - ELD"]
["FUND","472","ELL"]
["FUND","473","ELL Compensatory Education"]
["FUND","474","ELL Classroom Bonus Fund"]
["FUND","475","School Garden Grant - Advanced"]
["FUND","477","ELL Materials"]
["FUND","478","NO-Dyslexia Training Designee Grant (See Fund 387)"]
["FUND","479","NOTUSED - PRIOR YR C/O FUND 470-478, NO SEI OR COM"]
["FUND","480","STATE SCHOOL SAFETY PROGRAM GRANT"]
["FUND","481","STATE SCHOOL SAFETY PROGRAM GRANT"]
["FUND","482","State Tutoring Grant - Spring"]
["FUND","483","Electronic Incident Prevention System 2023"]
["FUND","484","SEI Reimbursement Complete"]
["FUND","485","SEI Reimbursement 45 Provisonal"]
["FUND","486","SEI Reimbursement Continuation"]
["FUND","487","Az Reads Professional Development"]
["FUND","489","NOTUSED - PRIOR YR C/O FUND 480-488"]
["FUND","493","K12 Center Grant"]
["FUND","496","FY17 Character Education Matching Grant"]
["FUND","499","NOTUSED - PRIOR YR C/O FUND 490-498"]
["FUND","500","SCH PL-SALE/LEAS OVR 1 YR"]
["FUND","505","NOTUSED - SCHOOL PLANT 1 YEAR/LESS"]
["FUND","506","SCHOOL PLANT (SALE)"]
["FUND","510","FOOD SERVICE"]
["FUND","515","CIVIC CENTER"]
["FUND","520","COMMUNITY SCHOOL"]
["FUND","521","Community Schools-Preschool"]
["FUND","525","AUXILIARY OPERATIONS"]
["FUND","526","EXTRA CURR FEE/TAX CREDIT"]
["FUND","530","GIFTS AND DONATIONS"]
["FUND","535","NOTUSED - VOCATIONAL & TECH ED PRGM"]
["FUND","539","Development Fees/Allocations"]
["FUND","540","FINGERPRINT"]
["FUND","545","NOTUSED - SCHOOL OPENING"]
["FUND","550","INSURANCE PROCEEDS"]
["FUND","555","TEXTBOOKS"]
["FUND","565","LITIGATION RECOVERY"]
["FUND","570","INDIRECT COSTS"]
["FUND","575","UNEMPLOYMENT INSURANCE"]
["FUND","580","NOTUSED - TEACHERAGE"]
["FUND","585","INSURANCE REFUND"]
["FUND","590","GRANTS & DONATIONS {CAP.}"]
["FUND","595","NOTUSED - SCHOOL BUS ADVERTISEMENTS"]
["FUND","600","NOTUSED - CAPITAL PROJECTS FUNDS"]
["FUND","610","District Additional Assistance"]
["FUND","620","ADJACENT WAYS"]
["FUND","625","Not Used - SOFT CAPITAL"]
["FUND","626","NOTUSED - PRGRAM"]
["FUND","630","BOND BUILDING"]
["FUND","632","NOTUSED - BOND UNKNOWN"]
["FUND","640","NOTUSED - SCHL PLANT SPECIAL CONSTR"]
["FUND","650","GIFTS & DONATIONS {CAP.}"]
["FUND","660","NOTUSED - CONDEMNATION"]
["FUND","665","Energy and Water Savings (EWS)"]
["FUND","670","NOTUSED - CAPITAL EQUITY"]
["FUND","680","NOTUSED - SCHOOL BUILDING START UP"]
["FUND","685","DEFICIENCIES CORRECTION"]
["FUND","686","Emergency Deficiencies Correction"]
["FUND","690","BUILDING RENEWAL"]
["FUND","691","BUILDING RENEWAL GRANT"]
["FUND","695","NEW SCHOOL FACILITIES"]
["FUND","700","DEBT SERVICE"]
["FUND","710","NOTUSED - DEBT SERVICE INTEREST"]
["FUND","720","NOTUSED - DEBT SERVICE PRINCIPLE"]
["FUND","850","STUDENT ACTIVITIES"]
["FUND","855","NOTUSED - EMPL INSUR PGM WITHHOLDNG"]
["FUND","860","NOTUSED - FED SAVINGS BOND WITHHOLD"]
["FUND","865","NOTUSED - STATE INCOME TAX WITHHOLD"]
["FUND","901","NOTUSED - ENTERPRISE FUNDS"]
["FUND","902","NOTUSED - ENTERPRISE FUNDS"]
["FUND","903","NOTUSED - ENTERPRISE FUNDS"]
["FUND","904","NOTUSED - ENTERPRISE FUNDS"]
["FUND","905","NOTUSED - ENTERPRISE FUNDS"]
["FUND","906","NOTUSED - ENTERPRISE FUNDS"]
["FUND","907","NOTUSED - ENTERPRISE FUNDS"]
["FUND","908","NOTUSED - ENTERPRISE FUNDS"]
["FUND","909","NOTUSED - ENTERPRISE FUNDS"]
["FUND","910","NOTUSED - ENTERPRISE FUNDS"]
["FUND","911","NOTUSED - ENTERPRISE FUNDS"]
["FUND","912","NOTUSED - ENTERPRISE FUNDS"]
["FUND","913","NOTUSED - ENTERPRISE FUNDS"]
["FUND","914","NOTUSED - ENTERPRISE FUNDS"]
["FUND","915","NOTUSED - ENTERPRISE FUNDS"]
["FUND","916","NOTUSED - ENTERPRISE FUNDS"]
["FUND","917","NOTUSED - ENTERPRISE FUNDS"]
["FUND","918","NOTUSED - ENTERPRISE FUNDS"]
["FUND","919","NOTUSED - ENTERPRISE FUNDS"]
["FUND","920","NOTUSED - ENTERPRISE FUNDS"]
["FUND","921","NOTUSED - ENTERPRISE FUNDS"]
["FUND","922","NOTUSED - ENTERPRISE FUNDS"]
["FUND","923","NOTUSED - ENTERPRISE FUNDS"]
["FUND","924","NOTUSED - ENTERPRISE FUNDS"]
["FUND","925","NOTUSED - ENTERPRISE FUNDS"]
["FUND","926","NOTUSED - ENTERPRISE FUNDS"]
["FUND","927","NOTUSED - ENTERPRISE FUNDS"]
["FUND","928","NOTUSED - ENTERPRISE FUNDS"]
["FUND","929","NOTUSED - ENTERPRISE FUNDS"]
["FUND","930","NOTUSED - ENTERPRISE FUNDS"]
["FUND","931","NOTUSED - ENTERPRISE FUNDS"]
["FUND","932","NOTUSED - ENTERPRISE FUNDS"]
["FUND","933","NOTUSED - ENTERPRISE FUNDS"]
["FUND","934","NOTUSED - ENTERPRISE FUNDS"]
["FUND","935","NOTUSED - ENTERPRISE FUNDS"]
["FUND","936","NOTUSED - ENTERPRISE FUNDS"]
["FUND","937","NOTUSED - ENTERPRISE FUNDS"]
["FUND","938","NOTUSED - ENTERPRISE FUNDS"]
["FUND","939","NOTUSED - ENTERPRISE FUNDS"]
["FUND","940","NOTUSED - ENTERPRISE FUNDS"]
["FUND","941","NOTUSED - ENTERPRISE FUNDS"]
["FUND","942","NOTUSED - ENTERPRISE FUNDS"]
["FUND","943","NOTUSED - ENTERPRISE FUNDS"]
["FUND","944","NOTUSED - ENTERPRISE FUNDS"]
["FUND","945","NOTUSED - ENTERPRISE FUNDS"]
["FUND","946","NOTUSED - ENTERPRISE FUNDS"]
["FUND","947","NOTUSED - ENTERPRISE FUNDS"]
["FUND","948","NOTUSED - ENTERPRISE FUNDS"]
["FUND","949","NOTUSED - ENTERPRISE FUNDS"]
["FUND","950","ISF SELF INSURANCE"]
["FUND","951","NOTUSED - ISF WAREHOUSE"]
["FUND","955","NOTUSED - INTERGOVERNMENTAL AGREEM"]
["FUND","997","NOTUSED - LONG TERM DEBT ACCT GROUP"]
["FUND","998","NOTUSED - GENRL F/A ACCOUNT GROUP"]
["FUND","999","NOTUSED - INTERFUND"]
["PROGRAM","000","UNDEFINED PROGRAM"]
["PROGRAM","100","REGULAR EDUCATION"]
["PROGRAM","101","Regular Education - Maint and Op Override"]
["PROGRAM","102","Regular Ed - Menu Monies"]
["PROGRAM","103","K-3 Group B Weight Funding"]
["PROGRAM","104","K-3 Group B Funding"]
["PROGRAM","105","Do not Use - State Teacher Salary Increase"]
["PROGRAM","130","State Teacher Salary Increase"]
["PROGRAM","199","Regular Education - ARRA Stabilization"]
["PROGRAM","200","SPECIAL EDUCATION"]
["PROGRAM","201","AUTISM"]
["PROGRAM","202","EMOTIONAL DISABILITY"]
["PROGRAM","203","NOTUSED - HEARING IMPAIRMENTS"]
["PROGRAM","204","NOTUSED - OTHER HEALTH IMPAIRMENTS"]
["PROGRAM","205","SPECIFIC LEARNING DISABIL"]
["PROGRAM","206","MILD,MODERATE,SEVERE IMPR"]
["PROGRAM","207","MULTIPLE DISABILITIES"]
["PROGRAM","208","NOTUSED - MULTIPLE DISABILITY/SSI"]
["PROGRAM","209","ORTHOPEDIC IMPAIRMENT"]
["PROGRAM","210","PRESCHL MODERATE DELAY"]
["PROGRAM","211","NOTUSED - PRESCHL SEVERE DELAY"]
["PROGRAM","212","NOTUSED - PRESCHL SPEECH/LANG DELAY"]
["PROGRAM","213","SPEECH/LANG IMPAIRMENT"]
["PROGRAM","214","NOTUSED - TRAUMATIC BRAIN INJURY"]
["PROGRAM","215","NOTUSED - VISUAL IMPAIRMENT"]
["PROGRAM","216","NOTUSED - GIFTED EDUCATION"]
["PROGRAM","217","NOTUSED - BILINGUAL EDUCATION"]
["PROGRAM","218","NOTUSED - REMEDIAL EDUCATION"]
["PROGRAM","219","NOTUSED - VOCATIONAL & TECH ED"]
["PROGRAM","220","NOTUSED - CAREER EDUCATION"]
["PROGRAM","222","Menu Monies - SpEd"]
["PROGRAM","230","State Teacher Salary Increase"]
["PROGRAM","240","GIFTED EDUCATION"]
["PROGRAM","250","NOTUSED - PRE-SCHOOL"]
["PROGRAM","260","ESL"]
["PROGRAM","262","Menu Monies - ELL"]
["PROGRAM","265","Compensatory Ed"]
["PROGRAM","299","Special Education - ARRA Stabilization"]
["PROGRAM","300","NOTUSED - TITLE VIII SPEC ED"]
["PROGRAM","301","NOTUSED - AUTISM"]
["PROGRAM","302","NOTUSED - EMOTIONAL DISABILITY"]
["PROGRAM","303","NOTUSED - HEARING IMPAIRMENT"]
["PROGRAM","304","NOTUSED - OTHER HEALTH IMPAIRMENT"]
["PROGRAM","305","NOTUSED - SPECIFIC LEARNING DISAB"]
["PROGRAM","306","NOTUSED - MENTAL RETARDATION"]
["PROGRAM","307","NOTUSED - MULTIPLE DISABILITIES"]
["PROGRAM","308","NOTUSED - MULT DISAB W/SENS IMPAIR"]
["PROGRAM","309","NOTUSED - ORTHOPEDIC IMPAIRMENT"]
["PROGRAM","310","NOTUSED - PRESCHOOL MODERATE DELAY"]
["PROGRAM","311","NOTUSED - PRESCHOOL SEVERE DELAY"]
["PROGRAM","312","NOTUSED - PRESCHOOL SPEECH/LANG DLY"]
["PROGRAM","313","NOTUSED - SPEECH/LANG IMPAIRMENT"]
["PROGRAM","314","NOTUSED - TRAUMATIC BRAIN INJURY"]
["PROGRAM","315","NOTUSED - VISUAL IMPAIRMENT"]
["PROGRAM","316","NOTUSED - GIFTED EDUCATION"]
["PROGRAM","317","NOTUSED - BILINGUAL EDUCATION"]
["PROGRAM","318","NOTUSED - REMEDIAL EDUCATION"]
["PROGRAM","319","NOTUSED - VOC AND TECH EDUCATION"]
["PROGRAM","320","NOTUSED - CAREER EDUCATION"]
["PROGRAM","400","PUPIL TRANSPORTATION"]
["PROGRAM","410","NOTUSED - PUPIL TRANSPORT - REGULAR"]
["PROGRAM","420","NOTUSED - PUPIL TRANSPORT - SPEC ED"]
["PROGRAM","430","NOTUSED - ELL INCREMENTAL COST"]
["PROGRAM","435","NOTUSED - ELL COMPENSATORY"]
["PROGRAM","470","NOTUSED - JOINT TECHNOLOGICAL EDUCATION DIST"]
["PROGRAM","510","NOTUSED - DESEGREGATION"]
["PROGRAM","514","NOTUSED - ELL INCREMENTAL COST"]
["PROGRAM","515","NOTUSED - ELL COMPENSATORY INSTRUCTION"]
["PROGRAM","520","SPECIAL K-3 PROG OVERRIDE"]
["PROGRAM","530","NOTUSED - DROPOUT PREVENTION PROG"]
["PROGRAM","540","NOTUSED - JOINT VOCATION & TECH CEN"]
["PROGRAM","550","K-3 Reading"]
["PROGRAM","600","NOTUSED - OTHER INSTRUCTIONAL PROGRAMS"]
["PROGRAM","610","ACADEMIC/CHARACTER GENERAL"]
["PROGRAM","611","ACADEMIC COMPETITIONS"]
["PROGRAM","612","ACADEMIC/FIELD TRIPS"]
["PROGRAM","613","ACADEMIC NATL JR HONOR SOCIETY"]
["PROGRAM","614","ACADEMIC SCIENCE OLYMPIAD"]
["PROGRAM","615","STUDENT CLUBS"]
["PROGRAM","620","ATHLETICS GENERAL"]
["PROGRAM","621","ATHLETICS BASEBALL"]
["PROGRAM","622","ATHLETICS BASKETBALL"]
["PROGRAM","623","ATHLETICS CHEERLEADING"]
["PROGRAM","624","ATHLETICS SOFTBALL"]
["PROGRAM","625","ATHLETICS VOLLEYBALL"]
["PROGRAM","630","FINE ARTS GENERAL"]
["PROGRAM","631","FINE ARTS ART"]
["PROGRAM","632","FINE ARTS MUSIC"]
["PROGRAM","640","SCHOLARSHIP - TAX CREDIT"]
["PROGRAM","650","ACADEMIC/GREATEST NEED"]
["PROGRAM","660","CAPITAL PROJECTS - TAX CREDIT exp 06.2022"]
["PROGRAM","700","NOTUSED - ADULT/CONTINUING ED"]
["PROGRAM","800","NOTUSED - COMMUNITY COLLEGE ED PROG"]
["PROGRAM","900","NOTUSED - COMMUNITY SERVICES PROG"]
["FUNCTION","0000","UNDEFINED FUNCTION"]
["FUNCTION","1000","INSTRUCTION"]
["FUNCTION","1001","Instruction-Long Term Sub"]
["FUNCTION","1900","Other Instructional Staff"]
["FUNCTION","2000","NOTUSED - SUPPORT SERVICES"]
["FUNCTION","2100","SUPPORT SERVICES-STUDENTS"]
["FUNCTION","2110","ATTENDANCE & SOCIAL WORK"]
["FUNCTION","2120","GUIDANCE SERVICES"]
["FUNCTION","2130","HEALTH SERVICES"]
["FUNCTION","2140","PSYCHOLOGICAL SERVICES"]
["FUNCTION","2150","SPEECH PATHOLOGY & AUDIO"]
["FUNCTION","2160","OT / PT RELATED SERVICES"]
["FUNCTION","2170","Heads of Components; Support Svcs"]
["FUNCTION","2190","NOTUSED - OTHER SUPPORT SERVICES-ST"]
["FUNCTION","2200","SUPPORT SERVICES-INSTRUC"]
["FUNCTION","2210","IMPROVEMENT OF INSTR SVC"]
["FUNCTION","2212","INSTRUCTION & CURRICULUM DEVELOPMENT"]
["FUNCTION","2213","INSTUCTIONAL STAFF TRAINING"]
["FUNCTION","2220","LIBRARY / MEDIA SERVICES"]
["FUNCTION","2230","INSTUCTION RELATED TECHNOLOGY"]
["FUNCTION","2240","Admin Services"]
["FUNCTION","2260","ACADEMIC STUDENT ASSESSMENT"]
["FUNCTION","2290","NOTUSED - OTHER SUPPORT SERV-INSTR"]
["FUNCTION","2300","NOTUSED - SUPPORT SERV-GENERAL ADM"]
["FUNCTION","2310","GOVERNING BOARD SERVICES"]
["FUNCTION","2311","NOTUSED - ELECTIONS"]
["FUNCTION","2320","EXECUTIVE ADM SERV-SUPT"]
["FUNCTION","2321","NOTUSED - ASSISTANT SUPERINTENDENT"]
["FUNCTION","2322","NOTUSED - PROJECT ADMINISTRATOR"]
["FUNCTION","2330","NOTUSED - LOBBYING"]
["FUNCTION","2340","Election Services"]
["FUNCTION","2400","SUPPORT SERV -SCHL ADMIN"]
["FUNCTION","2410","SCHOOL PRINCIPAL"]
["FUNCTION","2411","NOTUSED - ASSISTANT PRINCIPAL"]
["FUNCTION","2490","NOTUSED - OTHER SUPPORT SERV-SCHOOL"]
["FUNCTION","2500","SUPPORT SERVICES-BUSINESS"]
["FUNCTION","2510","FISCAL SERVICES"]
["FUNCTION","2520","PURCHASING SERVICES"]
["FUNCTION","2530","NOTUSED - WAREHOUSE & DISTRIBUTING"]
["FUNCTION","2540","NOTUSED - PRINTING,PUBL,& DUPLICATE"]
["FUNCTION","2550","NOTUSED - PLANNING RESEARCH DEVELPMENT EVALUATION "]
["FUNCTION","2560","PUBLIC INFORMATION SERVICES"]
["FUNCTION","2570","PERSONNEL SERVICES"]
["FUNCTION","2580","ADMIN TECH SERVICES"]
["FUNCTION","2590","NOTUSED - OTHER SUPPORT SERV-BUSN"]
["FUNCTION","2600","OPERATION/MAINT OF PLANT"]
["FUNCTION","2610","SUPERVISION OF OPER/PLANT"]
["FUNCTION","2620","MAINT OF BUILDINGS"]
["FUNCTION","2630","CARE/UPKEEP GROUNDS SERV"]
["FUNCTION","2640","CARE/UPKEEP EQUIP SERVICE"]
["FUNCTION","2650","NOTUSED - VEHICLE OPERATION & MAINT"]
["FUNCTION","2660","SECURITY SERVICES"]
["FUNCTION","2670","SAFETY"]
["FUNCTION","2690","OTHER OPERATION & MAINT"]
["FUNCTION","2700","STUDENT TRANSPORT SERVICE"]
["FUNCTION","2710","VEHICLE OPERATION"]
["FUNCTION","2720","MONITORING SERVICES"]
["FUNCTION","2730","VEHICLE SERVICING MAINT"]
["FUNCTION","2740","NOTUSED - VEHICLE SERV & MAINT SERV"]
["FUNCTION","2790","NOTUSED - OTHER STUDENT TRANSP SERV"]
["FUNCTION","2800","NOTUSED - SUPPORT SERVICES-CENTRAL"]
["FUNCTION","2810","NOTUSED - PLAN/RESEARCH/DEV/EVAL"]
["FUNCTION","2820","NOTUSED - INFORMATION SERVICES"]
["FUNCTION","2830","NOTUSED - STAFF SERVICES"]
["FUNCTION","2840","NOTUSED - DATA PROCESSING SERVICES"]
["FUNCTION","2900","NOTUSED - OTHER SUPPORT SERVICES"]
["FUNCTION","3000","NOTUSED - OPERATION NON-INSTRUCTION"]
["FUNCTION","3100","FOOD SERVICE OPERATIONS"]
["FUNCTION","3200","NOTUSED - ENTERPRISE OPERATIONS"]
["FUNCTION","3300","COMMUNITY SERV OPERATIONS"]
["FUNCTION","3400","NOTUSED - BOOKSTORE OPERATIONS"]
["FUNCTION","4000","NOTUSED - FACILITIES ACQUIS/CONSTR"]
["FUNCTION","4100","NOTUSED - LAND ACQUISITION"]
["FUNCTION","4200","LAND IMPROVEMENT"]
["FUNCTION","4300","NOTUSED - ARCHITECTURE & ENGINEERING"]
["FUNCTION","4400","NOTUSED - ED.SPECIFICATIONS DEVELOP"]
["FUNCTION","4500","BUILDING ACQUIS & CONSTR"]
["FUNCTION","4600","SITE IMPROVEMENT"]
["FUNCTION","4700","BUILDING IMPROVEMENT"]
["FUNCTION","4900","NOTUSED - OTH FACILITIES ACQUIS/CON"]
["FUNCTION","5000","DEBT SERVICES"]
["FUNCTION","6000","NOTUSED - OTHER FINANCING USES"]
["FUNCTION","6010","INDIRECT COSTS"]
["FUNCTION","6020","NOTUSED - UNEMPLOYMENT INSUR -REIMB"]
["OBJECT"]
["OBJECT","0100","CASH"]
["OBJECT","0101","CASH ON HAND"]
["OBJECT","0102","CASH IN BANK"]
["OBJECT","0103","CASH ON DEP/COUNTY TREASR"]
["OBJECT","0104","CASH/INVEST HELD BY TRUST"]
["OBJECT","0105","CASH WITH FISCAL AGENT"]
["OBJECT","0106","CASH/INVEST ASPIN-MOHAVE"]
["OBJECT","0110","INVESTMENTS"]
["OBJECT","0111","U.S. GOVT  SECURITIES"]
["OBJECT","0112","UNAMORTIZED PREMIUMS"]
["OBJECT","0113","UNAMORTIZED DISCOUNTS INV"]
["OBJECT","0120","TAXES RECEIVABLE"]
["OBJECT","0121","PERSONAL PROP TAX CURRENT"]
["OBJECT","0122","PERSONAL PROP.TAXES-PRIOR"]
["OBJECT","0123","REAL PROP TAXES-CURRENT"]
["OBJECT","0124","REAL PROP TAXES-PRIOR YR"]
["OBJECT","0130","OTHER RECEIVABLES"]
["OBJECT","0131","REVENUE IN LIEU OF TAXES"]
["OBJECT","0132","ACCOUNTS RECEIVABLE"]
["OBJECT","0133","BOND PROCEEDS RECEIVABLE"]
["OBJECT","0134","INTEREST RECEIVABLE"]
["OBJECT","0135","REFUNDABLE DEPOSITS"]
["OBJECT","0136","NOTES RECEIVABLE"]
["OBJECT","0140","DUE FROM OTH FUNDS & GOVT"]
["OBJECT","0141","OTHER FUNDS"]
["OBJECT","0142","OTHER DISTRICTS"]
["OBJECT","0143","COUNTY"]
["OBJECT","0144","STATE"]
["OBJECT","0145","FEDERAL"]
["OBJECT","0150","PREPAID ITEMS"]
["OBJECT","0151","INSURANCE"]
["OBJECT","0160","INVENTORY SUPPLIES CONSUM"]
["OBJECT","0161","SUPPLIES"]
["OBJECT","0162","GAS AND OIL"]
["OBJECT","0170","INVENTORY OF SUPPLIES SAL"]
["OBJECT","0171","BOOKSTORE"]
["OBJECT","0172","FOOD AND MILK"]
["OBJECT","0180","GENERAL FIXED ASSETS"]
["OBJECT","0181","LAND AND IMPROVEMENTS"]
["OBJECT","0182","BUILDINGS AND IMPROVEMENT"]
["OBJECT","0183","EQUIPMENT"]
["OBJECT","0184","CONSTRUCTION IN PROGRESS"]
["OBJECT","0190","OTHER DEBTS"]
["OBJECT","0191","AMOUNT AVAILABLE IN DEBT"]
["OBJECT","0192","RETIREMENT LONG TERM DEBT"]
["OBJECT","0200","ACCOUNTS PAYABLE"]
["OBJECT","0201","ACCOUNTS PAYABLE"]
["OBJECT","0202","REFUNDABLE DEPOSITS"]
["OBJECT","0203","BANK REV LINE CREDIT PAYB"]
["OBJECT","0204","OVERDRAFT CASH ON DEPOSIT"]
["OBJECT","0205","TAX ANTICIPATION NOTES PA"]
["OBJECT","0206","LOANS PAYABLE"]
["OBJECT","0210","DUE OTHER FUNDS,GOVT ENT"]
["OBJECT","0211","OTHER FUNDS"]
["OBJECT","0212","OTHER DISTRICTS"]
["OBJECT","0213","COUNTY"]
["OBJECT","0214","STATE"]
["OBJECT","0215","FEDERAL"]
["OBJECT","0216","STUDENT GROUPS"]
["OBJECT","0220","ACCRUED PAYROLL/BENEFITS"]
["OBJECT","0221","SALARIES & WAGES (GROSS)"]
["OBJECT","0222","SOCIAL SECURITY-FICA"]
["OBJECT","0223","MEDICARE-FICA - DONT USE"]
["OBJECT","0224","RETIRE PAYABLE-DONT USE"]
["OBJECT","0225","EMPLOYEE INSURANCE"]
["OBJECT","0226","UNEMPLOYMENT INSURANCE"]
["OBJECT","0227","WORKERS COMPENSATION"]
["OBJECT","0228","SELF-INSUR EMP CLAIMS"]
["OBJECT","0229","COMPENSATED ABSENCES"]
["OBJECT","0230","OTHER ACCURED ITEMS"]
["OBJECT","0231","INTEREST(OTHER THAN BOND)"]
["OBJECT","0232","BOND INTEREST PAYABLE"]
["OBJECT","0233","SELF INSURANCE CLAIMS PAY"]
["OBJECT","0240","PAYROLL DEDUCTIONS W/HOLD"]
["OBJECT","0241","FEDERAL INCOME TAXES"]
["OBJECT","0242","STATE INCOME TAXES"]
["OBJECT","0243","FICA PAYABLE (NOT USED)"]
["OBJECT","0244","MEDICARE PAYABL(NOT USED)"]
["OBJECT","0245","RETIREMENT PAYABLE"]
["OBJECT","0246","RETIREMENT LTD PAYABLE"]
["OBJECT","0247","VOLUNTARY DEDUCTIONS"]
["OBJECT","0248","COURT ORDERED ASSIGNMENTS"]
["OBJECT","0249","RETIREMENT BUYBACK PAYABL"]
["OBJECT","0250","DEFERRED REVENUES"]
["OBJECT","0259","DEFERRED REVENUE-CNTY C/O"]
["OBJECT","0260","CONTRACTS PAYABLE"]
["OBJECT","0261","CAPITAL LEASES"]
["OBJECT","0262","CONSTRUCTION"]
["OBJECT","0270","BONDS PAYABLE"]
["OBJECT","0271","CURRENT BONDS"]
["OBJECT","0272","LONG TERM BONDS"]
["OBJECT","0300","RESERVES"]
["OBJECT","0301","PREPAID ITEMS"]
["OBJECT","0302","INVENTORY SUPPLIES/CONSUM"]
["OBJECT","0303","INVENTORY SUPPLIES SALE"]
["OBJECT","0310","INVESTMENTS GENERAL FIXED"]
["OBJECT","0320","DESIGNATED FOR CAPITAL OU"]
["OBJECT","0330","UNRESERVED FUND BALANCE"]
["OBJECT","0340","RESERVED RETAINED EARNING"]
["OBJECT","0350","UNRESERVED RETAINED EARNI"]
["OBJECT","0360","ACCUMILATED DEP.LAND IMPR"]
["OBJECT","0370","ACCUM DEPR BUILDS & IMPV"]
["OBJECT","0380","ACCUM DEPR EQUIPMENT"]
["OBJECT","0399","RESERVE FOR ENCUMBRANCE"]
["OBJECT","1000","REVENUE FROM LOCAL SERV"]
["OBJECT","1100","TAXES LEVIED/ASSESSED"]
["OBJECT","1110","PROPERTY TAXES"]
["OBJECT","1111","PERS PROP TAXES - CURRENT"]
["OBJECT","1112","REAL PROP TAXES - CURRENT"]
["OBJECT","1113","REAL PROP TAXES -PRIOR YR"]
["OBJECT","1114","PERS PROP TAXES -PRIOR YR"]
["OBJECT","1115","M&O OVERRIDE - CURRENT"]
["OBJECT","1116","M&O OVERRIDE - PRIOR"]
["OBJECT","1117","OVERRIDE - CAPITAL"]
["OBJECT","1140","PENALTIES & INTEREST TAX"]
["OBJECT","1200","REVENUE FROM LOCAL GOVERN"]
["OBJECT","1280","REVENUE IN LIEU OF TAXES"]
["OBJECT","1281","REVENUE IN LIEU - HOUSING"]
["OBJECT","1282","REVENUE IN LIEU - ADOT"]
["OBJECT","1283","SRP LEVY"]
["OBJECT","1300","TUITION"]
["OBJECT","1310","TUITION - INDIVIDUALS"]
["OBJECT","1311","PRE-REGISTRATION (LEAP)"]
["OBJECT","1312","PRE-REGISTRATION (PRESCHOOL)"]
["OBJECT","1320","TUITION-OTHER AZ DISTRICT"]
["OBJECT","1330","TUITION OUT OF STATE DIST"]
["OBJECT","1340","TUITION-OTHER SOURCES"]
["OBJECT","1400","TRANSPORTATION FEES"]
["OBJECT","1401","ACCURED INT-NEW BD SALE"]
["OBJECT","1402","UNDESIGNATED"]
["OBJECT","1410","TRANSPORT FEES-INDIVIDUAL"]
["OBJECT","1420","TRANS FEES-OTHER AZ DIST"]
["OBJECT","1430","TRANS FEES OUT STATE DIST"]
["OBJECT","1440","TRANS.FEES OTHER SOURCES"]
["OBJECT","1500","EARNINGS ON INVESTMENTS"]
["OBJECT","1510","INTEREST ON INVESMENTS"]
["OBJECT","1511","INTEREST ON REG WARRANTS"]
["OBJECT","1530","NET INCR(DECR)INVESTMENTS"]
["OBJECT","1540","EARN ON INVEST/REAL PROP"]
["OBJECT","1600","FOOD SERVICE"]
["OBJECT","1610","DAILY SALES-REIMB PROG"]
["OBJECT","1611","DAILY SALES-SCHL LUNCH PR"]
["OBJECT","1612","DAILY SALES-SCHL BREKFAST"]
["OBJECT","1613","DAILY SALES-SPECIAL MILK"]
["OBJECT","1614","UNDESIGNATED"]
["OBJECT","1616","UNDESIGNATED"]
["OBJECT","1620","DAILY SALES-NONREIMB PGMS"]
["OBJECT","1630","SPECIAL FUNCTIONS"]
["OBJECT","1700","ACTIVITIES"]
["OBJECT","1701","BOOKSTORE REVENUE"]
["OBJECT","1702","ATHLETICS REVENUE"]
["OBJECT","1750","Revenue Auxiliary Operations"]
["OBJECT","1790","XTRA CURR FEES TAX CREDIT"]
["OBJECT","1791","LIBERTY TAX CREDIT REV"]
["OBJECT","1792","EST MTN TAX CREDIT REV"]
["OBJECT","1793","RAINBOW TAX CREDIT REV"]
["OBJECT","1794","WESTAR TAX CREDIT REV"]
["OBJECT","1795","FREEDOM TAX CREDIT REV"]
["OBJECT","1800","REVENUE COMMUNITY SERVICE"]
["OBJECT","1801","Revenue LEAP"]
["OBJECT","1900","OTH REVENUE LOCAL SOURCES"]
["OBJECT","1910","RENTALS"]
["OBJECT","1920","CONTRIBUTION & DONATIONS"]
["OBJECT","1930","GAIN SALE-FIXED ASSETS"]
["OBJECT","1940","Revenue from Sponsoring School District"]
["OBJECT","1950","SERV PROVIDED OTHER DISTR"]
["OBJECT","1960","SERV PROVI OTHER FUNDS"]
["OBJECT","1970","SERV PROV OTHER LOCAL GOV"]
["OBJECT","1980","REFUND PRIOR YRS EXPENDI"]
["OBJECT","1981","REVERSE EXPENDITURE - AP"]
["OBJECT","1982","REVERSE EXPENDITURE - PR"]
["OBJECT","1990","MISCELLANEOUS"]
["OBJECT","1991","PAYMENT LOST/DAMAGE TEXTB"]
["OBJECT","1992","PAYMENT LOST/DAMAG LIB BK"]
["OBJECT","1993","Revenue-Extended Day Program"]
["OBJECT","1999","STALE WARRANTS-COUNTY USE"]
["OBJECT","2000","REVENUE INTERMED SOURCE"]
["OBJECT","2100","UNRESTRICT GRANTS IN AID"]
["OBJECT","2110","COUNTY SCHOOL FUND"]
["OBJECT","2111","TAYLOR GRAZING"]
["OBJECT","2120","COUNTY EQUAL ASSISTANCE"]
["OBJECT","2130","TAYLOR GRAZING"]
["OBJECT","2200","RESTRICTED GRANTS IN AID"]
["OBJECT","2210","SPECIAL COUNTY SCHL RESER"]
["OBJECT","2900","REVENUE BEHALF DISTRICT"]
["OBJECT","3000","REVENUE STATE SOURCES"]
["OBJECT","3100","UNRESTRICTED GRANTS AID"]
["OBJECT","3110","STATE EQUAL ASSISTANCE"]
["OBJECT","3120","ADDITIONAL STATE AID"]
["OBJECT","3121","ADDITL STATE AID-UNSECURE"]
["OBJECT","3130","CERTIFICATES ED CONVENIEN"]
["OBJECT","3140","INTITUTIONAL VOUCHERS"]
["OBJECT","3150","STATE IMPACT ASSISTANCE"]
["OBJECT","3160","Student Success Funding "]
["OBJECT","3200","RESTRICTED GRANTS IN AID"]
["OBJECT","3209","STATE GRANT BAL TRANSFER TO 9FUND ACCOUNT"]
["OBJECT","3210","STATE CARRYOVER"]
["OBJECT","3220","UNDESIGNATED"]
["OBJECT","3290","REVERSION STATE GOVERNMNT"]
["OBJECT","3291","REVERSION STATE GOV"]
["OBJECT","3900","REVENUE BEHALF DISTRICT"]
["OBJECT","3910","UNDESIGNATED"]
["OBJECT","4000","REVENUE FEDERAL SOURCES"]
["OBJECT","4100","UNRESTRICT GRANTS AID FED"]
["OBJECT","4110","FEDERAL IMPACT AID"]
["OBJECT","4200","UNRES GRANTS AID RECD AZ"]
["OBJECT","4213","UNDESIGNATED"]
["OBJECT","4300","RESTR GRANTS AID/FEDERAL"]
["OBJECT","4310","UNDEFINED"]
["OBJECT","4420","NATL SCHOOL LUNCH"]
["OBJECT","4500","RESTR.GRANTS AID FLOWTHRU"]
["OBJECT","4501","FED FOOD SERV REIMBURSE/COMPLETION RPT CLOSEOUT"]
["OBJECT","4509","FEDERAL GRANT BAL TRANSFER TO 9FUND ACCOUNT"]
["OBJECT","4510","FEDERAL CARRYOVER"]
["OBJECT","4590","REVERSION FEDERAL GOVT"]
["OBJECT","4591","REVERSION FEDERAL GOVT "]
["OBJECT","4700","GRANTS/FED GOVT TO OTH AG"]
["OBJECT","4800","REVENUE LIEU TAXES"]
["OBJECT","4900","REVENUE ON BEHALF OF DISTRICT"]
["OBJECT","5000","OTHER FINANCING SOURCES"]
["OBJECT","5001","SA Revenue - Liberty"]
["OBJECT","5002","SA Revenue - Estrella"]
["OBJECT","5003","SA Revenue - Rainbow"]
["OBJECT","5004","SA Revenue - Westar"]
["OBJECT","5005","SA Revenue - Freedom"]
["OBJECT","5006","SA Revenue - Las Brisas"]
["OBJECT","5100","SALE OF BONDS"]
["OBJECT","5110","BOND OF PRINCIPAL"]
["OBJECT","5120","PREMIUM"]
["OBJECT","5130","ACCRUED INTEREST"]
["OBJECT","5200","INTERFUND TRANSFERS IN"]
["OBJECT","5300","SALE COMPEN LOSS FIXED AS"]
["OBJECT","5500","CAPITAL LEASES"]
["OBJECT","5600","OTHER LONG TERM DEBT PROCEEDS"]
["OBJECT","5800","Revenue - Extraordinary Items"]
["OBJECT","6000","UNDESIGNATED"]
["OBJECT","6100","PERSONAL SERV-SALARIES"]
["OBJECT","6110","CERTIFIED SALARIES"]
["OBJECT","6111","CERTIFIED ADMINISTRATORS"]
["OBJECT","6112","CERTIFIED TEACHERS"]
["OBJECT","6113","CERTIFIED SUB TEACHERS"]
["OBJECT","6114","CERTIFIED OTHER"]
["OBJECT","6119","Families First Care Act Leave"]
["OBJECT","6150","CLASSIFIED SALARIES"]
["OBJECT","6151","NOTUSED - NON CERT ADMINISTRATOR"]
["OBJECT","6153","NOTUSED - CLASSIFIED SUBSTITUTES"]
["OBJECT","6154","NOTUSED - CLASSIFIED OVERTIME"]
["OBJECT","6155","CLASSIFIED TEMPORARY"]
["OBJECT","6159","Families First Care Act Leave"]
["OBJECT","6190","NOTUSED - OTHER SALARY/COMPENSATION"]
["OBJECT","6200","PERSONAL SERV-EMPL BENEF"]
["OBJECT","6210","GROUP INSURANCE"]
["OBJECT","6211","LIFE INSURANCE"]
["OBJECT","6212","NOTUSED - SHORT TERM DISABILITY"]
["OBJECT","6213","DENTAL INSURANCE"]
["OBJECT","6220","NOTUSED - SOCIAL SECURITY CONTRIB"]
["OBJECT","6221","SOCIAL SECURITY-FICA"]
["OBJECT","6222","FICA MEDICARE"]
["OBJECT","6230","NOTUSED - STATE RETIR SYSTEM CONTR"]
["OBJECT","6231","STATE RETIREMENT"]
["OBJECT","6232","LONG TERM DISABILITY"]
["OBJECT","6240","NOTUSED - TUITION REIMBURSEMENT"]
["OBJECT","6250","UNEMPLOYMENT INSURANCE"]
["OBJECT","6260","WORKERS COMPENSATION"]
["OBJECT","6270","NOTUSED - HEALTH BENEFITS"]
["OBJECT","6290","OTHER EMPLOYEE BENEFITS without ASRS"]
["OBJECT","6291","OTHER EMPLOYEE BENEFITS with ASRS"]
["OBJECT","6300","PURCHASED PROF/TECH SERV"]
["OBJECT","6310","OFFICIAL/ADMIN SERV"]
["OBJECT","6311","UNDESIGNATED"]
["OBJECT","6312","Undesignated"]
["OBJECT","6313","NOTUSED - UNDESIGNATED"]
["OBJECT","6314","Undesignated"]
["OBJECT","6320","PROFESSIONAL-ED SERV"]
["OBJECT","6321","Undesignated"]
["OBJECT","6322","Undesignated"]
["OBJECT","6326","Undesignated"]
["OBJECT","6330","OTHER PROFESSIONAL SERV"]
["OBJECT","6331","Undesignated"]
["OBJECT","6332","Undesignated"]
["OBJECT","6333","Undesignated"]
["OBJECT","6337","Undesignated"]
["OBJECT","6338","UNDESIGNATED"]
["OBJECT","6339","Undesignated"]
["OBJECT","6340","TECH SERV"]
["OBJECT","6341","Undesignated"]
["OBJECT","6342","Undesignated"]
["OBJECT","6343","Undesignated"]
["OBJECT","6350","AUDIT SERV"]
["OBJECT","6355","Undesignated"]
["OBJECT","6360","NOTUSED - EMPLOYEE TRAINING/PROF DEVLPMNT"]
["OBJECT","6380","Undesignated"]
["OBJECT","6390","Undesignated"]
["OBJECT","6400","NOTUSED - PURCH PROPERTY SERV"]
["OBJECT","6410","NOTUSED - UTILITY SERV"]
["OBJECT","6411","WATER/SEWAGE"]
["OBJECT","6420","CLEANING SERVICES"]
["OBJECT","6421","DISPOSAL SERVICES"]
["OBJECT","6422","NOTUSED - SNOW PLOWING SERVICES"]
["OBJECT","6423","NOTUSED - CUSTODIAL SERVICES"]
["OBJECT","6424","NOTUSED - LAWN CARE"]
["OBJECT","6430","REPAIR & MAINT SERVICES"]
["OBJECT","6431","NON TECH RELATED REPAIR/MAINT"]
["OBJECT","6432","TECH RELATED REPAIR/MAINT"]
["OBJECT","6440","NOTUSED - RENTALS"]
["OBJECT","6441","RENTING LAND & BUILDINGS"]
["OBJECT","6442","RENTAL OF EQUIPMENT"]
["OBJECT","6443","RENTAL COMP/RELATED EQUIP"]
["OBJECT","6450","CONSTRUCTION SERVICES"]
["OBJECT","6490","NOTUSED - OTHER PURCHASE PROP SERV"]
["OBJECT","6500","OTHER PURCHASED SERVICES"]
["OBJECT","6510","NOTUSED - STUDENT TRANSPOR SERVICES"]
["OBJECT","6511","NOTUSED - STUDENT TRANS PURCHASE OTHER AZ DISTRICT"]
["OBJECT","6512","NOTUSED - STUDENT TRANS PURCHASE/OUT OF STATE DIST"]
["OBJECT","6519","STUDENT TRANS PURCHASE OTHER"]
["OBJECT","6520","INSURANCE"]
["OBJECT","6521","NOTUSED - EXCESS INSURANCE"]
["OBJECT","6522","Prepaid Insurance"]
["OBJECT","6530","NOTUSED - COMMUNICATIONS"]
["OBJECT","6531","TELEPHONE"]
["OBJECT","6532","POSTAGE"]
["OBJECT","6540","ADVERTISING"]
["OBJECT","6550","PRINTING & BINDING"]
["OBJECT","6560","NOTUSED - TUITION"]
["OBJECT","6561","TUITION OTHER AZ DISTRICT"]
["OBJECT","6562","NOTUSED - TUITION OUT OF STATE DIST"]
["OBJECT","6563","TUITION TO PRIVATE SOURCE"]
["OBJECT","6564","TUITION TO INTER AGENCIES"]
["OBJECT","6565","NOTUSED - TUITION OUT DEBT SERVICE"]
["OBJECT","6569","NOTUSED - TUITION-OTHER"]
["OBJECT","6570","FOOD SERVICE MANAGEMENT"]
["OBJECT","6580","TRAVEL"]
["OBJECT","6590","NOTUSED - MISELLANEOUS PURCH SERV"]
["OBJECT","6591","NOTUSED - SERVS PURCH FROM NON-DIST"]
["OBJECT","6592","PURCH SERV /OTHER AZ DIST"]
["OBJECT","6593","NOTUSED - PURCH SERV OUT OF STATE"]
["OBJECT","6600","NOTUSED - SUPPLIES"]
["OBJECT","6610","GENERAL SUPPLIES"]
["OBJECT","6611","DISTRICT SUPPLIES"]
["OBJECT","6612","NOTUSED - SUPPLIES FOR SALE/RENT"]
["OBJECT","6620","NOTUSED - ENERGY"]
["OBJECT","6621","NATURAL GAS"]
["OBJECT","6622","ELECTRICITY"]
["OBJECT","6623","NOTUSED - BOTTLED GAS"]
["OBJECT","6624","NOTUSED - OIL"]
["OBJECT","6625","NOTUSED - COAL"]
["OBJECT","6626","Fuel - Unleaded"]
["OBJECT","6627","Fuel - Diesel"]
["OBJECT","6629","NOTUSED - OTHER {ENERGY}"]
["OBJECT","6630","FOOD"]
["OBJECT","6631","USDA COMMODITIES"]
["OBJECT","6632","OTHER FOOD"]
["OBJECT","6633","NOTUSED - MILK"]
["OBJECT","6634","NOTUSED - FOOD SERV SUPPLIES"]
["OBJECT","6640","NOTUSED - BOOKS & PERIODICALS"]
["OBJECT","6641","LIBRARY BOOKS"]
["OBJECT","6642","TEXTBOOKS"]
["OBJECT","6643","INSTRUCTIONAL AIDS"]
["OBJECT","6644","NOTUSED - OTHER BOOKS"]
["OBJECT","6650","NOTUSED - SUPPLIES TECH RELATED"]
["OBJECT","6655","Short Term Noninstructional Software Subscription"]
["OBJECT","6700","PROPERTY"]
["OBJECT","6710","LAND & IMPROVEMENTS"]
["OBJECT","6720","BUILDINGS"]
["OBJECT","6730","NOTUSED - EQUIPMENT"]
["OBJECT","6731","FURN & EQUIP OVER $1000"]
["OBJECT","6732","FURN & EQUIP UNDER $1000"]
["OBJECT","6733","FURNITURE & EQUIPMENT $5000 OR MORE"]
["OBJECT","6734","VEHICLES"]
["OBJECT","6735","UNDESIGNATED"]
["OBJECT","6736","VEHICLES $5,000 OR MORE"]
["OBJECT","6737","IT HARDWARE & SOFTWARE"]
["OBJECT","6739","Tech Related Hardware-Software over $5000"]
["OBJECT","6740","NOTUSED - DEPRECIATION"]
["OBJECT","6750","NOTUSED - CAPITAL ASSET IMPAIRMENTS"]
["OBJECT","6800","NOTUSED - OTHER OBJECTS"]
["OBJECT","6810","DUES & FEES"]
["OBJECT","6820","JUDGMENTS AGAIN DISTRICT"]
["OBJECT","6830","REDEMPTION OF PRINCIPAL"]
["OBJECT","6831","BONDS"]
["OBJECT","6832","OTHER"]
["OBJECT","6833","INST. SOFTWARE SUBSCRIPTION >12MOS"]
["OBJECT","6840","INTEREST"]
["OBJECT","6841","Bond Interest"]
["OBJECT","6842","Other Interest Loans-Capital Leases"]
["OBJECT","6850","OTHER INTEREST"]
["OBJECT","6860","NOTUSED - AMORTIZATION/BOND ISSUANCE/OTHER"]
["OBJECT","6870","NOTUSED - LOSS ON SALE IN INVESTMEN"]
["OBJECT","6880","NOTUSED - LOSS/SALE OF FIXED ASSETS"]
["OBJECT","6890","MISCELLANEOUS EXPENDITURE"]
["OBJECT","6899","NOTUSED - MISC EXPENSE-BUD BAL XFER"]
["OBJECT","6900","NOTUSED - BUDGET ADJ/OTHER FIN USES"]
["OBJECT","6910","INDIRECT COSTS"]
["OBJECT","6930","NOTUSED - INTERFUND TRANSFERS OUT"]
["OBJECT","6940","NOTUSED - PAYMENT BOND ESCROW AGENT"]
["OBJECT","6950","NOTUSED - SPECIAL ITEMS"]
["OBJECT","6960","NOTUSED - EXTRAORINARY ITEMS"]
["OBJECT","9999","NOTUSED - SYSTEM ACCOUNT"]
["UNIT","000","UNDEFINED UNIT"]
["UNIT","100","ELEMENTARY SCHOOL"]
["UNIT","101","LIBERTY SCHOOL"]
["UNIT","102","ESTRELLA MTN SCHOOL"]
["UNIT","103","RAINBOW VALLEY SCHOOL"]
["UNIT","104","WESTAR ELEMENTARY SCHOOL"]
["UNIT","105","FREEDOM ELEMENTARY SCHOOL"]
["UNIT","106","LAS BRISAS ACADEMY"]
["UNIT","107","BLUE HORIZONS ELEMENTARY SCHOOL"]
["UNIT","108","LORETTA ZUMBRO ELEMENTARY SCHOOL"]
["UNIT","200","HIGH SCHOOL"]
["UNIT","500","DISTRICTWIDE"]
["UNIT","501","SUPERINTENDENT"]
["UNIT","502","BUSINESS OFFICE"]
["UNIT","503","HUMAN RESOURCES"]
["UNIT","504","TECHNOLOGY"]
["UNIT","507","MAINTENANCE"]
["UNIT","508","TRANSPORTATION"]
["UNIT","509","WAREHOUSE & DISTRIBUTION"]
["UNIT","510","EDUCATIONAL SERVICES"]
["UNIT","700","DSCS District"]
["UNIT","702","DSCS Estrella"]
["UNIT","704","DSCS Westar Elementary "]
["UNIT","705","DSCS Freedom Elementary "]
["UNIT","900","Liberty Online School"]
["UNIT","901","AGUILA DISTRICT"]
["UNIT","902","ARLINGTON DISTRICT"]
["UNIT","903","BUCKEYE UNION HS DISTRICT"]
["UNIT","904","PALO VERDE DISTRICT"]
["UNIT","905","SADDLE MOUNTAIN DISTRICT"]
["COURSE","000","UNDEFINED COURSE"]
["COURSE","100","SCHOOL PERFORMANCE BONUS"]
["COURSE","101","Auxilary Revenue-Liberty"]
["COURSE","102","Auxilary Revenue-Estrella"]
["COURSE","103","Auxilary Revenue-Rainbow"]
["COURSE","104","Auxilary Revenue-Westar"]
["COURSE","105","Auxilary Revenue-Freedom"]
["COURSE","106","1.06 State Teacher Salary Increase"]
["COURSE","151","Music"]
["COURSE","170","Auxilary Revenue-Transportation"]
["COURSE","200","MENTOR TEACHER GRANT"]
["COURSE","201","WESTSIDE IMPACT GRANT"]
["COURSE","202","Miscellaneous Mini Grant "]
["COURSE","203","Mini Grant - SC Classroom"]
["COURSE","204","Mini Grant-Sams Estrella"]
["COURSE","205","Mini Grant - Wells Fargo"]
["COURSE","206","Gift and Donations-Blue Horizons"]
["COURSE","207","Contribution - EM PTO Playgound"]
["COURSE","208","Mini Grant - Special Services"]
["COURSE","209","Mentor Program Donations"]
["COURSE","210","Contribution - Rodel "]
["COURSE","211","Scholarship Contribution-Jerry Rovey"]
["COURSE","212","White Tanks Rotary - RV Weekly Reader"]
["COURSE","213","Used Textbook Sales"]
["COURSE","214","Mini Grants - Westside Impact"]
["COURSE","215","Donation J Rovey Scholarship Fund"]
["COURSE","216","Westar Donation"]
["COURSE","217","Rainbow Grant/Donation"]
["COURSE","218","Donation - Meritage Homes"]
["COURSE","219","Donation - Estrella"]
["COURSE","220","Professional Development-Math"]
["COURSE","221","Donstion - Phoenix Suns"]
["COURSE","222","Donation - City of Goodyear"]
["COURSE","223","Donations Outdoor Classroom"]
["COURSE","224","Grant-Toyota Tapestry"]
["COURSE","225","Donation - Safeway"]
["COURSE","226","Donation - FRD Golf Club"]
["COURSE","227","Staffing Donation - PR"]
["COURSE","228","Donation - FRD PTO"]
["COURSE","229","Mini Grant-West Valley Effective Teaching"]
["COURSE","230","United Way Grant - Food Service"]
["COURSE","400","Innovation Fund"]
["COURSE","500","Auxilary Revenue-District Office"]
["COURSE","504","Technology"]
["COURSE","507","Maintenance"]
["COURSE","508","Transportation"]
["COURSE","509","Special Services"]
["COURSE","510","Educational Services"]
["COURSE","511","Science Curriculum"]
["COURSE","512","Math Curriculum"]
["COURSE","513","Reading Interventionist"]
["COURSE","514","Writing Curriculum"]
["COURSE","515","Music"]
["COURSE","516","Band Summer Camp"]
["COURSE","517","Instructional Coaches"]
["COURSE","599","Budget Revision Place Holder"]
["COURSE","600","CAPITAL PROJECTS"]
["COURSE","601","Bond - Liberty Amphitheater"]
["COURSE","602","Bond - Gymnasium Upgrades"]
["COURSE","603","Bond - Classroom Sound Amplification"]
["COURSE","604","Bond - SPED Accomodations"]
["COURSE","605","Bond - Playground Equipment/Shade"]
["COURSE","606","Bond - Roof Replacements"]
["COURSE","607","Bond - Irrigation System Upgrades"]
["COURSE","608","Bond - District Office/Community Center"]
["COURSE","609","Bond - District Warehouse"]
["COURSE","610","Bond - Estrella Fine Arts"]
["COURSE","611","Bond - Energy Management Systems"]
["COURSE","612","Bond - Pupil Transportation"]
["COURSE","613","Bond - A/C Existing Buses"]
["COURSE","614","Bond - Supplement New Schools"]
["COURSE","615","Bond - A Series Contingency"]
["COURSE","616","Bond - Liberty Campus Upgrades"]
["COURSE","617","Bond - LB Amphitheater"]
["COURSE","618","Bond - Portables @ Freedom"]
["COURSE","619","Bond - Gym Upgrades"]
["COURSE","620","Bond - Site Improvements"]
["COURSE","621","Bond - School #6"]
["COURSE","622","Bond - Westar Fence Replacement"]
["COURSE","623","Bond - Liberty Restroom Remodels"]
["COURSE","624","Bond - Liberty Classroom Addition"]
["COURSE","625","Bond - Energy Performance Contracting"]
["COURSE","626","Bond - Estrella Bldg 400 Roof/HVAC Renovation"]
["COURSE","627","Bond - Liberty Asphalt/Fence"]
["COURSE","628","Bond - Westar Classroom Addition"]
["COURSE","629","Bond - Estrella Amphitheater Upgrade"]
["COURSE","630","Bond - Technology, Furniture, and Equipment"]
["COURSE","631","Bond - Campus Upgrades"]
["COURSE","632","Bond - Campus Asphalt Upgrades"]
["COURSE","633","Bond - Estrella Storm Drain"]
["COURSE","634","Bond - Westar Capital Lease "]
["COURSE","635","Bond - New School Construction"]
["COURSE","636","Bond - FF&E New School"]
["COURSE","637","Bond - Pupil Transportation"]
["COURSE","638","Bond - New School Architect/Engineering"]
["COURSE","639","Bond - New School Permitting/Fees"]
["COURSE","640","Bond - FY21 Liberty Elementary Rebuild"]
["COURSE","641","Bond - School #7"]
["COURSE","642","Bond - Transportation Facility Expansion"]
["COURSE","643","Bond - Liberty Road Improvements"]
["COURSE","644","Bond - Exterior Painting"]
["COURSE","645","Bond- Playground Safety"]
["COURSE","699","Capital Contingency"]
["COURSE","701","Signature Program - Liberty"]
["COURSE","702","Signature Program - Estrella"]
["COURSE","703","Signature Program - Rainbow Valley"]
["COURSE","704","Signature Program - Westar"]
["COURSE","705","Signature Program - Freedom"]
["COURSE","706","Signature Program - Las Brisas"]
["COURSE","707","Signature Program - Blue Horizons"]
["COURSE","900","Growth Funds"]
["COURSE","999","FY08 SCIENCE ADOPTION"]
["PROJECT","0000","UNDEFINED PROJECT"]
["PROJECT","0504","FY04 County Grant Fund 050"]
["PROJECT","0719","FY09 SEI BUDGET"]
["PROJECT","0720","FY10 COMPENSA INSTR - ENG LANG DEV #10SACELD/17A"]
["PROJECT","0721","FY11 COMPENSA INSTRU-ENG LANG DEV"]
["PROJECT","0727","#07SAAELD-760700-17A"]
["PROJECT","0728","#08SAAELD-860700-18A"]
["PROJECT","0729","FY09 COMPENSATORY INSTR-ENG LANG DEVELOPMT"]
["PROJECT","0738","#08SAASER-860700-15A"]
["PROJECT","0748","#08SAAERC-860700-17A"]
["PROJECT","0758","#08SAAERP-860700-16A"]
["PROJECT","1000","FY20 TITLE I"]
["PROJECT","1001","FY11 TITLE I LEA"]
["PROJECT","1002","FY22 Title I LEA"]
["PROJECT","1003","#03FASTTI-FY03 TITLE I"]
["PROJECT","1004","TITLE I - BASIC"]
["PROJECT","1005","TITLE I - BASIC"]
["PROJECT","1006","TITLE I - BASIC"]
["PROJECT","1007","TITLE I - BASIC"]
["PROJECT","1008","TITLE I - BASIC"]
["PROJECT","1009","TITLE I - BASIC"]
["PROJECT","1010","TITLE I - BASIC"]
["PROJECT","1011","TITLE I - BASIC FY2021"]
["PROJECT","1013","TITLE I - BASIC"]
["PROJECT","1018","TITLE 1 - BASIC"]
["PROJECT","1019","TITLE I - BASIC"]
["PROJECT","1020","FY10 T I LEA IMPROVEMENT YR 1, #10FAATL1/19A"]
["PROJECT","1060","FY10 ARRA TITLE I GRANT, #10FAAART-060700-02A"]
["PROJECT","1071","FY11 ARRA Title I Cont."]
["PROJECT","1149","FY09 T I SCH IMPROVEMENT-WARNING"]
["PROJECT","1150","FY20 TARGETED SCHOOL IMPRVMNT"]
["PROJECT","1151","FY21 TARGETED SCHOOL IMPRVMNT"]
["PROJECT","1162","Targeted School Improvement FY22"]
["PROJECT","1204","FY04 Reading First"]
["PROJECT","1205","#05FSARFS"]
["PROJECT","1206","#06FSARFS GRANT"]
["PROJECT","1300","FY20 MIGRANT ED BASIC GRANT"]
["PROJECT","1302","MIGRANT ED BASIC GRANT"]
["PROJECT","1304","MIGRANT ED BASIC GRANT"]
["PROJECT","1306","MIGRANT ED BASIC GRANT"]
["PROJECT","1307","MIGRANT ED BASIC GRANT"]
["PROJECT","1308","MIGRANT ED BASIC GRANT"]
["PROJECT","1309","MIGRANT ED BASIC GRANT"]
["PROJECT","1311","MIGRANT ED BASIC GRANT"]
["PROJECT","1313","MIGRANT ED BASIC GRANT"]
["PROJECT","1314","MIGRANT ED BASIC GRANT"]
["PROJECT","1315","MIGRANT ED BASIC GRANT"]
["PROJECT","1316","MIGRANT ED BASIC GRANT"]
["PROJECT","1317","MIGRANT ED BASIC GRANT"]
["PROJECT","1318","MIGRANT ED BASIC"]
["PROJECT","1319","MIGRANT ED BASIC GRANT"]
["PROJECT","1400","TITLE II IMPROVING TCHR QUALITY"]
["PROJECT","1401","TITLE II IMPROVING TCHR QUALITY"]
["PROJECT","1402","TITLE II IMPROVING TCHR QUALITY"]
["PROJECT","1403","TITLE II IMPROVING TCHR QUALITY"]
["PROJECT","1404","TITLE II IMPROVING TCHR QUALITY"]
["PROJECT","1405","TITLE II IMPROVING TCHR QUALITY"]
["PROJECT","1406","TITLE II IMPROVING TCHR QUALITY"]
["PROJECT","1407","TITLE II IMPROVING TCHR QUALITY"]
["PROJECT","1408","TITLE II IMPROVING TCHR QUALITY"]
["PROJECT","1409","TITLE II IMPROVING TCHR QUALITY"]
["PROJECT","1410","FY20 TITLE II"]
["PROJECT","1412","Title II FY22"]
["PROJECT","1415","FY15 Migrant Return of Funds"]
["PROJECT","1418","FY18 Return of Title II Funds"]
["PROJECT","1419","TITLE II IMPROVING TCHR QUALITY"]
["PROJECT","1420","FY10 ARRA ENHANCING ED TH/TECH TII - D"]
["PROJECT","1421","FY11 ARRA Title IID"]
["PROJECT","1501","FY01 TECH LITERACY CHLLG"]
["PROJECT","1502","#02FADTLC-260700-12A"]
["PROJECT","1511","FY01 TECH LITERACY CHLLG"]
["PROJECT","1516","FY16 Grant Return of Funds"]
["PROJECT","1520","FY10 ENHANCING ED TH/TECH, #10FETETF-060700-15A"]
["PROJECT","1521","FY11 Title IID Enh Ed Technology"]
["PROJECT","1523","#03FADETF-FY03 T IID ENHN"]
["PROJECT","1524","FY04 Title IID"]
["PROJECT","1525","#05FAAETF"]
["PROJECT","1526","#06FBPETF GRANT"]
["PROJECT","1527","#07FBPETF-760700-06A"]
["PROJECT","1528","#08FSEETF-860700-12A"]
["PROJECT","1529","FY09 ENHANCING ED THRU TECHNOLOGY"]
["PROJECT","1600","FY20 TITLE IV "]
["PROJECT","1601","FY21 TITLE IV"]
["PROJECT","1602","#02FSSIVB-260700-07A"]
["PROJECT","1603","#03FSSIVB-FY03 TT IVB S&D"]
["PROJECT","1605","#05FBPIVB"]
["PROJECT","1606","#06FBPIVB GRANT"]
["PROJECT","1607","#07FBPIVB-760700-12A"]
["PROJECT","1608","#08FSDIVB-860700-05A"]
["PROJECT","1609","FY09 TITLE IV SAFE & DRUG FREE BASIC"]
["PROJECT","1612","Title IV FY22"]
["PROJECT","1800","00FASTVI--FY00 TITLE VI"]
["PROJECT","1802","#02FASTVI-260700-05A"]
["PROJECT","1803","#03FASTVA-FY03 T VA INNOV"]
["PROJECT","1804","FY04 Title V"]
["PROJECT","1805","#05FAATVA"]
["PROJECT","1806","#06FAATVA GRANT"]
["PROJECT","1807","#07FAATVA-760700-05A"]
["PROJECT","1808","#08FAATVA-860700-10A"]
["PROJECT","1809","FY09 TITLE V PART A INNOVATIVE PROGRAMS"]
["PROJECT","1819","FY19 Grant Return of Funds"]
["PROJECT","1931","TITLE III LEP PROGRAM"]
["PROJECT","1932","TITLE III LEP PROGRAM"]
["PROJECT","1934","TITLE III LEP PROGRAM"]
["PROJECT","1935","TITLE III LEP PROGRAM"]
["PROJECT","1936","TITLE III LEP PROGRAM"]
["PROJECT","1938","TITLE III"]
["PROJECT","1939","TITLE III"]
["PROJECT","1940","FY20 TITLE III LEP PROGRAM"]
["PROJECT","1942","Title III FY22"]
["PROJECT","1943","TITLE III LEP PROGRAM"]
["PROJECT","1944","TITLE III LEP PROGRAM"]
["PROJECT","1945","TITLE III LEP PROGRAM"]
["PROJECT","1946","TITLE III LEP PROGRAM"]
["PROJECT","1947","TITLE III LEP PROGRAM"]
["PROJECT","1948","TITLE III LEP PROGRAM"]
["PROJECT","1949","TITLE III LEP PROGRAM"]
["PROJECT","2001","NSLP Equipment Grant"]
["PROJECT","2200","IDEA BASIC ENTITLEMENT"]
["PROJECT","2201","IDEA BASIC ENTITLEMENT"]
["PROJECT","2202","IDEA BASIC ENTITLEMENT"]
["PROJECT","2203","IDEA BASIC ENTITLEMENT"]
["PROJECT","2204","IDEA BASIC ENTITLEMENT"]
["PROJECT","2205","IDEA BASIC ENTITLEMENT"]
["PROJECT","2206","IDEA BASIC ENTITLEMENT"]
["PROJECT","2207","IDEA BASIC ENTITLEMENT"]
["PROJECT","2208","IDEA BASIC ENTITLEMENT"]
["PROJECT","2209","IDEA BASIC ENTITLEMENT"]
["PROJECT","2210","FY20 IDEA - PRESCHOOL GRANT"]
["PROJECT","2211","IDEA - PRESCHOOL GRANT"]
["PROJECT","2212","IDEA - PRESCHOOL GRANT"]
["PROJECT","2213","IDEA - PRESCHOOL GRANT"]
["PROJECT","2214","IDEA - PRESCHOOL GRANT"]
["PROJECT","2215","IDEA - PRESCHOOL GRANT"]
["PROJECT","2216","IDEA - PRESCHOOL GRANT"]
["PROJECT","2217","IDEA - PRESCHOOL GRANT"]
["PROJECT","2218","IDEA - PRESCHOOL GRANT"]
["PROJECT","2219","IDEA - PRESCHOOL GRANT"]
["PROJECT","2220","FY10 IDEA-ASA MATH ACADEMY YR 2, #10FESAMA/05A"]
["PROJECT","2229","FY09 IDEA-ASA MATH ACADEMY"]
["PROJECT","2230","FY20 IDEA BASIC"]
["PROJECT","2232","FY12 IDEA Autism Spectrum Disorder"]
["PROJECT","2233","FY13 Autism SD"]
["PROJECT","2238","#08FESSPD-860700-19A"]
["PROJECT","2239","FUND 223 YR 0809 (INTEREST)"]
["PROJECT","2240","FY20 IDEA PRESCHOOL"]
["PROJECT","2242","IDEA Preschool FY22"]
["PROJECT","2249","FY09 STATE PERSONNEL DEVELOPMENT GRT"]
["PROJECT","2250","FY10 ARRA IDEA PRESCHOOL, #10FECAIP-060700-09A"]
["PROJECT","2251","FY11 ARRA Preschool"]
["PROJECT","2256","#06FESASD GRANT"]
["PROJECT","2257","#07FESAS2-760700-01A"]
["PROJECT","2258","#08FESASY-860700-01A"]
["PROJECT","2260","FY10 ARRA IDEA GRANT, #10FESAIG-060700-16A"]
["PROJECT","2261","FY11 ARRA IDEA "]
["PROJECT","2270","FY10 IDEA ASAMA, #10FESASA-060700-18A"]
["PROJECT","2271","FY11 IDEA ASAMA YR 2"]
["PROJECT","2272","FY22 ARP IDEA GRANT"]
["PROJECT","2273","FY13 IDEA Monitoring"]
["PROJECT","2276","FY16 IDEA AZ TECH GRANT"]
["PROJECT","2282","FY22 ARP IDEA PRESCHOOL GRANT"]
["PROJECT","2288","#08FESSCR-860700-02A"]
["PROJECT","2289","FY09 IDEA-SYSTEMIC CHANGE IN READING YR2"]
["PROJECT","2292","FY02 FUND 229--IDEA FUND"]
["PROJECT","2307","FY 96-97 FUND 230"]
["PROJECT","2308","FY98 IDEA PART B-GEN ENT"]
["PROJECT","2327","FY 96-97 FUND 232"]
["PROJECT","2328","FY98 IDEA PART B-PRESCH"]
["PROJECT","2333","FY13 Autism SD"]
["PROJECT","2830","FY10 ARRA MCKINNEY-VENTO HOMELESS ED, #10FSEMKV/01"]
["PROJECT","2831","FY11 ARRA Homeless"]
["PROJECT","2900","FY00 MEDICAID OUTREACH"]
["PROJECT","2901","FY01 MEDICAID OUTREACH RM"]
["PROJECT","2909","FY99 MEDICAID OUTREACH"]
["PROJECT","2950","00FASGLS--FY00 GOALS 2000"]
["PROJECT","2951","FY01 GOALS 2000"]
["PROJECT","2952","FY02 FUND 295--GOALS2000"]
["PROJECT","2959","FY99 TITLE III--GOALS2000"]
["PROJECT","3072","School Safety Program ESSER FY22"]
["PROJECT","3107","FY 96-97 FUND 310"]
["PROJECT","3117","FY 96-97 FUND 311"]
["PROJECT","3200","00FASEMI--FY00 EMER IMMIG"]
["PROJECT","3201","FY01 FUND 320, EMERG IMMG"]
["PROJECT","3202","#02FASEMI-260700-11A"]
["PROJECT","3208","FY98 EMERGENCY IMMIGRANT"]
["PROJECT","3209","FY99 EMERGENCY IMMIGRANT"]
["PROJECT","3210","FY00 EMER IMMIG--INTEREST"]
["PROJECT","3260","FY20 ESSER"]
["PROJECT","3261","FY21 ESSER GRANT"]
["PROJECT","3358","FY98 MEDICAID OUTREACH"]
["PROJECT","3361","FY21 ESSER II GRANT"]
["PROJECT","3362","ESSER II FY22"]
["PROJECT","3462","ESSER III FY22"]
["PROJECT","3740","FY00 E--RATE REIMB"]
["PROJECT","3741","FY01 E-RATE REIMBURSEMENT"]
["PROJECT","3746","FY06 ERATE REIMBURSEMENT"]
["PROJECT","3747","FY07 E-Rate Reimbursement"]
["PROJECT","3748","FY08 E-RATE REIMBURSEMENT"]
["PROJECT","3807","FY 96-97 FUND 380"]
["PROJECT","3808","FY98 HANDICPPD PUPILS-ESY"]
["PROJECT","3906","FY96 STATE TOBACCO TAX"]
["PROJECT","3907","FY 96-97 FUND 390"]
["PROJECT","3908","FY98 STATE TOBACCO TAX"]
["PROJECT","3927","FY 96-97 FUND 392"]
["PROJECT","3928","FY98 STATE CHEM ABUSE PRV"]
["PROJECT","3967","FY 96-97 FUND 396"]
["PROJECT","3968","FY98 GIFTED EDUCATION"]
["PROJECT","3987","FY 96-97 FUND 398"]
["PROJECT","3988","FY98 EARLY CHILDHD ST BLK"]
["PROJECT","4100","00SASECB--FY00 EARLY CHHD"]
["PROJECT","4101","FY01 EARLY CHILDHOOD BLCK"]
["PROJECT","4102","#02SSSECB-260700-01A"]
["PROJECT","4103","#03SSSCHM-FY03 EARLY CHLD"]
["PROJECT","4104","FY04 Early Childhood"]
["PROJECT","4105","#05SECECB"]
["PROJECT","4106","#06SECECB GRANT"]
["PROJECT","4107","#07SECECB-760700-11A"]
["PROJECT","4108","#08SECECB-860700-04A"]
["PROJECT","4109","FY09 EARLY CHILDHOOD BLOCK GRANT"]
["PROJECT","4191","FY01 FUND 419, EARLY CHHD"]
["PROJECT","4300","FY10 STATE CHEM ABUSE, #10SSDCHM-060700-12A"]
["PROJECT","4301","FY01 STATE CHEMICAL ABUSE"]
["PROJECT","4302","#02SSSCHM-260700-08A"]
["PROJECT","4303","#03SSSCHM-FY03 ST CHEM AB"]
["PROJECT","4304","FY04 State Chemical"]
["PROJECT","4305","#05SBPCHM"]
["PROJECT","4306","#06SBPCHM GRANT"]
["PROJECT","4307","#07SBPCHM-760700-13A"]
["PROJECT","4308","#08SSDCHM-860700-06A"]
["PROJECT","4309","FY09 STATE CHEMICAL ABUSE"]
["PROJECT","4500","FY10 GIFTED EDUCATION, #10SSAGFT-060700-14A"]
["PROJECT","4501","FY01 GIFTED EDUCATION"]
["PROJECT","4502","#02SESGFT-260700-12A"]
["PROJECT","4503","#03SESGFT-FY03 GIFTED ED"]
["PROJECT","4504","FY04 Gifted"]
["PROJECT","4505","#05SAAGFT"]
["PROJECT","4506","#06SAAGFT GRANT"]
["PROJECT","4507","#07SAAGFT-760700-08A"]
["PROJECT","4508","#08SSAGFT-860700-11A"]
["PROJECT","4509","FY09 GIFTED EDUCATION"]
["PROJECT","4609","FY99 ENVIRON SPEC PLATE"]
["PROJECT","4660","FY00 SYS PHONICS INSTRCTN"]
["PROJECT","4661","FY01 SYS PHONICS INSTR"]
["PROJECT","4669","FY99 SYS PHONICS-HB 2130"]
["PROJECT","4671","FY01 PRNTL CH/RDING SUC"]
["PROJECT","4700","00SSSTOB-FY00 TOB ED&PREV"]
["PROJECT","4701","FY01 TOBACCO ED&PREV PROG"]
["PROJECT","4706","#06SAASEI GRANT"]
["PROJECT","4709","FY99 ST TOBACCO ED & PREV"]
["PROJECT","4724","FY04 ELL Bonus"]
["PROJECT","4727","#07SAAECR-760700-16A"]
["PROJECT","4735","#05SAAELF"]
["PROJECT","4736","#06SAAEIR GRANT"]
["PROJECT","4737","#07SAAELF-760700-10A"]
["PROJECT","4739","FY09 ENGLISH LANG INSTRUCTION RENEWAL"]
["PROJECT","4744","#04SAAEBF"]
["PROJECT","4746","#06SAAEBF GRANT"]
["PROJECT","4775","#05SAAELM"]
["PROJECT","4776","#06SAAMSR GRANT"]
["PROJECT","4777","#07SAAMSR-760700-15A"]
["PROJECT","4802","School Safety Program Expansion FY22"]
["PROJECT","4849","FY09 SEI REIMBURSEMENT-COMPLETE"]
["PROJECT","4859","FY09 SEI REIMBURSEMENT - 45 PROVISIONAL"]
["PROJECT","4869","FY09 SEI REIMBURSEMENT - CONTINUATION"]
["PROJECT","4878","#08SSEARG-860700-13A"]
["PROJECT","9011","FUND 440-04-01-91 ISSUE"]

{"sheet":"Accounting Data","index":17,"n_rows":100001,"n_cols":27,"rows_kept":2250,"cut":true,"hidden":false,"merged":[[1,3,12,3]],"bounds":{"rows_first":1000,"rows_last":250,"rows_between":1000,"halvings":1}}
["Account ","Description","YTD Transactions",null,"Final Fund","Rollup Fund","Fund","Program","Function","Object","Unit","Primary Unit Code","Final Unit Code",null,"Bold Funds","PY Ending Fund Balance","Calculated CY Beginning Fund Balance","Final CY Beginning Fund Balance",null,null,null,null,null,null,null,null,{"$f":"SUM(AA2:AA100000)","v":0}]
["001.000.0000.0103.000.000.0000","DEPOSIT WITH COUNTY TREASURER",1829056.89,"Vision users should press the Parse Account button above, which will populate the Fund, Program, Function, Object, and Unit columns (G, H, I, J, and K). Some districts may need to work with their information technology (IT) departments to make this a trusted file and enable macros.",{"$f":"IF(AND(F2<>\"\",F2=G2),\"ERROR\",IF(AND(F2<>\"\",F2<>G2),F2,G2))","v":"001"},null,"001","000","0000","0103","000",null,{"$f":"IF(L2<>\"\",L2,K2)","v":"000"},null,"001",{"$f":"'[2]Page 1'!$E$58","v":4015353},3985307,{"$f":"IF(Q2=\"\",P2,Q2)","v":3985307},null,null,null,null,null,null,null,{"$f":"'School listing'!F7","v":500},{"$f":"IF(OR(SUMPRODUCT(--(E2=$O$1:$O$541))>0,E2=0),0,1)","v":0}]
["001.000.0000.0300.000.000.0000","GOVERNMENTAL FUND BALANCE",-3985306.83,null,"001",null,"001","000","0000","0300","000",null,"000",null,"010",{"$f":"'[2]Page 3'!$P$21","v":1756532},null,1756532,null,null,null,null,null,null,null,{"$f":"'School listing'!F8","v":0},{"$f":"IF(OR(SUMPRODUCT(--(E3=$O$1:$O$541))>0,E3=0),0,1)","v":0}]
["001.000.0000.1111.000.000.0000","PERSONAL PROPERTY TAXES",-3973218.29,null,"001",null,"001","000","0000","1111","000",null,"000",null,"020",{"$f":"[2]!F020EndFundBal","v":206456},492885,492885,null,null,null,null,null,null,null,{"$f":"'School listing'!F9","v":0},{"$f":"IF(OR(SUMPRODUCT(--(E4=$O$1:$O$541))>0,E4=0),0,1)","v":0}]
["001.000.0000.1112.000.000.0000","REAL PROPERTY TAXES",-2975385.99,null,"001",null,"001","000","0000","1112","000",null,"000",null,"050",{"$f":"[2]!F050EndFundBal","v":0},null,0,null,null,null,null,null,null,null,{"$f":"'School listing'!F10","v":101},{"$f":"IF(OR(SUMPRODUCT(--(E5=$O$1:$O$541))>0,E5=0),0,1)","v":0}]
["001.000.0000.1280.000.000.0000","REVENUE IN LIEU OF TAXES",-40563.519999999997,null,"001",null,"001","000","0000","1280","000",null,"000",null,"071",{"$f":"[2]!F071EndFundBal","v":0},null,0,null,null,null,null,null,null,null,{"$f":"'School listing'!F11","v":102},{"$f":"IF(OR(SUMPRODUCT(--(E6=$O$1:$O$541))>0,E6=0),0,1)","v":0}]
["001.000.0000.1510.000.000.0000","INTEREST ON INVESMENTS",-128932.28,null,{"$f":"IF(AND(F7<>\"\",F7=G7),\"ERROR\",IF(AND(F7<>\"\",F7<>G7),F7,G7))","v":"001"},null,"001","000","0000","1510","000",null,"000",null,"072",{"$f":"[2]!F072EndFundBal","v":0},null,0,null,null,null,null,null,null,null,{"$f":"'School listing'!F12","v":103},{"$f":"IF(OR(SUMPRODUCT(--(E7=$O$1:$O$541))>0,E7=0),0,1)","v":0}]
["001.000.0000.1530.000.000.0000","NET INCREASE/(DECREASE) IN THE FAIR VALUE OF INVT",-1475.68,null,"001",null,"001","000","0000","1530","000",null,"000",null,"100",{"$f":"[2]!F100_130EndFundBal","v":-66150},-66325,-66325,null,null,null,null,null,null,null,{"$f":"'School listing'!F13","v":104},{"$f":"IF(OR(SUMPRODUCT(--(E8=$O$1:$O$541))>0,E8=0),0,1)","v":0}]
["001.000.0000.1940.000.000.0000","GOVERNMENT PROPERTY LEASE EXCISE TAX (GPLET)",-3832.54,null,{"$f":"IF(AND(F9<>\"\",F9=G9),\"ERROR\",IF(AND(F9<>\"\",F9<>G9),F9,G9))","v":"001"},null,"001","000","0000","1940","000",null,"000",null,"101",null,null,null,null,null,null,null,null,null,null,{"$f":"'School listing'!F14","v":105},{"$f":"IF(OR(SUMPRODUCT(--(E9=$O$1:$O$541))>0,E9=0),0,1)","v":0}]
["001.000.0000.1980.000.000.0000","REFUND OF PRIOR YEAR'S EXPENDITURES",-49980.17,null,"001",null,"001","000","0000","1980","000",null,"000",null,"102",null,null,null,null,null,null,null,null,null,null,{"$f":"'School listing'!F15","v":106},{"$f":"IF(OR(SUMPRODUCT(--(E10=$O$1:$O$541))>0,E10=0),0,1)","v":0}]
["001.000.0000.1981.000.000.0000","REVERSE EXPENDITURE - ACCOUNTS PAYABLE",-9721.66,null,"001",null,"001","000","0000","1981","000",null,"000",null,"103",null,null,null,null,null,null,null,null,null,null,{"$f":"'School listing'!F16","v":107},{"$f":"IF(OR(SUMPRODUCT(--(E11=$O$1:$O$541))>0,E11=0),0,1)","v":0}]
["001.000.0000.2100.000.000.0000","UNRESTRICTED  COUNTY REVENUE",1901.71,null,"001",null,"001","000","0000","2100","000",null,"000",null,"104",null,null,null,null,null,null,null,null,null,null,{"$f":"'School listing'!F17","v":0},{"$f":"IF(OR(SUMPRODUCT(--(E12=$O$1:$O$541))>0,E12=0),0,1)","v":0}]
["001.000.0000.2120.000.000.0000","COUNTY EQUALIZATION ASSISTANCE",58.37,null,"001",null,"001","000","0000","2120","000",null,"000",null,"105",null,null,null,null,null,null,null,null,null,null,{"$f":"'School listing'!F18","v":0},{"$f":"IF(OR(SUMPRODUCT(--(E13=$O$1:$O$541))>0,E13=0),0,1)","v":0}]
["001.000.0000.3100.000.000.0000","UNRESTRICTED STATE REVENUE",-1366833.39,null,"001",null,"001","000","0000","3100","000",null,"000",null,"106",null,null,null,null,null,null,null,null,null,null,{"$f":"'School listing'!F19","v":0},{"$f":"IF(OR(SUMPRODUCT(--(E14=$O$1:$O$541))>0,E14=0),0,1)","v":0}]
["001.000.0000.3110.000.000.0000","STATE EUQALIZATION ASSISTANCE",-24017553.039999999,null,"001",null,"001","000","0000","3110","000",null,"000",null,"107",null,null,null,null,null,null,null,null,null,null,{"$f":"'School listing'!F20","v":0},{"$f":"IF(OR(SUMPRODUCT(--(E15=$O$1:$O$541))>0,E15=0),0,1)","v":0}]
["001.000.0000.3120.000.000.0000","ADDITIONAL STATE AID",-1958820.54,null,"001",null,"001","000","0000","3120","000",null,"000",null,"108",null,null,null,null,null,null,null,null,null,null,{"$f":"'School listing'!F21","v":0},{"$f":"IF(OR(SUMPRODUCT(--(E16=$O$1:$O$541))>0,E16=0),0,1)","v":0}]
["001.100.1000.6105.106.000.0000","SUBSTITUTE TEACHER",12775,null,"001",null,"001","100","1000","6105","106",null,"106",null,"109",null,null,null,null,null,null,null,null,null,null,{"$f":"'School listing'!F22","v":0},{"$f":"IF(OR(SUMPRODUCT(--(E17=$O$1:$O$541))>0,E17=0),0,1)","v":0}]
["001.100.1000.6105.500.000.0000","SUBSTITUTE TEACHER",363425.66,null,"001",null,"001","100","1000","6105","500",null,"500",null,"110",null,null,null,null,null,null,null,null,null,null,{"$f":"'School listing'!F23","v":0},{"$f":"IF(OR(SUMPRODUCT(--(E18=$O$1:$O$541))>0,E18=0),0,1)","v":0}]
["001.100.1000.6112.101.000.0000","CERTIFIED TEACHERS",583011.92000000004,null,"001",null,"001","100","1000","6112","101",null,"101",null,"111",null,null,null,null,null,null,null,null,null,null,{"$f":"'School listing'!F24","v":0},{"$f":"IF(OR(SUMPRODUCT(--(E19=$O$1:$O$541))>0,E19=0),0,1)","v":0}]
["001.100.1000.6112.102.000.0000","CERTIFIED TEACHERS",967695.63,null,"001",null,"001","100","1000","6112","102",null,"102",null,"112",null,null,null,null,null,null,null,null,null,null,{"$f":"'School listing'!F25","v":0},{"$f":"IF(OR(SUMPRODUCT(--(E20=$O$1:$O$541))>0,E20=0),0,1)","v":0}]
["001.100.1000.6112.102.517.0000","CERTIFIED TEACHERS",37090.94,null,"001",null,"001","100","1000","6112","102",null,"102",null,"113",null,null,null,null,null,null,null,null,null,null,{"$f":"'School listing'!F26","v":0},{"$f":"IF(OR(SUMPRODUCT(--(E21=$O$1:$O$541))>0,E21=0),0,1)","v":0}]
["001.100.1000.6112.103.000.0000","CERTIFIED TEACHERS",925264.03,null,"001",null,"001","100","1000","6112","103",null,"103",null,"114",null,null,null,null,null,null,null,null,null,null,{"$f":"'School listing'!F27","v":0},{"$f":"IF(OR(SUMPRODUCT(--(E22=$O$1:$O$541))>0,E22=0),0,1)","v":0}]
["001.100.1000.6112.103.513.0000","CERTIFIED TEACHERS",26812,null,"001",null,"001","100","1000","6112","103",null,"103",null,"115",null,null,null,null,null,null,null,null,null,null,{"$f":"'School listing'!F28","v":0},{"$f":"IF(OR(SUMPRODUCT(--(E23=$O$1:$O$541))>0,E23=0),0,1)","v":0}]
["001.100.1000.6112.103.517.0000","CERTIFIED TEACHERS",37577.5,null,"001",null,"001","100","1000","6112","103",null,"103",null,"116",null,null,null,null,null,null,null,null,null,null,{"$f":"'School listing'!F29","v":0},{"$f":"IF(OR(SUMPRODUCT(--(E24=$O$1:$O$541))>0,E24=0),0,1)","v":0}]
["001.100.1000.6112.104.000.0000","CERTIFIED TEACHERS",1403935.6,null,"001",null,"001","100","1000","6112","104",null,"104",null,"117",null,null,null,null,null,null,null,null,null,null,{"$f":"'School listing'!F30","v":0},{"$f":"IF(OR(SUMPRODUCT(--(E25=$O$1:$O$541))>0,E25=0),0,1)","v":0}]
["001.100.1000.6112.105.000.0000","CERTIFIED TEACHERS",1014240.73,null,"001",null,"001","100","1000","6112","105",null,"105",null,"118",null,null,null,null,null,null,null,null,null,null,{"$f":"'School listing'!F31","v":0},{"$f":"IF(OR(SUMPRODUCT(--(E26=$O$1:$O$541))>0,E26=0),0,1)","v":0}]
["001.100.1000.6112.106.000.0000","CERTIFIED TEACHERS",1240589.0900000001,null,"001",null,"001","100","1000","6112","106",null,"106",null,"119",null,null,null,null,null,null,null,null,null,null,{"$f":"'School listing'!F32","v":0},{"$f":"IF(OR(SUMPRODUCT(--(E27=$O$1:$O$541))>0,E27=0),0,1)","v":0}]
["001.100.1000.6112.106.517.0000","CERTIFIED TEACHERS",32876.639999999999,null,"001",null,"001","100","1000","6112","106",null,"106",null,"120",null,null,null,null,null,null,null,null,null,null,{"$f":"'School listing'!F33","v":0},{"$f":"IF(OR(SUMPRODUCT(--(E28=$O$1:$O$541))>0,E28=0),0,1)","v":0}]
["001.100.1000.6112.107.000.0000","CERTIFIED TEACHERS",1856117.04,null,"001",null,"001","100","1000","6112","107",null,"107",null,"121",null,null,null,null,null,null,null,null,null,null,{"$f":"'School listing'!F34","v":0},{"$f":"IF(OR(SUMPRODUCT(--(E29=$O$1:$O$541))>0,E29=0),0,1)","v":0}]
["001.100.1000.6112.107.517.0000","CERTIFIED TEACHERS",34184.559999999998,null,"001",null,"001","100","1000","6112","107",null,"107",null,"122",null,null,null,null,null,null,null,null,null,null,{"$f":"'School listing'!F35","v":0},{"$f":"IF(OR(SUMPRODUCT(--(E30=$O$1:$O$541))>0,E30=0),0,1)","v":0}]
["001.100.1000.6112.500.000.0000","CERTIFIED TEACHERS",1000,null,"001",null,"001","100","1000","6112","500",null,"500",null,"123",null,null,null,null,null,null,null,null,null,null,{"$f":"'School listing'!F36","v":0},{"$f":"IF(OR(SUMPRODUCT(--(E31=$O$1:$O$541))>0,E31=0),0,1)","v":0}]
["001.100.1000.6113.102.000.0000","CERTIFIED SUBSTITUTE TEACHERS",562.5,null,"001",null,"001","100","1000","6113","102",null,"102",null,"124",null,null,null,null,null,null,null,null,null,null,{"$f":"'School listing'!F37","v":0},{"$f":"IF(OR(SUMPRODUCT(--(E32=$O$1:$O$541))>0,E32=0),0,1)","v":0}]
["001.100.1000.6113.104.000.0000","CERTIFIED SUBSTITUTE TEACHERS",46570,null,"001",null,"001","100","1000","6113","104",null,"104",null,"125",null,null,null,null,null,null,null,null,null,null,{"$f":"'School listing'!F38","v":0},{"$f":"IF(OR(SUMPRODUCT(--(E33=$O$1:$O$541))>0,E33=0),0,1)","v":0}]
["001.100.1000.6113.106.000.0000","CERTIFIED SUBSTITUTE TEACHERS",100,null,"001",null,"001","100","1000","6113","106",null,"106",null,"126",null,null,null,null,null,null,null,null,null,null,{"$f":"'School listing'!F39","v":0},{"$f":"IF(OR(SUMPRODUCT(--(E34=$O$1:$O$541))>0,E34=0),0,1)","v":0}]
["001.100.1000.6113.107.000.0000","CERTIFIED SUBSTITUTE TEACHERS",825,null,"001",null,"001","100","1000","6113","107",null,"107",null,"127",null,null,null,null,null,null,null,null,null,null,{"$f":"'School listing'!F40","v":0},{"$f":"IF(OR(SUMPRODUCT(--(E35=$O$1:$O$541))>0,E35=0),0,1)","v":0}]
["001.100.1000.6113.510.000.0000","CERTIFIED SUBSTITUTE TEACHERS",10383.780000000001,null,"001",null,"001","100","1000","6113","510",500,500,null,"128",null,null,null,null,null,null,null,null,null,null,{"$f":"'School listing'!F41","v":0},{"$f":"IF(OR(SUMPRODUCT(--(E36=$O$1:$O$541))>0,E36=0),0,1)","v":0}]
["001.100.1000.6114.101.000.0000","CERTIFIED OTHER",14077.21,null,"001",null,"001","100","1000","6114","101",null,"101",null,"129",null,null,null,null,null,null,null,null,null,null,{"$f":"'School listing'!F42","v":0},{"$f":"IF(OR(SUMPRODUCT(--(E37=$O$1:$O$541))>0,E37=0),0,1)","v":0}]
["001.100.1000.6114.101.701.0000","CERTIFIED OTHER",530.20000000000005,null,"001",null,"001","100","1000","6114","101",null,"101",null,"130",null,null,null,null,null,null,null,null,null,null,{"$f":"'School listing'!F43","v":0},{"$f":"IF(OR(SUMPRODUCT(--(E38=$O$1:$O$541))>0,E38=0),0,1)","v":0}]
["001.100.1000.6114.102.000.0000","CERTIFIED OTHER",14643.12,null,"001",null,"001","100","1000","6114","102",null,"102",null,"131",null,null,null,null,null,null,null,null,null,null,{"$f":"'School listing'!F44","v":0},{"$f":"IF(OR(SUMPRODUCT(--(E39=$O$1:$O$541))>0,E39=0),0,1)","v":0}]
["001.100.1000.6114.103.000.0000","CERTIFIED OTHER",31462.92,null,"001",null,"001","100","1000","6114","103",null,"103",null,"132",null,null,null,null,null,null,null,null,null,null,{"$f":"'School listing'!F45","v":0},{"$f":"IF(OR(SUMPRODUCT(--(E40=$O$1:$O$541))>0,E40=0),0,1)","v":0}]
["001.100.1000.6114.103.513.0000","CERTIFIED OTHER",252,null,"001",null,"001","100","1000","6114","103",null,"103",null,"133",null,null,null,null,null,null,null,null,null,null,{"$f":"'School listing'!F46","v":0},{"$f":"IF(OR(SUMPRODUCT(--(E41=$O$1:$O$541))>0,E41=0),0,1)","v":0}]
["001.100.1000.6114.103.517.0000","CERTIFIED OTHER",1439,null,"001",null,"001","100","1000","6114","103",null,"103",null,"134",null,null,null,null,null,null,null,null,null,null,{"$f":"'School listing'!F47","v":0},{"$f":"IF(OR(SUMPRODUCT(--(E42=$O$1:$O$541))>0,E42=0),0,1)","v":0}]
["001.100.1000.6114.104.000.0000","CERTIFIED OTHER",25362.6,null,"001",null,"001","100","1000","6114","104",null,"104",null,"135",null,null,null,null,null,null,null,null,null,null,{"$f":"'School listing'!F48","v":0},{"$f":"IF(OR(SUMPRODUCT(--(E43=$O$1:$O$541))>0,E43=0),0,1)","v":0}]
["001.100.1000.6114.105.000.0000","CERTIFIED OTHER",20379.71,null,"001",null,"001","100","1000","6114","105",null,"105",null,"136",null,null,null,null,null,null,null,null,null,null,{"$f":"'School listing'!F49","v":0},{"$f":"IF(OR(SUMPRODUCT(--(E44=$O$1:$O$541))>0,E44=0),0,1)","v":0}]
["001.100.1000.6114.105.705.0000","CERTIFIED OTHER",3411.45,null,"001",null,"001","100","1000","6114","105",null,"105",null,"137",null,null,null,null,null,null,null,null,null,null,{"$f":"'School listing'!F50","v":0},{"$f":"IF(OR(SUMPRODUCT(--(E45=$O$1:$O$541))>0,E45=0),0,1)","v":0}]
["001.100.1000.6114.106.000.0000","CERTIFIED OTHER",14453.02,null,"001",null,"001","100","1000","6114","106",null,"106",null,"138",null,null,null,null,null,null,null,null,null,null,{"$f":"'School listing'!F51","v":0},{"$f":"IF(OR(SUMPRODUCT(--(E46=$O$1:$O$541))>0,E46=0),0,1)","v":0}]
["001.100.1000.6114.106.517.0000","CERTIFIED OTHER",2002.45,null,"001",null,"001","100","1000","6114","106",null,"106",null,"139",null,null,null,null,null,null,null,null,null,null,{"$f":"'School listing'!F52","v":0},{"$f":"IF(OR(SUMPRODUCT(--(E47=$O$1:$O$541))>0,E47=0),0,1)","v":0}]
["001.100.1000.6114.107.000.0000","CERTIFIED OTHER",33333.949999999997,null,"001",null,"001","100","1000","6114","107",null,"107",null,"140",{"$f":"[2]!F140_150EndFundBal","v":-7033},-919,{"$f":"IF(Q48=\"\",P48,Q48)","v":-919},null,null,null,null,null,null,null,{"$f":"'School listing'!F53","v":0},{"$f":"IF(OR(SUMPRODUCT(--(E48=$O$1:$O$541))>0,E48=0),0,1)","v":0}]
["001.100.1000.6114.107.517.0000","CERTIFIED OTHER",1252,null,"001",null,"001","100","1000","6114","107",null,"107",null,"141",null,null,null,null,null,null,null,null,null,null,{"$f":"'School listing'!F54","v":0},{"$f":"IF(OR(SUMPRODUCT(--(E49=$O$1:$O$541))>0,E49=0),0,1)","v":0}]
["001.100.1000.6210.101.000.0000","EMPLOYEE INSURANCE",61123.3,null,"001",null,"001","100","1000","6210","101",null,"101",null,"142",null,null,null,null,null,null,null,null,null,null,{"$f":"'School listing'!F55","v":0},{"$f":"IF(OR(SUMPRODUCT(--(E50=$O$1:$O$541))>0,E50=0),0,1)","v":0}]
["001.100.1000.6210.102.000.0000","EMPLOYEE INSURANCE",116315.96,null,"001",null,"001","100","1000","6210","102",null,"102",null,"143",null,null,null,null,null,null,null,null,null,null,{"$f":"'School listing'!F56","v":0},{"$f":"IF(OR(SUMPRODUCT(--(E51=$O$1:$O$541))>0,E51=0),0,1)","v":0}]
["001.100.1000.6210.102.517.0000","EMPLOYEE INSURANCE",4389.0200000000004,null,"001",null,"001","100","1000","6210","102",null,"102",null,"144",null,null,null,null,null,null,null,null,null,null,{"$f":"'School listing'!F57","v":0},{"$f":"IF(OR(SUMPRODUCT(--(E52=$O$1:$O$541))>0,E52=0),0,1)","v":0}]
["001.100.1000.6210.103.000.0000","EMPLOYEE INSURANCE",109824.86,null,"001",null,"001","100","1000","6210","103",null,"103",null,"145",null,null,null,null,null,null,null,null,null,null,{"$f":"'School listing'!F58","v":0},{"$f":"IF(OR(SUMPRODUCT(--(E53=$O$1:$O$541))>0,E53=0),0,1)","v":0}]
["001.100.1000.6210.103.517.0000","EMPLOYEE INSURANCE",63,null,"001",null,"001","100","1000","6210","103",null,"103",null,"146",null,null,null,null,null,null,null,null,null,null,{"$f":"'School listing'!F59","v":0},{"$f":"IF(OR(SUMPRODUCT(--(E54=$O$1:$O$541))>0,E54=0),0,1)","v":0}]
["001.100.1000.6210.104.000.0000","EMPLOYEE INSURANCE",196890.99,null,"001",null,"001","100","1000","6210","104",null,"104",null,"147",null,null,null,null,null,null,null,null,null,null,{"$f":"'School listing'!F60","v":0},{"$f":"IF(OR(SUMPRODUCT(--(E55=$O$1:$O$541))>0,E55=0),0,1)","v":0}]
["001.100.1000.6210.105.000.0000","EMPLOYEE INSURANCE",137735.29,null,"001",null,"001","100","1000","6210","105",null,"105",null,"148",null,null,null,null,null,null,null,null,null,null,{"$f":"'School listing'!F61","v":0},{"$f":"IF(OR(SUMPRODUCT(--(E56=$O$1:$O$541))>0,E56=0),0,1)","v":0}]
["001.100.1000.6210.106.000.0000","EMPLOYEE INSURANCE",161679.5,null,"001",null,"001","100","1000","6210","106",null,"106",null,"149",null,null,null,null,null,null,null,null,null,null,{"$f":"'School listing'!F62","v":0},{"$f":"IF(OR(SUMPRODUCT(--(E57=$O$1:$O$541))>0,E57=0),0,1)","v":0}]
["001.100.1000.6210.106.517.0000","EMPLOYEE INSURANCE",4787.95,null,"001",null,"001","100","1000","6210","106",null,"106",null,"150",null,null,null,null,null,null,null,null,null,null,{"$f":"'School listing'!F63","v":0},{"$f":"IF(OR(SUMPRODUCT(--(E58=$O$1:$O$541))>0,E58=0),0,1)","v":0}]
["001.100.1000.6210.107.000.0000","EMPLOYEE INSURANCE",243172.91,null,"001",null,"001","100","1000","6210","107",null,"107",null,"151",null,null,null,null,null,null,null,null,null,null,{"$f":"'School listing'!F64","v":0},{"$f":"IF(OR(SUMPRODUCT(--(E59=$O$1:$O$541))>0,E59=0),0,1)","v":0}]
["001.100.1000.6210.107.517.0000","EMPLOYEE INSURANCE",4093.18,null,"001",null,"001","100","1000","6210","107",null,"107",null,"152",null,null,null,null,null,null,null,null,null,null,{"$f":"'School listing'!F65","v":0},{"$f":"IF(OR(SUMPRODUCT(--(E60=$O$1:$O$541))>0,E60=0),0,1)","v":0}]
["001.100.1000.6210.500.000.0000","EMPLOYEE INSURANCE",13877.16,null,"001",null,"001","100","1000","6210","500",null,"500",null,"153",null,null,null,null,null,null,null,null,null,null,{"$f":"'School listing'!F66","v":0},{"$f":"IF(OR(SUMPRODUCT(--(E61=$O$1:$O$541))>0,E61=0),0,1)","v":0}]
["001.100.1000.6221.101.000.0000","SOCIAL SECURITY - OASDI",35252.199999999997,null,"001",null,"001","100","1000","6221","101",null,"101",null,"154",null,null,null,null,null,null,null,null,null,null,{"$f":"'School listing'!F67","v":0},{"$f":"IF(OR(SUMPRODUCT(--(E62=$O$1:$O$541))>0,E62=0),0,1)","v":0}]
["001.100.1000.6221.101.701.0000","SOCIAL SECURITY - OASDI",32.5,null,"001",null,"001","100","1000","6221","101",null,"101",null,"155",null,null,null,null,null,null,null,null,null,null,{"$f":"'School listing'!F68","v":0},{"$f":"IF(OR(SUMPRODUCT(--(E63=$O$1:$O$541))>0,E63=0),0,1)","v":0}]
["001.100.1000.6221.102.000.0000","SOCIAL SECURITY - OASDI",57652.66,null,"001",null,"001","100","1000","6221","102",null,"102",null,"156",null,null,null,null,null,null,null,null,null,null,{"$f":"'School listing'!F69","v":0},{"$f":"IF(OR(SUMPRODUCT(--(E64=$O$1:$O$541))>0,E64=0),0,1)","v":0}]
["001.100.1000.6221.102.517.0000","SOCIAL SECURITY - OASDI",2087.75,null,"001",null,"001","100","1000","6221","102",null,"102",null,"157",null,null,null,null,null,null,null,null,null,null,{"$f":"'School listing'!F70","v":0},{"$f":"IF(OR(SUMPRODUCT(--(E65=$O$1:$O$541))>0,E65=0),0,1)","v":0}]
["001.100.1000.6221.103.000.0000","SOCIAL SECURITY - OASDI",53694.14,null,"001",null,"001","100","1000","6221","103",null,"103",null,"158",null,null,null,null,null,null,null,null,null,null,{"$f":"'School listing'!F71","v":0},{"$f":"IF(OR(SUMPRODUCT(--(E66=$O$1:$O$541))>0,E66=0),0,1)","v":0}]
["001.100.1000.6221.103.513.0000","SOCIAL SECURITY - OASDI",1677.87,null,{"$f":"IF(AND(F67<>\"\",F67=G67),\"ERROR\",IF(AND(F67<>\"\",F67<>G67),F67,G67))","v":"001"},null,"001","100","1000","6221","103",null,{"$f":"IF(L67<>\"\",L67,K67)","v":"103"},null,"159",null,null,null,null,null,null,null,null,null,null,{"$f":"'School listing'!F72","v":0},{"$f":"IF(OR(SUMPRODUCT(--(E67=$O$1:$O$541))>0,E67=0),0,1)","v":0}]
["001.100.1000.6221.103.517.0000","SOCIAL SECURITY - OASDI",2419.06,null,"001",null,"001","100","1000","6221","103",null,"103",null,"160",{"$f":"[2]!F160EndFundBal","v":-5806},-226,{"$f":"IF(Q68=\"\",P68,Q68)","v":-226},null,null,null,null,null,null,null,{"$f":"'School listing'!F73","v":0},{"$f":"IF(OR(SUMPRODUCT(--(E68=$O$1:$O$541))>0,E68=0),0,1)","v":0}]
["001.100.1000.6221.104.000.0000","SOCIAL SECURITY - OASDI",87368.67,null,"001",null,"001","100","1000","6221","104",null,"104",null,"161",null,null,null,null,null,null,null,null,null,null,{"$f":"'School listing'!F74","v":0},{"$f":"IF(OR(SUMPRODUCT(--(E69=$O$1:$O$541))>0,E69=0),0,1)","v":0}]
["001.100.1000.6221.105.000.0000","SOCIAL SECURITY - OASDI",58475.48,null,"001",null,"001","100","1000","6221","105",null,"105",null,"162",null,null,null,null,null,null,null,null,null,null,{"$f":"'School listing'!F75","v":0},{"$f":"IF(OR(SUMPRODUCT(--(E70=$O$1:$O$541))>0,E70=0),0,1)","v":0}]
["001.100.1000.6221.105.705.0000","SOCIAL SECURITY - OASDI",167.28,null,"001",null,"001","100","1000","6221","105",null,"105",null,"163",null,null,null,null,null,null,null,null,null,null,{"$f":"'School listing'!F76","v":0},{"$f":"IF(OR(SUMPRODUCT(--(E71=$O$1:$O$541))>0,E71=0),0,1)","v":0}]
["001.100.1000.6221.106.000.0000","SOCIAL SECURITY - OASDI",74760,null,"001",null,"001","100","1000","6221","106",null,"106",null,"164",null,null,null,null,null,null,null,null,null,null,{"$f":"'School listing'!F77","v":0},{"$f":"IF(OR(SUMPRODUCT(--(E72=$O$1:$O$541))>0,E72=0),0,1)","v":0}]
["001.100.1000.6221.106.517.0000","SOCIAL SECURITY - OASDI",2143.34,null,"001",null,"001","100","1000","6221","106",null,"106",null,"165",null,null,null,null,null,null,null,null,null,null,{"$f":"'School listing'!F78","v":0},{"$f":"IF(OR(SUMPRODUCT(--(E73=$O$1:$O$541))>0,E73=0),0,1)","v":0}]
["001.100.1000.6221.107.000.0000","SOCIAL SECURITY - OASDI",113272.17,null,"001",null,"001","100","1000","6221","107",null,"107",null,"166",null,null,null,null,null,null,null,null,null,null,{"$f":"'School listing'!F79","v":0},{"$f":"IF(OR(SUMPRODUCT(--(E74=$O$1:$O$541))>0,E74=0),0,1)","v":0}]
["001.100.1000.6221.107.517.0000","SOCIAL SECURITY - OASDI",2080.37,null,"001",null,"001","100","1000","6221","107",null,"107",null,"167",null,null,null,null,null,null,null,null,null,null,{"$f":"'School listing'!F80","v":0},{"$f":"IF(OR(SUMPRODUCT(--(E75=$O$1:$O$541))>0,E75=0),0,1)","v":0}]
["001.100.1000.6221.500.000.0000","SOCIAL SECURITY - OASDI",21894.59,null,"001",null,"001","100","1000","6221","500",null,"500",null,"168",null,null,null,null,null,null,null,null,null,null,{"$f":"'School listing'!F81","v":0},{"$f":"IF(OR(SUMPRODUCT(--(E76=$O$1:$O$541))>0,E76=0),0,1)","v":0}]
["001.100.1000.6221.510.000.0000","SOCIAL SECURITY - OASDI",643.79999999999995,null,"001",null,"001","100","1000","6221","510",500,500,null,"169",null,null,null,null,null,null,null,null,null,null,{"$f":"'School listing'!F82","v":0},{"$f":"IF(OR(SUMPRODUCT(--(E77=$O$1:$O$541))>0,E77=0),0,1)","v":0}]
["001.100.1000.6222.101.000.0000","MEDICARE - HOSPITAL INSURANCE",8244.52,null,"001",null,"001","100","1000","6222","101",null,"101",null,"170",{"$f":"[2]!F170_180EndFundBal","v":0},null,{"$f":"IF(Q78=\"\",P78,Q78)","v":0},null,null,null,null,null,null,null,{"$f":"'School listing'!F83","v":0},{"$f":"IF(OR(SUMPRODUCT(--(E78=$O$1:$O$541))>0,E78=0),0,1)","v":0}]
["001.100.1000.6222.101.701.0000","MEDICARE - HOSPITAL INSURANCE",7.68,null,"001",null,"001","100","1000","6222","101",null,"101",null,"171",null,null,null,null,null,null,null,null,null,null,{"$f":"'School listing'!F84","v":0},{"$f":"IF(OR(SUMPRODUCT(--(E79=$O$1:$O$541))>0,E79=0),0,1)","v":0}]
["001.100.1000.6222.102.000.0000","MEDICARE - HOSPITAL INSURANCE",13483.6,null,"001",null,"001","100","1000","6222","102",null,"102",null,"172",null,null,null,null,null,null,null,null,null,null,{"$f":"'School listing'!F85","v":0},{"$f":"IF(OR(SUMPRODUCT(--(E80=$O$1:$O$541))>0,E80=0),0,1)","v":0}]
["001.100.1000.6222.102.517.0000","MEDICARE - HOSPITAL INSURANCE",488.23,null,"001",null,"001","100","1000","6222","102",null,"102",null,"173",null,null,null,null,null,null,null,null,null,null,{"$f":"'School listing'!F86","v":0},{"$f":"IF(OR(SUMPRODUCT(--(E81=$O$1:$O$541))>0,E81=0),0,1)","v":0}]
["001.100.1000.6222.103.000.0000","MEDICARE - HOSPITAL INSURANCE",12557.09,null,"001",null,"001","100","1000","6222","103",null,"103",null,"174",null,null,null,null,null,null,null,null,null,null,{"$f":"'School listing'!F87","v":0},{"$f":"IF(OR(SUMPRODUCT(--(E82=$O$1:$O$541))>0,E82=0),0,1)","v":0}]
["001.100.1000.6222.103.513.0000","MEDICARE - HOSPITAL INSURANCE",392.51,null,"001",null,"001","100","1000","6222","103",null,"103",null,"175",null,null,null,null,null,null,null,null,null,null,{"$f":"'School listing'!F88","v":0},{"$f":"IF(OR(SUMPRODUCT(--(E83=$O$1:$O$541))>0,E83=0),0,1)","v":0}]
["001.100.1000.6222.103.517.0000","MEDICARE - HOSPITAL INSURANCE",565.79,null,"001",null,"001","100","1000","6222","103",null,"103",null,"176",null,null,null,null,null,null,null,null,null,null,{"$f":"'School listing'!F89","v":0},{"$f":"IF(OR(SUMPRODUCT(--(E84=$O$1:$O$541))>0,E84=0),0,1)","v":0}]
["001.100.1000.6222.104.000.0000","MEDICARE - HOSPITAL INSURANCE",20433.21,null,"001",null,"001","100","1000","6222","104",null,"104",null,"177",null,null,null,null,null,null,null,null,null,null,{"$f":"'School listing'!F90","v":0},{"$f":"IF(OR(SUMPRODUCT(--(E85=$O$1:$O$541))>0,E85=0),0,1)","v":0}]
["001.100.1000.6222.105.000.0000","MEDICARE - HOSPITAL INSURANCE",13675.76,null,"001",null,"001","100","1000","6222","105",null,"105",null,"178",null,null,null,null,null,null,null,null,null,null,{"$f":"'School listing'!F91","v":0},{"$f":"IF(OR(SUMPRODUCT(--(E86=$O$1:$O$541))>0,E86=0),0,1)","v":0}]
["001.100.1000.6222.105.705.0000","MEDICARE - HOSPITAL INSURANCE",39.229999999999997,null,"001",null,"001","100","1000","6222","105",null,"105",null,"179",null,null,null,null,null,null,null,null,null,null,{"$f":"'School listing'!F92","v":0},{"$f":"IF(OR(SUMPRODUCT(--(E87=$O$1:$O$541))>0,E87=0),0,1)","v":0}]
["001.100.1000.6222.106.000.0000","MEDICARE - HOSPITAL INSURANCE",17484.349999999999,null,"001",null,"001","100","1000","6222","106",null,"106",null,"180",null,null,null,null,null,null,null,null,null,null,{"$f":"'School listing'!F93","v":0},{"$f":"IF(OR(SUMPRODUCT(--(E88=$O$1:$O$541))>0,E88=0),0,1)","v":0}]
["001.100.1000.6222.106.517.0000","MEDICARE - HOSPITAL INSURANCE",501.37,null,"001",null,"001","100","1000","6222","106",null,"106",null,"181",null,null,null,null,null,null,null,null,null,null,{"$f":"'School listing'!F94","v":0},{"$f":"IF(OR(SUMPRODUCT(--(E89=$O$1:$O$541))>0,E89=0),0,1)","v":0}]
["001.100.1000.6222.107.000.0000","MEDICARE - HOSPITAL INSURANCE",26491.31,null,"001",null,"001","100","1000","6222","107",null,"107",null,"182",null,null,null,null,null,null,null,null,null,null,{"$f":"'School listing'!F95","v":0},{"$f":"IF(OR(SUMPRODUCT(--(E90=$O$1:$O$541))>0,E90=0),0,1)","v":0}]
["001.100.1000.6222.107.517.0000","MEDICARE - HOSPITAL INSURANCE",486.51,null,"001",null,"001","100","1000","6222","107",null,"107",null,"183",null,null,null,null,null,null,null,null,null,null,{"$f":"'School listing'!F96","v":0},{"$f":"IF(OR(SUMPRODUCT(--(E91=$O$1:$O$541))>0,E91=0),0,1)","v":0}]
["001.100.1000.6222.500.000.0000","MEDICARE - HOSPITAL INSURANCE",5121.1499999999996,null,"001",null,"001","100","1000","6222","500",null,"500",null,"184",null,null,null,null,null,null,null,null,null,null,{"$f":"'School listing'!F97","v":0},{"$f":"IF(OR(SUMPRODUCT(--(E92=$O$1:$O$541))>0,E92=0),0,1)","v":0}]
["001.100.1000.6222.510.000.0000","MEDICARE - HOSPITAL INSURANCE",150.59,null,"001",null,"001","100","1000","6222","510",500,500,null,"185",null,null,null,null,null,null,null,null,null,null,{"$f":"'School listing'!F98","v":0},{"$f":"IF(OR(SUMPRODUCT(--(E93=$O$1:$O$541))>0,E93=0),0,1)","v":0}]
["001.100.1000.6231.101.000.0000","STATE RETIREMENT",72040.02,null,"001",null,"001","100","1000","6231","101",null,"101",null,"186",null,null,null,null,null,null,null,null,null,null,{"$f":"'School listing'!F99","v":0},{"$f":"IF(OR(SUMPRODUCT(--(E94=$O$1:$O$541))>0,E94=0),0,1)","v":0}]
["001.100.1000.6231.101.701.0000","STATE RETIREMENT",63.7,null,"001",null,"001","100","1000","6231","101",null,"101",null,"187",null,null,null,null,null,null,null,null,null,null,null,{"$f":"IF(OR(SUMPRODUCT(--(E95=$O$1:$O$541))>0,E95=0),0,1)","v":0}]
["001.100.1000.6231.102.000.0000","STATE RETIREMENT",117681.71,null,"001",null,"001","100","1000","6231","102",null,"102",null,"188",null,null,null,null,null,null,null,null,null,null,null,{"$f":"IF(OR(SUMPRODUCT(--(E96=$O$1:$O$541))>0,E96=0),0,1)","v":0}]
["001.100.1000.6231.102.517.0000","STATE RETIREMENT",4460.1099999999997,null,"001",null,"001","100","1000","6231","102",null,"102",null,"189",null,null,null,null,null,null,null,null,null,null,null,{"$f":"IF(OR(SUMPRODUCT(--(E97=$O$1:$O$541))>0,E97=0),0,1)","v":0}]
["001.100.1000.6231.103.000.0000","STATE RETIREMENT",108730.63,null,"001",null,"001","100","1000","6231","103",null,"103",null,"190",{"$f":"[2]!F190EndFundBal","v":19024},-2297,{"$f":"IF(Q98=\"\",P98,Q98)","v":-2297},null,null,null,null,null,null,null,null,{"$f":"IF(OR(SUMPRODUCT(--(E98=$O$1:$O$541))>0,E98=0),0,1)","v":0}]
["001.100.1000.6231.103.513.0000","STATE RETIREMENT",3285.58,null,"001",null,"001","100","1000","6231","103",null,"103",null,"191",null,null,null,null,null,null,null,null,null,null,null,{"$f":"IF(OR(SUMPRODUCT(--(E99=$O$1:$O$541))>0,E99=0),0,1)","v":0}]
["001.100.1000.6231.103.517.0000","STATE RETIREMENT",4706.28,null,"001",null,"001","100","1000","6231","103",null,"103",null,"192",null,null,null,null,null,null,null,null,null,null,null,{"$f":"IF(OR(SUMPRODUCT(--(E100=$O$1:$O$541))>0,E100=0),0,1)","v":0}]
["001.100.1000.6231.104.000.0000","STATE RETIREMENT",177301.2,null,"001",null,"001","100","1000","6231","104",null,"104",null,"193",null,null,null,null,null,null,null,null,null,null,null,{"$f":"IF(OR(SUMPRODUCT(--(E101=$O$1:$O$541))>0,E101=0),0,1)","v":0}]
["001.100.1000.6231.105.000.0000","STATE RETIREMENT",117758.39999999999,null,"001",null,"001","100","1000","6231","105",null,"105",null,"194",null,null,null,null,null,null,null,null,null,null,null,{"$f":"IF(OR(SUMPRODUCT(--(E102=$O$1:$O$541))>0,E102=0),0,1)","v":0}]
["001.100.1000.6231.105.705.0000","STATE RETIREMENT",336.97,null,"001",null,"001","100","1000","6231","105",null,"105",null,"195",null,null,null,null,null,null,null,null,null,null,null,{"$f":"IF(OR(SUMPRODUCT(--(E103=$O$1:$O$541))>0,E103=0),0,1)","v":0}]
["001.100.1000.6231.106.000.0000","STATE RETIREMENT",150978.69,null,"001",null,"001","100","1000","6231","106",null,"106",null,"196",null,null,null,null,null,null,null,null,null,null,null,{"$f":"IF(OR(SUMPRODUCT(--(E104=$O$1:$O$541))>0,E104=0),0,1)","v":0}]
["001.100.1000.6231.106.517.0000","STATE RETIREMENT",4206.3900000000003,null,"001",null,"001","100","1000","6231","106",null,"106",null,"197",null,null,null,null,null,null,null,null,null,null,null,{"$f":"IF(OR(SUMPRODUCT(--(E105=$O$1:$O$541))>0,E105=0),0,1)","v":0}]
["001.100.1000.6231.107.000.0000","STATE RETIREMENT",227303.32,null,"001",null,"001","100","1000","6231","107",null,"107",null,"198",null,null,null,null,null,null,null,null,null,null,null,{"$f":"IF(OR(SUMPRODUCT(--(E106=$O$1:$O$541))>0,E106=0),0,1)","v":0}]
["001.100.1000.6231.107.517.0000","STATE RETIREMENT",4221.2700000000004,null,"001",null,"001","100","1000","6231","107",null,"107",null,"199",null,null,null,null,null,null,null,null,null,null,null,{"$f":"IF(OR(SUMPRODUCT(--(E107=$O$1:$O$541))>0,E107=0),0,1)","v":0}]
["001.100.1000.6231.500.000.0000","STATE RETIREMENT",24814.22,null,"001",null,"001","100","1000","6231","500",null,"500",null,"200",{"$f":"[2]!F200EndFundBal","v":0},null,{"$f":"IF(Q108=\"\",P108,Q108)","v":0},null,null,null,null,null,null,null,null,{"$f":"IF(OR(SUMPRODUCT(--(E108=$O$1:$O$541))>0,E108=0),0,1)","v":0}]
["001.100.1000.6231.510.000.0000","STATE RETIREMENT",957.93,null,"001",null,"001","100","1000","6231","510",500,500,null,"201",null,null,null,null,null,null,null,null,null,null,null,{"$f":"IF(OR(SUMPRODUCT(--(E109=$O$1:$O$541))>0,E109=0),0,1)","v":0}]
["001.100.1000.6232.101.000.0000","LONG TERM DISABILITY",890.29,null,"001",null,"001","100","1000","6232","101",null,"101",null,"202",null,null,null,null,null,null,null,null,null,null,null,{"$f":"IF(OR(SUMPRODUCT(--(E110=$O$1:$O$541))>0,E110=0),0,1)","v":0}]
["001.100.1000.6232.101.701.0000","LONG TERM DISABILITY",0.8,null,"001",null,"001","100","1000","6232","101",null,"101",null,"203",null,null,null,null,null,null,null,null,null,null,null,{"$f":"IF(OR(SUMPRODUCT(--(E111=$O$1:$O$541))>0,E111=0),0,1)","v":0}]
["001.100.1000.6232.102.000.0000","LONG TERM DISABILITY",1453.83,null,"001",null,"001","100","1000","6232","102",null,"102",null,"204",null,null,null,null,null,null,null,null,null,null,null,{"$f":"IF(OR(SUMPRODUCT(--(E112=$O$1:$O$541))>0,E112=0),0,1)","v":0}]
["001.100.1000.6232.102.517.0000","LONG TERM DISABILITY",55.1,null,"001",null,"001","100","1000","6232","102",null,"102",null,"205",null,null,null,null,null,null,null,null,null,null,null,{"$f":"IF(OR(SUMPRODUCT(--(E113=$O$1:$O$541))>0,E113=0),0,1)","v":0}]
["001.100.1000.6232.103.000.0000","LONG TERM DISABILITY",1343.48,null,"001",null,"001","100","1000","6232","103",null,"103",null,"206",null,null,null,null,null,null,null,null,null,null,null,{"$f":"IF(OR(SUMPRODUCT(--(E114=$O$1:$O$541))>0,E114=0),0,1)","v":0}]
["001.100.1000.6232.103.513.0000","LONG TERM DISABILITY",40.67,null,"001",null,"001","100","1000","6232","103",null,"103",null,"207",null,null,null,null,null,null,null,null,null,null,null,{"$f":"IF(OR(SUMPRODUCT(--(E115=$O$1:$O$541))>0,E115=0),0,1)","v":0}]
["001.100.1000.6232.103.517.0000","LONG TERM DISABILITY",58.15,null,"001",null,"001","100","1000","6232","103",null,"103",null,"208",null,null,null,null,null,null,null,null,null,null,null,{"$f":"IF(OR(SUMPRODUCT(--(E116=$O$1:$O$541))>0,E116=0),0,1)","v":0}]
["001.100.1000.6232.104.000.0000","LONG TERM DISABILITY",2191.14,null,"001",null,"001","100","1000","6232","104",null,"104",null,"209",null,null,null,null,null,null,null,null,null,null,null,{"$f":"IF(OR(SUMPRODUCT(--(E117=$O$1:$O$541))>0,E117=0),0,1)","v":0}]
["001.100.1000.6232.105.000.0000","LONG TERM DISABILITY",1426.09,null,"001",null,"001","100","1000","6232","105",null,"105",null,"210",{"$f":"[2]!F210EndFundBal","v":0},null,{"$f":"IF(Q118=\"\",P118,Q118)","v":0},null,null,null,null,null,null,null,null,{"$f":"IF(OR(SUMPRODUCT(--(E118=$O$1:$O$541))>0,E118=0),0,1)","v":0}]
["001.100.1000.6232.105.705.0000","LONG TERM DISABILITY",4.22,null,"001",null,"001","100","1000","6232","105",null,"105",null,"211",null,null,null,null,null,null,null,null,null,null,null,{"$f":"IF(OR(SUMPRODUCT(--(E119=$O$1:$O$541))>0,E119=0),0,1)","v":0}]
["001.100.1000.6232.106.000.0000","LONG TERM DISABILITY",1865.79,null,"001",null,"001","100","1000","6232","106",null,"106",null,"212",null,null,null,null,null,null,null,null,null,null,null,{"$f":"IF(OR(SUMPRODUCT(--(E120=$O$1:$O$541))>0,E120=0),0,1)","v":0}]
["001.100.1000.6232.106.517.0000","LONG TERM DISABILITY",51.99,null,"001",null,"001","100","1000","6232","106",null,"106",null,"213",null,null,null,null,null,null,null,null,null,null,null,{"$f":"IF(OR(SUMPRODUCT(--(E121=$O$1:$O$541))>0,E121=0),0,1)","v":0}]
["001.100.1000.6232.107.000.0000","LONG TERM DISABILITY",2808.22,null,"001",null,"001","100","1000","6232","107",null,"107",null,"214",null,null,null,null,null,null,null,null,null,null,null,{"$f":"IF(OR(SUMPRODUCT(--(E122=$O$1:$O$541))>0,E122=0),0,1)","v":0}]
["001.100.1000.6232.107.517.0000","LONG TERM DISABILITY",52.16,null,"001",null,"001","100","1000","6232","107",null,"107",null,"215",null,null,null,null,null,null,null,null,null,null,null,{"$f":"IF(OR(SUMPRODUCT(--(E123=$O$1:$O$541))>0,E123=0),0,1)","v":0}]
["001.100.1000.6232.500.000.0000","LONG TERM DISABILITY",272.44,null,"001",null,"001","100","1000","6232","500",null,"500",null,"216",null,null,null,null,null,null,null,null,null,null,null,{"$f":"IF(OR(SUMPRODUCT(--(E124=$O$1:$O$541))>0,E124=0),0,1)","v":0}]
["001.100.1000.6232.510.000.0000","LONG TERM DISABILITY",3.85,null,"001",null,"001","100","1000","6232","510",500,500,null,"217",null,null,null,null,null,null,null,null,null,null,null,{"$f":"IF(OR(SUMPRODUCT(--(E125=$O$1:$O$541))>0,E125=0),0,1)","v":0}]
["001.100.1000.6260.101.000.0000","WORKERS' COMPENSATION",3330.53,null,"001",null,"001","100","1000","6260","101",null,"101",null,"218",null,null,null,null,null,null,null,null,null,null,null,{"$f":"IF(OR(SUMPRODUCT(--(E126=$O$1:$O$541))>0,E126=0),0,1)","v":0}]
["001.100.1000.6260.101.701.0000","WORKERS' COMPENSATION",2.88,null,"001",null,"001","100","1000","6260","101",null,"101",null,"219",null,null,null,null,null,null,null,null,null,null,null,{"$f":"IF(OR(SUMPRODUCT(--(E127=$O$1:$O$541))>0,E127=0),0,1)","v":0}]
["001.100.1000.6260.102.000.0000","WORKERS' COMPENSATION",5445.56,null,"001",null,"001","100","1000","6260","102",null,"102",null,"220",{"$f":"[2]!F220EndFundBal","v":-213612},-123693,{"$f":"IF(Q128=\"\",P128,Q128)","v":-123693},null,null,null,null,null,null,null,null,{"$f":"IF(OR(SUMPRODUCT(--(E128=$O$1:$O$541))>0,E128=0),0,1)","v":0}]
["001.100.1000.6260.102.517.0000","WORKERS' COMPENSATION",205.7,null,"001",null,"001","100","1000","6260","102",null,"102",null,"221",null,null,null,null,null,null,null,null,null,null,null,{"$f":"IF(OR(SUMPRODUCT(--(E129=$O$1:$O$541))>0,E129=0),0,1)","v":0}]
["001.100.1000.6260.103.000.0000","WORKERS' COMPENSATION",5341.49,null,"001",null,"001","100","1000","6260","103",null,"103",null,"222",null,null,null,null,null,null,null,null,null,null,null,{"$f":"IF(OR(SUMPRODUCT(--(E130=$O$1:$O$541))>0,E130=0),0,1)","v":0}]
["001.100.1000.6260.103.513.0000","WORKERS' COMPENSATION",151.52000000000001,null,{"$f":"IF(AND(F131<>\"\",F131=G131),\"ERROR\",IF(AND(F131<>\"\",F131<>G131),F131,G131))","v":"001"},null,"001","100","1000","6260","103",null,{"$f":"IF(L131<>\"\",L131,K131)","v":"103"},null,"223",null,null,null,null,null,null,null,null,null,null,null,{"$f":"IF(OR(SUMPRODUCT(--(E131=$O$1:$O$541))>0,E131=0),0,1)","v":0}]
["001.100.1000.6260.103.517.0000","WORKERS' COMPENSATION",218.56,null,"001",null,"001","100","1000","6260","103",null,"103",null,"224",null,null,null,null,null,null,null,null,null,null,null,{"$f":"IF(OR(SUMPRODUCT(--(E132=$O$1:$O$541))>0,E132=0),0,1)","v":0}]
["001.100.1000.6260.104.000.0000","WORKERS' COMPENSATION",8192.52,null,"001",null,"001","100","1000","6260","104",null,"104",null,"225",null,null,null,null,null,null,null,null,null,null,null,{"$f":"IF(OR(SUMPRODUCT(--(E133=$O$1:$O$541))>0,E133=0),0,1)","v":0}]
["001.100.1000.6260.105.000.0000","WORKERS' COMPENSATION",5773.52,null,"001",null,"001","100","1000","6260","105",null,"105",null,"226",null,null,null,null,null,null,null,null,null,null,null,{"$f":"IF(OR(SUMPRODUCT(--(E134=$O$1:$O$541))>0,E134=0),0,1)","v":0}]
["001.100.1000.6260.105.705.0000","WORKERS' COMPENSATION",19.05,null,"001",null,"001","100","1000","6260","105",null,"105",null,"227",null,null,null,null,null,null,null,null,null,null,null,{"$f":"IF(OR(SUMPRODUCT(--(E135=$O$1:$O$541))>0,E135=0),0,1)","v":0}]
["001.100.1000.6260.106.000.0000","WORKERS' COMPENSATION",7054.98,null,"001",null,"001","100","1000","6260","106",null,"106",null,"228",null,null,null,null,null,null,null,null,null,null,null,{"$f":"IF(OR(SUMPRODUCT(--(E136=$O$1:$O$541))>0,E136=0),0,1)","v":0}]
["001.100.1000.6260.106.517.0000","WORKERS' COMPENSATION",194.01,null,"001",null,"001","100","1000","6260","106",null,"106",null,"229",null,null,null,null,null,null,null,null,null,null,null,{"$f":"IF(OR(SUMPRODUCT(--(E137=$O$1:$O$541))>0,E137=0),0,1)","v":0}]
["001.100.1000.6260.107.000.0000","WORKERS' COMPENSATION",10506.01,null,"001",null,"001","100","1000","6260","107",null,"107",null,"230",{"$f":"[2]!F230EndFundBal","v":0},null,{"$f":"IF(Q138=\"\",P138,Q138)","v":0},null,null,null,null,null,null,null,null,{"$f":"IF(OR(SUMPRODUCT(--(E138=$O$1:$O$541))>0,E138=0),0,1)","v":0}]
["001.100.1000.6260.107.517.0000","WORKERS' COMPENSATION",194.68,null,"001",null,"001","100","1000","6260","107",null,"107",null,"231",null,null,null,null,null,null,null,null,null,null,null,{"$f":"IF(OR(SUMPRODUCT(--(E139=$O$1:$O$541))>0,E139=0),0,1)","v":0}]
["001.100.1000.6260.500.000.0000","WORKERS' COMPENSATION",1979.42,null,"001",null,"001","100","1000","6260","500",null,"500",null,"232",null,null,null,null,null,null,null,null,null,null,null,{"$f":"IF(OR(SUMPRODUCT(--(E140=$O$1:$O$541))>0,E140=0),0,1)","v":0}]
["001.100.1000.6260.510.000.0000","WORKERS' COMPENSATION",58.15,null,"001",null,"001","100","1000","6260","510",500,500,null,"233",null,null,null,null,null,null,null,null,null,null,null,{"$f":"IF(OR(SUMPRODUCT(--(E141=$O$1:$O$541))>0,E141=0),0,1)","v":0}]
["001.100.1000.6290.101.000.0000","OTHER EMPLOYEE BENEFITS without ASRS",49.29,null,"001",null,"001","100","1000","6290","101",null,"101",null,"234",null,null,null,null,null,null,null,null,null,null,null,{"$f":"IF(OR(SUMPRODUCT(--(E142=$O$1:$O$541))>0,E142=0),0,1)","v":0}]
["001.100.1000.6290.102.000.0000","OTHER EMPLOYEE BENEFITS without ASRS",244.31,null,"001",null,"001","100","1000","6290","102",null,"102",null,"235",null,null,null,null,null,null,null,null,null,null,null,{"$f":"IF(OR(SUMPRODUCT(--(E143=$O$1:$O$541))>0,E143=0),0,1)","v":0}]
["001.100.1000.6290.102.517.0000","OTHER EMPLOYEE BENEFITS without ASRS",3.24,null,"001",null,"001","100","1000","6290","102",null,"102",null,"236",null,null,null,null,null,null,null,null,null,null,null,{"$f":"IF(OR(SUMPRODUCT(--(E144=$O$1:$O$541))>0,E144=0),0,1)","v":0}]
["001.100.1000.6290.103.000.0000","OTHER EMPLOYEE BENEFITS without ASRS",142.65,null,"001",null,"001","100","1000","6290","103",null,"103",null,"237",null,null,null,null,null,null,null,null,null,null,null,{"$f":"IF(OR(SUMPRODUCT(--(E145=$O$1:$O$541))>0,E145=0),0,1)","v":0}]
["001.100.1000.6290.103.517.0000","OTHER EMPLOYEE BENEFITS without ASRS",6,null,"001",null,"001","100","1000","6290","103",null,"103",null,"238",null,null,null,null,null,null,null,null,null,null,null,{"$f":"IF(OR(SUMPRODUCT(--(E146=$O$1:$O$541))>0,E146=0),0,1)","v":0}]
["001.100.1000.6290.104.000.0000","OTHER EMPLOYEE BENEFITS without ASRS",330.33,null,"001",null,"001","100","1000","6290","104",null,"104",null,"239",null,null,null,null,null,null,null,null,null,null,null,{"$f":"IF(OR(SUMPRODUCT(--(E147=$O$1:$O$541))>0,E147=0),0,1)","v":0}]
["001.100.1000.6290.105.000.0000","OTHER EMPLOYEE BENEFITS without ASRS",126.1,null,"001",null,"001","100","1000","6290","105",null,"105",null,"240",{"$f":"[2]!F240EndFundBal","v":0},null,{"$f":"IF(Q148=\"\",P148,Q148)","v":0},null,null,null,null,null,null,null,null,{"$f":"IF(OR(SUMPRODUCT(--(E148=$O$1:$O$541))>0,E148=0),0,1)","v":0}]
["001.100.1000.6290.106.000.0000","OTHER EMPLOYEE BENEFITS without ASRS",171.12,null,"001",null,"001","100","1000","6290","106",null,"106",null,"241",null,null,null,null,null,null,null,null,null,null,null,{"$f":"IF(OR(SUMPRODUCT(--(E149=$O$1:$O$541))>0,E149=0),0,1)","v":0}]
["001.100.1000.6290.106.517.0000","OTHER EMPLOYEE BENEFITS without ASRS",17.260000000000002,null,"001",null,"001","100","1000","6290","106",null,"106",null,"242",null,null,null,null,null,null,null,null,null,null,null,{"$f":"IF(OR(SUMPRODUCT(--(E150=$O$1:$O$541))>0,E150=0),0,1)","v":0}]
["001.100.1000.6290.107.000.0000","OTHER EMPLOYEE BENEFITS without ASRS",257.68,null,"001",null,"001","100","1000","6290","107",null,"107",null,"243",null,null,null,null,null,null,null,null,null,null,null,{"$f":"IF(OR(SUMPRODUCT(--(E151=$O$1:$O$541))>0,E151=0),0,1)","v":0}]
["001.100.1000.6290.107.517.0000","OTHER EMPLOYEE BENEFITS without ASRS",8.1999999999999993,null,"001",null,"001","100","1000","6290","107",null,"107",null,"244",null,null,null,null,null,null,null,null,null,null,null,{"$f":"IF(OR(SUMPRODUCT(--(E152=$O$1:$O$541))>0,E152=0),0,1)","v":0}]
["001.100.1000.6290.500.000.0000","OTHER EMPLOYEE BENEFITS without ASRS",4.95,null,"001",null,"001","100","1000","6290","500",null,"500",null,"245",null,null,null,null,null,null,null,null,null,null,null,{"$f":"IF(OR(SUMPRODUCT(--(E153=$O$1:$O$541))>0,E153=0),0,1)","v":0}]
["001.100.1000.6300.101.000.0000","PURCHASED PROFESSIONAL AND TECHNICAL SERVICES",10900,null,"001",null,"001","100","1000","6300","101",null,"101",null,"246",null,null,null,null,null,null,null,null,null,null,null,{"$f":"IF(OR(SUMPRODUCT(--(E154=$O$1:$O$541))>0,E154=0),0,1)","v":0}]
["001.100.1000.6300.103.000.0000","PURCHASED PROFESSIONAL AND TECHNICAL SERVICES",5474.57,null,"001",null,"001","100","1000","6300","103",null,"103",null,"247",null,null,null,null,null,null,null,null,null,null,null,{"$f":"IF(OR(SUMPRODUCT(--(E155=$O$1:$O$541))>0,E155=0),0,1)","v":0}]
["001.100.1000.6300.500.000.0000","PURCHASED PROFESSIONAL AND TECHNICAL SERVICES",10330.06,null,"001",null,"001","100","1000","6300","500",null,"500",null,"248",null,null,null,null,null,null,null,null,null,null,null,{"$f":"IF(OR(SUMPRODUCT(--(E156=$O$1:$O$541))>0,E156=0),0,1)","v":0}]
["001.100.1000.6531.101.000.0000","TELECOMMUNICATIONS",1180.3800000000001,null,"001",null,"001","100","1000","6531","101",null,"101",null,"249",null,null,null,null,null,null,null,null,null,null,null,{"$f":"IF(OR(SUMPRODUCT(--(E157=$O$1:$O$541))>0,E157=0),0,1)","v":0}]
["001.100.1000.6531.102.000.0000","TELECOMMUNICATIONS",645.59,null,"001",null,"001","100","1000","6531","102",null,"102",null,"250",{"$f":"[2]!F250EndFundBal","v":0},null,{"$f":"IF(Q158=\"\",P158,Q158)","v":0},null,null,null,null,null,null,null,null,{"$f":"IF(OR(SUMPRODUCT(--(E158=$O$1:$O$541))>0,E158=0),0,1)","v":0}]
["001.100.1000.6531.103.000.0000","TELECOMMUNICATIONS",2339.54,null,"001",null,"001","100","1000","6531","103",null,"103",null,"251",null,null,null,null,null,null,null,null,null,null,null,{"$f":"IF(OR(SUMPRODUCT(--(E159=$O$1:$O$541))>0,E159=0),0,1)","v":0}]
["001.100.1000.6531.104.000.0000","TELECOMMUNICATIONS",618.12,null,"001",null,"001","100","1000","6531","104",null,"104",null,"252",null,null,null,null,null,null,null,null,null,null,null,{"$f":"IF(OR(SUMPRODUCT(--(E160=$O$1:$O$541))>0,E160=0),0,1)","v":0}]
["001.100.1000.6531.105.000.0000","TELECOMMUNICATIONS",348.65,null,"001",null,"001","100","1000","6531","105",null,"105",null,"253",null,null,null,null,null,null,null,null,null,null,null,{"$f":"IF(OR(SUMPRODUCT(--(E161=$O$1:$O$541))>0,E161=0),0,1)","v":0}]
["001.100.1000.6531.106.000.0000","TELECOMMUNICATIONS",334.18,null,"001",null,"001","100","1000","6531","106",null,"106",null,"254",null,null,null,null,null,null,null,null,null,null,null,{"$f":"IF(OR(SUMPRODUCT(--(E162=$O$1:$O$541))>0,E162=0),0,1)","v":0}]
["001.100.1000.6531.107.000.0000","TELECOMMUNICATIONS",505.48,null,"001",null,"001","100","1000","6531","107",null,"107",null,"255",null,null,null,null,null,null,null,null,null,null,null,{"$f":"IF(OR(SUMPRODUCT(--(E163=$O$1:$O$541))>0,E163=0),0,1)","v":0}]
["001.100.1000.6561.500.000.0000","TUITION TO OTHER ARIZONA DISTRICTS",724.14,null,"001",null,"001","100","1000","6561","500",null,"500",null,"256",null,null,null,null,null,null,null,null,null,null,null,{"$f":"IF(OR(SUMPRODUCT(--(E164=$O$1:$O$541))>0,E164=0),0,1)","v":0}]
["001.100.1000.6610.101.000.0000","GENERAL SUPPLIES",8811.61,null,"001",null,"001","100","1000","6610","101",null,"101",null,"257",null,null,null,null,null,null,null,null,null,null,null,{"$f":"IF(OR(SUMPRODUCT(--(E165=$O$1:$O$541))>0,E165=0),0,1)","v":0}]
["001.100.1000.6610.101.701.0000","GENERAL SUPPLIES",1668.11,null,"001",null,"001","100","1000","6610","101",null,"101",null,"258",null,null,null,null,null,null,null,null,null,null,null,{"$f":"IF(OR(SUMPRODUCT(--(E166=$O$1:$O$541))>0,E166=0),0,1)","v":0}]
["001.100.1000.6610.102.000.0000","GENERAL SUPPLIES",18084.02,null,"001",null,"001","100","1000","6610","102",null,"102",null,"259",null,null,null,null,null,null,null,null,null,null,null,{"$f":"IF(OR(SUMPRODUCT(--(E167=$O$1:$O$541))>0,E167=0),0,1)","v":0}]
["001.100.1000.6610.102.702.0000","GENERAL SUPPLIES",773.37,null,"001",null,"001","100","1000","6610","102",null,"102",null,"260",{"$f":"[2]!F260_270EndFundBal","v":0},null,{"$f":"IF(Q168=\"\",P168,Q168)","v":0},null,null,null,null,null,null,null,null,{"$f":"IF(OR(SUMPRODUCT(--(E168=$O$1:$O$541))>0,E168=0),0,1)","v":0}]
["001.100.1000.6610.103.000.0000","GENERAL SUPPLIES",20300.509999999998,null,"001",null,"001","100","1000","6610","103",null,"103",null,"261",null,null,null,null,null,null,null,null,null,null,null,{"$f":"IF(OR(SUMPRODUCT(--(E169=$O$1:$O$541))>0,E169=0),0,1)","v":0}]
["001.100.1000.6610.104.000.0000","GENERAL SUPPLIES",24163.82,null,"001",null,"001","100","1000","6610","104",null,"104",null,"262",null,null,null,null,null,null,null,null,null,null,null,{"$f":"IF(OR(SUMPRODUCT(--(E170=$O$1:$O$541))>0,E170=0),0,1)","v":0}]
["001.100.1000.6610.104.704.0000","GENERAL SUPPLIES",13114.15,null,"001",null,"001","100","1000","6610","104",null,"104",null,"263",null,null,null,null,null,null,null,null,null,null,null,{"$f":"IF(OR(SUMPRODUCT(--(E171=$O$1:$O$541))>0,E171=0),0,1)","v":0}]
["001.100.1000.6610.105.000.0000","GENERAL SUPPLIES",21489.51,null,"001",null,"001","100","1000","6610","105",null,"105",null,"264",null,null,null,null,null,null,null,null,null,null,null,{"$f":"IF(OR(SUMPRODUCT(--(E172=$O$1:$O$541))>0,E172=0),0,1)","v":0}]
["001.100.1000.6610.106.000.0000","GENERAL SUPPLIES",18513.830000000002,null,"001",null,"001","100","1000","6610","106",null,"106",null,"265",null,null,null,null,null,null,null,null,null,null,null,{"$f":"IF(OR(SUMPRODUCT(--(E173=$O$1:$O$541))>0,E173=0),0,1)","v":0}]
["001.100.1000.6610.106.706.0000","GENERAL SUPPLIES",15307.48,null,"001",null,"001","100","1000","6610","106",null,"106",null,"266",null,null,null,null,null,null,null,null,null,null,null,{"$f":"IF(OR(SUMPRODUCT(--(E174=$O$1:$O$541))>0,E174=0),0,1)","v":0}]
["001.100.1000.6610.107.000.0000","GENERAL SUPPLIES",25782.86,null,"001",null,"001","100","1000","6610","107",null,"107",null,"267",null,null,null,null,null,null,null,null,null,null,null,{"$f":"IF(OR(SUMPRODUCT(--(E175=$O$1:$O$541))>0,E175=0),0,1)","v":0}]
["001.100.1000.6610.504.000.0000","GENERAL SUPPLIES",18102.009999999998,null,"001",null,"001","100","1000","6610","504",500,500,null,"268",null,null,null,null,null,null,null,null,null,null,null,{"$f":"IF(OR(SUMPRODUCT(--(E176=$O$1:$O$541))>0,E176=0),0,1)","v":0}]
["001.100.1000.6610.510.000.0000","GENERAL SUPPLIES",2322.29,null,"001",null,"001","100","1000","6610","510",500,500,null,"269",null,null,null,null,null,null,null,null,null,null,null,{"$f":"IF(OR(SUMPRODUCT(--(E177=$O$1:$O$541))>0,E177=0),0,1)","v":0}]
["001.100.1000.6650.504.000.0000","SUPPLIES - TECHNOLOGY-RELATED",2238.67,null,"001",null,"001","100","1000","6650","504",500,500,null,"270",null,null,null,null,null,null,null,null,null,null,null,{"$f":"IF(OR(SUMPRODUCT(--(E178=$O$1:$O$541))>0,E178=0),0,1)","v":0}]
["001.100.1000.6890.101.000.0000","MISCELLANEOUS EXPENDITURES",487.2,null,"001",null,"001","100","1000","6890","101",null,"101",null,"271",null,null,null,null,null,null,null,null,null,null,null,{"$f":"IF(OR(SUMPRODUCT(--(E179=$O$1:$O$541))>0,E179=0),0,1)","v":0}]
["001.100.1000.6890.102.000.0000","MISCELLANEOUS EXPENDITURES",180,null,"001",null,"001","100","1000","6890","102",null,"102",null,"272",null,null,null,null,null,null,null,null,null,null,null,{"$f":"IF(OR(SUMPRODUCT(--(E180=$O$1:$O$541))>0,E180=0),0,1)","v":0}]
["001.100.1000.6890.103.000.0000","MISCELLANEOUS EXPENDITURES",838,null,"001",null,"001","100","1000","6890","103",null,"103",null,"273",null,null,null,null,null,null,null,null,null,null,null,{"$f":"IF(OR(SUMPRODUCT(--(E181=$O$1:$O$541))>0,E181=0),0,1)","v":0}]
["001.100.1000.6890.104.000.0000","MISCELLANEOUS EXPENDITURES",180,null,"001",null,"001","100","1000","6890","104",null,"104",null,"274",null,null,null,null,null,null,null,null,null,null,null,{"$f":"IF(OR(SUMPRODUCT(--(E182=$O$1:$O$541))>0,E182=0),0,1)","v":0}]
["001.100.1000.6890.105.000.0000","MISCELLANEOUS EXPENDITURES",180,null,"001",null,"001","100","1000","6890","105",null,"105",null,"275",null,null,null,null,null,null,null,null,null,null,null,{"$f":"IF(OR(SUMPRODUCT(--(E183=$O$1:$O$541))>0,E183=0),0,1)","v":0}]
["001.100.1000.6890.106.000.0000","MISCELLANEOUS EXPENDITURES",180,null,"001",null,"001","100","1000","6890","106",null,"106",null,"276",null,null,null,null,null,null,null,null,null,null,null,{"$f":"IF(OR(SUMPRODUCT(--(E184=$O$1:$O$541))>0,E184=0),0,1)","v":0}]
["001.100.1000.6890.107.000.0000","MISCELLANEOUS EXPENDITURES",180,null,"001",null,"001","100","1000","6890","107",null,"107",null,"277",null,null,null,null,null,null,null,null,null,null,null,{"$f":"IF(OR(SUMPRODUCT(--(E185=$O$1:$O$541))>0,E185=0),0,1)","v":0}]
["001.100.1001.6105.101.000.0000","SUBSTITUTE TEACHER",6275,null,"001",null,"001","100","1001","6105","101",null,"101",null,"278",null,null,null,null,null,null,null,null,null,null,null,{"$f":"IF(OR(SUMPRODUCT(--(E186=$O$1:$O$541))>0,E186=0),0,1)","v":0}]
["001.100.1001.6105.102.000.0000","SUBSTITUTE TEACHER",9187.5,null,"001",null,"001","100","1001","6105","102",null,"102",null,"279",null,null,null,null,null,null,null,null,null,null,null,{"$f":"IF(OR(SUMPRODUCT(--(E187=$O$1:$O$541))>0,E187=0),0,1)","v":0}]
["001.100.1001.6105.103.000.0000","SUBSTITUTE TEACHER",2975,null,"001",null,"001","100","1001","6105","103",null,"103",null,"280",{"$f":"[2]!F280EndFundBal","v":0},null,{"$f":"IF(Q188=\"\",P188,Q188)","v":0},null,null,null,null,null,null,null,null,{"$f":"IF(OR(SUMPRODUCT(--(E188=$O$1:$O$541))>0,E188=0),0,1)","v":0}]
["001.100.1001.6105.104.000.0000","SUBSTITUTE TEACHER",54447.5,null,"001",null,"001","100","1001","6105","104",null,"104",null,"281",null,null,null,null,null,null,null,null,null,null,null,{"$f":"IF(OR(SUMPRODUCT(--(E189=$O$1:$O$541))>0,E189=0),0,1)","v":0}]
["001.100.1001.6105.105.000.0000","SUBSTITUTE TEACHER",1575,null,"001",null,"001","100","1001","6105","105",null,"105",null,"282",null,null,null,null,null,null,null,null,null,null,null,{"$f":"IF(OR(SUMPRODUCT(--(E190=$O$1:$O$541))>0,E190=0),0,1)","v":0}]
["001.100.1001.6105.106.000.0000","SUBSTITUTE TEACHER",10150,null,"001",null,"001","100","1001","6105","106",null,"106",null,"283",null,null,null,null,null,null,null,null,null,null,null,{"$f":"IF(OR(SUMPRODUCT(--(E191=$O$1:$O$541))>0,E191=0),0,1)","v":0}]
["001.100.1001.6105.107.000.0000","SUBSTITUTE TEACHER",175,null,"001",null,"001","100","1001","6105","107",null,"107",null,"284",null,null,null,null,null,null,null,null,null,null,null,{"$f":"IF(OR(SUMPRODUCT(--(E192=$O$1:$O$541))>0,E192=0),0,1)","v":0}]
["001.100.1001.6113.105.000.0000","CERTIFIED SUBSTITUTE TEACHERS",45549.919999999998,null,"001",null,"001","100","1001","6113","105",null,"105",null,"285",null,null,null,null,null,null,null,null,null,null,null,{"$f":"IF(OR(SUMPRODUCT(--(E193=$O$1:$O$541))>0,E193=0),0,1)","v":0}]
["001.100.1001.6114.105.000.0000","CERTIFIED OTHER",550,null,"001",null,"001","100","1001","6114","105",null,"105",null,"286",null,null,null,null,null,null,null,null,null,null,null,{"$f":"IF(OR(SUMPRODUCT(--(E194=$O$1:$O$541))>0,E194=0),0,1)","v":0}]
["001.100.1001.6210.104.000.0000","EMPLOYEE INSURANCE",43.69,null,{"$f":"IF(AND(F195<>\"\",F195=G195),\"ERROR\",IF(AND(F195<>\"\",F195<>G195),F195,G195))","v":"001"},null,"001","100","1001","6210","104",null,{"$f":"IF(L195<>\"\",L195,K195)","v":"104"},null,"287",null,null,null,null,null,null,null,null,null,null,null,{"$f":"IF(OR(SUMPRODUCT(--(E195=$O$1:$O$541))>0,E195=0),0,1)","v":0}]
["001.100.1001.6210.105.000.0000","EMPLOYEE INSURANCE",77.349999999999994,null,"001",null,"001","100","1001","6210","105",null,"105",null,"288",null,null,null,null,null,null,null,null,null,null,null,{"$f":"IF(OR(SUMPRODUCT(--(E196=$O$1:$O$541))>0,E196=0),0,1)","v":0}]
["001.100.1001.6221.101.000.0000","SOCIAL SECURITY - OASDI",345.65,null,"001",null,"001","100","1001","6221","101",null,"101",null,"289",null,null,null,null,null,null,null,null,null,null,null,{"$f":"IF(OR(SUMPRODUCT(--(E197=$O$1:$O$541))>0,E197=0),0,1)","v":0}]
["001.100.1001.6221.102.000.0000","SOCIAL SECURITY - OASDI",570.15,null,"001",null,"001","100","1001","6221","102",null,"102",null,"290",{"$f":"[2]!F290EndFundBal","v":865891},null,{"$f":"IF(Q198=\"\",P198,Q198)","v":865891},null,null,null,null,null,null,null,null,{"$f":"IF(OR(SUMPRODUCT(--(E198=$O$1:$O$541))>0,E198=0),0,1)","v":0}]
["001.100.1001.6221.103.000.0000","SOCIAL SECURITY - OASDI",184.45,null,"001",null,"001","100","1001","6221","103",null,"103",null,"291",null,null,null,null,null,null,null,null,null,null,null,{"$f":"IF(OR(SUMPRODUCT(--(E199=$O$1:$O$541))>0,E199=0),0,1)","v":0}]
["001.100.1001.6221.104.000.0000","SOCIAL SECURITY - OASDI",3375.75,null,"001",null,"001","100","1001","6221","104",null,"104",null,"292",null,null,null,null,null,null,null,null,null,null,null,{"$f":"IF(OR(SUMPRODUCT(--(E200=$O$1:$O$541))>0,E200=0),0,1)","v":0}]
["001.100.1001.6221.105.000.0000","SOCIAL SECURITY - OASDI",2955.95,null,"001",null,"001","100","1001","6221","105",null,"105",null,"293",null,null,null,null,null,null,null,null,null,null,null,{"$f":"IF(OR(SUMPRODUCT(--(E201=$O$1:$O$541))>0,E201=0),0,1)","v":0}]
["001.100.1001.6221.106.000.0000","SOCIAL SECURITY - OASDI",553.35,null,"001",null,"001","100","1001","6221","106",null,"106",null,"294",null,null,null,null,null,null,null,null,null,null,null,{"$f":"IF(OR(SUMPRODUCT(--(E202=$O$1:$O$541))>0,E202=0),0,1)","v":0}]
["001.100.1001.6222.101.000.0000","MEDICARE - HOSPITAL INSURANCE",80.84,null,"001",null,"001","100","1001","6222","101",null,"101",null,"295",null,null,null,null,null,null,null,null,null,null,null,{"$f":"IF(OR(SUMPRODUCT(--(E203=$O$1:$O$541))>0,E203=0),0,1)","v":0}]
["001.100.1001.6222.102.000.0000","MEDICARE - HOSPITAL INSURANCE",133.38999999999999,null,"001",null,"001","100","1001","6222","102",null,"102",null,"296",null,null,null,null,null,null,null,null,null,null,null,{"$f":"IF(OR(SUMPRODUCT(--(E204=$O$1:$O$541))>0,E204=0),0,1)","v":0}]
["001.100.1001.6222.103.000.0000","MEDICARE - HOSPITAL INSURANCE",43.14,null,"001",null,"001","100","1001","6222","103",null,"103",null,"297",null,null,null,null,null,null,null,null,null,null,null,{"$f":"IF(OR(SUMPRODUCT(--(E205=$O$1:$O$541))>0,E205=0),0,1)","v":0}]
["001.100.1001.6222.104.000.0000","MEDICARE - HOSPITAL INSURANCE",789.53,null,"001",null,"001","100","1001","6222","104",null,"104",null,"298",null,null,null,null,null,null,null,null,null,null,null,{"$f":"IF(OR(SUMPRODUCT(--(E206=$O$1:$O$541))>0,E206=0),0,1)","v":0}]
["001.100.1001.6222.105.000.0000","MEDICARE - HOSPITAL INSURANCE",691.23,null,"001",null,"001","100","1001","6222","105",null,"105",null,"299",null,null,null,null,null,null,null,null,null,null,null,{"$f":"IF(OR(SUMPRODUCT(--(E207=$O$1:$O$541))>0,E207=0),0,1)","v":0}]
["001.100.1001.6222.106.000.0000","MEDICARE - HOSPITAL INSURANCE",129.41999999999999,null,"001",null,"001","100","1001","6222","106",null,"106",null,"300",{"$f":"[2]!F300_399EndFundBal","v":-295613},-295369,{"$f":"IF(Q208=\"\",P208,Q208)","v":-295369},null,null,null,null,null,null,null,null,{"$f":"IF(OR(SUMPRODUCT(--(E208=$O$1:$O$541))>0,E208=0),0,1)","v":0}]
["001.100.1001.6231.101.000.0000","STATE RETIREMENT",349.66,null,"001",null,"001","100","1001","6231","101",null,"101",null,"301",null,null,null,null,null,null,null,null,null,null,null,{"$f":"IF(OR(SUMPRODUCT(--(E209=$O$1:$O$541))>0,E209=0),0,1)","v":0}]
["001.100.1001.6231.102.000.0000","STATE RETIREMENT",1.03,null,"001",null,"001","100","1001","6231","102",null,"102",null,"302",null,null,null,null,null,null,null,null,null,null,null,{"$f":"IF(OR(SUMPRODUCT(--(E210=$O$1:$O$541))>0,E210=0),0,1)","v":0}]
["001.100.1001.6231.103.000.0000","STATE RETIREMENT",361.17,null,"001",null,"001","100","1001","6231","103",null,"103",null,"303",null,null,null,null,null,null,null,null,null,null,null,{"$f":"IF(OR(SUMPRODUCT(--(E211=$O$1:$O$541))>0,E211=0),0,1)","v":0}]
["001.100.1001.6231.104.000.0000","STATE RETIREMENT",3201.03,null,"001",null,"001","100","1001","6231","104",null,"104",null,"304",null,null,null,null,null,null,null,null,null,null,null,{"$f":"IF(OR(SUMPRODUCT(--(E212=$O$1:$O$541))>0,E212=0),0,1)","v":0}]
["001.100.1001.6231.105.000.0000","STATE RETIREMENT",5697.02,null,"001",null,"001","100","1001","6231","105",null,"105",null,"305",null,null,null,null,null,null,null,null,null,null,null,{"$f":"IF(OR(SUMPRODUCT(--(E213=$O$1:$O$541))>0,E213=0),0,1)","v":0}]
["001.100.1001.6232.103.000.0000","LONG TERM DISABILITY",4.46,null,"001",null,"001","100","1001","6232","103",null,"103",null,"306",null,null,null,null,null,null,null,null,null,null,null,{"$f":"IF(OR(SUMPRODUCT(--(E214=$O$1:$O$541))>0,E214=0),0,1)","v":0}]
["001.100.1001.6232.104.000.0000","LONG TERM DISABILITY",39.54,null,"001",null,"001","100","1001","6232","104",null,"104",null,"307",null,null,null,null,null,null,null,null,null,null,null,{"$f":"IF(OR(SUMPRODUCT(--(E215=$O$1:$O$541))>0,E215=0),0,1)","v":0}]
["001.100.1001.6232.105.000.0000","LONG TERM DISABILITY",68.69,null,"001",null,"001","100","1001","6232","105",null,"105",null,"308",null,null,null,null,null,null,null,null,null,null,null,{"$f":"IF(OR(SUMPRODUCT(--(E216=$O$1:$O$541))>0,E216=0),0,1)","v":0}]
["001.100.1001.6260.101.000.0000","WORKERS' COMPENSATION",31.22,null,"001",null,"001","100","1001","6260","101",null,"101",null,"309",null,null,null,null,null,null,null,null,null,null,null,{"$f":"IF(OR(SUMPRODUCT(--(E217=$O$1:$O$541))>0,E217=0),0,1)","v":0}]
["001.100.1001.6260.102.000.0000","WORKERS' COMPENSATION",51.46,null,"001",null,"001","100","1001","6260","102",null,"102",null,"310",null,null,null,null,null,null,null,null,null,null,null,{"$f":"IF(OR(SUMPRODUCT(--(E218=$O$1:$O$541))>0,E218=0),0,1)","v":0}]
["001.100.1001.6260.103.000.0000","WORKERS' COMPENSATION",16.66,null,"001",null,"001","100","1001","6260","103",null,"103",null,"311",null,null,null,null,null,null,null,null,null,null,null,{"$f":"IF(OR(SUMPRODUCT(--(E219=$O$1:$O$541))>0,E219=0),0,1)","v":0}]
["001.100.1001.6260.104.000.0000","WORKERS' COMPENSATION",304.89999999999998,null,"001",null,"001","100","1001","6260","104",null,"104",null,"312",null,null,null,null,null,null,null,null,null,null,null,{"$f":"IF(OR(SUMPRODUCT(--(E220=$O$1:$O$541))>0,E220=0),0,1)","v":0}]
["001.100.1001.6260.105.000.0000","WORKERS' COMPENSATION",266.93,null,"001",null,"001","100","1001","6260","105",null,"105",null,"313",null,null,null,null,null,null,null,null,null,null,null,{"$f":"IF(OR(SUMPRODUCT(--(E221=$O$1:$O$541))>0,E221=0),0,1)","v":0}]
["001.100.1001.6260.106.000.0000","WORKERS' COMPENSATION",49.98,null,"001",null,"001","100","1001","6260","106",null,"106",null,"314",null,null,null,null,null,null,null,null,null,null,null,{"$f":"IF(OR(SUMPRODUCT(--(E222=$O$1:$O$541))>0,E222=0),0,1)","v":0}]
["001.100.1001.6290.102.000.0000","OTHER EMPLOYEE BENEFITS without ASRS",7.2,null,"001",null,"001","100","1001","6290","102",null,"102",null,"315",null,null,null,null,null,null,null,null,null,null,null,{"$f":"IF(OR(SUMPRODUCT(--(E223=$O$1:$O$541))>0,E223=0),0,1)","v":0}]
["001.100.1001.6290.104.000.0000","OTHER EMPLOYEE BENEFITS without ASRS",0.11,null,"001",null,"001","100","1001","6290","104",null,"104",null,"316",null,null,null,null,null,null,null,null,null,null,null,{"$f":"IF(OR(SUMPRODUCT(--(E224=$O$1:$O$541))>0,E224=0),0,1)","v":0}]
["001.100.1001.6290.105.000.0000","OTHER EMPLOYEE BENEFITS without ASRS",1.48,null,"001",null,"001","100","1001","6290","105",null,"105",null,"317",null,null,null,null,null,null,null,null,null,null,null,{"$f":"IF(OR(SUMPRODUCT(--(E225=$O$1:$O$541))>0,E225=0),0,1)","v":0}]
["001.100.1900.6150.102.000.0000","CLASSIFIED SALARIES",19441.28,null,"001",null,"001","100","1900","6150","102",null,"102",null,"318",null,null,null,null,null,null,null,null,null,null,null,{"$f":"IF(OR(SUMPRODUCT(--(E226=$O$1:$O$541))>0,E226=0),0,1)","v":0}]
["001.100.1900.6150.103.000.0000","CLASSIFIED SALARIES",31786.5,null,"001",null,"001","100","1900","6150","103",null,"103",null,"319",null,null,null,null,null,null,null,null,null,null,null,{"$f":"IF(OR(SUMPRODUCT(--(E227=$O$1:$O$541))>0,E227=0),0,1)","v":0}]
["001.100.1900.6150.104.000.0000","CLASSIFIED SALARIES",20572.23,null,"001",null,"001","100","1900","6150","104",null,"104",null,"320",null,null,null,null,null,null,null,null,null,null,null,{"$f":"IF(OR(SUMPRODUCT(--(E228=$O$1:$O$541))>0,E228=0),0,1)","v":0}]
["001.100.1900.6150.105.000.0000","CLASSIFIED SALARIES",20460.07,null,"001",null,"001","100","1900","6150","105",null,"105",null,"321",null,null,null,null,null,null,null,null,null,null,null,{"$f":"IF(OR(SUMPRODUCT(--(E229=$O$1:$O$541))>0,E229=0),0,1)","v":0}]
["001.100.1900.6150.106.000.0000","CLASSIFIED SALARIES",20057.02,null,"001",null,"001","100","1900","6150","106",null,"106",null,"322",null,null,null,null,null,null,null,null,null,null,null,{"$f":"IF(OR(SUMPRODUCT(--(E230=$O$1:$O$541))>0,E230=0),0,1)","v":0}]
["001.100.1900.6150.107.000.0000","CLASSIFIED SALARIES",41691.26,null,"001",null,"001","100","1900","6150","107",null,"107",null,"323",null,null,null,null,null,null,null,null,null,null,null,{"$f":"IF(OR(SUMPRODUCT(--(E231=$O$1:$O$541))>0,E231=0),0,1)","v":0}]
["001.100.1900.6155.101.000.0000","CLASSIFIED TEMPORARY",75,null,"001",null,"001","100","1900","6155","101",null,"101",null,"324",null,null,null,null,null,null,null,null,null,null,null,{"$f":"IF(OR(SUMPRODUCT(--(E232=$O$1:$O$541))>0,E232=0),0,1)","v":0}]
["001.100.1900.6155.102.000.0000","CLASSIFIED TEMPORARY",1167,null,"001",null,"001","100","1900","6155","102",null,"102",null,"325",null,null,null,null,null,null,null,null,null,null,null,{"$f":"IF(OR(SUMPRODUCT(--(E233=$O$1:$O$541))>0,E233=0),0,1)","v":0}]
["001.100.1900.6155.103.000.0000","CLASSIFIED TEMPORARY",1847.83,null,"001",null,"001","100","1900","6155","103",null,"103",null,"326",null,null,null,null,null,null,null,null,null,null,null,{"$f":"IF(OR(SUMPRODUCT(--(E234=$O$1:$O$541))>0,E234=0),0,1)","v":0}]
["001.100.1900.6155.104.000.0000","CLASSIFIED TEMPORARY",166.67,null,"001",null,"001","100","1900","6155","104",null,"104",null,"327",null,null,null,null,null,null,null,null,null,null,null,{"$f":"IF(OR(SUMPRODUCT(--(E235=$O$1:$O$541))>0,E235=0),0,1)","v":0}]
["001.100.1900.6155.107.000.0000","CLASSIFIED TEMPORARY",550,null,"001",null,"001","100","1900","6155","107",null,"107",null,"328",null,null,null,null,null,null,null,null,null,null,null,{"$f":"IF(OR(SUMPRODUCT(--(E236=$O$1:$O$541))>0,E236=0),0,1)","v":0}]
["001.100.1900.6155.500.000.0000","CLASSIFIED TEMPORARY",24995.97,null,"001",null,"001","100","1900","6155","500",null,"500",null,"329",null,null,null,null,null,null,null,null,null,null,null,{"$f":"IF(OR(SUMPRODUCT(--(E237=$O$1:$O$541))>0,E237=0),0,1)","v":0}]
["001.100.1900.6210.102.000.0000","EMPLOYEE INSURANCE",32.81,null,"001",null,"001","100","1900","6210","102",null,"102",null,"330",null,null,null,null,null,null,null,null,null,null,null,{"$f":"IF(OR(SUMPRODUCT(--(E238=$O$1:$O$541))>0,E238=0),0,1)","v":0}]
["001.100.1900.6210.103.000.0000","EMPLOYEE INSURANCE",23.75,null,"001",null,"001","100","1900","6210","103",null,"103",null,"331",null,null,null,null,null,null,null,null,null,null,null,{"$f":"IF(OR(SUMPRODUCT(--(E239=$O$1:$O$541))>0,E239=0),0,1)","v":0}]
["001.100.1900.6210.104.000.0000","EMPLOYEE INSURANCE",3249.27,null,"001",null,"001","100","1900","6210","104",null,"104",null,"332",null,null,null,null,null,null,null,null,null,null,null,{"$f":"IF(OR(SUMPRODUCT(--(E240=$O$1:$O$541))>0,E240=0),0,1)","v":0}]
["001.100.1900.6210.105.000.0000","EMPLOYEE INSURANCE",8689.2099999999991,null,"001",null,"001","100","1900","6210","105",null,"105",null,"333",null,null,null,null,null,null,null,null,null,null,null,{"$f":"IF(OR(SUMPRODUCT(--(E241=$O$1:$O$541))>0,E241=0),0,1)","v":0}]
["001.100.1900.6210.106.000.0000","EMPLOYEE INSURANCE",4529.38,null,"001",null,"001","100","1900","6210","106",null,"106",null,"334",null,null,null,null,null,null,null,null,null,null,null,{"$f":"IF(OR(SUMPRODUCT(--(E242=$O$1:$O$541))>0,E242=0),0,1)","v":0}]
["001.100.1900.6210.107.000.0000","EMPLOYEE INSURANCE",4883.55,null,"001",null,"001","100","1900","6210","107",null,"107",null,"335",null,null,null,null,null,null,null,null,null,null,null,{"$f":"IF(OR(SUMPRODUCT(--(E243=$O$1:$O$541))>0,E243=0),0,1)","v":0}]
["001.100.1900.6221.101.000.0000","SOCIAL SECURITY - OASDI",4.6500000000000004,null,"001",null,"001","100","1900","6221","101",null,"101",null,"336",null,null,null,null,null,null,null,null,null,null,null,{"$f":"IF(OR(SUMPRODUCT(--(E244=$O$1:$O$541))>0,E244=0),0,1)","v":0}]
["001.100.1900.6221.102.000.0000","SOCIAL SECURITY - OASDI",1277.75,null,"001",null,"001","100","1900","6221","102",null,"102",null,"337",null,null,null,null,null,null,null,null,null,null,null,{"$f":"IF(OR(SUMPRODUCT(--(E245=$O$1:$O$541))>0,E245=0),0,1)","v":0}]
["001.100.1900.6221.103.000.0000","SOCIAL SECURITY - OASDI",2084.4299999999998,null,"001",null,"001","100","1900","6221","103",null,"103",null,"338",null,null,null,null,null,null,null,null,null,null,null,{"$f":"IF(OR(SUMPRODUCT(--(E246=$O$1:$O$541))>0,E246=0),0,1)","v":0}]
["001.100.1900.6221.104.000.0000","SOCIAL SECURITY - OASDI",935.11,null,"001",null,"001","100","1900","6221","104",null,"104",null,"339",null,null,null,null,null,null,null,null,null,null,null,{"$f":"IF(OR(SUMPRODUCT(--(E247=$O$1:$O$541))>0,E247=0),0,1)","v":0}]
["001.100.1900.6221.105.000.0000","SOCIAL SECURITY - OASDI",857.31,null,"001",null,"001","100","1900","6221","105",null,"105",null,"340",null,null,null,null,null,null,null,null,null,null,null,{"$f":"IF(OR(SUMPRODUCT(--(E248=$O$1:$O$541))>0,E248=0),0,1)","v":0}]
["001.100.1900.6221.106.000.0000","SOCIAL SECURITY - OASDI",1243.5899999999999,null,"001",null,"001","100","1900","6221","106",null,"106",null,"341",null,null,null,null,null,null,null,null,null,null,null,{"$f":"IF(OR(SUMPRODUCT(--(E249=$O$1:$O$541))>0,E249=0),0,1)","v":0}]
["001.100.1900.6221.107.000.0000","SOCIAL SECURITY - OASDI",2486.0100000000002,null,"001",null,"001","100","1900","6221","107",null,"107",null,"342",null,null,null,null,null,null,null,null,null,null,null,{"$f":"IF(OR(SUMPRODUCT(--(E250=$O$1:$O$541))>0,E250=0),0,1)","v":0}]
["001.100.1900.6221.500.000.0000","SOCIAL SECURITY - OASDI",1549.72,null,"001",null,"001","100","1900","6221","500",null,"500",null,"343",null,null,null,null,null,null,null,null,null,null,null,{"$f":"IF(OR(SUMPRODUCT(--(E251=$O$1:$O$541))>0,E251=0),0,1)","v":0}]
["001.100.1900.6222.101.000.0000","MEDICARE - HOSPITAL INSURANCE",1.0900000000000001,null,"001",null,"001","100","1900","6222","101",null,"101",null,"344",null,null,null,null,null,null,null,null,null,null,null,{"$f":"IF(OR(SUMPRODUCT(--(E252=$O$1:$O$541))>0,E252=0),0,1)","v":0}]
["001.100.1900.6222.102.000.0000","MEDICARE - HOSPITAL INSURANCE",298.83,null,"001",null,"001","100","1900","6222","102",null,"102",null,"345",null,null,null,null,null,null,null,null,null,null,null,{"$f":"IF(OR(SUMPRODUCT(--(E253=$O$1:$O$541))>0,E253=0),0,1)","v":0}]
["001.100.1900.6222.103.000.0000","MEDICARE - HOSPITAL INSURANCE",487.53,null,"001",null,"001","100","1900","6222","103",null,"103",null,"346",null,null,null,null,null,null,null,null,null,null,null,{"$f":"IF(OR(SUMPRODUCT(--(E254=$O$1:$O$541))>0,E254=0),0,1)","v":0}]
["001.100.1900.6222.104.000.0000","MEDICARE - HOSPITAL INSURANCE",218.69,null,"001",null,"001","100","1900","6222","104",null,"104",null,"347",null,null,null,null,null,null,null,null,null,null,null,{"$f":"IF(OR(SUMPRODUCT(--(E255=$O$1:$O$541))>0,E255=0),0,1)","v":0}]
["001.100.1900.6222.105.000.0000","MEDICARE - HOSPITAL INSURANCE",200.49,null,"001",null,"001","100","1900","6222","105",null,"105",null,"348",null,null,null,null,null,null,null,null,null,null,null,{"$f":"IF(OR(SUMPRODUCT(--(E256=$O$1:$O$541))>0,E256=0),0,1)","v":0}]
["001.100.1900.6222.106.000.0000","MEDICARE - HOSPITAL INSURANCE",290.79000000000002,null,"001",null,"001","100","1900","6222","106",null,"106",null,"349",{"$f":"'[2]Page 5'!$J$23","v":0},null,{"$f":"IF(Q257=\"\",P257,Q257)","v":0},null,null,null,null,null,null,null,null,{"$f":"IF(OR(SUMPRODUCT(--(E257=$O$1:$O$541))>0,E257=0),0,1)","v":0}]
["001.100.1900.6222.107.000.0000","MEDICARE - HOSPITAL INSURANCE",581.37,null,"001",null,"001","100","1900","6222","107",null,"107",null,"350",null,null,null,null,null,null,null,null,null,null,null,{"$f":"IF(OR(SUMPRODUCT(--(E258=$O$1:$O$541))>0,E258=0),0,1)","v":0}]
["001.100.1900.6222.500.000.0000","MEDICARE - HOSPITAL INSURANCE",362.4,null,{"$f":"IF(AND(F259<>\"\",F259=G259),\"ERROR\",IF(AND(F259<>\"\",F259<>G259),F259,G259))","v":"001"},null,"001","100","1900","6222","500",null,{"$f":"IF(L259<>\"\",L259,K259)","v":"500"},null,"351",null,null,null,null,null,null,null,null,null,null,null,{"$f":"IF(OR(SUMPRODUCT(--(E259=$O$1:$O$541))>0,E259=0),0,1)","v":0}]
["001.100.1900.6231.102.000.0000","STATE RETIREMENT",2441.17,null,"001",null,"001","100","1900","6231","102",null,"102",null,"352",null,null,null,null,null,null,null,null,null,null,null,{"$f":"IF(OR(SUMPRODUCT(--(E260=$O$1:$O$541))>0,E260=0),0,1)","v":0}]
["001.100.1900.6231.103.000.0000","STATE RETIREMENT",3954.75,null,"001",null,"001","100","1900","6231","103",null,"103",null,"353",{"$f":"'[2]Page 5'!$J$24","v":0},null,{"$f":"IF(Q261=\"\",P261,Q261)","v":0},null,null,null,null,null,null,null,null,{"$f":"IF(OR(SUMPRODUCT(--(E261=$O$1:$O$541))>0,E261=0),0,1)","v":0}]
["001.100.1900.6231.104.000.0000","STATE RETIREMENT",2497.4899999999998,null,"001",null,"001","100","1900","6231","104",null,"104",null,"354",null,null,null,null,null,null,null,null,null,null,null,{"$f":"IF(OR(SUMPRODUCT(--(E262=$O$1:$O$541))>0,E262=0),0,1)","v":0}]
["001.100.1900.6231.105.000.0000","STATE RETIREMENT",2483.87,null,"001",null,"001","100","1900","6231","105",null,"105",null,"355",null,null,null,null,null,null,null,null,null,null,null,{"$f":"IF(OR(SUMPRODUCT(--(E263=$O$1:$O$541))>0,E263=0),0,1)","v":0}]
["001.100.1900.6231.106.000.0000","STATE RETIREMENT",2434.96,null,"001",null,"001","100","1900","6231","106",null,"106",null,"356",null,null,null,null,null,null,null,null,null,null,null,{"$f":"IF(OR(SUMPRODUCT(--(E264=$O$1:$O$541))>0,E264=0),0,1)","v":0}]
["001.100.1900.6231.107.000.0000","STATE RETIREMENT",4417.2299999999996,null,"001",null,"001","100","1900","6231","107",null,"107",null,"357",null,null,null,null,null,null,null,null,null,null,null,{"$f":"IF(OR(SUMPRODUCT(--(E265=$O$1:$O$541))>0,E265=0),0,1)","v":0}]
["001.100.1900.6231.500.000.0000","STATE RETIREMENT",536.39,null,"001",null,"001","100","1900","6231","500",null,"500",null,"358",null,null,null,null,null,null,null,null,null,null,null,{"$f":"IF(OR(SUMPRODUCT(--(E266=$O$1:$O$541))>0,E266=0),0,1)","v":0}]
["001.100.1900.6232.102.000.0000","LONG TERM DISABILITY",30.14,null,"001",null,"001","100","1900","6232","102",null,"102",null,"359",null,null,null,null,null,null,null,null,null,null,null,{"$f":"IF(OR(SUMPRODUCT(--(E267=$O$1:$O$541))>0,E267=0),0,1)","v":0}]
["001.100.1900.6232.103.000.0000","LONG TERM DISABILITY",48.85,null,"001",null,"001","100","1900","6232","103",null,"103",null,"360",null,null,null,null,null,null,null,null,null,null,null,{"$f":"IF(OR(SUMPRODUCT(--(E268=$O$1:$O$541))>0,E268=0),0,1)","v":0}]
["001.100.1900.6232.104.000.0000","LONG TERM DISABILITY",30.87,null,"001",null,"001","100","1900","6232","104",null,"104",null,"361",null,null,null,null,null,null,null,null,null,null,null,{"$f":"IF(OR(SUMPRODUCT(--(E269=$O$1:$O$541))>0,E269=0),0,1)","v":0}]
["001.100.1900.6232.105.000.0000","LONG TERM DISABILITY",30.71,null,"001",null,"001","100","1900","6232","105",null,"105",null,"362",null,null,null,null,null,null,null,null,null,null,null,{"$f":"IF(OR(SUMPRODUCT(--(E270=$O$1:$O$541))>0,E270=0),0,1)","v":0}]
["001.100.1900.6232.106.000.0000","LONG TERM DISABILITY",30.11,null,"001",null,"001","100","1900","6232","106",null,"106",null,"363",null,null,null,null,null,null,null,null,null,null,null,{"$f":"IF(OR(SUMPRODUCT(--(E271=$O$1:$O$541))>0,E271=0),0,1)","v":0}]
["001.100.1900.6232.107.000.0000","LONG TERM DISABILITY",54.57,null,"001",null,"001","100","1900","6232","107",null,"107",null,"364",null,null,null,null,null,null,null,null,null,null,null,{"$f":"IF(OR(SUMPRODUCT(--(E272=$O$1:$O$541))>0,E272=0),0,1)","v":0}]
["001.100.1900.6232.500.000.0000","LONG TERM DISABILITY",3.83,null,"001",null,"001","100","1900","6232","500",null,"500",null,"365",null,null,null,null,null,null,null,null,null,null,null,{"$f":"IF(OR(SUMPRODUCT(--(E273=$O$1:$O$541))>0,E273=0),0,1)","v":0}]
["001.100.1900.6260.101.000.0000","WORKERS' COMPENSATION",0.42,null,"001",null,"001","100","1900","6260","101",null,"101",null,"366",null,null,null,null,null,null,null,null,null,null,null,{"$f":"IF(OR(SUMPRODUCT(--(E274=$O$1:$O$541))>0,E274=0),0,1)","v":0}]
["001.100.1900.6260.102.000.0000","WORKERS' COMPENSATION",115.43,null,"001",null,"001","100","1900","6260","102",null,"102",null,"367",null,null,null,null,null,null,null,null,null,null,null,{"$f":"IF(OR(SUMPRODUCT(--(E275=$O$1:$O$541))>0,E275=0),0,1)","v":0}]
["001.100.1900.6260.103.000.0000","WORKERS' COMPENSATION",188.31,null,"001",null,"001","100","1900","6260","103",null,"103",null,"368",null,null,null,null,null,null,null,null,null,null,null,{"$f":"IF(OR(SUMPRODUCT(--(E276=$O$1:$O$541))>0,E276=0),0,1)","v":0}]
["001.100.1900.6260.104.000.0000","WORKERS' COMPENSATION",116.14,null,"001",null,"001","100","1900","6260","104",null,"104",null,"369",null,null,null,null,null,null,null,null,null,null,null,{"$f":"IF(OR(SUMPRODUCT(--(E277=$O$1:$O$541))>0,E277=0),0,1)","v":0}]
["001.100.1900.6260.105.000.0000","WORKERS' COMPENSATION",114.58,null,"001",null,"001","100","1900","6260","105",null,"105",null,"370",null,null,null,null,null,null,null,null,null,null,null,{"$f":"IF(OR(SUMPRODUCT(--(E278=$O$1:$O$541))>0,E278=0),0,1)","v":0}]
["001.100.1900.6260.106.000.0000","WORKERS' COMPENSATION",112.31,null,"001",null,"001","100","1900","6260","106",null,"106",null,"371",null,null,null,null,null,null,null,null,null,null,null,{"$f":"IF(OR(SUMPRODUCT(--(E279=$O$1:$O$541))>0,E279=0),0,1)","v":0}]
["001.100.1900.6260.107.000.0000","WORKERS' COMPENSATION",332.17,null,"001",null,"001","100","1900","6260","107",null,"107",null,"372",null,null,null,null,null,null,null,null,null,null,null,{"$f":"IF(OR(SUMPRODUCT(--(E280=$O$1:$O$541))>0,E280=0),0,1)","v":0}]
["001.100.1900.6260.500.000.0000","WORKERS' COMPENSATION",139.85,null,"001",null,"001","100","1900","6260","500",null,"500",null,"373",null,null,null,null,null,null,null,null,null,null,null,{"$f":"IF(OR(SUMPRODUCT(--(E281=$O$1:$O$541))>0,E281=0),0,1)","v":0}]
["001.100.2100.6300.102.000.0000","PURCHASED PROFESSIONAL AND TECHNICAL SERVICES",341,null,"001",null,"001","100","2100","6300","102",null,"102",null,"374",{"$f":"[2]!F374EndFundBal","v":560190},560190,{"$f":"IF(Q282=\"\",P282,Q282)","v":560190},null,null,null,null,null,null,null,null,{"$f":"IF(OR(SUMPRODUCT(--(E282=$O$1:$O$541))>0,E282=0),0,1)","v":0}]
["001.100.2110.6150.504.000.0000","CLASSIFIED SALARIES",140071.4,null,"001",null,"001","100","2110","6150","504",500,500,null,"375",null,null,null,null,null,null,null,null,null,null,null,{"$f":"IF(OR(SUMPRODUCT(--(E283=$O$1:$O$541))>0,E283=0),0,1)","v":0}]
["001.100.2110.6210.504.000.0000","EMPLOYEE INSURANCE",25614.959999999999,null,"001",null,"001","100","2110","6210","504",500,500,null,"376",null,null,null,null,null,null,null,null,null,null,null,{"$f":"IF(OR(SUMPRODUCT(--(E284=$O$1:$O$541))>0,E284=0),0,1)","v":0}]
["001.100.2110.6221.504.000.0000","SOCIAL SECURITY - OASDI",8570.6299999999992,null,"001",null,"001","100","2110","6221","504",500,500,null,"377",null,null,null,null,null,null,null,null,null,null,null,{"$f":"IF(OR(SUMPRODUCT(--(E285=$O$1:$O$541))>0,E285=0),0,1)","v":0}]
["001.100.2110.6222.504.000.0000","MEDICARE - HOSPITAL INSURANCE",2004.49,null,"001",null,"001","100","2110","6222","504",500,500,null,"378",{"$f":"[2]!F378EndFundBal","v":0},null,{"$f":"IF(Q286=\"\",P286,Q286)","v":0},null,null,null,null,null,null,null,null,{"$f":"IF(OR(SUMPRODUCT(--(E286=$O$1:$O$541))>0,E286=0),0,1)","v":0}]
["001.100.2110.6231.504.000.0000","STATE RETIREMENT",16843.05,null,"001",null,"001","100","2110","6231","504",500,500,null,"379",null,null,null,null,null,null,null,null,null,null,null,{"$f":"IF(OR(SUMPRODUCT(--(E287=$O$1:$O$541))>0,E287=0),0,1)","v":0}]
["001.100.2110.6232.504.000.0000","LONG TERM DISABILITY",208.08,null,"001",null,"001","100","2110","6232","504",500,500,null,"380",null,null,null,null,null,null,null,null,null,null,null,{"$f":"IF(OR(SUMPRODUCT(--(E288=$O$1:$O$541))>0,E288=0),0,1)","v":0}]
["001.100.2110.6260.504.000.0000","WORKERS' COMPENSATION",774.89,null,"001",null,"001","100","2110","6260","504",500,500,null,"381",null,null,null,null,null,null,null,null,null,null,null,{"$f":"IF(OR(SUMPRODUCT(--(E289=$O$1:$O$541))>0,E289=0),0,1)","v":0}]
["001.100.2110.6290.504.000.0000","OTHER EMPLOYEE BENEFITS without ASRS",5.03,null,"001",null,"001","100","2110","6290","504",500,500,null,"382",null,null,null,null,null,null,null,null,null,null,null,{"$f":"IF(OR(SUMPRODUCT(--(E290=$O$1:$O$541))>0,E290=0),0,1)","v":0}]
["001.100.2120.6580.103.000.0000","TRAVEL",468.1,null,"001",null,"001","100","2120","6580","103",null,"103",null,"383",null,null,null,null,null,null,null,null,null,null,null,{"$f":"IF(OR(SUMPRODUCT(--(E291=$O$1:$O$541))>0,E291=0),0,1)","v":0}]
["001.100.2120.6610.103.000.0000","GENERAL SUPPLIES",81.17,null,"001",null,"001","100","2120","6610","103",null,"103",null,"384",null,null,null,null,null,null,null,null,null,null,null,{"$f":"IF(OR(SUMPRODUCT(--(E292=$O$1:$O$541))>0,E292=0),0,1)","v":0}]
["001.100.2120.6610.106.706.0000","GENERAL SUPPLIES",636.94000000000005,null,"001",null,"001","100","2120","6610","106",null,"106",null,"385",null,null,null,null,null,null,null,null,null,null,null,{"$f":"IF(OR(SUMPRODUCT(--(E293=$O$1:$O$541))>0,E293=0),0,1)","v":0}]
["001.100.2130.6150.101.000.0000","CLASSIFIED SALARIES",45145.8,null,"001",null,"001","100","2130","6150","101",null,"101",null,"386",null,null,null,null,null,null,null,null,null,null,null,{"$f":"IF(OR(SUMPRODUCT(--(E294=$O$1:$O$541))>0,E294=0),0,1)","v":0}]
["001.100.2130.6150.102.000.0000","CLASSIFIED SALARIES",23930.23,null,"001",null,"001","100","2130","6150","102",null,"102",null,"387",null,null,null,null,null,null,null,null,null,null,null,{"$f":"IF(OR(SUMPRODUCT(--(E295=$O$1:$O$541))>0,E295=0),0,1)","v":0}]
["001.100.2130.6150.103.000.0000","CLASSIFIED SALARIES",24815.88,null,"001",null,"001","100","2130","6150","103",null,"103",null,"388",null,null,null,null,null,null,null,null,null,null,null,{"$f":"IF(OR(SUMPRODUCT(--(E296=$O$1:$O$541))>0,E296=0),0,1)","v":0}]
["001.100.2130.6150.104.000.0000","CLASSIFIED SALARIES",45006.54,null,"001",null,"001","100","2130","6150","104",null,"104",null,"389",null,null,null,null,null,null,null,null,null,null,null,{"$f":"IF(OR(SUMPRODUCT(--(E297=$O$1:$O$541))>0,E297=0),0,1)","v":0}]
["001.100.2130.6150.105.000.0000","CLASSIFIED SALARIES",30099.05,null,"001",null,"001","100","2130","6150","105",null,"105",null,"390",null,null,null,null,null,null,null,null,null,null,null,{"$f":"IF(OR(SUMPRODUCT(--(E298=$O$1:$O$541))>0,E298=0),0,1)","v":0}]
["001.100.2130.6150.106.000.0000","CLASSIFIED SALARIES",22724.45,null,"001",null,"001","100","2130","6150","106",null,"106",null,"391",null,null,null,null,null,null,null,null,null,null,null,{"$f":"IF(OR(SUMPRODUCT(--(E299=$O$1:$O$541))>0,E299=0),0,1)","v":0}]
["001.100.2130.6150.107.000.0000","CLASSIFIED SALARIES",27743.040000000001,null,"001",null,"001","100","2130","6150","107",null,"107",null,"392",null,null,null,null,null,null,null,null,null,null,null,{"$f":"IF(OR(SUMPRODUCT(--(E300=$O$1:$O$541))>0,E300=0),0,1)","v":0}]
["001.100.2130.6150.500.000.0000","CLASSIFIED SALARIES",18427.55,null,"001",null,"001","100","2130","6150","500",null,"500",null,"393",null,null,null,null,null,null,null,null,null,null,null,{"$f":"IF(OR(SUMPRODUCT(--(E301=$O$1:$O$541))>0,E301=0),0,1)","v":0}]
["001.100.2130.6155.101.000.0000","CLASSIFIED TEMPORARY",827.67,null,"001",null,"001","100","2130","6155","101",null,"101",null,"394",null,null,null,null,null,null,null,null,null,null,null,{"$f":"IF(OR(SUMPRODUCT(--(E302=$O$1:$O$541))>0,E302=0),0,1)","v":0}]
["001.100.2130.6155.103.000.0000","CLASSIFIED TEMPORARY",350,null,"001",null,"001","100","2130","6155","103",null,"103",null,"395",null,null,null,null,null,null,null,null,null,null,null,{"$f":"IF(OR(SUMPRODUCT(--(E303=$O$1:$O$541))>0,E303=0),0,1)","v":0}]
["001.100.2130.6155.104.000.0000","CLASSIFIED TEMPORARY",1776.65,null,"001",null,"001","100","2130","6155","104",null,"104",null,"396",null,null,null,null,null,null,null,null,null,null,null,{"$f":"IF(OR(SUMPRODUCT(--(E304=$O$1:$O$541))>0,E304=0),0,1)","v":0}]
["001.100.2130.6155.105.000.0000","CLASSIFIED TEMPORARY",500,null,"001",null,"001","100","2130","6155","105",null,"105",null,"397",null,null,null,null,null,null,null,null,null,null,null,{"$f":"IF(OR(SUMPRODUCT(--(E305=$O$1:$O$541))>0,E305=0),0,1)","v":0}]
["001.100.2130.6155.106.000.0000","CLASSIFIED TEMPORARY",180,null,"001",null,"001","100","2130","6155","106",null,"106",null,"398",null,null,null,null,null,null,null,null,null,null,null,{"$f":"IF(OR(SUMPRODUCT(--(E306=$O$1:$O$541))>0,E306=0),0,1)","v":0}]
["001.100.2130.6155.107.000.0000","CLASSIFIED TEMPORARY",43.99,null,"001",null,"001","100","2130","6155","107",null,"107",null,"399",null,null,null,null,null,null,null,null,null,null,null,{"$f":"IF(OR(SUMPRODUCT(--(E307=$O$1:$O$541))>0,E307=0),0,1)","v":0}]
["001.100.2130.6155.500.000.0000","CLASSIFIED TEMPORARY",237.12,null,"001",null,"001","100","2130","6155","500",null,"500",null,"400",{"$f":"[2]!F400EndFundBal","v":0},null,{"$f":"IF(Q308=\"\",P308,Q308)","v":0},null,null,null,null,null,null,null,null,{"$f":"IF(OR(SUMPRODUCT(--(E308=$O$1:$O$541))>0,E308=0),0,1)","v":0}]
["001.100.2130.6210.101.000.0000","EMPLOYEE INSURANCE",8150.11,null,"001",null,"001","100","2130","6210","101",null,"101",null,"410",{"$f":"[2]!F410EndFundBal","v":0},null,0,null,null,null,null,null,null,null,null,{"$f":"IF(OR(SUMPRODUCT(--(E309=$O$1:$O$541))>0,E309=0),0,1)","v":0}]
["001.100.2130.6210.102.000.0000","EMPLOYEE INSURANCE",6084.18,null,"001",null,"001","100","2130","6210","102",null,"102",null,"420",{"$f":"[2]!F420EndFundBal","v":0},null,0,null,null,null,null,null,null,null,null,{"$f":"IF(OR(SUMPRODUCT(--(E310=$O$1:$O$541))>0,E310=0),0,1)","v":0}]
["001.100.2130.6210.103.000.0000","EMPLOYEE INSURANCE",8695.0499999999993,null,"001",null,"001","100","2130","6210","103",null,"103",null,"425",{"$f":"[2]!F425EndFundBal","v":0},null,0,null,null,null,null,null,null,null,null,{"$f":"IF(OR(SUMPRODUCT(--(E311=$O$1:$O$541))>0,E311=0),0,1)","v":0}]
["001.100.2130.6210.104.000.0000","EMPLOYEE INSURANCE",77.349999999999994,null,"001",null,"001","100","2130","6210","104",null,"104",null,"430",{"$f":"[2]!F430EndFundBal","v":0},null,0,null,null,null,null,null,null,null,null,{"$f":"IF(OR(SUMPRODUCT(--(E312=$O$1:$O$541))>0,E312=0),0,1)","v":0}]
["001.100.2130.6210.105.000.0000","EMPLOYEE INSURANCE",476.8,null,"001",null,"001","100","2130","6210","105",null,"105",null,"435",{"$f":"[2]!F435EndFundBal","v":0},null,0,null,null,null,null,null,null,null,null,{"$f":"IF(OR(SUMPRODUCT(--(E313=$O$1:$O$541))>0,E313=0),0,1)","v":0}]
["001.100.2130.6210.106.000.0000","EMPLOYEE INSURANCE",8699.56,null,"001",null,"001","100","2130","6210","106",null,"106",null,"450",{"$f":"[2]!F450EndFundBal","v":0},null,0,null,null,null,null,null,null,null,null,{"$f":"IF(OR(SUMPRODUCT(--(E314=$O$1:$O$541))>0,E314=0),0,1)","v":0}]
["001.100.2130.6210.107.000.0000","EMPLOYEE INSURANCE",8705.93,null,"001",null,"001","100","2130","6210","107",null,"107",null,"456",{"$f":"[2]!F456EndFundBal","v":0},null,0,null,null,null,null,null,null,null,null,{"$f":"IF(OR(SUMPRODUCT(--(E315=$O$1:$O$541))>0,E315=0),0,1)","v":0}]
["001.100.2130.6221.101.000.0000","SOCIAL SECURITY - OASDI",2706.65,null,"001",null,"001","100","2130","6221","101",null,"101",null,"460",{"$f":"[2]!F460EndFundBal","v":0},null,0,null,null,null,null,null,null,null,null,{"$f":"IF(OR(SUMPRODUCT(--(E316=$O$1:$O$541))>0,E316=0),0,1)","v":0}]
["001.100.2130.6221.102.000.0000","SOCIAL SECURITY - OASDI",1421.72,null,"001",null,"001","100","2130","6221","102",null,"102",null,"465",{"$f":"[2]!F465_499EndFundBal","v":-38215},-41249,-41249,null,null,null,null,null,null,null,null,{"$f":"IF(OR(SUMPRODUCT(--(E317=$O$1:$O$541))>0,E317=0),0,1)","v":0}]
["001.100.2130.6221.103.000.0000","SOCIAL SECURITY - OASDI",1542.35,null,"001",null,"001","100","2130","6221","103",null,"103",null,"466",null,null,null,null,null,null,null,null,null,null,null,{"$f":"IF(OR(SUMPRODUCT(--(E318=$O$1:$O$541))>0,E318=0),0,1)","v":0}]
["001.100.2130.6221.104.000.0000","SOCIAL SECURITY - OASDI",2900.58,null,"001",null,"001","100","2130","6221","104",null,"104",null,"467",null,null,null,null,null,null,null,null,null,null,null,{"$f":"IF(OR(SUMPRODUCT(--(E319=$O$1:$O$541))>0,E319=0),0,1)","v":0}]
["001.100.2130.6221.105.000.0000","SOCIAL SECURITY - OASDI",1895.28,null,"001",null,"001","100","2130","6221","105",null,"105",null,"468",null,null,null,null,null,null,null,null,null,null,null,{"$f":"IF(OR(SUMPRODUCT(--(E320=$O$1:$O$541))>0,E320=0),0,1)","v":0}]
["001.100.2130.6221.106.000.0000","SOCIAL SECURITY - OASDI",1322.33,null,"001",null,"001","100","2130","6221","106",null,"106",null,"469",null,null,null,null,null,null,null,null,null,null,null,{"$f":"IF(OR(SUMPRODUCT(--(E321=$O$1:$O$541))>0,E321=0),0,1)","v":0}]
["001.100.2130.6221.107.000.0000","SOCIAL SECURITY - OASDI",1667.96,null,{"$f":"IF(AND(F322<>\"\",F322=G322),\"ERROR\",IF(AND(F322<>\"\",F322<>G322),F322,G322))","v":"001"},null,"001","100","2130","6221","107",null,{"$f":"IF(L322<>\"\",L322,K322)","v":"107"},null,"470",null,null,null,null,null,null,null,null,null,null,null,{"$f":"IF(OR(SUMPRODUCT(--(E322=$O$1:$O$541))>0,E322=0),0,1)","v":0}]
["001.100.2130.6221.500.000.0000","SOCIAL SECURITY - OASDI",1157.18,null,"001",null,"001","100","2130","6221","500",null,"500",null,"471",null,null,null,null,null,null,null,null,null,null,null,{"$f":"IF(OR(SUMPRODUCT(--(E323=$O$1:$O$541))>0,E323=0),0,1)","v":0}]
["001.100.2130.6222.101.000.0000","MEDICARE - HOSPITAL INSURANCE",632.98,null,"001",null,"001","100","2130","6222","101",null,"101",null,"472",null,null,null,null,null,null,null,null,null,null,null,{"$f":"IF(OR(SUMPRODUCT(--(E324=$O$1:$O$541))>0,E324=0),0,1)","v":0}]
["001.100.2130.6222.102.000.0000","MEDICARE - HOSPITAL INSURANCE",332.5,null,"001",null,"001","100","2130","6222","102",null,"102",null,"473",null,null,null,null,null,null,null,null,null,null,null,{"$f":"IF(OR(SUMPRODUCT(--(E325=$O$1:$O$541))>0,E325=0),0,1)","v":0}]
["001.100.2130.6222.103.000.0000","MEDICARE - HOSPITAL INSURANCE",360.69,null,"001",null,"001","100","2130","6222","103",null,"103",null,"474",null,null,null,null,null,null,null,null,null,null,null,{"$f":"IF(OR(SUMPRODUCT(--(E326=$O$1:$O$541))>0,E326=0),0,1)","v":0}]
["001.100.2130.6222.104.000.0000","MEDICARE - HOSPITAL INSURANCE",678.35,null,"001",null,"001","100","2130","6222","104",null,"104",null,"475",null,null,null,null,null,null,null,null,null,null,null,{"$f":"IF(OR(SUMPRODUCT(--(E327=$O$1:$O$541))>0,E327=0),0,1)","v":0}]
["001.100.2130.6222.105.000.0000","MEDICARE - HOSPITAL INSURANCE",443.25,null,"001",null,"001","100","2130","6222","105",null,"105",null,"476",null,null,null,null,null,null,null,null,null,null,null,{"$f":"IF(OR(SUMPRODUCT(--(E328=$O$1:$O$541))>0,E328=0),0,1)","v":0}]
["001.100.2130.6222.106.000.0000","MEDICARE - HOSPITAL INSURANCE",309.20999999999998,null,"001",null,"001","100","2130","6222","106",null,"106",null,"477",null,null,null,null,null,null,null,null,null,null,null,{"$f":"IF(OR(SUMPRODUCT(--(E329=$O$1:$O$541))>0,E329=0),0,1)","v":0}]
["001.100.2130.6222.107.000.0000","MEDICARE - HOSPITAL INSURANCE",390.08,null,"001",null,"001","100","2130","6222","107",null,"107",null,"478",null,null,null,null,null,null,null,null,null,null,null,{"$f":"IF(OR(SUMPRODUCT(--(E330=$O$1:$O$541))>0,E330=0),0,1)","v":0}]
["001.100.2130.6222.500.000.0000","MEDICARE - HOSPITAL INSURANCE",270.63,null,"001",null,"001","100","2130","6222","500",null,"500",null,"479",null,null,null,null,null,null,null,null,null,null,null,{"$f":"IF(OR(SUMPRODUCT(--(E331=$O$1:$O$541))>0,E331=0),0,1)","v":0}]
["001.100.2130.6231.101.000.0000","STATE RETIREMENT",5419.54,null,"001",null,"001","100","2130","6231","101",null,"101",null,"480",null,null,null,null,null,null,null,null,null,null,null,{"$f":"IF(OR(SUMPRODUCT(--(E332=$O$1:$O$541))>0,E332=0),0,1)","v":0}]
["001.100.2130.6231.102.000.0000","STATE RETIREMENT",2783.85,null,"001",null,"001","100","2130","6231","102",null,"102",null,"481",null,null,null,null,null,null,null,null,null,null,null,{"$f":"IF(OR(SUMPRODUCT(--(E333=$O$1:$O$541))>0,E333=0),0,1)","v":0}]
["001.100.2130.6231.103.000.0000","STATE RETIREMENT",3050.4,null,"001",null,"001","100","2130","6231","103",null,"103",null,"482",null,null,null,null,null,null,null,null,null,null,null,{"$f":"IF(OR(SUMPRODUCT(--(E334=$O$1:$O$541))>0,E334=0),0,1)","v":0}]
["001.100.2130.6231.104.000.0000","STATE RETIREMENT",5618.8,null,"001",null,"001","100","2130","6231","104",null,"104",null,"483",null,null,null,null,null,null,null,null,null,null,null,{"$f":"IF(OR(SUMPRODUCT(--(E335=$O$1:$O$541))>0,E335=0),0,1)","v":0}]
["001.100.2130.6231.105.000.0000","STATE RETIREMENT",3650.4,null,"001",null,"001","100","2130","6231","105",null,"105",null,"484",null,null,null,null,null,null,null,null,null,null,null,{"$f":"IF(OR(SUMPRODUCT(--(E336=$O$1:$O$541))>0,E336=0),0,1)","v":0}]
["001.100.2130.6231.106.000.0000","STATE RETIREMENT",2776.24,null,"001",null,"001","100","2130","6231","106",null,"106",null,"485",null,null,null,null,null,null,null,null,null,null,null,{"$f":"IF(OR(SUMPRODUCT(--(E337=$O$1:$O$541))>0,E337=0),0,1)","v":0}]
["001.100.2130.6231.107.000.0000","STATE RETIREMENT",3373.36,null,"001",null,"001","100","2130","6231","107",null,"107",null,"486",null,null,null,null,null,null,null,null,null,null,null,{"$f":"IF(OR(SUMPRODUCT(--(E338=$O$1:$O$541))>0,E338=0),0,1)","v":0}]
["001.100.2130.6231.500.000.0000","STATE RETIREMENT",958.05,null,"001",null,"001","100","2130","6231","500",null,"500",null,"487",null,null,null,null,null,null,null,null,null,null,null,{"$f":"IF(OR(SUMPRODUCT(--(E339=$O$1:$O$541))>0,E339=0),0,1)","v":0}]
["001.100.2130.6232.101.000.0000","LONG TERM DISABILITY",67,null,"001",null,"001","100","2130","6232","101",null,"101",null,"488",null,null,null,null,null,null,null,null,null,null,null,{"$f":"IF(OR(SUMPRODUCT(--(E340=$O$1:$O$541))>0,E340=0),0,1)","v":0}]
["001.100.2130.6232.102.000.0000","LONG TERM DISABILITY",34.39,null,"001",null,"001","100","2130","6232","102",null,"102",null,"489",null,null,null,null,null,null,null,null,null,null,null,{"$f":"IF(OR(SUMPRODUCT(--(E341=$O$1:$O$541))>0,E341=0),0,1)","v":0}]
["001.100.2130.6232.103.000.0000","LONG TERM DISABILITY",37.700000000000003,null,"001",null,"001","100","2130","6232","103",null,"103",null,"490",null,null,null,null,null,null,null,null,null,null,null,{"$f":"IF(OR(SUMPRODUCT(--(E342=$O$1:$O$541))>0,E342=0),0,1)","v":0}]
["001.100.2130.6232.104.000.0000","LONG TERM DISABILITY",69.430000000000007,null,"001",null,"001","100","2130","6232","104",null,"104",null,"491",null,null,null,null,null,null,null,null,null,null,null,{"$f":"IF(OR(SUMPRODUCT(--(E343=$O$1:$O$541))>0,E343=0),0,1)","v":0}]
["001.100.2130.6232.105.000.0000","LONG TERM DISABILITY",45.11,null,"001",null,"001","100","2130","6232","105",null,"105",null,"492",null,null,null,null,null,null,null,null,null,null,null,{"$f":"IF(OR(SUMPRODUCT(--(E344=$O$1:$O$541))>0,E344=0),0,1)","v":0}]
["001.100.2130.6232.106.000.0000","LONG TERM DISABILITY",34.299999999999997,null,"001",null,"001","100","2130","6232","106",null,"106",null,"493",null,null,null,null,null,null,null,null,null,null,null,{"$f":"IF(OR(SUMPRODUCT(--(E345=$O$1:$O$541))>0,E345=0),0,1)","v":0}]
["001.100.2130.6232.107.000.0000","LONG TERM DISABILITY",41.69,null,"001",null,"001","100","2130","6232","107",null,"107",null,"494",null,null,null,null,null,null,null,null,null,null,null,{"$f":"IF(OR(SUMPRODUCT(--(E346=$O$1:$O$541))>0,E346=0),0,1)","v":0}]
["001.100.2130.6232.500.000.0000","LONG TERM DISABILITY",11.83,null,"001",null,"001","100","2130","6232","500",null,"500",null,"495",null,null,null,null,null,null,null,null,null,null,null,{"$f":"IF(OR(SUMPRODUCT(--(E347=$O$1:$O$541))>0,E347=0),0,1)","v":0}]
["001.100.2130.6260.101.000.0000","WORKERS' COMPENSATION",249.58,null,"001",null,"001","100","2130","6260","101",null,"101",null,"496",null,null,null,null,null,null,null,null,null,null,null,{"$f":"IF(OR(SUMPRODUCT(--(E348=$O$1:$O$541))>0,E348=0),0,1)","v":0}]
["001.100.2130.6260.102.000.0000","WORKERS' COMPENSATION",612.07000000000005,null,"001",null,"001","100","2130","6260","102",null,"102",null,"497",null,null,null,null,null,null,null,null,null,null,null,{"$f":"IF(OR(SUMPRODUCT(--(E349=$O$1:$O$541))>0,E349=0),0,1)","v":0}]
["001.100.2130.6260.103.000.0000","WORKERS' COMPENSATION",140.61000000000001,null,"001",null,"001","100","2130","6260","103",null,"103",null,"498",null,null,null,null,null,null,null,null,null,null,null,{"$f":"IF(OR(SUMPRODUCT(--(E350=$O$1:$O$541))>0,E350=0),0,1)","v":0}]
["001.100.2130.6260.104.000.0000","WORKERS' COMPENSATION",261.99,null,"001",null,"001","100","2130","6260","104",null,"104",null,"499",null,null,null,null,null,null,null,null,null,null,null,{"$f":"IF(OR(SUMPRODUCT(--(E351=$O$1:$O$541))>0,E351=0),0,1)","v":0}]
["001.100.2130.6260.105.000.0000","WORKERS' COMPENSATION",171.18,null,"001",null,"001","100","2130","6260","105",null,"105",null,"500",{"$f":"[2]!F500EndFundBal","v":70330},null,{"$f":"IF(Q352=\"\",P352,Q352)","v":70330},null,null,null,null,null,null,null,null,{"$f":"IF(OR(SUMPRODUCT(--(E352=$O$1:$O$541))>0,E352=0),0,1)","v":0}]
["001.100.2130.6260.106.000.0000","WORKERS' COMPENSATION",128.26,null,"001",null,"001","100","2130","6260","106",null,"106",null,"510",{"$f":"[2]Summary!$I$33","v":1640909},null,1640909,null,null,null,null,null,null,null,null,{"$f":"IF(OR(SUMPRODUCT(--(E353=$O$1:$O$541))>0,E353=0),0,1)","v":0}]
["001.100.2130.6260.107.000.0000","WORKERS' COMPENSATION",155.54,null,"001",null,"001","100","2130","6260","107",null,"107",null,"515",{"$f":"[2]!F515EndFundBal","v":501969},null,501969,null,null,null,null,null,null,null,null,{"$f":"IF(OR(SUMPRODUCT(--(E354=$O$1:$O$541))>0,E354=0),0,1)","v":0}]
["001.100.2130.6260.500.000.0000","WORKERS' COMPENSATION",104.5,null,"001",null,"001","100","2130","6260","500",null,"500",null,"520",{"$f":"[2]!F520EndFundBal","v":384723},384722,384722,null,null,null,null,null,null,null,null,{"$f":"IF(OR(SUMPRODUCT(--(E355=$O$1:$O$541))>0,E355=0),0,1)","v":0}]
["001.100.2130.6290.101.000.0000","OTHER EMPLOYEE BENEFITS without ASRS",2.97,null,"001",null,"001","100","2130","6290","101",null,"101",null,"525",{"$f":"[2]!F525EndFundBal","v":243880},232024,232024,null,null,null,null,null,null,null,null,{"$f":"IF(OR(SUMPRODUCT(--(E356=$O$1:$O$541))>0,E356=0),0,1)","v":0}]
["001.100.2130.6290.104.000.0000","OTHER EMPLOYEE BENEFITS without ASRS",3.78,null,"001",null,"001","100","2130","6290","104",null,"104",null,"526",{"$f":"[2]!F526EndFundBal","v":236866},231891,231891,null,null,null,null,null,null,null,null,{"$f":"IF(OR(SUMPRODUCT(--(E357=$O$1:$O$541))>0,E357=0),0,1)","v":0}]
["001.100.2130.6290.105.000.0000","OTHER EMPLOYEE BENEFITS without ASRS",2.27,null,"001",null,"001","100","2130","6290","105",null,"105",null,"530",{"$f":"[2]!F530EndFundBal","v":326404},134210,134210,null,null,null,null,null,null,null,null,{"$f":"IF(OR(SUMPRODUCT(--(E358=$O$1:$O$541))>0,E358=0),0,1)","v":0}]
["001.100.2130.6290.107.000.0000","OTHER EMPLOYEE BENEFITS without ASRS",1.06,null,"001",null,"001","100","2130","6290","107",null,"107",null,"535",{"$f":"[2]!F535EndFundBal","v":0},394341,394341,null,null,null,null,null,null,null,null,{"$f":"IF(OR(SUMPRODUCT(--(E359=$O$1:$O$541))>0,E359=0),0,1)","v":0}]
["001.100.2130.6610.101.000.0000","GENERAL SUPPLIES",749.35,null,"001",null,"001","100","2130","6610","101",null,"101",null,"540",{"$f":"[2]!F540EndFundBal","v":-680},null,-680,null,null,null,null,null,null,null,null,{"$f":"IF(OR(SUMPRODUCT(--(E360=$O$1:$O$541))>0,E360=0),0,1)","v":0}]
["001.100.2130.6610.102.000.0000","GENERAL SUPPLIES",818.31,null,"001",null,"001","100","2130","6610","102",null,"102",null,"545",{"$f":"[2]!F545EndFundBal","v":0},null,0,null,null,null,null,null,null,null,null,{"$f":"IF(OR(SUMPRODUCT(--(E361=$O$1:$O$541))>0,E361=0),0,1)","v":0}]
["001.100.2130.6610.103.000.0000","GENERAL SUPPLIES",1267.3800000000001,null,"001",null,"001","100","2130","6610","103",null,"103",null,"550",{"$f":"[2]!F550EndFundBal","v":56092},null,56092,null,null,null,null,null,null,null,null,{"$f":"IF(OR(SUMPRODUCT(--(E362=$O$1:$O$541))>0,E362=0),0,1)","v":0}]
["001.100.2130.6610.104.000.0000","GENERAL SUPPLIES",1416.21,null,"001",null,"001","100","2130","6610","104",null,"104",null,"555",{"$f":"[2]!F555EndFundBal","v":1366},null,1366,null,null,null,null,null,null,null,null,{"$f":"IF(OR(SUMPRODUCT(--(E363=$O$1:$O$541))>0,E363=0),0,1)","v":0}]
["001.100.2130.6610.105.000.0000","GENERAL SUPPLIES",1616.66,null,"001",null,"001","100","2130","6610","105",null,"105",null,"565",{"$f":"[2]!F565EndFundBal","v":799},800,800,null,null,null,null,null,null,null,null,{"$f":"IF(OR(SUMPRODUCT(--(E364=$O$1:$O$541))>0,E364=0),0,1)","v":0}]
["001.100.2130.6610.106.000.0000","GENERAL SUPPLIES",2011.58,null,"001",null,"001","100","2130","6610","106",null,"106",null,"570",{"$f":"[2]!F570EndFundBal","v":609552},610295,610295,null,null,null,null,null,null,null,null,{"$f":"IF(OR(SUMPRODUCT(--(E365=$O$1:$O$541))>0,E365=0),0,1)","v":0}]
["001.100.2130.6610.107.000.0000","GENERAL SUPPLIES",1528.08,null,"001",null,"001","100","2130","6610","107",null,"107",null,"575",{"$f":"[2]!F575EndFundBal","v":223323},null,223323,null,null,null,null,null,null,null,null,{"$f":"IF(OR(SUMPRODUCT(--(E366=$O$1:$O$541))>0,E366=0),0,1)","v":0}]
["001.100.2140.6644.104.000.0000","OTHER BOOKS, PERIODICALS, AND MEDIA",45.66,null,"001",null,"001","100","2140","6644","104",null,"104",null,"580",{"$f":"[2]!F580EndFundBal","v":0},null,0,null,null,null,null,null,null,null,null,{"$f":"IF(OR(SUMPRODUCT(--(E367=$O$1:$O$541))>0,E367=0),0,1)","v":0}]
["001.100.2210.6111.510.000.0000","CERTIFIED ADMINISTRATORS",271455.43,null,"001",null,"001","100","2210","6111","510",500,500,null,"585",{"$f":"[2]!F585EndFundBal","v":0},null,0,null,null,null,null,null,null,null,null,{"$f":"IF(OR(SUMPRODUCT(--(E368=$O$1:$O$541))>0,E368=0),0,1)","v":0}]
["001.100.2210.6150.510.000.0000","CLASSIFIED SALARIES",116858.83,null,"001",null,"001","100","2210","6150","510",500,500,null,"590",{"$f":"[2]!F590EndFundBal","v":0},null,0,null,null,null,null,null,null,null,null,{"$f":"IF(OR(SUMPRODUCT(--(E369=$O$1:$O$541))>0,E369=0),0,1)","v":0}]
["001.100.2210.6155.510.000.0000","CLASSIFIED TEMPORARY",950,null,"001",null,"001","100","2210","6155","510",500,500,null,"595",{"$f":"[2]!F595EndFundBal","v":0},null,0,null,null,null,null,null,null,null,null,{"$f":"IF(OR(SUMPRODUCT(--(E370=$O$1:$O$541))>0,E370=0),0,1)","v":0}]
["001.100.2210.6210.510.000.0000","EMPLOYEE INSURANCE",39878.21,null,"001",null,"001","100","2210","6210","510",500,500,null,"596",{"$f":"[2]!F596EndFundBal","v":0},null,0,null,null,null,null,null,null,null,null,{"$f":"IF(OR(SUMPRODUCT(--(E371=$O$1:$O$541))>0,E371=0),0,1)","v":0}]
["001.100.2210.6221.510.000.0000","SOCIAL SECURITY - OASDI",23572.52,null,"001",null,"001","100","2210","6221","510",500,500,null,"597",{"$f":"[2]!F597EndFundBal","v":0},null,0,null,null,null,null,null,null,null,null,{"$f":"IF(OR(SUMPRODUCT(--(E372=$O$1:$O$541))>0,E372=0),0,1)","v":0}]
["001.100.2210.6222.510.000.0000","MEDICARE - HOSPITAL INSURANCE",5512.97,null,"001",null,"001","100","2210","6222","510",500,500,null,"610",{"$f":"'[2]Page 1'!$F$58","v":592356},null,592356,null,null,null,null,null,null,null,null,{"$f":"IF(OR(SUMPRODUCT(--(E373=$O$1:$O$541))>0,E373=0),0,1)","v":0}]
["001.100.2210.6231.510.000.0000","STATE RETIREMENT",46652.29,null,"001",null,"001","100","2210","6231","510",500,500,null,"620",{"$f":"'[2]Page 1'!$G$58","v":1125680},null,1125680,null,null,null,null,null,null,null,null,{"$f":"IF(OR(SUMPRODUCT(--(E374=$O$1:$O$541))>0,E374=0),0,1)","v":0}]
["001.100.2210.6232.510.000.0000","LONG TERM DISABILITY",576.32000000000005,null,"001",null,"001","100","2210","6232","510",500,500,null,"630",{"$f":"'[2]Page 1'!$H$58","v":17799841},null,17799841,null,null,null,null,null,null,null,null,{"$f":"IF(OR(SUMPRODUCT(--(E375=$O$1:$O$541))>0,E375=0),0,1)","v":0}]
["001.100.2210.6260.510.000.0000","WORKERS' COMPENSATION",2151.2399999999998,null,"001",null,"001","100","2210","6260","510",500,500,null,"639",{"$f":"[2]!F639EndFundBal","v":0},null,0,null,null,null,null,null,null,null,null,{"$f":"IF(OR(SUMPRODUCT(--(E376=$O$1:$O$541))>0,E376=0),0,1)","v":0}]
["001.100.2210.6290.510.000.0000","OTHER EMPLOYEE BENEFITS without ASRS",127.71,null,"001",null,"001","100","2210","6290","510",500,500,null,"650",{"$f":"[2]!F650EndFundBal","v":0},null,0,null,null,null,null,null,null,null,null,{"$f":"IF(OR(SUMPRODUCT(--(E377=$O$1:$O$541))>0,E377=0),0,1)","v":0}]
["001.100.2210.6300.510.000.0000","PURCHASED PROFESSIONAL AND TECHNICAL SERVICES",70,null,"001",null,"001","100","2210","6300","510",500,500,null,"660",{"$f":"[2]!F660EndFundBal","v":0},null,0,null,null,null,null,null,null,null,null,{"$f":"IF(OR(SUMPRODUCT(--(E378=$O$1:$O$541))>0,E378=0),0,1)","v":0}]
["001.100.2210.6580.510.000.0000","TRAVEL",7412.05,null,"001",null,"001","100","2210","6580","510",500,500,null,"665",{"$f":"[2]!F665EndFundBal","v":0},null,0,null,null,null,null,null,null,null,null,{"$f":"IF(OR(SUMPRODUCT(--(E379=$O$1:$O$541))>0,E379=0),0,1)","v":0}]
["001.100.2210.6610.510.000.0000","GENERAL SUPPLIES",1634.78,null,"001",null,"001","100","2210","6610","510",500,500,null,"686",{"$f":"[2]!F686EndFundBal","v":0},null,0,null,null,null,null,null,null,null,null,{"$f":"IF(OR(SUMPRODUCT(--(E380=$O$1:$O$541))>0,E380=0),0,1)","v":0}]
["001.100.2210.6644.510.000.0000","OTHER BOOKS, PERIODICALS, AND MEDIA",1551.61,null,"001",null,"001","100","2210","6644","510",500,500,null,"691",{"$f":"[2]!F691EndFundBal","v":-68881},null,-68881,null,null,null,null,null,null,null,null,{"$f":"IF(OR(SUMPRODUCT(--(E381=$O$1:$O$541))>0,E381=0),0,1)","v":0}]
["001.100.2210.6810.510.000.0000","DUES AND FEES",1345.6,null,"001",null,"001","100","2210","6810","510",500,500,null,"695",{"$f":"[2]!F695EndFundBal","v":-32959},0,0,null,null,null,null,null,null,null,null,{"$f":"IF(OR(SUMPRODUCT(--(E382=$O$1:$O$541))>0,E382=0),0,1)","v":0}]
["001.100.2212.6112.101.517.0000","CERTIFIED TEACHERS",77778.69,null,"001",null,"001","100","2212","6112","101",null,"101",null,"699",{"$f":"'[2]Page 5'!$J$28","v":0},null,{"$f":"IF(Q383=\"\",P383,Q383)","v":0},null,null,null,null,null,null,null,null,{"$f":"IF(OR(SUMPRODUCT(--(E383=$O$1:$O$541))>0,E383=0),0,1)","v":0}]
["001.100.2212.6112.103.517.0000","CERTIFIED TEACHERS",37577.5,null,"001",null,"001","100","2212","6112","103",null,"103",null,"700",{"$f":"'[2]Page 1'!$I$58","v":465685},null,465685,null,null,null,null,null,null,null,null,{"$f":"IF(OR(SUMPRODUCT(--(E384=$O$1:$O$541))>0,E384=0),0,1)","v":0}]
["001.100.2212.6112.104.517.0000","CERTIFIED TEACHERS",31118.3,null,"001",null,"001","100","2212","6112","104",null,"104",null,"720",{"$f":"[2]!F720EndFundBal","v":0},null,0,null,null,null,null,null,null,null,null,{"$f":"IF(OR(SUMPRODUCT(--(E385=$O$1:$O$541))>0,E385=0),0,1)","v":0}]
["001.100.2212.6112.105.517.0000","CERTIFIED TEACHERS",33450.57,null,{"$f":"IF(AND(F386<>\"\",F386=G386),\"ERROR\",IF(AND(F386<>\"\",F386<>G386),F386,G386))","v":"001"},null,"001","100","2212","6112","105",null,{"$f":"IF(L386<>\"\",L386,K386)","v":"105"},null,"750",{"$f":"[2]!F750EndFundBal","v":0},null,{"$f":"IF(Q386=\"\",P386,Q386)","v":0},null,null,null,null,null,null,null,null,{"$f":"IF(OR(SUMPRODUCT(--(E386=$O$1:$O$541))>0,E386=0),0,1)","v":0}]
["001.100.2212.6112.106.517.0000","CERTIFIED TEACHERS",32876.43,null,"001",null,"001","100","2212","6112","106",null,"106",null,"800",{"$f":"[2]!F800_849EndFundBal","v":0},null,{"$f":"IF(Q387=\"\",P387,Q387)","v":0},null,null,null,null,null,null,null,null,{"$f":"IF(OR(SUMPRODUCT(--(E387=$O$1:$O$541))>0,E387=0),0,1)","v":0}]
["001.100.2212.6112.107.517.0000","CERTIFIED TEACHERS",34184.36,null,"001",null,"001","100","2212","6112","107",null,"107",null,"801",null,null,null,null,null,null,null,null,null,null,null,{"$f":"IF(OR(SUMPRODUCT(--(E388=$O$1:$O$541))>0,E388=0),0,1)","v":0}]
["001.100.2212.6112.510.000.0000","CERTIFIED TEACHERS",68506.320000000007,null,"001",null,"001","100","2212","6112","510",500,500,null,"802",null,null,null,null,null,null,null,null,null,null,null,{"$f":"IF(OR(SUMPRODUCT(--(E389=$O$1:$O$541))>0,E389=0),0,1)","v":0}]
["001.100.2212.6114.103.517.0000","CERTIFIED OTHER",439,null,"001",null,"001","100","2212","6114","103",null,"103",null,"803",null,null,null,null,null,null,null,null,null,null,null,{"$f":"IF(OR(SUMPRODUCT(--(E390=$O$1:$O$541))>0,E390=0),0,1)","v":0}]
["001.100.2212.6114.104.517.0000","CERTIFIED OTHER",1250,null,"001",null,"001","100","2212","6114","104",null,"104",null,"804",null,null,null,null,null,null,null,null,null,null,null,{"$f":"IF(OR(SUMPRODUCT(--(E391=$O$1:$O$541))>0,E391=0),0,1)","v":0}]
["001.100.2212.6114.106.517.0000","CERTIFIED OTHER",1002.45,null,"001",null,"001","100","2212","6114","106",null,"106",null,"805",null,null,null,null,null,null,null,null,null,null,null,{"$f":"IF(OR(SUMPRODUCT(--(E392=$O$1:$O$541))>0,E392=0),0,1)","v":0}]
["001.100.2212.6114.510.000.0000","CERTIFIED OTHER",1000,null,"001",null,"001","100","2212","6114","510",500,500,null,"806",null,null,null,null,null,null,null,null,null,null,null,{"$f":"IF(OR(SUMPRODUCT(--(E393=$O$1:$O$541))>0,E393=0),0,1)","v":0}]
["001.100.2212.6210.101.517.0000","EMPLOYEE INSURANCE",8198.76,null,"001",null,"001","100","2212","6210","101",null,"101",null,"807",null,null,null,null,null,null,null,null,null,null,null,{"$f":"IF(OR(SUMPRODUCT(--(E394=$O$1:$O$541))>0,E394=0),0,1)","v":0}]
["001.100.2212.6210.103.517.0000","EMPLOYEE INSURANCE",63,null,"001",null,"001","100","2212","6210","103",null,"103",null,"808",null,null,null,null,null,null,null,null,null,null,null,{"$f":"IF(OR(SUMPRODUCT(--(E395=$O$1:$O$541))>0,E395=0),0,1)","v":0}]
["001.100.2212.6210.104.517.0000","EMPLOYEE INSURANCE",289.27999999999997,null,"001",null,"001","100","2212","6210","104",null,"104",null,"809",null,null,null,null,null,null,null,null,null,null,null,{"$f":"IF(OR(SUMPRODUCT(--(E396=$O$1:$O$541))>0,E396=0),0,1)","v":0}]
["001.100.2212.6210.105.517.0000","EMPLOYEE INSURANCE",4091.72,null,"001",null,"001","100","2212","6210","105",null,"105",null,"810",null,null,null,null,null,null,null,null,null,null,null,{"$f":"IF(OR(SUMPRODUCT(--(E397=$O$1:$O$541))>0,E397=0),0,1)","v":0}]
["001.100.2212.6210.106.517.0000","EMPLOYEE INSURANCE",4787.49,null,"001",null,"001","100","2212","6210","106",null,"106",null,"811",null,null,null,null,null,null,null,null,null,null,null,{"$f":"IF(OR(SUMPRODUCT(--(E398=$O$1:$O$541))>0,E398=0),0,1)","v":0}]
["001.100.2212.6210.107.517.0000","EMPLOYEE INSURANCE",4092.98,null,"001",null,"001","100","2212","6210","107",null,"107",null,"812",null,null,null,null,null,null,null,null,null,null,null,{"$f":"IF(OR(SUMPRODUCT(--(E399=$O$1:$O$541))>0,E399=0),0,1)","v":0}]
["001.100.2212.6210.510.000.0000","EMPLOYEE INSURANCE",8189.52,null,"001",null,"001","100","2212","6210","510",500,500,null,"813",null,null,null,null,null,null,null,null,null,null,null,{"$f":"IF(OR(SUMPRODUCT(--(E400=$O$1:$O$541))>0,E400=0),0,1)","v":0}]
["001.100.2212.6221.101.517.0000","SOCIAL SECURITY - OASDI",4701.0600000000004,null,"001",null,"001","100","2212","6221","101",null,"101",null,"814",null,null,null,null,null,null,null,null,null,null,null,{"$f":"IF(OR(SUMPRODUCT(--(E401=$O$1:$O$541))>0,E401=0),0,1)","v":0}]
["001.100.2212.6221.103.517.0000","SOCIAL SECURITY - OASDI",2357.0500000000002,null,"001",null,"001","100","2212","6221","103",null,"103",null,"815",null,null,null,null,null,null,null,null,null,null,null,{"$f":"IF(OR(SUMPRODUCT(--(E402=$O$1:$O$541))>0,E402=0),0,1)","v":0}]
["001.100.2212.6221.104.517.0000","SOCIAL SECURITY - OASDI",2008.71,null,"001",null,"001","100","2212","6221","104",null,"104",null,"816",null,null,null,null,null,null,null,null,null,null,null,{"$f":"IF(OR(SUMPRODUCT(--(E403=$O$1:$O$541))>0,E403=0),0,1)","v":0}]
["001.100.2212.6221.105.517.0000","SOCIAL SECURITY - OASDI",1931.8,null,"001",null,"001","100","2212","6221","105",null,"105",null,"817",null,null,null,null,null,null,null,null,null,null,null,{"$f":"IF(OR(SUMPRODUCT(--(E404=$O$1:$O$541))>0,E404=0),0,1)","v":0}]
["001.100.2212.6221.106.517.0000","SOCIAL SECURITY - OASDI",2081.33,null,"001",null,"001","100","2212","6221","106",null,"106",null,"818",null,null,null,null,null,null,null,null,null,null,null,{"$f":"IF(OR(SUMPRODUCT(--(E405=$O$1:$O$541))>0,E405=0),0,1)","v":0}]
["001.100.2212.6221.107.517.0000","SOCIAL SECURITY - OASDI",2002.73,null,"001",null,"001","100","2212","6221","107",null,"107",null,"819",null,null,null,null,null,null,null,null,null,null,null,{"$f":"IF(OR(SUMPRODUCT(--(E406=$O$1:$O$541))>0,E406=0),0,1)","v":0}]
["001.100.2212.6221.510.000.0000","SOCIAL SECURITY - OASDI",4188.59,null,"001",null,"001","100","2212","6221","510",500,500,null,"820",null,null,null,null,null,null,null,null,null,null,null,{"$f":"IF(OR(SUMPRODUCT(--(E407=$O$1:$O$541))>0,E407=0),0,1)","v":0}]
["001.100.2212.6222.101.517.0000","MEDICARE - HOSPITAL INSURANCE",1099.43,null,"001",null,"001","100","2212","6222","101",null,"101",null,"821",null,null,null,null,null,null,null,null,null,null,null,{"$f":"IF(OR(SUMPRODUCT(--(E408=$O$1:$O$541))>0,E408=0),0,1)","v":0}]
["001.100.2212.6222.103.517.0000","MEDICARE - HOSPITAL INSURANCE",551.13,null,"001",null,"001","100","2212","6222","103",null,"103",null,"822",null,null,null,null,null,null,null,null,null,null,null,{"$f":"IF(OR(SUMPRODUCT(--(E409=$O$1:$O$541))>0,E409=0),0,1)","v":0}]
["001.100.2212.6222.104.517.0000","MEDICARE - HOSPITAL INSURANCE",469.76,null,"001",null,"001","100","2212","6222","104",null,"104",null,"823",null,null,null,null,null,null,null,null,null,null,null,{"$f":"IF(OR(SUMPRODUCT(--(E410=$O$1:$O$541))>0,E410=0),0,1)","v":0}]
["001.100.2212.6222.105.517.0000","MEDICARE - HOSPITAL INSURANCE",451.77,null,"001",null,"001","100","2212","6222","105",null,"105",null,"824",null,null,null,null,null,null,null,null,null,null,null,{"$f":"IF(OR(SUMPRODUCT(--(E411=$O$1:$O$541))>0,E411=0),0,1)","v":0}]
["001.100.2212.6222.106.517.0000","MEDICARE - HOSPITAL INSURANCE",486.88,null,"001",null,"001","100","2212","6222","106",null,"106",null,"825",null,null,null,null,null,null,null,null,null,null,null,{"$f":"IF(OR(SUMPRODUCT(--(E412=$O$1:$O$541))>0,E412=0),0,1)","v":0}]
["001.100.2212.6222.107.517.0000","MEDICARE - HOSPITAL INSURANCE",468.36,null,"001",null,"001","100","2212","6222","107",null,"107",null,"826",null,null,null,null,null,null,null,null,null,null,null,{"$f":"IF(OR(SUMPRODUCT(--(E413=$O$1:$O$541))>0,E413=0),0,1)","v":0}]
["001.100.2212.6222.510.000.0000","MEDICARE - HOSPITAL INSURANCE",979.67,null,"001",null,"001","100","2212","6222","510",500,500,null,"827",null,null,null,null,null,null,null,null,null,null,null,{"$f":"IF(OR(SUMPRODUCT(--(E414=$O$1:$O$541))>0,E414=0),0,1)","v":0}]
["001.100.2212.6231.101.517.0000","STATE RETIREMENT",9286.68,null,"001",null,"001","100","2212","6231","101",null,"101",null,"828",null,null,null,null,null,null,null,null,null,null,null,{"$f":"IF(OR(SUMPRODUCT(--(E415=$O$1:$O$541))>0,E415=0),0,1)","v":0}]
["001.100.2212.6231.103.517.0000","STATE RETIREMENT",4584.8599999999997,null,"001",null,"001","100","2212","6231","103",null,"103",null,"829",null,null,null,null,null,null,null,null,null,null,null,{"$f":"IF(OR(SUMPRODUCT(--(E416=$O$1:$O$541))>0,E416=0),0,1)","v":0}]
["001.100.2212.6231.104.517.0000","STATE RETIREMENT",3902.83,null,"001",null,"001","100","2212","6231","104",null,"104",null,"830",null,null,null,null,null,null,null,null,null,null,null,{"$f":"IF(OR(SUMPRODUCT(--(E417=$O$1:$O$541))>0,E417=0),0,1)","v":0}]
["001.100.2212.6231.105.517.0000","STATE RETIREMENT",3981.85,null,"001",null,"001","100","2212","6231","105",null,"105",null,"831",null,null,null,null,null,null,null,null,null,null,null,{"$f":"IF(OR(SUMPRODUCT(--(E418=$O$1:$O$541))>0,E418=0),0,1)","v":0}]
["001.100.2212.6231.106.517.0000","STATE RETIREMENT",4084.96,null,"001",null,"001","100","2212","6231","106",null,"106",null,"832",null,null,null,null,null,null,null,null,null,null,null,{"$f":"IF(OR(SUMPRODUCT(--(E419=$O$1:$O$541))>0,E419=0),0,1)","v":0}]
["001.100.2212.6231.107.517.0000","STATE RETIREMENT",4069.17,null,"001",null,"001","100","2212","6231","107",null,"107",null,"833",null,null,null,null,null,null,null,null,null,null,null,{"$f":"IF(OR(SUMPRODUCT(--(E420=$O$1:$O$541))>0,E420=0),0,1)","v":0}]
["001.100.2212.6231.510.000.0000","STATE RETIREMENT",6767.76,null,"001",null,"001","100","2212","6231","510",500,500,null,"834",null,null,null,null,null,null,null,null,null,null,null,{"$f":"IF(OR(SUMPRODUCT(--(E421=$O$1:$O$541))>0,E421=0),0,1)","v":0}]
["001.100.2212.6232.101.517.0000","LONG TERM DISABILITY",114.79,null,"001",null,"001","100","2212","6232","101",null,"101",null,"835",null,null,null,null,null,null,null,null,null,null,null,{"$f":"IF(OR(SUMPRODUCT(--(E422=$O$1:$O$541))>0,E422=0),0,1)","v":0}]
["001.100.2212.6232.103.517.0000","LONG TERM DISABILITY",56.67,null,"001",null,"001","100","2212","6232","103",null,"103",null,"836",null,null,null,null,null,null,null,null,null,null,null,{"$f":"IF(OR(SUMPRODUCT(--(E423=$O$1:$O$541))>0,E423=0),0,1)","v":0}]
["001.100.2212.6232.104.517.0000","LONG TERM DISABILITY",48.19,null,"001",null,"001","100","2212","6232","104",null,"104",null,"837",null,null,null,null,null,null,null,null,null,null,null,{"$f":"IF(OR(SUMPRODUCT(--(E424=$O$1:$O$541))>0,E424=0),0,1)","v":0}]
["001.100.2212.6232.105.517.0000","LONG TERM DISABILITY",49.11,null,"001",null,"001","100","2212","6232","105",null,"105",null,"838",null,null,null,null,null,null,null,null,null,null,null,{"$f":"IF(OR(SUMPRODUCT(--(E425=$O$1:$O$541))>0,E425=0),0,1)","v":0}]
["001.100.2212.6232.106.517.0000","LONG TERM DISABILITY",50.48,null,"001",null,"001","100","2212","6232","106",null,"106",null,"839",null,null,null,null,null,null,null,null,null,null,null,{"$f":"IF(OR(SUMPRODUCT(--(E426=$O$1:$O$541))>0,E426=0),0,1)","v":0}]
["001.100.2212.6232.107.517.0000","LONG TERM DISABILITY",50.28,null,"001",null,"001","100","2212","6232","107",null,"107",null,"840",null,null,null,null,null,null,null,null,null,null,null,{"$f":"IF(OR(SUMPRODUCT(--(E427=$O$1:$O$541))>0,E427=0),0,1)","v":0}]
["001.100.2212.6260.101.517.0000","WORKERS' COMPENSATION",428.48,null,"001",null,"001","100","2212","6260","101",null,"101",null,"841",null,null,null,null,null,null,null,null,null,null,null,{"$f":"IF(OR(SUMPRODUCT(--(E428=$O$1:$O$541))>0,E428=0),0,1)","v":0}]
["001.100.2212.6260.103.517.0000","WORKERS' COMPENSATION",212.79,null,"001",null,"001","100","2212","6260","103",null,"103",null,"842",null,null,null,null,null,null,null,null,null,null,null,{"$f":"IF(OR(SUMPRODUCT(--(E429=$O$1:$O$541))>0,E429=0),0,1)","v":0}]
["001.100.2212.6260.104.517.0000","WORKERS' COMPENSATION",181.47,null,"001",null,"001","100","2212","6260","104",null,"104",null,"843",null,null,null,null,null,null,null,null,null,null,null,{"$f":"IF(OR(SUMPRODUCT(--(E430=$O$1:$O$541))>0,E430=0),0,1)","v":0}]
["001.100.2212.6260.105.517.0000","WORKERS' COMPENSATION",183.68,null,"001",null,"001","100","2212","6260","105",null,"105",null,"844",null,null,null,null,null,null,null,null,null,null,null,{"$f":"IF(OR(SUMPRODUCT(--(E431=$O$1:$O$541))>0,E431=0),0,1)","v":0}]
["001.100.2212.6260.106.517.0000","WORKERS' COMPENSATION",188.43,null,"001",null,"001","100","2212","6260","106",null,"106",null,"845",null,null,null,null,null,null,null,null,null,null,null,{"$f":"IF(OR(SUMPRODUCT(--(E432=$O$1:$O$541))>0,E432=0),0,1)","v":0}]
["001.100.2212.6260.107.517.0000","WORKERS' COMPENSATION",187.66,null,"001",null,"001","100","2212","6260","107",null,"107",null,"846",null,null,null,null,null,null,null,null,null,null,null,{"$f":"IF(OR(SUMPRODUCT(--(E433=$O$1:$O$541))>0,E433=0),0,1)","v":0}]
["001.100.2212.6260.510.000.0000","WORKERS' COMPENSATION",381.88,null,"001",null,"001","100","2212","6260","510",500,500,null,"847",null,null,null,null,null,null,null,null,null,null,null,{"$f":"IF(OR(SUMPRODUCT(--(E434=$O$1:$O$541))>0,E434=0),0,1)","v":0}]
["001.100.2212.6290.101.517.0000","OTHER EMPLOYEE BENEFITS without ASRS",36.71,null,"001",null,"001","100","2212","6290","101",null,"101",null,"848",null,null,null,null,null,null,null,null,null,null,null,{"$f":"IF(OR(SUMPRODUCT(--(E435=$O$1:$O$541))>0,E435=0),0,1)","v":0}]
["001.100.2212.6290.103.517.0000","OTHER EMPLOYEE BENEFITS without ASRS",6,null,"001",null,"001","100","2212","6290","103",null,"103",null,"849",null,null,null,null,null,null,null,null,null,null,null,{"$f":"IF(OR(SUMPRODUCT(--(E436=$O$1:$O$541))>0,E436=0),0,1)","v":0}]
["001.100.2212.6290.104.517.0000","OTHER EMPLOYEE BENEFITS without ASRS",49.5,null,"001",null,"001","100","2212","6290","104",null,"104",null,"850",{"$f":"[2]!F850EndFundBal","v":49438},48493,{"$f":"IF(Q437=\"\",P437,Q437)","v":48493},null,null,null,null,null,null,null,null,{"$f":"IF(OR(SUMPRODUCT(--(E437=$O$1:$O$541))>0,E437=0),0,1)","v":0}]
["001.100.2212.6290.105.517.0000","OTHER EMPLOYEE BENEFITS without ASRS",31.6,null,"001",null,"001","100","2212","6290","105",null,"105",null,"855",{"$f":"[2]!F855EndFundBal","v":0},null,{"$f":"IF(Q438=\"\",P438,Q438)","v":0},null,null,null,null,null,null,null,null,{"$f":"IF(OR(SUMPRODUCT(--(E438=$O$1:$O$541))>0,E438=0),0,1)","v":0}]
["001.100.2212.6290.106.517.0000","OTHER EMPLOYEE BENEFITS without ASRS",17.260000000000002,null,"001",null,"001","100","2212","6290","106",null,"106",null,"865",{"$f":"[2]!F865EndFundBal","v":0},null,{"$f":"IF(Q439=\"\",P439,Q439)","v":0},null,null,null,null,null,null,null,null,{"$f":"IF(OR(SUMPRODUCT(--(E439=$O$1:$O$541))>0,E439=0),0,1)","v":0}]
["001.100.2212.6290.107.517.0000","OTHER EMPLOYEE BENEFITS without ASRS",8.18,null,"001",null,"001","100","2212","6290","107",null,"107",null,"900",{"$f":"[2]!F900_949EndFundBal","v":0},null,{"$f":"IF(Q440=\"\",P440,Q440)","v":0},null,null,null,null,null,null,null,null,{"$f":"IF(OR(SUMPRODUCT(--(E440=$O$1:$O$541))>0,E440=0),0,1)","v":0}]
["001.100.2212.6290.510.000.0000","OTHER EMPLOYEE BENEFITS without ASRS",26.24,null,"001",null,"001","100","2212","6290","510",500,500,null,"901",null,null,null,null,null,null,null,null,null,null,null,{"$f":"IF(OR(SUMPRODUCT(--(E441=$O$1:$O$541))>0,E441=0),0,1)","v":0}]
["001.100.2212.6644.102.000.0000","OTHER BOOKS, PERIODICALS, AND MEDIA",946.68,null,"001",null,"001","100","2212","6644","102",null,"102",null,"902",null,null,null,null,null,null,null,null,null,null,null,{"$f":"IF(OR(SUMPRODUCT(--(E442=$O$1:$O$541))>0,E442=0),0,1)","v":0}]
["001.100.2212.6644.107.000.0000","OTHER BOOKS, PERIODICALS, AND MEDIA",1025.57,null,"001",null,"001","100","2212","6644","107",null,"107",null,"903",null,null,null,null,null,null,null,null,null,null,null,{"$f":"IF(OR(SUMPRODUCT(--(E443=$O$1:$O$541))>0,E443=0),0,1)","v":0}]
["001.100.2212.6644.510.000.0000","OTHER BOOKS, PERIODICALS, AND MEDIA",178.56,null,"001",null,"001","100","2212","6644","510",500,500,null,"904",null,null,null,null,null,null,null,null,null,null,null,{"$f":"IF(OR(SUMPRODUCT(--(E444=$O$1:$O$541))>0,E444=0),0,1)","v":0}]
["001.100.2213.6111.510.000.0000","CERTIFIED ADMINISTRATORS",82068,null,"001",null,"001","100","2213","6111","510",500,500,null,"905",null,null,null,null,null,null,null,null,null,null,null,{"$f":"IF(OR(SUMPRODUCT(--(E445=$O$1:$O$541))>0,E445=0),0,1)","v":0}]
["001.100.2213.6113.103.000.0000","CERTIFIED SUBSTITUTE TEACHERS",9000,null,"001",null,"001","100","2213","6113","103",null,"103",null,"906",null,null,null,null,null,null,null,null,null,null,null,{"$f":"IF(OR(SUMPRODUCT(--(E446=$O$1:$O$541))>0,E446=0),0,1)","v":0}]
["001.100.2213.6113.105.000.0000","CERTIFIED SUBSTITUTE TEACHERS",5363.5,null,"001",null,"001","100","2213","6113","105",null,"105",null,"907",null,null,null,null,null,null,null,null,null,null,null,{"$f":"IF(OR(SUMPRODUCT(--(E447=$O$1:$O$541))>0,E447=0),0,1)","v":0}]
["001.100.2213.6114.105.000.0000","CERTIFIED OTHER",3780,null,"001",null,"001","100","2213","6114","105",null,"105",null,"908",null,null,null,null,null,null,null,null,null,null,null,{"$f":"IF(OR(SUMPRODUCT(--(E448=$O$1:$O$541))>0,E448=0),0,1)","v":0}]
["001.100.2213.6210.510.000.0000","EMPLOYEE INSURANCE",8780.76,null,"001",null,"001","100","2213","6210","510",500,500,null,"909",null,null,null,null,null,null,null,null,null,null,null,{"$f":"IF(OR(SUMPRODUCT(--(E449=$O$1:$O$541))>0,E449=0),0,1)","v":0}]
["001.100.2213.6221.103.000.0000","SOCIAL SECURITY - OASDI",543.12,null,{"$f":"IF(AND(F450<>\"\",F450=G450),\"ERROR\",IF(AND(F450<>\"\",F450<>G450),F450,G450))","v":"001"},null,"001","100","2213","6221","103",null,{"$f":"IF(L450<>\"\",L450,K450)","v":"103"},null,"910",null,null,null,null,null,null,null,null,null,null,null,{"$f":"IF(OR(SUMPRODUCT(--(E450=$O$1:$O$541))>0,E450=0),0,1)","v":0}]
["001.100.2213.6221.105.000.0000","SOCIAL SECURITY - OASDI",556.52,null,"001",null,"001","100","2213","6221","105",null,"105",null,"911",null,null,null,null,null,null,null,null,null,null,null,{"$f":"IF(OR(SUMPRODUCT(--(E451=$O$1:$O$541))>0,E451=0),0,1)","v":0}]
["001.100.2213.6221.510.000.0000","SOCIAL SECURITY - OASDI",5089.78,null,"001",null,"001","100","2213","6221","510",500,500,null,"912",null,null,null,null,null,null,null,null,null,null,null,{"$f":"IF(OR(SUMPRODUCT(--(E452=$O$1:$O$541))>0,E452=0),0,1)","v":0}]
["001.100.2213.6222.103.000.0000","MEDICARE - HOSPITAL INSURANCE",127.02,null,"001",null,"001","100","2213","6222","103",null,"103",null,"913",null,null,null,null,null,null,null,null,null,null,null,{"$f":"IF(OR(SUMPRODUCT(--(E453=$O$1:$O$541))>0,E453=0),0,1)","v":0}]
["001.100.2213.6222.105.000.0000","MEDICARE - HOSPITAL INSURANCE",130.19999999999999,null,"001",null,"001","100","2213","6222","105",null,"105",null,"914",null,null,null,null,null,null,null,null,null,null,null,{"$f":"IF(OR(SUMPRODUCT(--(E454=$O$1:$O$541))>0,E454=0),0,1)","v":0}]
["001.100.2213.6222.510.000.0000","MEDICARE - HOSPITAL INSURANCE",1190.3900000000001,null,"001",null,"001","100","2213","6222","510",500,500,null,"915",null,null,null,null,null,null,null,null,null,null,null,{"$f":"IF(OR(SUMPRODUCT(--(E455=$O$1:$O$541))>0,E455=0),0,1)","v":0}]
["001.100.2213.6231.103.000.0000","STATE RETIREMENT",1092.53,null,"001",null,"001","100","2213","6231","103",null,"103",null,"916",null,null,null,null,null,null,null,null,null,null,null,{"$f":"IF(OR(SUMPRODUCT(--(E456=$O$1:$O$541))>0,E456=0),0,1)","v":0}]
["001.100.2213.6231.105.000.0000","STATE RETIREMENT",991.31,null,"001",null,"001","100","2213","6231","105",null,"105",null,"917",null,null,null,null,null,null,null,null,null,null,null,{"$f":"IF(OR(SUMPRODUCT(--(E457=$O$1:$O$541))>0,E457=0),0,1)","v":0}]
["001.100.2213.6231.510.000.0000","STATE RETIREMENT",9966.06,null,"001",null,"001","100","2213","6231","510",500,500,null,"918",null,null,null,null,null,null,null,null,null,null,null,{"$f":"IF(OR(SUMPRODUCT(--(E458=$O$1:$O$541))>0,E458=0),0,1)","v":0}]
["001.100.2213.6232.103.000.0000","LONG TERM DISABILITY",13.56,null,"001",null,"001","100","2213","6232","103",null,"103",null,"919",null,null,null,null,null,null,null,null,null,null,null,{"$f":"IF(OR(SUMPRODUCT(--(E459=$O$1:$O$541))>0,E459=0),0,1)","v":0}]
["001.100.2213.6232.105.000.0000","LONG TERM DISABILITY",8.86,null,"001",null,"001","100","2213","6232","105",null,"105",null,"920",null,null,null,null,null,null,null,null,null,null,null,{"$f":"IF(OR(SUMPRODUCT(--(E460=$O$1:$O$541))>0,E460=0),0,1)","v":0}]
["001.100.2213.6232.510.000.0000","LONG TERM DISABILITY",123.03,null,"001",null,"001","100","2213","6232","510",500,500,null,"921",null,null,null,null,null,null,null,null,null,null,null,{"$f":"IF(OR(SUMPRODUCT(--(E461=$O$1:$O$541))>0,E461=0),0,1)","v":0}]
["001.100.2213.6260.103.000.0000","WORKERS' COMPENSATION",50.44,null,"001",null,"001","100","2213","6260","103",null,"103",null,"922",null,null,null,null,null,null,null,null,null,null,null,{"$f":"IF(OR(SUMPRODUCT(--(E462=$O$1:$O$541))>0,E462=0),0,1)","v":0}]
["001.100.2213.6260.105.000.0000","WORKERS' COMPENSATION",50.22,null,"001",null,"001","100","2213","6260","105",null,"105",null,"923",null,null,null,null,null,null,null,null,null,null,null,{"$f":"IF(OR(SUMPRODUCT(--(E463=$O$1:$O$541))>0,E463=0),0,1)","v":0}]
["001.100.2213.6260.510.000.0000","WORKERS' COMPENSATION",459.82,null,"001",null,"001","100","2213","6260","510",500,500,null,"924",null,null,null,null,null,null,null,null,null,null,null,{"$f":"IF(OR(SUMPRODUCT(--(E464=$O$1:$O$541))>0,E464=0),0,1)","v":0}]
["001.100.2213.6290.510.000.0000","OTHER EMPLOYEE BENEFITS without ASRS",34.53,null,"001",null,"001","100","2213","6290","510",500,500,null,"925",null,null,null,null,null,null,null,null,null,null,null,{"$f":"IF(OR(SUMPRODUCT(--(E465=$O$1:$O$541))>0,E465=0),0,1)","v":0}]
["001.100.2213.6300.101.000.0000","PURCHASED PROFESSIONAL AND TECHNICAL SERVICES",132,null,"001",null,"001","100","2213","6300","101",null,"101",null,"926",null,null,null,null,null,null,null,null,null,null,null,{"$f":"IF(OR(SUMPRODUCT(--(E466=$O$1:$O$541))>0,E466=0),0,1)","v":0}]
["001.100.2213.6300.102.000.0000","PURCHASED PROFESSIONAL AND TECHNICAL SERVICES",316.8,null,"001",null,"001","100","2213","6300","102",null,"102",null,"927",null,null,null,null,null,null,null,null,null,null,null,{"$f":"IF(OR(SUMPRODUCT(--(E467=$O$1:$O$541))>0,E467=0),0,1)","v":0}]
["001.100.2213.6300.103.000.0000","PURCHASED PROFESSIONAL AND TECHNICAL SERVICES",23479.4,null,"001",null,"001","100","2213","6300","103",null,"103",null,"928",null,null,null,null,null,null,null,null,null,null,null,{"$f":"IF(OR(SUMPRODUCT(--(E468=$O$1:$O$541))>0,E468=0),0,1)","v":0}]
["001.100.2213.6300.104.000.0000","PURCHASED PROFESSIONAL AND TECHNICAL SERVICES",371.4,null,"001",null,"001","100","2213","6300","104",null,"104",null,"929",null,null,null,null,null,null,null,null,null,null,null,{"$f":"IF(OR(SUMPRODUCT(--(E469=$O$1:$O$541))>0,E469=0),0,1)","v":0}]
["001.100.2213.6300.104.704.0000","PURCHASED PROFESSIONAL AND TECHNICAL SERVICES",1875,null,"001",null,"001","100","2213","6300","104",null,"104",null,"930",null,null,null,null,null,null,null,null,null,null,null,{"$f":"IF(OR(SUMPRODUCT(--(E470=$O$1:$O$541))>0,E470=0),0,1)","v":0}]
["001.100.2213.6300.105.000.0000","PURCHASED PROFESSIONAL AND TECHNICAL SERVICES",132,null,"001",null,"001","100","2213","6300","105",null,"105",null,"931",null,null,null,null,null,null,null,null,null,null,null,{"$f":"IF(OR(SUMPRODUCT(--(E471=$O$1:$O$541))>0,E471=0),0,1)","v":0}]
["001.100.2213.6300.106.000.0000","PURCHASED PROFESSIONAL AND TECHNICAL SERVICES",1307,null,"001",null,"001","100","2213","6300","106",null,"106",null,"932",null,null,null,null,null,null,null,null,null,null,null,{"$f":"IF(OR(SUMPRODUCT(--(E472=$O$1:$O$541))>0,E472=0),0,1)","v":0}]
["001.100.2213.6300.107.000.0000","PURCHASED PROFESSIONAL AND TECHNICAL SERVICES",132,null,"001",null,"001","100","2213","6300","107",null,"107",null,"933",null,null,null,null,null,null,null,null,null,null,null,{"$f":"IF(OR(SUMPRODUCT(--(E473=$O$1:$O$541))>0,E473=0),0,1)","v":0}]
["001.100.2213.6300.107.707.0000","PURCHASED PROFESSIONAL AND TECHNICAL SERVICES",6000,null,"001",null,"001","100","2213","6300","107",null,"107",null,"934",null,null,null,null,null,null,null,null,null,null,null,{"$f":"IF(OR(SUMPRODUCT(--(E474=$O$1:$O$541))>0,E474=0),0,1)","v":0}]
["001.100.2213.6300.510.000.0000","PURCHASED PROFESSIONAL AND TECHNICAL SERVICES",5560.08,null,"001",null,"001","100","2213","6300","510",500,500,null,"935",null,null,null,null,null,null,null,null,null,null,null,{"$f":"IF(OR(SUMPRODUCT(--(E475=$O$1:$O$541))>0,E475=0),0,1)","v":0}]
["001.100.2213.6610.510.000.0000","GENERAL SUPPLIES",3204.63,null,"001",null,"001","100","2213","6610","510",500,500,null,"936",null,null,null,null,null,null,null,null,null,null,null,{"$f":"IF(OR(SUMPRODUCT(--(E476=$O$1:$O$541))>0,E476=0),0,1)","v":0}]
["001.100.2213.6810.510.000.0000","DUES AND FEES",130,null,"001",null,"001","100","2213","6810","510",500,500,null,"937",null,null,null,null,null,null,null,null,null,null,null,{"$f":"IF(OR(SUMPRODUCT(--(E477=$O$1:$O$541))>0,E477=0),0,1)","v":0}]
["001.100.2220.6610.103.000.0000","GENERAL SUPPLIES",201.11,null,"001",null,"001","100","2220","6610","103",null,"103",null,"938",null,null,null,null,null,null,null,null,null,null,null,{"$f":"IF(OR(SUMPRODUCT(--(E478=$O$1:$O$541))>0,E478=0),0,1)","v":0}]
["001.100.2220.6610.106.000.0000","GENERAL SUPPLIES",475.31,null,"001",null,"001","100","2220","6610","106",null,"106",null,"939",null,null,null,null,null,null,null,null,null,null,null,{"$f":"IF(OR(SUMPRODUCT(--(E479=$O$1:$O$541))>0,E479=0),0,1)","v":0}]
["001.100.2230.6150.504.000.0000","CLASSIFIED SALARIES",69017.149999999994,null,"001",null,"001","100","2230","6150","504",500,500,null,"940",null,null,null,null,null,null,null,null,null,null,null,{"$f":"IF(OR(SUMPRODUCT(--(E480=$O$1:$O$541))>0,E480=0),0,1)","v":0}]
["001.100.2230.6155.504.000.0000","CLASSIFIED TEMPORARY",500,null,"001",null,"001","100","2230","6155","504",500,500,null,"941",null,null,null,null,null,null,null,null,null,null,null,{"$f":"IF(OR(SUMPRODUCT(--(E481=$O$1:$O$541))>0,E481=0),0,1)","v":0}]
["001.100.2230.6210.504.000.0000","EMPLOYEE INSURANCE",8773.2000000000007,null,"001",null,"001","100","2230","6210","504",500,500,null,"942",null,null,null,null,null,null,null,null,null,null,null,{"$f":"IF(OR(SUMPRODUCT(--(E482=$O$1:$O$541))>0,E482=0),0,1)","v":0}]
["001.100.2230.6221.504.000.0000","SOCIAL SECURITY - OASDI",4310.01,null,"001",null,"001","100","2230","6221","504",500,500,null,"943",null,null,null,null,null,null,null,null,null,null,null,{"$f":"IF(OR(SUMPRODUCT(--(E483=$O$1:$O$541))>0,E483=0),0,1)","v":0}]
["001.100.2230.6222.504.000.0000","MEDICARE - HOSPITAL INSURANCE",1008.06,null,"001",null,"001","100","2230","6222","504",500,500,null,"944",null,null,null,null,null,null,null,null,null,null,null,{"$f":"IF(OR(SUMPRODUCT(--(E484=$O$1:$O$541))>0,E484=0),0,1)","v":0}]
["001.100.2230.6231.504.000.0000","STATE RETIREMENT",8378.68,null,"001",null,"001","100","2230","6231","504",500,500,null,"945",null,null,null,null,null,null,null,null,null,null,null,{"$f":"IF(OR(SUMPRODUCT(--(E485=$O$1:$O$541))>0,E485=0),0,1)","v":0}]
["001.100.2230.6232.504.000.0000","LONG TERM DISABILITY",103.54,null,"001",null,"001","100","2230","6232","504",500,500,null,"946",null,null,null,null,null,null,null,null,null,null,null,{"$f":"IF(OR(SUMPRODUCT(--(E486=$O$1:$O$541))>0,E486=0),0,1)","v":0}]
["001.100.2230.6260.504.000.0000","WORKERS' COMPENSATION",388.32,null,"001",null,"001","100","2230","6260","504",500,500,null,"947",null,null,null,null,null,null,null,null,null,null,null,{"$f":"IF(OR(SUMPRODUCT(--(E487=$O$1:$O$541))>0,E487=0),0,1)","v":0}]
["001.100.2230.6290.504.000.0000","OTHER EMPLOYEE BENEFITS without ASRS",0.75,null,"001",null,"001","100","2230","6290","504",500,500,null,"948",null,null,null,null,null,null,null,null,null,null,null,{"$f":"IF(OR(SUMPRODUCT(--(E488=$O$1:$O$541))>0,E488=0),0,1)","v":0}]
["001.100.2230.6531.101.000.0000","TELECOMMUNICATIONS",495.39,null,"001",null,"001","100","2230","6531","101",null,"101",null,"949",null,null,null,null,null,null,null,null,null,null,null,{"$f":"IF(OR(SUMPRODUCT(--(E489=$O$1:$O$541))>0,E489=0),0,1)","v":0}]
["001.100.2230.6531.102.000.0000","TELECOMMUNICATIONS",560.35,null,"001",null,"001","100","2230","6531","102",null,"102",null,"950",null,null,null,null,null,null,null,null,null,null,null,{"$f":"IF(OR(SUMPRODUCT(--(E490=$O$1:$O$541))>0,E490=0),0,1)","v":0}]
["001.100.2230.6531.103.000.0000","TELECOMMUNICATIONS",1072.1300000000001,null,"001",null,"001","100","2230","6531","103",null,"103",null,"951",null,null,null,null,null,null,null,null,null,null,null,{"$f":"IF(OR(SUMPRODUCT(--(E491=$O$1:$O$541))>0,E491=0),0,1)","v":0}]
["001.100.2230.6531.104.000.0000","TELECOMMUNICATIONS",1055.74,null,"001",null,"001","100","2230","6531","104",null,"104",null,"952",null,null,null,null,null,null,null,null,null,null,null,{"$f":"IF(OR(SUMPRODUCT(--(E492=$O$1:$O$541))>0,E492=0),0,1)","v":0}]
["001.100.2230.6531.105.000.0000","TELECOMMUNICATIONS",1119.17,null,"001",null,"001","100","2230","6531","105",null,"105",null,"953",null,null,null,null,null,null,null,null,null,null,null,{"$f":"IF(OR(SUMPRODUCT(--(E493=$O$1:$O$541))>0,E493=0),0,1)","v":0}]
["001.100.2230.6531.106.000.0000","TELECOMMUNICATIONS",1227.3,null,"001",null,"001","100","2230","6531","106",null,"106",null,"954",null,null,null,null,null,null,null,null,null,null,null,{"$f":"IF(OR(SUMPRODUCT(--(E494=$O$1:$O$541))>0,E494=0),0,1)","v":0}]
["001.100.2230.6531.107.000.0000","TELECOMMUNICATIONS",1018.99,null,"001",null,"001","100","2230","6531","107",null,"107",null,"955",null,null,null,null,null,null,null,null,null,null,null,{"$f":"IF(OR(SUMPRODUCT(--(E495=$O$1:$O$541))>0,E495=0),0,1)","v":0}]
["001.100.2230.6531.510.000.0000","TELECOMMUNICATIONS",3254.8,null,"001",null,"001","100","2230","6531","510",500,500,null,"956",null,null,null,null,null,null,null,null,null,null,null,{"$f":"IF(OR(SUMPRODUCT(--(E496=$O$1:$O$541))>0,E496=0),0,1)","v":0}]
["001.100.2240.6111.510.000.0000","CERTIFIED ADMINISTRATORS",139656.5,null,"001",null,"001","100","2240","6111","510",500,500,null,"957",null,null,null,null,null,null,null,null,null,null,null,{"$f":"IF(OR(SUMPRODUCT(--(E497=$O$1:$O$541))>0,E497=0),0,1)","v":0}]
["001.100.2240.6210.510.000.0000","EMPLOYEE INSURANCE",8780.76,null,"001",null,"001","100","2240","6210","510",500,500,null,"958",null,null,null,null,null,null,null,null,null,null,null,{"$f":"IF(OR(SUMPRODUCT(--(E498=$O$1:$O$541))>0,E498=0),0,1)","v":0}]
["001.100.2240.6221.510.000.0000","SOCIAL SECURITY - OASDI",7528.61,null,"001",null,"001","100","2240","6221","510",500,500,null,"959",null,null,null,null,null,null,null,null,null,null,null,{"$f":"IF(OR(SUMPRODUCT(--(E499=$O$1:$O$541))>0,E499=0),0,1)","v":0}]
["001.100.2240.6222.510.000.0000","MEDICARE - HOSPITAL INSURANCE",2025.02,null,"001",null,"001","100","2240","6222","510",500,500,null,"960",null,null,null,null,null,null,null,null,null,null,null,{"$f":"IF(OR(SUMPRODUCT(--(E500=$O$1:$O$541))>0,E500=0),0,1)","v":0}]
["001.100.2240.6231.510.000.0000","STATE RETIREMENT",16954.32,null,"001",null,"001","100","2240","6231","510",500,500,null,"961",null,null,null,null,null,null,null,null,null,null,null,{"$f":"IF(OR(SUMPRODUCT(--(E501=$O$1:$O$541))>0,E501=0),0,1)","v":0}]
["001.100.2240.6232.510.000.0000","LONG TERM DISABILITY",209.6,null,"001",null,"001","100","2240","6232","510",500,500,null,"962",null,null,null,null,null,null,null,null,null,null,null,{"$f":"IF(OR(SUMPRODUCT(--(E502=$O$1:$O$541))>0,E502=0),0,1)","v":0}]
["001.100.2240.6260.510.000.0000","WORKERS' COMPENSATION",781.97,null,"001",null,"001","100","2240","6260","510",500,500,null,"963",null,null,null,null,null,null,null,null,null,null,null,{"$f":"IF(OR(SUMPRODUCT(--(E503=$O$1:$O$541))>0,E503=0),0,1)","v":0}]
["001.100.2240.6290.510.000.0000","OTHER EMPLOYEE BENEFITS without ASRS",9,null,"001",null,"001","100","2240","6290","510",500,500,null,"964",null,null,null,null,null,null,null,null,null,null,null,{"$f":"IF(OR(SUMPRODUCT(--(E504=$O$1:$O$541))>0,E504=0),0,1)","v":0}]
["001.100.2310.6300.500.000.0000","PURCHASED PROFESSIONAL AND TECHNICAL SERVICES",12729.78,null,"001",null,"001","100","2310","6300","500",null,"500",null,"965",null,null,null,null,null,null,null,null,null,null,null,{"$f":"IF(OR(SUMPRODUCT(--(E505=$O$1:$O$541))>0,E505=0),0,1)","v":0}]
["001.100.2310.6330.500.000.0000","OTHER PROFESSIONAL SERVICES",35139.69,null,"001",null,"001","100","2310","6330","500",null,"500",null,"966",null,null,null,null,null,null,null,null,null,null,null,{"$f":"IF(OR(SUMPRODUCT(--(E506=$O$1:$O$541))>0,E506=0),0,1)","v":0}]
["001.100.2310.6350.500.000.0000","AUDIT SERVICES",44500,null,"001",null,"001","100","2310","6350","500",null,"500",null,"967",null,null,null,null,null,null,null,null,null,null,null,{"$f":"IF(OR(SUMPRODUCT(--(E507=$O$1:$O$541))>0,E507=0),0,1)","v":0}]
["001.100.2310.6580.500.000.0000","TRAVEL",495.32,null,"001",null,"001","100","2310","6580","500",null,"500",null,"968",null,null,null,null,null,null,null,null,null,null,null,{"$f":"IF(OR(SUMPRODUCT(--(E508=$O$1:$O$541))>0,E508=0),0,1)","v":0}]
["001.100.2310.6610.500.000.0000","GENERAL SUPPLIES",5435.08,null,"001",null,"001","100","2310","6610","500",null,"500",null,"969",null,null,null,null,null,null,null,null,null,null,null,{"$f":"IF(OR(SUMPRODUCT(--(E509=$O$1:$O$541))>0,E509=0),0,1)","v":0}]
["001.100.2310.6810.500.000.0000","DUES AND FEES",21341.03,null,"001",null,"001","100","2310","6810","500",null,"500",null,"970",null,null,null,null,null,null,null,null,null,null,null,{"$f":"IF(OR(SUMPRODUCT(--(E510=$O$1:$O$541))>0,E510=0),0,1)","v":0}]
["001.100.2320.6111.500.000.0000","CERTIFIED ADMINISTRATORS",213613.41,null,"001",null,"001","100","2320","6111","500",null,"500",null,"971",null,null,null,null,null,null,null,null,null,null,null,{"$f":"IF(OR(SUMPRODUCT(--(E511=$O$1:$O$541))>0,E511=0),0,1)","v":0}]
["001.100.2320.6111.501.000.0000","CERTIFIED ADMINISTRATORS",29535.14,null,"001",null,"001","100","2320","6111","501",500,500,null,"972",null,null,null,null,null,null,null,null,null,null,null,{"$f":"IF(OR(SUMPRODUCT(--(E512=$O$1:$O$541))>0,E512=0),0,1)","v":0}]
["001.100.2320.6114.500.000.0000","CERTIFIED OTHER",1000,null,"001",null,"001","100","2320","6114","500",null,"500",null,"973",null,null,null,null,null,null,null,null,null,null,null,{"$f":"IF(OR(SUMPRODUCT(--(E513=$O$1:$O$541))>0,E513=0),0,1)","v":0}]
["001.100.2320.6150.500.000.0000","CLASSIFIED SALARIES",66398,null,{"$f":"IF(AND(F514<>\"\",F514=G514),\"ERROR\",IF(AND(F514<>\"\",F514<>G514),F514,G514))","v":"001"},null,"001","100","2320","6150","500",null,{"$f":"IF(L514<>\"\",L514,K514)","v":"500"},null,"974",null,null,null,null,null,null,null,null,null,null,null,{"$f":"IF(OR(SUMPRODUCT(--(E514=$O$1:$O$541))>0,E514=0),0,1)","v":0}]
["001.100.2320.6155.500.000.0000","CLASSIFIED TEMPORARY",7382.87,null,"001",null,"001","100","2320","6155","500",null,"500",null,"975",null,null,null,null,null,null,null,null,null,null,null,{"$f":"IF(OR(SUMPRODUCT(--(E515=$O$1:$O$541))>0,E515=0),0,1)","v":0}]
["001.100.2320.6210.500.000.0000","EMPLOYEE INSURANCE",8455.17,null,"001",null,"001","100","2320","6210","500",null,"500",null,"976",null,null,null,null,null,null,null,null,null,null,null,{"$f":"IF(OR(SUMPRODUCT(--(E516=$O$1:$O$541))>0,E516=0),0,1)","v":0}]
["001.100.2320.6221.500.000.0000","SOCIAL SECURITY - OASDI",17077.04,null,"001",null,"001","100","2320","6221","500",null,"500",null,"977",null,null,null,null,null,null,null,null,null,null,null,{"$f":"IF(OR(SUMPRODUCT(--(E517=$O$1:$O$541))>0,E517=0),0,1)","v":0}]
["001.100.2320.6221.501.000.0000","SOCIAL SECURITY - OASDI",4313.05,null,"001",null,"001","100","2320","6221","501",500,500,null,"978",null,null,null,null,null,null,null,null,null,null,null,{"$f":"IF(OR(SUMPRODUCT(--(E518=$O$1:$O$541))>0,E518=0),0,1)","v":0}]
["001.100.2320.6222.500.000.0000","MEDICARE - HOSPITAL INSURANCE",3993.73,null,"001",null,"001","100","2320","6222","500",null,"500",null,"979",null,null,null,null,null,null,null,null,null,null,null,{"$f":"IF(OR(SUMPRODUCT(--(E519=$O$1:$O$541))>0,E519=0),0,1)","v":0}]
["001.100.2320.6222.501.000.0000","MEDICARE - HOSPITAL INSURANCE",1008.7,null,"001",null,"001","100","2320","6222","501",500,500,null,"980",null,null,null,null,null,null,null,null,null,null,null,{"$f":"IF(OR(SUMPRODUCT(--(E520=$O$1:$O$541))>0,E520=0),0,1)","v":0}]
["001.100.2320.6231.500.000.0000","STATE RETIREMENT",34833.94,null,"001",null,"001","100","2320","6231","500",null,"500",null,"981",null,null,null,null,null,null,null,null,null,null,null,{"$f":"IF(OR(SUMPRODUCT(--(E521=$O$1:$O$541))>0,E521=0),0,1)","v":0}]
["001.100.2320.6231.501.000.0000","STATE RETIREMENT",7336.57,null,"001",null,"001","100","2320","6231","501",500,500,null,"982",null,null,null,null,null,null,null,null,null,null,null,{"$f":"IF(OR(SUMPRODUCT(--(E522=$O$1:$O$541))>0,E522=0),0,1)","v":0}]
["001.100.2320.6232.500.000.0000","LONG TERM DISABILITY",430.48,null,"001",null,"001","100","2320","6232","500",null,"500",null,"983",null,null,null,null,null,null,null,null,null,null,null,{"$f":"IF(OR(SUMPRODUCT(--(E523=$O$1:$O$541))>0,E523=0),0,1)","v":0}]
["001.100.2320.6232.501.000.0000","LONG TERM DISABILITY",27,null,"001",null,"001","100","2320","6232","501",500,500,null,"984",null,null,null,null,null,null,null,null,null,null,null,{"$f":"IF(OR(SUMPRODUCT(--(E524=$O$1:$O$541))>0,E524=0),0,1)","v":0}]
["001.100.2320.6260.500.000.0000","WORKERS' COMPENSATION",1542.46,null,"001",null,"001","100","2320","6260","500",null,"500",null,"985",null,null,null,null,null,null,null,null,null,null,null,{"$f":"IF(OR(SUMPRODUCT(--(E525=$O$1:$O$541))>0,E525=0),0,1)","v":0}]
["001.100.2320.6260.501.000.0000","WORKERS' COMPENSATION",389.57,null,"001",null,"001","100","2320","6260","501",500,500,null,"986",null,null,null,null,null,null,null,null,null,null,null,{"$f":"IF(OR(SUMPRODUCT(--(E526=$O$1:$O$541))>0,E526=0),0,1)","v":0}]
["001.100.2320.6290.500.000.0000","OTHER EMPLOYEE BENEFITS without ASRS",10.5,null,"001",null,"001","100","2320","6290","500",null,"500",null,"987",null,null,null,null,null,null,null,null,null,null,null,{"$f":"IF(OR(SUMPRODUCT(--(E527=$O$1:$O$541))>0,E527=0),0,1)","v":0}]
["001.100.2320.6290.501.000.0000","OTHER EMPLOYEE BENEFITS without ASRS",40030.14,null,"001",null,"001","100","2320","6290","501",500,500,null,"988",null,null,null,null,null,null,null,null,null,null,null,{"$f":"IF(OR(SUMPRODUCT(--(E528=$O$1:$O$541))>0,E528=0),0,1)","v":0}]
["001.100.2320.6300.500.000.0000","PURCHASED PROFESSIONAL AND TECHNICAL SERVICES",23688.23,null,"001",null,"001","100","2320","6300","500",null,"500",null,"989",null,null,null,null,null,null,null,null,null,null,null,{"$f":"IF(OR(SUMPRODUCT(--(E529=$O$1:$O$541))>0,E529=0),0,1)","v":0}]
["001.100.2320.6310.500.000.0000","OFFICIAL/ ADMINISTRATIVE SERVICES",2500,null,"001",null,"001","100","2320","6310","500",null,"500",null,"990",null,null,null,null,null,null,null,null,null,null,null,{"$f":"IF(OR(SUMPRODUCT(--(E530=$O$1:$O$541))>0,E530=0),0,1)","v":0}]
["001.100.2320.6550.500.000.0000","PRINTING AND BINDING",58.43,null,"001",null,"001","100","2320","6550","500",null,"500",null,"991",null,null,null,null,null,null,null,null,null,null,null,{"$f":"IF(OR(SUMPRODUCT(--(E531=$O$1:$O$541))>0,E531=0),0,1)","v":0}]
["001.100.2320.6580.500.000.0000","TRAVEL",4583.37,null,"001",null,"001","100","2320","6580","500",null,"500",null,"992",null,null,null,null,null,null,null,null,null,null,null,{"$f":"IF(OR(SUMPRODUCT(--(E532=$O$1:$O$541))>0,E532=0),0,1)","v":0}]
["001.100.2320.6610.500.000.0000","GENERAL SUPPLIES",15915.03,null,"001",null,"001","100","2320","6610","500",null,"500",null,"993",null,null,null,null,null,null,null,null,null,null,null,{"$f":"IF(OR(SUMPRODUCT(--(E533=$O$1:$O$541))>0,E533=0),0,1)","v":0}]
["001.100.2320.6644.501.000.0000","OTHER BOOKS, PERIODICALS, AND MEDIA",367.29,null,"001",null,"001","100","2320","6644","501",500,500,null,"994",null,null,null,null,null,null,null,null,null,null,null,{"$f":"IF(OR(SUMPRODUCT(--(E534=$O$1:$O$541))>0,E534=0),0,1)","v":0}]
["001.100.2320.6655.500.000.0000","SHORT-TERM NONINSTRUCTIONAL SOFTWARE SUBSCRIPTION",2899.1,null,"001",null,"001","100","2320","6655","500",null,"500",null,"995",null,null,null,null,null,null,null,null,null,null,null,{"$f":"IF(OR(SUMPRODUCT(--(E535=$O$1:$O$541))>0,E535=0),0,1)","v":0}]
["001.100.2320.6810.500.000.0000","DUES AND FEES",23867.3,null,"001",null,"001","100","2320","6810","500",null,"500",null,"996",null,null,null,null,null,null,null,null,null,null,null,{"$f":"IF(OR(SUMPRODUCT(--(E536=$O$1:$O$541))>0,E536=0),0,1)","v":0}]
["001.100.2340.6310.500.000.0000","OFFICIAL/ ADMINISTRATIVE SERVICES",57841.63,null,"001",null,"001","100","2340","6310","500",null,"500",null,"997",null,null,null,null,null,null,null,null,null,null,null,{"$f":"IF(OR(SUMPRODUCT(--(E537=$O$1:$O$541))>0,E537=0),0,1)","v":0}]
["001.100.2410.6111.101.000.0000","CERTIFIED ADMINISTRATORS",113896.32000000001,null,"001",null,"001","100","2410","6111","101",null,"101",null,"998",null,null,null,null,null,null,null,null,null,null,null,{"$f":"IF(OR(SUMPRODUCT(--(E538=$O$1:$O$541))>0,E538=0),0,1)","v":0}]
["001.100.2410.6111.102.000.0000","CERTIFIED ADMINISTRATORS",119036,null,"001",null,"001","100","2410","6111","102",null,"102",null,"999",null,null,null,null,null,null,null,null,null,null,null,{"$f":"IF(OR(SUMPRODUCT(--(E539=$O$1:$O$541))>0,E539=0),0,1)","v":0}]
["001.100.2410.6111.103.000.0000","CERTIFIED ADMINISTRATORS",186536.98,null,"001",null,"001","100","2410","6111","103",null,"103",null,"Other",{"$f":"[2]!FOtherEndFundBal","v":0},85735,{"$f":"IF(Q540=\"\",P540,Q540)","v":85735},null,null,null,null,null,null,null,null,{"$f":"IF(OR(SUMPRODUCT(--(E540=$O$1:$O$541))>0,E540=0),0,1)","v":0}]
["001.100.2410.6111.104.000.0000","CERTIFIED ADMINISTRATORS",222274.33,null,"001",null,"001","100","2410","6111","104",null,"104",null,"COVID",{"$f":"'[2]Page 5'!$J$31","v":-304974},-295370,{"$f":"IF(Q541=\"\",P541,Q541)","v":-295370},null,null,null,null,null,null,null,null,{"$f":"IF(OR(SUMPRODUCT(--(E541=$O$1:$O$541))>0,E541=0),0,1)","v":0}]
["001.100.2410.6111.105.000.0000","CERTIFIED ADMINISTRATORS",203935.4,null,"001",null,"001","100","2410","6111","105",null,"105",null,null,null,null,null,null,null,null,null,null,null,null,null,{"$f":"IF(OR(SUMPRODUCT(--(E542=$O$1:$O$541))>0,E542=0),0,1)","v":0}]
["001.100.2410.6111.106.000.0000","CERTIFIED ADMINISTRATORS",182752.95,null,"001",null,"001","100","2410","6111","106",null,"106",null,null,null,null,null,null,null,null,null,null,null,null,null,{"$f":"IF(OR(SUMPRODUCT(--(E543=$O$1:$O$541))>0,E543=0),0,1)","v":0}]
["001.100.2410.6111.107.000.0000","CERTIFIED ADMINISTRATORS",173103.77,null,"001",null,"001","100","2410","6111","107",null,"107",null,null,null,null,null,null,null,null,null,null,null,null,null,{"$f":"IF(OR(SUMPRODUCT(--(E544=$O$1:$O$541))>0,E544=0),0,1)","v":0}]
["001.100.2410.6114.105.000.0000","CERTIFIED OTHER",500,null,"001",null,"001","100","2410","6114","105",null,"105",null,null,null,null,null,null,null,null,null,null,null,null,null,{"$f":"IF(OR(SUMPRODUCT(--(E545=$O$1:$O$541))>0,E545=0),0,1)","v":0}]
["001.100.2410.6114.107.000.0000","CERTIFIED OTHER",411,null,"001",null,"001","100","2410","6114","107",null,"107",null,null,null,null,null,null,null,null,null,null,null,null,null,{"$f":"IF(OR(SUMPRODUCT(--(E546=$O$1:$O$541))>0,E546=0),0,1)","v":0}]
["001.100.2410.6150.101.000.0000","CLASSIFIED SALARIES",59533.37,null,"001",null,"001","100","2410","6150","101",null,"101",null,null,null,null,null,null,null,null,null,null,null,null,null,{"$f":"IF(OR(SUMPRODUCT(--(E547=$O$1:$O$541))>0,E547=0),0,1)","v":0}]
["001.100.2410.6150.102.000.0000","CLASSIFIED SALARIES",72692.62,null,"001",null,"001","100","2410","6150","102",null,"102",null,null,null,null,null,null,null,null,null,null,null,null,null,{"$f":"IF(OR(SUMPRODUCT(--(E548=$O$1:$O$541))>0,E548=0),0,1)","v":0}]
["001.100.2410.6150.103.000.0000","CLASSIFIED SALARIES",67194.92,null,"001",null,"001","100","2410","6150","103",null,"103",null,null,null,null,null,null,null,null,null,null,null,null,null,{"$f":"IF(OR(SUMPRODUCT(--(E549=$O$1:$O$541))>0,E549=0),0,1)","v":0}]
["001.100.2410.6150.104.000.0000","CLASSIFIED SALARIES",108141.28,null,"001",null,"001","100","2410","6150","104",null,"104",null,null,null,null,null,null,null,null,null,null,null,null,null,{"$f":"IF(OR(SUMPRODUCT(--(E550=$O$1:$O$541))>0,E550=0),0,1)","v":0}]
["001.100.2410.6150.105.000.0000","CLASSIFIED SALARIES",79423.95,null,"001",null,"001","100","2410","6150","105",null,"105",null,null,null,null,null,null,null,null,null,null,null,null,null,{"$f":"IF(OR(SUMPRODUCT(--(E551=$O$1:$O$541))>0,E551=0),0,1)","v":0}]
["001.100.2410.6150.106.000.0000","CLASSIFIED SALARIES",62449.01,null,"001",null,"001","100","2410","6150","106",null,"106",null,null,null,null,null,null,null,null,null,null,null,null,null,{"$f":"IF(OR(SUMPRODUCT(--(E552=$O$1:$O$541))>0,E552=0),0,1)","v":0}]
["001.100.2410.6150.107.000.0000","CLASSIFIED SALARIES",87195.23,null,"001",null,"001","100","2410","6150","107",null,"107",null,null,null,null,null,null,null,null,null,null,null,null,null,{"$f":"IF(OR(SUMPRODUCT(--(E553=$O$1:$O$541))>0,E553=0),0,1)","v":0}]
["001.100.2410.6155.101.000.0000","CLASSIFIED TEMPORARY",714.76,null,"001",null,"001","100","2410","6155","101",null,"101",null,null,null,null,null,null,null,null,null,null,null,null,null,{"$f":"IF(OR(SUMPRODUCT(--(E554=$O$1:$O$541))>0,E554=0),0,1)","v":0}]
["001.100.2410.6155.103.000.0000","CLASSIFIED TEMPORARY",13211.5,null,"001",null,"001","100","2410","6155","103",null,"103",null,null,null,null,null,null,null,null,null,null,null,null,null,{"$f":"IF(OR(SUMPRODUCT(--(E555=$O$1:$O$541))>0,E555=0),0,1)","v":0}]
["001.100.2410.6155.104.000.0000","CLASSIFIED TEMPORARY",449.82,null,"001",null,"001","100","2410","6155","104",null,"104",null,null,null,null,null,null,null,null,null,null,null,null,null,{"$f":"IF(OR(SUMPRODUCT(--(E556=$O$1:$O$541))>0,E556=0),0,1)","v":0}]
["001.100.2410.6155.105.000.0000","CLASSIFIED TEMPORARY",1604.8,null,"001",null,"001","100","2410","6155","105",null,"105",null,null,null,null,null,null,null,null,null,null,null,null,null,{"$f":"IF(OR(SUMPRODUCT(--(E557=$O$1:$O$541))>0,E557=0),0,1)","v":0}]
["001.100.2410.6155.106.000.0000","CLASSIFIED TEMPORARY",500,null,"001",null,"001","100","2410","6155","106",null,"106",null,null,null,null,null,null,null,null,null,null,null,null,null,{"$f":"IF(OR(SUMPRODUCT(--(E558=$O$1:$O$541))>0,E558=0),0,1)","v":0}]
["001.100.2410.6155.107.000.0000","CLASSIFIED TEMPORARY",1165.67,null,"001",null,"001","100","2410","6155","107",null,"107",null,null,null,null,null,null,null,null,null,null,null,null,null,{"$f":"IF(OR(SUMPRODUCT(--(E559=$O$1:$O$541))>0,E559=0),0,1)","v":0}]
["001.100.2410.6210.101.000.0000","EMPLOYEE INSURANCE",16921.560000000001,null,"001",null,"001","100","2410","6210","101",null,"101",null,null,null,null,null,null,null,null,null,null,null,null,null,{"$f":"IF(OR(SUMPRODUCT(--(E560=$O$1:$O$541))>0,E560=0),0,1)","v":0}]
["001.100.2410.6210.102.000.0000","EMPLOYEE INSURANCE",25628.43,null,"001",null,"001","100","2410","6210","102",null,"102",null,null,null,null,null,null,null,null,null,null,null,null,null,{"$f":"IF(OR(SUMPRODUCT(--(E561=$O$1:$O$541))>0,E561=0),0,1)","v":0}]
["001.100.2410.6210.103.000.0000","EMPLOYEE INSURANCE",25745.19,null,"001",null,"001","100","2410","6210","103",null,"103",null,null,null,null,null,null,null,null,null,null,null,null,null,{"$f":"IF(OR(SUMPRODUCT(--(E562=$O$1:$O$541))>0,E562=0),0,1)","v":0}]
["001.100.2410.6210.104.000.0000","EMPLOYEE INSURANCE",40338.17,null,"001",null,"001","100","2410","6210","104",null,"104",null,null,null,null,null,null,null,null,null,null,null,null,null,{"$f":"IF(OR(SUMPRODUCT(--(E563=$O$1:$O$541))>0,E563=0),0,1)","v":0}]
["001.100.2410.6210.105.000.0000","EMPLOYEE INSURANCE",17566.25,null,"001",null,"001","100","2410","6210","105",null,"105",null,null,null,null,null,null,null,null,null,null,null,null,null,{"$f":"IF(OR(SUMPRODUCT(--(E564=$O$1:$O$541))>0,E564=0),0,1)","v":0}]
["001.100.2410.6210.106.000.0000","EMPLOYEE INSURANCE",25156.39,null,"001",null,"001","100","2410","6210","106",null,"106",null,null,null,null,null,null,null,null,null,null,null,null,null,{"$f":"IF(OR(SUMPRODUCT(--(E565=$O$1:$O$541))>0,E565=0),0,1)","v":0}]
["001.100.2410.6210.107.000.0000","EMPLOYEE INSURANCE",23327.31,null,"001",null,"001","100","2410","6210","107",null,"107",null,null,null,null,null,null,null,null,null,null,null,null,null,{"$f":"IF(OR(SUMPRODUCT(--(E566=$O$1:$O$541))>0,E566=0),0,1)","v":0}]
["001.100.2410.6221.101.000.0000","SOCIAL SECURITY - OASDI",10142.26,null,"001",null,"001","100","2410","6221","101",null,"101",null,null,null,null,null,null,null,null,null,null,null,null,null,{"$f":"IF(OR(SUMPRODUCT(--(E567=$O$1:$O$541))>0,E567=0),0,1)","v":0}]
["001.100.2410.6221.102.000.0000","SOCIAL SECURITY - OASDI",11051.4,null,"001",null,"001","100","2410","6221","102",null,"102",null,null,null,null,null,null,null,null,null,null,null,null,null,{"$f":"IF(OR(SUMPRODUCT(--(E568=$O$1:$O$541))>0,E568=0),0,1)","v":0}]
["001.100.2410.6221.103.000.0000","SOCIAL SECURITY - OASDI",15107.9,null,"001",null,"001","100","2410","6221","103",null,"103",null,null,null,null,null,null,null,null,null,null,null,null,null,{"$f":"IF(OR(SUMPRODUCT(--(E569=$O$1:$O$541))>0,E569=0),0,1)","v":0}]
["001.100.2410.6221.104.000.0000","SOCIAL SECURITY - OASDI",19490.59,null,"001",null,"001","100","2410","6221","104",null,"104",null,null,null,null,null,null,null,null,null,null,null,null,null,{"$f":"IF(OR(SUMPRODUCT(--(E570=$O$1:$O$541))>0,E570=0),0,1)","v":0}]
["001.100.2410.6221.105.000.0000","SOCIAL SECURITY - OASDI",16706.580000000002,null,"001",null,"001","100","2410","6221","105",null,"105",null,null,null,null,null,null,null,null,null,null,null,null,null,{"$f":"IF(OR(SUMPRODUCT(--(E571=$O$1:$O$541))>0,E571=0),0,1)","v":0}]
["001.100.2410.6221.106.000.0000","SOCIAL SECURITY - OASDI",15010.5,null,"001",null,"001","100","2410","6221","106",null,"106",null,null,null,null,null,null,null,null,null,null,null,null,null,{"$f":"IF(OR(SUMPRODUCT(--(E572=$O$1:$O$541))>0,E572=0),0,1)","v":0}]
["001.100.2410.6221.107.000.0000","SOCIAL SECURITY - OASDI",15285.06,null,"001",null,"001","100","2410","6221","107",null,"107",null,null,null,null,null,null,null,null,null,null,null,null,null,{"$f":"IF(OR(SUMPRODUCT(--(E573=$O$1:$O$541))>0,E573=0),0,1)","v":0}]
["001.100.2410.6222.101.000.0000","MEDICARE - HOSPITAL INSURANCE",2372.13,null,"001",null,"001","100","2410","6222","101",null,"101",null,null,null,null,null,null,null,null,null,null,null,null,null,{"$f":"IF(OR(SUMPRODUCT(--(E574=$O$1:$O$541))>0,E574=0),0,1)","v":0}]
["001.100.2410.6222.102.000.0000","MEDICARE - HOSPITAL INSURANCE",2584.71,null,"001",null,"001","100","2410","6222","102",null,"102",null,null,null,null,null,null,null,null,null,null,null,null,null,{"$f":"IF(OR(SUMPRODUCT(--(E575=$O$1:$O$541))>0,E575=0),0,1)","v":0}]
["001.100.2410.6222.103.000.0000","MEDICARE - HOSPITAL INSURANCE",3533.27,null,"001",null,"001","100","2410","6222","103",null,"103",null,null,null,null,null,null,null,null,null,null,null,null,null,{"$f":"IF(OR(SUMPRODUCT(--(E576=$O$1:$O$541))>0,E576=0),0,1)","v":0}]
["001.100.2410.6222.104.000.0000","MEDICARE - HOSPITAL INSURANCE",4558.25,null,"001",null,"001","100","2410","6222","104",null,"104",null,null,null,null,null,null,null,null,null,null,null,null,null,{"$f":"IF(OR(SUMPRODUCT(--(E577=$O$1:$O$541))>0,E577=0),0,1)","v":0}]
["001.100.2410.6222.105.000.0000","MEDICARE - HOSPITAL INSURANCE",3907.25,null,{"$f":"IF(AND(F578<>\"\",F578=G578),\"ERROR\",IF(AND(F578<>\"\",F578<>G578),F578,G578))","v":"001"},null,"001","100","2410","6222","105",null,{"$f":"IF(L578<>\"\",L578,K578)","v":"105"},null,null,null,null,null,null,null,null,null,null,null,null,null,{"$f":"IF(OR(SUMPRODUCT(--(E578=$O$1:$O$541))>0,E578=0),0,1)","v":0}]
["001.100.2410.6222.106.000.0000","MEDICARE - HOSPITAL INSURANCE",3510.43,null,"001",null,"001","100","2410","6222","106",null,"106",null,null,null,null,null,null,null,null,null,null,null,null,null,{"$f":"IF(OR(SUMPRODUCT(--(E579=$O$1:$O$541))>0,E579=0),0,1)","v":0}]
["001.100.2410.6222.107.000.0000","MEDICARE - HOSPITAL INSURANCE",3574.74,null,"001",null,"001","100","2410","6222","107",null,"107",null,null,null,null,null,null,null,null,null,null,null,null,null,{"$f":"IF(OR(SUMPRODUCT(--(E580=$O$1:$O$541))>0,E580=0),0,1)","v":0}]
["001.100.2410.6231.101.000.0000","STATE RETIREMENT",20101.61,null,"001",null,"001","100","2410","6231","101",null,"101",null,null,null,null,null,null,null,null,null,null,null,null,null,{"$f":"IF(OR(SUMPRODUCT(--(E581=$O$1:$O$541))>0,E581=0),0,1)","v":0}]
["001.100.2410.6231.102.000.0000","STATE RETIREMENT",23111.09,null,"001",null,"001","100","2410","6231","102",null,"102",null,null,null,null,null,null,null,null,null,null,null,null,null,{"$f":"IF(OR(SUMPRODUCT(--(E582=$O$1:$O$541))>0,E582=0),0,1)","v":0}]
["001.100.2410.6231.103.000.0000","STATE RETIREMENT",31049.14,null,"001",null,"001","100","2410","6231","103",null,"103",null,null,null,null,null,null,null,null,null,null,null,null,null,{"$f":"IF(OR(SUMPRODUCT(--(E583=$O$1:$O$541))>0,E583=0),0,1)","v":0}]
["001.100.2410.6231.104.000.0000","STATE RETIREMENT",39836.9,null,"001",null,"001","100","2410","6231","104",null,"104",null,null,null,null,null,null,null,null,null,null,null,null,null,{"$f":"IF(OR(SUMPRODUCT(--(E584=$O$1:$O$541))>0,E584=0),0,1)","v":0}]
["001.100.2410.6231.105.000.0000","STATE RETIREMENT",31270.880000000001,null,"001",null,"001","100","2410","6231","105",null,"105",null,null,null,null,null,null,null,null,null,null,null,null,null,{"$f":"IF(OR(SUMPRODUCT(--(E585=$O$1:$O$541))>0,E585=0),0,1)","v":0}]
["001.100.2410.6231.106.000.0000","STATE RETIREMENT",26644.09,null,"001",null,"001","100","2410","6231","106",null,"106",null,null,null,null,null,null,null,null,null,null,null,null,null,{"$f":"IF(OR(SUMPRODUCT(--(E586=$O$1:$O$541))>0,E586=0),0,1)","v":0}]
["001.100.2410.6231.107.000.0000","STATE RETIREMENT",31484.07,null,"001",null,"001","100","2410","6231","107",null,"107",null,null,null,null,null,null,null,null,null,null,null,null,null,{"$f":"IF(OR(SUMPRODUCT(--(E587=$O$1:$O$541))>0,E587=0),0,1)","v":0}]
["001.100.2410.6232.101.000.0000","LONG TERM DISABILITY",197.59,null,"001",null,"001","100","2410","6232","101",null,"101",null,null,null,null,null,null,null,null,null,null,null,null,null,{"$f":"IF(OR(SUMPRODUCT(--(E588=$O$1:$O$541))>0,E588=0),0,1)","v":0}]
["001.100.2410.6232.102.000.0000","LONG TERM DISABILITY",285.61,null,"001",null,"001","100","2410","6232","102",null,"102",null,null,null,null,null,null,null,null,null,null,null,null,null,{"$f":"IF(OR(SUMPRODUCT(--(E589=$O$1:$O$541))>0,E589=0),0,1)","v":0}]
["001.100.2410.6232.103.000.0000","LONG TERM DISABILITY",383.58,null,"001",null,"001","100","2410","6232","103",null,"103",null,null,null,null,null,null,null,null,null,null,null,null,null,{"$f":"IF(OR(SUMPRODUCT(--(E590=$O$1:$O$541))>0,E590=0),0,1)","v":0}]
["001.100.2410.6232.104.000.0000","LONG TERM DISABILITY",492.09,null,"001",null,"001","100","2410","6232","104",null,"104",null,null,null,null,null,null,null,null,null,null,null,null,null,{"$f":"IF(OR(SUMPRODUCT(--(E591=$O$1:$O$541))>0,E591=0),0,1)","v":0}]
["001.100.2410.6232.105.000.0000","LONG TERM DISABILITY",208.21,null,"001",null,"001","100","2410","6232","105",null,"105",null,null,null,null,null,null,null,null,null,null,null,null,null,{"$f":"IF(OR(SUMPRODUCT(--(E592=$O$1:$O$541))>0,E592=0),0,1)","v":0}]
["001.100.2410.6232.106.000.0000","LONG TERM DISABILITY",329.11,null,"001",null,"001","100","2410","6232","106",null,"106",null,null,null,null,null,null,null,null,null,null,null,null,null,{"$f":"IF(OR(SUMPRODUCT(--(E593=$O$1:$O$541))>0,E593=0),0,1)","v":0}]
["001.100.2410.6232.107.000.0000","LONG TERM DISABILITY",388.97,null,"001",null,"001","100","2410","6232","107",null,"107",null,null,null,null,null,null,null,null,null,null,null,null,null,{"$f":"IF(OR(SUMPRODUCT(--(E594=$O$1:$O$541))>0,E594=0),0,1)","v":0}]
["001.100.2410.6260.101.000.0000","WORKERS' COMPENSATION",968.07,null,"001",null,"001","100","2410","6260","101",null,"101",null,null,null,null,null,null,null,null,null,null,null,null,null,{"$f":"IF(OR(SUMPRODUCT(--(E595=$O$1:$O$541))>0,E595=0),0,1)","v":0}]
["001.100.2410.6260.102.000.0000","WORKERS' COMPENSATION",1064.96,null,"001",null,"001","100","2410","6260","102",null,"102",null,null,null,null,null,null,null,null,null,null,null,null,null,{"$f":"IF(OR(SUMPRODUCT(--(E596=$O$1:$O$541))>0,E596=0),0,1)","v":0}]
["001.100.2410.6260.103.000.0000","WORKERS' COMPENSATION",1483.78,null,"001",null,"001","100","2410","6260","103",null,"103",null,null,null,null,null,null,null,null,null,null,null,null,null,{"$f":"IF(OR(SUMPRODUCT(--(E597=$O$1:$O$541))>0,E597=0),0,1)","v":0}]
["001.100.2410.6260.104.000.0000","WORKERS' COMPENSATION",1837.16,null,"001",null,"001","100","2410","6260","104",null,"104",null,null,null,null,null,null,null,null,null,null,null,null,null,{"$f":"IF(OR(SUMPRODUCT(--(E598=$O$1:$O$541))>0,E598=0),0,1)","v":0}]
["001.100.2410.6260.105.000.0000","WORKERS' COMPENSATION",1591.04,null,"001",null,"001","100","2410","6260","105",null,"105",null,null,null,null,null,null,null,null,null,null,null,null,null,{"$f":"IF(OR(SUMPRODUCT(--(E599=$O$1:$O$541))>0,E599=0),0,1)","v":0}]
["001.100.2410.6260.106.000.0000","WORKERS' COMPENSATION",1392.48,null,"001",null,"001","100","2410","6260","106",null,"106",null,null,null,null,null,null,null,null,null,null,null,null,null,{"$f":"IF(OR(SUMPRODUCT(--(E600=$O$1:$O$541))>0,E600=0),0,1)","v":0}]
["001.100.2410.6260.107.000.0000","WORKERS' COMPENSATION",1476.7,null,"001",null,"001","100","2410","6260","107",null,"107",null,null,null,null,null,null,null,null,null,null,null,null,null,{"$f":"IF(OR(SUMPRODUCT(--(E601=$O$1:$O$541))>0,E601=0),0,1)","v":0}]
["001.100.2410.6290.101.000.0000","OTHER EMPLOYEE BENEFITS without ASRS",58.9,null,"001",null,"001","100","2410","6290","101",null,"101",null,null,null,null,null,null,null,null,null,null,null,null,null,{"$f":"IF(OR(SUMPRODUCT(--(E602=$O$1:$O$541))>0,E602=0),0,1)","v":0}]
["001.100.2410.6290.102.000.0000","OTHER EMPLOYEE BENEFITS without ASRS",28.56,null,"001",null,"001","100","2410","6290","102",null,"102",null,null,null,null,null,null,null,null,null,null,null,null,null,{"$f":"IF(OR(SUMPRODUCT(--(E603=$O$1:$O$541))>0,E603=0),0,1)","v":0}]
["001.100.2410.6290.103.000.0000","OTHER EMPLOYEE BENEFITS without ASRS",26.23,null,"001",null,"001","100","2410","6290","103",null,"103",null,null,null,null,null,null,null,null,null,null,null,null,null,{"$f":"IF(OR(SUMPRODUCT(--(E604=$O$1:$O$541))>0,E604=0),0,1)","v":0}]
["001.100.2410.6290.104.000.0000","OTHER EMPLOYEE BENEFITS without ASRS",99.07,null,"001",null,"001","100","2410","6290","104",null,"104",null,null,null,null,null,null,null,null,null,null,null,null,null,{"$f":"IF(OR(SUMPRODUCT(--(E605=$O$1:$O$541))>0,E605=0),0,1)","v":0}]
["001.100.2410.6290.105.000.0000","OTHER EMPLOYEE BENEFITS without ASRS",113.62,null,"001",null,"001","100","2410","6290","105",null,"105",null,null,null,null,null,null,null,null,null,null,null,null,null,{"$f":"IF(OR(SUMPRODUCT(--(E606=$O$1:$O$541))>0,E606=0),0,1)","v":0}]
["001.100.2410.6290.106.000.0000","OTHER EMPLOYEE BENEFITS without ASRS",49.57,null,"001",null,"001","100","2410","6290","106",null,"106",null,null,null,null,null,null,null,null,null,null,null,null,null,{"$f":"IF(OR(SUMPRODUCT(--(E607=$O$1:$O$541))>0,E607=0),0,1)","v":0}]
["001.100.2410.6290.107.000.0000","OTHER EMPLOYEE BENEFITS without ASRS",59.08,null,"001",null,"001","100","2410","6290","107",null,"107",null,null,null,null,null,null,null,null,null,null,null,null,null,{"$f":"IF(OR(SUMPRODUCT(--(E608=$O$1:$O$541))>0,E608=0),0,1)","v":0}]
["001.100.2410.6300.101.000.0000","PURCHASED PROFESSIONAL AND TECHNICAL SERVICES",375,null,"001",null,"001","100","2410","6300","101",null,"101",null,null,null,null,null,null,null,null,null,null,null,null,null,{"$f":"IF(OR(SUMPRODUCT(--(E609=$O$1:$O$541))>0,E609=0),0,1)","v":0}]
["001.100.2410.6300.102.000.0000","PURCHASED PROFESSIONAL AND TECHNICAL SERVICES",1145,null,"001",null,"001","100","2410","6300","102",null,"102",null,null,null,null,null,null,null,null,null,null,null,null,null,{"$f":"IF(OR(SUMPRODUCT(--(E610=$O$1:$O$541))>0,E610=0),0,1)","v":0}]
["001.100.2410.6300.104.000.0000","PURCHASED PROFESSIONAL AND TECHNICAL SERVICES",390,null,"001",null,"001","100","2410","6300","104",null,"104",null,null,null,null,null,null,null,null,null,null,null,null,null,{"$f":"IF(OR(SUMPRODUCT(--(E611=$O$1:$O$541))>0,E611=0),0,1)","v":0}]
["001.100.2410.6300.105.000.0000","PURCHASED PROFESSIONAL AND TECHNICAL SERVICES",1495,null,"001",null,"001","100","2410","6300","105",null,"105",null,null,null,null,null,null,null,null,null,null,null,null,null,{"$f":"IF(OR(SUMPRODUCT(--(E612=$O$1:$O$541))>0,E612=0),0,1)","v":0}]
["001.100.2410.6300.106.000.0000","PURCHASED PROFESSIONAL AND TECHNICAL SERVICES",765,null,"001",null,"001","100","2410","6300","106",null,"106",null,null,null,null,null,null,null,null,null,null,null,null,null,{"$f":"IF(OR(SUMPRODUCT(--(E613=$O$1:$O$541))>0,E613=0),0,1)","v":0}]
["001.100.2410.6300.107.000.0000","PURCHASED PROFESSIONAL AND TECHNICAL SERVICES",375,null,"001",null,"001","100","2410","6300","107",null,"107",null,null,null,null,null,null,null,null,null,null,null,null,null,{"$f":"IF(OR(SUMPRODUCT(--(E614=$O$1:$O$541))>0,E614=0),0,1)","v":0}]
["001.100.2410.6580.101.000.0000","TRAVEL",70.5,null,"001",null,"001","100","2410","6580","101",null,"101",null,null,null,null,null,null,null,null,null,null,null,null,null,{"$f":"IF(OR(SUMPRODUCT(--(E615=$O$1:$O$541))>0,E615=0),0,1)","v":0}]
["001.100.2410.6580.102.000.0000","TRAVEL",690.74,null,"001",null,"001","100","2410","6580","102",null,"102",null,null,null,null,null,null,null,null,null,null,null,null,null,{"$f":"IF(OR(SUMPRODUCT(--(E616=$O$1:$O$541))>0,E616=0),0,1)","v":0}]
["001.100.2410.6580.103.000.0000","TRAVEL",190.13,null,"001",null,"001","100","2410","6580","103",null,"103",null,null,null,null,null,null,null,null,null,null,null,null,null,{"$f":"IF(OR(SUMPRODUCT(--(E617=$O$1:$O$541))>0,E617=0),0,1)","v":0}]
["001.100.2410.6580.105.000.0000","TRAVEL",259.89999999999998,null,"001",null,"001","100","2410","6580","105",null,"105",null,null,null,null,null,null,null,null,null,null,null,null,null,{"$f":"IF(OR(SUMPRODUCT(--(E618=$O$1:$O$541))>0,E618=0),0,1)","v":0}]
["001.100.2410.6580.106.000.0000","TRAVEL",1277.69,null,"001",null,"001","100","2410","6580","106",null,"106",null,null,null,null,null,null,null,null,null,null,null,null,null,{"$f":"IF(OR(SUMPRODUCT(--(E619=$O$1:$O$541))>0,E619=0),0,1)","v":0}]
["001.100.2410.6580.107.000.0000","TRAVEL",120.38,null,"001",null,"001","100","2410","6580","107",null,"107",null,null,null,null,null,null,null,null,null,null,null,null,null,{"$f":"IF(OR(SUMPRODUCT(--(E620=$O$1:$O$541))>0,E620=0),0,1)","v":0}]
["001.100.2410.6610.101.000.0000","GENERAL SUPPLIES",2518.4499999999998,null,"001",null,"001","100","2410","6610","101",null,"101",null,null,null,null,null,null,null,null,null,null,null,null,null,{"$f":"IF(OR(SUMPRODUCT(--(E621=$O$1:$O$541))>0,E621=0),0,1)","v":0}]
["001.100.2410.6610.102.000.0000","GENERAL SUPPLIES",1579.1,null,"001",null,"001","100","2410","6610","102",null,"102",null,null,null,null,null,null,null,null,null,null,null,null,null,{"$f":"IF(OR(SUMPRODUCT(--(E622=$O$1:$O$541))>0,E622=0),0,1)","v":0}]
["001.100.2410.6610.102.702.0000","GENERAL SUPPLIES",500,null,"001",null,"001","100","2410","6610","102",null,"102",null,null,null,null,null,null,null,null,null,null,null,null,null,{"$f":"IF(OR(SUMPRODUCT(--(E623=$O$1:$O$541))>0,E623=0),0,1)","v":0}]
["001.100.2410.6610.103.000.0000","GENERAL SUPPLIES",5660.16,null,"001",null,"001","100","2410","6610","103",null,"103",null,null,null,null,null,null,null,null,null,null,null,null,null,{"$f":"IF(OR(SUMPRODUCT(--(E624=$O$1:$O$541))>0,E624=0),0,1)","v":0}]
["001.100.2410.6610.104.000.0000","GENERAL SUPPLIES",2209.79,null,"001",null,"001","100","2410","6610","104",null,"104",null,null,null,null,null,null,null,null,null,null,null,null,null,{"$f":"IF(OR(SUMPRODUCT(--(E625=$O$1:$O$541))>0,E625=0),0,1)","v":0}]
["001.100.2410.6610.105.000.0000","GENERAL SUPPLIES",2660.42,null,"001",null,"001","100","2410","6610","105",null,"105",null,null,null,null,null,null,null,null,null,null,null,null,null,{"$f":"IF(OR(SUMPRODUCT(--(E626=$O$1:$O$541))>0,E626=0),0,1)","v":0}]
["001.100.2410.6610.106.000.0000","GENERAL SUPPLIES",472.32,null,"001",null,"001","100","2410","6610","106",null,"106",null,null,null,null,null,null,null,null,null,null,null,null,null,{"$f":"IF(OR(SUMPRODUCT(--(E627=$O$1:$O$541))>0,E627=0),0,1)","v":0}]
["001.100.2410.6610.107.000.0000","GENERAL SUPPLIES",2023.96,null,"001",null,"001","100","2410","6610","107",null,"107",null,null,null,null,null,null,null,null,null,null,null,null,null,{"$f":"IF(OR(SUMPRODUCT(--(E628=$O$1:$O$541))>0,E628=0),0,1)","v":0}]
["001.100.2410.6644.102.000.0000","OTHER BOOKS, PERIODICALS, AND MEDIA",262.91000000000003,null,"001",null,"001","100","2410","6644","102",null,"102",null,null,null,null,null,null,null,null,null,null,null,null,null,{"$f":"IF(OR(SUMPRODUCT(--(E629=$O$1:$O$541))>0,E629=0),0,1)","v":0}]
["001.100.2410.6644.104.000.0000","OTHER BOOKS, PERIODICALS, AND MEDIA",59.99,null,"001",null,"001","100","2410","6644","104",null,"104",null,null,null,null,null,null,null,null,null,null,null,null,null,{"$f":"IF(OR(SUMPRODUCT(--(E630=$O$1:$O$541))>0,E630=0),0,1)","v":0}]
["001.100.2410.6644.105.000.0000","OTHER BOOKS, PERIODICALS, AND MEDIA",110.61,null,"001",null,"001","100","2410","6644","105",null,"105",null,null,null,null,null,null,null,null,null,null,null,null,null,{"$f":"IF(OR(SUMPRODUCT(--(E631=$O$1:$O$541))>0,E631=0),0,1)","v":0}]
["001.100.2410.6644.106.000.0000","OTHER BOOKS, PERIODICALS, AND MEDIA",10.33,null,"001",null,"001","100","2410","6644","106",null,"106",null,null,null,null,null,null,null,null,null,null,null,null,null,{"$f":"IF(OR(SUMPRODUCT(--(E632=$O$1:$O$541))>0,E632=0),0,1)","v":0}]
["001.100.2410.6810.101.000.0000","DUES AND FEES",130,null,"001",null,"001","100","2410","6810","101",null,"101",null,null,null,null,null,null,null,null,null,null,null,null,null,{"$f":"IF(OR(SUMPRODUCT(--(E633=$O$1:$O$541))>0,E633=0),0,1)","v":0}]
["001.100.2410.6810.102.000.0000","DUES AND FEES",330,null,"001",null,"001","100","2410","6810","102",null,"102",null,null,null,null,null,null,null,null,null,null,null,null,null,{"$f":"IF(OR(SUMPRODUCT(--(E634=$O$1:$O$541))>0,E634=0),0,1)","v":0}]
["001.100.2410.6810.102.702.0000","DUES AND FEES",18605,null,"001",null,"001","100","2410","6810","102",null,"102",null,null,null,null,null,null,null,null,null,null,null,null,null,{"$f":"IF(OR(SUMPRODUCT(--(E635=$O$1:$O$541))>0,E635=0),0,1)","v":0}]
["001.100.2410.6810.103.000.0000","DUES AND FEES",715,null,"001",null,"001","100","2410","6810","103",null,"103",null,null,null,null,null,null,null,null,null,null,null,null,null,{"$f":"IF(OR(SUMPRODUCT(--(E636=$O$1:$O$541))>0,E636=0),0,1)","v":0}]
["001.100.2410.6810.104.000.0000","DUES AND FEES",859,null,"001",null,"001","100","2410","6810","104",null,"104",null,null,null,null,null,null,null,null,null,null,null,null,null,{"$f":"IF(OR(SUMPRODUCT(--(E637=$O$1:$O$541))>0,E637=0),0,1)","v":0}]
["001.100.2410.6810.105.000.0000","DUES AND FEES",239,null,"001",null,"001","100","2410","6810","105",null,"105",null,null,null,null,null,null,null,null,null,null,null,null,null,{"$f":"IF(OR(SUMPRODUCT(--(E638=$O$1:$O$541))>0,E638=0),0,1)","v":0}]
["001.100.2410.6810.106.000.0000","DUES AND FEES",460,null,"001",null,"001","100","2410","6810","106",null,"106",null,null,null,null,null,null,null,null,null,null,null,null,null,{"$f":"IF(OR(SUMPRODUCT(--(E639=$O$1:$O$541))>0,E639=0),0,1)","v":0}]
["001.100.2410.6810.107.000.0000","DUES AND FEES",260,null,"001",null,"001","100","2410","6810","107",null,"107",null,null,null,null,null,null,null,null,null,null,null,null,null,{"$f":"IF(OR(SUMPRODUCT(--(E640=$O$1:$O$541))>0,E640=0),0,1)","v":0}]
["001.100.2500.6610.500.000.0000","GENERAL SUPPLIES",190.12,null,"001",null,"001","100","2500","6610","500",null,"500",null,null,null,null,null,null,null,null,null,null,null,null,null,{"$f":"IF(OR(SUMPRODUCT(--(E641=$O$1:$O$541))>0,E641=0),0,1)","v":0}]
["001.100.2510.6150.500.000.0000","CLASSIFIED SALARIES",119416.93,null,{"$f":"IF(AND(F642<>\"\",F642=G642),\"ERROR\",IF(AND(F642<>\"\",F642<>G642),F642,G642))","v":"001"},null,"001","100","2510","6150","500",null,{"$f":"IF(L642<>\"\",L642,K642)","v":"500"},null,null,null,null,null,null,null,null,null,null,null,null,null,{"$f":"IF(OR(SUMPRODUCT(--(E642=$O$1:$O$541))>0,E642=0),0,1)","v":0}]
["001.100.2510.6210.500.000.0000","EMPLOYEE INSURANCE",22769.5,null,"001",null,"001","100","2510","6210","500",null,"500",null,null,null,null,null,null,null,null,null,null,null,null,null,{"$f":"IF(OR(SUMPRODUCT(--(E643=$O$1:$O$541))>0,E643=0),0,1)","v":0}]
["001.100.2510.6221.500.000.0000","SOCIAL SECURITY - OASDI",6763.52,null,"001",null,"001","100","2510","6221","500",null,"500",null,null,null,null,null,null,null,null,null,null,null,null,null,{"$f":"IF(OR(SUMPRODUCT(--(E644=$O$1:$O$541))>0,E644=0),0,1)","v":0}]
["001.100.2510.6222.500.000.0000","MEDICARE - HOSPITAL INSURANCE",1581.77,null,"001",null,"001","100","2510","6222","500",null,"500",null,null,null,null,null,null,null,null,null,null,null,null,null,{"$f":"IF(OR(SUMPRODUCT(--(E645=$O$1:$O$541))>0,E645=0),0,1)","v":0}]
["001.100.2510.6231.500.000.0000","STATE RETIREMENT",14292.37,null,"001",null,"001","100","2510","6231","500",null,"500",null,null,null,null,null,null,null,null,null,null,null,null,null,{"$f":"IF(OR(SUMPRODUCT(--(E646=$O$1:$O$541))>0,E646=0),0,1)","v":0}]
["001.100.2510.6232.500.000.0000","LONG TERM DISABILITY",176.67,null,"001",null,"001","100","2510","6232","500",null,"500",null,null,null,null,null,null,null,null,null,null,null,null,null,{"$f":"IF(OR(SUMPRODUCT(--(E647=$O$1:$O$541))>0,E647=0),0,1)","v":0}]
["001.100.2510.6260.500.000.0000","WORKERS' COMPENSATION",658.04,null,"001",null,"001","100","2510","6260","500",null,"500",null,null,null,null,null,null,null,null,null,null,null,null,null,{"$f":"IF(OR(SUMPRODUCT(--(E648=$O$1:$O$541))>0,E648=0),0,1)","v":0}]
["001.100.2510.6300.500.000.0000","PURCHASED PROFESSIONAL AND TECHNICAL SERVICES",57799.85,null,"001",null,"001","100","2510","6300","500",null,"500",null,null,null,null,null,null,null,null,null,null,null,null,null,{"$f":"IF(OR(SUMPRODUCT(--(E649=$O$1:$O$541))>0,E649=0),0,1)","v":0}]
["001.100.2510.6330.502.000.0000","OTHER PROFESSIONAL SERVICES",7600,null,"001",null,"001","100","2510","6330","502",500,500,null,null,null,null,null,null,null,null,null,null,null,null,null,{"$f":"IF(OR(SUMPRODUCT(--(E650=$O$1:$O$541))>0,E650=0),0,1)","v":0}]
["001.100.2510.6540.500.000.0000","ADVERTISING",265.39999999999998,null,"001",null,"001","100","2510","6540","500",null,"500",null,null,null,null,null,null,null,null,null,null,null,null,null,{"$f":"IF(OR(SUMPRODUCT(--(E651=$O$1:$O$541))>0,E651=0),0,1)","v":0}]
["001.100.2510.6580.500.000.0000","TRAVEL",431,null,"001",null,"001","100","2510","6580","500",null,"500",null,null,null,null,null,null,null,null,null,null,null,null,null,{"$f":"IF(OR(SUMPRODUCT(--(E652=$O$1:$O$541))>0,E652=0),0,1)","v":0}]
["001.100.2510.6591.500.000.0000","SERVICES PURCH FROM OTHER AZ DIST",1828.6,null,"001",null,"001","100","2510","6591","500",null,"500",null,null,null,null,null,null,null,null,null,null,null,null,null,{"$f":"IF(OR(SUMPRODUCT(--(E653=$O$1:$O$541))>0,E653=0),0,1)","v":0}]
["001.100.2510.6610.500.000.0000","GENERAL SUPPLIES",5313.23,null,"001",null,"001","100","2510","6610","500",null,"500",null,null,null,null,null,null,null,null,null,null,null,null,null,{"$f":"IF(OR(SUMPRODUCT(--(E654=$O$1:$O$541))>0,E654=0),0,1)","v":0}]
["001.100.2510.6644.502.000.0000","OTHER BOOKS, PERIODICALS, AND MEDIA",78.63,null,"001",null,"001","100","2510","6644","502",500,500,null,null,null,null,null,null,null,null,null,null,null,null,null,{"$f":"IF(OR(SUMPRODUCT(--(E655=$O$1:$O$541))>0,E655=0),0,1)","v":0}]
["001.100.2510.6810.500.000.0000","DUES AND FEES",1379,null,"001",null,"001","100","2510","6810","500",null,"500",null,null,null,null,null,null,null,null,null,null,null,null,null,{"$f":"IF(OR(SUMPRODUCT(--(E656=$O$1:$O$541))>0,E656=0),0,1)","v":0}]
["001.100.2520.6150.500.000.0000","CLASSIFIED SALARIES",15166.43,null,"001",null,"001","100","2520","6150","500",null,"500",null,null,null,null,null,null,null,null,null,null,null,null,null,{"$f":"IF(OR(SUMPRODUCT(--(E657=$O$1:$O$541))>0,E657=0),0,1)","v":0}]
["001.100.2520.6150.500.900.0000","CLASSIFIED SALARIES",40118,null,"001",null,"001","100","2520","6150","500",null,"500",null,null,null,null,null,null,null,null,null,null,null,null,null,{"$f":"IF(OR(SUMPRODUCT(--(E658=$O$1:$O$541))>0,E658=0),0,1)","v":0}]
["001.100.2520.6155.500.000.0000","CLASSIFIED TEMPORARY",250,null,"001",null,"001","100","2520","6155","500",null,"500",null,null,null,null,null,null,null,null,null,null,null,null,null,{"$f":"IF(OR(SUMPRODUCT(--(E659=$O$1:$O$541))>0,E659=0),0,1)","v":0}]
["001.100.2520.6210.500.000.0000","EMPLOYEE INSURANCE",888.77,null,"001",null,"001","100","2520","6210","500",null,"500",null,null,null,null,null,null,null,null,null,null,null,null,null,{"$f":"IF(OR(SUMPRODUCT(--(E660=$O$1:$O$541))>0,E660=0),0,1)","v":0}]
["001.100.2520.6210.500.900.0000","EMPLOYEE INSURANCE",8138.28,null,"001",null,"001","100","2520","6210","500",null,"500",null,null,null,null,null,null,null,null,null,null,null,null,null,{"$f":"IF(OR(SUMPRODUCT(--(E661=$O$1:$O$541))>0,E661=0),0,1)","v":0}]
["001.100.2520.6221.500.000.0000","SOCIAL SECURITY - OASDI",905.17,null,"001",null,"001","100","2520","6221","500",null,"500",null,null,null,null,null,null,null,null,null,null,null,null,null,{"$f":"IF(OR(SUMPRODUCT(--(E662=$O$1:$O$541))>0,E662=0),0,1)","v":0}]
["001.100.2520.6221.500.900.0000","SOCIAL SECURITY - OASDI",2392.7199999999998,null,"001",null,"001","100","2520","6221","500",null,"500",null,null,null,null,null,null,null,null,null,null,null,null,null,{"$f":"IF(OR(SUMPRODUCT(--(E663=$O$1:$O$541))>0,E663=0),0,1)","v":0}]
["001.100.2520.6222.500.000.0000","MEDICARE - HOSPITAL INSURANCE",211.7,null,"001",null,"001","100","2520","6222","500",null,"500",null,null,null,null,null,null,null,null,null,null,null,null,null,{"$f":"IF(OR(SUMPRODUCT(--(E664=$O$1:$O$541))>0,E664=0),0,1)","v":0}]
["001.100.2520.6222.500.900.0000","MEDICARE - HOSPITAL INSURANCE",559.64,null,"001",null,"001","100","2520","6222","500",null,"500",null,null,null,null,null,null,null,null,null,null,null,null,null,{"$f":"IF(OR(SUMPRODUCT(--(E665=$O$1:$O$541))>0,E665=0),0,1)","v":0}]
["001.100.2520.6231.500.000.0000","STATE RETIREMENT",1823,null,"001",null,"001","100","2520","6231","500",null,"500",null,null,null,null,null,null,null,null,null,null,null,null,null,{"$f":"IF(OR(SUMPRODUCT(--(E666=$O$1:$O$541))>0,E666=0),0,1)","v":0}]
["001.100.2520.6231.500.900.0000","STATE RETIREMENT",4710.6000000000004,null,"001",null,"001","100","2520","6231","500",null,"500",null,null,null,null,null,null,null,null,null,null,null,null,null,{"$f":"IF(OR(SUMPRODUCT(--(E667=$O$1:$O$541))>0,E667=0),0,1)","v":0}]
["001.100.2520.6232.500.000.0000","LONG TERM DISABILITY",22.57,null,"001",null,"001","100","2520","6232","500",null,"500",null,null,null,null,null,null,null,null,null,null,null,null,null,{"$f":"IF(OR(SUMPRODUCT(--(E668=$O$1:$O$541))>0,E668=0),0,1)","v":0}]
["001.100.2520.6232.500.900.0000","LONG TERM DISABILITY",58.24,null,"001",null,"001","100","2520","6232","500",null,"500",null,null,null,null,null,null,null,null,null,null,null,null,null,{"$f":"IF(OR(SUMPRODUCT(--(E669=$O$1:$O$541))>0,E669=0),0,1)","v":0}]
["001.100.2520.6260.500.000.0000","WORKERS' COMPENSATION",85.22,null,"001",null,"001","100","2520","6260","500",null,"500",null,null,null,null,null,null,null,null,null,null,null,null,null,{"$f":"IF(OR(SUMPRODUCT(--(E670=$O$1:$O$541))>0,E670=0),0,1)","v":0}]
["001.100.2520.6260.500.900.0000","WORKERS' COMPENSATION",1035.98,null,"001",null,"001","100","2520","6260","500",null,"500",null,null,null,null,null,null,null,null,null,null,null,null,null,{"$f":"IF(OR(SUMPRODUCT(--(E671=$O$1:$O$541))>0,E671=0),0,1)","v":0}]
["001.100.2520.6290.500.000.0000","OTHER EMPLOYEE BENEFITS without ASRS",4.74,null,"001",null,"001","100","2520","6290","500",null,"500",null,null,null,null,null,null,null,null,null,null,null,null,null,{"$f":"IF(OR(SUMPRODUCT(--(E672=$O$1:$O$541))>0,E672=0),0,1)","v":0}]
["001.100.2520.6300.500.000.0000","PURCHASED PROFESSIONAL AND TECHNICAL SERVICES",54.4,null,"001",null,"001","100","2520","6300","500",null,"500",null,null,null,null,null,null,null,null,null,null,null,null,null,{"$f":"IF(OR(SUMPRODUCT(--(E673=$O$1:$O$541))>0,E673=0),0,1)","v":0}]
["001.100.2530.6150.500.000.0000","CLASSIFIED SALARIES",226118.15,null,"001",null,"001","100","2530","6150","500",null,"500",null,null,null,null,null,null,null,null,null,null,null,null,null,{"$f":"IF(OR(SUMPRODUCT(--(E674=$O$1:$O$541))>0,E674=0),0,1)","v":0}]
["001.100.2530.6155.500.000.0000","CLASSIFIED TEMPORARY",19565.810000000001,null,"001",null,"001","100","2530","6155","500",null,"500",null,null,null,null,null,null,null,null,null,null,null,null,null,{"$f":"IF(OR(SUMPRODUCT(--(E675=$O$1:$O$541))>0,E675=0),0,1)","v":0}]
["001.100.2530.6210.500.000.0000","EMPLOYEE INSURANCE",16247.79,null,"001",null,"001","100","2530","6210","500",null,"500",null,null,null,null,null,null,null,null,null,null,null,null,null,{"$f":"IF(OR(SUMPRODUCT(--(E676=$O$1:$O$541))>0,E676=0),0,1)","v":0}]
["001.100.2530.6221.500.000.0000","SOCIAL SECURITY - OASDI",15101.81,null,"001",null,"001","100","2530","6221","500",null,"500",null,null,null,null,null,null,null,null,null,null,null,null,null,{"$f":"IF(OR(SUMPRODUCT(--(E677=$O$1:$O$541))>0,E677=0),0,1)","v":0}]
["001.100.2530.6222.500.000.0000","MEDICARE - HOSPITAL INSURANCE",3531.85,null,"001",null,"001","100","2530","6222","500",null,"500",null,null,null,null,null,null,null,null,null,null,null,null,null,{"$f":"IF(OR(SUMPRODUCT(--(E678=$O$1:$O$541))>0,E678=0),0,1)","v":0}]
["001.100.2530.6231.500.000.0000","STATE RETIREMENT",28215.43,null,"001",null,"001","100","2530","6231","500",null,"500",null,null,null,null,null,null,null,null,null,null,null,null,null,{"$f":"IF(OR(SUMPRODUCT(--(E679=$O$1:$O$541))>0,E679=0),0,1)","v":0}]
["001.100.2530.6232.500.000.0000","LONG TERM DISABILITY",348.67,null,"001",null,"001","100","2530","6232","500",null,"500",null,null,null,null,null,null,null,null,null,null,null,null,null,{"$f":"IF(OR(SUMPRODUCT(--(E680=$O$1:$O$541))>0,E680=0),0,1)","v":0}]
["001.100.2530.6260.500.000.0000","WORKERS' COMPENSATION",1368.41,null,"001",null,"001","100","2530","6260","500",null,"500",null,null,null,null,null,null,null,null,null,null,null,null,null,{"$f":"IF(OR(SUMPRODUCT(--(E681=$O$1:$O$541))>0,E681=0),0,1)","v":0}]
["001.100.2530.6290.500.000.0000","OTHER EMPLOYEE BENEFITS without ASRS",82.71,null,"001",null,"001","100","2530","6290","500",null,"500",null,null,null,null,null,null,null,null,null,null,null,null,null,{"$f":"IF(OR(SUMPRODUCT(--(E682=$O$1:$O$541))>0,E682=0),0,1)","v":0}]
["001.100.2560.6150.500.000.0000","CLASSIFIED SALARIES",54078.98,null,"001",null,"001","100","2560","6150","500",null,"500",null,null,null,null,null,null,null,null,null,null,null,null,null,{"$f":"IF(OR(SUMPRODUCT(--(E683=$O$1:$O$541))>0,E683=0),0,1)","v":0}]
["001.100.2560.6155.500.000.0000","CLASSIFIED TEMPORARY",4207.2,null,"001",null,"001","100","2560","6155","500",null,"500",null,null,null,null,null,null,null,null,null,null,null,null,null,{"$f":"IF(OR(SUMPRODUCT(--(E684=$O$1:$O$541))>0,E684=0),0,1)","v":0}]
["001.100.2560.6210.500.000.0000","EMPLOYEE INSURANCE",4782.54,null,"001",null,"001","100","2560","6210","500",null,"500",null,null,null,null,null,null,null,null,null,null,null,null,null,{"$f":"IF(OR(SUMPRODUCT(--(E685=$O$1:$O$541))>0,E685=0),0,1)","v":0}]
["001.100.2560.6221.500.000.0000","SOCIAL SECURITY - OASDI",3508.18,null,"001",null,"001","100","2560","6221","500",null,"500",null,null,null,null,null,null,null,null,null,null,null,null,null,{"$f":"IF(OR(SUMPRODUCT(--(E686=$O$1:$O$541))>0,E686=0),0,1)","v":0}]
["001.100.2560.6222.500.000.0000","MEDICARE - HOSPITAL INSURANCE",820.47,null,"001",null,"001","100","2560","6222","500",null,"500",null,null,null,null,null,null,null,null,null,null,null,null,null,{"$f":"IF(OR(SUMPRODUCT(--(E687=$O$1:$O$541))>0,E687=0),0,1)","v":0}]
["001.100.2560.6231.500.000.0000","STATE RETIREMENT",6886.05,null,"001",null,"001","100","2560","6231","500",null,"500",null,null,null,null,null,null,null,null,null,null,null,null,null,{"$f":"IF(OR(SUMPRODUCT(--(E688=$O$1:$O$541))>0,E688=0),0,1)","v":0}]
["001.100.2560.6232.500.000.0000","LONG TERM DISABILITY",85.06,null,"001",null,"001","100","2560","6232","500",null,"500",null,null,null,null,null,null,null,null,null,null,null,null,null,{"$f":"IF(OR(SUMPRODUCT(--(E689=$O$1:$O$541))>0,E689=0),0,1)","v":0}]
["001.100.2560.6260.500.000.0000","WORKERS' COMPENSATION",317.7,null,"001",null,"001","100","2560","6260","500",null,"500",null,null,null,null,null,null,null,null,null,null,null,null,null,{"$f":"IF(OR(SUMPRODUCT(--(E690=$O$1:$O$541))>0,E690=0),0,1)","v":0}]
["001.100.2560.6290.500.000.0000","OTHER EMPLOYEE BENEFITS without ASRS",3.97,null,"001",null,"001","100","2560","6290","500",null,"500",null,null,null,null,null,null,null,null,null,null,null,null,null,{"$f":"IF(OR(SUMPRODUCT(--(E691=$O$1:$O$541))>0,E691=0),0,1)","v":0}]
["001.100.2560.6300.500.000.0000","PURCHASED PROFESSIONAL AND TECHNICAL SERVICES",15554.73,null,"001",null,"001","100","2560","6300","500",null,"500",null,null,null,null,null,null,null,null,null,null,null,null,null,{"$f":"IF(OR(SUMPRODUCT(--(E692=$O$1:$O$541))>0,E692=0),0,1)","v":0}]
["001.100.2560.6532.500.000.0000","OTHER COMMUNICATIONS SERVICES",1770.12,null,"001",null,"001","100","2560","6532","500",null,"500",null,null,null,null,null,null,null,null,null,null,null,null,null,{"$f":"IF(OR(SUMPRODUCT(--(E693=$O$1:$O$541))>0,E693=0),0,1)","v":0}]
["001.100.2560.6550.500.000.0000","PRINTING AND BINDING",16404.46,null,"001",null,"001","100","2560","6550","500",null,"500",null,null,null,null,null,null,null,null,null,null,null,null,null,{"$f":"IF(OR(SUMPRODUCT(--(E694=$O$1:$O$541))>0,E694=0),0,1)","v":0}]
["001.100.2560.6580.500.000.0000","TRAVEL",370,null,"001",null,"001","100","2560","6580","500",null,"500",null,null,null,null,null,null,null,null,null,null,null,null,null,{"$f":"IF(OR(SUMPRODUCT(--(E695=$O$1:$O$541))>0,E695=0),0,1)","v":0}]
["001.100.2560.6810.500.000.0000","DUES AND FEES",200.6,null,"001",null,"001","100","2560","6810","500",null,"500",null,null,null,null,null,null,null,null,null,null,null,null,null,{"$f":"IF(OR(SUMPRODUCT(--(E696=$O$1:$O$541))>0,E696=0),0,1)","v":0}]
["001.100.2570.6150.503.000.0000","CLASSIFIED SALARIES",222588.77,null,"001",null,"001","100","2570","6150","503",500,500,null,null,null,null,null,null,null,null,null,null,null,null,null,{"$f":"IF(OR(SUMPRODUCT(--(E697=$O$1:$O$541))>0,E697=0),0,1)","v":0}]
["001.100.2570.6155.503.000.0000","CLASSIFIED TEMPORARY",6678.75,null,"001",null,"001","100","2570","6155","503",500,500,null,null,null,null,null,null,null,null,null,null,null,null,null,{"$f":"IF(OR(SUMPRODUCT(--(E698=$O$1:$O$541))>0,E698=0),0,1)","v":0}]
["001.100.2570.6210.503.000.0000","EMPLOYEE INSURANCE",24162.54,null,"001",null,"001","100","2570","6210","503",500,500,null,null,null,null,null,null,null,null,null,null,null,null,null,{"$f":"IF(OR(SUMPRODUCT(--(E699=$O$1:$O$541))>0,E699=0),0,1)","v":0}]
["001.100.2570.6221.503.000.0000","SOCIAL SECURITY - OASDI",13521.46,null,"001",null,"001","100","2570","6221","503",500,500,null,null,null,null,null,null,null,null,null,null,null,null,null,{"$f":"IF(OR(SUMPRODUCT(--(E700=$O$1:$O$541))>0,E700=0),0,1)","v":0}]
["001.100.2570.6222.503.000.0000","MEDICARE - HOSPITAL INSURANCE",3162.12,null,"001",null,"001","100","2570","6222","503",500,500,null,null,null,null,null,null,null,null,null,null,null,null,null,{"$f":"IF(OR(SUMPRODUCT(--(E701=$O$1:$O$541))>0,E701=0),0,1)","v":0}]
["001.100.2570.6231.503.000.0000","STATE RETIREMENT",27620.29,null,"001",null,"001","100","2570","6231","503",500,500,null,null,null,null,null,null,null,null,null,null,null,null,null,{"$f":"IF(OR(SUMPRODUCT(--(E702=$O$1:$O$541))>0,E702=0),0,1)","v":0}]
["001.100.2570.6232.503.000.0000","LONG TERM DISABILITY",341.12,null,"001",null,"001","100","2570","6232","503",500,500,null,null,null,null,null,null,null,null,null,null,null,null,null,{"$f":"IF(OR(SUMPRODUCT(--(E703=$O$1:$O$541))>0,E703=0),0,1)","v":0}]
["001.100.2570.6260.503.000.0000","WORKERS' COMPENSATION",1276.94,null,"001",null,"001","100","2570","6260","503",500,500,null,null,null,null,null,null,null,null,null,null,null,null,null,{"$f":"IF(OR(SUMPRODUCT(--(E704=$O$1:$O$541))>0,E704=0),0,1)","v":0}]
["001.100.2570.6290.503.000.0000","OTHER EMPLOYEE BENEFITS without ASRS",152.19999999999999,null,"001",null,"001","100","2570","6290","503",500,500,null,null,null,null,null,null,null,null,null,null,null,null,null,{"$f":"IF(OR(SUMPRODUCT(--(E705=$O$1:$O$541))>0,E705=0),0,1)","v":0}]
["001.100.2570.6300.500.000.0000","PURCHASED PROFESSIONAL AND TECHNICAL SERVICES",1730,null,{"$f":"IF(AND(F706<>\"\",F706=G706),\"ERROR\",IF(AND(F706<>\"\",F706<>G706),F706,G706))","v":"001"},null,"001","100","2570","6300","500",null,{"$f":"IF(L706<>\"\",L706,K706)","v":"500"},null,null,null,null,null,null,null,null,null,null,null,null,null,{"$f":"IF(OR(SUMPRODUCT(--(E706=$O$1:$O$541))>0,E706=0),0,1)","v":0}]
["001.100.2570.6300.503.000.0000","PURCHASED PROFESSIONAL AND TECHNICAL SERVICES",49920.44,null,"001",null,"001","100","2570","6300","503",500,500,null,null,null,null,null,null,null,null,null,null,null,null,null,{"$f":"IF(OR(SUMPRODUCT(--(E707=$O$1:$O$541))>0,E707=0),0,1)","v":0}]
["001.100.2570.6330.503.000.0000","OTHER PROFESSIONAL SERVICES",45655,null,"001",null,"001","100","2570","6330","503",500,500,null,null,null,null,null,null,null,null,null,null,null,null,null,{"$f":"IF(OR(SUMPRODUCT(--(E708=$O$1:$O$541))>0,E708=0),0,1)","v":0}]
["001.100.2570.6360.500.000.0000","EMPLOYEE TRAINING & PROFESSIONAL DEVELOPMENT SVCS",2490,null,"001",null,"001","100","2570","6360","500",null,"500",null,null,null,null,null,null,null,null,null,null,null,null,null,{"$f":"IF(OR(SUMPRODUCT(--(E709=$O$1:$O$541))>0,E709=0),0,1)","v":0}]
["001.100.2570.6360.503.000.0000","EMPLOYEE TRAINING & PROFESSIONAL DEVELOPMENT SVCS",1500,null,"001",null,"001","100","2570","6360","503",500,500,null,null,null,null,null,null,null,null,null,null,null,null,null,{"$f":"IF(OR(SUMPRODUCT(--(E710=$O$1:$O$541))>0,E710=0),0,1)","v":0}]
["001.100.2570.6540.500.000.0000","ADVERTISING",4194.3900000000003,null,"001",null,"001","100","2570","6540","500",null,"500",null,null,null,null,null,null,null,null,null,null,null,null,null,{"$f":"IF(OR(SUMPRODUCT(--(E711=$O$1:$O$541))>0,E711=0),0,1)","v":0}]
["001.100.2570.6540.503.000.0000","ADVERTISING",4186.97,null,"001",null,"001","100","2570","6540","503",500,500,null,null,null,null,null,null,null,null,null,null,null,null,null,{"$f":"IF(OR(SUMPRODUCT(--(E712=$O$1:$O$541))>0,E712=0),0,1)","v":0}]
["001.100.2570.6580.503.000.0000","TRAVEL",2100.9,null,"001",null,"001","100","2570","6580","503",500,500,null,null,null,null,null,null,null,null,null,null,null,null,null,{"$f":"IF(OR(SUMPRODUCT(--(E713=$O$1:$O$541))>0,E713=0),0,1)","v":0}]
["001.100.2570.6610.503.000.0000","GENERAL SUPPLIES",3021.67,null,"001",null,"001","100","2570","6610","503",500,500,null,null,null,null,null,null,null,null,null,null,null,null,null,{"$f":"IF(OR(SUMPRODUCT(--(E714=$O$1:$O$541))>0,E714=0),0,1)","v":0}]
["001.100.2570.6810.503.000.0000","DUES AND FEES",1919.42,null,"001",null,"001","100","2570","6810","503",500,500,null,null,null,null,null,null,null,null,null,null,null,null,null,{"$f":"IF(OR(SUMPRODUCT(--(E715=$O$1:$O$541))>0,E715=0),0,1)","v":0}]
["001.100.2580.6150.504.000.0000","CLASSIFIED SALARIES",289532.56,null,"001",null,"001","100","2580","6150","504",500,500,null,null,null,null,null,null,null,null,null,null,null,null,null,{"$f":"IF(OR(SUMPRODUCT(--(E716=$O$1:$O$541))>0,E716=0),0,1)","v":0}]
["001.100.2580.6155.504.000.0000","CLASSIFIED TEMPORARY",289.55,null,"001",null,"001","100","2580","6155","504",500,500,null,null,null,null,null,null,null,null,null,null,null,null,null,{"$f":"IF(OR(SUMPRODUCT(--(E717=$O$1:$O$541))>0,E717=0),0,1)","v":0}]
["001.100.2580.6210.504.000.0000","EMPLOYEE INSURANCE",35028.120000000003,null,"001",null,"001","100","2580","6210","504",500,500,null,null,null,null,null,null,null,null,null,null,null,null,null,{"$f":"IF(OR(SUMPRODUCT(--(E718=$O$1:$O$541))>0,E718=0),0,1)","v":0}]
["001.100.2580.6221.504.000.0000","SOCIAL SECURITY - OASDI",17154.060000000001,null,"001",null,"001","100","2580","6221","504",500,500,null,null,null,null,null,null,null,null,null,null,null,null,null,{"$f":"IF(OR(SUMPRODUCT(--(E719=$O$1:$O$541))>0,E719=0),0,1)","v":0}]
["001.100.2580.6222.504.000.0000","MEDICARE - HOSPITAL INSURANCE",4011.72,null,"001",null,"001","100","2580","6222","504",500,500,null,null,null,null,null,null,null,null,null,null,null,null,null,{"$f":"IF(OR(SUMPRODUCT(--(E720=$O$1:$O$541))>0,E720=0),0,1)","v":0}]
["001.100.2580.6231.504.000.0000","STATE RETIREMENT",35170.199999999997,null,"001",null,"001","100","2580","6231","504",500,500,null,null,null,null,null,null,null,null,null,null,null,null,null,{"$f":"IF(OR(SUMPRODUCT(--(E721=$O$1:$O$541))>0,E721=0),0,1)","v":0}]
["001.100.2580.6232.504.000.0000","LONG TERM DISABILITY",434.76,null,"001",null,"001","100","2580","6232","504",500,500,null,null,null,null,null,null,null,null,null,null,null,null,null,{"$f":"IF(OR(SUMPRODUCT(--(E722=$O$1:$O$541))>0,E722=0),0,1)","v":0}]
["001.100.2580.6260.504.000.0000","WORKERS' COMPENSATION",1620.24,null,"001",null,"001","100","2580","6260","504",500,500,null,null,null,null,null,null,null,null,null,null,null,null,null,{"$f":"IF(OR(SUMPRODUCT(--(E723=$O$1:$O$541))>0,E723=0),0,1)","v":0}]
["001.100.2580.6290.504.000.0000","OTHER EMPLOYEE BENEFITS without ASRS",48.22,null,"001",null,"001","100","2580","6290","504",500,500,null,null,null,null,null,null,null,null,null,null,null,null,null,{"$f":"IF(OR(SUMPRODUCT(--(E724=$O$1:$O$541))>0,E724=0),0,1)","v":0}]
["001.100.2580.6300.504.000.0000","PURCHASED PROFESSIONAL AND TECHNICAL SERVICES",25993.25,null,"001",null,"001","100","2580","6300","504",500,500,null,null,null,null,null,null,null,null,null,null,null,null,null,{"$f":"IF(OR(SUMPRODUCT(--(E725=$O$1:$O$541))>0,E725=0),0,1)","v":0}]
["001.100.2580.6340.504.000.0000","TECHNICAL SERVICES",81586.84,null,"001",null,"001","100","2580","6340","504",500,500,null,null,null,null,null,null,null,null,null,null,null,null,null,{"$f":"IF(OR(SUMPRODUCT(--(E726=$O$1:$O$541))>0,E726=0),0,1)","v":0}]
["001.100.2580.6432.504.000.0000","TECHNOLOGY-RELATED REPAIRS AND MAINTENANCE",13908.24,null,"001",null,"001","100","2580","6432","504",500,500,null,null,null,null,null,null,null,null,null,null,null,null,null,{"$f":"IF(OR(SUMPRODUCT(--(E727=$O$1:$O$541))>0,E727=0),0,1)","v":0}]
["001.100.2580.6580.504.000.0000","TRAVEL",3426.67,null,"001",null,"001","100","2580","6580","504",500,500,null,null,null,null,null,null,null,null,null,null,null,null,null,{"$f":"IF(OR(SUMPRODUCT(--(E728=$O$1:$O$541))>0,E728=0),0,1)","v":0}]
["001.100.2580.6610.500.000.0000","GENERAL SUPPLIES",2074.4899999999998,null,"001",null,"001","100","2580","6610","500",null,"500",null,null,null,null,null,null,null,null,null,null,null,null,null,{"$f":"IF(OR(SUMPRODUCT(--(E729=$O$1:$O$541))>0,E729=0),0,1)","v":0}]
["001.100.2580.6610.504.000.0000","GENERAL SUPPLIES",45426.64,null,"001",null,"001","100","2580","6610","504",500,500,null,null,null,null,null,null,null,null,null,null,null,null,null,{"$f":"IF(OR(SUMPRODUCT(--(E730=$O$1:$O$541))>0,E730=0),0,1)","v":0}]
["001.100.2580.6650.504.000.0000","SUPPLIES - TECHNOLOGY-RELATED",40587.49,null,"001",null,"001","100","2580","6650","504",500,500,null,null,null,null,null,null,null,null,null,null,null,null,null,{"$f":"IF(OR(SUMPRODUCT(--(E731=$O$1:$O$541))>0,E731=0),0,1)","v":0}]
["001.100.2600.6300.101.000.0000","PURCHASED PROFESSIONAL AND TECHNICAL SERVICES",98061.59,null,"001",null,"001","100","2600","6300","101",null,"101",null,null,null,null,null,null,null,null,null,null,null,null,null,{"$f":"IF(OR(SUMPRODUCT(--(E732=$O$1:$O$541))>0,E732=0),0,1)","v":0}]
["001.100.2600.6300.103.000.0000","PURCHASED PROFESSIONAL AND TECHNICAL SERVICES",185,null,"001",null,"001","100","2600","6300","103",null,"103",null,null,null,null,null,null,null,null,null,null,null,null,null,{"$f":"IF(OR(SUMPRODUCT(--(E733=$O$1:$O$541))>0,E733=0),0,1)","v":0}]
["001.100.2600.6300.104.000.0000","PURCHASED PROFESSIONAL AND TECHNICAL SERVICES",370,null,"001",null,"001","100","2600","6300","104",null,"104",null,null,null,null,null,null,null,null,null,null,null,null,null,{"$f":"IF(OR(SUMPRODUCT(--(E734=$O$1:$O$541))>0,E734=0),0,1)","v":0}]
["001.100.2600.6300.500.000.0000","PURCHASED PROFESSIONAL AND TECHNICAL SERVICES",10140,null,"001",null,"001","100","2600","6300","500",null,"500",null,null,null,null,null,null,null,null,null,null,null,null,null,{"$f":"IF(OR(SUMPRODUCT(--(E735=$O$1:$O$541))>0,E735=0),0,1)","v":0}]
["001.100.2600.6580.500.000.0000","TRAVEL",454.92,null,"001",null,"001","100","2600","6580","500",null,"500",null,null,null,null,null,null,null,null,null,null,null,null,null,{"$f":"IF(OR(SUMPRODUCT(--(E736=$O$1:$O$541))>0,E736=0),0,1)","v":0}]
["001.100.2600.6810.500.000.0000","DUES AND FEES",8183.73,null,"001",null,"001","100","2600","6810","500",null,"500",null,null,null,null,null,null,null,null,null,null,null,null,null,{"$f":"IF(OR(SUMPRODUCT(--(E737=$O$1:$O$541))>0,E737=0),0,1)","v":0}]
["001.100.2610.6150.101.000.0000","CLASSIFIED SALARIES",35226,null,"001",null,"001","100","2610","6150","101",null,"101",null,null,null,null,null,null,null,null,null,null,null,null,null,{"$f":"IF(OR(SUMPRODUCT(--(E738=$O$1:$O$541))>0,E738=0),0,1)","v":0}]
["001.100.2610.6150.102.000.0000","CLASSIFIED SALARIES",32165.11,null,"001",null,"001","100","2610","6150","102",null,"102",null,null,null,null,null,null,null,null,null,null,null,null,null,{"$f":"IF(OR(SUMPRODUCT(--(E739=$O$1:$O$541))>0,E739=0),0,1)","v":0}]
["001.100.2610.6150.103.000.0000","CLASSIFIED SALARIES",36252.21,null,"001",null,"001","100","2610","6150","103",null,"103",null,null,null,null,null,null,null,null,null,null,null,null,null,{"$f":"IF(OR(SUMPRODUCT(--(E740=$O$1:$O$541))>0,E740=0),0,1)","v":0}]
["001.100.2610.6150.104.000.0000","CLASSIFIED SALARIES",33844.949999999997,null,"001",null,"001","100","2610","6150","104",null,"104",null,null,null,null,null,null,null,null,null,null,null,null,null,{"$f":"IF(OR(SUMPRODUCT(--(E741=$O$1:$O$541))>0,E741=0),0,1)","v":0}]
["001.100.2610.6150.105.000.0000","CLASSIFIED SALARIES",34727.910000000003,null,"001",null,"001","100","2610","6150","105",null,"105",null,null,null,null,null,null,null,null,null,null,null,null,null,{"$f":"IF(OR(SUMPRODUCT(--(E742=$O$1:$O$541))>0,E742=0),0,1)","v":0}]
["001.100.2610.6150.106.000.0000","CLASSIFIED SALARIES",26974.09,null,"001",null,"001","100","2610","6150","106",null,"106",null,null,null,null,null,null,null,null,null,null,null,null,null,{"$f":"IF(OR(SUMPRODUCT(--(E743=$O$1:$O$541))>0,E743=0),0,1)","v":0}]
["001.100.2610.6150.107.000.0000","CLASSIFIED SALARIES",39222.879999999997,null,"001",null,"001","100","2610","6150","107",null,"107",null,null,null,null,null,null,null,null,null,null,null,null,null,{"$f":"IF(OR(SUMPRODUCT(--(E744=$O$1:$O$541))>0,E744=0),0,1)","v":0}]
["001.100.2610.6155.102.000.0000","CLASSIFIED TEMPORARY",333.33,null,"001",null,"001","100","2610","6155","102",null,"102",null,null,null,null,null,null,null,null,null,null,null,null,null,{"$f":"IF(OR(SUMPRODUCT(--(E745=$O$1:$O$541))>0,E745=0),0,1)","v":0}]
["001.100.2610.6155.107.000.0000","CLASSIFIED TEMPORARY",826.27,null,"001",null,"001","100","2610","6155","107",null,"107",null,null,null,null,null,null,null,null,null,null,null,null,null,{"$f":"IF(OR(SUMPRODUCT(--(E746=$O$1:$O$541))>0,E746=0),0,1)","v":0}]
["001.100.2610.6210.101.000.0000","EMPLOYEE INSURANCE",8714.4,null,"001",null,"001","100","2610","6210","101",null,"101",null,null,null,null,null,null,null,null,null,null,null,null,null,{"$f":"IF(OR(SUMPRODUCT(--(E747=$O$1:$O$541))>0,E747=0),0,1)","v":0}]
["001.100.2610.6210.102.000.0000","EMPLOYEE INSURANCE",25.2,null,"001",null,"001","100","2610","6210","102",null,"102",null,null,null,null,null,null,null,null,null,null,null,null,null,{"$f":"IF(OR(SUMPRODUCT(--(E748=$O$1:$O$541))>0,E748=0),0,1)","v":0}]
["001.100.2610.6210.103.000.0000","EMPLOYEE INSURANCE",8125.68,null,"001",null,"001","100","2610","6210","103",null,"103",null,null,null,null,null,null,null,null,null,null,null,null,null,{"$f":"IF(OR(SUMPRODUCT(--(E749=$O$1:$O$541))>0,E749=0),0,1)","v":0}]
["001.100.2610.6210.104.000.0000","EMPLOYEE INSURANCE",8709.36,null,"001",null,"001","100","2610","6210","104",null,"104",null,null,null,null,null,null,null,null,null,null,null,null,null,{"$f":"IF(OR(SUMPRODUCT(--(E750=$O$1:$O$541))>0,E750=0),0,1)","v":0}]
["001.100.2610.6210.105.000.0000","EMPLOYEE INSURANCE",4729.2,null,"001",null,"001","100","2610","6210","105",null,"105",null,null,null,null,null,null,null,null,null,null,null,null,null,{"$f":"IF(OR(SUMPRODUCT(--(E751=$O$1:$O$541))>0,E751=0),0,1)","v":0}]
["001.100.2610.6210.106.000.0000","EMPLOYEE INSURANCE",8709.36,null,"001",null,"001","100","2610","6210","106",null,"106",null,null,null,null,null,null,null,null,null,null,null,null,null,{"$f":"IF(OR(SUMPRODUCT(--(E752=$O$1:$O$541))>0,E752=0),0,1)","v":0}]
["001.100.2610.6210.107.000.0000","EMPLOYEE INSURANCE",4353.42,null,"001",null,"001","100","2610","6210","107",null,"107",null,null,null,null,null,null,null,null,null,null,null,null,null,{"$f":"IF(OR(SUMPRODUCT(--(E753=$O$1:$O$541))>0,E753=0),0,1)","v":0}]
["001.100.2610.6221.101.000.0000","SOCIAL SECURITY - OASDI",2184.1,null,"001",null,"001","100","2610","6221","101",null,"101",null,null,null,null,null,null,null,null,null,null,null,null,null,{"$f":"IF(OR(SUMPRODUCT(--(E754=$O$1:$O$541))>0,E754=0),0,1)","v":0}]
["001.100.2610.6221.102.000.0000","SOCIAL SECURITY - OASDI",2014.93,null,"001",null,"001","100","2610","6221","102",null,"102",null,null,null,null,null,null,null,null,null,null,null,null,null,{"$f":"IF(OR(SUMPRODUCT(--(E755=$O$1:$O$541))>0,E755=0),0,1)","v":0}]
["001.100.2610.6221.103.000.0000","SOCIAL SECURITY - OASDI",2165.08,null,"001",null,"001","100","2610","6221","103",null,"103",null,null,null,null,null,null,null,null,null,null,null,null,null,{"$f":"IF(OR(SUMPRODUCT(--(E756=$O$1:$O$541))>0,E756=0),0,1)","v":0}]
["001.100.2610.6221.104.000.0000","SOCIAL SECURITY - OASDI",2098.38,null,"001",null,"001","100","2610","6221","104",null,"104",null,null,null,null,null,null,null,null,null,null,null,null,null,{"$f":"IF(OR(SUMPRODUCT(--(E757=$O$1:$O$541))>0,E757=0),0,1)","v":0}]
["001.100.2610.6221.105.000.0000","SOCIAL SECURITY - OASDI",2104.96,null,"001",null,"001","100","2610","6221","105",null,"105",null,null,null,null,null,null,null,null,null,null,null,null,null,{"$f":"IF(OR(SUMPRODUCT(--(E758=$O$1:$O$541))>0,E758=0),0,1)","v":0}]
["001.100.2610.6221.106.000.0000","SOCIAL SECURITY - OASDI",1523.68,null,"001",null,"001","100","2610","6221","106",null,"106",null,null,null,null,null,null,null,null,null,null,null,null,null,{"$f":"IF(OR(SUMPRODUCT(--(E759=$O$1:$O$541))>0,E759=0),0,1)","v":0}]
["001.100.2610.6221.107.000.0000","SOCIAL SECURITY - OASDI",2483.52,null,"001",null,"001","100","2610","6221","107",null,"107",null,null,null,null,null,null,null,null,null,null,null,null,null,{"$f":"IF(OR(SUMPRODUCT(--(E760=$O$1:$O$541))>0,E760=0),0,1)","v":0}]
["001.100.2610.6222.101.000.0000","MEDICARE - HOSPITAL INSURANCE",510.88,null,"001",null,"001","100","2610","6222","101",null,"101",null,null,null,null,null,null,null,null,null,null,null,null,null,{"$f":"IF(OR(SUMPRODUCT(--(E761=$O$1:$O$541))>0,E761=0),0,1)","v":0}]
["001.100.2610.6222.102.000.0000","MEDICARE - HOSPITAL INSURANCE",471.29,null,"001",null,"001","100","2610","6222","102",null,"102",null,null,null,null,null,null,null,null,null,null,null,null,null,{"$f":"IF(OR(SUMPRODUCT(--(E762=$O$1:$O$541))>0,E762=0),0,1)","v":0}]
["001.100.2610.6222.103.000.0000","MEDICARE - HOSPITAL INSURANCE",506.34,null,"001",null,"001","100","2610","6222","103",null,"103",null,null,null,null,null,null,null,null,null,null,null,null,null,{"$f":"IF(OR(SUMPRODUCT(--(E763=$O$1:$O$541))>0,E763=0),0,1)","v":0}]
["001.100.2610.6222.104.000.0000","MEDICARE - HOSPITAL INSURANCE",490.77,null,"001",null,"001","100","2610","6222","104",null,"104",null,null,null,null,null,null,null,null,null,null,null,null,null,{"$f":"IF(OR(SUMPRODUCT(--(E764=$O$1:$O$541))>0,E764=0),0,1)","v":0}]
["001.100.2610.6222.105.000.0000","MEDICARE - HOSPITAL INSURANCE",492.29,null,"001",null,"001","100","2610","6222","105",null,"105",null,null,null,null,null,null,null,null,null,null,null,null,null,{"$f":"IF(OR(SUMPRODUCT(--(E765=$O$1:$O$541))>0,E765=0),0,1)","v":0}]
["001.100.2610.6222.106.000.0000","MEDICARE - HOSPITAL INSURANCE",356.38,null,"001",null,"001","100","2610","6222","106",null,"106",null,null,null,null,null,null,null,null,null,null,null,null,null,{"$f":"IF(OR(SUMPRODUCT(--(E766=$O$1:$O$541))>0,E766=0),0,1)","v":0}]
["001.100.2610.6222.107.000.0000","MEDICARE - HOSPITAL INSURANCE",580.83000000000004,null,"001",null,"001","100","2610","6222","107",null,"107",null,null,null,null,null,null,null,null,null,null,null,null,null,{"$f":"IF(OR(SUMPRODUCT(--(E767=$O$1:$O$541))>0,E767=0),0,1)","v":0}]
["001.100.2610.6231.101.000.0000","STATE RETIREMENT",4276.5600000000004,null,"001",null,"001","100","2610","6231","101",null,"101",null,null,null,null,null,null,null,null,null,null,null,null,null,{"$f":"IF(OR(SUMPRODUCT(--(E768=$O$1:$O$541))>0,E768=0),0,1)","v":0}]
["001.100.2610.6231.102.000.0000","STATE RETIREMENT",3213.25,null,"001",null,"001","100","2610","6231","102",null,"102",null,null,null,null,null,null,null,null,null,null,null,null,null,{"$f":"IF(OR(SUMPRODUCT(--(E769=$O$1:$O$541))>0,E769=0),0,1)","v":0}]
["001.100.2610.6231.103.000.0000","STATE RETIREMENT",4239.3500000000004,null,{"$f":"IF(AND(F770<>\"\",F770=G770),\"ERROR\",IF(AND(F770<>\"\",F770<>G770),F770,G770))","v":"001"},null,"001","100","2610","6231","103",null,{"$f":"IF(L770<>\"\",L770,K770)","v":"103"},null,null,null,null,null,null,null,null,null,null,null,null,null,{"$f":"IF(OR(SUMPRODUCT(--(E770=$O$1:$O$541))>0,E770=0),0,1)","v":0}]
["001.100.2610.6231.104.000.0000","STATE RETIREMENT",4108.82,null,"001",null,"001","100","2610","6231","104",null,"104",null,null,null,null,null,null,null,null,null,null,null,null,null,{"$f":"IF(OR(SUMPRODUCT(--(E771=$O$1:$O$541))>0,E771=0),0,1)","v":0}]
["001.100.2610.6231.105.000.0000","STATE RETIREMENT",948.65,null,"001",null,"001","100","2610","6231","105",null,"105",null,null,null,null,null,null,null,null,null,null,null,null,null,{"$f":"IF(OR(SUMPRODUCT(--(E772=$O$1:$O$541))>0,E772=0),0,1)","v":0}]
["001.100.2610.6231.106.000.0000","STATE RETIREMENT",3269.98,null,"001",null,"001","100","2610","6231","106",null,"106",null,null,null,null,null,null,null,null,null,null,null,null,null,{"$f":"IF(OR(SUMPRODUCT(--(E773=$O$1:$O$541))>0,E773=0),0,1)","v":0}]
["001.100.2610.6231.107.000.0000","STATE RETIREMENT",4862.83,null,"001",null,"001","100","2610","6231","107",null,"107",null,null,null,null,null,null,null,null,null,null,null,null,null,{"$f":"IF(OR(SUMPRODUCT(--(E774=$O$1:$O$541))>0,E774=0),0,1)","v":0}]
["001.100.2610.6232.101.000.0000","LONG TERM DISABILITY",52.8,null,"001",null,"001","100","2610","6232","101",null,"101",null,null,null,null,null,null,null,null,null,null,null,null,null,{"$f":"IF(OR(SUMPRODUCT(--(E775=$O$1:$O$541))>0,E775=0),0,1)","v":0}]
["001.100.2610.6232.103.000.0000","LONG TERM DISABILITY",52.36,null,"001",null,"001","100","2610","6232","103",null,"103",null,null,null,null,null,null,null,null,null,null,null,null,null,{"$f":"IF(OR(SUMPRODUCT(--(E776=$O$1:$O$541))>0,E776=0),0,1)","v":0}]
["001.100.2610.6232.104.000.0000","LONG TERM DISABILITY",50.8,null,"001",null,"001","100","2610","6232","104",null,"104",null,null,null,null,null,null,null,null,null,null,null,null,null,{"$f":"IF(OR(SUMPRODUCT(--(E777=$O$1:$O$541))>0,E777=0),0,1)","v":0}]
["001.100.2610.6232.105.000.0000","LONG TERM DISABILITY",11.74,null,"001",null,"001","100","2610","6232","105",null,"105",null,null,null,null,null,null,null,null,null,null,null,null,null,{"$f":"IF(OR(SUMPRODUCT(--(E778=$O$1:$O$541))>0,E778=0),0,1)","v":0}]
["001.100.2610.6232.106.000.0000","LONG TERM DISABILITY",40.4,null,"001",null,"001","100","2610","6232","106",null,"106",null,null,null,null,null,null,null,null,null,null,null,null,null,{"$f":"IF(OR(SUMPRODUCT(--(E779=$O$1:$O$541))>0,E779=0),0,1)","v":0}]
["001.100.2610.6232.107.000.0000","LONG TERM DISABILITY",60.04,null,"001",null,"001","100","2610","6232","107",null,"107",null,null,null,null,null,null,null,null,null,null,null,null,null,{"$f":"IF(OR(SUMPRODUCT(--(E780=$O$1:$O$541))>0,E780=0),0,1)","v":0}]
["001.100.2610.6260.101.000.0000","WORKERS' COMPENSATION",940.64,null,"001",null,"001","100","2610","6260","101",null,"101",null,null,null,null,null,null,null,null,null,null,null,null,null,{"$f":"IF(OR(SUMPRODUCT(--(E781=$O$1:$O$541))>0,E781=0),0,1)","v":0}]
["001.100.2610.6260.102.000.0000","WORKERS' COMPENSATION",867.64,null,"001",null,"001","100","2610","6260","102",null,"102",null,null,null,null,null,null,null,null,null,null,null,null,null,{"$f":"IF(OR(SUMPRODUCT(--(E782=$O$1:$O$541))>0,E782=0),0,1)","v":0}]
["001.100.2610.6260.103.000.0000","WORKERS' COMPENSATION",902.98,null,"001",null,"001","100","2610","6260","103",null,"103",null,null,null,null,null,null,null,null,null,null,null,null,null,{"$f":"IF(OR(SUMPRODUCT(--(E783=$O$1:$O$541))>0,E783=0),0,1)","v":0}]
["001.100.2610.6260.104.000.0000","WORKERS' COMPENSATION",894.96,null,"001",null,"001","100","2610","6260","104",null,"104",null,null,null,null,null,null,null,null,null,null,null,null,null,{"$f":"IF(OR(SUMPRODUCT(--(E784=$O$1:$O$541))>0,E784=0),0,1)","v":0}]
["001.100.2610.6260.105.000.0000","WORKERS' COMPENSATION",880,null,"001",null,"001","100","2610","6260","105",null,"105",null,null,null,null,null,null,null,null,null,null,null,null,null,{"$f":"IF(OR(SUMPRODUCT(--(E785=$O$1:$O$541))>0,E785=0),0,1)","v":0}]
["001.100.2610.6260.106.000.0000","WORKERS' COMPENSATION",718.14,null,"001",null,"001","100","2610","6260","106",null,"106",null,null,null,null,null,null,null,null,null,null,null,null,null,{"$f":"IF(OR(SUMPRODUCT(--(E786=$O$1:$O$541))>0,E786=0),0,1)","v":0}]
["001.100.2610.6260.107.000.0000","WORKERS' COMPENSATION",1067.1500000000001,null,"001",null,"001","100","2610","6260","107",null,"107",null,null,null,null,null,null,null,null,null,null,null,null,null,{"$f":"IF(OR(SUMPRODUCT(--(E787=$O$1:$O$541))>0,E787=0),0,1)","v":0}]
["001.100.2610.6290.101.000.0000","OTHER EMPLOYEE BENEFITS without ASRS",2.9,null,"001",null,"001","100","2610","6290","101",null,"101",null,null,null,null,null,null,null,null,null,null,null,null,null,{"$f":"IF(OR(SUMPRODUCT(--(E788=$O$1:$O$541))>0,E788=0),0,1)","v":0}]
["001.100.2610.6290.103.000.0000","OTHER EMPLOYEE BENEFITS without ASRS",1.49,null,"001",null,"001","100","2610","6290","103",null,"103",null,null,null,null,null,null,null,null,null,null,null,null,null,{"$f":"IF(OR(SUMPRODUCT(--(E789=$O$1:$O$541))>0,E789=0),0,1)","v":0}]
["001.100.2610.6290.104.000.0000","OTHER EMPLOYEE BENEFITS without ASRS",2.0699999999999998,null,"001",null,"001","100","2610","6290","104",null,"104",null,null,null,null,null,null,null,null,null,null,null,null,null,{"$f":"IF(OR(SUMPRODUCT(--(E790=$O$1:$O$541))>0,E790=0),0,1)","v":0}]
["001.100.2610.6290.106.000.0000","OTHER EMPLOYEE BENEFITS without ASRS",2.0699999999999998,null,"001",null,"001","100","2610","6290","106",null,"106",null,null,null,null,null,null,null,null,null,null,null,null,null,{"$f":"IF(OR(SUMPRODUCT(--(E791=$O$1:$O$541))>0,E791=0),0,1)","v":0}]
["001.100.2610.6522.500.000.0000","PREPAID INSURANCE",504480,null,"001",null,"001","100","2610","6522","500",null,"500",null,null,null,null,null,null,null,null,null,null,null,null,null,{"$f":"IF(OR(SUMPRODUCT(--(E792=$O$1:$O$541))>0,E792=0),0,1)","v":0}]
["001.100.2610.6531.500.000.0000","TELECOMMUNICATIONS",83062.720000000001,null,"001",null,"001","100","2610","6531","500",null,"500",null,null,null,null,null,null,null,null,null,null,null,null,null,{"$f":"IF(OR(SUMPRODUCT(--(E793=$O$1:$O$541))>0,E793=0),0,1)","v":0}]
["001.100.2610.6531.503.000.0000","TELECOMMUNICATIONS",960.12,null,"001",null,"001","100","2610","6531","503",500,500,null,null,null,null,null,null,null,null,null,null,null,null,null,{"$f":"IF(OR(SUMPRODUCT(--(E794=$O$1:$O$541))>0,E794=0),0,1)","v":0}]
["001.100.2610.6531.504.000.0000","TELECOMMUNICATIONS",4466.0200000000004,null,"001",null,"001","100","2610","6531","504",500,500,null,null,null,null,null,null,null,null,null,null,null,null,null,{"$f":"IF(OR(SUMPRODUCT(--(E795=$O$1:$O$541))>0,E795=0),0,1)","v":0}]
["001.100.2610.6621.101.000.0000","NATURAL GAS",446.23,null,"001",null,"001","100","2610","6621","101",null,"101",null,null,null,null,null,null,null,null,null,null,null,null,null,{"$f":"IF(OR(SUMPRODUCT(--(E796=$O$1:$O$541))>0,E796=0),0,1)","v":0}]
["001.100.2610.6621.104.000.0000","NATURAL GAS",1745.38,null,"001",null,"001","100","2610","6621","104",null,"104",null,null,null,null,null,null,null,null,null,null,null,null,null,{"$f":"IF(OR(SUMPRODUCT(--(E797=$O$1:$O$541))>0,E797=0),0,1)","v":0}]
["001.100.2610.6622.101.000.0000","ELECTRICITY",94011.15,null,"001",null,"001","100","2610","6622","101",null,"101",null,null,null,null,null,null,null,null,null,null,null,null,null,{"$f":"IF(OR(SUMPRODUCT(--(E798=$O$1:$O$541))>0,E798=0),0,1)","v":0}]
["001.100.2610.6622.102.000.0000","ELECTRICITY",106448.54,null,"001",null,"001","100","2610","6622","102",null,"102",null,null,null,null,null,null,null,null,null,null,null,null,null,{"$f":"IF(OR(SUMPRODUCT(--(E799=$O$1:$O$541))>0,E799=0),0,1)","v":0}]
["001.100.2610.6622.103.000.0000","ELECTRICITY",81370.600000000006,null,"001",null,"001","100","2610","6622","103",null,"103",null,null,null,null,null,null,null,null,null,null,null,null,null,{"$f":"IF(OR(SUMPRODUCT(--(E800=$O$1:$O$541))>0,E800=0),0,1)","v":0}]
["001.100.2610.6622.104.000.0000","ELECTRICITY",103753.21,null,"001",null,"001","100","2610","6622","104",null,"104",null,null,null,null,null,null,null,null,null,null,null,null,null,{"$f":"IF(OR(SUMPRODUCT(--(E801=$O$1:$O$541))>0,E801=0),0,1)","v":0}]
["001.100.2610.6622.105.000.0000","ELECTRICITY",118683.94,null,"001",null,"001","100","2610","6622","105",null,"105",null,null,null,null,null,null,null,null,null,null,null,null,null,{"$f":"IF(OR(SUMPRODUCT(--(E802=$O$1:$O$541))>0,E802=0),0,1)","v":0}]
["001.100.2610.6622.106.000.0000","ELECTRICITY",145061.41,null,"001",null,"001","100","2610","6622","106",null,"106",null,null,null,null,null,null,null,null,null,null,null,null,null,{"$f":"IF(OR(SUMPRODUCT(--(E803=$O$1:$O$541))>0,E803=0),0,1)","v":0}]
["001.100.2610.6622.107.000.0000","ELECTRICITY",149606.96,null,"001",null,"001","100","2610","6622","107",null,"107",null,null,null,null,null,null,null,null,null,null,null,null,null,{"$f":"IF(OR(SUMPRODUCT(--(E804=$O$1:$O$541))>0,E804=0),0,1)","v":0}]
["001.100.2610.6622.500.000.0000","ELECTRICITY",26451.66,null,"001",null,"001","100","2610","6622","500",null,"500",null,null,null,null,null,null,null,null,null,null,null,null,null,{"$f":"IF(OR(SUMPRODUCT(--(E805=$O$1:$O$541))>0,E805=0),0,1)","v":0}]
["001.100.2620.6150.500.000.0000","CLASSIFIED SALARIES",199638.22,null,"001",null,"001","100","2620","6150","500",null,"500",null,null,null,null,null,null,null,null,null,null,null,null,null,{"$f":"IF(OR(SUMPRODUCT(--(E806=$O$1:$O$541))>0,E806=0),0,1)","v":0}]
["001.100.2620.6155.500.000.0000","CLASSIFIED TEMPORARY",5716.66,null,"001",null,"001","100","2620","6155","500",null,"500",null,null,null,null,null,null,null,null,null,null,null,null,null,{"$f":"IF(OR(SUMPRODUCT(--(E807=$O$1:$O$541))>0,E807=0),0,1)","v":0}]
["001.100.2620.6210.500.000.0000","EMPLOYEE INSURANCE",25543.23,null,"001",null,"001","100","2620","6210","500",null,"500",null,null,null,null,null,null,null,null,null,null,null,null,null,{"$f":"IF(OR(SUMPRODUCT(--(E808=$O$1:$O$541))>0,E808=0),0,1)","v":0}]
["001.100.2620.6221.500.000.0000","SOCIAL SECURITY - OASDI",12463.97,null,"001",null,"001","100","2620","6221","500",null,"500",null,null,null,null,null,null,null,null,null,null,null,null,null,{"$f":"IF(OR(SUMPRODUCT(--(E809=$O$1:$O$541))>0,E809=0),0,1)","v":0}]
["001.100.2620.6222.500.000.0000","MEDICARE - HOSPITAL INSURANCE",2914.9,null,"001",null,"001","100","2620","6222","500",null,"500",null,null,null,null,null,null,null,null,null,null,null,null,null,{"$f":"IF(OR(SUMPRODUCT(--(E810=$O$1:$O$541))>0,E810=0),0,1)","v":0}]
["001.100.2620.6231.500.000.0000","STATE RETIREMENT",24870.16,null,"001",null,"001","100","2620","6231","500",null,"500",null,null,null,null,null,null,null,null,null,null,null,null,null,{"$f":"IF(OR(SUMPRODUCT(--(E811=$O$1:$O$541))>0,E811=0),0,1)","v":0}]
["001.100.2620.6232.500.000.0000","LONG TERM DISABILITY",307.36,null,"001",null,"001","100","2620","6232","500",null,"500",null,null,null,null,null,null,null,null,null,null,null,null,null,{"$f":"IF(OR(SUMPRODUCT(--(E812=$O$1:$O$541))>0,E812=0),0,1)","v":0}]
["001.100.2620.6260.500.000.0000","WORKERS' COMPENSATION",5398.08,null,"001",null,"001","100","2620","6260","500",null,"500",null,null,null,null,null,null,null,null,null,null,null,null,null,{"$f":"IF(OR(SUMPRODUCT(--(E813=$O$1:$O$541))>0,E813=0),0,1)","v":0}]
["001.100.2620.6290.500.000.0000","OTHER EMPLOYEE BENEFITS without ASRS",18.88,null,"001",null,"001","100","2620","6290","500",null,"500",null,null,null,null,null,null,null,null,null,null,null,null,null,{"$f":"IF(OR(SUMPRODUCT(--(E814=$O$1:$O$541))>0,E814=0),0,1)","v":0}]
["001.100.2620.6300.101.000.0000","PURCHASED PROFESSIONAL AND TECHNICAL SERVICES",16700.57,null,"001",null,"001","100","2620","6300","101",null,"101",null,null,null,null,null,null,null,null,null,null,null,null,null,{"$f":"IF(OR(SUMPRODUCT(--(E815=$O$1:$O$541))>0,E815=0),0,1)","v":0}]
["001.100.2620.6300.102.000.0000","PURCHASED PROFESSIONAL AND TECHNICAL SERVICES",30037,null,"001",null,"001","100","2620","6300","102",null,"102",null,null,null,null,null,null,null,null,null,null,null,null,null,{"$f":"IF(OR(SUMPRODUCT(--(E816=$O$1:$O$541))>0,E816=0),0,1)","v":0}]
["001.100.2620.6300.103.000.0000","PURCHASED PROFESSIONAL AND TECHNICAL SERVICES",10310.209999999999,null,"001",null,"001","100","2620","6300","103",null,"103",null,null,null,null,null,null,null,null,null,null,null,null,null,{"$f":"IF(OR(SUMPRODUCT(--(E817=$O$1:$O$541))>0,E817=0),0,1)","v":0}]
["001.100.2620.6300.104.000.0000","PURCHASED PROFESSIONAL AND TECHNICAL SERVICES",24103.1,null,"001",null,"001","100","2620","6300","104",null,"104",null,null,null,null,null,null,null,null,null,null,null,null,null,{"$f":"IF(OR(SUMPRODUCT(--(E818=$O$1:$O$541))>0,E818=0),0,1)","v":0}]
["001.100.2620.6300.105.000.0000","PURCHASED PROFESSIONAL AND TECHNICAL SERVICES",7275.31,null,"001",null,"001","100","2620","6300","105",null,"105",null,null,null,null,null,null,null,null,null,null,null,null,null,{"$f":"IF(OR(SUMPRODUCT(--(E819=$O$1:$O$541))>0,E819=0),0,1)","v":0}]
["001.100.2620.6300.106.000.0000","PURCHASED PROFESSIONAL AND TECHNICAL SERVICES",24394.1,null,"001",null,"001","100","2620","6300","106",null,"106",null,null,null,null,null,null,null,null,null,null,null,null,null,{"$f":"IF(OR(SUMPRODUCT(--(E820=$O$1:$O$541))>0,E820=0),0,1)","v":0}]
["001.100.2620.6300.107.000.0000","PURCHASED PROFESSIONAL AND TECHNICAL SERVICES",3947.74,null,"001",null,"001","100","2620","6300","107",null,"107",null,null,null,null,null,null,null,null,null,null,null,null,null,{"$f":"IF(OR(SUMPRODUCT(--(E821=$O$1:$O$541))>0,E821=0),0,1)","v":0}]
["001.100.2620.6300.500.000.0000","PURCHASED PROFESSIONAL AND TECHNICAL SERVICES",133689.59,null,"001",null,"001","100","2620","6300","500",null,"500",null,null,null,null,null,null,null,null,null,null,null,null,null,{"$f":"IF(OR(SUMPRODUCT(--(E822=$O$1:$O$541))>0,E822=0),0,1)","v":0}]
["001.100.2620.6340.105.000.0000","TECHNICAL SERVICES",1776.99,null,"001",null,"001","100","2620","6340","105",null,"105",null,null,null,null,null,null,null,null,null,null,null,null,null,{"$f":"IF(OR(SUMPRODUCT(--(E823=$O$1:$O$541))>0,E823=0),0,1)","v":0}]
["001.100.2620.6411.101.000.0000","WATER/SEWAGE",1620,null,"001",null,"001","100","2620","6411","101",null,"101",null,null,null,null,null,null,null,null,null,null,null,null,null,{"$f":"IF(OR(SUMPRODUCT(--(E824=$O$1:$O$541))>0,E824=0),0,1)","v":0}]
["001.100.2620.6411.102.000.0000","WATER/SEWAGE",11157.42,null,"001",null,"001","100","2620","6411","102",null,"102",null,null,null,null,null,null,null,null,null,null,null,null,null,{"$f":"IF(OR(SUMPRODUCT(--(E825=$O$1:$O$541))>0,E825=0),0,1)","v":0}]
["001.100.2620.6411.103.000.0000","WATER/SEWAGE",4555.57,null,"001",null,"001","100","2620","6411","103",null,"103",null,null,null,null,null,null,null,null,null,null,null,null,null,{"$f":"IF(OR(SUMPRODUCT(--(E826=$O$1:$O$541))>0,E826=0),0,1)","v":0}]
["001.100.2620.6411.104.000.0000","WATER/SEWAGE",11360.37,null,"001",null,"001","100","2620","6411","104",null,"104",null,null,null,null,null,null,null,null,null,null,null,null,null,{"$f":"IF(OR(SUMPRODUCT(--(E827=$O$1:$O$541))>0,E827=0),0,1)","v":0}]
["001.100.2620.6411.105.000.0000","WATER/SEWAGE",149798.74,null,"001",null,"001","100","2620","6411","105",null,"105",null,null,null,null,null,null,null,null,null,null,null,null,null,{"$f":"IF(OR(SUMPRODUCT(--(E828=$O$1:$O$541))>0,E828=0),0,1)","v":0}]
["001.100.2620.6411.106.000.0000","WATER/SEWAGE",52621.96,null,"001",null,"001","100","2620","6411","106",null,"106",null,null,null,null,null,null,null,null,null,null,null,null,null,{"$f":"IF(OR(SUMPRODUCT(--(E829=$O$1:$O$541))>0,E829=0),0,1)","v":0}]
["001.100.2620.6411.107.000.0000","WATER/SEWAGE",57142.78,null,"001",null,"001","100","2620","6411","107",null,"107",null,null,null,null,null,null,null,null,null,null,null,null,null,{"$f":"IF(OR(SUMPRODUCT(--(E830=$O$1:$O$541))>0,E830=0),0,1)","v":0}]
["001.100.2620.6420.500.000.0000","CLEANING SERVICES",4111.95,null,"001",null,"001","100","2620","6420","500",null,"500",null,null,null,null,null,null,null,null,null,null,null,null,null,{"$f":"IF(OR(SUMPRODUCT(--(E831=$O$1:$O$541))>0,E831=0),0,1)","v":0}]
["001.100.2620.6421.101.000.0000","DISPOSAL SERVICES",2955.69,null,"001",null,"001","100","2620","6421","101",null,"101",null,null,null,null,null,null,null,null,null,null,null,null,null,{"$f":"IF(OR(SUMPRODUCT(--(E832=$O$1:$O$541))>0,E832=0),0,1)","v":0}]
["001.100.2620.6421.102.000.0000","DISPOSAL SERVICES",3464.99,null,"001",null,"001","100","2620","6421","102",null,"102",null,null,null,null,null,null,null,null,null,null,null,null,null,{"$f":"IF(OR(SUMPRODUCT(--(E833=$O$1:$O$541))>0,E833=0),0,1)","v":0}]
["001.100.2620.6421.103.000.0000","DISPOSAL SERVICES",3507.85,null,{"$f":"IF(AND(F834<>\"\",F834=G834),\"ERROR\",IF(AND(F834<>\"\",F834<>G834),F834,G834))","v":"001"},null,"001","100","2620","6421","103",null,{"$f":"IF(L834<>\"\",L834,K834)","v":"103"},null,null,null,null,null,null,null,null,null,null,null,null,null,{"$f":"IF(OR(SUMPRODUCT(--(E834=$O$1:$O$541))>0,E834=0),0,1)","v":0}]
["001.100.2620.6421.104.000.0000","DISPOSAL SERVICES",3634.76,null,"001",null,"001","100","2620","6421","104",null,"104",null,null,null,null,null,null,null,null,null,null,null,null,null,{"$f":"IF(OR(SUMPRODUCT(--(E835=$O$1:$O$541))>0,E835=0),0,1)","v":0}]
["001.100.2620.6421.105.000.0000","DISPOSAL SERVICES",5402.99,null,"001",null,"001","100","2620","6421","105",null,"105",null,null,null,null,null,null,null,null,null,null,null,null,null,{"$f":"IF(OR(SUMPRODUCT(--(E836=$O$1:$O$541))>0,E836=0),0,1)","v":0}]
["001.100.2620.6421.106.000.0000","DISPOSAL SERVICES",3043.79,null,"001",null,"001","100","2620","6421","106",null,"106",null,null,null,null,null,null,null,null,null,null,null,null,null,{"$f":"IF(OR(SUMPRODUCT(--(E837=$O$1:$O$541))>0,E837=0),0,1)","v":0}]
["001.100.2620.6421.107.000.0000","DISPOSAL SERVICES",3883.33,null,"001",null,"001","100","2620","6421","107",null,"107",null,null,null,null,null,null,null,null,null,null,null,null,null,{"$f":"IF(OR(SUMPRODUCT(--(E838=$O$1:$O$541))>0,E838=0),0,1)","v":0}]
["001.100.2620.6421.500.000.0000","DISPOSAL SERVICES",3225.56,null,"001",null,"001","100","2620","6421","500",null,"500",null,null,null,null,null,null,null,null,null,null,null,null,null,{"$f":"IF(OR(SUMPRODUCT(--(E839=$O$1:$O$541))>0,E839=0),0,1)","v":0}]
["001.100.2620.6431.101.000.0000","NONTECHNOLOGY-RELATED REPAIRS AND MAINTENANCE",4816.33,null,"001",null,"001","100","2620","6431","101",null,"101",null,null,null,null,null,null,null,null,null,null,null,null,null,{"$f":"IF(OR(SUMPRODUCT(--(E840=$O$1:$O$541))>0,E840=0),0,1)","v":0}]
["001.100.2620.6431.102.000.0000","NONTECHNOLOGY-RELATED REPAIRS AND MAINTENANCE",97757.29,null,"001",null,"001","100","2620","6431","102",null,"102",null,null,null,null,null,null,null,null,null,null,null,null,null,{"$f":"IF(OR(SUMPRODUCT(--(E841=$O$1:$O$541))>0,E841=0),0,1)","v":0}]
["001.100.2620.6431.103.000.0000","NONTECHNOLOGY-RELATED REPAIRS AND MAINTENANCE",9262.4599999999991,null,"001",null,"001","100","2620","6431","103",null,"103",null,null,null,null,null,null,null,null,null,null,null,null,null,{"$f":"IF(OR(SUMPRODUCT(--(E842=$O$1:$O$541))>0,E842=0),0,1)","v":0}]
["001.100.2620.6431.104.000.0000","NONTECHNOLOGY-RELATED REPAIRS AND MAINTENANCE",106878.71,null,"001",null,"001","100","2620","6431","104",null,"104",null,null,null,null,null,null,null,null,null,null,null,null,null,{"$f":"IF(OR(SUMPRODUCT(--(E843=$O$1:$O$541))>0,E843=0),0,1)","v":0}]
["001.100.2620.6431.105.000.0000","NONTECHNOLOGY-RELATED REPAIRS AND MAINTENANCE",11988.86,null,"001",null,"001","100","2620","6431","105",null,"105",null,null,null,null,null,null,null,null,null,null,null,null,null,{"$f":"IF(OR(SUMPRODUCT(--(E844=$O$1:$O$541))>0,E844=0),0,1)","v":0}]
["001.100.2620.6431.106.000.0000","NONTECHNOLOGY-RELATED REPAIRS AND MAINTENANCE",5332.33,null,"001",null,"001","100","2620","6431","106",null,"106",null,null,null,null,null,null,null,null,null,null,null,null,null,{"$f":"IF(OR(SUMPRODUCT(--(E845=$O$1:$O$541))>0,E845=0),0,1)","v":0}]
["001.100.2620.6431.107.000.0000","NONTECHNOLOGY-RELATED REPAIRS AND MAINTENANCE",126518.93,null,"001",null,"001","100","2620","6431","107",null,"107",null,null,null,null,null,null,null,null,null,null,null,null,null,{"$f":"IF(OR(SUMPRODUCT(--(E846=$O$1:$O$541))>0,E846=0),0,1)","v":0}]
["001.100.2620.6431.500.000.0000","NONTECHNOLOGY-RELATED REPAIRS AND MAINTENANCE",74988.899999999994,null,"001",null,"001","100","2620","6431","500",null,"500",null,null,null,null,null,null,null,null,null,null,null,null,null,{"$f":"IF(OR(SUMPRODUCT(--(E847=$O$1:$O$541))>0,E847=0),0,1)","v":0}]
["001.100.2620.6610.101.000.0000","GENERAL SUPPLIES",7412.44,null,"001",null,"001","100","2620","6610","101",null,"101",null,null,null,null,null,null,null,null,null,null,null,null,null,{"$f":"IF(OR(SUMPRODUCT(--(E848=$O$1:$O$541))>0,E848=0),0,1)","v":0}]
["001.100.2620.6610.102.000.0000","GENERAL SUPPLIES",15924.85,null,"001",null,"001","100","2620","6610","102",null,"102",null,null,null,null,null,null,null,null,null,null,null,null,null,{"$f":"IF(OR(SUMPRODUCT(--(E849=$O$1:$O$541))>0,E849=0),0,1)","v":0}]
["001.100.2620.6610.103.000.0000","GENERAL SUPPLIES",22930.12,null,"001",null,"001","100","2620","6610","103",null,"103",null,null,null,null,null,null,null,null,null,null,null,null,null,{"$f":"IF(OR(SUMPRODUCT(--(E850=$O$1:$O$541))>0,E850=0),0,1)","v":0}]
["001.100.2620.6610.104.000.0000","GENERAL SUPPLIES",13408.47,null,"001",null,"001","100","2620","6610","104",null,"104",null,null,null,null,null,null,null,null,null,null,null,null,null,{"$f":"IF(OR(SUMPRODUCT(--(E851=$O$1:$O$541))>0,E851=0),0,1)","v":0}]
["001.100.2620.6610.104.704.0000","GENERAL SUPPLIES",490.44,null,"001",null,"001","100","2620","6610","104",null,"104",null,null,null,null,null,null,null,null,null,null,null,null,null,{"$f":"IF(OR(SUMPRODUCT(--(E852=$O$1:$O$541))>0,E852=0),0,1)","v":0}]
["001.100.2620.6610.105.000.0000","GENERAL SUPPLIES",12593.6,null,"001",null,"001","100","2620","6610","105",null,"105",null,null,null,null,null,null,null,null,null,null,null,null,null,{"$f":"IF(OR(SUMPRODUCT(--(E853=$O$1:$O$541))>0,E853=0),0,1)","v":0}]
["001.100.2620.6610.106.000.0000","GENERAL SUPPLIES",7557.13,null,"001",null,"001","100","2620","6610","106",null,"106",null,null,null,null,null,null,null,null,null,null,null,null,null,{"$f":"IF(OR(SUMPRODUCT(--(E854=$O$1:$O$541))>0,E854=0),0,1)","v":0}]
["001.100.2620.6610.107.000.0000","GENERAL SUPPLIES",4990.45,null,"001",null,"001","100","2620","6610","107",null,"107",null,null,null,null,null,null,null,null,null,null,null,null,null,{"$f":"IF(OR(SUMPRODUCT(--(E855=$O$1:$O$541))>0,E855=0),0,1)","v":0}]
["001.100.2620.6610.500.000.0000","GENERAL SUPPLIES",198781.91,null,"001",null,"001","100","2620","6610","500",null,"500",null,null,null,null,null,null,null,null,null,null,null,null,null,{"$f":"IF(OR(SUMPRODUCT(--(E856=$O$1:$O$541))>0,E856=0),0,1)","v":0}]
["001.100.2620.6621.101.000.0000","NATURAL GAS",-29.19,null,"001",null,"001","100","2620","6621","101",null,"101",null,null,null,null,null,null,null,null,null,null,null,null,null,{"$f":"IF(OR(SUMPRODUCT(--(E857=$O$1:$O$541))>0,E857=0),0,1)","v":0}]
["001.100.2630.6150.500.000.0000","CLASSIFIED SALARIES",21449.71,null,"001",null,"001","100","2630","6150","500",null,"500",null,null,null,null,null,null,null,null,null,null,null,null,null,{"$f":"IF(OR(SUMPRODUCT(--(E858=$O$1:$O$541))>0,E858=0),0,1)","v":0}]
["001.100.2630.6210.500.000.0000","EMPLOYEE INSURANCE",681.34,null,"001",null,"001","100","2630","6210","500",null,"500",null,null,null,null,null,null,null,null,null,null,null,null,null,{"$f":"IF(OR(SUMPRODUCT(--(E859=$O$1:$O$541))>0,E859=0),0,1)","v":0}]
["001.100.2630.6221.500.000.0000","SOCIAL SECURITY - OASDI",1319.91,null,"001",null,"001","100","2630","6221","500",null,"500",null,null,null,null,null,null,null,null,null,null,null,null,null,{"$f":"IF(OR(SUMPRODUCT(--(E860=$O$1:$O$541))>0,E860=0),0,1)","v":0}]
["001.100.2630.6222.500.000.0000","MEDICARE - HOSPITAL INSURANCE",308.7,null,"001",null,"001","100","2630","6222","500",null,"500",null,null,null,null,null,null,null,null,null,null,null,null,null,{"$f":"IF(OR(SUMPRODUCT(--(E861=$O$1:$O$541))>0,E861=0),0,1)","v":0}]
["001.100.2630.6231.500.000.0000","STATE RETIREMENT",2445.52,null,"001",null,"001","100","2630","6231","500",null,"500",null,null,null,null,null,null,null,null,null,null,null,null,null,{"$f":"IF(OR(SUMPRODUCT(--(E862=$O$1:$O$541))>0,E862=0),0,1)","v":0}]
["001.100.2630.6232.500.000.0000","LONG TERM DISABILITY",30.22,null,"001",null,"001","100","2630","6232","500",null,"500",null,null,null,null,null,null,null,null,null,null,null,null,null,{"$f":"IF(OR(SUMPRODUCT(--(E863=$O$1:$O$541))>0,E863=0),0,1)","v":0}]
["001.100.2630.6260.500.000.0000","WORKERS' COMPENSATION",557.88,null,"001",null,"001","100","2630","6260","500",null,"500",null,null,null,null,null,null,null,null,null,null,null,null,null,{"$f":"IF(OR(SUMPRODUCT(--(E864=$O$1:$O$541))>0,E864=0),0,1)","v":0}]
["001.100.2630.6300.101.000.0000","PURCHASED PROFESSIONAL AND TECHNICAL SERVICES",7122.38,null,"001",null,"001","100","2630","6300","101",null,"101",null,null,null,null,null,null,null,null,null,null,null,null,null,{"$f":"IF(OR(SUMPRODUCT(--(E865=$O$1:$O$541))>0,E865=0),0,1)","v":0}]
["001.100.2630.6300.102.000.0000","PURCHASED PROFESSIONAL AND TECHNICAL SERVICES",13870.67,null,"001",null,"001","100","2630","6300","102",null,"102",null,null,null,null,null,null,null,null,null,null,null,null,null,{"$f":"IF(OR(SUMPRODUCT(--(E866=$O$1:$O$541))>0,E866=0),0,1)","v":0}]
["001.100.2630.6300.103.000.0000","PURCHASED PROFESSIONAL AND TECHNICAL SERVICES",9602.17,null,"001",null,"001","100","2630","6300","103",null,"103",null,null,null,null,null,null,null,null,null,null,null,null,null,{"$f":"IF(OR(SUMPRODUCT(--(E867=$O$1:$O$541))>0,E867=0),0,1)","v":0}]
["001.100.2630.6300.105.000.0000","PURCHASED PROFESSIONAL AND TECHNICAL SERVICES",5585,null,"001",null,"001","100","2630","6300","105",null,"105",null,null,null,null,null,null,null,null,null,null,null,null,null,{"$f":"IF(OR(SUMPRODUCT(--(E868=$O$1:$O$541))>0,E868=0),0,1)","v":0}]
["001.100.2630.6300.106.000.0000","PURCHASED PROFESSIONAL AND TECHNICAL SERVICES",8745.23,null,"001",null,"001","100","2630","6300","106",null,"106",null,null,null,null,null,null,null,null,null,null,null,null,null,{"$f":"IF(OR(SUMPRODUCT(--(E869=$O$1:$O$541))>0,E869=0),0,1)","v":0}]
["001.100.2630.6300.107.000.0000","PURCHASED PROFESSIONAL AND TECHNICAL SERVICES",185,null,"001",null,"001","100","2630","6300","107",null,"107",null,null,null,null,null,null,null,null,null,null,null,null,null,{"$f":"IF(OR(SUMPRODUCT(--(E870=$O$1:$O$541))>0,E870=0),0,1)","v":0}]
["001.100.2630.6300.500.000.0000","PURCHASED PROFESSIONAL AND TECHNICAL SERVICES",439.65,null,"001",null,"001","100","2630","6300","500",null,"500",null,null,null,null,null,null,null,null,null,null,null,null,null,{"$f":"IF(OR(SUMPRODUCT(--(E871=$O$1:$O$541))>0,E871=0),0,1)","v":0}]
["001.100.2630.6411.102.000.0000","WATER/SEWAGE",28726.03,null,"001",null,"001","100","2630","6411","102",null,"102",null,null,null,null,null,null,null,null,null,null,null,null,null,{"$f":"IF(OR(SUMPRODUCT(--(E872=$O$1:$O$541))>0,E872=0),0,1)","v":0}]
["001.100.2630.6411.104.000.0000","WATER/SEWAGE",16173.7,null,"001",null,"001","100","2630","6411","104",null,"104",null,null,null,null,null,null,null,null,null,null,null,null,null,{"$f":"IF(OR(SUMPRODUCT(--(E873=$O$1:$O$541))>0,E873=0),0,1)","v":0}]
["001.100.2630.6431.101.000.0000","NONTECHNOLOGY-RELATED REPAIRS AND MAINTENANCE",38489.279999999999,null,"001",null,"001","100","2630","6431","101",null,"101",null,null,null,null,null,null,null,null,null,null,null,null,null,{"$f":"IF(OR(SUMPRODUCT(--(E874=$O$1:$O$541))>0,E874=0),0,1)","v":0}]
["001.100.2630.6431.102.000.0000","NONTECHNOLOGY-RELATED REPAIRS AND MAINTENANCE",65007.21,null,"001",null,"001","100","2630","6431","102",null,"102",null,null,null,null,null,null,null,null,null,null,null,null,null,{"$f":"IF(OR(SUMPRODUCT(--(E875=$O$1:$O$541))>0,E875=0),0,1)","v":0}]
["001.100.2630.6431.103.000.0000","NONTECHNOLOGY-RELATED REPAIRS AND MAINTENANCE",51955.8,null,"001",null,"001","100","2630","6431","103",null,"103",null,null,null,null,null,null,null,null,null,null,null,null,null,{"$f":"IF(OR(SUMPRODUCT(--(E876=$O$1:$O$541))>0,E876=0),0,1)","v":0}]
["001.100.2630.6431.104.000.0000","NONTECHNOLOGY-RELATED REPAIRS AND MAINTENANCE",46276.2,null,"001",null,"001","100","2630","6431","104",null,"104",null,null,null,null,null,null,null,null,null,null,null,null,null,{"$f":"IF(OR(SUMPRODUCT(--(E877=$O$1:$O$541))>0,E877=0),0,1)","v":0}]
["001.100.2630.6431.105.000.0000","NONTECHNOLOGY-RELATED REPAIRS AND MAINTENANCE",51534.239999999998,null,"001",null,"001","100","2630","6431","105",null,"105",null,null,null,null,null,null,null,null,null,null,null,null,null,{"$f":"IF(OR(SUMPRODUCT(--(E878=$O$1:$O$541))>0,E878=0),0,1)","v":0}]
["001.100.2630.6431.106.000.0000","NONTECHNOLOGY-RELATED REPAIRS AND MAINTENANCE",62913.24,null,"001",null,"001","100","2630","6431","106",null,"106",null,null,null,null,null,null,null,null,null,null,null,null,null,{"$f":"IF(OR(SUMPRODUCT(--(E879=$O$1:$O$541))>0,E879=0),0,1)","v":0}]
["001.100.2630.6431.107.000.0000","NONTECHNOLOGY-RELATED REPAIRS AND MAINTENANCE",79083.64,null,"001",null,"001","100","2630","6431","107",null,"107",null,null,null,null,null,null,null,null,null,null,null,null,null,{"$f":"IF(OR(SUMPRODUCT(--(E880=$O$1:$O$541))>0,E880=0),0,1)","v":0}]
["001.100.2630.6431.500.000.0000","NONTECHNOLOGY-RELATED REPAIRS AND MAINTENANCE",15484,null,"001",null,"001","100","2630","6431","500",null,"500",null,null,null,null,null,null,null,null,null,null,null,null,null,{"$f":"IF(OR(SUMPRODUCT(--(E881=$O$1:$O$541))>0,E881=0),0,1)","v":0}]
["001.100.2630.6610.101.000.0000","GENERAL SUPPLIES",2578.48,null,"001",null,"001","100","2630","6610","101",null,"101",null,null,null,null,null,null,null,null,null,null,null,null,null,{"$f":"IF(OR(SUMPRODUCT(--(E882=$O$1:$O$541))>0,E882=0),0,1)","v":0}]
["001.100.2630.6610.102.000.0000","GENERAL SUPPLIES",1507.12,null,"001",null,"001","100","2630","6610","102",null,"102",null,null,null,null,null,null,null,null,null,null,null,null,null,{"$f":"IF(OR(SUMPRODUCT(--(E883=$O$1:$O$541))>0,E883=0),0,1)","v":0}]
["001.100.2630.6610.103.000.0000","GENERAL SUPPLIES",7852.3,null,"001",null,"001","100","2630","6610","103",null,"103",null,null,null,null,null,null,null,null,null,null,null,null,null,{"$f":"IF(OR(SUMPRODUCT(--(E884=$O$1:$O$541))>0,E884=0),0,1)","v":0}]
["001.100.2630.6610.104.000.0000","GENERAL SUPPLIES",4151.76,null,"001",null,"001","100","2630","6610","104",null,"104",null,null,null,null,null,null,null,null,null,null,null,null,null,{"$f":"IF(OR(SUMPRODUCT(--(E885=$O$1:$O$541))>0,E885=0),0,1)","v":0}]
["001.100.2630.6610.105.000.0000","GENERAL SUPPLIES",7135.18,null,"001",null,"001","100","2630","6610","105",null,"105",null,null,null,null,null,null,null,null,null,null,null,null,null,{"$f":"IF(OR(SUMPRODUCT(--(E886=$O$1:$O$541))>0,E886=0),0,1)","v":0}]
["001.100.2630.6610.106.000.0000","GENERAL SUPPLIES",4588.32,null,"001",null,"001","100","2630","6610","106",null,"106",null,null,null,null,null,null,null,null,null,null,null,null,null,{"$f":"IF(OR(SUMPRODUCT(--(E887=$O$1:$O$541))>0,E887=0),0,1)","v":0}]
["001.100.2630.6610.107.000.0000","GENERAL SUPPLIES",789.99,null,"001",null,"001","100","2630","6610","107",null,"107",null,null,null,null,null,null,null,null,null,null,null,null,null,{"$f":"IF(OR(SUMPRODUCT(--(E888=$O$1:$O$541))>0,E888=0),0,1)","v":0}]
["001.100.2630.6610.500.000.0000","GENERAL SUPPLIES",12289.07,null,"001",null,"001","100","2630","6610","500",null,"500",null,null,null,null,null,null,null,null,null,null,null,null,null,{"$f":"IF(OR(SUMPRODUCT(--(E889=$O$1:$O$541))>0,E889=0),0,1)","v":0}]
["001.100.2640.6431.101.000.0000","NONTECHNOLOGY-RELATED REPAIRS AND MAINTENANCE",74871.48,null,"001",null,"001","100","2640","6431","101",null,"101",null,null,null,null,null,null,null,null,null,null,null,null,null,{"$f":"IF(OR(SUMPRODUCT(--(E890=$O$1:$O$541))>0,E890=0),0,1)","v":0}]
["001.100.2640.6431.103.000.0000","NONTECHNOLOGY-RELATED REPAIRS AND MAINTENANCE",103021.6,null,"001",null,"001","100","2640","6431","103",null,"103",null,null,null,null,null,null,null,null,null,null,null,null,null,{"$f":"IF(OR(SUMPRODUCT(--(E891=$O$1:$O$541))>0,E891=0),0,1)","v":0}]
["001.100.2640.6431.105.000.0000","NONTECHNOLOGY-RELATED REPAIRS AND MAINTENANCE",109023.48,null,"001",null,"001","100","2640","6431","105",null,"105",null,null,null,null,null,null,null,null,null,null,null,null,null,{"$f":"IF(OR(SUMPRODUCT(--(E892=$O$1:$O$541))>0,E892=0),0,1)","v":0}]
["001.100.2640.6431.106.000.0000","NONTECHNOLOGY-RELATED REPAIRS AND MAINTENANCE",95457.600000000006,null,"001",null,"001","100","2640","6431","106",null,"106",null,null,null,null,null,null,null,null,null,null,null,null,null,{"$f":"IF(OR(SUMPRODUCT(--(E893=$O$1:$O$541))>0,E893=0),0,1)","v":0}]
["001.100.2680.6150.500.000.0000","CLASSIFIED SALARIES",82028,null,"001",null,"001","100","2680","6150","500",null,"500",null,null,null,null,null,null,null,null,null,null,null,null,null,{"$f":"IF(OR(SUMPRODUCT(--(E894=$O$1:$O$541))>0,E894=0),0,1)","v":0}]
["001.100.2680.6210.500.000.0000","EMPLOYEE INSURANCE",5824.72,null,"001",null,"001","100","2680","6210","500",null,"500",null,null,null,null,null,null,null,null,null,null,null,null,null,{"$f":"IF(OR(SUMPRODUCT(--(E895=$O$1:$O$541))>0,E895=0),0,1)","v":0}]
["001.100.2680.6221.500.000.0000","SOCIAL SECURITY - OASDI",5066.53,null,"001",null,"001","100","2680","6221","500",null,"500",null,null,null,null,null,null,null,null,null,null,null,null,null,{"$f":"IF(OR(SUMPRODUCT(--(E896=$O$1:$O$541))>0,E896=0),0,1)","v":0}]
["001.100.2680.6222.500.000.0000","MEDICARE - HOSPITAL INSURANCE",1184.98,null,"001",null,"001","100","2680","6222","500",null,"500",null,null,null,null,null,null,null,null,null,null,null,null,null,{"$f":"IF(OR(SUMPRODUCT(--(E897=$O$1:$O$541))>0,E897=0),0,1)","v":0}]
["001.100.2680.6231.500.000.0000","STATE RETIREMENT",8194.67,null,{"$f":"IF(AND(F898<>\"\",F898=G898),\"ERROR\",IF(AND(F898<>\"\",F898<>G898),F898,G898))","v":"001"},null,"001","100","2680","6231","500",null,{"$f":"IF(L898<>\"\",L898,K898)","v":"500"},null,null,null,null,null,null,null,null,null,null,null,null,null,{"$f":"IF(OR(SUMPRODUCT(--(E898=$O$1:$O$541))>0,E898=0),0,1)","v":0}]
["001.100.2680.6260.500.000.0000","WORKERS' COMPENSATION",459.34,null,"001",null,"001","100","2680","6260","500",null,"500",null,null,null,null,null,null,null,null,null,null,null,null,null,{"$f":"IF(OR(SUMPRODUCT(--(E899=$O$1:$O$541))>0,E899=0),0,1)","v":0}]
["001.100.2680.6610.500.000.0000","GENERAL SUPPLIES",58.43,null,"001",null,"001","100","2680","6610","500",null,"500",null,null,null,null,null,null,null,null,null,null,null,null,null,{"$f":"IF(OR(SUMPRODUCT(--(E900=$O$1:$O$541))>0,E900=0),0,1)","v":0}]
["001.100.2690.6431.101.000.0000","NONTECHNOLOGY-RELATED REPAIRS AND MAINTENANCE",2510,null,"001",null,"001","100","2690","6431","101",null,"101",null,null,null,null,null,null,null,null,null,null,null,null,null,{"$f":"IF(OR(SUMPRODUCT(--(E901=$O$1:$O$541))>0,E901=0),0,1)","v":0}]
["001.100.3100.6570.500.000.0000","FOOD SERVICE MANAGEMENT",64592.08,null,"001",null,"001","100","3100","6570","500",null,"500",null,null,null,null,null,null,null,null,null,null,null,null,null,{"$f":"IF(OR(SUMPRODUCT(--(E902=$O$1:$O$541))>0,E902=0),0,1)","v":0}]
["001.100.3100.6622.101.000.0000","ELECTRICITY",43345.51,null,"001",null,"001","100","3100","6622","101",null,"101",null,null,null,null,null,null,null,null,null,null,null,null,null,{"$f":"IF(OR(SUMPRODUCT(--(E903=$O$1:$O$541))>0,E903=0),0,1)","v":0}]
["001.101.1000.6112.101.000.0000","CERTIFIED TEACHERS",127356.1,null,"001",null,"001","101","1000","6112","101",null,"101",null,null,null,null,null,null,null,null,null,null,null,null,null,{"$f":"IF(OR(SUMPRODUCT(--(E904=$O$1:$O$541))>0,E904=0),0,1)","v":0}]
["001.101.1000.6112.102.000.0000","CERTIFIED TEACHERS",218404.41,null,"001",null,"001","101","1000","6112","102",null,"102",null,null,null,null,null,null,null,null,null,null,null,null,null,{"$f":"IF(OR(SUMPRODUCT(--(E905=$O$1:$O$541))>0,E905=0),0,1)","v":0}]
["001.101.1000.6112.103.000.0000","CERTIFIED TEACHERS",190355.01,null,"001",null,"001","101","1000","6112","103",null,"103",null,null,null,null,null,null,null,null,null,null,null,null,null,{"$f":"IF(OR(SUMPRODUCT(--(E906=$O$1:$O$541))>0,E906=0),0,1)","v":0}]
["001.101.1000.6112.104.000.0000","CERTIFIED TEACHERS",225046.9,null,"001",null,"001","101","1000","6112","104",null,"104",null,null,null,null,null,null,null,null,null,null,null,null,null,{"$f":"IF(OR(SUMPRODUCT(--(E907=$O$1:$O$541))>0,E907=0),0,1)","v":0}]
["001.101.1000.6112.105.000.0000","CERTIFIED TEACHERS",298029.7,null,"001",null,"001","101","1000","6112","105",null,"105",null,null,null,null,null,null,null,null,null,null,null,null,null,{"$f":"IF(OR(SUMPRODUCT(--(E908=$O$1:$O$541))>0,E908=0),0,1)","v":0}]
["001.101.1000.6112.106.000.0000","CERTIFIED TEACHERS",284692.78999999998,null,"001",null,"001","101","1000","6112","106",null,"106",null,null,null,null,null,null,null,null,null,null,null,null,null,{"$f":"IF(OR(SUMPRODUCT(--(E909=$O$1:$O$541))>0,E909=0),0,1)","v":0}]
["001.101.1000.6112.107.000.0000","CERTIFIED TEACHERS",224242.57,null,"001",null,"001","101","1000","6112","107",null,"107",null,null,null,null,null,null,null,null,null,null,null,null,null,{"$f":"IF(OR(SUMPRODUCT(--(E910=$O$1:$O$541))>0,E910=0),0,1)","v":0}]
["001.101.1000.6114.102.000.0000","CERTIFIED OTHER",5999.99,null,"001",null,"001","101","1000","6114","102",null,"102",null,null,null,null,null,null,null,null,null,null,null,null,null,{"$f":"IF(OR(SUMPRODUCT(--(E911=$O$1:$O$541))>0,E911=0),0,1)","v":0}]
["001.101.1000.6114.103.000.0000","CERTIFIED OTHER",2453.3200000000002,null,"001",null,"001","101","1000","6114","103",null,"103",null,null,null,null,null,null,null,null,null,null,null,null,null,{"$f":"IF(OR(SUMPRODUCT(--(E912=$O$1:$O$541))>0,E912=0),0,1)","v":0}]
["001.101.1000.6114.104.000.0000","CERTIFIED OTHER",1000,null,"001",null,"001","101","1000","6114","104",null,"104",null,null,null,null,null,null,null,null,null,null,null,null,null,{"$f":"IF(OR(SUMPRODUCT(--(E913=$O$1:$O$541))>0,E913=0),0,1)","v":0}]
["001.101.1000.6114.105.000.0000","CERTIFIED OTHER",2347.9,null,"001",null,"001","101","1000","6114","105",null,"105",null,null,null,null,null,null,null,null,null,null,null,null,null,{"$f":"IF(OR(SUMPRODUCT(--(E914=$O$1:$O$541))>0,E914=0),0,1)","v":0}]
["001.101.1000.6114.106.000.0000","CERTIFIED OTHER",4922.55,null,"001",null,"001","101","1000","6114","106",null,"106",null,null,null,null,null,null,null,null,null,null,null,null,null,{"$f":"IF(OR(SUMPRODUCT(--(E915=$O$1:$O$541))>0,E915=0),0,1)","v":0}]
["001.101.1000.6114.107.000.0000","CERTIFIED OTHER",51,null,"001",null,"001","101","1000","6114","107",null,"107",null,null,null,null,null,null,null,null,null,null,null,null,null,{"$f":"IF(OR(SUMPRODUCT(--(E916=$O$1:$O$541))>0,E916=0),0,1)","v":0}]
["001.101.1000.6210.101.000.0000","EMPLOYEE INSURANCE",16934.16,null,"001",null,"001","101","1000","6210","101",null,"101",null,null,null,null,null,null,null,null,null,null,null,null,null,{"$f":"IF(OR(SUMPRODUCT(--(E917=$O$1:$O$541))>0,E917=0),0,1)","v":0}]
["001.101.1000.6210.102.000.0000","EMPLOYEE INSURANCE",31335.7,null,"001",null,"001","101","1000","6210","102",null,"102",null,null,null,null,null,null,null,null,null,null,null,null,null,{"$f":"IF(OR(SUMPRODUCT(--(E918=$O$1:$O$541))>0,E918=0),0,1)","v":0}]
["001.101.1000.6210.103.000.0000","EMPLOYEE INSURANCE",17031.46,null,"001",null,"001","101","1000","6210","103",null,"103",null,null,null,null,null,null,null,null,null,null,null,null,null,{"$f":"IF(OR(SUMPRODUCT(--(E919=$O$1:$O$541))>0,E919=0),0,1)","v":0}]
["001.101.1000.6210.104.000.0000","EMPLOYEE INSURANCE",16968.22,null,"001",null,"001","101","1000","6210","104",null,"104",null,null,null,null,null,null,null,null,null,null,null,null,null,{"$f":"IF(OR(SUMPRODUCT(--(E920=$O$1:$O$541))>0,E920=0),0,1)","v":0}]
["001.101.1000.6210.105.000.0000","EMPLOYEE INSURANCE",35573.21,null,"001",null,"001","101","1000","6210","105",null,"105",null,null,null,null,null,null,null,null,null,null,null,null,null,{"$f":"IF(OR(SUMPRODUCT(--(E921=$O$1:$O$541))>0,E921=0),0,1)","v":0}]
["001.101.1000.6210.106.000.0000","EMPLOYEE INSURANCE",34413.120000000003,null,"001",null,"001","101","1000","6210","106",null,"106",null,null,null,null,null,null,null,null,null,null,null,null,null,{"$f":"IF(OR(SUMPRODUCT(--(E922=$O$1:$O$541))>0,E922=0),0,1)","v":0}]
["001.101.1000.6210.107.000.0000","EMPLOYEE INSURANCE",32973.760000000002,null,"001",null,"001","101","1000","6210","107",null,"107",null,null,null,null,null,null,null,null,null,null,null,null,null,{"$f":"IF(OR(SUMPRODUCT(--(E923=$O$1:$O$541))>0,E923=0),0,1)","v":0}]
["001.101.1000.6221.101.000.0000","SOCIAL SECURITY - OASDI",7290.59,null,"001",null,"001","101","1000","6221","101",null,"101",null,null,null,null,null,null,null,null,null,null,null,null,null,{"$f":"IF(OR(SUMPRODUCT(--(E924=$O$1:$O$541))>0,E924=0),0,1)","v":0}]
["001.101.1000.6221.102.000.0000","SOCIAL SECURITY - OASDI",13374.71,null,"001",null,"001","101","1000","6221","102",null,"102",null,null,null,null,null,null,null,null,null,null,null,null,null,{"$f":"IF(OR(SUMPRODUCT(--(E925=$O$1:$O$541))>0,E925=0),0,1)","v":0}]
["001.101.1000.6221.103.000.0000","SOCIAL SECURITY - OASDI",11692.68,null,"001",null,"001","101","1000","6221","103",null,"103",null,null,null,null,null,null,null,null,null,null,null,null,null,{"$f":"IF(OR(SUMPRODUCT(--(E926=$O$1:$O$541))>0,E926=0),0,1)","v":0}]
["001.101.1000.6221.104.000.0000","SOCIAL SECURITY - OASDI",14012.98,null,"001",null,"001","101","1000","6221","104",null,"104",null,null,null,null,null,null,null,null,null,null,null,null,null,{"$f":"IF(OR(SUMPRODUCT(--(E927=$O$1:$O$541))>0,E927=0),0,1)","v":0}]
["001.101.1000.6221.105.000.0000","SOCIAL SECURITY - OASDI",17689.71,null,"001",null,"001","101","1000","6221","105",null,"105",null,null,null,null,null,null,null,null,null,null,null,null,null,{"$f":"IF(OR(SUMPRODUCT(--(E928=$O$1:$O$541))>0,E928=0),0,1)","v":0}]
["001.101.1000.6221.106.000.0000","SOCIAL SECURITY - OASDI",17618.53,null,"001",null,"001","101","1000","6221","106",null,"106",null,null,null,null,null,null,null,null,null,null,null,null,null,{"$f":"IF(OR(SUMPRODUCT(--(E929=$O$1:$O$541))>0,E929=0),0,1)","v":0}]
["001.101.1000.6221.107.000.0000","SOCIAL SECURITY - OASDI",13471.63,null,"001",null,"001","101","1000","6221","107",null,"107",null,null,null,null,null,null,null,null,null,null,null,null,null,{"$f":"IF(OR(SUMPRODUCT(--(E930=$O$1:$O$541))>0,E930=0),0,1)","v":0}]
["001.101.1000.6222.101.000.0000","MEDICARE - HOSPITAL INSURANCE",1705.04,null,"001",null,"001","101","1000","6222","101",null,"101",null,null,null,null,null,null,null,null,null,null,null,null,null,{"$f":"IF(OR(SUMPRODUCT(--(E931=$O$1:$O$541))>0,E931=0),0,1)","v":0}]
["001.101.1000.6222.102.000.0000","MEDICARE - HOSPITAL INSURANCE",3127.79,null,"001",null,"001","101","1000","6222","102",null,"102",null,null,null,null,null,null,null,null,null,null,null,null,null,{"$f":"IF(OR(SUMPRODUCT(--(E932=$O$1:$O$541))>0,E932=0),0,1)","v":0}]
["001.101.1000.6222.103.000.0000","MEDICARE - HOSPITAL INSURANCE",2734.46,null,"001",null,"001","101","1000","6222","103",null,"103",null,null,null,null,null,null,null,null,null,null,null,null,null,{"$f":"IF(OR(SUMPRODUCT(--(E933=$O$1:$O$541))>0,E933=0),0,1)","v":0}]
["001.101.1000.6222.104.000.0000","MEDICARE - HOSPITAL INSURANCE",3277.48,null,"001",null,"001","101","1000","6222","104",null,"104",null,null,null,null,null,null,null,null,null,null,null,null,null,{"$f":"IF(OR(SUMPRODUCT(--(E934=$O$1:$O$541))>0,E934=0),0,1)","v":0}]
["001.101.1000.6222.105.000.0000","MEDICARE - HOSPITAL INSURANCE",4136.83,null,"001",null,"001","101","1000","6222","105",null,"105",null,null,null,null,null,null,null,null,null,null,null,null,null,{"$f":"IF(OR(SUMPRODUCT(--(E935=$O$1:$O$541))>0,E935=0),0,1)","v":0}]
["001.101.1000.6222.106.000.0000","MEDICARE - HOSPITAL INSURANCE",4120.1000000000004,null,"001",null,"001","101","1000","6222","106",null,"106",null,null,null,null,null,null,null,null,null,null,null,null,null,{"$f":"IF(OR(SUMPRODUCT(--(E936=$O$1:$O$541))>0,E936=0),0,1)","v":0}]
["001.101.1000.6222.107.000.0000","MEDICARE - HOSPITAL INSURANCE",3150.63,null,"001",null,"001","101","1000","6222","107",null,"107",null,null,null,null,null,null,null,null,null,null,null,null,null,{"$f":"IF(OR(SUMPRODUCT(--(E937=$O$1:$O$541))>0,E937=0),0,1)","v":0}]
["001.101.1000.6231.101.000.0000","STATE RETIREMENT",15302.15,null,"001",null,"001","101","1000","6231","101",null,"101",null,null,null,null,null,null,null,null,null,null,null,null,null,{"$f":"IF(OR(SUMPRODUCT(--(E938=$O$1:$O$541))>0,E938=0),0,1)","v":0}]
["001.101.1000.6231.102.000.0000","STATE RETIREMENT",26785.37,null,"001",null,"001","101","1000","6231","102",null,"102",null,null,null,null,null,null,null,null,null,null,null,null,null,{"$f":"IF(OR(SUMPRODUCT(--(E939=$O$1:$O$541))>0,E939=0),0,1)","v":0}]
["001.101.1000.6231.103.000.0000","STATE RETIREMENT",23141.77,null,"001",null,"001","101","1000","6231","103",null,"103",null,null,null,null,null,null,null,null,null,null,null,null,null,{"$f":"IF(OR(SUMPRODUCT(--(E940=$O$1:$O$541))>0,E940=0),0,1)","v":0}]
["001.101.1000.6231.104.000.0000","STATE RETIREMENT",27317.22,null,"001",null,"001","101","1000","6231","104",null,"104",null,null,null,null,null,null,null,null,null,null,null,null,null,{"$f":"IF(OR(SUMPRODUCT(--(E941=$O$1:$O$541))>0,E941=0),0,1)","v":0}]
["001.101.1000.6231.105.000.0000","STATE RETIREMENT",36184.980000000003,null,"001",null,"001","101","1000","6231","105",null,"105",null,null,null,null,null,null,null,null,null,null,null,null,null,{"$f":"IF(OR(SUMPRODUCT(--(E942=$O$1:$O$541))>0,E942=0),0,1)","v":0}]
["001.101.1000.6231.106.000.0000","STATE RETIREMENT",35098.519999999997,null,"001",null,"001","101","1000","6231","106",null,"106",null,null,null,null,null,null,null,null,null,null,null,null,null,{"$f":"IF(OR(SUMPRODUCT(--(E943=$O$1:$O$541))>0,E943=0),0,1)","v":0}]
["001.101.1000.6231.107.000.0000","STATE RETIREMENT",27076.36,null,"001",null,"001","101","1000","6231","107",null,"107",null,null,null,null,null,null,null,null,null,null,null,null,null,{"$f":"IF(OR(SUMPRODUCT(--(E944=$O$1:$O$541))>0,E944=0),0,1)","v":0}]
["001.101.1000.6232.101.000.0000","LONG TERM DISABILITY",189.15,null,"001",null,"001","101","1000","6232","101",null,"101",null,null,null,null,null,null,null,null,null,null,null,null,null,{"$f":"IF(OR(SUMPRODUCT(--(E945=$O$1:$O$541))>0,E945=0),0,1)","v":0}]
["001.101.1000.6232.102.000.0000","LONG TERM DISABILITY",330.97,null,"001",null,"001","101","1000","6232","102",null,"102",null,null,null,null,null,null,null,null,null,null,null,null,null,{"$f":"IF(OR(SUMPRODUCT(--(E946=$O$1:$O$541))>0,E946=0),0,1)","v":0}]
["001.101.1000.6232.103.000.0000","LONG TERM DISABILITY",285.95999999999998,null,"001",null,"001","101","1000","6232","103",null,"103",null,null,null,null,null,null,null,null,null,null,null,null,null,{"$f":"IF(OR(SUMPRODUCT(--(E947=$O$1:$O$541))>0,E947=0),0,1)","v":0}]
["001.101.1000.6232.104.000.0000","LONG TERM DISABILITY",337.36,null,"001",null,"001","101","1000","6232","104",null,"104",null,null,null,null,null,null,null,null,null,null,null,null,null,{"$f":"IF(OR(SUMPRODUCT(--(E948=$O$1:$O$541))>0,E948=0),0,1)","v":0}]
["001.101.1000.6232.105.000.0000","LONG TERM DISABILITY",447.1,null,"001",null,"001","101","1000","6232","105",null,"105",null,null,null,null,null,null,null,null,null,null,null,null,null,{"$f":"IF(OR(SUMPRODUCT(--(E949=$O$1:$O$541))>0,E949=0),0,1)","v":0}]
["001.101.1000.6232.106.000.0000","LONG TERM DISABILITY",434.02,null,"001",null,"001","101","1000","6232","106",null,"106",null,null,null,null,null,null,null,null,null,null,null,null,null,{"$f":"IF(OR(SUMPRODUCT(--(E950=$O$1:$O$541))>0,E950=0),0,1)","v":0}]
["001.101.1000.6232.107.000.0000","LONG TERM DISABILITY",334.25,null,"001",null,"001","101","1000","6232","107",null,"107",null,null,null,null,null,null,null,null,null,null,null,null,null,{"$f":"IF(OR(SUMPRODUCT(--(E951=$O$1:$O$541))>0,E951=0),0,1)","v":0}]
["001.101.1000.6260.101.000.0000","WORKERS' COMPENSATION",705.98,null,"001",null,"001","101","1000","6260","101",null,"101",null,null,null,null,null,null,null,null,null,null,null,null,null,{"$f":"IF(OR(SUMPRODUCT(--(E952=$O$1:$O$541))>0,E952=0),0,1)","v":0}]
["001.101.1000.6260.102.000.0000","WORKERS' COMPENSATION",1235.6500000000001,null,"001",null,"001","101","1000","6260","102",null,"102",null,null,null,null,null,null,null,null,null,null,null,null,null,{"$f":"IF(OR(SUMPRODUCT(--(E953=$O$1:$O$541))>0,E953=0),0,1)","v":0}]
["001.101.1000.6260.103.000.0000","WORKERS' COMPENSATION",1072.26,null,"001",null,"001","101","1000","6260","103",null,"103",null,null,null,null,null,null,null,null,null,null,null,null,null,{"$f":"IF(OR(SUMPRODUCT(--(E954=$O$1:$O$541))>0,E954=0),0,1)","v":0}]
["001.101.1000.6260.104.000.0000","WORKERS' COMPENSATION",1265.8,null,"001",null,"001","101","1000","6260","104",null,"104",null,null,null,null,null,null,null,null,null,null,null,null,null,{"$f":"IF(OR(SUMPRODUCT(--(E955=$O$1:$O$541))>0,E955=0),0,1)","v":0}]
["001.101.1000.6260.105.000.0000","WORKERS' COMPENSATION",1674.08,null,"001",null,"001","101","1000","6260","105",null,"105",null,null,null,null,null,null,null,null,null,null,null,null,null,{"$f":"IF(OR(SUMPRODUCT(--(E956=$O$1:$O$541))>0,E956=0),0,1)","v":0}]
["001.101.1000.6260.106.000.0000","WORKERS' COMPENSATION",1621.99,null,"001",null,"001","101","1000","6260","106",null,"106",null,null,null,null,null,null,null,null,null,null,null,null,null,{"$f":"IF(OR(SUMPRODUCT(--(E957=$O$1:$O$541))>0,E957=0),0,1)","v":0}]
["001.101.1000.6260.107.000.0000","WORKERS' COMPENSATION",1248.97,null,"001",null,"001","101","1000","6260","107",null,"107",null,null,null,null,null,null,null,null,null,null,null,null,null,{"$f":"IF(OR(SUMPRODUCT(--(E958=$O$1:$O$541))>0,E958=0),0,1)","v":0}]
["001.101.1000.6290.101.000.0000","OTHER EMPLOYEE BENEFITS without ASRS",24.62,null,"001",null,"001","101","1000","6290","101",null,"101",null,null,null,null,null,null,null,null,null,null,null,null,null,{"$f":"IF(OR(SUMPRODUCT(--(E959=$O$1:$O$541))>0,E959=0),0,1)","v":0}]
["001.101.1000.6290.102.000.0000","OTHER EMPLOYEE BENEFITS without ASRS",57.07,null,"001",null,"001","101","1000","6290","102",null,"102",null,null,null,null,null,null,null,null,null,null,null,null,null,{"$f":"IF(OR(SUMPRODUCT(--(E960=$O$1:$O$541))>0,E960=0),0,1)","v":0}]
["001.101.1000.6290.103.000.0000","OTHER EMPLOYEE BENEFITS without ASRS",36.36,null,"001",null,"001","101","1000","6290","103",null,"103",null,null,null,null,null,null,null,null,null,null,null,null,null,{"$f":"IF(OR(SUMPRODUCT(--(E961=$O$1:$O$541))>0,E961=0),0,1)","v":0}]
["001.101.1000.6290.104.000.0000","OTHER EMPLOYEE BENEFITS without ASRS",8.19,null,{"$f":"IF(AND(F962<>\"\",F962=G962),\"ERROR\",IF(AND(F962<>\"\",F962<>G962),F962,G962))","v":"001"},null,"001","101","1000","6290","104",null,{"$f":"IF(L962<>\"\",L962,K962)","v":"104"},null,null,null,null,null,null,null,null,null,null,null,null,null,{"$f":"IF(OR(SUMPRODUCT(--(E962=$O$1:$O$541))>0,E962=0),0,1)","v":0}]
["001.101.1000.6290.105.000.0000","OTHER EMPLOYEE BENEFITS without ASRS",32,null,"001",null,"001","101","1000","6290","105",null,"105",null,null,null,null,null,null,null,null,null,null,null,null,null,{"$f":"IF(OR(SUMPRODUCT(--(E963=$O$1:$O$541))>0,E963=0),0,1)","v":0}]
["001.101.1000.6290.106.000.0000","OTHER EMPLOYEE BENEFITS without ASRS",57.99,null,"001",null,"001","101","1000","6290","106",null,"106",null,null,null,null,null,null,null,null,null,null,null,null,null,{"$f":"IF(OR(SUMPRODUCT(--(E964=$O$1:$O$541))>0,E964=0),0,1)","v":0}]
["001.101.1000.6290.107.000.0000","OTHER EMPLOYEE BENEFITS without ASRS",32.78,null,"001",null,"001","101","1000","6290","107",null,"107",null,null,null,null,null,null,null,null,null,null,null,null,null,{"$f":"IF(OR(SUMPRODUCT(--(E965=$O$1:$O$541))>0,E965=0),0,1)","v":0}]
["001.101.1001.6113.103.000.0000","CERTIFIED SUBSTITUTE TEACHERS",2.25,null,"001",null,"001","101","1001","6113","103",null,"103",null,null,null,null,null,null,null,null,null,null,null,null,null,{"$f":"IF(OR(SUMPRODUCT(--(E966=$O$1:$O$541))>0,E966=0),0,1)","v":0}]
["001.101.1001.6210.103.000.0000","EMPLOYEE INSURANCE",31.64,null,"001",null,"001","101","1001","6210","103",null,"103",null,null,null,null,null,null,null,null,null,null,null,null,null,{"$f":"IF(OR(SUMPRODUCT(--(E967=$O$1:$O$541))>0,E967=0),0,1)","v":0}]
["001.101.1001.6221.103.000.0000","SOCIAL SECURITY - OASDI",432.87,null,"001",null,"001","101","1001","6221","103",null,"103",null,null,null,null,null,null,null,null,null,null,null,null,null,{"$f":"IF(OR(SUMPRODUCT(--(E968=$O$1:$O$541))>0,E968=0),0,1)","v":0}]
["001.101.1001.6222.103.000.0000","MEDICARE - HOSPITAL INSURANCE",101.24,null,"001",null,"001","101","1001","6222","103",null,"103",null,null,null,null,null,null,null,null,null,null,null,null,null,{"$f":"IF(OR(SUMPRODUCT(--(E969=$O$1:$O$541))>0,E969=0),0,1)","v":0}]
["001.101.1001.6231.103.000.0000","STATE RETIREMENT",853.43,null,"001",null,"001","101","1001","6231","103",null,"103",null,null,null,null,null,null,null,null,null,null,null,null,null,{"$f":"IF(OR(SUMPRODUCT(--(E970=$O$1:$O$541))>0,E970=0),0,1)","v":0}]
["001.101.1001.6232.103.000.0000","LONG TERM DISABILITY",10.55,null,"001",null,"001","101","1001","6232","103",null,"103",null,null,null,null,null,null,null,null,null,null,null,null,null,{"$f":"IF(OR(SUMPRODUCT(--(E971=$O$1:$O$541))>0,E971=0),0,1)","v":0}]
["001.101.1001.6260.103.000.0000","WORKERS' COMPENSATION",39.369999999999997,null,"001",null,"001","101","1001","6260","103",null,"103",null,null,null,null,null,null,null,null,null,null,null,null,null,{"$f":"IF(OR(SUMPRODUCT(--(E972=$O$1:$O$541))>0,E972=0),0,1)","v":0}]
["001.103.1000.6112.101.000.0000","CERTIFIED TEACHERS",58143,null,"001",null,"001","103","1000","6112","101",null,"101",null,null,null,null,null,null,null,null,null,null,null,null,null,{"$f":"IF(OR(SUMPRODUCT(--(E973=$O$1:$O$541))>0,E973=0),0,1)","v":0}]
["001.103.1000.6112.102.000.0000","CERTIFIED TEACHERS",54565,null,"001",null,"001","103","1000","6112","102",null,"102",null,null,null,null,null,null,null,null,null,null,null,null,null,{"$f":"IF(OR(SUMPRODUCT(--(E974=$O$1:$O$541))>0,E974=0),0,1)","v":0}]
["001.103.1000.6112.103.000.0000","CERTIFIED TEACHERS",48555,null,"001",null,"001","103","1000","6112","103",null,"103",null,null,null,null,null,null,null,null,null,null,null,null,null,{"$f":"IF(OR(SUMPRODUCT(--(E975=$O$1:$O$541))>0,E975=0),0,1)","v":0}]
["001.103.1000.6112.105.000.0000","CERTIFIED TEACHERS",52507,null,"001",null,"001","103","1000","6112","105",null,"105",null,null,null,null,null,null,null,null,null,null,null,null,null,{"$f":"IF(OR(SUMPRODUCT(--(E976=$O$1:$O$541))>0,E976=0),0,1)","v":0}]
["001.103.1000.6112.106.000.0000","CERTIFIED TEACHERS",44609.78,null,"001",null,"001","103","1000","6112","106",null,"106",null,null,null,null,null,null,null,null,null,null,null,null,null,{"$f":"IF(OR(SUMPRODUCT(--(E977=$O$1:$O$541))>0,E977=0),0,1)","v":0}]
["001.103.1000.6114.101.000.0000","CERTIFIED OTHER",680,null,"001",null,"001","103","1000","6114","101",null,"101",null,null,null,null,null,null,null,null,null,null,null,null,null,{"$f":"IF(OR(SUMPRODUCT(--(E978=$O$1:$O$541))>0,E978=0),0,1)","v":0}]
["001.103.1000.6114.102.000.0000","CERTIFIED OTHER",500,null,"001",null,"001","103","1000","6114","102",null,"102",null,null,null,null,null,null,null,null,null,null,null,null,null,{"$f":"IF(OR(SUMPRODUCT(--(E979=$O$1:$O$541))>0,E979=0),0,1)","v":0}]
["001.103.1000.6114.105.000.0000","CERTIFIED OTHER",1050,null,"001",null,"001","103","1000","6114","105",null,"105",null,null,null,null,null,null,null,null,null,null,null,null,null,{"$f":"IF(OR(SUMPRODUCT(--(E980=$O$1:$O$541))>0,E980=0),0,1)","v":0}]
["001.103.1000.6114.106.000.0000","CERTIFIED OTHER",500,null,"001",null,"001","103","1000","6114","106",null,"106",null,null,null,null,null,null,null,null,null,null,null,null,null,{"$f":"IF(OR(SUMPRODUCT(--(E981=$O$1:$O$541))>0,E981=0),0,1)","v":0}]
["001.103.1000.6210.101.000.0000","EMPLOYEE INSURANCE",98.28,null,"001",null,"001","103","1000","6210","101",null,"101",null,null,null,null,null,null,null,null,null,null,null,null,null,{"$f":"IF(OR(SUMPRODUCT(--(E982=$O$1:$O$541))>0,E982=0),0,1)","v":0}]
["001.103.1000.6210.102.000.0000","EMPLOYEE INSURANCE",587.16,null,"001",null,"001","103","1000","6210","102",null,"102",null,null,null,null,null,null,null,null,null,null,null,null,null,{"$f":"IF(OR(SUMPRODUCT(--(E983=$O$1:$O$541))>0,E983=0),0,1)","v":0}]
["001.103.1000.6210.103.000.0000","EMPLOYEE INSURANCE",8737.08,null,"001",null,"001","103","1000","6210","103",null,"103",null,null,null,null,null,null,null,null,null,null,null,null,null,{"$f":"IF(OR(SUMPRODUCT(--(E984=$O$1:$O$541))>0,E984=0),0,1)","v":0}]
["001.103.1000.6210.105.000.0000","EMPLOYEE INSURANCE",8742.9599999999991,null,"001",null,"001","103","1000","6210","105",null,"105",null,null,null,null,null,null,null,null,null,null,null,null,null,{"$f":"IF(OR(SUMPRODUCT(--(E985=$O$1:$O$541))>0,E985=0),0,1)","v":0}]
["001.103.1000.6210.106.000.0000","EMPLOYEE INSURANCE",93.24,null,"001",null,"001","103","1000","6210","106",null,"106",null,null,null,null,null,null,null,null,null,null,null,null,null,{"$f":"IF(OR(SUMPRODUCT(--(E986=$O$1:$O$541))>0,E986=0),0,1)","v":0}]
["001.103.1000.6221.101.000.0000","SOCIAL SECURITY - OASDI",3649.81,null,"001",null,"001","103","1000","6221","101",null,"101",null,null,null,null,null,null,null,null,null,null,null,null,null,{"$f":"IF(OR(SUMPRODUCT(--(E987=$O$1:$O$541))>0,E987=0),0,1)","v":0}]
["001.103.1000.6221.102.000.0000","SOCIAL SECURITY - OASDI",3200.57,null,"001",null,"001","103","1000","6221","102",null,"102",null,null,null,null,null,null,null,null,null,null,null,null,null,{"$f":"IF(OR(SUMPRODUCT(--(E988=$O$1:$O$541))>0,E988=0),0,1)","v":0}]
["001.103.1000.6221.103.000.0000","SOCIAL SECURITY - OASDI",3010.4,null,"001",null,"001","103","1000","6221","103",null,"103",null,null,null,null,null,null,null,null,null,null,null,null,null,{"$f":"IF(OR(SUMPRODUCT(--(E989=$O$1:$O$541))>0,E989=0),0,1)","v":0}]
["001.103.1000.6221.105.000.0000","SOCIAL SECURITY - OASDI",2742.79,null,"001",null,"001","103","1000","6221","105",null,"105",null,null,null,null,null,null,null,null,null,null,null,null,null,{"$f":"IF(OR(SUMPRODUCT(--(E990=$O$1:$O$541))>0,E990=0),0,1)","v":0}]
["001.103.1000.6221.106.000.0000","SOCIAL SECURITY - OASDI",2794.95,null,"001",null,"001","103","1000","6221","106",null,"106",null,null,null,null,null,null,null,null,null,null,null,null,null,{"$f":"IF(OR(SUMPRODUCT(--(E991=$O$1:$O$541))>0,E991=0),0,1)","v":0}]
["001.103.1000.6222.101.000.0000","MEDICARE - HOSPITAL INSURANCE",853.58,null,"001",null,"001","103","1000","6222","101",null,"101",null,null,null,null,null,null,null,null,null,null,null,null,null,{"$f":"IF(OR(SUMPRODUCT(--(E992=$O$1:$O$541))>0,E992=0),0,1)","v":0}]
["001.103.1000.6222.102.000.0000","MEDICARE - HOSPITAL INSURANCE",748.51,null,"001",null,"001","103","1000","6222","102",null,"102",null,null,null,null,null,null,null,null,null,null,null,null,null,{"$f":"IF(OR(SUMPRODUCT(--(E993=$O$1:$O$541))>0,E993=0),0,1)","v":0}]
["001.103.1000.6222.103.000.0000","MEDICARE - HOSPITAL INSURANCE",704.13,null,"001",null,"001","103","1000","6222","103",null,"103",null,null,null,null,null,null,null,null,null,null,null,null,null,{"$f":"IF(OR(SUMPRODUCT(--(E994=$O$1:$O$541))>0,E994=0),0,1)","v":0}]
["001.103.1000.6222.105.000.0000","MEDICARE - HOSPITAL INSURANCE",641.44000000000005,null,"001",null,"001","103","1000","6222","105",null,"105",null,null,null,null,null,null,null,null,null,null,null,null,null,{"$f":"IF(OR(SUMPRODUCT(--(E995=$O$1:$O$541))>0,E995=0),0,1)","v":0}]
["001.103.1000.6222.106.000.0000","MEDICARE - HOSPITAL INSURANCE",653.72,null,"001",null,"001","103","1000","6222","106",null,"106",null,null,null,null,null,null,null,null,null,null,null,null,null,{"$f":"IF(OR(SUMPRODUCT(--(E996=$O$1:$O$541))>0,E996=0),0,1)","v":0}]
["001.103.1000.6231.101.000.0000","STATE RETIREMENT",7085.83,null,"001",null,"001","103","1000","6231","101",null,"101",null,null,null,null,null,null,null,null,null,null,null,null,null,{"$f":"IF(OR(SUMPRODUCT(--(E997=$O$1:$O$541))>0,E997=0),0,1)","v":0}]
["001.103.1000.6231.102.000.0000","STATE RETIREMENT",6619.4,null,"001",null,"001","103","1000","6231","102",null,"102",null,null,null,null,null,null,null,null,null,null,null,null,null,{"$f":"IF(OR(SUMPRODUCT(--(E998=$O$1:$O$541))>0,E998=0),0,1)","v":0}]
["001.103.1000.6231.103.000.0000","STATE RETIREMENT",5894.6,null,"001",null,"001","103","1000","6231","103",null,"103",null,null,null,null,null,null,null,null,null,null,null,null,null,{"$f":"IF(OR(SUMPRODUCT(--(E999=$O$1:$O$541))>0,E999=0),0,1)","v":0}]
["001.103.1000.6231.105.000.0000","STATE RETIREMENT",6493.81,null,"001",null,"001","103","1000","6231","105",null,"105",null,null,null,null,null,null,null,null,null,null,null,null,null,{"$f":"IF(OR(SUMPRODUCT(--(E1000=$O$1:$O$541))>0,E1000=0),0,1)","v":0}]
["001.200.2110.6232.500.000.0000","LONG TERM DISABILITY",43.4,null,"001",null,"001","200","2110","6232","500",null,"500",null,null,null,null,null,null,null,null,null,null,null,null,null,{"$f":"IF(OR(SUMPRODUCT(--(E1096=$O$1:$O$541))>0,E1096=0),0,1)","v":0}]
["001.200.2120.6210.107.000.0000","EMPLOYEE INSURANCE",4187.71,null,"001",null,"001","200","2120","6210","107",null,"107",null,null,null,null,null,null,null,null,null,null,null,null,null,{"$f":"IF(OR(SUMPRODUCT(--(E1112=$O$1:$O$541))>0,E1112=0),0,1)","v":0}]
["001.205.1000.6114.107.000.0000","CERTIFIED OTHER",17677.2,null,"001",null,"001","205","1000","6114","107",null,"107",null,null,null,null,null,null,null,null,null,null,null,null,null,{"$f":"IF(OR(SUMPRODUCT(--(E1250=$O$1:$O$541))>0,E1250=0),0,1)","v":0}]
["001.210.1000.6231.101.000.0000","STATE RETIREMENT",26443.4,null,"001",null,"001","210","1000","6231","101",null,"101",null,null,null,null,null,null,null,null,null,null,null,null,null,{"$f":"IF(OR(SUMPRODUCT(--(E1392=$O$1:$O$541))>0,E1392=0),0,1)","v":0}]
["001.420.2710.6519.500.000.0000","STUDENT TRANSPORTATION PURCH FROM OTHER SOURCES",32602.86,null,"001",null,"001","420","2710","6519","500",null,"500",null,null,null,null,null,null,null,null,null,null,null,null,null,{"$f":"IF(OR(SUMPRODUCT(--(E1489=$O$1:$O$541))>0,E1489=0),0,1)","v":0}]
["001.550.1000.6290.107.513.0000","OTHER EMPLOYEE BENEFITS without ASRS",1.82,null,"001",null,"001","550","1000","6290","107",null,"107",null,null,null,null,null,null,null,null,null,null,null,null,null,{"$f":"IF(OR(SUMPRODUCT(--(E1568=$O$1:$O$541))>0,E1568=0),0,1)","v":0}]
["001.620.1000.6221.101.000.0000","SOCIAL SECURITY - OASDI",372.4,null,"001",null,"001","620","1000","6221","101",null,"101",null,null,null,null,null,null,null,null,null,null,null,null,null,{"$f":"IF(OR(SUMPRODUCT(--(E1611=$O$1:$O$541))>0,E1611=0),0,1)","v":0}]
["011.100.1000.6231.106.517.0000","STATE RETIREMENT",97.12,null,"010","010","011","100","1000","6231","106",null,"106",null,null,null,null,null,null,null,null,null,null,null,null,null,{"$f":"IF(OR(SUMPRODUCT(--(E1749=$O$1:$O$541))>0,E1749=0),0,1)","v":0}]
["011.101.1000.6260.104.000.0000","WORKERS' COMPENSATION",39.6,null,"010","010","011","101","1000","6260","104",null,"104",null,null,null,null,null,null,null,null,null,null,null,null,null,{"$f":"IF(OR(SUMPRODUCT(--(E1882=$O$1:$O$541))>0,E1882=0),0,1)","v":0}]
["011.200.2120.6221.102.000.0000","SOCIAL SECURITY - OASDI",99.2,null,"010","010","011","200","2120","6221","102",null,"102",null,null,null,null,null,null,null,null,null,null,null,null,null,{"$f":"IF(OR(SUMPRODUCT(--(E1929=$O$1:$O$541))>0,E1929=0),0,1)","v":0}]
["011.550.1000.6221.106.513.0000","SOCIAL SECURITY - OASDI",49.6,null,"010","010","011","550","1000","6221","106",null,"106",null,null,null,null,null,null,null,null,null,null,null,null,null,{"$f":"IF(OR(SUMPRODUCT(--(E2067=$O$1:$O$541))>0,E2067=0),0,1)","v":0}]
["012.100.1000.6112.102.517.0000","CERTIFIED TEACHERS",1700,null,"010","010","012","100","1000","6112","102",null,"102",null,null,null,null,null,null,null,null,null,null,null,null,null,{"$f":"IF(OR(SUMPRODUCT(--(E2110=$O$1:$O$541))>0,E2110=0),0,1)","v":0}]
["012.100.1000.6232.103.000.0000","LONG TERM DISABILITY",85.53,null,"010","010","012","100","1000","6232","103",null,"103",null,null,null,null,null,null,null,null,null,null,null,null,null,{"$f":"IF(OR(SUMPRODUCT(--(E2187=$O$1:$O$541))>0,E2187=0),0,1)","v":0}]
["012.101.1000.6221.107.000.0000","SOCIAL SECURITY - OASDI",915.84,null,"010","010","012","101","1000","6221","107",null,"107",null,null,null,null,null,null,null,null,null,null,null,null,null,{"$f":"IF(OR(SUMPRODUCT(--(E2286=$O$1:$O$541))>0,E2286=0),0,1)","v":0}]
["012.205.1000.6222.107.000.0000","MEDICARE - HOSPITAL INSURANCE",98.6,null,"010","010","012","205","1000","6222","107",null,"107",null,null,null,null,null,null,null,null,null,null,null,null,null,{"$f":"IF(OR(SUMPRODUCT(--(E2428=$O$1:$O$541))>0,E2428=0),0,1)","v":0}]
["013.100.1000.6221.103.000.0000","SOCIAL SECURITY - OASDI",7446.15,null,"010","010","013","100","1000","6221","103",null,"103",null,null,null,null,null,null,null,null,null,null,null,null,null,{"$f":"IF(OR(SUMPRODUCT(--(E2566=$O$1:$O$541))>0,E2566=0),0,1)","v":0}]
["013.100.2212.6221.102.517.0000","SOCIAL SECURITY - OASDI",99.2,null,"010","010","013","100","2212","6221","102",null,"102",null,null,null,null,null,null,null,null,null,null,null,null,null,{"$f":"IF(OR(SUMPRODUCT(--(E2678=$O$1:$O$541))>0,E2678=0),0,1)","v":0}]
["013.101.1000.6231.104.000.0000","STATE RETIREMENT",1838.06,null,"010","010","013","101","1000","6231","104",null,"104",null,null,null,null,null,null,null,null,null,null,null,null,null,{"$f":"IF(OR(SUMPRODUCT(--(E2746=$O$1:$O$541))>0,E2746=0),0,1)","v":0}]
["013.103.1000.6231.106.000.0000","STATE RETIREMENT",370.43,null,"010","010","013","103","1000","6231","106",null,"106",null,null,null,null,null,null,null,null,null,null,null,null,null,{"$f":"IF(OR(SUMPRODUCT(--(E2785=$O$1:$O$541))>0,E2785=0),0,1)","v":0}]
["013.207.1000.6231.105.000.0000","STATE RETIREMENT",388.48,null,"010","010","013","207","1000","6231","105",null,"105",null,null,null,null,null,null,null,null,null,null,null,null,null,{"$f":"IF(OR(SUMPRODUCT(--(E2927=$O$1:$O$541))>0,E2927=0),0,1)","v":0}]
["013.550.1000.6232.103.513.0000","LONG TERM DISABILITY",3.15,null,"010","010","013","550","1000","6232","103",null,"103",null,null,null,null,null,null,null,null,null,null,null,null,null,{"$f":"IF(OR(SUMPRODUCT(--(E2983=$O$1:$O$541))>0,E2983=0),0,1)","v":0}]
["021.100.1000.6232.104.513.0000","LONG TERM DISABILITY",0.22,null,"020","020","021","100","1000","6232","104",null,"104",null,null,null,null,null,null,null,null,null,null,null,null,null,{"$f":"IF(OR(SUMPRODUCT(--(E3107=$O$1:$O$541))>0,E3107=0),0,1)","v":0}]
["021.103.1000.6222.106.000.0000","MEDICARE - HOSPITAL INSURANCE",4.21,null,"020","020","021","103","1000","6222","106",null,"106",null,null,null,null,null,null,null,null,null,null,null,null,null,{"$f":"IF(OR(SUMPRODUCT(--(E3245=$O$1:$O$541))>0,E3245=0),0,1)","v":0}]
["021.200.2120.6222.104.000.0000","MEDICARE - HOSPITAL INSURANCE",4.21,null,"020","020","021","200","2120","6222","104",null,"104",null,null,null,null,null,null,null,null,null,null,null,null,null,{"$f":"IF(OR(SUMPRODUCT(--(E3284=$O$1:$O$541))>0,E3284=0),0,1)","v":0}]
["021.206.1000.6231.105.000.0000","STATE RETIREMENT",35.21,null,"020","020","021","206","1000","6231","105",null,"105",null,null,null,null,null,null,null,null,null,null,null,null,null,{"$f":"IF(OR(SUMPRODUCT(--(E3376=$O$1:$O$541))>0,E3376=0),0,1)","v":0}]
["100.200.2120.6231.107.000.0000","STATE RETIREMENT",2693.81,null,"100",null,"100","200","2120","6231","107",null,"107",null,null,null,null,null,null,null,null,null,null,null,null,null,{"$f":"IF(OR(SUMPRODUCT(--(E3563=$O$1:$O$541))>0,E3563=0),0,1)","v":0}]
["140.100.1000.6221.102.000.0000","SOCIAL SECURITY - OASDI",264.38,null,"140",null,"140","100","1000","6221","102",null,"102",null,null,null,null,null,null,null,null,null,null,null,null,null,{"$f":"IF(OR(SUMPRODUCT(--(E3602=$O$1:$O$541))>0,E3602=0),0,1)","v":0}]
["220.200.2212.6260.500.000.0000","WORKERS' COMPENSATION",2.9,null,"220",null,"220","200","2212","6260","500",null,"500",null,null,null,null,null,null,null,null,null,null,null,null,null,{"$f":"IF(OR(SUMPRODUCT(--(E3744=$O$1:$O$541))>0,E3744=0),0,1)","v":0}]
["220.205.1000.6222.103.000.0000","MEDICARE - HOSPITAL INSURANCE",869.04,null,"220",null,"220","205","1000","6222","103",null,{"$f":"IF(L3779<>\"\",L3779,K3779)","v":"103"},null,null,null,null,null,null,null,null,null,null,null,null,null,{"$f":"IF(OR(SUMPRODUCT(--(E3779=$O$1:$O$541))>0,E3779=0),0,1)","v":0}]
["338.100.2213.6114.500.000.0000","CERTIFIED OTHER",59422.1,null,"COVID","COVID","338","100","2213","6114","500",null,"500",null,null,null,null,null,null,null,null,null,null,null,null,null,{"$f":"IF(OR(SUMPRODUCT(--(E3924=$O$1:$O$541))>0,E3924=0),0,1)","v":0}]
["346.100.1000.6221.107.513.0000","SOCIAL SECURITY - OASDI",3939.66,null,"COVID","COVID","346","100","1000","6221","107",null,"107",null,null,null,null,null,null,null,null,null,null,null,null,null,{"$f":"IF(OR(SUMPRODUCT(--(E3963=$O$1:$O$541))>0,E3963=0),0,1)","v":0}]
["346.100.2130.6155.500.000.0000","CLASSIFIED TEMPORARY",169.18,null,"COVID","COVID","346","100","2130","6155","500",null,"500",null,null,null,null,null,null,null,null,null,null,null,null,null,{"$f":"IF(OR(SUMPRODUCT(--(E4101=$O$1:$O$541))>0,E4101=0),0,1)","v":0}]
["480.200.2120.6221.104.000.0000","SOCIAL SECURITY - OASDI",3349.76,null,"480",null,"480","200","2120","6221","104",null,"104",null,null,null,null,null,null,null,null,null,null,null,null,null,{"$f":"IF(OR(SUMPRODUCT(--(E4172=$O$1:$O$541))>0,E4172=0),0,1)","v":0}]
["525.000.0000.1750.101.000.0000","REVENUE FROM ENTERPRISE AND STUDENT ACTIVITIES",-25873.56,null,"525",null,"525","000","0000","1750","101",null,"101",null,null,null,null,null,null,null,null,null,null,null,null,null,{"$f":"IF(OR(SUMPRODUCT(--(E4281=$O$1:$O$541))>0,E4281=0),0,1)","v":0}]
["526.630.1000.6231.104.000.0000","STATE RETIREMENT",72.900000000000006,null,"526",null,"526","630","1000","6231","104",null,{"$f":"IF(L4419<>\"\",L4419,K4419)","v":"104"},null,null,null,null,null,null,null,null,null,null,null,null,null,{"$f":"IF(OR(SUMPRODUCT(--(E4419=$O$1:$O$541))>0,E4419=0),0,1)","v":0}]
["530.100.1000.6222.101.000.0000","MEDICARE - HOSPITAL INSURANCE",13.41,null,"530",null,"530","100","1000","6222","101",null,"101",null,null,null,null,null,null,null,null,null,null,null,null,null,{"$f":"IF(OR(SUMPRODUCT(--(E4462=$O$1:$O$541))>0,E4462=0),0,1)","v":0}]
["610.100.1000.6643.101.000.0000","INSTRUCTIONAL AIDS",171.71,null,"610",null,"610","100","1000","6643","101",null,"101",null,null,null,null,null,null,null,null,null,null,null,null,null,{"$f":"IF(OR(SUMPRODUCT(--(E4575=$O$1:$O$541))>0,E4575=0),0,1)","v":0}]
["630.100.5000.6860.500.000.0000","BOND ISSUANCE AND OTHER DEBT-RELATED COSTS",17135,null,"630",null,"630","100","5000","6860","500",null,"500",null,null,null,null,null,null,null,null,null,null,null,null,null,{"$f":"IF(OR(SUMPRODUCT(--(E4741=$O$1:$O$541))>0,E4741=0),0,1)","v":0}]
["850.000.0000.1750.101.000.0000","REVENUE FROM ENTERPRISE AND STUDENT ACTIVITIES",-5871.21,null,"850",null,"850","000","0000","1750","101",null,"101",null,null,null,null,null,null,null,null,null,null,null,null,null,{"$f":"IF(OR(SUMPRODUCT(--(E4780=$O$1:$O$541))>0,E4780=0),0,1)","v":0}]
[null,null,null,null,0,null,null,null,null,null,null,null,0,null,null,null,null,null,null,null,null,null,null,null,null,null,{"$f":"IF(OR(SUMPRODUCT(--(E4918=$O$1:$O$541))>0,E4918=0),0,1)","v":0}]
[null,null,null,null,0,null,null,null,null,null,null,null,0,null,null,null,null,null,null,null,null,null,null,null,null,null,{"$f":"IF(OR(SUMPRODUCT(--(E4968=$O$1:$O$541))>0,E4968=0),0,1)","v":0}]
[null,null,null,null,0,null,null,null,null,null,null,null,0,null,null,null,null,null,null,null,null,null,null,null,null,null,{"$f":"IF(OR(SUMPRODUCT(--(E5098=$O$1:$O$541))>0,E5098=0),0,1)","v":0}]
[null,null,null,null,0,null,null,null,null,null,null,null,0,null,null,null,null,null,null,null,null,null,null,null,null,null,{"$f":"IF(OR(SUMPRODUCT(--(E5240=$O$1:$O$541))>0,E5240=0),0,1)","v":0}]
[null,null,null,null,0,null,null,null,null,null,null,null,0,null,null,null,null,null,null,null,null,null,null,null,null,null,{"$f":"IF(OR(SUMPRODUCT(--(E5279=$O$1:$O$541))>0,E5279=0),0,1)","v":0}]
[null,null,null,null,0,null,null,null,null,null,null,null,0,null,null,null,null,null,null,null,null,null,null,null,null,null,{"$f":"IF(OR(SUMPRODUCT(--(E5371=$O$1:$O$541))>0,E5371=0),0,1)","v":0}]
[null,null,null,null,0,null,null,null,null,null,null,null,0,null,null,null,null,null,null,null,null,null,null,null,null,null,{"$f":"IF(OR(SUMPRODUCT(--(E5459=$O$1:$O$541))>0,E5459=0),0,1)","v":0}]
[null,null,null,null,0,null,null,null,null,null,null,null,0,null,null,null,null,null,null,null,null,null,null,null,null,null,{"$f":"IF(OR(SUMPRODUCT(--(E5597=$O$1:$O$541))>0,E5597=0),0,1)","v":0}]
[null,null,null,null,0,null,null,null,null,null,null,null,0,null,null,null,null,null,null,null,null,null,null,null,null,null,{"$f":"IF(OR(SUMPRODUCT(--(E5735=$O$1:$O$541))>0,E5735=0),0,1)","v":0}]
[null,null,null,null,0,null,null,null,null,null,null,null,0,null,null,null,null,null,null,null,null,null,null,null,null,null,{"$f":"IF(OR(SUMPRODUCT(--(E5764=$O$1:$O$541))>0,E5764=0),0,1)","v":0}]
[null,null,null,null,0,null,null,null,null,null,null,null,0,null,null,null,null,null,null,null,null,null,null,null,null,null,{"$f":"IF(OR(SUMPRODUCT(--(E5915=$O$1:$O$541))>0,E5915=0),0,1)","v":0}]
[null,null,null,null,0,null,null,null,null,null,null,null,0,null,null,null,null,null,null,null,null,null,null,null,null,null,{"$f":"IF(OR(SUMPRODUCT(--(E5958=$O$1:$O$541))>0,E5958=0),0,1)","v":0}]
[null,null,null,null,0,null,null,null,null,null,null,null,0,null,null,null,null,null,null,null,null,null,null,null,null,null,{"$f":"IF(OR(SUMPRODUCT(--(E6096=$O$1:$O$541))>0,E6096=0),0,1)","v":0}]
[null,null,null,null,0,null,null,null,null,null,null,null,0,null,null,null,null,null,null,null,null,null,null,null,null,null,{"$f":"IF(OR(SUMPRODUCT(--(E6167=$O$1:$O$541))>0,E6167=0),0,1)","v":0}]
[null,null,null,null,0,null,null,null,null,null,null,null,0,null,null,null,null,null,null,null,null,null,null,null,null,null,{"$f":"IF(OR(SUMPRODUCT(--(E6276=$O$1:$O$541))>0,E6276=0),0,1)","v":0}]
[null,null,null,null,0,null,null,null,null,null,null,null,0,null,null,null,null,null,null,null,null,null,null,null,null,null,{"$f":"IF(OR(SUMPRODUCT(--(E6414=$O$1:$O$541))>0,E6414=0),0,1)","v":0}]
[null,null,null,null,0,null,null,null,null,null,null,null,0,null,null,null,null,null,null,null,null,null,null,null,null,null,{"$f":"IF(OR(SUMPRODUCT(--(E6457=$O$1:$O$541))>0,E6457=0),0,1)","v":0}]
[null,null,null,null,0,null,null,null,null,null,null,null,0,null,null,null,null,null,null,null,null,null,null,null,null,null,{"$f":"IF(OR(SUMPRODUCT(--(E6560=$O$1:$O$541))>0,E6560=0),0,1)","v":0}]
[null,null,null,null,0,null,null,null,null,null,null,null,0,null,null,null,null,null,null,null,null,null,null,null,null,null,{"$f":"IF(OR(SUMPRODUCT(--(E6633=$O$1:$O$541))>0,E6633=0),0,1)","v":0}]
[null,null,null,null,0,null,null,null,null,null,null,null,0,null,null,null,null,null,null,null,null,null,null,null,null,null,{"$f":"IF(OR(SUMPRODUCT(--(E6775=$O$1:$O$541))>0,E6775=0),0,1)","v":0}]
[null,null,null,null,0,null,null,null,null,null,null,null,0,null,null,null,null,null,null,null,null,null,null,null,null,null,{"$f":"IF(OR(SUMPRODUCT(--(E6913=$O$1:$O$541))>0,E6913=0),0,1)","v":0}]
[null,null,null,null,0,null,null,null,null,null,null,null,0,null,null,null,null,null,null,null,null,null,null,null,null,null,{"$f":"IF(OR(SUMPRODUCT(--(E6963=$O$1:$O$541))>0,E6963=0),0,1)","v":0}]
[null,null,null,null,0,null,null,null,null,null,null,null,0,null,null,null,null,null,null,null,null,null,null,null,null,null,{"$f":"IF(OR(SUMPRODUCT(--(E7093=$O$1:$O$541))>0,E7093=0),0,1)","v":0}]
[null,null,null,null,0,null,null,null,null,null,null,null,0,null,null,null,null,null,null,null,null,null,null,null,null,null,{"$f":"IF(OR(SUMPRODUCT(--(E7132=$O$1:$O$541))>0,E7132=0),0,1)","v":0}]
[null,null,null,null,0,null,null,null,null,null,null,null,0,null,null,null,null,null,null,null,null,null,null,null,null,null,{"$f":"IF(OR(SUMPRODUCT(--(E7274=$O$1:$O$541))>0,E7274=0),0,1)","v":0}]
[null,null,null,null,0,null,null,null,null,null,null,null,0,null,null,null,null,null,null,null,null,null,null,null,null,null,{"$f":"IF(OR(SUMPRODUCT(--(E7356=$O$1:$O$541))>0,E7356=0),0,1)","v":0}]
[null,null,null,null,0,null,null,null,null,null,null,null,0,null,null,null,null,null,null,null,null,null,null,null,null,null,{"$f":"IF(OR(SUMPRODUCT(--(E7450=$O$1:$O$541))>0,E7450=0),0,1)","v":0}]
[null,null,null,null,0,null,null,null,null,null,null,null,0,null,null,null,null,null,null,null,null,null,null,null,null,null,{"$f":"IF(OR(SUMPRODUCT(--(E7592=$O$1:$O$541))>0,E7592=0),0,1)","v":0}]
[null,null,null,null,0,null,null,null,null,null,null,null,0,null,null,null,null,null,null,null,null,null,null,null,null,null,{"$f":"IF(OR(SUMPRODUCT(--(E7631=$O$1:$O$541))>0,E7631=0),0,1)","v":0}]
[null,null,null,null,0,null,null,null,null,null,null,null,0,null,null,null,null,null,null,null,null,null,null,null,null,null,{"$f":"IF(OR(SUMPRODUCT(--(E7759=$O$1:$O$541))>0,E7759=0),0,1)","v":0}]
[null,null,null,null,0,null,null,null,null,null,null,null,0,null,null,null,null,null,null,null,null,null,null,null,null,null,{"$f":"IF(OR(SUMPRODUCT(--(E7910=$O$1:$O$541))>0,E7910=0),0,1)","v":0}]
[null,null,null,null,0,null,null,null,null,null,null,null,0,null,null,null,null,null,null,null,null,null,null,null,null,null,{"$f":"IF(OR(SUMPRODUCT(--(E7949=$O$1:$O$541))>0,E7949=0),0,1)","v":0}]
[null,null,null,null,0,null,null,null,null,null,null,null,0,null,null,null,null,null,null,null,null,null,null,null,null,null,{"$f":"IF(OR(SUMPRODUCT(--(E8091=$O$1:$O$541))>0,E8091=0),0,1)","v":0}]
[null,null,null,null,0,null,null,null,null,null,null,null,0,null,null,null,null,null,null,null,null,null,null,null,null,null,{"$f":"IF(OR(SUMPRODUCT(--(E8152=$O$1:$O$541))>0,E8152=0),0,1)","v":0}]
[null,null,null,null,0,null,null,null,null,null,null,null,0,null,null,null,null,null,null,null,null,null,null,null,null,null,{"$f":"IF(OR(SUMPRODUCT(--(E8267=$O$1:$O$541))>0,E8267=0),0,1)","v":0}]
[null,null,null,null,0,null,null,null,null,null,null,null,0,null,null,null,null,null,null,null,null,null,null,null,null,null,{"$f":"IF(OR(SUMPRODUCT(--(E8310=$O$1:$O$541))>0,E8310=0),0,1)","v":0}]
[null,null,null,null,0,null,null,null,null,null,null,null,0,null,null,null,null,null,null,null,null,null,null,null,null,null,{"$f":"IF(OR(SUMPRODUCT(--(E8448=$O$1:$O$541))>0,E8448=0),0,1)","v":0}]
[null,null,null,null,0,null,null,null,null,null,null,null,0,null,null,null,null,null,null,null,null,null,null,null,null,null,{"$f":"IF(OR(SUMPRODUCT(--(E8545=$O$1:$O$541))>0,E8545=0),0,1)","v":0}]
[null,null,null,null,0,null,null,null,null,null,null,null,0,null,null,null,null,null,null,null,null,null,null,null,null,null,{"$f":"IF(OR(SUMPRODUCT(--(E8628=$O$1:$O$541))>0,E8628=0),0,1)","v":0}]
[null,null,null,null,0,null,null,null,null,null,null,null,0,null,null,null,null,null,null,null,null,null,null,null,null,null,{"$f":"IF(OR(SUMPRODUCT(--(E8766=$O$1:$O$541))>0,E8766=0),0,1)","v":0}]
[null,null,null,null,0,null,null,null,null,null,null,null,0,null,null,null,null,null,null,null,null,null,null,null,null,null,{"$f":"IF(OR(SUMPRODUCT(--(E8809=$O$1:$O$541))>0,E8809=0),0,1)","v":0}]
[null,null,null,null,0,null,null,null,null,null,null,null,0,null,null,null,null,null,null,null,null,null,null,null,null,null,{"$f":"IF(OR(SUMPRODUCT(--(E8948=$O$1:$O$541))>0,E8948=0),0,1)","v":0}]
[null,null,null,null,0,null,null,null,null,null,null,null,0,null,null,null,null,null,null,null,null,null,null,null,null,null,{"$f":"IF(OR(SUMPRODUCT(--(E9084=$O$1:$O$541))>0,E9084=0),0,1)","v":0}]
[null,null,null,null,0,null,null,null,null,null,null,null,0,null,null,null,null,null,null,null,null,null,null,null,null,null,{"$f":"IF(OR(SUMPRODUCT(--(E9127=$O$1:$O$541))>0,E9127=0),0,1)","v":0}]
[null,null,null,null,0,null,null,null,null,null,null,null,0,null,null,null,null,null,null,null,null,null,null,null,null,null,{"$f":"IF(OR(SUMPRODUCT(--(E9265=$O$1:$O$541))>0,E9265=0),0,1)","v":0}]
[null,null,null,null,0,null,null,null,null,null,null,null,0,null,null,null,null,null,null,null,null,null,null,null,null,null,{"$f":"IF(OR(SUMPRODUCT(--(E9341=$O$1:$O$541))>0,E9341=0),0,1)","v":0}]
[null,null,null,null,0,null,null,null,null,null,null,null,0,null,null,null,null,null,null,null,null,null,null,null,null,null,{"$f":"IF(OR(SUMPRODUCT(--(E9445=$O$1:$O$541))>0,E9445=0),0,1)","v":0}]
[null,null,null,null,0,null,null,null,null,null,null,null,0,null,null,null,null,null,null,null,null,null,null,null,null,null,{"$f":"IF(OR(SUMPRODUCT(--(E9583=$O$1:$O$541))>0,E9583=0),0,1)","v":0}]
[null,null,null,null,0,null,null,null,null,null,null,null,0,null,null,null,null,null,null,null,null,null,null,null,null,null,{"$f":"IF(OR(SUMPRODUCT(--(E9626=$O$1:$O$541))>0,E9626=0),0,1)","v":0}]
[null,null,null,null,0,null,null,null,null,null,null,null,0,null,null,null,null,null,null,null,null,null,null,null,null,null,{"$f":"IF(OR(SUMPRODUCT(--(E9744=$O$1:$O$541))>0,E9744=0),0,1)","v":0}]
[null,null,null,null,0,null,null,null,null,null,null,null,0,null,null,null,null,null,null,null,null,null,null,null,null,null,{"$f":"IF(OR(SUMPRODUCT(--(E9802=$O$1:$O$541))>0,E9802=0),0,1)","v":0}]
[null,null,null,null,0,null,null,null,null,null,null,null,0,null,null,null,null,null,null,null,null,null,null,null,null,null,{"$f":"IF(OR(SUMPRODUCT(--(E9944=$O$1:$O$541))>0,E9944=0),0,1)","v":0}]
[null,null,null,null,0,null,null,null,null,null,null,null,0,null,null,null,null,null,null,null,null,null,null,null,null,null,{"$f":"IF(OR(SUMPRODUCT(--(E10082=$O$1:$O$541))>0,E10082=0),0,1)","v":0}]
[null,null,null,null,0,null,null,null,null,null,null,null,0,null,null,null,null,null,null,null,null,null,null,null,null,null,{"$f":"IF(OR(SUMPRODUCT(--(E10137=$O$1:$O$541))>0,E10137=0),0,1)","v":0}]
[null,null,null,null,0,null,null,null,null,null,null,null,0,null,null,null,null,null,null,null,null,null,null,null,null,null,{"$f":"IF(OR(SUMPRODUCT(--(E10262=$O$1:$O$541))>0,E10262=0),0,1)","v":0}]
[null,null,null,null,0,null,null,null,null,null,null,null,0,null,null,null,null,null,null,null,null,null,null,null,null,null,{"$f":"IF(OR(SUMPRODUCT(--(E10301=$O$1:$O$541))>0,E10301=0),0,1)","v":0}]
[null,null,null,null,0,null,null,null,null,null,null,null,0,null,null,null,null,null,null,null,null,null,null,null,null,null,{"$f":"IF(OR(SUMPRODUCT(--(E10443=$O$1:$O$541))>0,E10443=0),0,1)","v":0}]
[null,null,null,null,0,null,null,null,null,null,null,null,0,null,null,null,null,null,null,null,null,null,null,null,null,null,{"$f":"IF(OR(SUMPRODUCT(--(E10540=$O$1:$O$541))>0,E10540=0),0,1)","v":0}]
[null,null,null,null,0,null,null,null,null,null,null,null,0,null,null,null,null,null,null,null,null,null,null,null,null,null,{"$f":"IF(OR(SUMPRODUCT(--(E10623=$O$1:$O$541))>0,E10623=0),0,1)","v":0}]
[null,null,null,null,0,null,null,null,null,null,null,null,0,null,null,null,null,null,null,null,null,null,null,null,null,null,{"$f":"IF(OR(SUMPRODUCT(--(E10761=$O$1:$O$541))>0,E10761=0),0,1)","v":0}]
[null,null,null,null,0,null,null,null,null,null,null,null,0,null,null,null,null,null,null,null,null,null,null,null,null,null,{"$f":"IF(OR(SUMPRODUCT(--(E10800=$O$1:$O$541))>0,E10800=0),0,1)","v":0}]
[null,null,null,null,0,null,null,null,null,null,null,null,0,null,null,null,null,null,null,null,null,null,null,null,null,null,{"$f":"IF(OR(SUMPRODUCT(--(E10933=$O$1:$O$541))>0,E10933=0),0,1)","v":0}]
[null,null,null,null,0,null,null,null,null,null,null,null,0,null,null,null,null,null,null,null,null,null,null,null,null,null,{"$f":"IF(OR(SUMPRODUCT(--(E10980=$O$1:$O$541))>0,E10980=0),0,1)","v":0}]
[null,null,null,null,0,null,null,null,null,null,null,null,0,null,null,null,null,null,null,null,null,null,null,null,null,null,{"$f":"IF(OR(SUMPRODUCT(--(E11118=$O$1:$O$541))>0,E11118=0),0,1)","v":0}]
[null,null,null,null,0,null,null,null,null,null,null,null,0,null,null,null,null,null,null,null,null,null,null,null,null,null,{"$f":"IF(OR(SUMPRODUCT(--(E11260=$O$1:$O$541))>0,E11260=0),0,1)","v":0}]
[null,null,null,null,0,null,null,null,null,null,null,null,0,null,null,null,null,null,null,null,null,null,null,null,null,null,{"$f":"IF(OR(SUMPRODUCT(--(E11336=$O$1:$O$541))>0,E11336=0),0,1)","v":0}]
[null,null,null,null,0,null,null,null,null,null,null,null,0,null,null,null,null,null,null,null,null,null,null,null,null,null,{"$f":"IF(OR(SUMPRODUCT(--(E11440=$O$1:$O$541))>0,E11440=0),0,1)","v":0}]
[null,null,null,null,0,null,null,null,null,null,null,null,0,null,null,null,null,null,null,null,null,null,null,null,null,null,{"$f":"IF(OR(SUMPRODUCT(--(E11479=$O$1:$O$541))>0,E11479=0),0,1)","v":0}]
[null,null,null,null,0,null,null,null,null,null,null,null,0,null,null,null,null,null,null,null,null,null,null,null,null,null,{"$f":"IF(OR(SUMPRODUCT(--(E11617=$O$1:$O$541))>0,E11617=0),0,1)","v":0}]
[null,null,null,null,0,null,null,null,null,null,null,null,0,null,null,null,null,null,null,null,null,null,null,null,null,null,{"$f":"IF(OR(SUMPRODUCT(--(E11729=$O$1:$O$541))>0,E11729=0),0,1)","v":0}]
[null,null,null,null,0,null,null,null,null,null,null,null,0,null,null,null,null,null,null,null,null,null,null,null,null,null,{"$f":"IF(OR(SUMPRODUCT(--(E11797=$O$1:$O$541))>0,E11797=0),0,1)","v":0}]
[null,null,null,null,0,null,null,null,null,null,null,null,0,null,null,null,null,null,null,null,null,null,null,null,null,null,{"$f":"IF(OR(SUMPRODUCT(--(E11939=$O$1:$O$541))>0,E11939=0),0,1)","v":0}]
[null,null,null,null,0,null,null,null,null,null,null,null,0,null,null,null,null,null,null,null,null,null,null,null,null,null,{"$f":"IF(OR(SUMPRODUCT(--(E11978=$O$1:$O$541))>0,E11978=0),0,1)","v":0}]
[null,null,null,null,0,null,null,null,null,null,null,null,0,null,null,null,null,null,null,null,null,null,null,null,null,null,{"$f":"IF(OR(SUMPRODUCT(--(E12132=$O$1:$O$541))>0,E12132=0),0,1)","v":0}]
[null,null,null,null,0,null,null,null,null,null,null,null,0,null,null,null,null,null,null,null,null,null,null,null,null,null,{"$f":"IF(OR(SUMPRODUCT(--(E12257=$O$1:$O$541))>0,E12257=0),0,1)","v":0}]
[null,null,null,null,0,null,null,null,null,null,null,null,0,null,null,null,null,null,null,null,null,null,null,null,null,null,{"$f":"IF(OR(SUMPRODUCT(--(E12296=$O$1:$O$541))>0,E12296=0),0,1)","v":0}]
[null,null,null,null,0,null,null,null,null,null,null,null,0,null,null,null,null,null,null,null,null,null,null,null,null,null,{"$f":"IF(OR(SUMPRODUCT(--(E12434=$O$1:$O$541))>0,E12434=0),0,1)","v":0}]
[null,null,null,null,0,null,null,null,null,null,null,null,0,null,null,null,null,null,null,null,null,null,null,null,null,null,{"$f":"IF(OR(SUMPRODUCT(--(E12525=$O$1:$O$541))>0,E12525=0),0,1)","v":0}]
[null,null,null,null,0,null,null,null,null,null,null,null,0,null,null,null,null,null,null,null,null,null,null,null,null,null,{"$f":"IF(OR(SUMPRODUCT(--(E12614=$O$1:$O$541))>0,E12614=0),0,1)","v":0}]
[null,null,null,null,0,null,null,null,null,null,null,null,0,null,null,null,null,null,null,null,null,null,null,null,null,null,{"$f":"IF(OR(SUMPRODUCT(--(E12657=$O$1:$O$541))>0,E12657=0),0,1)","v":0}]
[null,null,null,null,0,null,null,null,null,null,null,null,0,null,null,null,null,null,null,null,null,null,null,null,null,null,{"$f":"IF(OR(SUMPRODUCT(--(E12795=$O$1:$O$541))>0,E12795=0),0,1)","v":0}]
[null,null,null,null,0,null,null,null,null,null,null,null,0,null,null,null,null,null,null,null,null,null,null,null,null,null,{"$f":"IF(OR(SUMPRODUCT(--(E12928=$O$1:$O$541))>0,E12928=0),0,1)","v":0}]
[null,null,null,null,0,null,null,null,null,null,null,null,0,null,null,null,null,null,null,null,null,null,null,null,null,null,{"$f":"IF(OR(SUMPRODUCT(--(E12975=$O$1:$O$541))>0,E12975=0),0,1)","v":0}]
[null,null,null,null,0,null,null,null,null,null,null,null,0,null,null,null,null,null,null,null,null,null,null,null,null,null,{"$f":"IF(OR(SUMPRODUCT(--(E13113=$O$1:$O$541))>0,E13113=0),0,1)","v":0}]
[null,null,null,null,0,null,null,null,null,null,null,null,0,null,null,null,null,null,null,null,null,null,null,null,null,null,{"$f":"IF(OR(SUMPRODUCT(--(E13152=$O$1:$O$541))>0,E13152=0),0,1)","v":0}]
[null,null,null,null,0,null,null,null,null,null,null,null,0,null,null,null,null,null,null,null,null,null,null,null,null,null,{"$f":"IF(OR(SUMPRODUCT(--(E13321=$O$1:$O$541))>0,E13321=0),0,1)","v":0}]
[null,null,null,null,0,null,null,null,null,null,null,null,0,null,null,null,null,null,null,null,null,null,null,null,null,null,{"$f":"IF(OR(SUMPRODUCT(--(E13431=$O$1:$O$541))>0,E13431=0),0,1)","v":0}]
[null,null,null,null,0,null,null,null,null,null,null,null,0,null,null,null,null,null,null,null,null,null,null,null,null,null,{"$f":"IF(OR(SUMPRODUCT(--(E13474=$O$1:$O$541))>0,E13474=0),0,1)","v":0}]
[null,null,null,null,0,null,null,null,null,null,null,null,0,null,null,null,null,null,null,null,null,null,null,null,null,null,{"$f":"IF(OR(SUMPRODUCT(--(E13612=$O$1:$O$541))>0,E13612=0),0,1)","v":0}]
[null,null,null,null,0,null,null,null,null,null,null,null,0,null,null,null,null,null,null,null,null,null,null,null,null,null,{"$f":"IF(OR(SUMPRODUCT(--(E13724=$O$1:$O$541))>0,E13724=0),0,1)","v":0}]
[null,null,null,null,0,null,null,null,null,null,null,null,0,null,null,null,null,null,null,null,null,null,null,null,null,null,{"$f":"IF(OR(SUMPRODUCT(--(E13792=$O$1:$O$541))>0,E13792=0),0,1)","v":0}]
[null,null,null,null,0,null,null,null,null,null,null,null,0,null,null,null,null,null,null,null,null,null,null,null,null,null,{"$f":"IF(OR(SUMPRODUCT(--(E13930=$O$1:$O$541))>0,E13930=0),0,1)","v":0}]
[null,null,null,null,0,null,null,null,null,null,null,null,0,null,null,null,null,null,null,null,null,null,null,null,null,null,{"$f":"IF(OR(SUMPRODUCT(--(E13973=$O$1:$O$541))>0,E13973=0),0,1)","v":0}]
[null,null,null,null,0,null,null,null,null,null,null,null,0,null,null,null,null,null,null,null,null,null,null,null,null,null,{"$f":"IF(OR(SUMPRODUCT(--(E14117=$O$1:$O$541))>0,E14117=0),0,1)","v":0}]
[null,null,null,null,0,null,null,null,null,null,null,null,0,null,null,null,null,null,null,null,null,null,null,null,null,null,{"$f":"IF(OR(SUMPRODUCT(--(E14149=$O$1:$O$541))>0,E14149=0),0,1)","v":0}]
[null,null,null,null,0,null,null,null,null,null,null,null,0,null,null,null,null,null,null,null,null,null,null,null,null,null,{"$f":"IF(OR(SUMPRODUCT(--(E14291=$O$1:$O$541))>0,E14291=0),0,1)","v":0}]
[null,null,null,null,0,null,null,null,null,null,null,null,0,null,null,null,null,null,null,null,null,null,null,null,null,null,{"$f":"IF(OR(SUMPRODUCT(--(E14429=$O$1:$O$541))>0,E14429=0),0,1)","v":0}]
[null,null,null,null,0,null,null,null,null,null,null,null,0,null,null,null,null,null,null,null,null,null,null,null,null,null,{"$f":"IF(OR(SUMPRODUCT(--(E14520=$O$1:$O$541))>0,E14520=0),0,1)","v":0}]
[null,null,null,null,0,null,null,null,null,null,null,null,0,null,null,null,null,null,null,null,null,null,null,null,null,null,{"$f":"IF(OR(SUMPRODUCT(--(E14609=$O$1:$O$541))>0,E14609=0),0,1)","v":0}]
[null,null,null,null,0,null,null,null,null,null,null,null,0,null,null,null,null,null,null,null,null,null,null,null,null,null,{"$f":"IF(OR(SUMPRODUCT(--(E14648=$O$1:$O$541))>0,E14648=0),0,1)","v":0}]
[null,null,null,null,0,null,null,null,null,null,null,null,0,null,null,null,null,null,null,null,null,null,null,null,null,null,{"$f":"IF(OR(SUMPRODUCT(--(E14790=$O$1:$O$541))>0,E14790=0),0,1)","v":0}]
[null,null,null,null,0,null,null,null,null,null,null,null,0,null,null,null,null,null,null,null,null,null,null,null,null,null,{"$f":"IF(OR(SUMPRODUCT(--(E14913=$O$1:$O$541))>0,E14913=0),0,1)","v":0}]
[null,null,null,null,0,null,null,null,null,null,null,null,0,null,null,null,null,null,null,null,null,null,null,null,null,null,{"$f":"IF(OR(SUMPRODUCT(--(E14966=$O$1:$O$541))>0,E14966=0),0,1)","v":0}]
[null,null,null,null,0,null,null,null,null,null,null,null,0,null,null,null,null,null,null,null,null,null,null,null,null,null,{"$f":"IF(OR(SUMPRODUCT(--(E15108=$O$1:$O$541))>0,E15108=0),0,1)","v":0}]
[null,null,null,null,0,null,null,null,null,null,null,null,0,null,null,null,null,null,null,null,null,null,null,null,null,null,{"$f":"IF(OR(SUMPRODUCT(--(E15147=$O$1:$O$541))>0,E15147=0),0,1)","v":0}]
[null,null,null,null,0,null,null,null,null,null,null,null,0,null,null,null,null,null,null,null,null,null,null,null,null,null,{"$f":"IF(OR(SUMPRODUCT(--(E15306=$O$1:$O$541))>0,E15306=0),0,1)","v":0}]
[null,null,null,null,0,null,null,null,null,null,null,null,0,null,null,null,null,null,null,null,null,null,null,null,null,null,{"$f":"IF(OR(SUMPRODUCT(--(E15327=$O$1:$O$541))>0,E15327=0),0,1)","v":0}]
[null,null,null,null,0,null,null,null,null,null,null,null,0,null,null,null,null,null,null,null,null,null,null,null,null,null,{"$f":"IF(OR(SUMPRODUCT(--(E15465=$O$1:$O$541))>0,E15465=0),0,1)","v":0}]
[null,null,null,null,0,null,null,null,null,null,null,null,0,null,null,null,null,null,null,null,null,null,null,null,null,null,{"$f":"IF(OR(SUMPRODUCT(--(E15607=$O$1:$O$541))>0,E15607=0),0,1)","v":0}]
[null,null,null,null,0,null,null,null,null,null,null,null,0,null,null,null,null,null,null,null,null,null,null,null,null,null,{"$f":"IF(OR(SUMPRODUCT(--(E15709=$O$1:$O$541))>0,E15709=0),0,1)","v":0}]
[null,null,null,null,0,null,null,null,null,null,null,null,0,null,null,null,null,null,null,null,null,null,null,null,null,null,{"$f":"IF(OR(SUMPRODUCT(--(E15783=$O$1:$O$541))>0,E15783=0),0,1)","v":0}]
[null,null,null,null,0,null,null,null,null,null,null,null,0,null,null,null,null,null,null,null,null,null,null,null,null,null,{"$f":"IF(OR(SUMPRODUCT(--(E15826=$O$1:$O$541))>0,E15826=0),0,1)","v":0}]
[null,null,null,null,0,null,null,null,null,null,null,null,0,null,null,null,null,null,null,null,null,null,null,null,null,null,{"$f":"IF(OR(SUMPRODUCT(--(E15964=$O$1:$O$541))>0,E15964=0),0,1)","v":0}]
[null,null,null,null,0,null,null,null,null,null,null,null,0,null,null,null,null,null,null,null,null,null,null,null,null,null,{"$f":"IF(OR(SUMPRODUCT(--(E16102=$O$1:$O$541))>0,E16102=0),0,1)","v":0}]
[null,null,null,null,0,null,null,null,null,null,null,null,0,null,null,null,null,null,null,null,null,null,null,null,null,null,{"$f":"IF(OR(SUMPRODUCT(--(E16144=$O$1:$O$541))>0,E16144=0),0,1)","v":0}]
[null,null,null,null,0,null,null,null,null,null,null,null,0,null,null,null,null,null,null,null,null,null,null,null,null,null,{"$f":"IF(OR(SUMPRODUCT(--(E16282=$O$1:$O$541))>0,E16282=0),0,1)","v":0}]
[null,null,null,null,0,null,null,null,null,null,null,null,0,null,null,null,null,null,null,null,null,null,null,null,null,null,{"$f":"IF(OR(SUMPRODUCT(--(E16325=$O$1:$O$541))>0,E16325=0),0,1)","v":0}]
[null,null,null,null,0,null,null,null,null,null,null,null,0,null,null,null,null,null,null,null,null,null,null,null,null,null,{"$f":"IF(OR(SUMPRODUCT(--(E16407=$O$1:$O$541))>0,E16407=0),0,1)","v":0}]
[null,null,null,null,0,null,null,null,null,null,null,null,0,null,null,null,null,null,null,null,null,null,null,null,null,null,{"$f":"IF(OR(SUMPRODUCT(--(E16600=$O$1:$O$541))>0,E16600=0),0,1)","v":0}]
[null,null,null,null,0,null,null,null,null,null,null,null,{"$f":"IF(L16643<>\"\",L16643,K16643)","v":0},null,null,null,null,null,null,null,null,null,null,null,null,null,{"$f":"IF(OR(SUMPRODUCT(--(E16643=$O$1:$O$541))>0,E16643=0),0,1)","v":0}]
[null,null,null,null,0,null,null,null,null,null,null,null,0,null,null,null,null,null,null,null,null,null,null,null,null,null,{"$f":"IF(OR(SUMPRODUCT(--(E16781=$O$1:$O$541))>0,E16781=0),0,1)","v":0}]
[null,null,null,null,{"$f":"IF(AND(F16898<>\"\",F16898=G16898),\"ERROR\",IF(AND(F16898<>\"\",F16898<>G16898),F16898,G16898))","v":0},null,null,null,null,null,null,null,0,null,null,null,null,null,null,null,null,null,null,null,null,null,{"$f":"IF(OR(SUMPRODUCT(--(E16898=$O$1:$O$541))>0,E16898=0),0,1)","v":0}]
[null,null,null,null,0,null,null,null,null,null,null,null,0,null,null,null,null,null,null,null,null,null,null,null,null,null,{"$f":"IF(OR(SUMPRODUCT(--(E16961=$O$1:$O$541))>0,E16961=0),0,1)","v":0}]
[null,null,null,null,0,null,null,null,null,null,null,null,0,null,null,null,null,null,null,null,null,null,null,null,null,null,{"$f":"IF(OR(SUMPRODUCT(--(E17000=$O$1:$O$541))>0,E17000=0),0,1)","v":0}]
[null,null,null,null,0,null,null,null,null,null,null,null,0,null,null,null,null,null,null,null,null,null,null,null,null,null,{"$f":"IF(OR(SUMPRODUCT(--(E17142=$O$1:$O$541))>0,E17142=0),0,1)","v":0}]
[null,null,null,null,0,null,null,null,null,null,null,null,0,null,null,null,null,null,null,null,null,null,null,null,null,null,{"$f":"IF(OR(SUMPRODUCT(--(E17203=$O$1:$O$541))>0,E17203=0),0,1)","v":0}]
[null,null,null,null,0,null,null,null,null,null,null,null,0,null,null,null,null,null,null,null,null,null,null,null,null,null,{"$f":"IF(OR(SUMPRODUCT(--(E17322=$O$1:$O$541))>0,E17322=0),0,1)","v":0}]
[null,null,null,null,0,null,null,null,null,null,null,null,0,null,null,null,null,null,null,null,null,null,null,null,null,null,{"$f":"IF(OR(SUMPRODUCT(--(E17460=$O$1:$O$541))>0,E17460=0),0,1)","v":0}]
[null,null,null,null,0,null,null,null,null,null,null,null,0,null,null,null,null,null,null,null,null,null,null,null,null,null,{"$f":"IF(OR(SUMPRODUCT(--(E17499=$O$1:$O$541))>0,E17499=0),0,1)","v":0}]
[null,null,null,null,0,null,null,null,null,null,null,null,0,null,null,null,null,null,null,null,null,null,null,null,null,null,{"$f":"IF(OR(SUMPRODUCT(--(E17596=$O$1:$O$541))>0,E17596=0),0,1)","v":0}]
[null,null,null,null,0,null,null,null,null,null,null,null,0,null,null,null,null,null,null,null,null,null,null,null,null,null,{"$f":"IF(OR(SUMPRODUCT(--(E17778=$O$1:$O$541))>0,E17778=0),0,1)","v":0}]
[null,null,null,null,0,null,null,null,null,null,null,null,0,null,null,null,null,null,null,null,null,null,null,null,null,null,{"$f":"IF(OR(SUMPRODUCT(--(E17817=$O$1:$O$541))>0,E17817=0),0,1)","v":0}]
[null,null,null,null,0,null,null,null,null,null,null,null,0,null,null,null,null,null,null,null,null,null,null,null,null,null,{"$f":"IF(OR(SUMPRODUCT(--(E17959=$O$1:$O$541))>0,E17959=0),0,1)","v":0}]
[null,null,null,null,0,null,null,null,null,null,null,null,0,null,null,null,null,null,null,null,null,null,null,null,null,null,{"$f":"IF(OR(SUMPRODUCT(--(E17999=$O$1:$O$541))>0,E17999=0),0,1)","v":0}]
[null,null,null,null,0,null,null,null,null,null,null,null,0,null,null,null,null,null,null,null,null,null,null,null,null,null,{"$f":"IF(OR(SUMPRODUCT(--(E18139=$O$1:$O$541))>0,E18139=0),0,1)","v":0}]
[null,null,null,null,0,null,null,null,null,null,null,null,0,null,null,null,null,null,null,null,null,null,null,null,null,null,{"$f":"IF(OR(SUMPRODUCT(--(E18277=$O$1:$O$541))>0,E18277=0),0,1)","v":0}]
[null,null,null,null,0,null,null,null,null,null,null,null,0,null,null,null,null,null,null,null,null,null,null,null,null,null,{"$f":"IF(OR(SUMPRODUCT(--(E18316=$O$1:$O$541))>0,E18316=0),0,1)","v":0}]
[null,null,null,null,0,null,null,null,null,null,null,null,0,null,null,null,null,null,null,null,null,null,null,null,null,null,{"$f":"IF(OR(SUMPRODUCT(--(E18392=$O$1:$O$541))>0,E18392=0),0,1)","v":0}]
[null,null,null,null,0,null,null,null,null,null,null,null,0,null,null,null,null,null,null,null,null,null,null,null,null,null,{"$f":"IF(OR(SUMPRODUCT(--(E18496=$O$1:$O$541))>0,E18496=0),0,1)","v":0}]
[null,null,null,null,0,null,null,null,null,null,null,null,0,null,null,null,null,null,null,null,null,null,null,null,null,null,{"$f":"IF(OR(SUMPRODUCT(--(E18634=$O$1:$O$541))>0,E18634=0),0,1)","v":0}]
[null,null,null,null,0,null,null,null,null,null,null,null,0,null,null,null,null,null,null,null,null,null,null,null,null,null,{"$f":"IF(OR(SUMPRODUCT(--(E18677=$O$1:$O$541))>0,E18677=0),0,1)","v":0}]
[null,null,null,null,0,null,null,null,null,null,null,null,0,null,null,null,null,null,null,null,null,null,null,null,null,null,{"$f":"IF(OR(SUMPRODUCT(--(E18795=$O$1:$O$541))>0,E18795=0),0,1)","v":0}]
[null,null,null,null,0,null,null,null,null,null,null,null,0,null,null,null,null,null,null,null,null,null,null,null,null,null,{"$f":"IF(OR(SUMPRODUCT(--(E18956=$O$1:$O$541))>0,E18956=0),0,1)","v":0}]
[null,null,null,null,0,null,null,null,null,null,null,null,0,null,null,null,null,null,null,null,null,null,null,null,null,null,{"$f":"IF(OR(SUMPRODUCT(--(E18995=$O$1:$O$541))>0,E18995=0),0,1)","v":0}]
[null,null,null,null,0,null,null,null,null,null,null,null,0,null,null,null,null,null,null,null,null,null,null,null,null,null,{"$f":"IF(OR(SUMPRODUCT(--(E19133=$O$1:$O$541))>0,E19133=0),0,1)","v":0}]
[null,null,null,null,0,null,null,null,null,null,null,null,0,null,null,null,null,null,null,null,null,null,null,null,null,null,{"$f":"IF(OR(SUMPRODUCT(--(E19188=$O$1:$O$541))>0,E19188=0),0,1)","v":0}]
[null,null,null,null,0,null,null,null,null,null,null,null,0,null,null,null,null,null,null,null,null,null,null,null,null,null,{"$f":"IF(OR(SUMPRODUCT(--(E19313=$O$1:$O$541))>0,E19313=0),0,1)","v":0}]
[null,null,null,null,0,null,null,null,null,null,null,null,0,null,null,null,null,null,null,null,null,null,null,null,null,null,{"$f":"IF(OR(SUMPRODUCT(--(E19455=$O$1:$O$541))>0,E19455=0),0,1)","v":0}]
[null,null,null,null,0,null,null,null,null,null,null,null,0,null,null,null,null,null,null,null,null,null,null,null,null,null,{"$f":"IF(OR(SUMPRODUCT(--(E19494=$O$1:$O$541))>0,E19494=0),0,1)","v":0}]
[null,null,null,null,0,null,null,null,null,null,null,null,0,null,null,null,null,null,null,null,null,null,null,null,null,null,{"$f":"IF(OR(SUMPRODUCT(--(E19591=$O$1:$O$541))>0,E19591=0),0,1)","v":0}]
[null,null,null,null,0,null,null,null,null,null,null,null,0,null,null,null,null,null,null,null,null,null,null,null,null,null,{"$f":"IF(OR(SUMPRODUCT(--(E19674=$O$1:$O$541))>0,E19674=0),0,1)","v":0}]
[null,null,null,null,0,null,null,null,null,null,null,null,0,null,null,null,null,null,null,null,null,null,null,null,null,null,{"$f":"IF(OR(SUMPRODUCT(--(E19812=$O$1:$O$541))>0,E19812=0),0,1)","v":0}]
[null,null,null,null,0,null,null,null,null,null,null,null,0,null,null,null,null,null,null,null,null,null,null,null,null,null,{"$f":"IF(OR(SUMPRODUCT(--(E19950=$O$1:$O$541))>0,E19950=0),0,1)","v":0}]
[null,null,null,null,0,null,null,null,null,null,null,null,0,null,null,null,null,null,null,null,null,null,null,null,null,null,{"$f":"IF(OR(SUMPRODUCT(--(E19984=$O$1:$O$541))>0,E19984=0),0,1)","v":0}]
[null,null,null,null,0,null,null,null,null,null,null,null,0,null,null,null,null,null,null,null,null,null,null,null,null,null,{"$f":"IF(OR(SUMPRODUCT(--(E20130=$O$1:$O$541))>0,E20130=0),0,1)","v":0}]
[null,null,null,null,0,null,null,null,null,null,null,null,0,null,null,null,null,null,null,null,null,null,null,null,null,null,{"$f":"IF(OR(SUMPRODUCT(--(E20173=$O$1:$O$541))>0,E20173=0),0,1)","v":0}]
[null,null,null,null,0,null,null,null,null,null,null,null,0,null,null,null,null,null,null,null,null,null,null,null,null,null,{"$f":"IF(OR(SUMPRODUCT(--(E20311=$O$1:$O$541))>0,E20311=0),0,1)","v":0}]
[null,null,null,null,0,null,null,null,null,null,null,null,0,null,null,null,null,null,null,null,null,null,null,null,null,null,{"$f":"IF(OR(SUMPRODUCT(--(E20387=$O$1:$O$541))>0,E20387=0),0,1)","v":0}]
[null,null,null,null,0,null,null,null,null,null,null,null,0,null,null,null,null,null,null,null,null,null,null,null,null,null,{"$f":"IF(OR(SUMPRODUCT(--(E20491=$O$1:$O$541))>0,E20491=0),0,1)","v":0}]
[null,null,null,null,0,null,null,null,null,null,null,null,0,null,null,null,null,null,null,null,null,null,null,null,null,null,{"$f":"IF(OR(SUMPRODUCT(--(E20629=$O$1:$O$541))>0,E20629=0),0,1)","v":0}]
[null,null,null,null,0,null,null,null,null,null,null,null,0,null,null,null,null,null,null,null,null,null,null,null,null,null,{"$f":"IF(OR(SUMPRODUCT(--(E20672=$O$1:$O$541))>0,E20672=0),0,1)","v":0}]
[null,null,null,null,0,null,null,null,null,null,null,null,0,null,null,null,null,null,null,null,null,null,null,null,null,null,{"$f":"IF(OR(SUMPRODUCT(--(E20780=$O$1:$O$541))>0,E20780=0),0,1)","v":0}]
[null,null,null,null,0,null,null,null,null,null,null,null,0,null,null,null,null,null,null,null,null,null,null,null,null,null,{"$f":"IF(OR(SUMPRODUCT(--(E20947=$O$1:$O$541))>0,E20947=0),0,1)","v":0}]
[null,null,null,null,0,null,null,null,null,null,null,null,0,null,null,null,null,null,null,null,null,null,null,null,null,null,{"$f":"IF(OR(SUMPRODUCT(--(E20990=$O$1:$O$541))>0,E20990=0),0,1)","v":0}]
[null,null,null,null,0,null,null,null,null,null,null,null,0,null,null,null,null,null,null,null,null,null,null,null,null,null,{"$f":"IF(OR(SUMPRODUCT(--(E21128=$O$1:$O$541))>0,E21128=0),0,1)","v":0}]
[null,null,null,null,0,null,null,null,null,null,null,null,0,null,null,null,null,null,null,null,null,null,null,null,null,null,{"$f":"IF(OR(SUMPRODUCT(--(E21183=$O$1:$O$541))>0,E21183=0),0,1)","v":0}]
[null,null,null,null,0,null,null,null,null,null,null,null,0,null,null,null,null,null,null,null,null,null,null,null,null,null,{"$f":"IF(OR(SUMPRODUCT(--(E21308=$O$1:$O$541))>0,E21308=0),0,1)","v":0}]
[null,null,null,null,0,null,null,null,null,null,null,null,0,null,null,null,null,null,null,null,null,null,null,null,null,null,{"$f":"IF(OR(SUMPRODUCT(--(E21347=$O$1:$O$541))>0,E21347=0),0,1)","v":0}]
[null,null,null,null,0,null,null,null,null,null,null,null,0,null,null,null,null,null,null,null,null,null,null,null,null,null,{"$f":"IF(OR(SUMPRODUCT(--(E21489=$O$1:$O$541))>0,E21489=0),0,1)","v":0}]
[null,null,null,null,0,null,null,null,null,null,null,null,0,null,null,null,null,null,null,null,null,null,null,null,null,null,{"$f":"IF(OR(SUMPRODUCT(--(E21576=$O$1:$O$541))>0,E21576=0),0,1)","v":0}]
[null,null,null,null,0,null,null,null,null,null,null,null,0,null,null,null,null,null,null,null,null,null,null,null,null,null,{"$f":"IF(OR(SUMPRODUCT(--(E21665=$O$1:$O$541))>0,E21665=0),0,1)","v":0}]
[null,null,null,null,0,null,null,null,null,null,null,null,0,null,null,null,null,null,null,null,null,null,null,null,null,null,{"$f":"IF(OR(SUMPRODUCT(--(E21807=$O$1:$O$541))>0,E21807=0),0,1)","v":0}]
[null,null,null,null,0,null,null,null,null,null,null,null,0,null,null,null,null,null,null,null,null,null,null,null,null,null,{"$f":"IF(OR(SUMPRODUCT(--(E21846=$O$1:$O$541))>0,E21846=0),0,1)","v":0}]
[null,null,null,null,0,null,null,null,null,null,null,null,0,null,null,null,null,null,null,null,null,null,null,null,null,null,{"$f":"IF(OR(SUMPRODUCT(--(E21979=$O$1:$O$541))>0,E21979=0),0,1)","v":0}]
[null,null,null,null,0,null,null,null,null,null,null,null,0,null,null,null,null,null,null,null,null,null,null,null,null,null,{"$f":"IF(OR(SUMPRODUCT(--(E22125=$O$1:$O$541))>0,E22125=0),0,1)","v":0}]
[null,null,null,null,0,null,null,null,null,null,null,null,0,null,null,null,null,null,null,null,null,null,null,null,null,null,{"$f":"IF(OR(SUMPRODUCT(--(E22164=$O$1:$O$541))>0,E22164=0),0,1)","v":0}]
[null,null,null,null,0,null,null,null,null,null,null,null,0,null,null,null,null,null,null,null,null,null,null,null,null,null,{"$f":"IF(OR(SUMPRODUCT(--(E22306=$O$1:$O$541))>0,E22306=0),0,1)","v":0}]
[null,null,null,null,0,null,null,null,null,null,null,null,0,null,null,null,null,null,null,null,null,null,null,null,null,null,{"$f":"IF(OR(SUMPRODUCT(--(E22372=$O$1:$O$541))>0,E22372=0),0,1)","v":0}]
[null,null,null,null,0,null,null,null,null,null,null,null,0,null,null,null,null,null,null,null,null,null,null,null,null,null,{"$f":"IF(OR(SUMPRODUCT(--(E22482=$O$1:$O$541))>0,E22482=0),0,1)","v":0}]
[null,null,null,null,0,null,null,null,null,null,null,null,0,null,null,null,null,null,null,null,null,null,null,null,null,null,{"$f":"IF(OR(SUMPRODUCT(--(E22624=$O$1:$O$541))>0,E22624=0),0,1)","v":0}]
[null,null,null,null,0,null,null,null,null,null,null,null,0,null,null,null,null,null,null,null,null,null,null,null,null,null,{"$f":"IF(OR(SUMPRODUCT(--(E22663=$O$1:$O$541))>0,E22663=0),0,1)","v":0}]
[null,null,null,null,0,null,null,null,null,null,null,null,0,null,null,null,null,null,null,null,null,null,null,null,null,null,{"$f":"IF(OR(SUMPRODUCT(--(E22765=$O$1:$O$541))>0,E22765=0),0,1)","v":0}]
[null,null,null,null,0,null,null,null,null,null,null,null,0,null,null,null,null,null,null,null,null,null,null,null,null,null,{"$f":"IF(OR(SUMPRODUCT(--(E22843=$O$1:$O$541))>0,E22843=0),0,1)","v":0}]
[null,null,null,null,0,null,null,null,null,null,null,null,0,null,null,null,null,null,null,null,null,null,null,null,null,null,{"$f":"IF(OR(SUMPRODUCT(--(E22981=$O$1:$O$541))>0,E22981=0),0,1)","v":0}]
[null,null,null,null,0,null,null,null,null,null,null,null,0,null,null,null,null,null,null,null,null,null,null,null,null,null,{"$f":"IF(OR(SUMPRODUCT(--(E23024=$O$1:$O$541))>0,E23024=0),0,1)","v":0}]
[null,null,null,null,0,null,null,null,null,null,null,null,0,null,null,null,null,null,null,null,null,null,null,null,null,null,{"$f":"IF(OR(SUMPRODUCT(--(E23168=$O$1:$O$541))>0,E23168=0),0,1)","v":0}]
[null,null,null,null,0,null,null,null,null,null,null,null,{"$f":"IF(L23299<>\"\",L23299,K23299)","v":0},null,null,null,null,null,null,null,null,null,null,null,null,null,{"$f":"IF(OR(SUMPRODUCT(--(E23299=$O$1:$O$541))>0,E23299=0),0,1)","v":0}]
[null,null,null,null,0,null,null,null,null,null,null,null,0,null,null,null,null,null,null,null,null,null,null,null,null,null,{"$f":"IF(OR(SUMPRODUCT(--(E23342=$O$1:$O$541))>0,E23342=0),0,1)","v":0}]
[null,null,null,null,0,null,null,null,null,null,null,null,0,null,null,null,null,null,null,null,null,null,null,null,null,null,{"$f":"IF(OR(SUMPRODUCT(--(E23480=$O$1:$O$541))>0,E23480=0),0,1)","v":0}]
[null,null,null,null,0,null,null,null,null,null,null,null,0,null,null,null,null,null,null,null,null,null,null,null,null,null,{"$f":"IF(OR(SUMPRODUCT(--(E23561=$O$1:$O$541))>0,E23561=0),0,1)","v":0}]
[null,null,null,null,0,null,null,null,null,null,null,null,0,null,null,null,null,null,null,null,null,null,null,null,null,null,{"$f":"IF(OR(SUMPRODUCT(--(E23660=$O$1:$O$541))>0,E23660=0),0,1)","v":0}]
[null,null,null,null,0,null,null,null,null,null,null,null,0,null,null,null,null,null,null,null,null,null,null,null,null,null,{"$f":"IF(OR(SUMPRODUCT(--(E23798=$O$1:$O$541))>0,E23798=0),0,1)","v":0}]
[null,null,null,null,0,null,null,null,null,null,null,null,0,null,null,null,null,null,null,null,null,null,null,null,null,null,{"$f":"IF(OR(SUMPRODUCT(--(E23841=$O$1:$O$541))>0,E23841=0),0,1)","v":0}]
[null,null,null,null,0,null,null,null,null,null,null,null,0,null,null,null,null,null,null,null,null,null,null,null,null,null,{"$f":"IF(OR(SUMPRODUCT(--(E23964=$O$1:$O$541))>0,E23964=0),0,1)","v":0}]
[null,null,null,null,0,null,null,null,null,null,null,null,0,null,null,null,null,null,null,null,null,null,null,null,null,null,{"$f":"IF(OR(SUMPRODUCT(--(E24017=$O$1:$O$541))>0,E24017=0),0,1)","v":0}]
[null,null,null,null,0,null,null,null,null,null,null,null,0,null,null,null,null,null,null,null,null,null,null,null,null,null,{"$f":"IF(OR(SUMPRODUCT(--(E24159=$O$1:$O$541))>0,E24159=0),0,1)","v":0}]
[null,null,null,null,0,null,null,null,null,null,null,null,0,null,null,null,null,null,null,null,null,null,null,null,null,null,{"$f":"IF(OR(SUMPRODUCT(--(E24297=$O$1:$O$541))>0,E24297=0),0,1)","v":0}]
[null,null,null,null,0,null,null,null,null,null,null,null,0,null,null,null,null,null,null,null,null,null,null,null,null,null,{"$f":"IF(OR(SUMPRODUCT(--(E24357=$O$1:$O$541))>0,E24357=0),0,1)","v":0}]
[null,null,null,null,0,null,null,null,null,null,null,null,0,null,null,null,null,null,null,null,null,null,null,null,null,null,{"$f":"IF(OR(SUMPRODUCT(--(E24477=$O$1:$O$541))>0,E24477=0),0,1)","v":0}]
[null,null,null,null,0,null,null,null,null,null,null,null,0,null,null,null,null,null,null,null,null,null,null,null,null,null,{"$f":"IF(OR(SUMPRODUCT(--(E24516=$O$1:$O$541))>0,E24516=0),0,1)","v":0}]
[null,null,null,null,0,null,null,null,null,null,null,null,0,null,null,null,null,null,null,null,null,null,null,null,null,null,{"$f":"IF(OR(SUMPRODUCT(--(E24658=$O$1:$O$541))>0,E24658=0),0,1)","v":0}]
[null,null,null,null,0,null,null,null,null,null,null,null,0,null,null,null,null,null,null,null,null,null,null,null,null,null,{"$f":"IF(OR(SUMPRODUCT(--(E24760=$O$1:$O$541))>0,E24760=0),0,1)","v":0}]
[null,null,null,null,0,null,null,null,null,null,null,null,0,null,null,null,null,null,null,null,null,null,null,null,null,null,{"$f":"IF(OR(SUMPRODUCT(--(E24838=$O$1:$O$541))>0,E24838=0),0,1)","v":0}]
[null,null,null,null,0,null,null,null,null,null,null,null,0,null,null,null,null,null,null,null,null,null,null,null,null,null,{"$f":"IF(OR(SUMPRODUCT(--(E24976=$O$1:$O$541))>0,E24976=0),0,1)","v":0}]
[null,null,null,null,0,null,null,null,null,null,null,null,0,null,null,null,null,null,null,null,null,null,null,null,null,null,{"$f":"IF(OR(SUMPRODUCT(--(E25015=$O$1:$O$541))>0,E25015=0),0,1)","v":0}]
[null,null,null,null,0,null,null,null,null,null,null,null,0,null,null,null,null,null,null,null,null,null,null,null,null,null,{"$f":"IF(OR(SUMPRODUCT(--(E25153=$O$1:$O$541))>0,E25153=0),0,1)","v":0}]
[null,null,null,null,0,null,null,null,null,null,null,null,0,null,null,null,null,null,null,null,null,null,null,null,null,null,{"$f":"IF(OR(SUMPRODUCT(--(E25195=$O$1:$O$541))>0,E25195=0),0,1)","v":0}]
[null,null,null,null,0,null,null,null,null,null,null,null,0,null,null,null,null,null,null,null,null,null,null,null,null,null,{"$f":"IF(OR(SUMPRODUCT(--(E25333=$O$1:$O$541))>0,E25333=0),0,1)","v":0}]
[null,null,null,null,0,null,null,null,null,null,null,null,{"$f":"IF(L25475<>\"\",L25475,K25475)","v":0},null,null,null,null,null,null,null,null,null,null,null,null,null,{"$f":"IF(OR(SUMPRODUCT(--(E25475=$O$1:$O$541))>0,E25475=0),0,1)","v":0}]
[null,null,null,null,0,null,null,null,null,null,null,null,0,null,null,null,null,null,null,null,null,null,null,null,null,null,{"$f":"IF(OR(SUMPRODUCT(--(E25556=$O$1:$O$541))>0,E25556=0),0,1)","v":0}]
[null,null,null,null,0,null,null,null,null,null,null,null,0,null,null,null,null,null,null,null,null,null,null,null,null,null,{"$f":"IF(OR(SUMPRODUCT(--(E25655=$O$1:$O$541))>0,E25655=0),0,1)","v":0}]
[null,null,null,null,0,null,null,null,null,null,null,null,0,null,null,null,null,null,null,null,null,null,null,null,null,null,{"$f":"IF(OR(SUMPRODUCT(--(E25694=$O$1:$O$541))>0,E25694=0),0,1)","v":0}]
[null,null,null,null,0,null,null,null,null,null,null,null,0,null,null,null,null,null,null,null,null,null,null,null,null,null,{"$f":"IF(OR(SUMPRODUCT(--(E25832=$O$1:$O$541))>0,E25832=0),0,1)","v":0}]
[null,null,null,null,0,null,null,null,null,null,null,null,0,null,null,null,null,null,null,null,null,null,null,null,null,null,{"$f":"IF(OR(SUMPRODUCT(--(E25974=$O$1:$O$541))>0,E25974=0),0,1)","v":0}]
[null,null,null,null,0,null,null,null,null,null,null,null,0,null,null,null,null,null,null,null,null,null,null,null,null,null,{"$f":"IF(OR(SUMPRODUCT(--(E26077=$O$1:$O$541))>0,E26077=0),0,1)","v":0}]
[null,null,null,null,0,null,null,null,null,null,null,null,0,null,null,null,null,null,null,null,null,null,null,null,null,null,{"$f":"IF(OR(SUMPRODUCT(--(E26154=$O$1:$O$541))>0,E26154=0),0,1)","v":0}]
[null,null,null,null,0,null,null,null,null,null,null,null,0,null,null,null,null,null,null,null,null,null,null,null,null,null,{"$f":"IF(OR(SUMPRODUCT(--(E26193=$O$1:$O$541))>0,E26193=0),0,1)","v":0}]
[null,null,null,null,0,null,null,null,null,null,null,null,0,null,null,null,null,null,null,null,null,null,null,null,null,null,{"$f":"IF(OR(SUMPRODUCT(--(E26331=$O$1:$O$541))>0,E26331=0),0,1)","v":0}]
[null,null,null,null,0,null,null,null,null,null,null,null,0,null,null,null,null,null,null,null,null,null,null,null,null,null,{"$f":"IF(OR(SUMPRODUCT(--(E26470=$O$1:$O$541))>0,E26470=0),0,1)","v":0}]
[null,null,null,null,0,null,null,null,null,null,null,null,0,null,null,null,null,null,null,null,null,null,null,null,null,null,{"$f":"IF(OR(SUMPRODUCT(--(E26511=$O$1:$O$541))>0,E26511=0),0,1)","v":0}]
[null,null,null,null,0,null,null,null,null,null,null,null,0,null,null,null,null,null,null,null,null,null,null,null,null,null,{"$f":"IF(OR(SUMPRODUCT(--(E26649=$O$1:$O$541))>0,E26649=0),0,1)","v":0}]
[null,null,null,null,0,null,null,null,null,null,null,null,0,null,null,null,null,null,null,null,null,null,null,null,null,null,{"$f":"IF(OR(SUMPRODUCT(--(E26692=$O$1:$O$541))>0,E26692=0),0,1)","v":0}]
[null,null,null,null,0,null,null,null,null,null,null,null,0,null,null,null,null,null,null,null,null,null,null,null,null,null,{"$f":"IF(OR(SUMPRODUCT(--(E26775=$O$1:$O$541))>0,E26775=0),0,1)","v":0}]
[null,null,null,null,0,null,null,null,null,null,null,null,0,null,null,null,null,null,null,null,null,null,null,null,null,null,{"$f":"IF(OR(SUMPRODUCT(--(E26971=$O$1:$O$541))>0,E26971=0),0,1)","v":0}]
[null,null,null,null,{"$f":"IF(AND(F27010<>\"\",F27010=G27010),\"ERROR\",IF(AND(F27010<>\"\",F27010<>G27010),F27010,G27010))","v":0},null,null,null,null,null,null,null,0,null,null,null,null,null,null,null,null,null,null,null,null,null,{"$f":"IF(OR(SUMPRODUCT(--(E27010=$O$1:$O$541))>0,E27010=0),0,1)","v":0}]
[null,null,null,null,0,null,null,null,null,null,null,null,0,null,null,null,null,null,null,null,null,null,null,null,null,null,{"$f":"IF(OR(SUMPRODUCT(--(E27148=$O$1:$O$541))>0,E27148=0),0,1)","v":0}]
[null,null,null,null,{"$f":"IF(AND(F27266<>\"\",F27266=G27266),\"ERROR\",IF(AND(F27266<>\"\",F27266<>G27266),F27266,G27266))","v":0},null,null,null,null,null,null,null,0,null,null,null,null,null,null,null,null,null,null,null,null,null,{"$f":"IF(OR(SUMPRODUCT(--(E27266=$O$1:$O$541))>0,E27266=0),0,1)","v":0}]
[null,null,null,null,0,null,null,null,null,null,null,null,0,null,null,null,null,null,null,null,null,null,null,null,null,null,{"$f":"IF(OR(SUMPRODUCT(--(E27328=$O$1:$O$541))>0,E27328=0),0,1)","v":0}]
[null,null,null,null,0,null,null,null,null,null,null,null,0,null,null,null,null,null,null,null,null,null,null,null,null,null,{"$f":"IF(OR(SUMPRODUCT(--(E27367=$O$1:$O$541))>0,E27367=0),0,1)","v":0}]
[null,null,null,null,0,null,null,null,null,null,null,null,0,null,null,null,null,null,null,null,null,null,null,null,null,null,{"$f":"IF(OR(SUMPRODUCT(--(E27509=$O$1:$O$541))>0,E27509=0),0,1)","v":0}]
[null,null,null,null,0,null,null,null,null,null,null,null,0,null,null,null,null,null,null,null,null,null,null,null,null,null,{"$f":"IF(OR(SUMPRODUCT(--(E27571=$O$1:$O$541))>0,E27571=0),0,1)","v":0}]
[null,null,null,null,0,null,null,null,null,null,null,null,0,null,null,null,null,null,null,null,null,null,null,null,null,null,{"$f":"IF(OR(SUMPRODUCT(--(E27689=$O$1:$O$541))>0,E27689=0),0,1)","v":0}]
[null,null,null,null,0,null,null,null,null,null,null,null,0,null,null,null,null,null,null,null,null,null,null,null,null,null,{"$f":"IF(OR(SUMPRODUCT(--(E27827=$O$1:$O$541))>0,E27827=0),0,1)","v":0}]
[null,null,null,null,0,null,null,null,null,null,null,null,0,null,null,null,null,null,null,null,null,null,null,null,null,null,{"$f":"IF(OR(SUMPRODUCT(--(E27866=$O$1:$O$541))>0,E27866=0),0,1)","v":0}]
[null,null,null,null,0,null,null,null,null,null,null,null,0,null,null,null,null,null,null,null,null,null,null,null,null,null,{"$f":"IF(OR(SUMPRODUCT(--(E27964=$O$1:$O$541))>0,E27964=0),0,1)","v":0}]
[null,null,null,null,0,null,null,null,null,null,null,null,0,null,null,null,null,null,null,null,null,null,null,null,null,null,{"$f":"IF(OR(SUMPRODUCT(--(E28145=$O$1:$O$541))>0,E28145=0),0,1)","v":0}]
[null,null,null,null,0,null,null,null,null,null,null,null,0,null,null,null,null,null,null,null,null,null,null,null,null,null,{"$f":"IF(OR(SUMPRODUCT(--(E28188=$O$1:$O$541))>0,E28188=0),0,1)","v":0}]
[null,null,null,null,0,null,null,null,null,null,null,null,0,null,null,null,null,null,null,null,null,null,null,null,null,null,{"$f":"IF(OR(SUMPRODUCT(--(E28326=$O$1:$O$541))>0,E28326=0),0,1)","v":0}]
[null,null,null,null,0,null,null,null,null,null,null,null,0,null,null,null,null,null,null,null,null,null,null,null,null,null,{"$f":"IF(OR(SUMPRODUCT(--(E28367=$O$1:$O$541))>0,E28367=0),0,1)","v":0}]
[null,null,null,null,0,null,null,null,null,null,null,null,0,null,null,null,null,null,null,null,null,null,null,null,null,null,{"$f":"IF(OR(SUMPRODUCT(--(E28506=$O$1:$O$541))>0,E28506=0),0,1)","v":0}]
[null,null,null,null,0,null,null,null,null,null,null,null,0,null,null,null,null,null,null,null,null,null,null,null,null,null,{"$f":"IF(OR(SUMPRODUCT(--(E28644=$O$1:$O$541))>0,E28644=0),0,1)","v":0}]
[null,null,null,null,0,null,null,null,null,null,null,null,0,null,null,null,null,null,null,null,null,null,null,null,null,null,{"$f":"IF(OR(SUMPRODUCT(--(E28683=$O$1:$O$541))>0,E28683=0),0,1)","v":0}]
[null,null,null,null,0,null,null,null,null,null,null,null,0,null,null,null,null,null,null,null,null,null,null,null,null,null,{"$f":"IF(OR(SUMPRODUCT(--(E28760=$O$1:$O$541))>0,E28760=0),0,1)","v":0}]
[null,null,null,null,0,null,null,null,null,null,null,null,0,null,null,null,null,null,null,null,null,null,null,null,null,null,{"$f":"IF(OR(SUMPRODUCT(--(E28863=$O$1:$O$541))>0,E28863=0),0,1)","v":0}]
[null,null,null,null,0,null,null,null,null,null,null,null,0,null,null,null,null,null,null,null,null,null,null,null,null,null,{"$f":"IF(OR(SUMPRODUCT(--(E29005=$O$1:$O$541))>0,E29005=0),0,1)","v":0}]
[null,null,null,null,0,null,null,null,null,null,null,null,0,null,null,null,null,null,null,null,null,null,null,null,null,null,{"$f":"IF(OR(SUMPRODUCT(--(E29143=$O$1:$O$541))>0,E29143=0),0,1)","v":0}]
[null,null,null,null,0,null,null,null,null,null,null,null,0,null,null,null,null,null,null,null,null,null,null,null,null,null,{"$f":"IF(OR(SUMPRODUCT(--(E29163=$O$1:$O$541))>0,E29163=0),0,1)","v":0}]
[null,null,null,null,0,null,null,null,null,null,null,null,0,null,null,null,null,null,null,null,null,null,null,null,null,null,{"$f":"IF(OR(SUMPRODUCT(--(E29323=$O$1:$O$541))>0,E29323=0),0,1)","v":0}]
[null,null,null,null,0,null,null,null,null,null,null,null,0,null,null,null,null,null,null,null,null,null,null,null,null,null,{"$f":"IF(OR(SUMPRODUCT(--(E29362=$O$1:$O$541))>0,E29362=0),0,1)","v":0}]
[null,null,null,null,0,null,null,null,null,null,null,null,0,null,null,null,null,null,null,null,null,null,null,null,null,null,{"$f":"IF(OR(SUMPRODUCT(--(E29504=$O$1:$O$541))>0,E29504=0),0,1)","v":0}]
[null,null,null,null,0,null,null,null,null,null,null,null,0,null,null,null,null,null,null,null,null,null,null,null,null,null,{"$f":"IF(OR(SUMPRODUCT(--(E29556=$O$1:$O$541))>0,E29556=0),0,1)","v":0}]
[null,null,null,null,0,null,null,null,null,null,null,null,0,null,null,null,null,null,null,null,null,null,null,null,null,null,{"$f":"IF(OR(SUMPRODUCT(--(E29680=$O$1:$O$541))>0,E29680=0),0,1)","v":0}]
[null,null,null,null,0,null,null,null,null,null,null,null,0,null,null,null,null,null,null,null,null,null,null,null,null,null,{"$f":"IF(OR(SUMPRODUCT(--(E29822=$O$1:$O$541))>0,E29822=0),0,1)","v":0}]
[null,null,null,null,0,null,null,null,null,null,null,null,0,null,null,null,null,null,null,null,null,null,null,null,null,null,{"$f":"IF(OR(SUMPRODUCT(--(E29861=$O$1:$O$541))>0,E29861=0),0,1)","v":0}]
[null,null,null,null,0,null,null,null,null,null,null,null,0,null,null,null,null,null,null,null,null,null,null,null,null,null,{"$f":"IF(OR(SUMPRODUCT(--(E29959=$O$1:$O$541))>0,E29959=0),0,1)","v":0}]
[null,null,null,null,0,null,null,null,null,null,null,null,0,null,null,null,null,null,null,null,null,null,null,null,null,null,{"$f":"IF(OR(SUMPRODUCT(--(E30041=$O$1:$O$541))>0,E30041=0),0,1)","v":0}]
[null,null,null,null,0,null,null,null,null,null,null,null,0,null,null,null,null,null,null,null,null,null,null,null,null,null,{"$f":"IF(OR(SUMPRODUCT(--(E30179=$O$1:$O$541))>0,E30179=0),0,1)","v":0}]
[null,null,null,null,0,null,null,null,null,null,null,null,0,null,null,null,null,null,null,null,null,null,null,null,null,null,{"$f":"IF(OR(SUMPRODUCT(--(E30321=$O$1:$O$541))>0,E30321=0),0,1)","v":0}]
[null,null,null,null,0,null,null,null,null,null,null,null,0,null,null,null,null,null,null,null,null,null,null,null,null,null,{"$f":"IF(OR(SUMPRODUCT(--(E30352=$O$1:$O$541))>0,E30352=0),0,1)","v":0}]
[null,null,null,null,0,null,null,null,null,null,null,null,0,null,null,null,null,null,null,null,null,null,null,null,null,null,{"$f":"IF(OR(SUMPRODUCT(--(E30497=$O$1:$O$541))>0,E30497=0),0,1)","v":0}]
[null,null,null,null,0,null,null,null,null,null,null,null,0,null,null,null,null,null,null,null,null,null,null,null,null,null,{"$f":"IF(OR(SUMPRODUCT(--(E30540=$O$1:$O$541))>0,E30540=0),0,1)","v":0}]
[null,null,null,null,0,null,null,null,null,null,null,null,0,null,null,null,null,null,null,null,null,null,null,null,null,null,{"$f":"IF(OR(SUMPRODUCT(--(E30678=$O$1:$O$541))>0,E30678=0),0,1)","v":0}]
[null,null,null,null,0,null,null,null,null,null,null,null,0,null,null,null,null,null,null,null,null,null,null,null,null,null,{"$f":"IF(OR(SUMPRODUCT(--(E30755=$O$1:$O$541))>0,E30755=0),0,1)","v":0}]
[null,null,null,null,0,null,null,null,null,null,null,null,0,null,null,null,null,null,null,null,null,null,null,null,null,null,{"$f":"IF(OR(SUMPRODUCT(--(E30858=$O$1:$O$541))>0,E30858=0),0,1)","v":0}]
[null,null,null,null,0,null,null,null,null,null,null,null,0,null,null,null,null,null,null,null,null,null,null,null,null,null,{"$f":"IF(OR(SUMPRODUCT(--(E30996=$O$1:$O$541))>0,E30996=0),0,1)","v":0}]
[null,null,null,null,0,null,null,null,null,null,null,null,0,null,null,null,null,null,null,null,null,null,null,null,null,null,{"$f":"IF(OR(SUMPRODUCT(--(E31039=$O$1:$O$541))>0,E31039=0),0,1)","v":0}]
[null,null,null,null,0,null,null,null,null,null,null,null,0,null,null,null,null,null,null,null,null,null,null,null,null,null,{"$f":"IF(OR(SUMPRODUCT(--(E31148=$O$1:$O$541))>0,E31148=0),0,1)","v":0}]
[null,null,null,null,0,null,null,null,null,null,null,null,0,null,null,null,null,null,null,null,null,null,null,null,null,null,{"$f":"IF(OR(SUMPRODUCT(--(E31314=$O$1:$O$541))>0,E31314=0),0,1)","v":0}]
[null,null,null,null,0,null,null,null,null,null,null,null,0,null,null,null,null,null,null,null,null,null,null,null,null,null,{"$f":"IF(OR(SUMPRODUCT(--(E31357=$O$1:$O$541))>0,E31357=0),0,1)","v":0}]
[null,null,null,null,0,null,null,null,null,null,null,null,0,null,null,null,null,null,null,null,null,null,null,null,null,null,{"$f":"IF(OR(SUMPRODUCT(--(E31495=$O$1:$O$541))>0,E31495=0),0,1)","v":0}]
[null,null,null,null,0,null,null,null,null,null,null,null,0,null,null,null,null,null,null,null,null,null,null,null,null,null,{"$f":"IF(OR(SUMPRODUCT(--(E31541=$O$1:$O$541))>0,E31541=0),0,1)","v":0}]
[null,null,null,null,0,null,null,null,null,null,null,null,0,null,null,null,null,null,null,null,null,null,null,null,null,null,{"$f":"IF(OR(SUMPRODUCT(--(E31675=$O$1:$O$541))>0,E31675=0),0,1)","v":0}]
[null,null,null,null,0,null,null,null,null,null,null,null,0,null,null,null,null,null,null,null,null,null,null,null,null,null,{"$f":"IF(OR(SUMPRODUCT(--(E31714=$O$1:$O$541))>0,E31714=0),0,1)","v":0}]
[null,null,null,null,0,null,null,null,null,null,null,null,0,null,null,null,null,null,null,null,null,null,null,null,null,null,{"$f":"IF(OR(SUMPRODUCT(--(E31856=$O$1:$O$541))>0,E31856=0),0,1)","v":0}]
[null,null,null,null,0,null,null,null,null,null,null,null,0,null,null,null,null,null,null,null,null,null,null,null,null,null,{"$f":"IF(OR(SUMPRODUCT(--(E31944=$O$1:$O$541))>0,E31944=0),0,1)","v":0}]
[null,null,null,null,0,null,null,null,null,null,null,null,0,null,null,null,null,null,null,null,null,null,null,null,null,null,{"$f":"IF(OR(SUMPRODUCT(--(E32032=$O$1:$O$541))>0,E32032=0),0,1)","v":0}]
[null,null,null,null,0,null,null,null,null,null,null,null,0,null,null,null,null,null,null,null,null,null,null,null,null,null,{"$f":"IF(OR(SUMPRODUCT(--(E32174=$O$1:$O$541))>0,E32174=0),0,1)","v":0}]
[null,null,null,null,0,null,null,null,null,null,null,null,0,null,null,null,null,null,null,null,null,null,null,null,null,null,{"$f":"IF(OR(SUMPRODUCT(--(E32213=$O$1:$O$541))>0,E32213=0),0,1)","v":0}]
[null,null,null,null,0,null,null,null,null,null,null,null,0,null,null,null,null,null,null,null,null,null,null,null,null,null,{"$f":"IF(OR(SUMPRODUCT(--(E32337=$O$1:$O$541))>0,E32337=0),0,1)","v":0}]
[null,null,null,null,0,null,null,null,null,null,null,null,0,null,null,null,null,null,null,null,null,null,null,null,null,null,{"$f":"IF(OR(SUMPRODUCT(--(E32492=$O$1:$O$541))>0,E32492=0),0,1)","v":0}]
[null,null,null,null,0,null,null,null,null,null,null,null,0,null,null,null,null,null,null,null,null,null,null,null,null,null,{"$f":"IF(OR(SUMPRODUCT(--(E32531=$O$1:$O$541))>0,E32531=0),0,1)","v":0}]
[null,null,null,null,0,null,null,null,null,null,null,null,0,null,null,null,null,null,null,null,null,null,null,null,null,null,{"$f":"IF(OR(SUMPRODUCT(--(E32673=$O$1:$O$541))>0,E32673=0),0,1)","v":0}]
[null,null,null,null,0,null,null,null,null,null,null,null,0,null,null,null,null,null,null,null,null,null,null,null,null,null,{"$f":"IF(OR(SUMPRODUCT(--(E32740=$O$1:$O$541))>0,E32740=0),0,1)","v":0}]
[null,null,null,null,0,null,null,null,null,null,null,null,0,null,null,null,null,null,null,null,null,null,null,null,null,null,{"$f":"IF(OR(SUMPRODUCT(--(E32849=$O$1:$O$541))>0,E32849=0),0,1)","v":0}]
[null,null,null,null,0,null,null,null,null,null,null,null,0,null,null,null,null,null,null,null,null,null,null,null,null,null,{"$f":"IF(OR(SUMPRODUCT(--(E32991=$O$1:$O$541))>0,E32991=0),0,1)","v":0}]
[null,null,null,null,0,null,null,null,null,null,null,null,0,null,null,null,null,null,null,null,null,null,null,null,null,null,{"$f":"IF(OR(SUMPRODUCT(--(E33030=$O$1:$O$541))>0,E33030=0),0,1)","v":0}]
[null,null,null,null,0,null,null,null,null,null,null,null,0,null,null,null,null,null,null,null,null,null,null,null,null,null,{"$f":"IF(OR(SUMPRODUCT(--(E33133=$O$1:$O$541))>0,E33133=0),0,1)","v":0}]
[null,null,null,null,0,null,null,null,null,null,null,null,0,null,null,null,null,null,null,null,null,null,null,null,null,null,{"$f":"IF(OR(SUMPRODUCT(--(E33210=$O$1:$O$541))>0,E33210=0),0,1)","v":0}]
[null,null,null,null,0,null,null,null,null,null,null,null,0,null,null,null,null,null,null,null,null,null,null,null,null,null,{"$f":"IF(OR(SUMPRODUCT(--(E33348=$O$1:$O$541))>0,E33348=0),0,1)","v":0}]
[null,null,null,null,0,null,null,null,null,null,null,null,0,null,null,null,null,null,null,null,null,null,null,null,null,null,{"$f":"IF(OR(SUMPRODUCT(--(E33391=$O$1:$O$541))>0,E33391=0),0,1)","v":0}]
[null,null,null,null,0,null,null,null,null,null,null,null,0,null,null,null,null,null,null,null,null,null,null,null,null,null,{"$f":"IF(OR(SUMPRODUCT(--(E33536=$O$1:$O$541))>0,E33536=0),0,1)","v":0}]
[null,null,null,null,0,null,null,null,null,null,null,null,0,null,null,null,null,null,null,null,null,null,null,null,null,null,{"$f":"IF(OR(SUMPRODUCT(--(E33670=$O$1:$O$541))>0,E33670=0),0,1)","v":0}]
[null,null,null,null,0,null,null,null,null,null,null,null,0,null,null,null,null,null,null,null,null,null,null,null,null,null,{"$f":"IF(OR(SUMPRODUCT(--(E33709=$O$1:$O$541))>0,E33709=0),0,1)","v":0}]
[null,null,null,null,0,null,null,null,null,null,null,null,0,null,null,null,null,null,null,null,null,null,null,null,null,null,{"$f":"IF(OR(SUMPRODUCT(--(E33847=$O$1:$O$541))>0,E33847=0),0,1)","v":0}]
[null,null,null,null,0,null,null,null,null,null,null,null,0,null,null,null,null,null,null,null,null,null,null,null,null,null,{"$f":"IF(OR(SUMPRODUCT(--(E33929=$O$1:$O$541))>0,E33929=0),0,1)","v":0}]
[null,null,null,null,0,null,null,null,null,null,null,null,0,null,null,null,null,null,null,null,null,null,null,null,null,null,{"$f":"IF(OR(SUMPRODUCT(--(E34027=$O$1:$O$541))>0,E34027=0),0,1)","v":0}]
[null,null,null,null,0,null,null,null,null,null,null,null,0,null,null,null,null,null,null,null,null,null,null,null,null,null,{"$f":"IF(OR(SUMPRODUCT(--(E34165=$O$1:$O$541))>0,E34165=0),0,1)","v":0}]
[null,null,null,null,0,null,null,null,null,null,null,null,0,null,null,null,null,null,null,null,null,null,null,null,null,null,{"$f":"IF(OR(SUMPRODUCT(--(E34208=$O$1:$O$541))>0,E34208=0),0,1)","v":0}]
[null,null,null,null,0,null,null,null,null,null,null,null,0,null,null,null,null,null,null,null,null,null,null,null,null,null,{"$f":"IF(OR(SUMPRODUCT(--(E34332=$O$1:$O$541))>0,E34332=0),0,1)","v":0}]
[null,null,null,null,0,null,null,null,null,null,null,null,0,null,null,null,null,null,null,null,null,null,null,null,null,null,{"$f":"IF(OR(SUMPRODUCT(--(E34388=$O$1:$O$541))>0,E34388=0),0,1)","v":0}]
[null,null,null,null,0,null,null,null,null,null,null,null,0,null,null,null,null,null,null,null,null,null,null,null,null,null,{"$f":"IF(OR(SUMPRODUCT(--(E34526=$O$1:$O$541))>0,E34526=0),0,1)","v":0}]
[null,null,null,null,0,null,null,null,null,null,null,null,0,null,null,null,null,null,null,null,null,null,null,null,null,null,{"$f":"IF(OR(SUMPRODUCT(--(E34664=$O$1:$O$541))>0,E34664=0),0,1)","v":0}]
[null,null,null,null,0,null,null,null,null,null,null,null,0,null,null,null,null,null,null,null,null,null,null,null,null,null,{"$f":"IF(OR(SUMPRODUCT(--(E34725=$O$1:$O$541))>0,E34725=0),0,1)","v":0}]
[null,null,null,null,0,null,null,null,null,null,null,null,0,null,null,null,null,null,null,null,null,null,null,null,null,null,{"$f":"IF(OR(SUMPRODUCT(--(E34844=$O$1:$O$541))>0,E34844=0),0,1)","v":0}]
[null,null,null,null,0,null,null,null,null,null,null,null,0,null,null,null,null,null,null,null,null,null,null,null,null,null,{"$f":"IF(OR(SUMPRODUCT(--(E34887=$O$1:$O$541))>0,E34887=0),0,1)","v":0}]
[null,null,null,null,0,null,null,null,null,null,null,null,0,null,null,null,null,null,null,null,null,null,null,null,null,null,{"$f":"IF(OR(SUMPRODUCT(--(E35025=$O$1:$O$541))>0,E35025=0),0,1)","v":0}]
[null,null,null,null,0,null,null,null,null,null,null,null,0,null,null,null,null,null,null,null,null,null,null,null,null,null,{"$f":"IF(OR(SUMPRODUCT(--(E35128=$O$1:$O$541))>0,E35128=0),0,1)","v":0}]
[null,null,null,null,0,null,null,null,null,null,null,null,0,null,null,null,null,null,null,null,null,null,null,null,null,null,{"$f":"IF(OR(SUMPRODUCT(--(E35205=$O$1:$O$541))>0,E35205=0),0,1)","v":0}]
[null,null,null,null,0,null,null,null,null,null,null,null,0,null,null,null,null,null,null,null,null,null,null,null,null,null,{"$f":"IF(OR(SUMPRODUCT(--(E35343=$O$1:$O$541))>0,E35343=0),0,1)","v":0}]
[null,null,null,null,0,null,null,null,null,null,null,null,0,null,null,null,null,null,null,null,null,null,null,null,null,null,{"$f":"IF(OR(SUMPRODUCT(--(E35382=$O$1:$O$541))>0,E35382=0),0,1)","v":0}]
[null,null,null,null,0,null,null,null,null,null,null,null,0,null,null,null,null,null,null,null,null,null,null,null,null,null,{"$f":"IF(OR(SUMPRODUCT(--(E35521=$O$1:$O$541))>0,E35521=0),0,1)","v":0}]
[null,null,null,null,0,null,null,null,null,null,null,null,0,null,null,null,null,null,null,null,null,null,null,null,null,null,{"$f":"IF(OR(SUMPRODUCT(--(E35661=$O$1:$O$541))>0,E35661=0),0,1)","v":0}]
[null,null,null,null,0,null,null,null,null,null,null,null,0,null,null,null,null,null,null,null,null,null,null,null,null,null,{"$f":"IF(OR(SUMPRODUCT(--(E35704=$O$1:$O$541))>0,E35704=0),0,1)","v":0}]
[null,null,null,null,{"$f":"IF(AND(F35842<>\"\",F35842=G35842),\"ERROR\",IF(AND(F35842<>\"\",F35842<>G35842),F35842,G35842))","v":0},null,null,null,null,null,null,null,0,null,null,null,null,null,null,null,null,null,null,null,null,null,{"$f":"IF(OR(SUMPRODUCT(--(E35842=$O$1:$O$541))>0,E35842=0),0,1)","v":0}]
[null,null,null,null,0,null,null,null,null,null,null,null,0,null,null,null,null,null,null,null,null,null,null,null,null,null,{"$f":"IF(OR(SUMPRODUCT(--(E35924=$O$1:$O$541))>0,E35924=0),0,1)","v":0}]
[null,null,null,null,0,null,null,null,null,null,null,null,0,null,null,null,null,null,null,null,null,null,null,null,null,null,{"$f":"IF(OR(SUMPRODUCT(--(E36022=$O$1:$O$541))>0,E36022=0),0,1)","v":0}]
[null,null,null,null,0,null,null,null,null,null,null,null,0,null,null,null,null,null,null,null,null,null,null,null,null,null,{"$f":"IF(OR(SUMPRODUCT(--(E36061=$O$1:$O$541))>0,E36061=0),0,1)","v":0}]
[null,null,null,null,0,null,null,null,null,null,null,null,0,null,null,null,null,null,null,null,null,null,null,null,null,null,{"$f":"IF(OR(SUMPRODUCT(--(E36199=$O$1:$O$541))>0,E36199=0),0,1)","v":0}]
[null,null,null,null,0,null,null,null,null,null,null,null,0,null,null,null,null,null,null,null,null,null,null,null,null,null,{"$f":"IF(OR(SUMPRODUCT(--(E36317=$O$1:$O$541))>0,E36317=0),0,1)","v":0}]
[null,null,null,null,0,null,null,null,null,null,null,null,0,null,null,null,null,null,null,null,null,null,null,null,null,null,{"$f":"IF(OR(SUMPRODUCT(--(E36379=$O$1:$O$541))>0,E36379=0),0,1)","v":0}]
[null,null,null,null,0,null,null,null,null,null,null,null,0,null,null,null,null,null,null,null,null,null,null,null,null,null,{"$f":"IF(OR(SUMPRODUCT(--(E36521=$O$1:$O$541))>0,E36521=0),0,1)","v":0}]
[null,null,null,null,0,null,null,null,null,null,null,null,0,null,null,null,null,null,null,null,null,null,null,null,null,null,{"$f":"IF(OR(SUMPRODUCT(--(E36560=$O$1:$O$541))>0,E36560=0),0,1)","v":0}]
[null,null,null,null,0,null,null,null,null,null,null,null,0,null,null,null,null,null,null,null,null,null,null,null,null,null,{"$f":"IF(OR(SUMPRODUCT(--(E36720=$O$1:$O$541))>0,E36720=0),0,1)","v":0}]
[null,null,null,null,0,null,null,null,null,null,null,null,0,null,null,null,null,null,null,null,null,null,null,null,null,null,{"$f":"IF(OR(SUMPRODUCT(--(E36839=$O$1:$O$541))>0,E36839=0),0,1)","v":0}]
[null,null,null,null,0,null,null,null,null,null,null,null,0,null,null,null,null,null,null,null,null,null,null,null,null,null,{"$f":"IF(OR(SUMPRODUCT(--(E36878=$O$1:$O$541))>0,E36878=0),0,1)","v":0}]
[null,null,null,null,0,null,null,null,null,null,null,null,0,null,null,null,null,null,null,null,null,null,null,null,null,null,{"$f":"IF(OR(SUMPRODUCT(--(E37020=$O$1:$O$541))>0,E37020=0),0,1)","v":0}]
[null,null,null,null,0,null,null,null,null,null,null,null,0,null,null,null,null,null,null,null,null,null,null,null,null,null,{"$f":"IF(OR(SUMPRODUCT(--(E37113=$O$1:$O$541))>0,E37113=0),0,1)","v":0}]
[null,null,null,null,0,null,null,null,null,null,null,null,0,null,null,null,null,null,null,null,null,null,null,null,null,null,{"$f":"IF(OR(SUMPRODUCT(--(E37196=$O$1:$O$541))>0,E37196=0),0,1)","v":0}]
[null,null,null,null,0,null,null,null,null,null,null,null,0,null,null,null,null,null,null,null,null,null,null,null,null,null,{"$f":"IF(OR(SUMPRODUCT(--(E37338=$O$1:$O$541))>0,E37338=0),0,1)","v":0}]
[null,null,null,null,0,null,null,null,null,null,null,null,0,null,null,null,null,null,null,null,null,null,null,null,null,null,{"$f":"IF(OR(SUMPRODUCT(--(E37377=$O$1:$O$541))>0,E37377=0),0,1)","v":0}]
[null,null,null,null,0,null,null,null,null,null,null,null,0,null,null,null,null,null,null,null,null,null,null,null,null,null,{"$f":"IF(OR(SUMPRODUCT(--(E37516=$O$1:$O$541))>0,E37516=0),0,1)","v":0}]
[null,null,null,null,0,null,null,null,null,null,null,null,0,null,null,null,null,null,null,null,null,null,null,null,null,null,{"$f":"IF(OR(SUMPRODUCT(--(E37557=$O$1:$O$541))>0,E37557=0),0,1)","v":0}]
[null,null,null,null,0,null,null,null,null,null,null,null,0,null,null,null,null,null,null,null,null,null,null,null,null,null,{"$f":"IF(OR(SUMPRODUCT(--(E37695=$O$1:$O$541))>0,E37695=0),0,1)","v":0}]
[null,null,null,null,0,null,null,null,null,null,null,null,0,null,null,null,null,null,null,null,null,null,null,null,null,null,{"$f":"IF(OR(SUMPRODUCT(--(E37738=$O$1:$O$541))>0,E37738=0),0,1)","v":0}]
[null,null,null,null,0,null,null,null,null,null,null,null,0,null,null,null,null,null,null,null,null,null,null,null,null,null,{"$f":"IF(OR(SUMPRODUCT(--(E37909=$O$1:$O$541))>0,E37909=0),0,1)","v":0}]
[null,null,null,null,0,null,null,null,null,null,null,null,0,null,null,null,null,null,null,null,null,null,null,null,null,null,{"$f":"IF(OR(SUMPRODUCT(--(E38013=$O$1:$O$541))>0,E38013=0),0,1)","v":0}]
[null,null,null,null,0,null,null,null,null,null,null,null,0,null,null,null,null,null,null,null,null,null,null,null,null,null,{"$f":"IF(OR(SUMPRODUCT(--(E38056=$O$1:$O$541))>0,E38056=0),0,1)","v":0}]
[null,null,null,null,0,null,null,null,null,null,null,null,0,null,null,null,null,null,null,null,null,null,null,null,null,null,{"$f":"IF(OR(SUMPRODUCT(--(E38194=$O$1:$O$541))>0,E38194=0),0,1)","v":0}]
[null,null,null,null,0,null,null,null,null,null,null,null,0,null,null,null,null,null,null,null,null,null,null,null,null,null,{"$f":"IF(OR(SUMPRODUCT(--(E38302=$O$1:$O$541))>0,E38302=0),0,1)","v":0}]
[null,null,null,null,0,null,null,null,null,null,null,null,0,null,null,null,null,null,null,null,null,null,null,null,null,null,{"$f":"IF(OR(SUMPRODUCT(--(E38374=$O$1:$O$541))>0,E38374=0),0,1)","v":0}]
[null,null,null,null,0,null,null,null,null,null,null,null,0,null,null,null,null,null,null,null,null,null,null,null,null,null,{"$f":"IF(OR(SUMPRODUCT(--(E38512=$O$1:$O$541))>0,E38512=0),0,1)","v":0}]
[null,null,null,null,0,null,null,null,null,null,null,null,0,null,null,null,null,null,null,null,null,null,null,null,null,null,{"$f":"IF(OR(SUMPRODUCT(--(E38555=$O$1:$O$541))>0,E38555=0),0,1)","v":0}]
[null,null,null,null,0,null,null,null,null,null,null,null,0,null,null,null,null,null,null,null,null,null,null,null,null,null,{"$f":"IF(OR(SUMPRODUCT(--(E38705=$O$1:$O$541))>0,E38705=0),0,1)","v":0}]
[null,null,null,null,0,null,null,null,null,null,null,null,0,null,null,null,null,null,null,null,null,null,null,null,null,null,{"$f":"IF(OR(SUMPRODUCT(--(E38731=$O$1:$O$541))>0,E38731=0),0,1)","v":0}]
[null,null,null,null,0,null,null,null,null,null,null,null,0,null,null,null,null,null,null,null,null,null,null,null,null,null,{"$f":"IF(OR(SUMPRODUCT(--(E38873=$O$1:$O$541))>0,E38873=0),0,1)","v":0}]
[null,null,null,null,0,null,null,null,null,null,null,null,0,null,null,null,null,null,null,null,null,null,null,null,null,null,{"$f":"IF(OR(SUMPRODUCT(--(E39011=$O$1:$O$541))>0,E39011=0),0,1)","v":0}]
[null,null,null,null,0,null,null,null,null,null,null,null,0,null,null,null,null,null,null,null,null,null,null,null,null,null,{"$f":"IF(OR(SUMPRODUCT(--(E39098=$O$1:$O$541))>0,E39098=0),0,1)","v":0}]
[null,null,null,null,0,null,null,null,null,null,null,null,0,null,null,null,null,null,null,null,null,null,null,null,null,null,{"$f":"IF(OR(SUMPRODUCT(--(E39191=$O$1:$O$541))>0,E39191=0),0,1)","v":0}]
[null,null,null,null,0,null,null,null,null,null,null,null,0,null,null,null,null,null,null,null,null,null,null,null,null,null,{"$f":"IF(OR(SUMPRODUCT(--(E39230=$O$1:$O$541))>0,E39230=0),0,1)","v":0}]
[null,null,null,null,0,null,null,null,null,null,null,null,0,null,null,null,null,null,null,null,null,null,null,null,null,null,{"$f":"IF(OR(SUMPRODUCT(--(E39372=$O$1:$O$541))>0,E39372=0),0,1)","v":0}]
[null,null,null,null,0,null,null,null,null,null,null,null,0,null,null,null,null,null,null,null,null,null,null,null,null,null,{"$f":"IF(OR(SUMPRODUCT(--(E39501=$O$1:$O$541))>0,E39501=0),0,1)","v":0}]
[null,null,null,null,0,null,null,null,null,null,null,null,0,null,null,null,null,null,null,null,null,null,null,null,null,null,{"$f":"IF(OR(SUMPRODUCT(--(E39548=$O$1:$O$541))>0,E39548=0),0,1)","v":0}]
[null,null,null,null,0,null,null,null,null,null,null,null,0,null,null,null,null,null,null,null,null,null,null,null,null,null,{"$f":"IF(OR(SUMPRODUCT(--(E39690=$O$1:$O$541))>0,E39690=0),0,1)","v":0}]
[null,null,null,null,0,null,null,null,null,null,null,null,0,null,null,null,null,null,null,null,null,null,null,null,null,null,{"$f":"IF(OR(SUMPRODUCT(--(E39729=$O$1:$O$541))>0,E39729=0),0,1)","v":0}]
[null,null,null,null,0,null,null,null,null,null,null,null,0,null,null,null,null,null,null,null,null,null,null,null,null,null,{"$f":"IF(OR(SUMPRODUCT(--(E39894=$O$1:$O$541))>0,E39894=0),0,1)","v":0}]
[null,null,null,null,0,null,null,null,null,null,null,null,0,null,null,null,null,null,null,null,null,null,null,null,null,null,{"$f":"IF(OR(SUMPRODUCT(--(E39909=$O$1:$O$541))>0,E39909=0),0,1)","v":0}]
[null,null,null,null,0,null,null,null,null,null,null,null,0,null,null,null,null,null,null,null,null,null,null,null,null,null,{"$f":"IF(OR(SUMPRODUCT(--(E40047=$O$1:$O$541))>0,E40047=0),0,1)","v":0}]
[null,null,null,null,0,null,null,null,null,null,null,null,0,null,null,null,null,null,null,null,null,null,null,null,null,null,{"$f":"IF(OR(SUMPRODUCT(--(E40189=$O$1:$O$541))>0,E40189=0),0,1)","v":0}]
[null,null,null,null,0,null,null,null,null,null,null,null,0,null,null,null,null,null,null,null,null,null,null,null,null,null,{"$f":"IF(OR(SUMPRODUCT(--(E40297=$O$1:$O$541))>0,E40297=0),0,1)","v":0}]
[null,null,null,null,0,null,null,null,null,null,null,null,0,null,null,null,null,null,null,null,null,null,null,null,null,null,{"$f":"IF(OR(SUMPRODUCT(--(E40369=$O$1:$O$541))>0,E40369=0),0,1)","v":0}]
[null,null,null,null,0,null,null,null,null,null,null,null,0,null,null,null,null,null,null,null,null,null,null,null,null,null,{"$f":"IF(OR(SUMPRODUCT(--(E40408=$O$1:$O$541))>0,E40408=0),0,1)","v":0}]
[null,null,null,null,0,null,null,null,null,null,null,null,0,null,null,null,null,null,null,null,null,null,null,null,null,null,{"$f":"IF(OR(SUMPRODUCT(--(E40546=$O$1:$O$541))>0,E40546=0),0,1)","v":0}]
[null,null,null,null,0,null,null,null,null,null,null,null,0,null,null,null,null,null,null,null,null,null,null,null,null,null,{"$f":"IF(OR(SUMPRODUCT(--(E40690=$O$1:$O$541))>0,E40690=0),0,1)","v":0}]
[null,null,null,null,0,null,null,null,null,null,null,null,0,null,null,null,null,null,null,null,null,null,null,null,null,null,{"$f":"IF(OR(SUMPRODUCT(--(E40726=$O$1:$O$541))>0,E40726=0),0,1)","v":0}]
[null,null,null,null,0,null,null,null,null,null,null,null,0,null,null,null,null,null,null,null,null,null,null,null,null,null,{"$f":"IF(OR(SUMPRODUCT(--(E40864=$O$1:$O$541))>0,E40864=0),0,1)","v":0}]
[null,null,null,null,0,null,null,null,null,null,null,null,0,null,null,null,null,null,null,null,null,null,null,null,null,null,{"$f":"IF(OR(SUMPRODUCT(--(E40907=$O$1:$O$541))>0,E40907=0),0,1)","v":0}]
[null,null,null,null,0,null,null,null,null,null,null,null,0,null,null,null,null,null,null,null,null,null,null,null,null,null,{"$f":"IF(OR(SUMPRODUCT(--(E40995=$O$1:$O$541))>0,E40995=0),0,1)","v":0}]
[null,null,null,null,0,null,null,null,null,null,null,null,0,null,null,null,null,null,null,null,null,null,null,null,null,null,{"$f":"IF(OR(SUMPRODUCT(--(E41186=$O$1:$O$541))>0,E41186=0),0,1)","v":0}]
[null,null,null,null,0,null,null,null,null,null,null,null,0,null,null,null,null,null,null,null,null,null,null,null,null,null,{"$f":"IF(OR(SUMPRODUCT(--(E41225=$O$1:$O$541))>0,E41225=0),0,1)","v":0}]
[null,null,null,null,0,null,null,null,null,null,null,null,0,null,null,null,null,null,null,null,null,null,null,null,null,null,{"$f":"IF(OR(SUMPRODUCT(--(E41363=$O$1:$O$541))>0,E41363=0),0,1)","v":0}]
[null,null,null,null,0,null,null,null,null,null,null,null,0,null,null,null,null,null,null,null,null,null,null,null,null,null,{"$f":"IF(OR(SUMPRODUCT(--(E41486=$O$1:$O$541))>0,E41486=0),0,1)","v":0}]
[null,null,null,null,0,null,null,null,null,null,null,null,0,null,null,null,null,null,null,null,null,null,null,null,null,null,{"$f":"IF(OR(SUMPRODUCT(--(E41543=$O$1:$O$541))>0,E41543=0),0,1)","v":0}]
[null,null,null,null,0,null,null,null,null,null,null,null,0,null,null,null,null,null,null,null,null,null,null,null,null,null,{"$f":"IF(OR(SUMPRODUCT(--(E41681=$O$1:$O$541))>0,E41681=0),0,1)","v":0}]
[null,null,null,null,0,null,null,null,null,null,null,null,0,null,null,null,null,null,null,null,null,null,null,null,null,null,{"$f":"IF(OR(SUMPRODUCT(--(E41724=$O$1:$O$541))>0,E41724=0),0,1)","v":0}]
[null,null,null,null,0,null,null,null,null,null,null,null,0,null,null,null,null,null,null,null,null,null,null,null,null,null,{"$f":"IF(OR(SUMPRODUCT(--(E41791=$O$1:$O$541))>0,E41791=0),0,1)","v":0}]
[null,null,null,null,0,null,null,null,null,null,null,null,0,null,null,null,null,null,null,null,null,null,null,null,null,null,{"$f":"IF(OR(SUMPRODUCT(--(E41904=$O$1:$O$541))>0,E41904=0),0,1)","v":0}]
[null,null,null,null,0,null,null,null,null,null,null,null,0,null,null,null,null,null,null,null,null,null,null,null,null,null,{"$f":"IF(OR(SUMPRODUCT(--(E42042=$O$1:$O$541))>0,E42042=0),0,1)","v":0}]
[null,null,null,null,0,null,null,null,null,null,null,null,0,null,null,null,null,null,null,null,null,null,null,null,null,null,{"$f":"IF(OR(SUMPRODUCT(--(E42081=$O$1:$O$541))>0,E42081=0),0,1)","v":0}]
[null,null,null,null,0,null,null,null,null,null,null,null,0,null,null,null,null,null,null,null,null,null,null,null,null,null,{"$f":"IF(OR(SUMPRODUCT(--(E42184=$O$1:$O$541))>0,E42184=0),0,1)","v":0}]
[null,null,null,null,0,null,null,null,null,null,null,null,0,null,null,null,null,null,null,null,null,null,null,null,null,null,{"$f":"IF(OR(SUMPRODUCT(--(E42360=$O$1:$O$541))>0,E42360=0),0,1)","v":0}]
[null,null,null,null,0,null,null,null,null,null,null,null,0,null,null,null,null,null,null,null,null,null,null,null,null,null,{"$f":"IF(OR(SUMPRODUCT(--(E42403=$O$1:$O$541))>0,E42403=0),0,1)","v":0}]
[null,null,null,null,0,null,null,null,null,null,null,null,0,null,null,null,null,null,null,null,null,null,null,null,null,null,{"$f":"IF(OR(SUMPRODUCT(--(E42541=$O$1:$O$541))>0,E42541=0),0,1)","v":0}]
[null,null,null,null,0,null,null,null,null,null,null,null,0,null,null,null,null,null,null,null,null,null,null,null,null,null,{"$f":"IF(OR(SUMPRODUCT(--(E42587=$O$1:$O$541))>0,E42587=0),0,1)","v":0}]
[null,null,null,null,0,null,null,null,null,null,null,null,0,null,null,null,null,null,null,null,null,null,null,null,null,null,{"$f":"IF(OR(SUMPRODUCT(--(E42721=$O$1:$O$541))>0,E42721=0),0,1)","v":0}]
[null,null,null,null,0,null,null,null,null,null,null,null,0,null,null,null,null,null,null,null,null,null,null,null,null,null,{"$f":"IF(OR(SUMPRODUCT(--(E42859=$O$1:$O$541))>0,E42859=0),0,1)","v":0}]
[null,null,null,null,0,null,null,null,null,null,null,null,0,null,null,null,null,null,null,null,null,null,null,null,null,null,{"$f":"IF(OR(SUMPRODUCT(--(E42898=$O$1:$O$541))>0,E42898=0),0,1)","v":0}]
[null,null,null,null,0,null,null,null,null,null,null,null,0,null,null,null,null,null,null,null,null,null,null,null,null,null,{"$f":"IF(OR(SUMPRODUCT(--(E42980=$O$1:$O$541))>0,E42980=0),0,1)","v":0}]
[null,null,null,null,0,null,null,null,null,null,null,null,0,null,null,null,null,null,null,null,null,null,null,null,null,null,{"$f":"IF(OR(SUMPRODUCT(--(E43078=$O$1:$O$541))>0,E43078=0),0,1)","v":0}]
[null,null,null,null,0,null,null,null,null,null,null,null,0,null,null,null,null,null,null,null,null,null,null,null,null,null,{"$f":"IF(OR(SUMPRODUCT(--(E43220=$O$1:$O$541))>0,E43220=0),0,1)","v":0}]
[null,null,null,null,0,null,null,null,null,null,null,null,0,null,null,null,null,null,null,null,null,null,null,null,null,null,{"$f":"IF(OR(SUMPRODUCT(--(E43358=$O$1:$O$541))>0,E43358=0),0,1)","v":0}]
[null,null,null,null,0,null,null,null,null,null,null,null,0,null,null,null,null,null,null,null,null,null,null,null,null,null,{"$f":"IF(OR(SUMPRODUCT(--(E43383=$O$1:$O$541))>0,E43383=0),0,1)","v":0}]
[null,null,null,null,0,null,null,null,null,null,null,null,0,null,null,null,null,null,null,null,null,null,null,null,null,null,{"$f":"IF(OR(SUMPRODUCT(--(E43538=$O$1:$O$541))>0,E43538=0),0,1)","v":0}]
[null,null,null,null,0,null,null,null,null,null,null,null,0,null,null,null,null,null,null,null,null,null,null,null,null,null,{"$f":"IF(OR(SUMPRODUCT(--(E43577=$O$1:$O$541))>0,E43577=0),0,1)","v":0}]
[null,null,null,null,0,null,null,null,null,null,null,null,0,null,null,null,null,null,null,null,null,null,null,null,null,null,{"$f":"IF(OR(SUMPRODUCT(--(E43719=$O$1:$O$541))>0,E43719=0),0,1)","v":0}]
[null,null,null,null,0,null,null,null,null,null,null,null,0,null,null,null,null,null,null,null,null,null,null,null,null,null,{"$f":"IF(OR(SUMPRODUCT(--(E43776=$O$1:$O$541))>0,E43776=0),0,1)","v":0}]
[null,null,null,null,0,null,null,null,null,null,null,null,0,null,null,null,null,null,null,null,null,null,null,null,null,null,{"$f":"IF(OR(SUMPRODUCT(--(E43895=$O$1:$O$541))>0,E43895=0),0,1)","v":0}]
[null,null,null,null,0,null,null,null,null,null,null,null,0,null,null,null,null,null,null,null,null,null,null,null,null,null,{"$f":"IF(OR(SUMPRODUCT(--(E44037=$O$1:$O$541))>0,E44037=0),0,1)","v":0}]
[null,null,null,null,0,null,null,null,null,null,null,null,0,null,null,null,null,null,null,null,null,null,null,null,null,null,{"$f":"IF(OR(SUMPRODUCT(--(E44076=$O$1:$O$541))>0,E44076=0),0,1)","v":0}]
[null,null,null,null,0,null,null,null,null,null,null,null,0,null,null,null,null,null,null,null,null,null,null,null,null,null,{"$f":"IF(OR(SUMPRODUCT(--(E44179=$O$1:$O$541))>0,E44179=0),0,1)","v":0}]
[null,null,null,null,0,null,null,null,null,null,null,null,0,null,null,null,null,null,null,null,null,null,null,null,null,null,{"$f":"IF(OR(SUMPRODUCT(--(E44256=$O$1:$O$541))>0,E44256=0),0,1)","v":0}]
[null,null,null,null,0,null,null,null,null,null,null,null,0,null,null,null,null,null,null,null,null,null,null,null,null,null,{"$f":"IF(OR(SUMPRODUCT(--(E44394=$O$1:$O$541))>0,E44394=0),0,1)","v":0}]
[null,null,null,null,0,null,null,null,null,null,null,null,0,null,null,null,null,null,null,null,null,null,null,null,null,null,{"$f":"IF(OR(SUMPRODUCT(--(E44536=$O$1:$O$541))>0,E44536=0),0,1)","v":0}]
[null,null,null,null,0,null,null,null,null,null,null,null,0,null,null,null,null,null,null,null,null,null,null,null,null,null,{"$f":"IF(OR(SUMPRODUCT(--(E44572=$O$1:$O$541))>0,E44572=0),0,1)","v":0}]
[null,null,null,null,0,null,null,null,null,null,null,null,0,null,null,null,null,null,null,null,null,null,null,null,null,null,{"$f":"IF(OR(SUMPRODUCT(--(E44712=$O$1:$O$541))>0,E44712=0),0,1)","v":0}]
[null,null,null,null,0,null,null,null,null,null,null,null,0,null,null,null,null,null,null,null,null,null,null,null,null,null,{"$f":"IF(OR(SUMPRODUCT(--(E44755=$O$1:$O$541))>0,E44755=0),0,1)","v":0}]
[null,null,null,null,0,null,null,null,null,null,null,null,0,null,null,null,null,null,null,null,null,null,null,null,null,null,{"$f":"IF(OR(SUMPRODUCT(--(E44893=$O$1:$O$541))>0,E44893=0),0,1)","v":0}]
[null,null,null,null,0,null,null,null,null,null,null,null,0,null,null,null,null,null,null,null,null,null,null,null,null,null,{"$f":"IF(OR(SUMPRODUCT(--(E44975=$O$1:$O$541))>0,E44975=0),0,1)","v":0}]
[null,null,null,null,0,null,null,null,null,null,null,null,0,null,null,null,null,null,null,null,null,null,null,null,null,null,{"$f":"IF(OR(SUMPRODUCT(--(E45073=$O$1:$O$541))>0,E45073=0),0,1)","v":0}]
[null,null,null,null,0,null,null,null,null,null,null,null,0,null,null,null,null,null,null,null,null,null,null,null,null,null,{"$f":"IF(OR(SUMPRODUCT(--(E45211=$O$1:$O$541))>0,E45211=0),0,1)","v":0}]
[null,null,null,null,0,null,null,null,null,null,null,null,0,null,null,null,null,null,null,null,null,null,null,null,null,null,{"$f":"IF(OR(SUMPRODUCT(--(E45254=$O$1:$O$541))>0,E45254=0),0,1)","v":0}]
[null,null,null,null,0,null,null,null,null,null,null,null,0,null,null,null,null,null,null,null,null,null,null,null,null,null,{"$f":"IF(OR(SUMPRODUCT(--(E45368=$O$1:$O$541))>0,E45368=0),0,1)","v":0}]
[null,null,null,null,0,null,null,null,null,null,null,null,0,null,null,null,null,null,null,null,null,null,null,null,null,null,{"$f":"IF(OR(SUMPRODUCT(--(E45529=$O$1:$O$541))>0,E45529=0),0,1)","v":0}]
[null,null,null,null,0,null,null,null,null,null,null,null,0,null,null,null,null,null,null,null,null,null,null,null,null,null,{"$f":"IF(OR(SUMPRODUCT(--(E45572=$O$1:$O$541))>0,E45572=0),0,1)","v":0}]
[null,null,null,null,0,null,null,null,null,null,null,null,0,null,null,null,null,null,null,null,null,null,null,null,null,null,{"$f":"IF(OR(SUMPRODUCT(--(E45710=$O$1:$O$541))>0,E45710=0),0,1)","v":0}]
[null,null,null,null,0,null,null,null,null,null,null,null,0,null,null,null,null,null,null,null,null,null,null,null,null,null,{"$f":"IF(OR(SUMPRODUCT(--(E45761=$O$1:$O$541))>0,E45761=0),0,1)","v":0}]
[null,null,null,null,{"$f":"IF(AND(F45890<>\"\",F45890=G45890),\"ERROR\",IF(AND(F45890<>\"\",F45890<>G45890),F45890,G45890))","v":0},null,null,null,null,null,null,null,0,null,null,null,null,null,null,null,null,null,null,null,null,null,{"$f":"IF(OR(SUMPRODUCT(--(E45890=$O$1:$O$541))>0,E45890=0),0,1)","v":0}]
[null,null,null,null,0,null,null,null,null,null,null,null,0,null,null,null,null,null,null,null,null,null,null,null,null,null,{"$f":"IF(OR(SUMPRODUCT(--(E46028=$O$1:$O$541))>0,E46028=0),0,1)","v":0}]
[null,null,null,null,0,null,null,null,null,null,null,null,0,null,null,null,null,null,null,null,null,null,null,null,null,null,{"$f":"IF(OR(SUMPRODUCT(--(E46071=$O$1:$O$541))>0,E46071=0),0,1)","v":0}]
[null,null,null,null,0,null,null,null,null,null,null,null,0,null,null,null,null,null,null,null,null,null,null,null,null,null,{"$f":"IF(OR(SUMPRODUCT(--(E46164=$O$1:$O$541))>0,E46164=0),0,1)","v":0}]
[null,null,null,null,0,null,null,null,null,null,null,null,0,null,null,null,null,null,null,null,null,null,null,null,null,null,{"$f":"IF(OR(SUMPRODUCT(--(E46247=$O$1:$O$541))>0,E46247=0),0,1)","v":0}]
[null,null,null,null,0,null,null,null,null,null,null,null,0,null,null,null,null,null,null,null,null,null,null,null,null,null,{"$f":"IF(OR(SUMPRODUCT(--(E46389=$O$1:$O$541))>0,E46389=0),0,1)","v":0}]
[null,null,null,null,0,null,null,null,null,null,null,null,0,null,null,null,null,null,null,null,null,null,null,null,null,null,{"$f":"IF(OR(SUMPRODUCT(--(E46428=$O$1:$O$541))>0,E46428=0),0,1)","v":0}]
[null,null,null,null,0,null,null,null,null,null,null,null,0,null,null,null,null,null,null,null,null,null,null,null,null,null,{"$f":"IF(OR(SUMPRODUCT(--(E46557=$O$1:$O$541))>0,E46557=0),0,1)","v":0}]
[null,null,null,null,0,null,null,null,null,null,null,null,0,null,null,null,null,null,null,null,null,null,null,null,null,null,{"$f":"IF(OR(SUMPRODUCT(--(E46707=$O$1:$O$541))>0,E46707=0),0,1)","v":0}]
[null,null,null,null,0,null,null,null,null,null,null,null,0,null,null,null,null,null,null,null,null,null,null,null,null,null,{"$f":"IF(OR(SUMPRODUCT(--(E46746=$O$1:$O$541))>0,E46746=0),0,1)","v":0}]
[null,null,null,null,0,null,null,null,null,null,null,null,0,null,null,null,null,null,null,null,null,null,null,null,null,null,{"$f":"IF(OR(SUMPRODUCT(--(E46888=$O$1:$O$541))>0,E46888=0),0,1)","v":0}]
[null,null,null,null,0,null,null,null,null,null,null,null,0,null,null,null,null,null,null,null,null,null,null,null,null,null,{"$f":"IF(OR(SUMPRODUCT(--(E46960=$O$1:$O$541))>0,E46960=0),0,1)","v":0}]
[null,null,null,null,0,null,null,null,null,null,null,null,0,null,null,null,null,null,null,null,null,null,null,null,null,null,{"$f":"IF(OR(SUMPRODUCT(--(E47064=$O$1:$O$541))>0,E47064=0),0,1)","v":0}]
[null,null,null,null,0,null,null,null,null,null,null,null,0,null,null,null,null,null,null,null,null,null,null,null,null,null,{"$f":"IF(OR(SUMPRODUCT(--(E47206=$O$1:$O$541))>0,E47206=0),0,1)","v":0}]
[null,null,null,null,0,null,null,null,null,null,null,null,0,null,null,null,null,null,null,null,null,null,null,null,null,null,{"$f":"IF(OR(SUMPRODUCT(--(E47245=$O$1:$O$541))>0,E47245=0),0,1)","v":0}]
[null,null,null,null,0,null,null,null,null,null,null,null,0,null,null,null,null,null,null,null,null,null,null,null,null,null,{"$f":"IF(OR(SUMPRODUCT(--(E47353=$O$1:$O$541))>0,E47353=0),0,1)","v":0}]
[null,null,null,null,0,null,null,null,null,null,null,null,0,null,null,null,null,null,null,null,null,null,null,null,null,null,{"$f":"IF(OR(SUMPRODUCT(--(E47425=$O$1:$O$541))>0,E47425=0),0,1)","v":0}]
[null,null,null,null,0,null,null,null,null,null,null,null,0,null,null,null,null,null,null,null,null,null,null,null,null,null,{"$f":"IF(OR(SUMPRODUCT(--(E47563=$O$1:$O$541))>0,E47563=0),0,1)","v":0}]
[null,null,null,null,0,null,null,null,null,null,null,null,0,null,null,null,null,null,null,null,null,null,null,null,null,null,{"$f":"IF(OR(SUMPRODUCT(--(E47705=$O$1:$O$541))>0,E47705=0),0,1)","v":0}]
[null,null,null,null,0,null,null,null,null,null,null,null,0,null,null,null,null,null,null,null,null,null,null,null,null,null,{"$f":"IF(OR(SUMPRODUCT(--(E47756=$O$1:$O$541))>0,E47756=0),0,1)","v":0}]
[null,null,null,null,0,null,null,null,null,null,null,null,0,null,null,null,null,null,null,null,null,null,null,null,null,null,{"$f":"IF(OR(SUMPRODUCT(--(E47885=$O$1:$O$541))>0,E47885=0),0,1)","v":0}]
[null,null,null,null,0,null,null,null,null,null,null,null,0,null,null,null,null,null,null,null,null,null,null,null,null,null,{"$f":"IF(OR(SUMPRODUCT(--(E47924=$O$1:$O$541))>0,E47924=0),0,1)","v":0}]
[null,null,null,null,0,null,null,null,null,null,null,null,0,null,null,null,null,null,null,null,null,null,null,null,null,null,{"$f":"IF(OR(SUMPRODUCT(--(E48062=$O$1:$O$541))>0,E48062=0),0,1)","v":0}]
[null,null,null,null,0,null,null,null,null,null,null,null,0,null,null,null,null,null,null,null,null,null,null,null,null,null,{"$f":"IF(OR(SUMPRODUCT(--(E48149=$O$1:$O$541))>0,E48149=0),0,1)","v":0}]
[null,null,null,null,0,null,null,null,null,null,null,null,0,null,null,null,null,null,null,null,null,null,null,null,null,null,{"$f":"IF(OR(SUMPRODUCT(--(E48242=$O$1:$O$541))>0,E48242=0),0,1)","v":0}]
[null,null,null,null,0,null,null,null,null,null,null,null,0,null,null,null,null,null,null,null,null,null,null,null,null,null,{"$f":"IF(OR(SUMPRODUCT(--(E48380=$O$1:$O$541))>0,E48380=0),0,1)","v":0}]
[null,null,null,null,0,null,null,null,null,null,null,null,0,null,null,null,null,null,null,null,null,null,null,null,null,null,{"$f":"IF(OR(SUMPRODUCT(--(E48423=$O$1:$O$541))>0,E48423=0),0,1)","v":0}]
[null,null,null,null,0,null,null,null,null,null,null,null,0,null,null,null,null,null,null,null,null,null,null,null,null,null,{"$f":"IF(OR(SUMPRODUCT(--(E48552=$O$1:$O$541))>0,E48552=0),0,1)","v":0}]
[null,null,null,null,0,null,null,null,null,null,null,null,0,null,null,null,null,null,null,null,null,null,null,null,null,null,{"$f":"IF(OR(SUMPRODUCT(--(E48603=$O$1:$O$541))>0,E48603=0),0,1)","v":0}]
[null,null,null,null,0,null,null,null,null,null,null,null,0,null,null,null,null,null,null,null,null,null,null,null,null,null,{"$f":"IF(OR(SUMPRODUCT(--(E48741=$O$1:$O$541))>0,E48741=0),0,1)","v":0}]
[null,null,null,null,0,null,null,null,null,null,null,null,0,null,null,null,null,null,null,null,null,null,null,null,null,null,{"$f":"IF(OR(SUMPRODUCT(--(E48879=$O$1:$O$541))>0,E48879=0),0,1)","v":0}]
[null,null,null,null,0,null,null,null,null,null,null,null,0,null,null,null,null,null,null,null,null,null,null,null,null,null,{"$f":"IF(OR(SUMPRODUCT(--(E48945=$O$1:$O$541))>0,E48945=0),0,1)","v":0}]
[null,null,null,null,0,null,null,null,null,null,null,null,0,null,null,null,null,null,null,null,null,null,null,null,null,null,{"$f":"IF(OR(SUMPRODUCT(--(E49059=$O$1:$O$541))>0,E49059=0),0,1)","v":0}]
[null,null,null,null,0,null,null,null,null,null,null,null,0,null,null,null,null,null,null,null,null,null,null,null,null,null,{"$f":"IF(OR(SUMPRODUCT(--(E49102=$O$1:$O$541))>0,E49102=0),0,1)","v":0}]
[null,null,null,null,0,null,null,null,null,null,null,null,0,null,null,null,null,null,null,null,null,null,null,null,null,null,{"$f":"IF(OR(SUMPRODUCT(--(E49240=$O$1:$O$541))>0,E49240=0),0,1)","v":0}]
[null,null,null,null,0,null,null,null,null,null,null,null,0,null,null,null,null,null,null,null,null,null,null,null,null,null,{"$f":"IF(OR(SUMPRODUCT(--(E49348=$O$1:$O$541))>0,E49348=0),0,1)","v":0}]
[null,null,null,null,0,null,null,null,null,null,null,null,0,null,null,null,null,null,null,null,null,null,null,null,null,null,{"$f":"IF(OR(SUMPRODUCT(--(E49420=$O$1:$O$541))>0,E49420=0),0,1)","v":0}]
[null,null,null,null,0,null,null,null,null,null,null,null,0,null,null,null,null,null,null,null,null,null,null,null,null,null,{"$f":"IF(OR(SUMPRODUCT(--(E49558=$O$1:$O$541))>0,E49558=0),0,1)","v":0}]
[null,null,null,null,0,null,null,null,null,null,null,null,0,null,null,null,null,null,null,null,null,null,null,null,null,null,{"$f":"IF(OR(SUMPRODUCT(--(E49597=$O$1:$O$541))>0,E49597=0),0,1)","v":0}]
[null,null,null,null,0,null,null,null,null,null,null,null,0,null,null,null,null,null,null,null,null,null,null,null,null,null,{"$f":"IF(OR(SUMPRODUCT(--(E49741=$O$1:$O$541))>0,E49741=0),0,1)","v":0}]
[null,null,null,null,0,null,null,null,null,null,null,null,0,null,null,null,null,null,null,null,null,null,null,null,null,null,{"$f":"IF(OR(SUMPRODUCT(--(E49876=$O$1:$O$541))>0,E49876=0),0,1)","v":0}]
[null,null,null,null,0,null,null,null,null,null,null,null,0,null,null,null,null,null,null,null,null,null,null,null,null,null,{"$f":"IF(OR(SUMPRODUCT(--(E49919=$O$1:$O$541))>0,E49919=0),0,1)","v":0}]
[null,null,null,null,0,null,null,null,null,null,null,null,0,null,null,null,null,null,null,null,null,null,null,null,null,null,{"$f":"IF(OR(SUMPRODUCT(--(E50057=$O$1:$O$541))>0,E50057=0),0,1)","v":0}]
[null,null,null,null,0,null,null,null,null,null,null,null,0,null,null,null,null,null,null,null,null,null,null,null,null,null,{"$f":"IF(OR(SUMPRODUCT(--(E50144=$O$1:$O$541))>0,E50144=0),0,1)","v":0}]
[null,null,null,null,0,null,null,null,null,null,null,null,0,null,null,null,null,null,null,null,null,null,null,null,null,null,{"$f":"IF(OR(SUMPRODUCT(--(E50237=$O$1:$O$541))>0,E50237=0),0,1)","v":0}]
[null,null,null,null,0,null,null,null,null,null,null,null,0,null,null,null,null,null,null,null,null,null,null,null,null,null,{"$f":"IF(OR(SUMPRODUCT(--(E50375=$O$1:$O$541))>0,E50375=0),0,1)","v":0}]
[null,null,null,null,0,null,null,null,null,null,null,null,0,null,null,null,null,null,null,null,null,null,null,null,null,null,{"$f":"IF(OR(SUMPRODUCT(--(E50414=$O$1:$O$541))>0,E50414=0),0,1)","v":0}]
[null,null,null,null,0,null,null,null,null,null,null,null,0,null,null,null,null,null,null,null,null,null,null,null,null,null,{"$f":"IF(OR(SUMPRODUCT(--(E50556=$O$1:$O$541))>0,E50556=0),0,1)","v":0}]
[null,null,null,null,0,null,null,null,null,null,null,null,0,null,null,null,null,null,null,null,null,null,null,null,null,null,{"$f":"IF(OR(SUMPRODUCT(--(E50665=$O$1:$O$541))>0,E50665=0),0,1)","v":0}]
[null,null,null,null,0,null,null,null,null,null,null,null,0,null,null,null,null,null,null,null,null,null,null,null,null,null,{"$f":"IF(OR(SUMPRODUCT(--(E50736=$O$1:$O$541))>0,E50736=0),0,1)","v":0}]
[null,null,null,null,0,null,null,null,null,null,null,null,0,null,null,null,null,null,null,null,null,null,null,null,null,null,{"$f":"IF(OR(SUMPRODUCT(--(E50775=$O$1:$O$541))>0,E50775=0),0,1)","v":0}]
[null,null,null,null,0,null,null,null,null,null,null,null,0,null,null,null,null,null,null,null,null,null,null,null,null,null,{"$f":"IF(OR(SUMPRODUCT(--(E50913=$O$1:$O$541))>0,E50913=0),0,1)","v":0}]
[null,null,null,null,0,null,null,null,null,null,null,null,0,null,null,null,null,null,null,null,null,null,null,null,null,null,{"$f":"IF(OR(SUMPRODUCT(--(E51058=$O$1:$O$541))>0,E51058=0),0,1)","v":0}]
[null,null,null,null,0,null,null,null,null,null,null,null,0,null,null,null,null,null,null,null,null,null,null,null,null,null,{"$f":"IF(OR(SUMPRODUCT(--(E51093=$O$1:$O$541))>0,E51093=0),0,1)","v":0}]
[null,null,null,null,0,null,null,null,null,null,null,null,0,null,null,null,null,null,null,null,null,null,null,null,null,null,{"$f":"IF(OR(SUMPRODUCT(--(E51235=$O$1:$O$541))>0,E51235=0),0,1)","v":0}]
[null,null,null,null,0,null,null,null,null,null,null,null,0,null,null,null,null,null,null,null,null,null,null,null,null,null,{"$f":"IF(OR(SUMPRODUCT(--(E51274=$O$1:$O$541))>0,E51274=0),0,1)","v":0}]
[null,null,null,null,0,null,null,null,null,null,null,null,0,null,null,null,null,null,null,null,null,null,null,null,null,null,{"$f":"IF(OR(SUMPRODUCT(--(E51461=$O$1:$O$541))>0,E51461=0),0,1)","v":0}]
[null,null,null,null,0,null,null,null,null,null,null,null,0,null,null,null,null,null,null,null,null,null,null,null,null,null,{"$f":"IF(OR(SUMPRODUCT(--(E51553=$O$1:$O$541))>0,E51553=0),0,1)","v":0}]
[null,null,null,null,0,null,null,null,null,null,null,null,0,null,null,null,null,null,null,null,null,null,null,null,null,null,{"$f":"IF(OR(SUMPRODUCT(--(E51592=$O$1:$O$541))>0,E51592=0),0,1)","v":0}]
[null,null,null,null,0,null,null,null,null,null,null,null,0,null,null,null,null,null,null,null,null,null,null,null,null,null,{"$f":"IF(OR(SUMPRODUCT(--(E51730=$O$1:$O$541))>0,E51730=0),0,1)","v":0}]
[null,null,null,null,0,null,null,null,null,null,null,null,0,null,null,null,null,null,null,null,null,null,null,null,null,null,{"$f":"IF(OR(SUMPRODUCT(--(E51854=$O$1:$O$541))>0,E51854=0),0,1)","v":0}]
[null,null,null,null,0,null,null,null,null,null,null,null,0,null,null,null,null,null,null,null,null,null,null,null,null,null,{"$f":"IF(OR(SUMPRODUCT(--(E51910=$O$1:$O$541))>0,E51910=0),0,1)","v":0}]
[null,null,null,null,0,null,null,null,null,null,null,null,0,null,null,null,null,null,null,null,null,null,null,null,null,null,{"$f":"IF(OR(SUMPRODUCT(--(E52052=$O$1:$O$541))>0,E52052=0),0,1)","v":0}]
[null,null,null,null,0,null,null,null,null,null,null,null,0,null,null,null,null,null,null,null,null,null,null,null,null,null,{"$f":"IF(OR(SUMPRODUCT(--(E52091=$O$1:$O$541))>0,E52091=0),0,1)","v":0}]
[null,null,null,null,0,null,null,null,null,null,null,null,0,null,null,null,null,null,null,null,null,null,null,null,null,null,{"$f":"IF(OR(SUMPRODUCT(--(E52159=$O$1:$O$541))>0,E52159=0),0,1)","v":0}]
[null,null,null,null,0,null,null,null,null,null,null,null,0,null,null,null,null,null,null,null,null,null,null,null,null,null,{"$f":"IF(OR(SUMPRODUCT(--(E52271=$O$1:$O$541))>0,E52271=0),0,1)","v":0}]
[null,null,null,null,0,null,null,null,null,null,null,null,0,null,null,null,null,null,null,null,null,null,null,null,null,null,{"$f":"IF(OR(SUMPRODUCT(--(E52409=$O$1:$O$541))>0,E52409=0),0,1)","v":0}]
[null,null,null,null,0,null,null,null,null,null,null,null,0,null,null,null,null,null,null,null,null,null,null,null,null,null,{"$f":"IF(OR(SUMPRODUCT(--(E52452=$O$1:$O$541))>0,E52452=0),0,1)","v":0}]
[null,null,null,null,0,null,null,null,null,null,null,null,0,null,null,null,null,null,null,null,null,null,null,null,null,null,{"$f":"IF(OR(SUMPRODUCT(--(E52552=$O$1:$O$541))>0,E52552=0),0,1)","v":0}]
[null,null,null,null,0,null,null,null,null,null,null,null,0,null,null,null,null,null,null,null,null,null,null,null,null,null,{"$f":"IF(OR(SUMPRODUCT(--(E52727=$O$1:$O$541))>0,E52727=0),0,1)","v":0}]
[null,null,null,null,0,null,null,null,null,null,null,null,0,null,null,null,null,null,null,null,null,null,null,null,null,null,{"$f":"IF(OR(SUMPRODUCT(--(E52770=$O$1:$O$541))>0,E52770=0),0,1)","v":0}]
[null,null,null,null,0,null,null,null,null,null,null,null,0,null,null,null,null,null,null,null,null,null,null,null,null,null,{"$f":"IF(OR(SUMPRODUCT(--(E52908=$O$1:$O$541))>0,E52908=0),0,1)","v":0}]
[null,null,null,null,0,null,null,null,null,null,null,null,0,null,null,null,null,null,null,null,null,null,null,null,null,null,{"$f":"IF(OR(SUMPRODUCT(--(E52955=$O$1:$O$541))>0,E52955=0),0,1)","v":0}]
[null,null,null,null,0,null,null,null,null,null,null,null,0,null,null,null,null,null,null,null,null,null,null,null,null,null,{"$f":"IF(OR(SUMPRODUCT(--(E53088=$O$1:$O$541))>0,E53088=0),0,1)","v":0}]
[null,null,null,null,0,null,null,null,null,null,null,null,0,null,null,null,null,null,null,null,null,null,null,null,null,null,{"$f":"IF(OR(SUMPRODUCT(--(E53226=$O$1:$O$541))>0,E53226=0),0,1)","v":0}]
[null,null,null,null,0,null,null,null,null,null,null,null,0,null,null,null,null,null,null,null,null,null,null,null,null,null,{"$f":"IF(OR(SUMPRODUCT(--(E53269=$O$1:$O$541))>0,E53269=0),0,1)","v":0}]
[null,null,null,null,0,null,null,null,null,null,null,null,0,null,null,null,null,null,null,null,null,null,null,null,null,null,{"$f":"IF(OR(SUMPRODUCT(--(E53348=$O$1:$O$541))>0,E53348=0),0,1)","v":0}]
[null,null,null,null,0,null,null,null,null,null,null,null,0,null,null,null,null,null,null,null,null,null,null,null,null,null,{"$f":"IF(OR(SUMPRODUCT(--(E53445=$O$1:$O$541))>0,E53445=0),0,1)","v":0}]
[null,null,null,null,0,null,null,null,null,null,null,null,0,null,null,null,null,null,null,null,null,null,null,null,null,null,{"$f":"IF(OR(SUMPRODUCT(--(E53587=$O$1:$O$541))>0,E53587=0),0,1)","v":0}]
[null,null,null,null,0,null,null,null,null,null,null,null,0,null,null,null,null,null,null,null,null,null,null,null,null,null,{"$f":"IF(OR(SUMPRODUCT(--(E53725=$O$1:$O$541))>0,E53725=0),0,1)","v":0}]
[null,null,null,null,0,null,null,null,null,null,null,null,0,null,null,null,null,null,null,null,null,null,null,null,null,null,{"$f":"IF(OR(SUMPRODUCT(--(E53751=$O$1:$O$541))>0,E53751=0),0,1)","v":0}]
[null,null,null,null,0,null,null,null,null,null,null,null,0,null,null,null,null,null,null,null,null,null,null,null,null,null,{"$f":"IF(OR(SUMPRODUCT(--(E53905=$O$1:$O$541))>0,E53905=0),0,1)","v":0}]
[null,null,null,null,0,null,null,null,null,null,null,null,0,null,null,null,null,null,null,null,null,null,null,null,null,null,{"$f":"IF(OR(SUMPRODUCT(--(E53944=$O$1:$O$541))>0,E53944=0),0,1)","v":0}]
[null,null,null,null,0,null,null,null,null,null,null,null,0,null,null,null,null,null,null,null,null,null,null,null,null,null,{"$f":"IF(OR(SUMPRODUCT(--(E54086=$O$1:$O$541))>0,E54086=0),0,1)","v":0}]
[null,null,null,null,0,null,null,null,null,null,null,null,0,null,null,null,null,null,null,null,null,null,null,null,null,null,{"$f":"IF(OR(SUMPRODUCT(--(E54144=$O$1:$O$541))>0,E54144=0),0,1)","v":0}]
[null,null,null,null,0,null,null,null,null,null,null,null,0,null,null,null,null,null,null,null,null,null,null,null,null,null,{"$f":"IF(OR(SUMPRODUCT(--(E54262=$O$1:$O$541))>0,E54262=0),0,1)","v":0}]
[null,null,null,null,0,null,null,null,null,null,null,null,0,null,null,null,null,null,null,null,null,null,null,null,null,null,{"$f":"IF(OR(SUMPRODUCT(--(E54404=$O$1:$O$541))>0,E54404=0),0,1)","v":0}]
[null,null,null,null,0,null,null,null,null,null,null,null,0,null,null,null,null,null,null,null,null,null,null,null,null,null,{"$f":"IF(OR(SUMPRODUCT(--(E54443=$O$1:$O$541))>0,E54443=0),0,1)","v":0}]
[null,null,null,null,0,null,null,null,null,null,null,null,0,null,null,null,null,null,null,null,null,null,null,null,null,null,{"$f":"IF(OR(SUMPRODUCT(--(E54537=$O$1:$O$541))>0,E54537=0),0,1)","v":0}]
[null,null,null,null,0,null,null,null,null,null,null,null,0,null,null,null,null,null,null,null,null,null,null,null,null,null,{"$f":"IF(OR(SUMPRODUCT(--(E54623=$O$1:$O$541))>0,E54623=0),0,1)","v":0}]
[null,null,null,null,0,null,null,null,null,null,null,null,0,null,null,null,null,null,null,null,null,null,null,null,null,null,{"$f":"IF(OR(SUMPRODUCT(--(E54761=$O$1:$O$541))>0,E54761=0),0,1)","v":0}]
[null,null,null,null,0,null,null,null,null,null,null,null,0,null,null,null,null,null,null,null,null,null,null,null,null,null,{"$f":"IF(OR(SUMPRODUCT(--(E54903=$O$1:$O$541))>0,E54903=0),0,1)","v":0}]
[null,null,null,null,0,null,null,null,null,null,null,null,0,null,null,null,null,null,null,null,null,null,null,null,null,null,{"$f":"IF(OR(SUMPRODUCT(--(E54940=$O$1:$O$541))>0,E54940=0),0,1)","v":0}]
[null,null,null,null,0,null,null,null,null,null,null,null,0,null,null,null,null,null,null,null,null,null,null,null,null,null,{"$f":"IF(OR(SUMPRODUCT(--(E55079=$O$1:$O$541))>0,E55079=0),0,1)","v":0}]
[null,null,null,null,0,null,null,null,null,null,null,null,0,null,null,null,null,null,null,null,null,null,null,null,null,null,{"$f":"IF(OR(SUMPRODUCT(--(E55122=$O$1:$O$541))>0,E55122=0),0,1)","v":0}]
[null,null,null,null,0,null,null,null,null,null,null,null,0,null,null,null,null,null,null,null,null,null,null,null,null,null,{"$f":"IF(OR(SUMPRODUCT(--(E55260=$O$1:$O$541))>0,E55260=0),0,1)","v":0}]
[null,null,null,null,0,null,null,null,null,null,null,null,0,null,null,null,null,null,null,null,null,null,null,null,null,null,{"$f":"IF(OR(SUMPRODUCT(--(E55333=$O$1:$O$541))>0,E55333=0),0,1)","v":0}]
[null,null,null,null,0,null,null,null,null,null,null,null,0,null,null,null,null,null,null,null,null,null,null,null,null,null,{"$f":"IF(OR(SUMPRODUCT(--(E55440=$O$1:$O$541))>0,E55440=0),0,1)","v":0}]
[null,null,null,null,0,null,null,null,null,null,null,null,0,null,null,null,null,null,null,null,null,null,null,null,null,null,{"$f":"IF(OR(SUMPRODUCT(--(E55578=$O$1:$O$541))>0,E55578=0),0,1)","v":0}]
[null,null,null,null,0,null,null,null,null,null,null,null,0,null,null,null,null,null,null,null,null,null,null,null,null,null,{"$f":"IF(OR(SUMPRODUCT(--(E55621=$O$1:$O$541))>0,E55621=0),0,1)","v":0}]
[null,null,null,null,0,null,null,null,null,null,null,null,0,null,null,null,null,null,null,null,null,null,null,null,null,null,{"$f":"IF(OR(SUMPRODUCT(--(E55736=$O$1:$O$541))>0,E55736=0),0,1)","v":0}]
[null,null,null,null,0,null,null,null,null,null,null,null,0,null,null,null,null,null,null,null,null,null,null,null,null,null,{"$f":"IF(OR(SUMPRODUCT(--(E55896=$O$1:$O$541))>0,E55896=0),0,1)","v":0}]
[null,null,null,null,0,null,null,null,null,null,null,null,{"$f":"IF(L55939<>\"\",L55939,K55939)","v":0},null,null,null,null,null,null,null,null,null,null,null,null,null,{"$f":"IF(OR(SUMPRODUCT(--(E55939=$O$1:$O$541))>0,E55939=0),0,1)","v":0}]
[null,null,null,null,0,null,null,null,null,null,null,null,0,null,null,null,null,null,null,null,null,null,null,null,null,null,{"$f":"IF(OR(SUMPRODUCT(--(E56077=$O$1:$O$541))>0,E56077=0),0,1)","v":0}]
[null,null,null,null,0,null,null,null,null,null,null,null,0,null,null,null,null,null,null,null,null,null,null,null,null,null,{"$f":"IF(OR(SUMPRODUCT(--(E56129=$O$1:$O$541))>0,E56129=0),0,1)","v":0}]
[null,null,null,null,0,null,null,null,null,null,null,null,0,null,null,null,null,null,null,null,null,null,null,null,null,null,{"$f":"IF(OR(SUMPRODUCT(--(E56257=$O$1:$O$541))>0,E56257=0),0,1)","v":0}]
[null,null,null,null,0,null,null,null,null,null,null,null,0,null,null,null,null,null,null,null,null,null,null,null,null,null,{"$f":"IF(OR(SUMPRODUCT(--(E56395=$O$1:$O$541))>0,E56395=0),0,1)","v":0}]
[null,null,null,null,0,null,null,null,null,null,null,null,0,null,null,null,null,null,null,null,null,null,null,null,null,null,{"$f":"IF(OR(SUMPRODUCT(--(E56438=$O$1:$O$541))>0,E56438=0),0,1)","v":0}]
[null,null,null,null,0,null,null,null,null,null,null,null,0,null,null,null,null,null,null,null,null,null,null,null,null,null,{"$f":"IF(OR(SUMPRODUCT(--(E56532=$O$1:$O$541))>0,E56532=0),0,1)","v":0}]
[null,null,null,null,0,null,null,null,null,null,null,null,0,null,null,null,null,null,null,null,null,null,null,null,null,null,{"$f":"IF(OR(SUMPRODUCT(--(E56618=$O$1:$O$541))>0,E56618=0),0,1)","v":0}]
[null,null,null,null,0,null,null,null,null,null,null,null,0,null,null,null,null,null,null,null,null,null,null,null,null,null,{"$f":"IF(OR(SUMPRODUCT(--(E56756=$O$1:$O$541))>0,E56756=0),0,1)","v":0}]
[null,null,null,null,0,null,null,null,null,null,null,null,0,null,null,null,null,null,null,null,null,null,null,null,null,null,{"$f":"IF(OR(SUMPRODUCT(--(E56795=$O$1:$O$541))>0,E56795=0),0,1)","v":0}]
[null,null,null,null,0,null,null,null,null,null,null,null,0,null,null,null,null,null,null,null,null,null,null,null,null,null,{"$f":"IF(OR(SUMPRODUCT(--(E56925=$O$1:$O$541))>0,E56925=0),0,1)","v":0}]
[null,null,null,null,0,null,null,null,null,null,null,null,0,null,null,null,null,null,null,null,null,null,null,null,null,null,{"$f":"IF(OR(SUMPRODUCT(--(E57074=$O$1:$O$541))>0,E57074=0),0,1)","v":0}]
[null,null,null,null,0,null,null,null,null,null,null,null,0,null,null,null,null,null,null,null,null,null,null,null,null,null,{"$f":"IF(OR(SUMPRODUCT(--(E57113=$O$1:$O$541))>0,E57113=0),0,1)","v":0}]
[null,null,null,null,0,null,null,null,null,null,null,null,0,null,null,null,null,null,null,null,null,null,null,null,null,null,{"$f":"IF(OR(SUMPRODUCT(--(E57255=$O$1:$O$541))>0,E57255=0),0,1)","v":0}]
[null,null,null,null,0,null,null,null,null,null,null,null,0,null,null,null,null,null,null,null,null,null,null,null,null,null,{"$f":"IF(OR(SUMPRODUCT(--(E57328=$O$1:$O$541))>0,E57328=0),0,1)","v":0}]
[null,null,null,null,0,null,null,null,null,null,null,null,0,null,null,null,null,null,null,null,null,null,null,null,null,null,{"$f":"IF(OR(SUMPRODUCT(--(E57435=$O$1:$O$541))>0,E57435=0),0,1)","v":0}]
[null,null,null,null,0,null,null,null,null,null,null,null,0,null,null,null,null,null,null,null,null,null,null,null,null,null,{"$f":"IF(OR(SUMPRODUCT(--(E57573=$O$1:$O$541))>0,E57573=0),0,1)","v":0}]
[null,null,null,null,0,null,null,null,null,null,null,null,0,null,null,null,null,null,null,null,null,null,null,null,null,null,{"$f":"IF(OR(SUMPRODUCT(--(E57612=$O$1:$O$541))>0,E57612=0),0,1)","v":0}]
[null,null,null,null,0,null,null,null,null,null,null,null,0,null,null,null,null,null,null,null,null,null,null,null,null,null,{"$f":"IF(OR(SUMPRODUCT(--(E57721=$O$1:$O$541))>0,E57721=0),0,1)","v":0}]
[null,null,null,null,0,null,null,null,null,null,null,null,0,null,null,null,null,null,null,null,null,null,null,null,null,null,{"$f":"IF(OR(SUMPRODUCT(--(E57792=$O$1:$O$541))>0,E57792=0),0,1)","v":0}]
[null,null,null,null,0,null,null,null,null,null,null,null,0,null,null,null,null,null,null,null,null,null,null,null,null,null,{"$f":"IF(OR(SUMPRODUCT(--(E57934=$O$1:$O$541))>0,E57934=0),0,1)","v":0}]
[null,null,null,null,0,null,null,null,null,null,null,null,0,null,null,null,null,null,null,null,null,null,null,null,null,null,{"$f":"IF(OR(SUMPRODUCT(--(E58072=$O$1:$O$541))>0,E58072=0),0,1)","v":0}]
[null,null,null,null,0,null,null,null,null,null,null,null,0,null,null,null,null,null,null,null,null,null,null,null,null,null,{"$f":"IF(OR(SUMPRODUCT(--(E58124=$O$1:$O$541))>0,E58124=0),0,1)","v":0}]
[null,null,null,null,0,null,null,null,null,null,null,null,0,null,null,null,null,null,null,null,null,null,null,null,null,null,{"$f":"IF(OR(SUMPRODUCT(--(E58252=$O$1:$O$541))>0,E58252=0),0,1)","v":0}]
[null,null,null,null,0,null,null,null,null,null,null,null,0,null,null,null,null,null,null,null,null,null,null,null,null,null,{"$f":"IF(OR(SUMPRODUCT(--(E58291=$O$1:$O$541))>0,E58291=0),0,1)","v":0}]
[null,null,null,null,0,null,null,null,null,null,null,null,0,null,null,null,null,null,null,null,null,null,null,null,null,null,{"$f":"IF(OR(SUMPRODUCT(--(E58429=$O$1:$O$541))>0,E58429=0),0,1)","v":0}]
[null,null,null,null,0,null,null,null,null,null,null,null,0,null,null,null,null,null,null,null,null,null,null,null,null,null,{"$f":"IF(OR(SUMPRODUCT(--(E58517=$O$1:$O$541))>0,E58517=0),0,1)","v":0}]
[null,null,null,null,0,null,null,null,null,null,null,null,0,null,null,null,null,null,null,null,null,null,null,null,null,null,{"$f":"IF(OR(SUMPRODUCT(--(E58609=$O$1:$O$541))>0,E58609=0),0,1)","v":0}]
[null,null,null,null,0,null,null,null,null,null,null,null,0,null,null,null,null,null,null,null,null,null,null,null,null,null,{"$f":"IF(OR(SUMPRODUCT(--(E58751=$O$1:$O$541))>0,E58751=0),0,1)","v":0}]
[null,null,null,null,0,null,null,null,null,null,null,null,0,null,null,null,null,null,null,null,null,null,null,null,null,null,{"$f":"IF(OR(SUMPRODUCT(--(E58790=$O$1:$O$541))>0,E58790=0),0,1)","v":0}]
[null,null,null,null,0,null,null,null,null,null,null,null,0,null,null,null,null,null,null,null,null,null,null,null,null,null,{"$f":"IF(OR(SUMPRODUCT(--(E58920=$O$1:$O$541))>0,E58920=0),0,1)","v":0}]
[null,null,null,null,0,null,null,null,null,null,null,null,0,null,null,null,null,null,null,null,null,null,null,null,null,null,{"$f":"IF(OR(SUMPRODUCT(--(E58970=$O$1:$O$541))>0,E58970=0),0,1)","v":0}]
[null,null,null,null,0,null,null,null,null,null,null,null,0,null,null,null,null,null,null,null,null,null,null,null,null,null,{"$f":"IF(OR(SUMPRODUCT(--(E59108=$O$1:$O$541))>0,E59108=0),0,1)","v":0}]
[null,null,null,null,0,null,null,null,null,null,null,null,0,null,null,null,null,null,null,null,null,null,null,null,null,null,{"$f":"IF(OR(SUMPRODUCT(--(E59246=$O$1:$O$541))>0,E59246=0),0,1)","v":0}]
[null,null,null,null,0,null,null,null,null,null,null,null,0,null,null,null,null,null,null,null,null,null,null,null,null,null,{"$f":"IF(OR(SUMPRODUCT(--(E59313=$O$1:$O$541))>0,E59313=0),0,1)","v":0}]
[null,null,null,null,0,null,null,null,null,null,null,null,0,null,null,null,null,null,null,null,null,null,null,null,null,null,{"$f":"IF(OR(SUMPRODUCT(--(E59426=$O$1:$O$541))>0,E59426=0),0,1)","v":0}]
[null,null,null,null,0,null,null,null,null,null,null,null,0,null,null,null,null,null,null,null,null,null,null,null,null,null,{"$f":"IF(OR(SUMPRODUCT(--(E59469=$O$1:$O$541))>0,E59469=0),0,1)","v":0}]
[null,null,null,null,0,null,null,null,null,null,null,null,0,null,null,null,null,null,null,null,null,null,null,null,null,null,{"$f":"IF(OR(SUMPRODUCT(--(E59607=$O$1:$O$541))>0,E59607=0),0,1)","v":0}]
[null,null,null,null,0,null,null,null,null,null,null,null,0,null,null,null,null,null,null,null,null,null,null,null,null,null,{"$f":"IF(OR(SUMPRODUCT(--(E59716=$O$1:$O$541))>0,E59716=0),0,1)","v":0}]
[null,null,null,null,0,null,null,null,null,null,null,null,0,null,null,null,null,null,null,null,null,null,null,null,null,null,{"$f":"IF(OR(SUMPRODUCT(--(E59787=$O$1:$O$541))>0,E59787=0),0,1)","v":0}]
[null,null,null,null,0,null,null,null,null,null,null,null,0,null,null,null,null,null,null,null,null,null,null,null,null,null,{"$f":"IF(OR(SUMPRODUCT(--(E59925=$O$1:$O$541))>0,E59925=0),0,1)","v":0}]
[null,null,null,null,0,null,null,null,null,null,null,null,0,null,null,null,null,null,null,null,null,null,null,null,null,null,{"$f":"IF(OR(SUMPRODUCT(--(E59968=$O$1:$O$541))>0,E59968=0),0,1)","v":0}]
[null,null,null,null,0,null,null,null,null,null,null,null,0,null,null,null,null,null,null,null,null,null,null,null,null,null,{"$f":"IF(OR(SUMPRODUCT(--(E60109=$O$1:$O$541))>0,E60109=0),0,1)","v":0}]
[null,null,null,null,0,null,null,null,null,null,null,null,0,null,null,null,null,null,null,null,null,null,null,null,null,null,{"$f":"IF(OR(SUMPRODUCT(--(E60243=$O$1:$O$541))>0,E60243=0),0,1)","v":0}]
[null,null,null,null,0,null,null,null,null,null,null,null,0,null,null,null,null,null,null,null,null,null,null,null,null,null,{"$f":"IF(OR(SUMPRODUCT(--(E60286=$O$1:$O$541))>0,E60286=0),0,1)","v":0}]
[null,null,null,null,0,null,null,null,null,null,null,null,0,null,null,null,null,null,null,null,null,null,null,null,null,null,{"$f":"IF(OR(SUMPRODUCT(--(E60424=$O$1:$O$541))>0,E60424=0),0,1)","v":0}]
[null,null,null,null,0,null,null,null,null,null,null,null,0,null,null,null,null,null,null,null,null,null,null,null,null,null,{"$f":"IF(OR(SUMPRODUCT(--(E60512=$O$1:$O$541))>0,E60512=0),0,1)","v":0}]
[null,null,null,null,0,null,null,null,null,null,null,null,0,null,null,null,null,null,null,null,null,null,null,null,null,null,{"$f":"IF(OR(SUMPRODUCT(--(E60604=$O$1:$O$541))>0,E60604=0),0,1)","v":0}]
[null,null,null,null,0,null,null,null,null,null,null,null,0,null,null,null,null,null,null,null,null,null,null,null,null,null,{"$f":"IF(OR(SUMPRODUCT(--(E60742=$O$1:$O$541))>0,E60742=0),0,1)","v":0}]
[null,null,null,null,0,null,null,null,null,null,null,null,0,null,null,null,null,null,null,null,null,null,null,null,null,null,{"$f":"IF(OR(SUMPRODUCT(--(E60785=$O$1:$O$541))>0,E60785=0),0,1)","v":0}]
[null,null,null,null,0,null,null,null,null,null,null,null,0,null,null,null,null,null,null,null,null,null,null,null,null,null,{"$f":"IF(OR(SUMPRODUCT(--(E60905=$O$1:$O$541))>0,E60905=0),0,1)","v":0}]
[null,null,null,null,0,null,null,null,null,null,null,null,0,null,null,null,null,null,null,null,null,null,null,null,null,null,{"$f":"IF(OR(SUMPRODUCT(--(E60961=$O$1:$O$541))>0,E60961=0),0,1)","v":0}]
[null,null,null,null,0,null,null,null,null,null,null,null,0,null,null,null,null,null,null,null,null,null,null,null,null,null,{"$f":"IF(OR(SUMPRODUCT(--(E61103=$O$1:$O$541))>0,E61103=0),0,1)","v":0}]
[null,null,null,null,0,null,null,null,null,null,null,null,0,null,null,null,null,null,null,null,null,null,null,null,null,null,{"$f":"IF(OR(SUMPRODUCT(--(E61142=$O$1:$O$541))>0,E61142=0),0,1)","v":0}]
[null,null,null,null,0,null,null,null,null,null,null,null,0,null,null,null,null,null,null,null,null,null,null,null,null,null,{"$f":"IF(OR(SUMPRODUCT(--(E61308=$O$1:$O$541))>0,E61308=0),0,1)","v":0}]
[null,null,null,null,0,null,null,null,null,null,null,null,0,null,null,null,null,null,null,null,null,null,null,null,null,null,{"$f":"IF(OR(SUMPRODUCT(--(E61421=$O$1:$O$541))>0,E61421=0),0,1)","v":0}]
[null,null,null,null,0,null,null,null,null,null,null,null,0,null,null,null,null,null,null,null,null,null,null,null,null,null,{"$f":"IF(OR(SUMPRODUCT(--(E61460=$O$1:$O$541))>0,E61460=0),0,1)","v":0}]
[null,null,null,null,0,null,null,null,null,null,null,null,0,null,null,null,null,null,null,null,null,null,null,null,null,null,{"$f":"IF(OR(SUMPRODUCT(--(E61602=$O$1:$O$541))>0,E61602=0),0,1)","v":0}]
[null,null,null,null,0,null,null,null,null,null,null,null,0,null,null,null,null,null,null,null,null,null,null,null,null,null,{"$f":"IF(OR(SUMPRODUCT(--(E61701=$O$1:$O$541))>0,E61701=0),0,1)","v":0}]
[null,null,null,null,0,null,null,null,null,null,null,null,0,null,null,null,null,null,null,null,null,null,null,null,null,null,{"$f":"IF(OR(SUMPRODUCT(--(E61778=$O$1:$O$541))>0,E61778=0),0,1)","v":0}]
[null,null,null,null,0,null,null,null,null,null,null,null,0,null,null,null,null,null,null,null,null,null,null,null,null,null,{"$f":"IF(OR(SUMPRODUCT(--(E61920=$O$1:$O$541))>0,E61920=0),0,1)","v":0}]
[null,null,null,null,0,null,null,null,null,null,null,null,0,null,null,null,null,null,null,null,null,null,null,null,null,null,{"$f":"IF(OR(SUMPRODUCT(--(E61959=$O$1:$O$541))>0,E61959=0),0,1)","v":0}]
[null,null,null,null,0,null,null,null,null,null,null,null,0,null,null,null,null,null,null,null,null,null,null,null,null,null,{"$f":"IF(OR(SUMPRODUCT(--(E62094=$O$1:$O$541))>0,E62094=0),0,1)","v":0}]
[null,null,null,null,0,null,null,null,null,null,null,null,0,null,null,null,null,null,null,null,null,null,null,null,null,null,{"$f":"IF(OR(SUMPRODUCT(--(E62139=$O$1:$O$541))>0,E62139=0),0,1)","v":0}]
[null,null,null,null,0,null,null,null,null,null,null,null,0,null,null,null,null,null,null,null,null,null,null,null,null,null,{"$f":"IF(OR(SUMPRODUCT(--(E62277=$O$1:$O$541))>0,E62277=0),0,1)","v":0}]
[null,null,null,null,0,null,null,null,null,null,null,null,0,null,null,null,null,null,null,null,null,null,null,null,null,null,{"$f":"IF(OR(SUMPRODUCT(--(E62419=$O$1:$O$541))>0,E62419=0),0,1)","v":0}]
[null,null,null,null,0,null,null,null,null,null,null,null,0,null,null,null,null,null,null,null,null,null,null,null,null,null,{"$f":"IF(OR(SUMPRODUCT(--(E62497=$O$1:$O$541))>0,E62497=0),0,1)","v":0}]
[null,null,null,null,0,null,null,null,null,null,null,null,{"$f":"IF(L62595<>\"\",L62595,K62595)","v":0},null,null,null,null,null,null,null,null,null,null,null,null,null,{"$f":"IF(OR(SUMPRODUCT(--(E62595=$O$1:$O$541))>0,E62595=0),0,1)","v":0}]
[null,null,null,null,0,null,null,null,null,null,null,null,0,null,null,null,null,null,null,null,null,null,null,null,null,null,{"$f":"IF(OR(SUMPRODUCT(--(E62638=$O$1:$O$541))>0,E62638=0),0,1)","v":0}]
[null,null,null,null,0,null,null,null,null,null,null,null,0,null,null,null,null,null,null,null,null,null,null,null,null,null,{"$f":"IF(OR(SUMPRODUCT(--(E62776=$O$1:$O$541))>0,E62776=0),0,1)","v":0}]
[null,null,null,null,0,null,null,null,null,null,null,null,0,null,null,null,null,null,null,null,null,null,null,null,null,null,{"$f":"IF(OR(SUMPRODUCT(--(E62890=$O$1:$O$541))>0,E62890=0),0,1)","v":0}]
[null,null,null,null,0,null,null,null,null,null,null,null,0,null,null,null,null,null,null,null,null,null,null,null,null,null,{"$f":"IF(OR(SUMPRODUCT(--(E62956=$O$1:$O$541))>0,E62956=0),0,1)","v":0}]
[null,null,null,null,0,null,null,null,null,null,null,null,0,null,null,null,null,null,null,null,null,null,null,null,null,null,{"$f":"IF(OR(SUMPRODUCT(--(E63094=$O$1:$O$541))>0,E63094=0),0,1)","v":0}]
[null,null,null,null,0,null,null,null,null,null,null,null,0,null,null,null,null,null,null,null,null,null,null,null,null,null,{"$f":"IF(OR(SUMPRODUCT(--(E63137=$O$1:$O$541))>0,E63137=0),0,1)","v":0}]
[null,null,null,null,0,null,null,null,null,null,null,null,0,null,null,null,null,null,null,null,null,null,null,null,null,null,{"$f":"IF(OR(SUMPRODUCT(--(E63293=$O$1:$O$541))>0,E63293=0),0,1)","v":0}]
[null,null,null,null,0,null,null,null,null,null,null,null,0,null,null,null,null,null,null,null,null,null,null,null,null,null,{"$f":"IF(OR(SUMPRODUCT(--(E63317=$O$1:$O$541))>0,E63317=0),0,1)","v":0}]
[null,null,null,null,0,null,null,null,null,null,null,null,0,null,null,null,null,null,null,null,null,null,null,null,null,null,{"$f":"IF(OR(SUMPRODUCT(--(E63455=$O$1:$O$541))>0,E63455=0),0,1)","v":0}]
[null,null,null,null,0,null,null,null,null,null,null,null,0,null,null,null,null,null,null,null,null,null,null,null,null,null,{"$f":"IF(OR(SUMPRODUCT(--(E63593=$O$1:$O$541))>0,E63593=0),0,1)","v":0}]
[null,null,null,null,0,null,null,null,null,null,null,null,0,null,null,null,null,null,null,null,null,null,null,null,null,null,{"$f":"IF(OR(SUMPRODUCT(--(E63686=$O$1:$O$541))>0,E63686=0),0,1)","v":0}]
[null,null,null,null,0,null,null,null,null,null,null,null,0,null,null,null,null,null,null,null,null,null,null,null,null,null,{"$f":"IF(OR(SUMPRODUCT(--(E63773=$O$1:$O$541))>0,E63773=0),0,1)","v":0}]
[null,null,null,null,0,null,null,null,null,null,null,null,0,null,null,null,null,null,null,null,null,null,null,null,null,null,{"$f":"IF(OR(SUMPRODUCT(--(E63812=$O$1:$O$541))>0,E63812=0),0,1)","v":0}]
[null,null,null,null,0,null,null,null,null,null,null,null,0,null,null,null,null,null,null,null,null,null,null,null,null,null,{"$f":"IF(OR(SUMPRODUCT(--(E63954=$O$1:$O$541))>0,E63954=0),0,1)","v":0}]
[null,null,null,null,0,null,null,null,null,null,null,null,0,null,null,null,null,null,null,null,null,null,null,null,null,null,{"$f":"IF(OR(SUMPRODUCT(--(E64089=$O$1:$O$541))>0,E64089=0),0,1)","v":0}]
[null,null,null,null,0,null,null,null,null,null,null,null,0,null,null,null,null,null,null,null,null,null,null,null,null,null,{"$f":"IF(OR(SUMPRODUCT(--(E64134=$O$1:$O$541))>0,E64134=0),0,1)","v":0}]
[null,null,null,null,0,null,null,null,null,null,null,null,0,null,null,null,null,null,null,null,null,null,null,null,null,null,{"$f":"IF(OR(SUMPRODUCT(--(E64272=$O$1:$O$541))>0,E64272=0),0,1)","v":0}]
[null,null,null,null,0,null,null,null,null,null,null,null,0,null,null,null,null,null,null,null,null,null,null,null,null,null,{"$f":"IF(OR(SUMPRODUCT(--(E64311=$O$1:$O$541))>0,E64311=0),0,1)","v":0}]
[null,null,null,null,0,null,null,null,null,null,null,null,0,null,null,null,null,null,null,null,null,null,null,null,null,null,{"$f":"IF(OR(SUMPRODUCT(--(E64482=$O$1:$O$541))>0,E64482=0),0,1)","v":0}]
[null,null,null,null,0,null,null,null,null,null,null,null,0,null,null,null,null,null,null,null,null,null,null,null,null,null,{"$f":"IF(OR(SUMPRODUCT(--(E64590=$O$1:$O$541))>0,E64590=0),0,1)","v":0}]
[null,null,null,null,0,null,null,null,null,null,null,null,0,null,null,null,null,null,null,null,null,null,null,null,null,null,{"$f":"IF(OR(SUMPRODUCT(--(E64629=$O$1:$O$541))>0,E64629=0),0,1)","v":0}]
[null,null,null,null,0,null,null,null,null,null,null,null,{"$f":"IF(L64771<>\"\",L64771,K64771)","v":0},null,null,null,null,null,null,null,null,null,null,null,null,null,{"$f":"IF(OR(SUMPRODUCT(--(E64771=$O$1:$O$541))>0,E64771=0),0,1)","v":0}]
[null,null,null,null,0,null,null,null,null,null,null,null,0,null,null,null,null,null,null,null,null,null,null,null,null,null,{"$f":"IF(OR(SUMPRODUCT(--(E64885=$O$1:$O$541))>0,E64885=0),0,1)","v":0}]
[null,null,null,null,0,null,null,null,null,null,null,null,0,null,null,null,null,null,null,null,null,null,null,null,null,null,{"$f":"IF(OR(SUMPRODUCT(--(E64951=$O$1:$O$541))>0,E64951=0),0,1)","v":0}]
[null,null,null,null,0,null,null,null,null,null,null,null,0,null,null,null,null,null,null,null,null,null,null,null,null,null,{"$f":"IF(OR(SUMPRODUCT(--(E65089=$O$1:$O$541))>0,E65089=0),0,1)","v":0}]
[null,null,null,null,0,null,null,null,null,null,null,null,0,null,null,null,null,null,null,null,null,null,null,null,null,null,{"$f":"IF(OR(SUMPRODUCT(--(E65128=$O$1:$O$541))>0,E65128=0),0,1)","v":0}]
[null,null,null,null,0,null,null,null,null,null,null,null,0,null,null,null,null,null,null,null,null,null,null,null,null,null,{"$f":"IF(OR(SUMPRODUCT(--(E65278=$O$1:$O$541))>0,E65278=0),0,1)","v":0}]
[null,null,null,null,0,null,null,null,null,null,null,null,0,null,null,null,null,null,null,null,null,null,null,null,null,null,{"$f":"IF(OR(SUMPRODUCT(--(E65308=$O$1:$O$541))>0,E65308=0),0,1)","v":0}]
[null,null,null,null,0,null,null,null,null,null,null,null,0,null,null,null,null,null,null,null,null,null,null,null,null,null,{"$f":"IF(OR(SUMPRODUCT(--(E65450=$O$1:$O$541))>0,E65450=0),0,1)","v":0}]
[null,null,null,null,0,null,null,null,null,null,null,null,0,null,null,null,null,null,null,null,null,null,null,null,null,null,{"$f":"IF(OR(SUMPRODUCT(--(E65489=$O$1:$O$541))>0,E65489=0),0,1)","v":0}]
[null,null,null,null,0,null,null,null,null,null,null,null,0,null,null,null,null,null,null,null,null,null,null,null,null,null,{"$f":"IF(OR(SUMPRODUCT(--(E65681=$O$1:$O$541))>0,E65681=0),0,1)","v":0}]
[null,null,null,null,0,null,null,null,null,null,null,null,0,null,null,null,null,null,null,null,null,null,null,null,null,null,{"$f":"IF(OR(SUMPRODUCT(--(E65768=$O$1:$O$541))>0,E65768=0),0,1)","v":0}]
[null,null,null,null,0,null,null,null,null,null,null,null,0,null,null,null,null,null,null,null,null,null,null,null,null,null,{"$f":"IF(OR(SUMPRODUCT(--(E65807=$O$1:$O$541))>0,E65807=0),0,1)","v":0}]
[null,null,null,null,0,null,null,null,null,null,null,null,0,null,null,null,null,null,null,null,null,null,null,null,null,null,{"$f":"IF(OR(SUMPRODUCT(--(E65945=$O$1:$O$541))>0,E65945=0),0,1)","v":0}]
[null,null,null,null,0,null,null,null,null,null,null,null,0,null,null,null,null,null,null,null,null,null,null,null,null,null,{"$f":"IF(OR(SUMPRODUCT(--(E66074=$O$1:$O$541))>0,E66074=0),0,1)","v":0}]
[null,null,null,null,0,null,null,null,null,null,null,null,0,null,null,null,null,null,null,null,null,null,null,null,null,null,{"$f":"IF(OR(SUMPRODUCT(--(E66125=$O$1:$O$541))>0,E66125=0),0,1)","v":0}]
[null,null,null,null,0,null,null,null,null,null,null,null,0,null,null,null,null,null,null,null,null,null,null,null,null,null,{"$f":"IF(OR(SUMPRODUCT(--(E66267=$O$1:$O$541))>0,E66267=0),0,1)","v":0}]
[null,null,null,null,0,null,null,null,null,null,null,null,0,null,null,null,null,null,null,null,null,null,null,null,null,null,{"$f":"IF(OR(SUMPRODUCT(--(E66306=$O$1:$O$541))>0,E66306=0),0,1)","v":0}]
[null,null,null,null,0,null,null,null,null,null,null,null,0,null,null,null,null,null,null,null,null,null,null,null,null,null,{"$f":"IF(OR(SUMPRODUCT(--(E66379=$O$1:$O$541))>0,E66379=0),0,1)","v":0}]
[null,null,null,null,0,null,null,null,null,null,null,null,0,null,null,null,null,null,null,null,null,null,null,null,null,null,{"$f":"IF(OR(SUMPRODUCT(--(E66486=$O$1:$O$541))>0,E66486=0),0,1)","v":0}]
[null,null,null,null,0,null,null,null,null,null,null,null,0,null,null,null,null,null,null,null,null,null,null,null,null,null,{"$f":"IF(OR(SUMPRODUCT(--(E66624=$O$1:$O$541))>0,E66624=0),0,1)","v":0}]
[null,null,null,null,0,null,null,null,null,null,null,null,0,null,null,null,null,null,null,null,null,null,null,null,null,null,{"$f":"IF(OR(SUMPRODUCT(--(E66766=$O$1:$O$541))>0,E66766=0),0,1)","v":0}]
[null,null,null,null,0,null,null,null,null,null,null,null,0,null,null,null,null,null,null,null,null,null,null,null,null,null,{"$f":"IF(OR(SUMPRODUCT(--(E66772=$O$1:$O$541))>0,E66772=0),0,1)","v":0}]
[null,null,null,null,0,null,null,null,null,null,null,null,0,null,null,null,null,null,null,null,null,null,null,null,null,null,{"$f":"IF(OR(SUMPRODUCT(--(E66942=$O$1:$O$541))>0,E66942=0),0,1)","v":0}]
[null,null,null,null,0,null,null,null,null,null,null,null,0,null,null,null,null,null,null,null,null,null,null,null,null,null,{"$f":"IF(OR(SUMPRODUCT(--(E66985=$O$1:$O$541))>0,E66985=0),0,1)","v":0}]
[null,null,null,null,0,null,null,null,null,null,null,null,0,null,null,null,null,null,null,null,null,null,null,null,null,null,{"$f":"IF(OR(SUMPRODUCT(--(E67123=$O$1:$O$541))>0,E67123=0),0,1)","v":0}]
[null,null,null,null,0,null,null,null,null,null,null,null,0,null,null,null,null,null,null,null,null,null,null,null,null,null,{"$f":"IF(OR(SUMPRODUCT(--(E67175=$O$1:$O$541))>0,E67175=0),0,1)","v":0}]
[null,null,null,null,0,null,null,null,null,null,null,null,0,null,null,null,null,null,null,null,null,null,null,null,null,null,{"$f":"IF(OR(SUMPRODUCT(--(E67303=$O$1:$O$541))>0,E67303=0),0,1)","v":0}]
[null,null,null,null,0,null,null,null,null,null,null,null,0,null,null,null,null,null,null,null,null,null,null,null,null,null,{"$f":"IF(OR(SUMPRODUCT(--(E67441=$O$1:$O$541))>0,E67441=0),0,1)","v":0}]
[null,null,null,null,0,null,null,null,null,null,null,null,0,null,null,null,null,null,null,null,null,null,null,null,null,null,{"$f":"IF(OR(SUMPRODUCT(--(E67484=$O$1:$O$541))>0,E67484=0),0,1)","v":0}]
[null,null,null,null,0,null,null,null,null,null,null,null,0,null,null,null,null,null,null,null,null,null,null,null,null,null,{"$f":"IF(OR(SUMPRODUCT(--(E67568=$O$1:$O$541))>0,E67568=0),0,1)","v":0}]
[null,null,null,null,0,null,null,null,null,null,null,null,0,null,null,null,null,null,null,null,null,null,null,null,null,null,{"$f":"IF(OR(SUMPRODUCT(--(E67660=$O$1:$O$541))>0,E67660=0),0,1)","v":0}]
[null,null,null,null,0,null,null,null,null,null,null,null,0,null,null,null,null,null,null,null,null,null,null,null,null,null,{"$f":"IF(OR(SUMPRODUCT(--(E67802=$O$1:$O$541))>0,E67802=0),0,1)","v":0}]
[null,null,null,null,0,null,null,null,null,null,null,null,0,null,null,null,null,null,null,null,null,null,null,null,null,null,{"$f":"IF(OR(SUMPRODUCT(--(E67940=$O$1:$O$541))>0,E67940=0),0,1)","v":0}]
[null,null,null,null,0,null,null,null,null,null,null,null,0,null,null,null,null,null,null,null,null,null,null,null,null,null,{"$f":"IF(OR(SUMPRODUCT(--(E67971=$O$1:$O$541))>0,E67971=0),0,1)","v":0}]
[null,null,null,null,0,null,null,null,null,null,null,null,0,null,null,null,null,null,null,null,null,null,null,null,null,null,{"$f":"IF(OR(SUMPRODUCT(--(E68120=$O$1:$O$541))>0,E68120=0),0,1)","v":0}]
[null,null,null,null,0,null,null,null,null,null,null,null,0,null,null,null,null,null,null,null,null,null,null,null,null,null,{"$f":"IF(OR(SUMPRODUCT(--(E68159=$O$1:$O$541))>0,E68159=0),0,1)","v":0}]
[null,null,null,null,0,null,null,null,null,null,null,null,0,null,null,null,null,null,null,null,null,null,null,null,null,null,{"$f":"IF(OR(SUMPRODUCT(--(E68301=$O$1:$O$541))>0,E68301=0),0,1)","v":0}]
[null,null,null,null,0,null,null,null,null,null,null,null,0,null,null,null,null,null,null,null,null,null,null,null,null,null,{"$f":"IF(OR(SUMPRODUCT(--(E68364=$O$1:$O$541))>0,E68364=0),0,1)","v":0}]
[null,null,null,null,{"$f":"IF(AND(F68477<>\"\",F68477=G68477),\"ERROR\",IF(AND(F68477<>\"\",F68477<>G68477),F68477,G68477))","v":0},null,null,null,null,null,null,null,{"$f":"IF(L68477<>\"\",L68477,K68477)","v":0},null,null,null,null,null,null,null,null,null,null,null,null,null,{"$f":"IF(OR(SUMPRODUCT(--(E68477=$O$1:$O$541))>0,E68477=0),0,1)","v":0}]
[null,null,null,null,0,null,null,null,null,null,null,null,0,null,null,null,null,null,null,null,null,null,null,null,null,null,{"$f":"IF(OR(SUMPRODUCT(--(E68619=$O$1:$O$541))>0,E68619=0),0,1)","v":0}]
[null,null,null,null,0,null,null,null,null,null,null,null,0,null,null,null,null,null,null,null,null,null,null,null,null,null,{"$f":"IF(OR(SUMPRODUCT(--(E68658=$O$1:$O$541))>0,E68658=0),0,1)","v":0}]
[null,null,null,null,0,null,null,null,null,null,null,null,0,null,null,null,null,null,null,null,null,null,null,null,null,null,{"$f":"IF(OR(SUMPRODUCT(--(E68757=$O$1:$O$541))>0,E68757=0),0,1)","v":0}]
[null,null,null,null,0,null,null,null,null,null,null,null,0,null,null,null,null,null,null,null,null,null,null,null,null,null,{"$f":"IF(OR(SUMPRODUCT(--(E68937=$O$1:$O$541))>0,E68937=0),0,1)","v":0}]
[null,null,null,null,0,null,null,null,null,null,null,null,0,null,null,null,null,null,null,null,null,null,null,null,null,null,{"$f":"IF(OR(SUMPRODUCT(--(E68976=$O$1:$O$541))>0,E68976=0),0,1)","v":0}]
[null,null,null,null,0,null,null,null,null,null,null,null,0,null,null,null,null,null,null,null,null,null,null,null,null,null,{"$f":"IF(OR(SUMPRODUCT(--(E69118=$O$1:$O$541))>0,E69118=0),0,1)","v":0}]
[null,null,null,null,0,null,null,null,null,null,null,null,0,null,null,null,null,null,null,null,null,null,null,null,null,null,{"$f":"IF(OR(SUMPRODUCT(--(E69160=$O$1:$O$541))>0,E69160=0),0,1)","v":0}]
[null,null,null,null,0,null,null,null,null,null,null,null,0,null,null,null,null,null,null,null,null,null,null,null,null,null,{"$f":"IF(OR(SUMPRODUCT(--(E69294=$O$1:$O$541))>0,E69294=0),0,1)","v":0}]
[null,null,null,null,0,null,null,null,null,null,null,null,0,null,null,null,null,null,null,null,null,null,null,null,null,null,{"$f":"IF(OR(SUMPRODUCT(--(E69337=$O$1:$O$541))>0,E69337=0),0,1)","v":0}]
[null,null,null,null,0,null,null,null,null,null,null,null,0,null,null,null,null,null,null,null,null,null,null,null,null,null,{"$f":"IF(OR(SUMPRODUCT(--(E69475=$O$1:$O$541))>0,E69475=0),0,1)","v":0}]
[null,null,null,null,0,null,null,null,null,null,null,null,0,null,null,null,null,null,null,null,null,null,null,null,null,null,{"$f":"IF(OR(SUMPRODUCT(--(E69553=$O$1:$O$541))>0,E69553=0),0,1)","v":0}]
[null,null,null,null,0,null,null,null,null,null,null,null,0,null,null,null,null,null,null,null,null,null,null,null,null,null,{"$f":"IF(OR(SUMPRODUCT(--(E69655=$O$1:$O$541))>0,E69655=0),0,1)","v":0}]
[null,null,null,null,0,null,null,null,null,null,null,null,0,null,null,null,null,null,null,null,null,null,null,null,null,null,{"$f":"IF(OR(SUMPRODUCT(--(E69793=$O$1:$O$541))>0,E69793=0),0,1)","v":0}]
[null,null,null,null,0,null,null,null,null,null,null,null,0,null,null,null,null,null,null,null,null,null,null,null,null,null,{"$f":"IF(OR(SUMPRODUCT(--(E69836=$O$1:$O$541))>0,E69836=0),0,1)","v":0}]
[null,null,null,null,0,null,null,null,null,null,null,null,0,null,null,null,null,null,null,null,null,null,null,null,null,null,{"$f":"IF(OR(SUMPRODUCT(--(E69956=$O$1:$O$541))>0,E69956=0),0,1)","v":0}]
[null,null,null,null,0,null,null,null,null,null,null,null,0,null,null,null,null,null,null,null,null,null,null,null,null,null,{"$f":"IF(OR(SUMPRODUCT(--(E70111=$O$1:$O$541))>0,E70111=0),0,1)","v":0}]
[null,null,null,null,0,null,null,null,null,null,null,null,0,null,null,null,null,null,null,null,null,null,null,null,null,null,{"$f":"IF(OR(SUMPRODUCT(--(E70154=$O$1:$O$541))>0,E70154=0),0,1)","v":0}]
[null,null,null,null,0,null,null,null,null,null,null,null,0,null,null,null,null,null,null,null,null,null,null,null,null,null,{"$f":"IF(OR(SUMPRODUCT(--(E70292=$O$1:$O$541))>0,E70292=0),0,1)","v":0}]
[null,null,null,null,0,null,null,null,null,null,null,null,0,null,null,null,null,null,null,null,null,null,null,null,null,null,{"$f":"IF(OR(SUMPRODUCT(--(E70349=$O$1:$O$541))>0,E70349=0),0,1)","v":0}]
[null,null,null,null,0,null,null,null,null,null,null,null,0,null,null,null,null,null,null,null,null,null,null,null,null,null,{"$f":"IF(OR(SUMPRODUCT(--(E70472=$O$1:$O$541))>0,E70472=0),0,1)","v":0}]
[null,null,null,null,0,null,null,null,null,null,null,null,0,null,null,null,null,null,null,null,null,null,null,null,null,null,{"$f":"IF(OR(SUMPRODUCT(--(E70610=$O$1:$O$541))>0,E70610=0),0,1)","v":0}]
[null,null,null,null,0,null,null,null,null,null,null,null,0,null,null,null,null,null,null,null,null,null,null,null,null,null,{"$f":"IF(OR(SUMPRODUCT(--(E70653=$O$1:$O$541))>0,E70653=0),0,1)","v":0}]
[null,null,null,null,0,null,null,null,null,null,null,null,0,null,null,null,null,null,null,null,null,null,null,null,null,null,{"$f":"IF(OR(SUMPRODUCT(--(E70752=$O$1:$O$541))>0,E70752=0),0,1)","v":0}]
[null,null,null,null,0,null,null,null,null,null,null,null,0,null,null,null,null,null,null,null,null,null,null,null,null,null,{"$f":"IF(OR(SUMPRODUCT(--(E70833=$O$1:$O$541))>0,E70833=0),0,1)","v":0}]
[null,null,null,null,0,null,null,null,null,null,null,null,0,null,null,null,null,null,null,null,null,null,null,null,null,null,{"$f":"IF(OR(SUMPRODUCT(--(E70971=$O$1:$O$541))>0,E70971=0),0,1)","v":0}]
[null,null,null,null,0,null,null,null,null,null,null,null,0,null,null,null,null,null,null,null,null,null,null,null,null,null,{"$f":"IF(OR(SUMPRODUCT(--(E71109=$O$1:$O$541))>0,E71109=0),0,1)","v":0}]
[null,null,null,null,0,null,null,null,null,null,null,null,0,null,null,null,null,null,null,null,null,null,null,null,null,null,{"$f":"IF(OR(SUMPRODUCT(--(E71145=$O$1:$O$541))>0,E71145=0),0,1)","v":0}]
[null,null,null,null,0,null,null,null,null,null,null,null,0,null,null,null,null,null,null,null,null,null,null,null,null,null,{"$f":"IF(OR(SUMPRODUCT(--(E71289=$O$1:$O$541))>0,E71289=0),0,1)","v":0}]
[null,null,null,null,0,null,null,null,null,null,null,null,0,null,null,null,null,null,null,null,null,null,null,null,null,null,{"$f":"IF(OR(SUMPRODUCT(--(E71328=$O$1:$O$541))>0,E71328=0),0,1)","v":0}]
[null,null,null,null,0,null,null,null,null,null,null,null,0,null,null,null,null,null,null,null,null,null,null,null,null,null,{"$f":"IF(OR(SUMPRODUCT(--(E71470=$O$1:$O$541))>0,E71470=0),0,1)","v":0}]
[null,null,null,null,0,null,null,null,null,null,null,null,0,null,null,null,null,null,null,null,null,null,null,null,null,null,{"$f":"IF(OR(SUMPRODUCT(--(E71548=$O$1:$O$541))>0,E71548=0),0,1)","v":0}]
[null,null,null,null,0,null,null,null,null,null,null,null,0,null,null,null,null,null,null,null,null,null,null,null,null,null,{"$f":"IF(OR(SUMPRODUCT(--(E71650=$O$1:$O$541))>0,E71650=0),0,1)","v":0}]
[null,null,null,null,0,null,null,null,null,null,null,null,0,null,null,null,null,null,null,null,null,null,null,null,null,null,{"$f":"IF(OR(SUMPRODUCT(--(E71788=$O$1:$O$541))>0,E71788=0),0,1)","v":0}]
[null,null,null,null,0,null,null,null,null,null,null,null,0,null,null,null,null,null,null,null,null,null,null,null,null,null,{"$f":"IF(OR(SUMPRODUCT(--(E71827=$O$1:$O$541))>0,E71827=0),0,1)","v":0}]
[null,null,null,null,0,null,null,null,null,null,null,null,0,null,null,null,null,null,null,null,null,null,null,null,null,null,{"$f":"IF(OR(SUMPRODUCT(--(E71941=$O$1:$O$541))>0,E71941=0),0,1)","v":0}]
[null,null,null,null,0,null,null,null,null,null,null,null,0,null,null,null,null,null,null,null,null,null,null,null,null,null,{"$f":"IF(OR(SUMPRODUCT(--(E72007=$O$1:$O$541))>0,E72007=0),0,1)","v":0}]
[null,null,null,null,0,null,null,null,null,null,null,null,0,null,null,null,null,null,null,null,null,null,null,null,null,null,{"$f":"IF(OR(SUMPRODUCT(--(E72149=$O$1:$O$541))>0,E72149=0),0,1)","v":0}]
[null,null,null,null,0,null,null,null,null,null,null,null,0,null,null,null,null,null,null,null,null,null,null,null,null,null,{"$f":"IF(OR(SUMPRODUCT(--(E72287=$O$1:$O$541))>0,E72287=0),0,1)","v":0}]
[null,null,null,null,0,null,null,null,null,null,null,null,0,null,null,null,null,null,null,null,null,null,null,null,null,null,{"$f":"IF(OR(SUMPRODUCT(--(E72344=$O$1:$O$541))>0,E72344=0),0,1)","v":0}]
[null,null,null,null,0,null,null,null,null,null,null,null,0,null,null,null,null,null,null,null,null,null,null,null,null,null,{"$f":"IF(OR(SUMPRODUCT(--(E72467=$O$1:$O$541))>0,E72467=0),0,1)","v":0}]
[null,null,null,null,0,null,null,null,null,null,null,null,0,null,null,null,null,null,null,null,null,null,null,null,null,null,{"$f":"IF(OR(SUMPRODUCT(--(E72506=$O$1:$O$541))>0,E72506=0),0,1)","v":0}]
[null,null,null,null,0,null,null,null,null,null,null,null,0,null,null,null,null,null,null,null,null,null,null,null,null,null,{"$f":"IF(OR(SUMPRODUCT(--(E72644=$O$1:$O$541))>0,E72644=0),0,1)","v":0}]
[null,null,null,null,0,null,null,null,null,null,null,null,0,null,null,null,null,null,null,null,null,null,null,null,null,null,{"$f":"IF(OR(SUMPRODUCT(--(E72737=$O$1:$O$541))>0,E72737=0),0,1)","v":0}]
[null,null,null,null,0,null,null,null,null,null,null,null,0,null,null,null,null,null,null,null,null,null,null,null,null,null,{"$f":"IF(OR(SUMPRODUCT(--(E72824=$O$1:$O$541))>0,E72824=0),0,1)","v":0}]
[null,null,null,null,0,null,null,null,null,null,null,null,0,null,null,null,null,null,null,null,null,null,null,null,null,null,{"$f":"IF(OR(SUMPRODUCT(--(E72966=$O$1:$O$541))>0,E72966=0),0,1)","v":0}]
[null,null,null,null,0,null,null,null,null,null,null,null,0,null,null,null,null,null,null,null,null,null,null,null,null,null,{"$f":"IF(OR(SUMPRODUCT(--(E73005=$O$1:$O$541))>0,E73005=0),0,1)","v":0}]
[null,null,null,null,0,null,null,null,null,null,null,null,0,null,null,null,null,null,null,null,null,null,null,null,null,null,{"$f":"IF(OR(SUMPRODUCT(--(E73140=$O$1:$O$541))>0,E73140=0),0,1)","v":0}]
[null,null,null,null,0,null,null,null,null,null,null,null,0,null,null,null,null,null,null,null,null,null,null,null,null,null,{"$f":"IF(OR(SUMPRODUCT(--(E73284=$O$1:$O$541))>0,E73284=0),0,1)","v":0}]
[null,null,null,null,0,null,null,null,null,null,null,null,0,null,null,null,null,null,null,null,null,null,null,null,null,null,{"$f":"IF(OR(SUMPRODUCT(--(E73323=$O$1:$O$541))>0,E73323=0),0,1)","v":0}]
[null,null,null,null,0,null,null,null,null,null,null,null,0,null,null,null,null,null,null,null,null,null,null,null,null,null,{"$f":"IF(OR(SUMPRODUCT(--(E73461=$O$1:$O$541))>0,E73461=0),0,1)","v":0}]
[null,null,null,null,0,null,null,null,null,null,null,null,0,null,null,null,null,null,null,null,null,null,null,null,null,null,{"$f":"IF(OR(SUMPRODUCT(--(E73533=$O$1:$O$541))>0,E73533=0),0,1)","v":0}]
[null,null,null,null,0,null,null,null,null,null,null,null,0,null,null,null,null,null,null,null,null,null,null,null,null,null,{"$f":"IF(OR(SUMPRODUCT(--(E73641=$O$1:$O$541))>0,E73641=0),0,1)","v":0}]
[null,null,null,null,0,null,null,null,null,null,null,null,0,null,null,null,null,null,null,null,null,null,null,null,null,null,{"$f":"IF(OR(SUMPRODUCT(--(E73684=$O$1:$O$541))>0,E73684=0),0,1)","v":0}]
[null,null,null,null,0,null,null,null,null,null,null,null,0,null,null,null,null,null,null,null,null,null,null,null,null,null,{"$f":"IF(OR(SUMPRODUCT(--(E73822=$O$1:$O$541))>0,E73822=0),0,1)","v":0}]
[null,null,null,null,0,null,null,null,null,null,null,null,0,null,null,null,null,null,null,null,null,null,null,null,null,null,{"$f":"IF(OR(SUMPRODUCT(--(E73936=$O$1:$O$541))>0,E73936=0),0,1)","v":0}]
[null,null,null,null,0,null,null,null,null,null,null,null,0,null,null,null,null,null,null,null,null,null,null,null,null,null,{"$f":"IF(OR(SUMPRODUCT(--(E74002=$O$1:$O$541))>0,E74002=0),0,1)","v":0}]
[null,null,null,null,0,null,null,null,null,null,null,null,0,null,null,null,null,null,null,null,null,null,null,null,null,null,{"$f":"IF(OR(SUMPRODUCT(--(E74140=$O$1:$O$541))>0,E74140=0),0,1)","v":0}]
[null,null,null,null,0,null,null,null,null,null,null,null,0,null,null,null,null,null,null,null,null,null,null,null,null,null,{"$f":"IF(OR(SUMPRODUCT(--(E74183=$O$1:$O$541))>0,E74183=0),0,1)","v":0}]
[null,null,null,null,0,null,null,null,null,null,null,null,0,null,null,null,null,null,null,null,null,null,null,null,null,null,{"$f":"IF(OR(SUMPRODUCT(--(E74329=$O$1:$O$541))>0,E74329=0),0,1)","v":0}]
[null,null,null,null,0,null,null,null,null,null,null,null,0,null,null,null,null,null,null,null,null,null,null,null,null,null,{"$f":"IF(OR(SUMPRODUCT(--(E74458=$O$1:$O$541))>0,E74458=0),0,1)","v":0}]
[null,null,null,null,0,null,null,null,null,null,null,null,0,null,null,null,null,null,null,null,null,null,null,null,null,null,{"$f":"IF(OR(SUMPRODUCT(--(E74501=$O$1:$O$541))>0,E74501=0),0,1)","v":0}]
[null,null,null,null,0,null,null,null,null,null,null,null,0,null,null,null,null,null,null,null,null,null,null,null,null,null,{"$f":"IF(OR(SUMPRODUCT(--(E74639=$O$1:$O$541))>0,E74639=0),0,1)","v":0}]
[null,null,null,null,0,null,null,null,null,null,null,null,0,null,null,null,null,null,null,null,null,null,null,null,null,null,{"$f":"IF(OR(SUMPRODUCT(--(E74732=$O$1:$O$541))>0,E74732=0),0,1)","v":0}]
[null,null,null,null,{"$f":"IF(AND(F74819<>\"\",F74819=G74819),\"ERROR\",IF(AND(F74819<>\"\",F74819<>G74819),F74819,G74819))","v":0},null,null,null,null,null,null,null,{"$f":"IF(L74819<>\"\",L74819,K74819)","v":0},null,null,null,null,null,null,null,null,null,null,null,null,null,{"$f":"IF(OR(SUMPRODUCT(--(E74819=$O$1:$O$541))>0,E74819=0),0,1)","v":0}]
[null,null,null,null,0,null,null,null,null,null,null,null,0,null,null,null,null,null,null,null,null,null,null,null,null,null,{"$f":"IF(OR(SUMPRODUCT(--(E74957=$O$1:$O$541))>0,E74957=0),0,1)","v":0}]
[null,null,null,null,0,null,null,null,null,null,null,null,0,null,null,null,null,null,null,null,null,null,null,null,null,null,{"$f":"IF(OR(SUMPRODUCT(--(E75000=$O$1:$O$541))>0,E75000=0),0,1)","v":0}]
[null,null,null,null,0,null,null,null,null,null,null,null,0,null,null,null,null,null,null,null,null,null,null,null,null,null,{"$f":"IF(OR(SUMPRODUCT(--(E75138=$O$1:$O$541))>0,E75138=0),0,1)","v":0}]
[null,null,null,null,0,null,null,null,null,null,null,null,0,null,null,null,null,null,null,null,null,null,null,null,null,null,{"$f":"IF(OR(SUMPRODUCT(--(E75253=$O$1:$O$541))>0,E75253=0),0,1)","v":0}]
[null,null,null,null,0,null,null,null,null,null,null,null,0,null,null,null,null,null,null,null,null,null,null,null,null,null,{"$f":"IF(OR(SUMPRODUCT(--(E75318=$O$1:$O$541))>0,E75318=0),0,1)","v":0}]
[null,null,null,null,0,null,null,null,null,null,null,null,0,null,null,null,null,null,null,null,null,null,null,null,null,null,{"$f":"IF(OR(SUMPRODUCT(--(E75456=$O$1:$O$541))>0,E75456=0),0,1)","v":0}]
[null,null,null,null,0,null,null,null,null,null,null,null,0,null,null,null,null,null,null,null,null,null,null,null,null,null,{"$f":"IF(OR(SUMPRODUCT(--(E75499=$O$1:$O$541))>0,E75499=0),0,1)","v":0}]
[null,null,null,null,0,null,null,null,null,null,null,null,0,null,null,null,null,null,null,null,null,null,null,null,null,null,{"$f":"IF(OR(SUMPRODUCT(--(E75646=$O$1:$O$541))>0,E75646=0),0,1)","v":0}]
[null,null,null,null,0,null,null,null,null,null,null,null,0,null,null,null,null,null,null,null,null,null,null,null,null,null,{"$f":"IF(OR(SUMPRODUCT(--(E75675=$O$1:$O$541))>0,E75675=0),0,1)","v":0}]
[null,null,null,null,0,null,null,null,null,null,null,null,0,null,null,null,null,null,null,null,null,null,null,null,null,null,{"$f":"IF(OR(SUMPRODUCT(--(E75817=$O$1:$O$541))>0,E75817=0),0,1)","v":0}]
[null,null,null,null,0,null,null,null,null,null,null,null,0,null,null,null,null,null,null,null,null,null,null,null,null,null,{"$f":"IF(OR(SUMPRODUCT(--(E75856=$O$1:$O$541))>0,E75856=0),0,1)","v":0}]
[null,null,null,null,0,null,null,null,null,null,null,null,0,null,null,null,null,null,null,null,null,null,null,null,null,null,{"$f":"IF(OR(SUMPRODUCT(--(E76049=$O$1:$O$541))>0,E76049=0),0,1)","v":0}]
[null,null,null,null,0,null,null,null,null,null,null,null,0,null,null,null,null,null,null,null,null,null,null,null,null,null,{"$f":"IF(OR(SUMPRODUCT(--(E76135=$O$1:$O$541))>0,E76135=0),0,1)","v":0}]
[null,null,null,null,0,null,null,null,null,null,null,null,0,null,null,null,null,null,null,null,null,null,null,null,null,null,{"$f":"IF(OR(SUMPRODUCT(--(E76174=$O$1:$O$541))>0,E76174=0),0,1)","v":0}]
[null,null,null,null,0,null,null,null,null,null,null,null,0,null,null,null,null,null,null,null,null,null,null,null,null,null,{"$f":"IF(OR(SUMPRODUCT(--(E76316=$O$1:$O$541))>0,E76316=0),0,1)","v":0}]
[null,null,null,null,0,null,null,null,null,null,null,null,0,null,null,null,null,null,null,null,null,null,null,null,null,null,{"$f":"IF(OR(SUMPRODUCT(--(E76442=$O$1:$O$541))>0,E76442=0),0,1)","v":0}]
[null,null,null,null,0,null,null,null,null,null,null,null,0,null,null,null,null,null,null,null,null,null,null,null,null,null,{"$f":"IF(OR(SUMPRODUCT(--(E76492=$O$1:$O$541))>0,E76492=0),0,1)","v":0}]
[null,null,null,null,0,null,null,null,null,null,null,null,0,null,null,null,null,null,null,null,null,null,null,null,null,null,{"$f":"IF(OR(SUMPRODUCT(--(E76634=$O$1:$O$541))>0,E76634=0),0,1)","v":0}]
[null,null,null,null,0,null,null,null,null,null,null,null,0,null,null,null,null,null,null,null,null,null,null,null,null,null,{"$f":"IF(OR(SUMPRODUCT(--(E76673=$O$1:$O$541))>0,E76673=0),0,1)","v":0}]
[null,null,null,null,0,null,null,null,null,null,null,null,0,null,null,null,null,null,null,null,null,null,null,null,null,null,{"$f":"IF(OR(SUMPRODUCT(--(E76747=$O$1:$O$541))>0,E76747=0),0,1)","v":0}]
[null,null,null,null,0,null,null,null,null,null,null,null,0,null,null,null,null,null,null,null,null,null,null,null,null,null,{"$f":"IF(OR(SUMPRODUCT(--(E76853=$O$1:$O$541))>0,E76853=0),0,1)","v":0}]
[null,null,null,null,0,null,null,null,null,null,null,null,0,null,null,null,null,null,null,null,null,null,null,null,null,null,{"$f":"IF(OR(SUMPRODUCT(--(E76991=$O$1:$O$541))>0,E76991=0),0,1)","v":0}]
[null,null,null,null,0,null,null,null,null,null,null,null,0,null,null,null,null,null,null,null,null,null,null,null,null,null,{"$f":"IF(OR(SUMPRODUCT(--(E77133=$O$1:$O$541))>0,E77133=0),0,1)","v":0}]
[null,null,null,null,0,null,null,null,null,null,null,null,0,null,null,null,null,null,null,null,null,null,null,null,null,null,{"$f":"IF(OR(SUMPRODUCT(--(E77140=$O$1:$O$541))>0,E77140=0),0,1)","v":0}]
[null,null,null,null,0,null,null,null,null,null,null,null,0,null,null,null,null,null,null,null,null,null,null,null,null,null,{"$f":"IF(OR(SUMPRODUCT(--(E77309=$O$1:$O$541))>0,E77309=0),0,1)","v":0}]
[null,null,null,null,0,null,null,null,null,null,null,null,0,null,null,null,null,null,null,null,null,null,null,null,null,null,{"$f":"IF(OR(SUMPRODUCT(--(E77352=$O$1:$O$541))>0,E77352=0),0,1)","v":0}]
[null,null,null,null,0,null,null,null,null,null,null,null,0,null,null,null,null,null,null,null,null,null,null,null,null,null,{"$f":"IF(OR(SUMPRODUCT(--(E77490=$O$1:$O$541))>0,E77490=0),0,1)","v":0}]
[null,null,null,null,0,null,null,null,null,null,null,null,0,null,null,null,null,null,null,null,null,null,null,null,null,null,{"$f":"IF(OR(SUMPRODUCT(--(E77533=$O$1:$O$541))>0,E77533=0),0,1)","v":0}]
[null,null,null,null,0,null,null,null,null,null,null,null,0,null,null,null,null,null,null,null,null,null,null,null,null,null,{"$f":"IF(OR(SUMPRODUCT(--(E77670=$O$1:$O$541))>0,E77670=0),0,1)","v":0}]
[null,null,null,null,0,null,null,null,null,null,null,null,0,null,null,null,null,null,null,null,null,null,null,null,null,null,{"$f":"IF(OR(SUMPRODUCT(--(E77808=$O$1:$O$541))>0,E77808=0),0,1)","v":0}]
[null,null,null,null,0,null,null,null,null,null,null,null,0,null,null,null,null,null,null,null,null,null,null,null,null,null,{"$f":"IF(OR(SUMPRODUCT(--(E77851=$O$1:$O$541))>0,E77851=0),0,1)","v":0}]
[null,null,null,null,0,null,null,null,null,null,null,null,0,null,null,null,null,null,null,null,null,null,null,null,null,null,{"$f":"IF(OR(SUMPRODUCT(--(E77936=$O$1:$O$541))>0,E77936=0),0,1)","v":0}]
[null,null,null,null,0,null,null,null,null,null,null,null,0,null,null,null,null,null,null,null,null,null,null,null,null,null,{"$f":"IF(OR(SUMPRODUCT(--(E78027=$O$1:$O$541))>0,E78027=0),0,1)","v":0}]
[null,null,null,null,0,null,null,null,null,null,null,null,0,null,null,null,null,null,null,null,null,null,null,null,null,null,{"$f":"IF(OR(SUMPRODUCT(--(E78169=$O$1:$O$541))>0,E78169=0),0,1)","v":0}]
[null,null,null,null,0,null,null,null,null,null,null,null,0,null,null,null,null,null,null,null,null,null,null,null,null,null,{"$f":"IF(OR(SUMPRODUCT(--(E78307=$O$1:$O$541))>0,E78307=0),0,1)","v":0}]
[null,null,null,null,0,null,null,null,null,null,null,null,0,null,null,null,null,null,null,null,null,null,null,null,null,null,{"$f":"IF(OR(SUMPRODUCT(--(E78329=$O$1:$O$541))>0,E78329=0),0,1)","v":0}]
[null,null,null,null,0,null,null,null,null,null,null,null,0,null,null,null,null,null,null,null,null,null,null,null,null,null,{"$f":"IF(OR(SUMPRODUCT(--(E78487=$O$1:$O$541))>0,E78487=0),0,1)","v":0}]
[null,null,null,null,0,null,null,null,null,null,null,null,0,null,null,null,null,null,null,null,null,null,null,null,null,null,{"$f":"IF(OR(SUMPRODUCT(--(E78526=$O$1:$O$541))>0,E78526=0),0,1)","v":0}]
[null,null,null,null,0,null,null,null,null,null,null,null,0,null,null,null,null,null,null,null,null,null,null,null,null,null,{"$f":"IF(OR(SUMPRODUCT(--(E78668=$O$1:$O$541))>0,E78668=0),0,1)","v":0}]
[null,null,null,null,0,null,null,null,null,null,null,null,0,null,null,null,null,null,null,null,null,null,null,null,null,null,{"$f":"IF(OR(SUMPRODUCT(--(E78732=$O$1:$O$541))>0,E78732=0),0,1)","v":0}]
[null,null,null,null,0,null,null,null,null,null,null,null,0,null,null,null,null,null,null,null,null,null,null,null,null,null,{"$f":"IF(OR(SUMPRODUCT(--(E78844=$O$1:$O$541))>0,E78844=0),0,1)","v":0}]
[null,null,null,null,0,null,null,null,null,null,null,null,0,null,null,null,null,null,null,null,null,null,null,null,null,null,{"$f":"IF(OR(SUMPRODUCT(--(E78986=$O$1:$O$541))>0,E78986=0),0,1)","v":0}]
[null,null,null,null,0,null,null,null,null,null,null,null,0,null,null,null,null,null,null,null,null,null,null,null,null,null,{"$f":"IF(OR(SUMPRODUCT(--(E79025=$O$1:$O$541))>0,E79025=0),0,1)","v":0}]
[null,null,null,null,0,null,null,null,null,null,null,null,0,null,null,null,null,null,null,null,null,null,null,null,null,null,{"$f":"IF(OR(SUMPRODUCT(--(E79125=$O$1:$O$541))>0,E79125=0),0,1)","v":0}]
[null,null,null,null,0,null,null,null,null,null,null,null,0,null,null,null,null,null,null,null,null,null,null,null,null,null,{"$f":"IF(OR(SUMPRODUCT(--(E79304=$O$1:$O$541))>0,E79304=0),0,1)","v":0}]
[null,null,null,null,0,null,null,null,null,null,null,null,0,null,null,null,null,null,null,null,null,null,null,null,null,null,{"$f":"IF(OR(SUMPRODUCT(--(E79343=$O$1:$O$541))>0,E79343=0),0,1)","v":0}]
[null,null,null,null,0,null,null,null,null,null,null,null,0,null,null,null,null,null,null,null,null,null,null,null,null,null,{"$f":"IF(OR(SUMPRODUCT(--(E79485=$O$1:$O$541))>0,E79485=0),0,1)","v":0}]
[null,null,null,null,0,null,null,null,null,null,null,null,0,null,null,null,null,null,null,null,null,null,null,null,null,null,{"$f":"IF(OR(SUMPRODUCT(--(E79528=$O$1:$O$541))>0,E79528=0),0,1)","v":0}]
[null,null,null,null,0,null,null,null,null,null,null,null,0,null,null,null,null,null,null,null,null,null,null,null,null,null,{"$f":"IF(OR(SUMPRODUCT(--(E79665=$O$1:$O$541))>0,E79665=0),0,1)","v":0}]
[null,null,null,null,0,null,null,null,null,null,null,null,0,null,null,null,null,null,null,null,null,null,null,null,null,null,{"$f":"IF(OR(SUMPRODUCT(--(E79803=$O$1:$O$541))>0,E79803=0),0,1)","v":0}]
[null,null,null,null,0,null,null,null,null,null,null,null,0,null,null,null,null,null,null,null,null,null,null,null,null,null,{"$f":"IF(OR(SUMPRODUCT(--(E79842=$O$1:$O$541))>0,E79842=0),0,1)","v":0}]
[null,null,null,null,0,null,null,null,null,null,null,null,0,null,null,null,null,null,null,null,null,null,null,null,null,null,{"$f":"IF(OR(SUMPRODUCT(--(E79921=$O$1:$O$541))>0,E79921=0),0,1)","v":0}]
[null,null,null,null,0,null,null,null,null,null,null,null,0,null,null,null,null,null,null,null,null,null,null,null,null,null,{"$f":"IF(OR(SUMPRODUCT(--(E80022=$O$1:$O$541))>0,E80022=0),0,1)","v":0}]
[null,null,null,null,0,null,null,null,null,null,null,null,0,null,null,null,null,null,null,null,null,null,null,null,null,null,{"$f":"IF(OR(SUMPRODUCT(--(E80160=$O$1:$O$541))>0,E80160=0),0,1)","v":0}]
[null,null,null,null,0,null,null,null,null,null,null,null,0,null,null,null,null,null,null,null,null,null,null,null,null,null,{"$f":"IF(OR(SUMPRODUCT(--(E80203=$O$1:$O$541))>0,E80203=0),0,1)","v":0}]
[null,null,null,null,0,null,null,null,null,null,null,null,0,null,null,null,null,null,null,null,null,null,null,null,null,null,{"$f":"IF(OR(SUMPRODUCT(--(E80324=$O$1:$O$541))>0,E80324=0),0,1)","v":0}]
[null,null,null,null,0,null,null,null,null,null,null,null,0,null,null,null,null,null,null,null,null,null,null,null,null,null,{"$f":"IF(OR(SUMPRODUCT(--(E80482=$O$1:$O$541))>0,E80482=0),0,1)","v":0}]
[null,null,null,null,0,null,null,null,null,null,null,null,0,null,null,null,null,null,null,null,null,null,null,null,null,null,{"$f":"IF(OR(SUMPRODUCT(--(E80521=$O$1:$O$541))>0,E80521=0),0,1)","v":0}]
[null,null,null,null,0,null,null,null,null,null,null,null,0,null,null,null,null,null,null,null,null,null,null,null,null,null,{"$f":"IF(OR(SUMPRODUCT(--(E80659=$O$1:$O$541))>0,E80659=0),0,1)","v":0}]
[null,null,null,null,0,null,null,null,null,null,null,null,0,null,null,null,null,null,null,null,null,null,null,null,null,null,{"$f":"IF(OR(SUMPRODUCT(--(E80717=$O$1:$O$541))>0,E80717=0),0,1)","v":0}]
[null,null,null,null,0,null,null,null,null,null,null,null,0,null,null,null,null,null,null,null,null,null,null,null,null,null,{"$f":"IF(OR(SUMPRODUCT(--(E80839=$O$1:$O$541))>0,E80839=0),0,1)","v":0}]
[null,null,null,null,0,null,null,null,null,null,null,null,0,null,null,null,null,null,null,null,null,null,null,null,null,null,{"$f":"IF(OR(SUMPRODUCT(--(E80981=$O$1:$O$541))>0,E80981=0),0,1)","v":0}]
[null,null,null,null,0,null,null,null,null,null,null,null,0,null,null,null,null,null,null,null,null,null,null,null,null,null,{"$f":"IF(OR(SUMPRODUCT(--(E81020=$O$1:$O$541))>0,E81020=0),0,1)","v":0}]
[null,null,null,null,0,null,null,null,null,null,null,null,0,null,null,null,null,null,null,null,null,null,null,null,null,null,{"$f":"IF(OR(SUMPRODUCT(--(E81120=$O$1:$O$541))>0,E81120=0),0,1)","v":0}]
[null,null,null,null,0,null,null,null,null,null,null,null,0,null,null,null,null,null,null,null,null,null,null,null,null,null,{"$f":"IF(OR(SUMPRODUCT(--(E81200=$O$1:$O$541))>0,E81200=0),0,1)","v":0}]
[null,null,null,null,0,null,null,null,null,null,null,null,0,null,null,null,null,null,null,null,null,null,null,null,null,null,{"$f":"IF(OR(SUMPRODUCT(--(E81338=$O$1:$O$541))>0,E81338=0),0,1)","v":0}]
[null,null,null,null,0,null,null,null,null,null,null,null,0,null,null,null,null,null,null,null,null,null,null,null,null,null,{"$f":"IF(OR(SUMPRODUCT(--(E81476=$O$1:$O$541))>0,E81476=0),0,1)","v":0}]
[null,null,null,null,{"$f":"IF(AND(F81513<>\"\",F81513=G81513),\"ERROR\",IF(AND(F81513<>\"\",F81513<>G81513),F81513,G81513))","v":0},null,null,null,null,null,null,null,{"$f":"IF(L81513<>\"\",L81513,K81513)","v":0},null,null,null,null,null,null,null,null,null,null,null,null,null,{"$f":"IF(OR(SUMPRODUCT(--(E81513=$O$1:$O$541))>0,E81513=0),0,1)","v":0}]
[null,null,null,null,0,null,null,null,null,null,null,null,0,null,null,null,null,null,null,null,null,null,null,null,null,null,{"$f":"IF(OR(SUMPRODUCT(--(E81656=$O$1:$O$541))>0,E81656=0),0,1)","v":0}]
[null,null,null,null,0,null,null,null,null,null,null,null,0,null,null,null,null,null,null,null,null,null,null,null,null,null,{"$f":"IF(OR(SUMPRODUCT(--(E81699=$O$1:$O$541))>0,E81699=0),0,1)","v":0}]
[null,null,null,null,0,null,null,null,null,null,null,null,0,null,null,null,null,null,null,null,null,null,null,null,null,null,{"$f":"IF(OR(SUMPRODUCT(--(E81837=$O$1:$O$541))>0,E81837=0),0,1)","v":0}]
[null,null,null,null,0,null,null,null,null,null,null,null,0,null,null,null,null,null,null,null,null,null,null,null,null,null,{"$f":"IF(OR(SUMPRODUCT(--(E81916=$O$1:$O$541))>0,E81916=0),0,1)","v":0}]
[null,null,null,null,0,null,null,null,null,null,null,null,0,null,null,null,null,null,null,null,null,null,null,null,null,null,{"$f":"IF(OR(SUMPRODUCT(--(E82017=$O$1:$O$541))>0,E82017=0),0,1)","v":0}]
[null,null,null,null,0,null,null,null,null,null,null,null,0,null,null,null,null,null,null,null,null,null,null,null,null,null,{"$f":"IF(OR(SUMPRODUCT(--(E82155=$O$1:$O$541))>0,E82155=0),0,1)","v":0}]
[null,null,null,null,0,null,null,null,null,null,null,null,0,null,null,null,null,null,null,null,null,null,null,null,null,null,{"$f":"IF(OR(SUMPRODUCT(--(E82194=$O$1:$O$541))>0,E82194=0),0,1)","v":0}]
[null,null,null,null,0,null,null,null,null,null,null,null,0,null,null,null,null,null,null,null,null,null,null,null,null,null,{"$f":"IF(OR(SUMPRODUCT(--(E82309=$O$1:$O$541))>0,E82309=0),0,1)","v":0}]
[null,null,null,null,0,null,null,null,null,null,null,null,0,null,null,null,null,null,null,null,null,null,null,null,null,null,{"$f":"IF(OR(SUMPRODUCT(--(E82374=$O$1:$O$541))>0,E82374=0),0,1)","v":0}]
[null,null,null,null,0,null,null,null,null,null,null,null,0,null,null,null,null,null,null,null,null,null,null,null,null,null,{"$f":"IF(OR(SUMPRODUCT(--(E82516=$O$1:$O$541))>0,E82516=0),0,1)","v":0}]
[null,null,null,null,0,null,null,null,null,null,null,null,0,null,null,null,null,null,null,null,null,null,null,null,null,null,{"$f":"IF(OR(SUMPRODUCT(--(E82654=$O$1:$O$541))>0,E82654=0),0,1)","v":0}]
[null,null,null,null,0,null,null,null,null,null,null,null,0,null,null,null,null,null,null,null,null,null,null,null,null,null,{"$f":"IF(OR(SUMPRODUCT(--(E82712=$O$1:$O$541))>0,E82712=0),0,1)","v":0}]
[null,null,null,null,0,null,null,null,null,null,null,null,0,null,null,null,null,null,null,null,null,null,null,null,null,null,{"$f":"IF(OR(SUMPRODUCT(--(E82834=$O$1:$O$541))>0,E82834=0),0,1)","v":0}]
[null,null,null,null,0,null,null,null,null,null,null,null,0,null,null,null,null,null,null,null,null,null,null,null,null,null,{"$f":"IF(OR(SUMPRODUCT(--(E82873=$O$1:$O$541))>0,E82873=0),0,1)","v":0}]
[null,null,null,null,0,null,null,null,null,null,null,null,0,null,null,null,null,null,null,null,null,null,null,null,null,null,{"$f":"IF(OR(SUMPRODUCT(--(E83015=$O$1:$O$541))>0,E83015=0),0,1)","v":0}]
[null,null,null,null,0,null,null,null,null,null,null,null,0,null,null,null,null,null,null,null,null,null,null,null,null,null,{"$f":"IF(OR(SUMPRODUCT(--(E83105=$O$1:$O$541))>0,E83105=0),0,1)","v":0}]
[null,null,null,null,0,null,null,null,null,null,null,null,0,null,null,null,null,null,null,null,null,null,null,null,null,null,{"$f":"IF(OR(SUMPRODUCT(--(E83191=$O$1:$O$541))>0,E83191=0),0,1)","v":0}]
[null,null,null,null,0,null,null,null,null,null,null,null,0,null,null,null,null,null,null,null,null,null,null,null,null,null,{"$f":"IF(OR(SUMPRODUCT(--(E83333=$O$1:$O$541))>0,E83333=0),0,1)","v":0}]
[null,null,null,null,0,null,null,null,null,null,null,null,0,null,null,null,null,null,null,null,null,null,null,null,null,null,{"$f":"IF(OR(SUMPRODUCT(--(E83372=$O$1:$O$541))>0,E83372=0),0,1)","v":0}]
[null,null,null,null,0,null,null,null,null,null,null,null,0,null,null,null,null,null,null,null,null,null,null,null,null,null,{"$f":"IF(OR(SUMPRODUCT(--(E83508=$O$1:$O$541))>0,E83508=0),0,1)","v":0}]
[null,null,null,null,0,null,null,null,null,null,null,null,0,null,null,null,null,null,null,null,null,null,null,null,null,null,{"$f":"IF(OR(SUMPRODUCT(--(E83651=$O$1:$O$541))>0,E83651=0),0,1)","v":0}]
[null,null,null,null,0,null,null,null,null,null,null,null,0,null,null,null,null,null,null,null,null,null,null,null,null,null,{"$f":"IF(OR(SUMPRODUCT(--(E83690=$O$1:$O$541))>0,E83690=0),0,1)","v":0}]
[null,null,null,null,0,null,null,null,null,null,null,null,0,null,null,null,null,null,null,null,null,null,null,null,null,null,{"$f":"IF(OR(SUMPRODUCT(--(E83832=$O$1:$O$541))>0,E83832=0),0,1)","v":0}]
[null,null,null,null,0,null,null,null,null,null,null,null,0,null,null,null,null,null,null,null,null,null,null,null,null,null,{"$f":"IF(OR(SUMPRODUCT(--(E83901=$O$1:$O$541))>0,E83901=0),0,1)","v":0}]
[null,null,null,null,0,null,null,null,null,null,null,null,0,null,null,null,null,null,null,null,null,null,null,null,null,null,{"$f":"IF(OR(SUMPRODUCT(--(E84008=$O$1:$O$541))>0,E84008=0),0,1)","v":0}]
[null,null,null,null,0,null,null,null,null,null,null,null,0,null,null,null,null,null,null,null,null,null,null,null,null,null,{"$f":"IF(OR(SUMPRODUCT(--(E84051=$O$1:$O$541))>0,E84051=0),0,1)","v":0}]
[null,null,null,null,0,null,null,null,null,null,null,null,0,null,null,null,null,null,null,null,null,null,null,null,null,null,{"$f":"IF(OR(SUMPRODUCT(--(E84189=$O$1:$O$541))>0,E84189=0),0,1)","v":0}]
[null,null,null,null,0,null,null,null,null,null,null,null,0,null,null,null,null,null,null,null,null,null,null,null,null,null,{"$f":"IF(OR(SUMPRODUCT(--(E84304=$O$1:$O$541))>0,E84304=0),0,1)","v":0}]
[null,null,null,null,0,null,null,null,null,null,null,null,0,null,null,null,null,null,null,null,null,null,null,null,null,null,{"$f":"IF(OR(SUMPRODUCT(--(E84369=$O$1:$O$541))>0,E84369=0),0,1)","v":0}]
[null,null,null,null,0,null,null,null,null,null,null,null,0,null,null,null,null,null,null,null,null,null,null,null,null,null,{"$f":"IF(OR(SUMPRODUCT(--(E84507=$O$1:$O$541))>0,E84507=0),0,1)","v":0}]
[null,null,null,null,0,null,null,null,null,null,null,null,0,null,null,null,null,null,null,null,null,null,null,null,null,null,{"$f":"IF(OR(SUMPRODUCT(--(E84550=$O$1:$O$541))>0,E84550=0),0,1)","v":0}]
[null,null,null,null,0,null,null,null,null,null,null,null,0,null,null,null,null,null,null,null,null,null,null,null,null,null,{"$f":"IF(OR(SUMPRODUCT(--(E84697=$O$1:$O$541))>0,E84697=0),0,1)","v":0}]
[null,null,null,null,0,null,null,null,null,null,null,null,0,null,null,null,null,null,null,null,null,null,null,null,null,null,{"$f":"IF(OR(SUMPRODUCT(--(E84825=$O$1:$O$541))>0,E84825=0),0,1)","v":0}]
[null,null,null,null,0,null,null,null,null,null,null,null,0,null,null,null,null,null,null,null,null,null,null,null,null,null,{"$f":"IF(OR(SUMPRODUCT(--(E84868=$O$1:$O$541))>0,E84868=0),0,1)","v":0}]
[null,null,null,null,0,null,null,null,null,null,null,null,0,null,null,null,null,null,null,null,null,null,null,null,null,null,{"$f":"IF(OR(SUMPRODUCT(--(E85006=$O$1:$O$541))>0,E85006=0),0,1)","v":0}]
[null,null,null,null,0,null,null,null,null,null,null,null,0,null,null,null,null,null,null,null,null,null,null,null,null,null,{"$f":"IF(OR(SUMPRODUCT(--(E85090=$O$1:$O$541))>0,E85090=0),0,1)","v":0}]
[null,null,null,null,0,null,null,null,null,null,null,null,0,null,null,null,null,null,null,null,null,null,null,null,null,null,{"$f":"IF(OR(SUMPRODUCT(--(E85186=$O$1:$O$541))>0,E85186=0),0,1)","v":0}]
[null,null,null,null,0,null,null,null,null,null,null,null,0,null,null,null,null,null,null,null,null,null,null,null,null,null,{"$f":"IF(OR(SUMPRODUCT(--(E85324=$O$1:$O$541))>0,E85324=0),0,1)","v":0}]
[null,null,null,null,0,null,null,null,null,null,null,null,0,null,null,null,null,null,null,null,null,null,null,null,null,null,{"$f":"IF(OR(SUMPRODUCT(--(E85367=$O$1:$O$541))>0,E85367=0),0,1)","v":0}]
[null,null,null,null,0,null,null,null,null,null,null,null,0,null,null,null,null,null,null,null,null,null,null,null,null,null,{"$f":"IF(OR(SUMPRODUCT(--(E85493=$O$1:$O$541))>0,E85493=0),0,1)","v":0}]
[null,null,null,null,0,null,null,null,null,null,null,null,0,null,null,null,null,null,null,null,null,null,null,null,null,null,{"$f":"IF(OR(SUMPRODUCT(--(E85543=$O$1:$O$541))>0,E85543=0),0,1)","v":0}]
[null,null,null,null,0,null,null,null,null,null,null,null,0,null,null,null,null,null,null,null,null,null,null,null,null,null,{"$f":"IF(OR(SUMPRODUCT(--(E85685=$O$1:$O$541))>0,E85685=0),0,1)","v":0}]
[null,null,null,null,0,null,null,null,null,null,null,null,0,null,null,null,null,null,null,null,null,null,null,null,null,null,{"$f":"IF(OR(SUMPRODUCT(--(E85823=$O$1:$O$541))>0,E85823=0),0,1)","v":0}]
[null,null,null,null,0,null,null,null,null,null,null,null,0,null,null,null,null,null,null,null,null,null,null,null,null,null,{"$f":"IF(OR(SUMPRODUCT(--(E85886=$O$1:$O$541))>0,E85886=0),0,1)","v":0}]
[null,null,null,null,0,null,null,null,null,null,null,null,0,null,null,null,null,null,null,null,null,null,null,null,null,null,{"$f":"IF(OR(SUMPRODUCT(--(E86003=$O$1:$O$541))>0,E86003=0),0,1)","v":0}]
[null,null,null,null,0,null,null,null,null,null,null,null,0,null,null,null,null,null,null,null,null,null,null,null,null,null,{"$f":"IF(OR(SUMPRODUCT(--(E86042=$O$1:$O$541))>0,E86042=0),0,1)","v":0}]
[null,null,null,null,0,null,null,null,null,null,null,null,0,null,null,null,null,null,null,null,null,null,null,null,null,null,{"$f":"IF(OR(SUMPRODUCT(--(E86184=$O$1:$O$541))>0,E86184=0),0,1)","v":0}]
[null,null,null,null,0,null,null,null,null,null,null,null,0,null,null,null,null,null,null,null,null,null,null,null,null,null,{"$f":"IF(OR(SUMPRODUCT(--(E86289=$O$1:$O$541))>0,E86289=0),0,1)","v":0}]
[null,null,null,null,0,null,null,null,null,null,null,null,0,null,null,null,null,null,null,null,null,null,null,null,null,null,{"$f":"IF(OR(SUMPRODUCT(--(E86364=$O$1:$O$541))>0,E86364=0),0,1)","v":0}]
[null,null,null,null,0,null,null,null,null,null,null,null,0,null,null,null,null,null,null,null,null,null,null,null,null,null,{"$f":"IF(OR(SUMPRODUCT(--(E86502=$O$1:$O$541))>0,E86502=0),0,1)","v":0}]
[null,null,null,null,0,null,null,null,null,null,null,null,0,null,null,null,null,null,null,null,null,null,null,null,null,null,{"$f":"IF(OR(SUMPRODUCT(--(E86541=$O$1:$O$541))>0,E86541=0),0,1)","v":0}]
[null,null,null,null,0,null,null,null,null,null,null,null,0,null,null,null,null,null,null,null,null,null,null,null,null,null,{"$f":"IF(OR(SUMPRODUCT(--(E86682=$O$1:$O$541))>0,E86682=0),0,1)","v":0}]
[null,null,null,null,0,null,null,null,null,null,null,null,0,null,null,null,null,null,null,null,null,null,null,null,null,null,{"$f":"IF(OR(SUMPRODUCT(--(E86721=$O$1:$O$541))>0,E86721=0),0,1)","v":0}]
[null,null,null,null,0,null,null,null,null,null,null,null,0,null,null,null,null,null,null,null,null,null,null,null,null,null,{"$f":"IF(OR(SUMPRODUCT(--(E86859=$O$1:$O$541))>0,E86859=0),0,1)","v":0}]
[null,null,null,null,0,null,null,null,null,null,null,null,0,null,null,null,null,null,null,null,null,null,null,null,null,null,{"$f":"IF(OR(SUMPRODUCT(--(E87001=$O$1:$O$541))>0,E87001=0),0,1)","v":0}]
[null,null,null,null,0,null,null,null,null,null,null,null,0,null,null,null,null,null,null,null,null,null,null,null,null,null,{"$f":"IF(OR(SUMPRODUCT(--(E87085=$O$1:$O$541))>0,E87085=0),0,1)","v":0}]
[null,null,null,null,0,null,null,null,null,null,null,null,0,null,null,null,null,null,null,null,null,null,null,null,null,null,{"$f":"IF(OR(SUMPRODUCT(--(E87181=$O$1:$O$541))>0,E87181=0),0,1)","v":0}]
[null,null,null,null,0,null,null,null,null,null,null,null,0,null,null,null,null,null,null,null,null,null,null,null,null,null,{"$f":"IF(OR(SUMPRODUCT(--(E87220=$O$1:$O$541))>0,E87220=0),0,1)","v":0}]
[null,null,null,null,0,null,null,null,null,null,null,null,0,null,null,null,null,null,null,null,null,null,null,null,null,null,{"$f":"IF(OR(SUMPRODUCT(--(E87358=$O$1:$O$541))>0,E87358=0),0,1)","v":0}]
[null,null,null,null,0,null,null,null,null,null,null,null,0,null,null,null,null,null,null,null,null,null,null,null,null,null,{"$f":"IF(OR(SUMPRODUCT(--(E87478=$O$1:$O$541))>0,E87478=0),0,1)","v":0}]
[null,null,null,null,0,null,null,null,null,null,null,null,0,null,null,null,null,null,null,null,null,null,null,null,null,null,{"$f":"IF(OR(SUMPRODUCT(--(E87538=$O$1:$O$541))>0,E87538=0),0,1)","v":0}]
[null,null,null,null,0,null,null,null,null,null,null,null,0,null,null,null,null,null,null,null,null,null,null,null,null,null,{"$f":"IF(OR(SUMPRODUCT(--(E87676=$O$1:$O$541))>0,E87676=0),0,1)","v":0}]
[null,null,null,null,0,null,null,null,null,null,null,null,0,null,null,null,null,null,null,null,null,null,null,null,null,null,{"$f":"IF(OR(SUMPRODUCT(--(E87719=$O$1:$O$541))>0,E87719=0),0,1)","v":0}]
[null,null,null,null,0,null,null,null,null,null,null,null,0,null,null,null,null,null,null,null,null,null,null,null,null,null,{"$f":"IF(OR(SUMPRODUCT(--(E87881=$O$1:$O$541))>0,E87881=0),0,1)","v":0}]
[null,null,null,null,0,null,null,null,null,null,null,null,0,null,null,null,null,null,null,null,null,null,null,null,null,null,{"$f":"IF(OR(SUMPRODUCT(--(E87998=$O$1:$O$541))>0,E87998=0),0,1)","v":0}]
[null,null,null,null,0,null,null,null,null,null,null,null,0,null,null,null,null,null,null,null,null,null,null,null,null,null,{"$f":"IF(OR(SUMPRODUCT(--(E88037=$O$1:$O$541))>0,E88037=0),0,1)","v":0}]
[null,null,null,null,0,null,null,null,null,null,null,null,0,null,null,null,null,null,null,null,null,null,null,null,null,null,{"$f":"IF(OR(SUMPRODUCT(--(E88175=$O$1:$O$541))>0,E88175=0),0,1)","v":0}]
[null,null,null,null,0,null,null,null,null,null,null,null,0,null,null,null,null,null,null,null,null,null,null,null,null,null,{"$f":"IF(OR(SUMPRODUCT(--(E88274=$O$1:$O$541))>0,E88274=0),0,1)","v":0}]
[null,null,null,null,0,null,null,null,null,null,null,null,0,null,null,null,null,null,null,null,null,null,null,null,null,null,{"$f":"IF(OR(SUMPRODUCT(--(E88355=$O$1:$O$541))>0,E88355=0),0,1)","v":0}]
[null,null,null,null,0,null,null,null,null,null,null,null,0,null,null,null,null,null,null,null,null,null,null,null,null,null,{"$f":"IF(OR(SUMPRODUCT(--(E88398=$O$1:$O$541))>0,E88398=0),0,1)","v":0}]
[null,null,null,null,0,null,null,null,null,null,null,null,0,null,null,null,null,null,null,null,null,null,null,null,null,null,{"$f":"IF(OR(SUMPRODUCT(--(E88536=$O$1:$O$541))>0,E88536=0),0,1)","v":0}]
[null,null,null,null,0,null,null,null,null,null,null,null,0,null,null,null,null,null,null,null,null,null,null,null,null,null,{"$f":"IF(OR(SUMPRODUCT(--(E88677=$O$1:$O$541))>0,E88677=0),0,1)","v":0}]
[null,null,null,null,0,null,null,null,null,null,null,null,0,null,null,null,null,null,null,null,null,null,null,null,null,null,{"$f":"IF(OR(SUMPRODUCT(--(E88716=$O$1:$O$541))>0,E88716=0),0,1)","v":0}]
[null,null,null,null,0,null,null,null,null,null,null,null,0,null,null,null,null,null,null,null,null,null,null,null,null,null,{"$f":"IF(OR(SUMPRODUCT(--(E88854=$O$1:$O$541))>0,E88854=0),0,1)","v":0}]
[null,null,null,null,0,null,null,null,null,null,null,null,0,null,null,null,null,null,null,null,null,null,null,null,null,null,{"$f":"IF(OR(SUMPRODUCT(--(E88893=$O$1:$O$541))>0,E88893=0),0,1)","v":0}]
[null,null,null,null,0,null,null,null,null,null,null,null,0,null,null,null,null,null,null,null,null,null,null,null,null,null,{"$f":"IF(OR(SUMPRODUCT(--(E89070=$O$1:$O$541))>0,E89070=0),0,1)","v":0}]
[null,null,null,null,0,null,null,null,null,null,null,null,0,null,null,null,null,null,null,null,null,null,null,null,null,null,{"$f":"IF(OR(SUMPRODUCT(--(E89172=$O$1:$O$541))>0,E89172=0),0,1)","v":0}]
[null,null,null,null,0,null,null,null,null,null,null,null,0,null,null,null,null,null,null,null,null,null,null,null,null,null,{"$f":"IF(OR(SUMPRODUCT(--(E89215=$O$1:$O$541))>0,E89215=0),0,1)","v":0}]
[null,null,null,null,0,null,null,null,null,null,null,null,0,null,null,null,null,null,null,null,null,null,null,null,null,null,{"$f":"IF(OR(SUMPRODUCT(--(E89353=$O$1:$O$541))>0,E89353=0),0,1)","v":0}]
[null,null,null,null,0,null,null,null,null,null,null,null,0,null,null,null,null,null,null,null,null,null,null,null,null,null,{"$f":"IF(OR(SUMPRODUCT(--(E89473=$O$1:$O$541))>0,E89473=0),0,1)","v":0}]
[null,null,null,null,0,null,null,null,null,null,null,null,0,null,null,null,null,null,null,null,null,null,null,null,null,null,{"$f":"IF(OR(SUMPRODUCT(--(E89533=$O$1:$O$541))>0,E89533=0),0,1)","v":0}]
[null,null,null,null,0,null,null,null,null,null,null,null,0,null,null,null,null,null,null,null,null,null,null,null,null,null,{"$f":"IF(OR(SUMPRODUCT(--(E89671=$O$1:$O$541))>0,E89671=0),0,1)","v":0}]
[null,null,null,null,0,null,null,null,null,null,null,null,0,null,null,null,null,null,null,null,null,null,null,null,null,null,{"$f":"IF(OR(SUMPRODUCT(--(E89714=$O$1:$O$541))>0,E89714=0),0,1)","v":0}]
[null,null,null,null,0,null,null,null,null,null,null,null,0,null,null,null,null,null,null,null,null,null,null,null,null,null,{"$f":"IF(OR(SUMPRODUCT(--(E89866=$O$1:$O$541))>0,E89866=0),0,1)","v":0}]
[null,null,null,null,0,null,null,null,null,null,null,null,0,null,null,null,null,null,null,null,null,null,null,null,null,null,{"$f":"IF(OR(SUMPRODUCT(--(E89890=$O$1:$O$541))>0,E89890=0),0,1)","v":0}]
[null,null,null,null,0,null,null,null,null,null,null,null,0,null,null,null,null,null,null,null,null,null,null,null,null,null,{"$f":"IF(OR(SUMPRODUCT(--(E90032=$O$1:$O$541))>0,E90032=0),0,1)","v":0}]
[null,null,null,null,0,null,null,null,null,null,null,null,0,null,null,null,null,null,null,null,null,null,null,null,null,null,{"$f":"IF(OR(SUMPRODUCT(--(E90170=$O$1:$O$541))>0,E90170=0),0,1)","v":0}]
[null,null,null,null,0,null,null,null,null,null,null,null,0,null,null,null,null,null,null,null,null,null,null,null,null,null,{"$f":"IF(OR(SUMPRODUCT(--(E90269=$O$1:$O$541))>0,E90269=0),0,1)","v":0}]
[null,null,null,null,0,null,null,null,null,null,null,null,0,null,null,null,null,null,null,null,null,null,null,null,null,null,{"$f":"IF(OR(SUMPRODUCT(--(E90350=$O$1:$O$541))>0,E90350=0),0,1)","v":0}]
[null,null,null,null,0,null,null,null,null,null,null,null,0,null,null,null,null,null,null,null,null,null,null,null,null,null,{"$f":"IF(OR(SUMPRODUCT(--(E90389=$O$1:$O$541))>0,E90389=0),0,1)","v":0}]
[null,null,null,null,0,null,null,null,null,null,null,null,0,null,null,null,null,null,null,null,null,null,null,null,null,null,{"$f":"IF(OR(SUMPRODUCT(--(E90531=$O$1:$O$541))>0,E90531=0),0,1)","v":0}]
[null,null,null,null,0,null,null,null,null,null,null,null,0,null,null,null,null,null,null,null,null,null,null,null,null,null,{"$f":"IF(OR(SUMPRODUCT(--(E90662=$O$1:$O$541))>0,E90662=0),0,1)","v":0}]
[null,null,null,null,0,null,null,null,null,null,null,null,0,null,null,null,null,null,null,null,null,null,null,null,null,null,{"$f":"IF(OR(SUMPRODUCT(--(E90707=$O$1:$O$541))>0,E90707=0),0,1)","v":0}]
[null,null,null,null,0,null,null,null,null,null,null,null,0,null,null,null,null,null,null,null,null,null,null,null,null,null,{"$f":"IF(OR(SUMPRODUCT(--(E90849=$O$1:$O$541))>0,E90849=0),0,1)","v":0}]
[null,null,null,null,0,null,null,null,null,null,null,null,0,null,null,null,null,null,null,null,null,null,null,null,null,null,{"$f":"IF(OR(SUMPRODUCT(--(E90888=$O$1:$O$541))>0,E90888=0),0,1)","v":0}]
[null,null,null,null,0,null,null,null,null,null,null,null,0,null,null,null,null,null,null,null,null,null,null,null,null,null,{"$f":"IF(OR(SUMPRODUCT(--(E90967=$O$1:$O$541))>0,E90967=0),0,1)","v":0}]
[null,null,null,null,0,null,null,null,null,null,null,null,0,null,null,null,null,null,null,null,null,null,null,null,null,null,{"$f":"IF(OR(SUMPRODUCT(--(E91068=$O$1:$O$541))>0,E91068=0),0,1)","v":0}]
[null,null,null,null,0,null,null,null,null,null,null,null,0,null,null,null,null,null,null,null,null,null,null,null,null,null,{"$f":"IF(OR(SUMPRODUCT(--(E91206=$O$1:$O$541))>0,E91206=0),0,1)","v":0}]
[null,null,null,null,0,null,null,null,null,null,null,null,0,null,null,null,null,null,null,null,null,null,null,null,null,null,{"$f":"IF(OR(SUMPRODUCT(--(E91348=$O$1:$O$541))>0,E91348=0),0,1)","v":0}]
[null,null,null,null,0,null,null,null,null,null,null,null,0,null,null,null,null,null,null,null,null,null,null,null,null,null,{"$f":"IF(OR(SUMPRODUCT(--(E91360=$O$1:$O$541))>0,E91360=0),0,1)","v":0}]
[null,null,null,null,0,null,null,null,null,null,null,null,0,null,null,null,null,null,null,null,null,null,null,null,null,null,{"$f":"IF(OR(SUMPRODUCT(--(E91524=$O$1:$O$541))>0,E91524=0),0,1)","v":0}]
[null,null,null,null,0,null,null,null,null,null,null,null,0,null,null,null,null,null,null,null,null,null,null,null,null,null,{"$f":"IF(OR(SUMPRODUCT(--(E91567=$O$1:$O$541))>0,E91567=0),0,1)","v":0}]
[null,null,null,null,0,null,null,null,null,null,null,null,0,null,null,null,null,null,null,null,null,null,null,null,null,null,{"$f":"IF(OR(SUMPRODUCT(--(E91705=$O$1:$O$541))>0,E91705=0),0,1)","v":0}]
[null,null,null,null,{"$f":"IF(AND(F91753<>\"\",F91753=G91753),\"ERROR\",IF(AND(F91753<>\"\",F91753<>G91753),F91753,G91753))","v":0},null,null,null,null,null,null,null,{"$f":"IF(L91753<>\"\",L91753,K91753)","v":0},null,null,null,null,null,null,null,null,null,null,null,null,null,{"$f":"IF(OR(SUMPRODUCT(--(E91753=$O$1:$O$541))>0,E91753=0),0,1)","v":0}]
[null,null,null,null,0,null,null,null,null,null,null,null,0,null,null,null,null,null,null,null,null,null,null,null,null,null,{"$f":"IF(OR(SUMPRODUCT(--(E91885=$O$1:$O$541))>0,E91885=0),0,1)","v":0}]
[null,null,null,null,0,null,null,null,null,null,null,null,0,null,null,null,null,null,null,null,null,null,null,null,null,null,{"$f":"IF(OR(SUMPRODUCT(--(E92023=$O$1:$O$541))>0,E92023=0),0,1)","v":0}]
[null,null,null,null,0,null,null,null,null,null,null,null,0,null,null,null,null,null,null,null,null,null,null,null,null,null,{"$f":"IF(OR(SUMPRODUCT(--(E92066=$O$1:$O$541))>0,E92066=0),0,1)","v":0}]
[null,null,null,null,0,null,null,null,null,null,null,null,0,null,null,null,null,null,null,null,null,null,null,null,null,null,{"$f":"IF(OR(SUMPRODUCT(--(E92156=$O$1:$O$541))>0,E92156=0),0,1)","v":0}]
[null,null,null,null,0,null,null,null,null,null,null,null,0,null,null,null,null,null,null,null,null,null,null,null,null,null,{"$f":"IF(OR(SUMPRODUCT(--(E92341=$O$1:$O$541))>0,E92341=0),0,1)","v":0}]
[null,null,null,null,0,null,null,null,null,null,null,null,0,null,null,null,null,null,null,null,null,null,null,null,null,null,{"$f":"IF(OR(SUMPRODUCT(--(E92384=$O$1:$O$541))>0,E92384=0),0,1)","v":0}]
[null,null,null,null,0,null,null,null,null,null,null,null,0,null,null,null,null,null,null,null,null,null,null,null,null,null,{"$f":"IF(OR(SUMPRODUCT(--(E92522=$O$1:$O$541))>0,E92522=0),0,1)","v":0}]
[null,null,null,null,0,null,null,null,null,null,null,null,0,null,null,null,null,null,null,null,null,null,null,null,null,null,{"$f":"IF(OR(SUMPRODUCT(--(E92549=$O$1:$O$541))>0,E92549=0),0,1)","v":0}]
[null,null,null,null,0,null,null,null,null,null,null,null,0,null,null,null,null,null,null,null,null,null,null,null,null,null,{"$f":"IF(OR(SUMPRODUCT(--(E92702=$O$1:$O$541))>0,E92702=0),0,1)","v":0}]
[null,null,null,null,0,null,null,null,null,null,null,null,0,null,null,null,null,null,null,null,null,null,null,null,null,null,{"$f":"IF(OR(SUMPRODUCT(--(E92741=$O$1:$O$541))>0,E92741=0),0,1)","v":0}]
[null,null,null,null,0,null,null,null,null,null,null,null,0,null,null,null,null,null,null,null,null,null,null,null,null,null,{"$f":"IF(OR(SUMPRODUCT(--(E92883=$O$1:$O$541))>0,E92883=0),0,1)","v":0}]
[null,null,null,null,0,null,null,null,null,null,null,null,0,null,null,null,null,null,null,null,null,null,null,null,null,null,{"$f":"IF(OR(SUMPRODUCT(--(E92952=$O$1:$O$541))>0,E92952=0),0,1)","v":0}]
[null,null,null,null,0,null,null,null,null,null,null,null,0,null,null,null,null,null,null,null,null,null,null,null,null,null,{"$f":"IF(OR(SUMPRODUCT(--(E93059=$O$1:$O$541))>0,E93059=0),0,1)","v":0}]
[null,null,null,null,0,null,null,null,null,null,null,null,0,null,null,null,null,null,null,null,null,null,null,null,null,null,{"$f":"IF(OR(SUMPRODUCT(--(E93201=$O$1:$O$541))>0,E93201=0),0,1)","v":0}]
[null,null,null,null,0,null,null,null,null,null,null,null,0,null,null,null,null,null,null,null,null,null,null,null,null,null,{"$f":"IF(OR(SUMPRODUCT(--(E93240=$O$1:$O$541))>0,E93240=0),0,1)","v":0}]
[null,null,null,null,0,null,null,null,null,null,null,null,0,null,null,null,null,null,null,null,null,null,null,null,null,null,{"$f":"IF(OR(SUMPRODUCT(--(E93345=$O$1:$O$541))>0,E93345=0),0,1)","v":0}]
[null,null,null,null,0,null,null,null,null,null,null,null,0,null,null,null,null,null,null,null,null,null,null,null,null,null,{"$f":"IF(OR(SUMPRODUCT(--(E93519=$O$1:$O$541))>0,E93519=0),0,1)","v":0}]
[null,null,null,null,0,null,null,null,null,null,null,null,0,null,null,null,null,null,null,null,null,null,null,null,null,null,{"$f":"IF(OR(SUMPRODUCT(--(E93558=$O$1:$O$541))>0,E93558=0),0,1)","v":0}]
[null,null,null,null,0,null,null,null,null,null,null,null,0,null,null,null,null,null,null,null,null,null,null,null,null,null,{"$f":"IF(OR(SUMPRODUCT(--(E93700=$O$1:$O$541))>0,E93700=0),0,1)","v":0}]
[null,null,null,null,0,null,null,null,null,null,null,null,0,null,null,null,null,null,null,null,null,null,null,null,null,null,{"$f":"IF(OR(SUMPRODUCT(--(E93748=$O$1:$O$541))>0,E93748=0),0,1)","v":0}]
[null,null,null,null,0,null,null,null,null,null,null,null,0,null,null,null,null,null,null,null,null,null,null,null,null,null,{"$f":"IF(OR(SUMPRODUCT(--(E93880=$O$1:$O$541))>0,E93880=0),0,1)","v":0}]
[null,null,null,null,0,null,null,null,null,null,null,null,0,null,null,null,null,null,null,null,null,null,null,null,null,null,{"$f":"IF(OR(SUMPRODUCT(--(E94018=$O$1:$O$541))>0,E94018=0),0,1)","v":0}]
[null,null,null,null,{"$f":"IF(AND(F94057<>\"\",F94057=G94057),\"ERROR\",IF(AND(F94057<>\"\",F94057<>G94057),F94057,G94057))","v":0},null,null,null,null,null,null,null,{"$f":"IF(L94057<>\"\",L94057,K94057)","v":0},null,null,null,null,null,null,null,null,null,null,null,null,null,{"$f":"IF(OR(SUMPRODUCT(--(E94057=$O$1:$O$541))>0,E94057=0),0,1)","v":0}]
[null,null,null,null,0,null,null,null,null,null,null,null,0,null,null,null,null,null,null,null,null,null,null,null,null,null,{"$f":"IF(OR(SUMPRODUCT(--(E94141=$O$1:$O$541))>0,E94141=0),0,1)","v":0}]
[null,null,null,null,0,null,null,null,null,null,null,null,0,null,null,null,null,null,null,null,null,null,null,null,null,null,{"$f":"IF(OR(SUMPRODUCT(--(E94237=$O$1:$O$541))>0,E94237=0),0,1)","v":0}]
[null,null,null,null,0,null,null,null,null,null,null,null,0,null,null,null,null,null,null,null,null,null,null,null,null,null,{"$f":"IF(OR(SUMPRODUCT(--(E94375=$O$1:$O$541))>0,E94375=0),0,1)","v":0}]
[null,null,null,null,0,null,null,null,null,null,null,null,0,null,null,null,null,null,null,null,null,null,null,null,null,null,{"$f":"IF(OR(SUMPRODUCT(--(E94517=$O$1:$O$541))>0,E94517=0),0,1)","v":0}]
[null,null,null,null,0,null,null,null,null,null,null,null,0,null,null,null,null,null,null,null,null,null,null,null,null,null,{"$f":"IF(OR(SUMPRODUCT(--(E94544=$O$1:$O$541))>0,E94544=0),0,1)","v":0}]
[null,null,null,null,{"$f":"IF(AND(F94697<>\"\",F94697=G94697),\"ERROR\",IF(AND(F94697<>\"\",F94697<>G94697),F94697,G94697))","v":0},null,null,null,null,null,null,null,{"$f":"IF(L94697<>\"\",L94697,K94697)","v":0},null,null,null,null,null,null,null,null,null,null,null,null,null,{"$f":"IF(OR(SUMPRODUCT(--(E94697=$O$1:$O$541))>0,E94697=0),0,1)","v":0}]
[null,null,null,null,0,null,null,null,null,null,null,null,0,null,null,null,null,null,null,null,null,null,null,null,null,null,{"$f":"IF(OR(SUMPRODUCT(--(E94736=$O$1:$O$541))>0,E94736=0),0,1)","v":0}]
[null,null,null,null,0,null,null,null,null,null,null,null,0,null,null,null,null,null,null,null,null,null,null,null,null,null,{"$f":"IF(OR(SUMPRODUCT(--(E94874=$O$1:$O$541))>0,E94874=0),0,1)","v":0}]
[null,null,null,null,0,null,null,null,null,null,null,null,0,null,null,null,null,null,null,null,null,null,null,null,null,null,{"$f":"IF(OR(SUMPRODUCT(--(E94937=$O$1:$O$541))>0,E94937=0),0,1)","v":0}]
[null,null,null,null,0,null,null,null,null,null,null,null,0,null,null,null,null,null,null,null,null,null,null,null,null,null,{"$f":"IF(OR(SUMPRODUCT(--(E95054=$O$1:$O$541))>0,E95054=0),0,1)","v":0}]
[null,null,null,null,0,null,null,null,null,null,null,null,0,null,null,null,null,null,null,null,null,null,null,null,null,null,{"$f":"IF(OR(SUMPRODUCT(--(E95196=$O$1:$O$541))>0,E95196=0),0,1)","v":0}]
[null,null,null,null,0,null,null,null,null,null,null,null,0,null,null,null,null,null,null,null,null,null,null,null,null,null,{"$f":"IF(OR(SUMPRODUCT(--(E95235=$O$1:$O$541))>0,E95235=0),0,1)","v":0}]
[null,null,null,null,0,null,null,null,null,null,null,null,0,null,null,null,null,null,null,null,null,null,null,null,null,null,{"$f":"IF(OR(SUMPRODUCT(--(E95340=$O$1:$O$541))>0,E95340=0),0,1)","v":0}]
[null,null,null,null,0,null,null,null,null,null,null,null,0,null,null,null,null,null,null,null,null,null,null,null,null,null,{"$f":"IF(OR(SUMPRODUCT(--(E95415=$O$1:$O$541))>0,E95415=0),0,1)","v":0}]
[null,null,null,null,0,null,null,null,null,null,null,null,0,null,null,null,null,null,null,null,null,null,null,null,null,null,{"$f":"IF(OR(SUMPRODUCT(--(E95553=$O$1:$O$541))>0,E95553=0),0,1)","v":0}]
[null,null,null,null,0,null,null,null,null,null,null,null,0,null,null,null,null,null,null,null,null,null,null,null,null,null,{"$f":"IF(OR(SUMPRODUCT(--(E95691=$O$1:$O$541))>0,E95691=0),0,1)","v":0}]
[null,null,null,null,0,null,null,null,null,null,null,null,0,null,null,null,null,null,null,null,null,null,null,null,null,null,{"$f":"IF(OR(SUMPRODUCT(--(E95733=$O$1:$O$541))>0,E95733=0),0,1)","v":0}]
[null,null,null,null,0,null,null,null,null,null,null,null,0,null,null,null,null,null,null,null,null,null,null,null,null,null,{"$f":"IF(OR(SUMPRODUCT(--(E95871=$O$1:$O$541))>0,E95871=0),0,1)","v":0}]
[null,null,null,null,0,null,null,null,null,null,null,null,0,null,null,null,null,null,null,null,null,null,null,null,null,null,{"$f":"IF(OR(SUMPRODUCT(--(E95914=$O$1:$O$541))>0,E95914=0),0,1)","v":0}]
[null,null,null,null,0,null,null,null,null,null,null,null,0,null,null,null,null,null,null,null,null,null,null,null,null,null,{"$f":"IF(OR(SUMPRODUCT(--(E96052=$O$1:$O$541))>0,E96052=0),0,1)","v":0}]
[null,null,null,null,0,null,null,null,null,null,null,null,0,null,null,null,null,null,null,null,null,null,null,null,null,null,{"$f":"IF(OR(SUMPRODUCT(--(E96136=$O$1:$O$541))>0,E96136=0),0,1)","v":0}]
[null,null,null,null,0,null,null,null,null,null,null,null,0,null,null,null,null,null,null,null,null,null,null,null,null,null,{"$f":"IF(OR(SUMPRODUCT(--(E96232=$O$1:$O$541))>0,E96232=0),0,1)","v":0}]
[null,null,null,null,0,null,null,null,null,null,null,null,0,null,null,null,null,null,null,null,null,null,null,null,null,null,{"$f":"IF(OR(SUMPRODUCT(--(E96370=$O$1:$O$541))>0,E96370=0),0,1)","v":0}]
[null,null,null,null,0,null,null,null,null,null,null,null,0,null,null,null,null,null,null,null,null,null,null,null,null,null,{"$f":"IF(OR(SUMPRODUCT(--(E96409=$O$1:$O$541))>0,E96409=0),0,1)","v":0}]
[null,null,null,null,0,null,null,null,null,null,null,null,0,null,null,null,null,null,null,null,null,null,null,null,null,null,{"$f":"IF(OR(SUMPRODUCT(--(E96529=$O$1:$O$541))>0,E96529=0),0,1)","v":0}]
[null,null,null,null,0,null,null,null,null,null,null,null,0,null,null,null,null,null,null,null,null,null,null,null,null,null,{"$f":"IF(OR(SUMPRODUCT(--(E96688=$O$1:$O$541))>0,E96688=0),0,1)","v":0}]
[null,null,null,null,0,null,null,null,null,null,null,null,0,null,null,null,null,null,null,null,null,null,null,null,null,null,{"$f":"IF(OR(SUMPRODUCT(--(E96731=$O$1:$O$541))>0,E96731=0),0,1)","v":0}]
[null,null,null,null,0,null,null,null,null,null,null,null,0,null,null,null,null,null,null,null,null,null,null,null,null,null,{"$f":"IF(OR(SUMPRODUCT(--(E96869=$O$1:$O$541))>0,E96869=0),0,1)","v":0}]
[null,null,null,null,0,null,null,null,null,null,null,null,0,null,null,null,null,null,null,null,null,null,null,null,null,null,{"$f":"IF(OR(SUMPRODUCT(--(E96932=$O$1:$O$541))>0,E96932=0),0,1)","v":0}]
[null,null,null,null,0,null,null,null,null,null,null,null,0,null,null,null,null,null,null,null,null,null,null,null,null,null,{"$f":"IF(OR(SUMPRODUCT(--(E97049=$O$1:$O$541))>0,E97049=0),0,1)","v":0}]
[null,null,null,null,0,null,null,null,null,null,null,null,0,null,null,null,null,null,null,null,null,null,null,null,null,null,{"$f":"IF(OR(SUMPRODUCT(--(E97088=$O$1:$O$541))>0,E97088=0),0,1)","v":0}]
[null,null,null,null,0,null,null,null,null,null,null,null,0,null,null,null,null,null,null,null,null,null,null,null,null,null,{"$f":"IF(OR(SUMPRODUCT(--(E97230=$O$1:$O$541))>0,E97230=0),0,1)","v":0}]
[null,null,null,null,0,null,null,null,null,null,null,null,0,null,null,null,null,null,null,null,null,null,null,null,null,null,{"$f":"IF(OR(SUMPRODUCT(--(E97325=$O$1:$O$541))>0,E97325=0),0,1)","v":0}]
[null,null,null,null,0,null,null,null,null,null,null,null,0,null,null,null,null,null,null,null,null,null,null,null,null,null,{"$f":"IF(OR(SUMPRODUCT(--(E97406=$O$1:$O$541))>0,E97406=0),0,1)","v":0}]
[null,null,null,null,0,null,null,null,null,null,null,null,0,null,null,null,null,null,null,null,null,null,null,null,null,null,{"$f":"IF(OR(SUMPRODUCT(--(E97548=$O$1:$O$541))>0,E97548=0),0,1)","v":0}]
[null,null,null,null,0,null,null,null,null,null,null,null,0,null,null,null,null,null,null,null,null,null,null,null,null,null,{"$f":"IF(OR(SUMPRODUCT(--(E97587=$O$1:$O$541))>0,E97587=0),0,1)","v":0}]
[null,null,null,null,0,null,null,null,null,null,null,null,0,null,null,null,null,null,null,null,null,null,null,null,null,null,{"$f":"IF(OR(SUMPRODUCT(--(E97728=$O$1:$O$541))>0,E97728=0),0,1)","v":0}]
[null,null,null,null,0,null,null,null,null,null,null,null,0,null,null,null,null,null,null,null,null,null,null,null,null,null,{"$f":"IF(OR(SUMPRODUCT(--(E97866=$O$1:$O$541))>0,E97866=0),0,1)","v":0}]
[null,null,null,null,0,null,null,null,null,null,null,null,0,null,null,null,null,null,null,null,null,null,null,null,null,null,{"$f":"IF(OR(SUMPRODUCT(--(E97905=$O$1:$O$541))>0,E97905=0),0,1)","v":0}]
[null,null,null,null,0,null,null,null,null,null,null,null,0,null,null,null,null,null,null,null,null,null,null,null,null,null,{"$f":"IF(OR(SUMPRODUCT(--(E98047=$O$1:$O$541))>0,E98047=0),0,1)","v":0}]
[null,null,null,null,0,null,null,null,null,null,null,null,0,null,null,null,null,null,null,null,null,null,null,null,null,null,{"$f":"IF(OR(SUMPRODUCT(--(E98121=$O$1:$O$541))>0,E98121=0),0,1)","v":0}]
[null,null,null,null,0,null,null,null,null,null,null,null,0,null,null,null,null,null,null,null,null,null,null,null,null,null,{"$f":"IF(OR(SUMPRODUCT(--(E98223=$O$1:$O$541))>0,E98223=0),0,1)","v":0}]
[null,null,null,null,0,null,null,null,null,null,null,null,0,null,null,null,null,null,null,null,null,null,null,null,null,null,{"$f":"IF(OR(SUMPRODUCT(--(E98365=$O$1:$O$541))>0,E98365=0),0,1)","v":0}]
[null,null,null,null,0,null,null,null,null,null,null,null,0,null,null,null,null,null,null,null,null,null,null,null,null,null,{"$f":"IF(OR(SUMPRODUCT(--(E98404=$O$1:$O$541))>0,E98404=0),0,1)","v":0}]
[null,null,null,null,0,null,null,null,null,null,null,null,0,null,null,null,null,null,null,null,null,null,null,null,null,null,{"$f":"IF(OR(SUMPRODUCT(--(E98514=$O$1:$O$541))>0,E98514=0),0,1)","v":0}]
[null,null,null,null,0,null,null,null,null,null,null,null,0,null,null,null,null,null,null,null,null,null,null,null,null,null,{"$f":"IF(OR(SUMPRODUCT(--(E98584=$O$1:$O$541))>0,E98584=0),0,1)","v":0}]
[null,null,null,null,0,null,null,null,null,null,null,null,0,null,null,null,null,null,null,null,null,null,null,null,null,null,{"$f":"IF(OR(SUMPRODUCT(--(E98722=$O$1:$O$541))>0,E98722=0),0,1)","v":0}]
[null,null,null,null,0,null,null,null,null,null,null,null,0,null,null,null,null,null,null,null,null,null,null,null,null,null,{"$f":"IF(OR(SUMPRODUCT(--(E98765=$O$1:$O$541))>0,E98765=0),0,1)","v":0}]
[null,null,null,null,0,null,null,null,null,null,null,null,0,null,null,null,null,null,null,null,null,null,null,null,null,null,{"$f":"IF(OR(SUMPRODUCT(--(E98917=$O$1:$O$541))>0,E98917=0),0,1)","v":0}]
[null,null,null,null,0,null,null,null,null,null,null,null,0,null,null,null,null,null,null,null,null,null,null,null,null,null,{"$f":"IF(OR(SUMPRODUCT(--(E99040=$O$1:$O$541))>0,E99040=0),0,1)","v":0}]
[null,null,null,null,0,null,null,null,null,null,null,null,0,null,null,null,null,null,null,null,null,null,null,null,null,null,{"$f":"IF(OR(SUMPRODUCT(--(E99083=$O$1:$O$541))>0,E99083=0),0,1)","v":0}]
[null,null,null,null,0,null,null,null,null,null,null,null,0,null,null,null,null,null,null,null,null,null,null,null,null,null,{"$f":"IF(OR(SUMPRODUCT(--(E99221=$O$1:$O$541))>0,E99221=0),0,1)","v":0}]
[null,null,null,null,0,null,null,null,null,null,null,null,0,null,null,null,null,null,null,null,null,null,null,null,null,null,{"$f":"IF(OR(SUMPRODUCT(--(E99310=$O$1:$O$541))>0,E99310=0),0,1)","v":0}]
[null,null,null,null,0,null,null,null,null,null,null,null,0,null,null,null,null,null,null,null,null,null,null,null,null,null,{"$f":"IF(OR(SUMPRODUCT(--(E99401=$O$1:$O$541))>0,E99401=0),0,1)","v":0}]
[null,null,null,null,0,null,null,null,null,null,null,null,0,null,null,null,null,null,null,null,null,null,null,null,null,null,{"$f":"IF(OR(SUMPRODUCT(--(E99539=$O$1:$O$541))>0,E99539=0),0,1)","v":0}]
[null,null,null,null,0,null,null,null,null,null,null,null,0,null,null,null,null,null,null,null,null,null,null,null,null,null,{"$f":"IF(OR(SUMPRODUCT(--(E99582=$O$1:$O$541))>0,E99582=0),0,1)","v":0}]
[null,null,null,null,0,null,null,null,null,null,null,null,0,null,null,null,null,null,null,null,null,null,null,null,null,null,{"$f":"IF(OR(SUMPRODUCT(--(E99720=$O$1:$O$541))>0,E99720=0),0,1)","v":0}]
[null,null,null,null,0,null,null,null,null,null,null,null,0,null,null,null,null,null,null,null,null,null,null,null,null,null,{"$f":"IF(OR(SUMPRODUCT(--(E99752=$O$1:$O$541))>0,E99752=0),0,1)","v":0}]
[null,null,null,null,{"$f":"IF(AND(F99753<>\"\",F99753=G99753),\"ERROR\",IF(AND(F99753<>\"\",F99753<>G99753),F99753,G99753))","v":0},null,null,null,null,null,null,null,{"$f":"IF(L99753<>\"\",L99753,K99753)","v":0},null,null,null,null,null,null,null,null,null,null,null,null,null,{"$f":"IF(OR(SUMPRODUCT(--(E99753=$O$1:$O$541))>0,E99753=0),0,1)","v":0}]
[null,null,null,null,0,null,null,null,null,null,null,null,0,null,null,null,null,null,null,null,null,null,null,null,null,null,{"$f":"IF(OR(SUMPRODUCT(--(E99754=$O$1:$O$541))>0,E99754=0),0,1)","v":0}]
[null,null,null,null,0,null,null,null,null,null,null,null,0,null,null,null,null,null,null,null,null,null,null,null,null,null,{"$f":"IF(OR(SUMPRODUCT(--(E99755=$O$1:$O$541))>0,E99755=0),0,1)","v":0}]
[null,null,null,null,0,null,null,null,null,null,null,null,0,null,null,null,null,null,null,null,null,null,null,null,null,null,{"$f":"IF(OR(SUMPRODUCT(--(E99756=$O$1:$O$541))>0,E99756=0),0,1)","v":0}]
[null,null,null,null,0,null,null,null,null,null,null,null,0,null,null,null,null,null,null,null,null,null,null,null,null,null,{"$f":"IF(OR(SUMPRODUCT(--(E99757=$O$1:$O$541))>0,E99757=0),0,1)","v":0}]
[null,null,null,null,0,null,null,null,null,null,null,null,0,null,null,null,null,null,null,null,null,null,null,null,null,null,{"$f":"IF(OR(SUMPRODUCT(--(E99758=$O$1:$O$541))>0,E99758=0),0,1)","v":0}]
[null,null,null,null,0,null,null,null,null,null,null,null,0,null,null,null,null,null,null,null,null,null,null,null,null,null,{"$f":"IF(OR(SUMPRODUCT(--(E99759=$O$1:$O$541))>0,E99759=0),0,1)","v":0}]
[null,null,null,null,0,null,null,null,null,null,null,null,0,null,null,null,null,null,null,null,null,null,null,null,null,null,{"$f":"IF(OR(SUMPRODUCT(--(E99760=$O$1:$O$541))>0,E99760=0),0,1)","v":0}]
[null,null,null,null,0,null,null,null,null,null,null,null,0,null,null,null,null,null,null,null,null,null,null,null,null,null,{"$f":"IF(OR(SUMPRODUCT(--(E99761=$O$1:$O$541))>0,E99761=0),0,1)","v":0}]
[null,null,null,null,0,null,null,null,null,null,null,null,0,null,null,null,null,null,null,null,null,null,null,null,null,null,{"$f":"IF(OR(SUMPRODUCT(--(E99762=$O$1:$O$541))>0,E99762=0),0,1)","v":0}]
[null,null,null,null,0,null,null,null,null,null,null,null,0,null,null,null,null,null,null,null,null,null,null,null,null,null,{"$f":"IF(OR(SUMPRODUCT(--(E99763=$O$1:$O$541))>0,E99763=0),0,1)","v":0}]
[null,null,null,null,0,null,null,null,null,null,null,null,0,null,null,null,null,null,null,null,null,null,null,null,null,null,{"$f":"IF(OR(SUMPRODUCT(--(E99764=$O$1:$O$541))>0,E99764=0),0,1)","v":0}]
[null,null,null,null,0,null,null,null,null,null,null,null,0,null,null,null,null,null,null,null,null,null,null,null,null,null,{"$f":"IF(OR(SUMPRODUCT(--(E99765=$O$1:$O$541))>0,E99765=0),0,1)","v":0}]
[null,null,null,null,0,null,null,null,null,null,null,null,0,null,null,null,null,null,null,null,null,null,null,null,null,null,{"$f":"IF(OR(SUMPRODUCT(--(E99766=$O$1:$O$541))>0,E99766=0),0,1)","v":0}]
[null,null,null,null,0,null,null,null,null,null,null,null,0,null,null,null,null,null,null,null,null,null,null,null,null,null,{"$f":"IF(OR(SUMPRODUCT(--(E99767=$O$1:$O$541))>0,E99767=0),0,1)","v":0}]
[null,null,null,null,0,null,null,null,null,null,null,null,0,null,null,null,null,null,null,null,null,null,null,null,null,null,{"$f":"IF(OR(SUMPRODUCT(--(E99768=$O$1:$O$541))>0,E99768=0),0,1)","v":0}]
[null,null,null,null,0,null,null,null,null,null,null,null,0,null,null,null,null,null,null,null,null,null,null,null,null,null,{"$f":"IF(OR(SUMPRODUCT(--(E99769=$O$1:$O$541))>0,E99769=0),0,1)","v":0}]
[null,null,null,null,0,null,null,null,null,null,null,null,0,null,null,null,null,null,null,null,null,null,null,null,null,null,{"$f":"IF(OR(SUMPRODUCT(--(E99770=$O$1:$O$541))>0,E99770=0),0,1)","v":0}]
[null,null,null,null,0,null,null,null,null,null,null,null,0,null,null,null,null,null,null,null,null,null,null,null,null,null,{"$f":"IF(OR(SUMPRODUCT(--(E99771=$O$1:$O$541))>0,E99771=0),0,1)","v":0}]
[null,null,null,null,0,null,null,null,null,null,null,null,0,null,null,null,null,null,null,null,null,null,null,null,null,null,{"$f":"IF(OR(SUMPRODUCT(--(E99772=$O$1:$O$541))>0,E99772=0),0,1)","v":0}]
[null,null,null,null,0,null,null,null,null,null,null,null,0,null,null,null,null,null,null,null,null,null,null,null,null,null,{"$f":"IF(OR(SUMPRODUCT(--(E99773=$O$1:$O$541))>0,E99773=0),0,1)","v":0}]
[null,null,null,null,0,null,null,null,null,null,null,null,0,null,null,null,null,null,null,null,null,null,null,null,null,null,{"$f":"IF(OR(SUMPRODUCT(--(E99774=$O$1:$O$541))>0,E99774=0),0,1)","v":0}]
[null,null,null,null,0,null,null,null,null,null,null,null,0,null,null,null,null,null,null,null,null,null,null,null,null,null,{"$f":"IF(OR(SUMPRODUCT(--(E99775=$O$1:$O$541))>0,E99775=0),0,1)","v":0}]
[null,null,null,null,0,null,null,null,null,null,null,null,0,null,null,null,null,null,null,null,null,null,null,null,null,null,{"$f":"IF(OR(SUMPRODUCT(--(E99776=$O$1:$O$541))>0,E99776=0),0,1)","v":0}]
[null,null,null,null,0,null,null,null,null,null,null,null,0,null,null,null,null,null,null,null,null,null,null,null,null,null,{"$f":"IF(OR(SUMPRODUCT(--(E99777=$O$1:$O$541))>0,E99777=0),0,1)","v":0}]
[null,null,null,null,0,null,null,null,null,null,null,null,0,null,null,null,null,null,null,null,null,null,null,null,null,null,{"$f":"IF(OR(SUMPRODUCT(--(E99778=$O$1:$O$541))>0,E99778=0),0,1)","v":0}]
[null,null,null,null,0,null,null,null,null,null,null,null,0,null,null,null,null,null,null,null,null,null,null,null,null,null,{"$f":"IF(OR(SUMPRODUCT(--(E99779=$O$1:$O$541))>0,E99779=0),0,1)","v":0}]
[null,null,null,null,0,null,null,null,null,null,null,null,0,null,null,null,null,null,null,null,null,null,null,null,null,null,{"$f":"IF(OR(SUMPRODUCT(--(E99780=$O$1:$O$541))>0,E99780=0),0,1)","v":0}]
[null,null,null,null,0,null,null,null,null,null,null,null,0,null,null,null,null,null,null,null,null,null,null,null,null,null,{"$f":"IF(OR(SUMPRODUCT(--(E99781=$O$1:$O$541))>0,E99781=0),0,1)","v":0}]
[null,null,null,null,0,null,null,null,null,null,null,null,0,null,null,null,null,null,null,null,null,null,null,null,null,null,{"$f":"IF(OR(SUMPRODUCT(--(E99782=$O$1:$O$541))>0,E99782=0),0,1)","v":0}]
[null,null,null,null,0,null,null,null,null,null,null,null,0,null,null,null,null,null,null,null,null,null,null,null,null,null,{"$f":"IF(OR(SUMPRODUCT(--(E99783=$O$1:$O$541))>0,E99783=0),0,1)","v":0}]
[null,null,null,null,0,null,null,null,null,null,null,null,0,null,null,null,null,null,null,null,null,null,null,null,null,null,{"$f":"IF(OR(SUMPRODUCT(--(E99784=$O$1:$O$541))>0,E99784=0),0,1)","v":0}]
[null,null,null,null,0,null,null,null,null,null,null,null,0,null,null,null,null,null,null,null,null,null,null,null,null,null,{"$f":"IF(OR(SUMPRODUCT(--(E99785=$O$1:$O$541))>0,E99785=0),0,1)","v":0}]
[null,null,null,null,0,null,null,null,null,null,null,null,0,null,null,null,null,null,null,null,null,null,null,null,null,null,{"$f":"IF(OR(SUMPRODUCT(--(E99786=$O$1:$O$541))>0,E99786=0),0,1)","v":0}]
[null,null,null,null,0,null,null,null,null,null,null,null,0,null,null,null,null,null,null,null,null,null,null,null,null,null,{"$f":"IF(OR(SUMPRODUCT(--(E99787=$O$1:$O$541))>0,E99787=0),0,1)","v":0}]
[null,null,null,null,0,null,null,null,null,null,null,null,0,null,null,null,null,null,null,null,null,null,null,null,null,null,{"$f":"IF(OR(SUMPRODUCT(--(E99788=$O$1:$O$541))>0,E99788=0),0,1)","v":0}]
[null,null,null,null,0,null,null,null,null,null,null,null,0,null,null,null,null,null,null,null,null,null,null,null,null,null,{"$f":"IF(OR(SUMPRODUCT(--(E99789=$O$1:$O$541))>0,E99789=0),0,1)","v":0}]
[null,null,null,null,0,null,null,null,null,null,null,null,0,null,null,null,null,null,null,null,null,null,null,null,null,null,{"$f":"IF(OR(SUMPRODUCT(--(E99790=$O$1:$O$541))>0,E99790=0),0,1)","v":0}]
[null,null,null,null,0,null,null,null,null,null,null,null,0,null,null,null,null,null,null,null,null,null,null,null,null,null,{"$f":"IF(OR(SUMPRODUCT(--(E99791=$O$1:$O$541))>0,E99791=0),0,1)","v":0}]
[null,null,null,null,0,null,null,null,null,null,null,null,0,null,null,null,null,null,null,null,null,null,null,null,null,null,{"$f":"IF(OR(SUMPRODUCT(--(E99792=$O$1:$O$541))>0,E99792=0),0,1)","v":0}]
[null,null,null,null,0,null,null,null,null,null,null,null,0,null,null,null,null,null,null,null,null,null,null,null,null,null,{"$f":"IF(OR(SUMPRODUCT(--(E99793=$O$1:$O$541))>0,E99793=0),0,1)","v":0}]
[null,null,null,null,0,null,null,null,null,null,null,null,0,null,null,null,null,null,null,null,null,null,null,null,null,null,{"$f":"IF(OR(SUMPRODUCT(--(E99794=$O$1:$O$541))>0,E99794=0),0,1)","v":0}]
[null,null,null,null,0,null,null,null,null,null,null,null,0,null,null,null,null,null,null,null,null,null,null,null,null,null,{"$f":"IF(OR(SUMPRODUCT(--(E99795=$O$1:$O$541))>0,E99795=0),0,1)","v":0}]
[null,null,null,null,0,null,null,null,null,null,null,null,0,null,null,null,null,null,null,null,null,null,null,null,null,null,{"$f":"IF(OR(SUMPRODUCT(--(E99796=$O$1:$O$541))>0,E99796=0),0,1)","v":0}]
[null,null,null,null,0,null,null,null,null,null,null,null,0,null,null,null,null,null,null,null,null,null,null,null,null,null,{"$f":"IF(OR(SUMPRODUCT(--(E99797=$O$1:$O$541))>0,E99797=0),0,1)","v":0}]
[null,null,null,null,0,null,null,null,null,null,null,null,0,null,null,null,null,null,null,null,null,null,null,null,null,null,{"$f":"IF(OR(SUMPRODUCT(--(E99798=$O$1:$O$541))>0,E99798=0),0,1)","v":0}]
[null,null,null,null,0,null,null,null,null,null,null,null,0,null,null,null,null,null,null,null,null,null,null,null,null,null,{"$f":"IF(OR(SUMPRODUCT(--(E99799=$O$1:$O$541))>0,E99799=0),0,1)","v":0}]
[null,null,null,null,0,null,null,null,null,null,null,null,0,null,null,null,null,null,null,null,null,null,null,null,null,null,{"$f":"IF(OR(SUMPRODUCT(--(E99800=$O$1:$O$541))>0,E99800=0),0,1)","v":0}]
[null,null,null,null,0,null,null,null,null,null,null,null,0,null,null,null,null,null,null,null,null,null,null,null,null,null,{"$f":"IF(OR(SUMPRODUCT(--(E99801=$O$1:$O$541))>0,E99801=0),0,1)","v":0}]
[null,null,null,null,0,null,null,null,null,null,null,null,0,null,null,null,null,null,null,null,null,null,null,null,null,null,{"$f":"IF(OR(SUMPRODUCT(--(E99802=$O$1:$O$541))>0,E99802=0),0,1)","v":0}]
[null,null,null,null,0,null,null,null,null,null,null,null,0,null,null,null,null,null,null,null,null,null,null,null,null,null,{"$f":"IF(OR(SUMPRODUCT(--(E99803=$O$1:$O$541))>0,E99803=0),0,1)","v":0}]
[null,null,null,null,0,null,null,null,null,null,null,null,0,null,null,null,null,null,null,null,null,null,null,null,null,null,{"$f":"IF(OR(SUMPRODUCT(--(E99804=$O$1:$O$541))>0,E99804=0),0,1)","v":0}]
[null,null,null,null,0,null,null,null,null,null,null,null,0,null,null,null,null,null,null,null,null,null,null,null,null,null,{"$f":"IF(OR(SUMPRODUCT(--(E99805=$O$1:$O$541))>0,E99805=0),0,1)","v":0}]
[null,null,null,null,0,null,null,null,null,null,null,null,0,null,null,null,null,null,null,null,null,null,null,null,null,null,{"$f":"IF(OR(SUMPRODUCT(--(E99806=$O$1:$O$541))>0,E99806=0),0,1)","v":0}]
[null,null,null,null,0,null,null,null,null,null,null,null,0,null,null,null,null,null,null,null,null,null,null,null,null,null,{"$f":"IF(OR(SUMPRODUCT(--(E99807=$O$1:$O$541))>0,E99807=0),0,1)","v":0}]
[null,null,null,null,0,null,null,null,null,null,null,null,0,null,null,null,null,null,null,null,null,null,null,null,null,null,{"$f":"IF(OR(SUMPRODUCT(--(E99808=$O$1:$O$541))>0,E99808=0),0,1)","v":0}]
[null,null,null,null,0,null,null,null,null,null,null,null,0,null,null,null,null,null,null,null,null,null,null,null,null,null,{"$f":"IF(OR(SUMPRODUCT(--(E99809=$O$1:$O$541))>0,E99809=0),0,1)","v":0}]
[null,null,null,null,0,null,null,null,null,null,null,null,0,null,null,null,null,null,null,null,null,null,null,null,null,null,{"$f":"IF(OR(SUMPRODUCT(--(E99810=$O$1:$O$541))>0,E99810=0),0,1)","v":0}]
[null,null,null,null,0,null,null,null,null,null,null,null,0,null,null,null,null,null,null,null,null,null,null,null,null,null,{"$f":"IF(OR(SUMPRODUCT(--(E99811=$O$1:$O$541))>0,E99811=0),0,1)","v":0}]
[null,null,null,null,0,null,null,null,null,null,null,null,0,null,null,null,null,null,null,null,null,null,null,null,null,null,{"$f":"IF(OR(SUMPRODUCT(--(E99812=$O$1:$O$541))>0,E99812=0),0,1)","v":0}]
[null,null,null,null,0,null,null,null,null,null,null,null,0,null,null,null,null,null,null,null,null,null,null,null,null,null,{"$f":"IF(OR(SUMPRODUCT(--(E99813=$O$1:$O$541))>0,E99813=0),0,1)","v":0}]
[null,null,null,null,0,null,null,null,null,null,null,null,0,null,null,null,null,null,null,null,null,null,null,null,null,null,{"$f":"IF(OR(SUMPRODUCT(--(E99814=$O$1:$O$541))>0,E99814=0),0,1)","v":0}]
[null,null,null,null,0,null,null,null,null,null,null,null,0,null,null,null,null,null,null,null,null,null,null,null,null,null,{"$f":"IF(OR(SUMPRODUCT(--(E99815=$O$1:$O$541))>0,E99815=0),0,1)","v":0}]
[null,null,null,null,0,null,null,null,null,null,null,null,0,null,null,null,null,null,null,null,null,null,null,null,null,null,{"$f":"IF(OR(SUMPRODUCT(--(E99816=$O$1:$O$541))>0,E99816=0),0,1)","v":0}]
[null,null,null,null,{"$f":"IF(AND(F99817<>\"\",F99817=G99817),\"ERROR\",IF(AND(F99817<>\"\",F99817<>G99817),F99817,G99817))","v":0},null,null,null,null,null,null,null,{"$f":"IF(L99817<>\"\",L99817,K99817)","v":0},null,null,null,null,null,null,null,null,null,null,null,null,null,{"$f":"IF(OR(SUMPRODUCT(--(E99817=$O$1:$O$541))>0,E99817=0),0,1)","v":0}]
[null,null,null,null,0,null,null,null,null,null,null,null,0,null,null,null,null,null,null,null,null,null,null,null,null,null,{"$f":"IF(OR(SUMPRODUCT(--(E99818=$O$1:$O$541))>0,E99818=0),0,1)","v":0}]
[null,null,null,null,0,null,null,null,null,null,null,null,0,null,null,null,null,null,null,null,null,null,null,null,null,null,{"$f":"IF(OR(SUMPRODUCT(--(E99819=$O$1:$O$541))>0,E99819=0),0,1)","v":0}]
[null,null,null,null,0,null,null,null,null,null,null,null,0,null,null,null,null,null,null,null,null,null,null,null,null,null,{"$f":"IF(OR(SUMPRODUCT(--(E99820=$O$1:$O$541))>0,E99820=0),0,1)","v":0}]
[null,null,null,null,0,null,null,null,null,null,null,null,0,null,null,null,null,null,null,null,null,null,null,null,null,null,{"$f":"IF(OR(SUMPRODUCT(--(E99821=$O$1:$O$541))>0,E99821=0),0,1)","v":0}]
[null,null,null,null,0,null,null,null,null,null,null,null,0,null,null,null,null,null,null,null,null,null,null,null,null,null,{"$f":"IF(OR(SUMPRODUCT(--(E99822=$O$1:$O$541))>0,E99822=0),0,1)","v":0}]
[null,null,null,null,0,null,null,null,null,null,null,null,0,null,null,null,null,null,null,null,null,null,null,null,null,null,{"$f":"IF(OR(SUMPRODUCT(--(E99823=$O$1:$O$541))>0,E99823=0),0,1)","v":0}]
[null,null,null,null,0,null,null,null,null,null,null,null,0,null,null,null,null,null,null,null,null,null,null,null,null,null,{"$f":"IF(OR(SUMPRODUCT(--(E99824=$O$1:$O$541))>0,E99824=0),0,1)","v":0}]
[null,null,null,null,0,null,null,null,null,null,null,null,0,null,null,null,null,null,null,null,null,null,null,null,null,null,{"$f":"IF(OR(SUMPRODUCT(--(E99825=$O$1:$O$541))>0,E99825=0),0,1)","v":0}]
[null,null,null,null,0,null,null,null,null,null,null,null,0,null,null,null,null,null,null,null,null,null,null,null,null,null,{"$f":"IF(OR(SUMPRODUCT(--(E99826=$O$1:$O$541))>0,E99826=0),0,1)","v":0}]
[null,null,null,null,0,null,null,null,null,null,null,null,0,null,null,null,null,null,null,null,null,null,null,null,null,null,{"$f":"IF(OR(SUMPRODUCT(--(E99827=$O$1:$O$541))>0,E99827=0),0,1)","v":0}]
[null,null,null,null,0,null,null,null,null,null,null,null,0,null,null,null,null,null,null,null,null,null,null,null,null,null,{"$f":"IF(OR(SUMPRODUCT(--(E99828=$O$1:$O$541))>0,E99828=0),0,1)","v":0}]
[null,null,null,null,0,null,null,null,null,null,null,null,0,null,null,null,null,null,null,null,null,null,null,null,null,null,{"$f":"IF(OR(SUMPRODUCT(--(E99829=$O$1:$O$541))>0,E99829=0),0,1)","v":0}]
[null,null,null,null,0,null,null,null,null,null,null,null,0,null,null,null,null,null,null,null,null,null,null,null,null,null,{"$f":"IF(OR(SUMPRODUCT(--(E99830=$O$1:$O$541))>0,E99830=0),0,1)","v":0}]
[null,null,null,null,0,null,null,null,null,null,null,null,0,null,null,null,null,null,null,null,null,null,null,null,null,null,{"$f":"IF(OR(SUMPRODUCT(--(E99831=$O$1:$O$541))>0,E99831=0),0,1)","v":0}]
[null,null,null,null,0,null,null,null,null,null,null,null,0,null,null,null,null,null,null,null,null,null,null,null,null,null,{"$f":"IF(OR(SUMPRODUCT(--(E99832=$O$1:$O$541))>0,E99832=0),0,1)","v":0}]
[null,null,null,null,0,null,null,null,null,null,null,null,0,null,null,null,null,null,null,null,null,null,null,null,null,null,{"$f":"IF(OR(SUMPRODUCT(--(E99833=$O$1:$O$541))>0,E99833=0),0,1)","v":0}]
[null,null,null,null,0,null,null,null,null,null,null,null,0,null,null,null,null,null,null,null,null,null,null,null,null,null,{"$f":"IF(OR(SUMPRODUCT(--(E99834=$O$1:$O$541))>0,E99834=0),0,1)","v":0}]
[null,null,null,null,0,null,null,null,null,null,null,null,0,null,null,null,null,null,null,null,null,null,null,null,null,null,{"$f":"IF(OR(SUMPRODUCT(--(E99835=$O$1:$O$541))>0,E99835=0),0,1)","v":0}]
[null,null,null,null,0,null,null,null,null,null,null,null,0,null,null,null,null,null,null,null,null,null,null,null,null,null,{"$f":"IF(OR(SUMPRODUCT(--(E99836=$O$1:$O$541))>0,E99836=0),0,1)","v":0}]
[null,null,null,null,0,null,null,null,null,null,null,null,0,null,null,null,null,null,null,null,null,null,null,null,null,null,{"$f":"IF(OR(SUMPRODUCT(--(E99837=$O$1:$O$541))>0,E99837=0),0,1)","v":0}]
[null,null,null,null,0,null,null,null,null,null,null,null,0,null,null,null,null,null,null,null,null,null,null,null,null,null,{"$f":"IF(OR(SUMPRODUCT(--(E99838=$O$1:$O$541))>0,E99838=0),0,1)","v":0}]
[null,null,null,null,0,null,null,null,null,null,null,null,0,null,null,null,null,null,null,null,null,null,null,null,null,null,{"$f":"IF(OR(SUMPRODUCT(--(E99839=$O$1:$O$541))>0,E99839=0),0,1)","v":0}]
[null,null,null,null,0,null,null,null,null,null,null,null,0,null,null,null,null,null,null,null,null,null,null,null,null,null,{"$f":"IF(OR(SUMPRODUCT(--(E99840=$O$1:$O$541))>0,E99840=0),0,1)","v":0}]
[null,null,null,null,0,null,null,null,null,null,null,null,0,null,null,null,null,null,null,null,null,null,null,null,null,null,{"$f":"IF(OR(SUMPRODUCT(--(E99841=$O$1:$O$541))>0,E99841=0),0,1)","v":0}]
[null,null,null,null,0,null,null,null,null,null,null,null,0,null,null,null,null,null,null,null,null,null,null,null,null,null,{"$f":"IF(OR(SUMPRODUCT(--(E99842=$O$1:$O$541))>0,E99842=0),0,1)","v":0}]
[null,null,null,null,0,null,null,null,null,null,null,null,0,null,null,null,null,null,null,null,null,null,null,null,null,null,{"$f":"IF(OR(SUMPRODUCT(--(E99843=$O$1:$O$541))>0,E99843=0),0,1)","v":0}]
[null,null,null,null,0,null,null,null,null,null,null,null,0,null,null,null,null,null,null,null,null,null,null,null,null,null,{"$f":"IF(OR(SUMPRODUCT(--(E99844=$O$1:$O$541))>0,E99844=0),0,1)","v":0}]
[null,null,null,null,0,null,null,null,null,null,null,null,0,null,null,null,null,null,null,null,null,null,null,null,null,null,{"$f":"IF(OR(SUMPRODUCT(--(E99845=$O$1:$O$541))>0,E99845=0),0,1)","v":0}]
[null,null,null,null,0,null,null,null,null,null,null,null,0,null,null,null,null,null,null,null,null,null,null,null,null,null,{"$f":"IF(OR(SUMPRODUCT(--(E99846=$O$1:$O$541))>0,E99846=0),0,1)","v":0}]
[null,null,null,null,0,null,null,null,null,null,null,null,0,null,null,null,null,null,null,null,null,null,null,null,null,null,{"$f":"IF(OR(SUMPRODUCT(--(E99847=$O$1:$O$541))>0,E99847=0),0,1)","v":0}]
[null,null,null,null,0,null,null,null,null,null,null,null,0,null,null,null,null,null,null,null,null,null,null,null,null,null,{"$f":"IF(OR(SUMPRODUCT(--(E99848=$O$1:$O$541))>0,E99848=0),0,1)","v":0}]
[null,null,null,null,0,null,null,null,null,null,null,null,0,null,null,null,null,null,null,null,null,null,null,null,null,null,{"$f":"IF(OR(SUMPRODUCT(--(E99849=$O$1:$O$541))>0,E99849=0),0,1)","v":0}]
[null,null,null,null,0,null,null,null,null,null,null,null,0,null,null,null,null,null,null,null,null,null,null,null,null,null,{"$f":"IF(OR(SUMPRODUCT(--(E99850=$O$1:$O$541))>0,E99850=0),0,1)","v":0}]
[null,null,null,null,0,null,null,null,null,null,null,null,0,null,null,null,null,null,null,null,null,null,null,null,null,null,{"$f":"IF(OR(SUMPRODUCT(--(E99851=$O$1:$O$541))>0,E99851=0),0,1)","v":0}]
[null,null,null,null,0,null,null,null,null,null,null,null,0,null,null,null,null,null,null,null,null,null,null,null,null,null,{"$f":"IF(OR(SUMPRODUCT(--(E99852=$O$1:$O$541))>0,E99852=0),0,1)","v":0}]
[null,null,null,null,0,null,null,null,null,null,null,null,0,null,null,null,null,null,null,null,null,null,null,null,null,null,{"$f":"IF(OR(SUMPRODUCT(--(E99853=$O$1:$O$541))>0,E99853=0),0,1)","v":0}]
[null,null,null,null,0,null,null,null,null,null,null,null,0,null,null,null,null,null,null,null,null,null,null,null,null,null,{"$f":"IF(OR(SUMPRODUCT(--(E99854=$O$1:$O$541))>0,E99854=0),0,1)","v":0}]
[null,null,null,null,0,null,null,null,null,null,null,null,0,null,null,null,null,null,null,null,null,null,null,null,null,null,{"$f":"IF(OR(SUMPRODUCT(--(E99855=$O$1:$O$541))>0,E99855=0),0,1)","v":0}]
[null,null,null,null,0,null,null,null,null,null,null,null,0,null,null,null,null,null,null,null,null,null,null,null,null,null,{"$f":"IF(OR(SUMPRODUCT(--(E99856=$O$1:$O$541))>0,E99856=0),0,1)","v":0}]
[null,null,null,null,0,null,null,null,null,null,null,null,0,null,null,null,null,null,null,null,null,null,null,null,null,null,{"$f":"IF(OR(SUMPRODUCT(--(E99857=$O$1:$O$541))>0,E99857=0),0,1)","v":0}]
[null,null,null,null,0,null,null,null,null,null,null,null,0,null,null,null,null,null,null,null,null,null,null,null,null,null,{"$f":"IF(OR(SUMPRODUCT(--(E99858=$O$1:$O$541))>0,E99858=0),0,1)","v":0}]
[null,null,null,null,0,null,null,null,null,null,null,null,0,null,null,null,null,null,null,null,null,null,null,null,null,null,{"$f":"IF(OR(SUMPRODUCT(--(E99859=$O$1:$O$541))>0,E99859=0),0,1)","v":0}]
[null,null,null,null,0,null,null,null,null,null,null,null,0,null,null,null,null,null,null,null,null,null,null,null,null,null,{"$f":"IF(OR(SUMPRODUCT(--(E99860=$O$1:$O$541))>0,E99860=0),0,1)","v":0}]
[null,null,null,null,0,null,null,null,null,null,null,null,0,null,null,null,null,null,null,null,null,null,null,null,null,null,{"$f":"IF(OR(SUMPRODUCT(--(E99861=$O$1:$O$541))>0,E99861=0),0,1)","v":0}]
[null,null,null,null,0,null,null,null,null,null,null,null,0,null,null,null,null,null,null,null,null,null,null,null,null,null,{"$f":"IF(OR(SUMPRODUCT(--(E99862=$O$1:$O$541))>0,E99862=0),0,1)","v":0}]
[null,null,null,null,0,null,null,null,null,null,null,null,0,null,null,null,null,null,null,null,null,null,null,null,null,null,{"$f":"IF(OR(SUMPRODUCT(--(E99863=$O$1:$O$541))>0,E99863=0),0,1)","v":0}]
[null,null,null,null,0,null,null,null,null,null,null,null,0,null,null,null,null,null,null,null,null,null,null,null,null,null,{"$f":"IF(OR(SUMPRODUCT(--(E99864=$O$1:$O$541))>0,E99864=0),0,1)","v":0}]
[null,null,null,null,0,null,null,null,null,null,null,null,0,null,null,null,null,null,null,null,null,null,null,null,null,null,{"$f":"IF(OR(SUMPRODUCT(--(E99865=$O$1:$O$541))>0,E99865=0),0,1)","v":0}]
[null,null,null,null,0,null,null,null,null,null,null,null,0,null,null,null,null,null,null,null,null,null,null,null,null,null,{"$f":"IF(OR(SUMPRODUCT(--(E99866=$O$1:$O$541))>0,E99866=0),0,1)","v":0}]
[null,null,null,null,0,null,null,null,null,null,null,null,0,null,null,null,null,null,null,null,null,null,null,null,null,null,{"$f":"IF(OR(SUMPRODUCT(--(E99867=$O$1:$O$541))>0,E99867=0),0,1)","v":0}]
[null,null,null,null,0,null,null,null,null,null,null,null,0,null,null,null,null,null,null,null,null,null,null,null,null,null,{"$f":"IF(OR(SUMPRODUCT(--(E99868=$O$1:$O$541))>0,E99868=0),0,1)","v":0}]
[null,null,null,null,0,null,null,null,null,null,null,null,0,null,null,null,null,null,null,null,null,null,null,null,null,null,{"$f":"IF(OR(SUMPRODUCT(--(E99869=$O$1:$O$541))>0,E99869=0),0,1)","v":0}]
[null,null,null,null,0,null,null,null,null,null,null,null,0,null,null,null,null,null,null,null,null,null,null,null,null,null,{"$f":"IF(OR(SUMPRODUCT(--(E99870=$O$1:$O$541))>0,E99870=0),0,1)","v":0}]
[null,null,null,null,0,null,null,null,null,null,null,null,0,null,null,null,null,null,null,null,null,null,null,null,null,null,{"$f":"IF(OR(SUMPRODUCT(--(E99871=$O$1:$O$541))>0,E99871=0),0,1)","v":0}]
[null,null,null,null,0,null,null,null,null,null,null,null,0,null,null,null,null,null,null,null,null,null,null,null,null,null,{"$f":"IF(OR(SUMPRODUCT(--(E99872=$O$1:$O$541))>0,E99872=0),0,1)","v":0}]
[null,null,null,null,0,null,null,null,null,null,null,null,0,null,null,null,null,null,null,null,null,null,null,null,null,null,{"$f":"IF(OR(SUMPRODUCT(--(E99873=$O$1:$O$541))>0,E99873=0),0,1)","v":0}]
[null,null,null,null,0,null,null,null,null,null,null,null,0,null,null,null,null,null,null,null,null,null,null,null,null,null,{"$f":"IF(OR(SUMPRODUCT(--(E99874=$O$1:$O$541))>0,E99874=0),0,1)","v":0}]
[null,null,null,null,0,null,null,null,null,null,null,null,0,null,null,null,null,null,null,null,null,null,null,null,null,null,{"$f":"IF(OR(SUMPRODUCT(--(E99875=$O$1:$O$541))>0,E99875=0),0,1)","v":0}]
[null,null,null,null,0,null,null,null,null,null,null,null,0,null,null,null,null,null,null,null,null,null,null,null,null,null,{"$f":"IF(OR(SUMPRODUCT(--(E99876=$O$1:$O$541))>0,E99876=0),0,1)","v":0}]
[null,null,null,null,0,null,null,null,null,null,null,null,0,null,null,null,null,null,null,null,null,null,null,null,null,null,{"$f":"IF(OR(SUMPRODUCT(--(E99877=$O$1:$O$541))>0,E99877=0),0,1)","v":0}]
[null,null,null,null,0,null,null,null,null,null,null,null,0,null,null,null,null,null,null,null,null,null,null,null,null,null,{"$f":"IF(OR(SUMPRODUCT(--(E99878=$O$1:$O$541))>0,E99878=0),0,1)","v":0}]
[null,null,null,null,0,null,null,null,null,null,null,null,0,null,null,null,null,null,null,null,null,null,null,null,null,null,{"$f":"IF(OR(SUMPRODUCT(--(E99879=$O$1:$O$541))>0,E99879=0),0,1)","v":0}]
[null,null,null,null,0,null,null,null,null,null,null,null,0,null,null,null,null,null,null,null,null,null,null,null,null,null,{"$f":"IF(OR(SUMPRODUCT(--(E99880=$O$1:$O$541))>0,E99880=0),0,1)","v":0}]
[null,null,null,null,{"$f":"IF(AND(F99881<>\"\",F99881=G99881),\"ERROR\",IF(AND(F99881<>\"\",F99881<>G99881),F99881,G99881))","v":0},null,null,null,null,null,null,null,{"$f":"IF(L99881<>\"\",L99881,K99881)","v":0},null,null,null,null,null,null,null,null,null,null,null,null,null,{"$f":"IF(OR(SUMPRODUCT(--(E99881=$O$1:$O$541))>0,E99881=0),0,1)","v":0}]
[null,null,null,null,0,null,null,null,null,null,null,null,0,null,null,null,null,null,null,null,null,null,null,null,null,null,{"$f":"IF(OR(SUMPRODUCT(--(E99882=$O$1:$O$541))>0,E99882=0),0,1)","v":0}]
[null,null,null,null,0,null,null,null,null,null,null,null,0,null,null,null,null,null,null,null,null,null,null,null,null,null,{"$f":"IF(OR(SUMPRODUCT(--(E99883=$O$1:$O$541))>0,E99883=0),0,1)","v":0}]
[null,null,null,null,0,null,null,null,null,null,null,null,0,null,null,null,null,null,null,null,null,null,null,null,null,null,{"$f":"IF(OR(SUMPRODUCT(--(E99884=$O$1:$O$541))>0,E99884=0),0,1)","v":0}]
[null,null,null,null,0,null,null,null,null,null,null,null,0,null,null,null,null,null,null,null,null,null,null,null,null,null,{"$f":"IF(OR(SUMPRODUCT(--(E99885=$O$1:$O$541))>0,E99885=0),0,1)","v":0}]
[null,null,null,null,0,null,null,null,null,null,null,null,0,null,null,null,null,null,null,null,null,null,null,null,null,null,{"$f":"IF(OR(SUMPRODUCT(--(E99886=$O$1:$O$541))>0,E99886=0),0,1)","v":0}]
[null,null,null,null,0,null,null,null,null,null,null,null,0,null,null,null,null,null,null,null,null,null,null,null,null,null,{"$f":"IF(OR(SUMPRODUCT(--(E99887=$O$1:$O$541))>0,E99887=0),0,1)","v":0}]
[null,null,null,null,0,null,null,null,null,null,null,null,0,null,null,null,null,null,null,null,null,null,null,null,null,null,{"$f":"IF(OR(SUMPRODUCT(--(E99888=$O$1:$O$541))>0,E99888=0),0,1)","v":0}]
[null,null,null,null,0,null,null,null,null,null,null,null,0,null,null,null,null,null,null,null,null,null,null,null,null,null,{"$f":"IF(OR(SUMPRODUCT(--(E99889=$O$1:$O$541))>0,E99889=0),0,1)","v":0}]
[null,null,null,null,0,null,null,null,null,null,null,null,0,null,null,null,null,null,null,null,null,null,null,null,null,null,{"$f":"IF(OR(SUMPRODUCT(--(E99890=$O$1:$O$541))>0,E99890=0),0,1)","v":0}]
[null,null,null,null,0,null,null,null,null,null,null,null,0,null,null,null,null,null,null,null,null,null,null,null,null,null,{"$f":"IF(OR(SUMPRODUCT(--(E99891=$O$1:$O$541))>0,E99891=0),0,1)","v":0}]
[null,null,null,null,0,null,null,null,null,null,null,null,0,null,null,null,null,null,null,null,null,null,null,null,null,null,{"$f":"IF(OR(SUMPRODUCT(--(E99892=$O$1:$O$541))>0,E99892=0),0,1)","v":0}]
[null,null,null,null,0,null,null,null,null,null,null,null,0,null,null,null,null,null,null,null,null,null,null,null,null,null,{"$f":"IF(OR(SUMPRODUCT(--(E99893=$O$1:$O$541))>0,E99893=0),0,1)","v":0}]
[null,null,null,null,0,null,null,null,null,null,null,null,0,null,null,null,null,null,null,null,null,null,null,null,null,null,{"$f":"IF(OR(SUMPRODUCT(--(E99894=$O$1:$O$541))>0,E99894=0),0,1)","v":0}]
[null,null,null,null,0,null,null,null,null,null,null,null,0,null,null,null,null,null,null,null,null,null,null,null,null,null,{"$f":"IF(OR(SUMPRODUCT(--(E99895=$O$1:$O$541))>0,E99895=0),0,1)","v":0}]
[null,null,null,null,0,null,null,null,null,null,null,null,0,null,null,null,null,null,null,null,null,null,null,null,null,null,{"$f":"IF(OR(SUMPRODUCT(--(E99896=$O$1:$O$541))>0,E99896=0),0,1)","v":0}]
[null,null,null,null,0,null,null,null,null,null,null,null,0,null,null,null,null,null,null,null,null,null,null,null,null,null,{"$f":"IF(OR(SUMPRODUCT(--(E99897=$O$1:$O$541))>0,E99897=0),0,1)","v":0}]
[null,null,null,null,0,null,null,null,null,null,null,null,0,null,null,null,null,null,null,null,null,null,null,null,null,null,{"$f":"IF(OR(SUMPRODUCT(--(E99898=$O$1:$O$541))>0,E99898=0),0,1)","v":0}]
[null,null,null,null,0,null,null,null,null,null,null,null,0,null,null,null,null,null,null,null,null,null,null,null,null,null,{"$f":"IF(OR(SUMPRODUCT(--(E99899=$O$1:$O$541))>0,E99899=0),0,1)","v":0}]
[null,null,null,null,0,null,null,null,null,null,null,null,0,null,null,null,null,null,null,null,null,null,null,null,null,null,{"$f":"IF(OR(SUMPRODUCT(--(E99900=$O$1:$O$541))>0,E99900=0),0,1)","v":0}]
[null,null,null,null,0,null,null,null,null,null,null,null,0,null,null,null,null,null,null,null,null,null,null,null,null,null,{"$f":"IF(OR(SUMPRODUCT(--(E99901=$O$1:$O$541))>0,E99901=0),0,1)","v":0}]
[null,null,null,null,0,null,null,null,null,null,null,null,0,null,null,null,null,null,null,null,null,null,null,null,null,null,{"$f":"IF(OR(SUMPRODUCT(--(E99902=$O$1:$O$541))>0,E99902=0),0,1)","v":0}]
[null,null,null,null,0,null,null,null,null,null,null,null,0,null,null,null,null,null,null,null,null,null,null,null,null,null,{"$f":"IF(OR(SUMPRODUCT(--(E99903=$O$1:$O$541))>0,E99903=0),0,1)","v":0}]
[null,null,null,null,0,null,null,null,null,null,null,null,0,null,null,null,null,null,null,null,null,null,null,null,null,null,{"$f":"IF(OR(SUMPRODUCT(--(E99904=$O$1:$O$541))>0,E99904=0),0,1)","v":0}]
[null,null,null,null,0,null,null,null,null,null,null,null,0,null,null,null,null,null,null,null,null,null,null,null,null,null,{"$f":"IF(OR(SUMPRODUCT(--(E99905=$O$1:$O$541))>0,E99905=0),0,1)","v":0}]
[null,null,null,null,0,null,null,null,null,null,null,null,0,null,null,null,null,null,null,null,null,null,null,null,null,null,{"$f":"IF(OR(SUMPRODUCT(--(E99906=$O$1:$O$541))>0,E99906=0),0,1)","v":0}]
[null,null,null,null,0,null,null,null,null,null,null,null,0,null,null,null,null,null,null,null,null,null,null,null,null,null,{"$f":"IF(OR(SUMPRODUCT(--(E99907=$O$1:$O$541))>0,E99907=0),0,1)","v":0}]
[null,null,null,null,0,null,null,null,null,null,null,null,0,null,null,null,null,null,null,null,null,null,null,null,null,null,{"$f":"IF(OR(SUMPRODUCT(--(E99908=$O$1:$O$541))>0,E99908=0),0,1)","v":0}]
[null,null,null,null,0,null,null,null,null,null,null,null,0,null,null,null,null,null,null,null,null,null,null,null,null,null,{"$f":"IF(OR(SUMPRODUCT(--(E99909=$O$1:$O$541))>0,E99909=0),0,1)","v":0}]
[null,null,null,null,0,null,null,null,null,null,null,null,0,null,null,null,null,null,null,null,null,null,null,null,null,null,{"$f":"IF(OR(SUMPRODUCT(--(E99910=$O$1:$O$541))>0,E99910=0),0,1)","v":0}]
[null,null,null,null,0,null,null,null,null,null,null,null,0,null,null,null,null,null,null,null,null,null,null,null,null,null,{"$f":"IF(OR(SUMPRODUCT(--(E99911=$O$1:$O$541))>0,E99911=0),0,1)","v":0}]
[null,null,null,null,0,null,null,null,null,null,null,null,0,null,null,null,null,null,null,null,null,null,null,null,null,null,{"$f":"IF(OR(SUMPRODUCT(--(E99912=$O$1:$O$541))>0,E99912=0),0,1)","v":0}]
[null,null,null,null,0,null,null,null,null,null,null,null,0,null,null,null,null,null,null,null,null,null,null,null,null,null,{"$f":"IF(OR(SUMPRODUCT(--(E99913=$O$1:$O$541))>0,E99913=0),0,1)","v":0}]
[null,null,null,null,0,null,null,null,null,null,null,null,0,null,null,null,null,null,null,null,null,null,null,null,null,null,{"$f":"IF(OR(SUMPRODUCT(--(E99914=$O$1:$O$541))>0,E99914=0),0,1)","v":0}]
[null,null,null,null,0,null,null,null,null,null,null,null,0,null,null,null,null,null,null,null,null,null,null,null,null,null,{"$f":"IF(OR(SUMPRODUCT(--(E99915=$O$1:$O$541))>0,E99915=0),0,1)","v":0}]
[null,null,null,null,0,null,null,null,null,null,null,null,0,null,null,null,null,null,null,null,null,null,null,null,null,null,{"$f":"IF(OR(SUMPRODUCT(--(E99916=$O$1:$O$541))>0,E99916=0),0,1)","v":0}]
[null,null,null,null,0,null,null,null,null,null,null,null,0,null,null,null,null,null,null,null,null,null,null,null,null,null,{"$f":"IF(OR(SUMPRODUCT(--(E99917=$O$1:$O$541))>0,E99917=0),0,1)","v":0}]
[null,null,null,null,0,null,null,null,null,null,null,null,0,null,null,null,null,null,null,null,null,null,null,null,null,null,{"$f":"IF(OR(SUMPRODUCT(--(E99918=$O$1:$O$541))>0,E99918=0),0,1)","v":0}]
[null,null,null,null,0,null,null,null,null,null,null,null,0,null,null,null,null,null,null,null,null,null,null,null,null,null,{"$f":"IF(OR(SUMPRODUCT(--(E99919=$O$1:$O$541))>0,E99919=0),0,1)","v":0}]
[null,null,null,null,0,null,null,null,null,null,null,null,0,null,null,null,null,null,null,null,null,null,null,null,null,null,{"$f":"IF(OR(SUMPRODUCT(--(E99920=$O$1:$O$541))>0,E99920=0),0,1)","v":0}]
[null,null,null,null,0,null,null,null,null,null,null,null,0,null,null,null,null,null,null,null,null,null,null,null,null,null,{"$f":"IF(OR(SUMPRODUCT(--(E99921=$O$1:$O$541))>0,E99921=0),0,1)","v":0}]
[null,null,null,null,0,null,null,null,null,null,null,null,0,null,null,null,null,null,null,null,null,null,null,null,null,null,{"$f":"IF(OR(SUMPRODUCT(--(E99922=$O$1:$O$541))>0,E99922=0),0,1)","v":0}]
[null,null,null,null,0,null,null,null,null,null,null,null,0,null,null,null,null,null,null,null,null,null,null,null,null,null,{"$f":"IF(OR(SUMPRODUCT(--(E99923=$O$1:$O$541))>0,E99923=0),0,1)","v":0}]
[null,null,null,null,0,null,null,null,null,null,null,null,0,null,null,null,null,null,null,null,null,null,null,null,null,null,{"$f":"IF(OR(SUMPRODUCT(--(E99924=$O$1:$O$541))>0,E99924=0),0,1)","v":0}]
[null,null,null,null,0,null,null,null,null,null,null,null,0,null,null,null,null,null,null,null,null,null,null,null,null,null,{"$f":"IF(OR(SUMPRODUCT(--(E99925=$O$1:$O$541))>0,E99925=0),0,1)","v":0}]
[null,null,null,null,0,null,null,null,null,null,null,null,0,null,null,null,null,null,null,null,null,null,null,null,null,null,{"$f":"IF(OR(SUMPRODUCT(--(E99926=$O$1:$O$541))>0,E99926=0),0,1)","v":0}]
[null,null,null,null,0,null,null,null,null,null,null,null,0,null,null,null,null,null,null,null,null,null,null,null,null,null,{"$f":"IF(OR(SUMPRODUCT(--(E99927=$O$1:$O$541))>0,E99927=0),0,1)","v":0}]
[null,null,null,null,0,null,null,null,null,null,null,null,0,null,null,null,null,null,null,null,null,null,null,null,null,null,{"$f":"IF(OR(SUMPRODUCT(--(E99928=$O$1:$O$541))>0,E99928=0),0,1)","v":0}]
[null,null,null,null,0,null,null,null,null,null,null,null,0,null,null,null,null,null,null,null,null,null,null,null,null,null,{"$f":"IF(OR(SUMPRODUCT(--(E99929=$O$1:$O$541))>0,E99929=0),0,1)","v":0}]
[null,null,null,null,0,null,null,null,null,null,null,null,0,null,null,null,null,null,null,null,null,null,null,null,null,null,{"$f":"IF(OR(SUMPRODUCT(--(E99930=$O$1:$O$541))>0,E99930=0),0,1)","v":0}]
[null,null,null,null,0,null,null,null,null,null,null,null,0,null,null,null,null,null,null,null,null,null,null,null,null,null,{"$f":"IF(OR(SUMPRODUCT(--(E99931=$O$1:$O$541))>0,E99931=0),0,1)","v":0}]
[null,null,null,null,0,null,null,null,null,null,null,null,0,null,null,null,null,null,null,null,null,null,null,null,null,null,{"$f":"IF(OR(SUMPRODUCT(--(E99932=$O$1:$O$541))>0,E99932=0),0,1)","v":0}]
[null,null,null,null,0,null,null,null,null,null,null,null,0,null,null,null,null,null,null,null,null,null,null,null,null,null,{"$f":"IF(OR(SUMPRODUCT(--(E99933=$O$1:$O$541))>0,E99933=0),0,1)","v":0}]
[null,null,null,null,0,null,null,null,null,null,null,null,0,null,null,null,null,null,null,null,null,null,null,null,null,null,{"$f":"IF(OR(SUMPRODUCT(--(E99934=$O$1:$O$541))>0,E99934=0),0,1)","v":0}]
[null,null,null,null,0,null,null,null,null,null,null,null,0,null,null,null,null,null,null,null,null,null,null,null,null,null,{"$f":"IF(OR(SUMPRODUCT(--(E99935=$O$1:$O$541))>0,E99935=0),0,1)","v":0}]
[null,null,null,null,0,null,null,null,null,null,null,null,0,null,null,null,null,null,null,null,null,null,null,null,null,null,{"$f":"IF(OR(SUMPRODUCT(--(E99936=$O$1:$O$541))>0,E99936=0),0,1)","v":0}]
[null,null,null,null,0,null,null,null,null,null,null,null,0,null,null,null,null,null,null,null,null,null,null,null,null,null,{"$f":"IF(OR(SUMPRODUCT(--(E99937=$O$1:$O$541))>0,E99937=0),0,1)","v":0}]
[null,null,null,null,0,null,null,null,null,null,null,null,0,null,null,null,null,null,null,null,null,null,null,null,null,null,{"$f":"IF(OR(SUMPRODUCT(--(E99938=$O$1:$O$541))>0,E99938=0),0,1)","v":0}]
[null,null,null,null,0,null,null,null,null,null,null,null,0,null,null,null,null,null,null,null,null,null,null,null,null,null,{"$f":"IF(OR(SUMPRODUCT(--(E99939=$O$1:$O$541))>0,E99939=0),0,1)","v":0}]
[null,null,null,null,0,null,null,null,null,null,null,null,0,null,null,null,null,null,null,null,null,null,null,null,null,null,{"$f":"IF(OR(SUMPRODUCT(--(E99940=$O$1:$O$541))>0,E99940=0),0,1)","v":0}]
[null,null,null,null,0,null,null,null,null,null,null,null,0,null,null,null,null,null,null,null,null,null,null,null,null,null,{"$f":"IF(OR(SUMPRODUCT(--(E99941=$O$1:$O$541))>0,E99941=0),0,1)","v":0}]
[null,null,null,null,0,null,null,null,null,null,null,null,0,null,null,null,null,null,null,null,null,null,null,null,null,null,{"$f":"IF(OR(SUMPRODUCT(--(E99942=$O$1:$O$541))>0,E99942=0),0,1)","v":0}]
[null,null,null,null,0,null,null,null,null,null,null,null,0,null,null,null,null,null,null,null,null,null,null,null,null,null,{"$f":"IF(OR(SUMPRODUCT(--(E99943=$O$1:$O$541))>0,E99943=0),0,1)","v":0}]
[null,null,null,null,0,null,null,null,null,null,null,null,0,null,null,null,null,null,null,null,null,null,null,null,null,null,{"$f":"IF(OR(SUMPRODUCT(--(E99944=$O$1:$O$541))>0,E99944=0),0,1)","v":0}]
[null,null,null,null,{"$f":"IF(AND(F99945<>\"\",F99945=G99945),\"ERROR\",IF(AND(F99945<>\"\",F99945<>G99945),F99945,G99945))","v":0},null,null,null,null,null,null,null,{"$f":"IF(L99945<>\"\",L99945,K99945)","v":0},null,null,null,null,null,null,null,null,null,null,null,null,null,{"$f":"IF(OR(SUMPRODUCT(--(E99945=$O$1:$O$541))>0,E99945=0),0,1)","v":0}]
[null,null,null,null,0,null,null,null,null,null,null,null,0,null,null,null,null,null,null,null,null,null,null,null,null,null,{"$f":"IF(OR(SUMPRODUCT(--(E99946=$O$1:$O$541))>0,E99946=0),0,1)","v":0}]
[null,null,null,null,0,null,null,null,null,null,null,null,0,null,null,null,null,null,null,null,null,null,null,null,null,null,{"$f":"IF(OR(SUMPRODUCT(--(E99947=$O$1:$O$541))>0,E99947=0),0,1)","v":0}]
[null,null,null,null,0,null,null,null,null,null,null,null,0,null,null,null,null,null,null,null,null,null,null,null,null,null,{"$f":"IF(OR(SUMPRODUCT(--(E99948=$O$1:$O$541))>0,E99948=0),0,1)","v":0}]
[null,null,null,null,0,null,null,null,null,null,null,null,0,null,null,null,null,null,null,null,null,null,null,null,null,null,{"$f":"IF(OR(SUMPRODUCT(--(E99949=$O$1:$O$541))>0,E99949=0),0,1)","v":0}]
[null,null,null,null,0,null,null,null,null,null,null,null,0,null,null,null,null,null,null,null,null,null,null,null,null,null,{"$f":"IF(OR(SUMPRODUCT(--(E99950=$O$1:$O$541))>0,E99950=0),0,1)","v":0}]
[null,null,null,null,0,null,null,null,null,null,null,null,0,null,null,null,null,null,null,null,null,null,null,null,null,null,{"$f":"IF(OR(SUMPRODUCT(--(E99951=$O$1:$O$541))>0,E99951=0),0,1)","v":0}]
[null,null,null,null,0,null,null,null,null,null,null,null,0,null,null,null,null,null,null,null,null,null,null,null,null,null,{"$f":"IF(OR(SUMPRODUCT(--(E99952=$O$1:$O$541))>0,E99952=0),0,1)","v":0}]
[null,null,null,null,0,null,null,null,null,null,null,null,0,null,null,null,null,null,null,null,null,null,null,null,null,null,{"$f":"IF(OR(SUMPRODUCT(--(E99953=$O$1:$O$541))>0,E99953=0),0,1)","v":0}]
[null,null,null,null,0,null,null,null,null,null,null,null,0,null,null,null,null,null,null,null,null,null,null,null,null,null,{"$f":"IF(OR(SUMPRODUCT(--(E99954=$O$1:$O$541))>0,E99954=0),0,1)","v":0}]
[null,null,null,null,0,null,null,null,null,null,null,null,0,null,null,null,null,null,null,null,null,null,null,null,null,null,{"$f":"IF(OR(SUMPRODUCT(--(E99955=$O$1:$O$541))>0,E99955=0),0,1)","v":0}]
[null,null,null,null,0,null,null,null,null,null,null,null,0,null,null,null,null,null,null,null,null,null,null,null,null,null,{"$f":"IF(OR(SUMPRODUCT(--(E99956=$O$1:$O$541))>0,E99956=0),0,1)","v":0}]
[null,null,null,null,0,null,null,null,null,null,null,null,0,null,null,null,null,null,null,null,null,null,null,null,null,null,{"$f":"IF(OR(SUMPRODUCT(--(E99957=$O$1:$O$541))>0,E99957=0),0,1)","v":0}]
[null,null,null,null,0,null,null,null,null,null,null,null,0,null,null,null,null,null,null,null,null,null,null,null,null,null,{"$f":"IF(OR(SUMPRODUCT(--(E99958=$O$1:$O$541))>0,E99958=0),0,1)","v":0}]
[null,null,null,null,0,null,null,null,null,null,null,null,0,null,null,null,null,null,null,null,null,null,null,null,null,null,{"$f":"IF(OR(SUMPRODUCT(--(E99959=$O$1:$O$541))>0,E99959=0),0,1)","v":0}]
[null,null,null,null,0,null,null,null,null,null,null,null,0,null,null,null,null,null,null,null,null,null,null,null,null,null,{"$f":"IF(OR(SUMPRODUCT(--(E99960=$O$1:$O$541))>0,E99960=0),0,1)","v":0}]
[null,null,null,null,0,null,null,null,null,null,null,null,0,null,null,null,null,null,null,null,null,null,null,null,null,null,{"$f":"IF(OR(SUMPRODUCT(--(E99961=$O$1:$O$541))>0,E99961=0),0,1)","v":0}]
[null,null,null,null,0,null,null,null,null,null,null,null,0,null,null,null,null,null,null,null,null,null,null,null,null,null,{"$f":"IF(OR(SUMPRODUCT(--(E99962=$O$1:$O$541))>0,E99962=0),0,1)","v":0}]
[null,null,null,null,0,null,null,null,null,null,null,null,0,null,null,null,null,null,null,null,null,null,null,null,null,null,{"$f":"IF(OR(SUMPRODUCT(--(E99963=$O$1:$O$541))>0,E99963=0),0,1)","v":0}]
[null,null,null,null,0,null,null,null,null,null,null,null,0,null,null,null,null,null,null,null,null,null,null,null,null,null,{"$f":"IF(OR(SUMPRODUCT(--(E99964=$O$1:$O$541))>0,E99964=0),0,1)","v":0}]
[null,null,null,null,0,null,null,null,null,null,null,null,0,null,null,null,null,null,null,null,null,null,null,null,null,null,{"$f":"IF(OR(SUMPRODUCT(--(E99965=$O$1:$O$541))>0,E99965=0),0,1)","v":0}]
[null,null,null,null,0,null,null,null,null,null,null,null,0,null,null,null,null,null,null,null,null,null,null,null,null,null,{"$f":"IF(OR(SUMPRODUCT(--(E99966=$O$1:$O$541))>0,E99966=0),0,1)","v":0}]
[null,null,null,null,0,null,null,null,null,null,null,null,0,null,null,null,null,null,null,null,null,null,null,null,null,null,{"$f":"IF(OR(SUMPRODUCT(--(E99967=$O$1:$O$541))>0,E99967=0),0,1)","v":0}]
[null,null,null,null,0,null,null,null,null,null,null,null,0,null,null,null,null,null,null,null,null,null,null,null,null,null,{"$f":"IF(OR(SUMPRODUCT(--(E99968=$O$1:$O$541))>0,E99968=0),0,1)","v":0}]
[null,null,null,null,0,null,null,null,null,null,null,null,0,null,null,null,null,null,null,null,null,null,null,null,null,null,{"$f":"IF(OR(SUMPRODUCT(--(E99969=$O$1:$O$541))>0,E99969=0),0,1)","v":0}]
[null,null,null,null,0,null,null,null,null,null,null,null,0,null,null,null,null,null,null,null,null,null,null,null,null,null,{"$f":"IF(OR(SUMPRODUCT(--(E99970=$O$1:$O$541))>0,E99970=0),0,1)","v":0}]
[null,null,null,null,0,null,null,null,null,null,null,null,0,null,null,null,null,null,null,null,null,null,null,null,null,null,{"$f":"IF(OR(SUMPRODUCT(--(E99971=$O$1:$O$541))>0,E99971=0),0,1)","v":0}]
[null,null,null,null,0,null,null,null,null,null,null,null,0,null,null,null,null,null,null,null,null,null,null,null,null,null,{"$f":"IF(OR(SUMPRODUCT(--(E99972=$O$1:$O$541))>0,E99972=0),0,1)","v":0}]
[null,null,null,null,0,null,null,null,null,null,null,null,0,null,null,null,null,null,null,null,null,null,null,null,null,null,{"$f":"IF(OR(SUMPRODUCT(--(E99973=$O$1:$O$541))>0,E99973=0),0,1)","v":0}]
[null,null,null,null,0,null,null,null,null,null,null,null,0,null,null,null,null,null,null,null,null,null,null,null,null,null,{"$f":"IF(OR(SUMPRODUCT(--(E99974=$O$1:$O$541))>0,E99974=0),0,1)","v":0}]
[null,null,null,null,0,null,null,null,null,null,null,null,0,null,null,null,null,null,null,null,null,null,null,null,null,null,{"$f":"IF(OR(SUMPRODUCT(--(E99975=$O$1:$O$541))>0,E99975=0),0,1)","v":0}]
[null,null,null,null,0,null,null,null,null,null,null,null,0,null,null,null,null,null,null,null,null,null,null,null,null,null,{"$f":"IF(OR(SUMPRODUCT(--(E99976=$O$1:$O$541))>0,E99976=0),0,1)","v":0}]
[null,null,null,null,0,null,null,null,null,null,null,null,0,null,null,null,null,null,null,null,null,null,null,null,null,null,{"$f":"IF(OR(SUMPRODUCT(--(E99977=$O$1:$O$541))>0,E99977=0),0,1)","v":0}]
[null,null,null,null,0,null,null,null,null,null,null,null,0,null,null,null,null,null,null,null,null,null,null,null,null,null,{"$f":"IF(OR(SUMPRODUCT(--(E99978=$O$1:$O$541))>0,E99978=0),0,1)","v":0}]
[null,null,null,null,0,null,null,null,null,null,null,null,0,null,null,null,null,null,null,null,null,null,null,null,null,null,{"$f":"IF(OR(SUMPRODUCT(--(E99979=$O$1:$O$541))>0,E99979=0),0,1)","v":0}]
[null,null,null,null,0,null,null,null,null,null,null,null,0,null,null,null,null,null,null,null,null,null,null,null,null,null,{"$f":"IF(OR(SUMPRODUCT(--(E99980=$O$1:$O$541))>0,E99980=0),0,1)","v":0}]
[null,null,null,null,0,null,null,null,null,null,null,null,0,null,null,null,null,null,null,null,null,null,null,null,null,null,{"$f":"IF(OR(SUMPRODUCT(--(E99981=$O$1:$O$541))>0,E99981=0),0,1)","v":0}]
[null,null,null,null,0,null,null,null,null,null,null,null,0,null,null,null,null,null,null,null,null,null,null,null,null,null,{"$f":"IF(OR(SUMPRODUCT(--(E99982=$O$1:$O$541))>0,E99982=0),0,1)","v":0}]
[null,null,null,null,0,null,null,null,null,null,null,null,0,null,null,null,null,null,null,null,null,null,null,null,null,null,{"$f":"IF(OR(SUMPRODUCT(--(E99983=$O$1:$O$541))>0,E99983=0),0,1)","v":0}]
[null,null,null,null,0,null,null,null,null,null,null,null,0,null,null,null,null,null,null,null,null,null,null,null,null,null,{"$f":"IF(OR(SUMPRODUCT(--(E99984=$O$1:$O$541))>0,E99984=0),0,1)","v":0}]
[null,null,null,null,0,null,null,null,null,null,null,null,0,null,null,null,null,null,null,null,null,null,null,null,null,null,{"$f":"IF(OR(SUMPRODUCT(--(E99985=$O$1:$O$541))>0,E99985=0),0,1)","v":0}]
[null,null,null,null,0,null,null,null,null,null,null,null,0,null,null,null,null,null,null,null,null,null,null,null,null,null,{"$f":"IF(OR(SUMPRODUCT(--(E99986=$O$1:$O$541))>0,E99986=0),0,1)","v":0}]
[null,null,null,null,0,null,null,null,null,null,null,null,0,null,null,null,null,null,null,null,null,null,null,null,null,null,{"$f":"IF(OR(SUMPRODUCT(--(E99987=$O$1:$O$541))>0,E99987=0),0,1)","v":0}]
[null,null,null,null,0,null,null,null,null,null,null,null,0,null,null,null,null,null,null,null,null,null,null,null,null,null,{"$f":"IF(OR(SUMPRODUCT(--(E99988=$O$1:$O$541))>0,E99988=0),0,1)","v":0}]
[null,null,null,null,0,null,null,null,null,null,null,null,0,null,null,null,null,null,null,null,null,null,null,null,null,null,{"$f":"IF(OR(SUMPRODUCT(--(E99989=$O$1:$O$541))>0,E99989=0),0,1)","v":0}]
[null,null,null,null,0,null,null,null,null,null,null,null,0,null,null,null,null,null,null,null,null,null,null,null,null,null,{"$f":"IF(OR(SUMPRODUCT(--(E99990=$O$1:$O$541))>0,E99990=0),0,1)","v":0}]
[null,null,null,null,0,null,null,null,null,null,null,null,0,null,null,null,null,null,null,null,null,null,null,null,null,null,{"$f":"IF(OR(SUMPRODUCT(--(E99991=$O$1:$O$541))>0,E99991=0),0,1)","v":0}]
[null,null,null,null,0,null,null,null,null,null,null,null,0,null,null,null,null,null,null,null,null,null,null,null,null,null,{"$f":"IF(OR(SUMPRODUCT(--(E99992=$O$1:$O$541))>0,E99992=0),0,1)","v":0}]
[null,null,null,null,0,null,null,null,null,null,null,null,0,null,null,null,null,null,null,null,null,null,null,null,null,null,{"$f":"IF(OR(SUMPRODUCT(--(E99993=$O$1:$O$541))>0,E99993=0),0,1)","v":0}]
[null,null,null,null,0,null,null,null,null,null,null,null,0,null,null,null,null,null,null,null,null,null,null,null,null,null,{"$f":"IF(OR(SUMPRODUCT(--(E99994=$O$1:$O$541))>0,E99994=0),0,1)","v":0}]
[null,null,null,null,0,null,null,null,null,null,null,null,0,null,null,null,null,null,null,null,null,null,null,null,null,null,{"$f":"IF(OR(SUMPRODUCT(--(E99995=$O$1:$O$541))>0,E99995=0),0,1)","v":0}]
[null,null,null,null,0,null,null,null,null,null,null,null,0,null,null,null,null,null,null,null,null,null,null,null,null,null,{"$f":"IF(OR(SUMPRODUCT(--(E99996=$O$1:$O$541))>0,E99996=0),0,1)","v":0}]
[null,null,null,null,0,null,null,null,null,null,null,null,0,null,null,null,null,null,null,null,null,null,null,null,null,null,{"$f":"IF(OR(SUMPRODUCT(--(E99997=$O$1:$O$541))>0,E99997=0),0,1)","v":0}]
[null,null,null,null,0,null,null,null,null,null,null,null,0,null,null,null,null,null,null,null,null,null,null,null,null,null,{"$f":"IF(OR(SUMPRODUCT(--(E99998=$O$1:$O$541))>0,E99998=0),0,1)","v":0}]
[null,null,null,null,{"$f":"IF(AND(F99999<>\"\",F99999=G99999),\"ERROR\",IF(AND(F99999<>\"\",F99999<>G99999),F99999,G99999))","v":0},null,null,null,null,null,null,null,{"$f":"IF(L99999<>\"\",L99999,K99999)","v":0},null,null,null,null,null,null,null,null,null,null,null,null,null,{"$f":"IF(OR(SUMPRODUCT(--(E99999=$O$1:$O$541))>0,E99999=0),0,1)","v":0}]
[null,null,null,null,0,null,null,null,null,null,null,null,0,null,null,null,null,null,null,null,null,null,null,null,null,null,{"$f":"IF(OR(SUMPRODUCT(--(E100000=$O$1:$O$541))>0,E100000=0),0,1)","v":0}]
[null,null,null,null,{"$f":"IF(AND(F100001<>\"\",F100001=G100001),\"ERROR\",IF(AND(F100001<>\"\",F100001<>G100001),F100001,G100001))","v":0},null,null,null,null,null,null,null,{"$f":"IF(L100001<>\"\",L100001,K100001)","v":0},null,null,null,null,null,null,null,null,null,null,null,null,null,{"$f":"IF(OR(SUMPRODUCT(--(E100001=$O$1:$O$541))>0,E100001=0),0,1)","v":0}]

{"sheet":"Instructions","index":18,"n_rows":126,"n_cols":4,"rows_kept":126,"cut":false,"hidden":false,"merged":[[95,1,97,1],[95,0,97,0],[96,3,97,3],[1,0,1,1],[3,0,3,1],[5,0,5,1],[6,0,6,1],[2,0,2,1],[4,0,4,1],[88,1,89,1],[88,3,89,3],[25,7,25,8],[7,0,7,1],[8,0,8,1],[29,1,30,1],[29,0,30,0]]}
["Page","Reference","Instructions","Significant Change"]
["General – Instructions",null,"These instructions are provided to help school districts prepare the annual financial report (AFR). Within the forms, blue font indicates that an instruction is linked to that specific line. An instructions button has also been provided that links to any general instructions or to the first instruction for a page. To return to the related forms after reviewing the instructions, simply click on the form's tab at the bottom of the Excel screen or press the Alt and back arrow keys.\n\nDistricts should follow the General Instructions below prior to uploading records to the Accounting Data tab.\n\nInstructions for uploading accounting records are included in a separate document titled \"Data Uploading Instructions\". This file has also been included in the AFR packet. "]
["General – Reconciling",null,"All revenues, expenditures, and fund balances presented on the AFR must agree with the district’s final accounting records for the year ended June 30, 2024. Before completing the AFR, districts must reconcile their accounting records to the County School Superintendent's (CSS) records after the CSS has reconciled to the County Treasurer. (Districts in the accounting responsibility program must reconcile to the County Treasurer before completing the AFR.) Accrued revenues and expenditures at June 30, 2024, not recorded by the CSS should be identified as reconciling items on the reconciliation and must be included in the revenues and expenditures reported in the AFR."]
["General – Budget Amounts",null,"Budget amounts should be taken from the district’s most recently revised, adopted FY 2024 expenditure budget, which has been submitted to ADE.\n\nAll budget and actual amounts reported throughout the AFR should be rounded to the nearest dollar."]
["General – Beginning Fund Balances",null,"The beginning balance for each fund at July 1, 2023, automatically pulls from the fund's ending balance reported on the AFR for FY 2023. If an ending fund balance was reported incorrectly on the FY 2023 AFR for any fund, districts should compute the beginning balance for such funds as follows:\n\nCash, prepaid, and inventory balances (object codes 0100, 0150, and 0160) at 6/30/23.\nPlus:  Accrued revenues as of 6/30/23, received during the 60-day period following 6/30/23.\nLess:  Payments made during the 60-day period following 6/30/23, for goods and services received on or before 6/30/23, but not paid for by that date.\n\nThis calculated amount should be entered for the appropriate fund in the Calculated CY Beginning Fund Balance column (Column Q) on the Accounting Data tab. Lines that report amounts for multiple funds should enter a single amount for the calculated beginning fund balance for all funds reported on that line. For example, line 1 on page 5 reports amounts for Funds 100-139. The total calculated beginning fund balance for funds 100-139 should be entered on the line for Fund 100 on the Accounting Data tab. Similarly, districts reporting amounts on line 33 on page 6 would enter the total calculated beginning fund balance for all funds on the \"Other\" line on the Accounting Data tab.\n\nDistricts should maintain documentation for the calculation of any amounts entered in the Calculated CY Beginning Fund Balance column. "]
["General – Reporting Sub-funds",null,"Any district using funds for internal management purposes that are not included in the USFR Chart of Accounts should combine revenues and expenditures from those funds into the appropriate bold-level fund for proper reporting on the AFR. For example, if the District uses a sub-fund such as 611 to account for its capital override, that sub-fund's activity should be included in the amounts reported for Fund 610—Unrestricted Capital Outlay.\n\nAfter the district's accounting records have been uploaded to the Accounting Data tab, all sub-funds and non-bolded fund codes (if any) will be identified by red shading in the Final Fund column. Districts must identify the appropriate bolded fund number for reporting purposes for each  sub-fund and non-bolded fund prior to submitting the AFR files to ADE and the district's CSS. All bold fund numbers are listed on column O on the Accounting Data tab."]
["General – Revenues",null,"Revenues must include cash receipts through June 30, 2024, and accrued revenues received during the 60-day encumbrance period following fiscal year-end. Examples of accrued revenues are:\n\n1) Federal reimbursements received for meals served in FY 2024.\n2) Property taxes collected for levies of prior fiscal years.\n3) Tuition received for students attending the district during FY 2024.\n4) FY 2024 CSF revenues received.\n5) FY 2024 state aid apportionment rollover payments made in the beginning of July 2024\n(FY 2025), pursuant to Laws 2023, Ch. 133, §122.\n\nIn addition, revenues must include any cash receipts of FY 2024 that relate to a prior fiscal year but were not received in the prior year's encumbrance period; such as, FY 2023 Statewide recalculation adjustments made in September 2024, as described in School Finance Memorandum 24-017.\n"]
["General – Expenditures",null,"Expenditures must include cash disbursements through June 30, 2024, and payments made after fiscal year-end, but prior to August 30, 2024, for goods and services received on or before June 30, 2024."]
["General – Coding Errors",null,"Corrections identified on the Coding Errors page are required when they meet or exceed 10% of the related reporting. Miscodings that exceed this threshold are highlighted in pink. Transactions coded to unallowable fund/object combination are highlighted in purple. Districts should make journal entries in their accounting records for these corrections. After correcting their accounting records, districts should upload the corrected records to the Accounting Data tab as described in the Data Uploading Instructions document.\n\nDistricts are encouraged to address all related corrections in future coding, other than issues related to rounding error (i.e., amounts generally less than $10)."]
["Cover","Name, County, CTDS Number","The district name, county, and CTDS number should be entered on the cover page of the AFR. The CTDS number should not contain any slashes, dashes, etc., and must be exactly nine digits. Zeros should be entered to fill the School portion of the number on the cover page. This information will be automatically transferred to other sheets in the file."]
["Cover","Alert","An Alert will appear on the Cover of the AFR when commonly missed areas of the AFR are not completed. The Alert will disappear as the related areas of the AFR are completed. Districts should complete all areas of the AFR that apply to their district operations, whether or not an item is listed in the Alert. This Alert does not replace the need for a separate district employee to review the AFR for accuracy and completeness."]
[1,"Footnotes 1 and 3","The beginning and ending fund balances for the M&O Fund should include the amount of the M&O Fund revolving account cash balance at July 1, 2023, and June 30, 2024, respectively. The revolving account balances should also be recorded in the spaces provided in footnotes (1) and (3). "]
[1,"Footnote 4","Debt Service Fund expenditures reported on line 43 should include principal, interest, and related debt costs paid from the Debt Service Fund. Report the portion of Debt Service Fund total actual expenditures that were for interest costs in footnote (4)."]
[1,"Line 16","Districts receiving transportation fees from other government sources within Arizona should report those revenues on this line. Districts should have increased their M&O budget capacity for these amounts on page 7, line 8i of the expenditure budget."]
[1,"Lines 5-17\nGeneral Tuition Guidance","Districts charging tuition for full-day kindergarten or preschool programs should not record such revenues in the M&O or UCO funds. These tuition revenues should be recorded in the Community School Fund (520) on page 6 of the AFR."]
[1,"Line 25","Include revenues received from the State that can be used for any legal purpose without restriction, such as the district's portion of the FY 2024 $75,000,000 from 2016 Prop 123 additional funding. \n\nDo not include state equalization or additional state aid amounts as they are reported on lines 26 and 27. "]
[1,"Lines 26 and 27","The amounts reported on these lines should be compared to the total state equalization assistance and total additional state aid amounts through payment 13 as shown on the district's most recent BSA 64 report. Reconciling these amounts to the BSA report will help districts ensure that all appropriate revenues are included in the correct FY's accounting records."]
[1,"Line 31","Do not include Federal Impact Aid revenues received on this line. These revenues should be reported in Fund 378 on page 5. See line 42 for instructions for reporting transfers from the Impact Aid Fund."]
[1,"Line 42","This line should include Impact Aid monies transferred to the M&O or UCO Funds. Impact Aid revenues should be recorded in the Impact Aid Fund, but may be transferred to the M&O or UCO Funds to provide cash for the difference between the Transportation Revenue Control Limit and Transportation Support Level or to reduce or eliminate the amount levied as property taxes."]
[1,"Line 45","Total expenditures for the M&O and UCO Funds are pulled from page 2, line 32 and page 4, line 10, respectively. \n"]
[3,"General","Expenditures coded to the Classroom Site Fund (CSF) (010) that would have caused the district to exceed the CSF Budget Limit should be reclassified to the M&O or other appropriate fund before the AFR is completed."]
[3,"Line 7 ","Report expenditures for teacher liability insurance premiums made from Fund 010. "]
[3,"Line 9 ","Report allowable CSF amounts for Function 3300—Community Service Operations on these lines. For example, if a district included a community school program, such as preschool for children without disabilities, as a CSF-eligible program related to its educational mission, expenditures for certified teacher salaries and related expenses allowable under CSF would be reported here.\n"]
[4,"UCO Override\nLine 1","Enter the actual expenditure amounts from any Unrestricted Capital Outlay Override authorized by A.R.S. §15-481. Amounts included on line 1 must also be included on lines 2-9, as appropriate. If the district records its Unrestricted Capital Outlay Override expenditures in a fund other than Fund 610, the district should enter 610 in the Rollup Fund column on the Accounting Data tab for that fund. "]
[4,"UCO Fund Expenditures \nLines 2-9","All expenditures from the UCO Fund including Joint Career and Technical Education and Vocational Education Center, as reported on page 2, and Desegregation, as reported on the Desegregation Supplement-Districtwide, page 3, are included on these lines."]
[4,"Other Funds—Required Capital Expenditure Detail  for Funds 610, 630, 695, & 620\n","In accordance with A.R.S. §15-904(B), detailed budgeted and actual expenditures for only the items listed in lines 2-12 must be reported from the UCO (610), Bond Building (630), New School Facilities (695), and Adjacent Ways (620) funds. The amounts reported on lines 2-12 may not include all expenditures of these funds as shown on line 1. Total expenditures for the UCO Fund are reported in the UCO Fund Expenditures table at the top of page 4. Total expenditures for the UCO, Bond Building, and Adjacent Ways funds are reported on page 1, line 43. Total expenditures in the New School Facilities Fund are reported on page 6, line 30. \n\nIn addition, the detailed expenditures reported in lines 2-12 must be separately entered as new construction or renovation on lines 14-16. If the designation of new construction or renovation does not apply to a particular expenditure reported on lines 2-12, the amount should be entered as \"Other.\"  Therefore, the total budgeted and actual expenditures for each fund reported on line 13 must agree to the total amounts reported on line 17, by fund."]
[4,"New construction cost per square foot","Enter the cost per square foot for new construction projects in progress or completed during the fiscal year for Funds 610, 630, 695, and 620. For projects still in progress at year-end, districts should calculate the cost per square foot by dividing the anticipated total cost of all projects upon completion by the anticipated total square footage of all projects upon completion. For projects that were completed during the fiscal year, districts should calculate the cost per square foot by dividing the total actual cost of all projects upon completion by the total actual square footage of all projects."]
[4,"Capital Assets, Lines 1-3","Enter the total costs (before depreciation), by asset classification, for all assets recorded on the capital assets list as of June 30, 2024. Assets with costs below $5,000 should not be included on the capital assets list or in amounts reported here unless the district’s governing board has established a capitalization threshold of less than $5,000. Do not include stewardship list items in these amounts."]
[4,"Capital Assets,\nLine 4","Enter the total cost of construction in progress as of June 30, 2024. This amount will not appear on the capital assets list as of June 30, 2024, as these amounts are not recorded on the list until the project(s) is completed."]
[5,"Federal Projects, Lines 1-20 and 22","Formulas will pull amounts on these lines for all funds indicated for each line, up to the first fund indicated on the line below it. For example, line 1 will pull data from funds 100 through 139 for ESEA Title I—Helping Disadvantaged Children, line 2 will pull data from funds 140 though 159 for ESEA Title II—Professional Development and Technology, and line 3 will pull data from funds 160 through 169 for ESEA Title IV—ESEA Title IV—21st Century Schools, and so on.\n\nDistricts using funds for internal management purposes numbered from 100 through 299 that are not related to the specific areas indicated on each line should identify the correct fund in the Rollup Fund column on the Accounting Data tab to ensure proper reporting on the AFR. If the fund does not relate to any of the areas identified on lines 1 through 18 and 20, it should be included on line 19 with Other Federal Projects. In this case, districts should enter a rollup fund in the 300 through 399 range (other than Funds 349, 353, 374 and 378).\n\n","Updated column K with a drop-down fund type list, to allow districts to identify the appropriate fund type for all funds listed in column A.\n(See instructions for the fund type designations in the Summary tab instructions, cell C105, below.)"]
[null,null,"All Federal COVID-19 relief grants recorded in the 300 through 399 fund range should be included on lines 19 and 22. Funds 227—ARP-IDEA Preschool and 228—ARP IDEA Basic should be included on lines 8 and 22.\n\nCOVID fund rollup instructions:\n1. On the accounting data tab column G, select all Federal COVID-19 relief grants recorded in the 300 through 399 fund range including those with assigned fund numbers (Fund 336—ESSER II and Fund 346—ESSER III). In column F, select “COVID” from the bottom of the dropdown menu as the designated rollup fund.\n\n2. DO NOT select any rollup fund for Funds 227—ARP-IDEA Preschool and 228—ARP-IDEA Basic.\n\nFor further assistance with this item please contact the Auditor General's Accountability Services Division at (602) 977-2796."]
[5,"Net Other Financing Sources and Uses Including Transfers","Amounts received from other financing sources and transfers-in (object codes in the 5000 range) are separately reported from amounts for other financing uses and transfers-out (object codes in the 6900 range) in the respective columns to the right of page 5. All amounts in both columns are shown as positive numbers. Amounts pulled into these columns will also pull into Net Other Financing Sources and Uses Including Transfers in column G.\n\nIf total other financing uses and transfers-out are greater than total other financing sources and transfers-in, the net amount will display as a negative number in column G.\n\nIn accordance with the USFR Chart of Accounts, transfers of monies between funds should be made only when specifically authorized by statute or allowed by a federal grant. Currently, there are no allowable transfers to or from any state projects."]
[5,"State Projects, Lines 23-32 ","Any district using funds for internal management purposes that are not included in the USFR Chart of Accounts should combine revenues and expenditures from those funds into the appropriate bold-level fund for proper reporting on the AFR. Districts should identify the appropriate bold-level fund in the Rollup Fund column on the Accounting Data tab. For example, if the district uses a sub-fund such as 401 to account for a portion of its vocational education monies, that sub-fund's activity should be included in the amounts reported on line 20, Fund 400—Vocational Education. In this case, the district should select Fund 400 as the Rollup Fund for all amounts coded to fund 401 on the Accounting Data tab.\n\nFor state projects, amounts will pull into each line for only the fund number indicated on that line. For example, line 23 will pull only amounts for Fund 400—Vocational Education, line 24 will only pull amounts for Fund 410—Early Childhood Block Grant, and so on. If the fund does not relate to any of the areas identified on lines 23 through 32, it should be included on line 33 with Other State Projects. In this case, districts should enter a rollup fund in the 465 through 499 range."]
[6,"Net Other Financing Sources and Uses Including Transfers","Amounts received from other financing sources and transfers-in (object codes in the 5000 range) are separately reported from amounts for other financing uses and transfers-out (object codes in the 6900 range) in the respective columns to the right of page 6. All amounts in both columns are shown as positive numbers. Amounts entered in these columns will also pull into Net Other Financing Sources and Uses Including Transfers in column F.\n\nIf total other financing uses and transfers-out are greater than total other financing sources and transfers-in, the net amount will display as a negative number in column F. "]
[6,"Other\nFunds—School Plant\nLine 5\n","Actual expenditures made in the School Plant Fund (500) in accordance with A.R.S. §15-1102. Districts that established sub-funds for School Plant in funds 501-504, to account for monies received that were restricted for different purposes by statute, should enter 500 in the Rollup Fund column on the Accounting Data tab for these funds."]
[6,"Other Funds—Indirect Costs\nLine 17","Indirect Costs Fund revenues should only consist of interest earned on any existing balance in the fund. Interest earned on monies in federal funds that is not required to be reverted should be reported in the respective federal fund on page 5. If a district chooses to transfer interest to the Indirect Costs Fund, it should be coded as a Transfer-in (object 5200)."]
[6,"Other Funds— New School Facilities\nLine 31","Actual expenditures for the New School Facilities (695) Fund includes all expenditures from this fund, which may exceed the detailed expenditures reported on page 4."]
[6,"Other Funds—\nLines 33,34, and 36-39","Districts must manually enter budgeted expenditures for the following funds: 750—Permanent Funds, Trust and Custodial—800-849, Employee Insurance Program Withholding—855, State and Income Tax Withholding—865 and Enterprise Funds—900-949, and any funds identified as \"Other\" in the Rollup Fund column on the Accounting Data tab. "]
[6,"Other\nLine 39","Districts with any funds in their accounting records that are not properly included elsewhere in the AFR, (e.g., Fund 080—Student Success and 457—Results-based funding), should enter the word “other” (without quotation marks) in the Rollup Fund column of the Accounting Data tab to have the amounts for those funds also included on this line.","Laws 2023, Chapter 142, §2 repealed A.R.S. §15-249.08, which had established Fund 457—Results-based funding and required separate reporting of the Fund's activities in the AFR. "]
[6,"Internal Service Funds 950-989, Lines 1 through 4","Districts must manually enter amounts for beginning fund balance, revenues, actual expenditures, other financing sources including transfers-in, and other financing uses including transfers-out for these lines."]
[6,"Internal Service Funds—IGAs\nLine 2","If fund numbers other than 955 are used for Intergovernmental Agreements, include activity from all intergovernmental agreement funds on this line. "]
[6,"Instructional Improvement\nFund 020\nDetailed Expenditures","Districts must manually enter detailed actual expenditure amounts for teacher compensation increases, class size reduction, dropout prevention programs, and/or instructional improvement programs in accordance with A.R.S. §15-979. \n\nAny district that did not have Instructional Improvement Fund expenditures during the fiscal year must indicate this by selecting the checkbox below the Instructional Improvement table."]
[6,"Arizona Industry Credentials Incentive Fund 597 Detailed Expenditures ","Districts must manually enter the detailed actual expenditure amounts for the following costs in accordance with A.R.S. §15-249.15:\n1. Instructional costs and professional development for a career technical education program teacher to become a certifying professional for an approved certificate, credential, or license.\n2. To offset the students' cost of certification, credentialing, or licensure.\n3. Developmental costs related to creating, expanding or improving an approved site of a certificate, credential, or license career technical education program or course.\n4. Instructional hardware, software, or supplies required for the certification, credentialing, or licensure.\n5. Career exploration in any school grade and awareness activities for parents, students, and the community for the approved sectors."]
[7,"General","Page 7 includes several sections that are independent from one another and serve separate purposes. Be sure to read any instructions available for each individual section, as some expenditures may be reported in more than one section.\n\n"]
[7,"Section A—Bonds and Short-term Debt","This information is included in the AFR to assist with Form 33 reporting to the National Center for Education Statistics. For more information on Form 33, please refer to the Page 9 General instructions below.\n\nBonds—Report beginning and ending balances for all general obligation bonds, revenue bonds, refunding bonds, and certificates of participation. Report all such debt issued during the fiscal year on line 2. Report all principal payments made on such debt during the fiscal year on line 3. Any amount reported on line 3 must be entered as a negative number (with a minus sign).\n\nShort-term Debt—Report beginning and ending balances for interest-bearing debt with a term of one year or less such as bank revolving lines of credit, tax anticipation notes, and other short-term debt. Districts with short-term debt activity during the fiscal year but no balances at the beginning or end of the fiscal year should report 0 on lines 5 and 6.\n\nDO NOT INCLUDE lease agreements, financed purchase agreements, compensated absences, accounts payable, and other noninterest bearing obligations in amounts reported in this section.\n\n"]
[7,"Section C— Liabilities in Excess of the Budget","If the actual expenditures incurred in excess of the budget were less than the amount approved by the county, include only the actual expenditures incurred in excess of the budget in this section, not the amount approved by the county."]
[7,"Section D— \nCurrent Expenditures by Category","A.R.S. §15-255  requires the Superintendent of Public Instruction’s Annual Report to include total current expenditures per pupil and separate per pupil amounts by type of district for (1) classroom instruction excluding classroom supplies, (2) classroom supplies, (3) district and school administration, (4) support services—students, and (5) all other support services and operations. ADE will calculate the “per pupil” amounts based on the total current expenditures reported on lines 1 through 5 in this section.\n\nThe Every Student Succeeds Act (ESSA) requires the reporting of current expenditures from federal funds. On line 7, districts should report the portion of total current expenditures calculated on line 6 that were made from federal funds, excluding those intended to replace local tax revenues (funds 100 through 399, excluding applicable impact aid fund monies).\n\nCurrent expenditures include expenditures from all funds for elementary and secondary education (e.g., M&O, CSF, Auxiliary Operations, Extracurricular Activities Tax Credit, most federal and state projects, etc., for PSD-12). Current expenditures do not include expenditures for tuition paid to other Arizona school districts, capital (land and improvements, buildings and improvements, furniture, equipment, technology, vehicles), Internal Service Fund operations, Community School Fund operations, debt retirement, student activities, and non-PSD-12 school programs appropriately recorded in Program Codes 700, 800, and 900 (e.g., adult/continuing education, community college education, community services, and day care centers)."]
[7,"Section E—Other long-term debt","On lines 1 and 2, report principal and interest expenditures for financed purchase and lease agreements and more than 12-month noninstructional software subscriptions. On lines 3 and 4, report principal and interest expenditures for more than 12- month instructional software subscriptions.\n\nAnswer yes or no on line 5 to indicate whether the district entered into any new financed purchase, lease, or more than 12-month software subscription agreements during the fiscal year."]
[7,"Section G—Rewards, Discounts, Incentives, and Other Financial Considerations Received from Credit Card Companies","A.R.S. §35-391 requires districts to report the amount of any reward, discount, incentive or other financial consideration received as a result of making payments to vendors with a credit card. For this requirement, credit card is defined as: \n\n(a)  Any instrument or device, whether known as a credit card, charge card, credit plate, courtesy card or identification card or by any other name, issued with or without a fee by an issuer for the use of the cardholder in obtaining money, goods, services or anything else of value, either on credit or in possession or in consideration of an undertaking or guaranty by the issuer of the payment of a check drawn by the cardholder, on a promise to pay in part or in full at a future time, whether or not all or any part of the indebtedness represented by this promise to make deferred payment is secured or unsecured.\n(b)  Any debit card, electronic benefit transfer card or other access instrument or device, other than a check that is signed by the holder or other authorized signatory on the deposit account, that draws monies from a deposit account in order to obtain money, goods, services or anything else of value.\n(c)  Any stored value card, smart card or other instrument or device that enables a person to obtain goods, services or anything else of value through the use of value stored on the instrument or device.\n(d)  The number assigned to an instrument or device described in subdivision (a), (b) or (c) of this paragraph even if the physical instrument or device is not used or presented."]
[7,"Section H—Cash and Investments held at fiscal year end","ADE will use this information to complete Form 33, issued by the National Center for Education Statistics (NCES). NCES's instructions for these amounts indicate that districts should report ending balance amounts of cash and investments (at market value) for the following funds:\n     Sinking funds – funds containing reserves held specifically for redemption of long-term\n     debt.\n     Bond funds – funds containing unexpended proceeds of bond issues that were being held\n     pending their disbursement.\n     Other funds – all other funds, exclude any employee retirement funds.\n\nInclude cash balances; cash on hand; certificates of deposit; federal securities; state and local government securities; mortgages; and corporate stocks, bonds, and notes. Exclude accounts receivable, value of real property, and all nonsecurity assets.\n\nFor more information on Form 33, please refer to the Page 9 General instruction below."]
[7,"Section I—Average Teacher Salary","Enter the average teacher salary of all teachers employed in FY 2024. Each district should be consistent in the type of salary information included in this table and in the budget form table from year to year. An optional comment box is available to provide any additional detail regarding the average teacher salary calculation.  "]
[7,"Section J—Certified Staff Salaries and FTE—Salaries\nLines 1-6","Report total salaries paid to certified staff from Funds 001-799 (excluding 575) for substitute teachers, classroom teachers (separated into different types of salary payment), and other certified staff. Do not report amounts for staff contracted/leased through a third party. See the instructions below for more detailed information on the amounts to report on each line.   \n\nAn error message will appear in cell O44 if the total amount entered on lines 1 through 6 for certified staff salaries does not agree to the total salaries coded to Objects 6100-6149 in Funds 001 through 799 (excluding 575)."]
[7,"Line 1","Amounts paid to short- or long-term substitutes (optional object codes-Substitute Teachers— 6105-6109). "]
[7,"Line 2","Amounts paid to classroom teachers for their primary teaching duties, including Classroom Site Fund base salary payments (optional object codes-Classroom Teacher Base Salaries— 6110-6114). "]
[7,"Line  2 (a)","Amounts paid to classroom teachers for their primary teaching duties, including Classroom Site Fund base salary payments, in their first 3 years of classroom instruction experience as defined by A.R.S. §15-941(E)."]
[7,"Line 2 (b)","Amounts paid to classroom teachers for their primary teaching duties, including Classroom Site Fund base salary payments, in their 4th year or later of classroom experience as defined by A.R.S. §15-941(E)."]
[7,"Line 3","Amounts paid to classroom teachers based on the teacher’s performance ratings or defined goal’s achievement, including Classroom Site Fund performance payments (optional object codes -Classroom Teacher Performance Pay—6115-6119)."]
[7,"Line 4","Amounts paid to classroom teachers, in addition to their base salary payments, that do not require the employee to perform additional duties (e.g., retention, hard-to-fill positions, class size, specific certification endorsements, and signing or other incentive stipends) (optional object codes- Classroom Teacher Payment Not Related to Additional Duties—6120-6129)."]
[7,"Line 5","Amounts paid to classroom teachers, in addition to their base salary payments, that require additional duties to be performed (e.g., department/chair lead, tutoring, summer school, advisors, coaches, and teaching additional periods or classes beyond base contract requirements, such as teaching a class in place of the normal teacher preparation period) (optional object codes-Classroom Teacher Payment Related to Additional Duties—6130-6139)."]
[7,"Line 6","Amounts paid to certified staff other than classroom teachers, such as administrators, counselors, and other certified staff. Functions can be used to differentiate between positions (optional object codes-Other Certified Staff—6140-6149)."]
[7,"Section 7—Certified Staff Salaries and FTE—FTE\nLines 2a-2b","Report classroom teacher full-time equivalent staff (FTE) at FY 2024 100th day for staff whose salaries are included in the 'Salaries' column. The FTE of a single staff member should not exceed 1.0 FTE. Certified staff that teach in community service (e.g., daycare or preschool for students without IEPs) or adult education programs should be included. Substitute teachers and retirees returning to work as leased staff through a third party should not be included."]
[8,"Section B— M&O Fund Special Education Programs by Type","Report all M&O Fund monies spent for special education (Programs 200 and 300) operational expenditures in the Actual column.  Documentation supporting the cost allocation method should be retained at the district and should include the reasoning behind the allocation, a list of the programs, the number of teachers and students by program, and all computation work sheets. \n\nDistricts should report actual total expenditures in Program 200ꟷSpecial Education for disability classifications defined in A.R.S. §15-761 on line 1, Total All Disability Classifications. The amounts entered on line 1 and line 10 are used by ADE in the calculation of maintenance of effort. State statute also includes the programs listed on lines 2-8 in the M&O Fund Special Education Subsection for budgetary purposes. The total expenditures for all of these programs on line 9 must agree to the total M&O Fund, Programs 200 and 300 expenditures reported on page 2, line 24.\n\n\n"]
[8,"Section D— Expenditures for Audit Services","Do not include the costs of non-audit services such as consulting and application fees paid for submission of district’s Comprehensive Annual Financial Report to ASBO and GFOA for certification or fees for preparation of the Meritorious Budget Award application to ASBO in the nonfederal or federal audit services actual expenditures in this section.\n\nOn Line D.1, enter the actual M&O Fund expenditures paid in FY 2024 related to nonfederal program and compliance audits. \n\nOn Line D.2, enter the total actual federal audit service expenditures paid in FY 2024 from all funds.  "]
[8,"Sections E—Performance Pay","Do not report expenditures for the Performance Pay Component of the Classroom Site Fund or the Instructional Improvement Fund on this line."]
[8,"Section F—Tuition","Districts should use this table to report expenditures for all tuition object codes, 6561 through 6569, based on paid tuition invoices.","Modified table to remove Type 03 tuition per Laws 2022, Ch. 285. "]
[9,"General","The information included on this page will be used by ADE to complete the National Public Education Financial Survey (NPEFS) and Form 33 issued by the National Center for Education Statistics. Data from NPEFS is used to calculate a state per pupil expenditure amount that is used in the formula for allocating a number of federal program funds to states and school districts, including: Title I, Impact Aid, and Indian Education. Other programs make use of state per pupil expenditure data indirectly because their allocation formulas are based, in whole, or in part, on state Title I allocations. The NPEFS and Form 33 data are also used by researchers and government policymakers to address important education policy and research issues."]
[9,"Additional Information for NPEFS Reporting","All expenditures from funds 001 through 799 (excluding 575) are reported in this section. The sum of total expenditures included on lines 13, 16, and 17 should be used as a check figure against the total expenditures for these funds in the districts' accounting records.\n\nExpenditures from Funds 800 and above are not reported in this table as they are fiduciary (trust and agency) or proprietary (enterprise and internal service) funds and are not reported in this level of detail in the NPEFS. "]
[9,"Programs 700-900\nExpenditure Detail","The total expenditures reported in this table for programs 700-900 should agree to the total expenditures reported in the \"Programs 700-900\" column in the table above."]
[9,"Property Detail for Function 4000","The total expenditures reported in this table should agree to function 4000 expenditures reported on line 16 for the \"Property\" column in the table above."]
[9,"Technology Detail","Do not include expenditures for nontechnology-related equipment such as machinery, vehicles, and furniture in this table.\n\n"]
[9,"Teacher Salaries \nLines 1-5","Report base salaries (including CSF Performance Pay), overtime, and additional compensation paid to certified teachers, certified substitute teachers, and retired and returned to work as contract/leased teachers from all funds for the specified programs. Do not include salaries paid to instructional aides or assistants or any noncertified teachers. If a teacher is paid from more than one program, allocate the salary based on the amount of time instructing in each program.\n\nAn error message will appear above the table if the total amount entered on lines 1 through 5 for certified teachers or certified substitutes does not agree to the total salaries coded to Functions 1000-1899 in Funds 001 through 799 (excluding 575), as displayed in Cell Q33.\n\nIf the district has used the optional object codes in the Chart of Accounts for teachers and substitute teachers, amounts for certified teachers should be recorded in object code 6112 and amounts for certified substitutes should be recorded in object code 6113."]
[9,"Other Items—\nTextbooks\nLine 6","Report expenditures for textbooks, periodicals, and other print medium used for classroom instruction. Do not include expenditures relating to on-line texts or tools."]
[9,"CTED Districts Only, Lines 1 through 3","To assist ADE in collecting accurate information for the NPEFS, CTED districts should report all amounts recorded in object codes 6591—Services Purchased from Other Arizona Districts, 6870—Pass-through Payments, and 6880—Sub-awards from all funds and all functions on these lines."]
[9,"Revenue from selected federal sources, Lines 1 through 4 ","To assist ADE in collecting accurate information for the NPEFS, districts should report revenues received from selected federal sources listed in lines 1 through 4:\n\n1. Student Support and Academic Enrichment Grants (subgrants from States only) (ESEA IV-A-1, section 4105)\n\nThe purpose of the Title IV-A Student Support and Academic Enrichment (SSAE) grant is to improve students’ academic achievement by increasing the capacity of States, local educational agencies, schools, and local communities to provide all students with access to a well-rounded education, improve school conditions for student learning, and improve the use of technology in order to improve the academic achievement and digital literacy of all students. \nAdditional information is available at the following link: \n\n\n\n\n\n\n\n\n"]
[null,null,"https://www.azed.gov/titleiv-a/"]
[null,null,"2. 21st Century Community Learning Centers (subgrants from States only—excludes awards under national activities) (ESEA IV-B)\n\n21st Century Community Learning Centers (21st CCLC) Title IV-B program is funded by a federal grant from the U.S. Department of Education and administered by the Arizona Department of Education. Additional information is available at the following link: "]
[null,null,"https://www.azed.gov/21stcclc/federal-and-state-regulations/"]
[null,null,"3. Rural education - Rural and Low-Income School program (RLIS) (ESEA V-B-2, section 5221)\n\nTitle V-B-2 is to provide for equity in cases where rural or low-income schools receive allocations insufficient for their needs and are at a competitive disadvantage for other grants. \nFor additional information on completing this line, please contact ADE using the email address below:  \n\n\n\n"]
[null,null,"RLISInbox@azed.gov"]
[null,null,"4. Rural education - Small, Rural School Achievement program (SRSA) (ESEA V-B-1, section 5211)\n\nThe Small, Rural School Grant Program (SRSA), CFDA no. 84.358A, authorizes the U.S. Secretary of Education to award formula grants directly to eligible LEAs (i.e., those LEAs eligible under the alternative uses of funds program) to carry out activities authorized under other specified Federal programs. \nAdditional information is available at the following link: \n\n"]
[null,null,"https://www.azed.gov/titlei/reap/"]
[null,null,"For support assistance for Federal and State Grants, please contact the Arizona Department of Education's Grants Management Team:"]
[null,null,"https://www.azed.gov/grants-management/contact/"]
[9,"Impact Aid Revenues","Districts that received Impact Aid revenues during the fiscal year that were intended to replace local tax revenues should enter that amount in this cell. Include only amounts used or transferred to M&O or UCO Fund to reduce or eliminate taxes levied, not all Impact Aid received. The amount will be deducted from the amount reported for salaries paid from federal funds in cell B25.\n\nDistricts that did not receive Impact Aid revenues that were intended to replace local tax revenues should enter a 0."]
[10,"Current Expenditures from COVID-19 federal relief funds, Line 11","Current expenditures from COVID-19 federal relief projects table populates with function and object data from the Accounting data tab. Generally, line 11 should not show negative amounts. Any negative amounts displayed on line 11 will be highlighted with yellow shading. Districts must ensure that the Accounting Data tab was completed according to the instructions in cell C31 above to identify the appropriate funds as \"COVID\" in the rollup fund column for the formulas that populate the table to work correctly. "]
[10,"Technology Detail","This table reports technology-related expenditures from COVID-19 federal relief funds.  Formulas will pull amounts from the Accounting Data tab for total technology spending and classroom technology (functions 1000, 2100, and 2200) spending on lines 1 through 10, as applicable. Lines 8 and 9 must be completed manually (see the instruction below)."]
[10,"Technology Detail,                   line 8","Enter the total amount for instructional software coded to objects 6641—Library Books, 6642—Textbooks, and 6643—Instructional Aids. These purchases should be coded to functions 1000 or 2200; therefore, the amount entered in the total spending column will pull to the classroom spending column on this line. "]
[10,"Technology Detail,                   line 9","Enter the total principal and interest expenditures for more than 12-month noninstructional software subscriptions coded to object codes 6832 and 6842, respectively. Do not include amounts paid for leases and financed purchases of nontechnology-related equipment."]
[10,"COVID-19 federal relief funds","Districts must manually enter total award and spending information for the various COVID-19 grants listed in lines 1 through 6 of this table. Districts can refer to the Auditor General's COVID-19 Spending Special Report Followup, Dashboard B, for previously reported grant award and prior year spending information, when completing this table. Detailed instructions regarding the amounts that should be included in each row and column are included below."]
[null,null,"https://www.azauditor.gov/District_charter_ADE_COVID-19_spending_special_report_FY_2022 "]
[10,"COVID-19 federal relief funds, line 1","Report information for monies received from the district's Elementary and Secondary School Emergency Relief I Fund (ESSER I) award allocation, determined by ADE. Monies received from ADE as an ARP School and Community grantee should be reported on line 6."]
[10,"COVID-19 federal relief funds, line 2","Report information for monies received from the district's Elementary and Secondary School Emergency Relief II Fund (ESSER II) award allocation, determined by ADE. Monies received from ADE as an ARP School and Community grantee should be reported on line 6."]
[10,"COVID-19 federal relief funds, line 3","Report information for monies received from the district's Elementary and Secondary School Emergency Relief III Fund (ESSER III) award allocation, determined by ADE. Monies received from ADE as an ARP School and Community grantee should be reported on line 6."]
[10,"COVID-19 federal relief funds, line 4","Report information for monies received from the Governor's Emergency Education Relief (GEER) Fund here. Examples of programs distributed from GEER include the Acceleration Academy Grant, Beat the Odds Leadership Academy Grant, and Teach for America Grant.\n\nDo not report Enrollment Stabilities Grant (ESG) information on this line. ESG should be reported on line 5, Coronavirus Relief Fund (CRF)—Enrollment Stability Grant (ESG) Program."]
[10,"COVID-19 federal relief funds, line 5","Report information for monies received from the Coronavirus Relief Fund (CRF)—Enrollment Stability Grant (ESG) Program."]
[10,"COVID-19 federal relief funds, line 6","Report all other information for COVID-related monies received that cannot be appropriately reported on lines 1 through 5 of this table. Include other grants identified by ADE, the Governor's Office, and other agencies for which the district has federal reporting responsibilities. \n\nDO NOT INCLUDE AMOUNTS RECEIVED AS A VENDOR OR BENEFICIARY.\n\nExamples of grants identified by ADE include:\nARP-IDEA grants (USFR Chart of Accounts funds 227 and 228)\nARP Homeless grants\nARP school and community grants\nFood service awards "]
[null,null,"Grants identified by the Governor's Office include: \nExpansion and Innovation Fund microgrants\nProject Momentum\nCivic Innovation\nEducation Plus-Up\n100 Day In-Person Reimbursement\nAZ OnTrack Summer Camp \n\nGrants identified by other agencies include: \nArizona Department of Emergency and Military Affairs (DEMA) FEMA Public Assistance Program\nEmergency Connectivity Fund \nArizona Department of Economic Security (DES)\n\nSee School District Chart of Accounts FAQ #21 for more information. A link to the FAQ page is included below."]
[null,null,"Chart of Accounts FAQ #21"]
[10,"COVID-19 federal relief funds, \nTotal Award\n(all fiscal years)","Enter all known awards to date, awarded both before and after June 30, 2024. If the specific fund/program is not listed, it should be reported on line 6, Other COVID-19 Federal Relief Funds. \n\nFor further assistance with this item, please contact the Auditor General's Accountability Services Division at (602) 977-2796 or email asd@azauditor.gov. "]
[10,"COVID-19 federal relief funds, FY 2020 through FY 2023\nExpenditures and Other Financing Uses","Enter the combined FY 2020 through FY 2023 expenditures and indirect costs transfers-out amounts.  If the amount should be zero, enter 0.\n\nIf the specific fund/program is not listed, it should be reported on line 6, Other COVID-19 Federal Relief Funds."]
[10,"COVID-19 federal relief funds, FY 2024 Expenditures and Other Financing Uses","Enter FY 2024 expenditures and indirect costs transfers-out for each listed fund rounded to the nearest whole number (no decimals). If the amount is zero, enter 0. \n\nIf the specific fund/program is not listed, it should be reported on line 6, Other COVID-19 Federal Relief Funds. Total expenses on line 7 should agree to the amount displayed in cell G47."]
[10,"COVID-19 federal relief funds, Amount Remaining to Spend/ Conditional formatting","The amounts in this column calculate automatically based on columns D, E, and F on each line. Any negative amounts, will be highlighted in yellow. To correct negative amounts in these cells, verify that spending reported in columns E through F does not exceed the total award reported in column D. All amounts entered into this form should be rounded to the nearest whole dollar. This column may also show negative amounts if cents are entered in the award or spending columns.\n\nFor further assistance with this issue, please contact the Auditor General's Accountability Services Division at (602) 977-2796 or email asd@azauditor.gov."]
["Summary","General","The Summary condenses the information in the AFR for publication. Most information in the Summary automatically pulls from the AFR, so the AFR should be completed before the Summary.","Added new lines to the Summary to separately report fund details for 660—Condemnation, 665—Energy and Water Savings, Gifts and Donation—530 and Gifts and Donation—Capital—650."]
["Summary","ADM","Obtain total Attending ADM for FY 2023 and FY 2024 from ADE’s ADM30 reports, available on ADE’s website.  "]
["Summary","Fund Types","Districts must identify a fund type in column K for all funds based on the funds resources, specific restriction, commitments and assignments. The fund type designation will allow the each funds' balance amounts to pull to the appropriate column on the Fund Balance Reserve tab. Column K is prefilled for certain funds that are typically identified as 1 particular type. However, districts have option to select another fund type from the drop down list, if needed. District's may refer to USFR section V-Fund Accounting, for guidance on fund type designations. ","Updated column K with a drop-down fund type list, to allow districts to identify the appropriate fund type for all funds listed in column A.\n"]
["Summary","Federal Projects","Total of Funds 100-399 as reported on AFR page 5, Federal Projects, line 21."]
["Summary","State Projects","Total of Funds 400-499 as reported on AFR page 5, State Projects, line 34."]
["Summary","Other Funds","Total Other Funds as reported on AFR page 6, line 39. "]
["Fund Balance Reserve","Section A\nGeneral","Section A presents the prior year's and current year's ending fund balances by fund type and provides space for districts to report FY 2024 ending fund balance details that identify how districts plan to use those monies in future years. See the Summary tab, General Fund column, to identify which funds are included in the General Fund for financial statement reporting purposes."]
["Fund Balance Reserve","Section A\nLine 1","This line pulls in prior year ending fund balances from the Summary tab by fund type. Districts must complete the Summary tab, Fund Type column. If any ending fund balances were reported incorrectly on the prior year AFR, districts should enter the calculated beginning fund balance on the Accounting Data tab, column Q, as described in the instruction on row 5 above. This includes any errors or audit adjustments identified in the District's FY 2023 audit."]
["Fund Balance Reserve","Section A\nLine 2","This line pulls in current year ending fund balances from the Summary tab by fund type. Districts must complete the Summary tab, Fund Type column, to identify funds reported in the General, Capital Projects, Special Revenue and Debt Service funds for financial statement reporting purposes. See instructions on row C108 above for additional information."]
["Fund Balance Reserve","Section A\nLine 3","For all fund balances reported on line 2, districts must report the amount attributable to the specific purposes listed which identify how districts plan to use the monies in future years. Amounts reported on lines 3.a through 3.j must equal the total fund balance reported on line 2. Specific instructions for lines 3.a through 3.h. are included below. Two rows are provided to describe other fund balance purposes not already listed. Districts must specify the purpose for amounts included on the other lines in column B. "]
["Fund Balance Reserve","Section A\nLine 3.a","For funds with a negative FY 2024 ending fund balance as shown on the Summary tab, enter the negative fund balance amount on this line in the applicable fund type column. These funds have deficit balances because expenditures exceeded available resources from current revenues and prior year fund balance and reduce the amount of resources available in future years.   "]
["Fund Balance Reserve","Section A\nLine 3.b","For budget-controlled funds only, report any positive cash balances the District has accumulated in excess of the applicable funds' related budget capacity. Districts should compare fund balances in the M&O, UCO, Adjacent Ways, Classroom Site, and State and federal grant funds to unexpended budget limits to determine the excess cash amounts that should be entered on this line. District's may need to consider whether fund balance is misallocated between the M&O and UCO Funds if one fund reports excess fund balance, while the other reports a fund balance deficit."]
["Fund Balance Reserve","Section A\nLine 3.c","Report amounts the District plans to spend to support FY 2025 budgeted spending after using all available FY 2025 revenues. Any nonspendable amounts included in fund balance such as prepaid assets and inventories should be included in this line if the District plans to use them up in FY 2025. Otherwise, such nonspendable assets should be included on the lines below based on the District's plan to use them to benefit a future year, as applicable."]
["Fund Balance Reserve","Section A\nLines 3.d through j","Report accumulated fund balance amounts that will not be used to finance current budget year expenditures and their intended future purposes on lines 3.d through 3.j. Amounts needed to support current budget year expenditures should have been reported on line 3.c. See specific instructions for lines 3.d through 3.j below."]
["Fund Balance Reserve","Section A\nLines 3.d ","Report amounts set aside for future debt service principal and interest payments on long-term debt."]
["Fund Balance Reserve","Section A\nLines 3.e","Report amounts set aside for the future purchase of land, buildings, building improvements, improvements other than buildings, equipment, or other acquisitions that will be capitalized. Additionally, this category may include funds set aside for long-term planned maintenance projects or future replacement of equipment.  "]
["Fund Balance Reserve","Section A\nLines 3.f","Report restricted cash and investments held with ASRS or in an irrevocable 115 trust for future years' retirement contribution payments (i.e., the ASRS Contribution Prepayment Program). Amounts the  District is holding with ASRS or in an irrevocable 115 trust and plans to amortize and apply to the current year's required pension contribution payments should be included on line 3.c."]
["Fund Balance Reserve","Section A\nLines 3.g","Report amounts maintained in an established self-insurance or other post-employment benefit (OPEB) internal service fund for the financing of certain health benefits (comprehensive, major medical, dental) to eligible employees and their dependents."]
["Fund Balance Reserve","Section A\nLines 3.h","Report amounts set aside to manage cash flows in future budget years to cover such things as revenue shortfalls, emergencies, and/or other unforeseen circumstances."]
["Fund Balance Reserve","Section B\nGeneral","Section B provides information about any process or policy the District uses to establish targeted (goal) fund balance reserve amounts. "]
["Fund Balance Reserve","Section B\nTable 2","If the District answered question B.1 \"Yes,\" complete this table to describe the District's specific FY 2024 targeted and actual fund balance reserve amounts and methods used to establish those targeted fund balance reserve amounts. Districts should display information in this table in a way that best reflects its process or policies. It may combine all or multiple funds on one line or use individual lines for specific funds if varying methods are used to establish target balance reserve levels for different funds. Methods used can also include a variety of information. For example, a District may establish project balance reserve levels based on a certain percentage of revenue, spending, or its RCL; minimum and maximum targeted balances may also be described. If the District establishes targeted fund balance reserve amounts based on the Government Finance Officers Association (GFOA) Fund Balance Guidelines or governmental reserve guidelines or best practices, that may also be described here."]
["Fund Balance Reserve","Section B\nLine 3","Districts should use this space to describe any planned actions related to its fund balance amounts going forward including increasing reserves that do not meet targeted levels or using excess amounts held in reserve beyond the adopted targeted reserve level. Also, describe any planned actions to change targeted reserve levels or formally adopt policies related to reserve levels, if not already in place. This space may also be used to describe why amounts are maintained for the purposes reported in section A, and more detailed information on the District's plans for using maintained fund balances in future years. If the District's ending balance is negative, describe actions planned to eliminate the deficits (negative amounts)."]
["School Listing Tab","Name, County, CTDS Number","Enter the District name, CTDS number, and County. The CTDS number should not contain any slashes, dashes, etc., and must be exactly nine digits. Zeros should be entered to fill the school portion of the number in the heading of this tab.\n\nEnter school-level information for each school within the District including school names, school CTDS numbers, and unweighted attending student counts. All districts must enter the school-level information for each school site, including districts with only 1 school. As school names are added to the tab, the primary unit code cell for that school will shade red until a primary unit code is entered, as described below. The CTDS numbers should not contain any slashes, dashes, etc., and must be exactly nine digits. 100th-day (or 200th-day) student counts should be used to report each school's unweighted attending student count. Districts can refer to AzEDS ADM-15 Report.\n\nEnter the applicable unit code(s) in column E used to code expenditures at the school level for each school, as well as the unit code(s) used to code expenditures to the District, Private Schools, and related to payments for or on behalf of member districts (for CTEDs only). If more than one unit code was used for a school, separate each unit code with a comma. For example (100, 101, 102). \n\nAssign a primary unit code for each school in column F. Each school listed on the school listing tab must have a 3-digit, primary unit code entered in column F. See the description of primary unit code below for more information.\n\n"]
["School Listing Tab","Primary Unit Code","Primary Unit Code\nBecause the formulas in the School-Level Reporting form are set to assign only one unit code to each school and one unit code each to Districtwide, Private Schools, and CTED member districts, if applicable, districts must enter a Primary Unit Code in column F. If more than one unit code was used in column E, the Primary Unit Code must also be entered in the Accounting Data tab in column L for any line associated with a unit code not included in the list of Primary Unit codes."]