Workbook

Sheet Sheet1
B4: FY2026 | C4: Bowdoin | D4: Bowdoinham | E4: Harpswell | F4: Topsham | G4: Overall
B5: Total Local Contribution | C5: 4253973.5 | D5: 4664442.5 | E5: 11266530 | F5: 14201193 | G5: 34386139
B6: Local Contribution Increase | C6: 429765.54 | D6: 438861.45 | E6: 897576.38 | F6: 1062600.9 | G6: 2828804.2
B7: % Local Contribution Increase | C7: 0.1124 | D7: 0.1039 | E7: 0.0866 | F7: 0.0809 | G7: 0.0896
B9: FY 2027 | C9: Bowdoin | D9: Bowdoinham | E9: Harpswell | F9: Topsham | G9: Overall
B10: 2026 Total Local Contribution | C10: 4253973.5 | D10: 4664442.5 | E10: 11266530 | F10: 14201193 | G10: 34386139
B11: 2027 Total Local Contribution | C11: 4718568 | D11: 5123881.6 | E11: 11960576 | F11: 15510747 | G11: 37313773
B12: Local Contribution Increase | C12: =C11-C10 -> 464594.44 | D12: 459439.18 | E12: 694045.75 | F12: 1309554.1 | G12: 2927633.4
B13: % Local Contribution Increase | C13: =C11/C10-1 -> 0.10921423 | D13: =D11/D10-1 -> 0.098498199 | E13: =E11/E10-1 -> 0.061602439 | F13: =F11/F10-1 -> 0.09221437 | G13: =G11/G10-1 -> 0.085139928
B16: Calculating the Tax Impact on an Average Home:
B18: Local Valuation of Town Property* | C18: 463579500 | D18: 376115160 | E18: 2514458550 | F18: 1834458550 | G18: 5188611760
B19: Increased Assessment to Towns | C19: =C12 -> 464594.44 | D19: =D12 -> 459439.18 | E19: =E12 -> 694045.75 | F19: =F12 -> 1309554.1 | G19: =G12 -> 2927633.4
B20: Increase to mill rate per $1000 of Valuation | C20: =C19/(C18/1000) -> 1.0021894 | D20: =D19/(D18/1000) -> 1.2215386 | E20: =E19/(E18/1000) -> 0.27602195 | F20: =F19/(F18/1000) -> 0.71386408 | G20: =G19/(G18/1000) -> 0.56424215
B21: Local Assessment of a typical home by community | C21: 313600 | D21: 250000 | E21: 600200 | F21: 500000 | G21: 415950
B22: Avg Annual Tax Increase for typical home | C22: =(C21/1000)*C20 -> 314.28658 | D22: =(D21/1000)*D20 -> 305.38465 | E22: =(E21/1000)*E20 -> 165.66837 | F22: =(F21/1000)*F20 -> 356.93204 | G22: =(G21/1000)*G20 -> 234.69652
B24: *Based on January 2026 Numbers for local valuation and typical home value

Sheet Bond Tax Impact
B2: MSAD 75 — Bond Scenario Tax Impact by Town
B3: Bond sizes from $20M to $160M, scaled from MMBB preliminary numbers (market rates as of 9/25/2026). Tax impact shown for the peak debt-service year (FY2029 for 10-yr, FY2030 for 20-yr).
B5: Town Inputs (linked from Sheet1) | C5: Bowdoin | D5: Bowdoinham | E5: Harpswell | F5: Topsham | G5: Overall
B6: 2027 Total Local Contribution | C6: =Sheet1!C11 -> 4718568 | D6: =Sheet1!D11 -> 5123881.6 | E6: =Sheet1!E11 -> 11960576 | F6: =Sheet1!F11 -> 15510747 | G6: =Sheet1!G11 -> 37313773
B7: Cost Share % (share of 2027 Local Contribution) | C7: =C6/$G$6 -> 0.12645647 | D7: =D6/$G$6 -> 0.13731878 | E7: =E6/$G$6 -> 0.32054052 | F7: =F6/$G$6 -> 0.41568423 | G7: =SUM(C7:F7) -> 1
B8: Local Valuation of Town Property* | C8: =Sheet1!C18 -> 463579500 | D8: =Sheet1!D18 -> 376115160 | E8: =Sheet1!E18 -> 2514458550 | F8: =Sheet1!F18 -> 1834458550 | G8: =Sheet1!G18 -> 5188611760
B9: Local Assessment of a Typical Home | C9: =Sheet1!C21 -> 313600 | D9: =Sheet1!D21 -> 250000 | E9: =Sheet1!E21 -> 600200 | F9: =Sheet1!F21 -> 500000 | G9: =Sheet1!G21 -> 415950
B10: FY2027 Operating Increase to Mill Rate (per $1,000) | C10: =Sheet1!C20 -> 1.0021894 | D10: =Sheet1!D20 -> 1.2215386 | E10: =Sheet1!E20 -> 0.27602195 | F10: =Sheet1!F20 -> 0.71386408 | G10: =Sheet1!G20 -> 0.56424215
B11: FY2027 Operating Tax Increase — Typical Home | C11: =Sheet1!C22 -> 314.28658 | D11: =Sheet1!D22 -> 305.38465 | E11: =Sheet1!E22 -> 165.66837 | F11: =Sheet1!F22 -> 356.93204 | G11: =Sheet1!G22 -> 234.69652
B13: Bond Assumptions (MMBB $135M reference issue) | C13: 10-Year | D13: 20-Year
B14: Reference Par Amount | C14: ='10-Yr Prelim'!C27 -> 135000000 | D14: ='20-Yr Prelim'!C27 -> 135000000
B15: True Interest Cost (TIC) | C15: ='10-Yr Prelim'!C20 -> 0.04135541 | D15: ='20-Yr Prelim'!C20 -> 0.04747637
B16: Final Maturity | C16: ='10-Yr Prelim'!C18 -> 50345 | D16: ='20-Yr Prelim'!C18 -> 53997
B17: Peak Annual Debt Service | C17: =MAX('10-Yr Prelim'!F54:F63) -> 18400647 | D17: =MAX('20-Yr Prelim'!F64:F83) -> 12431880
B18: Final-Year Debt Service | C18: ='10-Yr Prelim'!F63 -> 13797675 | D18: ='20-Yr Prelim'!F83 -> 6926175
B19: Total Interest | C19: ='10-Yr Prelim'!E64 -> 27713622 | D19: ='20-Yr Prelim'!E84 -> 64365450
B20: Total Debt Service | C20: ='10-Yr Prelim'!F64 -> 1.6271362e+08 | D20: ='20-Yr Prelim'!F84 -> 1.9936545e+08
B21: Years of Payments | C21: =COUNT('10-Yr Prelim'!F54:F63) -> 10 | D21: =COUNT('20-Yr Prelim'!F64:F83) -> 20
B22: Average Annual Debt Service | C22: =C20/C21 -> 16271362 | D22: =D20/D21 -> 9968272.5
B24: 1. District Annual Debt Service by Bond Amount
C25: 10-Year Maturity | I25: 20-Year Maturity
B26: Bond Amount | C26: Peak Annual DS | D26: Final-Year DS | E26: Avg Annual DS | F26: Total Interest | G26: Total Debt Service | I26: Peak Annual DS | J26: Final-Year DS | K26: Avg Annual DS | L26: Total Interest | M26: Total Debt Service
B27: 20000000 | C27: =$B27*$C$17/$C$14 -> 2726021.8 | D27: =$B27*$C$18/$C$14 -> 2044100 | E27: =$B27*$C$22/$C$14 -> 2410572.2 | F27: =$B27*$C$19/$C$14 -> 4105721.8 | G27: =$B27*$C$20/$C$14 -> 24105722 | I27: =$B27*$D$17/$D$14 -> 1841760 | J27: =$B27*$D$18/$D$14 -> 1026100 | K27: =$B27*$D$22/$D$14 -> 1476781.1 | L27: =$B27*$D$19/$D$14 -> 9535622.3 | M27: =$B27*$D$20/$D$14 -> 29535622
B28: 40000000 | C28: =$B28*$C$17/$C$14 -> 5452043.7 | D28: =$B28*$C$18/$C$14 -> 4088200 | E28: =$B28*$C$22/$C$14 -> 4821144.4 | F28: =$B28*$C$19/$C$14 -> 8211443.7 | G28: =$B28*$C$20/$C$14 -> 48211444 | I28: =$B28*$D$17/$D$14 -> 3683520 | J28: =$B28*$D$18/$D$14 -> 2052200 | K28: =$B28*$D$22/$D$14 -> 2953562.2 | L28: =$B28*$D$19/$D$14 -> 19071245 | M28: =$B28*$D$20/$D$14 -> 59071245
B29: 60000000 | C29: =$B29*$C$17/$C$14 -> 8178065.5 | D29: =$B29*$C$18/$C$14 -> 6132300 | E29: =$B29*$C$22/$C$14 -> 7231716.6 | F29: =$B29*$C$19/$C$14 -> 12317166 | G29: =$B29*$C$20/$C$14 -> 72317166 | I29: =$B29*$D$17/$D$14 -> 5525280 | J29: =$B29*$D$18/$D$14 -> 3078300 | K29: =$B29*$D$22/$D$14 -> 4430343.3 | L29: =$B29*$D$19/$D$14 -> 28606867 | M29: =$B29*$D$20/$D$14 -> 88606867
B30: 80000000 | C30: =$B30*$C$17/$C$14 -> 10904087 | D30: =$B30*$C$18/$C$14 -> 8176400 | E30: =$B30*$C$22/$C$14 -> 9642288.7 | F30: =$B30*$C$19/$C$14 -> 16422887 | G30: =$B30*$C$20/$C$14 -> 96422887 | I30: =$B30*$D$17/$D$14 -> 7367040 | J30: =$B30*$D$18/$D$14 -> 4104400 | K30: =$B30*$D$22/$D$14 -> 5907124.5 | L30: =$B30*$D$19/$D$14 -> 38142489 | M30: =$B30*$D$20/$D$14 -> 1.1814249e+08
B31: 100000000 | C31: =$B31*$C$17/$C$14 -> 13630109 | D31: =$B31*$C$18/$C$14 -> 10220500 | E31: =$B31*$C$22/$C$14 -> 12052861 | F31: =$B31*$C$19/$C$14 -> 20528609 | G31: =$B31*$C$20/$C$14 -> 1.2052861e+08 | I31: =$B31*$D$17/$D$14 -> 9208800 | J31: =$B31*$D$18/$D$14 -> 5130500 | K31: =$B31*$D$22/$D$14 -> 7383905.6 | L31: =$B31*$D$19/$D$14 -> 47678111 | M31: =$B31*$D$20/$D$14 -> 1.4767811e+08
B32: 120000000 | C32: =$B32*$C$17/$C$14 -> 16356131 | D32: =$B32*$C$18/$C$14 -> 12264600 | E32: =$B32*$C$22/$C$14 -> 14463433 | F32: =$B32*$C$19/$C$14 -> 24634331 | G32: =$B32*$C$20/$C$14 -> 1.4463433e+08 | I32: =$B32*$D$17/$D$14 -> 11050560 | J32: =$B32*$D$18/$D$14 -> 6156600 | K32: =$B32*$D$22/$D$14 -> 8860686.7 | L32: =$B32*$D$19/$D$14 -> 57213734 | M32: =$B32*$D$20/$D$14 -> 1.7721373e+08
B33: 140000000 | C33: =$B33*$C$17/$C$14 -> 19082153 | D33: =$B33*$C$18/$C$14 -> 14308700 | E33: =$B33*$C$22/$C$14 -> 16874005 | F33: =$B33*$C$19/$C$14 -> 28740053 | G33: =$B33*$C$20/$C$14 -> 1.6874005e+08 | I33: =$B33*$D$17/$D$14 -> 12892320 | J33: =$B33*$D$18/$D$14 -> 7182700 | K33: =$B33*$D$22/$D$14 -> 10337468 | L33: =$B33*$D$19/$D$14 -> 66749356 | M33: =$B33*$D$20/$D$14 -> 2.0674936e+08
B34: 160000000 | C34: =$B34*$C$17/$C$14 -> 21808175 | D34: =$B34*$C$18/$C$14 -> 16352800 | E34: =$B34*$C$22/$C$14 -> 19284577 | F34: =$B34*$C$19/$C$14 -> 32845775 | G34: =$B34*$C$20/$C$14 -> 1.9284577e+08 | I34: =$B34*$D$17/$D$14 -> 14734080 | J34: =$B34*$D$18/$D$14 -> 8208800 | K34: =$B34*$D$22/$D$14 -> 11814249 | L34: =$B34*$D$19/$D$14 -> 76284978 | M34: =$B34*$D$20/$D$14 -> 2.3628498e+08
B36: 2. Town Share of Peak Annual Debt Service
C37: 10-Year Maturity | I37: 20-Year Maturity
B38: Bond Amount | C38: Bowdoin | D38: Bowdoinham | E38: Harpswell | F38: Topsham | G38: Overall | I38: Bowdoin | J38: Bowdoinham | K38: Harpswell | L38: Topsham | M38: Overall
B39: =B27 -> 20000000 | C39: =$C27*INDEX($C$7:$G$7,MATCH(C$38,$C$5:$G$5,0)) -> 344723.1 | D39: =$C27*INDEX($C$7:$G$7,MATCH(D$38,$C$5:$G$5,0)) -> 374333.98 | E39: =$C27*INDEX($C$7:$G$7,MATCH(E$38,$C$5:$G$5,0)) -> 873800.46 | F39: =$C27*INDEX($C$7:$G$7,MATCH(F$38,$C$5:$G$5,0)) -> 1133164.3 | G39: =$C27*INDEX($C$7:$G$7,MATCH(G$38,$C$5:$G$5,0)) -> 2726021.8 | I39: =$I27*INDEX($C$7:$G$7,MATCH(I$38,$C$5:$G$5,0)) -> 232902.47 | J39: =$I27*INDEX($C$7:$G$7,MATCH(J$38,$C$5:$G$5,0)) -> 252908.23 | K39: =$I27*INDEX($C$7:$G$7,MATCH(K$38,$C$5:$G$5,0)) -> 590358.71 | L39: =$I27*INDEX($C$7:$G$7,MATCH(L$38,$C$5:$G$5,0)) -> 765590.59 | M39: =$I27*INDEX($C$7:$G$7,MATCH(M$38,$C$5:$G$5,0)) -> 1841760
B40: =B28 -> 40000000 | C40: =$C28*INDEX($C$7:$G$7,MATCH(C$38,$C$5:$G$5,0)) -> 689446.2 | D40: =$C28*INDEX($C$7:$G$7,MATCH(D$38,$C$5:$G$5,0)) -> 748667.97 | E40: =$C28*INDEX($C$7:$G$7,MATCH(E$38,$C$5:$G$5,0)) -> 1747600.9 | F40: =$C28*INDEX($C$7:$G$7,MATCH(F$38,$C$5:$G$5,0)) -> 2266328.6 | G40: =$C28*INDEX($C$7:$G$7,MATCH(G$38,$C$5:$G$5,0)) -> 5452043.7 | I40: =$I28*INDEX($C$7:$G$7,MATCH(I$38,$C$5:$G$5,0)) -> 465804.94 | J40: =$I28*INDEX($C$7:$G$7,MATCH(J$38,$C$5:$G$5,0)) -> 505816.46 | K40: =$I28*INDEX($C$7:$G$7,MATCH(K$38,$C$5:$G$5,0)) -> 1180717.4 | L40: =$I28*INDEX($C$7:$G$7,MATCH(L$38,$C$5:$G$5,0)) -> 1531181.2 | M40: =$I28*INDEX($C$7:$G$7,MATCH(M$38,$C$5:$G$5,0)) -> 3683520
B41: =B29 -> 60000000 | C41: =$C29*INDEX($C$7:$G$7,MATCH(C$38,$C$5:$G$5,0)) -> 1034169.3 | D41: =$C29*INDEX($C$7:$G$7,MATCH(D$38,$C$5:$G$5,0)) -> 1123002 | E41: =$C29*INDEX($C$7:$G$7,MATCH(E$38,$C$5:$G$5,0)) -> 2621401.4 | F41: =$C29*INDEX($C$7:$G$7,MATCH(F$38,$C$5:$G$5,0)) -> 3399492.9 | G41: =$C29*INDEX($C$7:$G$7,MATCH(G$38,$C$5:$G$5,0)) -> 8178065.5 | I41: =$I29*INDEX($C$7:$G$7,MATCH(I$38,$C$5:$G$5,0)) -> 698707.41 | J41: =$I29*INDEX($C$7:$G$7,MATCH(J$38,$C$5:$G$5,0)) -> 758724.69 | K41: =$I29*INDEX($C$7:$G$7,MATCH(K$38,$C$5:$G$5,0)) -> 1771076.1 | L41: =$I29*INDEX($C$7:$G$7,MATCH(L$38,$C$5:$G$5,0)) -> 2296771.8 | M41: =$I29*INDEX($C$7:$G$7,MATCH(M$38,$C$5:$G$5,0)) -> 5525280
B42: =B30 -> 80000000 | C42: =$C30*INDEX($C$7:$G$7,MATCH(C$38,$C$5:$G$5,0)) -> 1378892.4 | D42: =$C30*INDEX($C$7:$G$7,MATCH(D$38,$C$5:$G$5,0)) -> 1497335.9 | E42: =$C30*INDEX($C$7:$G$7,MATCH(E$38,$C$5:$G$5,0)) -> 3495201.8 | F42: =$C30*INDEX($C$7:$G$7,MATCH(F$38,$C$5:$G$5,0)) -> 4532657.2 | G42: =$C30*INDEX($C$7:$G$7,MATCH(G$38,$C$5:$G$5,0)) -> 10904087 | I42: =$I30*INDEX($C$7:$G$7,MATCH(I$38,$C$5:$G$5,0)) -> 931609.87 | J42: =$I30*INDEX($C$7:$G$7,MATCH(J$38,$C$5:$G$5,0)) -> 1011632.9 | K42: =$I30*INDEX($C$7:$G$7,MATCH(K$38,$C$5:$G$5,0)) -> 2361434.8 | L42: =$I30*INDEX($C$7:$G$7,MATCH(L$38,$C$5:$G$5,0)) -> 3062362.4 | M42: =$I30*INDEX($C$7:$G$7,MATCH(M$38,$C$5:$G$5,0)) -> 7367040
B43: =B31 -> 100000000 | C43: =$C31*INDEX($C$7:$G$7,MATCH(C$38,$C$5:$G$5,0)) -> 1723615.5 | D43: =$C31*INDEX($C$7:$G$7,MATCH(D$38,$C$5:$G$5,0)) -> 1871669.9 | E43: =$C31*INDEX($C$7:$G$7,MATCH(E$38,$C$5:$G$5,0)) -> 4369002.3 | F43: =$C31*INDEX($C$7:$G$7,MATCH(F$38,$C$5:$G$5,0)) -> 5665821.5 | G43: =$C31*INDEX($C$7:$G$7,MATCH(G$38,$C$5:$G$5,0)) -> 13630109 | I43: =$I31*INDEX($C$7:$G$7,MATCH(I$38,$C$5:$G$5,0)) -> 1164512.3 | J43: =$I31*INDEX($C$7:$G$7,MATCH(J$38,$C$5:$G$5,0)) -> 1264541.2 | K43: =$I31*INDEX($C$7:$G$7,MATCH(K$38,$C$5:$G$5,0)) -> 2951793.5 | L43: =$I31*INDEX($C$7:$G$7,MATCH(L$38,$C$5:$G$5,0)) -> 3827953 | M43: =$I31*INDEX($C$7:$G$7,MATCH(M$38,$C$5:$G$5,0)) -> 9208800
B44: =B32 -> 120000000 | C44: =$C32*INDEX($C$7:$G$7,MATCH(C$38,$C$5:$G$5,0)) -> 2068338.6 | D44: =$C32*INDEX($C$7:$G$7,MATCH(D$38,$C$5:$G$5,0)) -> 2246003.9 | E44: =$C32*INDEX($C$7:$G$7,MATCH(E$38,$C$5:$G$5,0)) -> 5242802.8 | F44: =$C32*INDEX($C$7:$G$7,MATCH(F$38,$C$5:$G$5,0)) -> 6798985.8 | G44: =$C32*INDEX($C$7:$G$7,MATCH(G$38,$C$5:$G$5,0)) -> 16356131 | I44: =$I32*INDEX($C$7:$G$7,MATCH(I$38,$C$5:$G$5,0)) -> 1397414.8 | J44: =$I32*INDEX($C$7:$G$7,MATCH(J$38,$C$5:$G$5,0)) -> 1517449.4 | K44: =$I32*INDEX($C$7:$G$7,MATCH(K$38,$C$5:$G$5,0)) -> 3542152.3 | L44: =$I32*INDEX($C$7:$G$7,MATCH(L$38,$C$5:$G$5,0)) -> 4593543.5 | M44: =$I32*INDEX($C$7:$G$7,MATCH(M$38,$C$5:$G$5,0)) -> 11050560
B45: =B33 -> 140000000 | C45: =$C33*INDEX($C$7:$G$7,MATCH(C$38,$C$5:$G$5,0)) -> 2413061.7 | D45: =$C33*INDEX($C$7:$G$7,MATCH(D$38,$C$5:$G$5,0)) -> 2620337.9 | E45: =$C33*INDEX($C$7:$G$7,MATCH(E$38,$C$5:$G$5,0)) -> 6116603.2 | F45: =$C33*INDEX($C$7:$G$7,MATCH(F$38,$C$5:$G$5,0)) -> 7932150 | G45: =$C33*INDEX($C$7:$G$7,MATCH(G$38,$C$5:$G$5,0)) -> 19082153 | I45: =$I33*INDEX($C$7:$G$7,MATCH(I$38,$C$5:$G$5,0)) -> 1630317.3 | J45: =$I33*INDEX($C$7:$G$7,MATCH(J$38,$C$5:$G$5,0)) -> 1770357.6 | K45: =$I33*INDEX($C$7:$G$7,MATCH(K$38,$C$5:$G$5,0)) -> 4132511 | L45: =$I33*INDEX($C$7:$G$7,MATCH(L$38,$C$5:$G$5,0)) -> 5359134.1 | M45: =$I33*INDEX($C$7:$G$7,MATCH(M$38,$C$5:$G$5,0)) -> 12892320
...

Sheet MMBB Summary
B2: Maine Municipal Bond Bank
B3: Summary of Projected Loan
B4: MSAD 75 (Spring 2028 - $135,000,000 Loan Amount)
B5: 46290
B7: Summary | C7: 10-Year Maturity | D7: 20-Year Maturity | E7: Difference
B8: Par Amount | C8: 135000000 | D8: 135000000 | E8: =C8-D8 -> 0
B9: Dated Date | C9: 46891 | D9: 46891 | E9: -
B10: Final Maturity | C10: 50345 | D10: 53997 | E10: -
B11: True Interest Cost (1) | C11: 0.04136 | D11: 0.04748 | E11: =C11-D11 -> -0.00612
B12: Average Life (Years) | C12: 4.953 | D12: 9.953 | E12: =D12-C12 -> 5
B13: Total Interest | C13: 27713622 | D13: 64365450 | E13: =C13-D13 -> -36651828
B14: Total Debt Service | C14: 162713622 | D14: 199365450 | E14: =C14-D14 -> -36651828
B15: Average Annual Debt Service | C15: 16271362 | D15: 9968273 | E15: =C15-D15 -> 6303089
B17: Projected Debt Service (1) | C17: 10-Year Maturity | D17: 20-Year Maturity | E17: Difference
B18: FY 2029 | C18: 18400647 | D18: 12393825 | E18: =C18-D18 -> 6006822
B19: FY 2030 | C19: 18160200 | D19: 12431880 | E19: =C19-D19 -> 5728320
B20: FY 2031 | C20: 17655300 | D20: 12179430 | E20: =C20-D20 -> 5475870
B21: FY 2032 | C21: 17140950 | D21: 11922255 | E21: =C21-D21 -> 5218695
B22: FY 2033 | C22: 16615125 | D22: 11659343 | E22: =C22-D22 -> 4955782
B23: FY 2034 | C23: 16075125 | D23: 11389343 | E23: =C23-D23 -> 4685782
B24: FY 2035 | C24: 15522975 | D24: 11113268 | E24: =C24-D24 -> 4409707
B25: FY 2036 | C25: 14960025 | D25: 10831793 | E25: =C25-D25 -> 4128232
B26: FY 2037 | C26: 14385600 | D26: 10544580 | E26: =C26-D26 -> 3841020
B27: FY 2038 | C27: 13797675 | D27: 10250618 | E27: =C27-D27 -> 3547057
B28: FY 2039 | C28: 0 | D28: 9948893 | E28: =C28-D28 -> -9948893
B29: FY 2040 | C29: 0 | D29: 9637211 | E29: =C29-D29 -> -9637211
... B37: FY 2048 | C37: 0 | D37: 6926175 | E37: =C37-D37 -> -6926175
B38: Total | C38: =SUM(C18:C37) -> 162713622 | D38: =SUM(D18:D37) -> 199365455 | E38: =SUM(E18:E37) -> -36651833
B40: 1. Market Rates as of September 25, 2026. Rates are preliminary and subject to change with market movement.
B41: **PROJECTIONS, SUBJECT TO CHANGE. FOR DISCUSSION PURPOSES ONLY** — Prepared by Hilltop Securities Inc. as financial advisor to the Maine Municipal Bond Bank.

Sheet 10-Yr Prelim
B2: Maine Municipal Bond Bank — $135,000,000 for 10-years (Spring 2028 Issue)
B3: MSAD 75 — **Preliminary, Subject to Change**
B4: Prepared by Hilltop Securities, Sep 25, 2026
B6: SOURCES AND USES OF FUNDS
B7: Dated Date | C7: 46891
B8: Delivery Date | C8: 46891
B9: Sources — Bond Proceeds: Par Amount | C9: 135000000
B10: Total Sources | C10: =C9 -> 135000000
B11: Uses — Project Fund Deposits: Project Fund | C11: 135000000
B12: Total Uses | C12: =C11 -> 135000000
B14: BOND SUMMARY STATISTICS
B15: Dated Date | C15: 46891
B16: Delivery Date | C16: 46891
B17: First Coupon | C17: 47058
B18: Last Maturity | C18: 50345
B19: Arbitrage Yield | C19: 0.04135541
B20: True Interest Cost (TIC) | C20: 0.04135541
B21: Net Interest Cost (NIC) | C21: 0.04144868
B22: All-In TIC | C22: 0.04135541
B23: Average Coupon | C23: 0.04144868
B24: Average Life (years) | C24: 4.953
B25: Weighted Average Maturity (years) | C25: 4.953
B26: Duration of Issue (years) | C26: 4.399
... B36: Bid Price | C36: 100
B38: BOND PRICING — Serial Bonds
B39: Maturity Date | C39: Amount | D39: Rate | E39: Yield | F39: Price
B40: 47058 | C40: 13500000 | D40: 0.03641 | E40: 0.03641 | F40: 100
B41: 47423 | C41: 13500000 | D41: 0.037 | E41: 0.037 | F41: 100
B42: 47788 | C42: 13500000 | D42: 0.0378 | E42: 0.0378 | F42: 100
B43: 48153 | C43: 13500000 | D43: 0.0384 | E43: 0.0384 | F43: 100
B44: 48519 | C44: 13500000 | D44: 0.0395 | E44: 0.0395 | F44: 100
B45: 48884 | C45: 13500000 | D45: 0.0405 | E45: 0.0405 | F45: 100
B46: 49249 | C46: 13500000 | D46: 0.0413 | E46: 0.0413 | F46: 100
B47: 49614 | C47: 13500000 | D47: 0.0421 | E47: 0.0421 | F47: 100
B48: 49980 | C48: 13500000 | D48: 0.043 | E48: 0.043 | F48: 100
B49: 50345 | C49: 13500000 | D49: 0.0441 | E49: 0.0441 | F49: 100
B50: Total | C50: =SUM(C40:C49) -> 135000000
B52: BOND DEBT SERVICE — Fiscal Year (Period Ending June 30)
B53: Period Ending | C53: Principal | D53: Coupon | E53: Interest | F53: Debt Service
B54: 47299 | C54: 13500000 | D54: 0.03641 | E54: 4900647.4 | F54: =C54+E54 -> 18400647
...

Sheet 20-Yr Prelim
B2: Maine Municipal Bond Bank — $135,000,000 for 20-years (Spring 2028 Issue)
B3: MSAD 75 — **Preliminary, Subject to Change**
B4: Prepared by Hilltop Securities, Sep 25, 2026
B6: SOURCES AND USES OF FUNDS
B7: Dated Date | C7: 46891
B8: Delivery Date | C8: 46891
B9: Sources — Bond Proceeds: Par Amount | C9: 135000000
B10: Total Sources | C10: =C9 -> 135000000
B11: Uses — Project Fund Deposits: Project Fund | C11: 135000000
B12: Total Uses | C12: =C11 -> 135000000
B14: BOND SUMMARY STATISTICS
B15: Dated Date | C15: 46891
B16: Delivery Date | C16: 46891
B17: First Coupon | C17: 47058
B18: Last Maturity | C18: 53997
B19: Arbitrage Yield | C19: 0.04747637
B20: True Interest Cost (TIC) | C20: 0.04747637
B21: Net Interest Cost (NIC) | C21: 0.04790433
B22: All-In TIC | C22: 0.04747637
B23: Average Coupon | C23: 0.04790433
B24: Average Life (years) | C24: 9.953
B25: Weighted Average Maturity (years) | C25: 9.953
B26: Duration of Issue (years) | C26: 7.608
... B36: Bid Price | C36: 100
B38: BOND PRICING — Serial Bonds
B39: Maturity Date | C39: Amount | D39: Rate | E39: Yield | F39: Price
B40: 47058 | C40: 6750000 | D40: 0.03641 | E40: 0.03641 | F40: 100
B41: 47423 | C41: 6750000 | D41: 0.037 | E41: 0.037 | F41: 100
B42: 47788 | C42: 6750000 | D42: 0.0378 | E42: 0.0378 | F42: 100
B43: 48153 | C43: 6750000 | D43: 0.0384 | E43: 0.0384 | F43: 100
B44: 48519 | C44: 6750000 | D44: 0.0395 | E44: 0.0395 | F44: 100
B45: 48884 | C45: 6750000 | D45: 0.0405 | E45: 0.0405 | F45: 100
B46: 49249 | C46: 6750000 | D46: 0.0413 | E46: 0.0413 | F46: 100
B47: 49614 | C47: 6750000 | D47: 0.0421 | E47: 0.0421 | F47: 100
B48: 49980 | C48: 6750000 | D48: 0.043 | E48: 0.043 | F48: 100
B49: 50345 | C49: 6750000 | D49: 0.0441 | E49: 0.0441 | F49: 100
B50: 50710 | C50: 6750000 | D50: 0.0453 | E50: 0.0453 | F50: 100
B51: 51075 | C51: 6750000 | D51: 0.04705 | E51: 0.04705 | F51: 100
... B59: 53997 | C59: 6750000 | D59: 0.0522 | E59: 0.0522 | F59: 100
B60: Total | C60: =SUM(C40:C59) -> 135000000
...
