Workbook

Sheet FORM
A2: INTER-DISTRICT MILEAGE CLAIM FORM
A4: EMPLOYEE NAME: | H4: POSITION: | P4: DATE:
A5: (Name must match SVSD HR records)
A7: Claims must be submitted within thirty (30) days after the travel or event. Reimbursements will be direct deposited into the bank account on file with payroll. AP cutoff dates: https://www.svsd410.org/departments/business-services/employee-resources. Commuting miles (home-work) are not reimbursable per IRS regulations.
A8: DATE | B8: LOCATION | F8: REASON | Q8: MILES
B9: FROM | C9: TO
Q10: =IF(AND($A10<>"",$B10<>"",$C10<>""),INDEX(MILEAGE!$B$2:$O$15,MATCH($B10,MILEAGE!$A$2:$A$15,0),MATCH($C10,MILEAGE!$B$1:$O$1,0)),"")
Q11: =IF(AND($A11<>"",$B11<>"",$C11<>""),INDEX(MILEAGE!$B$2:$O$15,MATCH($B11,MILEAGE!$A$2:$A$15,0),MATCH($C11,MILEAGE!$B$1:$O$1,0)),"")
Q12: =IF(AND($A12<>"",$B12<>"",$C12<>""),INDEX(MILEAGE!$B$2:$O$15,MATCH($B12,MILEAGE!$A$2:$A$15,0),MATCH($C12,MILEAGE!$B$1:$O$1,0)),"")
Q13: =IF(AND($A13<>"",$B13<>"",$C13<>""),INDEX(MILEAGE!$B$2:$O$15,MATCH($B13,MILEAGE!$A$2:$A$15,0),MATCH($C13,MILEAGE!$B$1:$O$1,0)),"")
Q14: =IF(AND($A14<>"",$B14<>"",$C14<>""),INDEX(MILEAGE!$B$2:$O$15,MATCH($B14,MILEAGE!$A$2:$A$15,0),MATCH($C14,MILEAGE!$B$1:$O$1,0)),"")
Q15: =IF(AND($A15<>"",$B15<>"",$C15<>""),INDEX(MILEAGE!$B$2:$O$15,MATCH($B15,MILEAGE!$A$2:$A$15,0),MATCH($C15,MILEAGE!$B$1:$O$1,0)),"")
Q16: =IF(AND($A16<>"",$B16<>"",$C16<>""),INDEX(MILEAGE!$B$2:$O$15,MATCH($B16,MILEAGE!$A$2:$A$15,0),MATCH($C16,MILEAGE!$B$1:$O$1,0)),"")
Q17: =IF(AND($A17<>"",$B17<>"",$C17<>""),INDEX(MILEAGE!$B$2:$O$15,MATCH($B17,MILEAGE!$A$2:$A$15,0),MATCH($C17,MILEAGE!$B$1:$O$1,0)),"")
Q18: =IF(AND($A18<>"",$B18<>"",$C18<>""),INDEX(MILEAGE!$B$2:$O$15,MATCH($B18,MILEAGE!$A$2:$A$15,0),MATCH($C18,MILEAGE!$B$1:$O$1,0)),"")
Q19: =IF(AND($A19<>"",$B19<>"",$C19<>""),INDEX(MILEAGE!$B$2:$O$15,MATCH($B19,MILEAGE!$A$2:$A$15,0),MATCH($C19,MILEAGE!$B$1:$O$1,0)),"")
Q20: =IF(AND($A20<>"",$B20<>"",$C20<>""),INDEX(MILEAGE!$B$2:$O$15,MATCH($B20,MILEAGE!$A$2:$A$15,0),MATCH($C20,MILEAGE!$B$1:$O$1,0)),"")
Q21: =IF(AND($A21<>"",$B21<>"",$C21<>""),INDEX(MILEAGE!$B$2:$O$15,MATCH($B21,MILEAGE!$A$2:$A$15,0),MATCH($C21,MILEAGE!$B$1:$O$1,0)),"")
... Q28: =IF(AND($A28<>"",$B28<>"",$C28<>""),INDEX(MILEAGE!$B$2:$O$15,MATCH($B28,MILEAGE!$A$2:$A$15,0),MATCH($C28,MILEAGE!$B$1:$O$1,0)),"")
A29: TOTAL MILES | Q29: =SUM(Q10:Q28) -> 0
A31: MILEAGE RATE: | C31: 0.76 | E31: per mile (effective 7/1/2026-12/31/2026)
A32: TOTAL MILES: | C32: =Q29 -> 0
A33: TOTAL REIMBURSEMENT: | C33: =C31*C32 -> 0
A34: CERTIFICATION: I hereby certify under penalty of perjury: that this is a true and correct claim for necessary expenses incurred during the conduct of official school business. That no payment has been received by me on account thereof; that no rebate of any character, kind, or description has been made to me by any person or persons furnishing any of said transportation; that the expenses charged were actually and necessarily incurred and paid by me in lawful money.
A35: Signature of Claimant: ____________________________________________________________________ Date: __________________________
A36: Supervisor Approval: ____________________________________________________________________ Date: __________________________
A37: Account Code(s): | B37: 10 E 530 | D37: - | F37: - 8580 - | H37: - | J37: - | L37: - | N37: =
B39: 10 E 530 | D39: - | F39: - 8580 - | H39: - | J39: - | L39: - | N39: =
A40: Business Office Approval: __________________________________________________________________ Date: _________________________
A42: SNOQUALMIE VALLEY SCHOOL DISTRICT 8001 Silva Avenue SE | P.O. Box 400 | Snoqualmie, WA 98065 | (425) 831-8000 | www.svsd410.org FOR TRAVEL BETWEEN 7/1/2026-12/31/2026 ONLY

Sheet MILEAGE
A1: LOCATIONS | B1: DO | C1: ELC | D1: FCES | E1: SES | F1: NBES | G1: TRES | H1: OES | I1: CVES | J1: CKMS | K1: TFMS | L1: SMS | M1: MSHS | N1: TR | O1: TLC
A2: DO | B2: 0 | C2: 3.3 | D2: 5.5 | E2: 1.1 | F2: 3.5 | G2: 3.3 | H2: 4.9 | I2: 3.1 | J2: 6.3 | K2: 7.2 | L2: 1.1 | M2: 0.8 | N2: 0.8 | O2: 3.3
A3: ELC | B3: 3.3 | C3: 0 | D3: 8.6 | E3: 2.6 | F3: 0.4 | G3: 6.6 | H3: 1.8 | I3: 6.2 | J3: 9.3 | K3: 4 | L3: 2.2 | M3: 2.7 | N3: 2.7 | O3: 0
A4: FCES | B4: 5.5 | C4: 8.6 | D4: 0 | E4: 6.5 | F4: 8.8 | G4: 7.4 | H4: 10.2 | I4: 7.2 | J4: 0.8 | K4: 12.5 | L4: 6.4 | M4: 6.1 | N4: 6.1 | O4: 8.6
A5: SES | B5: 1.1 | C5: 2.6 | D5: 6.5 | E5: 0 | F5: 2.7 | G5: 4.2 | H5: 4.2 | I5: 4 | J5: 7.2 | K5: 6.5 | L5: 0.9 | M5: 0.8 | N5: 0.8 | O5: 2.6
A6: NBES | B6: 3.5 | C6: 0.4 | D6: 8.8 | E6: 2.7 | F6: 0 | G6: 6.6 | H6: 1.6 | I6: 6.4 | J6: 9.5 | K6: 3.9 | L6: 2.4 | M6: 2.9 | N6: 2.9 | O6: 0.3
A7: TRES | B7: 3.3 | C7: 6.6 | D7: 7.4 | E7: 4.2 | F7: 6.6 | G7: 0 | H7: 8 | I7: 0.8 | J7: 8.2 | K7: 10.3 | L7: 4.2 | M7: 3.9 | N7: 3.9 | O7: 6.7
A8: OES | B8: 4.9 | C8: 1.8 | D8: 10.2 | E8: 4.2 | F8: 1.6 | G8: 8 | H8: 0 | I8: 7.8 | J8: 11 | K8: 3 | L8: 3.8 | M8: 4.4 | N8: 4.4 | O8: 1.7
A9: CVES | B9: 3.1 | C9: 6.2 | D9: 7.2 | E9: 4 | F9: 6.4 | G9: 0.8 | H9: 7.8 | I9: 0 | J9: 8 | K9: 10.1 | L9: 4 | M9: 3.6 | N9: 3.6 | O9: 6.2
A10: CKMS | B10: 6.3 | C10: 9.3 | D10: 0.8 | E10: 7.2 | F10: 9.5 | G10: 8.2 | H10: 11 | I10: 8 | J10: 0 | K10: 13.2 | L10: 7.1 | M10: 6.8 | N10: 6.8 | O10: 9.4
A11: TFMS | B11: 7.2 | C11: 4 | D11: 12.5 | E11: 6.5 | F11: 3.9 | G11: 10.3 | H11: 3 | I11: 10.1 | J11: 13.2 | K11: 0 | L11: 6.1 | M11: 6.7 | N11: 6.7 | O11: 4
A12: SMS | B12: 1.1 | C12: 2.2 | D12: 6.4 | E12: 0.9 | F12: 2.4 | G12: 4.2 | H12: 3.8 | I12: 4 | J12: 7.1 | K12: 6.1 | L12: 0 | M12: 0.5 | N12: 0.5 | O12: 2.3
A13: MSHS | B13: 0.8 | C13: 2.7 | D13: 6.1 | E13: 0.8 | F13: 2.9 | G13: 3.9 | H13: 4.4 | I13: 3.6 | J13: 6.8 | K13: 6.7 | L13: 0.5 | M13: 0 | N13: 0 | O13: 2.8
... A15: TLC | B15: 3.3 | C15: 0 | D15: 8.6 | E15: 2.6 | F15: 0.3 | G15: 6.7 | H15: 1.7 | I15: 6.2 | J15: 9.4 | K15: 4 | L15: 2.3 | M15: 2.8 | N15: 2.8 | O15: 0
