Workbook

Sheet PAY-F003-B
D1: Washoe County School District
D2: No-Sub Coverage Payment Form
A4: See Page 2 for Program Description, Matrix for non-approval situations and Instructions
A6: SCHOOL: | D6: Site #:
A8: Reporting Cycle #: | C8: Pay Period Dates: | E8: Payroll Tech: | H8: 07/01/2025 and FORWARD at the sub pay rate of $ 143.00 per day
B9: You fill in | E9: Auto-calculated
A10: A | B10: B | C10: C | D10: D | E10: E | F10: F | G10: G | H10: H | I10: I | J10: J | K10: K | L10: L
A11: Date of Absence | B11: Full or Half day | C11: Absent Employee | E11: Employee who provided coverage | G11: Coverage Options | I11: Sub Office | K11: Non-Approval | L11: Amount
C12: E# (E000XXXX) | D12: Name (Last, First) | E12: E# (E000XXXX) | F12: Name (Last, First) | H12: Percentage of a full day | I12: Approval | K12: Code | L12: to Pay
H13: =IFERROR(VLOOKUP($G13,Sheet2!A2:B8,2)," ") | J13: =IF((OR(I13=Sheet2!$C$2,I13=Sheet2!$C$3)),"X"," ") | L13: =IFERROR(IF(J13="X",+H13*143," ")," ")
H14: =IFERROR(VLOOKUP($G14,Sheet2!$A$2:$B$8,2)," ") | J14: =IF((OR(I14=Sheet2!$C$2,I14=Sheet2!$C$3)),"X"," ") | L14: =IFERROR(IF(J14="X",+H14*143," ")," ")
H15: =IFERROR(VLOOKUP($G15,Sheet2!$A$2:$B$8,2)," ") | J15: =IF((OR(I15=Sheet2!$C$2,I15=Sheet2!$C$3)),"X"," ") | L15: =IFERROR(IF(J15="X",+H15*143," ")," ")
H16: =IFERROR(VLOOKUP($G16,Sheet2!$A$2:$B$8,2)," ") | J16: =IF((OR(I16=Sheet2!$C$2,I16=Sheet2!$C$3)),"X"," ") | L16: =IFERROR(IF(J16="X",+H16*143," ")," ")
H17: =IFERROR(VLOOKUP($G17,Sheet2!$A$2:$B$8,2)," ") | J17: =IF((OR(I17=Sheet2!$C$2,I17=Sheet2!$C$3)),"X"," ") | L17: =IFERROR(IF(J17="X",+H17*143," ")," ")
H18: =IFERROR(VLOOKUP($G18,Sheet2!$A$2:$B$8,2)," ") | J18: =IF((OR(I18=Sheet2!$C$2,I18=Sheet2!$C$3)),"X"," ") | L18: =IFERROR(IF(J18="X",+H18*143," ")," ")
H19: =IFERROR(VLOOKUP($G19,Sheet2!$A$2:$B$8,2)," ") | J19: =IF((OR(I19=Sheet2!$C$2,I19=Sheet2!$C$3)),"X"," ") | L19: =IFERROR(IF(J19="X",+H19*143," ")," ")
H20: =IFERROR(VLOOKUP($G20,Sheet2!$A$2:$B$8,2)," ") | J20: =IF((OR(I20=Sheet2!$C$2,I20=Sheet2!$C$3)),"X"," ") | L20: =IFERROR(IF(J20="X",+H20*143," ")," ")
H21: =IFERROR(VLOOKUP($G21,Sheet2!$A$2:$B$8,2)," ") | J21: =IF((OR(I21=Sheet2!$C$2,I21=Sheet2!$C$3)),"X"," ") | L21: =IFERROR(IF(J21="X",+H21*143," ")," ")
H22: =IFERROR(VLOOKUP($G22,Sheet2!$A$2:$B$8,2)," ") | J22: =IF((OR(I22=Sheet2!$C$2,I22=Sheet2!$C$3)),"X"," ") | L22: =IFERROR(IF(J22="X",+H22*143," ")," ")
H23: =IFERROR(VLOOKUP($G23,Sheet2!$A$2:$B$8,2)," ") | J23: =IF((OR(I23=Sheet2!$C$2,I23=Sheet2!$C$3)),"X"," ") | L23: =IFERROR(IF(J23="X",+H23*143," ")," ")
H24: =IFERROR(VLOOKUP($G24,Sheet2!$A$2:$B$8,2)," ") | J24: =IF((OR(I24=Sheet2!$C$2,I24=Sheet2!$C$3)),"X"," ") | L24: =IFERROR(IF(J24="X",+H24*143," ")," ")
H25: =IFERROR(VLOOKUP($G25,Sheet2!$A$2:$B$8,2)," ") | J25: =IF((OR(I25=Sheet2!$C$2,I25=Sheet2!$C$3)),"X"," ") | L25: =IFERROR(IF(J25="X",+H25*143," ")," ")
... H40: =IFERROR(VLOOKUP($G40,Sheet2!$A$2:$B$8,2)," ") | J40: =IF((OR(I40=Sheet2!$C$2,I40=Sheet2!$C$3)),"X"," ") | L40: =IFERROR(IF(J40="X",+H40*143," ")," ")
B41: =SUM(B13:B40) -> 0 | F41: Total Days: (should = column B) | H41: =SUM(H13:H40)*1 -> 0 | I41: Total Amt: | L41: =SUM(L13:L40) -> 0
A43: Prepared by:
D44: Preparer e-mail: | F44: Date
A45: Approved by:
B46: Signature | D46: Approver(Please Print Name) | F46: Date
D48: Washoe County School District
D49: No-Sub Coverage Payment Form
A50: Program Description:
A51: Section 18.7.1 Effective the 2020-2021 School Year, when an elementary teacher is assigned to substitute for another teacher (when substitute teachers are unavailable) the value of the cost of the substitute base pay will be paid to the assigned teacher. In a team teaching situation when one team member is absent and no substitute teacher is available, and the present team member is assigned to substitute for the absent team member, the value of the cost of the substitute pay will be paid to the present team member. In team situations, when one team member acts as a substitute for another absent teacher’s class, the value of the one (1) substitute shall be split evenly between both team members and no more than the value of one substitute may be allocated to that classroom. Section 18.7.1 applies to all licensed educators working in an elementary school.
A53: HR Oct 2022 memo - Based on feedback from sites after implementation of this contract provision, we have modified the tracking form and system to accommodate payment in situations where classes are split among more than two (2) teachers. The benefit can now be shared by up to four (4) employees assigned to provide coverage for unfilled Guest Teacher requests.
A55: Matrix for non-approval situations
A56: NIS – Not in System | C56: Assignment is not in Red Rover and therefore cannot be approved
A57: CL - Created Late | C57: Assignment was entered in Red Rover after the start time
A58: SA - Sub attached | C58: Sub is assigned to absence, does not qualify as no sub coverage
A59: NSN - No Sub needed | C59: Sub was not required for this assignment per Red Rover
A60: PP - Previously Paid | C60: This absence was previously paid
A61: PD - Previously Denied | C61: This absence was previously denied
...

Sheet Sheet2
A1: Options | B1: % of day | C1: Approval | D1: Non-Approval Reasons | F1: Options | G1: % of day | H1: Payroll Technician | I1: Reporting
A2: 1 full Day | B2: 1 | C2: CD | D2: NIS- Not in System | E2: 1 | F2: 1 full Day | G2: 1 | H2: Ashely Arendain | I2: 2601090
A3: 1/2 of 1/2 Day | B3: 0.25 | C3: JRH | D3: CL - Created Late | E3: 0.5 | F3: 1/2 of full Day | G3: 0.5 | H3: Jenny Goodfellow | I3: 2601100
A4: 1/2 of full Day | B4: 0.5 | D4: SA - Sub Attached | F4: 1/3 of full Day | G4: 0.3333 | H4: Jennifer Chattin | I4: 2601110
A5: 1/3 of 1/2 Day | B5: 0.1667 | D5: NSN - No Sub Needed | F5: 1/4 of full Day | G5: 0.25 | I5: 2601120
A6: 1/3 of full Day | B6: 0.3333 | D6: PP - Previously Paid | F6: 1/2 of 1/2 Day | G6: 0.25 | I6: 2701010
A7: 1/4 of 1/2 Day | B7: 0.125 | D7: PD - Previously Denied | F7: 1/3 of 1/2 Day | G7: 0.1667 | I7: 2701020
A8: 1/4 of full Day | B8: 0.25 | D8: NEE - Not Eligible Emp | F8: 1/4 of 1/2 Day | G8: 0.125 | I8: 2701030
D9: EA- Employee is Absent | I9: 2701040
D10: JNE - Job Type Not Eligible | I10: 2701050
I11: 2701060
I12: 2701070
I13: 2701080
I14: 2701090
I15: 2701100
I16: 2701110
I17: 2701120
