Workbook
Name BudDetailRange: #REF!
Name budget: '[1]Data Valid'!#REF!
Name budget: #REF!
Name Budget_Object: #REF!
Name NvsASD: "V2026-03-31"
Name NvsASD: "V2026-03-31"
Name NvsASD: "V2025-06-30"
Name NvsAutoDrillOk: "VN"
Name NvsDatetonumber: "Y"
Name NvsElapsedTime: 0.0000462962925666943
Name NvsElapsedTime: 0.0000462962925666943
Name NvsElapsedTime: 0.0000231481462833472
Name NvsEndTime: 46112.5591666667
Name NvsEndTime: 46112.5591666667
Name NvsEndTime: 45929.6122106481
Name NvsInstLang: "VENG"
Name NvsInstSpec: "%,FDEPTID,V54700"
Name NvsInstSpec1: ","
Name NvsInstSpec2: ","
Name NvsInstSpec3: ","
Name NvsInstSpec4: ","
Name NvsInstSpec5: ","
Name NvsInstSpec6: ","
Name NvsInstSpec7: ","
Name NvsInstSpec8: ","
Name NvsInstSpec9: ","
Name NvsLayoutType: "M3"
Name NvsNplSpec: "%,X,RPT.BUDGET_PERIOD.,CZF.."
Name NvsPanelBusUnit: "V"
Name NvsPanelEffdt: "V1900-01-01"
Name NvsPanelSetid: "VGF010"
Name NvsReqBU: "VGF010"
Name NvsReqBUOnly: "VY"
Name NvsTransLed: "VN"
Name NvsTreeASD: "V2026-03-31"
Name NvsTreeASD: "V2026-03-31"
Name NvsTreeASD: "V2025-06-30"
Name NvsValTbl.DEPTID: "DEPARTMENT_TBL"
Name ObjectBudDetail: #REF!
Name ObjectEquip: #REF!
Name objects: '[1]Data Valid'!$D$1:$D$16
Name objects: #REF!
Name Projects: '[1]Data Valid'!$A$12:$A$21
Name Projects: #REF!

Sheet Overview
A1: 2026-27 FHM Budget - Overview
L3: 5% variance in budget will result in FHM Board re-approval for FY27
C4: FY27 Charter Budget | E4: Notes | G4: FY27 Upward Adjusted Budget | I4: Notes | K4: FY27 Charter Contingency/Revision Budget | M4: Notes
C5: 2026-2027 Approved Budget | G5: 2026-2027 Upward Adjusted | K5: 2026-2027 Contingency
C6: 5A: | D6: 1857.93 | G6: 5A: | H6: 2000 | K6: MLO: | L6: 2000 | M6: updated Sept. 2026
C7: Read Act: | D7: 0 | E7: changes from year to year | G7: Read Act: | H7: 0 | I7: changes from year to year | K7: Read Act: | L7: 8800 | M7: unconfirmed 10.4.26
C8: PPR: | D8: 11385 | E8: Base built on 11385 FY26 PPR. Adjusted up based on State Budget allocation increase. 5.14.26 MH Final PPR adjustment 11768.11 per CDE 6.2.26 MH | G8: PPR: | H8: 11768.11 | I8: FY27 PPR | K8: PPR: | L8: 11500 | M8: New funding formula initiated for Charter schools starting FY27 based on prior year + 1% or 70% FY26 formula + 30% FY27 formula, whichever is higher. As FHM was not a charter in FY26, PPR is still unconfirmed. After meeting with budget analyst, $11,500 is best estimate.
C9: SPED Tier A | D9: 1840.26 | G9: SPED Tier A | H9: 1840.26 | K9: SPED Tier A | L9: 1840.26
K10: FRL | L10: 500 | M10: FRL still unconfirmed.
C11: CDE Cap Constr. | D11: 382.6 | E11: 50% per student. Waiting for confirmation | G11: CDE Cap Constr. | H11: 382.6 | I11: 50% per student. Waiting for confirmation | K11: CDE Cap Constr. | L11: 382.6 | M11: 50% per student
C12: est FTE: | D12: 290 | G12: est FTE: | H12: 290 | K12: est FTE: | L12: 290
C13: Current Enrollment | D13: 290 | G13: Current Enrollment | H13: 290 | K13: Current Enrollment | L13: 263 | M13: 27 students/-10% compared to FY26. Roughly $307,395 budget impact
C15: Revenues | D15: Expenditures | E15: Notes | G15: Revenues | H15: Expenditures | I15: Notes | K15: Revenues | L15: Expenditures | M15: Notes
A16: General Fund | B16: Revenues
B17: PPR | C17: =ROUNDUP(SUM(D8*D12),-3) -> 3302000 | G17: =ROUNDUP(SUM(H12*H8),-3) -> 3413000 | K17: =ROUNDUP(SUM(L13*L8),-3) -> 3025000
B18: Tuition | C18: ='GF020'!C8 -> 464000 | G18: =ROUNDUP(SUM('GF020'!D8),-3) -> 400000 | K18: =ROUNDUP(SUM('GF020'!E8),-3) -> 529000
B19: UPK | C19: ='GF020'!C9 -> 318000 | G19: =ROUNDUP(SUM('GF020'!D9),-3) -> 282000 | K19: =ROUNDUP(SUM('GF020'!E9),-3) -> 282000
B20: MLO | C20: =ROUNDUP(SUM(D6*D12),-3) -> 539000 | G20: =ROUNDUP(SUM(H6*H12),-3) -> 580000 | K20: =ROUNDUP(SUM(L6*L13),-3) -> 526000
B21: SPED Tier A | C21: =ROUNDUP(SUM(D9*50),-3) -> 93000 | G21: =ROUNDUP(SUM(H9*50),-3) -> 93000 | K21: =ROUNDUP(SUM(L9*45),-3) -> 83000
B22: FRL | C22: 0 | K22: 0
B23: CDE | C23: 0 | G23: =ROUNDUP(SUM(H11*0.5*H12), -3) -> 56000 | K23: =ROUNDUP(SUM(L11*0.5*L13), -3) -> 51000
A24: GF020 | B24: Salary | D24: ='GF020'!C22 -> 2765000 | E24: applicable salaries split between GF020/CC030 | H24: =ROUNDUP(SUM('GF020'!D22),-3) -> 2785000 | I24: applicable salaries split between GF020/CC030 | L24: =ROUNDUP(SUM('GF020'!E22),-3) -> 2740000 | M24: reduced staff to support reduced FTE
B25: Benefits + PERA 21.4% | D25: 1010000 | E25: 36.5% of salary | H25: =ROUNDUP(SUM('GF020'!D26),-3) -> 1021000 | I25: 36.5% of salary | L25: =ROUNDUP(SUM('GF020'!E26),-3) -> 860000 | M25: 31.4% of salary
B26: Purchased Services | D26: =ROUNDUP(SUM('GF020'!C74+'GF020'!C53-'GF020'!C41),-3) -> 634000 | E26: services charged per pupil or flat rate | H26: =ROUNDUP(SUM('GF020'!D74+'GF020'!D53)-('GF020'!D41),-3) -> 733000 | I26: services charged per pupil or flat rate | L26: =ROUNDUP(SUM('GF020'!E53-'GF020'!E41)+('GF020'!E74),-3) -> 622000 | M26: reduced FTE reduces purchased services fee
B27: Property Expenses | D27: 250000 | E27: cost per square foot FY27; will increase 56% FY28 | H27: 250000 | I27: cost per square foot FY27; will increase 56% FY28 | L27: 250000 | M27: cost per square foot FY27; will increase 56% FY28
B28: Materials and Supplies | D28: ='GF020'!C65 -> 57000 | H28: =ROUNDUP(SUM('GF020'!D65),-3) -> 135000 | L28: =ROUNDUP(SUM('GF020'!E65), -3) -> 24000
B29: Reserve | C29: 0 | D29: 0 | G29: 0 | H29: 0 | K29: 0 | L29: 0
B30: TABOR
B31: Total Revenues: | C31: =SUM(C16:C28) -> 4716000 | G31: =ROUNDUP(SUM(G16:G28), -3) -> 4824000 | K31: =SUM(K16:K28) -> 4496000
B32: Total Expenditures: | D32: =ROUNDUP(SUM(D24:D31), -3) -> 4716000 | H32: =ROUNDUP(SUM(H24:H31), -3) -> 4924000 | L32: =SUM(L24:L31) -> 4496000
B33: Fund Total: | C33: =C31-D32 -> 0 | G33: =G31-H32 -> -100000 | K33: =K31-L32 -> 0
A36: Campus Activity | B36: Revenues | C36: =ROUNDUP(SUM('CA020'!C46),-3) -> 74000 | E36: student fees based on historical and anticipated student learning needs | G36: =ROUNDUP(SUM('CA020'!C46),-3) -> 74000 | I36: student fees based on historical and anticipated student learning needs | K36: =ROUNDUP(SUM('CA020'!C46*0.9),-3) -> 66000 | M36: fees reduce relative to decrease in FTE
A37: SR020 | B37: Expenditures | D37: =ROUNDUP(SUM('CA020'!D46), -3) -> 74000 | H37: =ROUNDUP(SUM('CA020'!D46),-3) -> 74000 | L37: =ROUNDUP(SUM('CA020'!D46*0.9),-3) -> 66000
A38: $ in = $ out | B38: Total Revenues: | C38: =SUM(C36:C37) -> 74000 | G38: =SUM(G36:G37) -> 74000 | K38: =SUM(K36:K37) -> 66000
B39: Total Expenditures: | D39: =SUM(D36:D38) -> 74000 | H39: =SUM(H36:H38) -> 74000 | L39: =SUM(L36:L38) -> 66000
B40: Fund Total: | C40: =SUM(C38-D39) -> 0 | G40: =SUM(G38-H39) -> 0 | K40: =SUM(K38-L39) -> 0
A42: Enterprise/Childcare | B42: Revenues | C42: =ROUNDUP(SUM('CC020'!C7),-3) -> 308000 | G42: =ROUNDUP(SUM('CC020'!C7),-3) -> 308000 | K42: =ROUNDUP(SUM('CC020'!G7),-3) -> 277000
A43: CC020 | B43: Salary | D43: ='CC020'!C9 -> 198000 | E43: Before and Aftercare Staff, Percentage of supporting Administrative Staff | H43: =ROUNDUP(SUM('CC020'!C9),-3) -> 198000 | I43: Before and Aftercare Staff, Percentage of supporting Administrative Staff | L43: ='CC020'!G9 -> 154000 | M43: Before and Aftercare Staff, Percentage of supporting Administrative Staff
B44: Benefits + PERA | D44: =ROUNDUP(SUM(D43*0.37),-3) -> 74000 | E44: 0.365 | H44: =ROUNDUP(SUM(H43*0.37),-3) -> 74000 | I44: 0.365 | L44: =ROUNDUP(SUM(L43*0.37),-3) -> 57000 | M44: 0.365
A45: (BAC, Camps) | B45: Purchased Services | D45: ='CC020'!C20 -> 21000 | H45: ='CC020'!C20 -> 21000 | L45: ='CC020'!G20 -> 21000
...

Sheet GF020
A1: FREE HORIZON Montessori - FY27 Budget Proposal
A2: GF020 - 54700
A3: 4.1.26 mh
A4: Account | B4: Description | C4: FY27 Approved Budget | D4: Proposed FY27 Budget | E4: FY27 Budget Revision | F4: Anticipated FY27 Grant Funds | G4: GRANT NOTES | H4: NOTES
A6: Revenues
B7: FTE: | C7: 290 | D7: 290 | E7: 263 | F7: 290 | H7: initiated contingency budget starting August 1, 2026
A8: 451000 | B8: Fees/Dues (% Increase in PK Tuition) | C8: 464000 | D8: ='Tuition Per 6 RM Model'!L13 -> 399712.05 | E8: ='Tuition Per Toddler Model'!L13+'Tuition Per Toddler Model'!J20 -> 528452.05 | H8: increase in tuition based on anticipated toddler tuition
A9: 433800 | B9: UPK | C9: 318000 | D9: ='Tuition Per 6 RM Model'!E23 -> 281079.78 | E9: ='Tuition Per Toddler Model'!F12 -> 281079.78
A10: PPR | B10: $11500 PPR @ 100% * FTE | C10: =Overview!C17 -> 3302000 | D10: =Overview!G17 -> 3413000 | E10: =Overview!K17 -> 3025000 | H10: based on $11,500 PPR estimate
A11: MLO | B11: 5A | C11: =Overview!C20 -> 539000 | D11: =Overview!H6*'GF020'!D7 -> 580000 | E11: =Overview!K20 -> 526000 | H11: MLO estimated $2000 per student as opposed to $1857 budgeted
A12: SPED | B12: Tier A | C12: =Overview!C21 -> 93000 | D12: =Overview!G21 -> 93000 | E12: =Overview!K21 -> 83000 | F12: 8800 | G12: READ Act Estimate. Fluctuates year to year
A13: FRL | B13: $500 per qualified student | E13: =Overview!K22 -> 0
A14: CDE | B14: $382.60 @ 50% Per Student | D14: =Overview!H11*0.5*'GF020'!D7 -> 55477 | E14: =(Overview!L11*'GF020'!E7)*0.5 -> 50311.9
A15: 451500 | B15: Student Fees-Registration | C15: =SUM(D15:F15) -> 0 | D15: 0 | E15: 0
B16: Revenues: | C16: =SUM(C8:C15) -> 4716000 | D16: =SUM(D8:D15) -> 4822268.8 | E16: =SUM(E8:E15) -> 4493843.7 | F16: =SUM(F8:F15) -> 8800
B18: Total Revenues | C18: =C16 -> 4716000 | D18: =D16 -> 4822268.8 | E18: =E16 -> 4493843.7 | F18: =F16 -> 8800 | H18: =E18-D18 -> -328425.1
A20: Expenditures
B22: Total Salaries | C22: 2765000 | D22: 2785000 | E22: 2740000 | F22: 0 | H22: =C22-E22 -> 25000
A24: 699000 | B24: Employee Benefits $650.00 * # of staff | C24: =650*53*12 -> 413400 | D24: =(600*59)*12 -> 424800 | E24: =(650*35)*12 -> 273000 | G24: reduced from 54 employees to 35 | H24: Actuals came in $148,000 under budget
B25: PERA (21.4%) | C25: =C22*0.214 -> 591710 | D25: =D22*0.214 -> 595990 | E25: =E22*0.214 -> 586360
B26: Total Benefits | C26: =C24+C25 -> 1005110 | D26: =D24+D25 -> 1020790 | E26: =E24+E25 -> 859360 | F26: 0 | G26: 0.31 | H26: =C26-E26 -> 145750
B28: Total Salaries + Benefits | C28: =C22+C26 -> 3770110 | D28: =D22+D26 -> 3805790 | E28: =E22+E26 -> 3599360 | F28: =F22+F26 -> 0 | H28: =C28-E28 -> 170750
A30: 702000 | B30: Employee Training & Conf | C30: 0 | F30: 43200 | G30: League of Charters admin training, Montessori Credentialing, OG training, assistant training. No revision necessary.
A31: 703000 | B31: Awards And Banquets | C31: 0
A32: 705000 | B32: Recruiting Costs | C32: 1000 | D32: 2000 | E32: 3000 | H32: increase from $1000
A33: 708000 | B33: Background Checks | C33: 1000 | D33: 1000 | E33: 1000
A34: 710000 | B34: Meals/Refreshments
A35: 713000 | B35: Student Transportation
A36: 715000 | B36: Student Admission/Entry Fees
A37: 721000 | B37: Legal Fees | C37: 5000 | D37: 5000 | E37: 12000 | H37: increase from $5,000
A38: 723000 | B38: Printing | C38: 1000 | D38: 5000 | E38: 1000
A39: 726000 | B39: Consultants | C39: 5000 | D39: 5000 | E39: 45000 | H39: to support charter transition
A40: 731000 | B40: Contracted Services | C40: 80000 | D40: 80000 | E40: 102000 | F40: 41000 | G40: EOY FY26 Server expense. Revision needed. | H40: includes School Café, annual audit, and tech support services
A41: 742000 | B41: Building Rental | C41: 250000 | D41: 250000 | E41: 250000
A42: 745000 | B42: Contract Maint/Eq Repair | C42: 0 | D42: 44000 | E42: 0
A43: 745500 | B43: Technology Services | C43: 5000 | D43: 9000 | E43: 0 | H43: moved to contracted services
A44: 746000 | B44: Const Maint/Repair-Bldg | C44: 5000 | D44: 44000 | E44: 5000
A45: 747000 | B45: Software Purch/Lease | C45: 5000 | D45: 7000 | E45: 15000 | H45: increased to purchase new software for school devices
A46: 752000 | B46: Marketing - Advertising | C46: 5000 | D46: 10000 | E46: 5000 | H46: Allocated allowable % to GSC Grant and supplement with CSN funds
A47: 760000 | B47: Telephone/Pagers/Modems | C47: 0 | D47: 0 | E47: 0
...

Sheet Scale-Educator-187 FY24
A1: Educator | C1: 187
A2: STEP | B2: FHM Level 1 | D2: FHM LEVEL 2 | F2: FHM LEVEL 3 | H2: FHM LEVEL 4 | J2: FHM LEVEL 5
B3: Annual Bachelor's Degree | C3: Daily Rate | D3: Annual (Bachelor's Degree + 20 Graduate Credits) | E3: Daily Rate | F3: Annual (Master's Degree) | G3: Daily Rate | H3: Annual (Master's Degree w/60-74 Graduate Credits) | I3: Daily Rate | J3: Annual (Master's Degree w/ 75+ Graduate Credits) | K3: Daily Rate
B4: 1 | C4: 1.5 | D4: 2 | E4: 2.5 | F4: 3 | G4: 3.5 | H4: 4 | I4: 4.5 | J4: 5 | K4: 5.5
A5: 1 | B5: 37142.75 | C5: =B5/$C$1 -> 198.62433 | D5: 41555.556 | E5: =+D5/$C$1 -> 222.22222 | F5: 45018.519 | G5: =F5/$C$1 -> 240.74074 | H5: 46007.937 | I5: =+H5/$C$1 -> 246.03175 | J5: 50000 | K5: =J5/$C$1 -> 267.37968
A6: 2 | B6: 38257.034 | C6: =B6/$C$1 -> 204.58307 | D6: 42802.222 | E6: =+D6/$C$1 -> 228.88889 | F6: 46369.074 | G6: =F6/$C$1 -> 247.96296 | H6: 47388.175 | I6: =+H6/$C$1 -> 253.4127 | J6: 50955.026 | K6: =J6/$C$1 -> 272.48677
A7: 3 | B7: 39404.745 | C7: =B7/$C$1 -> 210.72056 | D7: 44086.289 | E7: =+D7/$C$1 -> 235.75556 | F7: 47760.146 | G7: =F7/$C$1 -> 255.40185 | H7: 48809.82 | I7: =+H7/$C$1 -> 261.01508 | J7: 52483.677 | K7: =J7/$C$1 -> 280.66138
A8: 4 | B8: 40586.887 | C8: =B8/$C$1 -> 217.04218 | D8: 45408.878 | E8: =+D8/$C$1 -> 242.82822 | F8: 49192.951 | G8: =F8/$C$1 -> 263.06391 | H8: 50274.114 | I8: =+H8/$C$1 -> 268.84553 | J8: 54058.188 | K8: =J8/$C$1 -> 289.08122
A9: 5 | B9: 41804.494 | C9: =B9/$C$1 -> 223.55344 | D9: 46771.144 | E9: =+D9/$C$1 -> 250.11307 | F9: 50668.739 | G9: =F9/$C$1 -> 270.95582 | H9: 51782.338 | I9: =+H9/$C$1 -> 276.9109 | J9: 55679.933 | K9: =J9/$C$1 -> 297.75365
A10: 6 | B10: 43058.629 | C10: =B10/$C$1 -> 230.26005 | D10: 48174.278 | E10: =+D10/$C$1 -> 257.61646 | F10: 52188.801 | G10: =F10/$C$1 -> 279.0845 | H10: 53335.808 | I10: =+H10/$C$1 -> 285.21822 | J10: 57350.331 | K10: =J10/$C$1 -> 306.68626
A11: 7 | B11: 44350.388 | C11: =B11/$C$1 -> 237.16785 | D11: 49619.507 | E11: =+D11/$C$1 -> 265.34495 | F11: 53754.465 | G11: =F11/$C$1 -> 287.45703 | H11: 54935.882 | I11: =+H11/$C$1 -> 293.77477 | J11: 59070.841 | K11: =J11/$C$1 -> 315.88685
A12: 8 | B12: 45680.899 | C12: =B12/$C$1 -> 244.28288 | D12: 51108.092 | E12: =+D12/$C$1 -> 273.3053 | F12: 55367.099 | G12: =F12/$C$1 -> 296.08075 | H12: 56583.959 | I12: =+H12/$C$1 -> 302.58801 | J12: 60842.966 | K12: =J12/$C$1 -> 325.36346
A13: 9 | B13: 47051.326 | C13: =B13/$C$1 -> 251.61137 | D13: 52641.334 | E13: =+D13/$C$1 -> 281.50446 | F13: 57028.112 | G13: =F13/$C$1 -> 304.96317 | H13: 58281.477 | I13: =+H13/$C$1 -> 311.66565 | J13: 62668.255 | K13: =J13/$C$1 -> 335.12436
A14: 10 | B14: 48462.866 | C14: =B14/$C$1 -> 259.15971 | D14: 54220.575 | E14: =+D14/$C$1 -> 289.9496 | F14: 58738.956 | G14: =F14/$C$1 -> 314.11206 | H14: 60029.922 | I14: =+H14/$C$1 -> 321.01562 | J14: 64548.303 | K14: =J14/$C$1 -> 345.17809
A15: 11 | B15: 49916.752 | C15: =B15/$C$1 -> 266.9345 | D15: 55847.192 | E15: =+D15/$C$1 -> 298.64808 | F15: 60501.124 | G15: =F15/$C$1 -> 323.53542 | H15: 61830.819 | I15: =+H15/$C$1 -> 330.64609 | J15: 66484.752 | K15: =J15/$C$1 -> 355.53343
A16: 12 | B16: 51414.254 | C16: =B16/$C$1 -> 274.94254 | D16: 57522.608 | E16: =+D16/$C$1 -> 307.60753 | F16: 62316.158 | G16: =F16/$C$1 -> 333.24149 | H16: 63685.744 | I16: =+H16/$C$1 -> 340.56548 | J16: 68479.295 | K16: =J16/$C$1 -> 366.19944
... A24: 20 | B24: 65130.039 | C24: =B24/$C$1 -> 348.28898 | D24: 72867.918 | E24: =+D24/$C$1 -> 389.66801 | F24: 78940.245 | G24: =F24/$C$1 -> 422.14035 | H24: 80675.195 | I24: =+H24/$C$1 -> 431.41816 | J24: 86747.522 | K24: =J24/$C$1 -> 463.89049

Sheet Scale-Educator-189
A1: Educator | C1: 189
A3: STEP | B3: FHM LEVEL 1 | E3: FHM LEVEL 2 | H3: FHM LEVEL 3 | K3: FHM LEVEL 4 | N3: FHM LEVEL 5
B4: Annual Bachelor's Degree | C4: Daily Rate | D4: Hourly Rate | E4: Annual (Bachelor's Degree + 20 Graduate Credits) | F4: Daily Rate | G4: Hourly Rate | H4: Annual (Master's Degree) | I4: Daily Rate | J4: Hourly Rate | K4: Annual (Master's Degree w/60-74 Graduate Credits) | L4: Daily Rate | M4: Hourly Rate | N4: Annual (Master's Degree w/ 75+ Graduate Credits) | O4: Daily Rate | P4: Hourly Rate
A5: Step | B5: 1 | C5: 1.5 | E5: 2 | F5: 2.5 | H5: 3 | I5: 3.5 | K5: 4 | L5: 4.5 | N5: 5 | O5: 5.5
A6: 1 | B6: 37540 | C6: 198.62434 | D6: =+C6/8 -> 24.828042 | E6: 42000 | F6: 222.22222 | G6: =+F6/8 -> 27.777778 | H6: 45500 | I6: 240.74074 | J6: =+I6/8 -> 30.092593 | K6: 46500 | L6: 246.03175 | M6: =+L6/8 -> 30.753968 | N6: 50000 | O6: 264.55026 | P6: =+O6/8 -> 33.068783
A7: 2 | B7: =+B6*1.03 -> 38666.2 | C7: 204.58307 | D7: =+C7/8 -> 25.572884 | E7: =+E6*1.03 -> 43260 | F7: 228.88889 | G7: =+F7/8 -> 28.611111 | H7: =+H6*1.03 -> 46865 | I7: 247.96296 | J7: =+I7/8 -> 30.99537 | K7: 47895 | L7: 253.4127 | M7: =+L7/8 -> 31.676587 | N7: 51500 | O7: 272.48677 | P7: =+O7/8 -> 34.060847
A8: 3 | B8: =+B7*1.03 -> 39826.186 | C8: 210.72056 | D8: =+C8/8 -> 26.34007 | E8: =+E7*1.03 -> 44557.8 | F8: 235.75556 | G8: =+F8/8 -> 29.469444 | H8: =+H7*1.03 -> 48270.95 | I8: 255.40185 | J8: =+I8/8 -> 31.925231 | K8: 49331.85 | L8: 261.01508 | M8: =+L8/8 -> 32.626885 | N8: 53045 | O8: 280.66138 | P8: =+O8/8 -> 35.082672
A9: 4 | B9: =+B8*1.03 -> 41020.972 | C9: 217.04218 | D9: =+C9/8 -> 27.130272 | E9: =+E8*1.03 -> 45894.534 | F9: 242.82822 | G9: =+F9/8 -> 30.353528 | H9: =+H8*1.03 -> 49719.079 | I9: 263.06391 | J9: =+I9/8 -> 32.882988 | K9: 50811.806 | L9: 268.84553 | M9: =+L9/8 -> 33.605691 | N9: 54636.35 | O9: 289.08122 | P9: =+O9/8 -> 36.135152
A10: 5 | B10: =+B9*1.03 -> 42251.601 | C10: 223.55344 | D10: =+C10/8 -> 27.94418 | E10: =+E9*1.03 -> 47271.37 | F10: 250.11307 | G10: =+F10/8 -> 31.264134 | H10: =+H9*1.03 -> 51210.651 | I10: 270.95582 | J10: =+I10/8 -> 33.869478 | K10: 52336.16 | L10: 276.9109 | M10: =+L10/8 -> 34.613862 | N10: 56275.44 | O10: 297.75365 | P10: =+O10/8 -> 37.219207
A11: 6 | B11: =+B10*1.03 -> 43519.149 | C11: 230.26005 | D11: =+C11/8 -> 28.782506 | E11: =+E10*1.03 -> 48689.511 | F11: 257.61646 | G11: =+F11/8 -> 32.202058 | H11: =+H10*1.03 -> 52746.97 | I11: 279.0845 | J11: =+I11/8 -> 34.885562 | K11: 53906.244 | L11: 285.21822 | M11: =+L11/8 -> 35.652278 | N11: 57963.704 | O11: 306.68626 | P11: =+O11/8 -> 38.335783
A12: 7 | B12: =+B11*1.03 -> 44824.723 | C12: 237.16785 | D12: =+C12/8 -> 29.645981 | E12: =+E11*1.03 -> 50150.196 | F12: 265.34495 | G12: =+F12/8 -> 33.168119 | H12: =+H11*1.03 -> 54329.379 | I12: 287.45703 | J12: =+I12/8 -> 35.932129 | K12: 55523.432 | L12: 293.77477 | M12: =+L12/8 -> 36.721846 | N12: 59702.615 | O12: 315.88685 | P12: =+O12/8 -> 39.485856
A13: 8 | B13: =+B12*1.03 -> 46169.465 | C13: 244.28288 | D13: =+C13/8 -> 30.53536 | E13: =+E12*1.03 -> 51654.702 | F13: 273.3053 | G13: =+F13/8 -> 34.163163 | H13: =+H12*1.03 -> 55959.261 | I13: 296.08075 | J13: =+I13/8 -> 37.010093 | K13: 57189.135 | L13: 302.58801 | M13: =+L13/8 -> 37.823502 | N13: 61493.693 | O13: 325.36346 | P13: =+O13/8 -> 40.670432
A14: 9 | B14: =+B13*1.03 -> 47554.549 | C14: 251.61137 | D14: =+C14/8 -> 31.451421 | E14: =+E13*1.03 -> 53204.343 | F14: 281.50446 | G14: =+F14/8 -> 35.188058 | H14: =+H13*1.03 -> 57638.039 | I14: 304.96317 | J14: =+I14/8 -> 38.120396 | K14: 58904.809 | L14: 311.66565 | M14: =+L14/8 -> 38.958207 | N14: 63338.504 | O14: 335.12436 | P14: =+O14/8 -> 41.890545
A15: 10 | B15: =+B14*1.03 -> 48981.185 | C15: 259.15971 | D15: =+C15/8 -> 32.394964 | E15: =+E14*1.03 -> 54800.474 | F15: 289.9496 | G15: =+F15/8 -> 36.2437 | H15: =+H14*1.03 -> 59367.18 | I15: 314.11206 | J15: =+I15/8 -> 39.264008 | K15: 60671.953 | L15: 321.01562 | M15: =+L15/8 -> 40.126953 | N15: 65238.659 | O15: 345.17809 | P15: =+O15/8 -> 43.147261
A16: 11 | B16: =+B15*1.03 -> 50450.621 | C16: 266.9345 | D16: =+C16/8 -> 33.366813 | E16: =+E15*1.03 -> 56444.488 | F16: 298.64808 | G16: =+F16/8 -> 37.331011 | H16: =+H15*1.03 -> 61148.195 | I16: 323.53542 | J16: =+I16/8 -> 40.441928 | K16: 62492.112 | L16: 330.64609 | M16: =+L16/8 -> 41.330762 | N16: 67195.819 | O16: 355.53343 | P16: =+O16/8 -> 44.441679
A17: 12 | B17: =+B16*1.03 -> 51964.14 | C17: 274.94254 | D17: =+C17/8 -> 34.367817 | E17: =+E16*1.03 -> 58137.823 | F17: 307.60753 | G17: =+F17/8 -> 38.450941 | H17: =+H16*1.03 -> 62982.641 | I17: 333.24149 | J17: =+I17/8 -> 41.655186 | K17: 64366.875 | L17: 340.56548 | M17: =+L17/8 -> 42.570685 | N17: 69211.694 | O17: 366.19944 | P17: =+O17/8 -> 45.77493
A18: 13 | B18: =+B17*1.03 -> 53523.064 | C18: 283.19081 | D18: =+C18/8 -> 35.398852 | E18: =+E17*1.03 -> 59881.957 | F18: 316.83575 | G18: =+F18/8 -> 39.604469 | H18: =+H17*1.03 -> 64872.12 | I18: 343.23873 | J18: =+I18/8 -> 42.904842 | K18: 66297.881 | L18: 350.78244 | M18: =+L18/8 -> 43.847805 | N18: 71288.044 | O18: 377.18542 | P18: =+O18/8 -> 47.148177
... A25: 20 | B25: =+B24*1.03 -> 65826.617 | C25: 348.28898 | D25: =+C25/8 -> 43.536123 | E25: =+E24*1.03 -> 73647.254 | F25: 389.66801 | G25: =+F25/8 -> 48.708501 | H25: =+H24*1.03 -> 79784.525 | I25: 422.14035 | J25: =+I25/8 -> 52.767543 | K25: 81538.031 | L25: 431.41816 | M25: =+L25/8 -> 53.927269 | N25: 87675.303 | O25: 463.89049 | P25: =+O25/8 -> 57.986311

Sheet Scale-Educator-187 FY25
A1: Educator | C1: 187
A2: STEP | B2: FHM Level 1 | D2: FHM LEVEL 2 | F2: FHM LEVEL 3 | H2: FHM LEVEL 4 | J2: FHM LEVEL 5
B3: Annual Bachelor's Degree | C3: Daily Rate | D3: Annual (Bachelor's Degree + 20 Graduate Credits) | E3: Daily Rate | F3: Annual (Master's Degree) | G3: Daily Rate | H3: Annual (Master's Degree w/60-74 Graduate Credits) | I3: Daily Rate | J3: Annual (Master's Degree w/ 75+ Graduate Credits) | K3: Daily Rate | L3: 187 scale adjusted to accommodate reduction of 2 comp days for instructional staff while still receiveing the next anticipated 189 step. DM/MH 1.4.24
B4: 1 | C4: 1.5 | D4: 2 | E4: 2.5 | F4: 3 | G4: 3.5 | H4: 4 | I4: 4.5 | J4: 5 | K4: 5.5
A5: 1 | B5: 37540 | C5: =B5/$C$1 -> 200.74866 | D5: 42000 | E5: =+D5/$C$1 -> 224.59893 | F5: 45500 | G5: =F5/$C$1 -> 243.31551 | H5: 46500 | I5: =+H5/$C$1 -> 248.6631 | J5: 50000 | K5: =J5/$C$1 -> 267.37968
A6: 2 | B6: =+B5*1.03 -> 38666.2 | C6: =B6/$C$1 -> 206.77112 | D6: =+D5*1.03 -> 43260 | E6: =+D6/$C$1 -> 231.3369 | F6: =+F5*1.03 -> 46865 | G6: =F6/$C$1 -> 250.61497 | H6: 47895 | I6: =+H6/$C$1 -> 256.12299 | J6: 51500 | K6: =J6/$C$1 -> 275.40107
A7: 3 | B7: =+B6*1.03 -> 39826.186 | C7: =B7/$C$1 -> 212.97426 | D7: =+D6*1.03 -> 44557.8 | E7: =+D7/$C$1 -> 238.27701 | F7: =+F6*1.03 -> 48270.95 | G7: =F7/$C$1 -> 258.13342 | H7: 49331.85 | I7: =+H7/$C$1 -> 263.80668 | J7: 53045 | K7: =J7/$C$1 -> 283.6631
A8: 4 | B8: =+B7*1.03 -> 41020.972 | C8: =B8/$C$1 -> 219.36348 | D8: =+D7*1.03 -> 45894.534 | E8: =+D8/$C$1 -> 245.42532 | F8: =+F7*1.03 -> 49719.079 | G8: =F8/$C$1 -> 265.87743 | H8: 50811.806 | I8: =+H8/$C$1 -> 271.72089 | J8: 54636.35 | K8: =J8/$C$1 -> 292.17299
A9: 5 | B9: =+B8*1.03 -> 42251.601 | C9: =B9/$C$1 -> 225.94439 | D9: =+D8*1.03 -> 47271.37 | E9: =+D9/$C$1 -> 252.78807 | F9: =+F8*1.03 -> 51210.651 | G9: =F9/$C$1 -> 273.85375 | H9: 52336.16 | I9: =+H9/$C$1 -> 279.87251 | J9: 56275.44 | K9: =J9/$C$1 -> 300.93818
A10: 6 | B10: =+B9*1.03 -> 43519.149 | C10: =B10/$C$1 -> 232.72272 | D10: =+D9*1.03 -> 48689.511 | E10: =+D10/$C$1 -> 260.37172 | F10: =+F9*1.03 -> 52746.97 | G10: =F10/$C$1 -> 282.06936 | H10: 53906.244 | I10: =+H10/$C$1 -> 288.26869 | J10: 57963.704 | K10: =J10/$C$1 -> 309.96633
A11: 7 | B11: =+B10*1.03 -> 44824.723 | C11: =B11/$C$1 -> 239.7044 | D11: =+D10*1.03 -> 50150.196 | E11: =+D11/$C$1 -> 268.18287 | F11: =+F10*1.03 -> 54329.379 | G11: =F11/$C$1 -> 290.53144 | H11: 55523.432 | I11: =+H11/$C$1 -> 296.91675 | J11: 59702.615 | K11: =J11/$C$1 -> 319.26532
A12: 8 | B12: =+B11*1.03 -> 46169.465 | C12: =B12/$C$1 -> 246.89553 | D12: =+D11*1.03 -> 51654.702 | E12: =+D12/$C$1 -> 276.22835 | F12: =+F11*1.03 -> 55959.261 | G12: =F12/$C$1 -> 299.24738 | H12: 57189.135 | I12: =+H12/$C$1 -> 305.82425 | J12: 61493.693 | K12: =J12/$C$1 -> 328.84328
A13: 9 | B13: =+B12*1.03 -> 47554.549 | C13: =B13/$C$1 -> 254.3024 | D13: =+D12*1.03 -> 53204.343 | E13: =+D13/$C$1 -> 284.51521 | F13: =+F12*1.03 -> 57638.039 | G13: =F13/$C$1 -> 308.22481 | H13: 58904.809 | I13: =+H13/$C$1 -> 314.99898 | J13: 63338.504 | K13: =J13/$C$1 -> 338.70858
A14: 10 | B14: =+B13*1.03 -> 48981.185 | C14: =B14/$C$1 -> 261.93147 | D14: =+D13*1.03 -> 54800.474 | E14: =+D14/$C$1 -> 293.05066 | F14: =+F13*1.03 -> 59367.18 | G14: =F14/$C$1 -> 317.47155 | H14: 60671.953 | I14: =+H14/$C$1 -> 324.44895 | J14: 65238.659 | K14: =J14/$C$1 -> 348.86984
A15: 11 | B15: =+B14*1.03 -> 50450.621 | C15: =B15/$C$1 -> 269.78942 | D15: =+D14*1.03 -> 56444.488 | E15: =+D15/$C$1 -> 301.84218 | F15: =+F14*1.03 -> 61148.195 | G15: =F15/$C$1 -> 326.9957 | H15: 62492.112 | I15: =+H15/$C$1 -> 334.18242 | J15: 67195.819 | K15: =J15/$C$1 -> 359.33593
A16: 12 | B16: =+B15*1.03 -> 51964.14 | C16: =B16/$C$1 -> 277.8831 | D16: =+D15*1.03 -> 58137.823 | E16: =+D16/$C$1 -> 310.89745 | F16: =+F15*1.03 -> 62982.641 | G16: =F16/$C$1 -> 336.80557 | H16: 64366.875 | I16: =+H16/$C$1 -> 344.20789 | J16: 69211.694 | K16: =J16/$C$1 -> 370.11601
A17: 13 | B17: =+B16*1.03 -> 53523.064 | C17: =B17/$C$1 -> 286.21959 | D17: =+D16*1.03 -> 59881.957 | E17: =+D17/$C$1 -> 320.22437 | F17: =+F16*1.03 -> 64872.12 | G17: =F17/$C$1 -> 346.90973 | H17: 66297.881 | I17: =+H17/$C$1 -> 354.53412 | J17: 71288.044 | K17: =J17/$C$1 -> 381.21949
... A24: 20 | B24: =+B23*1.03 -> 65826.617 | C24: =B24/$C$1 -> 352.014 | D24: =+D23*1.03 -> 73647.254 | E24: =+D24/$C$1 -> 393.83558 | F24: =+F23*1.03 -> 79784.525 | G24: =F24/$C$1 -> 426.65522 | H24: 81538.031 | I24: =+H24/$C$1 -> 436.03225 | J24: 87675.303 | K24: =J24/$C$1 -> 468.85189

Sheet FHM Expenses
A32: FHM Budget | D32: SUM of Budget | M32: Purchased Services | P32: SUM of Budget | Q32: SUM of Spent | S32: Supplies & Materials | V32: SUM of Budget | W32: SUM of Spent
A33: Expenses Total | D33: =Overview!L32 -> 4496000 | M33: Jeffco Purchased Services | P33: ='GF020'!E74 -> 387483.52 | S33: Contingency Total | V33: 0
A34: Salaries & Benefits | D34: =Overview!L24+Overview!L25 -> 3600000 | M34: Other Services | P34: ='GF020'!E53-'GF020'!E41 -> 234000 | S34: Copier/Printing | V34: ='GF020'!E61 -> 15000
A35: Purchased Services | D35: =Overview!L26+Overview!L27 -> 872000 | M35: Facilities | P35: ='[2]FHM Budget'!E75 -> 250000 | S35: Office Supplies | V35: ='GF020'!E55 -> 1000
A36: Supplies & Materials | D36: =Overview!L28 -> 24000 | M36: TOTAL | P36: =P33+P35+P34 -> 871483.52 | S36: Student Supplies | V36: ='GF020'!E58+'GF020'!E62 -> 7500
S37: Grand Total | V37: =V34+V35+V36 -> 23500

Sheet FHM Revenue
A31: Great Schools Grant | D31: SUM of Budget | G31: Revenues | J31: SUM of Budget
A32: Expenses Total | D32: =D33+D34+D35+D36 -> 380860 | G32: UPK | J32: ='GF020'!E9 -> 281079.78
A33: Employee Training | D33: 43200 | G33: Tuition | J33: ='GF020'!E8 -> 528452.05
A34: Contracted Services | D34: 6000 | G34: Mill Levy Override | J34: ='GF020'!E11 -> 526000
A35: Technology | D35: 139000 | G35: PPR | J35: ='GF020'!E10 -> 3025000
A36: Classroom Materials | D36: 192660 | G36: SPED Tier A | J36: ='GF020'!E12 -> 83000
A37: Curriculum | D37: 82335 | G37: Capital Outlay | J37: ='GF020'!E14 -> 50311.9
G38: Grants
G39: Grand Total | J39: =SUM(J32:J37) -> 4493843.7

Sheet FFY26_GSC_Spend
A1: 4 | B1: 5 | C1: 6
A2: During which Academic School Year | B2: Description/Budget Narrative (Purpose, Quantity, Target User) | C2: GSC Comment/Note | D2: Amount | E2: Account Description
A4: 7/1/26-9/30/26 | B4: UE Montessori Classrooms Curriculum: 3, $20,000 full Montessori upper elementary (grades 4-6, total projected enrollment of 125) classroom outfits to provide needed curriculum for reintegrating 6th grade into upper elementary classrooms in order provide an authentic Montessori education. This will equip each environment independently and complete material sequences. Advanced apparatuses, such as the Theorem of Pythagoras, Fraction Cabinet, and Infinity Street Hierarchy, specifically support 6th grade reintegration by providing concrete visual representations for complex geometry, rational numbers, and place value concepts. Outfitting all four classrooms with dedicated sets guarantees equitable student access and seamless implementation of the 9–12 multi-age curriculum without requiring shared equipment. This materials are necessary due to the speciialization of Montessori materials needed for upper elementary students (grades 4-6) as opposed to the reduced materials need to only support grades 4 and 5. | C4: Approved. As a district-to-charter conversion school, the purchase establishes independently owned Montessori classroom environments necessary to implement the approved instructional program. | D4: =ROUND(#REF!,0) -> #REF! | E4: =_xlfn.XLOOKUP(G4,[3]Accounts!#REF!,[3]Accounts!#REF!) -> #REF!
A5: 7/1/26-9/30/26 | B5: UE Montessori Classrooms Curriculum Shipping: Freight charges for 4 full Upper Elementary classroom outfits | C5: Approved | D5: =ROUND(#REF!,0) -> #REF! | E5: =_xlfn.XLOOKUP(G5,[3]Accounts!#REF!,[3]Accounts!#REF!) -> #REF!
A6: 7/1/26-9/30/26 | B6: Café Tables: purchase 12 café tables at $2200 a piece for all grades PK-8, total projected enrollment of 400 | C6: Approved | D6: =ROUND(#REF!,0) -> #REF! | E6: =_xlfn.XLOOKUP(G6,[3]Accounts!#REF!,[3]Accounts!#REF!) -> #REF!
A7: 7/1/26-9/30/26 | B7: Server hardware: $27,900 for 1 server hardware installation to provide our students with equitable access to internet and technology supports | C7: Approved | D7: 27900 | E7: =_xlfn.XLOOKUP(G7,[3]Accounts!#REF!,[3]Accounts!#REF!) -> #REF!
A8: 7/1/26-9/30/26 | B8: Server installation: $6,200 an hour for 5 hour server labor installation | C8: Approved | D8: 7200 | E8: =_xlfn.XLOOKUP(G8,[3]Accounts!#REF!,[3]Accounts!#REF!) -> #REF!
A9: 7/1/26-9/30/26 | B9: Student Chromebooks: 180 student chromebooks purchased from the school district at $236 a piece for grades 4-8 in order to provide support for testing, including CMAS, CoGAT, and MAP testing | C9: Approved | D9: =ROUND(#REF!,0) -> #REF! | E9: =_xlfn.XLOOKUP(G9,[3]Accounts!#REF!,[3]Accounts!#REF!) -> #REF!
A10: 7/1/26-9/30/26 | B10: Classroom Assistant Training: Montessori and PDIS training for all classroom assistants at $250 per person for 23 individuals in order to provide support to all types of learner | C10: Approved | D10: =ROUND(#REF!,0) -> #REF! | E10: =_xlfn.XLOOKUP(G10,[3]Accounts!#REF!,[3]Accounts!#REF!) -> #REF!
A11: 7/1/26-9/30/26 | B11: Board of Directors Training: Provide in-person training for our Board of Directors to ensure responsible stewardship and sustainability of our newly formed charter school | C11: Approved | D11: =ROUND(#REF!,0) -> #REF! | E11: =_xlfn.XLOOKUP(G11,[3]Accounts!#REF!,[3]Accounts!#REF!) -> #REF!
A12: 7/1/26-9/30/26 | B12: Classroom consumables: one time expense to procure consumable classroom materials including paper, pencils, journals, glue, markers, crayons, binders, folders, colored pencils, tape, staples, tissue, etc., to support 400 projected students at $40 a student in a newly formed Montessori charter school | C12: Approved | D12: =ROUND(#REF!,0) -> #REF! | E12: =_xlfn.XLOOKUP(G12,[3]Accounts!#REF!,[3]Accounts!#REF!) -> #REF!
A13: 7/1/26-9/30/26 | B13: CKLA Literacy Curriculum: CDE approved literacy curriculum for grades KG-8 at $5700 per level at 4 levels. This one time expense would include instructional guides, non-consumable instructional materials, digital resources, and literacy curriculum access to all lead teachers. | C13: Approved | D13: =ROUND(#REF!,0) -> #REF! | E13: =_xlfn.XLOOKUP(G13,[3]Accounts!#REF!,[3]Accounts!#REF!) -> #REF!
A14: 7/1/26-9/30/26 | B14: Literacy Curriculum Professional development: CKLA literacy implementation teacher training at $225 per classroom for 18 classrooms | C14: Approved | D14: =ROUND(#REF!,0) -> #REF! | E14: =_xlfn.XLOOKUP(G14,[3]Accounts!#REF!,[3]Accounts!#REF!) -> #REF!
A15: 7/1/26-9/30/26 | B15: Upper Elementary Classroom Chairs: classroom chairs at $70 a chair for grades 4-6 in order to accommodate 120 students into our newly formed charter school | C15: Approved | D15: =ROUND(#REF!,0) -> #REF! | E15: =_xlfn.XLOOKUP(G15,[3]Accounts!#REF!,[3]Accounts!#REF!) -> #REF!
A16: 7/1/26-9/30/26 | B16: Sensory Classroom Kit: provide a dedicated calming, sensory sensitive space to support our neurodivergent learners who qualify for individual learning supports including individualized learning plans, 504 accommodations, and advanced learning plans, who account for approximately 30% of our confirmed 2026-2027 enrollment. The classroom would include: 2 mirror wall panels at $150 each, 3 sensory therapy tents at $120 each, 1 special need tactic wall at $2800, 1 cocoon swing at $670, 2 therapy chairs at $1200, and 1 calming corner furniture set of 2 chairs, a rug, a table, and 1 shelf at $1100 a piece, 1 platform bubble tube at $880, and 6 ball chairs at $245 a piece | C16: Approved | D16: =ROUND(#REF!,0) -> #REF! | E16: =_xlfn.XLOOKUP(G16,[3]Accounts!#REF!,[3]Accounts!#REF!) -> #REF!
A17: 7/1/26-9/30/26 | B17: Electric Keyboards: 26 electric piano keyboards at $170 a piece in order to provide music enrichment and music theory classes to grades KG-8 | C17: Approved | D17: =ROUND(#REF!,0) -> #REF! | E17: =_xlfn.XLOOKUP(G17,[3]Accounts!#REF!,[3]Accounts!#REF!) -> #REF!
A18: 7/1/26-9/30/26 | B18: School Library Seating: 6 library tables at $340 a piece, 32 table chairs at $240 a piece, and 4 curved soft seating chairs at $1500 a piece to furnish library in order to provide equitable information access to all 400 students of our newly formed Montessori charter school | C18: Approved | D18: =ROUND(#REF!,0) -> #REF! | E18: =_xlfn.XLOOKUP(G18,[3]Accounts!#REF!,[3]Accounts!#REF!) -> #REF!
A19: 7/1/26-9/30/26 | B19: School Library Shelves: 8 library shelves at $900 a piece to provide library shelving for equitable information access to all 400 students of our newly formed Montessori charter school | C19: Approved | D19: =ROUND(#REF!,0) -> #REF! | E19: =_xlfn.XLOOKUP(G19,[3]Accounts!#REF!,[3]Accounts!#REF!) -> #REF!
A20: 7/1/26-9/30/26 | B20: Non-Fiction Library Books: provide a comprehensive non-fiction section in the school library at an estimated 300 books at $15 a book which supports all grades, PK3-8 (400 projected enrollment) | C20: Approved | D20: =ROUND(#REF!,0) -> #REF! | E20: =_xlfn.XLOOKUP(G20,[3]Accounts!#REF!,[3]Accounts!#REF!) -> #REF!
... A23: 7/1/26-9/30/26 | B23: 1 mobile medical clinic cart at $1050 to support students if they are unable to come to immediately come to the clinic; 1 72inch clinic bed at $840 to provide care to students within the clinic, 1 locking storage cabinet at $1090 to maintain student safety standards | C23: Approved | D23: =ROUND(#REF!,0) -> #REF! | E23: =_xlfn.XLOOKUP(G23,[3]Accounts!#REF!,[3]Accounts!#REF!) -> #REF!

Sheet Revision Priorities
A1: Grant Revision Flow Chart
A2: 1. Student Success
A3: Curriculum, Classroom Materials, Shared Spaces
A4: ↓
A5: 2. Training
A6: Montessori Certification, Orton-Gillingham, Assistant Training, All Staff CPR, Admin Training,
A7: Board of Directors Training
A8: ↓
A9: 3. Community Engagement
A10: Event Equipment, Branding Materials, Engagement/Enrollment Facilitation
A11: ↓
A12: 4. Minor Facility Repair
A13: Indoor Paint, Outdoor Paint

Sheet Jeffco Benefits
A1: HEALTH | C1: Charter contribution: $600 Jeffco Contribution: $650 / $700
A2: Kaiser Permenente | B2: 0.0249 | C2: KP DHMO | E2: 2322.52 | F2: 193.54 | G2: KP HDHP I | I2: 1003.22 | J2: 83.6 | K2: KP HDHP II | M2: 0 | N2: 0 | O2: 7197.36
C3: Option | D3: Charter | E3: $ Increase | F3: % Increase | G3: Option | H3: Charter | I3: $ Increase | J3: % Increase | K3: Option | L3: Charter | M3: $ Increase | N3: % Increase
A4: Employee Only | C4: 137.46 | D4: 241.32 | E4: 103.86 | F4: 1.7556 | G4: 30.94 | H4: 131.38 | I4: 100.44 | J4: 4.2461 | K4: 0 | L4: 47.78 | M4: 47.78 | N4: #DIV/0!
A5: Employee & Spouse | C5: 924.91 | D5: 1048.38 | E5: 123.47 | F5: 1.1335 | G5: 709.35 | H5: 828.5 | I5: 119.15 | J5: 1.168 | K5: 520.48 | L5: 633.88 | M5: 113.4 | N5: 1.2179
A6: Employee & Child(ren) | C6: 796.17 | D6: 967.68 | E6: 171.51 | F6: 1.2154 | G6: 607.1 | H6: 758.78 | I6: 151.69 | J6: 1.9184 | K6: 411.96 | L6: 573.9 | M6: 161.94 | N6: 1.3931
A7: Employee & Family | C7: 1426.13 | D7: 1613.33 | E7: 187.2 | F7: 1.1313 | G7: 1164.66 | H7: 1316.34 | I7: 151.69 | J7: 1.1302 | K7: 880.19 | L7: 1053.79 | M7: 173.6 | N7: 1.1972
A8: Split-Contract Family | C8: 776.13 | D8: 1047.58 | E8: 271.45 | F8: 1.3497 | G8: 498.47 | H8: 750.6 | I8: 252.13 | J8: 1.5058 | K8: 230.19 | L8: 488.05 | M8: 257.86 | N8: 2.1202
C9: 650 | D9: 565.74 | G9: 666.19 | H9: 565.74 | K9: 650 | L9: 565.74
A10: United Healthcare | B10: 0.287 | C10: UHC $0 Surest Deductable | E10: 4120.69 | F10: 343.39 | G10: UHC HDHP | I10: 3357.76 | J10: 279.81
C11: Option | D11: Charter | E11: $ Increase | F11: % Increase | G11: Option | H11: Charter | I11: $ Increase | J11: % Increase
A12: Employee Only | C12: 201.47 | D12: 327.59 | E12: 126.13 | F12: 1.626 | G12: 265.04 | H12: 391.17 | I12: 126.13 | J12: 1.4759
A13: Employee & Spouse | C13: 1239.47 | D13: 1365.6 | E13: 126.13 | F13: 1.1018 | G13: 1366.63 | H13: 1492.75 | I13: 126.13 | J13: 1.0923
A14: Employee & Child(ren) | C14: 1071.31 | D14: 1261.79 | E14: 190.48 | F14: 1.7751 | G14: 924.98 | H14: 1382.59 | I14: 457.6 | J14: 2.2415
A15: Employee & Family | C15: 1901.72 | D15: 2092.2 | E15: 190.48 | F15: 1.1002 | G15: 2073.38 | H15: 2263.86 | I15: 190.48 | J15: 1.0919
A16: Split-Contract Family | C16: 1065.17 | D16: 1381.77 | E16: 316.6 | F16: 1.2972 | G16: 1236.83 | H16: 1553.43 | I16: 316.6 | J16: 1.256
C17: 836.55 | D17: 710.42 | G17: 836.55 | H17: 710.42
A19: DENTAL/ VISION | C19: Charter contribution: $0 Jeffco Contribution: $10
C20: Delta Dental PPO | E20: 0.055 | G20: Delta Dental PPO + Premier | K20: EyeMed Vision | M20: 0.115
C21: Option | D21: Charter | E21: $ Increase | F21: % Increase | G21: Option | H21: Charter | I21: $ Increase | J21: % Increase | K21: Option | L21: Charter | M21: $ Increase | N21: % Increase
A22: Employee Only | C22: 28.68 | D22: 38.68 | E22: 10 | F22: 1.3487 | G22: 40.69 | H22: 50.69 | I22: 10 | J22: 1.2458 | K22: 8.68 | L22: 8.68 | M22: 0 | N22: 1
A23: Employee & Spouse | C23: 67.37 | D23: 77.37 | E23: 10 | F23: 1.1484 | G23: 91.38 | H23: 101.38 | I23: 10 | J23: 1.1094 | K23: 17.37 | L23: 17.37 | M23: 0 | N23: 1
A24: Employee & Child(ren) | C24: 67.37 | D24: 77.37 | E24: 10 | F24: 1.1484 | G24: 91.38 | H24: 101.38 | I24: 10 | J24: 1.5547 | K24: 17.37 | L24: 17.37 | M24: 0 | N24: 1
A25: Employee & Family | C25: 106.06 | D25: 116.06 | E25: 10 | F25: 1.0943 | G25: 142.07 | H25: 152.07 | I25: 10 | J25: 1.0704 | K25: 26.05 | L25: 26.05 | M25: 0 | N25: 1
D27: FHM Constribution | I27: PERA 21% | K27: TOTAL BENEFITS
A28: FY27 Employees | C28: Benefits | D28: Medical | E28: Dental | F28: Months | G28: Monthly Total | H28: Annual Total | I28: Monthly Total | J28: Annual Total | K28: Monthly Total | L28: Annual Total
A29: 60 | C29: 600 | F29: 12 | G29: 36000 | H29: 432000 | I29: 50242.5 | J29: 602910 | K29: 86242.5 | L29: 1034910

Sheet Market Study
A4: School | C4: Program | D4: FY24 Tuition | E4: FY25 Tuition | F4: FY26 Tuition | G4: % increase | H4: Daily Rate
A5: Colorado Christian Montessori, Arvada | B5: Private | C5: PK 1.0 4D | D5: 7991 | E5: 8630 | F5: 8630 | G5: =F5/E5 -> 1 | H5: =F5/174 -> 49.597701
A6: Colorado Christian Montessori, Arvada | B6: Private | C6: PK 1.0 5D | D6: 9261 | E6: 10002 | F6: 10002 | G6: =F6/E6 -> 1 | H6: =F6/174 -> 57.482759
A7: Colorado Christian Montessori, Arvada | B7: Private | C7: PK 0.5 4D | D7: 4862 | E7: 5251 | F7: 5251 | G7: =F7/E7 -> 1 | H7: =F7/174 -> 30.178161
A8: Colorado Christian Montessori, Arvada | B8: Private | C8: PK 0.5 5D | D8: 5788 | E8: 6251 | F8: 6251 | G8: =F8/E8 -> 1 | H8: =F8/174 -> 35.925287
A9: Compass Montessori, Golden/Wheat Ridge | B9: Public Charter | C9: PK3 1.0 5D | D9: 10150 | E9: 12000 | F9: 12300 | G9: =F9/E9 -> 1.025 | H9: =F9/174 -> 70.689655
A10: Compass Montessori, Golden/Wheat Ridge | B10: Public Charter | C10: PK4 1.0 5D | D10: 0 | E10: 0 | F10: 6200 | G10: =F10/E10 -> #DIV/0! | H10: =F10/174 -> 35.632184
A11: Free Horizon Montessori, Golden | B11: Public Option | C11: PK3 1.0 3D | D11: 7086.24 | E11: 7086.24 | F11: 7200 | G11: =F11/E11 -> 1.0160536 | H11: =F11/174 -> 41.37931
A12: Free Horizon Montessori, Golden | B12: Public Option | C12: PK3 1.0 5D | D12: 9984.4 | E12: 9984.4 | F12: 10300 | G12: =F12/E12 -> 1.0316093 | H12: =F12/174 -> 59.195402
A13: Free Horizon Montessori, Golden | B13: Public Option | C13: PK4 1.0 3D | D13: 7086.24 | E13: 7334.2584 | F13: 7610.4253 | G13: =F13/E13 -> 1.0376544 | H13: =F13/174 -> 43.738077
A14: Free Horizon Montessori, Golden | B14: Public Option | C14: PK4 1.0 5D | D14: 9984.4 | E14: 10483.62 | F14: 10860.433 | G14: =F14/E14 -> 1.0359431 | H14: =F14/174 -> 62.416284
A15: Jefferson County Preschools, Jeffco | B15: Public Preschool | C15: PK3 1.0 5D | D15: 9200 | E15: 10000 | F15: 10300 | G15: =F15/E15 -> 1.03 | H15: =F15/164 -> 62.804878
A16: Jefferson County Preschools, Jeffco | B16: Public Preschool | C16: PK3 0.5 4D | D16: 4050 | E16: 5000 | F16: 5150 | G16: =F16/E16 -> 1.03 | H16: =F16/164 -> 31.402439 | P16: w/ UPK | R16: FY26/FY25 15 Hr UPK Contribution
A17: Jefferson County Preschools, Jeffco | B17: Public Preschool | C17: PK4 1.0 5D | D17: 0 | E17: 5000 | F17: 5150 | G17: =F17/E17 -> 1.03 | H17: =F17/164 -> 31.402439 | P17: w/ UPK | R17: =6110.43/6061 -> 1.0081554
A18: Jefferson County Preschools, Jeffco | B18: Public Preschool | C18: PK4 0.5 4D | D18: 0 | E18: 0 | F18: 0 | G18: =F18/E18 -> #DIV/0! | H18: =F18/174 -> 0
A19: Montessori Academy of Colorado, Denver Metro | B19: Independent/Private | C19: PK 1.0 5D | D19: 22215 | E19: 23800 | F19: 23800 | G19: =F19/E19 -> 1 | H19: =F19/174 -> 136.78161 | R19: Estimated FY27 UPK Contribution: FY26 * 1%
A20: Montessori Peaks Academy, Littleton | B20: Public Charter | C20: PK4 1.0 5D | D20: 10513.26 | E20: 10513.26 | F20: 10829 | G20: =F20/E20 -> 1.0300325 | H20: =F20/174 -> 62.235632 | R20: =6110.43*101% -> 6171.5343
A21: Montessori Peaks Academy, Littleton | B21: Public Charter | C21: PK3 1.0 4D | D21: 7500 | E21: 7650 | F21: 7880 | G21: =F21/E21 -> 1.0300654 | H21: =F21/174 -> 45.287356
A22: Montessori Peaks Academy, Littleton | B22: Public Charter | C22: PK3 1.0 5D | D22: 8400 | E22: 8570 | F22: 8827 | G22: =F22/E22 -> 1.0299883 | H22: =F22/174 -> 50.729885
A23: Montessori Peaks Academy, Littleton | B23: Public Charter | C23: PK3 0.5 4D | D23: 5500 | E23: 5610 | F23: 5778 | G23: =F23/E23 -> 1.0299465 | H23: =F23/174 -> 33.206897
A24: Montessori Peaks Academy, Littleton | B24: Public Charter | C24: PK3 0.5 5D | D24: 5950 | E24: 6070 | F24: 6252 | G24: =F24/E24 -> 1.0299835 | H24: =F24/174 -> 35.931034
A25: Montessori Peaks Academy, Littleton | B25: Public Charter | C25: PK4 0.5 5D | D25: 5890 | E25: 6010 | F25: 6190 | G25: =F25/E25 -> 1.0299501 | H25: =F25/174 -> 35.574713
A26: Montessori School of Denver, Denver | B26: Private | C26: PK 1.0 5D | D26: 23550 | E26: 24750 | F26: 24750 | G26: =F26/E26 -> 1 | H26: =F26/174 -> 142.24138
A27: Montessori School of Denver, Denver | B27: Private | C27: PK 0.5 5D | D27: 14200 | E27: 15000 | F27: 15000 | G27: =F27/E27 -> 1 | H27: =F27/174 -> 86.206897
A28: Montessori School of Evergreen, Evergreen | B28: Private | C28: PK 1.0 5D | D28: 19000 | E28: 19900 | F28: 22400 | G28: =F28/E28 -> 1.1256281 | H28: =F28/174 -> 128.73563
A29: Montessori School of Evergreen, Evergreen | B29: Private | C29: PK 0.5 5D | D29: 14000 | E29: 14900 | F29: 18900 | G29: =F29/E29 -> 1.2684564 | H29: =F29/174 -> 108.62069
A30: Sunflower Montessori School, Littleton | B30: Private (12mo-6yr) | C30: PK 1.0 5D | D30: 13250 | E30: 13250 | F30: 14330 | G30: =F30/E30 -> 1.0815094 | H30: =F30/174 -> 82.356322
A31: Sunflower Montessori School, Littleton | B31: Private (12mo-6yr) | C31: PK 1.0 4D | D31: 12250 | E31: 12250 | F31: 13250 | G31: =F31/E31 -> 1.0816327 | H31: =F31/174 -> 76.149425
A32: Sunflower Montessori School, Littleton | B32: Private (12mo-6yr) | C32: PK 0.5 5D | D32: 9800 | E32: 9800 | F32: 10600 | G32: =F32/E32 -> 1.0816327 | H32: =F32/174 -> 60.91954
A33: Sunflower Montessori School, Littleton | B33: Private (12mo-6yr) | C33: PK 0.5 4D | D33: 8800 | E33: 8800 | F33: 9250 | G33: =F33/E33 -> 1.0511364 | H33: =F33/174 -> 53.16092
A35: https://www.bls.gov/regions/mountain-plains/news-release/consumerpriceindex_denver.htm

Sheet Tuition Proposed Rate Increases
A3: Proposed Rate Increase
A4: Program | B4: Current Rate | C4: Increase | D4: Annual | E4: FY26 UPK Contribution | F4: FY26 10 Monthly Payments | G4: FY27 10 Monthly Payments | H4: Monthly Increase | I4: Annual Increase | J4: Need to increase tuition to be more in line with PPR
A5: PK5FD 3yo | B5: 10300 | C5: 0.068 | D5: =(B5*C5)+B5 -> 11000.4 | E5: 0 | F5: =C42/10 -> 1030 | G5: =D5/10 -> 1100.04 | H5: =G5-F5 -> 70.04 | I5: =H5*10 -> 700.4
A6: PK5FD 4yo | B6: 10860.43 | C6: 0.023 | D6: =(B6*C6)+B6 -> 11110.22 | E6: 6110.43 | F6: =(B6-6110)/10 -> 475.043 | G6: =(D6-E6)/10 -> 499.97899 | H6: =G6-F6 -> 24.935989 | I6: =H6*10 -> 249.35989
A7: PK3FD 3yo | B7: 7200 | C7: 0.0418 | D7: =(B7*C7)+B7 -> 7500.96 | E7: 0 | F7: =C45/10 -> 720 | G7: =D7/10 -> 750.096 | H7: =G7-F7 -> 30.096 | I7: =H7*10 -> 300.96
A8: PK3FD 4yo | B8: 7610.43 | C8: 0 | D8: =(B8*C8)+B8 -> 7610.43 | E8: 6110.43 | F8: =(B8-E8)/10 -> 150 | G8: =(D8-E8)/10 -> 150 | H8: =G8-F8 -> 0 | I8: =H8*10 -> 0
B9: Avg increase | C9: =SUM(C5:C8)*100/4 -> 3.32 | D9: %
A12: Historical Tuition Rates
A13: School Year | B13: Program | C13: Tuition Rate | D13: $ increase per year | E13: % Increase Year over Year | F13: Average
B14: PK45FD
A15: 2014_15 | C15: 6690 | F15: =(E16+E17+E18+E19+E20+E21+E22+E23+E24+E25+E26)/11 -> 0.042933224
A16: 2015_16 | C16: 7169 | D16: =C16-C15 -> 479 | E16: =D16/C16 -> 0.066815455
A17: 2016_17 | C17: 7384 | D17: =C17-C16 -> 215 | E17: =D17/C17 -> 0.02911701
A18: 2017_18 | C18: 7606 | D18: =C18-C17 -> 222 | E18: =D18/C18 -> 0.029187484
A19: 2018_19 | C19: 7872 | D19: =C19-C18 -> 266 | E19: =D19/C19 -> 0.03379065
A20: 2019_20 | C20: 8069 | D20: =C20-C19 -> 197 | E20: =D20/C20 -> 0.024414426
A21: 2020_21 | C21: 8470 | D21: =C21-C20 -> 401 | E21: =D21/C21 -> 0.047343566
A22: 2021_22 | C22: 8724 | D22: =C22-C21 -> 254 | E22: =D22/C22 -> 0.029115085
A23: 2022_23 | C23: 9160 | D23: =C23-C22 -> 436 | E23: =D23/C23 -> 0.047598253
A24: 2023_24 | C24: 9984.4 | D24: =C24-C23 -> 824.4 | E24: =D24/C24 -> 0.082568807
A25: 2024_25 | B25: w/o UPK | C25: 10483.62 | D25: =C25-C24 -> 499.22 | E25: =D25/C25 -> 0.047619048
A26: 2025_26 | B26: w/o UPK | C26: 10860.43 | D26: =C26-C25 -> 376.81 | E26: =D26/C26 -> 0.03469568
B27: PK43FD
A28: 2014_15 | C28: 4800 | F28: =(E29+E30+E31+E32+E33+E34+E35+E36+E37+E38+E39)/11 -> 0.040766905
A29: 2015_16 | C29: 4944 | D29: =C29-C28 -> 144 | E29: =D29/C29 -> 0.029126214
A30: 2016_17 | C30: 5092 | D30: =C30-C29 -> 148 | E30: =D30/C30 -> 0.0290652
A31: 2017_18 | C31: 5245 | D31: =C31-C30 -> 153 | E31: =D31/C31 -> 0.029170639
A32: 2018_19 | C32: 5429 | D32: =C32-C31 -> 184 | E32: =D32/C32 -> 0.033892061
A33: 2019_20 | C33: 5565 | D33: =C33-C32 -> 136 | E33: =D33/C33 -> 0.024438455
A34: 2020_21 | C34: 5850 | D34: =C34-C33 -> 285 | E34: =D34/C34 -> 0.048717949
A35: 2021_22 | C35: 6025 | D35: =C35-C34 -> 175 | E35: =D35/C35 -> 0.029045643
A36: 2022_23 | C36: 6327 | D36: =C36-C35 -> 302 | E36: =D36/C36 -> 0.047731942
A37: 2023_24 | C37: 7086.24 | D37: =C37-C36 -> 759.24 | E37: =D37/C37 -> 0.10714286
A38: 2024_25 | B38: w/o UPK | C38: 7334.26 | D38: =C38-C37 -> 248.02 | E38: =D38/C38 -> 0.033816636
A39: 2025_26 | B39: w/o UPK | C39: 7610.43 | D39: =C39-C38 -> 276.17 | E39: =D39/C39 -> 0.036288357
B40: PK35FD
A41: 2024_25 | C41: 9984.4 | D41: 0 | E41: =D41/C41 -> 0 | F41: =(E41+E42)/2 -> 0.015320388
A42: 2025_26 | C42: 10300 | D42: =C42-C41 -> 315.6 | E42: =D42/C42 -> 0.030640777
B43: PK33FD
A44: 2024_25 | C44: 7086.24 | D44: 0 | E44: =D44/C44 -> 0 | F44: =(E44+E45)/2 -> 0.0079
...

Sheet Tuition Per 6 RM Model
A1: PK Revenue
A3: Proposed Tuition Rates - 5 full day rooms, 1 3 day room
A4: Program | B4: Full Tuition | C4: UPK Slots | D4: 25_26 Current Tuition Rate | E4: 26_27 Purposed Tuition Rate | F4: % Change | G4: 26_27 UPK Rate | H4: 26_27 Monthly Tuition | I4: 26_27 Daily Rate | J4: 26_27 Hourly Rate | K4: Annual $ Program Change | L4: Total Tuition at New Rate | M4: Notes
A5: KG | B5: 44
A6: 3 year old PK5FD | B6: 15 | C6: 0 | D6: 10300 | E6: =(D6*F6)+D6 -> 11000.4 | F6: ='Tuition Proposed Rate Increases'!C5 -> 0.068 | H6: =(E6-G6)/10 -> 1100.04 | I6: =H6/20 -> 55.002 | J6: =I6/7 -> 7.8574286 | K6: =D6*F6 -> 700.4 | L6: =E6*B6 -> 165006 | M6: add additional 3 day in 5 day if necessary
A7: 3 year old PK3FD | B7: 7 | C7: 0 | D7: 7200 | E7: =(D7*F7)+D7 -> 7500.96 | F7: ='Tuition Proposed Rate Increases'!C7 -> 0.0418 | H7: =(E7-G7)/10 -> 750.096 | I7: =H7/12 -> 62.508 | J7: =I7/7 -> 8.9297143 | K7: =D7*F7 -> 300.96 | L7: =E7*B7 -> 52506.72
A8: 4 year old PK5FD | B8: 0 | C8: 41 | D8: 10860.433 | E8: =(D8*F8)+D8 -> 11110.223 | F8: ='Tuition Proposed Rate Increases'!C6 -> 0.023 | G8: 6110.43 | H8: =(E8-G8)/10 -> 499.97934 | I8: =(E8/10)/20 -> 55.551117 | J8: =I8/7 -> 7.9358739 | K8: =D8*F8 -> 249.78997 | L8: =E8*C8 -> 455519.16 | M8: add additional 3 day in 5 day if necessary
A9: 4 year old PK3FD | B9: 0 | C9: 5 | D9: 7610.4253 | E9: =(D9*F9)+D9 -> 7610.4253 | F9: ='Tuition Proposed Rate Increases'!C8 -> 0 | G9: 6110.43 | H9: =(E9-G9)/10 -> 149.99953 | I9: =(E9/10)/12 -> 63.420211 | J9: =I9/7 -> 9.0600301 | K9: =D9*F9 -> 0 | L9: =E9*C9 -> 38052.127
B10: =SUM(B6:B9) -> 22 | C10: =SUM(C8:C9) -> 46 | L10: =SUM(L5:L9) -> 711084.01
A11: TOTAL Primary PIF | B11: =B5+B12 -> 112 | J11: PIF Discounts | K11: 0.0426 | L11: =L10*K11 -> 30292.179
A12: Total Preschool | B12: =B10+C10 -> 68 | E12: =G8*C8 -> 250527.63 | L12: =L10-L11 -> 680791.83
E13: =G9*C9 -> 30552.15 | L13: =L12-E23 -> 399712.05
A14: Proposed Tuition Rates - 1 mixed toddler room
A15: Toddler Program | B15: Slots | C15: Avg Area Rate | D15: 26-27 Proposed Tuition Rate | E15: 26_27 Monthly Rate | F15: 26_27 Weekly Rate | G15: 26_27 Daily Rate | H15: 26_27 Hourly Rate | I15: Annual $ Program Change | J15: Total Tuition at New Rate | K15: Notes
A16: Part time Slot (3day) | B16: 0 | C16: 16725 | D16: 16500 | E16: =D16/10 -> 1650 | F16: =E16/4 -> 412.5 | G16: =F16/3 -> 137.5 | H16: =G16/7 -> 19.642857 | I16: 0 | J16: =D16*B16 -> 0
A17: Full Day Slot (5day) | B17: 0 | C17: 22526 | D17: 20000 | E17: =D17/10 -> 2000 | F17: =E17/4 -> 500 | G17: =F17/5 -> 100 | H17: =G17/7 -> 14.285714 | I17: 0 | J17: =D17*B17 -> 0
A18: Total Toddler | B18: =B16+B17 -> 0 | J18: =SUM(J16:J17) -> 0
H19: PIF Discounts | I19: 0.0426 | J19: =J17*I19 -> 0
J20: =J18-J19 -> 0
I22: TOTAL RVNUE | J22: =L12+J20 -> 680791.83
E23: =SUM(E12:E13) -> 281079.78
K24: Toddler Room
A25: Colorado Christian Montessori, Arvada | B25: Private | C25: PK 1.0 4D | D25: 7991 | E25: 8630 | F25: =E25/D25 -> 1.079965 | G25: =E25/174 -> 49.597701 | K25: Revenue | L25: =J20 -> 0
A26: Colorado Christian Montessori, Arvada | B26: Private | C26: PK 1.0 5D | D26: 9261 | E26: 10002 | F26: =E26/D26 -> 1.080013 | G26: =E26/174 -> 57.482759 | K26: Salaries | L26: 80000 | M26: 1 FT lead, 1 FT assnt
A27: Colorado Christian Montessori, Arvada | B27: Private | C27: PK 0.5 4D | D27: 4862 | E27: 5251 | F27: =E27/D27 -> 1.0800082 | G27: =E27/174 -> 30.178161 | K27: Benefits (37%) | L27: =L26*0.37 -> 29600
A28: Colorado Christian Montessori, Arvada | B28: Private | C28: PK 0.5 5D | D28: 5788 | E28: 6251 | F28: =E28/D28 -> 1.0799931 | G28: =E28/174 -> 35.925287 | K28: Expns | L28: =L26+L27 -> 109600
A29: Compass Montessori, Golden/Wheat Ridge | B29: Public Charter | C29: PK 1.0 5D | D29: 10150 | E29: 12000 | F29: =E29/D29 -> 1.182266 | G29: =E29/174 -> 68.965517 | K29: Difference | L29: =L25-L28 -> -109600
A30: Free Horizon Montessori, Golden | B30: Public Option | C30: PK3 1.0 3D | D30: 7086.24 | E30: 7086.24 | F30: 0 | G30: =E30/174 -> 40.725517 | K30: 5 Day
A31: Free Horizon Montessori, Golden | B31: Public Option | C31: PK3 1.0 5D | D31: 9984.4 | E31: 9984.4 | F31: 0 | G31: =E31/174 -> 57.381609 | K31: Revenue | L31: =(L6+L8)*0.95 -> 589498.9
A32: Free Horizon Montessori, Golden | B32: Public Option | C32: PK4 1.0 3D | D32: 7086.24 | E32: 7334.2584 | F32: =E32/D32 -> 1.035 | G32: =E32/174 -> 42.15091 | K32: Salaries | L32: 431650 | M32: 6 FT Leads, 12 FT assnts
A33: Free Horizon Montessori, Golden | B33: Public Option | C33: PK4 1.0 5D | D33: 9984.4 | E33: 10483.62 | F33: =E33/D33 -> 1.05 | G33: =E33/174 -> 60.25069 | K33: Benefits (37%) | L33: =L32*0.37 -> 159710.5
A34: Jefferson County Preschools, Jeffco | B34: Public Preschool | C34: PK3 1.0 5D | D34: 9200 | E34: 10000 | F34: =E34/D34 -> 1.0869565 | G34: =E34/174 -> 57.471264 | K34: Expns | L34: =SUM(L32:L33) -> 591360.5
A35: Jefferson County Preschools, Jeffco | B35: Public Preschool | C35: PK3 0.5 4D | D35: 4050 | E35: 5000 | F35: =E35/D35 -> 1.2345679 | G35: =E35/174 -> 28.735632 | K35: Difference | L35: =L31-L34 -> -1861.5977
A36: Jefferson County Preschools, Jeffco | B36: Public Preschool | C36: PK4 1.0 5D | E36: 5000 | G36: =E36/174 -> 28.735632 | I36: w/ UPK | K36: 3 Day
A37: Jefferson County Preschools, Jeffco | B37: Public Preschool | C37: PK4 0.5 4D | E37: 0 | G37: =E37/174 -> 0 | I37: w/ UPK | K37: Revenue | L37: =L7+L9 -> 90558.847
A38: Montessori Academy of Colorado, Denver Metro | B38: Independent/Private | C38: PK 1.0 5D | D38: 22215 | E38: 23800 | F38: =E38/D38 -> 1.0713482 | G38: =E38/174 -> 136.78161 | K38: Salaries | L38: 82000 | M38: 1 FT Lead, 2 PT assnts
A39: Montessori Peaks Academy, Littleton | B39: Public Charter | C39: PK4 1.0 5D | D39: 10513.26 | E39: 10513.26 | F39: 0 | G39: =E39/174 -> 60.421034 | I39: FT UPK Amount FY24 | K39: Benefits (37%) | L39: =L38*0.37 -> 30340
A40: Montessori Peaks Academy, Littleton | B40: Public Charter | C40: PK3 1.0 4D | D40: 7500 | E40: 7650 | F40: =E40/D40 -> 1.02 | G40: =E40/174 -> 43.965517 | K40: Expns | L40: =SUM(L38:L39) -> 112340
A41: Montessori Peaks Academy, Littleton | B41: Public Charter | C41: PK3 1.0 5D | D41: 8400 | E41: 8570 | F41: =E41/D41 -> 1.0202381 | G41: =E41/174 -> 49.252874 | K41: Difference | L41: =L37-L40 -> -21781.153
A42: Montessori Peaks Academy, Littleton | B42: Public Charter | C42: PK3 0.5 4D | D42: 5500 | E42: 5610 | F42: =E42/D42 -> 1.02 | G42: =E42/174 -> 32.241379 | K42: Floats
...

Sheet Tuition Per Toddler Model
A1: PK Revenue
A3: Proposed Tuition Rates - 5 full day rooms, 1 3 day room
A4: Program | B4: Full Tuition | C4: UPK Slots | D4: 25_26 Current Tuition Rate | E4: 26_27 Purposed Tuition Rate | F4: % Change | G4: 26_27 UPK Rate | H4: 26_27 Monthly Tuition | I4: 26_27 Daily Rate | J4: 26_27 Hourly Rate | K4: Annual $ Program Change | L4: Total Tuition at New Rate | M4: Notes
A5: KG | B5: 44
A6: 3 year old PK5FD | B6: 15 | C6: 0 | D6: 10300 | E6: =(D6*F6)+D6 -> 11000.4 | F6: ='Tuition Proposed Rate Increases'!C5 -> 0.068 | H6: =(E6-G6)/10 -> 1100.04 | I6: =H6/20 -> 55.002 | J6: =I6/7 -> 7.8574286 | K6: =D6*F6 -> 700.4 | L6: =E6*B6 -> 165006 | M6: add additional 3 day in 5 day if necessary
A7: 3 year old PK3FD | B7: 7 | C7: 0 | D7: 7200 | E7: =(D7*F7)+D7 -> 7500.96 | F7: ='Tuition Proposed Rate Increases'!C7 -> 0.0418 | H7: =(E7-G7)/10 -> 750.096 | I7: =H7/12 -> 62.508 | J7: =I7/7 -> 8.9297143 | K7: =D7*F7 -> 300.96 | L7: =E7*B7 -> 52506.72
A8: 4 year old PK5FD | B8: 0 | C8: 41 | D8: 10860.433 | E8: =(D8*F8)+D8 -> 11110.223 | F8: ='Tuition Proposed Rate Increases'!C6 -> 0.023 | G8: 6110.43 | H8: =(E8-G8)/10 -> 499.97934 | I8: =(E8/10)/20 -> 55.551117 | J8: =I8/7 -> 7.9358739 | K8: =D8*F8 -> 249.78997 | L8: =E8*C8 -> 455519.16 | M8: add additional 3 day in 5 day if necessary
A9: 4 year old PK3FD | B9: 0 | C9: 5 | D9: 7610.4253 | E9: =(D9*F9)+D9 -> 7610.4253 | F9: ='Tuition Proposed Rate Increases'!C8 -> 0 | G9: 6110.43 | H9: =(E9-G9)/10 -> 149.99953 | I9: =(E9/10)/12 -> 63.420211 | J9: =I9/7 -> 9.0600301 | K9: =D9*F9 -> 0 | L9: =E9*C9 -> 38052.127
B10: =SUM(B6:B9) -> 22 | C10: =SUM(C8:C9) -> 46 | L10: =SUM(L5:L9) -> 711084.01
A11: TOTAL Primary PIF | B11: =B5+B12 -> 112 | J11: PIF Discounts | K11: 0.0426 | L11: =L10*K11 -> 30292.179
A12: Total Preschool | B12: =B10+C10 -> 68 | E12: =G8*C8 -> 250527.63 | F12: =E12+E13 -> 281079.78 | L12: =L10-L11 -> 680791.83
E13: =G9*C9 -> 30552.15 | L13: =L12-F12 -> 399712.05 | M13: less UPK
A14: Proposed Tuition Rates - 1 mixed toddler room
A15: Toddler Program | B15: Slots | C15: Avg Area Rate | D15: 26-27 Proposed Tuition Rate | E15: 26_27 Monthly Rate | F15: 26_27 Weekly Rate | G15: 26_27 Daily Rate | H15: 26_27 Hourly Rate | I15: Annual $ Program Change | J15: Total Tuition at New Rate | K15: Notes
A16: Part time Slot (3day) | B16: 2 | C16: 16725 | D16: 16500 | E16: =D16/10 -> 1650 | F16: =E16/4 -> 412.5 | G16: =F16/3 -> 137.5 | H16: =G16/7 -> 19.642857 | I16: 0 | J16: =D16*B16 -> 33000
A17: Full Day Slot (5day) | B17: 5 | C17: 22526 | D17: 20000 | E17: =D17/10 -> 2000 | F17: =E17/4 -> 500 | G17: =F17/5 -> 100 | H17: =G17/7 -> 14.285714 | I17: 0 | J17: =D17*B17 -> 100000
A18: Total Toddler | B18: =B16+B17 -> 7 | J18: =SUM(J16:J17) -> 133000
H19: PIF Discounts | I19: 0.0426 | J19: =J17*I19 -> 4260
J20: =J18-J19 -> 128740
I22: TOTAL RVNUE | J22: =L12+J20 -> 809531.83
I23: less UPK | J23: =J22-F12 -> 528452.05
K24: Toddler Room
A25: Colorado Christian Montessori, Arvada | B25: Private | C25: PK 1.0 4D | D25: 7991 | E25: 8630 | F25: =E25/D25 -> 1.079965 | G25: =E25/174 -> 49.597701 | K25: Revenue | L25: =J20 -> 128740
A26: Colorado Christian Montessori, Arvada | B26: Private | C26: PK 1.0 5D | D26: 9261 | E26: 10002 | F26: =E26/D26 -> 1.080013 | G26: =E26/174 -> 57.482759 | K26: Salaries | L26: 80000 | M26: 1 FT lead, 1 FT assnt
A27: Colorado Christian Montessori, Arvada | B27: Private | C27: PK 0.5 4D | D27: 4862 | E27: 5251 | F27: =E27/D27 -> 1.0800082 | G27: =E27/174 -> 30.178161 | K27: Benefits (37%) | L27: =L26*0.37 -> 29600
A28: Colorado Christian Montessori, Arvada | B28: Private | C28: PK 0.5 5D | D28: 5788 | E28: 6251 | F28: =E28/D28 -> 1.0799931 | G28: =E28/174 -> 35.925287 | K28: Expns | L28: =L26+L27 -> 109600
A29: Compass Montessori, Golden/Wheat Ridge | B29: Public Charter | C29: PK 1.0 5D | D29: 10150 | E29: 12000 | F29: =E29/D29 -> 1.182266 | G29: =E29/174 -> 68.965517 | K29: Difference | L29: =L25-L28 -> 19140
A30: Free Horizon Montessori, Golden | B30: Public Option | C30: PK3 1.0 3D | D30: 7086.24 | E30: 7086.24 | F30: 0 | G30: =E30/174 -> 40.725517 | K30: 5 Day
A31: Free Horizon Montessori, Golden | B31: Public Option | C31: PK3 1.0 5D | D31: 9984.4 | E31: 9984.4 | F31: 0 | G31: =E31/174 -> 57.381609 | K31: Revenue | L31: =(L6+L8)*0.95 -> 589498.9
A32: Free Horizon Montessori, Golden | B32: Public Option | C32: PK4 1.0 3D | D32: 7086.24 | E32: 7334.2584 | F32: =E32/D32 -> 1.035 | G32: =E32/174 -> 42.15091 | K32: Salaries | L32: 431650 | M32: 6 FT Leads, 12 FT assnts
A33: Free Horizon Montessori, Golden | B33: Public Option | C33: PK4 1.0 5D | D33: 9984.4 | E33: 10483.62 | F33: =E33/D33 -> 1.05 | G33: =E33/174 -> 60.25069 | K33: Benefits (37%) | L33: =L32*0.37 -> 159710.5
A34: Jefferson County Preschools, Jeffco | B34: Public Preschool | C34: PK3 1.0 5D | D34: 9200 | E34: 10000 | F34: =E34/D34 -> 1.0869565 | G34: =E34/174 -> 57.471264 | K34: Expns | L34: =SUM(L32:L33) -> 591360.5
A35: Jefferson County Preschools, Jeffco | B35: Public Preschool | C35: PK3 0.5 4D | D35: 4050 | E35: 5000 | F35: =E35/D35 -> 1.2345679 | G35: =E35/174 -> 28.735632 | K35: Difference | L35: =L31-L34 -> -1861.5977
A36: Jefferson County Preschools, Jeffco | B36: Public Preschool | C36: PK4 1.0 5D | E36: 5000 | G36: =E36/174 -> 28.735632 | I36: w/ UPK | K36: 3 Day
A37: Jefferson County Preschools, Jeffco | B37: Public Preschool | C37: PK4 0.5 4D | E37: 0 | G37: =E37/174 -> 0 | I37: w/ UPK | K37: Revenue | L37: =L7+L9 -> 90558.847
