Workbook
Name Stop: 'Mileage Sheet as of 2023-01-04'!$A$4:$A$43

Sheet Form
A1: ONTARIO-MONTCLAIR SCHOOL DISTRICT Certification of Expenses
B2: Account String | J2: VALID FOR JANUARY THROUGH JUNE 2026 ONLY
A3: Vendor Number | B3: Fund | C3: Resource | D3: Year | E3: Goal | F3: Function | G3: Object | H3: Site | I3: Management
D4: 0 | J4: Deliver via: (Select from) | K4: Direct Deposit --->
A5: Employee Name (Last, First M.) | K5: Mail to Home --->
A6: Employee Home Address | F6: City | I6: State | K6: ZIP
I7: CA
A8: Date | B8: Origination | E8: Destinations (Including Terminal Destination) | L8: Miles
K20: Total Miles Driven | L20: =ROUND(SUM(L9:L19),1) -> 0
K21: IRS Rate per Mile | L21: 0.725
K22: Mileage Reimbursement [A] | L22: =ROUND(L20*L21,2) -> 0
A23: Date | B23: Expenses Other Than Mileage and Overnight Travel Reimbursements (Please Specify) | L23: Amount
K29: Total Expenses [B] | L29: =SUM(L24:L28) -> 0
A30: I certify that this certification of expenses claim is true and correct, that the expenses were actually incurred by me as necessary in the performance of official duties and that the expenses listed herin are legal and reimbursable expenses under BP 3350 & AR 3350. | E30: Accounting Office Use Only | K30: TOTAL REIMBURSEMENT [A]+[B] | L30: =L22+L29 -> 0
E31: Total mileage reimbursement for all sheets submitted:
E33: $
A34: Only original signatures will be accepted. | I34: Only original signatures will be accepted.
A37: Signature of Traveler/Claimant | D37: Date | E37: Due to Accounting the month following travel. | I37: Supervisor Signature | L37: Date
A39: BUSINESS USE ONLY: | I39: Supervisor's Printed Name:
A40: Revised 10/9/2026 JS/lg

Sheet Receipts Form - Portrait
A1: ONTARIO-MONTCLAIR SCHOOL DISTRICT Certification of Expenses
B2: Account String
A3: Vendor Number | B3: Fund | C3: Resource | D3: Year | E3: Goal | F3: Function | G3: Object | H3: Site | I3: Management
B4: =IF([1]Form!B4="","",[1]Form!B4) | C4: =IF([1]Form!C4="","",[1]Form!C4) | D4: 0 | E4: =IF([1]Form!E4="","",[1]Form!E4) | F4: =IF([1]Form!F4="","",[1]Form!F4) | G4: =IF([1]Form!G4="","",[1]Form!G4) | H4: =IF([1]Form!H4="","",[1]Form!H4) | I4: =IF([1]Form!I4="","",[1]Form!I4) | J4: Deliver to: (Select from) | K4: Home ---> | L4: =IF([1]Form!L4="","",[1]Form!L4)
A5: Employee Name (Last, First M.) | C5: =IF([1]Form!C5="","",[1]Form!C5) | K5: Pick up from HFB ---> | L5: =IF([1]Form!L5="","",[1]Form!L5)
A6: Employee Home Address | F6: City | I6: State | K6: ZIP
A7: =IF([1]Form!A7="","",[1]Form!A7) | F7: =IF([1]Form!F7="","",[1]Form!F7) | I7: =[1]Form!I7 -> 0 | K7: =IF([1]Form!K7="","",[1]Form!K7)
B9: Date | H9: Date
A11: Staple the original, itemized receipt. Copies, receipts that are not itemized, and receipts that are illegible will not be reimbursed. | G11: Staple the original, itemized receipt. Copies, receipts that are not itemized, and receipts that are illegible will not be reimbursed.

Sheet Receipts Form - Landscape
A1: ONTARIO-MONTCLAIR SCHOOL DISTRICT Certification of Expenses
B2: Account String
A3: Vendor Number | B3: Fund | C3: Resource | D3: Year | E3: Goal | F3: Function | G3: Object | H3: Site | I3: Management
B4: =IF(Form!B4="","",Form!B4) | C4: =IF(Form!C4="","",Form!C4) | D4: 0 | E4: =IF(Form!E4="","",Form!E4) | F4: =IF(Form!F4="","",Form!F4) | G4: =IF(Form!G4="","",Form!G4) | H4: =IF(Form!H4="","",Form!H4) | I4: =IF(Form!I4="","",Form!I4) | J4: Deliver to: (Select from) | K4: Home ---> | L4: =IF(Form!L4="","",Form!L4)
A5: Employee Name (Last, First M.) | C5: =IF(Form!C5="","",Form!C5) | K5: Pick up from HFB ---> | L5: =IF(Form!L5="","",Form!L5)
A6: Employee Home Address | F6: City | I6: State | K6: ZIP
A7: =IF(Form!A7="","",Form!A7) | F7: =IF(Form!F7="","",Form!F7) | I7: =Form!I7 -> CA | K7: =IF(Form!K7="","",Form!K7)
A9: Date | E9: Date | I9: Date
A11: Staple the original, itemized receipt. Copies, receipts that are not itemized, and receipts that are illegible will not be reimbursed. | E11: Staple the original, itemized receipt. Copies, receipts that are not itemized, and receipts that are illegible will not be reimbursed. | I11: Staple the original, itemized receipt. Copies, receipts that are not itemized, and receipts that are illegible will not be reimbursed.

Sheet Mileage Sheet as of 2023-01-04
A1: Mileage Chart
A2: SCHOOL | B2: HFB | C2: Arroyo | D2: Berlyn | E2: Bon View | F2: Whse/Trans | G2: Buena Vista | H2: Central Language | I2: Corona | J2: De Anza | K2: Del Norte | L2: Edison | M2: El Camino | N2: Elderberry | O2: Euclid | P2: Hawthorne | Q2: Haynes | R2: Howard | S2: Kingsley | T2: Lehigh/HWS Montclair (CM) | U2: Lincoln | V2: LVista/HWS Ontario/PEC | W2: Hardy Ctr/OMSDCC/F&N | X2: Mariposa | Y2: Mission | Z2: Monte Vista | AA2: Montera | AB2: Moreno | AC2: Oaks | AD2: Ramona | AE2: Serrano | AF2: Sultana | AG2: Vernon | AH2: Vista Grande | AI2: Vina Danks | AJ2: Vineyard | AK2: Wiltsey | AL2: HWS Montclair(MH)(House) | AM2: IS Warehouse | AN2: OMSEFCU | AO2: Brooks Warehouse
A3: Index | B3: 2 | C3: 3 | D3: 4 | E3: 5 | F3: 6 | G3: 7 | H3: 8 | I3: 9 | J3: 10 | K3: 11 | L3: 12 | M3: 13 | N3: 14 | O3: 15 | P3: 16 | Q3: 17 | R3: 18 | S3: 19 | T3: 20 | U3: 21 | V3: 22 | W3: 23 | X3: 24 | Y3: 25 | Z3: 26 | AA3: 27 | AB3: 28 | AC3: 29 | AD3: 30 | AE3: 31 | AF3: 32 | AG3: 33 | AH3: 34 | AI3: 35 | AJ3: 36 | AK3: 37 | AL3: 38 | AM3: 39 | AN3: 40 | AO3: 41
A4: HFB | B4: x | C4: 4.4 | D4: 2.6 | E4: 3.9 | F4: 3.1 | G4: 1.6 | H4: 1.4 | I4: 3.9 | J4: 2.5 | K4: 2.8 | L4: 2.5 | M4: 1.7 | N4: 1 | O4: 1.9 | P4: 1.5 | Q4: 2.4 | R4: 3.1 | S4: 0.9 | T4: 2.5 | U4: 1.7 | V4: 2.7 | W4: 3.2 | X4: 2.7 | Y4: 2.1 | Z4: 2.1 | AA4: 2 | AB4: 3.4 | AC4: 1.7 | AD4: 3.7 | AE4: 3.3 | AF4: 3 | AG4: 1.8 | AH4: 2.3 | AI4: 1.3 | AJ4: 3.9 | AK4: 2.9 | AL4: 1.8 | AM4: 2.6 | AN4: 1.7 | AO4: 0.7
A5: Arroyo | B5: 4.4 | C5: x | D5: 1.8 | E5: 4.9 | F5: 4.1 | G5: 4.5 | H5: 3 | I5: 1.1 | J5: 4.6 | K5: 1.6 | L5: 1.9 | M5: 4.1 | N5: 4.3 | O5: 4.6 | P5: 3 | Q5: 6 | R5: 7.6 | S5: 5.8 | T5: 6.7 | U5: 2.7 | V5: 4.8 | W5: 4.2 | X5: 2.2 | Y5: 6.6 | Z5: 5.7 | AA5: 6.7 | AB5: 5.3 | AC5: 6.3 | AD5: 8.2 | AE5: 5.7 | AF5: 5.1 | AG5: 5.2 | AH5: 6.8 | AI5: 3.1 | AJ5: 0.5 | AK5: 2.3 | AL5: 5.7 | AM5: 6.8 | AN5: 1.7 | AO5: 5
A6: Berlyn | B6: 2.6 | C6: 1.8 | D6: x | E6: 3.6 | F6: 2.8 | G6: 2.7 | H6: 1.2 | I6: 1.7 | J6: 2.8 | K6: 1.3 | L6: 0.6 | M6: 2.3 | N6: 2.5 | O6: 2.8 | P6: 1.4 | Q6: 4.2 | R6: 5.7 | S6: 3.5 | T6: 5.1 | U6: 1.1 | V6: 3 | W6: 2.9 | X6: 2.1 | Y6: 4.6 | Z6: 4.2 | AA6: 4.9 | AB6: 4 | AC6: 4.4 | AD6: 6.3 | AE6: 4.2 | AF6: 3.3 | AG6: 3 | AH6: 5 | AI6: 1.3 | AJ6: 1.3 | AK6: 1.8 | AL6: 3.9 | AM6: 5.3 | AN6: 3.3 | AO6: 3.3
A7: Bon View | B7: 3.9 | C7: 4.9 | D7: 3.6 | E7: x | F7: 0.8 | G7: 5.4 | H7: 3 | I7: 4.3 | J7: 1.3 | K7: 3.3 | L7: 3.9 | M7: 5.5 | N7: 4.8 | O7: 2 | P7: 4.7 | Q7: 1.8 | R7: 5.2 | S7: 4.7 | T7: 6.3 | U7: 2.2 | V7: 1.2 | W7: 0.7 | X7: 3.2 | Y7: 4.1 | Z7: 5.9 | AA7: 5.6 | AB7: 7.3 | AC7: 3.4 | AD7: 5.8 | AE7: 7.1 | AF7: 0.8 | AG7: 5.7 | AH7: 2.6 | AI7: 4 | AJ7: 4.4 | AK7: 3.4 | AL7: 5.6 | AM7: 6 | AN7: 1.9 | AO7: 3.9
A8: Whse/Trans | B8: 3.1 | C8: 4.1 | D8: 2.8 | E8: 0.8 | F8: x | G8: 4.6 | H8: 2.2 | I8: 3.4 | J8: 1 | K8: 2.5 | L8: 3.1 | M8: 4.7 | N8: 4 | O8: 1.2 | P8: 3.8 | Q8: 1.9 | R8: 4.6 | S8: 3.9 | T8: 3.9 | U8: 1.4 | V8: 1.2 | W8: 0.2 | X8: 2.4 | Y8: 3.2 | Z8: 5.1 | AA8: 4.8 | AB8: 6.5 | AC8: 2.6 | AD8: 5.2 | AE8: 6.3 | AF8: 1 | AG8: 4.9 | AH8: 2.7 | AI8: 3.1 | AJ8: 3.5 | AK8: 2.5 | AL8: 4.8 | AM8: 5.1 | AN8: 5.3 | AO8: 3
A9: Buena Vista | B9: 1.6 | C9: 4.5 | D9: 2.7 | E9: 5.4 | F9: 4.6 | G9: x | H9: 2.5 | I9: 3.8 | J9: 4.1 | K9: 3.5 | L9: 2.5 | M9: 0.4 | N9: 0.6 | O9: 3.4 | P9: 1.5 | Q9: 3.6 | R9: 3 | S9: 0.9 | T9: 2.4 | U9: 3.2 | V9: 4.2 | W9: 4.8 | X9: 4.3 | Y9: 2.5 | Z9: 1.5 | AA9: 2 | AB9: 1.9 | AC9: 2.9 | AD9: 3.6 | AE9: 1.7 | AF9: 4.5 | AG9: 0.3 | AH9: 3.5 | AI9: 1.5 | AJ9: 4 | AK9: 3.9 | AL9: 1.3 | AM9: 2.5 | AN9: 4.4 | AO9: 1.9
A10: Central Language | B10: 1.4 | C10: 3 | D10: 1.2 | E10: 3 | F10: 2.2 | G10: 2.5 | H10: x | I10: 2.3 | J10: 1.7 | K10: 1.4 | L10: 1.1 | M10: 2.6 | N10: 1.9 | O10: 1.5 | P10: 1.7 | Q10: 3 | R10: 4.5 | S10: 2.3 | T10: 3.9 | U10: 0.8 | V10: 1.8 | W10: 2.4 | X10: 1.8 | Y10: 3.4 | Z10: 2.9 | AA10: 3.4 | AB10: 4.5 | AC10: 3.4 | AD10: 5 | AE10: 4.8 | AF10: 2.2 | AG10: 2.6 | AH10: 3.7 | AI10: 1 | AJ10: 2.4 | AK10: 1.6 | AL10: 2.7 | AM10: 4 | AN10: 1.4 | AO10: 2
A11: Corona | B11: 3.9 | C11: 1.1 | D11: 1.7 | E11: 4.3 | F11: 3.4 | G11: 3.8 | H11: 2.3 | I11: x | J11: 3.9 | K11: 0.9 | L11: 2.2 | M11: 4.3 | N11: 3.6 | O11: 3.9 | P11: 3.2 | Q11: 5.3 | R11: 7.4 | S11: 4.6 | T11: 6.8 | U11: 2 | V11: 4.1 | W11: 3.5 | X11: 1.5 | Y11: 7.1 | Z11: 5.3 | AA11: 5.8 | AB11: 5.5 | AC11: 5.5 | AD11: 7.6 | AE11: 5.4 | AF11: 4.5 | AG11: 4.1 | AH11: 6.1 | AI11: 2.4 | AJ11: 0.9 | AK11: 1.3 | AL11: 5.8 | AM11: 7 | AN11: 2.3 | AO11: 4.5
A12: De Anza | B12: 2.5 | C12: 4.6 | D12: 2.8 | E12: 1.3 | F12: 1 | G12: 4.1 | H12: 1.7 | I12: 3.9 | J12: x | K12: 3 | L12: 2.7 | M12: 4.2 | N12: 3.6 | O12: 0.6 | P12: 3.3 | Q12: 1.4 | R12: 3.9 | S12: 3.4 | T12: 5 | U12: 1.9 | V12: 0.2 | W12: 1.2 | X12: 2.9 | Y12: 2.7 | Z12: 4.5 | AA12: 4.3 | AB12: 5.9 | AC12: 2 | AD12: 4.5 | AE12: 5.8 | AF12: 0.5 | AG12: 4.2 | AH12: 2.2 | AI12: 2.6 | AJ12: 4 | AK12: 3.1 | AL12: 4.3 | AM12: 4.5 | AN12: 3.9 | AO12: 2.5
A13: Del Norte | B13: 2.8 | C13: 1.6 | D13: 1.3 | E13: 3.3 | F13: 2.5 | G13: 3.5 | H13: 1.4 | I13: 0.9 | J13: 3 | K13: x | L13: 2 | M13: 3.6 | N13: 2.9 | O13: 3 | P13: 2.7 | Q13: 4.4 | R13: 5.9 | S13: 3.7 | T13: 5.3 | U13: 1.1 | V13: 3.2 | W13: 2.6 | X13: 0.8 | Y13: 4.9 | Z13: 4.5 | AA13: 4.8 | AB13: 5.5 | AC13: 4.6 | AD13: 6.5 | AE13: 5.2 | AF13: 3.5 | AG13: 3.6 | AH13: 5.2 | AI13: 2 | AJ13: 1.3 | AK13: 0.5 | AL13: 4.1 | AM13: 5.4 | AN13: 3.9 | AO13: 3.4
A14: Edison | B14: 2.5 | C14: 1.9 | D14: 0.6 | E14: 3.9 | F14: 3.1 | G14: 2.5 | H14: 1.1 | I14: 2.2 | J14: 2.7 | K14: 2 | L14: x | M14: 2.2 | N14: 2.4 | O14: 2.6 | P14: 1 | Q14: 4.1 | R14: 5.6 | S14: 3.4 | T14: 5.3 | U14: 1.7 | V14: 2.8 | W14: 3.3 | X14: 2.8 | Y14: 4.5 | Z14: 4 | AA14: 4.8 | AB14: 3.4 | AC14: 4.2 | AD14: 6.2 | AE14: 3.7 | AF14: 3.2 | AG14: 2.9 | AH14: 4.8 | AI14: 1.2 | AJ14: 1.3 | AK14: 2.5 | AL14: 3.8 | AM14: 5.1 | AN14: 3.3 | AO14: 3.1
A15: El Camino | B15: 1.7 | C15: 4.1 | D15: 2.3 | E15: 5.5 | F15: 4.7 | G15: 0.4 | H15: 2.6 | I15: 4.3 | J15: 4.2 | K15: 3.6 | L15: 2.2 | M15: x | N15: 0.9 | O15: 3.6 | P15: 1.2 | Q15: 3.7 | R15: 3.4 | S15: 1.2 | T15: 2.8 | U15: 3.4 | V15: 4.4 | W15: 4.9 | X15: 4.5 | Y15: 2.9 | Z15: 1.8 | AA15: 2.3 | AB15: 1.7 | AC15: 3.1 | AD15: 4 | AE15: 1.5 | AF15: 4.7 | AG15: 0.7 | AH15: 3.7 | AI15: 1.6 | AJ15: 3.5 | AK15: 4.2 | AL15: 1.6 | AM15: 2.9 | AN15: 1.4 | AO15: 2.2
A16: Elderberry | B16: 1 | C16: 4.3 | D16: 2.5 | E16: 4.8 | F16: 4 | G16: 0.6 | H16: 1.9 | I16: 3.6 | J16: 3.6 | K16: 2.9 | L16: 2.4 | M16: 0.9 | N16: x | O16: 2.9 | P16: 1.4 | Q16: 3 | R16: 3.2 | S16: 1 | T16: 2.6 | U16: 2.7 | V16: 3.7 | W16: 4.2 | X16: 3.7 | Y16: 2.7 | Z16: 1.7 | AA16: 2.1 | AB16: 2.4 | AC16: 2.4 | AD16: 3.8 | AE16: 2.3 | AF16: 4 | AG16: 0.8 | AH16: 3 | AI16: 1.3 | AJ16: 3.7 | AK16: 3.4 | AL16: 1.4 | AM16: 2.7 | AN16: 1.1 | AO16: 1.4
A17: Euclid | B17: 1.9 | C17: 4.6 | D17: 2.8 | E17: 2 | F17: 1.2 | G17: 3.4 | H17: 1.5 | I17: 3.9 | J17: 0.6 | K17: 3 | L17: 2.6 | M17: 3.6 | N17: 2.9 | O17: x | P17: 2.8 | Q17: 1.4 | R17: 3.5 | S17: 2.9 | T17: 4.7 | U17: 1.9 | V17: 0.8 | W17: 1.3 | X17: 3 | Y17: 2.3 | Z17: 4.2 | AA17: 3.9 | AB17: 5.6 | AC17: 1.6 | AD17: 4.1 | AE17: 5.5 | AF17: 1.1 | AG17: 3.9 | AH17: 2.1 | AI17: 2.1 | AJ17: 4.2 | AK17: 3.3 | AL17: 3.6 | AM17: 4 | AN17: 1.3 | AO17: 2
A18: Hawthorne | B18: 1.5 | C18: 3 | D18: 1.4 | E18: 4.7 | F18: 3.8 | G18: 1.5 | H18: 1.7 | I18: 3.2 | J18: 3.3 | K18: 2.7 | L18: 1 | M18: 1.2 | N18: 1.4 | O18: 2.8 | P18: x | Q18: 3.2 | R18: 4.6 | S18: 2.4 | T18: 4 | U18: 2.5 | V18: 3.5 | W18: 4 | X18: 3.5 | Y18: 3.5 | Z18: 3 | AA18: 3.5 | AB18: 2.6 | AC18: 3.2 | AD18: 5.2 | AE18: 2.9 | AF18: 3.8 | AG18: 1.9 | AH18: 3.8 | AI18: 0.7 | AJ18: 2.3 | AK18: 3.2 | AL18: 2.8 | AM18: 4 | AN18: 3.4 | AO18: 2
A19: Haynes | B19: 2.4 | C19: 6 | D19: 4.2 | E19: 1.8 | F19: 1.9 | G19: 3.6 | H19: 3 | I19: 5.3 | J19: 1.4 | K19: 4.4 | L19: 4.1 | M19: 3.7 | N19: 3 | O19: 1.4 | P19: 3.2 | Q19: x | R19: 3.1 | S19: 2.8 | T19: 4.5 | U19: 3.3 | V19: 1.2 | W19: 1.7 | X19: 4.3 | Y19: 2 | Z19: 4.1 | AA19: 3.8 | AB19: 5.4 | AC19: 1.4 | AD19: 3.7 | AE19: 5.3 | AF19: 1.1 | AG19: 3.7 | AH19: 0.8 | AI19: 3 | AJ19: 5.4 | AK19: 4.5 | AL19: 3.8 | AM19: 4 | AN19: 0.6 | AO19: 2
A20: Howard | B20: 3.1 | C20: 7.6 | D20: 5.7 | E20: 5.2 | F20: 4.6 | G20: 3 | H20: 4.5 | I20: 7.4 | J20: 3.9 | K20: 5.9 | L20: 5.6 | M20: 3.4 | N20: 3.2 | O20: 3.5 | P20: 4.6 | Q20: 3.1 | R20: x | S20: 2.2 | T20: 1.4 | U20: 4.8 | V20: 4 | W20: 4.8 | X20: 5.8 | Y20: 1.1 | Z20: 1.6 | AA20: 1.3 | AB20: 2.9 | AC20: 2 | AD20: 0.6 | AE20: 2.8 | AF20: 4.2 | AG20: 2.7 | AH20: 2.3 | AI20: 4.4 | AJ20: 6.9 | AK20: 6.1 | AL20: 2.3 | AM20: 1 | AN20: 3.7 | AO20: 2.8
A21: Kingsley | B21: 0.9 | C21: 5.8 | D21: 3.5 | E21: 4.7 | F21: 3.9 | G21: 0.9 | H21: 2.3 | I21: 4.6 | J21: 3.4 | K21: 3.7 | L21: 3.4 | M21: 1.2 | N21: 1 | O21: 2.9 | P21: 2.4 | Q21: 2.8 | R21: 2.2 | S21: x | T21: 1.6 | U21: 2.6 | V21: 3.5 | W21: 4.1 | X21: 3.6 | Y21: 1.7 | Z21: 1.2 | AA21: 1.1 | AB21: 2.5 | AC21: 2.3 | AD21: 2.8 | AE21: 2.4 | AF21: 3.9 | AG21: 0.8 | AH21: 2.9 | AI21: 2.2 | AJ21: 4.7 | AK21: 3.8 | AL21: 0.9 | AM21: 1.6 | AN21: 4.4 | AO21: 1.3
A22: Lehigh/HWS Montclair (CM) | B22: 2.5 | C22: 6.7 | D22: 5.1 | E22: 6.3 | F22: 3.9 | G22: 2.4 | H22: 3.9 | I22: 6.8 | J22: 5 | K22: 5.3 | L22: 5.3 | M22: 2.8 | N22: 2.6 | O22: 4.7 | P22: 4 | Q22: 4.5 | R22: 1.4 | S22: 1.6 | T22: x | U22: 4.3 | V22: 5.2 | W22: 5.7 | X22: 5.3 | Y22: 2.5 | Z22: 1 | AA22: 0.7 | AB22: 2.4 | AC22: 3.2 | AD22: 1.6 | AE22: 2.2 | AF22: 5.5 | AG22: 2.1 | AH22: 3.8 | AI22: 3.9 | AJ22: 6.4 | AK22: 5.5 | AL22: 1.7 | AM22: 0.7 | AN22: 2.3 | AO22: 2.9
A23: Lincoln | B23: 1.7 | C23: 2.7 | D23: 1.1 | E23: 2.2 | F23: 1.4 | G23: 3.2 | H23: 0.8 | I23: 2 | J23: 1.9 | K23: 1.1 | L23: 1.7 | M23: 3.4 | N23: 2.7 | O23: 1.9 | P23: 2.5 | Q23: 3.3 | R23: 4.8 | S23: 2.6 | T23: 4.3 | U23: x | V23: 2.1 | W23: 1.6 | X23: 1.1 | Y23: 3.7 | Z23: 3.7 | AA23: 3.8 | AB23: 5.1 | AC23: 3.5 | AD23: 5.4 | AE23: 5 | AF23: 2.4 | AG23: 3.4 | AH23: 4.1 | AI23: 1.8 | AJ23: 2.1 | AK23: 1.2 | AL23: 3.5 | AM23: 4.3 | AN23: 3.9 | AO23: 2.3
A24: LVista/HWS Ontario/PEC | B24: 2.7 | C24: 4.8 | D24: 3 | E24: 1.2 | F24: 1.2 | G24: 4.2 | H24: 1.8 | I24: 4.1 | J24: 0.2 | K24: 3.2 | L24: 2.8 | M24: 4.4 | N24: 3.7 | O24: 0.8 | P24: 3.5 | Q24: 1.2 | R24: 4 | S24: 3.5 | T24: 5.2 | U24: 2.1 | V24: x | W24: 1 | X24: 3 | Y24: 2.9 | Z24: 4.7 | AA24: 4.5 | AB24: 6.1 | AC24: 2.2 | AD24: 4.6 | AE24: 5.9 | AF24: 0.4 | AG24: 4.3 | AH24: 2 | AI24: 2.8 | AJ24: 4.1 | AK24: 3.3 | AL24: 4.5 | AM24: 4.6 | AN24: 3.1 | AO24: 2.7
A25: Hardy Ctr/OMSDCC/F&N | B25: 3.2 | C25: 4.2 | D25: 2.9 | E25: 0.7 | F25: 0.2 | G25: 4.8 | H25: 2.4 | I25: 3.5 | J25: 1.2 | K25: 2.6 | L25: 3.3 | M25: 4.9 | N25: 4.2 | O25: 1.3 | P25: 4 | Q25: 1.7 | R25: 4.8 | S25: 4.1 | T25: 5.7 | U25: 1.6 | V25: 1 | W25: x | X25: 2.5 | Y25: 3.5 | Z25: 5.2 | AA25: 5 | AB25: 6.6 | AC25: 2.8 | AD25: 5.4 | AE25: 6.5 | AF25: 0.8 | AG25: 4.9 | AH25: 2.5 | AI25: 3.3 | AJ25: 3.6 | AK25: 2.8 | AL25: 5 | AM25: 5.3 | AN25: 4 | AO25: 3.3
A26: Mariposa | B26: 2.7 | C26: 2.2 | D26: 2.1 | E26: 3.2 | F26: 2.4 | G26: 4.3 | H26: 1.8 | I26: 1.5 | J26: 2.9 | K26: 0.8 | L26: 2.8 | M26: 4.5 | N26: 3.7 | O26: 3 | P26: 3.5 | Q26: 4.3 | R26: 5.8 | S26: 3.6 | T26: 5.3 | U26: 1.1 | V26: 3 | W26: 2.5 | X26: x | Y26: 4.8 | Z26: 4.7 | AA26: 5 | AB26: 6.4 | AC26: 4.5 | AD26: 6.4 | AE26: 6.5 | AF26: 3.4 | AG26: 4.4 | AH26: 5.1 | AI26: 2.8 | AJ26: 2.2 | AK26: 0.6 | AL26: 4.5 | AM26: 5.3 | AN26: 4.7 | AO26: 3.3
A27: Mission | B27: 2.1 | C27: 6.6 | D27: 4.6 | E27: 4.1 | F27: 3.2 | G27: 2.5 | H27: 3.4 | I27: 7.1 | J27: 2.7 | K27: 4.9 | L27: 4.5 | M27: 2.9 | N27: 2.7 | O27: 2.3 | P27: 3.5 | Q27: 2 | R27: 1.1 | S27: 1.7 | T27: 2.5 | U27: 3.7 | V27: 2.9 | W27: 3.5 | X27: 4.8 | Y27: x | Z27: 2 | AA27: 1.8 | AB27: 3.4 | AC27: 0.8 | AD27: 1.6 | AE27: 3.3 | AF27: 3.1 | AG27: 2.2 | AH27: 1.3 | AI27: 3.4 | AJ27: 5.9 | AK27: 5.1 | AL27: 1.8 | AM27: 2 | AN27: 4.1 | AO27: 1.7
A28: Monte Vista | B28: 2.1 | C28: 5.7 | D28: 4.2 | E28: 5.9 | F28: 5.1 | G28: 1.5 | H28: 2.9 | I28: 5.3 | J28: 4.5 | K28: 4.5 | L28: 4 | M28: 1.8 | N28: 1.7 | O28: 4.2 | P28: 3 | Q28: 4.1 | R28: 1.6 | S28: 1.2 | T28: 1 | U28: 3.7 | V28: 4.7 | W28: 5.2 | X28: 4.7 | Y28: 2 | Z28: x | AA28: 0.5 | AB28: 1.4 | AC28: 2.7 | AD28: 2.1 | AE28: 1.2 | AF28: 5 | AG28: 1.1 | AH28: 3.3 | AI28: 2.9 | AJ28: 5.4 | AK28: 4.5 | AL28: 0.7 | AM28: 1 | AN28: 3.4 | AO28: 2.3
A29: Montera | B29: 2 | C29: 6.7 | D29: 4.9 | E29: 5.6 | F29: 4.8 | G29: 2 | H29: 3.4 | I29: 5.8 | J29: 4.3 | K29: 4.8 | L29: 4.8 | M29: 2.3 | N29: 2.1 | O29: 3.9 | P29: 3.5 | Q29: 3.8 | R29: 1.3 | S29: 1.1 | T29: 0.7 | U29: 3.8 | V29: 4.5 | W29: 5 | X29: 5 | Y29: 1.8 | Z29: 0.5 | AA29: x | AB29: 1.9 | AC29: 2.4 | AD29: 1.9 | AE29: 1.7 | AF29: 4.8 | AG29: 1.6 | AH29: 3 | AI29: 3.4 | AJ29: 5.9 | AK29: 5 | AL29: 1.2 | AM29: 0.7 | AN29: 2.8 | AO29: 2.1
A30: Moreno | B30: 3.4 | C30: 5.3 | D30: 4 | E30: 7.3 | F30: 6.5 | G30: 1.9 | H30: 4.5 | I30: 5.5 | J30: 5.9 | K30: 5.5 | L30: 3.4 | M30: 1.7 | N30: 2.4 | O30: 5.6 | P30: 2.6 | Q30: 5.4 | R30: 2.9 | S30: 2.5 | T30: 2.4 | U30: 5.1 | V30: 6.1 | W30: 6.6 | X30: 6.4 | Y30: 3.4 | Z30: 1.4 | AA30: 1.9 | AB30: x | AC30: 4 | AD30: 3.5 | AE30: 0.6 | AF30: 6.4 | AG30: 1.7 | AH30: 4.7 | AI30: 3.3 | AJ30: 4.7 | AK30: 5.9 | AL30: 2.1 | AM30: 2.5 | AN30: 3.3 | AO30: 3.9
A31: Oaks | B31: 1.7 | C31: 6.3 | D31: 4.4 | E31: 3.4 | F31: 2.6 | G31: 2.9 | H31: 3.4 | I31: 5.5 | J31: 2 | K31: 4.6 | L31: 4.2 | M31: 3.1 | N31: 2.4 | O31: 1.6 | P31: 3.2 | Q31: 1.4 | R31: 2 | S31: 2.3 | T31: 3.2 | U31: 3.5 | V31: 2.2 | W31: 2.8 | X31: 4.5 | Y31: 0.8 | Z31: 2.7 | AA31: 2.4 | AB31: 4 | AC31: x | AD31: 2.6 | AE31: 3.9 | AF31: 2.4 | AG31: 2.8 | AH31: 0.6 | AI31: 3.2 | AJ31: 5.6 | AK31: 4.7 | AL31: 2.4 | AM31: 2.5 | AN31: 2.4 | AO31: 1.4
A32: Ramona | B32: 3.7 | C32: 8.2 | D32: 6.3 | E32: 5.8 | F32: 5.2 | G32: 3.6 | H32: 5 | I32: 7.6 | J32: 4.5 | K32: 6.5 | L32: 6.2 | M32: 4 | N32: 3.8 | O32: 4.1 | P32: 5.2 | Q32: 3.7 | R32: 0.6 | S32: 2.8 | T32: 1.6 | U32: 5.4 | V32: 4.6 | W32: 5.4 | X32: 6.4 | Y32: 1.6 | Z32: 2.1 | AA32: 1.9 | AB32: 3.5 | AC32: 2.6 | AD32: x | AE32: 3.4 | AF32: 4.8 | AG32: 3.3 | AH32: 2.9 | AI32: 5 | AJ32: 7.5 | AK32: 6.7 | AL32: 2.9 | AM32: 1.2 | AN32: 3.1 | AO32: 3.3
A33: Serrano | B33: 3.3 | C33: 5.7 | D33: 4.2 | E33: 7.1 | F33: 6.3 | G33: 1.7 | H33: 4.8 | I33: 5.4 | J33: 5.8 | K33: 5.2 | L33: 3.7 | M33: 1.5 | N33: 2.3 | O33: 5.5 | P33: 2.9 | Q33: 5.3 | R33: 2.8 | S33: 2.4 | T33: 2.2 | U33: 5 | V33: 5.9 | W33: 6.5 | X33: 6.5 | Y33: 3.3 | Z33: 1.2 | AA33: 1.7 | AB33: 0.6 | AC33: 3.9 | AD33: 3.4 | AE33: x | AF33: 6.3 | AG33: 1.6 | AH33: 4.5 | AI33: 3.2 | AJ33: 5.1 | AK33: 5.7 | AL33: 1.9 | AM33: 2.2 | AN33: 5 | AO33: 3.6
A34: Sultana | B34: 3 | C34: 5.1 | D34: 3.3 | E34: 0.8 | F34: 1 | G34: 4.5 | H34: 2.2 | I34: 4.5 | J34: 0.5 | K34: 3.5 | L34: 3.2 | M34: 4.7 | N34: 4 | O34: 1.1 | P34: 3.8 | Q34: 1.1 | R34: 4.2 | S34: 3.9 | T34: 5.5 | U34: 2.4 | V34: 0.4 | W34: 0.8 | X34: 3.4 | Y34: 3.1 | Z34: 5 | AA34: 4.8 | AB34: 6.4 | AC34: 2.4 | AD34: 4.8 | AE34: 6.3 | AF34: x | AG34: 4.7 | AH34: 1.8 | AI34: 3.1 | AJ34: 4.5 | AK34: 3.6 | AL34: 4.8 | AM34: 5 | AN34: 2.5 | AO34: 3
A35: Vernon | B35: 1.8 | C35: 5.2 | D35: 3 | E35: 5.7 | F35: 4.9 | G35: 0.3 | H35: 2.6 | I35: 4.1 | J35: 4.2 | K35: 3.6 | L35: 2.9 | M35: 0.7 | N35: 0.8 | O35: 3.9 | P35: 1.9 | Q35: 3.7 | R35: 2.7 | S35: 0.8 | T35: 2.1 | U35: 3.4 | V35: 4.3 | W35: 4.9 | X35: 4.4 | Y35: 2.2 | Z35: 1.1 | AA35: 1.6 | AB35: 1.7 | AC35: 2.8 | AD35: 3.3 | AE35: 1.6 | AF35: 4.7 | AG35: x | AH35: 3.5 | AI35: 1.8 | AJ35: 4.2 | AK35: 4.1 | AL35: 0.5 | AM35: 2.2 | AN35: 4.4 | AO35: 2.1
A36: Vista Grande | B36: 2.3 | C36: 6.8 | D36: 5 | E36: 2.6 | F36: 2.7 | G36: 3.5 | H36: 3.7 | I36: 6.1 | J36: 2.2 | K36: 5.2 | L36: 4.8 | M36: 3.7 | N36: 3 | O36: 2.1 | P36: 3.8 | Q36: 0.8 | R36: 2.3 | S36: 2.9 | T36: 3.8 | U36: 4.1 | V36: 2 | W36: 2.5 | X36: 5.1 | Y36: 1.3 | Z36: 3.3 | AA36: 3 | AB36: 4.7 | AC36: 0.6 | AD36: 2.9 | AE36: 4.5 | AF36: 1.8 | AG36: 3.5 | AH36: x | AI36: 3.6 | AJ36: 6.2 | AK36: 5.4 | AL36: 3 | AM36: 3.1 | AN36: 1.6 | AO36: 1.9
A37: Vina Danks | B37: 1.3 | C37: 3.1 | D37: 1.3 | E37: 4 | F37: 3.1 | G37: 1.5 | H37: 1 | I37: 2.4 | J37: 2.6 | K37: 2 | L37: 1.2 | M37: 1.6 | N37: 1.3 | O37: 2.1 | P37: 0.7 | Q37: 3 | R37: 4.4 | S37: 2.2 | T37: 3.9 | U37: 1.8 | V37: 2.8 | W37: 3.3 | X37: 2.8 | Y37: 3.4 | Z37: 2.9 | AA37: 3.4 | AB37: 3.3 | AC37: 3.2 | AD37: 5 | AE37: 3.2 | AF37: 3.1 | AG37: 1.8 | AH37: 3.6 | AI37: x | AJ37: 2.5 | AK37: 2.5 | AL37: 2.6 | AM37: 3.9 | AN37: 3.6 | AO37: 1.9
A38: Vineyard | B38: 3.9 | C38: 0.5 | D38: 1.3 | E38: 4.4 | F38: 3.5 | G38: 4 | H38: 2.4 | I38: 0.9 | J38: 4 | K38: 1.3 | L38: 1.3 | M38: 3.5 | N38: 3.7 | O38: 4.2 | P38: 2.3 | Q38: 5.4 | R38: 6.9 | S38: 4.7 | T38: 6.4 | U38: 2.1 | V38: 4.1 | W38: 3.6 | X38: 2.2 | Y38: 5.9 | Z38: 5.4 | AA38: 5.9 | AB38: 4.7 | AC38: 5.6 | AD38: 7.5 | AE38: 5.1 | AF38: 4.5 | AG38: 4.2 | AH38: 6.2 | AI38: 2.5 | AJ38: x | AK38: 1.7 | AL38: 5.2 | AM38: 6.5 | AN38: 1.3 | AO38: 4.3
A39: Wiltsey | B39: 2.9 | C39: 2.3 | D39: 1.8 | E39: 3.4 | F39: 2.5 | G39: 3.9 | H39: 1.6 | I39: 1.3 | J39: 3.1 | K39: 0.5 | L39: 2.5 | M39: 4.2 | N39: 3.4 | O39: 3.3 | P39: 3.2 | Q39: 4.5 | R39: 6.1 | S39: 3.8 | T39: 5.5 | U39: 1.2 | V39: 3.3 | W39: 2.8 | X39: 0.6 | Y39: 5.1 | Z39: 4.5 | AA39: 5 | AB39: 5.9 | AC39: 4.7 | AD39: 6.7 | AE39: 5.7 | AF39: 3.6 | AG39: 4.1 | AH39: 5.4 | AI39: 2.5 | AJ39: 1.7 | AK39: x | AL39: 4.1 | AM39: 5.3 | AN39: 3.2 | AO39: 3.4
A40: HWS Montclair(MH)(House) | B40: 1.8 | C40: 5.7 | D40: 3.9 | E40: 5.6 | F40: 4.8 | G40: 1.3 | H40: 2.7 | I40: 5.8 | J40: 4.3 | K40: 4.1 | L40: 3.8 | M40: 1.6 | N40: 1.4 | O40: 3.6 | P40: 2.8 | Q40: 3.8 | R40: 2.3 | S40: 0.9 | T40: 1.7 | U40: 3.5 | V40: 4.5 | W40: 5 | X40: 4.5 | Y40: 1.8 | Z40: 0.7 | AA40: 1.2 | AB40: 2.1 | AC40: 2.4 | AD40: 2.9 | AE40: 1.9 | AF40: 4.8 | AG40: 0.5 | AH40: 3 | AI40: 2.6 | AJ40: 5.2 | AK40: 4.1 | AL40: x | AM40: 1.7 | AN40: 3.8 | AO40: 2.1
A41: IS Warehouse | B41: 2.6 | C41: 6.8 | D41: 5.2 | E41: 6 | F41: 5.1 | G41: 2.5 | H41: 4 | I41: 7 | J41: 4.5 | K41: 5.4 | L41: 5.1 | M41: 2.9 | N41: 2.7 | O41: 4 | P41: 4 | Q41: 4 | R41: 1 | S41: 1.6 | T41: 0.7 | U41: 4.3 | V41: 4.6 | W41: 5.3 | X41: 5.3 | Y41: 2 | Z41: 1 | AA41: 0.7 | AB41: 2.5 | AC41: 2.5 | AD41: 1.2 | AE41: 2.2 | AF41: 5 | AG41: 2.2 | AH41: 3.1 | AI41: 3.9 | AJ41: 6.5 | AK41: 5.3 | AL41: 1.7 | AM41: x | AN41: 2.4 | AO41: 2.4
A42: OMSEFCU | B42: 1.7 | C42: 3.3 | D42: 1.9 | E42: 5.3 | F42: 4.4 | G42: 1.4 | H42: 2.3 | I42: 3.9 | J42: 3.9 | K42: 3.3 | L42: 1.4 | M42: 1.1 | N42: 1.3 | O42: 3.4 | P42: 0.6 | Q42: 3.7 | R42: 4.4 | S42: 2.3 | T42: 3.9 | U42: 3.1 | V42: 4 | W42: 4.7 | X42: 4.1 | Y42: 3.4 | Z42: 2.8 | AA42: 3.3 | AB42: 2.4 | AC42: 3.1 | AD42: 5 | AE42: 2.5 | AF42: 4.4 | AG42: 1.6 | AH42: 3.6 | AI42: 1.3 | AJ42: 3.2 | AK42: 3.8 | AL42: 2.4 | AM42: 3.9 | AN42: 3.9 | AO42: 2
A43: Brooks Warehouse | B43: 0.7 | C43: 5 | D43: 3.3 | E43: 3.9 | F43: 3 | G43: 1.9 | H43: 2 | I43: 4.5 | J43: 2.5 | K43: 3.4 | L43: 3.1 | M43: 2.2 | N43: 1.4 | O43: 2 | P43: 2 | Q43: 2 | R43: 2.8 | S43: 1.3 | T43: 2.9 | U43: 2.3 | V43: 2.7 | W43: 3.3 | X43: 3.3 | Y43: 1.7 | Z43: 2.3 | AA43: 2.1 | AB43: 3.9 | AC43: 1.4 | AD43: 3.3 | AE43: 3.6 | AF43: 3 | AG43: 2.1 | AH43: 1.9 | AI43: 1.9 | AJ43: 4.3 | AK43: 3.4 | AL43: 2.1 | AM43: 2.4 | AN43: 2 | AO43: x

Sheet Sheet2
A2: CA | C2: Home | E2: X
C3: Site
A4: AL
A5: AK
A6: AZ
A7: AR
A8: CO
A9: CT
A10: DE
A11: FL
A12: GA
A13: HI
A14: ID
A15: IL
... A52: WY
