Workbook

Sheet Salaries
A2: Benefits Calculator & Instructions 2026-27
B5: Certificated (objects beginning with a 1xxxxx)
B6: Salary | C6: 1xxxxx | F6: 0 | G6: (enter the amount to be paid)
B8: Benefits | C8: 31010x | F8: =+$F$6*'Back-in Salaries'!B10 -> 0
C9: 33210x | F9: =+$F$6*'Back-in Salaries'!B11 -> 0
C10: 35010x | F10: =+$F$6*'Back-in Salaries'!B12 -> 0
C11: 36010x | F11: =+$F$6*'Back-in Salaries'!B13 -> 0
C13: Total Cost | F13: =SUM(F6:F12) -> 0
B16: Classified (objects beginning with a 2xxxxx)
B17: Salary | C17: 2xxxxx | F17: 0 | G17: (enter the amount to be paid)
B19: Benefits | C19: 32020x | F19: =+$F$17*'Back-in Salaries'!B22 -> 0
C20: 33120x | F20: =+$F$17*'Back-in Salaries'!B23 -> 0
C21: 33220x | F21: =+$F$17*'Back-in Salaries'!B24 -> 0
C22: 35020x | F22: =+$F$17*'Back-in Salaries'!B25 -> 0
C23: 36020x | F23: =+$F$17*'Back-in Salaries'!B26 -> 0
C25: Total Cost | F25: =SUM(F17:F24) -> 0
B29: 1. Enter the amount of the total Gross Salary (EWA/Stipend) in the blue shaded area above, please make sure that it is put in the correct category (Certificated or Classified)
B30: 2 Enter the salary and benefits account strings using the object codes listed above in either the Decrease or Increase section of the form, if paying:
C31: a) Extra work - object code ends with a 4 (110004 or 210004) and for benefits use the codes above replacing the "x" with a 4
C32: b) Overtime - object code ends with a 6 (110006 or 210006) and for benefits use the codes above replacing the "x" with a 6
C33: c) Substitute - object code ends with a 1 (110001 or 210001) and for benefits use the codes above replacing the "x" with a 1
B34: 3. The total cost is the amount needed to cover the EWA/Stipend amount
B35: 4. Health and Welfare is not included above if calculating permenant salary add $18,601.33 (annual) for H/W

Sheet Back-in Salaries
A1: FRESNO COUNTY SUPT OF SCHOOLS
A2: SALARY CALCULATION WORKSHEET
A3: 2026-2027
A5: Instructions: Use the appropriate table for either certificated, classified, or federally funded (resources 3000-5999) classified employees. Enter the base salary in the yellow shaded cell for the salary amount you want to calculate fixed charges.
F7: BACK INTO AMOUNTS
A8: Certificated
A9: Base Salary | C9: 1XXX | F9: =H13-SUM(F10:F13) -> 0
A10: STRS | B10: 0.191 | C10: 3101 | D10: =($D$9*B10) -> 0 | F10: =ROUND($K$14*B10,2) -> 0 | H10: HOW TO BACK INTO SALARIES AND BENEFITS
A11: Medicare | B11: 0.0145 | C11: 3321 | D11: =($D$9*B11) -> 0 | F11: =ROUND($K$14*B11,2) -> 0 | H11: Certificated Salaries
A12: Unemployment | B12: 0.0005 | C12: 3501 | D12: =($D$9*B12) -> 0 | F12: =ROUND($K$14*B12,2) -> 0
A13: Worker's Compensation | B13: 0.01219 | C13: 3601 | D13: =($D$9*B13) -> 0 | F13: =ROUND($K$14*B13,2) -> 0 | K13: =ROUND(H13-(H13/(1+B14)),2) -> 0 | L13: Benefits
A14: Subtotal | B14: =SUM(B10:B13) -> 0.21819 | D14: =SUM(D9:D13) -> 0 | F14: =SUM(F9:F13) -> 0 | H14: enter total here | K14: =H13-K13 -> 0 | L14: Salaries
K15: =H13-K13 -> 0 | L15: Salaries
A16: Health & Welfare | C16: 3401
A17: Total | D17: =D14+D16 -> 0 | F17: =SUM(F14:F16) -> 0
A20: Classified
A21: Base Salary | C21: 2XXX | D21: 3907.01 | F21: =H23-SUM(F22:F26) -> 0 | H21: HOW TO BACK INTO SALARIES AND BENEFITS
A22: PERS | B22: 0.264 | C22: 3202 | D22: =ROUND($D$21*B22,0) -> 1031 | F22: =ROUND($K$25*B22,2) -> 0 | H22: Classified Salaries
A23: Social Security | B23: 0.062 | C23: 3312 | D23: =ROUND($D$21*B23,0) -> 242 | F23: =ROUND($K$25*B23,2) -> 0 | K23: =ROUND(H23-(H23/(1+B27)),2) -> 0 | L23: Benefits
A24: Medicare | B24: =B11 -> 0.0145 | C24: 3322 | D24: =ROUND($D$21*B24,0) -> 57 | F24: =ROUND($K$25*B24,2) -> 0 | H24: enter total here
A25: Unemployment | B25: =B12 -> 0.0005 | C25: 3502 | D25: =ROUND($D$21*B25,0) -> 2 | F25: =ROUND($K$25*B25,2) -> 0 | K25: =H23-K23 -> 0 | L25: Salaries
A26: Worker's Compensation | B26: =B13 -> 0.01219 | C26: 3602 | D26: =ROUND($D$21*B26,0) -> 48 | F26: =ROUND($K$25*B26,2) -> 0
A27: Total Cost | B27: =SUM(B22:B26) -> 0.35319 | D27: =SUM(D21:D26) -> 5287.01 | F27: =SUM(F21:F26) -> 0
A29: Health & Welfare | C29: 3402
A30: Total | D30: =D27+D29 -> 5287.01 | F30: =SUM(F27:F29) -> 0
