Workbook
Name Locations: Log!$G$5:$H$56

Sheet Log
A1: In-District Mileage Log
A3: Name | C3: Campus/Department | D3: Beginning Date | E3: Ending Date
A5: Date | B5: From | C5: To | D5: Purpose | E5: Total Miles
A6: EXAMPLE | B6: Bowie | C6: Daniels | D6: DELIVERY | E6: 2
E7: =INDEX(Locations!$A$1:$AV$48, MATCH(B7,Locations!$A$1:$A$48,), MATCH(C7,Locations!$A$1:$AV$1,)) -> #N/A
E8: =INDEX(Locations!$A$1:$AV$48, MATCH(B8,Locations!$A$1:$A$48,), MATCH(C8,Locations!$A$1:$AV$1,)) -> #N/A
E9: =INDEX(Locations!$A$1:$AV$48, MATCH(B9,Locations!$A$1:$A$48,), MATCH(C9,Locations!$A$1:$AV$1,)) -> #N/A
E10: =INDEX(Locations!$A$1:$AV$48, MATCH(B10,Locations!$A$1:$A$48,), MATCH(C10,Locations!$A$1:$AV$1,)) -> #N/A
E11: =INDEX(Locations!$A$1:$AV$48, MATCH(B11,Locations!$A$1:$A$48,), MATCH(C11,Locations!$A$1:$AV$1,)) -> #N/A
E12: =INDEX(Locations!$A$1:$AV$48, MATCH(B12,Locations!$A$1:$A$48,), MATCH(C12,Locations!$A$1:$AV$1,)) -> #N/A
E13: =INDEX(Locations!$A$1:$AV$48, MATCH(B13,Locations!$A$1:$A$48,), MATCH(C13,Locations!$A$1:$AV$1,)) -> #N/A
E14: =INDEX(Locations!$A$1:$AV$48, MATCH(B14,Locations!$A$1:$A$48,), MATCH(C14,Locations!$A$1:$AV$1,)) -> #N/A
E15: =INDEX(Locations!$A$1:$AV$48, MATCH(B15,Locations!$A$1:$A$48,), MATCH(C15,Locations!$A$1:$AV$1,)) -> #N/A
E16: =INDEX(Locations!$A$1:$AV$48, MATCH(B16,Locations!$A$1:$A$48,), MATCH(C16,Locations!$A$1:$AV$1,)) -> #N/A
E17: =INDEX(Locations!$A$1:$AV$48, MATCH(B17,Locations!$A$1:$A$48,), MATCH(C17,Locations!$A$1:$AV$1,)) -> #N/A
E18: =INDEX(Locations!$A$1:$AV$48, MATCH(B18,Locations!$A$1:$A$48,), MATCH(C18,Locations!$A$1:$AV$1,)) -> #N/A
... E42: =INDEX(Locations!$A$1:$AV$48, MATCH(B42,Locations!$A$1:$A$48,), MATCH(C42,Locations!$A$1:$AV$1,)) -> #N/A
C43: Total Mileage | E43: {=SUM(IF(ISNA(E7:E42),0,E7:E42))} -> 0
A44: Date | B44: Additional Expenses | C44: (Description)
A45: Date | B45: Additional Expenses | C45: (Description)
C46: Total Expenses | E46: =SUM(E44:E45) -> 0
B48: Mileage Amount (mileage x .76) | E48: =E43*0.76 -> 0
B49: Total Expenses (copied from above) | E49: =E46 -> 0
A50: Updated 10/06/2026 | C50: Grand Total | E50: =SUM(E48:E49) -> 0

Sheet Locations
A1: Updated: 10 - 2026 | B1: Austin | C1: Bowie | D1: Bush | E1: Crockett | F1: Daniels | G1: de Zavala | H1: Dickinson | I1: Eisenhower | J1: Flo Hill | K1: Garcia | L1: Garner | M1: Johnson DAEP | N1: Marshall | O1: Moore | P1: Morton | Q1: Moseley | R1: Ochoa STEM (Milam) | S1: Powell | T1: Rayburn | U1: Reed Center | V1: School for the Highly Gifted | W1: Seguin | X1: Travis | Y1: Whitt | Z1: Williams | AA1: Adams | AB1: Arnold | AC1: Fannin | AD1: GPCI | AE1: Jackson | AF1: Kennedy | AG1: Reagan | AH1: Truman | AI1: Crosswinds | AJ1: Dubiski HS | AK1: GPFAA | AL1: GPHS | AM1: SGP Alex Bldg | AN1: SGPHS | AO1: Lamar | AP1: Ed. Center | AQ1: Houston PDC | AR1: Nature Center | AS1: Ruthe Jackson | AT1: Gentry Long SC | AU1: Book Depository | AV1: Grand Family Services
A2: Austin | B2: 0 | C2: 1.5 | D2: 4.63 | E2: 2.6 | F2: 2 | G2: 5.57 | H2: 8.56 | I2: 1.88 | J2: 6.78 | K2: 3.38 | L2: 8.68 | M2: 4.2 | N2: 4.42 | O2: 4.77 | P2: 1.34 | Q2: 9.84 | R2: 2.81 | S2: 10.03 | T2: 4.62 | U2: 2 | V2: 3.9 | W2: 3.54 | X2: 2.27 | Y2: 5.19 | Z2: 3.47 | AA2: 0.8 | AB2: 3.5 | AC2: 3.45 | AD2: 3.9 | AE2: 5.47 | AF2: 3.9 | AG2: 8.31 | AH2: 8.08 | AI2: 1.23 | AJ2: 4.42 | AK2: 0.76 | AL2: 0.76 | AM2: 4.7 | AN2: 4.7 | AO2: 2.74 | AP2: 4.16 | AQ2: 0.87 | AR2: 5 | AS2: 4 | AT2: 2.24 | AU2: 5.06 | AV2: 3.8
A3: Bowie | B3: 1.5 | C3: 0 | D3: 4.23 | E3: 1.5 | F3: 2 | G3: 5.7 | H3: 8.36 | I3: 2.78 | J3: 6.57 | K3: 3.16 | L3: 7.08 | M3: 3.63 | N3: 3.6 | O3: 4.56 | P3: 0.69 | Q3: 10.87 | R3: 2.24 | S3: 9.63 | T3: 4.22 | U3: 2 | V3: 2.2 | W3: 1.46 | X3: 2.03 | Y3: 4.79 | Z3: 3.07 | AA3: 2.16 | AB3: 3.11 | AC3: 3.23 | AD3: 2.2 | AE3: 5.6 | AF3: 2.2 | AG3: 6.71 | AH3: 7.88 | AI3: 2.57 | AJ3: 3.6 | AK3: 1.11 | AL3: 1.11 | AM3: 4.88 | AN3: 4.88 | AO3: 3.09 | AP3: 3.76 | AQ3: 1.6 | AR3: 3.6 | AS3: 3.2 | AT3: 0.73 | AU3: 6.3 | AV3: 2.6
A4: Bush | B4: 4.63 | C4: 4.23 | D4: 0 | E4: 3.1 | F4: 4 | G4: 1.43 | H4: 7.64 | I4: 6.23 | J4: 3.6 | K4: 5.07 | L4: 4.38 | M4: 1.12 | N4: 1.68 | O4: 3.34 | P4: 3.24 | Q4: 7.18 | R4: 2.01 | S4: 5.93 | T4: 0.52 | U4: 4 | V4: 1.2 | W4: 1.6 | X4: 3.94 | Y4: 1.1 | Z4: 2.13 | AA4: 5.14 | AB4: 1.69 | AC4: 5.14 | AD4: 1.2 | AE4: 1.33 | AF4: 1.2 | AG4: 4 | AH4: 5.08 | AI4: 5.59 | AJ4: 1.68 | AK4: 4.68 | AL4: 4.68 | AM4: 0.61 | AN4: 0.61 | AO4: 5 | AP4: 0.46 | AQ4: 5.4 | AR4: 1.1 | AS4: 1.4 | AT4: 2.82 | AU4: 7.04 | AV4: 1.7
A5: Crockett | B5: 2.6 | C5: 1.5 | D5: 2.9 | E5: 0 | F5: 3.6 | G5: 4.5 | H5: 8.4 | I5: 4.3 | J5: 6.5 | K5: 3.2 | L5: 9 | M5: 3.9 | N5: 4.7 | O5: 5.7 | P5: 1.3 | Q5: 9.5 | R5: 3 | S5: 8.3 | T5: 3.1 | U5: 3.8 | V5: 2.4 | W5: 2 | X5: 2.1 | Y5: 3.4 | Z5: 1.7 | AA5: 3.5 | AB5: 1.8 | AC5: 3.2 | AD5: 2.4 | AE5: 4.3 | AF5: 2.4 | AG5: 6.9 | AH5: 9.7 | AI5: 3.3 | AJ5: 4.8 | AK5: 2.6 | AL5: 2.2 | AM5: 3.8 | AN5: 4.1 | AO5: 3 | AP5: 2.5 | AQ5: 3.2 | AR5: 4 | AS5: 4.2 | AT5: 0.9 | AU5: 5.3 | AV5: 1.9
A6: Daniels | B6: 2 | C6: 2 | D6: 4 | E6: 3.6 | F6: 0 | G6: 4.6 | H6: 7.5 | I6: 2.7 | J6: 5.9 | K6: 2.49 | L6: 6.4 | M6: 3.6 | N6: 5.09 | O6: 4.5 | P6: 2.4 | Q6: 8.32 | R6: 2.3 | S6: 7 | T6: 4.4 | U6: 0 | V6: 3.2 | W6: 2.4 | X6: 3.3 | Y6: 5 | Z6: 4.5 | AA6: 2.5 | AB6: 3.3 | AC6: 4.6 | AD6: 3.2 | AE6: 5.19 | AF6: 3.2 | AG6: 7.22 | AH6: 7 | AI6: 2.3 | AJ6: 3.8 | AK6: 2.49 | AL6: 2.49 | AM6: 4.46 | AN6: 4.46 | AO6: 4.45 | AP6: 4.31 | AQ6: 1.7 | AR6: 4.8 | AS6: 3.5 | AT6: 3.24 | AU6: 6.59 | AV6: 3.6
A7: de Zavala | B7: 5.57 | C7: 5.7 | D7: 1.43 | E7: 4.3 | F7: 4.6 | G7: 0 | H7: 4.26 | I7: 6.89 | J7: 2.14 | K7: 6.59 | L7: 2.68 | M7: 1.34 | N7: 2.2 | O7: 2.26 | P7: 4.72 | Q7: 4.85 | R7: 3 | S7: 3.02 | T7: 1.95 | U7: 4.6 | V7: 2.1 | W7: 3.62 | X7: 5.55 | Y7: 1.14 | Z7: 3.6 | AA7: 6.62 | AB7: 3.15 | AC7: 6.61 | AD7: 2.1 | AE7: 0.19 | AF7: 2.1 | AG7: 2.86 | AH7: 3.93 | AI7: 5.63 | AJ7: 2.2 | AK7: 6.15 | AL7: 6.15 | AM7: 0.82 | AN7: 0.82 | AO7: 6.47 | AP7: 2.11 | AQ7: 6.17 | AR7: 0.4 | AS7: 1.2 | AT7: 4.29 | AU7: 8.69 | AV7: 3.4
A8: Dickinson | B8: 8.56 | C8: 8.36 | D8: 7.64 | E8: 9 | F8: 7.5 | G8: 4.26 | H8: 0 | I8: 9.6 | J8: 1.87 | K8: 11.55 | L8: 2.18 | M8: 4.49 | N8: 4.5 | O8: 5 | P8: 8.61 | Q8: 0.91 | R8: 5.43 | S8: 2.3 | T8: 6.98 | U8: 7.5 | V8: 5.7 | W8: 7.41 | X8: 10.42 | Y8: 5.29 | Z8: 8.61 | AA8: 8.97 | AB8: 8.17 | AC8: 11.63 | AD8: 5.7 | AE8: 4.22 | AF8: 5.7 | AG8: 2.44 | AH8: 0.52 | AI8: 8.54 | AJ8: 4.5 | AK8: 8.75 | AL8: 8.75 | AM8: 4.74 | AN8: 4.74 | AO8: 11.49 | AP8: 6.95 | AQ8: 8.37 | AR8: 4.3 | AS8: 4.2 | AT8: 9.3 | AU8: 11.94 | AV8: 8.3
A9: Eisenhower | B9: 1.88 | C9: 2.78 | D9: 6.23 | E9: 4.2 | F9: 2.7 | G9: 6.89 | H9: 9.6 | I9: 0 | J9: 8.1 | K9: 6.33 | L9: 10 | M9: 5.52 | N9: 6.1 | O9: 6.08 | P9: 3.35 | Q9: 13.24 | R9: 4.13 | S9: 10.13 | T9: 6.41 | U9: 2.7 | V9: 4.8 | W9: 4.85 | X9: 3.46 | Y9: 6.98 | Z9: 5.26 | AA9: 1.26 | AB9: 5.29 | AC9: 6.18 | AD9: 4.8 | AE9: 6.79 | AF9: 4.8 | AG9: 9.62 | AH9: 9.4 | AI9: 1.29 | AJ9: 6.1 | AK9: 2.18 | AL9: 2.18 | AM9: 6.02 | AN9: 6.02 | AO9: 3.94 | AP9: 5.95 | AQ9: 2.21 | AR9: 6.8 | AS9: 5.3 | AT9: 4.03 | AU9: 5.69 | AV9: 5.4
A10: Flo Hill | B10: 6.78 | C10: 6.57 | D10: 3.6 | E10: 7.3 | F10: 5.9 | G10: 2.14 | H10: 1.87 | I10: 8.1 | J10: 0 | K10: 8.5 | L10: 2.26 | M10: 2.63 | N10: 2.6 | O10: 3.08 | P10: 6.75 | Q10: 3.19 | R10: 3.56 | S10: 2.2 | T10: 5.57 | U10: 5.9 | V10: 4.2 | W10: 5.55 | X10: 8.26 | Y10: 3.47 | Z10: 6.45 | AA10: 7.11 | AB10: 6 | AC10: 9.46 | AD10: 4.2 | AE10: 2.4 | AF10: 4.2 | AG10: 1.99 | AH10: 1.75 | AI10: 6.68 | AJ10: 2.6 | AK10: 6.89 | AL10: 6.89 | AM10: 2.87 | AN10: 2.87 | AO10: 9.32 | AP10: 5.11 | AQ10: 6.51 | AR10: 2.5 | AS10: 2.2 | AT10: 7.13 | AU10: 11.46 | AV10: 5.8
A11: Garcia | B11: 3.38 | C11: 3.16 | D11: 5.07 | E11: 3 | F11: 2.49 | G11: 6.59 | H11: 11.55 | I11: 6.33 | J11: 8.5 | K11: 0 | L11: 10.42 | M11: 6.28 | N11: 7.29 | O11: 7.63 | P11: 2.51 | Q11: 11.76 | R11: 4.8 | S11: 10.52 | T11: 5.11 | U11: 2.49 | V11: 4.8 | W11: 4.16 | X11: 1.21 | Y11: 5.68 | Z11: 3.24 | AA11: 2.9 | AB11: 3.5 | AC11: 0.64 | AD11: 4.8 | AE11: 6.49 | AF11: 4.8 | AG11: 10.05 | AH11: 10.94 | AI11: 4.02 | AJ11: 7.59 | AK11: 3.06 | AL11: 3.06 | AM11: 5.77 | AN11: 5.77 | AO11: 0.87 | AP11: 4.65 | AQ11: 4.06 | AR11: 6.1 | AS11: 6.4 | AT11: 2.73 | AU11: 5.76 | AV11: 3.9
A12: Garner | B12: 8.68 | C12: 7.08 | D12: 4.38 | E12: 8.2 | F12: 6.4 | G12: 2.68 | H12: 2.18 | I12: 10 | J12: 2.26 | K12: 10.42 | L12: 0 | M12: 3.73 | N12: 4.1 | O12: 4.56 | P12: 8.14 | Q12: 2.55 | R12: 4.67 | S12: 0.75 | T12: 5.39 | U12: 6.4 | V12: 4.8 | W12: 7.05 | X12: 8.84 | Y12: 3.7 | Z12: 7.03 | AA12: 8.59 | AB12: 6.58 | AC12: 10.04 | AD12: 4.8 | AE12: 2.63 | AF12: 4.8 | AG12: 0.83 | AH12: 1.33 | AI12: 8.16 | AJ12: 4.1 | AK12: 9.58 | AL12: 9.58 | AM12: 3.36 | AN12: 3.36 | AO12: 9.9 | AP12: 5.36 | AQ12: 7.99 | AR12: 3.8 | AS12: 3.7 | AT12: 7.72 | AU12: 12.62 | AV12: 7.4
A13: Johnson DAEP | B13: 4.2 | C13: 3.63 | D13: 1.12 | E13: 3.8 | F13: 3.6 | G13: 1.34 | H13: 4.49 | I13: 5.52 | J13: 2.63 | K13: 6.28 | L13: 3.73 | M13: 0 | N13: 0.3 | O13: 1.61 | P13: 4.41 | Q13: 5.49 | R13: 1.6 | S13: 4.28 | T13: 1.64 | U13: 3.6 | V13: 1.6 | W13: 2.84 | X13: 5.1 | Y13: 1.34 | Z13: 3.29 | AA13: 4.69 | AB13: 2.85 | AC13: 6.31 | AD13: 1.6 | AE13: 1.24 | AF13: 1.6 | AG13: 3.78 | AH13: 4.05 | AI13: 4.26 | AJ13: 0.3 | AK13: 4.46 | AL13: 4.46 | AM13: 0.51 | AN13: 0.51 | AO13: 6.17 | AP13: 1.81 | AQ13: 4.13 | AR13: 0.9 | AS13: 0.4 | AT13: 3.98 | AU13: 8.48 | AV13: 2.7
... A48: Grand Family Services | B48: 3.8 | C48: 2.6 | D48: 1.7 | E48: 1.5 | F48: 3.6 | G48: 3.4 | H48: 8.3 | I48: 5.4 | J48: 5.8 | K48: 3.9 | L48: 7.4 | M48: 2.7 | N48: 3.4 | O48: 4.5 | P48: 2.3 | Q48: 7.7 | R48: 1.8 | S48: 6.7 | T48: 2.1 | U48: 3.6 | V48: 1.8 | W48: 1.4 | X48: 2.5 | Y48: 2.2 | Z48: 0.6 | AA48: 4.3 | AB48: 0.3 | AC48: 3.9 | AD48: 1.8 | AE48: 3.4 | AF48: 1.8 | AG48: 5.4 | AH48: 8.1 | AI48: 4.3 | AJ48: 3.8 | AK48: 3.6 | AL48: 3.3 | AM48: 3 | AN48: 3 | AO48: 3.4 | AP48: 1.3 | AQ48: 4 | AR48: 2.8 | AS48: 3 | AT48: 2 | AU48: 6.4 | AV48: 0
