Workbook
Name ADDITIONAL_INVEST: #REF!
Name ADJUSTED_EAV: #REF!
Name BASE_CALC: #REF!
Name BFM: #REF!
Name ChosenDistrict: #REF!
Name ChosenDistrict: #REF!
Name ChosenDistrict: Cover!H5
Name CORE_INVEST: #REF!
Name CY_REAL_CALC: #REF!
Name DashedRCDTHidden: Cover!$Y$14
Name ENROLL_ALL: #REF!
Name ENROLL_EL: #REF!
Name ENROLL_LOWINC: #REF!
Name LOCAL_CAPACITY_TARGET: #REF!
Name OTR: #REF!
Name PER_STUDENT_INVEST: #REF!
Name PTELL_EAV_CALC: #REF!
Name REGION: #REF!
Name SCHADDRS: #REF!
Name SCHCTY: #REF!
Name SCHNMBR: #REF!
Name SCHNME: #REF!
Name School_District: #REF!
Name SUPT: #REF!
Name validation_list: OFFSET(#REF!,,,COUNTIF(#REF!,"?*"))

Sheet Cover
A1: District Type: | G1: ILLINOIS STATE BOARD OF EDUCATION
B2: =IF(Y15="SD","x","") -> x | C2: School District | G2: School Business Services Division
B3: =IF(Y15="JA","x","") | C3: Joint Agreement
G4: SCHOOL DISTRICT/JOINT AGREEMENT BUDGET FORM *
A5: Accounting Basis: | G5: ="July 1, "&'B27'!K2-1&" - June 30, "&'B27'!K2 -> July 1, 2026 - June 30, 2027
C6: Cash
B7: x | C7: Accrual
C8: Is this an amended budget? | H8: No
C10: Date of Amended Budget:
H11: (MM/DD/YY)
C13: District Name: | J13: West Chicago ESD 33 | Y13: =IF(H14<>"Select dist name from drop-down on line above",1,0) -> 1
C14: District RCDT No: | J14: =IFERROR(VLOOKUP(J13,'District Drop-down'!$A$2:$B$1001,2,FALSE),"Please select district from drop-down list in cell J13.") -> 19022033002 | Y14: =_xlfn.IFNA(VLOOKUP(J13,#REF!,6),"") -> #REF!
Y15: =IFERROR(VLOOKUP(J14,'District Drop-down'!$B$2:$D$1001,3,FALSE),"") -> SD
B17: ='DeficitBudgetSum Calc 21'!D7 & 'DeficitBudgetSum Calc 21'!D8 & " " -> Balanced budget; no Deficit Reduction Plan is required.
B18: ='DeficitBudgetSum Calc 21'!D9 & 'DeficitBudgetSum Calc 21'!D10 & " " | Q18: =IF('DeficitBudgetSum Calc 21'!D7='DeficitBudgetSum Calc 21'!B23, 'DeficitBudgetSum Calc 21'!D30, " ")
C25: Budget of | H25: =IF(J13="","",J13) -> West Chicago ESD 33 | L25: , County of | O25: =IFERROR(VLOOKUP($J$13,'District Drop-down'!$A$2:$C$1001,3,FALSE),"") -> Dupage | S25: ,
B26: State of Illinois, for the Fiscal Year beginning | I26: ="July 1, "&'B27'!K2-1 -> July 1, 2026 | L26: and ending | N26: ="June 30, "&'B27'!K2 -> June 30, 2027 | R26: .
C28: WHEREAS the Board of Education of | K28: =IF(J13=" Click here to choose your district from drop-down list","",J13) -> West Chicago ESD 33 | S28: ,
A29: County of | G29: =O25 -> Dupage | I29: , State of Illinois, caused to be prepared in tentative form a budget, and the Secretary
A30: of this Board has made the same conveniently available to public inspection for at least thirty days prior to final action thereon;
C32: AND WHEREAS a public hearing was held as to such budget on the | K32: 3rd | L32: day of | M32: September | P32: , 20 | Q32: 26 | R32: ,
A33: notice of said hearing was given at least thirty days prior thereto as required by law, and all other legal requirements have been complied with;
C35: NOW, THEREFORE, Be it resolved by the Board of Education of said district as follows:
C37: Section 1: That the fiscal year of this school district be and the same hereby is fixed and declared to be
A38: beginning | E38: =I26 -> July 1, 2026 | H38: and ending | J38: =N26 -> June 30, 2027 | M38: .
C40: Section 2: That the following budget containing an estimate of amounts available in each Fund, separately, and expenditures from each be
A41: and the same is hereby adopted as the budget of this school district for said fiscal year.
J43: ADOPTION OF BUDGET
C44: The budget shall be approved and signed below by members of the School Board. Adopted this | N44: 17th | O44: day of | P44: September | S44: , 20 | T44: 26
A45: by a roll call vote of | E45: 7 | G45: Yeas, and | H45: 0 | I45: Nays, to wit:
E49: ** MEMBERS VOTING YEA: | K49: ** MEMBERS VOTING NAY:
E50: Rita Balgeman
E51: Sandra Garcia
E52: Janette Hernandez
E53: Kari McCue
E54: Molly Denton
E55: Chad McClean
E56: Morgan Banasiak
D61: * | E61: Based on the 23 Illinois Administrative Code-Part 100 and inconformity with Section 17-1 of the School Code.
D62: ** | E62: Type in the members who voted "YEA" nor "NAY". Actual school board member signatures are not required for electronic submission.
...

Sheet BudgetSum 2-4
A1: Begin entering data on EstRev 6-10 and EstExp 11-19 tabs. | C1: (10) | D1: (20) | E1: (30) | F1: (40) | G1: (50) | H1: (60) | I1: (70) | J1: (80) | K1: (90)
A2: Description: Enter Whole Numbers Only | B2: Acct # | C2: Educational | D2: Operations & Maintenance | E2: Debt Service | F2: Transportation | G2: Municipal Retirement/ Social Security | H2: Capital Projects | I2: Working Cash | J2: Tort | K2: Fire Prevention & Safety
A3: ="ESTIMATED BEGINNING FUND BALANCE (without Student Activity Funds)1 as of July 1, "&'B27'!K2-1 -> ESTIMATED BEGINNING FUND BALANCE (without Student Activity Funds)1 as of July 1, 2026 | C3: 48545078 | D3: 3765414 | E3: 1863901 | F3: 3410565 | G3: 2381964 | H3: 5840803 | I3: 5520315 | J3: 141785 | K3: 0
A4: RECEIPTS/REVENUES (without Student Activity Funds)
A5: LOCAL SOURCES | B5: 1000 | C5: ='EstRev 6-10'!C112 -> 42432409 | D5: ='EstRev 6-10'!D112 -> 4993399 | E5: ='EstRev 6-10'!E112 -> 2649096 | F5: ='EstRev 6-10'!F112 -> 3004291 | G5: ='EstRev 6-10'!G112 -> 1155921 | H5: ='EstRev 6-10'!H112 -> 0 | I5: ='EstRev 6-10'!I112 -> 476730 | J5: ='EstRev 6-10'!J112 -> 20027 | K5: ='EstRev 6-10'!K112 -> 0
A6: FLOW-THROUGH RECEIPTS/REVENUES FROM ONE DISTRICT TO ANOTHER DISTRICT | B6: 2000 | C6: ='EstRev 6-10'!C118 -> 0 | D6: ='EstRev 6-10'!D118 -> 0 | F6: ='EstRev 6-10'!F118 -> 0 | G6: ='EstRev 6-10'!G118 -> 0
A7: STATE SOURCES | B7: 3000 | C7: ='EstRev 6-10'!C165 -> 29529806 | D7: ='EstRev 6-10'!D165 -> 650000 | E7: ='EstRev 6-10'!E165 -> 0 | F7: ='EstRev 6-10'!F165 -> 3475000 | G7: ='EstRev 6-10'!G165 -> 0 | H7: ='EstRev 6-10'!H165 -> 0 | I7: ='EstRev 6-10'!I165 -> 0 | J7: ='EstRev 6-10'!J165 -> 0 | K7: ='EstRev 6-10'!K165 -> 0
A8: FEDERAL SOURCES | B8: 4000 | C8: ='EstRev 6-10'!C239 -> 6100000 | D8: ='EstRev 6-10'!D239 -> 0 | E8: ='EstRev 6-10'!E239 -> 0 | F8: ='EstRev 6-10'!F239 -> 0 | G8: ='EstRev 6-10'!G239 -> 0 | H8: ='EstRev 6-10'!H239 -> 0 | I8: ='EstRev 6-10'!I239 -> 0 | J8: ='EstRev 6-10'!J239 -> 0 | K8: ='EstRev 6-10'!K239 -> 0
A9: Total Direct Receipts/Revenues 8 | C9: =SUM(C5:C8) -> 78062215 | D9: =SUM(D5:D8) -> 5643399 | E9: =SUM(E5:E8) -> 2649096 | F9: =SUM(F5:F8) -> 6479291 | G9: =SUM(G5:G8) -> 1155921 | H9: =SUM(H5:H8) -> 0 | I9: =SUM(I5:I8) -> 476730 | J9: =SUM(J5:J8) -> 20027 | K9: =SUM(K5:K8) -> 0
A10: Receipts/Revenues for "On Behalf" Payments 2 | B10: 3998 | C10: 21040343
A11: Total Receipts/Revenues | C11: =SUM(C9:C10) -> 99102558 | D11: =SUM(D9:D10) -> 5643399 | E11: =SUM(E9:E10) -> 2649096 | F11: =SUM(F9:F10) -> 6479291 | G11: =SUM(G9:G10) -> 1155921 | H11: =SUM(H9:H10) -> 0 | I11: =SUM(I9:I10) -> 476730 | J11: =SUM(J9:J10) -> 20027 | K11: =SUM(K9:K10) -> 0
A12: DISBURSEMENTS/EXPENDITURES (without Student Activity Funds)
A13: INSTRUCTION | B13: 1000 | C13: ='EstExp 11-19'!K34 -> 45131246 | G13: ='EstExp 11-19'!K233 -> 1320274 | J13: ='EstExp 11-19'!K344 -> 0
A14: SUPPORT SERVICES | B14: 2000 | C14: ='EstExp 11-19'!K76 -> 18491775 | D14: ='EstExp 11-19'!K133 -> 5201594 | F14: ='EstExp 11-19'!K188 -> 6109100 | G14: ='EstExp 11-19'!K276 -> 1045549 | H14: ='EstExp 11-19'!K300 -> 4700000 | J14: ='EstExp 11-19'!K387 -> 0 | K14: ='EstExp 11-19'!K438 -> 0
A15: COMMUNITY SERVICES | B15: 3000 | C15: ='EstExp 11-19'!K77 -> 2669117 | D15: ='EstExp 11-19'!K134 -> 0 | F15: ='EstExp 11-19'!K189 -> 0 | G15: ='EstExp 11-19'!K277 -> 288486 | J15: ='EstExp 11-19'!K388 -> 0
A16: PAYMENTS TO OTHER DISTRICTS & GOVT UNITS | B16: 4000 | C16: ='EstExp 11-19'!K104 -> 2904000 | D16: ='EstExp 11-19'!K143 -> 0 | E16: ='EstExp 11-19'!K164 -> 0 | F16: ='EstExp 11-19'!K200 -> 0 | G16: ='EstExp 11-19'!K282 -> 0 | H16: ='EstExp 11-19'!K307 -> 0 | J16: ='EstExp 11-19'!K415 -> 0 | K16: ='EstExp 11-19'!K443 -> 0
A17: DEBT SERVICES | B17: 5000 | C17: ='EstExp 11-19'!K114 -> 0 | D17: ='EstExp 11-19'!K153 -> 0 | E17: ='EstExp 11-19'!K176 -> 2615000 | F17: ='EstExp 11-19'!K212 -> 0 | G17: ='EstExp 11-19'!K290 -> 0 | J17: ='EstExp 11-19'!K426 -> 0 | K17: ='EstExp 11-19'!K451 -> 0
A18: PROVISION FOR CONTINGENCIES | B18: 6000 | C18: ='EstExp 11-19'!K115 -> 0 | D18: ='EstExp 11-19'!K154 -> 0 | E18: ='EstExp 11-19'!K177 -> 0 | F18: ='EstExp 11-19'!K213 -> 0 | G18: ='EstExp 11-19'!K291 -> 0 | H18: ='EstExp 11-19'!K308 -> 0 | J18: ='EstExp 11-19'!K427 -> 0 | K18: ='EstExp 11-19'!K452 -> 0
A19: Total Direct Disbursements/Expenditures 9 | C19: =SUM(C13:C18) -> 69196138 | D19: =SUM(D13:D18) -> 5201594 | E19: =SUM(E13:E18) -> 2615000 | F19: =SUM(F13:F18) -> 6109100 | G19: =SUM(G13:G18) -> 2654309 | H19: =SUM(H13:H18) -> 4700000 | J19: =SUM(J13:J18) -> 0 | K19: =SUM(K13:K18) -> 0
A20: Disbursements/Expenditures for "On Behalf" Payments 2 | B20: 4180 | C20: =C10 -> 21040343 | D20: =D10 -> 0 | E20: =E10 -> 0 | F20: =F10 -> 0 | G20: =G10 -> 0 | H20: =H10 -> 0 | J20: =J10 -> 0 | K20: =K10 -> 0
A21: Total Disbursements/Expenditures | C21: =SUM(C19:C20) -> 90236481 | D21: =SUM(D19:D20) -> 5201594 | E21: =SUM(E19:E20) -> 2615000 | F21: =SUM(F19:F20) -> 6109100 | G21: =SUM(G19:G20) -> 2654309 | H21: =SUM(H19:H20) -> 4700000 | J21: =SUM(J19:J20) -> 0 | K21: =SUM(K19:K20) -> 0
A22: Excess of Direct Receipts/Revenues Over (Under) Direct Disbursements/Expenditures | C22: =C9-C19 -> 8866077 | D22: =D9-D19 -> 441805 | E22: =E9-E19 -> 34096 | F22: =F9-F19 -> 370191 | G22: =G9-G19 -> -1498388 | H22: =H9-H19 -> -4700000 | I22: =I9-I19 -> 476730 | J22: =J9-J19 -> 20027 | K22: =K9-K19 -> 0
A23: OTHER SOURCES/USES OF FUNDS
A24: OTHER SOURCES OF FUNDS (7000)
A25: PERMANENT TRANSFER FROM VARIOUS FUNDS
A26: Abolishment the Working Cash Fund 16 | B26: 7110
A27: Abatement of the Working Cash Fund 16 | B27: 7110
A28: Transfer of Working Cash Fund Interest | B28: 7120
A29: Transfer Among Funds | B29: 7130
A30: Transfer of Interest | B30: 7140
A31: Transfer from Capital Projects Fund to O&M Fund | B31: 7150 | D31: =H54 -> 0
A32: Transfer of Excess Fire Prev & Safety Tax & Interest 3 Proceeds to O&M Fund | B32: 7160 | D32: =K55 -> 0
A33: Transfer of Excess Accumulated Fire Prev & Safety Bond and Int 3a Proceeds to Debt Service Fund | B33: 7170 | E33: =K56 -> 0
A34: SALE OF BONDS (7200)
A35: Principal on Bonds Sold 4 | B35: 7210
A36: Premium on Bonds Sold | B36: 7220
A37: Accrued Interest on Bonds Sold | B37: 7230
A38: Sale or Compensation for Fixed Assets 5 | B38: 7300
A39: Transfer to Debt Service to Pay Principal on Leases | B39: 7400 | E39: =SUM(C57:H60) -> 0
A40: Transfer to Debt Service to Pay Interest on Leases | B40: 7500 | E40: =SUM(C61:H64) -> 0
...

Sheet CashSum 5
C1: (10) | D1: (20) | E1: (30) | F1: (40) | G1: (50) | H1: (60) | I1: (70) | J1: (80) | K1: (90)
A2: Description: Enter Whole Numbers Only | B2: Acct # | C2: Educational | D2: Operations & Maintenance | E2: Debt Service | F2: Transportation | G2: Municipal Retirement/ Social Security | H2: Capital Projects | I2: Working Cash | J2: Tort | K2: Fire Prevention & Safety
A3: ="BEGINNING CASH BALANCE ON HAND (without Student Activity Funds)7 as of July 1, "&'B27'!K2-1 -> BEGINNING CASH BALANCE ON HAND (without Student Activity Funds)7 as of July 1, 2026 | C3: 48545078 | D3: 3765414 | E3: 1863901 | F3: 3410565 | G3: 2381964 | H3: 5840803 | I3: 5520315 | J3: 141785 | K3: 0
A4: Total Direct Receipts & Other Sources 8 | C4: ='BudgetSum 2-4'!C9+'BudgetSum 2-4'!C46 -> 78062215 | D4: ='BudgetSum 2-4'!D9+'BudgetSum 2-4'!D46 -> 5643399 | E4: ='BudgetSum 2-4'!E9+'BudgetSum 2-4'!E46 -> 2649096 | F4: ='BudgetSum 2-4'!F9+'BudgetSum 2-4'!F46 -> 6479291 | G4: ='BudgetSum 2-4'!G9+'BudgetSum 2-4'!G46 -> 1155921 | H4: ='BudgetSum 2-4'!H9+'BudgetSum 2-4'!H46 -> 0 | I4: ='BudgetSum 2-4'!I9+'BudgetSum 2-4'!I46 -> 476730 | J4: ='BudgetSum 2-4'!J9+'BudgetSum 2-4'!J46 -> 20027 | K4: ='BudgetSum 2-4'!K9+'BudgetSum 2-4'!K46 -> 0
A5: OTHER RECEIPTS
A6: Interfund Loans Payable (Loans from Other Funds) | B6: 411
A7: Interfund Loans Receivable (Repayment of Loans) | B7: 141
A8: Notes and Warrants Payable | B8: 433
A9: Other Current Assets | B9: 199
A10: Total Other Receipts | C10: =SUM(C6:C9) -> 0 | D10: =SUM(D6:D9) -> 0 | E10: =SUM(E6:E9) -> 0 | F10: =SUM(F6:F9) -> 0 | G10: =SUM(G6:G9) -> 0 | H10: =SUM(H6:H9) -> 0 | I10: =SUM(I6:I9) -> 0 | J10: =SUM(J6:J9) -> 0 | K10: =SUM(K6:K9) -> 0
A11: Total Direct Receipts, Other Sources, & Other Receipts | C11: =SUM(C4,C10) -> 78062215 | D11: =SUM(D4,D10) -> 5643399 | E11: =SUM(E4,E10) -> 2649096 | F11: =SUM(F4,F10) -> 6479291 | G11: =SUM(G4,G10) -> 1155921 | H11: =SUM(H4,H10) -> 0 | I11: =SUM(I4,I10) -> 476730 | J11: =SUM(J4,J10) -> 20027 | K11: =SUM(K4,K10) -> 0
A12: Total Amount Available | C12: =SUM(C3,C11) -> 126607293 | D12: =SUM(D3,D11) -> 9408813 | E12: =SUM(E3,E11) -> 4512997 | F12: =SUM(F3,F11) -> 9889856 | G12: =SUM(G3,G11) -> 3537885 | H12: =SUM(H3,H11) -> 5840803 | I12: =SUM(I3,I11) -> 5997045 | J12: =SUM(J3,J11) -> 161812 | K12: =SUM(K3,K11) -> 0
A13: Total Direct Disbursements & Other Uses 9 | C13: =SUM('BudgetSum 2-4'!C19,'BudgetSum 2-4'!C79) -> 69196138 | D13: =SUM('BudgetSum 2-4'!D19,'BudgetSum 2-4'!D79) -> 5201594 | E13: =SUM('BudgetSum 2-4'!E19,'BudgetSum 2-4'!E79) -> 2615000 | F13: =SUM('BudgetSum 2-4'!F19,'BudgetSum 2-4'!F79) -> 6109100 | G13: =SUM('BudgetSum 2-4'!G19,'BudgetSum 2-4'!G79) -> 2654309 | H13: =SUM('BudgetSum 2-4'!H19,'BudgetSum 2-4'!H79) -> 4700000 | I13: =SUM('BudgetSum 2-4'!I19,'BudgetSum 2-4'!I79) -> 0 | J13: =SUM('BudgetSum 2-4'!J19,'BudgetSum 2-4'!J79) -> 0 | K13: =SUM('BudgetSum 2-4'!K19,'BudgetSum 2-4'!K79) -> 0
A14: OTHER DISBURSEMENTS
A15: Interfund Loans Receivable (Loans to Other Funds) 10 | B15: 141
A16: Interfund Loans Payable (Repayment of Loans) | B16: 411
A17: Notes and Warrants Payable | B17: 433
A18: Other Current Liabilities | B18: 499
A19: Total Other Disbursements | C19: =SUM(C15:C18) -> 0 | D19: =SUM(D15:D18) -> 0 | E19: =SUM(E15:E18) -> 0 | F19: =SUM(F15:F18) -> 0 | G19: =SUM(G15:G18) -> 0 | H19: =SUM(H15:H18) -> 0 | I19: =SUM(I15:I18) -> 0 | J19: =SUM(J15:J18) -> 0 | K19: =SUM(K15:K18) -> 0
A20: Total Direct Disbursements, Other Uses, & Other Disbursements | C20: =SUM(C13,C19) -> 69196138 | D20: =SUM(D13,D19) -> 5201594 | E20: =SUM(E13,E19) -> 2615000 | F20: =SUM(F13,F19) -> 6109100 | G20: =SUM(G13,G19) -> 2654309 | H20: =SUM(H13,H19) -> 4700000 | I20: =SUM(I13,I19) -> 0 | J20: =SUM(J13,J19) -> 0 | K20: =SUM(K13,K19) -> 0
A21: ="ENDING CASH BALANCE ON HAND (without Student Activity Funds) as of June 30, "&'B27'!K2 -> ENDING CASH BALANCE ON HAND (without Student Activity Funds) as of June 30, 2027 | C21: =SUM(C12-C20) -> 57411155 | D21: =SUM(D12-D20) -> 4207219 | E21: =SUM(E12-E20) -> 1897997 | F21: =SUM(F12-F20) -> 3780756 | G21: =SUM(G12-G20) -> 883576 | H21: =SUM(H12-H20) -> 1140803 | I21: =SUM(I12-I20) -> 5997045 | J21: =SUM(J12-J20) -> 161812 | K21: =SUM(K12-K20) -> 0
A23: ="Activity Funds BEGINNING CASH BALANCE ON HAND7 as of July 1, "&'B27'!K2-1 -> Activity Funds BEGINNING CASH BALANCE ON HAND7 as of July 1, 2026 | C23: 42600
A24: Total Direct Receipts & Other Sources 8 | C24: ='BudgetSum 2-4'!C85 -> 0
A25: Total Amount Available | C25: =SUM(C23,C24) -> 42600
A26: Total Direct Disbursements & Other Uses 9 | C26: ='BudgetSum 2-4'!C87 -> 0
A27: ="Activity funds ENDING CASH BALANCE ON HAND7 as of June 30, "&'B27'!K2 -> Activity funds ENDING CASH BALANCE ON HAND7 as of June 30, 2027 | C27: =SUM(C25-C26) -> 42600
A29: ="Total BEGINNING CASH BALANCE ON HAND (with Student Activity Funds)7 as of July 1, "&'B27'!K2-1 -> Total BEGINNING CASH BALANCE ON HAND (with Student Activity Funds)7 as of July 1, 2026 | C29: =C3+C23 -> 48587678 | D29: =D3 -> 3765414 | E29: =E3 -> 1863901 | F29: =F3 -> 3410565 | G29: =G3 -> 2381964 | H29: =H3 -> 5840803 | I29: =I3 -> 5520315 | J29: =J3 -> 141785 | K29: =K3 -> 0
A30: Total Direct Receipts & Other Sources 8 | C30: =C4+C24 -> 78062215 | D30: =D4 -> 5643399 | E30: =E4 -> 2649096 | F30: =F4 -> 6479291 | G30: =G4 -> 1155921 | H30: =H4 -> 0 | I30: =I4 -> 476730 | J30: =J4 -> 20027 | K30: =K4 -> 0
A31: Total Other Receipts | C31: =C10 -> 0 | D31: =D10 -> 0 | E31: =E10 -> 0 | F31: =F10 -> 0 | G31: =G10 -> 0 | H31: =H10 -> 0 | I31: =I10 -> 0 | J31: =J10 -> 0 | K31: =K10 -> 0
A32: Total Direct Receipts, Other Sources, & Other Receipts | C32: =SUM(C30,C31) -> 78062215 | D32: =SUM(D30,D31) -> 5643399 | E32: =SUM(E30,E31) -> 2649096 | F32: =SUM(F30,F31) -> 6479291 | G32: =SUM(G30,G31) -> 1155921 | H32: =SUM(H30,H31) -> 0 | I32: =SUM(I30,I31) -> 476730 | J32: =SUM(J30,J31) -> 20027 | K32: =SUM(K30,K31) -> 0
A33: Total Amount Available | C33: =SUM(C29,C32) -> 126649893 | D33: =SUM(D29,D32) -> 9408813 | E33: =SUM(E29,E32) -> 4512997 | F33: =SUM(F29,F32) -> 9889856 | G33: =SUM(G29,G32) -> 3537885 | H33: =SUM(H29,H32) -> 5840803 | I33: =SUM(I29,I32) -> 5997045 | J33: =SUM(J29,J32) -> 161812 | K33: =SUM(K29,K32) -> 0
A34: Total Direct Disbursements & Other Uses 9 | C34: =C13+C26 -> 69196138 | D34: =D13 -> 5201594 | E34: =E13 -> 2615000 | F34: =F13 -> 6109100 | G34: =G13 -> 2654309 | H34: =H13 -> 4700000 | I34: =I13 -> 0 | J34: =J13 -> 0 | K34: =K13 -> 0
A35: Total Other Disbursements | C35: =C19 -> 0 | D35: =D19 -> 0 | E35: =E19 -> 0 | F35: =F19 -> 0 | G35: =G19 -> 0 | H35: =H19 -> 0 | I35: =I19 -> 0 | J35: =J19 -> 0 | K35: =K19 -> 0
A36: Total Direct Disbursements, Other Uses, & Other Disbursements | C36: =SUM(C34,C35) -> 69196138 | D36: =SUM(D34,D35) -> 5201594 | E36: =SUM(E34,E35) -> 2615000 | F36: =SUM(F34,F35) -> 6109100 | G36: =SUM(G34,G35) -> 2654309 | H36: =SUM(H34,H35) -> 4700000 | I36: =SUM(I34,I35) -> 0 | J36: =SUM(J34,J35) -> 0 | K36: =SUM(K34,K35) -> 0
A37: ="Total ENDING CASH BALANCE ON HAND (with Student Activity Funds)7 as of June 30, "&'B27'!K2 -> Total ENDING CASH BALANCE ON HAND (with Student Activity Funds)7 as of June 30, 2027 | C37: =SUM(C33-C36) -> 57453755 | D37: =SUM(D33-D36) -> 4207219 | E37: =SUM(E33-E36) -> 1897997 | F37: =SUM(F33-F36) -> 3780756 | G37: =SUM(G33-G36) -> 883576 | H37: =SUM(H33-H36) -> 1140803 | I37: =SUM(I33-I36) -> 5997045 | J37: =SUM(J33-J36) -> 161812 | K37: =SUM(K33-K36) -> 0

Sheet EstRev 6-10
C1: (10) | D1: (20) | E1: (30) | F1: (40) | G1: (50) | H1: (60) | I1: (70) | J1: (80) | K1: (90)
A2: Description: Enter Whole Numbers Only | B2: Acct # | C2: Educational | D2: Operations & Maintenance | E2: Debt Service | F2: Transportation | G2: Municipal Retirement/ Social Security | H2: Capital Projects | I2: Working Cash | J2: Tort | K2: Fire Prevention & Safety
A3: RECEIPTS/REVENUES FROM LOCAL SOURCES (1000)
A4: AD VALOREM TAXES LEVIED BY LOCAL EDUCATION AGENCY | B4: 1100
A5: Designated Purposes Levies 11 (1110-1120) | B5: ­ | C5: 36893362 | D5: 4733399 | E5: 2609096 | F5: 2934291 | G5: 371356 | H5: 0 | I5: 451730 | J5: 19527 | K5: 0
A6: Leasing Purposes Levy 12 | B6: 1130 | C6: 0 | D6: 0
A7: Special Education Purposes Levy | B7: 1140 | C7: 3568275 | D7: 0 | F7: 0 | G7: 0 | H7: 0
A8: FICA and Medicare Only Levies | B8: 1150 | G8: 569231
A9: Area Vocational Construction Purposes Levy | B9: 1160 | D9: 0 | E9: 0 | H9: 0
A10: Summer School Purposes Levy | B10: 1170 | C10: 0
A11: Other Tax Levies (Describe & Itemize) | B11: 1190 | C11: 0 | D11: 0 | E11: 0 | F11: 0 | G11: 0 | H11: 0 | I11: 0 | J11: 0 | K11: 0
A12: Total Ad Valorem Taxes Levied by District | C12: =SUM(C5:C11) -> 40461637 | D12: =SUM(D5:D11) -> 4733399 | E12: =SUM(E5:E11) -> 2609096 | F12: =SUM(F5:F11) -> 2934291 | G12: =SUM(G5:G11) -> 940587 | H12: =SUM(H5:H11) -> 0 | I12: =SUM(I5:I11) -> 451730 | J12: =SUM(J5:J11) -> 19527 | K12: =SUM(K5:K11) -> 0
A13: PAYMENTS IN LIEU OF TAXES | B13: 1200
A14: Mobile Home Privilege Tax | B14: 1210 | C14: 0 | D14: 0 | E14: 0 | F14: 0 | G14: 0 | H14: 0 | I14: 0 | J14: 0 | K14: 0
A15: Payments from Local Housing Authority | B15: 1220 | C15: 0 | D15: 0 | E15: 0 | F15: 0 | G15: 0 | H15: 0 | I15: 0 | J15: 0 | K15: 0
A16: Corporate Personal Property Replacement Taxes13 | B16: 1230 | C16: 1273772 | D16: 0 | E16: 0 | F16: 0 | G16: 190334 | H16: 0 | I16: 0 | J16: 0 | K16: 0
A17: Other Payments in Lieu of Taxes (Describe & Itemize) | B17: 1290 | C17: 0 | D17: 0 | E17: 0 | F17: 0 | G17: 0 | H17: 0 | I17: 0 | J17: 0 | K17: 0
A18: Total Payments in Lieu of Taxes | C18: =SUM(C14:C17) -> 1273772 | D18: =SUM(D14:D17) -> 0 | E18: =SUM(E14:E17) -> 0 | F18: =SUM(F14:F17) -> 0 | G18: =SUM(G14:G17) -> 190334 | H18: =SUM(H14:H17) -> 0 | I18: =SUM(I14:I17) -> 0 | J18: =SUM(J14:J17) -> 0 | K18: =SUM(K14:K17) -> 0
A19: TUITION | B19: 1300
A20: Regular Tuition from Pupils or Parents (In State) | B20: 1311 | C20: 0
A21: Regular Tuition from Other Districts (In State) | B21: 1312 | C21: 0
A22: Regular Tuition from Other Sources (In State) | B22: 1313 | C22: 0
A23: Regular Tuition from Other Sources (Out of State) | B23: 1314 | C23: 0
A24: Summer School Tuition from Pupils or Parents (In State) | B24: 1321 | C24: 0
A25: Summer School Tuition from Other Districts (In State) | B25: 1322 | C25: 0
A26: Summer School Tuition from Other Sources (In State) | B26: 1323 | C26: 0
A27: Summer School Tuition from Other Sources (Out of State) | B27: 1324 | C27: 0
A28: CTE Tuition from Pupils or Parents (In State) | B28: 1331 | C28: 0
A29: CTE Tuition from Other Districts (In State) | B29: 1332 | C29: 0
A30: CTE Tuition from Other Sources (In State) | B30: 1333 | C30: 0
A31: CTE Tuition from Other Sources (Out of State) | B31: 1334 | C31: 0
... A39: Adult Tuition from Other Sources (Out of State) | B39: 1354 | C39: 0
A40: Total Tuition | C40: =SUM(C20:C39) -> 0
A41: TRANSPORTATION FEES | B41: 1400
A42: Regular Transportation Fees from Pupils or Parents (In State) | B42: 1411 | F42: 20000
A43: Regular Transportation Fees from Other Districts (In State) | B43: 1412 | F43: 0
A44: Regular Transportation Fees from Other Sources (In State) | B44: 1413 | F44: 0
A45: Regular Transportation Fees from Co-curricular Activities (In State) | B45: 1415 | F45: 0
A46: Regular Transportation Fees from Other Sources (Out of State) | B46: 1416 | F46: 0
A47: Summer School Transportation Fees from Pupils or Parents (In State) | B47: 1421 | F47: 0
...

Sheet EstExp 11-19
A1: Description: Enter Whole Numbers Only | C1: (100) | D1: (200) | E1: (300) | F1: (400) | G1: (500) | H1: (600) | I1: (700) | J1: (800) | K1: (900)
B2: Funct # | C2: Salaries | D2: Employee Benefits | E2: Purchased Services | F2: Supplies & Materials | G2: Capital Outlay | H2: Other Objects | I2: Non-Capitalized Equipment | J2: Termination Benefits | K2: Total
A3: 10 - EDUCATIONAL FUND (ED)
A4: INSTRUCTION (ED) | B4: 1000
A5: Regular Programs | B5: 1100 | C5: 28527206 | D5: 4889602 | E5: 989700 | F5: 1147700 | G5: 37500 | H5: 11500 | I5: 40000 | J5: 0 | K5: =SUM(C5:J5) -> 35643208
A6: Tuition Payment to Charter Schools | B6: 1115 | E6: 0 | K6: =SUM(C6:J6) -> 0
A7: Pre-K Programs | B7: 1125 | C7: 0 | D7: 0 | E7: 0 | F7: 0 | G7: 0 | H7: 0 | I7: 0 | J7: 0 | K7: =SUM(C7:J7) -> 0
A8: Special Education Programs (Functions 1200 - 1220) | B8: 1200 | C8: 6291558 | D8: 1186786 | E8: 10900 | F8: 2500 | G8: 0 | H8: 3500 | I8: 0 | J8: 0 | K8: =SUM(C8:J8) -> 7495244
A9: Special Education Programs Pre-K | B9: 1225 | C9: 0 | D9: 0 | E9: 0 | F9: 0 | G9: 0 | H9: 0 | I9: 0 | J9: 0 | K9: =SUM(C9:J9) -> 0
A10: Remedial and Supplemental Programs K-12 | B10: 1250 | C10: 0 | D10: 0 | E10: 0 | F10: 0 | G10: 0 | H10: 0 | I10: 0 | J10: 0 | K10: =SUM(C10:J10) -> 0
A11: Remedial and Supplemental Programs Pre-K | B11: 1275 | C11: 0 | D11: 0 | E11: 0 | F11: 0 | G11: 0 | H11: 0 | I11: 0 | J11: 0 | K11: =SUM(C11:J11) -> 0
A12: Adult/Continuing Education Programs | B12: 1300 | C12: 0 | D12: 0 | E12: 0 | F12: 0 | G12: 0 | H12: 0 | I12: 0 | J12: 0 | K12: =SUM(C12:J12) -> 0
A13: CTE Programs | B13: 1400 | C13: 0 | D13: 0 | E13: 0 | F13: 0 | G13: 0 | H13: 0 | I13: 0 | J13: 0 | K13: =SUM(C13:J13) -> 0
A14: Interscholastic Programs | B14: 1500 | C14: 341818 | D14: 27720 | E14: 16000 | F14: 12000 | G14: 10000 | H14: 2700 | I14: 0 | J14: 0 | K14: =SUM(C14:J14) -> 410238
A15: Summer School Programs | B15: 1600 | C15: 414000 | D15: 1400 | E15: 12000 | F15: 5000 | G15: 0 | H15: 0 | I15: 0 | J15: 0 | K15: =SUM(C15:J15) -> 432400
A16: Gifted Programs | B16: 1650 | C16: 1041806 | D16: 108350 | E16: 0 | F16: 0 | G16: 0 | H16: 0 | I16: 0 | J16: 0 | K16: =SUM(C16:J16) -> 1150156
A17: Driver's Education Programs | B17: 1700 | C17: 0 | D17: 0 | E17: 0 | F17: 0 | G17: 0 | H17: 0 | I17: 0 | J17: 0 | K17: =SUM(C17:J17) -> 0
A18: Bilingual Programs | B18: 1800 | C18: 0 | D18: 0 | E18: 0 | F18: 0 | G18: 0 | H18: 0 | I18: 0 | J18: 0 | K18: =SUM(C18:J18) -> 0
A19: Truant Alternative & Optional Programs | B19: 1900 | C19: 0 | D19: 0 | E19: 0 | F19: 0 | G19: 0 | H19: 0 | I19: 0 | J19: 0 | K19: =SUM(C19:J19) -> 0
A20: Pre-K Programs - Private Tuition | B20: 1910 | H20: 0 | K20: =SUM(C20:J20) -> 0
A21: Regular K-12 Programs Private Tuition | B21: 1911 | H21: 0 | K21: =SUM(C21:J21) -> 0
A22: Special Education Programs K-12 Private Tuition | B22: 1912 | H22: 0 | K22: =SUM(C22:J22) -> 0
A23: Special Education Programs Pre-K Tuition | B23: 1913 | H23: 0 | K23: =SUM(C23:J23) -> 0
A24: Remedial/Supplemental Programs K-12 Private Tuition | B24: 1914 | H24: 0 | K24: =SUM(C24:J24) -> 0
A25: Remedial/Supplemental Programs Pre-K Private Tuition | B25: 1915 | H25: 0 | K25: =SUM(C25:J25) -> 0
A26: Adult/Continuing Education Programs Private Tuition | B26: 1916 | H26: 0 | K26: =SUM(C26:J26) -> 0
A27: CTE Programs Private Tuition | B27: 1917 | H27: 0 | K27: =SUM(C27:J27) -> 0
A28: Interscholastic Programs Private Tuition | B28: 1918 | H28: 0 | K28: =SUM(C28:J28) -> 0
A29: Summer School Programs Private Tuition | B29: 1919 | H29: 0 | K29: =SUM(C29:J29) -> 0
A30: Gifted Programs Private Tuition | B30: 1920 | H30: 0 | K30: =SUM(C30:J30) -> 0
A31: Bilingual Programs Private Tuition | B31: 1921 | H31: 0 | K31: =SUM(C31:J31) -> 0
... A33: Student Activity Fund Expenditures | B33: 1999 | H33: 0 | K33: =SUM(C33:J33) -> 0
A34: Total Instruction14 (Without Student Activity Funds 1999) | B34: 1000 | C34: =SUM(C5:C32) -> 36616388 | D34: =SUM(D5:D32) -> 6213858 | E34: =SUM(E5:E32) -> 1028600 | F34: =SUM(F5:F32) -> 1167200 | G34: =SUM(G5:G32) -> 47500 | H34: =SUM(H5:H32) -> 17700 | I34: =SUM(I5:I32) -> 40000 | J34: =SUM(J5:J32) -> 0 | K34: =SUM(C34:J34) -> 45131246
A35: Total Instruction (With Student Activity Funds 1999) | B35: 1000 | C35: =SUM(C5:C33) -> 36616388 | D35: =SUM(D5:D33) -> 6213858 | E35: =SUM(E5:E33) -> 1028600 | F35: =SUM(F5:F33) -> 1167200 | G35: =SUM(G5:G33) -> 47500 | H35: =SUM(H5:H33) -> 17700 | I35: =SUM(I5:I33) -> 40000 | J35: =SUM(J5:J33) -> 0 | K35: =SUM(C35:J35) -> 45131246
A36: SUPPORT SERVICES (ED) | B36: 2000
A37: Support Services - Pupil | B37: 2100
A38: Attendance & Social Work Services | B38: 2110 | C38: 1467871 | D38: 132350 | E38: 800 | F38: 0 | G38: 0 | H38: 0 | I38: 0 | J38: 0 | K38: =SUM(C38:J38) -> 1601021
A39: Guidance Services | B39: 2120 | C39: 0 | D39: 0 | E39: 0 | F39: 0 | G39: 0 | H39: 0 | I39: 0 | J39: 0 | K39: =SUM(C39:J39) -> 0
A40: Health Services | B40: 2130 | C40: 1063317 | D40: 220744 | E40: 262350 | F40: 12000 | G40: 0 | H40: 0 | I40: 0 | J40: 0 | K40: =SUM(C40:J40) -> 1558411
A41: Psychological Services | B41: 2140 | C41: 570270 | D41: 82300 | E41: 242000 | F41: 0 | G41: 0 | H41: 0 | I41: 0 | J41: 0 | K41: =SUM(C41:J41) -> 894570
...

Sheet Itemize 20
C1: If there is an amount in column C or column G, please describe the type of revenue or expenditure in column D or column H.
B2: Revenue Check: | C2: =IF(COUNTIF(A:A,"ERROR-Describe Revenue")<>0,"Error - Please describe all the revenue.","OK") -> OK
B3: Expenditure Check: | C3: =IF(COUNTIF(I:I,"ERROR-Describe Expenditures")<>0,"Error - Please describe all the expenditures.","OK") -> OK
A4: Error Message | B4: Revenues Acct. (EstRev tab) | C4: Amount | D4: Describe Revenue | F4: Expenditures Fund-Function (EstExp tab) | G4: Amount | H4: Describe Expenditures | I4: Error Message
A5: =IF(AND(C5="",D5=""),"OK",IF(AND(C5<>"",D5<>""),"OK","ERROR-Describe Revenue")) -> OK | B5: 1190 | C5: =IF(SUM('EstRev 6-10'!$C$11:$K$11)>0,SUM('EstRev 6-10'!$C$11:$K$11),"") | F5: 10-2190 | G5: =IF(SUM('EstExp 11-19'!$C$43:$J$43)>0,SUM('EstExp 11-19'!$C$43:$J$43),"") -> 74050 | H5: District safety supplies | I5: =IF(AND(G5="",H5=""),"OK",IF(AND(G5<>"",H5<>""),"OK","ERROR-Describe Expenditures")) -> OK
A6: =IF(AND(C6="",D6=""),"OK",IF(AND(C6<>"",D6<>""),"OK","ERROR-Describe Revenue")) -> OK | B6: 1290 | C6: =IF(SUM('EstRev 6-10'!$C$17:$K$17)>0,SUM('EstRev 6-10'!$C$17:$K$17),"") | F6: 10-2490 | G6: =IF(SUM('EstExp 11-19'!$C$58:$J$58)>0,SUM('EstExp 11-19'!$C$58:$J$58),"") | I6: =IF(AND(G6="",H6=""),"OK",IF(AND(G6<>"",H6<>""),"OK","ERROR-Describe Expenditures")) -> OK
A7: =IF(AND(C7="",D7=""),"OK",IF(AND(C7<>"",D7<>""),"OK","ERROR-Describe Revenue")) -> OK | B7: 1614 | C7: =IF(SUM('EstRev 6-10'!$C$73:$K$73)>0,SUM('EstRev 6-10'!$C$73:$K$73),"") | F7: 10-2900 | G7: =IF(SUM('EstExp 11-19'!$C$75:$J$75)>0,SUM('EstExp 11-19'!$C$75:$J$75),"") | I7: =IF(AND(G7="",H7=""),"OK",IF(AND(G7<>"",H7<>""),"OK","ERROR-Describe Expenditures")) -> OK
A8: =IF(AND(C8="",D8=""),"OK",IF(AND(C8<>"",D8<>""),"OK","ERROR-Describe Revenue")) -> OK | B8: 1690 | C8: =IF(SUM('EstRev 6-10'!$C$75:$K$75)>0,SUM('EstRev 6-10'!$C$75:$K$75),"") | F8: 10-4190 | G8: =IF(SUM('EstExp 11-19'!$C$85:$J$85)>0,SUM('EstExp 11-19'!$C$85:$J$85),"") -> 5000 | H8: Title II (4932) Teacher Quality - Payments to other Gov't entity | I8: =IF(AND(G8="",H8=""),"OK",IF(AND(G8<>"",H8<>""),"OK","ERROR-Describe Expenditures")) -> OK
A9: =IF(AND(C9="",D9=""),"OK",IF(AND(C9<>"",D9<>""),"OK","ERROR-Describe Revenue")) -> OK | B9: 1790 | C9: =IF(SUM('EstRev 6-10'!$C$82:$K$82)>0,SUM('EstRev 6-10'!$C$82:$K$82),"") -> 37000 | D9: Band, Orchestra, & Chorus fees | F9: 10-4290 | G9: =IF(SUM('EstExp 11-19'!$C$93:$J$93)>0,SUM('EstExp 11-19'!$C$93:$J$93),"") | I9: =IF(AND(G9="",H9=""),"OK",IF(AND(G9<>"",H9<>""),"OK","ERROR-Describe Expenditures")) -> OK
A10: =IF(AND(C10="",D10=""),"OK",IF(AND(C10<>"",D10<>""),"OK","ERROR-Describe Revenue")) -> OK | B10: 1819 | C10: =IF(SUM('EstRev 6-10'!$C$90:$K$90)>0,SUM('EstRev 6-10'!$C$90:$K$90),"") | F10: 10-4390 | G10: =IF(SUM('EstExp 11-19'!$C$101:$J$101)>0,SUM('EstExp 11-19'!$C$101:$J$101),"") | I10: =IF(AND(G10="",H10=""),"OK",IF(AND(G10<>"",H10<>""),"OK","ERROR-Describe Expenditures")) -> OK
A11: =IF(AND(C11="",D11=""),"OK",IF(AND(C11<>"",D11<>""),"OK","ERROR-Describe Revenue")) -> OK | B11: 1829 | C11: =IF(SUM('EstRev 6-10'!$C$94:$K$94)>0,SUM('EstRev 6-10'!$C$94:$K$94),"") | F11: 10-4400 | G11: =IF(SUM('EstExp 11-19'!$C$103:$J$103)>0,SUM('EstExp 11-19'!$C$103:$J$103),"") | I11: =IF(AND(G11="",H11=""),"OK",IF(AND(G11<>"",H11<>""),"OK","ERROR-Describe Expenditures")) -> OK
A12: =IF(AND(C12="",D12=""),"OK",IF(AND(C12<>"",D12<>""),"OK","ERROR-Describe Revenue")) -> OK | B12: 1890 | C12: =IF(SUM('EstRev 6-10'!$C$95:$K$95)>0,SUM('EstRev 6-10'!$C$95:$K$95),"") | F12: 10-5150 | G12: =IF(SUM('EstExp 11-19'!$C$111:$J$111)>0,SUM('EstExp 11-19'!$C$111:$J$111),"") | I12: =IF(AND(G12="",H12=""),"OK",IF(AND(G12<>"",H12<>""),"OK","ERROR-Describe Expenditures")) -> OK
A13: =IF(AND(C13="",D13=""),"OK",IF(AND(C13<>"",D13<>""),"OK","ERROR-Describe Revenue")) -> OK | B13: 1993 | C13: =IF(SUM('EstRev 6-10'!$C$109:$K$109)>0,SUM('EstRev 6-10'!$C$109:$K$109),"") | F13: 20-2190 | G13: =IF(SUM('EstExp 11-19'!$C$124:$J$124)>0,SUM('EstExp 11-19'!$C$124:$J$124),"") | I13: =IF(AND(G13="",H13=""),"OK",IF(AND(G13<>"",H13<>""),"OK","ERROR-Describe Expenditures")) -> OK
A14: =IF(AND(C14="",D14=""),"OK",IF(AND(C14<>"",D14<>""),"OK","ERROR-Describe Revenue")) -> OK | B14: 1999 | C14: =IF(SUM('EstRev 6-10'!$C$110:$K$110)>0,SUM('EstRev 6-10'!$C$110:$K$110),"") -> 375000 | D14: Federal e-rate reimbursement & bus fee ridership | F14: 20-2900 | G14: =IF(SUM('EstExp 11-19'!$C$132:$J$132)>0,SUM('EstExp 11-19'!$C$132:$J$132),"") | I14: =IF(AND(G14="",H14=""),"OK",IF(AND(G14<>"",H14<>""),"OK","ERROR-Describe Expenditures")) -> OK
A15: =IF(AND(C15="",D15=""),"OK",IF(AND(C15<>"",D15<>""),"OK","ERROR-Describe Revenue")) -> OK | B15: 2300 | C15: =IF(SUM('EstRev 6-10'!$C$117:$K$117)>0,SUM('EstRev 6-10'!$C$117:$K$117),"") | F15: 20-4190 | G15: =IF(SUM('EstExp 11-19'!$C$140:$J$140)>0,SUM('EstExp 11-19'!$C$140:$J$140),"") | I15: =IF(AND(G15="",H15=""),"OK",IF(AND(G15<>"",H15<>""),"OK","ERROR-Describe Expenditures")) -> OK
A16: =IF(AND(C16="",D16=""),"OK",IF(AND(C16<>"",D16<>""),"OK","ERROR-Describe Revenue")) -> OK | B16: 3099 | C16: =IF(SUM('EstRev 6-10'!$C$123:$K$123)>0,SUM('EstRev 6-10'!$C$123:$K$123),"") | F16: 20-4400 | G16: =IF(SUM('EstExp 11-19'!$C$142:$J$142)>0,SUM('EstExp 11-19'!$C$142:$J$142),"") | I16: =IF(AND(G16="",H16=""),"OK",IF(AND(G16<>"",H16<>""),"OK","ERROR-Describe Expenditures")) -> OK
A17: =IF(AND(C17="",D17=""),"OK",IF(AND(C17<>"",D17<>""),"OK","ERROR-Describe Revenue")) -> OK | B17: 3199 | C17: =IF(SUM('EstRev 6-10'!$C$130:$K$130)>0,SUM('EstRev 6-10'!$C$130:$K$130),"") | F17: 20-5150 | G17: =IF(SUM('EstExp 11-19'!$C$150:$J$150)>0,SUM('EstExp 11-19'!$C$150:$J$150),"") | I17: =IF(AND(G17="",H17=""),"OK",IF(AND(G17<>"",H17<>""),"OK","ERROR-Describe Expenditures")) -> OK
A18: =IF(AND(C18="",D18=""),"OK",IF(AND(C18<>"",D18<>""),"OK","ERROR-Describe Revenue")) -> OK | B18: 3299 | C18: =IF(SUM('EstRev 6-10'!$C$139:$K$139)>0,SUM('EstRev 6-10'!$C$139:$K$139),"") | F18: 30-4190 | G18: =IF(SUM('EstExp 11-19'!$C$163:$J$163)>0,SUM('EstExp 11-19'!$C$163:$J$163),"") | I18: =IF(AND(G18="",H18=""),"OK",IF(AND(G18<>"",H18<>""),"OK","ERROR-Describe Expenditures")) -> OK
A19: =IF(AND(C19="",D19=""),"OK",IF(AND(C19<>"",D19<>""),"OK","ERROR-Describe Revenue")) -> OK | B19: 3499 | C19: =IF(SUM('EstRev 6-10'!$C$145:$K$145)>0,SUM('EstRev 6-10'!$C$145:$K$145),"") | F19: 30-5150 | G19: =IF(SUM('EstExp 11-19'!$C$171:$J$171)>0,SUM('EstExp 11-19'!$C$171:$J$171),"") | I19: =IF(AND(G19="",H19=""),"OK",IF(AND(G19<>"",H19<>""),"OK","ERROR-Describe Expenditures")) -> OK
A20: =IF(AND(C20="",D20=""),"OK",IF(AND(C20<>"",D20<>""),"OK","ERROR-Describe Revenue")) -> OK | B20: 3599 | C20: =IF(SUM('EstRev 6-10'!$C$149:$K$149)>0,SUM('EstRev 6-10'!$C$149:$K$149),"") | F20: 30-5300 | G20: =IF(SUM('EstExp 11-19'!$C$174:$J$174)>0,SUM('EstExp 11-19'!$C$174:$J$174),"") | I20: =IF(AND(G20="",H20=""),"OK",IF(AND(G20<>"",H20<>""),"OK","ERROR-Describe Expenditures")) -> OK
A21: =IF(AND(C21="",D21=""),"OK",IF(AND(C21<>"",D21<>""),"OK","ERROR-Describe Revenue")) -> OK | B21: 3999 | C21: =IF(SUM('EstRev 6-10'!$C$163:$K$163)>0,SUM('EstRev 6-10'!$C$163:$K$163),"") -> 100000 | D21: IDHS Grant | F21: 30-5400 | G21: =IF(SUM('EstExp 11-19'!$C$175:$J$175)>0,SUM('EstExp 11-19'!$C$175:$J$175),"") | I21: =IF(AND(G21="",H21=""),"OK",IF(AND(G21<>"",H21<>""),"OK","ERROR-Describe Expenditures")) -> OK
A22: =IF(AND(C22="",D22=""),"OK",IF(AND(C22<>"",D22<>""),"OK","ERROR-Describe Revenue")) -> OK | B22: 4009 | C22: =IF(SUM('EstRev 6-10'!$C$169:$K$169)>0,SUM('EstRev 6-10'!$C$169:$K$169),"") | F22: 40-2190 | G22: =IF(SUM('EstExp 11-19'!$C$184:$J$184)>0,SUM('EstExp 11-19'!$C$184:$J$184),"") | I22: =IF(AND(G22="",H22=""),"OK",IF(AND(G22<>"",H22<>""),"OK","ERROR-Describe Expenditures")) -> OK
A23: =IF(AND(C23="",D23=""),"OK",IF(AND(C23<>"",D23<>""),"OK","ERROR-Describe Revenue")) -> OK | B23: 4090 | C23: =IF(SUM('EstRev 6-10'!$C$175:$K$175)>0,SUM('EstRev 6-10'!$C$175:$K$175),"") | F23: 40-2900 | G23: =IF(SUM('EstExp 11-19'!$C$187:$J$187)>0,SUM('EstExp 11-19'!$C$187:$J$187),"") | I23: =IF(AND(G23="",H23=""),"OK",IF(AND(G23<>"",H23<>""),"OK","ERROR-Describe Expenditures")) -> OK
A24: =IF(AND(C24="",D24=""),"OK",IF(AND(C24<>"",D24<>""),"OK","ERROR-Describe Revenue")) -> OK | B24: 4199 | C24: =IF(SUM('EstRev 6-10'!$C$182:$K$182)>0,SUM('EstRev 6-10'!$C$182:$K$182),"") | F24: 40-4190 | G24: =IF(SUM('EstExp 11-19'!$C$197:$J$197)>0,SUM('EstExp 11-19'!$C$197:$J$197),"") | I24: =IF(AND(G24="",H24=""),"OK",IF(AND(G24<>"",H24<>""),"OK","ERROR-Describe Expenditures")) -> OK
A25: =IF(AND(C25="",D25=""),"OK",IF(AND(C25<>"",D25<>""),"OK","ERROR-Describe Revenue")) -> OK | B25: 4299 | C25: =IF(SUM('EstRev 6-10'!$C$192:$K$192)>0,SUM('EstRev 6-10'!$C$192:$K$192),"") | F25: 40-4400 | G25: =IF(SUM('EstExp 11-19'!$C$199:$J$199)>0,SUM('EstExp 11-19'!$C$199:$J$199),"") | I25: =IF(AND(G25="",H25=""),"OK",IF(AND(G25<>"",H25<>""),"OK","ERROR-Describe Expenditures")) -> OK
A26: =IF(AND(C26="",D26=""),"OK",IF(AND(C26<>"",D26<>""),"OK","ERROR-Describe Revenue")) -> OK | B26: 4399 | C26: =IF(SUM('EstRev 6-10'!$C$198:$K$198)>0,SUM('EstRev 6-10'!$C$198:$K$198),"") -> 100000 | D26: 4331 - Title I School Improvement & Accountability | F26: 40-5150 | G26: =IF(SUM('EstExp 11-19'!$C$207:$J$207)>0,SUM('EstExp 11-19'!$C$207:$J$207),"") | I26: =IF(AND(G26="",H26=""),"OK",IF(AND(G26<>"",H26<>""),"OK","ERROR-Describe Expenditures")) -> OK
A27: =IF(AND(C27="",D27=""),"OK",IF(AND(C27<>"",D27<>""),"OK","ERROR-Describe Revenue")) -> OK | B27: 4499 | C27: =IF(SUM('EstRev 6-10'!$C$204:$K$204)>0,SUM('EstRev 6-10'!$C$204:$K$204),"") | F27: 40-5300 | G27: =IF(SUM('EstExp 11-19'!$C$210:$J$210)>0,SUM('EstExp 11-19'!$C$210:$J$210),"") | I27: =IF(AND(G27="",H27=""),"OK",IF(AND(G27<>"",H27<>""),"OK","ERROR-Describe Expenditures")) -> OK
A28: =IF(AND(C28="",D28=""),"OK",IF(AND(C28<>"",D28<>""),"OK","ERROR-Describe Revenue")) -> OK | B28: 4699 | C28: =IF(SUM('EstRev 6-10'!$C$212:$K$212)>0,SUM('EstRev 6-10'!$C$212:$K$212),"") | F28: 40-5400 | G28: =IF(SUM('EstExp 11-19'!$C$211:$J$211)>0,SUM('EstExp 11-19'!$C$211:$J$211),"") | I28: =IF(AND(G28="",H28=""),"OK",IF(AND(G28<>"",H28<>""),"OK","ERROR-Describe Expenditures")) -> OK
A29: =IF(AND(C29="",D29=""),"OK",IF(AND(C29<>"",D29<>""),"OK","ERROR-Describe Revenue")) -> OK | B29: 4799 | C29: =IF(SUM('EstRev 6-10'!$C$216:$K$216)>0,SUM('EstRev 6-10'!$C$216:$K$216),"") | F29: 50-2190 | G29: =IF(SUM('EstExp 11-19'!$C$241:$J$241)>0,SUM('EstExp 11-19'!$C$241:$J$241),"") | I29: =IF(AND(G29="",H29=""),"OK",IF(AND(G29<>"",H29<>""),"OK","ERROR-Describe Expenditures")) -> OK
A30: =IF(AND(C30="",D30=""),"OK",IF(AND(C30<>"",D30<>""),"OK","ERROR-Describe Revenue")) -> OK | B30: 4998 | C30: =IF(SUM('EstRev 6-10'!$C$237:$K$237)>0,SUM('EstRev 6-10'!$C$237:$K$237),"") | F30: 50-2490 | G30: =IF(SUM('EstExp 11-19'!$C$257:$J$257)>0,SUM('EstExp 11-19'!$C$257:$J$257),"") | I30: =IF(AND(G30="",H30=""),"OK",IF(AND(G30<>"",H30<>""),"OK","ERROR-Describe Expenditures")) -> OK
F31: 50-2900 | G31: =IF(SUM('EstExp 11-19'!$C$275:$J$275)>0,SUM('EstExp 11-19'!$C$275:$J$275),"") | I31: =IF(AND(G31="",H31=""),"OK",IF(AND(G31<>"",H31<>""),"OK","ERROR-Describe Expenditures")) -> OK
F32: 50-5150 | G32: =IF(SUM('EstExp 11-19'!$C$289:$J$289)>0,SUM('EstExp 11-19'!$C$289:$J$289),"") | I32: =IF(AND(G32="",H32=""),"OK",IF(AND(G32<>"",H32<>""),"OK","ERROR-Describe Expenditures")) -> OK
F33: 60-2900 | G33: =IF(SUM('EstExp 11-19'!$C$299:$J$299)>0,SUM('EstExp 11-19'!$C$299:$J$299),"") | I33: =IF(AND(G33="",H33=""),"OK",IF(AND(G33<>"",H33<>""),"OK","ERROR-Describe Expenditures")) -> OK
F34: 60-4190 | G34: =IF(SUM('EstExp 11-19'!$C$306:$J$306)>0,SUM('EstExp 11-19'!$C$306:$J$306),"") | I34: =IF(AND(G34="",H34=""),"OK",IF(AND(G34<>"",H34<>""),"OK","ERROR-Describe Expenditures")) -> OK
F35: 80-2190 | G35: =IF(SUM('EstExp 11-19'!$C$352:$J$352)>0,SUM('EstExp 11-19'!$C$352:$J$352),"") | I35: =IF(AND(G35="",H35=""),"OK",IF(AND(G35<>"",H35<>""),"OK","ERROR-Describe Expenditures")) -> OK
F36: 80-2490 | G36: =IF(SUM('EstExp 11-19'!$C$368:$J$368)>0,SUM('EstExp 11-19'!$C$368:$J$368),"") | I36: =IF(AND(G36="",H36=""),"OK",IF(AND(G36<>"",H36<>""),"OK","ERROR-Describe Expenditures")) -> OK
F37: 80-2900 | G37: =IF(SUM('EstExp 11-19'!$C$386:$J$386)>0,SUM('EstExp 11-19'!$C$386:$J$386),"") | I37: =IF(AND(G37="",H37=""),"OK",IF(AND(G37<>"",H37<>""),"OK","ERROR-Describe Expenditures")) -> OK
F38: 80-4190 | G38: =IF(SUM('EstExp 11-19'!$C$396:$J$396)>0,SUM('EstExp 11-19'!$C$396:$J$396),"") | I38: =IF(AND(G38="",H38=""),"OK",IF(AND(G38<>"",H38<>""),"OK","ERROR-Describe Expenditures")) -> OK
F39: 80-4290 | G39: =IF(SUM('EstExp 11-19'!$C$404:$J$404)>0,SUM('EstExp 11-19'!$C$404:$J$404),"") | I39: =IF(AND(G39="",H39=""),"OK",IF(AND(G39<>"",H39<>""),"OK","ERROR-Describe Expenditures")) -> OK
F40: 80-4390 | G40: =IF(SUM('EstExp 11-19'!$C$412:$J$412)>0,SUM('EstExp 11-19'!$C$412:$J$412),"") | I40: =IF(AND(G40="",H40=""),"OK",IF(AND(G40<>"",H40<>""),"OK","ERROR-Describe Expenditures")) -> OK
...

Sheet DeficitBudgetSum Calc 21
D1: DEFICIT BUDGET SUMMARY INFORMATION - Operating Funds Only (School Districts Only)
B2: Description | C2: EDUCATIONAL FUND (10) | D2: OPERATIONS & MAINTENANCE FUND (20) | E2: TRANSPORTATION FUND (40) | F2: WORKING CASH FUND (70) | G2: TOTAL
B3: Direct Revenues | C3: ='BudgetSum 2-4'!C9 -> 78062215 | D3: ='BudgetSum 2-4'!D9 -> 5643399 | E3: ='BudgetSum 2-4'!F9 -> 6479291 | F3: ='BudgetSum 2-4'!I9 -> 476730 | G3: =SUM(C3:F3) -> 90661635
B4: Direct Expenditures | C4: ='BudgetSum 2-4'!C19 -> 69196138 | D4: ='BudgetSum 2-4'!D19 -> 5201594 | E4: ='BudgetSum 2-4'!F19 -> 6109100 | G4: =SUM(C4:F4) -> 80506832
B5: Difference | C5: =(C3-C4) -> 8866077 | D5: =(D3-D4) -> 441805 | E5: =(E3-E4) -> 370191 | F5: =(F3-F4) -> 476730 | G5: =SUM(G3-G4) -> 10154803
B6: ="Estimated Fund Balance - June 30, "&'B27'!K2 -> Estimated Fund Balance - June 30, 2027 | C6: ='BudgetSum 2-4'!C81 -> 57411155 | D6: ='BudgetSum 2-4'!D81 -> 4207219 | E6: ='BudgetSum 2-4'!F81 -> 3780756 | F6: ='BudgetSum 2-4'!I81 -> 5997045 | G6: =SUM(C6:F6) -> 71396175
D7: =IF(Cover!$B$3="X", "Deficit Reduction Plan is not required", IF(AND($G$5<0,$G$6>=0,ABS($G$5*3)>ABS($G$6)),B23,IF(AND($G$5<0,$G$6>0,ABS($G$5*3)<=ABS($G$6)),$B$24,IF(AND($G$5<0,$G$6<0),B23,IF($G$6=0,$B$26,$B$25))))) -> Balanced budget; no Deficit Reduction Plan is required.
D8: =IF(D$7=B$23, B28, " ")
D9: =IF(D$7=B$23, B29, " ")
D10: =IF(D$7=B$23, B30, " ")
B12: ="A deficit reduction plan is required if the local board of education adopts (or amends) the "&'B27'!K2-1&-'B27'!K2&" school district budget in which the operating funds listed above result in direct" -> A deficit reduction plan is required if the local board of education adopts (or amends) the 2026-2027 school district budget in which the operating funds listed above result in direct
B13: revenues (line 9, BudgetSum 2-4) being less than direct expenditures (line 19, BudgetSum 2-4) by an amount equal to or greater than one-third (1/3)
B14: of the ending fund balance (line 81, BudgetSum 2-4).
B16: Note: The balance is determined using only the four funds listed above. That is, if the estimated ending fund balance is less than three times the deficit spending,
B17: the district must adopt and file with ISBE a deficit reduction plan to balance the shortfall within three years.
B19: ="Per School Code (105 ILCS 5/17-1) - If the Deficit AFR Summary Information tab from the "&'B27'!K2-2&"-"&'B27'!K2-1&" Annual Financial Report (AFR) reflects a deficit as" -> Per School Code (105 ILCS 5/17-1) - If the Deficit AFR Summary Information tab from the 2025-2026 Annual Financial Report (AFR) reflects a deficit as
B20: defined above, then the school district shall adopt and submit a deficit reduction plan (found here on page 22-26) to ISBE within 30 days after acceptance of the AFR.
B21: The deficit reduction plan, if required, is developed using ISBE guidelines and format.
B23: Unbalanced budget: A Deficit Reduction Plan must be adopted and submitted | G23: Deficit Reduction Plan is required
B24: Unbalanced budget; however, a Deficit Reduction Plan is not required at this time. | G24: Deficit Reduction Plan is not required
B25: Balanced budget; no Deficit Reduction Plan is required. | G25: Deficit Reduction Plan is not required
B26: To determine if the budget is balanced, complete all pages of the budget first. | G26: ERROR - INCOMPLETE BUDGET. PLEASE COMPLETE BUDGET FORM
B28: concurrently with this budget. This Deficit Reduction Plan
B29: must result in a balanced budget by the last year of the attached plan, as
B30: adopted by the local board of education. | D30: (DeficitBudgetSum Calc 21)
B33: Unbalanced budget: A Deficit Reduction Plan must be adopted and submitted concurrently with this budget. This Deficit Reduction Plan must result in a balanced budget by the last year of the attached plan, as adopted by the local board of education. (Tab: Deficit BudgetSum Calc)

Sheet DefReductPlan 22-26
A1: *School Districts Only | E1: DEFICIT REDUCTION PLAN | X1: SUMMARY
E2: ESTIMATED BUDGET | J2: ESTIMATED BUDGET | O2: ESTIMATED BUDGET | T2: ESTIMATED BUDGET | Z2: BUDGET ADDENDUM - DEFICIT REDUCTION PLAN
A3: =Cover!J14 -> 19022033002 | E3: ="FY"&'B27'!K2-1&-'B27'!K2 -> FY2026-2027 | J3: ="FY"&'B27'!K2&-'B27'!K2-1 -> FY2027-2028 | O3: ="FY"&'B27'!K2+1&-'B27'!K2-2 -> FY2028-2029 | T3: ="FY"&'B27'!K2+2&-'B27'!K2-3 -> FY2029-2030 | X3: ESTIMATED BUDGET
A4: District Number | X4: Date of Adoption:
A5: =Cover!J13 -> West Chicago ESD 33 | Y5: (Enter as MM/DD/YY)
A6: District Name | C6: Educational Fund | D6: Operations & Maintenance Fund | E6: Transportation Fund | F6: Working Cash Fund | G6: Total | H6: Educational Fund | I6: Operations & Maintenance Fund | J6: Transportation Fund | K6: Working Cash Fund | L6: Total | M6: Educational Fund | N6: Operations & Maintenance Fund | O6: Transportation Fund | P6: Working Cash Fund | Q6: Total | R6: Educational Fund | S6: Operations & Maintenance Fund | T6: Transportation Fund | U6: Working Cash Fund | V6: Total | W6: ="FY"&'B27'!K2-1&-'B27'!K2 -> FY2026-2027 | X6: ="FY"&'B27'!K2&-'B27'!K2-1 -> FY2027-2028 | Y6: ="FY"&'B27'!K2+1&-'B27'!K2-2 -> FY2028-2029 | Z6: ="FY"&'B27'!K2+2&-'B27'!K2-3 -> FY2029-2030
A7: ESTIMATED BEGINNING FUND BALANCE (must equal prior Ending Fund Balance) | C7: ='BudgetSum 2-4'!C3 -> 48545078 | D7: ='BudgetSum 2-4'!D3 -> 3765414 | E7: ='BudgetSum 2-4'!F3 -> 3410565 | F7: ='BudgetSum 2-4'!I3 -> 5520315 | G7: =SUM(C7:F7) -> 61241372 | H7: =C27 -> 57411155 | I7: =D27 -> 4207219 | J7: =E27 -> 3780756 | K7: =F27 -> 5997045 | L7: =SUM(H7:K7) -> 71396175 | M7: =H27 -> 57411155 | N7: =I27 -> 4207219 | O7: =J27 -> 3780756 | P7: =K27 -> 5997045 | Q7: =SUM(M7:P7) -> 71396175 | R7: =M27 -> 57411155 | S7: =N27 -> 4207219 | T7: =O27 -> 3780756 | U7: =P27 -> 5997045 | V7: =SUM(R7:U7) -> 71396175 | W7: =G7 -> 61241372 | X7: =L7 -> 71396175 | Y7: =Q7 -> 71396175 | Z7: =V7 -> 71396175
A8: RECEIPTS/REVENUES | B8: Acct #
A9: LOCAL SOURCES | B9: 1000 | C9: ='BudgetSum 2-4'!C5 -> 42432409 | D9: ='BudgetSum 2-4'!D5 -> 4993399 | E9: ='BudgetSum 2-4'!F5 -> 3004291 | F9: ='BudgetSum 2-4'!I5 -> 476730 | G9: =SUM(C9:F9) -> 50906829 | L9: =SUM(H9:K9) -> 0 | Q9: =SUM(M9:P9) -> 0 | V9: =SUM(R9:U9) -> 0 | W9: =G9 -> 50906829 | X9: =L9 -> 0 | Y9: =Q9 -> 0 | Z9: =V9 -> 0
A10: FLOW-THROUGH RECEIPTS/REVENUES FROM ONE DISTRICT TO ANOTHER DISTRICT | B10: 2000 | C10: ='BudgetSum 2-4'!C6 -> 0 | D10: ='BudgetSum 2-4'!D6 -> 0 | E10: ='BudgetSum 2-4'!F6 -> 0 | G10: =SUM(C10:F10) -> 0 | L10: =SUM(H10:K10) -> 0 | Q10: =SUM(M10:P10) -> 0 | V10: =SUM(R10:U10) -> 0 | W10: =G10 -> 0 | X10: =L10 -> 0 | Y10: =Q10 -> 0 | Z10: =V10 -> 0
A11: STATE SOURCES | B11: 3000 | C11: ='BudgetSum 2-4'!C7 -> 29529806 | D11: ='BudgetSum 2-4'!D7 -> 650000 | E11: ='BudgetSum 2-4'!F7 -> 3475000 | F11: ='BudgetSum 2-4'!I7 -> 0 | G11: =SUM(C11:F11) -> 33654806 | L11: =SUM(H11:K11) -> 0 | Q11: =SUM(M11:P11) -> 0 | V11: =SUM(R11:U11) -> 0 | W11: =G11 -> 33654806 | X11: =L11 -> 0 | Y11: =Q11 -> 0 | Z11: =V11 -> 0
A12: FEDERAL SOURCES | B12: 4000 | C12: ='BudgetSum 2-4'!C8 -> 6100000 | D12: ='BudgetSum 2-4'!D8 -> 0 | E12: ='BudgetSum 2-4'!F8 -> 0 | F12: ='BudgetSum 2-4'!I8 -> 0 | G12: =SUM(C12:F12) -> 6100000 | L12: =SUM(H12:K12) -> 0 | Q12: =SUM(M12:P12) -> 0 | V12: =SUM(R12:U12) -> 0 | W12: =G12 -> 6100000 | X12: =L12 -> 0 | Y12: =Q12 -> 0 | Z12: =V12 -> 0
A13: Total Receipts/Revenues | C13: =SUM(C9:C12) -> 78062215 | D13: =SUM(D9:D12) -> 5643399 | E13: =SUM(E9:E12) -> 6479291 | F13: =SUM(F9:F12) -> 476730 | G13: =SUM(C13:F13) -> 90661635 | H13: =SUM(H9:H12) -> 0 | I13: =SUM(I9:I12) -> 0 | J13: =SUM(J9:J12) -> 0 | K13: =SUM(K9:K12) -> 0 | L13: =SUM(H13:K13) -> 0 | M13: =SUM(M9:M12) -> 0 | N13: =SUM(N9:N12) -> 0 | O13: =SUM(O9:O12) -> 0 | P13: =SUM(P9:P12) -> 0 | Q13: =SUM(M13:P13) -> 0 | R13: =SUM(R9:R12) -> 0 | S13: =SUM(S9:S12) -> 0 | T13: =SUM(T9:T12) -> 0 | U13: =SUM(U9:U12) -> 0 | V13: =SUM(R13:U13) -> 0 | W13: =G13 -> 90661635 | X13: =L13 -> 0 | Y13: =Q13 -> 0 | Z13: =V13 -> 0
A14: DISBURSEMENTS/EXPENDITURES | B14: Funct #
A15: INSTRUCTION | B15: 1000 | C15: ='BudgetSum 2-4'!C13 -> 45131246 | G15: =SUM(C15:F15) -> 45131246 | L15: =SUM(H15:K15) -> 0 | Q15: =SUM(M15:P15) -> 0 | V15: =SUM(R15:U15) -> 0 | W15: =G15 -> 45131246 | X15: =L15 -> 0 | Y15: =Q15 -> 0 | Z15: =V15 -> 0
A16: SUPPORT SERVICES | B16: 2000 | C16: ='BudgetSum 2-4'!C14 -> 18491775 | D16: ='BudgetSum 2-4'!D14 -> 5201594 | E16: ='BudgetSum 2-4'!F14 -> 6109100 | G16: =SUM(C16:F16) -> 29802469 | L16: =SUM(H16:K16) -> 0 | Q16: =SUM(M16:P16) -> 0 | V16: =SUM(R16:U16) -> 0 | W16: =G16 -> 29802469 | X16: =L16 -> 0 | Y16: =Q16 -> 0 | Z16: =V16 -> 0
A17: COMMUNITY SERVICES | B17: 3000 | C17: ='BudgetSum 2-4'!C15 -> 2669117 | D17: ='BudgetSum 2-4'!D15 -> 0 | E17: ='BudgetSum 2-4'!F15 -> 0 | G17: =SUM(C17:F17) -> 2669117 | L17: =SUM(H17:K17) -> 0 | Q17: =SUM(M17:P17) -> 0 | V17: =SUM(R17:U17) -> 0 | W17: =G17 -> 2669117 | X17: =L17 -> 0 | Y17: =Q17 -> 0 | Z17: =V17 -> 0
A18: PAYMENTS TO OTHER DISTRICTS & GOVT. UNITS | B18: 4000 | C18: ='BudgetSum 2-4'!C16 -> 2904000 | D18: ='BudgetSum 2-4'!D16 -> 0 | E18: ='BudgetSum 2-4'!F16 -> 0 | G18: =SUM(C18:F18) -> 2904000 | L18: =SUM(H18:K18) -> 0 | Q18: =SUM(M18:P18) -> 0 | V18: =SUM(R18:U18) -> 0 | W18: =G18 -> 2904000 | X18: =L18 -> 0 | Y18: =Q18 -> 0 | Z18: =V18 -> 0
A19: DEBT SERVICES | B19: 5000 | C19: ='BudgetSum 2-4'!C17 -> 0 | D19: ='BudgetSum 2-4'!D17 -> 0 | E19: ='BudgetSum 2-4'!F17 -> 0 | G19: =SUM(C19:F19) -> 0 | L19: =SUM(H19:K19) -> 0 | Q19: =SUM(M19:P19) -> 0 | V19: =SUM(R19:U19) -> 0 | W19: =G19 -> 0 | X19: =L19 -> 0 | Y19: =Q19 -> 0 | Z19: =V19 -> 0
A20: PROVISION FOR CONTINGENCIES | B20: 6000 | C20: ='BudgetSum 2-4'!C18 -> 0 | D20: ='BudgetSum 2-4'!D18 -> 0 | E20: ='BudgetSum 2-4'!F18 -> 0 | G20: =SUM(C20:F20) -> 0 | L20: =SUM(H20:K20) -> 0 | Q20: =SUM(M20:P20) -> 0 | V20: =SUM(R20:U20) -> 0 | W20: =G20 -> 0 | X20: =L20 -> 0 | Y20: =Q20 -> 0 | Z20: =V20 -> 0
A21: Total Disbursements/Expenditures | C21: =SUM(C15:C20) -> 69196138 | D21: =SUM(D15:D20) -> 5201594 | E21: =SUM(E15:E20) -> 6109100 | G21: =SUM(C21:F21) -> 80506832 | H21: =SUM(H15:H20) -> 0 | I21: =SUM(I15:I20) -> 0 | J21: =SUM(J15:J20) -> 0 | L21: =SUM(H21:K21) -> 0 | M21: =SUM(M15:M20) -> 0 | N21: =SUM(N15:N20) -> 0 | O21: =SUM(O15:O20) -> 0 | Q21: =SUM(M21:P21) -> 0 | R21: =SUM(R15:R20) -> 0 | S21: =SUM(S15:S20) -> 0 | T21: =SUM(T15:T20) -> 0 | V21: =SUM(R21:U21) -> 0 | W21: =G21 -> 80506832 | X21: =L21 -> 0 | Y21: =Q21 -> 0 | Z21: =V21 -> 0
A22: Excess of Receipts/Revenue Over/(Under) Disbursements/Expenditures | C22: =SUM(C13-C21) -> 8866077 | D22: =SUM(D13-D21) -> 441805 | E22: =SUM(E13-E21) -> 370191 | F22: =SUM(F13-F21) -> 476730 | G22: =G13-G21 -> 10154803 | H22: =SUM(H13-H21) -> 0 | I22: =SUM(I13-I21) -> 0 | J22: =SUM(J13-J21) -> 0 | K22: =SUM(K13-K21) -> 0 | L22: =SUM(H22:K22) -> 0 | M22: =SUM(M13-M21) -> 0 | N22: =SUM(N13-N21) -> 0 | O22: =SUM(O13-O21) -> 0 | P22: =SUM(P13-P21) -> 0 | Q22: =SUM(M22:P22) -> 0 | R22: =SUM(R13-R21) -> 0 | S22: =SUM(S13-S21) -> 0 | T22: =SUM(T13-T21) -> 0 | U22: =SUM(U13-U21) -> 0 | V22: =SUM(R22:U22) -> 0 | W22: =G22 -> 10154803 | X22: =L22 -> 0 | Y22: =Q22 -> 0 | Z22: =V22 -> 0
A23: OTHER SOURCES/USES OF FUNDS
A24: OTHER SOURCES OF FUNDS (7000) | C24: ='BudgetSum 2-4'!C46 -> 0 | D24: ='BudgetSum 2-4'!D46 -> 0 | E24: ='BudgetSum 2-4'!F46 -> 0 | F24: ='BudgetSum 2-4'!I46 -> 0 | G24: =SUM(C24:F24) -> 0 | L24: =SUM(H24:K24) -> 0 | Q24: =SUM(M24:P24) -> 0 | V24: =SUM(R24:U24) -> 0 | W24: =G24 -> 0 | X24: =L24 -> 0 | Y24: =Q24 -> 0 | Z24: =V24 -> 0
A25: OTHER USES OF FUNDS (8000) | C25: ='BudgetSum 2-4'!C79 -> 0 | D25: ='BudgetSum 2-4'!D79 -> 0 | E25: ='BudgetSum 2-4'!F79 -> 0 | F25: ='BudgetSum 2-4'!I79 -> 0 | G25: =SUM(C25:F25) -> 0 | L25: =SUM(H25:K25) -> 0 | Q25: =SUM(M25:P25) -> 0 | V25: =SUM(R25:U25) -> 0 | W25: =G25 -> 0 | X25: =L25 -> 0 | Y25: =Q25 -> 0 | Z25: =V25 -> 0
A26: TOTAL OTHER SOURCES/USES OF FUNDS | C26: =SUM(C24-C25) -> 0 | D26: =SUM(D24-D25) -> 0 | E26: =SUM(E24-E25) -> 0 | F26: =SUM(F24-F25) -> 0 | G26: =SUM(G24-G25) -> 0 | H26: =SUM(H24-H25) -> 0 | I26: =SUM(I24-I25) -> 0 | J26: =SUM(J24-J25) -> 0 | K26: =SUM(K24-K25) -> 0 | L26: =SUM(H26:K26) -> 0 | M26: =SUM(M24-M25) -> 0 | N26: =SUM(N24-N25) -> 0 | O26: =SUM(O24-O25) -> 0 | P26: =SUM(P24-P25) -> 0 | Q26: =SUM(M26:P26) -> 0 | R26: =SUM(R24-R25) -> 0 | S26: =SUM(S24-S25) -> 0 | T26: =SUM(T24-T25) -> 0 | U26: =SUM(U24-U25) -> 0 | V26: =SUM(R26:U26) -> 0 | W26: =G26 -> 0 | X26: =L26 -> 0 | Y26: =Q26 -> 0 | Z26: =V26 -> 0
A27: ESTIMATED ENDING FUND BALANCE | C27: =C7+C22+C26 -> 57411155 | D27: =D7+D22+D26 -> 4207219 | E27: =E7+E22+E26 -> 3780756 | F27: =F7+F22+F26 -> 5997045 | G27: =G7+G22+G26 -> 71396175 | H27: =H7+H22+H26 -> 57411155 | I27: =I7+I22+I26 -> 4207219 | J27: =J7+J22+J26 -> 3780756 | K27: =K7+K22+K26 -> 5997045 | L27: =SUM(H27:K27) -> 71396175 | M27: =M7+M22+M26 -> 57411155 | N27: =N7+N22+N26 -> 4207219 | O27: =O7+O22+O26 -> 3780756 | P27: =P7+P22+P26 -> 5997045 | Q27: =Q7+Q22+Q26 -> 71396175 | R27: =R7+R22+R26 -> 57411155 | S27: =S7+S22+S26 -> 4207219 | T27: =T7+T22+T26 -> 3780756 | ... V27: =V7+V22+V26 -> 71396175 | W27: =G27 -> 71396175 | X27: =L27 -> 71396175 | Y27: =Q27 -> 71396175 | Z27: =V27 -> 71396175
A30: =IF(V13<>0,IF(V21<>0,IF(V22<0,IF(V27/3<ABS(V22),"The district's plan does not result in a balanced budget. Revise the plan prior to school board approval and submission to ISBE.", "The district's plan meets the requirements."),"The district's plan meets the requirements."),"Plan is incomplete."),"Plan is incomplete.") -> Plan is incomplete.

Sheet Bckgrnd-Assumpt 27-28
B1: Deficit Reduction Plan-Background/Assumptions (School Districts Only)
B2: ="Fiscal Year "&'B27'!K2-1&-'B27'!K2 -> Fiscal Year 2026-2027
B3: ="through Fiscal Year "&'B27'!K2+2&-'B27'!K2-3 -> through Fiscal Year 2029-2030
B5: =Cover!J13&" "&Cover!J14 -> West Chicago ESD 33 19022033002
B6: Please complete the following schedule and include a brief description to identify any areas of the budget that will be impacted from one year to the next. If the deficit reduction plan relies upon new local revenues, identify contingencies for further budget reductions which will be enacted in the event those new revenues are not available.
A9: 1 | B9: Background and Narrative of Budget Reductions:
A12: 2 | B12: Assumptions Used in the Deficit Reduction Plan:
B15: - EBF and Estimated New Tier Funding:
B18: - Equal Assessed Valuation and Tax Rates:
B21: - Employee Salaries and Benefits:
B24: - Short- and Long-Term Borrowing:
B27: - Educational Impact:
B30: - Other Assumptions:
B33: - Has the district considered shared services or outsourcing (Ex: Transportation, Insurance)? If yes, please explain:

Sheet EBF Spending Plan 29-33
A1: Evidence-Based Funding: Fiscal Year 2027 Spending Plan | N1: RCDT | O1: =IF(Cover!J13=0,"",Cover!J14) -> 19022033002 | Q1: P1.Q2 | R1: P2.Q1 | S1: P2.Q2 | T1: P2.Q3,P3Q2-4 | U1: P2.Q4 | V1: Assurances
A2: =IF(Cover!J13=0,"",IF(Cover!H8="Yes","N/A - EBF Spending Plan Not Required for Amended Budgets",IFERROR(VLOOKUP(O1,'FY 26 Data for FY 27'!A3:B936,2,FALSE),"N/A - EBF Spending Plan Not Required for Joint Agreements"))) -> WEST CHICAGO SCHOOL DIST 33 | Q2: Focus increased time and attention on special student groups | R2: Estimated | S2: Climate and culture survey data (e.g., Five Essentials Survey) | T2: Yes | U2: Core Teachers | V2: Yes
A3: Part I: Achieving Student Growth and Making Progress Toward State Education Goals | N3: Color Key | O3: Text or dollar figure entered by user. | Q3: Increase the number of high-quality educators dedicated to special student groups | R3: Actual | S3: Attendance data (e.g., chronic absenteeism, graduation or dropout rates) | U3: Specialist Teachers | V3: No
A4: The questions below allow you to indicate the strategic priorities and strategies that will drive your efforts to achieve student growth and make progress toward state education goals. These may involve investing in any combination of an Organizational Unit's core resources: time, money, people, and programs. | O4: Response selected from dropdown list | Q4: Increase number and/or quality of professional development opportunities | S4: Student growth and achievement data, disaggregated by student groups | U4: Instructional Facilitator
A5: Collaboration Opportunity - Organizational Units may find that Part I is most easily and effectively completed if led by program leaders in consultation with finance leaders. | O5: Value is provided based on district selection. | Q5: Maintain or expand early childhood programming | S5: Student grades or other local academic performance data | U5: Core Intervention Teacher
A6: 1) | B6: What are the Organizational Unit's strategic goals for student success for the 2026-27 school year? What measures will be used to evaluate progress? (No more than 2000 characters, including spaces.) | Q6: Maintain or decrease class sizes | S6: Student discipline and behavior data | U6: Substitute Teacher
B7: By Spring 2027, 39% of students will be at or above the 65% ile on the Reading NWEA MAP assessment, up from a Spring 2026 baseline of 32%. By Spring 2027, 45% of students will be at or above the 65%ile on the Math NWEA MAP assessment, up from at Spring 2026 baseline of 40%. By Spring 2027, 60% of students taking the ACCESS will meet their Progress to Proficiency (PtP). By Spring 2027, 44% of students will be proficient/above proficienct on the English Language Arts IAR, up from a Spring 2026 baseline of 39%. By Spring 2027, 31% of students will be proficient/above proficient on the Math IAR, from a Spring 2026 baseline of 26%. | N7: =IF(LEN(B7)>10,1,0) -> 1 | Q7: Maintain or expand pupil support services | S7: Educator shortages, retention and recruitment data | U7: Guidance Counselor
Q8: Maintain or expand college and career readiness options (e.g., CTE programming, AP/IB programming, dual credit/dual enrollment programming) | S8: Family and community engagement data | U8: Nurse
Q9: Improve programs, curriculum, and/or learning tools | S9: Site-based expenditure data | U9: Supervisory Aide
G10: Top Strategy 1 | I10: Top Strategy 2 | L10: Top Strategy 3 | Q10: Increase number and/or quality of community, parent, and family engagement opportunities | S10: Annual Financial Report data | U10: Librarian
A11: 2) | B11: Select the top three strategies that the Organizational Unit will employ to achieve student growth and make progress toward state education goals. (Select three different responses from the dropdown list.) | G11: Improve programs, curriculum, and/or learning tools | I11: Increase number and/or quality of professional development opportunities | L11: Increase number and/or quality of community, parent, and family engagement opportunities | N11: =IF(OR(G11="",I11="",L11=""),0,IF(OR(G11=I11,G11=L11,I11=L11),0,1)) -> 1 | Q11: Maintain or increase equitable resource allocation for students so that more dollars benefit students in greater need | S11: Financial projections | U11: Librarian Aide
B12: If "Other" was selected in question 2, please describe. (No more than 1000 characters, including spaces.) | Q12: Provide interventions and services to reduce truancy or dropout rates | S12: EBF student allocations and/or cost factors | U12: Principal
A13: =IF(OR(G11="Other", I11="Other",M11="Other"),"Required","") | B13: =IF(COUNTIF(G11:M11,"Other"),"Required","") | N13: =IF(B13="",1,IF(LEN(G12)>10,1,0)) -> 1 | Q13: Provide alternative learning programs and models to address unique student needs | S13: Health and/or technology access data (e.g., CDC School Health Index, ventilation data, etc.) | U13: Assistant Principal
