Workbook

Sheet Overview
B2: The Needs Assessment was developed in collaboration with non-public schools and service providers.
B9: Signature Tab | C9: Once you have signed off on the authorized plan, your vendor will submit this page to the ESEA Department for approval.
B11: Cover Page Tab | C11: Provide all information that is requested.
B13: Data Page Tab | C13: The data you present will guide your plans for the upcoming/current school year. The instructional services and professional development acquired through Title funding should align with the most significant needs of your students and staff, based on data collected over the past two school years.
B15: Instructional Program Tab | C15: What services are you requesting from Milwaukee Public Schools? This is the section where, after consultation with vendor, schools will put instructional services, such as FTE and Subject requested.
B17: Standard Exit Criteria Tab | C17: This sections explains how to exit a Title IA Student out of Title services.
B19: Title IA Tab | C19: The purpose of Title IA of the ESEA is to provide all children with a significant opportunity to receive a fair, equitable, and high-quality education and to close educational achievement gaps. (ESEA section 1001). Coaching and some Professional Development can come out of Title IA. Each event (PD or Coaching/Mentoring) should be entered in separate item sections. Before moving on to the next item, remember to fill in the total cost for the event. This will be tabulated and the total amount will appear on the cover page. Subscriptions and materials are not to be included in the NA. All subscriptions and materials require a pre-approval. Subscriptions are for the fiscal year, July 1st - June 30th. Subscriptions can not cross over fiscal years.
B21: Title IIA Tab | C21: Title IIA is for professional development, coaching, mentoring, and coursework. Each item (PD or coaching/mentoring, course work) should be placed as separate Items. Before moving on to the next item, remember to fill in the total cost for the event. This will be tabulated and the total amount will appear on the cover page. (ESEA Department must be provided all virtual session links so that the program can be montitored.)
B23: Title IIIA Tab | C23: The purposes of Title III, Part A are: to help ensure that English learners, including immigrant children and youth, attain English proficiency and develop high levels of academic achievement in English; to assist ELs, including immigrant children and youth, to achieve at high levels in academic subjects; to assist teachers, principals, and other school leaders in establishing, implementing, and sustaining effective instructional programs for ELs; to assist teachers, principals, and other school leaders to develop and enhance their capacity to provide effective instructional programs for ELs; and to promote parental, family, and community participation in instructional programs for ELs. Subscriptions and materials are not to be included in the NA. All subscriptions and materials require pre-approval. Subscriptions are for the fiscal year, July 1st - June 30th. Subscriptions can not cross over fiscal years.
B25: Title IVA Tab | C25: Title IVA is for Well Rounded, Safe and Healthy, and Effective Use of Technology. Professional Development, Coaching/Mentoring, Course Work, Student Enrichment and Academic Support that is connected to Well Rounded or Safe and Healthy or Effective Use of Technology can come out of Title IVA. Subscriptions and materials are not to be included in the NA. All subscriptions and materials require pre-approval. Subscriptions are for the fiscal year, July 1st - June 30th. Subscriptions can not cross over fiscal years.
B27: Family Engagement Tab | C27: The Family Engagement tab is for all of the Title IA Family Engagement events for Title IA families. The purpose of Family Engagement is: to build the capacity of participating schools, engage families, improve, student achievement, help children learn and engage with school staff, and provide strategies that support successful school and family interaction. Each event should be entered into separate event sections. Each Title IA site must hold an initial family engagement meeting to discuss Title IA services the Milwaukee Public Schools is providing. Materials are not included in the NA. Pre-approvals must be submitted for materials. All Flyers/RSVPs must be submitted to ESEA department prior to the FE event for approval. PA will need to be submitted for materials one (1) week before the FE event.
B29: Approved Pre-Approvals Tab | C29: We created a separate tab because, we understand that some schools like to track all events and some submit pre-approvals now for events that may take place in August. This tab is optional for schools that want to fill in with 24-25 Approved Pre-Approvals.

Sheet Signature Page
A1: Signature Tab | B1: Once you have signed off on the approved plan, your vendor will submit this page to the ESEA Department.
A3: By signing below, I confirm that this ESEA needs assessment and program development plan was completed in consultation with the Title IA/IIA/IIIA/IVA service provider. I further understand that any instruction, family engagement, professional development, training, coursework, etc. not included in this plan will require a 30-day preapproval.
A4: School | E4: Print School name here and the name will get pulled into other tabs.
A5: Administrator’s Name (Please type)
A6: Signature | B6: Date: | E6: Adding an electronic signature is fine.

Sheet Cover Page
A1: Cover Page | B1: Provide all information that is requested below:
A2: Dr. Mora Anderson, ESEA Non-public Supervisor 5225 W. Vliet Street; Room 160 Milwaukee, Wisconsin 53208 Phone: (414) 475-8114 andersm3@milwaukee.k12.wi.us
A4: Milwaukee Non-Public Schools Elementary and Secondary Education Act (ESEA)
A5: Needs Assessment and Program Development Plan
A6: The provision of equitable services may not benefit a private school or the general needs of children in the private school and must be provided by employees of an LEA or through a contract by an LEA with an individual, association, agency, or organization that is independent of a private school. (ESEA section 1117(d); 34 C.F.R. § 200.66(b)(2)). Only a targeted population of the staff teaching students who are currently receiving TIA services will be allowed to participate in TIA PD/Coaching. All other staff must be serviced under TIIA or TIVA.
A8: Title IA/IIA/IIIA/IVA Service Provider:
A9: School Name:
A10: Address: (List address for each campus) | B10: Campus 1:
B11: Campus 2:
B12: Campus 3:
B13: Campus 4:
B14: Campus 5:
B15: Campus 6:
B16: Campus 7:
B17: Campus 8:
B18: Campus 9:
B19: Campus 10:
A20: Private School Primary Title Contact: (please print)
A21: Private School Primary Title Contact Role/Title:
A22: Phone Number/Ext:
A23: E-mail Address:
A24: Please note, no funding may be accessed until an approved preliminary plan is on file (Excluding summer school, which has its own plan).
A26: ESEA (Title IA, Title IIA, Title IIIA & Title IVA) plan due dates: | C26: 46204
A28: Are you interested in extending your service by having a summer school or summer kick-start program? Y/N?
A30: Title IA Instruction Projected Allocation of Service Cost | B30: =SUM('Title IA Instructional Program'!F11) -> 0
A32: Title IA PD Projected Allocation of Service Cost | B32: ='Title IA PD'!C347 -> 0
A34: Title IA FE Projected Allocation of Service Cost | B34: ='Title IA Family Engagement'!C63 -> 0
A36: Title IIA Projected Allocation of Service Cost | B36: ='Title IIA PD'!C347 -> 0
A38: Title IIIA Projected Allocation of Service Cost | B38: ='TIIIA Instructional Services'!G12 -> 0
A40: Title IIIA FE Projected Allocation of Service Cost | B40: ='Title IIIA FE'!G58 -> 0
A42: Title IIIA PD Projected Allocation of Service Cost | B42: =' Title IIIA PD'!G91 -> 0
A44: Title IVA PD Projected Allocation of Service Cost | B44: ='Title IVAPD'!C345 -> 0
A46: Title IVA Student Enrichment Projected Allocation of Service Cost | B46: ='Title IVA Student Enrichment'!C246 -> 0
A48: Title IVA FAmily Engagment Projected Allocation of Service Cost | B48: ='TIVA Family Engagement'!C70 -> 0
A50: Pre-Approval Projected Allocation of Service Cost | B50: =' 24-25Approved Pre-Approvals '!F52 -> 0

Sheet Data Page
A1: Data Page | B1: The data you present will guide your plans for the upcoming/current school year. The supplemental instructional services and professional development acquired through Title funding should align with the most significant needs of your students and staff, based on data collected over the past two school years.
A2: This plan is for the following Title Programs: | C2: * Title IA, Improving the Academic Achievement of the Disadvantaged
C3: * Title IIA, Building Systems of Support for Excellent Teaching and Leading
C4: * Title IIIA, Helping to ensure English Learners attain English proficiency
C5: * Title IVA, Student Support and Academic Enrichment
A6: Needs Assessment:
A9: Student’s Academic Needs: | B9: Example: Student's needs are in mathematics strategies, core phonics and reading comprehension.
B10: Content Area: | C10: Assessment: | D10: FY25 | E10: FY26 | F10: Prioritize needs: (#1 is most significant) | G10: All schools will need to have this section completed. Needs Assessments submitted without data will be considered incomplete and returned back to the vendor.
D11: % Meet/Exceed | E11: % Meet/Exceed
B12: Reading | D12: 0 | E12: 0
A13: Data to Support Needs: | B13: English Language Arts | D13: 0 | E13: 0
A14: (Insert most current data)
B15: Mathematics | D15: 0 | E15: 0
A17: Based on your data analysis, identify your teachers’ professional development needs as related to improving your students’ academic achievement. | G17: All schools will need to have this section completed. Needs Assessments submitted without data will be considered incomplete and returned back to the vendor.
A19: Programs and Services:
A20: Describe the program, services or other activities you would like the school district to implement to address these identified needs. To the extent possible, include estimated cost of programs and services. Prioritize programs and services as related to meeting the needs noted above. | G20: All schools will need to have this section completed. Needs Assessments submitted without data will be considered incomplete and returned back to the vendor.

Sheet Standard Exit Criteria
A1: Standard Exit Criteria | B1: This section explains how to exit a Title IA Student out of supplemental Title IA services. Use the space provided below to contribute additional criteria used to determine when a Title IA student should exit services. The vendor needs to collaborate with the school and possibly families to discuss exiting a student. This is a school decision.
A2: The following measures are to be considered when exiting children from Title IA:
A3: Criteria | B3: Determined Through…
A4: Title IA Teacher(s), Classroom Teacher(s)/Principal, and other school personnel that works with the student | B4: ▪ Student scoring on or above current grade level norms for two consecutive progress-monitoring sessions or two consecutive nationally normed standardized testing sessions. ▪ Both the Title IA teacher and classroom teacher agree that the child can be dismissed from the program based on a variety of more frequently used progress monitoring measures (Identified improvements needed). ▪ Early signs of regression should be monitored and preventative measures should be taken | C4: During one of monthly consutlation with the vendor, schools should have discussion with the vendor about the Exit Criteria so that everyone is on the same page.
A5: Parent(s) | B5: ▪ Parent(s) request that the child no longer receive Title IA services.
A6: Excessive Absenteeism | B6: ▪ An analysis of attendance report –Excessive absenteeism is defined as 15 days or more per semester due to truancy, continued suspension or expulsion (replaces immediately). ▪ New students with greater need should only be added during specified times (see nonpublic calendar). ▪ Unique circumstances should be submitted to the ESEA Department for approval.
A8: In addition to the standard exit criterion, please describe any other exit criteria your school uses to determine when a Title IA student should exit the Title IA program:

Sheet Title IA Instructional Program
A1: TI-A Instructional Program | B1: The purpose of Title IA of the ESEA is to provide all children significant opportunity to receive a fair, equitable, and high-quality supplemental education and to close educational achievement gaps. (ESEA section 1001). What services are you wanting from MPS? This is the section, where after consultation with the vendor, schools will put instructional services, such as FTE and subject(s) needed based on the data on the data page.
A2: Please complete the information requested in each column below:
A3: School & Campus: | B3: Instructional Program: | C3: # of Teachers: | D3: Grade Levels Served: | E3: # of students served: | F3: Estimated Cost: (Reimbursement will not exceed allocated amount)
F4: 0 | G4: All services, Title IA instruction and Academic Support will need to be filled prior to submission.
F5: 0
F6: 0
F7: 0
F8: 0
F9: 0
E11: Total Estimated Cost | F11: =SUM(F4:F9) -> 0

Sheet Title IA Family Engagement
A1: TIA Family Engagement | B1: The Family Engagement tab is for all of the Title IA Family Engagement supplemental events for Title IA families. The purpose of Family Engagement is: to build the capacity of participating schools, engage families, improve, student achievement, help children learn and engage with school staff, and provide strategies that support successful school and family interaction. Each event should be entered into separate event sections. Each Title IA site must hold an initial family engagement meeting to discuss Title IA services Milwaukee Public School is providing.
A2: TIA FE Allowable
A3: ='Signature Page'!B4 -> 0
A4: Campus: | C4: The first entry must be the FE event for the intial Title IA FE overview to introduce Title IA services to families.
A6: Title and Description of Family Engagement Activities: For Catalog items please provide the catalog #.
A7: Link/Website:
A8: Date(s) & Start/ End Time:
A9: Estimated # of parents:
A11: Grade Level(s):
A12: Translator Cost (if applicable):
A13: Estimated Cost: (Reimbursement will not exceed allocated amount) | C13: Total Cost (item 1)
C14: 0
A15: ='Signature Page'!B4 -> 0
A16: Campus:
A18: Title and Description of Family Engagement Activities: For Catalog items please provide the catalog #.
A19: Link/Website:
A20: Date(s) & Start/ End Time:
A21: Estimated # of parents:
A23: Grade Level(s):
A24: Translator Cost (if applicable): | C24: Total Cost (item 2)
A25: Estimated Cost: (Reimbursement will not exceed allocated amount) | C25: 0
A26: ='Signature Page'!B4 -> 0
A27: Campus:
A29: Title and Description of Family Engagement Activities: For Catalog items please provide the catalog #.
A30: Link/Website:
A31: Date(s) & Start/ End Time:
A32: Estimated # of parents:
A34: Grade Level(s):
A35: Translator Cost (if applicable):
A36: Estimated Cost: (Reimbursement will not exceed allocated amount) | C36: Total Cost (item 3)
C37: 0
A38: ='Signature Page'!B4 -> 0
A39: Campus:
A41: Title and Description of Family Engagement Activities: For Catalog items please provide the catalog #.
A42: Link/Website:
A43: Date(s) & Start/ End Time:
A44: Estimated # of parents:
A46: Grade Level(s):
A47: Translator Cost (if applicable):
A48: Estimated Cost: (Reimbursement will not exceed allocated amount) | C48: Total Cost (item 4)
C49: 0
A50: ='Signature Page'!B4 -> 0
A51: Campus:
A53: Title and Description of Family Engagement Activities: For Catalog items please provide the catalog #.
A55: Date(s) & Start/ End Time:
A56: Estimated # of Parents:
A58: Translator Cost (if applicable): | C58: Total Cost (item 5)
A59: Estimated Cost: (Reimbursement will not exceed allocated amount) | C59: 0
B63: Total Estimated Cost | C63: =SUM(C14,C25,C37,C49,C59) -> 0

Sheet Title IA PD
A1: Title IA: Professional Development | B1: The purpose of Title IA of the ESEA is to provide all children with significant opportunities to receive a fair, equitable, and high-quality supplemental education and to close educational achievement gaps. (ESEA section 1001). Coaching and some Professional Development can come out of Title IA. Each event (PD or Coaching/Mentoring) should be entered in separate item sections. Before moving on to the next item, remember to fill in the total cost for the event. This will be tabulated and the total amount will appear on the cover page. Subscriptions and materials are not to be included in the NA. All subscriptions and materials require a pre-approval.
A2: Content Area: | B2: Assessment:
A4: Reading | B4: ='Data Page'!C12 -> 0
A5: English Language Arts | B5: ='Data Page'!C13 -> 0
A7: Mathematics | B7: ='Data Page'!C15 -> 0
A8: Title IA Allowable
A9: ='Signature Page'!B4 -> 0
A10: Provider:
A11: (Ex: companies/presenter/ vendor/university delivering PD)
A12: Title and Description of Professional Development Activities/Coursework: (For coursework provide the course # and purpose i.e., extending educator license. For Catalog items, please provide the catalog #.)
A13: Link/Website:
A14: Date(s) & Start/ End Time:
A15: # Of Participants: (list specific name(s) if for coursework or travel)
A17: # Of Workshops/Sessions:
A18: Location:
A19: (Specify if different city & state. Must follow MPS travel policy)
A20: Indicate Title IA, Title IIA and/or Title IVA (Well Rounded OR Safe & Healthy)
A21: Estimated Cost Breakdown: | C21: Total Cost (item 1)
A22: (Reimbursement will not exceed allocated amount) | C22: 0
A23: ='Signature Page'!B4 -> 0
A24: Provider:
A25: (Ex: companies/presenter/ vendor/university delivering PD)
A26: Title and Description of Professional Development Activities/Coursework: (For coursework provide the course # and purpose i.e., extending educator license. For Catalog items, please provide the catalog #.)
A27: Link/Website:
A28: Date(s) & Start/ End Time:
A29: # Of Participants: (list specific name(s) if for coursework or travel)
A31: # Of Workshops/Sessions:
A32: Location:
A33: (Specify if different city & state. Must follow MPS travel policy)
A34: Indicate Title IA, Title IIA and/or Title IVA (Well Rounded OR Safe & Healthy)
A35: Estimated Cost Breakdown: | C35: Total Cost (item 2)
A36: (Reimbursement will not exceed allocated amount) | C36: 0
A37: ='Signature Page'!B4 -> 0
A38: Provider:
A39: (Ex: companies/presenter/ vendor/university delivering PD)
A40: Title and Description of Professional Development Activities/Coursework: (For coursework provide the course # and purpose i.e., extending educator license. For Catalog items, please provide the catalog #.)
A41: Link/Website:
A42: Date(s) & Start/ End Time:
A43: # Of Participants: (list specific name(s) if for coursework or travel)
A45: # Of Workshops/Sessions:
A46: Location:
A47: (Specify if different city & state. Must follow MPS travel policy)
A48: Indicate Title IA, Title IIA and/or Title IVA (Well Rounded OR Safe & Healthy)
A49: Estimated Cost Breakdown: | C49: Total Cost (item 3)
A50: (Reimbursement will not exceed allocated amount) | C50: 0
A51: ='Signature Page'!B4 -> 0
A52: Provider:
A53: (Ex: companies/presenter/ vendor/university delivering PD)
A54: Title and Description of Professional Development Activities/Coursework: (For coursework provide the course # and purpose i.e., extending educator license. For Catalog items, please provide the catalog #.)
A55: Link/Website:
A56: Date(s) & Start/ End Time:
A57: # Of Participants: (list specific name(s) if for coursework or travel)
A59: # Of Workshops/Sessions:
A60: Location:
A61: (Specify if different city & state. Must follow MPS travel policy)
A62: Indicate Title IA, Title IIA and/or Title IVA (Well Rounded OR Safe & Healthy)
A63: Estimated Cost Breakdown: | C63: Total Cost (item 4)
A64: (Reimbursement will not exceed allocated amount) | C64: 0
A65: ='Signature Page'!B4 -> 0
A66: Provider:
A67: (Ex: companies/presenter/ vendor/university delivering PD)
A68: Title and Description of Professional Development Activities/Coursework: (For coursework provide the course # and purpose i.e., extending educator license. For Catalog items, please provide the catalog #.)
A69: Link/Website:
A70: Date(s) & Start/ End Time:
A71: # Of Participants: (list specific name(s) if for coursework or travel)
A73: # Of Workshops/Sessions:
A74: Location:
A75: (Specify if different city & state. Must follow MPS travel policy)
A76: Indicate Title IA, Title IIA and/or Title IVA (Well Rounded OR Safe & Healthy)
A77: Estimated Cost Breakdown: | C77: Total Cost (item 5)
A78: (Reimbursement will not exceed allocated amount) | C78: 0
A79: ='Signature Page'!B4 -> 0
A80: Provider:
A81: (Ex: companies/presenter/ vendor/university delivering PD)
A82: Title and Description of Professional Development Activities/Coursework: (For coursework provide the course # and purpose i.e., extending educator license. For Catalog items, please provide the catalog #.)
A83: Link/Website:
A84: Date(s) & Start/ End Time:
A85: # Of Participants: (list specific name(s) if for coursework or travel)
A87: # Of Workshops/Sessions:
A88: Location:
A89: (Specify if different city & state. Must follow MPS travel policy)
A90: Indicate Title IA, Title IIA and/or Title IVA (Well Rounded OR Safe & Healthy)
A91: Estimated Cost Breakdown: | C91: Total Cost (item 6)
A92: (Reimbursement will not exceed allocated amount) | C92: 0
A93: ='Signature Page'!B4 -> 0
A94: Provider:
A95: (Ex: companies/presenter/ vendor/university delivering PD)
A96: Title and Description of Professional Development Activities/Coursework: (For coursework provide the course # and purpose i.e., extending educator license. For Catalog items, please provide the catalog #.)
A97: Link/Website:
A98: Date(s) & Start/ End Time:
A99: # Of Participants: (list specific name(s) if for coursework or travel)
A101: # Of Workshops/Sessions:
A102: Location:
A103: (Specify if different city & state. Must follow MPS travel policy)
A104: Indicate Title IA, Title IIA and/or Title IVA (Well Rounded OR Safe & Healthy)
A105: Estimated Cost Breakdown: | C105: Total Cost (item 7)
A106: (Reimbursement will not exceed allocated amount) | C106: 0
A107: ='Signature Page'!B4 -> 0
A108: Provider:
A109: (Ex: companies/presenter/ vendor/university delivering PD)
...

Sheet Title IIA PD
A1: Title IIA: Professional Development | B1: Title IIA is for supplemental professional development, coaching, mentoring, and course work. Each item (PD or coaching/mentoring, course work) should be placed as separate Items. Before moving onto the next item, remember to fill in the total cost for the event. This will be tabulated and total amount will appear on the Cover Page. (MPS must be provided all virtual session links so that the program can be montitored.)
A2: Content Area: | B2: Assessment: | X2: Please update formula
A4: Reading | B4: ='Data Page'!C12 -> 0
A5: English Language Arts | B5: ='Data Page'!C13 -> 0
A7: Mathematics | B7: ='Data Page'!C15 -> 0
A8: Title IIA Allowable
A10: Provider:
A11: (Ex: companies/presenter/ vendor/university delivering PD)
A12: Title and Description of Professional Development Activities/Coursework: (For coursework provide the course # and purpose i.e., extending educator license. For Catalog items, please provide the catalog #.)
A13: Link/Website:
A14: Date(s) & Start/ End Time:
A15: # Of Participants: (list specific name(s) if for coursework or travel)
A17: # Of Workshops/Sessions:
A18: Location:
A19: (Specify if different city & state. Must follow MPS travel policy)
A20: Indicate Title IA, Title IIA and/or Title IVA (Well Rounded OR Safe & Healthy)
A21: Cost Breakdown: Travel: hotel, airfare/mileage, per diem, taxis, baggage, parking | C21: Total Cost (item 1)
A22: (Reimbursement will not exceed allocated amount) | C22: 0
A23: ='Signature Page'!B4 -> 0
A24: Provider:
A25: (Ex: companies/presenter/ vendor/university delivering PD)
A26: Title and Description of Professional Development Activities/Coursework: (For coursework provide the course # and purpose i.e., extending educator license. For Catalog items, please provide the catalog #.)
A27: Link/Website:
A28: Date(s) & Start/ End Time:
A29: # Of Participants: (list specific name(s) if for coursework or travel)
A31: # Of Workshops/Sessions:
A32: Location:
A33: (Specify if different city & state. Must follow MPS travel policy)
A34: Indicate Title IA, Title IIA and/or Title IVA (Well Rounded OR Safe & Healthy)
A35: Cost Breakdown: Travel: hotel, airfare/mileage, per diem, taxis, baggage, parking | C35: Total Cost (item 2)
A36: (Reimbursement will not exceed allocated amount) | C36: 0
A37: ='Signature Page'!B4 -> 0
A38: Provider:
A39: (Ex: companies/presenter/ vendor/university delivering PD)
A40: Title and Description of Professional Development Activities/Coursework: (For coursework provide the course # and purpose i.e., extending educator license. For Catalog items, please provide the catalog #.)
A41: Link/Website:
A42: Date(s) & Start/ End Time:
A43: # Of Participants: (list specific name(s) if for coursework or travel)
A45: # Of Workshops/Sessions:
A46: Location:
A47: (Specify if different city & state. Must follow MPS travel policy)
A48: Indicate Title IA, Title IIA and/or Title IVA (Well Rounded OR Safe & Healthy)
A49: Cost Breakdown: Travel: hotel, airfare/mileage, per diem, taxis, baggage, parking | C49: Total Cost (item 3)
A50: (Reimbursement will not exceed allocated amount) | C50: 0
A51: ='Signature Page'!B4 -> 0
A52: Provider:
A53: (Ex: companies/presenter/ vendor/university delivering PD)
A54: Title and Description of Professional Development Activities/Coursework: (For coursework provide the course # and purpose i.e., extending educator license. For Catalog items, please provide the catalog #.)
A55: Link/Website:
A56: Date(s) & Start/ End Time:
A57: # Of Participants: (list specific name(s) if for coursework or travel)
A59: # Of Workshops/Sessions:
A60: Location:
A61: (Specify if different city & state. Must follow MPS travel policy)
A62: Indicate Title IA, Title IIA and/or Title IVA (Well Rounded OR Safe & Healthy)
A63: Cost Breakdown: Travel: hotel, airfare/mileage, per diem, taxis, baggage, parking | C63: Total Cost (item 4)
A64: (Reimbursement will not exceed allocated amount) | C64: 0
A65: ='Signature Page'!B4 -> 0
A66: Provider:
A67: (Ex: companies/presenter/ vendor/university delivering PD)
A68: Title and Description of Professional Development Activities/Coursework: (For coursework provide the course # and purpose i.e., extending educator license. For Catalog items, please provide the catalog #.)
A69: Link/Website:
A70: Date(s) & Start/ End Time:
A71: # Of Participants: (list specific name(s) if for coursework or travel)
A73: # Of Workshops/Sessions:
A74: Location:
A75: (Specify if different city & state. Must follow MPS travel policy)
A76: Indicate Title IA, Title IIA and/or Title IVA (Well Rounded OR Safe & Healthy)
A77: Cost Breakdown: Travel: hotel, airfare/mileage, per diem, taxis, baggage, parking | C77: Total Cost (item 5)
A78: (Reimbursement will not exceed allocated amount) | C78: 0
A79: ='Signature Page'!B4 -> 0
A80: Provider:
A81: (Ex: companies/presenter/ vendor/university delivering PD)
A82: Title and Description of Professional Development Activities/Coursework: (For coursework provide the course # and purpose i.e., extending educator license. For Catalog items, please provide the catalog #.)
A83: Link/Website:
A84: Date(s) & Start/ End Time:
A85: # Of Participants: (list specific name(s) if for coursework or travel)
A87: # Of Workshops/Sessions:
A88: Location:
A89: (Specify if different city & state. Must follow MPS travel policy)
A90: Indicate Title IA, Title IIA and/or Title IVA (Well Rounded OR Safe & Healthy)
A91: Cost Breakdown: Travel: hotel, airfare/mileage, per diem, taxis, baggage, parking | C91: Total Cost (item 6)
A92: (Reimbursement will not exceed allocated amount) | C92: 0
A93: ='Signature Page'!B4 -> 0
A94: Provider:
A95: (Ex: companies/presenter/ vendor/university delivering PD)
A96: Title and Description of Professional Development Activities/Coursework: (For coursework provide the course # and purpose i.e., extending educator license. For Catalog items, please provide the catalog #.)
A97: Link/Website:
A98: Date(s) & Start/ End Time:
A99: # Of Participants: (list specific name(s) if for coursework or travel)
A101: # Of Workshops/Sessions:
A102: Location:
A103: (Specify if different city & state. Must follow MPS travel policy)
A104: Indicate Title IA, Title IIA and/or Title IVA (Well Rounded OR Safe & Healthy)
A105: Cost Breakdown: Travel: hotel, airfare/mileage, per diem, taxis, baggage, parking | C105: Total Cost (item 7)
A106: (Reimbursement will not exceed allocated amount) | C106: 0
A107: ='Signature Page'!B4 -> 0
A108: Provider:
A109: (Ex: companies/presenter/ vendor/university delivering PD)
A110: Title and Description of Professional Development Activities/Coursework: (For coursework provide the course # and purpose i.e., extending educator license. For Catalog items, please provide the catalog #.)
...

Sheet Title IVAPD
A1: Title IVA: Professional Development | B1: Title IVA is for Well Rounded, Safe and Healthy, and Technology. Supplemental Professional Development, Coaching/Mentoring, Course Work that is connected to Well Rounded or Safe and Healthy or Technology can come out of Title TIVA. Subscriptions and materials are not to be included in the NA. All subscriptions and materials require pre-approvals. (MPS must be provided all virtual session links so that the program can be montitored.)
A2: Content Area: | B2: Assessment: | X2: Please Update formula
A4: Reading | B4: ='Data Page'!C12 -> 0
A5: English Language Arts | B5: ='Data Page'!C13 -> 0 | C5: ='Data Page'!F13 -> 0
A7: Mathematics | B7: ='Data Page'!C15 -> 0 | C7: ='Data Page'!F15 -> 0
A8: FY27 Title IVA Allowable
A9: ='Signature Page'!B4 -> 0
A10: Provider:
A11: Title and Description of Professional Development Activities/Coursework: (For coursework provide the course # and purpose i.e., extending educator license. For Catalog items, please provide the catalog #.)
A12: Link/Website:
A13: Date(s) & Start/ End Time:
A14: # Of Participants: (list specific name(s) if for coursework or travel)
A16: # Of Workshops:
A17: Location:
A18: (Specify if different city & state. Must follow MPS travel policy)
A19: Indicate Title IA, Title IIA and/or Title IVA (Well-Rounded OR Safe & Healthy)
A20: Cost Breakdown: Travel: hotel, airfare/mileage, per diem, taxis, baggage, parking | C20: Total Cost (item 1)
A21: (Reimbursement will not exceed allocated amount) | C21: 0
A22: ='Signature Page'!B4 -> 0
A23: Provider:
A24: (Ex: companies/presenter/ vendor/university delivering PD)
A25: Title and Description of Professional Development Activities/Coursework: (For coursework provide the course # and purpose i.e., extending educator license. For Catalog items, please provide the catalog #.)
A26: Link/Website:
A27: Date(s) & Start/ End Time:
A28: # Of Participants: (list specific name(s) if for coursework or travel)
A30: # Of Workshops:
A31: Location:
A32: (Specify if different city & state. Must follow MPS travel policy)
A33: Indicate Title IA, Title IIA and/or Title IVA (Well-Rounded OR Safe & Healthy)
A34: Cost Breakdown: Travel: hotel, airfare/mileage, per diem, taxis, baggage, parking | C34: Total Cost (item 2)
A35: (Reimbursement will not exceed allocated amount) | C35: 0
A36: ='Signature Page'!B4 -> 0
A37: Provider:
A38: (Ex: companies/presenter/ vendor/university delivering PD)
A39: Title and Description of Professional Development Activities/Coursework: (For coursework provide the course # and purpose i.e., extending educator license. For Catalog items, please provide the catalog #.)
A40: Link/Website:
A41: Date(s) & Start/ End Time:
A42: # Of Participants: (list specific name(s) if for coursework or travel)
A44: # Of Workshops:
A45: Location:
A46: (Specify if different city & state. Must follow MPS travel policy)
A47: Indicate Title IA, Title IIA and/or Title IVA (Well-Rounded OR Safe & Healthy)
A48: Cost Breakdown: Travel: hotel, airfare/mileage, per diem, taxis, baggage, parking | C48: Total Cost (item 3)
A49: (Reimbursement will not exceed allocated amount) | C49: 0
A50: ='Signature Page'!B4 -> 0
A51: Provider:
A52: (Ex: companies/presenter/ vendor/university delivering PD)
A53: Title and Description of Professional Development Activities/Coursework: (For coursework provide the course # and purpose i.e., extending educator license. For Catalog items, please provide the catalog #.)
A54: Link/Website:
A55: Date(s) & Start/ End Time:
A56: # Of Participants: (list specific name(s) if for coursework or travel)
A58: # Of Workshops:
A59: Location:
A60: (Specify if different city & state. Must follow MPS travel policy)
A61: Indicate Title IA, Title IIA and/or Title IVA (Well-Rounded OR Safe & Healthy)
A62: Cost Breakdown: Travel: hotel, airfare/mileage, per diem, taxis, baggage, parking | C62: Total Cost (item 4)
A63: (Reimbursement will not exceed allocated amount) | C63: 0
A64: ='Signature Page'!B4 -> 0
A65: Provider:
A66: (Ex: companies/presenter/ vendor/university delivering PD)
A67: Title and Description of Professional Development Activities/Coursework: (For coursework provide the course # and purpose i.e., extending educator license. For Catalog items, please provide the catalog #.)
A68: Link/Website:
A69: Date(s) & Start/ End Time:
A70: # Of Participants: (list specific name(s) if for coursework or travel)
A72: # Of Workshops:
A73: Location:
A74: (Specify if different city & state. Must follow MPS travel policy)
A75: Indicate Title IA, Title IIA and/or Title IVA (Well-Rounded OR Safe & Healthy)
A76: Cost Breakdown: Travel: hotel, airfare/mileage, per diem, taxis, baggage, parking | C76: Total Cost (item 5)
A77: (Reimbursement will not exceed allocated amount) | C77: 0
A78: ='Signature Page'!B4 -> 0
A79: Provider:
A80: (Ex: companies/presenter/ vendor/university delivering PD)
A81: Title and Description of Professional Development Activities/Coursework: (For coursework provide the course # and purpose i.e., extending educator license. For Catalog items, please provide the catalog #.)
A82: Link/Website:
A83: Date(s) & Start/ End Time:
A84: # Of Participants: (list specific name(s) if for coursework or travel)
A86: # Of Workshops:
A87: Location:
A88: (Specify if different city & state. Must follow MPS travel policy)
A89: Indicate Title Title IIA and/or Title IVA (Well-Rounded OR Safe & Healthy)
A90: Cost Breakdown: Travel: hotel, airfare/mileage, per diem, taxis, baggage, parking | C90: Total Cost (item 6)
A91: (Reimbursement will not exceed allocated amount) | C91: =0 -> 0
A92: ='Signature Page'!B4 -> 0
A93: Provider:
A94: (Ex: companies/presenter/ vendor/university delivering PD)
A95: Title and Description of Professional Development Activities/Coursework: (For coursework provide the course # and purpose i.e., extending educator license. For Catalog items, please provide the catalog #.)
A96: Link/Website:
A97: Date(s) & Start/ End Time:
A98: # Of Participants: (list specific name(s) if for coursework or travel)
A100: # Of Workshops:
A101: Location:
A102: (Specify if different city & state. Must follow MPS travel policy)
A103: Indicate Title IA, Title IIA and/or Title IVA (Well-Rounded OR Safe & Healthy)
A104: Cost Breakdown: Travel: hotel, airfare/mileage, per diem, taxis, baggage, parking | C104: Total Cost (item 7)
A105: (Reimbursement will not exceed allocated amount) | C105: 0
A106: ='Signature Page'!B4 -> 0
A107: Provider:
A108: (Ex: companies/presenter/ vendor/university delivering PD)
A109: Title and Description of Professional Development Activities/Coursework: (For coursework provide the course # and purpose i.e., extending educator license. For Catalog items, please provide the catalog #.)
...

Sheet Title IVA Student Enrichment
A1: Title IVA: Student Enrichment | B1: Title IV is for Well Rounded, Safe and Healthy, and Technology. Supplemental Professional Development, Coaching/Mentoring, Course Work that is connected to Well Rounded or Safe and Healthy or Technology can come out of Title IV. Subscriptions and materials are not to be included in the NA. All subscriptions and materials require a pre-approval.
A2: Content Area: | B2: Assessment: | W2: Please update formula
A4: Reading | B4: ='Data Page'!C12 -> 0
A5: English Language Arts | B5: ='Data Page'!C13 -> 0
A7: Mathematics
A8: Title IVA Allowable
A9: ='Signature Page'!B4 -> 0
A10: Indicate Well-Rounded OR Safe & Healthy
A11: Title and Description of Program/Workshop: Rationale What activities will take place? How does participation benefit students?
A12: Link/Website
A13: Facilitator(s): (Entity # of DPI License)
A14: Student Grade Levels Maximum # of Participants
A16: Start Date/End Date (Max # of sessions)
A17: Meeting Times/Field trip Times
A18: Cost Breakdown: Stipend Rate X # of hours X # of facilitators
A19: Location of Trip
A20: Bus Needed (Yes/No) If yes, provide estimate: | C20: Total Cost (item 1)
A21: Cost of Admission/workshop: (Per Person &/OR Total) (Reimbursement will not exceed allocated amount) | C21: 0
A22: ='Signature Page'!B4 -> 0
A23: Indicate Well-Rounded OR Safe & Healthy
A24: Title and Description of Program/Workshop: Rationale What activities will take place? How does participation benefit students?
A25: Link/Website
A26: Facilitator(s): (Entity # of DPI License)
A27: Student Grade Levels Maximum # of Participants
A29: Start Date/End Date (Max # of sessions)
A30: Meeting Times/Field trip Times
A31: Cost Breakdown: Stipend Rate X # of hours X # of facilitators
A32: Location of Trip
A33: Bus Needed (Yes/No) If yes, provide estimate: | C33: Total Cost (item 2)
A34: Cost of Admission/workshop: (Per Person &/OR Total) (Reimbursement will not exceed allocated amount) | C34: 0
A35: ='Signature Page'!B4 -> 0
A36: Indicate Well-Rounded OR Safe & Healthy
A37: Title and Description of Program/Workshop: Rationale What activities will take place? How does participation benefit students?
A38: Link/Website
A39: Facilitator(s): (Entity # of DPI License)
A40: Student Grade Levels Maximum # of Participants
A42: Start Date/End Date (Max # of sessions)
A43: Meeting Times/Field trip Times
A44: Cost Breakdown: Stipend Rate X # of hours X # of facilitators
A45: Location of Trip
A46: Bus Needed (Yes/No) If yes, provide estimate: | C46: Total Cost (item 3)
A47: Cost of Admission/workshop: (Per Person &/OR Total) (Reimbursement will not exceed allocated amount) | C47: 0
A48: ='Signature Page'!B46 -> 0
A49: Indicate Well-Rounded OR Safe & Healthy
A50: Title and Description of Program/Workshop: Rationale What activities will take place? How does participation benefit students?
A51: Link/Website
A52: Facilitator(s): (Entity # of DPI License)
A53: Student Grade Levels Maximum # of Participants
A55: Start Date/End Date (Max # of sessions)
A56: Meeting Times/Field trip Times
A57: Cost Breakdown: Stipend Rate X # of hours X # of facilitators
A58: Location of Trip
A59: Bus Needed (Yes/No) If yes, provide estimate: | C59: Total Cost (item4)
A60: Cost of Admission/workshop: (Per Person &/OR Total) (Reimbursement will not exceed allocated amount) | C60: 0
A61: ='Signature Page'!B46 -> 0
A62: Indicate Well-Rounded OR Safe & Healthy
A63: Title and Description of Program/Workshop: Rationale What activities will take place? How does participation benefit students?
A64: Link/Website
A65: Facilitator(s): (Entity # of DPI License)
A66: Student Grade Levels Maximum # of Participants
A68: Start Date/End Date (Max # of sessions)
A69: Meeting Times/Field trip Times
A70: Estimated Cost Breakdown: Stipend Rate X # of hours X # of facilitators
A71: Location of Trip
A72: Bus Needed (Yes/No) If yes, provide estimate: | C72: Total Cost (item 5)
A73: Estimated Cost of Admission/workshop: (Per Person &/OR Total) (Reimbursement will not exceed allocated amount) | C73: 0
A74: ='Signature Page'!B61 -> 0
A75: Indicate Well-Rounded OR Safe & Healthy
A76: Title and Description of Program/Workshop: Rationale What activities will take place? How does participation benefit students?
A77: Link/Website
A78: Facilitator(s): (Entity # of DPI License)
A79: Student Grade Levels Maximum # of Participants
A81: Start Date/End Date (Max # of sessions)
A82: Meeting Times/Field trip Times
A83: Estimated Cost Breakdown: Stipend Rate X # of hours X # of facilitators
A84: Location of Trip
A85: Bus Needed (Yes/No) If yes, provide estimate: | C85: Total Cost (item 6)
A86: Estimated Cost of Admission/workshop: (Per Person &/OR Total) (Reimbursement will not exceed allocated amount) | C86: 0
A87: ='Signature Page'!B76 -> 0
A88: Indicate Well-Rounded OR Safe & Healthy
A89: Title and Description of Program/Workshop: Rationale What activities will take place? How does participation benefit students?
A90: Link/Website
A91: Facilitator(s): (Entity # of DPI License)
A92: Student Grade Levels Maximum # of Participants
A94: Start Date/End Date (Max # of sessions)
A95: Meeting Times/Field trip Times
A96: Cost Breakdown: Stipend Rate X # of hours X # of facilitators
A97: Location of Trip
A98: Bus Needed (Yes/No) If yes, provide estimate: | C98: Total Cost (item 7)
A99: Cost of Admission/workshop: (Per Person &/OR Total) (Reimbursement will not exceed allocated amount) | C99: 0
A100: ='Signature Page'!B91 -> 0
A101: Indicate Well-Rounded OR Safe & Healthy
A102: Title and Description of Program/Workshop: Rationale What activities will take place? How does participation benefit students?
A103: Link/Website
A104: Facilitator(s): (Entity # of DPI License)
A105: Student Grade Levels Maximum # of Participants
A107: Start Date/End Date (Max # of sessions)
A108: Meeting Times/Field trip Times
A109: Estimated Cost Breakdown: Stipend Rate X # of hours X # of facilitators
A110: Location of Trip
...

Sheet TIVA Family Engagement
A1: TIVA Family Engagement | B1: The Family Engagement tab is for all of the Title IVA supplemental Family Engagement events for Title IVA families that attend the school. Each event should be entered into separate event sections.
A2: TIVA FE Allowable
A3: ='Signature Page'!B4 -> 0
A4: Campus:
A6: Title and Description of Family Engagement Activities: For Catalog items please provide the catalog #.
A7: Link/Website:
A8: Date(s) & Start/ End Time:
A9: Estimated # of parents:
A11: Grade Level(s):
A12: Indicate Well-Rounded OR Safe & Healthy
A13: Translator Cost (if applicable):
A14: Estimated Cost: (Reimbursement will not exceed allocated amount) | C14: Total Cost (item 1)
C15: 0
A16: ='Signature Page'!B4 -> 0
A17: Campus:
A19: Title and Description of Family Engagement Activities: For Catalog items please provide the catalog #.
A20: Link/Website:
A21: Date(s) & Start/ End Time:
A22: Estimated # of parents:
A24: Grade Level(s):
A25: Indicate Well-Rounded OR Safe & Healthy
A26: Translator Cost (if applicable):
A27: Estimated Cost: (Reimbursement will not exceed allocated amount) | C27: Total Cost (item 2)
C28: 0
A29: ='Signature Page'!B4 -> 0
A30: Campus:
A32: Title and Description of Family Engagement Activities: For Catalog items please provide the catalog #.
A33: Link/Website:
A34: Date(s) & Start/ End Time:
A35: Estimated # of parents:
A37: Grade Level(s):
A38: Indicate Well-Rounded OR Safe & Healthy
A39: Translator Cost (if applicable):
A40: Estimated Cost: (Reimbursement will not exceed allocated amount) | C40: Total Cost (item 3)
C41: 0
A42: ='Signature Page'!B4 -> 0
A43: Campus:
A45: Title and Description of Family Engagement Activities: For Catalog items please provide the catalog #.
A46: Link/Website:
A47: Date(s) & Start/ End Time:
A48: Estimated # of parents:
A50: Grade Level(s):
A51: Indicate Well-Rounded OR Safe & Healthy
A52: Translator Cost (if applicable):
A53: Estimated Cost: (Reimbursement will not exceed allocated amount) | C53: Total Cost (item 4)
C54: 0
A55: ='Signature Page'!B4 -> 0
A56: Campus:
A58: Title and Description of Family Engagement Activities: For Catalog items please provide the catalog #.
A59: Link/Website:
A60: Date(s) & Start/ End Time:
A61: Estimated # of Parents:
A63: Grade Level(s):
A64: Indicate Well-Rounded OR Safe & Healthy
A65: Translator Cost (if applicable): | C65: Total Cost (item 5)
A66: Estimated Cost: (Reimbursement will not exceed allocated amount) | C66: 0
B70: Total Estimated Cost | C70: =SUM(C66,C54,C41,C28,C15) -> 0

Sheet   24-25Approved Pre-Approvals 
A1: 24-25 Approved Pre-Approvals | C1: We created a separate tab because, we understand that some schools like to track everything and some submit pre-approvals now for events that may take place in August. This tab is optional for schools that want to fill in with 24-25 Approved Pre-Approvals.
A3: Date Approved: | B3: Approved by (initials): | C3: Event Title: | D3: Event Description: | E3: Allocation Source (Title I-A, II-A, IV-A): | F3: Estimated Total Cost:
F4: 0
F5: 0
F6: 0
F7: 0
F8: 0
F9: 0
F10: 0
F11: 0
F12: 0
F13: 0
F14: 0
F15: 0
... F51: 0
E52: Estimated Total Cost: | F52: =SUM(F4,F5,F6,F7,F8,F9,F10,F11,F12,F13,F14,F15,F16,F17,F18,F19,F21,F20,F22,F23,F24,F25,F26,F27,F29,F28,F30,F31,F32,F33,F34,F35,F36,F37,F38,F39,F40,F41,F42,F43,F44,F45,F46,F47,F48,F50,F49,F51) -> 0

Sheet Title IIIA Data 
A1: Title IIIA Data Section | B1: The data section will guide the planning for Title IIIA supplemental services for the school year. All family & community engagement events, instructional services, professional development requested must align with the English language development and content area needs of the English learners in your school.
A4: All schools must complete the data summary section. Needs Assessments submitted without the data summary will be considered incomplete and returned back to the vendor. No funds may be accessed until an approved Needs Assessment is on file.
A5: Data Analysis: | B5: Identify the needs of your ELs through data. If your school has a method of analyzing data you may use that system and input the results of your analysis in the Data Summary section. If you would like additional support use this optional guide to aide in retreiving and evaluating data.
A7: Data Summary: | B7: Summary/Justification of Identified Needs | E7: Area of Identified Need
A8: English Language Development Needs: | B8: Summarize the English language development needs using ACCESS, Screener scores and/or classroom-based assessments. | E8: Language Domain: (Listening, Speaking, Reading, Writing)
A9: Content Area Needs: | B9: Summarize the content area needs of ELs through applicable assessments such as, Star, Map, Forward, ACT, and/or classroom-based assessments. | E9: Content Area Focus: (provide specific standards and/or skills)
A14: Instructional materials for Title IIIA should be requested after the NA is submitted and approved. Instructional materials will be requested via the pre-approval process.
A16: Year Overview: Data Driven Plan | C16: Provide a brief overview of the supplemental services being requested that will help ensure that ELs attain English language proficiency and meet the same academic standards that all children are expected to meet. The services being requested must relate to the needs identified in your data analysis. There are three required activities in the Title IIIA program; however, non-public schools are not required to request all three activities. It is advisable that schools with an allocation of over $3,000 hire a Title IIIA teacher to provide instructional services. Details of specific requests will be formally requested in subsequent pages.
A17: Family & Community Engagement: Based on your data analysis, provide an overview of the supplemental events/sessions being requested to promote parental, family, and community participation in effective instructional programs for ELs.
A18: Instructional Services: Based on your data analysis, provide an overview of the supplemental instructional services being requested.
A19: Professional Development: Based on your data analysis, provide an overview of the professional development plan that will develop and enhance the capacity of educator's ability to provide effective instructional programs for ELs. *Title IIIA can not be used to support one-day or short term events, unless part of a school's comprehensive professional development plan that is based on needs assessment.
A20: Title IIIA Exit Criteria: | B20: ELs no longer qualify for Title IIIA services the school year following an ACCESS score of 5.0-6.0. *Students who scored at a composite level of 5.0 or above on ACCESS during the same year in which summer school will take place, can be included in summer school.

Sheet TIIIA Instructional Services
A1: TIIIA Supplemental Instruction | B1: The general purpose of Title IIIA is to help ensure that English Learner students, including immigrant children and youth, attain English language proficiency and meet the same standards that all children are expected to meet (Section 3102 of the ESEA, as amended by ESSA).
A2: Licensure Requirements | B2: All Title IIIA teachers must hold a valid state of Wisconsin 395 license, be fully licensed, and highly qualified. By Wisconsin standards highly qualified means appropriately licensed for the grade band/developmental level in which they are teaching.
A3: Instructional materials for Title IIIA should be requested after the NA is submitted and approved. Instructional materials will be requested via the pre-approval process.
A4: School/Campus, FTE: | B4: Teacher Name & DPI Entity Number : | C4: Service Delivery Model Pull out or Targeted Assistance* (See Row 10) | D4: Connection to the Identified Needs of ELs (ELD/Content Area Focus): | E4: Grade Levels Served: | F4: # of ELs served: | G4: Estimated Cost: (Reimbursement will not exceed allocated amount)
G5: 0
G6: 0
G7: 0
G8: 0
G9: 0
A10: Service Delivery Model | B10: There are two options for the supplemental instructional services. Option 1: Pull out services in the Title IIIA classroom with groups of 6-8 ELs. Option 2: Push in services can be provided in the general education classroom through the targeted assistance model. With this model, the Title IIIA teacher works with groups of 6-8 ELs at a time, to provide targeted instruction specific to a content area or language development. This model can only occur in classrooms where the non-public school classroom teacher does not possess a 395 license.
A12: Title IIIA Instruction: | B12: Please provide a concise description explaining the supplemental instructional services being requested. | F12: Total Estimated Cost | G12: 0
A13: What will the Title IIIA teacher(s) do?
A14: Describe what one would see during pull out or targeted assistance services?
A15: How is Title IIIA instruction in addition to core instruction?
A16: How do the services promote student proficiency in English language and/or content through English language development strategies.
A17: Explain how instruction addresses the needs of the ELs identified in the data summary.
A18: MPS Response/School Response:
A19: Approval of instruction is pending until the following items are uploaded to the OneDrive: (a) full name of the teacher; (b) background check; (c) DPI license; and (d) teacher’s schedule. If a targeted assistance model is chosen, upload the DPI licenses for the classroom teachers.
A20: The attendance roster must include the following: student first and last name, English language proficiency level, grade level, content area, schedule (days of the week and times), service delivery model, service start date, service end date, attendance, instructional minutes, how progress is being measured in addition to the ACCESS test (quiz, writing prompt, project-based rubrics), and performance outcomes (score, rating, grade), by teacher and school, include the total number of unique students served.

Sheet Title IIIA FE
A1: TIIIA Family & Community Engagement | B1: The general purpose of Title IIIA is to help ensure that English learner students, including immigrant children and youth, attain English language proficiency and meet the same standards that all children are expected to meet (Section 3102 of the ESEA, as amended by ESSA).
B2: Title IIIA is intended to promote parental, family, and community participation in supplemental instructional programs for ELs. Parent, family, and community sessions/events must be in addition to what is required of the school. For example, Title IIIA events must be in addition to parent/teacher conferences and open houses.
A3: Requests for materials will need to be submitted two (2) weeks before the FE event. Reimbursement will not exceed allocated amount.
A4: Catalog FE Requests: | B4: (see section below for non-catalog requests)
A5: School/Campus: | B5: Session Title & Catalog #: | C5: Facilitator name: (upload resume to OneDrive) | D5: Dates, Times, & Location: | E5: # of Attendees: | F5: Connection to the Identified Needs of ELs (ELD/Content Area Focus) | G5: Estimated Cost Breakdown: Stipends/Facilitator/Materials
G6: 0
G7: 0
G8: 0
G9: 0
A11: Non-Catalog FE Requests:
A12: School/Campus: | B12: Title of FE Event: | C12: Facilitator name: (upload resume to OneDrive) | D12: Dates, Time, & Location: | E12: # of Attendees: | F12: Connection to the Identified Needs of ELs (ELD/Content Area Focus) | G12: Estimated Cost Breakdown: Stipends/Facilitator/Materials
G13: 0
A14: Description of FE Event: (include link)
A15: What topics will be presented?
A16: What will participants be invited to do during the session?
A17: Will there be any follow-up made with participants? If so, describe.
A18: Explain how this event goes above and beyond the FE events offered for all families.
A19: If this is a series of events, how will you ensure continued participation?
A20: MPS Response/School Response:
A21: School/Campus: | B21: Title of FE Event: | C21: Facilitator name: (upload resume to OneDrive) | D21: Dates, Time, & Location: | E21: # of Attendees: | F21: Connection to the Identified Needs of ELs (ELD/Content Area Focus) | G21: Estimated Cost Breakdown: Stipends/Facilitator/Materials
G22: 0
A23: Description of FE Event: (insert link)
A24: What topics will be presented?
A25: What will participants be invited to do during the session?
A26: Will there be any follow-up made with participants? If so, describe.
A27: Explain how this event goes above and beyond the FE events offered for all families.
A28: If this is a series of events, how will you ensure continued participation?
A29: MPS Response/School Response:
A30: School/Campus: | B30: Title of FE Event: | C30: Facilitator name: (upload resume to OneDrive) | D30: Dates, Time, & Location: | E30: # of Attendees: | F30: Connection to the Identified Needs of ELs (ELD/Content Area Focus) | G30: Estimated Cost Breakdown: Stipends/Facilitator/Materials
G31: 0
A32: Description of FE Event: (insert link)
A33: What topics will be presented?
A34: What will participants be invited to do during the session?
A35: Will there be any follow-up made with participants? If so, describe.
A36: Explain how this event goes above and beyond the FE events offered for all families?
A37: If this is a series of events, how will you ensure continued participation?
A38: MPS Response/School Response:
A39: School/Campus: | B39: Title of FE Event: | C39: Facilitator name: (upload resume to OneDrive) | D39: Dates, Time, & Location: | E39: # of Attendees: | F39: Connection to the Identified Needs of ELs (ELD/Content Area Focus) | G39: Estimated Cost Breakdown: Stipends/Facilitator/MaterialsEs
G40: 0
A41: Description of FE Event: (insert link)
A42: What topics will be presented?
A43: What will participants be invited to do during the session?
A44: Will there be any follow-up made with participants? If so, describe.
A45: Explain how this event goes above and beyond the FE events offered for all families.
A46: If this is a series of events, how will you ensure continued participation?
A47: MPS Response/School Response:
A48: School/Campus: | B48: Title of FE Event: | C48: Facilitator name: (upload resume to OneDrive) | D48: Dates, Time, & Location: | E48: # of Attendees: | F48: Connection to the Identified Needs of ELs (ELD/Content Area Focus) | G48: Estimated Cost Breakdown: Stipends/Facilitator/Materials
G49: 0
A50: Description of FE Event: (insert link)
A51: What topics will be presented?
A52: What will participants be invited to do during the session?
A53: Will there be any follow-up made with participants? If so, describe.
A54: Explain how this event goes above and beyond the FE events offered for all families.
A55: If this is a series of events, how will you ensure continued participation?
A56: MPS Response/School Response:
F58: Total Estimated Cost | G58: =SUM(G49,G40,G31,G22,G13,G9,G8,G7,G6) -> 0

Sheet  Title IIIA PD
A1: TIIIA Professional Development | B1: The general purpose of Title IIIA is to help ensure that English Learner students, including immigrant children and youth, attain English language proficiency and meet the same standards that all children are expected to meet (Section 3102 of the ESEA, as amended by ESSA).
B2: Title IIIA supports supplemental professional development that is designed to (a) improve the instruction and assessment of ELs, (b) enhance the ability of teachers and principals to understand and implement curriculum, assessment measures and practices, and instructional strategies for ELs, (c) be effective in increasing English language proficiency or substantially increasing the subject matter knowledge, teaching knowledge and teaching skills of teachers of ELs. All requests must have intensity and duration to have a positive and lasting impact on the teacher’s performance in the classroom. Title IIIA can not be used to support one-day or short term events, unless part of a school's comprehensive professional development plan that is based on a needs assessment.
A4: Catalog PD Requests: (see next section for non-catalog requests)
A5: School/Campus: | B5: Session Title & Catalog #: | C5: Facilitator name: (upload resume to OneDrive) | D5: Dates, Times, & Location: | E5: Do all participants serve ELs? # of Participants/ Roles | F5: Connection to the Identified Needs of ELs (ELD/Content Area Focus) | G5: Estimated Cost Breakdown: Stipends/Facilitator
G6: 0
G7: 0
G8: 0
G9: 0
G10: 0
A12: Non-Catalog PD Requests: | B12: PD requests through Title III-A may be allowable for registration and lodging. Requests must follow MPS travel guidelines. Remaining costs, which include travel and per diem, cannot be reimbursed through Title III-A. Please indicate if braiding of Titles is being considered. All professional development must be contracted by the service provider.
A13: School/Campus: | B13: Provider: (share link and agenda) | C13: Title & Description of PD: | D13: Facilitator name: (upload resume to OneDrive) | E13: Dates, Time, & Location: | F13: Connection to the Identified Needs of ELs (ELD/Content Area Focus) | G13: Cost Breakdown: registration, lodging, stipends
G14: 0
A15: What will the staff learn by attending the PD ?
A16: How does this PD meet the needs of ELs?
A17: How does this PD fit within the schoolwide plan to support ELs?
A18: How does this PD improve instruction and assessment of ELs?
A19: How will the school administration support and monitor the implementation of new learning?
A20: Coaching; if coaching is being requested answer the following:
A21: Outline the goals of the coaching and the desired outcomes.
A22: Provide the context for the coaching (e.g. grade level, content area, regular or summer school)
A23: Provide a list of the names of the teachers being coached and the ELs they are serving.
A24: Provide the evaluation tool that will be used to determine the outcome of coaching, including the impact on the teachers' professional growth.
A25: MPS Response/School Response:
A26: School/Campus: | B26: Provider: (share link and agenda) | C26: Title & Description of PD: | D26: Facilitator name: (upload resume to OneDrive) | E26: Dates, Time, & Location: | F26: Connection to the Identified Needs of ELs (ELD/Content Area Focus) | G26: Cost Breakdown: registration, lodging, stipends
G27: 0
A28: Do all participants serve ELs? Provide the # participants and their roles.
A29: What will the staff learn by attending the PD ?
A30: How does this PD meet the needs of ELs?
A31: How does this PD improve instruction and assessment of ELs?
A32: How will the school administration support and monitor the implementation of new learning?
A33: Coaching; if coaching is being requested answer the following:
A34: Outline the goals of the coaching and the desired outcomes.
A35: Provide the context for the coaching (e.g. grade level, content area, regular or summer school)
A36: Provide a list of the names of the teachers being coached and the ELs they are serving.
A37: Provide the evaluation tool that will be used to determine the outcome of coaching, including the impact on the teachers' professional growth.
A38: MPS Response/School Response:
A39: School/Campus: | B39: Provider: (share link and agenda) | C39: Title & Description of PD: | D39: Facilitator name: (upload resume to OneDrive) | E39: Dates, Time, & Location: | F39: Connection to the Identified Needs of ELs (ELD/Content Area Focus) | G39: Estimated Cost Breakdown: registration, lodging, stipends
G40: 0
A41: Do all participants serve ELs? Provide the # participants and their roles.
A42: What will the staff learn by attending the PD ?
A43: How does this PD meet the needs of ELs?
A44: How does this PD improve instruction and assessment of ELs?
A45: How will the school administration support and monitor the implementation of new learning?
A46: Coaching; if coaching is being requested answer the following:
A47: Outline the goals of the coaching and the desired outcomes.
A48: Provide the context for the coaching (e.g. grade level, content area, regular or summer school)
A49: Provide a list of the names of the teachers being coached and the ELs they are serving.
A50: Provide the evaluation tool that will be used to determine the outcome of coaching, including the impact on the teachers' professional growth.
A51: MPS Response/School Response:
A52: School/Campus: | B52: Provider: (share link and agenda) | C52: Title & Description of PD: | D52: Facilitator name: (upload resume to OneDrive) | E52: Dates, Time, & Location: | F52: Connection to the Identified Needs of ELs (ELD/Content Area Focus) | G52: Estimated Cost Breakdown: registration, lodging, stipends
G53: 0
A54: Do all participants serve ELs? Provide the # participants and their roles.
A55: What will the staff learn by attending the PD ?
A56: How does this PD meet the needs of ELs?
A57: How does this PD improve instruction and assessment of ELs?
A58: How will the school administration support and monitor the implementation of new learning?
A59: Coaching; if coaching is being requested answer the following:
A60: Outline the goals of the coaching and the desired outcomes.
A61: Provide the context for the coaching (e.g. grade level, content area, regular or summer school)
A62: Provide a list of the names of the teachers being coached and the ELs they are serving.
A63: Provide the evaluation tool that will be used to determine the outcome of coaching, including the impact on the teachers' professional growth.
A64: MPS Response/School Response:
A65: School/Campus: | B65: Provider: (share link and agenda) | C65: Title & Description of PD: | D65: Facilitator name: (upload resume to OneDrive) | E65: Dates, Time, & Location: | F65: Connection to the Identified Needs of ELs (ELD/Content Area Focus) | G65: Estimated Cost Breakdown: registration, lodging, stipends
G66: 0
A67: Do all participants serve ELs? Provide the # participants and their roles.
A68: What will the staff learn by attending the PD ?
A69: How does this PD meet the needs of ELs?
A70: How does this PD improve instruction and assessment of ELs?
A71: How will the school administration support and monitor the implementation of new learning?
A72: Coaching; if coaching is being requested answer the following:
A73: Outline the goals of the coaching and the desired outcomes.
A74: Provide the context for the coaching (e.g. grade level, content area, regular or summer school)
A75: Provide a list of the names of the teachers being coached and the ELs they are serving.
A76: Provide the evaluation tool that will be used to determine the outcome of coaching, including the impact on the teachers' professional growth.
A77: MPS Response/School Response:
A78: School/Campus: | B78: Provider: (share link and agenda) | C78: Title & Description of PD: | D78: Facilitator name: (upload resume to OneDrive) | E78: Dates, Time, & Location: | F78: Connection to the Identified Needs of ELs (ELD/Content Area Focus) | G78: Estimated Cost Breakdown: registration, lodging, stipends
G79: 0
A80: Do all participants serve ELs? Provide the # participants and their roles.
A81: What will the staff learn by attending the PD ?
A82: How does this PD meet the needs of ELs?
A83: How does this PD improve instruction and assessment of ELs?
A84: How will the school administration support and monitor the implementation of new learning?
A85: Coaching; if coaching is being requested answer the following:
A86: Outline the goals of the coaching and the desired outcomes.
A87: Provide the context for the coaching (e.g. grade level, content area, regular or summer school)
A88: Provide a list of the names of the teachers being coached and the ELs they are serving.
A89: Provide the evaluation tool that will be used to determine the outcome of coaching, including the impact on the teachers' professional growth.
A90: MPS Response/School Response:
F91: Total Estimated Cost: | G91: =SUM(G79,G66,G53,G40,G27,G14,G10,G9,G8,G7,G6) -> 0
