Workbook
Name _1: '0100'!$A$11
Name _1: '0571'!$A$11
Name _1: '1461'!$A$11
Name _1: '1571'!$A$11
Name _1: '2521'!$A$11
Name _1: '2531'!$A$11
Name _1: '2791'!$A$11
Name _1: '2801'!$A$11
Name _1: '2911'!$A$11
Name _1: '2941'!$A$11
Name _1: '3083'!$A$11
Name _1: '3345'!$A$11
Name _1: '3362'!$A$11
Name _1: '3381'!$A$11
Name _1: '3382'!$A$11
Name _1: '3391'!$A$11
Name _1: '3394'!$A$11
Name _1: '3395'!$A$11
Name _1: '3396'!$A$11
Name _1: '3398'!$A$11
Name _1: '3400'!$A$11
Name _1: '3401'!$A$11
Name _1: '3413'!$A$11
Name _1: '3421'!$A$11
Name _1: '3431'!$A$11
Name _1: '3441'!$A$11
Name _1: '3924'!$A$11
Name _1: '3941'!$A$11
Name _1: '3961'!$A$11
Name _1: '3971'!$A$11
Name _1: '4001'!$A$11
Name _1: '4002'!$A$11
Name _1: '4012'!$A$11
Name _1: '4013'!$A$11
Name _1: '4020'!$A$11
Name _1: '4030'!$A$11
Name _1: '4031'!$A$11
Name _1: '4041'!$A$11
Name _1: '4050'!$A$11
Name _1: '4051'!$A$11
Name _1: '4061'!$A$11
Name _1: '4080'!$A$11
Name _1: '4081'!$A$11
Name _1: '4090'!$A$11
Name _1: '4091'!$A$11
Name _1: '4100'!$A$11
Name _1: '4102'!$A$11
Name _1: '4103'!$A$11
Name _1: '4111'!$A$11
Name _1: '4131'!$A$11
Name _1: '4141'!$A$11
Name _1: '0040'!$A$11
Name _1.__2009_10_FEFP_State_and_Local_Funding: '0100'!$A$5
Name _1.__2009_10_FEFP_State_and_Local_Funding: '0571'!$A$5
Name _1.__2009_10_FEFP_State_and_Local_Funding: '1461'!$A$5
Name _1.__2009_10_FEFP_State_and_Local_Funding: '1571'!$A$5
Name _1.__2009_10_FEFP_State_and_Local_Funding: '2521'!$A$5
Name _1.__2009_10_FEFP_State_and_Local_Funding: '2531'!$A$5
Name _1.__2009_10_FEFP_State_and_Local_Funding: '2791'!$A$5
Name _1.__2009_10_FEFP_State_and_Local_Funding: '2801'!$A$5

Sheet Surveys
C3: Survey 2 | G3: Survey 3 | K3: Final
C4: FLDOE Report | D4: ESE Guar | E4: Transp | G4: FLDOE Report | H4: ESE Guar | I4: Transp | K4: Final Calculation
A7: FY 2016
A8: Release date | C8: 42342 | G8: 42459 | K8: 42629
A9: 1st month used | C9: 42339 | G9: 42491 | K9: 42675
A12: FY 2017
A13: Release date | C13: 42702 | G13: 42817 | K13: 42997
A14: 1st month used | C14: 42705 | G14: 42826 | K14: 43040
A17: FY 2018
A18: Release date | C18: 43046 | G18: 43218 | K18: 43343
A19: Received | K19: 43647
A20: 1st month used | C20: 43070 | G20: 43221 | K20: 43708
C21: Preliminary
A23: Release date | C23: 43102 | G23: --- | K23: ---
A24: 1st month used | C24: 43132 | G24: --- | K24: ---
C25: Final | G25: --- | K25: ---
A28: FY 2019
A29: Release date | C29: 43468 | D29: --- | G29: 43538 | H29: --- | K29: 43713
A30: Received | C30: 43476 | G30: 43595 | H30: 43726 | I30: 43648 | K30: 43773
A31: 1st month used | C31: 43497 | D31: 43525 | G31: 43617 | H31: 43770 | I31: 43656 | K31: 43770
H32: SR-0067373 | I32: SR-0067374
A34: FY 2020
A35: Release/Requested date | C35: 43775
A36: Received | C36: 43788
A37: 1st month used | C37: 43830
C38: Preliminary
A40: Release/Requested date | C40: 43833 | D40: 43853 | E40: 43853 | G40: 43895 | H40: 43906 | I40: 43906 | K40: 44028
A41: Received | C41: 43859 | D41: 43858 | E41: 43858 | G41: 43906 | H41: 43950 | I41: 43950 | K41: 44075
A42: 1st month used | C42: 43889 | D42: 43889 | E42: 43889 | G42: 43951 | H42: 43982 | I42: 43982 | K42: 44166
A43: Service Request # | C43: Final | D43: SR-0085635 | E43: SR0085639 | H43: SR-0089096 | I43: SR-0089100
A46: FY 2021
A48: Release/Requested date | C48: 44147 | D48: 44314 | E48: 44314 | G48: 44307 | H48: 44314 | I48: 44314 | K48: 44875
A49: Received | C49: 44151 | D49: 44316 | E49: 44316 | G49: 44314 | H49: 44319 | I49: 44319 | K49: 44565
A50: 1st month used | C50: 44317 | D50: 44347 | E50: 44347 | G50: 44347 | H50: 44347 | I50: 44347 | K50: 44613
A51: Service Request # | D51: SR-0125077 | E51: SR-0125081 | H51: SR-0125054 | I51: SR-0125055
A54: FY 2022
A56: Release/Requested date | C56: 44518 | D56: 01/07/2022, 08:49:15 | E56: 01/07/2022, 09:18:46 | G56: 44630 | H56: 05/03/2022, 12:14:36 | I56: 05/03/2022, 12:16:24 | K56: 44834
A57: Received | C57: 44565 | D57: 44580 | E57: 44580 | G57: 44684 | H57: 44691 | I57: 44691 | K57: 44893
A58: 1st month used | C58: 44562 | D58: 44620 | E58: 44620 | G58: 44712 | H58: 44742 | I58: 44742 | K58: 44926
A59: Service Request # | C59: --- | D59: SR-0156328 | E59: SR-0125081 | G59: --- | H59: SR-0171396 | I59: SR-0171397 | K59: ---
...

Sheet Net Payment
B1: =TEXT(I1,"mmm")&" 2026 - FY 2027 Charter School FTE Payment" -> Sep 2026 - FY 2027 Charter School FTE Payment | I1: =Consolidated!H4 -> 46266
B2: =Consolidated!A3 -> Based on the 2026-27 Second Calculation Worksheet
B4: School # | C4: School Name | D4: Description | E4: FTE | F4: Adjustments | G4: Net | I4: NOTES TO ALL CHARTER SCHOOLS | K4: AP Template
A5: 1 | B5: 0040 | C5: Palm Beach Preparatory Middle School | D5: FTE Sep 2026 | E5: ='0040'!$J$124 -> 0 | G5: =SUBTOTAL(109,E5:F7) -> 0 | K5: =IF(E5>0,E5,F5) -> 0
D6: PY Final FEFP | K6: =IF(G6>0,G6,F6) -> 0
I7: Please go to the bottom of the page. | K7: =IF(G7>0,G7,F7) -> 0
A8: 2 | B8: 0571 | C8: Palmetto Park | D8: =D5 -> FTE Sep 2026 | E8: ='0571'!$J$124 -> 83079.76 | G8: =SUBTOTAL(109,E8:F8) -> 83079.76 | K8: =IF(E8>0,E8,F8) -> 83079.76
K9: =IF(E9>0,E9,F9) -> 0
A10: 3 | B10: 0100 | C10: The Learning Center High School | D10: =D5 -> FTE Sep 2026 | E10: ='0100'!$J$124 -> 73194.29 | G10: =SUBTOTAL(109,E10:F12) -> 73194.29 | K10: =IF(E10>0,E10,F10) -> 73194.29
D11: PY Final FEFP | K11: =IF(E11>0,E11,F11) -> 0
K12: =IF(E12>0,E12,F12) -> 0
K13: =IF(E13>0,E13,F13) -> 0
A14: 4 | B14: 1461 | C14: Inlet Grove Community High School | D14: =D5 -> FTE Sep 2026 | E14: ='1461'!$J$124 -> 629061.48 | G14: =SUBTOTAL(109,E14:F28) -> 555732.08 | J14: 1461 | K14: =IF(E14>0,E14,F14) -> 629061.48
D15: PY Final FEFP | I15: Please go to the bottom of the page. | K15: =IF(E15>0,E15,F15) -> 0
D16: Sep Teacher Supplies Retract | K16: =IF(E16>0,E16,F16) -> 0
D17: PY Digital C/R | K17: =IF(E17>0,E17,F17) -> 0
D18: PY Dig C/R A/R | K18: =IF(E18>0,E18,F18) -> 0
D19: PY Class Size Cat. | K19: =IF(E19>0,E19,F19) -> 0
D20: Class Size Cat. | K20: =IF(E20>0,E20,F20) -> 0
D21: Transportation | F21: =-J28 -> -57792.7 | J21: Trans Contract | K21: =IF(E21>0,E21,F21) -> -57792.7
D22: School Police | F22: -14300 | J22: $1445/FTE | K22: =IF(E22>0,E22,F22) -> -14300
D23: AT&T | F23: -264.72 | J23: 1445 | K23: =IF(E23>0,E23,F23) -> -264.72
D24: Avaya Maintenance | F24: -94.48 | J24: 507.5 | K24: =IF(E24>0,E24,F24) -> -94.48
D25: LAN & Internet | F25: -90 | J25: =J23*J24 -> 733337.5 | K25: =IF(E25>0,E25,F25) -> -90
D26: WPB-320387 | F26: -412.5 | I26: Jul deduction | J26: -97617.78 | K26: =IF(E26>0,E26,F26) -> -412.5
D27: WPB-320388 | F27: -75 | J27: =+J25+J26 -> 635719.72 | K27: =IF(E27>0,E27,F27) -> -75
D28: WPB-320389 | F28: -300 | J28: =ROUND(J27/11,2) -> 57792.7 | K28: =IF(E28>0,E28,F28) -> -300
A29: =1+A14 -> 5 | B29: 1571 | C29: South Tech Charter Academy | D29: =$D$14 -> FTE Sep 2026 | E29: ='1571'!$J$124 -> 864367.77 | G29: =SUBTOTAL(109,E29:F46) -> 849601.21 | I29: Aug-Jun (11 mos) | J29: =ROUND(J27/11,2) -> 57792.7 | K29: =IF(E29>0,E29,F29) -> 864367.77
D30: PY Final FEFP | K30: =IF(E30>0,E30,F30) -> 0
D31: Sep Teacher Supplies Retract | K31: =IF(E31>0,E31,F31) -> 0
D32: FY21 CSTAG Training | K32: =IF(E32>0,E32,F32) -> 0
D33: PY Digital C/R | K33: =IF(E33>0,E33,F33) -> 0 | L33: 44630
D34: PY Dig C/R A/R | K34: =IF(E34>0,E34,F34) -> 0 | L34: =L33-60 -> 44570
D35: PY Class Size Cat. | K35: =IF(E35>0,E35,F35) -> 0
D36: Class Size Cat. | K36: =IF(E36>0,E36,F36) -> 0
D37: School Police | F37: =F22 -> -14300 | K37: =IF(E37>0,E37,F37) -> -14300
D38: AT&T | F38: -282.08 | K38: =IF(E38>0,E38,F38) -> -282.08
D39: Avaya Maintenance | F39: -94.48 | K39: =IF(E39>0,E39,F39) -> -94.48
D40: LAN & Internet | F40: -90 | K40: =IF(E40>0,E40,F40) -> -90
D41: FEFP Adj | F41: 0 | K41: =IF(E41>0,E41,F41) -> 0
...

Sheet Annual Rev & Fees
E4: 0.75 | F4: Admin | G4: Fee % | I4: Annual | M4: Current | P4: ESE Guar | T4: Sec 1 Rev/Fee per FTE | X4: Net Rev Per Sec 1 FTE
D5: H/P | E5: ESE | F5: Fee % | G5: W/O TSIA | I5: Revenue | J5: Rev - TSIA | K5: Admin Fee | L5: Net Revenue | M5: Mth's Pmt | O5: Sec 1 FTE | P5: Sec 2 FTE | Q5: ESE % | R5: Trans FTE | T5: Rev | U5: Fee | V5: Net Rev | X5: H/P | Y5: 75% ESE | Z5: Other
A6: 1 | B6: 0040 | C6: Palm Beach Preparatory Middle School | D6: =IF(COUNTIF('Surv2-3'!P:P,'Annual Rev & Fees'!B6)>0,"H","") | F6: =-K6/I6 -> #DIV/0! | G6: =-K6/J6 -> #DIV/0! | I6: ='0040'!$J$107 -> 0 | J6: ='0040'!$J$109 -> 0 | K6: ='0040'!$J$114 -> 0 | L6: ='0040'!$J$116 -> 0 | M6: ='0040'!$J$124 -> 0 | O6: ='0040'!E28 -> 0 | P6: ='0040'!E50 -> 0 | Q6: =(-SUMIFS('Surv2-3'!J:J,'Surv2-3'!H:H,$B6,'Surv2-3'!I:I,"<=103")-SUMIFS('Surv2-3'!C:C,'Surv2-3'!A:A,$B6,'Surv2-3'!B:B,"<=103")-SUMIFS('Surv2-3'!J:J,'Surv2-3'!H:H,$B6,'Surv2-3'!I:I,130)-SUMIFS('Surv2-3'!C:C,'Surv2-3'!A:A,$B6,'Surv2-3'!B:B,130))/O6+1 -> #DIV/0! | R6: ='0040'!E97 -> 0 | T6: =I6/O6 -> #DIV/0! | U6: =K6/O6 -> #DIV/0! | V6: =L6/O6 -> #DIV/0! | X6: =IF(D6="H",V6,0) -> 0 | Y6: =ROUND(IF(E6=1,V6,0),2) -> 0 | Z6: =IF(AND(X6=0,Y6=0),V6,) -> #DIV/0!
A7: 2 | B7: 0571 | C7: Palmetto Park | D7: =IF(COUNTIF('Surv2-3'!P:P,'Annual Rev & Fees'!B7)>0,"H","") | F7: =-K7/I7 -> 0.047330678 | G7: =-K7/J7 -> 0.049999996 | I7: ='0571'!$J$107 -> 1061220.2 | J7: ='0571'!$J$109 -> 1004565.5 | K7: ='0571'!$J$114 -> -50228.27 | L7: ='0571'!$J$116 -> 1010991.9 | M7: ='0571'!$J$124 -> 83079.76 | O7: ='0571'!E28 -> 125.54 | P7: ='0571'!E50 -> 31.01 | Q7: =(-SUMIFS('Surv2-3'!J:J,'Surv2-3'!H:H,$B7,'Surv2-3'!I:I,"<=103")-SUMIFS('Surv2-3'!C:C,'Surv2-3'!A:A,$B7,'Surv2-3'!B:B,"<=103")-SUMIFS('Surv2-3'!J:J,'Surv2-3'!H:H,$B7,'Surv2-3'!I:I,130)-SUMIFS('Surv2-3'!C:C,'Surv2-3'!A:A,$B7,'Surv2-3'!B:B,130))/O7+1 -> 0.25306675 | R7: ='0571'!E97 -> 30 | T7: =I7/O7 -> 8453.2433 | U7: =K7/O7 -> -400.09774 | V7: =L7/O7 -> 8053.1456 | X7: =IF(D7="H",V7,0) -> 0 | Y7: =ROUND(IF(E7=1,V7,0),2) -> 0 | Z7: =IF(AND(X7=0,Y7=0),V7,) -> 8053.1456
A8: 3 | B8: 0100 | C8: The Learning Center High School | D8: =IF(COUNTIF('Surv2-3'!P:P,'Annual Rev & Fees'!B8)>0,"H","") | E8: 1 | F8: =-K8/I8 -> 0.0096412432 | G8: =-K8/J8 -> 0.010234472 | I8: ='0100'!$J$107 -> 888046.26 | J8: ='0100'!$J$109 -> 836571.72 | K8: ='0100'!$J$114 -> -8561.87 | L8: ='0100'!$J$116 -> 879484.39 | M8: ='0100'!$J$124 -> 73194.29 | O8: ='0100'!E28 -> 27 | P8: ='0100'!E50 -> 1 | Q8: =(-SUMIFS('Surv2-3'!J:J,'Surv2-3'!H:H,$B8,'Surv2-3'!I:I,"<=103")-SUMIFS('Surv2-3'!C:C,'Surv2-3'!A:A,$B8,'Surv2-3'!B:B,"<=103")-SUMIFS('Surv2-3'!J:J,'Surv2-3'!H:H,$B8,'Surv2-3'!I:I,130)-SUMIFS('Surv2-3'!C:C,'Surv2-3'!A:A,$B8,'Surv2-3'!B:B,130))/O8+1 -> 1 | R8: ='0100'!E97 -> 0 | T8: =I8/O8 -> 32890.602 | U8: =K8/O8 -> -317.1063 | V8: =L8/O8 -> 32573.496 | X8: =IF(D8="H",V8,0) -> 0 | Y8: =ROUND(IF(E8=1,V8,0),2) -> 32573.5 | Z8: =IF(AND(X8=0,Y8=0),V8,) -> 0
A9: 4 | B9: 1461 | C9: Inlet Grove Community High School | D9: =IF(COUNTIF('Surv2-3'!P:P,'Annual Rev & Fees'!B9)>0,"H","") -> H | F9: =-K9/I9 -> 0.00573301 | G9: =-K9/J9 -> 0.0060362416 | I9: ='1461'!$J$107 -> 7622495 | J9: ='1461'!$J$109 -> 7239577.7 | K9: ='1461'!$J$114 -> -43699.84 | L9: ='1461'!$J$116 -> 7578795.2 | M9: ='1461'!$J$124 -> 629061.48 | O9: ='1461'!E28 -> 828.33 | P9: ='1461'!E50 -> 87.27 | Q9: =(-SUMIFS('Surv2-3'!J:J,'Surv2-3'!H:H,$B9,'Surv2-3'!I:I,"<=103")-SUMIFS('Surv2-3'!C:C,'Surv2-3'!A:A,$B9,'Surv2-3'!B:B,"<=103")-SUMIFS('Surv2-3'!J:J,'Surv2-3'!H:H,$B9,'Surv2-3'!I:I,130)-SUMIFS('Surv2-3'!C:C,'Surv2-3'!A:A,$B9,'Surv2-3'!B:B,130))/O9+1 -> 0.30784832 | R9: ='1461'!E97 -> 507.5 | T9: =I9/O9 -> 9202.2443 | U9: =K9/O9 -> -52.756558 | V9: =L9/O9 -> 9149.4878 | X9: =IF(D9="H",V9,0) -> 9149.4878 | Y9: =ROUND(IF(E9=1,V9,0),2) -> 0 | Z9: =IF(AND(X9=0,Y9=0),V9,) -> 0
A10: 5 | B10: 1571 | C10: South Tech Charter Academy | D10: =IF(COUNTIF('Surv2-3'!P:P,'Annual Rev & Fees'!B10)>0,"H","") -> H | F10: =-K10/I10 -> 0.00433521 | G10: =-K10/J10 -> 0.0045525727 | I10: ='1571'!$J$107 -> 10553500 | J10: ='1571'!$J$109 -> 10049623 | K10: ='1571'!$J$114 -> -45751.64 | L10: ='1571'!$J$116 -> 10507749 | M10: ='1571'!$J$124 -> 864367.77 | O10: ='1571'!E28 -> 1098.28 | P10: ='1571'!E50 -> 282.41 | Q10: =(-SUMIFS('Surv2-3'!J:J,'Surv2-3'!H:H,$B10,'Surv2-3'!I:I,"<=103")-SUMIFS('Surv2-3'!C:C,'Surv2-3'!A:A,$B10,'Surv2-3'!B:B,"<=103")-SUMIFS('Surv2-3'!J:J,'Surv2-3'!H:H,$B10,'Surv2-3'!I:I,130)-SUMIFS('Surv2-3'!C:C,'Surv2-3'!A:A,$B10,'Surv2-3'!B:B,130))/O10+1 -> 0.48781731 | R10: ='1571'!E97 -> 783 | T10: =I10/O10 -> 9609.1163 | U10: =K10/O10 -> -41.657537 | V10: =L10/O10 -> 9567.4587 | X10: =IF(D10="H",V10,0) -> 9567.4587 | Y10: =ROUND(IF(E10=1,V10,0),2) -> 0 | Z10: =IF(AND(X10=0,Y10=0),V10,) -> 0
A11: 6 | B11: 2521 | C11: Ed Venture | D11: =IF(COUNTIF('Surv2-3'!P:P,'Annual Rev & Fees'!B11)>0,"H","") | E11: 1 | F11: =-K11/I11 -> 0.02154875 | G11: =-K11/J11 -> 0.022454711 | I11: ='2521'!$J$107 -> 1358834.3 | J11: ='2521'!$J$109 -> 1304010.5 | K11: ='2521'!$J$114 -> -29281.18 | L11: ='2521'!$J$116 -> 1329553.1 | M11: ='2521'!$J$124 -> 110758.87 | O11: ='2521'!E28 -> 73.69 | P11: ='2521'!E50 -> 54.98 | Q11: =(-SUMIFS('Surv2-3'!J:J,'Surv2-3'!H:H,$B11,'Surv2-3'!I:I,"<=103")-SUMIFS('Surv2-3'!C:C,'Surv2-3'!A:A,$B11,'Surv2-3'!B:B,"<=103")-SUMIFS('Surv2-3'!J:J,'Surv2-3'!H:H,$B11,'Surv2-3'!I:I,130)-SUMIFS('Surv2-3'!C:C,'Surv2-3'!A:A,$B11,'Surv2-3'!B:B,130))/O11+1 -> 1 | R11: ='2521'!E97 -> 48 | T11: =I11/O11 -> 18439.874 | U11: =K11/O11 -> -397.35622 | V11: =L11/O11 -> 18042.517 | X11: =IF(D11="H",V11,0) -> 0 | Y11: =ROUND(IF(E11=1,V11,0),2) -> 18042.52 | Z11: =IF(AND(X11=0,Y11=0),V11,) -> 0
A12: 7 | B12: 2531 | C12: Bodwell Academy | D12: =IF(COUNTIF('Surv2-3'!P:P,'Annual Rev & Fees'!B12)>0,"H","") | E12: 1 | F12: =-K12/I12 -> 0.01167435 | G12: =-K12/J12 -> 0.012304499 | I12: ='2531'!$J$107 -> 1462609.9 | J12: ='2531'!$J$109 -> 1387705.4 | K12: ='2531'!$J$114 -> -17075.02 | L12: ='2531'!$J$116 -> 1445534.9 | M12: ='2531'!$J$124 -> 120376.14 | O12: ='2531'!E28 -> 48.54 | P12: ='2531'!E50 -> 22.98 | Q12: =(-SUMIFS('Surv2-3'!J:J,'Surv2-3'!H:H,$B12,'Surv2-3'!I:I,"<=103")-SUMIFS('Surv2-3'!C:C,'Surv2-3'!A:A,$B12,'Surv2-3'!B:B,"<=103")-SUMIFS('Surv2-3'!J:J,'Surv2-3'!H:H,$B12,'Surv2-3'!I:I,130)-SUMIFS('Surv2-3'!C:C,'Surv2-3'!A:A,$B12,'Surv2-3'!B:B,130))/O12+1 -> 1 | R12: ='2531'!E97 -> 27 | T12: =I12/O12 -> 30132.055 | U12: =K12/O12 -> -351.77215 | V12: =L12/O12 -> 29780.283 | X12: =IF(D12="H",V12,0) -> 0 | Y12: =ROUND(IF(E12=1,V12,0),2) -> 29780.28 | Z12: =IF(AND(X12=0,Y12=0),V12,) -> 0
A13: 8 | B13: 2791 | C13: The Learning Center @ The Els Center of Excl | D13: =IF(COUNTIF('Surv2-3'!P:P,'Annual Rev & Fees'!B13)>0,"H","") | E13: 1 | F13: =-K13/I13 -> 0.0092115771 | G13: =-K13/J13 -> 0.00977379 | I13: ='2791'!$J$107 -> 5922230.2 | J13: ='2791'!$J$109 -> 5581568.7 | K13: ='2791'!$J$114 -> -54553.08 | L13: ='2791'!$J$116 -> 5867677.1 | M13: ='2791'!$J$124 -> 488761.33 | O13: ='2791'!E28 -> 173.06 | P13: ='2791'!E50 -> 5.04 | Q13: =(-SUMIFS('Surv2-3'!J:J,'Surv2-3'!H:H,$B13,'Surv2-3'!I:I,"<=103")-SUMIFS('Surv2-3'!C:C,'Surv2-3'!A:A,$B13,'Surv2-3'!B:B,"<=103")-SUMIFS('Surv2-3'!J:J,'Surv2-3'!H:H,$B13,'Surv2-3'!I:I,130)-SUMIFS('Surv2-3'!C:C,'Surv2-3'!A:A,$B13,'Surv2-3'!B:B,130))/O13+1 -> 1 | R13: ='2791'!E97 -> 0 | T13: =I13/O13 -> 34220.676 | U13: =K13/O13 -> -315.2264 | V13: =L13/O13 -> 33905.449 | X13: =IF(D13="H",V13,0) -> 0 | Y13: =ROUND(IF(E13=1,V13,0),2) -> 33905.45 | Z13: =IF(AND(X13=0,Y13=0),V13,) -> 0
A14: 9 | B14: 2801 | C14: Palm Beach Maritime Academy Elementary | D14: =IF(COUNTIF('Surv2-3'!P:P,'Annual Rev & Fees'!B14)>0,"H","") | F14: =-K14/I14 -> 0.021303008 | G14: =-K14/J14 -> 0.022507518 | I14: ='2801'!$J$107 -> 5229326.3 | J14: ='2801'!$J$109 -> 4949474.1 | K14: ='2801'!$J$114 -> -111400.38 | L14: ='2801'!$J$116 -> 5117925.9 | M14: ='2801'!$J$124 -> 426595.58 | O14: ='2801'!E28 -> 555.37 | P14: ='2801'!E50 -> 83.49 | Q14: =(-SUMIFS('Surv2-3'!J:J,'Surv2-3'!H:H,$B14,'Surv2-3'!I:I,"<=103")-SUMIFS('Surv2-3'!C:C,'Surv2-3'!A:A,$B14,'Surv2-3'!B:B,"<=103")-SUMIFS('Surv2-3'!J:J,'Surv2-3'!H:H,$B14,'Surv2-3'!I:I,130)-SUMIFS('Surv2-3'!C:C,'Surv2-3'!A:A,$B14,'Surv2-3'!B:B,130))/O14+1 -> 0.15033221 | R14: ='2801'!E97 -> 223 | T14: =I14/O14 -> 9415.9323 | U14: =K14/O14 -> -200.58768 | V14: =L14/O14 -> 9215.3446 | X14: =IF(D14="H",V14,0) -> 0 | Y14: =ROUND(IF(E14=1,V14,0),2) -> 0 | Z14: =IF(AND(X14=0,Y14=0),V14,) -> 9215.3446
A15: 10 | B15: 2911 | C15: Western Academy Charter School | D15: =IF(COUNTIF('Surv2-3'!P:P,'Annual Rev & Fees'!B15)>0,"H","") -> H | F15: =-K15/I15 -> 0.0060715682 | G15: =-K15/J15 -> 0.0064174963 | I15: ='2911'!$J$107 -> 6978900.4 | J15: ='2911'!$J$109 -> 6602710.5 | K15: ='2911'!$J$114 -> -42372.87 | L15: ='2911'!$J$116 -> 6936527.6 | M15: ='2911'!$J$124 -> 577409.68 | O15: ='2911'!E28 -> 779.12 | P15: ='2911'!E50 -> 169.31 | Q15: =(-SUMIFS('Surv2-3'!J:J,'Surv2-3'!H:H,$B15,'Surv2-3'!I:I,"<=103")-SUMIFS('Surv2-3'!C:C,'Surv2-3'!A:A,$B15,'Surv2-3'!B:B,"<=103")-SUMIFS('Surv2-3'!J:J,'Surv2-3'!H:H,$B15,'Surv2-3'!I:I,130)-SUMIFS('Surv2-3'!C:C,'Surv2-3'!A:A,$B15,'Surv2-3'!B:B,130))/O15+1 -> 0.21730927 | R15: ='2911'!E97 -> 0 | T15: =I15/O15 -> 8957.414 | U15: =K15/O15 -> -54.38555 | V15: =L15/O15 -> 8903.0285 | X15: =IF(D15="H",V15,0) -> 8903.0285 | Y15: =ROUND(IF(E15=1,V15,0),2) -> 0 | Z15: =IF(AND(X15=0,Y15=0),V15,) -> 0
A16: 11 | B16: 2941 | C16: Palm Beach School for Autism | D16: =IF(COUNTIF('Surv2-3'!P:P,'Annual Rev & Fees'!B16)>0,"H","") | E16: 1 | F16: =-K16/I16 -> 0.0073477953 | G16: =-K16/J16 -> 0.0077764751 | I16: ='2941'!$J$107 -> 11273534 | J16: ='2941'!$J$109 -> 10652078 | K16: ='2941'!$J$114 -> -82835.62 | L16: ='2941'!$J$116 -> 11190698 | M16: ='2941'!$J$124 -> 932786.67 | O16: ='2941'!E28 -> 380.07 | P16: ='2941'!E50 -> 81.08 | Q16: =(-SUMIFS('Surv2-3'!J:J,'Surv2-3'!H:H,$B16,'Surv2-3'!I:I,"<=103")-SUMIFS('Surv2-3'!C:C,'Surv2-3'!A:A,$B16,'Surv2-3'!B:B,"<=103")-SUMIFS('Surv2-3'!J:J,'Surv2-3'!H:H,$B16,'Surv2-3'!I:I,130)-SUMIFS('Surv2-3'!C:C,'Surv2-3'!A:A,$B16,'Surv2-3'!B:B,130))/O16+1 -> 0.99868445 | R16: ='2941'!E97 -> 0 | T16: =I16/O16 -> 29661.731 | U16: =K16/O16 -> -217.94833 | V16: =L16/O16 -> 29443.782 | X16: =IF(D16="H",V16,0) -> 0 | Y16: =ROUND(IF(E16=1,V16,0),2) -> 29443.78 | Z16: =IF(AND(X16=0,Y16=0),V16,) -> 0
A17: 12 | B17: 3083 | C17: The Learning Academy @ The Els Center of Excl | D17: =IF(COUNTIF('Surv2-3'!P:P,'Annual Rev & Fees'!B17)>0,"H","") | E17: 1 | F17: =-K17/I17 -> 0.0082079824 | G17: =-K17/J17 -> 0.0087069382 | I17: ='3083'!$J$107 -> 6691008.5 | J17: ='3083'!$J$109 -> 6307576.7 | K17: ='3083'!$J$114 -> -54919.68 | L17: ='3083'!$J$116 -> 6636088.8 | M17: ='3083'!$J$124 -> 552656 | O17: ='3083'!E28 -> 179.4 | P17: ='3083'!E50 -> 11.96 | Q17: =(-SUMIFS('Surv2-3'!J:J,'Surv2-3'!H:H,$B17,'Surv2-3'!I:I,"<=103")-SUMIFS('Surv2-3'!C:C,'Surv2-3'!A:A,$B17,'Surv2-3'!B:B,"<=103")-SUMIFS('Surv2-3'!J:J,'Surv2-3'!H:H,$B17,'Surv2-3'!I:I,130)-SUMIFS('Surv2-3'!C:C,'Surv2-3'!A:A,$B17,'Surv2-3'!B:B,130))/O17+1 -> 1 | R17: ='3083'!E97 -> 1 | T17: =I17/O17 -> 37296.592 | U17: =K17/O17 -> -306.12977 | V17: =L17/O17 -> 36990.462 | X17: =IF(D17="H",V17,0) -> 0 | Y17: =ROUND(IF(E17=1,V17,0),2) -> 36990.46 | Z17: =IF(AND(X17=0,Y17=0),V17,) -> 0
A18: 13 | B18: 3345 | C18: Career Academy of the Palm Beaches | D18: =IF(COUNTIF('Surv2-3'!P:P,'Annual Rev & Fees'!B18)>0,"H","") | E18: 1 | F18: =-K18/I18 -> 0.029581151 | G18: =-K18/J18 -> 0.030597415 | I18: ='3345'!$J$107 -> 1165783.9 | J18: ='3345'!$J$109 -> 1127063.5 | K18: ='3345'!$J$114 -> -34485.23 | L18: ='3345'!$J$116 -> 1131298.7 | M18: ='3345'!$J$124 -> 93448.16 | O18: ='3345'!E28 -> 83 | P18: ='3345'!E50 -> 81.5 | Q18: =(-SUMIFS('Surv2-3'!J:J,'Surv2-3'!H:H,$B18,'Surv2-3'!I:I,"<=103")-SUMIFS('Surv2-3'!C:C,'Surv2-3'!A:A,$B18,'Surv2-3'!B:B,"<=103")-SUMIFS('Surv2-3'!J:J,'Surv2-3'!H:H,$B18,'Surv2-3'!I:I,130)-SUMIFS('Surv2-3'!C:C,'Surv2-3'!A:A,$B18,'Surv2-3'!B:B,130))/O18+1 -> 1 | R18: ='3345'!E97 -> 75 | T18: =I18/O18 -> 14045.589 | U18: =K18/O18 -> -415.4847 | V18: =L18/O18 -> 13630.104 | X18: =IF(D18="H",V18,0) -> 0 | Y18: =ROUND(IF(E18=1,V18,0),2) -> 13630.1 | Z18: =IF(AND(X18=0,Y18=0),V18,) -> 0
A19: 14 | B19: 3362 | C19: Somerset Avenir | D19: =IF(COUNTIF('Surv2-3'!P:P,'Annual Rev & Fees'!B19)>0,"H","") | F19: =-K19/I19 -> 0.047283718 | G19: =-K19/J19 -> 0.050000001 | I19: ='3362'!$J$107 -> 1490204.3 | J19: ='3362'!$J$109 -> 1409248 | K19: ='3362'!$J$114 -> -70462.4 | L19: ='3362'!$J$116 -> 1419741.9 | M19: ='3362'!$J$124 -> 118496.38 | O19: ='3362'!E28 -> 161.11 | P19: ='3362'!E50 -> 22.53 | Q19: =(-SUMIFS('Surv2-3'!J:J,'Surv2-3'!H:H,$B19,'Surv2-3'!I:I,"<=103")-SUMIFS('Surv2-3'!C:C,'Surv2-3'!A:A,$B19,'Surv2-3'!B:B,"<=103")-SUMIFS('Surv2-3'!J:J,'Surv2-3'!H:H,$B19,'Surv2-3'!I:I,130)-SUMIFS('Surv2-3'!C:C,'Surv2-3'!A:A,$B19,'Surv2-3'!B:B,130))/O19+1 -> 0.13984234 | R19: ='3362'!E97 -> 0 | T19: =I19/O19 -> 9249.6077 | U19: =K19/O19 -> -437.35584 | V19: =L19/O19 -> 8812.2519 | X19: =IF(D19="H",V19,0) -> 0 | Y19: =ROUND(IF(E19=1,V19,0),2) -> 0 | Z19: =IF(AND(X19=0,Y19=0),V19,) -> 8812.2519
A20: 15 | B20: 3381 | C20: Imagine Schools - Chancellor Campus | D20: =IF(COUNTIF('Surv2-3'!P:P,'Annual Rev & Fees'!B20)>0,"H","") | F20: =-K20/I20 -> 0.0045070593 | G20: =-K20/J20 -> 0.0047650359 | I20: ='3381'!$J$107 -> 9400400 | J20: ='3381'!$J$109 -> 8891467.2 | K20: ='3381'!$J$114 -> -42368.16 | L20: ='3381'!$J$116 -> 9358031.8 | M20: ='3381'!$J$124 -> 778883.11 | O20: ='3381'!E28 -> 1049.31 | P20: ='3381'!E50 -> 185.09 | Q20: =(-SUMIFS('Surv2-3'!J:J,'Surv2-3'!H:H,$B20,'Surv2-3'!I:I,"<=103")-SUMIFS('Surv2-3'!C:C,'Surv2-3'!A:A,$B20,'Surv2-3'!B:B,"<=103")-SUMIFS('Surv2-3'!J:J,'Surv2-3'!H:H,$B20,'Surv2-3'!I:I,130)-SUMIFS('Surv2-3'!C:C,'Surv2-3'!A:A,$B20,'Surv2-3'!B:B,130))/O20+1 -> 0.17639211 | R20: ='3381'!E97 -> 111 | T20: =I20/O20 -> 8958.649 | U20: =K20/O20 -> -40.377162 | V20: =L20/O20 -> 8918.2718 | X20: =IF(D20="H",V20,0) -> 0 | Y20: =ROUND(IF(E20=1,V20,0),2) -> 0 | Z20: =IF(AND(X20=0,Y20=0),V20,) -> 8918.2718
A21: 16 | B21: 3382 | C21: Glades Academy | D21: =IF(COUNTIF('Surv2-3'!P:P,'Annual Rev & Fees'!B21)>0,"H","") | F21: =-K21/I21 -> 0.045300533 | G21: =-K21/J21 -> 0.047748193 | I21: ='3382'!$J$107 -> 2457969.8 | J21: ='3382'!$J$109 -> 2331969.7 | K21: ='3382'!$J$114 -> -111347.34 | L21: ='3382'!$J$116 -> 2346622.4 | M21: ='3382'!$J$124 -> 195261.53 | O21: ='3382'!E28 -> 261.79 | P21: ='3382'!E50 -> 52.02 | Q21: =(-SUMIFS('Surv2-3'!J:J,'Surv2-3'!H:H,$B21,'Surv2-3'!I:I,"<=103")-SUMIFS('Surv2-3'!C:C,'Surv2-3'!A:A,$B21,'Surv2-3'!B:B,"<=103")-SUMIFS('Surv2-3'!J:J,'Surv2-3'!H:H,$B21,'Surv2-3'!I:I,130)-SUMIFS('Surv2-3'!C:C,'Surv2-3'!A:A,$B21,'Surv2-3'!B:B,130))/O21+1 -> 0.19870889 | R21: ='3382'!E97 -> 236 | T21: =I21/O21 -> 9389.0897 | U21: =K21/O21 -> -425.33076 | V21: =L21/O21 -> 8963.7589 | X21: =IF(D21="H",V21,0) -> 0 | Y21: =ROUND(IF(E21=1,V21,0),2) -> 0 | Z21: =IF(AND(X21=0,Y21=0),V21,) -> 8963.7589
B22: 3391 | C22: Seagull Academy for Independent Living | D22: =IF(COUNTIF('Surv2-3'!P:P,'Annual Rev & Fees'!B22)>0,"H","")
A23: 17 | B23: 3394 | C23: Montessori Academy of Early Enrichment | D23: =IF(COUNTIF('Surv2-3'!P:P,'Annual Rev & Fees'!B23)>0,"H","") | F23: =-K23/I23 -> 0.047249858 | G23: =-K23/J23 -> 0.05 | I23: ='3394'!$J$107 -> 1788719.2 | J23: ='3394'!$J$109 -> 1690334.6 | K23: ='3394'!$J$114 -> -84516.73 | L23: ='3394'!$J$116 -> 1704202.5 | M23: ='3394'!$J$124 -> 142110.34 | O23: ='3394'!E28 -> 192.98 | P23: ='3394'!E50 -> 17.5 | Q23: =(-SUMIFS('Surv2-3'!J:J,'Surv2-3'!H:H,$B23,'Surv2-3'!I:I,"<=103")-SUMIFS('Surv2-3'!C:C,'Surv2-3'!A:A,$B23,'Surv2-3'!B:B,"<=103")-SUMIFS('Surv2-3'!J:J,'Surv2-3'!H:H,$B23,'Surv2-3'!I:I,130)-SUMIFS('Surv2-3'!C:C,'Surv2-3'!A:A,$B23,'Surv2-3'!B:B,130))/O23+1 -> 0.090682972 | R23: ='3394'!E97 -> 8 | T23: =I23/O23 -> 9268.9357 | U23: =K23/O23 -> -437.9559 | V23: =L23/O23 -> 8830.9798 | X23: =IF(D23="H",V23,0) -> 0 | Y23: =ROUND(IF(E23=1,V23,0),2) -> 0 | Z23: =IF(AND(X23=0,Y23=0),V23,) -> 8830.9798
A24: 18 | B24: 3395 | C24: Somerset Academy Charter School | D24: =IF(COUNTIF('Surv2-3'!P:P,'Annual Rev & Fees'!B24)>0,"H","") | F24: =-K24/I24 -> 0.021988729 | G24: =-K24/J24 -> 0.023267502 | I24: ='3395'!$J$107 -> 4814572.5 | J24: ='3395'!$J$109 -> 4549965.4 | K24: ='3395'!$J$114 -> -105866.33 | L24: ='3395'!$J$116 -> 4708706.1 | M24: ='3395'!$J$124 -> 392347.75 | O24: ='3395'!E28 -> 537.23 | P24: ='3395'!E50 -> 58.5 | Q24: =(-SUMIFS('Surv2-3'!J:J,'Surv2-3'!H:H,$B24,'Surv2-3'!I:I,"<=103")-SUMIFS('Surv2-3'!C:C,'Surv2-3'!A:A,$B24,'Surv2-3'!B:B,"<=103")-SUMIFS('Surv2-3'!J:J,'Surv2-3'!H:H,$B24,'Surv2-3'!I:I,130)-SUMIFS('Surv2-3'!C:C,'Surv2-3'!A:A,$B24,'Surv2-3'!B:B,130))/O24+1 -> 0.10889191 | R24: ='3395'!E97 -> 23.5 | T24: =I24/O24 -> 8961.8459 | U24: =K24/O24 -> -197.0596 | V24: =L24/O24 -> 8764.7863 | X24: =IF(D24="H",V24,0) -> 0 | Y24: =ROUND(IF(E24=1,V24,0),2) -> 0 | Z24: =IF(AND(X24=0,Y24=0),V24,) -> 8764.7863
A25: 19 | B25: 3396 | C25: G-Star School of the Arts | D25: =IF(COUNTIF('Surv2-3'!P:P,'Annual Rev & Fees'!B25)>0,"H","") | F25: =-K25/I25 -> 0.006759709 | G25: =-K25/J25 -> 0.0071231152 | I25: ='3396'!$J$107 -> 6296535.9 | J25: ='3396'!$J$109 -> 5975299.9 | K25: ='3396'!$J$114 -> -42562.75 | L25: ='3396'!$J$116 -> 6253973.1 | M25: ='3396'!$J$124 -> 518439.3 | O25: ='3396'!E28 -> 701.94 | P25: ='3396'!E50 -> 90.36 | Q25: =(-SUMIFS('Surv2-3'!J:J,'Surv2-3'!H:H,$B25,'Surv2-3'!I:I,"<=103")-SUMIFS('Surv2-3'!C:C,'Surv2-3'!A:A,$B25,'Surv2-3'!B:B,"<=103")-SUMIFS('Surv2-3'!J:J,'Surv2-3'!H:H,$B25,'Surv2-3'!I:I,130)-SUMIFS('Surv2-3'!C:C,'Surv2-3'!A:A,$B25,'Surv2-3'!B:B,130))/O25+1 -> 0.19158333 | R25: ='3396'!E97 -> 268 | T25: =I25/O25 -> 8970.191 | U25: =K25/O25 -> -60.635881 | V25: =L25/O25 -> 8909.5551 | X25: =IF(D25="H",V25,0) -> 0 | Y25: =ROUND(IF(E25=1,V25,0),2) -> 0 | Z25: =IF(AND(X25=0,Y25=0),V25,) -> 8909.5551
A26: 20 | B26: 3398 | C26: Everglades Preparatory Academy | D26: =IF(COUNTIF('Surv2-3'!P:P,'Annual Rev & Fees'!B26)>0,"H","") | F26: =-K26/I26 -> 0.047497681 | G26: =-K26/J26 -> 0.049999997 | I26: ='3398'!$J$107 -> 915835.66 | J26: ='3398'!$J$109 -> 870001.46 | K26: ='3398'!$J$114 -> -43500.07 | L26: ='3398'!$J$116 -> 872335.59 | M26: ='3398'!$J$124 -> 71814.87 | O26: ='3398'!E28 -> 101.9 | P26: ='3398'!E50 -> 24.35 | Q26: =(-SUMIFS('Surv2-3'!J:J,'Surv2-3'!H:H,$B26,'Surv2-3'!I:I,"<=103")-SUMIFS('Surv2-3'!C:C,'Surv2-3'!A:A,$B26,'Surv2-3'!B:B,"<=103")-SUMIFS('Surv2-3'!J:J,'Surv2-3'!H:H,$B26,'Surv2-3'!I:I,130)-SUMIFS('Surv2-3'!C:C,'Surv2-3'!A:A,$B26,'Surv2-3'!B:B,130))/O26+1 -> 0.28056919 | R26: ='3398'!E97 -> 74.5 | T26: =I26/O26 -> 8987.5923 | U26: =K26/O26 -> -426.88979 | V26: =L26/O26 -> 8560.7026 | X26: =IF(D26="H",V26,0) -> 0 | Y26: =ROUND(IF(E26=1,V26,0),2) -> 0 | Z26: =IF(AND(X26=0,Y26=0),V26,) -> 8560.7026
A27: 21 | B27: 3400 | C27: Believers Academy | D27: =IF(COUNTIF('Surv2-3'!P:P,'Annual Rev & Fees'!B27)>0,"H","") | E27: 1 | F27: =-K27/I27 -> 0.031619087 | G27: =-K27/J27 -> 0.032771668 | I27: ='3400'!$J$107 -> 1153954.9 | J27: ='3400'!$J$109 -> 1113370.3 | K27: ='3400'!$J$114 -> -36487 | L27: ='3400'!$J$116 -> 1117467.9 | M27: ='3400'!$J$124 -> 91709.02 | O27: ='3400'!E28 -> 91.06 | P27: ='3400'!E50 -> 91.06 | Q27: =(-SUMIFS('Surv2-3'!J:J,'Surv2-3'!H:H,$B27,'Surv2-3'!I:I,"<=103")-SUMIFS('Surv2-3'!C:C,'Surv2-3'!A:A,$B27,'Surv2-3'!B:B,"<=103")-SUMIFS('Surv2-3'!J:J,'Surv2-3'!H:H,$B27,'Surv2-3'!I:I,130)-SUMIFS('Surv2-3'!C:C,'Surv2-3'!A:A,$B27,'Surv2-3'!B:B,130))/O27+1 -> 1 | R27: ='3400'!E97 -> 33 | T27: =I27/O27 -> 12672.467 | U27: =K27/O27 -> -400.69185 | V27: =L27/O27 -> 12271.775 | X27: =IF(D27="H",V27,0) -> 0 | Y27: =ROUND(IF(E27=1,V27,0),2) -> 12271.78 | Z27: =IF(AND(X27=0,Y27=0),V27,) -> 0
A28: 22 | B28: 3401 | C28: Quantum High School | D28: =IF(COUNTIF('Surv2-3'!P:P,'Annual Rev & Fees'!B28)>0,"H","") | E28: 0 | F28: =-K28/I28 -> 0.029994682 | G28: =-K28/J28 -> 0.031651179 | I28: ='3401'!$J$107 -> 3411698.1 | J28: ='3401'!$J$109 -> 3233143.4 | K28: ='3401'!$J$114 -> -102332.8 | L28: ='3401'!$J$116 -> 3309365.3 | M28: ='3401'!$J$124 -> 272864.13 | O28: ='3401'!E28 -> 394.93 | P28: ='3401'!E50 -> 80.42 | Q28: =(-SUMIFS('Surv2-3'!J:J,'Surv2-3'!H:H,$B28,'Surv2-3'!I:I,"<=103")-SUMIFS('Surv2-3'!C:C,'Surv2-3'!A:A,$B28,'Surv2-3'!B:B,"<=103")-SUMIFS('Surv2-3'!J:J,'Surv2-3'!H:H,$B28,'Surv2-3'!I:I,130)-SUMIFS('Surv2-3'!C:C,'Surv2-3'!A:A,$B28,'Surv2-3'!B:B,130))/O28+1 -> 0.21548122 | R28: ='3401'!E97 -> 191.5 | T28: =I28/O28 -> 8638.7412 | U28: =K28/O28 -> -259.1163 | V28: =L28/O28 -> 8379.6249 | X28: =IF(D28="H",V28,0) -> 0 | Y28: =ROUND(IF(E28=1,V28,0),2) -> 0 | Z28: =IF(AND(X28=0,Y28=0),V28,) -> 8379.6249
A29: 23 | B29: 3413 | C29: Somerset Academy Boca | D29: =IF(COUNTIF('Surv2-3'!P:P,'Annual Rev & Fees'!B29)>0,"H","") -> H | F29: =-K29/I29 -> 0.012070481 | G29: =-K29/J29 -> 0.012762916 | I29: ='3413'!$J$107 -> 3586940 | J29: ='3413'!$J$109 -> 3392335.3 | K29: ='3413'!$J$114 -> -43296.09 | L29: ='3413'!$J$116 -> 3543643.9 | M29: ='3413'!$J$124 -> 295168.63 | O29: ='3413'!E28 -> 391.76 | P29: ='3413'!E50 -> 85.5 | Q29: =(-SUMIFS('Surv2-3'!J:J,'Surv2-3'!H:H,$B29,'Surv2-3'!I:I,"<=103")-SUMIFS('Surv2-3'!C:C,'Surv2-3'!A:A,$B29,'Surv2-3'!B:B,"<=103")-SUMIFS('Surv2-3'!J:J,'Surv2-3'!H:H,$B29,'Surv2-3'!I:I,130)-SUMIFS('Surv2-3'!C:C,'Surv2-3'!A:A,$B29,'Surv2-3'!B:B,130))/O29+1 -> 0.21824586 | R29: ='3413'!E97 -> 0 | T29: =I29/O29 -> 9155.9628 | U29: =K29/O29 -> -110.51687 | V29: =L29/O29 -> 9045.4459 | X29: =IF(D29="H",V29,0) -> 9045.4459 | Y29: =ROUND(IF(E29=1,V29,0),2) -> 0 | Z29: =IF(AND(X29=0,Y29=0),V29,) -> 0
A30: 24 | B30: 3421 | C30: Worthington High School | D30: =IF(COUNTIF('Surv2-3'!P:P,'Annual Rev & Fees'!B30)>0,"H","") | F30: =-K30/I30 -> 0.019783079 | G30: =-K30/J30 -> 0.020907905 | I30: ='3421'!$J$107 -> 4995260.2 | J30: ='3421'!$J$109 -> 4726520 | K30: ='3421'!$J$114 -> -98821.63 | L30: ='3421'!$J$116 -> 4896438.6 | M30: ='3421'!$J$124 -> 403828.21 | O30: ='3421'!E28 -> 597.86 | P30: ='3421'!E50 -> 109.86 | Q30: =(-SUMIFS('Surv2-3'!J:J,'Surv2-3'!H:H,$B30,'Surv2-3'!I:I,"<=103")-SUMIFS('Surv2-3'!C:C,'Surv2-3'!A:A,$B30,'Surv2-3'!B:B,"<=103")-SUMIFS('Surv2-3'!J:J,'Surv2-3'!H:H,$B30,'Surv2-3'!I:I,130)-SUMIFS('Surv2-3'!C:C,'Surv2-3'!A:A,$B30,'Surv2-3'!B:B,130))/O30+1 -> 0.19571472 | R30: ='3421'!E97 -> 67.0005 | T30: =I30/O30 -> 8355.2341 | U30: =K30/O30 -> -165.29226 | V30: =L30/O30 -> 8189.9418 | X30: =IF(D30="H",V30,0) -> 0 | Y30: =ROUND(IF(E30=1,V30,0),2) -> 0 | Z30: =IF(AND(X30=0,Y30=0),V30,) -> 8189.9418
A31: 25 | B31: 3431 | C31: Renaissance Charter School at WPB | D31: =IF(COUNTIF('Surv2-3'!P:P,'Annual Rev & Fees'!B31)>0,"H","") -> H | F31: =-K31/I31 -> 0.0047387006 | G31: =-K31/J31 -> 0.0050119785 | I31: ='3431'!$J$107 -> 8930895.6 | J31: ='3431'!$J$109 -> 8443938.8 | K31: ='3431'!$J$114 -> -42320.84 | L31: ='3431'!$J$116 -> 8888574.7 | M31: ='3431'!$J$124 -> 740549.13 | O31: ='3431'!E28 -> 997.61 | P31: ='3431'!E50 -> 143.48 | Q31: =(-SUMIFS('Surv2-3'!J:J,'Surv2-3'!H:H,$B31,'Surv2-3'!I:I,"<=103")-SUMIFS('Surv2-3'!C:C,'Surv2-3'!A:A,$B31,'Surv2-3'!B:B,"<=103")-SUMIFS('Surv2-3'!J:J,'Surv2-3'!H:H,$B31,'Surv2-3'!I:I,130)-SUMIFS('Surv2-3'!C:C,'Surv2-3'!A:A,$B31,'Surv2-3'!B:B,130))/O31+1 -> 0.14382374 | R31: ='3431'!E97 -> 35.5 | T31: =I31/O31 -> 8952.2915 | U31: =K31/O31 -> -42.422229 | V31: =L31/O31 -> 8909.8693 | X31: =IF(D31="H",V31,0) -> 8909.8693 | Y31: =ROUND(IF(E31=1,V31,0),2) -> 0 | Z31: =IF(AND(X31=0,Y31=0),V31,) -> 0
A32: 26 | B32: 3441 | C32: South Tech Preparatory Academy (MS) | D32: =IF(COUNTIF('Surv2-3'!P:P,'Annual Rev & Fees'!B32)>0,"H","") -> H | F32: =-K32/I32 -> 0.0090707707 | G32: =-K32/J32 -> 0.0095644363 | I32: ='3441'!$J$107 -> 4696987.9 | J32: ='3441'!$J$109 -> 4454554.2 | K32: ='3441'!$J$114 -> -42605.3 | L32: ='3441'!$J$116 -> 4654382.6 | M32: ='3441'!$J$124 -> 387198.96 | O32: ='3441'!E28 -> 522.77 | P32: ='3441'!E50 -> 71 | Q32: =(-SUMIFS('Surv2-3'!J:J,'Surv2-3'!H:H,$B32,'Surv2-3'!I:I,"<=103")-SUMIFS('Surv2-3'!C:C,'Surv2-3'!A:A,$B32,'Surv2-3'!B:B,"<=103")-SUMIFS('Surv2-3'!J:J,'Surv2-3'!H:H,$B32,'Surv2-3'!I:I,130)-SUMIFS('Surv2-3'!C:C,'Surv2-3'!A:A,$B32,'Surv2-3'!B:B,130))/O32+1 -> 0.13581499 | R32: ='3441'!E97 -> 346.5 | T32: =I32/O32 -> 8984.8076 | U32: =K32/O32 -> -81.49913 | V32: =L32/O32 -> 8903.3085 | X32: =IF(D32="H",V32,0) -> 8903.3085 | Y32: =ROUND(IF(E32=1,V32,0),2) -> 0 | Z32: =IF(AND(X32=0,Y32=0),V32,) -> 0
A33: 27 | B33: 3924 | C33: Palm Beach Maritime Academy Secondary | D33: =IF(COUNTIF('Surv2-3'!P:P,'Annual Rev & Fees'!B33)>0,"H","") | F33: =-K33/I33 -> 0.029112964 | G33: =-K33/J33 -> 0.030717813 | I33: ='3924'!$J$107 -> 3594654.9 | J33: ='3924'!$J$109 -> 3406852.6 | K33: ='3924'!$J$114 -> -104651.06 | L33: ='3924'!$J$116 -> 3490003.8 | M33: ='3924'!$J$124 -> 289378.23 | O33: ='3924'!E28 -> 406.93 | P33: ='3924'!E50 -> 75.97 | Q33: =(-SUMIFS('Surv2-3'!J:J,'Surv2-3'!H:H,$B33,'Surv2-3'!I:I,"<=103")-SUMIFS('Surv2-3'!C:C,'Surv2-3'!A:A,$B33,'Surv2-3'!B:B,"<=103")-SUMIFS('Surv2-3'!J:J,'Surv2-3'!H:H,$B33,'Surv2-3'!I:I,130)-SUMIFS('Surv2-3'!C:C,'Surv2-3'!A:A,$B33,'Surv2-3'!B:B,130))/O33+1 -> 0.19054874 | R33: ='3924'!E97 -> 236 | T33: =I33/O33 -> 8833.5952 | U33: =K33/O33 -> -257.17214 | V33: =L33/O33 -> 8576.4231 | X33: =IF(D33="H",V33,0) -> 0 | Y33: =ROUND(IF(E33=1,V33,0),2) -> 0 | Z33: =IF(AND(X33=0,Y33=0),V33,) -> 8576.4231
A34: 28 | B34: 3941 | C34: Ben Gamla Charter School | D34: =IF(COUNTIF('Surv2-3'!P:P,'Annual Rev & Fees'!B34)>0,"H","") -> H | F34: =-K34/I34 -> 0.018910886 | G34: =-K34/J34 -> 0.019999999 | I34: ='3941'!$J$107 -> 2051309.5 | J34: ='3941'!$J$109 -> 1939604.1 | K34: ='3941'!$J$114 -> -38792.08 | L34: ='3941'!$J$116 -> 2012517.5 | M34: ='3941'!$J$124 -> 167870.46 | O34: ='3941'!E28 -> 224.3 | P34: ='3941'!E50 -> 33.03 | Q34: =(-SUMIFS('Surv2-3'!J:J,'Surv2-3'!H:H,$B34,'Surv2-3'!I:I,"<=103")-SUMIFS('Surv2-3'!C:C,'Surv2-3'!A:A,$B34,'Surv2-3'!B:B,"<=103")-SUMIFS('Surv2-3'!J:J,'Surv2-3'!H:H,$B34,'Surv2-3'!I:I,130)-SUMIFS('Surv2-3'!C:C,'Surv2-3'!A:A,$B34,'Surv2-3'!B:B,130))/O34+1 -> 0.14725814 | R34: ='3941'!E97 -> 0 | T34: =I34/O34 -> 9145.3836 | U34: =K34/O34 -> -172.9473 | V34: =L34/O34 -> 8972.4363 | X34: =IF(D34="H",V34,0) -> 8972.4363 | Y34: =ROUND(IF(E34=1,V34,0),2) -> 0 | Z34: =IF(AND(X34=0,Y34=0),V34,) -> 0
B35: 3961 | C35: Gardens School of Technology Arts | D35: =IF(COUNTIF('Surv2-3'!P:P,'Annual Rev & Fees'!B35)>0,"H","")
A36: 29 | B36: 3971 | C36: Palm Beach Preparatory Charter Academy | D36: =IF(COUNTIF('Surv2-3'!P:P,'Annual Rev & Fees'!B36)>0,"H","") | F36: =-K36/I36 -> 0.018165954 | G36: =-K36/J36 -> 0.019191205 | I36: ='3971'!$J$107 -> 5520827.5 | J36: ='3971'!$J$109 -> 5225888.7 | K36: ='3971'!$J$114 -> -100291.1 | L36: ='3971'!$J$116 -> 5420536.4 | M36: ='3971'!$J$124 -> 446791.37 | O36: ='3971'!E28 -> 651.34 | P36: ='3971'!E50 -> 133.83 | Q36: =(-SUMIFS('Surv2-3'!J:J,'Surv2-3'!H:H,$B36,'Surv2-3'!I:I,"<=103")-SUMIFS('Surv2-3'!C:C,'Surv2-3'!A:A,$B36,'Surv2-3'!B:B,"<=103")-SUMIFS('Surv2-3'!J:J,'Surv2-3'!H:H,$B36,'Surv2-3'!I:I,130)-SUMIFS('Surv2-3'!C:C,'Surv2-3'!A:A,$B36,'Surv2-3'!B:B,130))/O36+1 -> 0.20546873 | R36: ='3971'!E97 -> 130.5 | T36: =I36/O36 -> 8476.1069 | U36: =K36/O36 -> -153.97657 | V36: =L36/O36 -> 8322.1303 | X36: =IF(D36="H",V36,0) -> 0 | Y36: =ROUND(IF(E36=1,V36,0),2) -> 0 | Z36: =IF(AND(X36=0,Y36=0),V36,) -> 8322.1303
A37: 30 | B37: 4001 | C37: Renaissance Charter School at Wellington | D37: =IF(COUNTIF('Surv2-3'!P:P,'Annual Rev & Fees'!B37)>0,"H","") | F37: =-K37/I37 -> 0.018507979 | G37: =-K37/J37 -> 0.019568553 | I37: ='4001'!$J$107 -> 5743931.9 | J37: ='4001'!$J$109 -> 5432622.9 | K37: ='4001'!$J$114 -> -106308.57 | L37: ='4001'!$J$116 -> 5637623.4 | M37: ='4001'!$J$124 -> 469922.57 | O37: ='4001'!E28 -> 638.78 | P37: ='4001'!E50 -> 75.56 | Q37: =(-SUMIFS('Surv2-3'!J:J,'Surv2-3'!H:H,$B37,'Surv2-3'!I:I,"<=103")-SUMIFS('Surv2-3'!C:C,'Surv2-3'!A:A,$B37,'Surv2-3'!B:B,"<=103")-SUMIFS('Surv2-3'!J:J,'Surv2-3'!H:H,$B37,'Surv2-3'!I:I,130)-SUMIFS('Surv2-3'!C:C,'Surv2-3'!A:A,$B37,'Surv2-3'!B:B,130))/O37+1 -> 0.11828799 | R37: ='4001'!E97 -> 91 | T37: =I37/O37 -> 8992.0347 | U37: =K37/O37 -> -166.42439 | V37: =L37/O37 -> 8825.6103 | X37: =IF(D37="H",V37,0) -> 0 | Y37: =ROUND(IF(E37=1,V37,0),2) -> 0 | Z37: =IF(AND(X37=0,Y37=0),V37,) -> 8825.6103
A38: 31 | B38: 4002 | C38: Renaissance Charter School at Summit | D38: =IF(COUNTIF('Surv2-3'!P:P,'Annual Rev & Fees'!B38)>0,"H","") | F38: =-K38/I38 -> 0.013507853 | G38: =-K38/J38 -> 0.014294373 | I38: ='4002'!$J$107 -> 7874387.6 | J38: ='4002'!$J$109 -> 7441114.7 | K38: ='4002'!$J$114 -> -106366.07 | L38: ='4002'!$J$116 -> 7768021.5 | M38: ='4002'!$J$124 -> 647682.96 | O38: ='4002'!E28 -> 874.47 | P38: ='4002'!E50 -> 76.44 | Q38: =(-SUMIFS('Surv2-3'!J:J,'Surv2-3'!H:H,$B38,'Surv2-3'!I:I,"<=103")-SUMIFS('Surv2-3'!C:C,'Surv2-3'!A:A,$B38,'Surv2-3'!B:B,"<=103")-SUMIFS('Surv2-3'!J:J,'Surv2-3'!H:H,$B38,'Surv2-3'!I:I,130)-SUMIFS('Surv2-3'!C:C,'Surv2-3'!A:A,$B38,'Surv2-3'!B:B,130))/O38+1 -> 0.087412947 | R38: ='4002'!E97 -> 0.5 | T38: =I38/O38 -> 9004.7544 | U38: =K38/O38 -> -121.6349 | V38: =L38/O38 -> 8883.1195 | X38: =IF(D38="H",V38,0) -> 0 | Y38: =ROUND(IF(E38=1,V38,0),2) -> 0 | Z38: =IF(AND(X38=0,Y38=0),V38,) -> 8883.1195
B39: 4012 | C39: Somerset Academy Canyons Middle School | D39: =IF(COUNTIF('Surv2-3'!P:P,'Annual Rev & Fees'!B39)>0,"H","") | I39: ='4012'!$J$107 -> 0 | J39: ='4012'!$J$109 -> 0 | K39: ='4012'!$J$114 -> 0 | L39: ='4012'!$J$116 -> 0 | M39: ='4012'!$J$124 -> 0 | O39: ='4012'!E28 -> 0 | P39: ='4012'!E50 -> 0 | R39: ='4012'!E97 -> 0 | X39: =IF(D39="H",V39,0) -> 0 | Y39: =ROUND(IF(E39=1,V39,0),2) -> 0 | Z39: =IF(AND(X39=0,Y39=0),V39,) -> 0
A40: 32 | B40: 4013 | C40: Somerset Academy Canyons High School | D40: =IF(COUNTIF('Surv2-3'!P:P,'Annual Rev & Fees'!B40)>0,"H","") -> H | F40: =-K40/I40 -> 0.0031189002 | G40: =-K40/J40 -> 0.0032853021 | I40: ='4013'!$J$107 -> 13634489 | J40: ='4013'!$J$109 -> 12943896 | K40: ='4013'!$J$114 -> -42524.61 | L40: ='4013'!$J$116 -> 13591964 | M40: ='4013'!$J$124 -> 1128637.4 | O40: ='4013'!E28 -> 1521.93 | P40: ='4013'!E50 -> 169.53 | Q40: =(-SUMIFS('Surv2-3'!J:J,'Surv2-3'!H:H,$B40,'Surv2-3'!I:I,"<=103")-SUMIFS('Surv2-3'!C:C,'Surv2-3'!A:A,$B40,'Surv2-3'!B:B,"<=103")-SUMIFS('Surv2-3'!J:J,'Surv2-3'!H:H,$B40,'Surv2-3'!I:I,130)-SUMIFS('Surv2-3'!C:C,'Surv2-3'!A:A,$B40,'Surv2-3'!B:B,130))/O40+1 -> 0.14062408 | R40: ='4013'!E97 -> 28.5 | T40: =I40/O40 -> 8958.6833 | U40: =K40/O40 -> -27.941239 | V40: =L40/O40 -> 8930.7421 | X40: =IF(D40="H",V40,0) -> 8930.7421 | Y40: =ROUND(IF(E40=1,V40,0),2) -> 0 | Z40: =IF(AND(X40=0,Y40=0),V40,) -> 0
A41: 33 | B41: 4020 | C41: Franklin Academy - Boynton Beach | D41: =IF(COUNTIF('Surv2-3'!P:P,'Annual Rev & Fees'!B41)>0,"H","") | F41: =-K41/I41 -> 0.0095749693 | G41: =-K41/J41 -> 0.010123014 | I41: ='4020'!$J$107 -> 11103659 | J41: ='4020'!$J$109 -> 10502523 | K41: ='4020'!$J$114 -> -106317.19 | L41: ='4020'!$J$116 -> 10997341 | M41: ='4020'!$J$124 -> 916273.89 | O41: ='4020'!E28 -> 1234.81 | P41: ='4020'!E50 -> 158.13 | Q41: =(-SUMIFS('Surv2-3'!J:J,'Surv2-3'!H:H,$B41,'Surv2-3'!I:I,"<=103")-SUMIFS('Surv2-3'!C:C,'Surv2-3'!A:A,$B41,'Surv2-3'!B:B,"<=103")-SUMIFS('Surv2-3'!J:J,'Surv2-3'!H:H,$B41,'Surv2-3'!I:I,130)-SUMIFS('Surv2-3'!C:C,'Surv2-3'!A:A,$B41,'Surv2-3'!B:B,130))/O41+1 -> 0.12806019 | R41: ='4020'!E97 -> 251 | T41: =I41/O41 -> 8992.2 | U41: =K41/O41 -> -86.10004 | V41: =L41/O41 -> 8906.1 | X41: =IF(D41="H",V41,0) -> 0 | Y41: =ROUND(IF(E41=1,V41,0),2) -> 0 | Z41: =IF(AND(X41=0,Y41=0),V41,) -> 8906.1
B42: 4030 | C42: Olympus International Academy | D42: =IF(COUNTIF('Surv2-3'!P:P,'Annual Rev & Fees'!B42)>0,"H","") | F42: =IFERROR(-K42/I42,"") | G42: =IFERROR(-K42/J42,"") | I42: ='4030'!$J$107 -> 0 | J42: ='4030'!$J$109 -> 0 | K42: ='4030'!$J$114 -> 0 | L42: ='4030'!$J$116 -> 0 | M42: ='4030'!$J$124 -> 0 | O42: ='4030'!E28 -> 0 | P42: ='4030'!E50 -> 0 | R42: ='4030'!E97 -> 0 | T42: =IFERROR(I42/O42,0) -> 0 | U42: =IFERROR(K42/O42,0) -> 0 | V42: =IFERROR(L42/O42,0) -> 0 | X42: =IF(D42="H",V42,0) -> 0 | Y42: =ROUND(IF(E42=1,V42,0),2) -> 0 | Z42: =IF(AND(X42=0,Y42=0),V42,) -> 0
A43: 34 | B43: 4031 | C43: Somerset Academy Wellington | D43: =IF(COUNTIF('Surv2-3'!P:P,'Annual Rev & Fees'!B43)>0,"H","") | F43: =-K43/I43 -> 0.029694656 | G43: =-K43/J43 -> 0.03141098 | I43: ='4031'!$J$107 -> 3554031.8 | J43: ='4031'!$J$109 -> 3359836.3 | K43: ='4031'!$J$114 -> -105535.75 | L43: ='4031'!$J$116 -> 3448496 | M43: ='4031'!$J$124 -> 287325.83 | O43: ='4031'!E28 -> 397.95 | P43: ='4031'!E50 -> 50.61 | Q43: =(-SUMIFS('Surv2-3'!J:J,'Surv2-3'!H:H,$B43,'Surv2-3'!I:I,"<=103")-SUMIFS('Surv2-3'!C:C,'Surv2-3'!A:A,$B43,'Surv2-3'!B:B,"<=103")-SUMIFS('Surv2-3'!J:J,'Surv2-3'!H:H,$B43,'Surv2-3'!I:I,130)-SUMIFS('Surv2-3'!C:C,'Surv2-3'!A:A,$B43,'Surv2-3'!B:B,130))/O43+1 -> 0.12717678 | R43: ='4031'!E97 -> 0 | T43: =I43/O43 -> 8930.85 | U43: =K43/O43 -> -265.19852 | V43: =L43/O43 -> 8665.6515 | X43: =IF(D43="H",V43,0) -> 0 | Y43: =ROUND(IF(E43=1,V43,0),2) -> 0 | Z43: =IF(AND(X43=0,Y43=0),V43,) -> 8665.6515
...

Sheet Charter Schools
B1: Palm Beach County Charter Schools
B3: Sorted by School Number | E3: Sorted by School Name
B4: Dept # | C4: Charter School Name | E4: Dept # | F4: Charter School Name
A5: 1 | B5: 0040 | C5: Palm Beach Preparatory Academy Middle School | E5: 3400 | F5: Believers Academy
A6: 2 | B6: 0100 | C6: The Learning Center High School | E6: 3941 | F6: Ben Gamla Charter School
A7: 3 | B7: 0571 | C7: Palmetto Park | E7: 4102 | F7: BridgePrep Academy of PB
A8: 4 | B8: 1461 | C8: Inlet Grove Community High School | E8: 3345 | F8: Career Academy of the Palm Beaches
A9: 5 | B9: 1571 | C9: South Tech Charter Academy | E9: 4100 | F9: Connections Education Center of the Palm Beaches
A10: 6 | B10: 2521 | C10: Ed Venture | E10: 2521 | F10: Ed Venture
A11: 7 | B11: 2531 | C11: Bodwell Academy (formerly - Potentials Charter School) | E11: 3398 | F11: Everglades Preparatory Academy
A12: 8 | B12: 2791 | C12: The Learning Center at The Els Center of Excellence | E12: 4081 | F12: Florida Futures Academy - North Campus
A13: 9 | B13: 2801 | C13: Palm Beach Maritime Academy Elementary | E13: 4020 | F13: Franklin Academy - Boynton Beach
A14: 10 | B14: 2911 | C14: Western Academy Charter School | E14: 4061 | F14: Franklin Academy - Palm Beach Gardens
A15: 11 | B15: 2941 | C15: Palm Beach School for Autism | E15: 3382 | F15: Glades Academy
A16: 12 | B16: 3083 | C16: The Learning Academy at The Els Center of Excellence | E16: 3396 | F16: G-Star School of the Arts for Motion Pictures and Television
... A50: 46 | B50: 4131 | C50: Somerset Academy Wellington HS | E50: 3421 | F50: Worthington High School

Sheet Cumulative Payments
A1: Cumulative Payments
D4: Net Revenue | E4: July | F4: August | G4: Sept | H4: Oct | I4: Nov | J4: Dec | K4: Jan | L4: Feb | M4: March | N4: April | O4: May | P4: June | Q4: Payments including current month
A5: 1 | B5: 0040 | C5: Palm Beach Preparatory Middle School | D5: ='Annual Rev & Fees'!L6 -> 0 | E5: 17938 | F5: 16903.62 | G5: ='Annual Rev & Fees'!M6 -> 0 | Q5: =SUM(E5:P5) -> 34841.62 | R5: 0
A6: 2 | B6: 0571 | C6: Palmetto Park | D6: ='Annual Rev & Fees'!L7 -> 1010991.9 | E6: 97114.58 | F6: 83079.76 | G6: ='Annual Rev & Fees'!M7 -> 83079.76 | Q6: =SUM(E6:P6) -> 263274.1
A7: 3 | B7: 0100 | C7: The Learning Center Highschool | D7: ='Annual Rev & Fees'!L8 -> 879484.39 | E7: 74347.16 | F7: 73194.29 | G7: ='Annual Rev & Fees'!M8 -> 73194.29 | Q7: =SUM(E7:P7) -> 220735.74 | R7: 0
A8: 4 | B8: 1461 | C8: Inlet Grove Community High School | D8: ='Annual Rev & Fees'!L9 -> 7578795.2 | E8: 659118.96 | F8: 629061.48 | G8: ='Annual Rev & Fees'!M9 -> 629061.48 | Q8: =SUM(E8:P8) -> 1917241.9 | R8: 0
A9: 5 | B9: 1571 | C9: South Tech Charter Academy | D9: ='Annual Rev & Fees'!L10 -> 10507749 | E9: 999703.09 | F9: 864367.77 | G9: ='Annual Rev & Fees'!M10 -> 864367.77 | Q9: =SUM(E9:P9) -> 2728438.6 | R9: 0
A10: 6 | B10: 2521 | C10: Ed Venture | D10: ='Annual Rev & Fees'!L11 -> 1329553.1 | E10: 111205.53 | F10: 110758.87 | G10: ='Annual Rev & Fees'!M11 -> 110758.87 | Q10: =SUM(E10:P10) -> 332723.27 | R10: 0
A11: 7 | B11: 2531 | C11: Bodwell Academy | D11: ='Annual Rev & Fees'!L12 -> 1445534.9 | E11: 121397.44 | F11: 120376.14 | G11: ='Annual Rev & Fees'!M12 -> 120376.14 | Q11: =SUM(E11:P11) -> 362149.72 | R11: 0
A12: 8 | B12: 2791 | C12: The Learning Center @ The Els Center of Excl | D12: ='Annual Rev & Fees'!L13 -> 5867677.1 | E12: 491302.44 | F12: 488761.33 | G12: ='Annual Rev & Fees'!M13 -> 488761.33 | Q12: =SUM(E12:P12) -> 1468825.1 | R12: 0
A13: 9 | B13: 2801 | C13: Palm Beach Maritime Academy Elementary | D13: ='Annual Rev & Fees'!L14 -> 5117925.9 | E13: 425374.59 | F13: 426595.58 | G13: ='Annual Rev & Fees'!M14 -> 426595.58 | Q13: =SUM(E13:P13) -> 1278565.8 | R13: 0
A14: 10 | B14: 2911 | C14: Western Academy Charter School | D14: ='Annual Rev & Fees'!L15 -> 6936527.6 | E14: 585021.03 | F14: 577409.68 | G14: ='Annual Rev & Fees'!M15 -> 577409.68 | Q14: =SUM(E14:P14) -> 1739840.4 | R14: 0
A15: 11 | B15: 2941 | C15: Palm Beach School for Autism | D15: ='Annual Rev & Fees'!L16 -> 11190698 | E15: 930045.01 | F15: 932786.67 | G15: ='Annual Rev & Fees'!M16 -> 932786.67 | Q15: =SUM(E15:P15) -> 2795618.4 | R15: 0
A16: 12 | B16: 3083 | C16: The Learning Academy @ The Els Center of Excl | D16: ='Annual Rev & Fees'!L17 -> 6636088.8 | E16: 556872.88 | F16: 552656 | G16: ='Annual Rev & Fees'!M17 -> 552656 | Q16: =SUM(E16:P16) -> 1662184.9 | R16: 0
A17: 13 | B17: 3345 | C17: Career Academy of the Palm Beaches | D17: ='Annual Rev & Fees'!L18 -> 1131298.7 | E17: 103368.96 | F17: 93448.16 | G17: ='Annual Rev & Fees'!M18 -> 93448.16 | Q17: =SUM(E17:P17) -> 290265.28 | R17: 0
A18: 14 | B18: 3362 | C18: Somerset Avenir | D18: ='Annual Rev & Fees'!L19 -> 1419741.9 | E18: 116281.74 | F18: 118496.38 | G18: ='Annual Rev & Fees'!M19 -> 118496.38 | Q18: =SUM(E18:P18) -> 353274.5
A19: 15 | B19: 3381 | C19: Imagine Schools - Chancellor Campus | D19: ='Annual Rev & Fees'!L20 -> 9358031.8 | E19: 790317.65 | F19: 778883.11 | G19: ='Annual Rev & Fees'!M20 -> 778883.11 | Q19: =SUM(E19:P19) -> 2348083.9 | R19: 0
A20: 16 | B20: 3382 | C20: Glades Academy | D20: ='Annual Rev & Fees'!L21 -> 2346622.4 | E20: 198745.57 | F20: 195261.53 | G20: ='Annual Rev & Fees'!M21 -> 195261.53 | Q20: =SUM(E20:P20) -> 589268.63 | R20: 0
A21: 17 | B21: 3391 | C21: Seagull Academy for Independent Living | D21: ='Annual Rev & Fees'!L22 -> 0 | E21: 0 | F21: 0 | G21: ='Annual Rev & Fees'!M22 -> 0 | Q21: =SUM(E21:P21) -> 0 | R21: 0
A22: 18 | B22: 3394 | C22: Montessori Academy of Early Enrichment | D22: ='Annual Rev & Fees'!L23 -> 1704202.5 | E22: 140988.8 | F22: 142110.34 | G22: ='Annual Rev & Fees'!M23 -> 142110.34 | Q22: =SUM(E22:P22) -> 425209.48 | R22: 0
A23: 19 | B23: 3395 | C23: Somerset Academy Charter School | D23: ='Annual Rev & Fees'!L24 -> 4708706.1 | E23: 392880.9 | F23: 392347.75 | G23: ='Annual Rev & Fees'!M24 -> 392347.75 | Q23: =SUM(E23:P23) -> 1177576.4 | R23: 0
A24: 20 | B24: 3396 | C24: G-Star School of the Arts | D24: ='Annual Rev & Fees'!L25 -> 6253973.1 | E24: 551140.87 | F24: 518439.3 | G24: ='Annual Rev & Fees'!M25 -> 518439.3 | Q24: =SUM(E24:P24) -> 1588019.5 | R24: 0
A25: 21 | B25: 3398 | C25: Everglades Preparatory Academy | D25: ='Annual Rev & Fees'!L26 -> 872335.59 | E25: 82371.99 | F25: 71814.87 | G25: ='Annual Rev & Fees'!M26 -> 71814.87 | Q25: =SUM(E25:P25) -> 226001.73 | R25: 0
A26: 22 | B26: 3400 | C26: Believers Academy | D26: ='Annual Rev & Fees'!L27 -> 1117467.9 | E26: 108668.62 | F26: 91709.02 | G26: ='Annual Rev & Fees'!M27 -> 91709.02 | Q26: =SUM(E26:P26) -> 292086.66 | R26: 0
A27: 23 | B27: 3401 | C27: Quantum High School | D27: ='Annual Rev & Fees'!L28 -> 3309365.3 | E27: 307859.9 | F27: 272864.12 | G27: ='Annual Rev & Fees'!M28 -> 272864.13 | Q27: =SUM(E27:P27) -> 853588.15 | R27: 0
A28: 24 | B28: 3413 | C28: Somerset Academy Boca | D28: ='Annual Rev & Fees'!L29 -> 3543643.9 | E28: 296789.01 | F28: 295168.62 | G28: ='Annual Rev & Fees'!M29 -> 295168.63 | Q28: =SUM(E28:P28) -> 887126.26 | R28: 0
A29: 25 | B29: 3421 | C29: Worthington High School | D29: ='Annual Rev & Fees'!L30 -> 4896438.6 | E29: 454328.31 | F29: 403828.21 | G29: ='Annual Rev & Fees'!M30 -> 403828.21 | Q29: =SUM(E29:P29) -> 1261984.7 | R29: 0
A30: 26 | B30: 3431 | C30: Renaissance Charter School at WPB | D30: ='Annual Rev & Fees'!L31 -> 8888574.7 | E30: 742534.27 | F30: 740549.13 | G30: ='Annual Rev & Fees'!M31 -> 740549.13 | Q30: =SUM(E30:P30) -> 2223632.5 | R30: 0
A31: 27 | B31: 3441 | C31: South Tech Preparatory Academy (MS) | D31: ='Annual Rev & Fees'!L32 -> 4654382.6 | E31: 395194 | F31: 387198.96 | G31: ='Annual Rev & Fees'!M32 -> 387198.96 | Q31: =SUM(E31:P31) -> 1169591.9 | R31: 0
A32: 28 | B32: 3924 | C32: Palm Beach Maritime Academy Secondary | D32: ='Annual Rev & Fees'!L33 -> 3490003.8 | E32: 306843.31 | F32: 289378.23 | G32: ='Annual Rev & Fees'!M33 -> 289378.23 | Q32: =SUM(E32:P32) -> 885599.77 | R32: 0
A33: 29 | B33: 3941 | C33: Ben Gamla Charter School | D33: ='Annual Rev & Fees'!L34 -> 2012517.5 | E33: 165942.38 | F33: 167870.46 | G33: ='Annual Rev & Fees'!M34 -> 167870.46 | Q33: =SUM(E33:P33) -> 501683.3 | R33: 0
A34: 30 | B34: 3961 | C34: Gardens School of Technology Arts | D34: ='Annual Rev & Fees'!L35 -> 0 | E34: 0 | F34: 0 | G34: ='Annual Rev & Fees'!M35 -> 0 | Q34: =SUM(E34:P34) -> 0 | R34: 0
A35: 31 | B35: 3971 | C35: Palm Beach Perparatory Charter Academy | D35: ='Annual Rev & Fees'!L36 -> 5420536.4 | E35: 488883.35 | F35: 428897.69 | G35: ='Annual Rev & Fees'!M36 -> 446791.37 | Q35: =SUM(E35:P35) -> 1364572.4 | R35: 0
A36: 32 | B36: 4001 | C36: Renaissance Charter School at Wellington | D36: ='Annual Rev & Fees'!L37 -> 5637623.4 | E36: 468475.14 | F36: 469922.57 | G36: ='Annual Rev & Fees'!M37 -> 469922.57 | Q36: =SUM(E36:P36) -> 1408320.3 | R36: 0
A37: 33 | B37: 4002 | C37: Renaissance Charter School at Summit | D37: ='Annual Rev & Fees'!L38 -> 7768021.5 | E37: 643508.92 | F37: 647682.96 | G37: ='Annual Rev & Fees'!M38 -> 647682.96 | Q37: =SUM(E37:P37) -> 1938874.8 | R37: 0
A38: 34 | B38: 4012 | C38: Somerset Academy Canyons Middle School | D38: ='Annual Rev & Fees'!L39 -> 0 | E38: 0 | F38: 0 | G38: ='Annual Rev & Fees'!M39 -> 0 | Q38: =SUM(E38:P38) -> 0 | R38: 0
A39: 35 | B39: 4013 | C39: Somerset Academy Canyons High School | D39: ='Annual Rev & Fees'!L40 -> 13591964 | E39: 1176953.1 | F39: 1128637.4 | G39: ='Annual Rev & Fees'!M40 -> 1128637.4 | Q39: =SUM(E39:P39) -> 3434227.8 | R39: 0
A40: 36 | B40: 4020 | C40: Franklin Academy - Boynton Beach | D40: ='Annual Rev & Fees'!L41 -> 10997341 | E40: 918328.6 | F40: 916273.89 | G40: ='Annual Rev & Fees'!M41 -> 916273.89 | Q40: =SUM(E40:P40) -> 2750876.4 | R40: 0
A41: 37 | B41: 4030 | C41: Olympus International Academy | D41: ='Annual Rev & Fees'!L42 -> 0 | E41: 0 | F41: 0 | G41: ='Annual Rev & Fees'!M42 -> 0 | Q41: =SUM(E41:P41) -> 0 | R41: 0
A42: 38 | B42: 4031 | C42: Somerset Academy Wellington | D42: ='Annual Rev & Fees'!L43 -> 3448496 | E42: 287911.87 | F42: 287325.83 | G42: ='Annual Rev & Fees'!M43 -> 287325.83 | Q42: =SUM(E42:P42) -> 862563.53 | R42: 0
...

Sheet Consolidated
B1: (Insert district number in cell A1, enter, then strike F9. Your district data then pulls from Calculation Detail Sheets)
A2: Revenue Estimate Worksheet: All Charter Schools (Consolidated Tab)
A3: Based on the 2026-27 Second Calculation Worksheet
A4: School District: | C4: Palm Beach | H4: 46266
A7: 1A. 2025-26 FEFP State and Local Funding
B8: Base Student Allocation: | C8: 5457.6 | G8: District Cost Differential: | H8: 1.031
G9: Small District Factor: | H9: 1
I10: 2025-26
C11: Oct 2025 | D11: Feb 2026 | E11: Total | F11: Program | H11: Weighted FTE | I11: Base Funding
A12: Program | C12: FTE | D12: FTE | E12: FTE | F12: Cost Factor | H12: (2) x (3) | I12: (WFTE x BSA x CWF x SDF)
A13: (1) | E13: (2) | F13: (3) | H13: (4) | I13: (5)
A14: 101 Basic K-3 | C14: =SUM('0040:4141'!C12) -> 1934.19 | D14: =SUM('0040:4141'!D12) -> 1868.49 | E14: =SUM('0040:4141'!E12) -> 3802.68 | F14: 1.107 | H14: =SUM('0040:4141'!I12) -> 4209.5668 | I14: =SUM('0040:4141'!J12) -> 23686330
A15: 111 Basic K-3 with ESE Services | C15: =SUM('0040:4141'!C13) -> 305 | D15: =SUM('0040:4141'!D13) -> 331.87 | E15: =SUM('0040:4141'!E13) -> 636.87 | F15: 1.107 | H15: =SUM('0040:4141'!I13) -> 705.0152 | I15: =SUM('0040:4141'!J13) -> 3966969.3
A16: 102 Basic 4-8 | C16: =SUM('0040:4141'!C14) -> 3241.36 | D16: =SUM('0040:4141'!D14) -> 3189.12 | E16: =SUM('0040:4141'!E14) -> 6430.48 | F16: 1 | H16: =SUM('0040:4141'!I14) -> 6430.48 | I16: =SUM('0040:4141'!J14) -> 36182932
A17: 112 Basic 4-8 with ESE Services | C17: =SUM('0040:4141'!C15) -> 638.87 | D17: =SUM('0040:4141'!D15) -> 629.76 | E17: =SUM('0040:4141'!E15) -> 1268.63 | F17: 1 | H17: =SUM('0040:4141'!I15) -> 1268.63 | I17: =SUM('0040:4141'!J15) -> 7138309
A18: 103 Basic 9-12 | C18: =SUM('0040:4141'!C16) -> 2167.92 | D18: =SUM('0040:4141'!D16) -> 2195.32 | E18: =SUM('0040:4141'!E16) -> 4363.24 | F18: 0.965 | H18: =SUM('0040:4141'!I16) -> 4210.5269 | I18: =SUM('0040:4141'!J16) -> 23691732
A19: 113 Basic 9-12 with ESE Services | C19: =SUM('0040:4141'!C17) -> 657.85 | D19: =SUM('0040:4141'!D17) -> 669 | E19: =SUM('0040:4141'!E17) -> 1326.85 | F19: 0.965 | H19: =SUM('0040:4141'!I17) -> 1280.4107 | I19: =SUM('0040:4141'!J17) -> 7204596.5
A20: 254 ESE Level 4 (Grade Level PK-3) | C20: =SUM('0040:4141'!C18) -> 99 | D20: =SUM('0040:4141'!D18) -> 89.44 | E20: =SUM('0040:4141'!E18) -> 188.44 | F20: 3.515 | H20: =SUM('0040:4141'!I18) -> 662.3667 | I20: =SUM('0040:4141'!J18) -> 3726995.4
A21: 254 ESE Level 4 (Grade Level 4-8) | C21: =SUM('0040:4141'!C19) -> 70 | D21: =SUM('0040:4141'!D19) -> 64.5 | E21: =SUM('0040:4141'!E19) -> 134.5 | F21: 3.515 | H21: =SUM('0040:4141'!I19) -> 472.7675 | I21: =SUM('0040:4141'!J19) -> 2660161.4
A22: 254 ESE Level 4 (Grade Level 9-12) | C22: =SUM('0040:4141'!C20) -> 74.85 | D22: =SUM('0040:4141'!D20) -> 72.41 | E22: =SUM('0040:4141'!E20) -> 147.26 | F22: 3.515 | H22: =SUM('0040:4141'!I20) -> 517.619 | I22: =SUM('0040:4141'!J20) -> 2912531.1
A23: 255 ESE Level 5 (Grade Level PK-3) | C23: =SUM('0040:4141'!C21) -> 49.5 | D23: =SUM('0040:4141'!D21) -> 67.47 | E23: =SUM('0040:4141'!E21) -> 116.97 | F23: 5.906 | H23: =SUM('0040:4141'!I21) -> 690.8248 | I23: =SUM('0040:4141'!J21) -> 3887123
A24: 255 ESE Level 5 (Grade Level 4-8) | C24: =SUM('0040:4141'!C22) -> 64.5 | D24: =SUM('0040:4141'!D22) -> 71 | E24: =SUM('0040:4141'!E22) -> 135.5 | F24: 5.906 | H24: =SUM('0040:4141'!I22) -> 800.263 | I24: =SUM('0040:4141'!J22) -> 4502908.3
A25: 255 ESE Level 5 (Grade Level 9-12) | C25: =SUM('0040:4141'!C23) -> 45 | D25: =SUM('0040:4141'!D23) -> 45.55 | E25: =SUM('0040:4141'!E23) -> 90.55 | F25: 5.906 | H25: =SUM('0040:4141'!I23) -> 534.7883 | I25: =SUM('0040:4141'!J23) -> 3009139.1
... A29: 300 Career Education (Grades 9-12) | C29: =SUM('0040:4141'!C27) -> 307.3 | D29: =SUM('0040:4141'!D27) -> 298.26 | E29: =SUM('0040:4141'!E27) -> 605.56 | F29: 1.09 | H29: =SUM('0040:4141'!I27) -> 660.0604 | I29: =SUM('0040:4141'!J27) -> 3714018.4
A30: Totals non-virtual schools | C30: =SUM(C14:C29) -> 10590.24 | D30: =SUM(D14:D29) -> 10531.68 | E30: =SUM(E14:E29) -> 21121.92 | H30: =SUM('0040:4141'!I28) -> 24619.486 | I30: =SUM('0040:4141'!J28) -> 1.3852857e+08 | K30: 1.3894844e+08
A31: Virtual schools ($5,476.28/FTE) | C31: =SUM('0040:4141'!C29) -> 0 | D31: =SUM('0040:4141'!D29) -> 0 | E31: =IF(D$30=0,C31*2,C31+D31) -> 0 | F31: 0 | H31: =ROUND(E31*F31,4) -> 0
A32: Totals all schools | C32: =SUM(C30:C31) -> 10590.24 | D32: =SUM(D30:D31) -> 10531.68 | E32: =SUM(E30:E31) -> 21121.92 | I32: =SUM('0040:4141'!J30) -> 0
A34: Letters in Parentheses Refer to Notes at Bottom of Worksheet:
I36: 2018-19
C37: =C11 -> Oct 2025 | D37: =D11 -> Feb 2026 | E37: Total | I37: Base Funding
A38: Additional FTE (a) | C38: FTE | D38: FTE | E38: FTE | I38: (WFTE x BSA x DCD)
A39: Advanced Placement | C39: 0 | D39: 0 | E39: =+C39+D39 -> 0
A40: International Baccalaureate | C40: 0 | D40: 0 | E40: =+C40+D40 -> 0
A41: Advanced International Certificate | C41: 0 | D41: 0 | E41: =+C41+D41 -> 0
A42: Industry Certified Career Education | C42: 0 | D42: 0 | E42: =+C42+D42 -> 0
A43: Early High School Graduation | C43: 0 | D43: 0 | E43: =+C43+D43 -> 0
A44: Small District ESE Supplement | C44: 0 | D44: 0 | E44: =+C44+D44 -> 0
B45: Total Additional FTE | C45: =SUM(C39:C44) -> 0 | D45: =SUM(D39:D44) -> 0 | E45: =SUM(E39:E44) -> 0 | H45: Additional Base Funds | I45: =SUM(I39:I44) -> 0
B47: Total Funded Weighted FTE | E47: =H30+E45 -> 24619.486 | H47: Total Base Funding | I47: =SUM(I45,I32) -> 0
A50: 1B. Classroom Teacher & Other Instructional Personnel Salary Increase
...

Sheet ESE FTE
B1: Charter Schools FTE
B2: FY26 Survey 2 | C2: Received From IT Dept
B3: Calculation of ESE Guaranteed FTE Counts Based on Final 2025 Allocation Percentages Until FY25 Survey2 FTE Capped Report is released
A5: Sch ID | B5: School/Prog | C5: FTE | D5: % | E5: Seq | F5: Count 2 | G5: Count 3
B6: 0040 | C6: PALM BEACH PREPARATORY CHARTER | E6: 1
B7: 111 | D7: =C7/C10 -> 0 | E7: 2
B8: 112 | C8: 3.5 | D8: =C8/C10 -> 1 | E8: 3
B9: 113 | C9: 0 | D9: =C9/C10 -> 0 | E9: 4
C10: =SUM(C7:C9) -> 3.5 | E10: 5
B11: K-3 / 251 | C11: 0 | D11: =IF(C11=0,0,C11/(C11+C12+C13)) -> 0 | E11: 6 | F11: 0 | G11: 0
B12: K-3 / 252 | C12: 0 | D12: =IF(C12=0,0,C12/(C11+C12+C13)) -> 0 | E12: 7 | F12: 0 | G12: 0
B13: K-3 / 253 | C13: 0 | D13: =IF(C13=0,0,C13/(C11+C12+C13)) -> 0 | E13: 8 | F13: 0 | G13: 0
B14: 4-8 / 251 | C14: 3 | D14: =IF(C14=0,0,C14/(C14+C15+C16)) -> 0.85714286 | E14: 9 | F14: 3 | G14: 3.4
B15: 4-8 / 252 | C15: 0.5 | D15: =IF(C15=0,0,C15/(C14+C15+C16)) -> 0.14285714 | E15: 10 | F15: 0.5 | G15: 0.57
B16: 4-8 / 253 | C16: 0 | D16: =IF(C16=0,0,C16/(C14+C15+C16)) -> 0 | E16: 11 | F16: 0 | G16: 0
B17: 9-12 / 251 | C17: 0 | D17: =IF(C17=0,0,C17/(C17+C18+C19)) -> 0 | E17: 12 | F17: 0 | G17: 0
B18: 9-12 / 252 | C18: 0 | D18: =IF(C18=0,0,C18/(C17+C18+C19)) -> 0 | E18: 13 | F18: 0 | G18: 0
B19: 9-12 / 253 | C19: 0 | D19: =IF(C19=0,0,C19/(C17+C18+C19)) -> 0 | E19: 14 | F19: 0 | G19: 0
C20: =SUM(C11:C19) -> 3.5 | D20: 1 | E20: 15
A21: 0100 | B21: 0100 | C21: THE LEARNING CENTER HIGH SCHOOL | E21: 1
A22: 0100 | B22: 111 | C22: 0 | D22: =C22/C25 -> 0 | E22: 2
A23: 0100 | B23: 112 | C23: 0 | D23: =C23/C25 -> 0 | E23: 3
A24: 0100 | B24: 113 | C24: 1.02 | D24: =C24/C25 -> 1 | E24: 4
A25: 0100 | C25: =SUM(C22:C24) -> 1.02 | E25: 5
A26: 0100 | B26: K-3 / 251 | C26: 0 | D26: =IF(C26=0,0,C26/(C26+C27+C28)) -> 0 | E26: 6 | F26: 0 | G26: 0
A27: 0100 | B27: K-3 / 252 | C27: 0 | D27: =IF(C27=0,0,C27/(C26+C27+C28)) -> 0 | E27: 7 | F27: 0 | G27: 0
A28: 0100 | B28: K-3 / 253 | C28: 0 | D28: =IF(C28=0,0,C28/(C26+C27+C28)) -> 0 | E28: 8 | F28: 0 | G28: 0
A29: 0100 | B29: 4-8 / 251 | C29: 0 | D29: =IF(C29=0,0,C29/(C29+C30+C31)) -> 0 | E29: 9 | F29: 0 | G29: 0
A30: 0100 | B30: 4-8 / 252 | C30: 0 | D30: =IF(C30=0,0,C30/(C29+C30+C31)) -> 0 | E30: 10 | F30: 0 | G30: 0
A31: 0100 | B31: 4-8 / 253 | C31: 0 | D31: =IF(C31=0,0,C31/(C29+C30+C31)) -> 0 | E31: 11 | F31: 0 | G31: 0
A32: 0100 | B32: 9-12 / 251 | C32: 1.02 | D32: =IF(C32=0,0,C32/(C32+C33+C34)) -> 1 | E32: 12 | F32: 0.5 | G32: 0
A33: 0100 | B33: 9-12 / 252 | C33: 0 | D33: =IF(C33=0,0,C33/(C32+C33+C34)) -> 0 | E33: 13 | F33: 0 | G33: 0
A34: 0100 | B34: 9-12 / 253 | C34: 0 | D34: =IF(C34=0,0,C34/(C32+C33+C34)) -> 0 | E34: 14 | F34: 0 | G34: 0
A35: 0100 | C35: =SUM(C26:C34) -> 1.02 | D35: 1 | E35: 15
A36: 0571 | B36: 0571 | C36: Palmetto Park | E36: 1
A37: 0571 | B37: 111 | D37: =C37/C40 -> 0 | E37: 2
A38: 0571 | B38: 112 | C38: 0.5 | D38: =C38/C40 -> 0.050505051 | E38: 3
A39: 0571 | B39: 113 | C39: 9.4 | D39: =C39/C40 -> 0.94949495 | E39: 4
A40: 0571 | C40: =SUM(C37:C39) -> 9.9 | E40: 5
A41: 0571 | B41: K-3 / 251 | C41: 0 | D41: =IF(C41=0,0,C41/(C41+C42+C43)) -> 0 | E41: 6 | F41: 0 | G41: 0
...

Sheet Surv2-3
A1: Count 2 | H1: Count 3 | Q1: Active High Performing Schools | R1: https://web01.fldoe.org/CSA/PostToWeb/SponsoringEntitiesSearch
A2: School # | B2: Program | C2: Prog Total | D2: PK-3 | E2: 4-8 | F2: 9-12 | H2: School # | I2: Program | J2: Prog Total | K2: PK-3 | L2: 4-8 | M2: 9-12 | P2: SCHOOL CODE | Q2: SCHOOL NAME | R2: GRADE LEVEL | S2: SCHOOL YEAR | T2: DATE EFFECTIVE | U2: =COUNT(P:P) -> 9
P3: 1461 | Q3: INLET GROVE COMMUNITY HIGH SCHOOL | R3: 6-12 | S3: 2026 | T3: 43705
P4: 1571 | Q4: SOUTH TECH ACADEMY | R4: 9-12 | S4: 2026 | T4: 45924
