Workbook
Name T9_LEA_Name: 'PIMS LEA'!$B$2:$B$659
Name T9_Sch: 'Page 1 - General Information'!$H$4996:$H$5176
Name T9_02: 'Page 1 - General Information'!$K$4996:$K$4998

Sheet Page 1 - General Information
E4: =" INTERSCHOLASTIC ATHLETIC OPPORTUNITIES DISCLOSURE FORM "&M7 -> INTERSCHOLASTIC ATHLETIC OPPORTUNITIES DISCLOSURE FORM 26.1
E5: 2025-26 School Year
E7: Page 1 - Section 1: General Information | L7: Ver | M7: 26.1
E9: LEA & School Information
E10: LEA Name: | G10: Upper Merion Area SD
E12: LEA AUN: | G12: =IF(ISERROR(VLOOKUP(G10,'PIMS LEA'!$B$1:$D$784,2,FALSE)),"",(VLOOKUP(G10,'PIMS LEA'!$B$1:$D$784,2,FALSE))) -> 123468402
E14: School Name: | G14: Upper Merion HS
E16: School Number: | G16: =IF(ISERROR(VLOOKUP(G12&G14,'PIMS School'!$D$1:$J$1463,7,FALSE)),"",(VLOOKUP(G12&G14,'PIMS School'!$D$1:$J$1463,7,FALSE))) -> 3395
E18: School Enrollment Data
H20: Grade | J20: Boys | K20: Girls | L20: Total
H21: 7th | J21: =IF(ISERROR(VLOOKUP($G$12&$G$16,'Enrollment Report'!$A$3:$N$2989,3,FALSE)),0,(VLOOKUP($G$12&$G$16,'Enrollment Report'!$A$3:$N$2989,3,FALSE))) | K21: =IF(ISERROR(VLOOKUP($G$12&$G$16,'Enrollment Report'!$A$3:$N$2989,2,FALSE)),0,(VLOOKUP($G$12&$G$16,'Enrollment Report'!$A$3:$N$2989,2,FALSE))) | L21: =J21+K21 -> 0
H22: 8th | J22: =IF(ISERROR(VLOOKUP($G$12&$G$16,'Enrollment Report'!$A$3:$N$2989,5,FALSE)),0,(VLOOKUP($G$12&$G$16,'Enrollment Report'!$A$3:$N$2989,5,FALSE))) | K22: =IF(ISERROR(VLOOKUP($G$12&$G$16,'Enrollment Report'!$A$3:$N$2989,4,FALSE)),0,(VLOOKUP($G$12&$G$16,'Enrollment Report'!$A$3:$N$2989,4,FALSE))) | L22: =J22+K22 -> 0
H23: 9th | J23: =IF(ISERROR(VLOOKUP($G$12&$G$16,'Enrollment Report'!$A$3:$N$2989,7,FALSE)),0,(VLOOKUP($G$12&$G$16,'Enrollment Report'!$A$3:$N$2989,7,FALSE))) -> 163 | K23: =IF(ISERROR(VLOOKUP($G$12&$G$16,'Enrollment Report'!$A$3:$N$2989,6,FALSE)),0,(VLOOKUP($G$12&$G$16,'Enrollment Report'!$A$3:$N$2989,6,FALSE))) -> 173 | L23: =J23+K23 -> 336
H24: 10th | J24: =IF(ISERROR(VLOOKUP($G$12&$G$16,'Enrollment Report'!$A$3:$N$2989,9,FALSE)),0,(VLOOKUP($G$12&$G$16,'Enrollment Report'!$A$3:$N$2989,9,FALSE))) -> 162 | K24: =IF(ISERROR(VLOOKUP($G$12&$G$16,'Enrollment Report'!$A$3:$N$2989,8,FALSE)),0,(VLOOKUP($G$12&$G$16,'Enrollment Report'!$A$3:$N$2989,8,FALSE))) -> 166 | L24: =J24+K24 -> 328
H25: 11th | J25: =IF(ISERROR(VLOOKUP($G$12&$G$16,'Enrollment Report'!$A$3:$N$2989,11,FALSE)),0,(VLOOKUP($G$12&$G$16,'Enrollment Report'!$A$3:$N$2989,11,FALSE))) -> 176 | K25: =IF(ISERROR(VLOOKUP($G$12&$G$16,'Enrollment Report'!$A$3:$N$2989,10,FALSE)),0,(VLOOKUP($G$12&$G$16,'Enrollment Report'!$A$3:$N$2989,10,FALSE))) -> 149 | L25: =J25+K25 -> 325
H26: 12th | J26: =IF(ISERROR(VLOOKUP($G$12&$G$16,'Enrollment Report'!$A$3:$N$2989,13,FALSE)),0,(VLOOKUP($G$12&$G$16,'Enrollment Report'!$A$3:$N$2989,13,FALSE))) -> 188 | K26: =IF(ISERROR(VLOOKUP($G$12&$G$16,'Enrollment Report'!$A$3:$N$2989,12,FALSE)),0,(VLOOKUP($G$12&$G$16,'Enrollment Report'!$A$3:$N$2989,12,FALSE))) -> 167 | L26: =J26+K26 -> 355
H27: Total | J27: =SUM(J21:J26) -> 689 | K27: =SUM(K21:K26) -> 655 | L27: =SUM(L21:L26) -> 1344
E29: Contact Information
E30: Name of LEAs Title IX Compliance Officer: | G30: Caitlin Navarro
E31: Telephone Number: | G31: 610-205-6428 | L31: Extension:
E32: Email Address: | G32: cnavarro@umasd.org
E34: Name of Individual Completing This Form: | G34: Michael Fabrizio
E35: Telephone Number: | G35: 610-205-3981 | L35: Extension:
E36: Email Address: | G36: mfabrizio@umasd.org
E38: Interscholastic Team Sponsorship
E39: Does This School Sponsor Any Interscholastic Athletic Teams? (Yes or No) | G39: Yes
E40: If Your Answer To The Above Question Is No, Stop! If You Have Athletes Playing For Another School, Please Explain On Page 4. Otherwise, You Do Not Need To Complete The Remainder Of The Survey For This School. Please Submit Per The Instructions Provided.
G4994: T9_Sch & T9_Number | K4994: T9_02
H4996: [Make Selection From Drop-Down List ] | I4996: 0000 | K4996: [Make Selection From Drop-Down List ]
D4997: 1 | G4997: 1 | H4997: =IF(ISERROR(VLOOKUP($G$12&$G4997,'PIMS School'!$C$1:$R$1467,7,FALSE)),"",(VLOOKUP($G$12&$G4997,'PIMS School'!$C$1:$R$1467,7,FALSE))) -> Upper Merion MS | I4997: =IF(ISERROR(VLOOKUP($G$12&$G4997,'PIMS School'!$C$1:$R$1467,8,FALSE)),"",(VLOOKUP($G$12&$G4997,'PIMS School'!$C$1:$R$1467,8,FALSE))) -> 3394 | K4997: Yes
G4998: 2 | H4998: =IF(ISERROR(VLOOKUP($G$12&$G4998,'PIMS School'!$C$1:$R$1467,7,FALSE)),"",(VLOOKUP($G$12&$G4998,'PIMS School'!$C$1:$R$1467,7,FALSE))) -> Upper Merion HS | I4998: =IF(ISERROR(VLOOKUP($G$12&$G4998,'PIMS School'!$C$1:$R$1467,8,FALSE)),"",(VLOOKUP($G$12&$G4998,'PIMS School'!$C$1:$R$1467,8,FALSE))) -> 3395 | K4998: No
G4999: 3 | H4999: =IF(ISERROR(VLOOKUP($G$12&$G4999,'PIMS School'!$C$1:$R$1467,7,FALSE)),"",(VLOOKUP($G$12&$G4999,'PIMS School'!$C$1:$R$1467,7,FALSE))) | I4999: =IF(ISERROR(VLOOKUP($G$12&$G4999,'PIMS School'!$C$1:$R$1467,8,FALSE)),"",(VLOOKUP($G$12&$G4999,'PIMS School'!$C$1:$R$1467,8,FALSE)))
G5000: 4 | H5000: =IF(ISERROR(VLOOKUP($G$12&$G5000,'PIMS School'!$C$1:$R$1467,7,FALSE)),"",(VLOOKUP($G$12&$G5000,'PIMS School'!$C$1:$R$1467,7,FALSE))) | I5000: =IF(ISERROR(VLOOKUP($G$12&$G5000,'PIMS School'!$C$1:$R$1467,8,FALSE)),"",(VLOOKUP($G$12&$G5000,'PIMS School'!$C$1:$R$1467,8,FALSE)))
G5001: 5 | H5001: =IF(ISERROR(VLOOKUP($G$12&$G5001,'PIMS School'!$C$1:$R$1467,7,FALSE)),"",(VLOOKUP($G$12&$G5001,'PIMS School'!$C$1:$R$1467,7,FALSE))) | I5001: =IF(ISERROR(VLOOKUP($G$12&$G5001,'PIMS School'!$C$1:$R$1467,8,FALSE)),"",(VLOOKUP($G$12&$G5001,'PIMS School'!$C$1:$R$1467,8,FALSE)))
G5002: 6 | H5002: =IF(ISERROR(VLOOKUP($G$12&$G5002,'PIMS School'!$C$1:$R$1467,7,FALSE)),"",(VLOOKUP($G$12&$G5002,'PIMS School'!$C$1:$R$1467,7,FALSE))) | I5002: =IF(ISERROR(VLOOKUP($G$12&$G5002,'PIMS School'!$C$1:$R$1467,8,FALSE)),"",(VLOOKUP($G$12&$G5002,'PIMS School'!$C$1:$R$1467,8,FALSE)))
G5003: 7 | H5003: =IF(ISERROR(VLOOKUP($G$12&$G5003,'PIMS School'!$C$1:$R$1467,7,FALSE)),"",(VLOOKUP($G$12&$G5003,'PIMS School'!$C$1:$R$1467,7,FALSE))) | I5003: =IF(ISERROR(VLOOKUP($G$12&$G5003,'PIMS School'!$C$1:$R$1467,8,FALSE)),"",(VLOOKUP($G$12&$G5003,'PIMS School'!$C$1:$R$1467,8,FALSE)))
G5004: 8 | H5004: =IF(ISERROR(VLOOKUP($G$12&$G5004,'PIMS School'!$C$1:$R$1467,7,FALSE)),"",(VLOOKUP($G$12&$G5004,'PIMS School'!$C$1:$R$1467,7,FALSE))) | I5004: =IF(ISERROR(VLOOKUP($G$12&$G5004,'PIMS School'!$C$1:$R$1467,8,FALSE)),"",(VLOOKUP($G$12&$G5004,'PIMS School'!$C$1:$R$1467,8,FALSE)))
G5005: 9 | H5005: =IF(ISERROR(VLOOKUP($G$12&$G5005,'PIMS School'!$C$1:$R$1467,7,FALSE)),"",(VLOOKUP($G$12&$G5005,'PIMS School'!$C$1:$R$1467,7,FALSE))) | I5005: =IF(ISERROR(VLOOKUP($G$12&$G5005,'PIMS School'!$C$1:$R$1467,8,FALSE)),"",(VLOOKUP($G$12&$G5005,'PIMS School'!$C$1:$R$1467,8,FALSE)))
G5006: 10 | H5006: =IF(ISERROR(VLOOKUP($G$12&$G5006,'PIMS School'!$C$1:$R$1467,7,FALSE)),"",(VLOOKUP($G$12&$G5006,'PIMS School'!$C$1:$R$1467,7,FALSE))) | I5006: =IF(ISERROR(VLOOKUP($G$12&$G5006,'PIMS School'!$C$1:$R$1467,8,FALSE)),"",(VLOOKUP($G$12&$G5006,'PIMS School'!$C$1:$R$1467,8,FALSE)))
G5007: 11 | H5007: =IF(ISERROR(VLOOKUP($G$12&$G5007,'PIMS School'!$C$1:$R$1467,7,FALSE)),"",(VLOOKUP($G$12&$G5007,'PIMS School'!$C$1:$R$1467,7,FALSE))) | I5007: =IF(ISERROR(VLOOKUP($G$12&$G5007,'PIMS School'!$C$1:$R$1467,8,FALSE)),"",(VLOOKUP($G$12&$G5007,'PIMS School'!$C$1:$R$1467,8,FALSE)))
...

Sheet Page 2 - Team Information
E4: ='Page 1 - General Information'!E4 -> INTERSCHOLASTIC ATHLETIC OPPORTUNITIES DISCLOSURE FORM 26.1
E5: ='Page 1 - General Information'!E5 -> 2025-26 School Year
G7: =IF('Page 1 - General Information'!G14="[Make Selection From Drop-Down List ]","",("School: "&'Page 1 - General Information'!G14&" - "&'Page 1 - General Information'!G16)) -> School: Upper Merion HS - 3395 | T7: Page 2 - Section 1: Team Information | AI7: =IF('Page 1 - General Information'!G10=" [Make Selection From Drop-Down List ]","",("LEA: "&'Page 1 - General Information'!G10&" - "&'Page 1 - General Information'!G12)) -> LEA: Upper Merion Area SD - 123468402
E9: TEAM MEMBERSHIP | AH9: COACHES & TRAINERS
E10: Sport | G10: Boys/Girls | I10: Level | K10: Total Number of Participants (As Of The Day Of The First Scheduled Team Competition) | O10: Season(s) Team Competes | S10: Team History (Format =YYYY, e.g. 1955) | X10: Total Number of Competitions Scheduled Per Season | AC10: Total Number of Competitions Played Per Season | AH10: NUMBER OF COACHES PER TEAM | AM10: PERCENTAGE OF TIME SPENT BY EACH ATHLETIC TRAINER WITH EACH TEAM
AH11: Head | AJ11: Assistant | AM11: Trainer 1 | AN11: Trainer 2 | AO11: Trainer 3 | AP11: Trainer 4
K12: Boys | L12: Girls | M12: TOTAL | O12: F | P12: W | Q12: S | S12: Year Established 1 | T12: Year of Demotion | U12: Year of Elimination | V12: Year of Reinstatement | X12: F | Y12: W | Z12: S | AA12: Total | AC12: F | AD12: W | AE12: S | AF12: Total | AH12: Full Time | AI12: Part Time | AJ12: Full Time | AK12: Part Time | AM12: =SUM(AM14:AM194) -> 1 | AN12: =SUM(AN14:AN194) -> 1 | AO12: =SUM(AO14:AO194) -> 0 | AP12: =SUM(AP14:AP194) -> 0
K13: 1 | L13: 2 | M13: 3 | N13: 9 | O13: 5 | P13: 6 | Q13: 7 | R13: 22 | S13: 9 | T13: 10 | U13: 11 | V13: 12 | W13: 27 | X13: 14 | Y13: 15 | Z13: 16 | AA13: 17 | AB13: 32 | AC13: 19 | AD13: 20 | AE13: 21 | AF13: 22 | AG13: 37 | AH13: 24 | AI13: 25 | AJ13: 26 | AK13: 27 | AL13: 42 | AM13: 29 | AN13: 30 | AO13: 31 | AP13: 32
D14: 1 | E14: Baseball | G14: Boys | I14: Varsity | K14: 15 | M14: =SUM(K14:L14) -> 15 | Q14: Yes | S14: 1966 | Z14: 19 | AA14: =SUM(X14:Z14) -> 19 | AE14: 19 | AF14: =SUM(AC14:AE14) -> 19 | AI14: 1 | AK14: 2 | AM14: 0.0225 | AN14: 0.0225
D15: 2 | E15: Basketball | G15: Boys | I15: Varsity | K15: 15 | M15: =SUM(K15:L15) -> 15 | P15: Yes | S15: 1966 | Y15: 22 | AA15: =SUM(X15:Z15) -> 22 | AD15: 22 | AF15: =SUM(AC15:AE15) -> 22 | AI15: 1 | AK15: 1 | AM15: 0.0225 | AN15: 0.0225
D16: 3 | E16: Bowling | G16: Boys | I16: Varsity | M16: =SUM(K16:L16) -> 0 | AA16: =SUM(X16:Z16) -> 0 | AF16: =SUM(AC16:AE16) -> 0
D17: 4 | E17: Cross Country | G17: Boys | I17: Varsity | K17: 13 | M17: =SUM(K17:L17) -> 13 | O17: Yes | S17: 1966 | X17: 10 | AA17: =SUM(X17:Z17) -> 10 | AC17: 10 | AF17: =SUM(AC17:AE17) -> 10 | AI17: 1 | AK17: 1 | AM17: 0.0225 | AN17: 0.0225
D18: 5 | E18: Football | G18: Boys | I18: Varsity | K18: 32 | M18: =SUM(K18:L18) -> 32 | O18: Yes | S18: 1966 | X18: 10 | AA18: =SUM(X18:Z18) -> 10 | AC18: 10 | AF18: =SUM(AC18:AE18) -> 10 | AI18: 1 | AK18: 6 | AM18: 0.021 | AN18: 0.021
D19: 6 | E19: Golf | G19: Boys | I19: Varsity | K19: 9 | M19: =SUM(K19:L19) -> 9 | O19: Yes | S19: 1966 | X19: 11 | AA19: =SUM(X19:Z19) -> 11 | AC19: 11 | AF19: =SUM(AC19:AE19) -> 11 | AI19: 1
D20: 7 | E20: Lacrosse | G20: Boys | I20: Varsity | K20: 20 | M20: =SUM(K20:L20) -> 20 | Q20: Yes | S20: 2010 | Z20: 18 | AA20: =SUM(X20:Z20) -> 18 | AE20: 18 | AF20: =SUM(AC20:AE20) -> 18 | AI20: 1 | AK20: 1 | AM20: 0.0225 | AN20: 0.0225
D21: 8 | E21: Rifle | G21: Boys | I21: Varsity | M21: =SUM(K21:L21) -> 0 | AA21: =SUM(X21:Z21) -> 0 | AF21: =SUM(AC21:AE21) -> 0
D22: 9 | E22: Soccer | G22: Boys | I22: Varsity | K22: 23 | M22: =SUM(K22:L22) -> 23 | O22: Yes | S22: 1966 | X22: 18 | AA22: =SUM(X22:Z22) -> 18 | AC22: 18 | AF22: =SUM(AC22:AE22) -> 18 | AI22: 1 | AK22: 1 | AM22: 0.0225 | AN22: 0.0225
D23: 10 | E23: Swimming and Diving | G23: Boys | I23: Varsity | K23: 10 | M23: =SUM(K23:L23) -> 10 | P23: Yes | S23: 1966 | Y23: 12 | AA23: =SUM(X23:Z23) -> 12 | AD23: 12 | AF23: =SUM(AC23:AE23) -> 12 | AI23: 1 | AK23: 1 | AM23: 0.0225 | AN23: 0.0225
D24: 11 | E24: Tennis | G24: Boys | I24: Varsity | K24: 11 | M24: =SUM(K24:L24) -> 11 | Q24: Yes | S24: 1966 | Z24: 11 | AA24: =SUM(X24:Z24) -> 11 | AE24: 11 | AF24: =SUM(AC24:AE24) -> 11 | AI24: 1 | AM24: 0.0225 | AN24: 0.0225
D25: 12 | E25: Track & Field (Indoor) | G25: Boys | I25: Varsity | K25: 57 | M25: =SUM(K25:L25) -> 57 | P25: Yes | S25: 1966 | Y25: 12 | AA25: =SUM(X25:Z25) -> 12 | AD25: 12 | AF25: =SUM(AC25:AE25) -> 12 | AI25: 1 | AK25: 1 | AM25: 0.0225 | AN25: 0.0225
D26: 13 | E26: Track & Field (Outdoor) | G26: Boys | I26: Varsity | K26: 80 | M26: =SUM(K26:L26) -> 80 | Q26: Yes | S26: 1966 | Z26: 12 | AA26: =SUM(X26:Z26) -> 12 | AE26: 12 | AF26: =SUM(AC26:AE26) -> 12 | AI26: 1 | AK26: 2 | AM26: 0.0225 | AN26: 0.0225
D27: 14 | E27: Volleyball | G27: Boys | I27: Varsity | M27: =SUM(K27:L27) -> 0 | AA27: =SUM(X27:Z27) -> 0 | AF27: =SUM(AC27:AE27) -> 0
D28: 15 | E28: Water Polo | G28: Boys | I28: Varsity | K28: 11 | M28: =SUM(K28:L28) -> 11 | O28: Yes | X28: 16 | AA28: =SUM(X28:Z28) -> 16 | AC28: 16 | AF28: =SUM(AC28:AE28) -> 16 | AI28: 1 | AK28: 1 | AM28: 0.0225 | AN28: 0.0225
D29: 16 | E29: Wrestling | G29: Boys | I29: Varsity | K29: 15 | M29: =SUM(K29:L29) -> 15 | N29: y | P29: Yes | S29: 1966 | Y29: 22 | AA29: =SUM(X29:Z29) -> 22 | AD29: 22 | AF29: =SUM(AC29:AE29) -> 22 | AI29: 1 | AK29: 1 | AM29: 0.0225 | AN29: 0.0225
D30: 17 | E30: Baseball | G30: Boys | I30: Jr Varsity | K30: 14 | M30: =SUM(K30:L30) -> 14 | Q30: Yes | S30: 1966 | Z30: 19 | AA30: =SUM(X30:Z30) -> 19 | AE30: 18 | AF30: =SUM(AC30:AE30) -> 18 | AI30: 1 | AK30: 1 | AM30: 0.021 | AN30: 0.021
D31: 18 | E31: Basketball | G31: Boys | I31: Jr Varsity | K31: 10 | M31: =SUM(K31:L31) -> 10 | P31: Yes | S31: 1966 | Y31: 22 | AA31: =SUM(X31:Z31) -> 22 | AD31: 22 | AF31: =SUM(AC31:AE31) -> 22 | AI31: 1 | AM31: 0.021 | AN31: 0.021
D32: 19 | E32: Bowling | G32: Boys | I32: Jr Varsity | M32: =SUM(K32:L32) -> 0 | AA32: =SUM(X32:Z32) -> 0 | AF32: =SUM(AC32:AE32) -> 0
D33: 20 | E33: Cross Country | G33: Boys | I33: Jr Varsity | K33: 14 | M33: =SUM(K33:L33) -> 14 | O33: Yes | S33: 1966 | X33: 10 | AA33: =SUM(X33:Z33) -> 10 | AC33: 10 | AF33: =SUM(AC33:AE33) -> 10 | AK33: 1 | AM33: 0.021 | AN33: 0.021
D34: 21 | E34: Football | G34: Boys | I34: Jr Varsity | K34: 20 | M34: =SUM(K34:L34) -> 20 | O34: Yes | S34: 1966 | X34: 10 | AA34: =SUM(X34:Z34) -> 10 | AC34: 10 | AF34: =SUM(AC34:AE34) -> 10 | AK34: 2 | AM34: 0.021 | AN34: 0.021
D35: 22 | E35: Golf | G35: Boys | I35: Jr Varsity | K35: 8 | L35: 1 | M35: =SUM(K35:L35) -> 9 | O35: Yes | S35: 1966 | X35: 10 | AA35: =SUM(X35:Z35) -> 10 | AC35: 10 | AF35: =SUM(AC35:AE35) -> 10 | AI35: 1 | AM35: 0.021 | AN35: 0.021
D36: 23 | E36: Lacrosse | G36: Boys | I36: Jr Varsity | K36: 15 | M36: =SUM(K36:L36) -> 15 | Q36: Yes | S36: 2010 | Z36: 18 | AA36: =SUM(X36:Z36) -> 18 | AE36: 18 | AF36: =SUM(AC36:AE36) -> 18 | AI36: 1 | AM36: 0.021 | AN36: 0.021
D37: 24 | E37: Rifle | G37: Boys | I37: Jr Varsity | M37: =SUM(K37:L37) -> 0 | AA37: =SUM(X37:Z37) -> 0 | AF37: =SUM(AC37:AE37) -> 0
D38: 25 | E38: Soccer | G38: Boys | I38: Jr Varsity | K38: 20 | M38: =SUM(K38:L38) -> 20 | O38: Yes | S38: 1966 | Z38: 18 | AA38: =SUM(X38:Z38) -> 18 | AE38: 18 | AF38: =SUM(AC38:AE38) -> 18 | AI38: 1 | AM38: 0.021 | AN38: 0.021
D39: 26 | E39: Swimming and Diving | G39: Boys | I39: Jr Varsity | M39: =SUM(K39:L39) -> 0 | AA39: =SUM(X39:Z39) -> 0 | AF39: =SUM(AC39:AE39) -> 0
D40: 27 | E40: Tennis | G40: Boys | I40: Jr Varsity | K40: 10 | M40: =SUM(K40:L40) -> 10 | Q40: Yes | S40: 1966 | Z40: 11 | AA40: =SUM(X40:Z40) -> 11 | AE40: 11 | AF40: =SUM(AC40:AE40) -> 11 | AI40: 1 | AM40: 0.021 | AN40: 0.021
D41: 28 | E41: Track & Field (Indoor) | G41: Boys | I41: Jr Varsity | M41: =SUM(K41:L41) -> 0 | AA41: =SUM(X41:Z41) -> 0 | AF41: =SUM(AC41:AE41) -> 0
D42: 29 | E42: Track & Field (Outdoor) | G42: Boys | I42: Jr Varsity | M42: =SUM(K42:L42) -> 0 | AA42: =SUM(X42:Z42) -> 0 | AF42: =SUM(AC42:AE42) -> 0
D43: 30 | E43: Volleyball | G43: Boys | I43: Jr Varsity | M43: =SUM(K43:L43) -> 0 | AA43: =SUM(X43:Z43) -> 0 | AF43: =SUM(AC43:AE43) -> 0
D44: 31 | E44: Water Polo | G44: Boys | I44: Jr Varsity | M44: =SUM(K44:L44) -> 0 | AA44: =SUM(X44:Z44) -> 0 | AF44: =SUM(AC44:AE44) -> 0
D45: 32 | E45: Wrestling | G45: Boys | I45: Jr Varsity | K45: 14 | M45: =SUM(K45:L45) -> 14 | P45: Yes | S45: 1966 | Y45: 7 | AA45: =SUM(X45:Z45) -> 7 | AD45: 7 | AF45: =SUM(AC45:AE45) -> 7 | AK45: 1 | AM45: 0.021 | AN45: 0.021
...

Sheet Page 3 - Financial Information
E4: ='Page 1 - General Information'!E4 -> INTERSCHOLASTIC ATHLETIC OPPORTUNITIES DISCLOSURE FORM 26.1
E5: ='Page 1 - General Information'!E5 -> 2025-26 School Year
E7: =IF('Page 1 - General Information'!G14="[Make Selection From Drop-Down List ]","",("School: "&'Page 1 - General Information'!G14&" - "&'Page 1 - General Information'!G16)) -> School: Upper Merion HS - 3395 | O7: Page 3 - Section 1: Financial Information | W7: =IF('Page 1 - General Information'!G10=" [Make Selection From Drop-Down List ]","",("LEA: "&'Page 1 - General Information'!G10&" - "&'Page 1 - General Information'!G12)) -> LEA: Upper Merion Area SD - 123468402
E9: ATHLETIC EXPENDITURES
E10: Team | G10: Boys/Girls | I10: Level | K10: Total Annual School Team Expenditures | M10: SCHOOL'S ANNUAL EXPENDITURES FOR EACH TEAM | W10: NON-SCHOOL (BOOSTER CLUBS, ALUMNI & OTHER NON-SCHOOL) CONTRIBUTIONS & PURCHASES
M11: Travel 1 | N11: Uniforms 2 | O11: Supplies and Equipment 3 | P11: Facilities 4 | Q11: Other | R11: Coaching Staff Compensation per Sport per Season | U11: Total Compensation For All Athletic Trainers Per Academic Year | W11: List total value of contributions per team | X11: List total value of purchases per team
R13: Fall | S13: Winter | T13: Spring
K14: Totals | M14: =SUM(M16:M190) -> 99721.975 | N14: =SUM(N16:N190) -> 31632.33 | O14: =SUM(O16:O190) -> 37347.86 | P14: =SUM(P16:P190) -> 8960 | Q14: =SUM(Q16:Q190) -> 0 | R14: =SUM(R16:R190) -> 171416.33 | S14: =SUM(S16:S190) -> 129531.72 | T14: =SUM(T16:T190) -> 210727.26 | W14: =SUM(W16:W190) -> 0 | X14: =SUM(X16:X190) -> 73686.54
K15: 1 | L15: 2 | M15: 3 | N15: 4 | O15: 5 | P15: 6 | Q15: 7 | R15: 8 | S15: 9 | T15: 10 | U15: 11 | V15: 12 | W15: 13 | X15: 14
D16: 1 | E16: Baseball | G16: Boys | I16: Varsity | K16: =SUM(M16:T16) -> 20780.09 | M16: 2000.43 | N16: 430 | O16: 1164.5 | T16: 17185.16 | X16: 4920.7
D17: 2 | E17: Basketball | G17: Boys | I17: Varsity | K17: =SUM(M17:T17) -> 17669.485 | M17: 1234.145 | O17: 454.54 | S17: 15980.8 | X17: 2449.33
D18: 3 | E18: Crew | G18: Boys | I18: Varsity | K18: =SUM(M18:T18) -> 18133.69 | M18: 3268.93 | N18: 957.35 | O18: 240.57 | P18: 1135 | T18: 12531.84 | X18: 765
D19: 4 | E19: Cross Country | G19: Boys | I19: Varsity | K19: =SUM(M19:T19) -> 9688.86 | M19: 1363.94 | N19: 522.92 | R19: 7802 | X19: 235
D20: 5 | E20: Football | G20: Boys | I20: Varsity | K20: =SUM(M20:T20) -> 61591.37 | M20: 2952.68 | O20: 2446.21 | R20: 56192.48 | X20: 4977.06
D21: 6 | E21: Golf | G21: Boys | I21: Varsity | K21: =SUM(M21:T21) -> 11248.25 | M21: 1986.45 | O21: 550 | P21: 2685 | R21: 6026.8
D22: 7 | E22: Lacrosse | G22: Boys | I22: Varsity | K22: =SUM(M22:T22) -> 20061.09 | M22: 2326.89 | N22: 1000 | O22: 1001 | T22: 15733.2 | X22: 5032.94
D23: 8 | E23: Rifle | G23: Boys | I23: Varsity | K23: =SUM(M23:T23) -> 0
D24: 9 | E24: Soccer | G24: Boys | I24: Varsity | K24: =SUM(M24:T24) -> 15630.98 | M24: 835.13 | N24: 237.37 | O24: 563.48 | R24: 13995 | X24: 456
D25: 10 | E25: Swimming and Diving | G25: Boys | I25: Varsity | K25: =SUM(M25:T25) -> 19266.19 | M25: 158.08 | N25: 1387.25 | O25: 556.46 | S25: 17164.4 | X25: 1403
D26: 11 | E26: Tennis | G26: Boys | I26: Varsity | K26: =SUM(M26:T26) -> 10669.09 | M26: 3150.95 | N26: 530 | P26: 660 | T26: 6328.14
D27: 12 | E27: Track & Field (Indoor) | G27: Boys | I27: Varsity | K27: =SUM(M27:T27) -> 4581.31 | M27: 3629.53 | O27: 951.78 | S27: $15,555,36
D28: 13 | E28: Track & Field (Outdoor) | G28: Boys | I28: Varsity | K28: =SUM(M28:T28) -> 28090.39 | M28: 3924.33 | N28: 614.7 | O28: 951.78 | T28: 22599.58 | X28: 2364.95
D29: 14 | E29: Volleyball | G29: Boys | I29: Varsity | K29: =SUM(M29:T29) -> 0
D30: 15 | E30: Water Polo | G30: Boys | I30: Varsity | K30: =SUM(M30:T30) -> 15580 | N30: 1205.8 | O30: 512.56 | T30: 13861.64 | X30: 250
D31: 16 | E31: Wrestling | G31: Boys | I31: Varsity | K31: =SUM(M31:T31) -> 13125.86 | M31: 2391.88 | N31: 1059.5 | S31: 9674.48 | X31: 2648.5
D32: 17 | E32: Baseball | G32: Boys | I32: Jr Varsity | K32: =SUM(M32:T32) -> 19219.11 | M32: 3268.93 | N32: 430 | O32: 1164.5 | T32: 14355.68 | X32: 4920.7
D33: 18 | E33: Basketball | G33: Boys | I33: Jr Varsity | K33: =SUM(M33:T33) -> 8662.12 | M33: 1234.14 | O33: 454.54 | S33: 6973.44 | X33: 2449.33
D34: 19 | E34: Bowling | G34: Boys | I34: Jr Varsity | K34: =SUM(M34:T34) -> 0
D35: 20 | E35: Cross Country | G35: Boys | I35: Jr Varsity | K35: =SUM(M35:T35) -> 4900.26 | M35: 1363.94 | N35: 522.92 | R35: 3013.4 | X35: 235
D36: 21 | E36: Football | G36: Boys | I36: Jr Varsity | K36: =SUM(M36:T36) -> 22563.99 | M36: 2952.68 | O36: 2446.21 | R36: 17165.1 | X36: 4977.06
D37: 22 | E37: Golf | G37: Boys | I37: Jr Varsity | K37: =SUM(M37:T37) -> 7883.96 | O37: 550 | P37: 2685 | R37: 4648.96
D38: 23 | E38: Lacrosse | G38: Boys | I38: Jr Varsity | K38: =SUM(M38:T38) -> 10656.03 | M38: 2326.89 | N38: 1000 | O38: 1001 | T38: 6328.14 | X38: 5034.94
D39: 24 | E39: Rifle | G39: Boys | I39: Jr Varsity | K39: =SUM(M39:T39) -> 0
D40: 25 | E40: Soccer | G40: Boys | I40: Jr Varsity | K40: =SUM(M40:T40) -> 7517.2 | M40: 835.15 | N40: 237.37 | O40: 563.48 | R40: 5881.2
D41: 26 | E41: Swimming and Diving | G41: Boys | I41: Jr Varsity | K41: =SUM(M41:T41) -> 0
D42: 27 | E42: Tennis | G42: Boys | I42: Jr Varsity | K42: =SUM(M42:T42) -> 9463.73 | M42: 3150.95 | N42: 530 | P42: 660 | T42: 5122.78
D43: 28 | E43: Track & Field (Indoor) | G43: Boys | I43: Jr Varsity | K43: =SUM(M43:T43) -> 0
D44: 29 | E44: Track & Field (Outdoor) | G44: Boys | I44: Jr Varsity | K44: =SUM(M44:T44) -> 0
D45: 30 | E45: Volleyball | G45: Boys | I45: Jr Varsity | K45: =SUM(M45:T45) -> 0
D46: 31 | E46: Water Polo | G46: Boys | I46: Jr Varsity | K46: =SUM(M46:T46) -> 0
...

Sheet Page 4 - Gender and Race Info
E4: ='Page 1 - General Information'!E4 -> INTERSCHOLASTIC ATHLETIC OPPORTUNITIES DISCLOSURE FORM 26.1
C5: ='Page 1 - General Information'!E5 -> 2025-26 School Year | E5: ='Page 1 - General Information'!E5 -> 2025-26 School Year
E7: =IF('Page 1 - General Information'!G14="[Make Selection From Drop-Down List ]","",("School: "&'Page 1 - General Information'!G14&" - "&'Page 1 - General Information'!G16)) -> School: Upper Merion HS - 3395 | J7: Page 5 - Section 1: Gender and Race/Ethnicity Information | S7: =IF('Page 1 - General Information'!G10=" [Make Selection From Drop-Down List ]","",("LEA: "&'Page 1 - General Information'!G10&" - "&'Page 1 - General Information'!G12)) -> LEA: Upper Merion Area SD - 123468402
E10: Gender | F10: School Totals (Data is prepopulated from the October Student Snapshot) | O10: Athletic Program Totals (Enter the counts of athletic program participants by race/ethnicity and gender)
F11: Race/Ethnicity Code | O11: Race/Ethnicity Code
F12: American Indian/Alaskan Native | G12: Black/African American (Not Hispanic) | H12: Hispanic (Any Race) | I12: White/Caucasian (Not Hispanic) | J12: Multi-Racial (Not Hispanic) | K12: Asian (Not Hispanic) | L12: Native Hawaiian or Other Pacific Islander (Not Hispanic) | M12: Total | O12: American Indian/Alaskan Native | P12: Black/African American (Not Hispanic) | Q12: Hispanic (Any Race) | R12: White/Caucasian (Not Hispanic) | S12: Multi-Racial (Not Hispanic) | T12: Asian (Not Hispanic) | U12: Native Hawaiian or Other Pacific Islander (Not Hispanic) | V12: Total
F13: 1 | G13: 2 | H13: 3 | I13: 4 | J13: 5 | K13: 6 | L13: 7 | M13: 8 | N13: 9 | O13: 10 | P13: 11 | Q13: 12 | R13: 13 | S13: 14 | T13: 15 | U13: 16 | V13: 17
D14: ='Page 1 - General Information'!G12&'Page 1 - General Information'!G16&'Page 4 - Gender and Race Info'!E14 -> 1234684023395Male | E14: Male | F14: =IF(ISERROR(VLOOKUP($D$14,'Race Data'!$B:$O,7,FALSE))," ",(VLOOKUP($D$14,'Race Data'!$B:$O,7,FALSE))) | G14: =IF(ISERROR(VLOOKUP($D$14,'Race Data'!$B:$O,8,FALSE))," ",(VLOOKUP($D$14,'Race Data'!$B:$O,8,FALSE))) -> 97 | H14: =IF(ISERROR(VLOOKUP($D$14,'Race Data'!$B:$O,9,FALSE))," ",(VLOOKUP($D$14,'Race Data'!$B:$O,9,FALSE))) -> 130 | I14: =IF(ISERROR(VLOOKUP($D$14,'Race Data'!$B:$O,10,FALSE))," ",(VLOOKUP($D$14,'Race Data'!$B:$O,10,FALSE))) -> 300 | J14: =IF(ISERROR(VLOOKUP($D$14,'Race Data'!$B:$O,11,FALSE))," ",(VLOOKUP($D$14,'Race Data'!$B:$O,11,FALSE))) -> 62 | K14: =IF(ISERROR(VLOOKUP($D$14,'Race Data'!$B:$O,12,FALSE))," ",(VLOOKUP($D$14,'Race Data'!$B:$O,12,FALSE))) -> 99 | L14: =IF(ISERROR(VLOOKUP($D$14,'Race Data'!$B:$O,13,FALSE))," ",(VLOOKUP($D$14,'Race Data'!$B:$O,13,FALSE))) -> * | M14: =IF(ISERROR(VLOOKUP($D$14,'Race Data'!$B:$O,14,FALSE))," ",(VLOOKUP($D$14,'Race Data'!$B:$O,14,FALSE))) -> 689 | O14: 0 | P14: 47 | Q14: 35 | R14: 146 | S14: 22 | T14: 42 | U14: 0 | V14: =SUM(O14:U14) -> 292
D15: ='Page 1 - General Information'!G12&'Page 1 - General Information'!G16&'Page 4 - Gender and Race Info'!E15 -> 1234684023395Female | E15: Female | F15: =IF(ISERROR(VLOOKUP($D$15,'Race Data'!$B:$O,7,FALSE))," ",(VLOOKUP($D$15,'Race Data'!$B:$O,7,FALSE))) | G15: =IF(ISERROR(VLOOKUP($D$15,'Race Data'!$B:$O,8,FALSE))," ",(VLOOKUP($D$15,'Race Data'!$B:$O,8,FALSE))) -> 119 | H15: =IF(ISERROR(VLOOKUP($D$15,'Race Data'!$B:$O,9,FALSE))," ",(VLOOKUP($D$15,'Race Data'!$B:$O,9,FALSE))) -> 120 | I15: =IF(ISERROR(VLOOKUP($D$15,'Race Data'!$B:$O,10,FALSE))," ",(VLOOKUP($D$15,'Race Data'!$B:$O,10,FALSE))) -> 257 | J15: =IF(ISERROR(VLOOKUP($D$15,'Race Data'!$B:$O,11,FALSE))," ",(VLOOKUP($D$15,'Race Data'!$B:$O,11,FALSE))) -> 61 | K15: =IF(ISERROR(VLOOKUP($D$15,'Race Data'!$B:$O,12,FALSE))," ",(VLOOKUP($D$15,'Race Data'!$B:$O,12,FALSE))) -> 98 | L15: =IF(ISERROR(VLOOKUP($D$15,'Race Data'!$B:$O,13,FALSE))," ",(VLOOKUP($D$15,'Race Data'!$B:$O,13,FALSE))) | M15: =IF(ISERROR(VLOOKUP($D$15,'Race Data'!$B:$O,14,FALSE))," ",(VLOOKUP($D$15,'Race Data'!$B:$O,14,FALSE))) -> 655 | O15: 0 | P15: 45 | Q15: 42 | R15: 125 | S15: 16 | T15: 29 | U15: 0 | V15: =SUM(O15:U15) -> 257
D16: ='Page 1 - General Information'!G12&'Page 1 - General Information'!G16&'Page 4 - Gender and Race Info'!E16 -> 1234684023395Total | E16: Total | F16: =IF(ISERROR(VLOOKUP($D$16,'Race Data'!$B:$O,7,FALSE))," ",(VLOOKUP($D$16,'Race Data'!$B:$O,7,FALSE))) | G16: =IF(ISERROR(VLOOKUP($D$16,'Race Data'!$B:$O,8,FALSE))," ",(VLOOKUP($D$16,'Race Data'!$B:$O,8,FALSE))) -> 216 | H16: =IF(ISERROR(VLOOKUP($D$16,'Race Data'!$B:$O,9,FALSE))," ",(VLOOKUP($D$16,'Race Data'!$B:$O,9,FALSE))) -> 250 | I16: =IF(ISERROR(VLOOKUP($D$16,'Race Data'!$B:$O,10,FALSE))," ",(VLOOKUP($D$16,'Race Data'!$B:$O,10,FALSE))) -> 557 | J16: =IF(ISERROR(VLOOKUP($D$16,'Race Data'!$B:$O,11,FALSE))," ",(VLOOKUP($D$16,'Race Data'!$B:$O,11,FALSE))) -> 123 | K16: =IF(ISERROR(VLOOKUP($D$16,'Race Data'!$B:$O,12,FALSE))," ",(VLOOKUP($D$16,'Race Data'!$B:$O,12,FALSE))) -> 197 | L16: =IF(ISERROR(VLOOKUP($D$16,'Race Data'!$B:$O,13,FALSE))," ",(VLOOKUP($D$16,'Race Data'!$B:$O,13,FALSE))) -> * | M16: =IF(ISERROR(VLOOKUP($D$16,'Race Data'!$B:$O,14,FALSE))," ",(VLOOKUP($D$16,'Race Data'!$B:$O,14,FALSE))) -> 1344 | N16: =N14+N15 -> 0 | O16: =O14+O15 -> 0 | P16: =P14+P15 -> 92 | Q16: =Q14+Q15 -> 77 | R16: =R14+R15 -> 271 | S16: =S14+S15 -> 38 | T16: =T14+T15 -> 71 | U16: =U14+U15 -> 0 | V16: =V14+V15 -> 549
E20: Note: Some information has been redacted in order to protect individual identification

Sheet Page 5 - Comments
D4: ='Page 1 - General Information'!E4 -> INTERSCHOLASTIC ATHLETIC OPPORTUNITIES DISCLOSURE FORM 26.1
D5: ='Page 1 - General Information'!E5 -> 2025-26 School Year
E7: =IF('Page 1 - General Information'!G14="[Make Selection From Drop-Down List ]","",("School: "&'Page 1 - General Information'!G14&" - "&'Page 1 - General Information'!G16)) -> School: Upper Merion HS - 3395 | J7: Page 4 - Section 1: Comments | N7: =IF('Page 1 - General Information'!G10=" [Make Selection From Drop-Down List ]","",("LEA: "&'Page 1 - General Information'!G10&" - "&'Page 1 - General Information'!G12)) -> LEA: Upper Merion Area SD - 123468402
E11: Please Provide All Applicable Comments Below
E12: For Best Results, Compose In A Word Processor, Copy And Paste To The Formula Bar Above, Then Press Enter.
E13: Input Is Limited To 100 Characters
E15: We do not have Rifle Team. We have a Crew team that competes in the Spring. It is a Boys and Girls team. Our Boys Golf team ran as a "Co-Ed" team comprised of both boys and girls.

Sheet Page 6 - PIMS Input Page
A1: DISTRICT CODE | B1: LOCATION CODE | C1: REPORTING DATE | D1: CATEGORY 01 | E1: CATEGORY 02 | F1: CATEGORY 03 | G1: CATEGORY 04 | H1: CATEGORY 05 | I1: CATEGORY 06 | J1: CATEGORY 07 | K1: CATEGORY 08 | L1: CATEGORY 09 | M1: CATEGORY 10 | N1: PRIMARY MEASURE TYPE | O1: COUNT | P1: AMOUNT | Q1: PERCENT | R1: INDICATOR | S1: CATEGORY SET CODE | T1: START DATE | U1: END DATE | V1: COMMENT | X1: Column | Y1: Row
A2: ='Page 1 - General Information'!$G$12 -> 123468402 | B2: ='Page 1 - General Information'!$G$16 -> 3395 | C2: 2026-06-30 | N2: COUNT | O2: {=INDEX('Page 2 - Team Information'!$K$14:$AP$189,Y2,X2)} -> 15 | S2: Baseball_Boys_V_Boys | X2: 1 | Y2: 1
A3: ='Page 1 - General Information'!$G$12 -> 123468402 | B3: ='Page 1 - General Information'!$G$16 -> 3395 | C3: 2026-06-30 | N3: COUNT | O3: {=INDEX('Page 2 - Team Information'!$K$14:$AP$189,Y3,X3)} | S3: Baseball_Boys_V_Girls | X3: 2 | Y3: 1
A4: ='Page 1 - General Information'!$G$12 -> 123468402 | B4: ='Page 1 - General Information'!$G$16 -> 3395 | C4: 2026-06-30 | N4: COUNT | O4: {=INDEX('Page 2 - Team Information'!$K$14:$AP$189,Y4,X4)} -> 15 | S4: Baseball_Boys_V_Total | X4: 3 | Y4: 1
A5: ='Page 1 - General Information'!$G$12 -> 123468402 | B5: ='Page 1 - General Information'!$G$16 -> 3395 | C5: 2026-06-30 | N5: COUNT | O5: {=INDEX('Page 2 - Team Information'!$K$14:$AP$189,Y5,X5)} -> 15 | S5: Basketball _Boys_V_Boys | X5: 1 | Y5: 2
A6: ='Page 1 - General Information'!$G$12 -> 123468402 | B6: ='Page 1 - General Information'!$G$16 -> 3395 | C6: 2026-06-30 | N6: COUNT | O6: {=INDEX('Page 2 - Team Information'!$K$14:$AP$189,Y6,X6)} | S6: Basketball _Boys_V_Girls | X6: 2 | Y6: 2
A7: ='Page 1 - General Information'!$G$12 -> 123468402 | B7: ='Page 1 - General Information'!$G$16 -> 3395 | C7: 2026-06-30 | N7: COUNT | O7: {=INDEX('Page 2 - Team Information'!$K$14:$AP$189,Y7,X7)} -> 15 | S7: Basketball _Boys_V_Total | X7: 3 | Y7: 2
A8: ='Page 1 - General Information'!$G$12 -> 123468402 | B8: ='Page 1 - General Information'!$G$16 -> 3395 | C8: 2026-06-30 | N8: COUNT | O8: {=INDEX('Page 2 - Team Information'!$K$14:$AP$189,Y8,X8)} | S8: Bowling_Boys_V_Boys | X8: 1 | Y8: 3
A9: ='Page 1 - General Information'!$G$12 -> 123468402 | B9: ='Page 1 - General Information'!$G$16 -> 3395 | C9: 2026-06-30 | N9: COUNT | O9: {=INDEX('Page 2 - Team Information'!$K$14:$AP$189,Y9,X9)} | S9: Bowling_Boys_V_Girls | X9: 2 | Y9: 3
A10: ='Page 1 - General Information'!$G$12 -> 123468402 | B10: ='Page 1 - General Information'!$G$16 -> 3395 | C10: 2026-06-30 | N10: COUNT | O10: {=INDEX('Page 2 - Team Information'!$K$14:$AP$189,Y10,X10)} -> 0 | S10: Bowling_Boys_V_Total | X10: 3 | Y10: 3
A11: ='Page 1 - General Information'!$G$12 -> 123468402 | B11: ='Page 1 - General Information'!$G$16 -> 3395 | C11: 2026-06-30 | N11: COUNT | O11: {=INDEX('Page 2 - Team Information'!$K$14:$AP$189,Y11,X11)} -> 13 | S11: Cross Country_Boys_V_Boys | X11: 1 | Y11: 4
A12: ='Page 1 - General Information'!$G$12 -> 123468402 | B12: ='Page 1 - General Information'!$G$16 -> 3395 | C12: 2026-06-30 | N12: COUNT | O12: {=INDEX('Page 2 - Team Information'!$K$14:$AP$189,Y12,X12)} | S12: Cross Country_Boys_V_Girls | X12: 2 | Y12: 4
A13: ='Page 1 - General Information'!$G$12 -> 123468402 | B13: ='Page 1 - General Information'!$G$16 -> 3395 | C13: 2026-06-30 | N13: COUNT | O13: {=INDEX('Page 2 - Team Information'!$K$14:$AP$189,Y13,X13)} -> 13 | S13: Cross Country_Boys_V_Total | X13: 3 | Y13: 4
... A526: ='Page 1 - General Information'!$G$12 -> 123468402 | B526: ='Page 1 - General Information'!$G$16 -> 3395 | C526: 2026-06-30 | N526: COUNT | O526: {=INDEX('Page 2 - Team Information'!$K$14:$AP$189,Y526,X526)} -> 0 | S526: Wrestling_Girls_7_Total | X526: 3 | Y526: 175
A527: ='Page 1 - General Information'!$G$12 -> 123468402 | B527: ='Page 1 - General Information'!$G$16 -> 3395 | C527: 2026-06-30 | N527: INDICATOR | R527: Y | S527: Baseball_B_V_SeasonFall | V527: {=INDEX('Page 2 - Team Information'!$K$14:$AP$189,Y527,X527)} | X527: 5 | Y527: 1
A528: ='Page 1 - General Information'!$G$12 -> 123468402 | B528: ='Page 1 - General Information'!$G$16 -> 3395 | C528: 2026-06-30 | N528: INDICATOR | R528: Y | S528: Baseball_B_V_SeasonWinter | V528: {=INDEX('Page 2 - Team Information'!$K$14:$AP$189,Y528,X528)} | X528: 6 | Y528: 1
A529: ='Page 1 - General Information'!$G$12 -> 123468402 | B529: ='Page 1 - General Information'!$G$16 -> 3395 | C529: 2026-06-30 | N529: INDICATOR | R529: Y | S529: Baseball_B_V_SeasonSpring | V529: {=INDEX('Page 2 - Team Information'!$K$14:$AP$189,Y529,X529)} -> Yes | X529: 7 | Y529: 1
A530: ='Page 1 - General Information'!$G$12 -> 123468402 | B530: ='Page 1 - General Information'!$G$16 -> 3395 | C530: 2026-06-30 | N530: INDICATOR | R530: Y | S530: Baseball_B_V_Established | T530: {=IF(INDEX('Page 2 - Team Information'!$K$14:$AP$189,Y530,X530)="","",INDEX('Page 2 - Team Information'!$K$14:$AP$189,Y530,X530)&"-06-30")} -> 1966-06-30 | X530: 9 | Y530: 1
A531: ='Page 1 - General Information'!$G$12 -> 123468402 | B531: ='Page 1 - General Information'!$G$16 -> 3395 | C531: 2026-06-30 | N531: INDICATOR | R531: Y | S531: Baseball_B_V_Demotion | T531: {=IF(INDEX('Page 2 - Team Information'!$K$14:$AP$189,Y531,X531)="","",INDEX('Page 2 - Team Information'!$K$14:$AP$189,Y531,X531)&"-06-30")} | X531: 10 | Y531: 1
A532: ='Page 1 - General Information'!$G$12 -> 123468402 | B532: ='Page 1 - General Information'!$G$16 -> 3395 | C532: 2026-06-30 | N532: INDICATOR | R532: Y | S532: Baseball_B_V_Elimination | T532: {=IF(INDEX('Page 2 - Team Information'!$K$14:$AP$189,Y532,X532)="","",INDEX('Page 2 - Team Information'!$K$14:$AP$189,Y532,X532)&"-06-30")} | X532: 11 | Y532: 1
A533: ='Page 1 - General Information'!$G$12 -> 123468402 | B533: ='Page 1 - General Information'!$G$16 -> 3395 | C533: 2026-06-30 | N533: INDICATOR | R533: Y | S533: Baseball_B_V_Reinstatement | T533: {=IF(INDEX('Page 2 - Team Information'!$K$14:$AP$189,Y533,X533)="","",INDEX('Page 2 - Team Information'!$K$14:$AP$189,Y533,X533)&"-06-30")} | X533: 12 | Y533: 1
A534: ='Page 1 - General Information'!$G$12 -> 123468402 | B534: ='Page 1 - General Information'!$G$16 -> 3395 | C534: 2026-06-30 | N534: COUNT | O534: {=INDEX('Page 2 - Team Information'!$K$14:$AP$189,Y534,X534)} | S534: Baseball_B_V_ScheduledFall | X534: 14 | Y534: 1
A535: ='Page 1 - General Information'!$G$12 -> 123468402 | B535: ='Page 1 - General Information'!$G$16 -> 3395 | C535: 2026-06-30 | N535: COUNT | O535: {=INDEX('Page 2 - Team Information'!$K$14:$AP$189,Y535,X535)} | S535: Baseball_B_V_ScheduledWinter | X535: 15 | Y535: 1
A536: ='Page 1 - General Information'!$G$12 -> 123468402 | B536: ='Page 1 - General Information'!$G$16 -> 3395 | C536: 2026-06-30 | N536: COUNT | O536: {=INDEX('Page 2 - Team Information'!$K$14:$AP$189,Y536,X536)} -> 19 | S536: Baseball_B_V_ScheduledSpring | X536: 16 | Y536: 1
A537: ='Page 1 - General Information'!$G$12 -> 123468402 | B537: ='Page 1 - General Information'!$G$16 -> 3395 | C537: 2026-06-30 | N537: COUNT | O537: {=INDEX('Page 2 - Team Information'!$K$14:$AP$189,Y537,X537)} -> 19 | S537: Baseball_B_V_ScheduledTotal | X537: 17 | Y537: 1
A538: ='Page 1 - General Information'!$G$12 -> 123468402 | B538: ='Page 1 - General Information'!$G$16 -> 3395 | C538: 2026-06-30 | N538: COUNT | O538: {=INDEX('Page 2 - Team Information'!$K$14:$AP$189,Y538,X538)} | S538: Baseball_B_V_PlayedFall | X538: 19 | Y538: 1
A539: ='Page 1 - General Information'!$G$12 -> 123468402 | B539: ='Page 1 - General Information'!$G$16 -> 3395 | C539: 2026-06-30 | N539: COUNT | O539: {=INDEX('Page 2 - Team Information'!$K$14:$AP$189,Y539,X539)} | S539: Baseball_B_V_PlayedWinter | X539: 20 | Y539: 1
A540: ='Page 1 - General Information'!$G$12 -> 123468402 | B540: ='Page 1 - General Information'!$G$16 -> 3395 | C540: 2026-06-30 | N540: COUNT | O540: {=INDEX('Page 2 - Team Information'!$K$14:$AP$189,Y540,X540)} -> 19 | S540: Baseball_B_V_PlayedSpring | X540: 21 | Y540: 1
A541: ='Page 1 - General Information'!$G$12 -> 123468402 | B541: ='Page 1 - General Information'!$G$16 -> 3395 | C541: 2026-06-30 | N541: COUNT | O541: {=INDEX('Page 2 - Team Information'!$K$14:$AP$189,Y541,X541)} -> 19 | S541: Baseball_B_V_PlayedTotal | X541: 22 | Y541: 1
A542: ='Page 1 - General Information'!$G$12 -> 123468402 | B542: ='Page 1 - General Information'!$G$16 -> 3395 | C542: 2026-06-30 | N542: INDICATOR | R542: Y | S542: Basketball _B_V_SeasonFall | V542: {=INDEX('Page 2 - Team Information'!$K$14:$AP$189,Y542,X542)} | X542: 5 | Y542: 2
A543: ='Page 1 - General Information'!$G$12 -> 123468402 | B543: ='Page 1 - General Information'!$G$16 -> 3395 | C543: 2026-06-30 | N543: INDICATOR | R543: Y | S543: Basketball _B_V_SeasonWinter | V543: {=INDEX('Page 2 - Team Information'!$K$14:$AP$189,Y543,X543)} -> Yes | X543: 6 | Y543: 2
A544: ='Page 1 - General Information'!$G$12 -> 123468402 | B544: ='Page 1 - General Information'!$G$16 -> 3395 | C544: 2026-06-30 | N544: INDICATOR | R544: Y | S544: Basketball _B_V_SeasonSpring | V544: {=INDEX('Page 2 - Team Information'!$K$14:$AP$189,Y544,X544)} | X544: 7 | Y544: 2
A545: ='Page 1 - General Information'!$G$12 -> 123468402 | B545: ='Page 1 - General Information'!$G$16 -> 3395 | C545: 2026-06-30 | N545: INDICATOR | R545: Y | S545: Basketball _B_V_Established | T545: {=IF(INDEX('Page 2 - Team Information'!$K$14:$AP$189,Y545,X545)="","",INDEX('Page 2 - Team Information'!$K$14:$AP$189,Y545,X545)&"-06-30")} -> 1966-06-30 | X545: 9 | Y545: 2
A546: ='Page 1 - General Information'!$G$12 -> 123468402 | B546: ='Page 1 - General Information'!$G$16 -> 3395 | C546: 2026-06-30 | N546: INDICATOR | R546: Y | S546: Basketball _B_V_Demotion | T546: {=IF(INDEX('Page 2 - Team Information'!$K$14:$AP$189,Y546,X546)="","",INDEX('Page 2 - Team Information'!$K$14:$AP$189,Y546,X546)&"-06-30")} | X546: 10 | Y546: 2
A547: ='Page 1 - General Information'!$G$12 -> 123468402 | B547: ='Page 1 - General Information'!$G$16 -> 3395 | C547: 2026-06-30 | N547: INDICATOR | R547: Y | S547: Basketball _B_V_Elimination | T547: {=IF(INDEX('Page 2 - Team Information'!$K$14:$AP$189,Y547,X547)="","",INDEX('Page 2 - Team Information'!$K$14:$AP$189,Y547,X547)&"-06-30")} | X547: 11 | Y547: 2
A548: ='Page 1 - General Information'!$G$12 -> 123468402 | B548: ='Page 1 - General Information'!$G$16 -> 3395 | C548: 2026-06-30 | N548: INDICATOR | R548: Y | S548: Basketball _B_V_Reinstatement | T548: {=IF(INDEX('Page 2 - Team Information'!$K$14:$AP$189,Y548,X548)="","",INDEX('Page 2 - Team Information'!$K$14:$AP$189,Y548,X548)&"-06-30")} | X548: 12 | Y548: 2
A549: ='Page 1 - General Information'!$G$12 -> 123468402 | B549: ='Page 1 - General Information'!$G$16 -> 3395 | C549: 2026-06-30 | N549: COUNT | O549: {=INDEX('Page 2 - Team Information'!$K$14:$AP$189,Y549,X549)} | S549: Basketball _B_V_ScheduledFall | X549: 14 | Y549: 2
A550: ='Page 1 - General Information'!$G$12 -> 123468402 | B550: ='Page 1 - General Information'!$G$16 -> 3395 | C550: 2026-06-30 | N550: COUNT | O550: {=INDEX('Page 2 - Team Information'!$K$14:$AP$189,Y550,X550)} -> 22 | S550: Basketball _B_V_ScheduledWinter | X550: 15 | Y550: 2
A551: ='Page 1 - General Information'!$G$12 -> 123468402 | B551: ='Page 1 - General Information'!$G$16 -> 3395 | C551: 2026-06-30 | N551: COUNT | O551: {=INDEX('Page 2 - Team Information'!$K$14:$AP$189,Y551,X551)} | S551: Basketball _B_V_ScheduledSpring | X551: 16 | Y551: 2
A552: ='Page 1 - General Information'!$G$12 -> 123468402 | B552: ='Page 1 - General Information'!$G$16 -> 3395 | C552: 2026-06-30 | N552: COUNT | O552: {=INDEX('Page 2 - Team Information'!$K$14:$AP$189,Y552,X552)} -> 22 | S552: Basketball _B_V_ScheduledTotal | X552: 17 | Y552: 2
...

Sheet PIMS LEA
A1: AUN | B1: LEA Name | C1: AUN | D1: LEA Type | E1: Tony 4-9-26
A2: 000000000 | B2: [Make Selection From Drop-Down List ] | C2: 000000000
A3: 124150002 | B3: 21st Century Cyber CS | C3: 124150002 | D3: Cyber CS
A4: 119350303 | B4: Abington Heights SD | C4: 119350303 | D4: SD
A5: 123460302 | B5: Abington SD | C5: 123460302 | D5: SD
A6: 125230001 | B6: Achievement House CS | C6: 125230001 | D6: Cyber CS
A7: 126510015 | B7: Ad Prima CS | C7: 126510015 | D7: CS
A8: 126510020 | B8: Agora Cyber CS | C8: 126510020 | D8: Cyber CS
A9: 101260303 | B9: Albert Gallatin Area SD | C9: 101260303 | D9: SD
A10: 127040503 | B10: Aliquippa SD | C10: 127040503 | D10: SD
A11: 103020603 | B11: Allegheny Valley SD | C11: 103020603 | D11: SD
A12: 106160303 | B12: Allegheny-Clarion Valley SD | C12: 106160303 | D12: SD
A13: 121390302 | B13: Allentown City SD | C13: 121390302 | D13: SD
A14: 126512990 | B14: Alliance for Progress CS | C14: 126512990 | D14: CS
... A178: 108053003 | B178: Everett Area SD | C178: 108053003 | D178: SD
A179: 120450003 | B179: Evergreen Community CS | C179: 120450003 | D179: CS | E179: Last Update+
A180: 121398065 | B180: Executive Education Academy CS | C180: 121398065 | D180: CS
A181: 114062003 | B181: Exeter Township SD | C181: 114062003 | D181: SD
A182: 112013054 | B182: Fairfield Area SD | C182: 112013054 | D182: SD
A183: 105253303 | B183: Fairview SD | C183: 105253303 | D183: SD
A184: 112282004 | B184: Fannett-Metal SD | C184: 112282004 | D184: SD
A185: 104432503 | B185: Farrell Area SD | C185: 104432503 | D185: SD
A186: 119350001 | B186: Fell CS | C186: 119350001 | D186: CS
A187: 108112003 | B187: Ferndale Area SD | C187: 108112003 | D187: SD
A188: 100510000 | B188: First Philadelphia Preparatory CS | C188: 100510000 | D188: CS
A189: 114062503 | B189: Fleetwood Area SD | C189: 114062503 | D189: SD
A190: 126510021 | B190: Folk Arts-Cultural Treasures CS | C190: 126510021 | D190: CS
A191: 111292304 | B191: Forbes Road SD | C191: 111292304 | D191: SD
... A632: 118408852 | B632: Wilkes-Barre Area SD | C632: 118408852 | D632: SD
A633: 125239652 | B633: William Penn SD | C633: 125239652 | D633: SD
A634: 129548803 | B634: Williams Valley SD | C634: 129548803 | D634: SD
A635: 108079004 | B635: Williamsburg Community SD | C635: 108079004 | D635: SD
A636: 117417202 | B636: Williamsport Area SD | C636: 117417202 | D636: SD
A637: 104378003 | B637: Wilmington Area SD | C637: 104378003 | D637: SD
A638: 120488603 | B638: Wilson Area SD | C638: 120488603 | D638: SD
A639: 114069103 | B639: Wilson SD | C639: 114069103 | D639: SD
A640: 108569103 | B640: Windber Area SD | C640: 108569103 | D640: SD
A641: 126510007 | B641: Wissahickon CS | C641: 126510007 | D641: CS
A642: 123469303 | B642: Wissahickon SD | C642: 123469303 | D642: SD
A643: 103029902 | B643: Woodland Hills SD | C643: 103029902 | D643: SD
...

Sheet PIMS School
A1: AUN | B1: AUN Index | C1: Building Key | D1: Building Key 2 | E1: LEAInstName | F1: LEACategory | G1: LEAStatus | H1: SchoolBranchNum | I1: SchoolName | J1: SchoolBranchNum | K1: School MailingAddressLine2 | L1: Tony 4-9-26
A2: 100510000 | B2: 1 | C2: 1005100001 | D2: 100510000First Philadelphia Preparatory CS | E2: First Philadelphia Preparatory CS | F2: CS | G2: 0000 | H2: 7744 | I2: First Philadelphia Preparatory CS | J2: 7744
A3: 101260303 | B3: 1 | C3: 1012603031 | D3: 101260303Albert Gallatin Area SHS | E3: Albert Gallatin Area SD | F3: SD | G3: 0000 | H3: 6001 | I3: Albert Gallatin Area SHS | J3: 6001
A4: 101260303 | B4: 2 | C4: 1012603032 | D4: 101260303Albert Gallatin North MS | E4: Albert Gallatin Area SD | F4: SD | G4: 0000 | H4: 7607 | I4: Albert Gallatin North MS | J4: 7607
A5: 101260303 | B5: 3 | C5: 1012603033 | D5: 101260303Albert Gallatin South MS | E5: Albert Gallatin Area SD | F5: SD | G5: 0000 | H5: 7608 | I5: Albert Gallatin South MS | J5: 7608
A6: 101260803 | B6: 1 | C6: 1012608031 | D6: 101260803Brownsville Area MS | E6: Brownsville Area SD | F6: SD | G6: 0000 | H6: 2154 | I6: Brownsville Area MS | J6: 2154
A7: 101260803 | B7: 2 | C7: 1012608032 | D7: 101260803Brownsville Area HS | E7: Brownsville Area SD | F7: SD | G7: 0000 | H7: 4818 | I7: Brownsville Area HS | J7: 4818
A8: 101261302 | B8: 1 | C8: 1012613021 | D8: 101261302Connellsville Area MS | E8: Connellsville Area SD | F8: SD | G8: 0000 | H8: 2105 | I8: Connellsville Area MS | J8: 2105
A9: 101261302 | B9: 2 | C9: 1012613022 | D9: 101261302Connellsville Area SHS | E9: Connellsville Area SD | F9: SD | G9: 0000 | H9: 5228 | I9: Connellsville Area SHS | J9: 5228
A10: 101262903 | B10: 1 | C10: 1012629031 | D10: 101262903Frazier HS | E10: Frazier SD | F10: SD | G10: 0000 | H10: 2126 | I10: Frazier HS | J10: 2126
A11: 101262903 | B11: 2 | C11: 1012629032 | D11: 101262903Frazier MS | E11: Frazier SD | F11: SD | G11: 0000 | H11: 7176 | I11: Frazier MS | J11: 7176
A12: 101264003 | B12: 1 | C12: 1012640031 | D12: 101264003Laurel Highlands MS | E12: Laurel Highlands SD | F12: SD | G12: 0000 | H12: 5146 | I12: Laurel Highlands MS | J12: 5146
A13: 101264003 | B13: 2 | C13: 1012640032 | D13: 101264003Laurel Highlands SHS | E13: Laurel Highlands SD | F13: SD | G13: 0000 | H13: 6600 | I13: Laurel Highlands SHS | J13: 6600
... A1378: 199025446 | B1378: 1 | C1378: 1990254461 | D1378: 199025446Environmental CS at Frick Park | E1378: Environmental CS at Frick Park | F1378: CS | G1378: 0000 | H1378: 8028 | I1378: Environmental CS at Frick Park | J1378: 8028

Sheet Enrollment Report
B2: 007 | C2: 007 | D2: 008 | E2: 008 | F2: 009 | G2: 009 | H2: 010 | I2: 010 | J2: 011 | K2: 011 | L2: 012 | M2: 012 | N2: Grand Total | P2: Tony 4-9-26
A3: Key | B3: Female | C3: Male | D3: Female | E3: Male | F3: Female | G3: Male | H3: Female | I3: Male | J3: Female | K3: Male | L3: Female | M3: Male
A4: 1013085038442 | B4: 22 | C4: 22 | D4: 24 | E4: 25 | F4: 19 | G4: 33 | H4: 27 | I4: 24 | J4: 19 | K4: 25 | L4: 15 | M4: 36
A5: 1016339034249 | F5: 61 | G5: 52 | H5: 52 | I5: 55 | J5: 61 | K5: 59 | L5: 53 | M5: 66
A6: 1016370028103 | B6: 97 | C6: 78 | D6: 85 | E6: 110
A7: 1020275608362 | B7: 24 | C7: 22 | D7: 10 | E7: 19
A8: 1030200047832 | B8: 40 | C8: 32 | D8: 34 | E8: 37 | F8: 31 | G8: 35 | H8: 30 | I8: 43 | J8: 18 | K8: 28 | L8: 14 | M8: 16
A9: 1030203688337 | B9: 13 | C9: 21 | D9: 8 | E9: 13
A10: 1030210030314 | B10: 201 | C10: 164 | D10: 152 | E10: 194
A11: 1030217526706 | F11: 123 | G11: 112 | H11: 115 | I11: 144 | J11: 113 | K11: 126 | L11: 116 | M11: 134
A12: 1030231534804 | B12: 83 | C12: 102 | D12: 87 | E12: 81
A13: 1030234107648 | C13: 3 | D13: 3 | E13: 4 | F13: 3 | G13: 5 | H13: 6 | I13: 11 | J13: 2 | K13: 5 | L13: 7 | M13: 13
A14: 1030241628218 | B14: 9 | C14: 9 | D14: 11 | E14: 8
A15: 1030247535153 | F15: 66 | G15: 85 | H15: 69 | I15: 79 | J15: 74 | K15: 74 | L15: 65 | M15: 93
A16: 1030247537202 | B16: 69 | C16: 77 | D16: 83 | E16: 74
A17: 1030273525019 | B17: 108 | C17: 101 | D17: 92 | E17: 118
A18: 1030275035105 | B18: 137 | C18: 130 | D18: 105 | E18: 153
A19: 1030277530447 | B19: 68 | C19: 64 | D19: 79 | E19: 74
A20: 1030283028002 | B20: 164 | C20: 126 | D20: 133 | E20: 164
A21: 1030294030509 | F21: 129 | G21: 120 | H21: 127 | I21: 159 | J21: 111 | K21: 139 | L21: 135 | M21: 130
A22: 1030295534867 | B22: 137 | C22: 140 | D22: 136 | E22: 128
A23: 1030296030536 | F23: 105 | G23: 122 | H23: 112 | I23: 113 | J23: 110 | K23: 104 | L23: 117 | M23: 102
A24: 1043753022704 | F24: 124 | G24: 110 | H24: 88 | I24: 94 | J24: 84 | K24: 86 | L24: 77 | M24: 84
A25: 1044325035248 | B25: 25 | C25: 19 | D25: 26 | E25: 25 | F25: 21 | G25: 31 | H25: 29 | I25: 23 | J25: 25 | K25: 24 | L25: 21 | M25: 19
A26: 1044328307506 | B26: 5 | C26: 4 | D26: 5 | E26: 3 | F26: 10 | G26: 16 | H26: 16 | I26: 24 | J26: 15 | K26: 30 | L26: 12 | M26: 10
A27: 1044356038092 | B27: 60 | C27: 80 | D27: 51 | E27: 70
A28: 1052013521653 | B28: 105 | C28: 95 | D28: 88 | E28: 94
A29: 1052526028417 | F29: 385 | G29: 422 | H29: 314 | I29: 371 | J29: 265 | K29: 306 | L29: 207 | M29: 211
A30: 1052543532048 | B30: 87 | C30: 74 | D30: 74 | E30: 78
A31: 1052576027384 | B31: 70 | C31: 73 | D31: 61 | E31: 64
A32: 1052583036145 | D32: 1 | F32: 40 | G32: 50 | H32: 57 | I32: 60 | J32: 55 | K32: 78 | L32: 61 | M32: 61
A33: 1056200017833 | B33: 18 | C33: 14 | D33: 20 | E33: 11 | F33: 6 | G33: 17 | H33: 5 | I33: 9 | J33: 16 | K33: 5 | L33: 11 | M33: 4
A34: 1056283024143 | B34: 23 | C34: 35 | D34: 22 | E34: 34 | F34: 58 | G34: 57 | H34: 33 | I34: 44 | J34: 59 | K34: 54 | L34: 59 | M34: 51
A35: 1056283024149 | F35: 100 | G35: 121 | H35: 94 | I35: 112 | J35: 108 | K35: 92 | L35: 105 | M35: 115
A36: 1061680031495 | B36: 35 | C36: 44 | D36: 39 | E36: 32 | F36: 37 | G36: 34 | H36: 36 | I36: 42 | J36: 47 | K36: 37 | L36: 38 | M36: 47
A37: 1066122034106 | B37: 74 | C37: 59 | D37: 64 | E37: 64 | F37: 68 | G37: 71 | H37: 73 | I37: 62 | J37: 59 | K37: 82 | L37: 58 | M37: 59
A38: 1066162034931 | C38: 1 | F38: 83 | G38: 72 | H38: 73 | I38: 80 | J38: 79 | K38: 79 | L38: 60 | M38: 64
A39: 1076526034360 | F39: 132 | G39: 130 | H39: 135 | I39: 142 | J39: 127 | K39: 148 | L39: 123 | M39: 169
A40: 1076530407550 | B40: 1 | C40: 3 | D40: 4 | E40: 8 | F40: 10 | G40: 15 | H40: 9 | I40: 24 | J40: 5 | K40: 13 | L40: 6 | M40: 21
A41: 1076532034372 | B41: 84 | C41: 100 | D41: 92 | E41: 88
...

Sheet Race Data
B2: 1 | C2: 2 | D2: 3 | E2: 4 | F2: 5 | G2: 6 | H2: 7 | I2: 8 | J2: 9 | K2: 10 | L2: 11 | M2: 12 | N2: 13 | O2: 14
B3: KEY | C3: AUN | D3: LEA | E3: School | F3: Bld # | G3: Gender | H3: American Indian/Alaskan Native | I3: Black/African American (Not Hispanic) | J3: Hispanic (Any Race) | K3: White/Caucasian (Not Hispanic) | L3: Multi-Racial (Not Hispanic) | M3: Asian (Not Hispanic) | N3: Native Hawaiian or Other Pacific Islander (Not Hispanic) | O3: Total | P3: Tony 4-9-26
B4: 1005100007744Female | C4: 100510000 | D4: First Philadelphia Preparatory CS | E4: First Philadelphia Preparatory CS | F4: 7744 | G4: Female | H4: * | I4: 153 | J4: 112 | K4: 20 | L4: 46 | M4: * | O4: 336
B5: 1005100007744Male | C5: 100510000 | D5: First Philadelphia Preparatory CS | E5: First Philadelphia Preparatory CS | F5: 7744 | G5: Male | H5: * | I5: 175 | J5: 135 | K5: 27 | L5: 62 | M5: * | N5: * | O5: 405
B6: 1005100007744Total | C6: 100510000 | D6: First Philadelphia Preparatory CS | E6: First Philadelphia Preparatory CS Total | F6: 7744 | G6: Total | H6: * | I6: 328 | J6: 247 | K6: 47 | L6: 108 | M6: * | N6: * | O6: 741
B7: 1012603036001Female | C7: 101260303 | D7: Albert Gallatin Area SD | E7: Albert Gallatin Area SHS | F7: 6001 | G7: Female | H7: * | I7: 18 | J7: * | K7: 434 | L7: 17 | O7: 478
B8: 1012603036001Male | C8: 101260303 | D8: Albert Gallatin Area SD | E8: Albert Gallatin Area SHS | F8: 6001 | G8: Male | H8: * | I8: 19 | J8: * | K8: 440 | L8: 21 | M8: * | O8: 490
B9: 1012603036001Total | C9: 101260303 | D9: Albert Gallatin Area SD | E9: Albert Gallatin Area SHS Total | F9: 6001 | G9: Total | H9: * | I9: 37 | J9: 16 | K9: 874 | L9: 38 | M9: * | O9: 968
B10: 1012603037607Female | C10: 101260303 | D10: Albert Gallatin Area SD | E10: Albert Gallatin North MS | F10: 7607 | G10: Female | I10: * | K10: 91 | L10: * | O10: 104
B11: 1012603037607Male | C11: 101260303 | D11: Albert Gallatin Area SD | E11: Albert Gallatin North MS | F11: 7607 | G11: Male | I11: * | K11: 111 | L11: * | O11: 121
B12: 1012603037607Total | C12: 101260303 | D12: Albert Gallatin Area SD | E12: Albert Gallatin North MS Total | F12: 7607 | G12: Total | I12: * | K12: 202 | L12: 15 | O12: 225
B13: 1012603037608Female | C13: 101260303 | D13: Albert Gallatin Area SD | E13: Albert Gallatin South MS | F13: 7608 | G13: Female | H13: * | I13: * | J13: * | K13: 94 | L13: * | O13: 106
B14: 1012603037608Male | C14: 101260303 | D14: Albert Gallatin Area SD | E14: Albert Gallatin South MS | F14: 7608 | G14: Male | I14: * | K14: 93 | L14: * | O14: 100
B15: 1012603037608Total | C15: 101260303 | D15: Albert Gallatin Area SD | E15: Albert Gallatin South MS Total | F15: 7608 | G15: Total | H15: * | I15: * | J15: * | K15: 187 | L15: 11 | O15: 206
B16: 1012608032154Female | C16: 101260803 | D16: Brownsville Area SD | E16: Brownsville Area MS | F16: 2154 | G16: Female | I16: * | J16: * | K16: 88 | L16: * | O16: 104
B17: 1012608032154Male | C17: 101260803 | D17: Brownsville Area SD | E17: Brownsville Area MS | F17: 2154 | G17: Male | I17: * | J17: * | K17: 98 | L17: * | O17: 109
B18: 1012608032154Total | C18: 101260803 | D18: Brownsville Area SD | E18: Brownsville Area MS Total | F18: 2154 | G18: Total | I18: * | J18: * | K18: 186 | L18: 13 | O18: 213
B19: 1012608034818Female | C19: 101260803 | D19: Brownsville Area SD | E19: Brownsville Area HS | F19: 4818 | G19: Female | H19: * | I19: 15 | J19: * | K19: 154 | L19: 25 | M19: * | O19: 202
B20: 1012608034818Male | C20: 101260803 | D20: Brownsville Area SD | E20: Brownsville Area HS | F20: 4818 | G20: Male | I20: 12 | J20: * | K20: 177 | L20: 26 | O20: 217
B21: 1012608034818Total | C21: 101260803 | D21: Brownsville Area SD | E21: Brownsville Area HS Total | F21: 4818 | G21: Total | H21: * | I21: 27 | J21: * | K21: 331 | L21: 51 | M21: * | O21: 419
B22: 1012613022105Female | C22: 101261302 | D22: Connellsville Area SD | E22: Connellsville Area MS | F22: 2105 | G22: Female | I22: * | J22: * | K22: 259 | L22: 11 | O22: 277
B23: 1012613022105Male | C23: 101261302 | D23: Connellsville Area SD | E23: Connellsville Area MS | F23: 2105 | G23: Male | I23: * | J23: * | K23: 262 | L23: 14 | O23: 288
B24: 1012613022105Total | C24: 101261302 | D24: Connellsville Area SD | E24: Connellsville Area MS Total | F24: 2105 | G24: Total | I24: 12 | J24: * | K24: 521 | L24: 25 | O24: 565
B25: 1012613025228Female | C25: 101261302 | D25: Connellsville Area SD | E25: Connellsville Area SHS | F25: 5228 | G25: Female | H25: * | I25: 11 | J25: * | K25: 451 | L25: 24 | M25: * | O25: 497
B26: 1012613025228Male | C26: 101261302 | D26: Connellsville Area SD | E26: Connellsville Area SHS | F26: 5228 | G26: Male | I26: 16 | J26: 14 | K26: 531 | L26: 21 | M26: * | O26: 584
B27: 1012613025228Total | C27: 101261302 | D27: Connellsville Area SD | E27: Connellsville Area SHS Total | F27: 5228 | G27: Total | H27: * | I27: 27 | J27: 22 | K27: 982 | L27: 45 | M27: * | O27: 1081
B28: 1012629032126Female | C28: 101262903 | D28: Frazier SD | E28: Frazier HS | F28: 2126 | G28: Female | I28: * | J28: * | K28: 140 | L28: * | O28: 147
B29: 1012629032126Male | C29: 101262903 | D29: Frazier SD | E29: Frazier HS | F29: 2126 | G29: Male | I29: * | J29: * | K29: 159 | L29: * | M29: * | O29: 167
B30: 1012629032126Total | C30: 101262903 | D30: Frazier SD | E30: Frazier HS Total | F30: 2126 | G30: Total | I30: * | J30: * | K30: 299 | L30: * | M30: * | O30: 314
B31: 1012629037176Female | C31: 101262903 | D31: Frazier SD | E31: Frazier MS | F31: 7176 | G31: Female | K31: 66 | L31: * | O31: 68
B32: 1012629037176Male | C32: 101262903 | D32: Frazier SD | E32: Frazier MS | F32: 7176 | G32: Male | I32: * | K32: 77 | L32: * | O32: 81
B33: 1012629037176Total | C33: 101262903 | D33: Frazier SD | E33: Frazier MS Total | F33: 7176 | G33: Total | I33: * | K33: 143 | L33: * | O33: 149
B34: 1012640035146Female | C34: 101264003 | D34: Laurel Highlands SD | E34: Laurel Highlands MS | F34: 5146 | G34: Female | I34: 12 | J34: * | K34: 173 | L34: 16 | N34: * | O34: 210
B35: 1012640035146Male | C35: 101264003 | D35: Laurel Highlands SD | E35: Laurel Highlands MS | F35: 5146 | G35: Male | I35: 16 | J35: * | K35: 172 | L35: 21 | M35: * | N35: * | O35: 219
B36: 1012640035146Total | C36: 101264003 | D36: Laurel Highlands SD | E36: Laurel Highlands MS Total | F36: 5146 | G36: Total | I36: 28 | J36: * | K36: 345 | L36: 37 | M36: * | N36: * | O36: 429
B37: 1012640036600Female | C37: 101264003 | D37: Laurel Highlands SD | E37: Laurel Highlands SHS | F37: 6600 | G37: Female | I37: 23 | J37: * | K37: 324 | L37: 29 | M37: * | N37: * | O37: 386
B38: 1012640036600Male | C38: 101264003 | D38: Laurel Highlands SD | E38: Laurel Highlands SHS | F38: 6600 | G38: Male | H38: * | I38: 15 | J38: * | K38: 335 | L38: 27 | M38: * | N38: * | O38: 391
B39: 1012640036600Total | C39: 101264003 | D39: Laurel Highlands SD | E39: Laurel Highlands SHS Total | F39: 6600 | G39: Total | H39: * | I39: 38 | J39: 11 | K39: 659 | L39: 56 | M39: * | N39: * | O39: 777
B40: 1012660076643Female | C40: 101266007 | D40: Connellsville Area Career & Technical Ce | E40: Connellsville Area Career & Technical Ce | F40: 6643 | G40: Female | I40: * | J40: * | K40: 192 | L40: * | O40: 212
B41: 1012660076643Male | C41: 101266007 | D41: Connellsville Area Career & Technical Ce | E41: Connellsville Area Career & Technical Ce | F41: 6643 | G41: Male | I41: * | J41: * | K41: 353 | L41: 12 | O41: 384
...
