Workbook

Sheet Preliminary Report 
D2: . Voter Approved Overrides . | J2: COMPARE TO PRIOR YEAR - Final Report - Send District Email of Significant Change +/- 15 %
A3: CODE | B3: COUNTY | C3: DISTRICT | D3: Amount Authorized | E3: Amount Collected | F3: Amount Distributed to Charter School | G3: Amount Distributed to Non-Charter Schools | H3: Amount Retained by District | J3: Amount Authorized Prior Year | K3: Difference | M3: emails sent 7/20/2026 of 15% variance
L4: % Change | M4: Business Manager | N4: Data Pipeline Submitter | O4: Notes
A5: 0010 | B5: ADAMS | C5: =UPPER(VLOOKUP(A5,Contacts!I:J,2,FALSE)) -> MAPLETON 1 | D5: =SUMIFS(Data!$N:$N,Data!$B:$B,'Preliminary Report '!$A5,Data!$I:$I,"1170") -> 19570783 | E5: =SUMIFS(Data!$N:$N,Data!$B:$B,'Preliminary Report '!$A5,Data!$I:$I,"1171") -> 19570783 | F5: =SUMIFS(Data!$N:$N,Data!$B:$B,'Preliminary Report '!$A5,Data!$I:$I,"1172") -> 0 | G5: =SUMIFS(Data!$N:$N,Data!$B:$B,'Preliminary Report '!$A5,Data!$I:$I,"1173") -> 0 | H5: =SUMIFS(Data!$N:$N,Data!$B:$B,'Preliminary Report '!$A5,Data!$I:$I,"1174") -> 19570783 | J5: 18425051 | K5: =+D5-J5 -> 1145732 | L5: =IFERROR(+K5/J5,0) -> 0.062183383
A6: 0020 | B6: ADAMS | C6: =UPPER(VLOOKUP(A6,Contacts!I:J,2,FALSE)) -> ADAMS 12 FIVE STAR SCHOOLS | D6: =SUMIFS(Data!$N:$N,Data!$B:$B,'Preliminary Report '!$A6,Data!$I:$I,"1170") -> 69291314 | E6: =SUMIFS(Data!$N:$N,Data!$B:$B,'Preliminary Report '!$A6,Data!$I:$I,"1171") -> 68926053 | F6: =SUMIFS(Data!$N:$N,Data!$B:$B,'Preliminary Report '!$A6,Data!$I:$I,"1172") -> 6305023 | G6: =SUMIFS(Data!$N:$N,Data!$B:$B,'Preliminary Report '!$A6,Data!$I:$I,"1173") -> 0 | H6: =SUMIFS(Data!$N:$N,Data!$B:$B,'Preliminary Report '!$A6,Data!$I:$I,"1174") -> 62621030 | J6: 65228873 | K6: =+D6-J6 -> 4062441 | L6: =IFERROR(+K6/J6,0) -> 0.062279797
A7: 0030 | B7: ADAMS | C7: =UPPER(VLOOKUP(A7,Contacts!I:J,2,FALSE)) -> ADAMS COUNTY 14 | D7: =SUMIFS(Data!$N:$N,Data!$B:$B,'Preliminary Report '!$A7,Data!$I:$I,"1170") -> 14890000 | E7: =SUMIFS(Data!$N:$N,Data!$B:$B,'Preliminary Report '!$A7,Data!$I:$I,"1171") -> 14890000 | F7: =SUMIFS(Data!$N:$N,Data!$B:$B,'Preliminary Report '!$A7,Data!$I:$I,"1172") -> 0 | G7: =SUMIFS(Data!$N:$N,Data!$B:$B,'Preliminary Report '!$A7,Data!$I:$I,"1173") -> 14890000 | H7: =SUMIFS(Data!$N:$N,Data!$B:$B,'Preliminary Report '!$A7,Data!$I:$I,"1174") -> 0 | J7: 4890000 | K7: =+D7-J7 -> 10000000 | L7: =IFERROR(+K7/J7,0) -> 2.0449898 | M7: =VLOOKUP(A7,Contacts!A:B,2,FALSE) -> dmoss@adams14.org | N7: =VLOOKUP(A7,Contacts!D:F,3,FALSE) -> dlsmart@adams14.org | O7: 7/20- amount confirmed by dmoss at adams 14
A8: 0040 | B8: ADAMS | C8: =UPPER(VLOOKUP(A8,Contacts!I:J,2,FALSE)) -> SCHOOL DISTRICT 27J | D8: =SUMIFS(Data!$N:$N,Data!$B:$B,'Preliminary Report '!$A8,Data!$I:$I,"1170") -> 26436973 | E8: =SUMIFS(Data!$N:$N,Data!$B:$B,'Preliminary Report '!$A8,Data!$I:$I,"1171") -> 26436973 | F8: =SUMIFS(Data!$N:$N,Data!$B:$B,'Preliminary Report '!$A8,Data!$I:$I,"1172") -> 5334893 | G8: =SUMIFS(Data!$N:$N,Data!$B:$B,'Preliminary Report '!$A8,Data!$I:$I,"1173") -> 0 | H8: =SUMIFS(Data!$N:$N,Data!$B:$B,'Preliminary Report '!$A8,Data!$I:$I,"1174") -> 21102080 | J8: 24950592 | K8: =+D8-J8 -> 1486381 | L8: =IFERROR(+K8/J8,0) -> 0.059572975
A9: 0050 | B9: ADAMS | C9: =UPPER(VLOOKUP(A9,Contacts!I:J,2,FALSE)) -> BENNETT 29J | D9: =SUMIFS(Data!$N:$N,Data!$B:$B,'Preliminary Report '!$A9,Data!$I:$I,"1170") -> 0 | E9: =SUMIFS(Data!$N:$N,Data!$B:$B,'Preliminary Report '!$A9,Data!$I:$I,"1171") -> 0 | F9: =SUMIFS(Data!$N:$N,Data!$B:$B,'Preliminary Report '!$A9,Data!$I:$I,"1172") -> 0 | G9: =SUMIFS(Data!$N:$N,Data!$B:$B,'Preliminary Report '!$A9,Data!$I:$I,"1173") -> 0 | H9: =SUMIFS(Data!$N:$N,Data!$B:$B,'Preliminary Report '!$A9,Data!$I:$I,"1174") -> 0 | J9: 0 | K9: =+D9-J9 -> 0 | L9: =IFERROR(+K9/J9,0) -> 0
A10: 0060 | B10: ADAMS | C10: =UPPER(VLOOKUP(A10,Contacts!I:J,2,FALSE)) -> STRASBURG 31J | D10: =SUMIFS(Data!$N:$N,Data!$B:$B,'Preliminary Report '!$A10,Data!$I:$I,"1170") -> 299941 | E10: =SUMIFS(Data!$N:$N,Data!$B:$B,'Preliminary Report '!$A10,Data!$I:$I,"1171") -> 299941 | F10: =SUMIFS(Data!$N:$N,Data!$B:$B,'Preliminary Report '!$A10,Data!$I:$I,"1172") -> 0 | G10: =SUMIFS(Data!$N:$N,Data!$B:$B,'Preliminary Report '!$A10,Data!$I:$I,"1173") -> 0 | H10: =SUMIFS(Data!$N:$N,Data!$B:$B,'Preliminary Report '!$A10,Data!$I:$I,"1174") -> 299941 | J10: 300000 | K10: =+D10-J10 -> -59 | L10: =IFERROR(+K10/J10,0) -> -0.00019666667
A11: 0070 | B11: ADAMS | C11: =UPPER(VLOOKUP(A11,Contacts!I:J,2,FALSE)) -> WESTMINSTER PUBLIC SCHOOLS | D11: =SUMIFS(Data!$N:$N,Data!$B:$B,'Preliminary Report '!$A11,Data!$I:$I,"1170") -> 27880319 | E11: =SUMIFS(Data!$N:$N,Data!$B:$B,'Preliminary Report '!$A11,Data!$I:$I,"1171") -> 27671757 | F11: =SUMIFS(Data!$N:$N,Data!$B:$B,'Preliminary Report '!$A11,Data!$I:$I,"1172") -> 0 | G11: =SUMIFS(Data!$N:$N,Data!$B:$B,'Preliminary Report '!$A11,Data!$I:$I,"1173") -> 0 | H11: =SUMIFS(Data!$N:$N,Data!$B:$B,'Preliminary Report '!$A11,Data!$I:$I,"1174") -> 27671757 | J11: 30286971 | K11: =+D11-J11 -> -2406651.5 | L11: =IFERROR(+K11/J11,0) -> -0.079461613
A12: 0100 | B12: ALAMOSA | C12: =UPPER(VLOOKUP(A12,Contacts!I:J,2,FALSE)) -> ALAMOSA RE-11J | D12: =SUMIFS(Data!$N:$N,Data!$B:$B,'Preliminary Report '!$A12,Data!$I:$I,"1170") -> 0 | E12: =SUMIFS(Data!$N:$N,Data!$B:$B,'Preliminary Report '!$A12,Data!$I:$I,"1171") -> 0 | F12: =SUMIFS(Data!$N:$N,Data!$B:$B,'Preliminary Report '!$A12,Data!$I:$I,"1172") -> 0 | G12: =SUMIFS(Data!$N:$N,Data!$B:$B,'Preliminary Report '!$A12,Data!$I:$I,"1173") -> 0 | H12: =SUMIFS(Data!$N:$N,Data!$B:$B,'Preliminary Report '!$A12,Data!$I:$I,"1174") -> 0 | J12: 0 | K12: =+D12-J12 -> 0 | L12: =IFERROR(+K12/J12,0) -> 0
A13: 0110 | B13: ALAMOSA | C13: =UPPER(VLOOKUP(A13,Contacts!I:J,2,FALSE)) -> SANGRE DE CRISTO RE-22J | D13: =SUMIFS(Data!$N:$N,Data!$B:$B,'Preliminary Report '!$A13,Data!$I:$I,"1170") -> 0 | E13: =SUMIFS(Data!$N:$N,Data!$B:$B,'Preliminary Report '!$A13,Data!$I:$I,"1171") -> 0 | F13: =SUMIFS(Data!$N:$N,Data!$B:$B,'Preliminary Report '!$A13,Data!$I:$I,"1172") -> 0 | G13: =SUMIFS(Data!$N:$N,Data!$B:$B,'Preliminary Report '!$A13,Data!$I:$I,"1173") -> 0 | H13: =SUMIFS(Data!$N:$N,Data!$B:$B,'Preliminary Report '!$A13,Data!$I:$I,"1174") -> 0 | J13: 0 | K13: =+D13-J13 -> 0 | L13: =IFERROR(+K13/J13,0) -> 0
A14: 0120 | B14: ARAPAHOE | C14: =UPPER(VLOOKUP(A14,Contacts!I:J,2,FALSE)) -> ENGLEWOOD 1 | D14: 6156350 | E14: 6156350 | F14: =SUMIFS(Data!$N:$N,Data!$B:$B,'Preliminary Report '!$A14,Data!$I:$I,"1172") -> 0 | G14: =SUMIFS(Data!$N:$N,Data!$B:$B,'Preliminary Report '!$A14,Data!$I:$I,"1173") -> 0 | H14: 6156350 | J14: 6155850 | K14: =+D14-J14 -> 500 | L14: =IFERROR(+K14/J14,0) -> 8.1223552e-05 | M14: =VLOOKUP(A14,Contacts!A:B,2,FALSE) -> hyesun_son@engschools.net | N14: =VLOOKUP(A14,Contacts!D:F,3,FALSE) -> hyesun_son@engschools.net | O14: 7/20 - email from Hyesun updated amount received from Hyeson
A15: 0123 | B15: ARAPAHOE | C15: =UPPER(VLOOKUP(A15,Contacts!I:J,2,FALSE)) -> SHERIDAN 2 | D15: =SUMIFS(Data!$N:$N,Data!$B:$B,'Preliminary Report '!$A15,Data!$I:$I,"1171") -> 3844493.6 | E15: =SUMIFS(Data!$N:$N,Data!$B:$B,'Preliminary Report '!$A15,Data!$I:$I,"1171") -> 3844493.6 | F15: =SUMIFS(Data!$N:$N,Data!$B:$B,'Preliminary Report '!$A15,Data!$I:$I,"1172") -> 0 | G15: =SUMIFS(Data!$N:$N,Data!$B:$B,'Preliminary Report '!$A15,Data!$I:$I,"1173") -> 0 | H15: =SUMIFS(Data!$N:$N,Data!$B:$B,'Preliminary Report '!$A15,Data!$I:$I,"1174") -> 3844493.6 | J15: 3822091 | K15: =+D15-J15 -> 22402.59 | L15: =IFERROR(+K15/J15,0) -> 0.005861344 | M15: =VLOOKUP(A15,Contacts!A:B,2,FALSE) -> pfeese@ssd2.org | N15: =VLOOKUP(A15,Contacts!D:F,3,FALSE) -> trizuto@ssd2.org | O15: 8/17 - email from Tracy, update Amount Authorized
A16: 0130 | B16: ARAPAHOE | C16: =UPPER(VLOOKUP(A16,Contacts!I:J,2,FALSE)) -> CHERRY CREEK 5 | D16: =SUMIFS(Data!$N:$N,Data!$B:$B,'Preliminary Report '!$A16,Data!$I:$I,"1170") -> 203636000 | E16: =SUMIFS(Data!$N:$N,Data!$B:$B,'Preliminary Report '!$A16,Data!$I:$I,"1171") -> 203636000 | F16: =SUMIFS(Data!$N:$N,Data!$B:$B,'Preliminary Report '!$A16,Data!$I:$I,"1172") -> 4161292.7 | G16: =SUMIFS(Data!$N:$N,Data!$B:$B,'Preliminary Report '!$A16,Data!$I:$I,"1173") -> 0 | H16: =SUMIFS(Data!$N:$N,Data!$B:$B,'Preliminary Report '!$A16,Data!$I:$I,"1174") -> 1.9947471e+08 | J16: 184126000 | K16: =+D16-J16 -> 19510000 | L16: =IFERROR(+K16/J16,0) -> 0.10596005
A17: 0140 | B17: ARAPAHOE | C17: =UPPER(VLOOKUP(A17,Contacts!I:J,2,FALSE)) -> LITTLETON 6 | D17: =SUMIFS(Data!$N:$N,Data!$B:$B,'Preliminary Report '!$A17,Data!$I:$I,"1170") -> 26498234 | E17: =SUMIFS(Data!$N:$N,Data!$B:$B,'Preliminary Report '!$A17,Data!$I:$I,"1171") -> 22812605 | F17: =SUMIFS(Data!$N:$N,Data!$B:$B,'Preliminary Report '!$A17,Data!$I:$I,"1172") -> 1012666 | G17: =SUMIFS(Data!$N:$N,Data!$B:$B,'Preliminary Report '!$A17,Data!$I:$I,"1173") -> 0 | H17: =SUMIFS(Data!$N:$N,Data!$B:$B,'Preliminary Report '!$A17,Data!$I:$I,"1174") -> 21799939 | J17: 26498234 | K17: =+D17-J17 -> 0 | L17: =IFERROR(+K17/J17,0) -> 0
A18: 0170 | B18: ARAPAHOE | C18: =UPPER(VLOOKUP(A18,Contacts!I:J,2,FALSE)) -> DEER TRAIL 26J | D18: =SUMIFS(Data!$N:$N,Data!$B:$B,'Preliminary Report '!$A18,Data!$I:$I,"1170") -> 0 | E18: =SUMIFS(Data!$N:$N,Data!$B:$B,'Preliminary Report '!$A18,Data!$I:$I,"1171") -> 0 | F18: =SUMIFS(Data!$N:$N,Data!$B:$B,'Preliminary Report '!$A18,Data!$I:$I,"1172") -> 0 | G18: =SUMIFS(Data!$N:$N,Data!$B:$B,'Preliminary Report '!$A18,Data!$I:$I,"1173") -> 0 | H18: =SUMIFS(Data!$N:$N,Data!$B:$B,'Preliminary Report '!$A18,Data!$I:$I,"1174") -> 0 | J18: 0 | K18: =+D18-J18 -> 0 | L18: =IFERROR(+K18/J18,0) -> 0
A19: 0180 | B19: ARAPAHOE | C19: =UPPER(VLOOKUP(A19,Contacts!I:J,2,FALSE)) -> ADAMS-ARAPAHOE 28J | D19: =SUMIFS(Data!$N:$N,Data!$B:$B,'Preliminary Report '!$A19,Data!$I:$I,"1170") -> 125440727 | E19: =SUMIFS(Data!$N:$N,Data!$B:$B,'Preliminary Report '!$A19,Data!$I:$I,"1171") -> 124813520 | F19: =SUMIFS(Data!$N:$N,Data!$B:$B,'Preliminary Report '!$A19,Data!$I:$I,"1172") -> 19668467 | G19: =SUMIFS(Data!$N:$N,Data!$B:$B,'Preliminary Report '!$A19,Data!$I:$I,"1173") -> 99351669 | H19: =SUMIFS(Data!$N:$N,Data!$B:$B,'Preliminary Report '!$A19,Data!$I:$I,"1174") -> 5793384 | J19: 117405438 | K19: =+D19-J19 -> 8035289 | L19: =IFERROR(+K19/J19,0) -> 0.068440518
A20: 0190 | B20: ARAPAHOE | C20: =UPPER(VLOOKUP(A20,Contacts!I:J,2,FALSE)) -> BYERS 32J | D20: =SUMIFS(Data!$N:$N,Data!$B:$B,'Preliminary Report '!$A20,Data!$I:$I,"1170") -> 240000 | E20: =SUMIFS(Data!$N:$N,Data!$B:$B,'Preliminary Report '!$A20,Data!$I:$I,"1171") -> 238589.08 | F20: =SUMIFS(Data!$N:$N,Data!$B:$B,'Preliminary Report '!$A20,Data!$I:$I,"1172") -> 0 | G20: =SUMIFS(Data!$N:$N,Data!$B:$B,'Preliminary Report '!$A20,Data!$I:$I,"1173") -> 0 | H20: =SUMIFS(Data!$N:$N,Data!$B:$B,'Preliminary Report '!$A20,Data!$I:$I,"1174") -> 238589.08 | J20: 240000 | K20: =+D20-J20 -> 0 | L20: =IFERROR(+K20/J20,0) -> 0
A21: 0220 | B21: ARCHULETA | C21: =UPPER(VLOOKUP(A21,Contacts!I:J,2,FALSE)) -> ARCHULETA COUNTY 50 JT | D21: =SUMIFS(Data!$N:$N,Data!$B:$B,'Preliminary Report '!$A21,Data!$I:$I,"1170") -> 1700000 | E21: =SUMIFS(Data!$N:$N,Data!$B:$B,'Preliminary Report '!$A21,Data!$I:$I,"1171") -> 1690744.8 | F21: =SUMIFS(Data!$N:$N,Data!$B:$B,'Preliminary Report '!$A21,Data!$I:$I,"1172") -> 108987.39 | G21: =SUMIFS(Data!$N:$N,Data!$B:$B,'Preliminary Report '!$A21,Data!$I:$I,"1173") -> 0 | H21: =SUMIFS(Data!$N:$N,Data!$B:$B,'Preliminary Report '!$A21,Data!$I:$I,"1174") -> 1581757.4 | J21: 1700000 | K21: =+D21-J21 -> 0 | L21: =IFERROR(+K21/J21,0) -> 0 | M21: eburt@pagosa.k12.co.us | O21: 7/31 - Eric confirmed as accurate
A22: 0230 | B22: BACA | C22: =UPPER(VLOOKUP(A22,Contacts!I:J,2,FALSE)) -> WALSH RE-1 | D22: =SUMIFS(Data!$N:$N,Data!$B:$B,'Preliminary Report '!$A22,Data!$I:$I,"1170") -> 0 | E22: =SUMIFS(Data!$N:$N,Data!$B:$B,'Preliminary Report '!$A22,Data!$I:$I,"1171") -> 0 | F22: =SUMIFS(Data!$N:$N,Data!$B:$B,'Preliminary Report '!$A22,Data!$I:$I,"1172") -> 0 | G22: =SUMIFS(Data!$N:$N,Data!$B:$B,'Preliminary Report '!$A22,Data!$I:$I,"1173") -> 0 | H22: =SUMIFS(Data!$N:$N,Data!$B:$B,'Preliminary Report '!$A22,Data!$I:$I,"1174") -> 0 | J22: 0 | K22: =+D22-J22 -> 0 | L22: =IFERROR(+K22/J22,0) -> 0
A23: 0240 | B23: BACA | C23: =UPPER(VLOOKUP(A23,Contacts!I:J,2,FALSE)) -> PRITCHETT RE-3 | D23: =SUMIFS(Data!$N:$N,Data!$B:$B,'Preliminary Report '!$A23,Data!$I:$I,"1170") -> 0 | E23: =SUMIFS(Data!$N:$N,Data!$B:$B,'Preliminary Report '!$A23,Data!$I:$I,"1171") -> 0 | F23: =SUMIFS(Data!$N:$N,Data!$B:$B,'Preliminary Report '!$A23,Data!$I:$I,"1172") -> 0 | G23: =SUMIFS(Data!$N:$N,Data!$B:$B,'Preliminary Report '!$A23,Data!$I:$I,"1173") -> 0 | H23: =SUMIFS(Data!$N:$N,Data!$B:$B,'Preliminary Report '!$A23,Data!$I:$I,"1174") -> 0 | J23: 0 | K23: =+D23-J23 -> 0 | L23: =IFERROR(+K23/J23,0) -> 0
A24: 0250 | B24: BACA | C24: =UPPER(VLOOKUP(A24,Contacts!I:J,2,FALSE)) -> SPRINGFIELD RE-4 | D24: =SUMIFS(Data!$N:$N,Data!$B:$B,'Preliminary Report '!$A24,Data!$I:$I,"1170") -> 0 | E24: =SUMIFS(Data!$N:$N,Data!$B:$B,'Preliminary Report '!$A24,Data!$I:$I,"1171") -> 0 | F24: =SUMIFS(Data!$N:$N,Data!$B:$B,'Preliminary Report '!$A24,Data!$I:$I,"1172") -> 0 | G24: =SUMIFS(Data!$N:$N,Data!$B:$B,'Preliminary Report '!$A24,Data!$I:$I,"1173") -> 0 | H24: =SUMIFS(Data!$N:$N,Data!$B:$B,'Preliminary Report '!$A24,Data!$I:$I,"1174") -> 0 | J24: 0 | K24: =+D24-J24 -> 0 | L24: =IFERROR(+K24/J24,0) -> 0
A25: 0260 | B25: BACA | C25: =UPPER(VLOOKUP(A25,Contacts!I:J,2,FALSE)) -> VILAS RE-5 | D25: =SUMIFS(Data!$N:$N,Data!$B:$B,'Preliminary Report '!$A25,Data!$I:$I,"1170") -> 0 | E25: =SUMIFS(Data!$N:$N,Data!$B:$B,'Preliminary Report '!$A25,Data!$I:$I,"1171") -> 0 | F25: =SUMIFS(Data!$N:$N,Data!$B:$B,'Preliminary Report '!$A25,Data!$I:$I,"1172") -> 0 | G25: =SUMIFS(Data!$N:$N,Data!$B:$B,'Preliminary Report '!$A25,Data!$I:$I,"1173") -> 0 | H25: =SUMIFS(Data!$N:$N,Data!$B:$B,'Preliminary Report '!$A25,Data!$I:$I,"1174") -> 0 | J25: 0 | K25: =+D25-J25 -> 0 | L25: =IFERROR(+K25/J25,0) -> 0
A26: 0270 | B26: BACA | C26: =UPPER(VLOOKUP(A26,Contacts!I:J,2,FALSE)) -> CAMPO RE-6 | D26: =SUMIFS(Data!$N:$N,Data!$B:$B,'Preliminary Report '!$A26,Data!$I:$I,"1170") -> 150000 | E26: =SUMIFS(Data!$N:$N,Data!$B:$B,'Preliminary Report '!$A26,Data!$I:$I,"1171") -> 146025 | F26: =SUMIFS(Data!$N:$N,Data!$B:$B,'Preliminary Report '!$A26,Data!$I:$I,"1172") -> 0 | G26: =SUMIFS(Data!$N:$N,Data!$B:$B,'Preliminary Report '!$A26,Data!$I:$I,"1173") -> 0 | H26: =SUMIFS(Data!$N:$N,Data!$B:$B,'Preliminary Report '!$A26,Data!$I:$I,"1174") -> 146025 | J26: 150000 | K26: =+D26-J26 -> 0 | L26: =IFERROR(+K26/J26,0) -> 0
A27: 0290 | B27: BENT | C27: =UPPER(VLOOKUP(A27,Contacts!I:J,2,FALSE)) -> LAS ANIMAS RE-1 | D27: =SUMIFS(Data!$N:$N,Data!$B:$B,'Preliminary Report '!$A27,Data!$I:$I,"1170") -> 0 | E27: =SUMIFS(Data!$N:$N,Data!$B:$B,'Preliminary Report '!$A27,Data!$I:$I,"1171") -> 0 | F27: =SUMIFS(Data!$N:$N,Data!$B:$B,'Preliminary Report '!$A27,Data!$I:$I,"1172") -> 0 | G27: =SUMIFS(Data!$N:$N,Data!$B:$B,'Preliminary Report '!$A27,Data!$I:$I,"1173") -> 0 | H27: =SUMIFS(Data!$N:$N,Data!$B:$B,'Preliminary Report '!$A27,Data!$I:$I,"1174") -> 0 | J27: 0 | K27: =+D27-J27 -> 0 | L27: =IFERROR(+K27/J27,0) -> 0
A28: 0310 | B28: BENT | C28: =UPPER(VLOOKUP(A28,Contacts!I:J,2,FALSE)) -> MCCLAVE RE-2 | D28: =SUMIFS(Data!$N:$N,Data!$B:$B,'Preliminary Report '!$A28,Data!$I:$I,"1170") -> 0 | E28: =SUMIFS(Data!$N:$N,Data!$B:$B,'Preliminary Report '!$A28,Data!$I:$I,"1171") -> 0 | F28: =SUMIFS(Data!$N:$N,Data!$B:$B,'Preliminary Report '!$A28,Data!$I:$I,"1172") -> 0 | G28: =SUMIFS(Data!$N:$N,Data!$B:$B,'Preliminary Report '!$A28,Data!$I:$I,"1173") -> 0 | H28: =SUMIFS(Data!$N:$N,Data!$B:$B,'Preliminary Report '!$A28,Data!$I:$I,"1174") -> 0 | J28: 0 | K28: =+D28-J28 -> 0 | L28: =IFERROR(+K28/J28,0) -> 0
A29: 0470 | B29: BOULDER | C29: =UPPER(VLOOKUP(A29,Contacts!I:J,2,FALSE)) -> ST VRAIN VALLEY RE1J | D29: =SUMIFS(Data!$N:$N,Data!$B:$B,'Preliminary Report '!$A29,Data!$I:$I,"1170") -> 70769244 | E29: =SUMIFS(Data!$N:$N,Data!$B:$B,'Preliminary Report '!$A29,Data!$I:$I,"1171") -> 70201964 | F29: =SUMIFS(Data!$N:$N,Data!$B:$B,'Preliminary Report '!$A29,Data!$I:$I,"1172") -> 6951089 | G29: =SUMIFS(Data!$N:$N,Data!$B:$B,'Preliminary Report '!$A29,Data!$I:$I,"1173") -> 0 | H29: =SUMIFS(Data!$N:$N,Data!$B:$B,'Preliminary Report '!$A29,Data!$I:$I,"1174") -> 63250875 | J29: 80733645 | K29: =+D29-J29 -> -9964401 | L29: =IFERROR(+K29/J29,0) -> -0.12342315 | M29: =VLOOKUP(A29,Contacts!A:B,2,FALSE) -> frederick_jane@svvsd.org | N29: =VLOOKUP(A29,Contacts!D:F,3,FALSE) -> livermore_marion@svvsd.org | O29: 7/21 - amount confirmed by mimi as accurate
A30: 0480 | B30: BOULDER | C30: =UPPER(VLOOKUP(A30,Contacts!I:J,2,FALSE)) -> BOULDER VALLEY RE 2 | D30: =SUMIFS(Data!$N:$N,Data!$B:$B,'Preliminary Report '!$A30,Data!$I:$I,"1170") -> 82535082 | E30: =SUMIFS(Data!$N:$N,Data!$B:$B,'Preliminary Report '!$A30,Data!$I:$I,"1171") -> 80826044 | F30: =SUMIFS(Data!$N:$N,Data!$B:$B,'Preliminary Report '!$A30,Data!$I:$I,"1172") -> 7174515 | G30: =SUMIFS(Data!$N:$N,Data!$B:$B,'Preliminary Report '!$A30,Data!$I:$I,"1173") -> 0 | H30: =SUMIFS(Data!$N:$N,Data!$B:$B,'Preliminary Report '!$A30,Data!$I:$I,"1174") -> 73651529 | J30: 80134092 | K30: =+D30-J30 -> 2400990 | L30: =IFERROR(+K30/J30,0) -> 0.029962154
A31: 0490 | B31: CHAFFEE | C31: =UPPER(VLOOKUP(A31,Contacts!I:J,2,FALSE)) -> BUENA VISTA R-31 | D31: =SUMIFS(Data!$N:$N,Data!$B:$B,'Preliminary Report '!$A31,Data!$I:$I,"1170") -> 3383102 | E31: =SUMIFS(Data!$N:$N,Data!$B:$B,'Preliminary Report '!$A31,Data!$I:$I,"1171") -> 3383102 | F31: =SUMIFS(Data!$N:$N,Data!$B:$B,'Preliminary Report '!$A31,Data!$I:$I,"1172") -> 0 | G31: =SUMIFS(Data!$N:$N,Data!$B:$B,'Preliminary Report '!$A31,Data!$I:$I,"1173") -> 3233102 | H31: =SUMIFS(Data!$N:$N,Data!$B:$B,'Preliminary Report '!$A31,Data!$I:$I,"1174") -> 150000 | J31: 2692098.6 | K31: =+D31-J31 -> 691003.36 | L31: =IFERROR(+K31/J31,0) -> 0.25667832 | M31: =VLOOKUP(A31,Contacts!A:B,2,FALSE) -> justinh@bvschools.org | N31: =VLOOKUP(A31,Contacts!D:F,3,FALSE) -> jennys@bvschools.org
A32: 0500 | B32: CHAFFEE | C32: =UPPER(VLOOKUP(A32,Contacts!I:J,2,FALSE)) -> SALIDA R-32 | D32: =SUMIFS(Data!$N:$N,Data!$B:$B,'Preliminary Report '!$A32,Data!$I:$I,"1170") -> 2913315 | E32: =SUMIFS(Data!$N:$N,Data!$B:$B,'Preliminary Report '!$A32,Data!$I:$I,"1171") -> 2913315 | F32: =SUMIFS(Data!$N:$N,Data!$B:$B,'Preliminary Report '!$A32,Data!$I:$I,"1172") -> 0 | G32: =SUMIFS(Data!$N:$N,Data!$B:$B,'Preliminary Report '!$A32,Data!$I:$I,"1173") -> 0 | H32: =SUMIFS(Data!$N:$N,Data!$B:$B,'Preliminary Report '!$A32,Data!$I:$I,"1174") -> 2913315 | J32: 2889945 | K32: =+D32-J32 -> 23370 | L32: =IFERROR(+K32/J32,0) -> 0.0080866591
A33: 0510 | B33: CHEYENNE | C33: =UPPER(VLOOKUP(A33,Contacts!I:J,2,FALSE)) -> KIT CARSON R-1 | D33: =SUMIFS(Data!$N:$N,Data!$B:$B,'Preliminary Report '!$A33,Data!$I:$I,"1170") -> 423682 | E33: =SUMIFS(Data!$N:$N,Data!$B:$B,'Preliminary Report '!$A33,Data!$I:$I,"1171") -> 424684.29 | F33: =SUMIFS(Data!$N:$N,Data!$B:$B,'Preliminary Report '!$A33,Data!$I:$I,"1172") -> 0 | G33: =SUMIFS(Data!$N:$N,Data!$B:$B,'Preliminary Report '!$A33,Data!$I:$I,"1173") -> 0 | H33: =SUMIFS(Data!$N:$N,Data!$B:$B,'Preliminary Report '!$A33,Data!$I:$I,"1174") -> 424684.29 | J33: 423392 | K33: =+D33-J33 -> 290 | L33: =IFERROR(+K33/J33,0) -> 0.00068494445
A34: 0520 | B34: CHEYENNE | C34: =UPPER(VLOOKUP(A34,Contacts!I:J,2,FALSE)) -> CHEYENNE COUNTY RE-5 | D34: =SUMIFS(Data!$N:$N,Data!$B:$B,'Preliminary Report '!$A34,Data!$I:$I,"1170") -> 1596720.9 | E34: =SUMIFS(Data!$N:$N,Data!$B:$B,'Preliminary Report '!$A34,Data!$I:$I,"1171") -> 1599832.7 | F34: =SUMIFS(Data!$N:$N,Data!$B:$B,'Preliminary Report '!$A34,Data!$I:$I,"1172") -> 0 | G34: =SUMIFS(Data!$N:$N,Data!$B:$B,'Preliminary Report '!$A34,Data!$I:$I,"1173") -> 0 | H34: =SUMIFS(Data!$N:$N,Data!$B:$B,'Preliminary Report '!$A34,Data!$I:$I,"1174") -> 1599832.7 | J34: 820754.44 | K34: =+D34-J34 -> 775966.41 | L34: =IFERROR(+K34/J34,0) -> 0.94543066 | M34: =VLOOKUP(A34,Contacts!A:B,2,FALSE) -> anna.quint@cheyennesd.net | N34: =VLOOKUP(A34,Contacts!D:F,3,FALSE) -> anna.quint@cheyennesd.net
A35: 0540 | B35: CLEAR CREEK | C35: =UPPER(VLOOKUP(A35,Contacts!I:J,2,FALSE)) -> CLEAR CREEK RE-1 | D35: =SUMIFS(Data!$N:$N,Data!$B:$B,'Preliminary Report '!$A35,Data!$I:$I,"1170") -> 2950016 | E35: =SUMIFS(Data!$N:$N,Data!$B:$B,'Preliminary Report '!$A35,Data!$I:$I,"1171") -> 2947951 | F35: =SUMIFS(Data!$N:$N,Data!$B:$B,'Preliminary Report '!$A35,Data!$I:$I,"1172") -> 333098.65 | G35: =SUMIFS(Data!$N:$N,Data!$B:$B,'Preliminary Report '!$A35,Data!$I:$I,"1173") -> 1673505.5 | H35: =SUMIFS(Data!$N:$N,Data!$B:$B,'Preliminary Report '!$A35,Data!$I:$I,"1174") -> 941346.84 | J35: 2566756 | K35: =+D35-J35 -> 383260 | L35: =IFERROR(+K35/J35,0) -> 0.14931688 | M35: =VLOOKUP(A35,Contacts!A:B,2,FALSE) -> jennifer.behring@ccsdre1.org | N35: =VLOOKUP(A35,Contacts!D:F,3,FALSE) -> jennifer.behring@ccsdre1.org | O35: 7/21 -amount confirmed by Jennifer as accurate
A36: 0550 | B36: CONEJOS | C36: =UPPER(VLOOKUP(A36,Contacts!I:J,2,FALSE)) -> NORTH CONEJOS RE-1J | D36: =SUMIFS(Data!$N:$N,Data!$B:$B,'Preliminary Report '!$A36,Data!$I:$I,"1170") -> 0 | E36: =SUMIFS(Data!$N:$N,Data!$B:$B,'Preliminary Report '!$A36,Data!$I:$I,"1171") -> 0 | F36: =SUMIFS(Data!$N:$N,Data!$B:$B,'Preliminary Report '!$A36,Data!$I:$I,"1172") -> 0 | G36: =SUMIFS(Data!$N:$N,Data!$B:$B,'Preliminary Report '!$A36,Data!$I:$I,"1173") -> 0 | H36: =SUMIFS(Data!$N:$N,Data!$B:$B,'Preliminary Report '!$A36,Data!$I:$I,"1174") -> 0 | J36: 0 | K36: =+D36-J36 -> 0 | L36: =IFERROR(+K36/J36,0) -> 0
A37: 0560 | B37: CONEJOS | C37: =UPPER(VLOOKUP(A37,Contacts!I:J,2,FALSE)) -> SANFORD 6J | D37: =SUMIFS(Data!$N:$N,Data!$B:$B,'Preliminary Report '!$A37,Data!$I:$I,"1170") -> 0 | E37: =SUMIFS(Data!$N:$N,Data!$B:$B,'Preliminary Report '!$A37,Data!$I:$I,"1171") -> 0 | F37: =SUMIFS(Data!$N:$N,Data!$B:$B,'Preliminary Report '!$A37,Data!$I:$I,"1172") -> 0 | G37: =SUMIFS(Data!$N:$N,Data!$B:$B,'Preliminary Report '!$A37,Data!$I:$I,"1173") -> 0 | H37: =SUMIFS(Data!$N:$N,Data!$B:$B,'Preliminary Report '!$A37,Data!$I:$I,"1174") -> 0 | J37: 0 | K37: =+D37-J37 -> 0 | L37: =IFERROR(+K37/J37,0) -> 0
A38: 0580 | B38: CONEJOS | C38: =UPPER(VLOOKUP(A38,Contacts!I:J,2,FALSE)) -> SOUTH CONEJOS RE-10 | D38: =SUMIFS(Data!$N:$N,Data!$B:$B,'Preliminary Report '!$A38,Data!$I:$I,"1170") -> 0 | E38: =SUMIFS(Data!$N:$N,Data!$B:$B,'Preliminary Report '!$A38,Data!$I:$I,"1171") -> 0 | F38: =SUMIFS(Data!$N:$N,Data!$B:$B,'Preliminary Report '!$A38,Data!$I:$I,"1172") -> 0 | G38: =SUMIFS(Data!$N:$N,Data!$B:$B,'Preliminary Report '!$A38,Data!$I:$I,"1173") -> 0 | H38: =SUMIFS(Data!$N:$N,Data!$B:$B,'Preliminary Report '!$A38,Data!$I:$I,"1174") -> 0 | J38: 0 | K38: =+D38-J38 -> 0 | L38: =IFERROR(+K38/J38,0) -> 0
A39: 0640 | B39: COSTILLA | C39: =UPPER(VLOOKUP(A39,Contacts!I:J,2,FALSE)) -> CENTENNIAL R-1 | D39: =SUMIFS(Data!$N:$N,Data!$B:$B,'Preliminary Report '!$A39,Data!$I:$I,"1170") -> 0 | E39: =SUMIFS(Data!$N:$N,Data!$B:$B,'Preliminary Report '!$A39,Data!$I:$I,"1171") -> 0 | F39: =SUMIFS(Data!$N:$N,Data!$B:$B,'Preliminary Report '!$A39,Data!$I:$I,"1172") -> 0 | G39: =SUMIFS(Data!$N:$N,Data!$B:$B,'Preliminary Report '!$A39,Data!$I:$I,"1173") -> 0 | H39: =SUMIFS(Data!$N:$N,Data!$B:$B,'Preliminary Report '!$A39,Data!$I:$I,"1174") -> 0 | J39: 0 | K39: =+D39-J39 -> 0 | L39: =IFERROR(+K39/J39,0) -> 0
A40: 0740 | B40: COSTILLA | C40: =UPPER(VLOOKUP(A40,Contacts!I:J,2,FALSE)) -> SIERRA GRANDE R-30 | D40: =SUMIFS(Data!$N:$N,Data!$B:$B,'Preliminary Report '!$A40,Data!$I:$I,"1170") -> 0 | E40: =SUMIFS(Data!$N:$N,Data!$B:$B,'Preliminary Report '!$A40,Data!$I:$I,"1171") -> 0 | F40: =SUMIFS(Data!$N:$N,Data!$B:$B,'Preliminary Report '!$A40,Data!$I:$I,"1172") -> 0 | G40: =SUMIFS(Data!$N:$N,Data!$B:$B,'Preliminary Report '!$A40,Data!$I:$I,"1173") -> 0 | H40: =SUMIFS(Data!$N:$N,Data!$B:$B,'Preliminary Report '!$A40,Data!$I:$I,"1174") -> 0 | J40: 0 | K40: =+D40-J40 -> 0 | L40: =IFERROR(+K40/J40,0) -> 0
A41: 0770 | B41: CROWLEY | C41: =UPPER(VLOOKUP(A41,Contacts!I:J,2,FALSE)) -> CROWLEY COUNTY RE-1-J | D41: =SUMIFS(Data!$N:$N,Data!$B:$B,'Preliminary Report '!$A41,Data!$I:$I,"1170") -> 357649 | E41: =SUMIFS(Data!$N:$N,Data!$B:$B,'Preliminary Report '!$A41,Data!$I:$I,"1171") -> 344107.22 | F41: =SUMIFS(Data!$N:$N,Data!$B:$B,'Preliminary Report '!$A41,Data!$I:$I,"1172") -> 0 | G41: =SUMIFS(Data!$N:$N,Data!$B:$B,'Preliminary Report '!$A41,Data!$I:$I,"1173") -> 0 | H41: =SUMIFS(Data!$N:$N,Data!$B:$B,'Preliminary Report '!$A41,Data!$I:$I,"1174") -> 344107.22 | J41: 345880 | K41: =+D41-J41 -> 11769 | L41: =IFERROR(+K41/J41,0) -> 0.034026252
...

Sheet Contacts
A1: District Code | B1: Email | D1: CODE | E1: LEA | F1: Data Pipeline Submitted User | G1: Submitted Date | I1: Organization Code | J1: Organization Name
A2: 0010 | B2: Storze@mapleton.us | D2: 0010 | E2: 0010-Mapleton 1 | F2: meynj@mapleton.us | G2: 01/16/2026 01:17 PM | I2: 0010 | J2: Mapleton 1
A3: 0020 | B3: lan017148@adams12.org | D3: 0020 | E3: 0020-Adams 12 Five Star Schools | F3: obe019581@adams12.org | G3: 12/10/2025 06:41 PM | I3: 0020 | J3: Adams 12 Five Star Schools
A4: 0030 | B4: dmoss@adams14.org | D4: 0030 | E4: 0030-Adams County 14 | F4: dlsmart@adams14.org | G4: 12/09/2025 09:40 AM | I4: 0030 | J4: Adams County 14
A5: 0040 | B5: syoshimoto@sd27j.net | D5: 0040 | E5: 0040-School District 27J | F5: chorner@sd27j.net | G5: 03/06/2026 03:38 PM | I5: 0040 | J5: School District 27J
A6: 0050 | B6: kstratton@bsd29j.com | D6: 0050 | E6: 0050-Bennett 29J | F6: kstratton@bsd29j.com | G6: 12/23/2025 04:02 PM | I6: 0050 | J6: Bennett 29J
A7: 0060 | B7: arosier@strasburg31j.com | D7: 0060 | E7: 0060-Strasburg 31J | F7: ntaylor@strasburg31j.com | G7: 12/18/2025 07:37 AM | I7: 0060 | J7: Strasburg 31J
A8: 0070 | B8: snees@adams50.org | D8: 0070 | E8: 0070-Westminster Public Schools | F8: chdominguez@wps.org | G8: 10/30/2025 10:18 AM | I8: 0070 | J8: Westminster Public Schools
A9: 0100 | B9: ahensley@alamosaschools.org;ccordero@alamosaschools.org | D9: 0100 | E9: 0100-Alamosa RE-11J | F9: ahensley@alamosaschools.org | G9: 01/28/2026 11:18 AM | I9: 0100 | J9: Alamosa RE-11J
A10: 0110 | B10: pfritz@sangreschools.org | D10: 0110 | E10: 0110-Sangre De Cristo Re-22J | F10: pfritz@sangreschools.org | G10: 02/27/2026 03:06 PM | I10: 0110 | J10: Sangre De Cristo Re-22J
A11: 0120 | B11: hyesun_son@engschools.net | D11: 0120 | E11: 0120-Englewood 1 | F11: hyesun_son@engschools.net | G11: 11/12/2025 04:43 PM | I11: 0120 | J11: Englewood 1
A12: 0123 | B12: pfeese@ssd2.org | D12: 0123 | E12: 0123-Sheridan 2 | F12: trizuto@ssd2.org | G12: 12/16/2025 11:17 AM | I12: 0123 | J12: Sheridan 2
... A45: 0920 | B45: abarnette@esdk12.org | D45: 0900 | E45: 0900-Douglas County Re 1 | F45: mvarsos@dcsdk12.org | G45: 02/02/2026 12:56 PM | I45: 0920 | J45: Elizabeth School District
A46: 0930 | B46: 0 | D46: 0910 | E46: 0910-Eagle County RE 50 | F46: bryson.beaver@eagleschools.net | G46: 12/22/2025 10:18 AM | I46: 0930 | J46: Kiowa C-2
A47: 0940 | B47: cjohnson@bigsandy100j.org | D47: 0920 | E47: 0920-Elizabeth School District | F47: tmcvicker@esdk12.org | G47: 02/17/2026 09:39 AM | I47: 0940 | J47: Big Sandy 100J
A48: 0950 | B48: ecornell@elbertschool.org | D48: 0930 | E48: 0930-Kiowa C-2 | F48: susan@boosfs.com | G48: 12/12/2025 09:21 AM | I48: 0950 | J48: Elbert 200
A49: 0960 | B49: keithy@agateschools.net | D49: 0940 | E49: 0940-Big Sandy 100J | F49: cjohnson@bigsandy100j.org | G49: 11/04/2025 09:59 AM | I49: 0960 | J49: Agate 300
A50: 0970 | B50: bharvey@calhanschool.org | D50: 0950 | E50: 0950-Elbert 200 | F50: ecornell@elbertschool.org | G50: 09/26/2025 09:44 AM | I50: 0970 | J50: Calhan RJ-1
A51: 0980 | B51: carcarese@hsd2.org; jmaksimowiz@hsd2.org | D51: 0960 | E51: 0960-Agate 300 | F51: keithy@agateschools.net | G51: 11/12/2025 08:40 AM | I51: 0980 | J51: Harrison 2
A52: 0990 | B52: kimbert@wsd3.org | D52: 0970 | E52: 0970-Calhan RJ-1 | F52: bclark@calhanschool.org | G52: 11/25/2025 02:56 PM | I52: 0990 | J52: Widefield 3
A53: 1000 | B53: svela@ffc8.org | D53: 0980 | E53: 0980-Harrison 2 | F53: svela@hsd2.org | G53: 11/03/2025 01:12 PM | I53: 1000 | J53: Fountain 8
A54: 1010 | B54: christopher.baker@d11.org | D54: 0990 | E54: 0990-Widefield 3 | F54: kimbert@wsd3.org | G54: 10/28/2025 09:50 AM | I54: 1010 | J54: Colorado Springs 11
A55: 1020 | B55: morin@cmsd12.org | D55: 1000 | E55: 1000-Fountain 8 | F55: askalla@ffc8.org | G55: 10/17/2025 02:50 PM | I55: 1020 | J55: Cheyenne Mountain 12
A56: 1030 | B56: sthompson@mssd14.org | D56: 1010 | E56: 1010-Colorado Springs 11 | F56: jarred.hoogsteen@d11.org | G56: 12/22/2025 03:42 PM | I56: 1030 | J56: Manitou Springs 14
A57: 1040 | B57: becky.allan@asd20.org | D57: 1020 | E57: 1020-Cheyenne Mountain 12 | F57: morin@cmsd12.org | G57: 12/04/2025 03:58 PM | I57: 1040 | J57: Academy 20
A58: 1050 | B58: brittanyclark@esd22.org | D58: 1030 | E58: 1030-Manitou Springs 14 | F58: sthompson@mssd14.org | G58: 12/29/2025 07:45 PM | I58: 1050 | J58: Ellicott 22
... A99: 1760 | B99: VACANT | D99: 1750 | E99: 1750-Branson Reorganized 82 | F99: marlene@bransonschoolonline.com | G99: 10/13/2025 03:58 PM | I99: 1760 | J99: Kim Reorganized 88
A100: 1780 | B100: mvaughn@genoahugo.org | D100: 1760 | E100: 1760-Kim Reorganized 88 | F100: kacie.leary@kimk12.org | G100: 12/18/2025 10:48 AM | I100: 1780 | J100: Genoa-Hugo C113
A101: 1790 | B101: steinhartk@limonbadgers.com | D101: 1780 | E101: 1780-Genoa-Hugo C113 | F101: mvaughn@genoahugo.org | G101: 01/02/2026 01:49 PM | I101: 1790 | J101: Limon RE-4J
A102: 1810 | B102: business.manager@ksdre23.org | D102: 1790 | E102: 1790-Limon RE-4J | F102: trujillok@limonbadgers.com | G102: 12/18/2025 10:22 AM | I102: 1810 | J102: Karval RE-23
A103: 1828 | B103: janesl@re1valleyschools.org | D103: 1810 | E103: 1810-Karval RE-23 | F103: business.manager@ksdre23.org | G103: 02/25/2026 01:24 PM | I103: 1828 | J103: Valley RE-1
A104: 1850 | B104: schliessera@flemingschools.org | D104: 1828 | E104: 1828-Valley RE-1 | F104: janesl@re1valleyschools.org | G104: 11/21/2025 02:08 PM | I104: 1850 | J104: Frenchman RE-3
A105: 1860 | B105: trampj@merinok12.com | D105: 1850 | E105: 1850-Frenchman RE-3 | F105: schliessera@flemingschools.org | G105: 12/02/2025 02:40 PM | I105: 1860 | J105: Buffalo RE-4J
A106: 1870 | B106: segelkeb@peetzschool.org | D106: 1860 | E106: 1860-Buffalo RE-4J | F106: trampj@merinok12.com | G106: 08/29/2025 03:29 PM | I106: 1870 | J106: Plateau RE-5
A107: 1980 | B107: mramthun@debeque.k12.co.us | D107: 1870 | E107: 1870-Plateau RE-5 | F107: segelkeb@peetzschool.org | G107: 11/25/2025 04:47 PM | I107: 1980 | J107: De Beque 49JT
A108: 1990 | B108: karen@k12accounting.com | D108: 1980 | E108: 1980-De Beque 49JT | F108: mramthun@debeque.k12.co.us | G108: 02/19/2026 09:54 AM | I108: 1990 | J108: Plateau Valley 50
A109: 2000 | B109: melanie.trujillo@d51schools.org | D109: 1990 | E109: 1990-Plateau Valley 50 | F109: karengrover@pvsd50.org | G109: 03/02/2026 08:24 AM | I109: 2000 | J109: Mesa County Valley 51
A110: 2010 | B110: lucinda.carpenter@creedek12.net | D110: 2000 | E110: 2000-Mesa County Valley 51 | F110: jennelle.ochoa@d51schools.org | G110: 12/18/2025 08:47 AM | I110: 2010 | J110: Creede School District
A111: 2020 | B111: kathryn.sampson@moffatsd.org | D111: 2010 | E111: 2010-Creede School District | F111: lucinda.carpenter@creedek12.net | G111: 02/19/2026 10:17 AM | I111: 2020 | J111: Moffat County RE: No 1
A112: 2035 | B112: dbrafford@cortez.k12.co.us | D112: 2020 | E112: 2020-Moffat County RE: No 1 | F112: kristi.ross@moffatsd.org | G112: 02/06/2026 11:44 AM | I112: 2035 | J112: Montezuma-Cortez RE-1
...

Sheet Data
A1: YEAR | B1: DIST | C1: ADMIN | D1: SCHOOL | E1: FUND | F1: LOC | G1: SRE | H1: PROG | I1: OBJ | J1: JOB | K1: GRANT | L1: FILE_TYPE_CODE | M1: AMOUNT | N1: FORMATTED
A2: 2025 | B2: 1030 | C2: 38060 | D2: 0000 | E2: 90 | F2: 000 | G2: 00 | H2: 0000 | I2: 1170 | J2: 000 | K2: 0000 | L2: RUP | M2: 435465889 | N2: 4354658.9
A3: 2025 | B3: 1010 | C3: 21050 | D3: 0000 | E3: 90 | F3: 000 | G3: 00 | H3: 0000 | I3: 1170 | J3: 000 | K3: 0000 | L3: RUP | M3: 8111234803 | N3: 81112348
A4: 2025 | B4: 1000 | C4: 21040 | D4: 0000 | E4: 90 | F4: 000 | G4: 00 | H4: 0000 | I4: 1170 | J4: 000 | K4: 0000 | L4: RUP | M4: 124243185 | N4: 1242431.9
A5: 2025 | B5: 0990 | C5: 21030 | D5: 0000 | E5: 90 | F5: 000 | G5: 00 | H5: 0000 | I5: 1170 | J5: 000 | K5: 0000 | L5: RUP | M5: 986585500 | N5: 9865855
A6: 2025 | B6: 0980 | C6: 21020 | D6: 0000 | E6: 90 | F6: 800 | G6: 00 | H6: 0000 | I6: 1170 | J6: 000 | K6: 0000 | L6: RUP | M6: 1474935844 | N6: 14749358
A7: 2025 | B7: 1120 | C7: 64133 | D7: 0000 | E7: 90 | F7: 000 | G7: 00 | H7: 0000 | I7: 1170 | J7: 000 | K7: 0000 | L7: RUP | M7: 0 | N7: 0
A8: 2025 | B8: 1110 | C8: 21090 | D8: 0000 | E8: 90 | F8: 000 | G8: 00 | H8: 0000 | I8: 1170 | J8: 000 | K8: 0000 | L8: RUP | M8: 3166810600 | N8: 31668106
A9: 2025 | B9: 1080 | C9: 21085 | D9: 0000 | E9: 90 | F9: 000 | G9: 00 | H9: 0000 | I9: 1170 | J9: 000 | K9: 0000 | L9: RUP | M9: 400000000 | N9: 4000000
A10: 2025 | B10: 1070 | C10: 64133 | D10: 0000 | E10: 90 | F10: 000 | G10: 00 | H10: 0000 | I10: 1170 | J10: 000 | K10: 0000 | L10: RUP | M10: 0 | N10: 0
A11: 2025 | B11: 1050 | C11: 64133 | D11: 0000 | E11: 90 | F11: 000 | G11: 00 | H11: 0000 | I11: 1170 | J11: 000 | K11: 0000 | L11: RUP | M11: 0 | N11: 0
A12: 2025 | B12: 1060 | C12: 64133 | D12: 0000 | E12: 90 | F12: 000 | G12: 00 | H12: 0000 | I12: 1170 | J12: 000 | K12: 0000 | L12: RUP | M12: 0 | N12: 0
A13: 2025 | B13: 1040 | C13: 21080 | D13: 0000 | E13: 90 | F13: 000 | G13: 00 | H13: 0000 | I13: 1170 | J13: 000 | K13: 0000 | L13: RUP | M13: 2674664300 | N13: 26746643
... A881: 2025 | B881: 0770 | C881: 64163 | D881: 0000 | E881: 90 | F881: 000 | G881: 00 | H881: 0000 | I881: 1174 | J881: 000 | K881: 0000 | L881: RUP | M881: 34410722 | N881: 344107.22

Sheet Compare
C1: totals from "Data" tab | D1: Preliminary Report Total | F1: Differences
B3: 1170 | C3: =SUMIF(Data!I:I,B3,Data!N:N) -> 2.0809524e+09 | D3: ='Preliminary Report '!D184 -> 2.1127596e+09 | F3: =C3-D3 -> -31807151
B4: 1171 | C4: =SUMIF(Data!I:I,B4,Data!N:N) -> 1.7127456e+09 | D4: ='Preliminary Report '!E184 -> 1.7396626e+09 | F4: =C4-D4 -> -26917071 | G4: 1140 - Canyon City
B5: 1172 | C5: =SUMIF(Data!I:I,B5,Data!N:N) -> 2.2152342e+08 | D5: ='Preliminary Report '!F184 -> 2.2259476e+08 | F5: =C5-D5 -> -1071338
B6: 1173 | C6: =SUMIF(Data!I:I,B6,Data!N:N) -> 2.6880757e+08 | D6: ='Preliminary Report '!G184 -> 2.6880757e+08 | F6: =C6-D6 -> 0
B7: 1174 | C7: =SUMIF(Data!I:I,B7,Data!N:N) -> 1.2224146e+09 | D7: ='Preliminary Report '!H184 -> 1.2482603e+09 | F7: =C7-D7 -> -25845734
C8: =SUM(C3:C7) -> 5.5064436e+09 | D8: =SUM(D3:D7) -> 5.5920849e+09
