Workbook

Sheet Local Travel - Write In
A1: Schedule of Local Travel Paid
A2: Not Involving Overnight Or Subsistence Expenses
C3: Effective July 1, 2026
A5: Full Name: | C5: Home Address:
A6: NAME SHOULD MATCH PAYCHECK IF APPLICABLE
A7: Unit: Duplin County Schools | C7: Period Covered:
A8: Payment Type: | C8: Mailing Address:
C9: (If different than home) | D9: ____________________________________
A10: Please note: This form MUST be submitted monthly--no later than the 10th of the following month.
B12: Official Travel | E12: Miles
A13: Date | B13: From | C13: To | D13: Purpose of Trip | E13: Traveled
C51: PLEASE DO NOT INSERT ROWS BELOW THIS LINE - INSERT ABOVE OR USE NEW FORM
A52: Total Travel Expense | C52: =SUM(E14:E51) -> 0 | D52: Miles @ $0.76 | E52: =+C52*0.76 -> 0
A54: PAYEE CERTIFICATION: This is a true and | D54: APPROVAL: I certify that the above
A55: accurate statement of mileage expenses | D55: expenses are necessary, proper, just, and
A56: incurred in discharging official business duties. | D56: reasonable and were paid as such.
A60: Payee | C60: Date | D60: Approving Official | E60: Date

Sheet Intra System Travel Menu
A1: In County Travel Form
A2: Not Involving Overnight Or Subsistence Expenses
C3: Effective July 1, 2026
A5: Full Name: | C5: Home Address:
A6: NAME SHOULD MATCH PAYCHECK IF APPLICABLE
A7: Unit: Duplin County Schools | C7: Period Covered: | D7: ____________________________________
A8: Payment Type: | C8: Mailing Address: | D8: ____________________________________
D9: ____________________________________
A10: Please note: This form MUST be submitted monthly--no later than the 10th of the following month.
B11: THIS FORM MAY BE USED FOR TRAVEL BETWEEN SCHOOLS AND/OR CENTRAL OFFICE.
B12: THERE IS ANOTHER TAB BELOW THAT CAN BE USED FOR OTHER TRAVEL.
B13: Official Travel | E13: Miles
A14: Date | B14: From | C14: To | D14: Purpose of Trip | E14: Traveled
E15: =IF(B15<>"",VLOOKUP(B15,'DCS Mileage Chart'!$A$4:$Q$20,MATCH('Intra System Travel Menu'!C15,'DCS Mileage Chart'!$A$4:$Q$4,0),FALSE),"")
E16: =IF(B16<>"",VLOOKUP(B16,'DCS Mileage Chart'!$A$4:$Q$20,MATCH('Intra System Travel Menu'!C16,'DCS Mileage Chart'!$A$4:$Q$4,0),FALSE),"")
E17: =IF(B17<>"",VLOOKUP(B17,'DCS Mileage Chart'!$A$4:$Q$20,MATCH('Intra System Travel Menu'!C17,'DCS Mileage Chart'!$A$4:$Q$4,0),FALSE),"")
E18: =IF(B18<>"",VLOOKUP(B18,'DCS Mileage Chart'!$A$4:$Q$20,MATCH('Intra System Travel Menu'!C18,'DCS Mileage Chart'!$A$4:$Q$4,0),FALSE),"")
E19: =IF(B19<>"",VLOOKUP(B19,'DCS Mileage Chart'!$A$4:$Q$20,MATCH('Intra System Travel Menu'!C19,'DCS Mileage Chart'!$A$4:$Q$4,0),FALSE),"")
E20: =IF(B20<>"",VLOOKUP(B20,'DCS Mileage Chart'!$A$4:$Q$20,MATCH('Intra System Travel Menu'!C20,'DCS Mileage Chart'!$A$4:$Q$4,0),FALSE),"")
E21: =IF(B21<>"",VLOOKUP(B21,'DCS Mileage Chart'!$A$4:$Q$20,MATCH('Intra System Travel Menu'!C21,'DCS Mileage Chart'!$A$4:$Q$4,0),FALSE),"")
E22: =IF(B22<>"",VLOOKUP(B22,'DCS Mileage Chart'!$A$4:$Q$20,MATCH('Intra System Travel Menu'!C22,'DCS Mileage Chart'!$A$4:$Q$4,0),FALSE),"")
E24: =IF(B24<>"",VLOOKUP(B24,'DCS Mileage Chart'!$A$4:$Q$20,MATCH('Intra System Travel Menu'!C24,'DCS Mileage Chart'!$A$4:$Q$4,0),FALSE),"")
E25: =IF(B25<>"",VLOOKUP(B25,'DCS Mileage Chart'!$A$4:$Q$20,MATCH('Intra System Travel Menu'!C25,'DCS Mileage Chart'!$A$4:$Q$4,0),FALSE),"")
E26: =IF(B26<>"",VLOOKUP(B26,'DCS Mileage Chart'!$A$4:$Q$20,MATCH('Intra System Travel Menu'!C26,'DCS Mileage Chart'!$A$4:$Q$4,0),FALSE),"")
E27: =IF(B27<>"",VLOOKUP(B27,'DCS Mileage Chart'!$A$4:$Q$20,MATCH('Intra System Travel Menu'!C27,'DCS Mileage Chart'!$A$4:$Q$4,0),FALSE),"")
... E46: =IF(B46<>"",VLOOKUP(B46,'DCS Mileage Chart'!$A$4:$Q$20,MATCH('Intra System Travel Menu'!C46,'DCS Mileage Chart'!$A$4:$Q$4,0),FALSE),"")
C50: PLEASE DO NOT INSERT ROWS BELOW THIS LINE - INSERT ABOVE OR USE NEW FORM
A51: Total Travel Expense | C51: =SUM(E15:E50) -> 0 | D51: Miles @ $0.76 | E51: =+C51*0.76 -> 0
A53: PAYEE CERTIFICATION: This is a true and | D53: APPROVAL: I certify that the above
A54: accurate statement of mileage expenses | D54: expenses are necessary, proper, just, and
A55: incurred in discharging official business duties. | D55: reasonable and were paid as such.
A59: Payee | C59: Date | D59: Approving Official | E59: Date

Sheet DCS Mileage Chart
A2: Duplin County Schools Mileage Chart
B4: BOE | C4: BFG | D4: BES | E4: BUS GARAGE | F4: CES | G4: DECHS | H4: CTR of Op | I4: EDHS | J4: JKHS | K4: KES | L4: ND | M4: RHM | N4: Wal Elem | O4: WRH | P4: War Elem
A5: BOE | B5: 0 | C5: 11 | D5: 12 | E5: 2 | F5: 15 | G5: 2 | H5: 10 | I5: 13 | J5: 6 | K5: 1 | L5: 21 | M5: 13 | N5: 19 | O5: 18 | P5: 8
A6: BFG | B6: 11 | C6: 0 | D6: 12 | E6: 13 | F6: 19 | G6: 13 | H6: 20 | I6: 10 | J6: 16 | K6: 12 | L6: 26 | M6: 23 | N6: 30 | O6: 29 | P6: 19
A7: BES | B7: 12 | C7: 12 | D7: 0 | E7: 14 | F7: 9 | G7: 14 | H7: 21 | I7: 2 | J7: 17 | K7: 12 | L7: 33 | M7: 23 | N7: 21 | O7: 22 | P7: 20
A8: BUS GARAGE | B8: 2 | C8: 13 | D8: 14 | E8: 0 | F8: 17 | G8: 0 | H8: 10 | I8: 14 | J8: 6 | K8: 2 | L8: 21 | M8: 11 | N8: 16 | O8: 15 | P8: 8
A9: CES | B9: 15 | C9: 19 | D9: 9 | E9: 17 | F9: 0 | G9: 17 | H9: 24 | I9: 9 | J9: 20 | K9: 15 | L9: 35 | M9: 17 | N9: 13 | O9: 14 | P9: 22
A10: DECHS | B10: 2 | C10: 13 | D10: 14 | E10: 0 | F10: 17 | G10: 0 | H10: 10 | I10: 14 | J10: 6 | K10: 2 | L10: 21 | M10: 11 | N10: 16 | O10: 15 | P10: 8
A11: CTR of Op | B11: 10 | C11: 20 | D11: 21 | E11: 10 | F11: 24 | G11: 10 | H11: 0 | I11: 22 | J11: 5 | K11: 10 | L11: 12 | M11: 14 | N11: 24 | O11: 22 | P11: 3
A12: EDHS | B12: 13 | C12: 10 | D12: 2 | E12: 14 | F12: 9 | G12: 14 | H12: 22 | I12: 0 | J12: 18 | K12: 13 | L12: 33 | M12: 24 | N12: 21 | O12: 22 | P12: 20
A13: JKHS | B13: 6 | C13: 16 | D13: 17 | E13: 6 | F13: 20 | G13: 6 | H13: 2 | I13: 18 | J13: 0 | K13: 6 | L13: 15 | M13: 12 | N13: 22 | O13: 21 | P13: 3
A14: KES | B14: 1 | C14: 12 | D14: 12 | E14: 2 | F14: 15 | G14: 2 | H14: 10 | I14: 13 | J14: 6 | K14: 0 | L14: 21 | M14: 12 | N14: 19 | O14: 18 | P14: 8
A15: ND | B15: 21 | C15: 26 | D15: 33 | E15: 21 | F15: 35 | G15: 21 | H15: 12 | I15: 33 | J15: 15 | K15: 21 | L15: 0 | M15: 24 | N15: 38 | O15: 37 | P15: 13
A16: RHM | B16: 13 | C16: 23 | D16: 23 | E16: 11 | F16: 17 | G16: 11 | H16: 14 | I16: 24 | J16: 12 | K16: 12 | L16: 24 | M16: 0 | N16: 10 | O16: 6 | P16: 13
... A19: War Elem | B19: 8 | C19: 19 | D19: 20 | E19: 8 | F19: 22 | G19: 8 | H19: 3 | I19: 20 | J19: 3 | K19: 8 | L19: 13 | M19: 13 | N19: 23 | O19: 22 | P19: 0
A21: Based on www.mapquest.com using common routes of travel
A22: Updated April 17, 2023
