Workbook

Sheet IIIB (Instr Exp HS, Voc & Combo
F1: 00* | G1: 0050 | H1: 006* | I1: 007* | J1: 008* | K1: 009*
K2: 0
A3: DISTRICT | B3: County-Dist
F4: General | G4: General | H4: General | J4: General
E5: DISTRICT/ | F5: High School | G5: Post-Secondary | H5: Integrated | I5: Gifted & Talented | J5: Instructional | K5: Other General
D6: COUNTY | E6: BOCES | F6: Education | G6: Education | H6: Education | I6: Education | J6: Media | K6: Education
A8: 0010 | B8: ADAMSMAPLETON 1 | D8: ADAMS | E8: MAPLETON 1
A9: 0010 | B9: ADAMSMAPLETON 1 | C9: $ | D9: Operating | F9: 279969.9 | G9: 0 | H9: 190540.12 | I9: 0 | J9: 0 | K9: 169734.78
A10: 0010 | B10: ADAMSMAPLETON 1 | C10: $ | D10: Capital | F10: 0 | G10: 0 | H10: 0 | I10: 0 | J10: 0 | K10: 0
A11: 0010 | B11: ADAMSMAPLETON 1 | C11: $ | D11: Total | F11: 279969.9 | G11: 0 | H11: 190540.12 | I11: 0 | J11: 0 | K11: 169734.78
A12: 0010 | B12: ADAMSMAPLETON 1 | C12: % | D12: Instructional Expenditures | F12: 4.2738159 | G12: 0 | H12: 2.9086462 | I12: 0 | J12: 0 | K12: 2.5910471
A13: 0010 | B13: ADAMSMAPLETON 1
A14: 0020 | B14: ADAMSADAMS 12 FIV | D14: ADAMS | E14: ADAMS 12 FIVE STAR
A15: 0020 | B15: ADAMSADAMS 12 FIV | C15: $ | D15: Operating | F15: 7320400 | G15: 0 | H15: 784080.89 | I15: 29384.46 | J15: 103057.82 | K15: 2235671.8
A16: 0020 | B16: ADAMSADAMS 12 FIV | C16: $ | D16: Capital | F16: 0 | G16: 0 | H16: 0 | I16: 0 | J16: 0 | K16: 0
A17: 0020 | B17: ADAMSADAMS 12 FIV | C17: $ | D17: Total | F17: 7320400 | G17: 0 | H17: 784080.89 | I17: 29384.46 | J17: 103057.82 | K17: 2235671.8
A18: 0020 | B18: ADAMSADAMS 12 FIV | C18: % | D18: Instructional Expenditures | F18: 10.880868 | G18: 0 | H18: 1.1654392 | I18: 0.043676362 | J18: 0.15318269 | K18: 3.3230493
A19: 0020 | B19: ADAMSADAMS 12 FIV
A20: 0030 | B20: ADAMSADAMS COUNTY | D20: ADAMS | E20: ADAMS COUNTY 14
A21: 0030 | B21: ADAMSADAMS COUNTY | C21: $ | D21: Operating | F21: 678405.88 | G21: 45092.33 | H21: 87595.85 | I21: 5829.76 | J21: 0 | K21: 0
A22: 0030 | B22: ADAMSADAMS COUNTY | C22: $ | D22: Capital | F22: 0 | G22: 0 | H22: 0 | I22: 0 | J22: 0 | K22: 0
A23: 0030 | B23: ADAMSADAMS COUNTY | C23: $ | D23: Total | F23: 678405.88 | G23: 45092.33 | H23: 87595.85 | I23: 5829.76 | J23: 0 | K23: 0
A24: 0030 | B24: ADAMSADAMS COUNTY | C24: % | D24: Instructional Expenditures | F24: 6.7100136 | G24: 0.44600166 | H24: 0.86639777 | I24: 0.057661305 | J24: 0 | K24: 0
A25: 0030 | B25: ADAMSADAMS COUNTY
A26: 0040 | B26: ADAMSSCHOOL DISTRICT 27J | D26: ADAMS | E26: SCHOOL DISTRICT 27J
A27: 0040 | B27: ADAMSSCHOOL DISTRICT 27J | C27: $ | D27: Operating | F27: 7332849.6 | G27: 410 | H27: 824.83 | I27: 59679.78 | J27: 0 | K27: 138104.51
A28: 0040 | B28: ADAMSSCHOOL DISTRICT 27J | C28: $ | D28: Capital | F28: 0 | G28: 0 | H28: 0 | I28: 0 | J28: 0 | K28: 0
A29: 0040 | B29: ADAMSSCHOOL DISTRICT 27J | C29: $ | D29: Total | F29: 7332849.6 | G29: 410 | H29: 824.83 | I29: 59679.78 | J29: 0 | K29: 138104.51
A30: 0040 | B30: ADAMSSCHOOL DISTRICT 27J | C30: % | D30: Instructional Expenditures | F30: 16.917863 | G30: 0.00094592472 | H30: 0.0019029929 | I30: 0.13768922 | J30: 0 | K30: 0.31862554
A31: 0040 | B31: ADAMSSCHOOL DISTRICT 27J
A32: 0050 | B32: ADAMSBENNETT 29J | D32: ADAMS | E32: BENNETT 29J
A33: 0050 | B33: ADAMSBENNETT 29J | C33: $ | D33: Operating | F33: 100901.97 | G33: 132707.26 | H33: 0 | I33: 6770.99 | J33: 29282.98 | K33: 99980.38
A34: 0050 | B34: ADAMSBENNETT 29J | C34: $ | D34: Capital | F34: 0 | G34: 0 | H34: 0 | I34: 0 | J34: 0 | K34: 37890
A35: 0050 | B35: ADAMSBENNETT 29J | C35: $ | D35: Total | F35: 100901.97 | G35: 132707.26 | H35: 0 | I35: 6770.99 | J35: 29282.98 | K35: 137870.38
A36: 0050 | B36: ADAMSBENNETT 29J | C36: % | D36: Instructional Expenditures | F36: 4.3194309 | G36: 5.6809579 | H36: 0 | I36: 0.28985384 | J36: 1.2535514 | K36: 5.9019817
A37: 0050 | B37: ADAMSBENNETT 29J
A38: 0060 | B38: ADAMSSTRASBURG 31 | D38: ADAMS | E38: STRASBURG 31J
A39: 0060 | B39: ADAMSSTRASBURG 31 | C39: $ | D39: Operating | F39: 312816.86 | G39: 116457.5 | H39: 0 | I39: 2120.9 | J39: 0 | K39: 0
A40: 0060 | B40: ADAMSSTRASBURG 31 | C40: $ | D40: Capital | F40: 20468 | G40: 0 | H40: 0 | I40: 0 | J40: 0 | K40: 0
A41: 0060 | B41: ADAMSSTRASBURG 31 | C41: $ | D41: Total | F41: 333284.86 | G41: 116457.5 | H41: 0 | I41: 2120.9 | J41: 0 | K41: 0
A42: 0060 | B42: ADAMSSTRASBURG 31 | C42: % | D42: Instructional Expenditures | F42: 13.494611 | G42: 4.7153318 | H42: 0 | I42: 0.085874651 | J42: 0 | K42: 0
A43: 0060 | B43: ADAMSSTRASBURG 31
A44: 0070 | B44: ADAMSWESTMINSTER | D44: ADAMS | E44: WESTMINSTER SCHOOL DISTRICT
A45: 0070 | B45: ADAMSWESTMINSTER | C45: $ | D45: Operating | F45: 9808845.1 | G45: 0 | H45: 0 | I45: 115581.04 | J45: 9390.27 | K45: 0
A46: 0070 | B46: ADAMSWESTMINSTER | C46: $ | D46: Capital | F46: 0 | G46: 0 | H46: 0 | I46: 0 | J46: 0 | K46: 0
A47: 0070 | B47: ADAMSWESTMINSTER | C47: $ | D47: Total | F47: 9808845.1 | G47: 0 | H47: 0 | I47: 115581.04 | J47: 9390.27 | K47: 0
A48: 0070 | B48: ADAMSWESTMINSTER | C48: % | D48: Instructional Expenditures | F48: 61.844941 | G48: 0 | H48: 0 | I48: 0.72874049 | J48: 0.059205817 | K48: 0
A49: 0070 | B49: ADAMSWESTMINSTER
A50: 0100 | B50: ALAMOALAMOSA RE-1 | D50: ALAMOSA | E50: ALAMOSA RE-11J
A51: 0100 | B51: ALAMOALAMOSA RE-1 | C51: $ | D51: Operating | F51: 336566.84 | G51: 0 | H51: 1392.8 | I51: 0 | J51: 0 | K51: 72178.64
A52: 0100 | B52: ALAMOALAMOSA RE-1 | C52: $ | D52: Capital | F52: 0 | G52: 0 | H52: 0 | I52: 0 | J52: 0 | K52: 0
A53: 0100 | B53: ALAMOALAMOSA RE-1 | C53: $ | D53: Total | F53: 336566.84 | G53: 0 | H53: 1392.8 | I53: 0 | J53: 0 | K53: 72178.64
A54: 0100 | B54: ALAMOALAMOSA RE-1 | C54: % | D54: Instructional Expenditures | F54: 8.0249095 | G54: 0 | H54: 0.033209136 | I54: 0 | J54: 0 | K54: 1.7209867
A55: 0100 | B55: ALAMOALAMOSA RE-1
A56: 0110 | B56: ALAMOSANGRE DE CR | D56: ALAMOSA | E56: SANGRE DE CRISTO RE-22J
A57: 0110 | B57: ALAMOSANGRE DE CR | C57: $ | D57: Operating | F57: 10910.71 | G57: 0 | H57: 0 | I57: 0 | J57: 0 | K57: 0
A58: 0110 | B58: ALAMOSANGRE DE CR | C58: $ | D58: Capital | F58: 0 | G58: 0 | H58: 0 | I58: 0 | J58: 0 | K58: 0
A59: 0110 | B59: ALAMOSANGRE DE CR | C59: $ | D59: Total | F59: 10910.71 | G59: 0 | H59: 0 | I59: 0 | J59: 0 | K59: 0
A60: 0110 | B60: ALAMOSANGRE DE CR | C60: % | D60: Instructional Expenditures | F60: 1.1771279 | G60: 0 | H60: 0 | I60: 0 | J60: 0 | K60: 0
A61: 0110 | B61: ALAMOSANGRE DE CR
A62: 0120 | B62: ARAPAENGLEWOOD 1 | D62: ARAPAHOE | E62: ENGLEWOOD 1
A63: 0120 | B63: ARAPAENGLEWOOD 1 | C63: $ | D63: Operating | F63: 296467.15 | G63: 8394.12 | H63: 0 | I63: 0 | J63: 0 | K63: 0
A64: 0120 | B64: ARAPAENGLEWOOD 1 | C64: $ | D64: Capital | F64: 0 | G64: 0 | H64: 0 | I64: 0 | J64: 0 | K64: 0
A65: 0120 | B65: ARAPAENGLEWOOD 1 | C65: $ | D65: Total | F65: 296467.15 | G65: 8394.12 | H65: 0 | I65: 0 | J65: 0 | K65: 0
A66: 0120 | B66: ARAPAENGLEWOOD 1 | C66: % | D66: Instructional Expenditures | F66: 4.3943799 | G66: 0.12442172 | H66: 0 | I66: 0 | J66: 0 | K66: 0
A67: 0120 | B67: ARAPAENGLEWOOD 1
A68: 0123 | B68: ARAPASHERIDAN 2 | D68: ARAPAHOE | E68: SHERIDAN 2
A69: 0123 | B69: ARAPASHERIDAN 2 | C69: $ | D69: Operating | F69: 1036730.7 | G69: 0 | H69: 0 | I69: 0 | J69: 205195.96 | K69: 1473.98
A70: 0123 | B70: ARAPASHERIDAN 2 | C70: $ | D70: Capital | F70: 0 | G70: 0 | H70: 0 | I70: 0 | J70: 0 | K70: 0
A71: 0123 | B71: ARAPASHERIDAN 2 | C71: $ | D71: Total | F71: 1036730.7 | G71: 0 | H71: 0 | I71: 0 | J71: 205195.96 | K71: 1473.98
A72: 0123 | B72: ARAPASHERIDAN 2 | C72: % | D72: Instructional Expenditures | F72: 27.800415 | G72: 0 | H72: 0 | I72: 0 | J72: 5.5024249 | K72: 0.039525458
A73: 0123 | B73: ARAPASHERIDAN 2
A74: 0130 | B74: ARAPACHERRY CREEK | D74: ARAPAHOE | E74: CHERRY CREEK 5
A75: 0130 | B75: ARAPACHERRY CREEK | C75: $ | D75: Operating | F75: -198864.07 | G75: 0 | H75: 5013766.3 | I75: 1226830.9 | J75: 994928.94 | K75: 840713.41
A76: 0130 | B76: ARAPACHERRY CREEK | C76: $ | D76: Capital | F76: 97528.31 | G76: 14721.8 | H76: 914.08 | I76: 0 | J76: 3390 | K76: 0
A77: 0130 | B77: ARAPACHERRY CREEK | C77: $ | D77: Total | F77: -101335.76 | G77: 14721.8 | H77: 5014680.3 | I77: 1226830.9 | J77: 998318.94 | K77: 840713.41
A78: 0130 | B78: ARAPACHERRY CREEK | C78: % | D78: Instructional Expenditures | F78: -0.061099046 | G78: 0.0088763131 | H78: 3.0235347 | I78: 0.73970134 | J78: 0.6019231 | K78: 0.50689695
A79: 0130 | B79: ARAPACHERRY CREEK
A80: 0140 | B80: ARAPALITTLETON 6 | D80: ARAPAHOE | E80: LITTLETON 6
A81: 0140 | B81: ARAPALITTLETON 6 | C81: $ | D81: Operating | F81: 1838064.9 | G81: 0 | H81: 995.37 | I81: 62.54 | J81: 0 | K81: 0
A82: 0140 | B82: ARAPALITTLETON 6 | C82: $ | D82: Capital | F82: 6030 | G82: 0 | H82: 0 | I82: 0 | J82: 0 | K82: 0
A83: 0140 | B83: ARAPALITTLETON 6 | C83: $ | D83: Total | F83: 1844094.9 | G83: 0 | H83: 995.37 | I83: 62.54 | J83: 0 | K83: 0
A84: 0140 | B84: ARAPALITTLETON 6 | C84: % | D84: Instructional Expenditures | F84: 6.3694789 | G84: 0 | H84: 0.0034379945 | I84: 0.00021601232 | J84: 0 | K84: 0
A85: 0140 | B85: ARAPALITTLETON 6
A86: 0170 | B86: ARAPADEER TRAIL 2 | D86: ARAPAHOE | E86: DEER TRAIL 26J
A87: 0170 | B87: ARAPADEER TRAIL 2 | C87: $ | D87: Operating | F87: 20254.93 | G87: 4236.23 | H87: 0 | I87: 0 | J87: 0 | K87: 49169.46
A88: 0170 | B88: ARAPADEER TRAIL 2 | C88: $ | D88: Capital | F88: 0 | G88: 0 | H88: 0 | I88: 0 | J88: 0 | K88: 0
A89: 0170 | B89: ARAPADEER TRAIL 2 | C89: $ | D89: Total | F89: 20254.93 | G89: 4236.23 | H89: 0 | I89: 0 | J89: 0 | K89: 49169.46
A90: 0170 | B90: ARAPADEER TRAIL 2 | C90: % | D90: Instructional Expenditures | F90: 2.2236321 | G90: 0.46506292 | H90: 0 | I90: 0 | J90: 0 | K90: 5.3979346
A91: 0170 | B91: ARAPADEER TRAIL 2
A92: 0180 | B92: ARAPAADAMS-ARAPAH | D92: ARAPAHOE | E92: ADAMS-ARAPAHOE 28J
A93: 0180 | B93: ARAPAADAMS-ARAPAH | C93: $ | D93: Operating | F93: 2556294.5 | G93: 132135.38 | H93: 60.22 | I93: 72638.68 | J93: 0 | K93: 62089.48
A94: 0180 | B94: ARAPAADAMS-ARAPAH | C94: $ | D94: Capital | F94: 103761.79 | G94: 116611.84 | H94: 0 | I94: 0 | J94: 0 | K94: 0
A95: 0180 | B95: ARAPAADAMS-ARAPAH | C95: $ | D95: Total | F95: 2660056.3 | G95: 248747.22 | H95: 60.22 | I95: 72638.68 | J95: 0 | K95: 62089.48
A96: 0180 | B96: ARAPAADAMS-ARAPAH | C96: % | D96: Instructional Expenditures | F96: 3.9339853 | G96: 0.36787488 | H96: 8.9059991e-05 | I96: 0.10742611 | J96: 0 | K96: 0.091824785
A97: 0180 | B97: ARAPAADAMS-ARAPAH
A98: 0190 | B98: ARAPABYERS 32J | D98: ARAPAHOE | E98: BYERS 32J
A99: 0190 | B99: ARAPABYERS 32J | C99: $ | D99: Operating | F99: 13829.34 | G99: 0 | H99: 0 | I99: 0 | J99: 0 | K99: 0
A100: 0190 | B100: ARAPABYERS 32J | C100: $ | D100: Capital | F100: 0 | G100: 0 | H100: 0 | I100: 0 | J100: 0 | K100: 0
A101: 0190 | B101: ARAPABYERS 32J | C101: $ | D101: Total | F101: 13829.34 | G101: 0 | H101: 0 | I101: 0 | J101: 0 | K101: 0
...

Sheet IIIC (Instr Exp HS_Voc_Combo)
F1: 01* | G1: 02* | H1: 03* | I1: 04* | J1: 05* | K1: 06* | L1: 07* | M1: 08* | N1: 09* | O1: 10*
A3: DISTRICT | B3: County-Dist
I4: Distributive | L4: Health | N4: Family & | O4: Industrial Arts
E5: DISTRICT/ | I5: Marketing | J5: English | K5: Foreign | L5: Occupations | M5: Physical | N5: Consumer | O5: Technology
D6: COUNTY | E6: BOCES | F6: Agriculture | G6: Art | H6: Business | I6: Education | J6: Language Arts | K6: Language | L6: Education | M6: Curriculum | N6: Education | O6: Education
A8: 0010 | B8: ADAMSMAPLETON 1 | D8: ADAMS | E8: MAPLETON 1
A9: 0010 | B9: ADAMSMAPLETON 1 | C9: $ | D9: Operating | F9: 0 | G9: 83638.18 | H9: 0 | I9: 0 | J9: 1050939.2 | K9: 469744.59 | L9: 0 | M9: 236745.52 | N9: 0 | O9: 0
A10: 0010 | B10: ADAMSMAPLETON 1 | C10: $ | D10: Capital | F10: 0 | G10: 0 | H10: 0 | I10: 0 | J10: 0 | K10: 0 | L10: 0 | M10: 0 | N10: 0 | O10: 0
A11: 0010 | B11: ADAMSMAPLETON 1 | C11: $ | D11: Total | F11: 0 | G11: 83638.18 | H11: 0 | I11: 0 | J11: 1050939.2 | K11: 469744.59 | L11: 0 | M11: 236745.52 | N11: 0 | O11: 0
A12: 0010 | B12: ADAMSMAPLETON 1 | C12: % | D12: Instructional Expenditures | F12: 0 | G12: 1.2767593 | H12: 0 | I12: 0 | J12: 16.042869 | K12: 7.1707776 | L12: 0 | M12: 3.6139841 | N12: 0 | O12: 0
A13: 0010 | B13: ADAMSMAPLETON 1
A14: 0020 | B14: ADAMSADAMS 12 FIV | D14: ADAMS | E14: ADAMS 12 FIVE STAR
A15: 0020 | B15: ADAMSADAMS 12 FIV | C15: $ | D15: Operating | F15: 0 | G15: 2071808.2 | H15: 1349338.3 | I15: 164818.58 | J15: 8151560.6 | K15: 3695293.2 | L15: 6045 | M15: 3011370.6 | N15: 1048277.7 | O15: 16825.34
A16: 0020 | B16: ADAMSADAMS 12 FIV | C16: $ | D16: Capital | F16: 0 | G16: 0 | H16: 0 | I16: 0 | J16: 0 | K16: 0 | L16: 0 | M16: 0 | N16: 12794 | O16: 0
A17: 0020 | B17: ADAMSADAMS 12 FIV | C17: $ | D17: Total | F17: 0 | G17: 2071808.2 | H17: 1349338.3 | I17: 164818.58 | J17: 8151560.6 | K17: 3695293.2 | L17: 6045 | M17: 3011370.6 | N17: 1061071.7 | O17: 16825.34
A18: 0020 | B18: ADAMSADAMS 12 FIV | C18: % | D18: Instructional Expenditures | F18: 0 | G18: 3.0794864 | H18: 2.0056243 | I18: 0.24498241 | J18: 12.116286 | K18: 5.4925959 | L18: 0.0089851441 | M18: 4.4760296 | N18: 1.5771517 | O18: 0.025008785
A19: 0020 | B19: ADAMSADAMS 12 FIV
A20: 0030 | B20: ADAMSADAMS COUNTY | D20: ADAMS | E20: ADAMS COUNTY 14
A21: 0030 | B21: ADAMSADAMS COUNTY | C21: $ | D21: Operating | F21: 0 | G21: 296852.99 | H21: 126135.54 | I21: 0 | J21: 1598941.7 | K21: 328036 | L21: 66154.39 | M21: 702765.52 | N21: 187676.32 | O21: 312212.47
A22: 0030 | B22: ADAMSADAMS COUNTY | C22: $ | D22: Capital | F22: 0 | G22: 0 | H22: 0 | I22: 0 | J22: 0 | K22: 0 | L22: 0 | M22: 0 | N22: 0 | O22: 0
A23: 0030 | B23: ADAMSADAMS COUNTY | C23: $ | D23: Total | F23: 0 | G23: 296852.99 | H23: 126135.54 | I23: 0 | J23: 1598941.7 | K23: 328036 | L23: 66154.39 | M23: 702765.52 | N23: 187676.32 | O23: 312212.47
A24: 0030 | B24: ADAMSADAMS COUNTY | C24: % | D24: Instructional Expenditures | F24: 0 | G24: 2.9361296 | H24: 1.2475882 | I24: 0 | J24: 15.814899 | K24: 3.2445562 | L24: 0.65432342 | M24: 6.9509512 | N24: 1.8562791 | O24: 3.088048
A25: 0030 | B25: ADAMSADAMS COUNTY
A26: 0040 | B26: ADAMSSCHOOL DISTRICT 27J | D26: ADAMS | E26: SCHOOL DISTRICT 27J
A27: 0040 | B27: ADAMSSCHOOL DISTRICT 27J | C27: $ | D27: Operating | F27: 98365.22 | G27: 1338816.2 | H27: 455030.62 | I27: 121573.22 | J27: 5570909.2 | K27: 1664195.5 | L27: 82814.63 | M27: 1863477.4 | N27: 567370.27 | O27: 1223694.6
A28: 0040 | B28: ADAMSSCHOOL DISTRICT 27J | C28: $ | D28: Capital | F28: 0 | G28: 0 | H28: 0 | I28: 0 | J28: 0 | K28: 0 | L28: 0 | M28: 0 | N28: 0 | O28: 0
A29: 0040 | B29: ADAMSSCHOOL DISTRICT 27J | C29: $ | D29: Total | F29: 98365.22 | G29: 1338816.2 | H29: 455030.62 | I29: 121573.22 | J29: 5570909.2 | K29: 1664195.5 | L29: 82814.63 | M29: 1863477.4 | N29: 567370.27 | O29: 1223694.6
A30: 0040 | B30: ADAMSSCHOOL DISTRICT 27J | C30: % | D30: Instructional Expenditures | F30: 0.22694169 | G30: 3.0888277 | H30: 1.0498164 | I30: 0.28048564 | J30: 12.852831 | K30: 3.839521 | L30: 0.1910644 | M30: 4.299291 | N30: 1.3089989 | O30: 2.8232268
A31: 0040 | B31: ADAMSSCHOOL DISTRICT 27J
A32: 0050 | B32: ADAMSBENNETT 29J | D32: ADAMS | E32: BENNETT 29J
A33: 0050 | B33: ADAMSBENNETT 29J | C33: $ | D33: Operating | F33: 38343.31 | G33: 0 | H33: 65891.97 | I33: 0 | J33: 178590.41 | K33: 16328.93 | L33: 10456.36 | M33: 128236.08 | N33: 3262.59 | O33: 106426.05
A34: 0050 | B34: ADAMSBENNETT 29J | C34: $ | D34: Capital | F34: 0 | G34: 0 | H34: 0 | I34: 0 | J34: 0 | K34: 0 | L34: 0 | M34: 0 | N34: 0 | O34: 0
A35: 0050 | B35: ADAMSBENNETT 29J | C35: $ | D35: Total | F35: 38343.31 | G35: 0 | H35: 65891.97 | I35: 0 | J35: 178590.41 | K35: 16328.93 | L35: 10456.36 | M35: 128236.08 | N35: 3262.59 | O35: 106426.05
A36: 0050 | B36: ADAMSBENNETT 29J | C36: % | D36: Instructional Expenditures | F36: 1.6414078 | G36: 0 | H36: 2.8207161 | I36: 0 | J36: 7.6451326 | K36: 0.69901197 | L36: 0.44761787 | M36: 5.4895548 | N36: 0.13966558 | O36: 4.5559068
A37: 0050 | B37: ADAMSBENNETT 29J
A38: 0060 | B38: ADAMSSTRASBURG 31 | D38: ADAMS | E38: STRASBURG 31J
A39: 0060 | B39: ADAMSSTRASBURG 31 | C39: $ | D39: Operating | F39: 0 | G39: 77467.79 | H39: 109222.61 | I39: 0 | J39: 186780.12 | K39: 68246.51 | L39: 42814.74 | M39: 197412.59 | N39: 0 | O39: 29502.06
A40: 0060 | B40: ADAMSSTRASBURG 31 | C40: $ | D40: Capital | F40: 0 | G40: 0 | H40: 0 | I40: 0 | J40: 0 | K40: 0 | L40: 0 | M40: 0 | N40: 0 | O40: 0
A41: 0060 | B41: ADAMSSTRASBURG 31 | C41: $ | D41: Total | F41: 0 | G41: 77467.79 | H41: 109222.61 | I41: 0 | J41: 186780.12 | K41: 68246.51 | L41: 42814.74 | M41: 197412.59 | N41: 0 | O41: 29502.06
A42: 0060 | B42: ADAMSSTRASBURG 31 | C42: % | D42: Instructional Expenditures | F42: 0 | G42: 3.1366493 | H42: 4.4223931 | I42: 0 | J42: 7.5626751 | K42: 2.7632822 | L42: 1.7335569 | M42: 7.9931808 | N42: 0 | O42: 1.1945302
A43: 0060 | B43: ADAMSSTRASBURG 31
A44: 0070 | B44: ADAMSWESTMINSTER | D44: ADAMS | E44: WESTMINSTER SCHOOL DISTRICT
A45: 0070 | B45: ADAMSWESTMINSTER | C45: $ | D45: Operating | F45: 311902.6 | G45: 21356.19 | H45: 235610.39 | I45: 46434.84 | J45: 1062248.2 | K45: 3732.99 | L45: 622165.8 | M45: 234138.07 | N45: 137958.08 | O45: 509204.39
A46: 0070 | B46: ADAMSWESTMINSTER | C46: $ | D46: Capital | F46: 0 | G46: 0 | H46: 0 | I46: 0 | J46: 0 | K46: 0 | L46: 0 | M46: 0 | N46: 0 | O46: 23634
A47: 0070 | B47: ADAMSWESTMINSTER | C47: $ | D47: Total | F47: 311902.6 | G47: 21356.19 | H47: 235610.39 | I47: 46434.84 | J47: 1062248.2 | K47: 3732.99 | L47: 622165.8 | M47: 234138.07 | N47: 137958.08 | O47: 532838.39
A48: 0070 | B48: ADAMSWESTMINSTER | C48: % | D48: Instructional Expenditures | F48: 1.9665514 | G48: 0.13465115 | H48: 1.4855276 | I48: 0.29277248 | J48: 6.6974939 | K48: 0.023536567 | L48: 3.9227663 | M48: 1.4762446 | N48: 0.86982812 | O48: 3.3595554
A49: 0070 | B49: ADAMSWESTMINSTER
A50: 0100 | B50: ALAMOALAMOSA RE-1 | D50: ALAMOSA | E50: ALAMOSA RE-11J
A51: 0100 | B51: ALAMOALAMOSA RE-1 | C51: $ | D51: Operating | F51: 223012.79 | G51: 98421.07 | H51: 258166.22 | I51: 0 | J51: 433785.51 | K51: 209020.59 | L51: 0 | M51: 288156.26 | N51: 71619.54 | O51: 79290.21
A52: 0100 | B52: ALAMOALAMOSA RE-1 | C52: $ | D52: Capital | F52: 0 | G52: 98.5 | H52: 0 | I52: 0 | J52: 0 | K52: 0 | L52: 0 | M52: 0 | N52: 0 | O52: 948.04
A53: 0100 | B53: ALAMOALAMOSA RE-1 | C53: $ | D53: Total | F53: 223012.79 | G53: 98519.57 | H53: 258166.22 | I53: 0 | J53: 433785.51 | K53: 209020.59 | L53: 0 | M53: 288156.26 | N53: 71619.54 | O53: 80238.25
A54: 0100 | B54: ALAMOALAMOSA RE-1 | C54: % | D54: Instructional Expenditures | F54: 5.3173909 | G54: 2.3490449 | H54: 6.1555694 | I54: 0 | J54: 10.342936 | K54: 4.9837688 | L54: 0 | M54: 6.870635 | N54: 1.7076558 | O54: 1.9131555
A55: 0100 | B55: ALAMOALAMOSA RE-1
A56: 0110 | B56: ALAMOSANGRE DE CR | D56: ALAMOSA | E56: SANGRE DE CRISTO RE-22J
A57: 0110 | B57: ALAMOSANGRE DE CR | C57: $ | D57: Operating | F57: 83190.81 | G57: 31126.82 | H57: 94770.28 | I57: 0 | J57: 80284.34 | K57: 35064.34 | L57: 0 | M57: 51128.69 | N57: 0 | O57: 0
A58: 0110 | B58: ALAMOSANGRE DE CR | C58: $ | D58: Capital | F58: 1212.18 | G58: 0 | H58: 0 | I58: 0 | J58: 0 | K58: 0 | L58: 0 | M58: 0 | N58: 0 | O58: 0
A59: 0110 | B59: ALAMOSANGRE DE CR | C59: $ | D59: Total | F59: 84402.99 | G59: 31126.82 | H59: 94770.28 | I59: 0 | J59: 80284.34 | K59: 35064.34 | L59: 0 | M59: 51128.69 | N59: 0 | O59: 0
A60: 0110 | B60: ALAMOSANGRE DE CR | C60: % | D60: Instructional Expenditures | F60: 9.1060175 | G60: 3.3581911 | H60: 10.224517 | I60: 0 | J60: 8.6616672 | K60: 3.7829998 | L60: 0 | M60: 5.5161405 | N60: 0 | O60: 0
A61: 0110 | B61: ALAMOSANGRE DE CR
A62: 0120 | B62: ARAPAENGLEWOOD 1 | D62: ARAPAHOE | E62: ENGLEWOOD 1
A63: 0120 | B63: ARAPAENGLEWOOD 1 | C63: $ | D63: Operating | F63: 141513.2 | G63: 227144.72 | H63: 48051.8 | I63: 0 | J63: 915784.1 | K63: 246352.52 | L63: 92013.87 | M63: 339167.04 | N63: 772786.31 | O63: 80384.3
A64: 0120 | B64: ARAPAENGLEWOOD 1 | C64: $ | D64: Capital | F64: 0 | G64: 0 | H64: 0 | I64: 0 | J64: 0 | K64: 0 | L64: 0 | M64: 0 | N64: 0 | O64: 0
A65: 0120 | B65: ARAPAENGLEWOOD 1 | C65: $ | D65: Total | F65: 141513.2 | G65: 227144.72 | H65: 48051.8 | I65: 0 | J65: 915784.1 | K65: 246352.52 | L65: 92013.87 | M65: 339167.04 | N65: 772786.31 | O65: 80384.3
A66: 0120 | B66: ARAPAENGLEWOOD 1 | C66: % | D66: Instructional Expenditures | F66: 2.0975773 | G66: 3.3668492 | H66: 0.71224708 | I66: 0 | J66: 13.574196 | K66: 3.6515565 | L66: 1.3638742 | M66: 5.0272984 | N66: 11.454613 | O66: 1.1914951
A67: 0120 | B67: ARAPAENGLEWOOD 1
A68: 0123 | B68: ARAPASHERIDAN 2 | D68: ARAPAHOE | E68: SHERIDAN 2
A69: 0123 | B69: ARAPASHERIDAN 2 | C69: $ | D69: Operating | F69: 0 | G69: 88107.74 | H69: 6988.39 | I69: 0 | J69: 396317.66 | K69: 125876.92 | L69: 0 | M69: 79425.89 | N69: 0 | O69: 299983.51
A70: 0123 | B70: ARAPASHERIDAN 2 | C70: $ | D70: Capital | F70: 0 | G70: 0 | H70: 0 | I70: 0 | J70: 0 | K70: 0 | L70: 0 | M70: 0 | N70: 0 | O70: 0
A71: 0123 | B71: ARAPASHERIDAN 2 | C71: $ | D71: Total | F71: 0 | G71: 88107.74 | H71: 6988.39 | I71: 0 | J71: 396317.66 | K71: 125876.92 | L71: 0 | M71: 79425.89 | N71: 0 | O71: 299983.51
A72: 0123 | B72: ARAPASHERIDAN 2 | C72: % | D72: Instructional Expenditures | F72: 0 | G72: 2.36265 | H72: 0.18739692 | I72: 0 | J72: 10.627442 | K72: 3.375448 | L72: 0 | M72: 2.1298421 | N72: 0 | O72: 8.0441971
A73: 0123 | B73: ARAPASHERIDAN 2
A74: 0130 | B74: ARAPACHERRY CREEK | D74: ARAPAHOE | E74: CHERRY CREEK 5
A75: 0130 | B75: ARAPACHERRY CREEK | C75: $ | D75: Operating | F75: 6092.94 | G75: 3792215.4 | H75: 1720715.9 | I75: 576956.04 | J75: 21591583 | K75: 11080879 | L75: 364732.12 | M75: 8307956.2 | N75: 1987125.6 | O75: 2225715.2
A76: 0130 | B76: ARAPACHERRY CREEK | C76: $ | D76: Capital | F76: 0 | G76: 36470.75 | H76: 62704.15 | I76: 2805.91 | J76: 202442 | K76: 33277.09 | L76: 67417.94 | M76: 42765.7 | N76: 11942.32 | O76: 135114.07
A77: 0130 | B77: ARAPACHERRY CREEK | C77: $ | D77: Total | F77: 6092.94 | G77: 3828686.1 | H77: 1783420.1 | I77: 579761.95 | J77: 21794025 | K77: 11114156 | L77: 432150.06 | M77: 8350721.9 | N77: 1999067.9 | O77: 2360829.3
A78: 0130 | B78: ARAPACHERRY CREEK | C78: % | D78: Instructional Expenditures | F78: 0.003673657 | G78: 2.3084553 | H78: 1.0752894 | I78: 0.34955974 | J78: 13.140417 | K78: 6.7011321 | L78: 0.26055912 | M78: 5.0349565 | N78: 1.2053113 | O78: 1.4234306
A79: 0130 | B79: ARAPACHERRY CREEK
A80: 0140 | B80: ARAPALITTLETON 6 | D80: ARAPAHOE | E80: LITTLETON 6
A81: 0140 | B81: ARAPALITTLETON 6 | C81: $ | D81: Operating | F81: 0 | G81: 975049.21 | H81: 760164.19 | I81: 0 | J81: 4259404 | K81: 2380816.4 | L81: 0 | M81: 1457617.1 | N81: 288436.45 | O81: 428300.43
A82: 0140 | B82: ARAPALITTLETON 6 | C82: $ | D82: Capital | F82: 0 | G82: 0 | H82: 0 | I82: 0 | J82: 11003.53 | K82: 0 | L82: 0 | M82: 0 | N82: 0 | O82: 0
A83: 0140 | B83: ARAPALITTLETON 6 | C83: $ | D83: Total | F83: 0 | G83: 975049.21 | H83: 760164.19 | I83: 0 | J83: 4270407.6 | K83: 2380816.4 | L83: 0 | M83: 1457617.1 | N83: 288436.45 | O83: 428300.43
A84: 0140 | B84: ARAPALITTLETON 6 | C84: % | D84: Instructional Expenditures | F84: 0 | G84: 3.3678068 | H84: 2.6255968 | I84: 0 | J84: 14.74993 | K84: 8.2233076 | L84: 0 | M84: 5.0345897 | N84: 0.9962556 | O84: 1.4793439
A85: 0140 | B85: ARAPALITTLETON 6
A86: 0170 | B86: ARAPADEER TRAIL 2 | D86: ARAPAHOE | E86: DEER TRAIL 26J
A87: 0170 | B87: ARAPADEER TRAIL 2 | C87: $ | D87: Operating | F87: 96231.39 | G87: 17003.23 | H87: 51887.12 | I87: 0 | J87: 46336.05 | K87: 48897.55 | L87: 0 | M87: 42357.72 | N87: 12927.34 | O87: 40337.86
A88: 0170 | B88: ARAPADEER TRAIL 2 | C88: $ | D88: Capital | F88: 0 | G88: 0 | H88: 0 | I88: 0 | J88: 0 | K88: 0 | L88: 0 | M88: 0 | N88: 0 | O88: 0
A89: 0170 | B89: ARAPADEER TRAIL 2 | C89: $ | D89: Total | F89: 96231.39 | G89: 17003.23 | H89: 51887.12 | I89: 0 | J89: 46336.05 | K89: 48897.55 | L89: 0 | M89: 42357.72 | N89: 12927.34 | O89: 40337.86
A90: 0170 | B90: ARAPADEER TRAIL 2 | C90: % | D90: Instructional Expenditures | F90: 10.5645 | G90: 1.8666531 | H90: 5.6962855 | I90: 0 | J90: 5.0868765 | K90: 5.3680837 | L90: 0 | M90: 4.6501264 | N90: 1.4191927 | O90: 4.4283816
A91: 0170 | B91: ARAPADEER TRAIL 2
A92: 0180 | B92: ARAPAADAMS-ARAPAH | D92: ARAPAHOE | E92: ADAMS-ARAPAHOE 28J
A93: 0180 | B93: ARAPAADAMS-ARAPAH | C93: $ | D93: Operating | F93: 370916.33 | G93: 2334574.9 | H93: 572290.09 | I93: 629569.23 | J93: 8799784.6 | K93: 3363506.8 | L93: 2251751.2 | M93: 3034443.1 | N93: 1729441.2 | O93: 3593787.3
A94: 0180 | B94: ARAPAADAMS-ARAPAH | C94: $ | D94: Capital | F94: 0 | G94: 4290 | H94: 0 | I94: 0 | J94: 0 | K94: 0 | L94: 5449.08 | M94: 0 | N94: 11295.85 | O94: 124900.03
A95: 0180 | B95: ARAPAADAMS-ARAPAH | C95: $ | D95: Total | F95: 370916.33 | G95: 2338864.9 | H95: 572290.09 | I95: 629569.23 | J95: 8799784.6 | K95: 3363506.8 | L95: 2257200.3 | M95: 3034443.1 | N95: 1740737.1 | O95: 3718687.3
A96: 0180 | B96: ARAPAADAMS-ARAPAH | C96: % | D96: Instructional Expenditures | F96: 0.54855206 | G96: 3.4589719 | H96: 0.84636583 | I96: 0.93107656 | J96: 13.014094 | K96: 4.9743256 | L96: 3.3381973 | M96: 4.4876698 | N96: 2.5743944 | O96: 5.4996058
A97: 0180 | B97: ARAPAADAMS-ARAPAH
A98: 0190 | B98: ARAPABYERS 32J | D98: ARAPAHOE | E98: BYERS 32J
A99: 0190 | B99: ARAPABYERS 32J | C99: $ | D99: Operating | F99: 113845.87 | G99: 89568.09 | H99: 111616.86 | I99: 0 | J99: 114313.93 | K99: 71096.22 | L99: 174116.23 | M99: 77398.84 | N99: 79384.05 | O99: 0
A100: 0190 | B100: ARAPABYERS 32J | C100: $ | D100: Capital | F100: 943.58 | G100: 0 | H100: 3053.38 | I100: 0 | J100: 0 | K100: 299.99 | L100: 211604.37 | M100: 0 | N100: 0 | O100: 0
A101: 0190 | B101: ARAPABYERS 32J | C101: $ | D101: Total | F101: 114789.45 | G101: 89568.09 | H101: 114670.24 | I101: 0 | J101: 114313.93 | K101: 71396.21 | L101: 385720.6 | M101: 77398.84 | N101: 79384.05 | O101: 0
A102: 0190 | B102: ARAPABYERS 32J | C102: % | D102: Instructional Expenditures | F102: 6.0512811 | G102: 4.721703 | H102: 6.0449968 | I102: 0 | J102: 6.0262134 | K102: 3.7637478 | L102: 20.333783 | M102: 4.0801845 | N102: 4.1848376 | O102: 0
...

Sheet IIID (Inst Exp HS_Voc_Combo)
F1: 11* | G1: 12* | H1: 13* | I1: 14* | J1: 15* | K1: 16* | L1: 17* | M1: 18* | N1: 19*
N2: 20*
A3: DISTRICT | B3: County-Dist
K4: Technical Education | M4: Cocurricular | N4: Cocurricular | O4: Total
E5: DISTRICT/ | H5: Natural | I5: Office | J5: Social | K5: Computer | L5: Special | M5: Activities | N5: Activities | O5: Instructional
D6: COUNTY | E6: BOCES | F6: Mathematics | G6: Music | H6: Science | I6: Occupations | J6: Sciences | K6: Technology | L6: Education | M6: Athletic/Sports | N6: Nonathletic | O6: Expenditures
A8: 0010 | B8: ADAMSMAPLETON 1 | D8: ADAMS | E8: MAPLETON 1
A9: 0010 | B9: ADAMSMAPLETON 1 | C9: $ | D9: Operating | F9: 1343069.7 | G9: 0 | H9: 1541121.5 | I9: 0 | J9: 951904.83 | K9: 195882.03 | L9: 0 | M9: 0 | N9: 37527.7 | O9: =SUM(F9:N9)+SUM('IIIC (Instr Exp HS_Voc_Combo)'!F9:O9)+SUM('IIIB (Instr Exp HS, Voc & Combo'!F9:K9) -> 6550818
A10: 0010 | B10: ADAMSMAPLETON 1 | C10: $ | D10: Capital | F10: 0 | G10: 0 | H10: 0 | I10: 0 | J10: 0 | K10: 0 | L10: 0 | M10: 0 | N10: 0 | O10: =SUM(F10:N10)+SUM('IIIC (Instr Exp HS_Voc_Combo)'!F10:O10)+SUM('IIIB (Instr Exp HS, Voc & Combo'!F10:K10) -> 0
A11: 0010 | B11: ADAMSMAPLETON 1 | C11: $ | D11: Total | F11: 1343069.7 | G11: 0 | H11: 1541121.5 | I11: 0 | J11: 951904.83 | K11: 195882.03 | L11: 0 | M11: 0 | N11: 37527.7 | O11: =SUM(F11:N11)+SUM('IIIC (Instr Exp HS_Voc_Combo)'!F11:O11)+SUM('IIIB (Instr Exp HS, Voc & Combo'!F11:K11) -> 6550818
A12: 0010 | B12: ADAMSMAPLETON 1 | C12: % | D12: Instructional Expenditures | F12: 20.502321 | G12: 0 | H12: 23.525634 | I12: 0 | J12: 14.531083 | K12: 2.9901919 | L12: 0 | M12: 0 | N12: 0.57287044 | O12: =IFERROR((O11/'IIID (Inst Exp HS_Voc_Combo)'!$O11)*100,0) -> 100
A13: 0010 | B13: ADAMSMAPLETON 1
A14: 0020 | B14: ADAMSADAMS 12 FIV | D14: ADAMS | E14: ADAMS 12 FIVE STAR
A15: 0020 | B15: ADAMSADAMS 12 FIV | C15: $ | D15: Operating | F15: 6898998.1 | G15: 1418498.3 | H15: 6994789.6 | I15: 0 | J15: 7190375.1 | K15: 76925.58 | L15: 9174201.4 | M15: 3410022.8 | N15: 2113181.5 | O15: =SUM(F15:N15)+SUM('IIIC (Instr Exp HS_Voc_Combo)'!F15:O15)+SUM('IIIB (Instr Exp HS, Voc & Combo'!F15:K15) -> 67264925
A16: 0020 | B16: ADAMSADAMS 12 FIV | C16: $ | D16: Capital | F16: 0 | G16: 0 | H16: 0 | I16: 0 | J16: 0 | K16: 0 | L16: 0 | M16: 0 | N16: 0 | O16: =SUM(F16:N16)+SUM('IIIC (Instr Exp HS_Voc_Combo)'!F16:O16)+SUM('IIIB (Instr Exp HS, Voc & Combo'!F16:K16) -> 12794
A17: 0020 | B17: ADAMSADAMS 12 FIV | C17: $ | D17: Total | F17: 6898998.1 | G17: 1418498.3 | H17: 6994789.6 | I17: 0 | J17: 7190375.1 | K17: 76925.58 | L17: 9174201.4 | M17: 3410022.8 | N17: 2113181.5 | O17: =SUM(F17:N17)+SUM('IIIC (Instr Exp HS_Voc_Combo)'!F17:O17)+SUM('IIIB (Instr Exp HS, Voc & Combo'!F17:K17) -> 67277719
A18: 0020 | B18: ADAMSADAMS 12 FIV | C18: % | D18: Instructional Expenditures | F18: 10.254507 | G18: 2.1084222 | H18: 10.396889 | I18: 0 | J18: 10.687602 | K18: 0.11434035 | L18: 13.636315 | M18: 5.0685767 | N18: 3.1409827 | O18: =IFERROR((O17/'IIID (Inst Exp HS_Voc_Combo)'!$O17)*100,0) -> 100
A19: 0020 | B19: ADAMSADAMS 12 FIV
A20: 0030 | B20: ADAMSADAMS COUNTY | D20: ADAMS | E20: ADAMS COUNTY 14
A21: 0030 | B21: ADAMSADAMS COUNTY | C21: $ | D21: Operating | F21: 1204026.5 | G21: 217150.33 | H21: 1050484.7 | I21: 138979.68 | J21: 931531 | K21: 78654.86 | L21: 1257569.6 | M21: 630436.13 | N21: 138981.25 | O21: =SUM(F21:N21)+SUM('IIIC (Instr Exp HS_Voc_Combo)'!F21:O21)+SUM('IIIB (Instr Exp HS, Voc & Combo'!F21:K21) -> 10083513
A22: 0030 | B22: ADAMSADAMS COUNTY | C22: $ | D22: Capital | F22: 0 | G22: 0 | H22: 0 | I22: 0 | J22: 0 | K22: 0 | L22: 0 | M22: 26837.6 | N22: 0 | O22: =SUM(F22:N22)+SUM('IIIC (Instr Exp HS_Voc_Combo)'!F22:O22)+SUM('IIIB (Instr Exp HS, Voc & Combo'!F22:K22) -> 26837.6
A23: 0030 | B23: ADAMSADAMS COUNTY | C23: $ | D23: Total | F23: 1204026.5 | G23: 217150.33 | H23: 1050484.7 | I23: 138979.68 | J23: 931531 | K23: 78654.86 | L23: 1257569.6 | M23: 657273.73 | N23: 138981.25 | O23: =SUM(F23:N23)+SUM('IIIC (Instr Exp HS_Voc_Combo)'!F23:O23)+SUM('IIIB (Instr Exp HS, Voc & Combo'!F23:K23) -> 10110350
A24: 0030 | B24: ADAMSADAMS COUNTY | C24: % | D24: Instructional Expenditures | F24: 11.90885 | G24: 2.1478022 | H24: 10.390191 | I24: 1.3746277 | J24: 9.2136372 | K24: 0.77796374 | L24: 12.438437 | M24: 6.5009985 | N24: 1.3746433 | O24: =IFERROR((O23/'IIID (Inst Exp HS_Voc_Combo)'!$O23)*100,0) -> 100
A25: 0030 | B25: ADAMSADAMS COUNTY
A26: 0040 | B26: ADAMSSCHOOL DISTRICT 27J | D26: ADAMS | E26: SCHOOL DISTRICT 27J
A27: 0040 | B27: ADAMSSCHOOL DISTRICT 27J | C27: $ | D27: Operating | F27: 4336759.4 | G27: 776810.75 | H27: 4238487.9 | I27: 0 | J27: 3433466.6 | K27: 477688.72 | L27: 4471925.3 | M27: 2025154.4 | N27: 3043217.2 | O27: =SUM(F27:N27)+SUM('IIIC (Instr Exp HS_Voc_Combo)'!F27:O27)+SUM('IIIB (Instr Exp HS, Voc & Combo'!F27:K27) -> 43321626
A28: 0040 | B28: ADAMSSCHOOL DISTRICT 27J | C28: $ | D28: Capital | F28: 0 | G28: 0 | H28: 0 | I28: 0 | J28: 0 | K28: 0 | L28: 0 | M28: 13098 | N28: 9106.08 | O28: =SUM(F28:N28)+SUM('IIIC (Instr Exp HS_Voc_Combo)'!F28:O28)+SUM('IIIB (Instr Exp HS, Voc & Combo'!F28:K28) -> 22204.08
A29: 0040 | B29: ADAMSSCHOOL DISTRICT 27J | C29: $ | D29: Total | F29: 4336759.4 | G29: 776810.75 | H29: 4238487.9 | I29: 0 | J29: 3433466.6 | K29: 477688.72 | L29: 4471925.3 | M29: 2038252.4 | N29: 3052323.3 | O29: =SUM(F29:N29)+SUM('IIIC (Instr Exp HS_Voc_Combo)'!F29:O29)+SUM('IIIB (Instr Exp HS, Voc & Combo'!F29:K29) -> 43343830
A30: 0040 | B30: ADAMSSCHOOL DISTRICT 27J | C30: % | D30: Instructional Expenditures | F30: 10.005483 | G30: 1.7922061 | H30: 9.7787573 | I30: 0 | J30: 7.9214656 | K30: 1.1020916 | L30: 10.317328 | M30: 4.7025202 | N30: 7.0421172 | O30: =IFERROR((O29/'IIID (Inst Exp HS_Voc_Combo)'!$O29)*100,0) -> 100
A31: 0040 | B31: ADAMSSCHOOL DISTRICT 27J
A32: 0050 | B32: ADAMSBENNETT 29J | D32: ADAMS | E32: BENNETT 29J
A33: 0050 | B33: ADAMSBENNETT 29J | C33: $ | D33: Operating | F33: 210154.35 | G33: 82070.36 | H33: 211181.19 | I33: 0 | J33: 179834.16 | K33: 0 | L33: 405472.36 | M33: 279425.15 | N33: 12794.62 | O33: =SUM(F33:N33)+SUM('IIIC (Instr Exp HS_Voc_Combo)'!F33:O33)+SUM('IIIB (Instr Exp HS, Voc & Combo'!F33:K33) -> 2298111.5
A34: 0050 | B34: ADAMSBENNETT 29J | C34: $ | D34: Capital | F34: 0 | G34: 0 | H34: 0 | I34: 0 | J34: 0 | K34: 0 | L34: 0 | M34: 0 | N34: 0 | O34: =SUM(F34:N34)+SUM('IIIC (Instr Exp HS_Voc_Combo)'!F34:O34)+SUM('IIIB (Instr Exp HS, Voc & Combo'!F34:K34) -> 37890
A35: 0050 | B35: ADAMSBENNETT 29J | C35: $ | D35: Total | F35: 210154.35 | G35: 82070.36 | H35: 211181.19 | I35: 0 | J35: 179834.16 | K35: 0 | L35: 405472.36 | M35: 279425.15 | N35: 12794.62 | O35: =SUM(F35:N35)+SUM('IIIC (Instr Exp HS_Voc_Combo)'!F35:O35)+SUM('IIIB (Instr Exp HS, Voc & Combo'!F35:K35) -> 2336001.5
A36: 0050 | B36: ADAMSBENNETT 29J | C36: % | D36: Instructional Expenditures | F36: 8.9963278 | G36: 3.5132837 | H36: 9.040285 | I36: 0 | J36: 7.6983753 | K36: 0 | L36: 17.357539 | M36: 11.961686 | N36: 0.54771455 | O36: =IFERROR((O35/'IIID (Inst Exp HS_Voc_Combo)'!$O35)*100,0) -> 100
A37: 0050 | B37: ADAMSBENNETT 29J
A38: 0060 | B38: ADAMSSTRASBURG 31 | D38: ADAMS | E38: STRASBURG 31J
A39: 0060 | B39: ADAMSSTRASBURG 31 | C39: $ | D39: Operating | F39: 283941.96 | G39: 36269.56 | H39: 221812.44 | I39: 0 | J39: 200019.08 | K39: 20349.64 | L39: 152756.2 | M39: 328383.27 | N39: 62920.76 | O39: =SUM(F39:N39)+SUM('IIIC (Instr Exp HS_Voc_Combo)'!F39:O39)+SUM('IIIB (Instr Exp HS, Voc & Combo'!F39:K39) -> 2449294.6
A40: 0060 | B40: ADAMSSTRASBURG 31 | C40: $ | D40: Capital | F40: 0 | G40: 0 | H40: 0 | I40: 0 | J40: 0 | K40: 0 | L40: 0 | M40: 0 | N40: 0 | O40: =SUM(F40:N40)+SUM('IIIC (Instr Exp HS_Voc_Combo)'!F40:O40)+SUM('IIIB (Instr Exp HS, Voc & Combo'!F40:K40) -> 20468
A41: 0060 | B41: ADAMSSTRASBURG 31 | C41: $ | D41: Total | F41: 283941.96 | G41: 36269.56 | H41: 221812.44 | I41: 0 | J41: 200019.08 | K41: 20349.64 | L41: 152756.2 | M41: 328383.27 | N41: 62920.76 | O41: =SUM(F41:N41)+SUM('IIIC (Instr Exp HS_Voc_Combo)'!F41:O41)+SUM('IIIB (Instr Exp HS, Voc & Combo'!F41:K41) -> 2469762.6
A42: 0060 | B42: ADAMSSTRASBURG 31 | C42: % | D42: Instructional Expenditures | F42: 11.496731 | G42: 1.4685444 | H42: 8.981124 | I42: 0 | J42: 8.0987169 | K42: 0.82395126 | L42: 6.185056 | M42: 13.296147 | N42: 2.5476441 | O42: =IFERROR((O41/'IIID (Inst Exp HS_Voc_Combo)'!$O41)*100,0) -> 100
A43: 0060 | B43: ADAMSSTRASBURG 31
A44: 0070 | B44: ADAMSWESTMINSTER | D44: ADAMS | E44: WESTMINSTER SCHOOL DISTRICT
A45: 0070 | B45: ADAMSWESTMINSTER | C45: $ | D45: Operating | F45: 10534.21 | G45: 24922.91 | H45: 21303.99 | I45: 0 | J45: 2453.7 | K45: 324267.03 | L45: 1136121.6 | M45: 836981.69 | N45: 361596.93 | O45: =SUM(F45:N45)+SUM('IIIC (Instr Exp HS_Voc_Combo)'!F45:O45)+SUM('IIIB (Instr Exp HS, Voc & Combo'!F45:K45) -> 15836750
A46: 0070 | B46: ADAMSWESTMINSTER | C46: $ | D46: Capital | F46: 0 | G46: 0 | H46: 0 | I46: 0 | J46: 0 | K46: 0 | L46: 0 | M46: 0 | N46: 0 | O46: =SUM(F46:N46)+SUM('IIIC (Instr Exp HS_Voc_Combo)'!F46:O46)+SUM('IIIB (Instr Exp HS, Voc & Combo'!F46:K46) -> 23634
A47: 0070 | B47: ADAMSWESTMINSTER | C47: $ | D47: Total | F47: 10534.21 | G47: 24922.91 | H47: 21303.99 | I47: 0 | J47: 2453.7 | K47: 324267.03 | L47: 1136121.6 | M47: 836981.69 | N47: 361596.93 | O47: =SUM(F47:N47)+SUM('IIIC (Instr Exp HS_Voc_Combo)'!F47:O47)+SUM('IIIB (Instr Exp HS, Voc & Combo'!F47:K47) -> 15860384
A48: 0070 | B48: ADAMSWESTMINSTER | C48: % | D48: Instructional Expenditures | F48: 0.066418379 | G48: 0.15713939 | H48: 0.13432203 | I48: 0 | J48: 0.015470622 | K48: 2.0445093 | L48: 7.1632666 | M48: 5.2771843 | N48: 2.279875 | O48: =IFERROR((O47/'IIID (Inst Exp HS_Voc_Combo)'!$O47)*100,0) -> 100
A49: 0070 | B49: ADAMSWESTMINSTER
A50: 0100 | B50: ALAMOALAMOSA RE-1 | D50: ALAMOSA | E50: ALAMOSA RE-11J
A51: 0100 | B51: ALAMOALAMOSA RE-1 | C51: $ | D51: Operating | F51: 544601.86 | G51: 116867.71 | H51: 292133.7 | I51: 0 | J51: 344409.8 | K51: 0 | L51: 314621.59 | M51: 467575.03 | N51: 36862.35 | O51: =SUM(F51:N51)+SUM('IIIC (Instr Exp HS_Voc_Combo)'!F51:O51)+SUM('IIIB (Instr Exp HS, Voc & Combo'!F51:K51) -> 4188682.5
A52: 0100 | B52: ALAMOALAMOSA RE-1 | C52: $ | D52: Capital | F52: 0 | G52: 0 | H52: 376.57 | I52: 0 | J52: 0 | K52: 0 | L52: 0 | M52: 3921 | N52: 0 | O52: =SUM(F52:N52)+SUM('IIIC (Instr Exp HS_Voc_Combo)'!F52:O52)+SUM('IIIB (Instr Exp HS, Voc & Combo'!F52:K52) -> 5344.11
A53: 0100 | B53: ALAMOALAMOSA RE-1 | C53: $ | D53: Total | F53: 544601.86 | G53: 116867.71 | H53: 292510.27 | I53: 0 | J53: 344409.8 | K53: 0 | L53: 314621.59 | M53: 471496.03 | N53: 36862.35 | O53: =SUM(F53:N53)+SUM('IIIC (Instr Exp HS_Voc_Combo)'!F53:O53)+SUM('IIIB (Instr Exp HS, Voc & Combo'!F53:K53) -> 4194026.6
A54: 0100 | B54: ALAMOALAMOSA RE-1 | C54: % | D54: Instructional Expenditures | F54: 12.985179 | G54: 2.7865276 | H54: 6.9744495 | I54: 0 | J54: 8.2119126 | K54: 0 | L54: 7.5016593 | M54: 11.242085 | N54: 0.87892504 | O54: =IFERROR((O53/'IIID (Inst Exp HS_Voc_Combo)'!$O53)*100,0) -> 100
A55: 0100 | B55: ALAMOALAMOSA RE-1
A56: 0110 | B56: ALAMOSANGRE DE CR | D56: ALAMOSA | E56: SANGRE DE CRISTO RE-22J
A57: 0110 | B57: ALAMOSANGRE DE CR | C57: $ | D57: Operating | F57: 134656.1 | G57: 28797.92 | H57: 77475.1 | I57: 78411.48 | J57: 57858.43 | K57: 1620 | L57: 89055.81 | M57: 48175.21 | N57: 6282.23 | O57: =SUM(F57:N57)+SUM('IIIC (Instr Exp HS_Voc_Combo)'!F57:O57)+SUM('IIIB (Instr Exp HS, Voc & Combo'!F57:K57) -> 908808.27
A58: 0110 | B58: ALAMOSANGRE DE CR | C58: $ | D58: Capital | F58: 0 | G58: 0 | H58: 0 | I58: 16872.01 | J58: 0 | K58: 0 | L58: 0 | M58: 0 | N58: 0 | O58: =SUM(F58:N58)+SUM('IIIC (Instr Exp HS_Voc_Combo)'!F58:O58)+SUM('IIIB (Instr Exp HS, Voc & Combo'!F58:K58) -> 18084.19
A59: 0110 | B59: ALAMOSANGRE DE CR | C59: $ | D59: Total | F59: 134656.1 | G59: 28797.92 | H59: 77475.1 | I59: 95283.49 | J59: 57858.43 | K59: 1620 | L59: 89055.81 | M59: 48175.21 | N59: 6282.23 | O59: =SUM(F59:N59)+SUM('IIIC (Instr Exp HS_Voc_Combo)'!F59:O59)+SUM('IIIB (Instr Exp HS, Voc & Combo'!F59:K59) -> 926892.46
A60: 0110 | B60: ALAMOSANGRE DE CR | C60: % | D60: Instructional Expenditures | F60: 14.527694 | G60: 3.1069322 | H60: 8.3585856 | I60: 10.279886 | J60: 6.2421945 | K60: 0.17477756 | L60: 9.6079981 | M60: 5.1974972 | N60: 0.67777334 | O60: =IFERROR((O59/'IIID (Inst Exp HS_Voc_Combo)'!$O59)*100,0) -> 100
A61: 0110 | B61: ALAMOSANGRE DE CR
A62: 0120 | B62: ARAPAENGLEWOOD 1 | D62: ARAPAHOE | E62: ENGLEWOOD 1
A63: 0120 | B63: ARAPAENGLEWOOD 1 | C63: $ | D63: Operating | F63: 621326.98 | G63: 155292.89 | H63: 378340.98 | I63: 0 | J63: 748414.87 | K63: 0 | L63: 1039357.3 | M63: 439943.57 | N63: 195651.33 | O63: =SUM(F63:N63)+SUM('IIIC (Instr Exp HS_Voc_Combo)'!F63:O63)+SUM('IIIB (Instr Exp HS, Voc & Combo'!F63:K63) -> 6746387.1
A64: 0120 | B64: ARAPAENGLEWOOD 1 | C64: $ | D64: Capital | F64: 0 | G64: 0 | H64: 0 | I64: 0 | J64: 0 | K64: 0 | L64: 0 | M64: 120 | N64: 0 | O64: =SUM(F64:N64)+SUM('IIIC (Instr Exp HS_Voc_Combo)'!F64:O64)+SUM('IIIB (Instr Exp HS, Voc & Combo'!F64:K64) -> 120
A65: 0120 | B65: ARAPAENGLEWOOD 1 | C65: $ | D65: Total | F65: 621326.98 | G65: 155292.89 | H65: 378340.98 | I65: 0 | J65: 748414.87 | K65: 0 | L65: 1039357.3 | M65: 440063.57 | N65: 195651.33 | O65: =SUM(F65:N65)+SUM('IIIC (Instr Exp HS_Voc_Combo)'!F65:O65)+SUM('IIIB (Instr Exp HS, Voc & Combo'!F65:K65) -> 6746507.1
A66: 0120 | B66: ARAPAENGLEWOOD 1 | C66: % | D66: Instructional Expenditures | F66: 9.2096098 | G66: 2.3018265 | H66: 5.6079535 | I66: 0 | J66: 11.093368 | K66: 0 | L66: 15.405858 | M66: 6.5228357 | N66: 2.9000389 | O66: =IFERROR((O65/'IIID (Inst Exp HS_Voc_Combo)'!$O65)*100,0) -> 100
A67: 0120 | B67: ARAPAENGLEWOOD 1
A68: 0123 | B68: ARAPASHERIDAN 2 | D68: ARAPAHOE | E68: SHERIDAN 2
A69: 0123 | B69: ARAPASHERIDAN 2 | C69: $ | D69: Operating | F69: 300822.27 | G69: 102112.51 | H69: 112906.59 | I69: 0 | J69: 319285.57 | K69: 250 | L69: 307012.2 | M69: 294477.41 | N69: 52224.16 | O69: =SUM(F69:N69)+SUM('IIIC (Instr Exp HS_Voc_Combo)'!F69:O69)+SUM('IIIB (Instr Exp HS, Voc & Combo'!F69:K69) -> 3729191.5
A70: 0123 | B70: ARAPASHERIDAN 2 | C70: $ | D70: Capital | F70: 0 | G70: 0 | H70: 0 | I70: 0 | J70: 0 | K70: 0 | L70: 0 | M70: 0 | N70: 0 | O70: =SUM(F70:N70)+SUM('IIIC (Instr Exp HS_Voc_Combo)'!F70:O70)+SUM('IIIB (Instr Exp HS, Voc & Combo'!F70:K70) -> 0
A71: 0123 | B71: ARAPASHERIDAN 2 | C71: $ | D71: Total | F71: 300822.27 | G71: 102112.51 | H71: 112906.59 | I71: 0 | J71: 319285.57 | K71: 250 | L71: 307012.2 | M71: 294477.41 | N71: 52224.16 | O71: =SUM(F71:N71)+SUM('IIIC (Instr Exp HS_Voc_Combo)'!F71:O71)+SUM('IIIB (Instr Exp HS, Voc & Combo'!F71:K71) -> 3729191.5
A72: 0123 | B72: ARAPASHERIDAN 2 | C72: % | D72: Instructional Expenditures | F72: 8.0666888 | G72: 2.7381944 | H72: 3.0276426 | I72: 0 | J72: 8.5617908 | K72: 0.0067038661 | L72: 8.2326747 | M72: 7.8965485 | N72: 1.4004151 | O72: =IFERROR((O71/'IIID (Inst Exp HS_Voc_Combo)'!$O71)*100,0) -> 100
A73: 0123 | B73: ARAPASHERIDAN 2
A74: 0130 | B74: ARAPACHERRY CREEK | D74: ARAPAHOE | E74: CHERRY CREEK 5
A75: 0130 | B75: ARAPACHERRY CREEK | C75: $ | D75: Operating | F75: 20996719 | G75: 3528816.5 | H75: 19052702 | I75: 2503179.9 | J75: 19005561 | K75: 1956885.2 | L75: 20431710 | M75: 7642101.3 | N75: 9544838.9 | O75: =SUM(F75:N75)+SUM('IIIC (Instr Exp HS_Voc_Combo)'!F75:O75)+SUM('IIIB (Instr Exp HS, Voc & Combo'!F75:K75) -> 1.6419386e+08
A76: 0130 | B76: ARAPACHERRY CREEK | C76: $ | D76: Capital | F76: 82208.18 | G76: 28985.37 | H76: 79569.92 | I76: 6842.49 | J76: 90286.95 | K76: 202335.89 | L76: 3540.9 | M76: 247262.6 | N76: 208510.64 | O76: =SUM(F76:N76)+SUM('IIIC (Instr Exp HS_Voc_Combo)'!F76:O76)+SUM('IIIB (Instr Exp HS, Voc & Combo'!F76:K76) -> 1661037.1
A77: 0130 | B77: ARAPACHERRY CREEK | C77: $ | D77: Total | F77: 21078927 | G77: 3557801.9 | H77: 19132272 | I77: 2510022.4 | J77: 19095848 | K77: 2159221.1 | L77: 20435251 | M77: 7889363.9 | N77: 9753349.5 | O77: =SUM(F77:N77)+SUM('IIIC (Instr Exp HS_Voc_Combo)'!F77:O77)+SUM('IIIB (Instr Exp HS, Voc & Combo'!F77:K77) -> 1.658549e+08
A78: 0130 | B78: ARAPACHERRY CREEK | C78: % | D78: Instructional Expenditures | F78: 12.709258 | G78: 2.1451292 | H78: 11.535548 | I78: 1.5133846 | J78: 11.513587 | K78: 1.3018736 | L78: 12.321162 | M78: 4.7567869 | N78: 5.8806521 | O78: =IFERROR((O77/'IIID (Inst Exp HS_Voc_Combo)'!$O77)*100,0) -> 100
A79: 0130 | B79: ARAPACHERRY CREEK
A80: 0140 | B80: ARAPALITTLETON 6 | D80: ARAPAHOE | E80: LITTLETON 6
A81: 0140 | B81: ARAPALITTLETON 6 | C81: $ | D81: Operating | F81: 3435345.4 | G81: 675597.56 | H81: 3828955.5 | I81: 0 | J81: 4071836.4 | K81: 505342.14 | L81: 19149.46 | M81: 2448903.3 | N81: 1520032.7 | O81: =SUM(F81:N81)+SUM('IIIC (Instr Exp HS_Voc_Combo)'!F81:O81)+SUM('IIIB (Instr Exp HS, Voc & Combo'!F81:K81) -> 28894073
A82: 0140 | B82: ARAPALITTLETON 6 | C82: $ | D82: Capital | F82: 0 | G82: 0 | H82: 0 | I82: 0 | J82: 0 | K82: 0 | L82: 0 | M82: 31869.52 | N82: 9076.8 | O82: =SUM(F82:N82)+SUM('IIIC (Instr Exp HS_Voc_Combo)'!F82:O82)+SUM('IIIB (Instr Exp HS, Voc & Combo'!F82:K82) -> 57979.85
A83: 0140 | B83: ARAPALITTLETON 6 | C83: $ | D83: Total | F83: 3435345.4 | G83: 675597.56 | H83: 3828955.5 | I83: 0 | J83: 4071836.4 | K83: 505342.14 | L83: 19149.46 | M83: 2480772.8 | N83: 1529109.5 | O83: =SUM(F83:N83)+SUM('IIIC (Instr Exp HS_Voc_Combo)'!F83:O83)+SUM('IIIB (Instr Exp HS, Voc & Combo'!F83:K83) -> 28952053
A84: 0140 | B84: ARAPALITTLETON 6 | C84: % | D84: Instructional Expenditures | F84: 11.865637 | G84: 2.3335049 | H84: 13.225161 | I84: 0 | J84: 14.064068 | K84: 1.7454449 | L84: 0.066141976 | M84: 8.5685558 | N84: 5.2815235 | O84: =IFERROR((O83/'IIID (Inst Exp HS_Voc_Combo)'!$O83)*100,0) -> 100
A85: 0140 | B85: ARAPALITTLETON 6
A86: 0170 | B86: ARAPADEER TRAIL 2 | D86: ARAPAHOE | E86: DEER TRAIL 26J
A87: 0170 | B87: ARAPADEER TRAIL 2 | C87: $ | D87: Operating | F87: 93044.41 | G87: 17034.81 | H87: 100823.27 | I87: 0 | J87: 101892.98 | K87: 12925.62 | L87: 0 | M87: 117973.92 | N87: 37560.06 | O87: =SUM(F87:N87)+SUM('IIIC (Instr Exp HS_Voc_Combo)'!F87:O87)+SUM('IIIB (Instr Exp HS, Voc & Combo'!F87:K87) -> 910893.95
A88: 0170 | B88: ARAPADEER TRAIL 2 | C88: $ | D88: Capital | F88: 0 | G88: 0 | H88: 0 | I88: 0 | J88: 0 | K88: 0 | L88: 0 | M88: 0 | N88: 0 | O88: =SUM(F88:N88)+SUM('IIIC (Instr Exp HS_Voc_Combo)'!F88:O88)+SUM('IIIB (Instr Exp HS, Voc & Combo'!F88:K88) -> 0
A89: 0170 | B89: ARAPADEER TRAIL 2 | C89: $ | D89: Total | F89: 93044.41 | G89: 17034.81 | H89: 100823.27 | I89: 0 | J89: 101892.98 | K89: 12925.62 | L89: 0 | M89: 117973.92 | N89: 37560.06 | O89: =SUM(F89:N89)+SUM('IIIC (Instr Exp HS_Voc_Combo)'!F89:O89)+SUM('IIIB (Instr Exp HS, Voc & Combo'!F89:K89) -> 910893.95
A90: 0170 | B90: ARAPADEER TRAIL 2 | C90: % | D90: Instructional Expenditures | F90: 10.214626 | G90: 1.87012 | H90: 11.068607 | I90: 0 | J90: 11.186042 | K90: 1.4190038 | L90: 0 | M90: 12.951444 | N90: 4.1234284 | O90: =IFERROR((O89/'IIID (Inst Exp HS_Voc_Combo)'!$O89)*100,0) -> 100
A91: 0170 | B91: ARAPADEER TRAIL 2
A92: 0180 | B92: ARAPAADAMS-ARAPAH | D92: ARAPAHOE | E92: ADAMS-ARAPAHOE 28J
A93: 0180 | B93: ARAPAADAMS-ARAPAH | C93: $ | D93: Operating | F93: 7350162.7 | G93: 1145578.9 | H93: 7794210.1 | I93: 159983.94 | J93: 6229334 | K93: 772979.39 | L93: 9998118.1 | M93: 2878774.2 | N93: 1402794.9 | O93: =SUM(F93:N93)+SUM('IIIC (Instr Exp HS_Voc_Combo)'!F93:O93)+SUM('IIIB (Instr Exp HS, Voc & Combo'!F93:K93) -> 67235219
A94: 0180 | B94: ARAPAADAMS-ARAPAH | C94: $ | D94: Capital | F94: 0 | G94: 620 | H94: 0 | I94: 0 | J94: 0 | K94: 0 | L94: 0 | M94: 15195.18 | N94: 0 | O94: =SUM(F94:N94)+SUM('IIIC (Instr Exp HS_Voc_Combo)'!F94:O94)+SUM('IIIB (Instr Exp HS, Voc & Combo'!F94:K94) -> 382123.77
A95: 0180 | B95: ARAPAADAMS-ARAPAH | C95: $ | D95: Total | F95: 7350162.7 | G95: 1146198.9 | H95: 7794210.1 | I95: 159983.94 | J95: 6229334 | K95: 772979.39 | L95: 9998118.1 | M95: 2893969.3 | N95: 1402794.9 | O95: =SUM(F95:N95)+SUM('IIIC (Instr Exp HS_Voc_Combo)'!F95:O95)+SUM('IIIB (Instr Exp HS, Voc & Combo'!F95:K95) -> 67617343
A96: 0180 | B96: ARAPAADAMS-ARAPAH | C96: % | D96: Instructional Expenditures | F96: 10.870233 | G96: 1.6951257 | H96: 11.526939 | I96: 0.23660193 | J96: 9.2126275 | K96: 1.1431674 | L96: 14.786322 | M96: 4.2799217 | N96: 2.0746081 | O96: =IFERROR((O95/'IIID (Inst Exp HS_Voc_Combo)'!$O95)*100,0) -> 100
A97: 0180 | B97: ARAPAADAMS-ARAPAH
A98: 0190 | B98: ARAPABYERS 32J | D98: ARAPAHOE | E98: BYERS 32J
A99: 0190 | B99: ARAPABYERS 32J | C99: $ | D99: Operating | F99: 96591.68 | G99: 70206.38 | H99: 69704.8 | I99: 0 | J99: 156881.55 | K99: 0 | L99: 107742.53 | M99: 249745.21 | N99: 82898.18 | O99: =SUM(F99:N99)+SUM('IIIC (Instr Exp HS_Voc_Combo)'!F99:O99)+SUM('IIIB (Instr Exp HS, Voc & Combo'!F99:K99) -> 1678939.8
A100: 0190 | B100: ARAPABYERS 32J | C100: $ | D100: Capital | F100: 0 | G100: 0 | H100: 1428.66 | I100: 0 | J100: 0 | K100: 0 | L100: 0 | M100: 674.85 | N100: 0 | O100: =SUM(F100:N100)+SUM('IIIC (Instr Exp HS_Voc_Combo)'!F100:O100)+SUM('IIIB (Instr Exp HS, Voc & Combo'!F100:K100) -> 218004.83
A101: 0190 | B101: ARAPABYERS 32J | C101: $ | D101: Total | F101: 96591.68 | G101: 70206.38 | H101: 71133.46 | I101: 0 | J101: 156881.55 | K101: 0 | L101: 107742.53 | M101: 250420.06 | N101: 82898.18 | O101: =SUM(F101:N101)+SUM('IIIC (Instr Exp HS_Voc_Combo)'!F101:O101)+SUM('IIIB (Instr Exp HS, Voc & Combo'!F101:K101) -> 1896944.6
...
