Workbook

Sheet IIIB (Instr Exp HS, Voc & Combo
F1: 00* | G1: 0050 | H1: 006* | I1: 007* | J1: 008* | K1: 009*
K2: 0
A3: DISTRICT | B3: County-Dist
F4: General | G4: General | H4: General | J4: General
E5: DISTRICT/ | F5: High School | G5: Post-Secondary | H5: Integrated | I5: Gifted & Talented | J5: Instructional | K5: Other General
D6: COUNTY | E6: BOCES | F6: Education | G6: Education | H6: Education | I6: Education | J6: Media | K6: Education
A8: 0010 | B8: ADAMSMAPLETON 1 | D8: ADAMS | E8: MAPLETON 1
A9: 0010 | B9: ADAMSMAPLETON 1 | C9: $ | D9: Operating | F9: 279969.9 | G9: 0 | H9: 190540.12 | I9: 0 | J9: 0 | K9: 169734.78
A10: 0010 | B10: ADAMSMAPLETON 1 | C10: $ | D10: Capital | F10: 0 | G10: 0 | H10: 0 | I10: 0 | J10: 0 | K10: 0
A11: 0010 | B11: ADAMSMAPLETON 1 | C11: $ | D11: Total | F11: 279969.9 | G11: 0 | H11: 190540.12 | I11: 0 | J11: 0 | K11: 169734.78
A12: 0010 | B12: ADAMSMAPLETON 1 | C12: % | D12: Instructional Expenditures | F12: 4.2738159 | G12: 0 | H12: 2.9086462 | I12: 0 | J12: 0 | K12: 2.5910471
A13: 0010 | B13: ADAMSMAPLETON 1
A14: 0020 | B14: ADAMSADAMS 12 FIV | D14: ADAMS | E14: ADAMS 12 FIVE STAR
A15: 0020 | B15: ADAMSADAMS 12 FIV | C15: $ | D15: Operating | F15: 7320400 | G15: 0 | H15: 784080.89 | I15: 29384.46 | J15: 103057.82 | K15: 2235671.8
A16: 0020 | B16: ADAMSADAMS 12 FIV | C16: $ | D16: Capital | F16: 0 | G16: 0 | H16: 0 | I16: 0 | J16: 0 | K16: 0
A17: 0020 | B17: ADAMSADAMS 12 FIV | C17: $ | D17: Total | F17: 7320400 | G17: 0 | H17: 784080.89 | I17: 29384.46 | J17: 103057.82 | K17: 2235671.8
A18: 0020 | B18: ADAMSADAMS 12 FIV | C18: % | D18: Instructional Expenditures | F18: 10.880868 | G18: 0 | H18: 1.1654392 | I18: 0.043676362 | J18: 0.15318269 | K18: 3.3230493
A19: 0020 | B19: ADAMSADAMS 12 FIV
A20: 0030 | B20: ADAMSADAMS COUNTY | D20: ADAMS | E20: ADAMS COUNTY 14
A21: 0030 | B21: ADAMSADAMS COUNTY | C21: $ | D21: Operating | F21: 678405.88 | G21: 45092.33 | H21: 87595.85 | I21: 5829.76 | J21: 0 | K21: 0
A22: 0030 | B22: ADAMSADAMS COUNTY | C22: $ | D22: Capital | F22: 0 | G22: 0 | H22: 0 | I22: 0 | J22: 0 | K22: 0
A23: 0030 | B23: ADAMSADAMS COUNTY | C23: $ | D23: Total | F23: 678405.88 | G23: 45092.33 | H23: 87595.85 | I23: 5829.76 | J23: 0 | K23: 0
A24: 0030 | B24: ADAMSADAMS COUNTY | C24: % | D24: Instructional Expenditures | F24: 6.7100136 | G24: 0.44600166 | H24: 0.86639777 | I24: 0.057661305 | J24: 0 | K24: 0
A25: 0030 | B25: ADAMSADAMS COUNTY
A26: 0040 | B26: ADAMSSCHOOL DISTRICT 27J | D26: ADAMS | E26: SCHOOL DISTRICT 27J
A27: 0040 | B27: ADAMSSCHOOL DISTRICT 27J | C27: $ | D27: Operating | F27: 7332849.6 | G27: 410 | H27: 824.83 | I27: 59679.78 | J27: 0 | K27: 138104.51
A28: 0040 | B28: ADAMSSCHOOL DISTRICT 27J | C28: $ | D28: Capital | F28: 0 | G28: 0 | H28: 0 | I28: 0 | J28: 0 | K28: 0
A29: 0040 | B29: ADAMSSCHOOL DISTRICT 27J | C29: $ | D29: Total | F29: 7332849.6 | G29: 410 | H29: 824.83 | I29: 59679.78 | J29: 0 | K29: 138104.51
A30: 0040 | B30: ADAMSSCHOOL DISTRICT 27J | C30: % | D30: Instructional Expenditures | F30: 16.917863 | G30: 0.00094592472 | H30: 0.0019029929 | I30: 0.13768922 | J30: 0 | K30: 0.31862554
A31: 0040 | B31: ADAMSSCHOOL DISTRICT 27J
A32: 0050 | B32: ADAMSBENNETT 29J | D32: ADAMS | E32: BENNETT 29J
A33: 0050 | B33: ADAMSBENNETT 29J | C33: $ | D33: Operating | F33: 100901.97 | G33: 132707.26 | H33: 0 | I33: 6770.99 | J33: 29282.98 | K33: 99980.38
A34: 0050 | B34: ADAMSBENNETT 29J | C34: $ | D34: Capital | F34: 0 | G34: 0 | H34: 0 | I34: 0 | J34: 0 | K34: 37890
A35: 0050 | B35: ADAMSBENNETT 29J | C35: $ | D35: Total | F35: 100901.97 | G35: 132707.26 | H35: 0 | I35: 6770.99 | J35: 29282.98 | K35: 137870.38
A36: 0050 | B36: ADAMSBENNETT 29J | C36: % | D36: Instructional Expenditures | F36: 4.3194309 | G36: 5.6809579 | H36: 0 | I36: 0.28985384 | J36: 1.2535514 | K36: 5.9019817
A37: 0050 | B37: ADAMSBENNETT 29J
A38: 0060 | B38: ADAMSSTRASBURG 31 | D38: ADAMS | E38: STRASBURG 31J
A39: 0060 | B39: ADAMSSTRASBURG 31 | C39: $ | D39: Operating | F39: 312816.86 | G39: 116457.5 | H39: 0 | I39: 2120.9 | J39: 0 | K39: 0
A40: 0060 | B40: ADAMSSTRASBURG 31 | C40: $ | D40: Capital | F40: 20468 | G40: 0 | H40: 0 | I40: 0 | J40: 0 | K40: 0
A41: 0060 | B41: ADAMSSTRASBURG 31 | C41: $ | D41: Total | F41: 333284.86 | G41: 116457.5 | H41: 0 | I41: 2120.9 | J41: 0 | K41: 0
...

Sheet IIIC (Instr Exp HS_Voc_Combo)
F1: 01* | G1: 02* | H1: 03* | I1: 04* | J1: 05* | K1: 06* | L1: 07* | M1: 08* | N1: 09* | O1: 10*
A3: DISTRICT | B3: County-Dist
I4: Distributive | L4: Health | N4: Family & | O4: Industrial Arts
E5: DISTRICT/ | I5: Marketing | J5: English | K5: Foreign | L5: Occupations | M5: Physical | N5: Consumer | O5: Technology
D6: COUNTY | E6: BOCES | F6: Agriculture | G6: Art | H6: Business | I6: Education | J6: Language Arts | K6: Language | L6: Education | M6: Curriculum | N6: Education | O6: Education
A8: 0010 | B8: ADAMSMAPLETON 1 | D8: ADAMS | E8: MAPLETON 1
A9: 0010 | B9: ADAMSMAPLETON 1 | C9: $ | D9: Operating | F9: 0 | G9: 83638.18 | H9: 0 | I9: 0 | J9: 1050939.2 | K9: 469744.59 | L9: 0 | M9: 236745.52 | N9: 0 | O9: 0
A10: 0010 | B10: ADAMSMAPLETON 1 | C10: $ | D10: Capital | F10: 0 | G10: 0 | H10: 0 | I10: 0 | J10: 0 | K10: 0 | L10: 0 | M10: 0 | N10: 0 | O10: 0
A11: 0010 | B11: ADAMSMAPLETON 1 | C11: $ | D11: Total | F11: 0 | G11: 83638.18 | H11: 0 | I11: 0 | J11: 1050939.2 | K11: 469744.59 | L11: 0 | M11: 236745.52 | N11: 0 | O11: 0
A12: 0010 | B12: ADAMSMAPLETON 1 | C12: % | D12: Instructional Expenditures | F12: 0 | G12: 1.2767593 | H12: 0 | I12: 0 | J12: 16.042869 | K12: 7.1707776 | L12: 0 | M12: 3.6139841 | N12: 0 | O12: 0
A13: 0010 | B13: ADAMSMAPLETON 1
A14: 0020 | B14: ADAMSADAMS 12 FIV | D14: ADAMS | E14: ADAMS 12 FIVE STAR
A15: 0020 | B15: ADAMSADAMS 12 FIV | C15: $ | D15: Operating | F15: 0 | G15: 2071808.2 | H15: 1349338.3 | I15: 164818.58 | J15: 8151560.6 | K15: 3695293.2 | L15: 6045 | M15: 3011370.6 | N15: 1048277.7 | O15: 16825.34
A16: 0020 | B16: ADAMSADAMS 12 FIV | C16: $ | D16: Capital | F16: 0 | G16: 0 | H16: 0 | I16: 0 | J16: 0 | K16: 0 | L16: 0 | M16: 0 | N16: 12794 | O16: 0
A17: 0020 | B17: ADAMSADAMS 12 FIV | C17: $ | D17: Total | F17: 0 | G17: 2071808.2 | H17: 1349338.3 | I17: 164818.58 | J17: 8151560.6 | K17: 3695293.2 | L17: 6045 | M17: 3011370.6 | N17: 1061071.7 | O17: 16825.34
A18: 0020 | B18: ADAMSADAMS 12 FIV | C18: % | D18: Instructional Expenditures | F18: 0 | G18: 3.0794864 | H18: 2.0056243 | I18: 0.24498241 | J18: 12.116286 | K18: 5.4925959 | L18: 0.0089851441 | M18: 4.4760296 | N18: 1.5771517 | O18: 0.025008785
A19: 0020 | B19: ADAMSADAMS 12 FIV
A20: 0030 | B20: ADAMSADAMS COUNTY | D20: ADAMS | E20: ADAMS COUNTY 14
A21: 0030 | B21: ADAMSADAMS COUNTY | C21: $ | D21: Operating | F21: 0 | G21: 296852.99 | H21: 126135.54 | I21: 0 | J21: 1598941.7 | K21: 328036 | L21: 66154.39 | M21: 702765.52 | N21: 187676.32 | O21: 312212.47
A22: 0030 | B22: ADAMSADAMS COUNTY | C22: $ | D22: Capital | F22: 0 | G22: 0 | H22: 0 | I22: 0 | J22: 0 | K22: 0 | L22: 0 | M22: 0 | N22: 0 | O22: 0
A23: 0030 | B23: ADAMSADAMS COUNTY | C23: $ | D23: Total | F23: 0 | G23: 296852.99 | H23: 126135.54 | I23: 0 | J23: 1598941.7 | K23: 328036 | L23: 66154.39 | M23: 702765.52 | N23: 187676.32 | O23: 312212.47
A24: 0030 | B24: ADAMSADAMS COUNTY | C24: % | D24: Instructional Expenditures | F24: 0 | G24: 2.9361296 | H24: 1.2475882 | I24: 0 | J24: 15.814899 | K24: 3.2445562 | L24: 0.65432342 | M24: 6.9509512 | N24: 1.8562791 | O24: 3.088048
A25: 0030 | B25: ADAMSADAMS COUNTY
A26: 0040 | B26: ADAMSSCHOOL DISTRICT 27J | D26: ADAMS | E26: SCHOOL DISTRICT 27J
A27: 0040 | B27: ADAMSSCHOOL DISTRICT 27J | C27: $ | D27: Operating | F27: 98365.22 | G27: 1338816.2 | H27: 455030.62 | I27: 121573.22 | J27: 5570909.2 | K27: 1664195.5 | L27: 82814.63 | M27: 1863477.4 | N27: 567370.27 | O27: 1223694.6
A28: 0040 | B28: ADAMSSCHOOL DISTRICT 27J | C28: $ | D28: Capital | F28: 0 | G28: 0 | H28: 0 | I28: 0 | J28: 0 | K28: 0 | L28: 0 | M28: 0 | N28: 0 | O28: 0
A29: 0040 | B29: ADAMSSCHOOL DISTRICT 27J | C29: $ | D29: Total | F29: 98365.22 | G29: 1338816.2 | H29: 455030.62 | I29: 121573.22 | J29: 5570909.2 | K29: 1664195.5 | L29: 82814.63 | M29: 1863477.4 | N29: 567370.27 | O29: 1223694.6
A30: 0040 | B30: ADAMSSCHOOL DISTRICT 27J | C30: % | D30: Instructional Expenditures | F30: 0.22694169 | G30: 3.0888277 | H30: 1.0498164 | I30: 0.28048564 | J30: 12.852831 | K30: 3.839521 | L30: 0.1910644 | M30: 4.299291 | N30: 1.3089989 | O30: 2.8232268
A31: 0040 | B31: ADAMSSCHOOL DISTRICT 27J
A32: 0050 | B32: ADAMSBENNETT 29J | D32: ADAMS | E32: BENNETT 29J
A33: 0050 | B33: ADAMSBENNETT 29J | C33: $ | D33: Operating | F33: 38343.31 | G33: 0 | H33: 65891.97 | I33: 0 | J33: 178590.41 | K33: 16328.93 | L33: 10456.36 | M33: 128236.08 | N33: 3262.59 | O33: 106426.05
A34: 0050 | B34: ADAMSBENNETT 29J | C34: $ | D34: Capital | F34: 0 | G34: 0 | H34: 0 | I34: 0 | J34: 0 | K34: 0 | L34: 0 | M34: 0 | N34: 0 | O34: 0
A35: 0050 | B35: ADAMSBENNETT 29J | C35: $ | D35: Total | F35: 38343.31 | G35: 0 | H35: 65891.97 | I35: 0 | J35: 178590.41 | K35: 16328.93 | L35: 10456.36 | M35: 128236.08 | N35: 3262.59 | O35: 106426.05
A36: 0050 | B36: ADAMSBENNETT 29J | C36: % | D36: Instructional Expenditures | F36: 1.6414078 | G36: 0 | H36: 2.8207161 | I36: 0 | J36: 7.6451326 | K36: 0.69901197 | L36: 0.44761787 | M36: 5.4895548 | N36: 0.13966558 | O36: 4.5559068
A37: 0050 | B37: ADAMSBENNETT 29J
A38: 0060 | B38: ADAMSSTRASBURG 31 | D38: ADAMS | E38: STRASBURG 31J
A39: 0060 | B39: ADAMSSTRASBURG 31 | C39: $ | D39: Operating | F39: 0 | G39: 77467.79 | H39: 109222.61 | I39: 0 | J39: 186780.12 | K39: 68246.51 | L39: 42814.74 | M39: 197412.59 | N39: 0 | O39: 29502.06
A40: 0060 | B40: ADAMSSTRASBURG 31 | C40: $ | D40: Capital | F40: 0 | G40: 0 | H40: 0 | I40: 0 | J40: 0 | K40: 0 | L40: 0 | M40: 0 | N40: 0 | O40: 0
A41: 0060 | B41: ADAMSSTRASBURG 31 | C41: $ | D41: Total | F41: 0 | G41: 77467.79 | H41: 109222.61 | I41: 0 | J41: 186780.12 | K41: 68246.51 | L41: 42814.74 | M41: 197412.59 | N41: 0 | O41: 29502.06
A42: 0060 | B42: ADAMSSTRASBURG 31 | C42: % | D42: Instructional Expenditures | F42: 0 | G42: 3.1366493 | H42: 4.4223931 | I42: 0 | J42: 7.5626751 | K42: 2.7632822 | L42: 1.7335569 | M42: 7.9931808 | N42: 0 | O42: 1.1945302
...

Sheet IIID (Inst Exp HS_Voc_Combo)
F1: 11* | G1: 12* | H1: 13* | I1: 14* | J1: 15* | K1: 16* | L1: 17* | M1: 18* | N1: 19*
N2: 20*
A3: DISTRICT | B3: County-Dist
K4: Technical Education | M4: Cocurricular | N4: Cocurricular | O4: Total
E5: DISTRICT/ | H5: Natural | I5: Office | J5: Social | K5: Computer | L5: Special | M5: Activities | N5: Activities | O5: Instructional
D6: COUNTY | E6: BOCES | F6: Mathematics | G6: Music | H6: Science | I6: Occupations | J6: Sciences | K6: Technology | L6: Education | M6: Athletic/Sports | N6: Nonathletic | O6: Expenditures
A8: 0010 | B8: ADAMSMAPLETON 1 | D8: ADAMS | E8: MAPLETON 1
A9: 0010 | B9: ADAMSMAPLETON 1 | C9: $ | D9: Operating | F9: 1343069.7 | G9: 0 | H9: 1541121.5 | I9: 0 | J9: 951904.83 | K9: 195882.03 | L9: 0 | M9: 0 | N9: 37527.7 | O9: =SUM(F9:N9)+SUM('IIIC (Instr Exp HS_Voc_Combo)'!F9:O9)+SUM('IIIB (Instr Exp HS, Voc & Combo'!F9:K9) -> 6550818
A10: 0010 | B10: ADAMSMAPLETON 1 | C10: $ | D10: Capital | F10: 0 | G10: 0 | H10: 0 | I10: 0 | J10: 0 | K10: 0 | L10: 0 | M10: 0 | N10: 0 | O10: =SUM(F10:N10)+SUM('IIIC (Instr Exp HS_Voc_Combo)'!F10:O10)+SUM('IIIB (Instr Exp HS, Voc & Combo'!F10:K10) -> 0
A11: 0010 | B11: ADAMSMAPLETON 1 | C11: $ | D11: Total | F11: 1343069.7 | G11: 0 | H11: 1541121.5 | I11: 0 | J11: 951904.83 | K11: 195882.03 | L11: 0 | M11: 0 | N11: 37527.7 | O11: =SUM(F11:N11)+SUM('IIIC (Instr Exp HS_Voc_Combo)'!F11:O11)+SUM('IIIB (Instr Exp HS, Voc & Combo'!F11:K11) -> 6550818
A12: 0010 | B12: ADAMSMAPLETON 1 | C12: % | D12: Instructional Expenditures | F12: 20.502321 | G12: 0 | H12: 23.525634 | I12: 0 | J12: 14.531083 | K12: 2.9901919 | L12: 0 | M12: 0 | N12: 0.57287044 | O12: =IFERROR((O11/'IIID (Inst Exp HS_Voc_Combo)'!$O11)*100,0) -> 100
A13: 0010 | B13: ADAMSMAPLETON 1
A14: 0020 | B14: ADAMSADAMS 12 FIV | D14: ADAMS | E14: ADAMS 12 FIVE STAR
A15: 0020 | B15: ADAMSADAMS 12 FIV | C15: $ | D15: Operating | F15: 6898998.1 | G15: 1418498.3 | H15: 6994789.6 | I15: 0 | J15: 7190375.1 | K15: 76925.58 | L15: 9174201.4 | M15: 3410022.8 | N15: 2113181.5 | O15: =SUM(F15:N15)+SUM('IIIC (Instr Exp HS_Voc_Combo)'!F15:O15)+SUM('IIIB (Instr Exp HS, Voc & Combo'!F15:K15) -> 67264925
A16: 0020 | B16: ADAMSADAMS 12 FIV | C16: $ | D16: Capital | F16: 0 | G16: 0 | H16: 0 | I16: 0 | J16: 0 | K16: 0 | L16: 0 | M16: 0 | N16: 0 | O16: =SUM(F16:N16)+SUM('IIIC (Instr Exp HS_Voc_Combo)'!F16:O16)+SUM('IIIB (Instr Exp HS, Voc & Combo'!F16:K16) -> 12794
A17: 0020 | B17: ADAMSADAMS 12 FIV | C17: $ | D17: Total | F17: 6898998.1 | G17: 1418498.3 | H17: 6994789.6 | I17: 0 | J17: 7190375.1 | K17: 76925.58 | L17: 9174201.4 | M17: 3410022.8 | N17: 2113181.5 | O17: =SUM(F17:N17)+SUM('IIIC (Instr Exp HS_Voc_Combo)'!F17:O17)+SUM('IIIB (Instr Exp HS, Voc & Combo'!F17:K17) -> 67277719
A18: 0020 | B18: ADAMSADAMS 12 FIV | C18: % | D18: Instructional Expenditures | F18: 10.254507 | G18: 2.1084222 | H18: 10.396889 | I18: 0 | J18: 10.687602 | K18: 0.11434035 | L18: 13.636315 | M18: 5.0685767 | N18: 3.1409827 | O18: =IFERROR((O17/'IIID (Inst Exp HS_Voc_Combo)'!$O17)*100,0) -> 100
A19: 0020 | B19: ADAMSADAMS 12 FIV
A20: 0030 | B20: ADAMSADAMS COUNTY | D20: ADAMS | E20: ADAMS COUNTY 14
A21: 0030 | B21: ADAMSADAMS COUNTY | C21: $ | D21: Operating | F21: 1204026.5 | G21: 217150.33 | H21: 1050484.7 | I21: 138979.68 | J21: 931531 | K21: 78654.86 | L21: 1257569.6 | M21: 630436.13 | N21: 138981.25 | O21: =SUM(F21:N21)+SUM('IIIC (Instr Exp HS_Voc_Combo)'!F21:O21)+SUM('IIIB (Instr Exp HS, Voc & Combo'!F21:K21) -> 10083513
A22: 0030 | B22: ADAMSADAMS COUNTY | C22: $ | D22: Capital | F22: 0 | G22: 0 | H22: 0 | I22: 0 | J22: 0 | K22: 0 | L22: 0 | M22: 26837.6 | N22: 0 | O22: =SUM(F22:N22)+SUM('IIIC (Instr Exp HS_Voc_Combo)'!F22:O22)+SUM('IIIB (Instr Exp HS, Voc & Combo'!F22:K22) -> 26837.6
A23: 0030 | B23: ADAMSADAMS COUNTY | C23: $ | D23: Total | F23: 1204026.5 | G23: 217150.33 | H23: 1050484.7 | I23: 138979.68 | J23: 931531 | K23: 78654.86 | L23: 1257569.6 | M23: 657273.73 | N23: 138981.25 | O23: =SUM(F23:N23)+SUM('IIIC (Instr Exp HS_Voc_Combo)'!F23:O23)+SUM('IIIB (Instr Exp HS, Voc & Combo'!F23:K23) -> 10110350
A24: 0030 | B24: ADAMSADAMS COUNTY | C24: % | D24: Instructional Expenditures | F24: 11.90885 | G24: 2.1478022 | H24: 10.390191 | I24: 1.3746277 | J24: 9.2136372 | K24: 0.77796374 | L24: 12.438437 | M24: 6.5009985 | N24: 1.3746433 | O24: =IFERROR((O23/'IIID (Inst Exp HS_Voc_Combo)'!$O23)*100,0) -> 100
A25: 0030 | B25: ADAMSADAMS COUNTY
A26: 0040 | B26: ADAMSSCHOOL DISTRICT 27J | D26: ADAMS | E26: SCHOOL DISTRICT 27J
A27: 0040 | B27: ADAMSSCHOOL DISTRICT 27J | C27: $ | D27: Operating | F27: 4336759.4 | G27: 776810.75 | H27: 4238487.9 | I27: 0 | J27: 3433466.6 | K27: 477688.72 | L27: 4471925.3 | M27: 2025154.4 | N27: 3043217.2 | O27: =SUM(F27:N27)+SUM('IIIC (Instr Exp HS_Voc_Combo)'!F27:O27)+SUM('IIIB (Instr Exp HS, Voc & Combo'!F27:K27) -> 43321626
A28: 0040 | B28: ADAMSSCHOOL DISTRICT 27J | C28: $ | D28: Capital | F28: 0 | G28: 0 | H28: 0 | I28: 0 | J28: 0 | K28: 0 | L28: 0 | M28: 13098 | N28: 9106.08 | O28: =SUM(F28:N28)+SUM('IIIC (Instr Exp HS_Voc_Combo)'!F28:O28)+SUM('IIIB (Instr Exp HS, Voc & Combo'!F28:K28) -> 22204.08
A29: 0040 | B29: ADAMSSCHOOL DISTRICT 27J | C29: $ | D29: Total | F29: 4336759.4 | G29: 776810.75 | H29: 4238487.9 | I29: 0 | J29: 3433466.6 | K29: 477688.72 | L29: 4471925.3 | M29: 2038252.4 | N29: 3052323.3 | O29: =SUM(F29:N29)+SUM('IIIC (Instr Exp HS_Voc_Combo)'!F29:O29)+SUM('IIIB (Instr Exp HS, Voc & Combo'!F29:K29) -> 43343830
A30: 0040 | B30: ADAMSSCHOOL DISTRICT 27J | C30: % | D30: Instructional Expenditures | F30: 10.005483 | G30: 1.7922061 | H30: 9.7787573 | I30: 0 | J30: 7.9214656 | K30: 1.1020916 | L30: 10.317328 | M30: 4.7025202 | N30: 7.0421172 | O30: =IFERROR((O29/'IIID (Inst Exp HS_Voc_Combo)'!$O29)*100,0) -> 100
A31: 0040 | B31: ADAMSSCHOOL DISTRICT 27J
A32: 0050 | B32: ADAMSBENNETT 29J | D32: ADAMS | E32: BENNETT 29J
A33: 0050 | B33: ADAMSBENNETT 29J | C33: $ | D33: Operating | F33: 210154.35 | G33: 82070.36 | H33: 211181.19 | I33: 0 | J33: 179834.16 | K33: 0 | L33: 405472.36 | M33: 279425.15 | N33: 12794.62 | O33: =SUM(F33:N33)+SUM('IIIC (Instr Exp HS_Voc_Combo)'!F33:O33)+SUM('IIIB (Instr Exp HS, Voc & Combo'!F33:K33) -> 2298111.5
A34: 0050 | B34: ADAMSBENNETT 29J | C34: $ | D34: Capital | F34: 0 | G34: 0 | H34: 0 | I34: 0 | J34: 0 | K34: 0 | L34: 0 | M34: 0 | N34: 0 | O34: =SUM(F34:N34)+SUM('IIIC (Instr Exp HS_Voc_Combo)'!F34:O34)+SUM('IIIB (Instr Exp HS, Voc & Combo'!F34:K34) -> 37890
A35: 0050 | B35: ADAMSBENNETT 29J | C35: $ | D35: Total | F35: 210154.35 | G35: 82070.36 | H35: 211181.19 | I35: 0 | J35: 179834.16 | K35: 0 | L35: 405472.36 | M35: 279425.15 | N35: 12794.62 | O35: =SUM(F35:N35)+SUM('IIIC (Instr Exp HS_Voc_Combo)'!F35:O35)+SUM('IIIB (Instr Exp HS, Voc & Combo'!F35:K35) -> 2336001.5
A36: 0050 | B36: ADAMSBENNETT 29J | C36: % | D36: Instructional Expenditures | F36: 8.9963278 | G36: 3.5132837 | H36: 9.040285 | I36: 0 | J36: 7.6983753 | K36: 0 | L36: 17.357539 | M36: 11.961686 | N36: 0.54771455 | O36: =IFERROR((O35/'IIID (Inst Exp HS_Voc_Combo)'!$O35)*100,0) -> 100
A37: 0050 | B37: ADAMSBENNETT 29J
A38: 0060 | B38: ADAMSSTRASBURG 31 | D38: ADAMS | E38: STRASBURG 31J
A39: 0060 | B39: ADAMSSTRASBURG 31 | C39: $ | D39: Operating | F39: 283941.96 | G39: 36269.56 | H39: 221812.44 | I39: 0 | J39: 200019.08 | K39: 20349.64 | L39: 152756.2 | M39: 328383.27 | N39: 62920.76 | O39: =SUM(F39:N39)+SUM('IIIC (Instr Exp HS_Voc_Combo)'!F39:O39)+SUM('IIIB (Instr Exp HS, Voc & Combo'!F39:K39) -> 2449294.6
A40: 0060 | B40: ADAMSSTRASBURG 31 | C40: $ | D40: Capital | F40: 0 | G40: 0 | H40: 0 | I40: 0 | J40: 0 | K40: 0 | L40: 0 | M40: 0 | N40: 0 | O40: =SUM(F40:N40)+SUM('IIIC (Instr Exp HS_Voc_Combo)'!F40:O40)+SUM('IIIB (Instr Exp HS, Voc & Combo'!F40:K40) -> 20468
A41: 0060 | B41: ADAMSSTRASBURG 31 | C41: $ | D41: Total | F41: 283941.96 | G41: 36269.56 | H41: 221812.44 | I41: 0 | J41: 200019.08 | K41: 20349.64 | L41: 152756.2 | M41: 328383.27 | N41: 62920.76 | O41: =SUM(F41:N41)+SUM('IIIC (Instr Exp HS_Voc_Combo)'!F41:O41)+SUM('IIIB (Instr Exp HS, Voc & Combo'!F41:K41) -> 2469762.6
...
