Workbook
Name TO_FROM: Sheet2!$A$1:$A$23

Sheet Sheet1
A1: LONGWOOD CENTRAL SCHOOL DISTRICT
A2: (MILEAGE VOUCHER FOR PRIVATELY OWNED CONVEYANCE)
F3: 2026 MILEAGE REIMBURSEMENT INDISTRICT
B4: NAME: | G4: POSITION: | K4: MONTH:
B6: 1. THIS FORM MUST BE SUBMITTED TO THE ACCOUNTING DEPARTMENT FOR APPROVAL BY THE FIRST FRIDAY
B7: OF THE MONTH FOLLOWING THE MONTH MILEAGE IS CLAIMED
B8: 2. ONLY AUTHORIZED PERSONNEL MAY COLLECT MILEAGE
A10: DATE | C10: FROM / TO (SELECT LOCATION FROM DROPDOWN - ALL LOCATIONS NOTED IN DROPDOWN) | K10: NO. MILES | L10: AUTHORIZED BY
K11: =IF(ISNA(VLOOKUP(Sheet1!C11,Sheet2!A1:B72,2,FALSE)),0,VLOOKUP(Sheet1!C11,Sheet2!A1:B72,2,FALSE)) -> 0
K12: =IF(ISNA(VLOOKUP(C12,Sheet2!A1:B72,2,FALSE)),0,VLOOKUP(C12,Sheet2!A1:B72,2,FALSE)) -> 0
K13: =IF(ISNA(VLOOKUP(C13,Sheet2!A1:B72,2,FALSE)),0,VLOOKUP(C13,Sheet2!A1:B72,2,FALSE)) -> 0
K14: =IF(ISNA(VLOOKUP(C14,Sheet2!A1:B72,2,FALSE)),0,VLOOKUP(C14,Sheet2!A1:B72,2,FALSE)) -> 0
K15: =IF(ISNA(VLOOKUP(C15,Sheet2!A1:B72,2,FALSE)),0,VLOOKUP(C15,Sheet2!A1:B72,2,FALSE)) -> 0
K16: =IF(ISNA(VLOOKUP(C16,Sheet2!A1:B72,2,FALSE)),0,VLOOKUP(C16,Sheet2!A1:B72,2,FALSE)) -> 0
K17: =IF(ISNA(VLOOKUP(C17,Sheet2!A1:B72,2,FALSE)),0,VLOOKUP(C17,Sheet2!A1:B72,2,FALSE)) -> 0
K18: =IF(ISNA(VLOOKUP(C18,Sheet2!A1:B72,2,FALSE)),0,VLOOKUP(C18,Sheet2!A1:B72,2,FALSE)) -> 0
K19: =IF(ISNA(VLOOKUP(C19,Sheet2!A1:B72,2,FALSE)),0,VLOOKUP(C19,Sheet2!A1:B72,2,FALSE)) -> 0
K20: =IF(ISNA(VLOOKUP(C20,Sheet2!A1:B72,2,FALSE)),0,VLOOKUP(C20,Sheet2!A1:B72,2,FALSE)) -> 0
K21: =IF(ISNA(VLOOKUP(C21,Sheet2!A1:B72,2,FALSE)),0,VLOOKUP(C21,Sheet2!A1:B72,2,FALSE)) -> 0
K22: =IF(ISNA(VLOOKUP(C22,Sheet2!A1:B72,2,FALSE)),0,VLOOKUP(C22,Sheet2!A1:B72,2,FALSE)) -> 0
K23: =IF(ISNA(VLOOKUP(C23,Sheet2!A1:B72,2,FALSE)),0,VLOOKUP(C23,Sheet2!A1:B72,2,FALSE)) -> 0
K24: =IF(ISNA(VLOOKUP(C24,Sheet2!A1:B72,2,FALSE)),0,VLOOKUP(C24,Sheet2!A1:B72,2,FALSE)) -> 0
K25: =IF(ISNA(VLOOKUP(C25,Sheet2!A1:B72,2,FALSE)),0,VLOOKUP(C25,Sheet2!A1:B72,2,FALSE)) -> 0
K26: =IF(ISNA(VLOOKUP(C26,Sheet2!A1:B72,2,FALSE)),0,VLOOKUP(C26,Sheet2!A1:B72,2,FALSE)) -> 0
K27: =IF(ISNA(VLOOKUP(C27,Sheet2!A1:B72,2,FALSE)),0,VLOOKUP(C27,Sheet2!A1:B72,2,FALSE)) -> 0
K28: =IF(ISNA(VLOOKUP(C28,Sheet2!A1:B72,2,FALSE)),0,VLOOKUP(C28,Sheet2!A1:B72,2,FALSE)) -> 0
K29: =IF(ISNA(VLOOKUP(C29,Sheet2!A1:B72,2,FALSE)),0,VLOOKUP(C29,Sheet2!A1:B72,2,FALSE)) -> 0
K30: =IF(ISNA(VLOOKUP(C30,Sheet2!A1:B72,2,FALSE)),0,VLOOKUP(C30,Sheet2!A1:B72,2,FALSE)) -> 0
I31: TOTAL MILES | K31: =SUM(K11:K30) -> 0
H32: AMOUNT ($0.76 FOR 2026) | K32: =K31*0.76 -> 0 | L32: VERIFIED
B35: SIGNATURE OF CLAIMANT | F35: DATE | I35: AUTHORIZED SIGNATURE OF PAYMENT
B37: OFFICIAL MILEAGE CHART - MILEAGE RETRIEVED FROM MAPQUEST.COM
B38: SCHOOL | D38: MILES | F38: SCHOOLS | H38: MILES | J38: SCHOOLS | L38: MILES
B39: MS TO CORAM | D39: 4.3 | F39: JHS TO CORAM | H39: 6.2 | J39: LHS TO CORAM | L39: 5.3
B40: MS TO WMI | D40: 4.3 | F40: JHS TO WMI | H40: 6.1 | J40: LHS TO WMI | L40: 5.2
B41: MS TO RIDGE | D41: 4.1 | F41: JHS TO RIDGE | H41: 3.4 | J41: LHS TO RIDGE | L41: 4.3
B42: MS TO CEW | D42: 2.8 | F42: JHS TO CEW | H42: 3.2 | J42: LHS TO CEW | L42: 2.3
B43: MS TO LHS | D43: 1.6 | F43: JHS TO LHS | H43: 0.8
B44: MS TO JHS | D44: 2.4 | J44: CORAM TO WMI | L44: 1.7
F45: WMI TO RIDGE | H45: 7.1 | J45: CORAM TO RIDGE | L45: 7.7
...

Sheet Sheet2
A1: CEW TO CORAM | B1: 5.4
A2: CEW TO JHS | B2: 3.2
A3: CEW TO LHS | B3: 2.3
A4: CEW TO MS | B4: 2.8
A5: CEW TO RIDGE | B5: 6.3
A6: CEW TO WMI | B6: 6.1
A7: CEW TO CO | B7: 2.7
A8: CEW TO LCC | B8: 0.8
A9: CORAM TO CEW | B9: 5.4
A10: CORAM TO JHS | B10: 6.2
A11: CORAM TO LHS | B11: 5.3
A12: CORAM TO MS | B12: 4.3
... A72: LCC TO CO | B72: 3.5
