Workbook

Sheet Needs Assessment
B1: Charter School Needs Assessment
B2: 2026-2027 School Year
B4: Part 1: School Info | P4: KEY for Completion
B5: School: | Q5: PCS Staff Completes
B6: School #: | Q6: Charter School Staff
B7: Official Title II/Title IV Contact: | Q7: Auto Fill
B8: Phone Number:
B9: E-mail Address:
B10: Principal:
B11: Title II Allocation for 26-27:
B12: Title IV Allocation for 26-27:
B13: Part 2: Needs Assessment
B14: 1. Briefly summarize the school’s needs assessment process.
B16: 2. Identify your students’ academic needs. Provide specific, appropriate data for support. (numerical data)
B18: 3. Identify your students' social-emotional, physical health, and digital literacy needs that emerged from the process described above. Provide appropriate data for support. (specific quantitative AND/OR qualitative info)
B20: 4. Identify your professional development needs, as related to the students’ needs identified above.
B23: Part 3: Programs and Services
B24: 5. Describe the professional development program, services or other activities the school intends to implement to address the identified needs.
... B31: Part 5: Budget Overview
B32: Title II Allocation: | C32: Budgeted | D32: Spent | G32: Balance
B33: Allocated | C33: =C11 -> 0 | D33: =SUM(D34:F38) -> 0 | G33: =C33-D33 -> 0
B34: PD Supplies | C34: ='TII-PD Supplies'!M15 -> 0 | D34: ='TII-PD Supplies'!P15 -> 0 | G34: =C34-D34 -> 0
B35: PD Travel/Conferences | C35: ='TII-PD Travel Conf'!M15 -> 0 | D35: ='TII-PD Travel Conf'!W15 -> 0 | G35: =C35-D35 -> 0
B36: PD School Based (Stipends) | C36: ='TII-PD Stipends'!M15 -> 0 | D36: ='TII-PD Stipends'!Q15 -> 0 | G36: =C36-D36 -> 0
B37: PD School Based (Consultants) | C37: ='TII-PD Consultants'!M15 -> 0 | D37: ='TII-PD Consultants'!Q15 -> 0 | G37: =C37-D37 -> 0
B38: PD Other (Courses/Subscriptions) | C38: ='TII-PD Other'!M15 -> 0 | D38: ='TII-PD Other'!Q15 -> 0 | G38: =C38-D38 -> 0
B39: Title II Total Budget: | C39: =SUM(C34:C38) -> 0 | D39: =SUM(D34:F38) -> 0 | G39: =C39-D39 -> 0
B41: Title IV Allocation: | C41: Budgeted | D41: Spent | G41: Balance
B42: Allocated | C42: =C12 -> 0 | D42: =SUM(D43:F49) -> 0 | G42: =C42-D42 -> 0
B43: Supplies | C43: ='TIV-Supplies'!O17 -> 0 | D43: ='TIV-Supplies'!R17 -> 0 | G43: =C43-D43 -> 0
B44: PD Travel/Conferences | C44: ='TIV-Travel Conf'!O17 -> 0 | D44: ='TIV-Travel Conf'!Z17 -> 0 | G44: =C44-D44 -> 0
B45: PD School Based (Stipends) | C45: ='TIV-Stipends'!O17 -> 0 | D45: ='TIV-Stipends'!S17 -> 0 | G45: =C45-D45 -> 0
B46: PD School Based (Consultant) | C46: ='TIV-Consultants'!O17 -> 0 | D46: ='TIV-Consultants'!S17 -> 0 | G46: =C46-D46 -> 0
B47: Purchased Services | C47: ='TIV-Services'!O17 -> 0 | D47: ='TIV-Services'!S17 -> 0 | G47: =C47-D47 -> 0
B48: Field Trips | C48: ='TIV-Field Trips'!O17 -> 0 | D48: ='TIV-Field Trips'!T17 -> 0 | G48: =C48-D48 -> 0
B49: Other | C49: ='TIV-Other'!N17 -> 0 | D49: ='TIV-Other'!S17 -> 0 | G49: =C49-D49 -> 0
B50: Title IV Total Budget: | C50: =SUM(C43:C49) -> 0 | D50: =SUM(D43:F49) -> 0 | G50: =C50-D50 -> 0
B51: Part 6: Version & Approval History
B52: Date | C52: Status | F52: Approval

Sheet Func Obj
A1: TITLE II PD Supplies | B1: TII Travel | C1: TII PD Stipends | D1: TII PD Consult | E1: TII OTHER | F1: TIV Supplies | G1: Travel IV Travel | H1: Title IV Services | I1: Title IV Consultant | J1: Title IV Stipends | K1: Title IV Field Trips | L1: Other
A2: 6400 0394 | B2: 6400 0394 | C2: 6400 0394 | D2: 6400 0394 | E2: 6400 0394 | F2: 5100 0394 | G2: 5100 0394 | H2: 5100 0394 | I2: 5100 0394 | J2: 5100 0394 | K2: 5100 0394 | L2: 5100 0394
A3: Select | B3: Select | C3: Select | D3: Select | E3: Select | F3: 6400 0394 | G3: 6400 0394 | H3: 6400 0394 | I3: 6400 0394 | J3: 6400 0394 | K3: 6400 0394 | L3: 6400 0394
F4: Select | G4: Select | H4: Select | I4: Select | J4: Select | K4: Select | L4: Select
A7: 5100 0394 | B7: 5100 0394 | C7: 5100 0394 | D7: 5100 0394 | E7: 5100 0394

Sheet PIVOTS TII
B1: TITLE II REQUESTS COMBINED | C1: ='Needs Assessment'!C6 -> 0 | F1: TII Supplies | I1: TII Travel | L1: TII Stipends | O1: TII Consultants | R1: TII Other
B2: Total Allocation | C2: ='Needs Assessment'!C11 -> 0
B3: Total of List | C3: {=SUM(IF(ISNUMBER(D5:D57), D5:D57))} -> 0
A4: T | B4: Description | C4: School | D4: Total Cost | E4: Actual Cost | F4: Row Labels | G4: Sum of Total Cost | I4: Row Labels | J4: Sum of Total Cost | L4: Row Labels | M4: Sum of Total Cost | O4: Row Labels | P4: Sum of Total Cost | R4: Row Labels | S4: Sum of Total Cost
A5: T II | B5: 5100 0394 | C5: =$C$1 -> 0 | D5: =_xlfn.AGGREGATE(9,6,B22:B26) -> 0 | F5: Select | G5: 0 | I5: Select | J5: 0 | L5: Select | M5: 0 | O5: Select | P5: 0 | R5: Select | S5: 0
A6: T II | B6: 6400 0394 | C6: =$C$1 -> 0 | D6: =_xlfn.AGGREGATE(9,6,B30:B34) -> 0 | F6: 6400 0394 | G6: 0 | I6: Grand Total | J6: 0 | L6: Grand Total | M6: 0 | O6: Grand Total | P6: 0 | R6: Grand Total | S6: 0
F7: Grand Total | G7: 0
B21: 5100 0394 | C21: Select
A22: Supplies | B22: =VLOOKUP(B21,F:G,2,FALSE) -> #N/A | C22: =VLOOKUP(C21,F:G,2,FALSE) -> 0
A23: Conference | B23: =VLOOKUP(B21,I:J,2,FALSE) -> #N/A | C23: =VLOOKUP(C21,I:J,2,FALSE) -> 0
A24: Stipends | B24: =VLOOKUP(B21,L:M,2,FALSE) -> #N/A | C24: =VLOOKUP(C22,M:N,2,FALSE) -> 0
A25: Consultants | B25: =VLOOKUP(B21,O:P,2,FALSE) -> #N/A | C25: =VLOOKUP(C23,P:Q,2,FALSE) -> 0
A26: Other | B26: =VLOOKUP(B21,R:S,2,FALSE) -> #N/A | C26: =VLOOKUP(C21,R:S,2,FALSE) -> 0
B29: 6400 0394 | C29: Select
A30: Supplies | B30: =VLOOKUP(B29,F:G,2,FALSE) -> 0 | C30: =VLOOKUP(C29,F:G,2,FALSE) -> 0
A31: Conference | B31: =VLOOKUP(B29,I:J,2,FALSE) -> #N/A | C31: =VLOOKUP(C29,I:J,2,FALSE) -> 0
A32: Stipends | B32: =VLOOKUP(B29,L:M,2,FALSE) -> #N/A | C32: =VLOOKUP(C30,M:N,2,FALSE) -> 0
A33: Consultants | B33: =VLOOKUP(B29,O:P,2,FALSE) -> #N/A | C33: =VLOOKUP(C31,P:Q,2,FALSE) -> 0
A34: Other | B34: =VLOOKUP(B29,R:S,2,FALSE) -> #N/A | C34: =VLOOKUP(C29,R:S,2,FALSE) -> 0

Sheet PIVOTS TIV
C1: TITLE IV REQUESTS COMBINED | D1: ='Needs Assessment'!C6 -> 0 | E1: (as entered on Info Tab)
H2: Title IV Supplies | K2: Title IV Travel Conf | N2: Title IV Stipends | Q2: Title IV Consultants | T2: Title IV Services | W2: Title IV Field Trips | Z2: Title IV OTHER
C3: Total Allocation | D3: ='Needs Assessment'!C12 -> 0
C4: Total of List | D4: {=SUM(IF(ISNUMBER(E6:E66), E6:E66))} -> 0
A5: T | B5: AOF | C5: Description | D5: School | E5: Total Cost | H5: RIGHT CLICK TO REFRESH | I5: Sum of Total | K5: Row Labels | L5: Sum of Total Cost | N5: Row Labels | O5: Sum of Total Cost | Q5: Row Labels | R5: Sum of Total Cost | T5: Row Labels | U5: Sum of Total Cost | W5: Row Labels | X5: Sum of Total Cost | Z5: Row Labels | AA5: Sum of Total Cost
A6: T IV | B6: AOF 1 | C6: AOF1 (WRE) 5100 0394 | D6: =$D$1 -> 0 | E6: =_xlfn.AGGREGATE(9,6,B22:B28) -> 0 | H6: Select Select | I6: 0 | K6: Select Select | L6: 0 | N6: Select Select | O6: 0 | Q6: Select Select | R6: 0 | T6: Select Select | U6: 0 | W6: Select Select | X6: 0 | Z6: Select Select | AA6: 0
A7: T IV | B7: AOF 1 | C7: AOF1 (WRE) 6400 0394 | D7: =$D$1 -> 0 | E7: =_xlfn.AGGREGATE(9,6,B32:B38) -> 0 | H7: AOF1 (WRE) 5100 0394 | I7: 0 | K7: (blank) | N7: Grand Total | O7: 0 | Q7: Grand Total | R7: 0 | T7: Grand Total | U7: 0 | W7: Grand Total | X7: 0 | Z7: Grand Total | AA7: 0
A8: T IV | B8: AOF 2 | C8: AOF2 (SHS) 5100 0394 | D8: =$D$1 -> 0 | E8: =_xlfn.AGGREGATE(9,6,C22:C28) -> 0 | H8: Grand Total | I8: 0 | K8: Grand Total | L8: 0
A9: T IV | B9: AOF 2 | C9: AOF2 (SHS) 6400 0394 | D9: =$D$1 -> 0 | E9: =_xlfn.AGGREGATE(9,6,C32:C38) -> 0
A10: T IV | B10: AOF 3 | C10: AOF3 (Tec) 5100 0394 | D10: =$D$1 -> 0 | E10: =_xlfn.AGGREGATE(9,6,D22:D28) -> 0
A11: T IV | B11: AOF 3 | C11: AOF3 (Tec) 6400 0394 | D11: =$D$1 -> 0 | E11: =_xlfn.AGGREGATE(9,6,D32:D38) -> 0
B21: AOF1 (WRE) 5100 0394 | C21: AOF2 (SHS) 5100 0394 | D21: AOF3 (Tec) 5100 0394 | E21: Select 5100 0394 | F21: Select Select
A22: Supplies | B22: =VLOOKUP(B21,H:I,2,FALSE) -> 0 | C22: =VLOOKUP(C21,H:I,2,FALSE) -> #N/A | D22: =VLOOKUP(D21,H:I,2,FALSE) -> #N/A | E22: =VLOOKUP(E21,H:I,2,FALSE) -> #N/A | F22: =VLOOKUP(F21,H:I,2,FALSE) -> 0
A23: Conference | B23: =VLOOKUP(B21,K:L,2,FALSE) -> #N/A | C23: =VLOOKUP(C21,K:L,2,FALSE) -> #N/A | D23: =VLOOKUP(D21,K:L,2,FALSE) -> #N/A | E23: =VLOOKUP(E21,K:L,2,FALSE) -> #N/A | F23: =VLOOKUP(F21,K:L,2,FALSE) -> 0
A24: Stipends | B24: =VLOOKUP(B21,N:O,2,FALSE) -> #N/A | C24: =VLOOKUP(C21,N:O,2,FALSE) -> #N/A | D24: =VLOOKUP(D21,N:O,2,FALSE) -> #N/A | E24: =VLOOKUP(E21,N:O,2,FALSE) -> #N/A | F24: 0
A25: Consultants | B25: =VLOOKUP(B21,Q:R,2,FALSE) -> #N/A | C25: =VLOOKUP(C21,Q:R,2,FALSE) -> #N/A | D25: =VLOOKUP(D21,Q:R,2,FALSE) -> #N/A | E25: =VLOOKUP(E21,Q:R,2,FALSE) -> #N/A | F25: =VLOOKUP(F21,Q:R,2,FALSE) -> 0
A26: Services | B26: =VLOOKUP(B21,T:U,2,FALSE) -> #N/A | C26: =VLOOKUP(C21,T:U,2,FALSE) -> #N/A | D26: =VLOOKUP(D21,T:U,2,FALSE) -> #N/A | E26: =VLOOKUP(E21,T:U,2,FALSE) -> #N/A | F26: =VLOOKUP(F21,T:U,2,FALSE) -> 0
A27: Field Trips | B27: =VLOOKUP(B21,W:X,2,FALSE) -> #N/A | C27: =VLOOKUP(C21,W:X,2,FALSE) -> #N/A | D27: =VLOOKUP(D21,W:X,2,FALSE) -> #N/A | E27: =VLOOKUP(E21,W:X,2,FALSE) -> #N/A | F27: =VLOOKUP(F21,W:X,2,FALSE) -> 0
A28: Other | B28: =VLOOKUP(B21,Z:AA,2,FALSE) -> #N/A | C28: =VLOOKUP(C21,Z:AA,2,FALSE) -> #N/A | D28: =VLOOKUP(D21,Z:AA,2,FALSE) -> #N/A | E28: =VLOOKUP(E21,Z:AA,2,FALSE) -> #N/A | F28: =VLOOKUP(F21,Z:AA,2,FALSE) -> 0
B31: AOF1 (WRE) 6400 0394 | C31: AOF2 (SHS) 6400 0394 | D31: AOF3 (Tec) 6400 0394 | E31: Select 6400 0394 | F31: Select Select
A32: Supplies | B32: =VLOOKUP(B31,H:I,2,FALSE) -> #N/A | C32: =VLOOKUP(C31,H:I,2,FALSE) -> #N/A | D32: =VLOOKUP(D31,H:I,2,FALSE) -> #N/A | E32: =VLOOKUP(E31,H:I,2,FALSE) -> #N/A | F32: =VLOOKUP(F31,H:I,2,FALSE) -> 0
A33: Conference | B33: =VLOOKUP(B31,K:L,2,FALSE) -> #N/A | C33: =VLOOKUP(C31,K:L,2,FALSE) -> #N/A | D33: =VLOOKUP(D31,K:L,2,FALSE) -> #N/A | E33: =VLOOKUP(E31,K:L,2,FALSE) -> #N/A | F33: =VLOOKUP(F31,K:L,2,FALSE) -> 0
A34: Stipends | B34: =VLOOKUP(B31,N:O,2,FALSE) -> #N/A | C34: =VLOOKUP(C31,N:O,2,FALSE) -> #N/A | D34: =VLOOKUP(D31,N:O,2,FALSE) -> #N/A | E34: =VLOOKUP(E31,N:O,2,FALSE) -> #N/A | F34: =VLOOKUP(F31,N:O,2,FALSE) -> 0
A35: Consultants | B35: =VLOOKUP(B31,Q:R,2,FALSE) -> #N/A | C35: =VLOOKUP(C31,Q:R,2,FALSE) -> #N/A | D35: =VLOOKUP(D31,Q:R,2,FALSE) -> #N/A | E35: =VLOOKUP(E31,Q:R,2,FALSE) -> #N/A | F35: =VLOOKUP(F31,Q:R,2,FALSE) -> 0
A36: Services | B36: =VLOOKUP(B31,T:U,2,FALSE) -> #N/A | C36: =VLOOKUP(C31,T:U,2,FALSE) -> #N/A | D36: =VLOOKUP(D31,T:U,2,FALSE) -> #N/A | E36: =VLOOKUP(E31,T:U,2,FALSE) -> #N/A | F36: =VLOOKUP(F31,T:U,2,FALSE) -> 0
A37: Field Trips | B37: =VLOOKUP(B31,W:X,2,FALSE) -> #N/A | C37: =VLOOKUP(C31,W:X,2,FALSE) -> #N/A | D37: =VLOOKUP(D31,W:X,2,FALSE) -> #N/A | E37: =VLOOKUP(E31,W:X,2,FALSE) -> #N/A | F37: =VLOOKUP(F31,W:X,2,FALSE) -> 0
A38: Other | B38: =VLOOKUP(B31,Z:AA,2,FALSE) -> #N/A | C38: =VLOOKUP(C31,Z:AA,2,FALSE) -> #N/A | D38: =VLOOKUP(D31,Z:AA,2,FALSE) -> #N/A | E38: =VLOOKUP(E31,Z:AA,2,FALSE) -> #N/A | F38: =VLOOKUP(F31,Z:AA,2,FALSE) -> 0

Sheet TII-PD Supplies
B1: Charter School Budget Narrative - Title II | N1: KEY for Completion
O2: PCS Staff Completes
B3: 2026-2027 School Year | O3: Charter School Staff
O4: Auto Fill
B5: Part 7A: Budget Narrative - PD Supplies
B6: School | D6: ='Needs Assessment'!C5 -> 0 | K6: Title II Snapshot | M6: Budget | N6: Spent
B7: # | D7: ='Needs Assessment'!C6 -> 0 | K7: PD Supplies Total | L7: ='Needs Assessment'!D34 -> 0 | M7: ='Needs Assessment'!C34 -> 0 | N7: ='Needs Assessment'!D34 -> 0
B8: Contact | D8: ='Needs Assessment'!C7 -> 0 | K8: PD Travel Total | L8: ='Needs Assessment'!D35 -> 0 | M8: ='Needs Assessment'!C35 -> 0 | N8: ='Needs Assessment'!D35 -> 0
B9: Email | D9: ='Needs Assessment'!C9 -> 0 | K9: PD Stipends Total | L9: ='Needs Assessment'!D36 -> 0 | M9: ='Needs Assessment'!C36 -> 0 | N9: ='Needs Assessment'!D36 -> 0
B10: Phone | D10: ='Needs Assessment'!C8 -> 0 | K10: PD Consult. Total | L10: ='Needs Assessment'!D37 -> 0 | M10: ='Needs Assessment'!C37 -> 0 | N10: ='Needs Assessment'!D37 -> 0
K11: PD Other Total | L11: ='Needs Assessment'!D38 -> 0 | M11: ='Needs Assessment'!C38 -> 0 | N11: ='Needs Assessment'!D38 -> 0 | R11: PLACEHOLDER | T11: =M13-M12 -> 0
K12: Total | L12: ='Needs Assessment'!D39 -> 0 | M12: ='Needs Assessment'!C39 -> 0 | N12: ='Needs Assessment'!D39 -> 0
K13: Allocation | L13: ='Needs Assessment'!D33 -> 0 | M13: ='Needs Assessment'!C33 -> 0 | N13: ='Needs Assessment'!D33 -> 0
K15: Total Supplies Budget: | M15: =SUM(P18:P100) -> 0 | N15: Total Supplies Cost: | P15: =SUM(R18:R100) -> 0
B16: PCS STAFF ONLY | D16: HIDE | E16: HIDE | F16: HIDE | G16: HIDE | H16: HIDE | I16: Budget Proposal | Q16: Expenditures
B17: Func | C17: Obj | D17: Grant ID | E17: Cost Center | F17: Needs Assessment | G17: If new, date added | H17: Participation Request | I17: Item Details | J17: Purpose | K17: Vendor | L17: x | M17: Link to Item | N17: Unit Price | O17: Qty | P17: Total Cost | Q17: Date Purchased | R17: Actual Cost | S17: Req/PO | T17: Notes
B18: 6400 0394 | D18: x200 | E18: =$D$7 -> 0 | F18: Select | H18: Select | I18: Placeholder | P18: =PRODUCT(N18:O18) -> 0
A19: 1 | B19: Select | D19: x200 | E19: =$D$7 -> 0 | F19: Select | H19: Select | P19: =PRODUCT(N19:O19) -> 0
A20: 2 | B20: Select | D20: x200 | E20: =$D$7 -> 0 | F20: Select | H20: Select | P20: =PRODUCT(N20:O20) -> 0
A21: 3 | B21: Select | D21: x200 | E21: =$D$7 -> 0 | F21: Select | H21: Select | P21: =PRODUCT(N21:O21) -> 0
A22: 4 | B22: Select | D22: x200 | E22: =$D$7 -> 0 | F22: Select | H22: Select | P22: =PRODUCT(N22:O22) -> 0
A23: 5 | B23: Select | D23: x200 | E23: =$D$7 -> 0 | F23: Select | H23: Select | P23: =PRODUCT(N23:O23) -> 0
A24: 6 | B24: Select | D24: x200 | E24: =$D$7 -> 0 | F24: Select | H24: Select | P24: =PRODUCT(N24:O24) -> 0
A25: 7 | B25: Select | D25: x200 | E25: =$D$7 -> 0 | F25: Select | H25: Select | P25: =PRODUCT(N25:O25) -> 0
A26: 8 | B26: Select | D26: x200 | E26: =$D$7 -> 0 | F26: Select | H26: Select | P26: =PRODUCT(N26:O26) -> 0
A27: 9 | B27: Select | D27: x200 | E27: =$D$7 -> 0 | F27: Select | H27: Select | P27: =PRODUCT(N27:O27) -> 0
A28: 10 | B28: Select | D28: x200 | E28: =$D$7 -> 0 | F28: Select | H28: Select | P28: =PRODUCT(N28:O28) -> 0
A29: 11 | B29: Select | D29: x200 | E29: =$D$7 -> 0 | F29: Select | H29: Select | P29: =PRODUCT(N29:O29) -> 0
A30: 12 | B30: Select | D30: x200 | E30: =$D$7 -> 0 | F30: Select | H30: Select | P30: =PRODUCT(N30:O30) -> 0
... A100: 82 | B100: Select | D100: x200 | E100: =$D$7 -> 0 | F100: Select | H100: Select | P100: =PRODUCT(N100:O100) -> 0

Sheet TII-PD Travel Conf
B1: Charter School Budget Narrative - Title II | R1: KEY for Completion
S2: PCS Staff Completes
B3: 2026-2027 School Year | S3: Charter School Staff Completes
S4: Auto Fill
B5: Part 7B: Budget Narrative - PD Travel/Conferences
B6: School | D6: ='Needs Assessment'!C5 -> 0 | K6: Title II Snapshot | L6: Budget | M6: Spent
B7: # | D7: ='Needs Assessment'!C6 -> 0 | K7: PD Supplies Total | L7: ='Needs Assessment'!C34 -> 0 | M7: ='Needs Assessment'!D34 -> 0
B8: Contact | D8: ='Needs Assessment'!C7 -> 0 | K8: PD Travel Total | L8: ='Needs Assessment'!C35 -> 0 | M8: ='Needs Assessment'!D35 -> 0
B9: Email | D9: ='Needs Assessment'!C9 -> 0 | K9: PD Stipends Total | L9: ='Needs Assessment'!C36 -> 0 | M9: ='Needs Assessment'!D36 -> 0
B10: Phone | D10: ='Needs Assessment'!C8 -> 0 | K10: PD Consult. Total | L10: ='Needs Assessment'!C37 -> 0 | M10: ='Needs Assessment'!D37 -> 0
K11: PD Other Total | L11: ='Needs Assessment'!C38 -> 0 | M11: ='Needs Assessment'!D38 -> 0
K12: Total | L12: ='Needs Assessment'!C39 -> 0 | M12: ='Needs Assessment'!D39 -> 0
K13: Allocation | L13: ='Needs Assessment'!C33 -> 0 | M13: ='Needs Assessment'!D33 -> 0
K15: Total PD Travel Budget: | M15: =SUM(Y18:Y100) -> 0 | T15: Total PD Travel Cost: | W15: =SUM(AA18:AA100) -> 0
B16: PCS STAFF ONLY | D16: HIDE | E16: HIDE | F16: HIDE | G16: HIDE | H16: HIDE | I16: Budget Proposal | Z16: Expenditures
B17: Func | C17: Obj | D17: Grant ID | E17: Cost Center | F17: Needs Assessment | G17: If new, date added | H17: Participation Request | I17: Conference Title | J17: Purpose | K17: Host | L17: Link to Agenda | M17: Cost To Register | N17: Cost Meals B@16, L@17, D@31 | O17: Cost Hotel | P17: Cost Uber/Taxi | Q17: Cost Car Rental | R17: Cost Milegage, Parking &/or Tolls | S17: Cost Airfare | T17: Cost Per Person | U17: # of Staff | V17: In/Out of State | W17: Location | X17: Date(s) | Y17: Total Cost | Z17: Date Purchased | AA17: Actual Cost | AB17: Req/PO | AC17: Notes
A18: 1 | B18: Select | D18: x200 | E18: =$D$7 -> 0 | F18: Original | H18: Select | T18: =SUM(M18:S18) -> 0 | V18: ? | Y18: =PRODUCT(T18:U18) -> 0
A19: 2 | B19: Select | D19: x200 | E19: =$D$7 -> 0 | F19: Original | H19: Select | T19: =SUM(M19:S19) -> 0 | V19: ? | Y19: =PRODUCT(T19:U19) -> 0
A20: 3 | B20: Select | D20: x200 | E20: =$D$7 -> 0 | F20: Original | H20: Select | T20: =SUM(M20:S20) -> 0 | V20: ? | Y20: =PRODUCT(T20:U20) -> 0
A21: 4 | B21: Select | D21: x200 | E21: =$D$7 -> 0 | F21: Select | H21: Select | T21: =SUM(M21:S21) -> 0 | V21: ? | Y21: =PRODUCT(T21:U21) -> 0
A22: 5 | B22: Select | D22: x200 | E22: =$D$7 -> 0 | F22: Select | H22: Select | T22: =SUM(M22:S22) -> 0 | V22: ? | Y22: =PRODUCT(T22:U22) -> 0
A23: 6 | B23: Select | D23: x200 | E23: =$D$7 -> 0 | F23: Select | H23: Select | T23: =SUM(M23:S23) -> 0 | V23: ? | Y23: =PRODUCT(T23:U23) -> 0
A24: 7 | B24: Select | D24: x200 | E24: =$D$7 -> 0 | F24: Select | H24: Select | T24: =SUM(M24:S24) -> 0 | V24: ? | Y24: =PRODUCT(T24:U24) -> 0
A25: 8 | B25: Select | D25: x200 | E25: =$D$7 -> 0 | F25: Select | H25: Select | T25: =SUM(M25:S25) -> 0 | V25: ? | Y25: =PRODUCT(T25:U25) -> 0
A26: 9 | B26: Select | D26: x200 | E26: =$D$7 -> 0 | F26: Select | H26: Select | T26: =SUM(M26:S26) -> 0 | V26: ? | Y26: =PRODUCT(T26:U26) -> 0
A27: 10 | B27: Select | D27: x200 | E27: =$D$7 -> 0 | F27: Select | H27: Select | T27: =SUM(M27:S27) -> 0 | V27: ? | Y27: =PRODUCT(T27:U27) -> 0
A28: 11 | B28: Select | D28: x200 | E28: =$D$7 -> 0 | F28: Select | H28: Select | T28: =SUM(M28:S28) -> 0 | V28: ? | Y28: =PRODUCT(T28:U28) -> 0
A29: 12 | B29: Select | D29: x200 | E29: =$D$7 -> 0 | F29: Select | H29: Select | T29: =SUM(M29:S29) -> 0 | V29: ? | Y29: =PRODUCT(T29:U29) -> 0
... A100: 83 | B100: Select | D100: x200 | E100: =$D$7 -> 0 | F100: Select | H100: Select | T100: =SUM(M100:S100) -> 0 | V100: ? | Y100: =PRODUCT(T100:U100) -> 0

Sheet TII-PD Stipends
B1: Charter School Budget Narrative - Title II | N1: KEY for Completion
O2: PCS Staff Completes
B3: 2026-2027 School Year | O3: Charter School Staff Completes
O4: Auto Fill
B5: Part 7C: Budget Narrative - PD School Based (Stipends for Teachers Attending PD)
B6: School | D6: ='Needs Assessment'!C5 -> 0 | K6: Title II Snapshot | L6: Budget | M6: Spent
B7: # | D7: ='Needs Assessment'!C6 -> 0 | K7: PD Supplies Total | L7: ='Needs Assessment'!C34 -> 0 | M7: ='Needs Assessment'!D34 -> 0
B8: Contact | D8: ='Needs Assessment'!C7 -> 0 | K8: PD Travel Total | L8: ='Needs Assessment'!C35 -> 0 | M8: ='Needs Assessment'!D35 -> 0
B9: Email | D9: ='Needs Assessment'!C9 -> 0 | K9: PD Stipends Total | L9: ='Needs Assessment'!C36 -> 0 | M9: ='Needs Assessment'!D36 -> 0
B10: Phone | D10: ='Needs Assessment'!C8 -> 0 | K10: PD Consult. Total | L10: ='Needs Assessment'!C37 -> 0 | M10: ='Needs Assessment'!D37 -> 0
K11: PD Other Total | L11: ='Needs Assessment'!C38 -> 0 | M11: ='Needs Assessment'!D38 -> 0
K12: Total | L12: ='Needs Assessment'!C39 -> 0 | M12: ='Needs Assessment'!D39 -> 0
K13: Allocation | L13: ='Needs Assessment'!C33 -> 0 | M13: ='Needs Assessment'!D33 -> 0
K15: Total Stipends Budget: | M15: =SUM(Q18:Q100) -> 0 | N15: Total Stipends Cost: | Q15: =SUM(S18:S100) -> 0
B16: PCS STAFF ONLY | D16: HIDE | E16: HIDE | F16: HIDE | G16: HIDE | H16: HIDE | I16: Budget Proposal | R16: Expenditures
B17: Func | C17: Obj | D17: Grant ID | E17: Cost Center | F17: Needs Assessment | G17: If new, date added | H17: Participation Request | I17: Training | J17: Purpose | K17: Facilitated By | L17: Date | M17: # of Hours | N17: # of Days | O17: # of Staff | P17: PD Rate $22.50 | Q17: Total Cost | R17: Date Submitted | S17: Actual Cost | T17: Req/PO | U17: Notes
A18: 1 | B18: Select | D18: x200 | E18: =$D$7 -> 0 | F18: Original | H18: Select | Q18: =PRODUCT(M18:P18) -> 0
A19: 2 | B19: Select | D19: x200 | E19: =$D$7 -> 0 | F19: Select | H19: Select | Q19: =PRODUCT(M19:P19) -> 0
A20: 3 | B20: Select | D20: x200 | E20: =$D$7 -> 0 | F20: Select | H20: Select | Q20: =PRODUCT(M20:P20) -> 0
A21: 4 | B21: Select | D21: x200 | E21: =$D$7 -> 0 | F21: Select | H21: Select | Q21: =PRODUCT(M21:P21) -> 0
A22: 5 | B22: Select | D22: x200 | E22: =$D$7 -> 0 | F22: Select | H22: Select | Q22: =PRODUCT(M22:P22) -> 0
A23: 6 | B23: Select | D23: x200 | E23: =$D$7 -> 0 | F23: Select | H23: Select | Q23: =PRODUCT(M23:P23) -> 0
A24: 7 | B24: Select | D24: x200 | E24: =$D$7 -> 0 | F24: Select | H24: Select | Q24: =PRODUCT(M24:P24) -> 0
A25: 8 | B25: Select | D25: x200 | E25: =$D$7 -> 0 | F25: Select | H25: Select | Q25: =PRODUCT(M25:P25) -> 0
A26: 9 | B26: Select | D26: x200 | E26: =$D$7 -> 0 | F26: Select | H26: Select | Q26: =PRODUCT(M26:P26) -> 0
A27: 10 | B27: Select | D27: x200 | E27: =$D$7 -> 0 | F27: Select | H27: Select | Q27: =PRODUCT(M27:P27) -> 0
A28: 11 | B28: Select | D28: x200 | E28: =$D$7 -> 0 | F28: Select | H28: Select | Q28: =PRODUCT(M28:P28) -> 0
A29: 12 | B29: Select | D29: x200 | E29: =$D$7 -> 0 | F29: Select | H29: Select | Q29: =PRODUCT(M29:P29) -> 0
... A100: 83 | B100: Select | D100: x200 | E100: =$D$7 -> 0 | F100: Select | H100: Select | Q100: =PRODUCT(M100:P100) -> 0

Sheet TII-PD Consultants
B1: Charter School Budget Narrative - Title II | M1: KEY for Completion
N2: PCS Staff Completes
B3: 2026-2027 School Year | N3: Charter School Staff Completes
N4: Auto Fill
B5: Part 7D: Budget Narrative - PD School Based (Outside Consultants to Facilitate PD)
B6: School | D6: ='Needs Assessment'!C5 -> 0 | K6: Title II Snapshot | L6: Budget | M6: Spent
B7: # | D7: ='Needs Assessment'!C6 -> 0 | K7: PD Supplies Total | L7: ='Needs Assessment'!C34 -> 0 | M7: ='Needs Assessment'!D34 -> 0
B8: Contact | D8: ='Needs Assessment'!C7 -> 0 | K8: PD Travel Total | L8: ='Needs Assessment'!C35 -> 0 | M8: ='Needs Assessment'!D35 -> 0
B9: Email | D9: ='Needs Assessment'!C9 -> 0 | K9: PD Stipends Total | L9: ='Needs Assessment'!C36 -> 0 | M9: ='Needs Assessment'!D36 -> 0
B10: Phone | D10: ='Needs Assessment'!C8 -> 0 | K10: PD Consult. Total | L10: ='Needs Assessment'!C37 -> 0 | M10: ='Needs Assessment'!D37 -> 0
K11: PD Other Total | L11: ='Needs Assessment'!C38 -> 0 | M11: ='Needs Assessment'!D38 -> 0
K12: Total | L12: ='Needs Assessment'!C39 -> 0 | M12: ='Needs Assessment'!D39 -> 0
K13: Allocation | L13: ='Needs Assessment'!C33 -> 0 | M13: ='Needs Assessment'!D33 -> 0
K15: Total Consultants Budget: | M15: =SUM(Q18:Q100) -> 0 | N15: Total Consultants Cost: | Q15: =SUM(S18:S100) -> 0
B16: PCS STAFF ONLY | D16: HIDE | E16: HIDE | F16: HIDE | G16: HIDE | H16: HIDE | I16: Budget Proposal | R16: Expenditures
B17: Func | C17: Obj | D17: Grant ID | E17: Cost Center | F17: Needs Assessment | G17: If new, date added | H17: Participation Request | I17: Consultants Name | J17: Purpose | K17: Training Name | L17: Date | M17: # of Staff Trained | N17: # of Days | O17: # of Hours | P17: Hourly Rate | Q17: Total Cost | R17: Date Submitted | S17: Actual Cost | T17: Req/PO | U17: Notes
A18: 1 | B18: Select | D18: x200 | E18: =$D$7 -> 0 | F18: Select | H18: Select | Q18: =PRODUCT(N18:P18) -> 0
A19: 2 | B19: Select | D19: x200 | E19: =$D$7 -> 0 | F19: Select | H19: Select | Q19: =PRODUCT(N19:P19) -> 0
A20: 3 | B20: Select | D20: x200 | E20: =$D$7 -> 0 | F20: Select | H20: Select | Q20: =PRODUCT(N20:P20) -> 0
A21: 4 | B21: Select | D21: x200 | E21: =$D$7 -> 0 | F21: Select | H21: Select | Q21: =PRODUCT(N21:P21) -> 0
A22: 5 | B22: Select | D22: x200 | E22: =$D$7 -> 0 | F22: Select | H22: Select | Q22: =PRODUCT(N22:P22) -> 0
A23: 6 | B23: Select | D23: x200 | E23: =$D$7 -> 0 | F23: Select | H23: Select | Q23: =PRODUCT(N23:P23) -> 0
A24: 7 | B24: Select | D24: x200 | E24: =$D$7 -> 0 | F24: Select | H24: Select | Q24: =PRODUCT(N24:P24) -> 0
A25: 8 | B25: Select | D25: x200 | E25: =$D$7 -> 0 | F25: Select | H25: Select | Q25: =PRODUCT(N25:P25) -> 0
A26: 9 | B26: Select | D26: x200 | E26: =$D$7 -> 0 | F26: Select | H26: Select | Q26: =PRODUCT(N26:P26) -> 0
A27: 10 | B27: Select | D27: x200 | E27: =$D$7 -> 0 | F27: Select | H27: Select | Q27: =PRODUCT(N27:P27) -> 0
A28: 11 | B28: Select | D28: x200 | E28: =$D$7 -> 0 | F28: Select | H28: Select | Q28: =PRODUCT(N28:P28) -> 0
A29: 12 | B29: Select | D29: x200 | E29: =$D$7 -> 0 | F29: Select | H29: Select | Q29: =PRODUCT(N29:P29) -> 0
... A100: 83 | B100: Select | D100: x200 | E100: =$D$7 -> 0 | F100: Select | H100: Select | Q100: =PRODUCT(N100:P100) -> 0

Sheet TII-PD Other
B1: Charter School Budget Narrative - Title II | N1: KEY for Completion
O2: PCS Staff Completes
B3: 2026-2027 School Year | O3: Charter School Staff Completes
O4: Auto Fill
B5: Part 7E: Budget Narrative - PD Other (College Courses,Subscriptions, Personnel, Dues, Fees etc)
B6: School | D6: ='Needs Assessment'!C5 -> 0 | K6: Title II Snapshot | L6: Budget | M6: Spent
B7: # | D7: ='Needs Assessment'!C6 -> 0 | K7: PD Supplies Total | L7: ='Needs Assessment'!C34 -> 0 | M7: ='Needs Assessment'!D34 -> 0
B8: Contact | D8: ='Needs Assessment'!C7 -> 0 | K8: PD Travel Total | L8: ='Needs Assessment'!C35 -> 0 | M8: ='Needs Assessment'!D35 -> 0
B9: Email | D9: ='Needs Assessment'!C9 -> 0 | K9: PD Stipends Total | L9: ='Needs Assessment'!C36 -> 0 | M9: ='Needs Assessment'!D36 -> 0
B10: Phone | D10: ='Needs Assessment'!C8 -> 0 | K10: PD Consult. Total | L10: ='Needs Assessment'!C37 -> 0 | M10: ='Needs Assessment'!D37 -> 0
K11: PD Other Total | L11: ='Needs Assessment'!C38 -> 0 | M11: ='Needs Assessment'!D38 -> 0
K12: Total | L12: ='Needs Assessment'!C39 -> 0 | M12: ='Needs Assessment'!D39 -> 0
K13: Allocation | L13: ='Needs Assessment'!C33 -> 0 | M13: ='Needs Assessment'!D33 -> 0
K15: Total PD Other Budget: | M15: =SUM(Q18:Q100) -> 0 | N15: Total PD Other Cost: | Q15: =SUM(S18:S100) -> 0
B16: PCS STAFF ONLY | D16: HIDE | E16: HIDE | F16: HIDE | G16: HIDE | H16: HIDE | I16: Budget Proposal | R16: Expenditures
B17: Func | C17: Obj | D17: Grant ID | E17: Cost Center | F17: Needs Assessment | G17: If new, date added | H17: Participation Request | I17: Activity/Service | J17: Purpose | K17: Vendor | L17: Link To Details | M17: Start Date | N17: End Date | O17: # of Staff | P17: Cost per Staff | Q17: Total Cost | R17: Date Submitted | S17: Actual Cost | T17: Req/PO | U17: Notes
A18: 1 | B18: Select | D18: x200 | E18: =$D$7 -> 0 | F18: Select | H18: Select | Q18: =PRODUCT(O18:P18) -> 0
A19: 2 | B19: Select | D19: x200 | E19: =$D$7 -> 0 | F19: Select | H19: Select | Q19: =PRODUCT(O19:P19) -> 0
A20: 3 | B20: Select | D20: x200 | E20: =$D$7 -> 0 | F20: Select | H20: Select | Q20: =PRODUCT(O20:P20) -> 0
A21: 4 | B21: Select | D21: x200 | E21: =$D$7 -> 0 | F21: Select | H21: Select | Q21: =PRODUCT(O21:P21) -> 0
A22: 5 | B22: Select | D22: x200 | E22: =$D$7 -> 0 | F22: Select | H22: Select | Q22: =PRODUCT(O22:P22) -> 0
A23: 6 | B23: Select | D23: x200 | E23: =$D$7 -> 0 | F23: Select | H23: Select | Q23: =PRODUCT(O23:P23) -> 0
A24: 7 | B24: Select | D24: x200 | E24: =$D$7 -> 0 | F24: Select | H24: Select | Q24: =PRODUCT(O24:P24) -> 0
A25: 8 | B25: Select | D25: x200 | E25: =$D$7 -> 0 | F25: Select | H25: Select | Q25: =PRODUCT(O25:P25) -> 0
A26: 9 | B26: Select | D26: x200 | E26: =$D$7 -> 0 | F26: Select | H26: Select | Q26: =PRODUCT(O26:P26) -> 0
A27: 10 | B27: Select | D27: x200 | E27: =$D$7 -> 0 | F27: Select | H27: Select | Q27: =PRODUCT(O27:P27) -> 0
A28: 11 | B28: Select | D28: x200 | E28: =$D$7 -> 0 | F28: Select | H28: Select | Q28: =PRODUCT(O28:P28) -> 0
A29: 12 | B29: Select | D29: x200 | E29: =$D$7 -> 0 | F29: Select | H29: Select | Q29: =PRODUCT(O29:P29) -> 0
... A100: 83 | B100: Select | D100: x200 | E100: =$D$7 -> 0 | F100: Select | H100: Select | Q100: =PRODUCT(O100:P100) -> 0

Sheet TIV-Supplies
B1: Charter School Budget Narrative - Title IV | N1: KEY for Completion
O2: PCS Staff Completes
B3: 2026-2027 School Year | O3: Charter School Staff Completes
O4: Auto Fill
B5: Part 7A: Budget Narrative - Supplies, Materials & Equipment
B6: School | D6: ='Needs Assessment'!C5 -> 0 | M6: Title IV Snapshot | O6: Budget | P6: Spent
B7: # | D7: ='Needs Assessment'!C6 -> 0 | M7: Supplies | N7: ='Needs Assessment'!C43 -> 0 | P7: ='Needs Assessment'!D43 -> 0
B8: Contact | D8: ='Needs Assessment'!C7 -> 0 | M8: Travel/Conferences | N8: ='Needs Assessment'!C44 -> 0 | P8: ='Needs Assessment'!D44 -> 0
B9: Email | D9: ='Needs Assessment'!C9 -> 0 | M9: Stipends | N9: ='Needs Assessment'!C45 -> 0 | P9: ='Needs Assessment'!D45 -> 0
B10: Phone | D10: ='Needs Assessment'!C8 -> 0 | M10: Consultant | N10: ='Needs Assessment'!C46 -> 0 | P10: ='Needs Assessment'!D46 -> 0
M11: Purchased Services | N11: ='Needs Assessment'!C47 -> 0 | P11: ='Needs Assessment'!D47 -> 0 | T11: PLACEHOLDER | V11: =N15-N14 -> 0
M12: Field Trips | N12: ='Needs Assessment'!C48 -> 0 | P12: ='Needs Assessment'!D48 -> 0
M13: Other | N13: ='Needs Assessment'!C49 -> 0 | P13: ='Needs Assessment'!D49 -> 0
M14: Total | N14: ='Needs Assessment'!C50 -> 0 | P14: ='Needs Assessment'!D50 -> 0
M15: Allocation | N15: ='Needs Assessment'!C42 -> 0 | P15: ='Needs Assessment'!D42 -> 0
M17: Total Budget: | O17: =SUM(R20:R102) -> 0 | P17: Total Cost: | R17: =SUM(T20:T102) -> 0
B18: PCS STAFF ONLY | D18: HIDE | E18: HIDE | F18: HIDE | G18: HIDE | H18: HIDE | I18: Budget Proposal | S18: Expenditures
B19: Func | C19: Obj | D19: Grant ID | E19: Cost Center | F19: Needs Assessment | G19: If new, date added | H19: Participation Request | I19: AOF | J19: CONCT FCAOF | K19: Item Details | L19: Purpose | M19: Vendor | N19: . | O19: Link to Item | P19: Unit Price | Q19: Qty | R19: Total Cost | S19: Date Purchased | T19: Actual Cost | U19: Req/PO | V19: Notes
B20: 5100 0394 | D20: X951 | E20: =$D$7 -> 0 | F20: Select | H20: Select | I20: AOF1 (WRE) | J20: =_xlfn.CONCAT(I20, " ",B20) -> AOF1 (WRE) 5100 0394 | L20: PLACEHOLDER | R20: =PRODUCT(P20:Q20) -> 0
A21: 1 | B21: Select | D21: X951 | E21: =$D$7 -> 0 | F21: Select | H21: Select | I21: Select | J21: =_xlfn.CONCAT(I21, " ",B21) -> Select Select | R21: =PRODUCT(P21:Q21) -> 0
A22: 2 | B22: Select | D22: X951 | E22: =$D$7 -> 0 | F22: Select | H22: Select | I22: Select | J22: =_xlfn.CONCAT(I22, " ",B22) -> Select Select | R22: =PRODUCT(P22:Q22) -> 0
A23: 3 | B23: Select | D23: X951 | E23: =$D$7 -> 0 | F23: Select | H23: Select | I23: Select | J23: =_xlfn.CONCAT(I23, " ",B23) -> Select Select | R23: =PRODUCT(P23:Q23) -> 0
A24: 4 | B24: Select | D24: X951 | E24: =$D$7 -> 0 | F24: Select | H24: Select | I24: Select | J24: =_xlfn.CONCAT(I24, " ",B24) -> Select Select | R24: =PRODUCT(P24:Q24) -> 0
A25: 5 | B25: Select | D25: X951 | E25: =$D$7 -> 0 | F25: Select | H25: Select | I25: Select | J25: =_xlfn.CONCAT(I25, " ",B25) -> Select Select | R25: =PRODUCT(P25:Q25) -> 0
A26: 6 | B26: Select | D26: X951 | E26: =$D$7 -> 0 | F26: Select | H26: Select | I26: Select | J26: =_xlfn.CONCAT(I26, " ",B26) -> Select Select | R26: =PRODUCT(P26:Q26) -> 0
A27: 7 | B27: Select | D27: X951 | E27: =$D$7 -> 0 | F27: Select | H27: Select | I27: Select | J27: =_xlfn.CONCAT(I27, " ",B27) -> Select Select | R27: =PRODUCT(P27:Q27) -> 0
A28: 8 | B28: Select | D28: X951 | E28: =$D$7 -> 0 | F28: Select | H28: Select | I28: Select | J28: =_xlfn.CONCAT(I28, " ",B28) -> Select Select | R28: =PRODUCT(P28:Q28) -> 0
A29: 9 | B29: Select | D29: X951 | E29: =$D$7 -> 0 | F29: Select | H29: Select | I29: Select | J29: =_xlfn.CONCAT(I29, " ",B29) -> Select Select | R29: =PRODUCT(P29:Q29) -> 0
A30: 10 | B30: Select | D30: X951 | E30: =$D$7 -> 0 | F30: Select | H30: Select | I30: Select | J30: =_xlfn.CONCAT(I30, " ",B30) -> Select Select | R30: =PRODUCT(P30:Q30) -> 0
A31: 11 | B31: Select | D31: X951 | E31: =$D$7 -> 0 | F31: Select | H31: Select | I31: Select | J31: =_xlfn.CONCAT(I31, " ",B31) -> Select Select | R31: =PRODUCT(P31:Q31) -> 0
A32: 12 | B32: Select | D32: X951 | E32: =$D$7 -> 0 | F32: Select | H32: Select | I32: Select | J32: =_xlfn.CONCAT(I32, " ",B32) -> Select Select | R32: =PRODUCT(P32:Q32) -> 0
... A255: 235 | B255: Select | D255: X1104 | E255: =$D$7 -> 0 | F255: Select | H255: Select | I255: Select | J255: =_xlfn.CONCAT(I255, " ",B255) -> Select Select | R255: =PRODUCT(P255:Q255) -> 0

Sheet TIV-Travel Conf
B1: Charter School Budget Narrative - Title IV | P1: KEY for Completion
Q2: PCS Staff Completes
B3: 2026-2027 School Year | Q3: Charter School Staff Completes
Q4: Auto Fill
B5: Part 7B: Budget Narrative - Travel/Conferences
B6: School | D6: ='Needs Assessment'!C5 -> 0 | M6: Title IV Snapshot | O6: Budget | P6: Spent
B7: # | D7: ='Needs Assessment'!C6 -> 0 | M7: Supplies | N7: ='Needs Assessment'!C43 -> 0 | P7: ='Needs Assessment'!D43 -> 0
B8: Contact | D8: ='Needs Assessment'!C7 -> 0 | M8: Travel/Conferences | N8: ='Needs Assessment'!C44 -> 0 | P8: ='Needs Assessment'!D44 -> 0
B9: Email | D9: ='Needs Assessment'!C9 -> 0 | M9: Stipends | N9: ='Needs Assessment'!C45 -> 0 | P9: ='Needs Assessment'!D45 -> 0
B10: Phone | D10: ='Needs Assessment'!C8 -> 0 | M10: Consultant | N10: ='Needs Assessment'!C46 -> 0 | P10: ='Needs Assessment'!D46 -> 0
M11: Purchased Services | N11: ='Needs Assessment'!C47 -> 0 | P11: ='Needs Assessment'!D47 -> 0
M12: Field Trips | N12: ='Needs Assessment'!C48 -> 0 | P12: ='Needs Assessment'!D48 -> 0
M13: Other | N13: ='Needs Assessment'!C49 -> 0 | P13: ='Needs Assessment'!D49 -> 0
M14: Total | N14: ='Needs Assessment'!C50 -> 0 | P14: ='Needs Assessment'!D50 -> 0
M15: Allocation | N15: ='Needs Assessment'!C42 -> 0 | P15: ='Needs Assessment'!D42 -> 0
M17: Total Supplies Budget: | O17: =SUM(AA20:AA102) -> 0 | P17: Total Supplies Cost: | Z17: =SUM(AC20:AC102) -> 0
B18: PCS STAFF ONLY | D18: HIDE | E18: HIDE | F18: HIDE | G18: HIDE | H18: HIDE | I18: Budget Proposal | AB18: Expenditures
B19: Func | C19: Obj | D19: Grant ID | E19: Cost Center | F19: Needs Assessment | G19: If new, date added | H19: Participation Request | I19: AOF | J19: Concat FOAOF | K19: Conference Title | L19: Purpose | M19: Host | N19: Link to Agenda | O19: Cost To Register | P19: Cost Meals B@16, L@17, D@31 | Q19: Cost Hotel | R19: Cost Uber/ Taxi | S19: Cost Car Rental | T19: Cost Mileage, Parking &/or Tolls | U19: Cost Airfare | V19: Cost Per Person | W19: # of Staff | X19: Location | Y19: In/Out of State | Z19: Date | AA19: Total Cost | AB19: Date Purchased | AC19: Actual Cost | AD19: Req/PO | AE19: Notes
A20: 1 | B20: Select | D20: X951 | E20: =$D$7 -> 0 | F20: Select | H20: Select | I20: Select | J20: =_xlfn.CONCAT(I20, " ",B20) -> Select Select | V20: =SUM(O20:U20) -> 0 | Y20: ? | AA20: =PRODUCT(V20:W20) -> 0
A21: 2 | B21: Select | D21: X951 | E21: =$D$7 -> 0 | F21: Select | H21: Select | I21: Select | J21: =_xlfn.CONCAT(I21, " ",B21) -> Select Select | V21: =SUM(O21:U21) -> 0 | Y21: ? | AA21: =PRODUCT(V21:W21) -> 0
A22: 3 | B22: Select | D22: X951 | E22: =$D$7 -> 0 | F22: Select | H22: Select | I22: Select | J22: =_xlfn.CONCAT(I22, " ",B22) -> Select Select | V22: =SUM(O22:U22) -> 0 | Y22: ? | AA22: =PRODUCT(V22:W22) -> 0
A23: 4 | B23: Select | D23: X951 | E23: =$D$7 -> 0 | F23: Select | H23: Select | I23: Select | J23: =_xlfn.CONCAT(I23, " ",B23) -> Select Select | V23: =SUM(O23:U23) -> 0 | Y23: ? | AA23: =PRODUCT(V23:W23) -> 0
A24: 5 | B24: Select | D24: X951 | E24: =$D$7 -> 0 | F24: Select | H24: Select | I24: Select | J24: =_xlfn.CONCAT(I24, " ",B24) -> Select Select | V24: =SUM(O24:U24) -> 0 | Y24: ? | AA24: =PRODUCT(V24:W24) -> 0
A25: 6 | B25: Select | D25: X951 | E25: =$D$7 -> 0 | F25: Select | H25: Select | I25: Select | J25: =_xlfn.CONCAT(I25, " ",B25) -> Select Select | V25: =SUM(O25:U25) -> 0 | Y25: ? | AA25: =PRODUCT(V25:W25) -> 0
A26: 7 | B26: Select | D26: X951 | E26: =$D$7 -> 0 | F26: Select | H26: Select | I26: Select | J26: =_xlfn.CONCAT(I26, " ",B26) -> Select Select | V26: =SUM(O26:U26) -> 0 | Y26: ? | AA26: =PRODUCT(V26:W26) -> 0
A27: 8 | B27: Select | D27: X951 | E27: =$D$7 -> 0 | F27: Select | H27: Select | I27: Select | J27: =_xlfn.CONCAT(I27, " ",B27) -> Select Select | V27: =SUM(O27:U27) -> 0 | Y27: ? | AA27: =PRODUCT(V27:W27) -> 0
A28: 9 | B28: Select | D28: X951 | E28: =$D$7 -> 0 | F28: Select | H28: Select | I28: Select | J28: =_xlfn.CONCAT(I28, " ",B28) -> Select Select | V28: =SUM(O28:U28) -> 0 | Y28: ? | AA28: =PRODUCT(V28:W28) -> 0
A29: 10 | B29: Select | D29: X951 | E29: =$D$7 -> 0 | F29: Select | H29: Select | I29: Select | J29: =_xlfn.CONCAT(I29, " ",B29) -> Select Select | V29: =SUM(O29:U29) -> 0 | Y29: ? | AA29: =PRODUCT(V29:W29) -> 0
A30: 11 | B30: Select | D30: X951 | E30: =$D$7 -> 0 | F30: Select | H30: Select | I30: Select | J30: =_xlfn.CONCAT(I30, " ",B30) -> Select Select | V30: =SUM(O30:U30) -> 0 | Y30: ? | AA30: =PRODUCT(V30:W30) -> 0
A31: 12 | B31: Select | D31: X951 | E31: =$D$7 -> 0 | F31: Select | H31: Select | I31: Select | J31: =_xlfn.CONCAT(I31, " ",B31) -> Select Select | V31: =SUM(O31:U31) -> 0 | Y31: ? | AA31: =PRODUCT(V31:W31) -> 0
... A102: 83 | B102: Select | D102: X951 | E102: =$D$7 -> 0 | F102: Select | H102: Select | I102: Select | J102: =_xlfn.CONCAT(I102, " ",B102) -> Select Select | V102: =SUM(O102:U102) -> 0 | Y102: ? | AA102: =PRODUCT(V102:W102) -> 0

Sheet TIV-Stipends
B1: Charter School Budget Narrative - Title IV | N1: KEY for Completion
O2: PCS Staff Completes
B3: 2026-2027 School Year | O3: Charter School Staff Completes
O4: Auto Fill
B5: Part 7C: Budget Narrative - Stipends
B6: School | D6: ='Needs Assessment'!C5 -> 0 | M6: Title IV Snapshot | O6: Budget | P6: Spent
B7: # | D7: ='Needs Assessment'!C6 -> 0 | M7: Supplies | N7: ='Needs Assessment'!C43 -> 0 | P7: ='Needs Assessment'!D43 -> 0
B8: Contact | D8: ='Needs Assessment'!C7 -> 0 | M8: Travel/Conferences | N8: ='Needs Assessment'!C44 -> 0 | P8: ='Needs Assessment'!D44 -> 0
B9: Email | D9: ='Needs Assessment'!C9 -> 0 | M9: Stipends | N9: ='Needs Assessment'!C45 -> 0 | P9: ='Needs Assessment'!D45 -> 0
B10: Phone | D10: ='Needs Assessment'!C8 -> 0 | M10: Consultant | N10: ='Needs Assessment'!C46 -> 0 | P10: ='Needs Assessment'!D46 -> 0
M11: Purchased Services | N11: ='Needs Assessment'!C47 -> 0 | P11: ='Needs Assessment'!D47 -> 0
M12: Field Trips | N12: ='Needs Assessment'!C48 -> 0 | P12: ='Needs Assessment'!D48 -> 0
M13: Other | N13: ='Needs Assessment'!C49 -> 0 | P13: ='Needs Assessment'!D49 -> 0
M14: Total | N14: ='Needs Assessment'!C50 -> 0 | P14: ='Needs Assessment'!D50 -> 0
M15: Allocation | N15: ='Needs Assessment'!C42 -> 0 | P15: ='Needs Assessment'!D42 -> 0
M17: Total Budget: | O17: =SUM(S20:S102) -> 0 | P17: Total Cost: | S17: =SUM(U20:U102) -> 0
B18: PCS STAFF ONLY | D18: HIDE | E18: HIDE | F18: HIDE | G18: HIDE | H18: HIDE | J18: HIDE | K18: Budget Proposal | T18: Expenditures
B19: Func | C19: Obj | D19: Grant ID | E19: Cost Center | F19: Needs Assessment | G19: If new, date added | H19: Participation Request | I19: AOF | J19: concat foaof | K19: Training | L19: Purpose | M19: Facilitated By | N19: Date | O19: # of Hours | P19: # of Days | Q19: # of Staff | R19: PD Rate $22.50 | S19: Total Cost | T19: Date Submitted | U19: Actual Cost | V19: Req/PO | W19: Notes
A20: 1 | B20: Select | D20: X951 | E20: =$D$7 -> 0 | F20: Select | H20: Select | I20: Select | J20: =_xlfn.CONCAT(I20, " ",B20) -> Select Select | S20: =PRODUCT(O20:R20) -> 0
A21: 2 | B21: Select | D21: X951 | E21: =$D$7 -> 0 | F21: Select | H21: Select | I21: Select | J21: =_xlfn.CONCAT(I21, " ",B21) -> Select Select | S21: =PRODUCT(O21:R21) -> 0
A22: 3 | B22: Select | D22: X951 | E22: =$D$7 -> 0 | F22: Select | H22: Select | I22: Select | J22: =_xlfn.CONCAT(I22, " ",B22) -> Select Select | S22: =PRODUCT(O22:R22) -> 0
A23: 4 | B23: Select | D23: X951 | E23: =$D$7 -> 0 | F23: Select | H23: Select | I23: Select | J23: =_xlfn.CONCAT(I23, " ",B23) -> Select Select | S23: =PRODUCT(O23:R23) -> 0
A24: 5 | B24: Select | D24: X951 | E24: =$D$7 -> 0 | F24: Select | H24: Select | I24: Select | J24: =_xlfn.CONCAT(I24, " ",B24) -> Select Select | S24: =PRODUCT(O24:R24) -> 0
A25: 6 | B25: Select | D25: X951 | E25: =$D$7 -> 0 | F25: Select | H25: Select | I25: Select | J25: =_xlfn.CONCAT(I25, " ",B25) -> Select Select | S25: =PRODUCT(O25:R25) -> 0
A26: 7 | B26: Select | D26: X951 | E26: =$D$7 -> 0 | F26: Select | H26: Select | I26: Select | J26: =_xlfn.CONCAT(I26, " ",B26) -> Select Select | S26: =PRODUCT(O26:R26) -> 0
A27: 8 | B27: Select | D27: X951 | E27: =$D$7 -> 0 | F27: Select | H27: Select | I27: Select | J27: =_xlfn.CONCAT(I27, " ",B27) -> Select Select | S27: =PRODUCT(O27:R27) -> 0
A28: 9 | B28: Select | D28: X951 | E28: =$D$7 -> 0 | F28: Select | H28: Select | I28: Select | J28: =_xlfn.CONCAT(I28, " ",B28) -> Select Select | S28: =PRODUCT(O28:R28) -> 0
A29: 10 | B29: Select | D29: X951 | E29: =$D$7 -> 0 | F29: Select | H29: Select | I29: Select | J29: =_xlfn.CONCAT(I29, " ",B29) -> Select Select | S29: =PRODUCT(O29:R29) -> 0
A30: 11 | B30: Select | D30: X951 | E30: =$D$7 -> 0 | F30: Select | H30: Select | I30: Select | J30: =_xlfn.CONCAT(I30, " ",B30) -> Select Select | S30: =PRODUCT(O30:R30) -> 0
A31: 12 | B31: Select | D31: X951 | E31: =$D$7 -> 0 | F31: Select | H31: Select | I31: Select | J31: =_xlfn.CONCAT(I31, " ",B31) -> Select Select | S31: =PRODUCT(O31:R31) -> 0
... A102: 83 | B102: Select | D102: X951 | E102: =$D$7 -> 0 | F102: Select | H102: Select | I102: Select | J102: =_xlfn.CONCAT(I102, " ",B102) -> Select Select | S102: =PRODUCT(O102:R102) -> 0

Sheet TIV-Consultants
B1: Charter School Budget Narrative - Title IV | N1: KEY for Completion
O2: PCS Staff Completes
B3: 2026-2027 School Year | O3: Charter School Staff Completes
O4: Auto Fill
B5: Part 7D: Budget Narrative - Consultants
B6: School | D6: ='Needs Assessment'!C5 -> 0 | M6: Title IV Snapshot | O6: Budget | P6: Spent
B7: # | D7: ='Needs Assessment'!C6 -> 0 | M7: Supplies | N7: ='Needs Assessment'!C43 -> 0 | P7: ='Needs Assessment'!D43 -> 0
B8: Contact | D8: ='Needs Assessment'!C7 -> 0 | M8: Travel/Conferences | N8: ='Needs Assessment'!C44 -> 0 | P8: ='Needs Assessment'!D44 -> 0
B9: Email | D9: ='Needs Assessment'!C9 -> 0 | M9: Stipends | N9: ='Needs Assessment'!C45 -> 0 | P9: ='Needs Assessment'!D45 -> 0
B10: Phone | D10: ='Needs Assessment'!C8 -> 0 | M10: Consultant | N10: ='Needs Assessment'!C46 -> 0 | P10: ='Needs Assessment'!D46 -> 0
M11: Purchased Services | N11: ='Needs Assessment'!C47 -> 0 | P11: ='Needs Assessment'!D47 -> 0
M12: Field Trips | N12: ='Needs Assessment'!C48 -> 0 | P12: ='Needs Assessment'!D48 -> 0
M13: Other | N13: ='Needs Assessment'!C49 -> 0 | P13: ='Needs Assessment'!D49 -> 0
M14: Total | N14: ='Needs Assessment'!C50 -> 0 | P14: ='Needs Assessment'!D50 -> 0
M15: Allocation | N15: ='Needs Assessment'!C42 -> 0 | P15: ='Needs Assessment'!D42 -> 0
M17: Total consultant Budget: | O17: =SUM(S20:S102) -> 0 | P17: Total Cost: | S17: =SUM(U20:U102) -> 0
B18: PCS STAFF ONLY | D18: HIDE | E18: HIDE | F18: HIDE | G18: HIDE | H18: HIDE | I18: Budget Proposal | T18: Expenditures
B19: Func | C19: Obj | D19: Grant ID | E19: Cost Center | F19: Needs Assessment | G19: If new, date added | H19: Participation Request | I19: AOF | J19: Concat FOAOF | K19: Consultants Name | L19: Purpose | M19: Training Name | N19: Date | O19: # of Staff Trained | P19: # of Days | Q19: # of Hours | R19: Hourly Rate | S19: Total Cost | T19: Date Submitted | U19: Actual Cost | V19: Req/PO | W19: Notes
A20: 1 | B20: Select | D20: X951 | E20: =$D$7 -> 0 | F20: Select | H20: Select | I20: Select | J20: =_xlfn.CONCAT(I20, " ",B20) -> Select Select | S20: =PRODUCT(P20:R20) -> 0
A21: 2 | B21: Select | D21: X951 | E21: =$D$7 -> 0 | F21: Select | H21: Select | I21: Select | J21: =_xlfn.CONCAT(I21, " ",B21) -> Select Select | S21: =PRODUCT(O21:R21) -> 0
A22: 3 | B22: Select | D22: X951 | E22: =$D$7 -> 0 | F22: Select | H22: Select | I22: Select | J22: =_xlfn.CONCAT(I22, " ",B22) -> Select Select | S22: =PRODUCT(O22:R22) -> 0
A23: 4 | B23: Select | D23: X951 | E23: =$D$7 -> 0 | F23: Select | H23: Select | I23: Select | J23: =_xlfn.CONCAT(I23, " ",B23) -> Select Select | S23: =PRODUCT(O23:R23) -> 0
A24: 5 | B24: Select | D24: X951 | E24: =$D$7 -> 0 | F24: Select | H24: Select | I24: Select | J24: =_xlfn.CONCAT(I24, " ",B24) -> Select Select | S24: =PRODUCT(O24:R24) -> 0
A25: 6 | B25: Select | D25: X951 | E25: =$D$7 -> 0 | F25: Select | H25: Select | I25: Select | J25: =_xlfn.CONCAT(I25, " ",B25) -> Select Select | S25: =PRODUCT(O25:R25) -> 0
A26: 7 | B26: Select | D26: X951 | E26: =$D$7 -> 0 | F26: Select | H26: Select | I26: Select | J26: =_xlfn.CONCAT(I26, " ",B26) -> Select Select | S26: =PRODUCT(O26:R26) -> 0
A27: 8 | B27: Select | D27: X951 | E27: =$D$7 -> 0 | F27: Select | H27: Select | I27: Select | J27: =_xlfn.CONCAT(I27, " ",B27) -> Select Select | S27: =PRODUCT(O27:R27) -> 0
A28: 9 | B28: Select | D28: X951 | E28: =$D$7 -> 0 | F28: Select | H28: Select | I28: Select | J28: =_xlfn.CONCAT(I28, " ",B28) -> Select Select | S28: =PRODUCT(O28:R28) -> 0
A29: 10 | B29: Select | D29: X951 | E29: =$D$7 -> 0 | F29: Select | H29: Select | I29: Select | J29: =_xlfn.CONCAT(I29, " ",B29) -> Select Select | S29: =PRODUCT(O29:R29) -> 0
A30: 11 | B30: Select | D30: X951 | E30: =$D$7 -> 0 | F30: Select | H30: Select | I30: Select | J30: =_xlfn.CONCAT(I30, " ",B30) -> Select Select | S30: =PRODUCT(O30:R30) -> 0
A31: 12 | B31: Select | D31: X951 | E31: =$D$7 -> 0 | F31: Select | H31: Select | I31: Select | J31: =_xlfn.CONCAT(I31, " ",B31) -> Select Select | S31: =PRODUCT(O31:R31) -> 0
A32: 13 | B32: Select | D32: X951 | E32: =$D$7 -> 0 | F32: Select | H32: Select | I32: Select | J32: =_xlfn.CONCAT(I32, " ",B32) -> Select Select | S32: =PRODUCT(O32:R32) -> 0
... A102: 83 | B102: Select | D102: X951 | E102: =$D$7 -> 0 | F102: Select | H102: Select | I102: Select | J102: =_xlfn.CONCAT(I102, " ",B102) -> Select Select | S102: =PRODUCT(O102:R102) -> 0

Sheet TIV-Services
B1: Charter School Budget Narrative - Title IV | N1: KEY for Completion
O2: PCS Staff Completes
B3: 2026-2027 School Year | O3: Charter School Staff Completes
O4: Auto Fill
B5: Part 7E: Budget Narrative - Purchased Services
B6: School | D6: ='Needs Assessment'!C5 -> 0 | M6: Title IV Snapshot | O6: Budget | P6: Spent
B7: # | D7: ='Needs Assessment'!C6 -> 0 | M7: Supplies | N7: ='Needs Assessment'!C43 -> 0 | P7: ='Needs Assessment'!D43 -> 0
B8: Contact | D8: ='Needs Assessment'!C7 -> 0 | M8: Travel/Conferences | N8: ='Needs Assessment'!C44 -> 0 | P8: ='Needs Assessment'!D44 -> 0
B9: Email | D9: ='Needs Assessment'!C9 -> 0 | M9: Stipends | N9: ='Needs Assessment'!C45 -> 0 | P9: ='Needs Assessment'!D45 -> 0
B10: Phone | D10: ='Needs Assessment'!C8 -> 0 | M10: Consultant | N10: ='Needs Assessment'!C46 -> 0 | P10: ='Needs Assessment'!D46 -> 0
M11: Purchased Services | N11: ='Needs Assessment'!C47 -> 0 | P11: ='Needs Assessment'!D47 -> 0
M12: Field Trips | N12: ='Needs Assessment'!C48 -> 0 | P12: ='Needs Assessment'!D48 -> 0
M13: Other | N13: ='Needs Assessment'!C49 -> 0 | P13: ='Needs Assessment'!D49 -> 0
M14: Total | N14: ='Needs Assessment'!C50 -> 0 | P14: ='Needs Assessment'!D50 -> 0
M15: Allocation | N15: ='Needs Assessment'!C42 -> 0 | P15: ='Needs Assessment'!D42 -> 0
M17: Total Services Budget: | O17: =SUM(S20:S102) -> 0 | P17: Total Cost: | S17: =SUM(U20:U102) -> 0
B18: PCS STAFF ONLY | D18: HIDE | E18: HIDE | F18: HIDE | G18: HIDE | H18: HIDE | I18: Budget Proposal | T18: Expenditures
B19: Func | C19: Obj | D19: Grant ID | E19: Cost Center | F19: Needs Assessment | G19: If new, date added | H19: Participation Request | I19: AOF | J19: Concat FOAOF | K19: Activity/Service | L19: Purpose | M19: Vendor | N19: Link To Details | O19: Start Date | P19: End Date | Q19: Qty | R19: Cost | S19: Total Cost | T19: Date Submitted | U19: Actual Cost | V19: Req/PO | W19: Notes
A20: 1 | B20: Select | D20: X951 | E20: =$D$7 -> 0 | F20: Select | H20: Select | I20: Select | J20: =_xlfn.CONCAT(I20, " ",B20) -> Select Select | S20: =PRODUCT(Q20:R20) -> 0
A21: 2 | B21: Select | D21: X951 | E21: =$D$7 -> 0 | F21: Select | H21: Select | I21: Select | J21: =_xlfn.CONCAT(I21, " ",B21) -> Select Select | S21: =PRODUCT(Q21:R21) -> 0
A22: 3 | B22: Select | D22: X951 | E22: =$D$7 -> 0 | F22: Select | H22: Select | I22: Select | J22: =_xlfn.CONCAT(I22, " ",B22) -> Select Select | S22: =PRODUCT(Q22:R22) -> 0
A23: 4 | B23: Select | D23: X951 | E23: =$D$7 -> 0 | F23: Select | H23: Select | I23: Select | J23: =_xlfn.CONCAT(I23, " ",B23) -> Select Select | S23: =PRODUCT(Q23:R23) -> 0
A24: 5 | B24: Select | D24: X951 | E24: =$D$7 -> 0 | F24: Select | H24: Select | I24: Select | J24: =_xlfn.CONCAT(I24, " ",B24) -> Select Select | S24: =PRODUCT(Q24:R24) -> 0
A25: 6 | B25: Select | D25: X951 | E25: =$D$7 -> 0 | F25: Select | H25: Select | I25: Select | J25: =_xlfn.CONCAT(I25, " ",B25) -> Select Select | S25: =PRODUCT(Q25:R25) -> 0
A26: 7 | B26: Select | D26: X951 | E26: =$D$7 -> 0 | F26: Select | H26: Select | I26: Select | J26: =_xlfn.CONCAT(I26, " ",B26) -> Select Select | S26: =PRODUCT(Q26:R26) -> 0
A27: 8 | B27: Select | D27: X951 | E27: =$D$7 -> 0 | F27: Select | H27: Select | I27: Select | J27: =_xlfn.CONCAT(I27, " ",B27) -> Select Select | S27: =PRODUCT(Q27:R27) -> 0
A28: 9 | B28: Select | D28: X951 | E28: =$D$7 -> 0 | F28: Select | H28: Select | I28: Select | J28: =_xlfn.CONCAT(I28, " ",B28) -> Select Select | S28: =PRODUCT(Q28:R28) -> 0
A29: 10 | B29: Select | D29: X951 | E29: =$D$7 -> 0 | F29: Select | H29: Select | I29: Select | J29: =_xlfn.CONCAT(I29, " ",B29) -> Select Select | S29: =PRODUCT(Q29:R29) -> 0
A30: 11 | B30: Select | D30: X951 | E30: =$D$7 -> 0 | F30: Select | H30: Select | I30: Select | J30: =_xlfn.CONCAT(I30, " ",B30) -> Select Select | S30: =PRODUCT(Q30:R30) -> 0
A31: 12 | B31: Select | D31: X951 | E31: =$D$7 -> 0 | F31: Select | H31: Select | I31: Select | J31: =_xlfn.CONCAT(I31, " ",B31) -> Select Select | S31: =PRODUCT(Q31:R31) -> 0
... A102: 83 | B102: Select | D102: X951 | E102: =$D$7 -> 0 | F102: Select | H102: Select | I102: Select | J102: =_xlfn.CONCAT(I102, " ",B102) -> Select Select | S102: =PRODUCT(Q102:R102) -> 0

Sheet TIV-Field Trips
B1: Charter School Budget Narrative - Title IV | O1: KEY for Completion
P2: PCS Staff Completes
B3: 2026-2027 School Year | P3: Charter School Staff Completes
P4: Auto Fill
B5: Part 7F: Budget Narrative - Field Trips
B6: School | D6: ='Needs Assessment'!C5 -> 0 | M6: Title IV Snapshot | N6: Budget | P6: Spent
B7: # | D7: ='Needs Assessment'!C6 -> 0 | M7: Supplies | N7: ='Needs Assessment'!C43 -> 0 | P7: ='Needs Assessment'!D43 -> 0
B8: Contact | D8: ='Needs Assessment'!C7 -> 0 | M8: Travel/Conferences | N8: ='Needs Assessment'!C44 -> 0 | P8: ='Needs Assessment'!D44 -> 0
B9: Email | D9: ='Needs Assessment'!C9 -> 0 | M9: Stipends | N9: ='Needs Assessment'!C45 -> 0 | P9: ='Needs Assessment'!D45 -> 0
B10: Phone | D10: ='Needs Assessment'!C8 -> 0 | M10: Consultant | N10: ='Needs Assessment'!C46 -> 0 | P10: ='Needs Assessment'!D46 -> 0
M11: Purchased Services | N11: ='Needs Assessment'!C47 -> 0 | P11: ='Needs Assessment'!D47 -> 0
M12: Field Trips | N12: ='Needs Assessment'!C48 -> 0 | P12: ='Needs Assessment'!D48 -> 0
M13: Other | N13: ='Needs Assessment'!C49 -> 0 | P13: ='Needs Assessment'!D49 -> 0
M14: Total | N14: ='Needs Assessment'!C50 -> 0 | P14: ='Needs Assessment'!D50 -> 0
M15: Allocation | N15: ='Needs Assessment'!C42 -> 0 | P15: ='Needs Assessment'!D42 -> 0
M17: Total Field Trip Budget: | O17: =SUM(T20:T102) -> 0 | P17: Total Field Trip Cost: | T17: =SUM(V20:V102) -> 0
B18: PCS STAFF ONLY | D18: HIDE | E18: HIDE | F18: HIDE | G18: HIDE | H18: HIDE | I18: Budget Proposal | U18: Expenditures
B19: Func | C19: Obj | D19: Grant ID | E19: Cost Center | F19: Needs Assessment | G19: If new, date added | H19: Participation Request | I19: AOF | J19: Concat FOAOF | K19: Field Trip To | L19: Purpose | M19: Link to Details | N19: Date of Trip | O19: # of students | P19: Cost per person Admission | Q19: Total Admission | R19: Cost for Bus | S19: Other Cost | T19: Total Cost | U19: Date Submitted | V19: Actual Cost | W19: Req/PO | X19: Notes
A20: 1 | B20: Select | D20: X951 | E20: =$D$7 -> 0 | F20: Select | H20: Select | I20: Select | J20: =_xlfn.CONCAT(I20, " ",B20) -> Select Select | Q20: =O20*P20 -> 0 | T20: =SUM(Q20:S20) -> 0
A21: 2 | B21: Select | D21: X951 | E21: =$D$7 -> 0 | F21: Select | H21: Select | I21: Select | J21: =_xlfn.CONCAT(I21, " ",B21) -> Select Select | Q21: =PRODUCT(P21,(SUM(O21:O21))) -> 0 | T21: =SUM(Q21:S21) -> 0
A22: 3 | B22: Select | D22: X951 | E22: =$D$7 -> 0 | F22: Select | H22: Select | I22: Select | J22: =_xlfn.CONCAT(I22, " ",B22) -> Select Select | Q22: =PRODUCT(P22,(SUM(O22:O22))) -> 0 | T22: =SUM(Q22:S22) -> 0
A23: 4 | B23: Select | D23: X951 | E23: =$D$7 -> 0 | F23: Select | H23: Select | I23: Select | J23: =_xlfn.CONCAT(I23, " ",B23) -> Select Select | Q23: =PRODUCT(P23,(SUM(O23:O23))) -> 0 | T23: =SUM(Q23:S23) -> 0
A24: 5 | B24: Select | D24: X951 | E24: =$D$7 -> 0 | F24: Select | H24: Select | I24: Select | J24: =_xlfn.CONCAT(I24, " ",B24) -> Select Select | Q24: =PRODUCT(P24,(SUM(O24:O24))) -> 0 | T24: =SUM(Q24:S24) -> 0
A25: 6 | B25: Select | D25: X951 | E25: =$D$7 -> 0 | F25: Select | H25: Select | I25: Select | J25: =_xlfn.CONCAT(I25, " ",B25) -> Select Select | Q25: =PRODUCT(P25,(SUM(O25:O25))) -> 0 | T25: =SUM(Q25:S25) -> 0
A26: 7 | B26: Select | D26: X951 | E26: =$D$7 -> 0 | F26: Select | H26: Select | I26: Select | J26: =_xlfn.CONCAT(I26, " ",B26) -> Select Select | Q26: =PRODUCT(P26,(SUM(O26:O26))) -> 0 | T26: =SUM(Q26:S26) -> 0
A27: 8 | B27: Select | D27: X951 | E27: =$D$7 -> 0 | F27: Select | H27: Select | I27: Select | J27: =_xlfn.CONCAT(I27, " ",B27) -> Select Select | Q27: =PRODUCT(P27,(SUM(O27:O27))) -> 0 | T27: =SUM(Q27:S27) -> 0
A28: 9 | B28: Select | D28: X951 | E28: =$D$7 -> 0 | F28: Select | H28: Select | I28: Select | J28: =_xlfn.CONCAT(I28, " ",B28) -> Select Select | Q28: =PRODUCT(P28,(SUM(O28:O28))) -> 0 | T28: =SUM(Q28:S28) -> 0
A29: 10 | B29: Select | D29: X951 | E29: =$D$7 -> 0 | F29: Select | H29: Select | I29: Select | J29: =_xlfn.CONCAT(I29, " ",B29) -> Select Select | Q29: =PRODUCT(P29,(SUM(O29:O29))) -> 0 | T29: =SUM(Q29:S29) -> 0
A30: 11 | B30: Select | D30: X951 | E30: =$D$7 -> 0 | F30: Select | H30: Select | I30: Select | J30: =_xlfn.CONCAT(I30, " ",B30) -> Select Select | Q30: =PRODUCT(P30,(SUM(O30:O30))) -> 0 | T30: =SUM(Q30:S30) -> 0
A31: 12 | B31: Select | D31: X951 | E31: =$D$7 -> 0 | F31: Select | H31: Select | I31: Select | J31: =_xlfn.CONCAT(I31, " ",B31) -> Select Select | Q31: =PRODUCT(P31,(SUM(O31:O31))) -> 0 | T31: =SUM(Q31:S31) -> 0
A32: 13 | B32: Select | D32: X951 | E32: =$D$7 -> 0 | F32: Select | H32: Select | I32: Select | J32: =_xlfn.CONCAT(I32, " ",B32) -> Select Select | Q32: =PRODUCT(P32,(SUM(O32:O32))) -> 0 | T32: =SUM(Q32:S32) -> 0
... A100: 81 | B100: Select | D100: X951 | E100: =$D$7 -> 0 | F100: Select | H100: Select | I100: Select | J100: =_xlfn.CONCAT(I100, " ",B100) -> Select Select | Q100: =PRODUCT(P100,(SUM(O100:O100))) -> 0 | T100: =SUM(Q100:S100) -> 0
B101: Select | D101: X951 | E101: =$D$7 -> 0 | F101: Select | H101: Select | I101: Select | J101: =_xlfn.CONCAT(I101, " ",B101) -> Select Select | Q101: =PRODUCT(P101,(SUM(O101:O101))) -> 0 | T101: =SUM(Q101:S101) -> 0
B102: Select | D102: X951 | E102: =$D$7 -> 0 | F102: Select | H102: Select | I102: Select | J102: =_xlfn.CONCAT(I102, " ",B102) -> Select Select | Q102: =PRODUCT(P102,(SUM(O102:O102))) -> 0 | T102: =SUM(Q102:S102) -> 0

Sheet TIV-Other
B1: Charter School Budget Narrative - Title IV | N1: KEY for Completion
O2: PCS Staff Completes
B3: 2026-2027 School Year | O3: Charter School Staff Completes
O4: Auto Fill
B5: Part 7F: Budget Narrative - OTHER
B6: School | D6: ='Needs Assessment'!C5 -> 0 | I6: ='Needs Assessment'!C5 -> 0 | M6: Title IV Snapshot | N6: Budget | P6: Spent
B7: # | D7: ='Needs Assessment'!C6 -> 0 | I7: ='Needs Assessment'!C6 -> 0 | M7: Supplies | N7: ='Needs Assessment'!C43 -> 0 | P7: ='Needs Assessment'!D43 -> 0
B8: Contact | D8: ='Needs Assessment'!C7 -> 0 | I8: ='Needs Assessment'!C7 -> 0 | M8: Travel/Conferences | N8: ='Needs Assessment'!C44 -> 0 | P8: ='Needs Assessment'!D44 -> 0
B9: Email | D9: ='Needs Assessment'!C9 -> 0 | I9: ='Needs Assessment'!C8 -> 0 | M9: Stipends | N9: ='Needs Assessment'!C45 -> 0 | P9: ='Needs Assessment'!D45 -> 0
B10: Phone | D10: ='Needs Assessment'!C8 -> 0 | I10: ='Needs Assessment'!C9 -> 0 | M10: Consultant | N10: ='Needs Assessment'!C46 -> 0 | P10: ='Needs Assessment'!D46 -> 0
M11: Purchased Services | N11: ='Needs Assessment'!C47 -> 0 | P11: ='Needs Assessment'!D47 -> 0
M12: Field Trips | N12: ='Needs Assessment'!C48 -> 0 | P12: ='Needs Assessment'!D48 -> 0
M13: Other | N13: ='Needs Assessment'!C49 -> 0 | P13: ='Needs Assessment'!D49 -> 0
M14: Total | N14: ='Needs Assessment'!C50 -> 0 | P14: ='Needs Assessment'!D50 -> 0
M15: Allocation | N15: ='Needs Assessment'!C42 -> 0 | P15: ='Needs Assessment'!D42 -> 0
M17: Total Other Budget: | N17: =SUM(S20:S102) -> 0 | P17: Total Other Cost: | S17: =SUM(U20:U102) -> 0
B18: PCS STAFF ONLY | D18: HIDE | E18: HIDE | F18: HIDE | G18: HIDE | H18: HIDE | I18: Budget Proposal | T18: Expenditures
B19: Func | C19: Obj | D19: Grant ID | E19: Cost Center | F19: Needs Assessment | G19: If new, date added | H19: Participation Request | I19: AOF | J19: Concat FOAOF | K19: Activity/Service | L19: Purpose | M19: Vendor | N19: Link To Details | O19: Start Date | P19: End Date | Q19: Qty | R19: Cost | S19: Total Cost | T19: Date Submitted | U19: Actual Cost | V19: Req/PO | W19: Notes
A20: 1 | B20: Select | D20: X951 | E20: =$D$7 -> 0 | F20: Select | H20: Select | I20: Select | J20: =_xlfn.CONCAT(I20, " ", B20) -> Select Select | S20: =PRODUCT(Q20:R20) -> 0
A21: 2 | B21: Select | D21: X951 | E21: =$D$7 -> 0 | F21: Select | H21: Select | I21: Select | J21: =_xlfn.CONCAT(I21, " ", B21) -> Select Select | S21: =PRODUCT(Q21:R21) -> 0
A22: 3 | B22: Select | D22: X951 | E22: =$D$7 -> 0 | F22: Select | H22: Select | I22: Select | J22: =_xlfn.CONCAT(I22, " ", B22) -> Select Select | S22: =PRODUCT(Q22:R22) -> 0
A23: 4 | B23: Select | D23: X951 | E23: =$D$7 -> 0 | F23: Select | H23: Select | I23: Select | J23: =_xlfn.CONCAT(I23, " ", B23) -> Select Select | S23: =PRODUCT(Q23:R23) -> 0
A24: 5 | B24: Select | D24: X951 | E24: =$D$7 -> 0 | F24: Select | H24: Select | I24: Select | J24: =_xlfn.CONCAT(I24, " ", B24) -> Select Select | S24: =PRODUCT(Q24:R24) -> 0
A25: 6 | B25: Select | D25: X951 | E25: =$D$7 -> 0 | F25: Select | H25: Select | I25: Select | J25: =_xlfn.CONCAT(I25, " ", B25) -> Select Select | S25: =PRODUCT(Q25:R25) -> 0
A26: 7 | B26: Select | D26: X951 | E26: =$D$7 -> 0 | F26: Select | H26: Select | I26: Select | J26: =_xlfn.CONCAT(I26, " ", B26) -> Select Select | S26: =PRODUCT(Q26:R26) -> 0
A27: 8 | B27: Select | D27: X951 | E27: =$D$7 -> 0 | F27: Select | H27: Select | I27: Select | J27: =_xlfn.CONCAT(I27, " ", B27) -> Select Select | S27: =PRODUCT(Q27:R27) -> 0
A28: 9 | B28: Select | D28: X951 | E28: =$D$7 -> 0 | F28: Select | H28: Select | I28: Select | J28: =_xlfn.CONCAT(I28, " ", B28) -> Select Select | S28: =PRODUCT(Q28:R28) -> 0
A29: 10 | B29: Select | D29: X951 | E29: =$D$7 -> 0 | F29: Select | H29: Select | I29: Select | J29: =_xlfn.CONCAT(I29, " ", B29) -> Select Select | S29: =PRODUCT(Q29:R29) -> 0
A30: 11 | B30: Select | D30: X951 | E30: =$D$7 -> 0 | F30: Select | H30: Select | I30: Select | J30: =_xlfn.CONCAT(I30, " ", B30) -> Select Select | S30: =PRODUCT(Q30:R30) -> 0
A31: 12 | B31: Select | D31: X951 | E31: =$D$7 -> 0 | F31: Select | H31: Select | I31: Select | J31: =_xlfn.CONCAT(I31, " ", B31) -> Select Select | S31: =PRODUCT(Q31:R31) -> 0
