Workbook

Sheet Instructions
A2: Fill out the top section completely:
B3: · MONTH: - the month that the mileage occurred in.
B4: · BUDGET ACCOUNT #: - the account number to be used for the reimbursement.
B5: · NAME: - the name of the employee being reimbursed.
B6: · EMPLOYEE ID#: - Employee Identification number of the employee being reimbursed.
B7: · CAMPUS: - the main campus or department of the employee being reimbursed.
B8: · POSITION: - the position or title of the employee being reimbursed.
A10: DATE Column - enter the date each individual trip occurred.
A11: FROM Column - select from the drop-down menu the starting location for each individual trip.
A12: TO Column - select from the drop-down menu the ending location for each individual trip.
A13: REASON FOR TRAVEL Column - enter a brif description for each individual trip.
A14: TOTAL MILES Column - will auto-populate with the miles based on the choices in the FROM and TO columns.
A16: Total Miles for the month are calculated at the bottom of column E, TOTAL MILES.
A17: This total is then multiplied by the current IRS mileage rate to calculate the dollar amount for the reimbursement.
A19: Once completed, print out the form and sign and date at the bottom.
A20: Submit the form to your campus/department secretary for Supervisor's signature and Director's signature if necessary.
A21: The campus/department secretary will then submit the form to Accounting with requisition # or long-term PO #.
A22: Accounting will contact the employee when reimbursement check is ready.

Sheet 2026 Mileage
A1: 2026 Mileage | C1: MONTH:
C2: BUDGET ACCOUNT #:
A4: NAME: | C4: EMPLOYEE ID#:
A6: CAMPUS: | C6: POSITION:
A8: DATE | B8: FROM | C8: TO | D8: REASON FOR TRAVEL | E8: TOTAL MILES
E9: {=IFERROR((INDEX(Miles!B2:AS45,MATCH(B9,Miles!A2:A45,0),MATCH(C9,Miles!B1:AS1,0))),0)} -> 0
E10: {=IFERROR((INDEX(Miles!B2:AS45,MATCH(B10,Miles!A2:A45,0),MATCH(C10,Miles!B1:AS1,0))),0)} -> 0
E11: {=IFERROR((INDEX(Miles!B2:AS45,MATCH(B11,Miles!A2:A45,0),MATCH(C11,Miles!B1:AS1,0))),0)} -> 0
E12: =IFERROR((INDEX(Miles!B2:AS45,MATCH(B12,Miles!A2:A45,0),MATCH(C12,Miles!B1:AS1,0))),0) -> 0
E13: {=IFERROR((INDEX(Miles!B2:AS45,MATCH(B13,Miles!A2:A45,0),MATCH(C13,Miles!B1:AS1,0))),0)} -> 0
E14: {=IFERROR((INDEX(Miles!B2:AS45,MATCH(B14,Miles!A2:A45,0),MATCH(C14,Miles!B1:AS1,0))),0)} -> 0
E15: {=IFERROR((INDEX(Miles!B2:AS45,MATCH(B15,Miles!A2:A45,0),MATCH(C15,Miles!B1:AS1,0))),0)} -> 0
E16: {=IFERROR((INDEX(Miles!B2:AS45,MATCH(B16,Miles!A2:A45,0),MATCH(C16,Miles!B1:AS1,0))),0)} -> 0
E17: {=IFERROR((INDEX(Miles!B2:AS45,MATCH(B17,Miles!A2:A45,0),MATCH(C17,Miles!B1:AS1,0))),0)} -> 0
E18: {=IFERROR((INDEX(Miles!B2:AS45,MATCH(B18,Miles!A2:A45,0),MATCH(C18,Miles!B1:AS1,0))),0)} -> 0
E19: {=IFERROR((INDEX(Miles!B2:AS45,MATCH(B19,Miles!A2:A45,0),MATCH(C19,Miles!B1:AS1,0))),0)} -> 0
E20: {=IFERROR((INDEX(Miles!B2:AS45,MATCH(B20,Miles!A2:A45,0),MATCH(C20,Miles!B1:AS1,0))),0)} -> 0
E21: {=IFERROR((INDEX(Miles!B2:AS45,MATCH(B21,Miles!A2:A45,0),MATCH(C21,Miles!B1:AS1,0))),0)} -> 0
E22: {=IFERROR((INDEX(Miles!B2:AS45,MATCH(B22,Miles!A2:A45,0),MATCH(C22,Miles!B1:AS1,0))),0)} -> 0
E23: {=IFERROR((INDEX(Miles!B2:AS45,MATCH(B23,Miles!A2:A45,0),MATCH(C23,Miles!B1:AS1,0))),0)} -> 0
E24: {=IFERROR((INDEX(Miles!B2:AS45,MATCH(B24,Miles!A2:A45,0),MATCH(C24,Miles!B1:AS1,0))),0)} -> 0
E25: {=IFERROR((INDEX(Miles!B2:AS45,MATCH(B25,Miles!A2:A45,0),MATCH(C25,Miles!B1:AS1,0))),0)} -> 0
E26: {=IFERROR((INDEX(Miles!B2:AS45,MATCH(B26,Miles!A2:A45,0),MATCH(C26,Miles!B1:AS1,0))),0)} -> 0
E27: {=IFERROR((INDEX(Miles!B2:AS45,MATCH(B27,Miles!A2:A45,0),MATCH(C27,Miles!B1:AS1,0))),0)} -> 0
E28: {=IFERROR((INDEX(Miles!B2:AS45,MATCH(B28,Miles!A2:A45,0),MATCH(C28,Miles!B1:AS1,0))),0)} -> 0
E29: {=IFERROR((INDEX(Miles!B2:AS45,MATCH(B29,Miles!A2:A45,0),MATCH(C29,Miles!B1:AS1,0))),0)} -> 0
E30: {=IFERROR((INDEX(Miles!B2:AS45,MATCH(B30,Miles!A2:A45,0),MATCH(C30,Miles!B1:AS1,0))),0)} -> 0
E31: {=IFERROR((INDEX(Miles!B2:AS45,MATCH(B31,Miles!A2:A45,0),MATCH(C31,Miles!B1:AS1,0))),0)} -> 0
E32: {=IFERROR((INDEX(Miles!B2:AS45,MATCH(B32,Miles!A2:A45,0),MATCH(C32,Miles!B1:AS1,0))),0)} -> 0
E33: {=IFERROR((INDEX(Miles!B2:AS45,MATCH(B33,Miles!A2:A45,0),MATCH(C33,Miles!B1:AS1,0))),0)} -> 0
E34: {=IFERROR((INDEX(Miles!B2:AS45,MATCH(B34,Miles!A2:A45,0),MATCH(C34,Miles!B1:AS1,0))),0)} -> 0
E35: {=IFERROR((INDEX(Miles!B2:AS45,MATCH(B35,Miles!A2:A45,0),MATCH(C35,Miles!B1:AS1,0))),0)} -> 0
E36: {=IFERROR((INDEX(Miles!B2:AS45,MATCH(B36,Miles!A2:A45,0),MATCH(C36,Miles!B1:AS1,0))),0)} -> 0
E37: {=IFERROR((INDEX(Miles!B2:AS45,MATCH(B37,Miles!A2:A45,0),MATCH(C37,Miles!B1:AS1,0))),0)} -> 0
E38: {=IFERROR((INDEX(Miles!B2:AS45,MATCH(B38,Miles!A2:A45,0),MATCH(C38,Miles!B1:AS1,0))),0)} -> 0
E39: {=IFERROR((INDEX(Miles!B2:AS45,MATCH(B39,Miles!A2:A45,0),MATCH(C39,Miles!B1:AS1,0))),0)} -> 0
E40: {=IFERROR((INDEX(Miles!B2:AS45,MATCH(B40,Miles!A2:A45,0),MATCH(C40,Miles!B1:AS1,0))),0)} -> 0
E41: {=IFERROR((INDEX(Miles!B2:AS45,MATCH(B41,Miles!A2:A45,0),MATCH(C41,Miles!B1:AS1,0))),0)} -> 0
E42: {=IFERROR((INDEX(Miles!B2:AS45,MATCH(B42,Miles!A2:A45,0),MATCH(C42,Miles!B1:AS1,0))),0)} -> 0
E43: {=IFERROR((INDEX(Miles!B2:AS45,MATCH(B43,Miles!A2:A45,0),MATCH(C43,Miles!B1:AS1,0))),0)} -> 0
...

Sheet Miles
A1: Building | B1: Abell | C1: Admin Building | D1: Advanced Technology Center | E1: Alamo | F1: Bonham | G1: Bowie | H1: Bunche | I1: Burnet | J1: Bush | K1: Carver | L1: Child Nutrition Services | M1: Coleman | N1: De Zavala | O1: Early College High School | P1: Emerson | Q1: Fannin | R1: Fasken | S1: Franks | T1: Goddard | U1: Greathouse | V1: Henderson | W1: Houston | X1: Jones | Y1: Lamar | Z1: Legacy Freshman | AA1: Legacy High | AB1: Lone Star Trails | AC1: Long | AD1: MAP | AE1: Midland Freshman | AF1: Midland High | AG1: Milam | AH1: Parker | AI1: Pease | AJ1: Rusk | AK1: San Jacinto | AL1: Santa Rita | AM1: Scharbauer | AN1: School Plant Services | AO1: South | AP1: Transportation / Warehouse | AQ1: Travis | AR1: Yarbrough | AS1: Young Women’s Leadership Academy
A2: Abell | B2: 0 | C2: 5.7 | D2: 3.6 | E2: 3.1 | F2: 3 | G2: 5.8 | H2: 12 | I2: 3.9 | J2: 1 | K2: 11 | L2: 6.5 | M2: 9.4 | N2: 9.4 | O2: 4.1 | P2: 3.7 | Q2: 3.7 | R2: 3.2 | S2: 6.7 | T2: 4.1 | U2: 2 | V2: 3.1 | W2: 4.6 | X2: 2.5 | Y2: 4.6 | Z2: 8 | AA2: 2.6 | AB2: 9.2 | AC2: 3.6 | AD2: 4.8 | AE2: 10 | AF2: 5.4 | AG2: 5.6 | AH2: 2.1 | AI2: 9.1 | AJ2: 2.5 | AK2: 4.4 | AL2: 4.3 | AM2: 0.8 | AN2: 6.5 | AO2: 6.9 | AP2: 3.1 | AQ2: 11 | AR2: 2.8 | AS2: 11
A3: Admin Building | B3: 5.7 | C3: 0 | D3: 2.4 | E3: 3.5 | F3: 3.1 | G3: 1.3 | H3: 2.4 | I3: 3.2 | J3: 5.5 | K3: 1.9 | L3: 0.9 | M3: 2.7 | N3: 1.7 | O3: 3.5 | P3: 4.4 | Q3: 3.2 | R3: 8.2 | S3: 1.7 | T3: 4.1 | U3: 6.8 | V3: 4.3 | W3: 1.4 | X3: 4.3 | Y3: 2.4 | Z3: 2.9 | AA3: 3.7 | AB3: 7.3 | AC3: 3.4 | AD3: 1.1 | AE3: 1.8 | AF3: 0.6 | AG3: 2.6 | AH3: 5.2 | AI3: 3.1 | AJ3: 3.8 | AK3: 2.1 | AL3: 5.5 | AM3: 5.4 | AN3: 0.9 | AO3: 0.9 | AP3: 8.2 | AQ3: 2.4 | AR3: 5.7 | AS3: 2.2
A4: Advanced Technology Center | B4: 3.6 | C4: 2.4 | D4: 0 | E4: 1.2 | F4: 0.8 | G4: 2.8 | H4: 4.8 | I4: 1.9 | J4: 3.1 | K4: 4.3 | L4: 2.7 | M4: 4.7 | N4: 4.1 | O4: 3.2 | P4: 2.6 | Q4: 2.1 | R4: 6.2 | S4: 3.6 | T4: 2.9 | U4: 4.9 | V4: 2.8 | W4: 1.3 | X4: 2.8 | Y4: 0.9 | Z4: 4.4 | AA4: 1.5 | AB4: 8.9 | AC4: 1.8 | AD4: 1.5 | AE4: 3.8 | AF4: 2.1 | AG4: 3.9 | AH4: 2.8 | AI4: 4.7 | AJ4: 1.7 | AK4: 1.5 | AL4: 3.9 | AM4: 3.4 | AN4: 2.7 | AO4: 3.3 | AP4: 6.1 | AQ4: 4.4 | AR4: 4 | AS4: 4.6
A5: Alamo | B5: 3.1 | C5: 3.5 | D5: 1.2 | E5: 0 | F5: 0.4 | G5: 3.7 | H5: 5.5 | I5: 1.6 | J5: 2.5 | K5: 4.9 | L5: 3.6 | M5: 5.8 | N5: 4.5 | O5: 4.6 | P5: 3.6 | Q5: 3 | R5: 5.5 | S5: 4.8 | T5: 4.2 | U5: 4.1 | V5: 1.6 | W5: 2.1 | X5: 1.5 | Y5: 1.4 | Z5: 5.4 | AA5: 1.9 | AB5: 10 | AC5: 1.1 | AD5: 2.2 | AE5: 5.3 | AF5: 3.2 | AG5: 5 | AH5: 2.6 | AI5: 6.1 | AJ5: 1.9 | AK5: 2.8 | AL5: 4.9 | AM5: 2.8 | AN5: 3.6 | AO5: 4.4 | AP5: 5.7 | AQ5: 5.8 | AR5: 2.8 | AS5: 5.2
A6: Bonham | B6: 3 | C6: 3.1 | D6: 0.8 | E6: 0.4 | F6: 0 | G6: 3.3 | H6: 5.2 | I6: 1.9 | J6: 2.4 | K6: 4.5700608 | L6: 3.4 | M6: 5 | N6: 4 | O6: 3.8 | P6: 3.2 | Q6: 2.6590337 | R6: 5.4 | S6: 4 | T6: 3.5 | U6: 4.3 | V6: 2.2233283 | W6: 2 | X6: 2.0366684 | Y6: 1.4 | Z6: 5 | AA6: 1.5068251 | AB6: 9.5 | AC6: 1.5 | AD6: 2.1562202 | AE6: 5.3 | AF6: 2.9592803 | AG6: 4.5743483 | AH6: 2.7021569 | AI6: 5.2927155 | AJ6: 1.3186118 | AK6: 2.3800381 | AL6: 4.4731891 | AM6: 2.8457558 | AN6: 3.3329108 | AO6: 4.4 | AP6: 5.8943271 | AQ6: 5.176892 | AR6: 3.19478 | AS6: 4.8478138
A7: Bowie | B7: 5.8 | C7: 1.3 | D7: 2.8 | E7: 3.7 | F7: 3.3 | G7: 0 | H7: 3.2538102 | I7: 4.1787213 | J7: 5.1558896 | K7: 2.487846 | L7: 2.2120814 | M7: 1.9122698 | N7: 1.8126019 | O7: 2.5038152 | P7: 3.4702338 | Q7: 2.1896499 | R7: 8.0716118 | S7: 1.0292392 | T7: 3.0975354 | U7: 6.3437649 | V7: 5.2077741 | W7: 1.3664574 | X7: 5.0211142 | Y7: 2.8134445 | Z7: 2.1472724 | AA7: 3.3469538 | AB7: 6.6 | AC7: 3.893574 | AD7: 2.1129727 | AE7: 2.8706728 | AF7: 0.85767866 | AG7: 1.7812227 | AH7: 4.5342699 | AI7: 2.4995899 | AJ7: 3.4107065 | AK7: 1.2665409 | AL7: 4.4836902 | AM7: 5.1299784 | AN7: 2.2120814 | AO7: 2.0951394 | AP7: 8.4067173 | AQ7: 3.4542646 | AR7: 5.8151023 | AS7: 2.7655989
A8: Bunche | B8: 12 | C8: 2.4 | D8: 4.8 | E8: 5.5 | F8: 5.2 | G8: 3.2538102 | H8: 0 | I8: 5.3 | J8: 7.5 | K8: 0.71911288 | L8: 2.1 | M8: 2.4 | N8: 1.6 | O8: 5.7 | P8: 6.8 | Q8: 5.3 | R8: 12.5 | S8: 2.4 | T8: 6.3 | U8: 11 | V8: 6.5 | W8: 3.6 | X8: 6.4 | Y8: 5.1 | Z8: 3.2 | AA8: 6.3 | AB8: 8.1 | AC8: 5.5 | AD8: 3.7 | AE8: 1.9 | AF8: 2.7 | AG8: 3.5 | AH8: 7.4 | AI8: 3.3 | AJ8: 6.6 | AK8: 4.4 | AL8: 7.8 | AM8: 7.5 | AN8: 2.1 | AO8: 1.6 | AP8: 10.7 | AQ8: 1.4 | AR8: 7.9 | AS8: 0.6
A9: Burnet | B9: 3.9 | C9: 3.2 | D9: 1.9 | E9: 1.6 | F9: 1.9 | G9: 4.4 | H9: 5.3 | I9: 0 | J9: 3.8323068 | K9: 4.7162073 | L9: 2.9143552 | M9: 5.8641285 | N9: 4.5136403 | O9: 4.7706395 | P9: 4.8552081 | Q9: 4.4497634 | R9: 6.748029 | S9: 4.9482895 | T9: 4.6 | U9: 5.2334989 | V9: 1.2815159 | W9: 3.0527967 | X9: 1.5930093 | Y9: 1.8237244 | Z9: 6.2161353 | AA9: 3.2631308 | AB9: 10 | AC9: 0.7691954 | AD9: 2.3679835 | AE9: 4.3381651 | AF9: 3.3175629 | AG9: 5.8536273 | AH9: 3.9110967 | AI9: 6.620213 | AJ9: 3.0020928 | AK9: 3.4404702 | AL9: 6.3837191 | AM9: 3.6023373 | AN9: 2.9143552 | AO9: 3.5626317 | AP9: 6.8549049 | AQ9: 4.7583985 | AR9: 3.0051996 | AS9: 4.9939603
A10: Bush | B10: 1 | C10: 5.5 | D10: 3.1 | E10: 2.5 | F10: 2.4 | G10: 5.5 | H10: 7.5264207 | I10: 3.8323068 | J10: 0 | K10: 6.5904493 | L10: 5.3532992 | M10: 7.6 | N10: 6.3878823 | O10: 3.8 | P10: 3.1 | Q10: 3.076968 | R10: 3.3353963 | S10: 6.3 | T10: 3.4 | U10: 2.0543153 | V10: 3.1 | W10: 4.3 | X10: 2.4 | Y10: 3.5603327 | Z10: 6.0898726 | AA10: 2.4 | AB10: 9.5 | AC10: 3.5 | AD10: 4.1766086 | AE10: 9.7 | AF10: 4.9796687 | AG10: 5.3 | AH10: 1.7664962 | AI10: 6.7 | AJ10: 1.5 | AK10: 3.8 | AL10: 4.171327 | AM10: 1.7 | AN10: 6.4 | AO10: 6.5 | AP10: 3.4423343 | AQ10: 10.5 | AR10: 2.952818 | AS10: 6.8682022
A11: Carver | B11: 11 | C11: 1.9 | D11: 4.3 | E11: 4.9 | F11: 4.5700608 | G11: 2.7 | H11: 0.71911288 | I11: 4.7162073 | J11: 6.5904493 | K11: 0 | L11: 2.0090173 | M11: 1.9 | N11: 0.81946433 | O11: 4.917718 | P11: 5.8841366 | Q11: 4.7235395 | R11: 10.9 | S11: 1.6613602 | T11: 5.6 | U11: 9.5 | V11: 6.0131333 | W11: 2.9759952 | X11: 5.9 | Y11: 4.6 | Z11: 2 | AA11: 5.7 | AB11: 7.4 | AC11: 5.0383262 | AD11: 3.1148095 | AE11: 2.1 | AF11: 2.1 | AG11: 2.9 | AH11: 7 | AI11: 2.4455306 | AJ11: 5.7 | AK11: 3.9 | AL11: 7.0991037 | AM11: 8 | AN11: 2.0090173 | AO11: 1.8 | AP11: 10.4 | AQ11: 1.6 | AR11: 7.3 | AS11: 0.3
A12: Child Nutrition Services | B12: 6.5 | C12: 0.9 | D12: 2.7 | E12: 3.6 | F12: 3.4 | G12: 2.3 | H12: 2.1 | I12: 2.9143552 | J12: 6.4 | K12: 2.0090173 | L12: 0 | M12: 3.4 | N12: 1.8063882 | O12: 4.7 | P12: 4.9868145 | Q12: 3.4 | R12: 9.1 | S12: 2.4618727 | T12: 4.4961798 | U12: 8 | V12: 4.2105976 | W12: 1.6 | X12: 4.1 | Y12: 2.5057415 | Z12: 3.5088831 | AA12: 3.9491867 | AB12: 8.1 | AC12: 3.2357905 | AD12: 1.3 | AE12: 1.5258391 | AF12: 1.2 | AG12: 3.3484451 | AH12: 5.1 | AI12: 3.9128987 | AJ12: 4.1 | AK12: 2.3 | AL12: 6.8 | AM12: 6.2 | AN12: 0 | AO12: 0.75030571 | AP12: 8.6 | AQ12: 1.9460724 | AR12: 5.6 | AS12: 2.4
A13: Coleman | B13: 9.4 | C13: 2.7 | D13: 4.7 | E13: 5.8 | F13: 5 | G13: 2.2 | H13: 2.4 | I13: 5.8641285 | J13: 7.6 | K13: 1.9 | L13: 3.4 | M13: 0 | N13: 1.8 | O13: 3.9491246 | P13: 4.9155432 | Q13: 3.7176017 | R13: 10.5 | S13: 1.1 | T13: 4.5428448 | U13: 8.2 | V13: 7.1481921 | W13: 3.3 | X13: 6.9740839 | Y13: 4.7 | Z13: 0.8 | AA13: 4.8 | AB13: 6.1 | AC13: 6.1733849 | AD13: 3.8 | AE13: 3.6299262 | AF13: 2.7 | AG13: 1.7 | AH13: 5.9 | AI13: 0.5 | AJ13: 5.1 | AK13: 3 | AL13: 6.075519 | AM13: 10 | AN13: 3.4 | AO13: 3.2 | AP13: 9.6 | AQ13: 3.4 | AR13: 7.9 | AS13: 2.2
... A45: Young Women’s Leadership Academy | B45: 11 | C45: 2.2 | D45: 4.6 | E45: 5.2 | F45: 4.9 | G45: 2.9 | H45: 0.6 | I45: 4.9939603 | J45: 6.8682022 | K45: 0.3 | L45: 2.4 | M45: 2.2 | N45: 1.2078835 | O45: 5.1 | P45: 6.1 | Q45: 4.8 | R45: 12.4 | S45: 2.0443112 | T45: 5.6 | U45: 9.5 | V45: 6.2789559 | W45: 3.3 | X45: 6.2 | Y45: 4.9 | Z45: 2.3 | AA45: 5.4222714 | AB45: 7.6 | AC45: 5.2 | AD45: 3.4 | AE45: 2.3 | AF45: 2.4 | AG45: 3.2 | AH45: 7.2 | AI45: 2.5 | AJ45: 5.6 | AK45: 4.2 | AL45: 7.3 | AM45: 7.2 | AN45: 2.2867081 | AO45: 1.9 | AP45: 13 | AQ45: 1.9 | AR45: 7.5553766 | AS45: 0
