Workbook
Name valuevx: #REF!

Sheet August
A1: =IF(Year!$Q$4="","",Year!$Q$4) -> EPCHS Professional Development Calendar 2026-2027 | H1: =Year!A9 -> 46235
A2: {=INDEX({"Sunday";"Monday";"Tuesday";"Wednesday";"Thursday";"Friday";"Saturday"},1+MOD(Year!$I$4+1-2,7))} -> Sunday | C2: {=INDEX({"Sunday";"Monday";"Tuesday";"Wednesday";"Thursday";"Friday";"Saturday"},1+MOD(Year!$I$4+2-2,7))} -> Monday | E2: {=INDEX({"Sunday";"Monday";"Tuesday";"Wednesday";"Thursday";"Friday";"Saturday"},1+MOD(Year!$I$4+3-2,7))} -> Tuesday | G2: {=INDEX({"Sunday";"Monday";"Tuesday";"Wednesday";"Thursday";"Friday";"Saturday"},1+MOD(Year!$I$4+4-2,7))} -> Wednesday | I2: {=INDEX({"Sunday";"Monday";"Tuesday";"Wednesday";"Thursday";"Friday";"Saturday"},1+MOD(Year!$I$4+5-2,7))} -> Thursday | K2: {=INDEX({"Sunday";"Monday";"Tuesday";"Wednesday";"Thursday";"Friday";"Saturday"},1+MOD(Year!$I$4+6-2,7))} -> Friday | M2: {=INDEX({"Sunday";"Monday";"Tuesday";"Wednesday";"Thursday";"Friday";"Saturday"},1+MOD(Year!$I$4+7-2,7))} -> Saturday
A3: =Year!A11 | C3: =Year!B11 | E3: =Year!C11 | G3: =Year!D11 | I3: =Year!E11 | K3: =Year!F11 | M3: =Year!G11 -> 46235
K5: OFF
A8: =Year!A12 -> 46236 | C8: =Year!B12 -> 46237 | E8: =Year!C12 -> 46238 | G8: =Year!D12 -> 46239 | I8: =Year!E12 -> 46240 | K8: =Year!F12 -> 46241 | M8: =Year!G12 -> 46242
K10: OFF
A13: =Year!A13 -> 46243 | C13: =Year!B13 -> 46244 | E13: =Year!C13 -> 46245 | G13: =Year!D13 -> 46246 | I13: =Year!E13 -> 46247 | K13: =Year!F13 -> 46248 | M13: =Year!G13 -> 46249
E15: INSTITUTE DAY | G15: INSTITUTE DAY
A18: =Year!A14 -> 46250 | C18: =Year!B14 -> 46251 | E18: =Year!C14 -> 46252 | G18: =Year!D14 -> 46253 | I18: =Year!E14 -> 46254 | K18: =Year!F14 -> 46255 | M18: =Year!G14 -> 46256
I19: Special Topic PD:
I20: STAR Testing Data
A23: =Year!A15 -> 46257 | C23: =Year!B15 -> 46258 | E23: =Year!C15 -> 46259 | G23: =Year!D15 -> 46260 | I23: =Year!E15 -> 46261 | K23: =Year!F15 -> 46262 | M23: =Year!G15 -> 46263
E24: Lesson Planning Cycle: Session 1 | G24: New Teachers (see email) | I24: Special Topic PD:
G25: LRC-Lab 2 | I25: Grading & Assessments
G26: ISBE Credit
A28: =Year!A16 -> 46264 | C28: =Year!B16 -> 46265 | E28: Notes
F29: Coaching Calendar
M31: © 2009 Vertex42 LLC
C32: [42] | K32: =HYPERLINK("http://www.vertex42.com/","Templates by Vertex42.com") -> Templates by Vertex42.com

Sheet September
H1: =Year!I9 -> 46266
A2: =August!A2:B2 -> Sunday | C2: =August!C2:D2 -> Monday | E2: =August!E2:F2 -> Tuesday | G2: =August!G2:H2 -> Wednesday | I2: =August!I2:J2 -> Thursday | K2: =August!K2:L2 -> Friday | M2: =August!M2:N2 -> Saturday
A3: =Year!I11 | C3: =Year!J11 | E3: =Year!K11 -> 46266 | G3: =Year!L11 -> 46267 | I3: =Year!M11 -> 46268 | K3: =Year!N11 -> 46269 | M3: =Year!O11 -> 46270
E4: Book Club Cycle: | I4: Special Topic PD:
E5: Session 1 | I5: Reading Realms
A8: =Year!I12 -> 46271 | C8: =Year!J12 -> 46272 | E8: =Year!K12 -> 46273 | G8: =Year!L12 -> 46274 | I8: =Year!M12 -> 46275 | K8: =Year!N12 -> 46276 | M8: =Year!O12 -> 46277
I9: Special Topic PD:
C10: HOLIDAY - OFF | I10: Evaluations
A13: =Year!I13 -> 46278 | C13: =Year!J13 -> 46279 | E13: =Year!K13 -> 46280 | G13: =Year!L13 -> 46281 | I13: =Year!M13 -> 46282 | K13: =Year!N13 -> 46283 | M13: =Year!O13 -> 46284
E14: Lesson Planning Cycle: Session 2
A18: =Year!I14 -> 46285 | C18: =Year!J14 -> 46286 | E18: =Year!K14 -> 46287 | G18: =Year!L14 -> 46288 | I18: =Year!M14 -> 46289 | K18: =Year!N14 -> 46290 | M18: =Year!O14 -> 46291
K20: SCHOOL IMP. DAY
A23: =Year!I15 -> 46292 | C23: =Year!J15 -> 46293 | E23: =Year!K15 -> 46294 | G23: =Year!L15 -> 46295 | I23: =Year!M15 | K23: =Year!N15 | M23: =Year!O15
E24: Google AI Cycle:
E25: Session 1
A28: =Year!I16 | C28: =Year!J16 | E28: Notes
F29: Coaching Calendar
M31: © 2009 Vertex42 LLC
C32: [42] | K32: =HYPERLINK("http://www.vertex42.com/","Templates by Vertex42.com") -> Templates by Vertex42.com

Sheet October
A1: =IF(Year!$Q$4="","",Year!$Q$4) -> EPCHS Professional Development Calendar 2026-2027 | H1: =Year!Q9 -> 46296
A2: =August!A2:B2 -> Sunday | C2: =August!C2:D2 -> Monday | E2: =August!E2:F2 -> Tuesday | G2: =August!G2:H2 -> Wednesday | I2: =August!I2:J2 -> Thursday | K2: =August!K2:L2 -> Friday | M2: =August!M2:N2 -> Saturday
A3: =Year!Q11 | C3: =Year!R11 | E3: =Year!S11 | G3: =Year!T11 | I3: =Year!U11 -> 46296 | K3: =Year!V11 -> 46297 | M3: =Year!W11 -> 46298
A8: =Year!Q12 -> 46299 | C8: =Year!R12 -> 46300 | E8: =Year!S12 -> 46301 | G8: =Year!T12 -> 46302 | I8: =Year!U12 -> 46303 | K8: =Year!V12 -> 46304 | M8: =Year!W12 -> 46305
E9: Lesson Planning Cycle: Session 3
G10: SCHOOL IMP. DAY
G11: Testing
A13: =Year!Q13 -> 46306 | C13: =Year!R13 -> 46307 | E13: =Year!S13 -> 46308 | G13: =Year!T13 -> 46309 | I13: =Year!U13 -> 46310 | M13: =Year!W13 -> 46312
E14: Google AI Cycle:
C15: HOLIDAY - OFF | E15: Session 2
A18: =Year!Q14 -> 46313 | C18: =Year!R14 -> 46314 | E18: =Year!S14 -> 46315 | G18: =Year!T14 -> 46316 | I18: =Year!U14 -> 46317 | K18: =Year!V14 -> 46318 | M18: =Year!W14 -> 46319
A23: =Year!Q15 -> 46320 | C23: =Year!R15 -> 46321 | E23: =Year!S15 -> 46322 | G23: =Year!T15 -> 46323 | I23: =Year!U15 -> 46324 | K23: =Year!V15 -> 46325 | M23: =Year!W15 -> 46326
E24: Book Club Cycle:
E25: Session 2
A28: =Year!Q16 | C28: =Year!R16 | E28: Notes
F29: Coaching Calendar
M31: © 2009 Vertex42 LLC
C32: [42] | K32: =HYPERLINK("http://www.vertex42.com/","Templates by Vertex42.com") -> Templates by Vertex42.com

Sheet November
A1: =IF(Year!$Q$4="","",Year!$Q$4) -> EPCHS Professional Development Calendar 2026-2027 | H1: =Year!A18 -> 46327
A2: =August!A2:B2 -> Sunday | C2: =August!C2:D2 -> Monday | E2: =August!E2:F2 -> Tuesday | G2: =August!G2:H2 -> Wednesday | I2: =August!I2:J2 -> Thursday | K2: =August!K2:L2 -> Friday | M2: =August!M2:N2 -> Saturday
A3: =Year!A20 -> 46327 | C3: =Year!B20 -> 46328 | E3: =Year!C20 -> 46329 | G3: =Year!D20 -> 46330 | I3: =Year!E20 -> 46331 | K3: =Year!F20 -> 46332 | M3: =Year!G20 -> 46333
I4: Special Topic PD:
I5: P/T Conference Prep
A8: =Year!A21 -> 46334 | C8: =Year!B21 -> 46335 | E8: =Year!C21 -> 46336 | G8: =Year!D21 -> 46337 | I8: =Year!E21 -> 46338 | K8: =Year!F21 -> 46339 | M8: =Year!G21 -> 46340
E10: P-T Conferences | G10: HOLIDAY - OFF
A13: =Year!A22 -> 46341 | C13: =Year!B22 -> 46342 | E13: =Year!C22 -> 46343 | G13: =Year!D22 -> 46344 | I13: =Year!E22 -> 46345 | K13: =Year!F22 -> 46346 | M13: =Year!G22 -> 46347
E14: Google AI Cycle:
E15: Session 3
A18: =Year!A23 -> 46348 | C18: =Year!B23 -> 46349 | E18: =Year!C23 -> 46350 | G18: =Year!D23 -> 46351 | I18: =Year!E23 -> 46352 | K18: =Year!F23 -> 46353 | M18: =Year!G23 -> 46354
G20: THANKSGIVING BREAK
A23: =Year!A24 -> 46355 | C23: =Year!B24 -> 46356 | E23: =Year!C24 | G23: =Year!D24 | I23: =Year!E24 | M23: =Year!G24
A28: =Year!A25 | C28: =Year!B25 | E28: Notes
F29: Coaching Calendar
M31: © 2009 Vertex42 LLC
C32: [42] | K32: =HYPERLINK("http://www.vertex42.com/","Templates by Vertex42.com") -> Templates by Vertex42.com

Sheet December
A1: =IF(Year!$Q$4="","",Year!$Q$4) -> EPCHS Professional Development Calendar 2026-2027 | H1: =Year!I18 -> 46357
A2: =August!A2:B2 -> Sunday | C2: =August!C2:D2 -> Monday | E2: =August!E2:F2 -> Tuesday | G2: =August!G2:H2 -> Wednesday | I2: =August!I2:J2 -> Thursday | K2: =August!K2:L2 -> Friday | M2: =August!M2:N2 -> Saturday
A3: =Year!I20 | C3: =Year!J20 | E3: =Year!K20 -> 46357 | G3: =Year!L20 -> 46358 | I3: =Year!M20 -> 46359 | K3: =Year!N20 -> 46360 | M3: =Year!O20 -> 46361
A8: =Year!I21 -> 46362 | C8: =Year!J21 -> 46363 | E8: =Year!K21 -> 46364 | G8: =Year!L21 -> 46365 | I8: =Year!M21 -> 46366 | K8: =Year!N21 -> 46367 | M8: =Year!O21 -> 46368
A13: =Year!I22 -> 46369 | C13: =Year!J22 -> 46370 | E13: =Year!K22 -> 46371 | G13: 15 | I13: =Year!M22 -> 46373 | K13: =Year!N22 -> 46374 | M13: =Year!O22 -> 46375
E14: Book Club Cycle:
E15: Session 3
A18: =Year!I23 -> 46376 | C18: =Year!J23 -> 46377 | E18: =Year!K23 -> 46378 | G18: =Year!L23 -> 46379 | I18: =Year!M23 -> 46380 | K18: =Year!N23 -> 46381 | M18: =Year!O23 -> 46382
G20: Winter Break
C21: Final Schedule | E21: Final Schedule
A23: =Year!I24 -> 46383 | C23: =Year!J24 -> 46384 | E23: =Year!K24 -> 46385 | G23: =Year!L24 -> 46386 | I23: =Year!M24 -> 46387 | K23: =Year!N24 | M23: =Year!O24
C25: Winter Break
A28: =Year!I25 | C28: =Year!J25 | E28: Notes
F29: Coaching Calendar
M31: © 2009 Vertex42 LLC
C32: [42] | K32: =HYPERLINK("http://www.vertex42.com/","Templates by Vertex42.com") -> Templates by Vertex42.com

Sheet January
A1: =IF(Year!$Q$4="","",Year!$Q$4) -> EPCHS Professional Development Calendar 2026-2027 | H1: =Year!Q18 -> 46388
A2: =August!A2:B2 -> Sunday | C2: =August!C2:D2 -> Monday | E2: =August!E2:F2 -> Tuesday | G2: =August!G2:H2 -> Wednesday | I2: =August!I2:J2 -> Thursday | K2: =August!K2:L2 -> Friday | M2: =August!M2:N2 -> Saturday
A3: =Year!Q20 | C3: =Year!R20 | E3: =Year!S20 | G3: =Year!T20 | I3: =Year!U20 | K3: =Year!V20 -> 46388 | M3: =Year!W20 -> 46389
C5: Winter Break
A8: =Year!Q21 -> 46390 | C8: =Year!R21 -> 46391 | E8: =Year!S21 -> 46392 | G8: =Year!T21 -> 46393 | I8: =Year!U21 -> 46394 | K8: =Year!V21 -> 46395 | M8: =Year!W21 -> 46396
C10: Winter Break | G10: Institute Day
A13: =Year!Q22 -> 46397 | C13: =Year!R22 -> 46398 | E13: =Year!S22 -> 46399 | G13: =Year!T22 -> 46400 | I13: =Year!U22 -> 46401 | K13: =Year!V22 -> 46402 | M13: =Year!W22 -> 46403
E14: Classroom Management Cycle:
E15: Session 1
A18: =Year!Q23 -> 46404 | C18: =Year!R23 -> 46405 | E18: =Year!S23 -> 46406 | G18: =Year!T23 -> 46407 | I18: =Year!U23 -> 46408 | K18: =Year!V23 -> 46409 | M18: =Year!W23 -> 46410
C20: HOLIDAY - OFF
A23: =Year!Q24 -> 46411 | C23: =Year!R24 -> 46412 | E23: =Year!S24 -> 46413 | G23: =Year!T24 -> 46414 | I23: =Year!U24 -> 46415 | K23: =Year!V24 -> 46416 | M23: =Year!W24 -> 46417
I24: Special Topic PD:
I25: TBD
A28: =Year!Q25 -> 46418 | C28: =Year!R25 | E28: Notes
F29: Coaching Calendar
M31: © 2009 Vertex42 LLC
K32: =HYPERLINK("http://www.vertex42.com/","Templates by Vertex42.com") -> Templates by Vertex42.com

Sheet February
A1: =IF(Year!$Q$4="","",Year!$Q$4) -> EPCHS Professional Development Calendar 2026-2027 | H1: =Year!A27 -> 46419
A2: =August!A2:B2 -> Sunday | C2: =August!C2:D2 -> Monday | E2: =August!E2:F2 -> Tuesday | G2: =August!G2:H2 -> Wednesday | I2: =August!I2:J2 -> Thursday | K2: =August!K2:L2 -> Friday | M2: =August!M2:N2 -> Saturday
A3: =Year!A29 | C3: =Year!B29 -> 46419 | E3: =Year!C29 -> 46420 | G3: =Year!D29 -> 46421 | I3: =Year!E29 -> 46422 | K3: =Year!F29 -> 46423 | M3: =Year!G29 -> 46424
E4: Classroom Management Cycle:
E5: Session 2 | K5: SCHOOL IMP. DAY
A8: =Year!A30 -> 46425 | C8: =Year!B30 -> 46426 | E8: =Year!C30 -> 46427 | G8: =Year!D30 -> 46428 | I8: =Year!E30 -> 46429 | K8: =Year!F30 -> 46430 | M8: =Year!G30 -> 46431
E9: Classroom Discussion Cycle:
E10: Session 1
A13: =Year!A31 -> 46432 | C13: =Year!B31 -> 46433 | E13: =Year!C31 -> 46434 | G13: =Year!D31 -> 46435 | I13: =Year!E31 -> 46436 | K13: =Year!F31 -> 46437 | M13: =Year!G31 -> 46438
I14: Special Topic PD:
C15: HOLIDAY - OFF | I15: TBD
A18: =Year!A32 -> 46439 | C18: =Year!B32 -> 46440 | E18: =Year!C32 -> 46441 | G18: =Year!D32 -> 46442 | I18: =Year!E32 -> 46443 | K18: =Year!F32 -> 46444 | M18: =Year!G32 -> 46445
E19: Classroom Discussion Cycle:
E20: Session 2
A23: =Year!A33 -> 46446 | C23: =Year!B33 | E23: =Year!C33 | G23: =Year!D33 | I23: =Year!E33 | K23: =Year!F33 | M23: =Year!G33
A28: =Year!A34 | C28: =Year!B34 | E28: Notes
F30: Coaching Calendar
M31: © 2009 Vertex42 LLC
C32: [42] | K32: =HYPERLINK("http://www.vertex42.com/","Templates by Vertex42.com") -> Templates by Vertex42.com

Sheet March
A1: =IF(Year!$Q$4="","",Year!$Q$4) -> EPCHS Professional Development Calendar 2026-2027 | H1: =Year!I27 -> 46447
A2: =August!A2:B2 -> Sunday | C2: =August!C2:D2 -> Monday | E2: =August!E2:F2 -> Tuesday | G2: =August!G2:H2 -> Wednesday | I2: =August!I2:J2 -> Thursday | K2: =August!K2:L2 -> Friday | M2: =August!M2:N2 -> Saturday
A3: =Year!I29 | C3: =Year!J29 -> 46447 | E3: =Year!K29 -> 46448 | G3: =Year!L29 -> 46449 | I3: =Year!M29 -> 46450 | K3: =Year!N29 -> 46451 | M3: =Year!O29 -> 46452
E4: Classroom Management Cycle:
C5: HOLIDAY - OFF | E5: Session 3
A8: =Year!I30 -> 46453 | C8: =Year!J30 -> 46454 | E8: =Year!K30 -> 46455 | G8: =Year!L30 -> 46456 | I8: =Year!M30 -> 46457 | K8: =Year!N30 -> 46458 | M8: =Year!O30 -> 46459
I10: P-T Conferences | K10: SCHOOL IMP. DAY
A13: =Year!I31 -> 46460 | C13: =Year!J31 -> 46461 | E13: =Year!K31 -> 46462 | G13: =Year!L31 -> 46463 | I13: =Year!M31 -> 46464 | K13: =Year!N31 -> 46465 | M13: =Year!O31 -> 46466
E14: Classroom Discussion Cycle:
E15: Session 3 | K15: SCHOOL IMP. DAY
A18: =Year!I32 -> 46467 | C18: =Year!J32 -> 46468 | E18: =Year!K32 -> 46469 | G18: =Year!L32 -> 46470 | I18: =Year!M32 -> 46471 | K18: =Year!N32 -> 46472 | M18: =Year!O32 -> 46473
K20: HOLIDAY - OFF
A23: =Year!I33 -> 46474 | C23: =Year!J33 -> 46475 | E23: =Year!K33 -> 46476 | G23: =Year!L33 -> 46477 | I23: =Year!M33 | K23: =Year!N33 | M23: =Year!O33
C25: SPRING BREAK
A28: =Year!I34 | C28: =Year!J34 | E28: Notes
F30: Coaching Calendar
M31: © 2009 Vertex42 LLC
C32: [42] | K32: =HYPERLINK("http://www.vertex42.com/","Templates by Vertex42.com") -> Templates by Vertex42.com

Sheet April
A1: =IF(Year!$Q$4="","",Year!$Q$4) -> EPCHS Professional Development Calendar 2026-2027 | H1: =Year!Q27 -> 46478
A2: =August!A2:B2 -> Sunday | C2: =August!C2:D2 -> Monday | E2: =August!E2:F2 -> Tuesday | G2: =August!G2:H2 -> Wednesday | I2: =August!I2:J2 -> Thursday | K2: =August!K2:L2 -> Friday | M2: =August!M2:N2 -> Saturday
A3: =Year!Q29 | C3: =Year!R29 | E3: =Year!S29 | G3: =Year!T29 | I3: =Year!U29 -> 46478 | K3: =Year!V29 -> 46479 | M3: =Year!W29 -> 46480
C5: SPRING BREAK
A8: =Year!Q30 -> 46481 | C8: =Year!R30 -> 46482 | E8: =Year!S30 -> 46483 | G8: =Year!T30 -> 46484 | I8: =Year!U30 -> 46485 | K8: =Year!V30 -> 46486 | M8: =Year!W30 -> 46487
E9: Grading & Assessment Cycle:
E10: Session 1
A13: =Year!Q31 -> 46488 | C13: =Year!R31 -> 46489 | E13: =Year!S31 -> 46490 | G13: =Year!T31 -> 46491 | I13: =Year!U31 -> 46492 | K13: =Year!V31 -> 46493 | M13: =Year!W31 -> 46494
G15: SCHOOL IMP. DAY
G16: Testing
A18: =Year!Q32 -> 46495 | C18: =Year!R32 -> 46496 | E18: =Year!S32 -> 46497 | G18: =Year!T32 -> 46498 | I18: =Year!U32 -> 46499 | K18: =Year!V32 -> 46500 | M18: =Year!W32 -> 46501
E19: Grading & Assessment Cycle:
E20: Session 2
A23: =Year!Q33 -> 46502 | C23: =Year!R33 -> 46503 | E23: =Year!S33 -> 46504 | G23: =Year!T33 -> 46505 | I23: =Year!U33 -> 46506 | K23: =Year!V33 -> 46507 | M23: =Year!W33
I24: Special Topic PD:
I25: TBD
A28: =Year!Q34 | C28: =Year!R34 | E28: Notes
F29: Coaching Calendar
M31: © 2009 Vertex42 LLC
C32: [42] | K32: =HYPERLINK("http://www.vertex42.com/","Templates by Vertex42.com") -> Templates by Vertex42.com

Sheet May
A1: =IF(Year!$Q$4="","",Year!$Q$4) -> EPCHS Professional Development Calendar 2026-2027 | H1: =Year!A36 -> 46508
A2: =August!A2:B2 -> Sunday | C2: =August!C2:D2 -> Monday | E2: =August!E2:F2 -> Tuesday | G2: =August!G2:H2 -> Wednesday | I2: =August!I2:J2 -> Thursday | K2: =August!K2:L2 -> Friday | M2: =August!M2:N2 -> Saturday
A3: =Year!A38 | C3: =Year!B38 | E3: =Year!C38 | G3: =Year!D38 | I3: =Year!E38 | K3: =Year!F38 | M3: =Year!G38 -> 46508
A8: =Year!A39 -> 46509 | C8: =Year!B39 -> 46510 | E8: =Year!C39 -> 46511 | G8: =Year!D39 -> 46512 | I8: =Year!E39 -> 46513 | K8: =Year!F39 -> 46514 | M8: =Year!G39 -> 46515
E9: Grading & Assessment Cycle:
E10: Session 3
A13: =Year!A40 -> 46516 | C13: =Year!B40 -> 46517 | E13: =Year!C40 -> 46518 | G13: =Year!D40 -> 46519 | I13: =Year!E40 -> 46520 | K13: =Year!F40 -> 46521 | M13: =Year!G40 -> 46522
A18: =Year!A41 -> 46523 | C18: =Year!B41 -> 46524 | E18: =Year!C41 -> 46525 | G18: =Year!D41 -> 46526 | I18: =Year!E41 -> 46527 | K18: =Year!F41 -> 46528 | M18: =Year!G41 -> 46529
I21: Final Schedule | K21: Final Schedule
A23: =Year!A42 -> 46530 | C23: =Year!B42 -> 46531 | E23: =Year!C42 -> 46532 | G23: =Year!D42 -> 46533 | I23: =Year!E42 -> 46534 | K23: =Year!F42 -> 46535 | M23: =Year!G42 -> 46536
C25: INSTITUTE DAY
A28: =Year!A43 -> 46537 | C28: =Year!B43 -> 46538 | E28: Notes
F30: Coaching Calendar
M31: © 2009 Vertex42 LLC
C32: [42] | K32: =HYPERLINK("http://www.vertex42.com/","Templates by Vertex42.com") -> Templates by Vertex42.com

Sheet June
A1: =IF(Year!$Q$4="","",Year!$Q$4) -> EPCHS Professional Development Calendar 2026-2027 | H1: =Year!I36 -> 46539
A2: =August!A2:B2 -> Sunday | C2: =August!C2:D2 -> Monday | E2: =August!E2:F2 -> Tuesday | G2: =August!G2:H2 -> Wednesday | I2: =August!I2:J2 -> Thursday | K2: =August!K2:L2 -> Friday | M2: =August!M2:N2 -> Saturday
A3: =Year!I38 | C3: =Year!J38 | E3: =Year!K38 -> 46539 | G3: =Year!L38 -> 46540 | I3: =Year!M38 -> 46541 | K3: =Year!N38 -> 46542 | M3: =Year!O38 -> 46543
A8: =Year!I39 -> 46544 | C8: =Year!J39 -> 46545 | E8: =Year!K39 -> 46546 | G8: =Year!L39 -> 46547 | I8: =Year!M39 -> 46548 | K8: =Year!N39 -> 46549 | M8: =Year!O39 -> 46550
A13: =Year!I40 -> 46551 | C13: =Year!J40 -> 46552 | E13: =Year!K40 -> 46553 | G13: =Year!L40 -> 46554 | I13: =Year!M40 -> 46555 | K13: =Year!N40 -> 46556 | M13: =Year!O40 -> 46557
A18: =Year!I41 -> 46558 | C18: =Year!J41 -> 46559 | E18: =Year!K41 -> 46560 | G18: =Year!L41 -> 46561 | I18: =Year!M41 -> 46562 | K18: =Year!N41 -> 46563 | M18: =Year!O41 -> 46564
G20: HOLIDAY - OFF
A23: =Year!I42 -> 46565 | C23: =Year!J42 -> 46566 | E23: =Year!K42 -> 46567 | G23: =Year!L42 -> 46568 | I23: =Year!M42 | K23: =Year!N42 | M23: =Year!O42
C25: ISTE | E25: ISTE
A28: =Year!I43 | C28: =Year!J43 | E28: Notes
M31: © 2009 Vertex42 LLC
C32: [42] | K32: =HYPERLINK("http://www.vertex42.com/","Templates by Vertex42.com") -> Templates by Vertex42.com

Sheet 12
A1: =IF(Year!$Q$4="","",Year!$Q$4) -> EPCHS Professional Development Calendar 2026-2027 | I1: =Year!Q36 -> 46569
A2: =August!A2:B2 -> Sunday | C2: =August!C2:D2 -> Monday | E2: =August!E2:F2 -> Tuesday | G2: =August!G2:H2 -> Wednesday | I2: =August!I2:J2 -> Thursday | K2: =August!K2:L2 -> Friday | M2: =August!M2:N2 -> Saturday
A3: =Year!Q38 | C3: =Year!R38 | E3: =Year!S38 | G3: =Year!T38 | I3: =Year!U38 -> 46569 | K3: =Year!V38 -> 46570 | M3: =Year!W38 -> 46571
A8: =Year!Q39 -> 46572 | C8: =Year!R39 -> 46573 | E8: =Year!S39 -> 46574 | G8: =Year!T39 -> 46575 | I8: =Year!U39 -> 46576 | K8: =Year!V39 -> 46577 | M8: =Year!W39 -> 46578
A13: =Year!Q40 -> 46579 | C13: =Year!R40 -> 46580 | E13: =Year!S40 -> 46581 | G13: =Year!T40 -> 46582 | I13: =Year!U40 -> 46583 | K13: =Year!V40 -> 46584 | M13: =Year!W40 -> 46585
A18: =Year!Q41 -> 46586 | C18: =Year!R41 -> 46587 | E18: =Year!S41 -> 46588 | G18: =Year!T41 -> 46589 | I18: =Year!U41 -> 46590 | K18: =Year!V41 -> 46591 | M18: =Year!W41 -> 46592
A23: =Year!Q42 -> 46593 | C23: =Year!R42 -> 46594 | E23: =Year!S42 -> 46595 | G23: =Year!T42 -> 46596 | I23: =Year!U42 -> 46597 | K23: =Year!V42 -> 46598 | M23: =Year!W42 -> 46599
A28: =Year!Q43 | C28: =Year!R43 | E28: Notes
M31: © 2009 Vertex42 LLC
C32: [42] | K32: =HYPERLINK("http://www.vertex42.com/","Templates by Vertex42.com") -> Templates by Vertex42.com

Sheet Year
A1: Perpetual Calendar Template
A2: =HYPERLINK("http://www.vertex42.com/","Templates by Vertex42.com") -> Templates by Vertex42.com | Z2: © 2009 Vertex42 LLC
A3: Year | E3: Month | I3: Start Day | Q3: Calendar Title
A4: 2026 | E4: 8 | I4: 1 | L4: 1:Sun, 2:Mon | Q4: EPCHS Professional Development Calendar 2026-2027
A5: Please do not resubmit this template or any modified version of this template to the Google Docs template gallery.
A6: =IF(Q4="","",Q4) -> EPCHS Professional Development Calendar 2026-2027
A7: =IF($E$4=1,A4,A4&"-"&A4+1) -> 2026-2027
Z8: =HYPERLINK("http://www.vertex42.com/calendars/","Calendars by Vertex42.com") -> Calendars by Vertex42.com
A9: =DATE($A$4,$E$4,1) -> 46235 | I9: =DATE(YEAR(A9),MONTH(A9)+1,1) -> 46266 | Q9: =DATE(YEAR(I9),MONTH(I9)+1,1) -> 46296 | Y9: Date | Z9: Event
A10: {=INDEX({"Su";"M";"Tu";"W";"Th";"F";"Sa"},1+MOD($I$4+1-2,7))} -> Su | B10: {=INDEX({"Su";"M";"Tu";"W";"Th";"F";"Sa"},1+MOD($I$4+2-2,7))} -> M | C10: {=INDEX({"Su";"M";"Tu";"W";"Th";"F";"Sa"},1+MOD($I$4+3-2,7))} -> Tu | D10: {=INDEX({"Su";"M";"Tu";"W";"Th";"F";"Sa"},1+MOD($I$4+4-2,7))} -> W | E10: {=INDEX({"Su";"M";"Tu";"W";"Th";"F";"Sa"},1+MOD($I$4+5-2,7))} -> Th | F10: {=INDEX({"Su";"M";"Tu";"W";"Th";"F";"Sa"},1+MOD($I$4+6-2,7))} -> F | G10: {=INDEX({"Su";"M";"Tu";"W";"Th";"F";"Sa"},1+MOD($I$4+7-2,7))} -> Sa | I10: =$A$10 -> Su | J10: =$B$10 -> M | K10: =$C$10 -> Tu | L10: =$D$10 -> W | M10: =$E$10 -> Th | N10: =$F$10 -> F | O10: =$G$10 -> Sa | Q10: =$A$10 -> Su | R10: =$B$10 -> M | S10: =$C$10 -> Tu | T10: =$D$10 -> W | U10: =$E$10 -> Th | V10: =$F$10 -> F | W10: =$G$10 -> Sa
A11: =IF(MONTH($A$9)<>MONTH($A$9-(WEEKDAY($A$9,1)-($I$4-1))-IF((WEEKDAY($A$9,1)-($I$4-1))<=0,7,0)+(ROW(A11)-ROW($A$11))*7+(COLUMN(A11)-COLUMN($A$11)+1)),"",$A$9-(WEEKDAY($A$9,1)-($I$4-1))-IF((WEEKDAY($A$9,1)-($I$4-1))<=0,7,0)+(ROW(A11)-ROW($A$11))*7+(COLUMN(A11)-COLUMN($A$11)+1)) | B11: =IF(MONTH($A$9)<>MONTH($A$9-(WEEKDAY($A$9,1)-($I$4-1))-IF((WEEKDAY($A$9,1)-($I$4-1))<=0,7,0)+(ROW(B11)-ROW($A$11))*7+(COLUMN(B11)-COLUMN($A$11)+1)),"",$A$9-(WEEKDAY($A$9,1)-($I$4-1))-IF((WEEKDAY($A$9,1)-($I$4-1))<=0,7,0)+(ROW(B11)-ROW($A$11))*7+(COLUMN(B11)-COLUMN($A$11)+1)) | C11: =IF(MONTH($A$9)<>MONTH($A$9-(WEEKDAY($A$9,1)-($I$4-1))-IF((WEEKDAY($A$9,1)-($I$4-1))<=0,7,0)+(ROW(C11)-ROW($A$11))*7+(COLUMN(C11)-COLUMN($A$11)+1)),"",$A$9-(WEEKDAY($A$9,1)-($I$4-1))-IF((WEEKDAY($A$9,1)-($I$4-1))<=0,7,0)+(ROW(C11)-ROW($A$11))*7+(COLUMN(C11)-COLUMN($A$11)+1)) | D11: =IF(MONTH($A$9)<>MONTH($A$9-(WEEKDAY($A$9,1)-($I$4-1))-IF((WEEKDAY($A$9,1)-($I$4-1))<=0,7,0)+(ROW(D11)-ROW($A$11))*7+(COLUMN(D11)-COLUMN($A$11)+1)),"",$A$9-(WEEKDAY($A$9,1)-($I$4-1))-IF((WEEKDAY($A$9,1)-($I$4-1))<=0,7,0)+(ROW(D11)-ROW($A$11))*7+(COLUMN(D11)-COLUMN($A$11)+1)) | E11: =IF(MONTH($A$9)<>MONTH($A$9-(WEEKDAY($A$9,1)-($I$4-1))-IF((WEEKDAY($A$9,1)-($I$4-1))<=0,7,0)+(ROW(E11)-ROW($A$11))*7+(COLUMN(E11)-COLUMN($A$11)+1)),"",$A$9-(WEEKDAY($A$9,1)-($I$4-1))-IF((WEEKDAY($A$9,1)-($I$4-1))<=0,7,0)+(ROW(E11)-ROW($A$11))*7+(COLUMN(E11)-COLUMN($A$11)+1)) | F11: =IF(MONTH($A$9)<>MONTH($A$9-(WEEKDAY($A$9,1)-($I$4-1))-IF((WEEKDAY($A$9,1)-($I$4-1))<=0,7,0)+(ROW(F11)-ROW($A$11))*7+(COLUMN(F11)-COLUMN($A$11)+1)),"",$A$9-(WEEKDAY($A$9,1)-($I$4-1))-IF((WEEKDAY($A$9,1)-($I$4-1))<=0,7,0)+(ROW(F11)-ROW($A$11))*7+(COLUMN(F11)-COLUMN($A$11)+1)) | G11: =IF(MONTH($A$9)<>MONTH($A$9-(WEEKDAY($A$9,1)-($I$4-1))-IF((WEEKDAY($A$9,1)-($I$4-1))<=0,7,0)+(ROW(G11)-ROW($A$11))*7+(COLUMN(G11)-COLUMN($A$11)+1)),"",$A$9-(WEEKDAY($A$9,1)-($I$4-1))-IF((WEEKDAY($A$9,1)-($I$4-1))<=0,7,0)+(ROW(G11)-ROW($A$11))*7+(COLUMN(G11)-COLUMN($A$11)+1)) -> 46235 | I11: =IF(MONTH($I$9)<>MONTH($I$9-(WEEKDAY($I$9,1)-($I$4-1))-IF((WEEKDAY($I$9,1)-($I$4-1))<=0,7,0)+(ROW(I11)-ROW($I$11))*7+(COLUMN(I11)-COLUMN($I$11)+1)),"",$I$9-(WEEKDAY($I$9,1)-($I$4-1))-IF((WEEKDAY($I$9,1)-($I$4-1))<=0,7,0)+(ROW(I11)-ROW($I$11))*7+(COLUMN(I11)-COLUMN($I$11)+1)) | J11: =IF(MONTH($I$9)<>MONTH($I$9-(WEEKDAY($I$9,1)-($I$4-1))-IF((WEEKDAY($I$9,1)-($I$4-1))<=0,7,0)+(ROW(J11)-ROW($I$11))*7+(COLUMN(J11)-COLUMN($I$11)+1)),"",$I$9-(WEEKDAY($I$9,1)-($I$4-1))-IF((WEEKDAY($I$9,1)-($I$4-1))<=0,7,0)+(ROW(J11)-ROW($I$11))*7+(COLUMN(J11)-COLUMN($I$11)+1)) | K11: =IF(MONTH($I$9)<>MONTH($I$9-(WEEKDAY($I$9,1)-($I$4-1))-IF((WEEKDAY($I$9,1)-($I$4-1))<=0,7,0)+(ROW(K11)-ROW($I$11))*7+(COLUMN(K11)-COLUMN($I$11)+1)),"",$I$9-(WEEKDAY($I$9,1)-($I$4-1))-IF((WEEKDAY($I$9,1)-($I$4-1))<=0,7,0)+(ROW(K11)-ROW($I$11))*7+(COLUMN(K11)-COLUMN($I$11)+1)) -> 46266 | L11: =IF(MONTH($I$9)<>MONTH($I$9-(WEEKDAY($I$9,1)-($I$4-1))-IF((WEEKDAY($I$9,1)-($I$4-1))<=0,7,0)+(ROW(L11)-ROW($I$11))*7+(COLUMN(L11)-COLUMN($I$11)+1)),"",$I$9-(WEEKDAY($I$9,1)-($I$4-1))-IF((WEEKDAY($I$9,1)-($I$4-1))<=0,7,0)+(ROW(L11)-ROW($I$11))*7+(COLUMN(L11)-COLUMN($I$11)+1)) -> 46267 | M11: =IF(MONTH($I$9)<>MONTH($I$9-(WEEKDAY($I$9,1)-($I$4-1))-IF((WEEKDAY($I$9,1)-($I$4-1))<=0,7,0)+(ROW(M11)-ROW($I$11))*7+(COLUMN(M11)-COLUMN($I$11)+1)),"",$I$9-(WEEKDAY($I$9,1)-($I$4-1))-IF((WEEKDAY($I$9,1)-($I$4-1))<=0,7,0)+(ROW(M11)-ROW($I$11))*7+(COLUMN(M11)-COLUMN($I$11)+1)) -> 46268 | N11: =IF(MONTH($I$9)<>MONTH($I$9-(WEEKDAY($I$9,1)-($I$4-1))-IF((WEEKDAY($I$9,1)-($I$4-1))<=0,7,0)+(ROW(N11)-ROW($I$11))*7+(COLUMN(N11)-COLUMN($I$11)+1)),"",$I$9-(WEEKDAY($I$9,1)-($I$4-1))-IF((WEEKDAY($I$9,1)-($I$4-1))<=0,7,0)+(ROW(N11)-ROW($I$11))*7+(COLUMN(N11)-COLUMN($I$11)+1)) -> 46269 | O11: =IF(MONTH($I$9)<>MONTH($I$9-(WEEKDAY($I$9,1)-($I$4-1))-IF((WEEKDAY($I$9,1)-($I$4-1))<=0,7,0)+(ROW(O11)-ROW($I$11))*7+(COLUMN(O11)-COLUMN($I$11)+1)),"",$I$9-(WEEKDAY($I$9,1)-($I$4-1))-IF((WEEKDAY($I$9,1)-($I$4-1))<=0,7,0)+(ROW(O11)-ROW($I$11))*7+(COLUMN(O11)-COLUMN($I$11)+1)) -> 46270 | Q11: =IF(MONTH($Q$9)<>MONTH($Q$9-(WEEKDAY($Q$9,1)-($I$4-1))-IF((WEEKDAY($Q$9,1)-($I$4-1))<=0,7,0)+(ROW(Q11)-ROW($Q$11))*7+(COLUMN(Q11)-COLUMN($Q$11)+1)),"",$Q$9-(WEEKDAY($Q$9,1)-($I$4-1))-IF((WEEKDAY($Q$9,1)-($I$4-1))<=0,7,0)+(ROW(Q11)-ROW($Q$11))*7+(COLUMN(Q11)-COLUMN($Q$11)+1)) | R11: =IF(MONTH($Q$9)<>MONTH($Q$9-(WEEKDAY($Q$9,1)-($I$4-1))-IF((WEEKDAY($Q$9,1)-($I$4-1))<=0,7,0)+(ROW(R11)-ROW($Q$11))*7+(COLUMN(R11)-COLUMN($Q$11)+1)),"",$Q$9-(WEEKDAY($Q$9,1)-($I$4-1))-IF((WEEKDAY($Q$9,1)-($I$4-1))<=0,7,0)+(ROW(R11)-ROW($Q$11))*7+(COLUMN(R11)-COLUMN($Q$11)+1)) | S11: =IF(MONTH($Q$9)<>MONTH($Q$9-(WEEKDAY($Q$9,1)-($I$4-1))-IF((WEEKDAY($Q$9,1)-($I$4-1))<=0,7,0)+(ROW(S11)-ROW($Q$11))*7+(COLUMN(S11)-COLUMN($Q$11)+1)),"",$Q$9-(WEEKDAY($Q$9,1)-($I$4-1))-IF((WEEKDAY($Q$9,1)-($I$4-1))<=0,7,0)+(ROW(S11)-ROW($Q$11))*7+(COLUMN(S11)-COLUMN($Q$11)+1)) | T11: =IF(MONTH($Q$9)<>MONTH($Q$9-(WEEKDAY($Q$9,1)-($I$4-1))-IF((WEEKDAY($Q$9,1)-($I$4-1))<=0,7,0)+(ROW(T11)-ROW($Q$11))*7+(COLUMN(T11)-COLUMN($Q$11)+1)),"",$Q$9-(WEEKDAY($Q$9,1)-($I$4-1))-IF((WEEKDAY($Q$9,1)-($I$4-1))<=0,7,0)+(ROW(T11)-ROW($Q$11))*7+(COLUMN(T11)-COLUMN($Q$11)+1)) | U11: =IF(MONTH($Q$9)<>MONTH($Q$9-(WEEKDAY($Q$9,1)-($I$4-1))-IF((WEEKDAY($Q$9,1)-($I$4-1))<=0,7,0)+(ROW(U11)-ROW($Q$11))*7+(COLUMN(U11)-COLUMN($Q$11)+1)),"",$Q$9-(WEEKDAY($Q$9,1)-($I$4-1))-IF((WEEKDAY($Q$9,1)-($I$4-1))<=0,7,0)+(ROW(U11)-ROW($Q$11))*7+(COLUMN(U11)-COLUMN($Q$11)+1)) -> 46296 | V11: =IF(MONTH($Q$9)<>MONTH($Q$9-(WEEKDAY($Q$9,1)-($I$4-1))-IF((WEEKDAY($Q$9,1)-($I$4-1))<=0,7,0)+(ROW(V11)-ROW($Q$11))*7+(COLUMN(V11)-COLUMN($Q$11)+1)),"",$Q$9-(WEEKDAY($Q$9,1)-($I$4-1))-IF((WEEKDAY($Q$9,1)-($I$4-1))<=0,7,0)+(ROW(V11)-ROW($Q$11))*7+(COLUMN(V11)-COLUMN($Q$11)+1)) -> 46297 | W11: =IF(MONTH($Q$9)<>MONTH($Q$9-(WEEKDAY($Q$9,1)-($I$4-1))-IF((WEEKDAY($Q$9,1)-($I$4-1))<=0,7,0)+(ROW(W11)-ROW($Q$11))*7+(COLUMN(W11)-COLUMN($Q$11)+1)),"",$Q$9-(WEEKDAY($Q$9,1)-($I$4-1))-IF((WEEKDAY($Q$9,1)-($I$4-1))<=0,7,0)+(ROW(W11)-ROW($Q$11))*7+(COLUMN(W11)-COLUMN($Q$11)+1)) -> 46298 | Y11: =IF(WEEKDAY(DATE($A$4+IF($E$4>4,1,0),4,15),1)=1,DATE($A$4+IF($E$4>4,1,0),4,15)+1,IF(WEEKDAY(DATE($A$4+IF($E$4>4,1,0),4,15),1)=7,DATE($A$4+IF($E$4>4,1,0),4,15)+2,DATE($A$4+IF($E$4>4,1,0),4,15))) -> 46492 | Z11: Taxes Due
A12: =IF(MONTH($A$9)<>MONTH($A$9-(WEEKDAY($A$9,1)-($I$4-1))-IF((WEEKDAY($A$9,1)-($I$4-1))<=0,7,0)+(ROW(A12)-ROW($A$11))*7+(COLUMN(A12)-COLUMN($A$11)+1)),"",$A$9-(WEEKDAY($A$9,1)-($I$4-1))-IF((WEEKDAY($A$9,1)-($I$4-1))<=0,7,0)+(ROW(A12)-ROW($A$11))*7+(COLUMN(A12)-COLUMN($A$11)+1)) -> 46236 | B12: =IF(MONTH($A$9)<>MONTH($A$9-(WEEKDAY($A$9,1)-($I$4-1))-IF((WEEKDAY($A$9,1)-($I$4-1))<=0,7,0)+(ROW(B12)-ROW($A$11))*7+(COLUMN(B12)-COLUMN($A$11)+1)),"",$A$9-(WEEKDAY($A$9,1)-($I$4-1))-IF((WEEKDAY($A$9,1)-($I$4-1))<=0,7,0)+(ROW(B12)-ROW($A$11))*7+(COLUMN(B12)-COLUMN($A$11)+1)) -> 46237 | C12: =IF(MONTH($A$9)<>MONTH($A$9-(WEEKDAY($A$9,1)-($I$4-1))-IF((WEEKDAY($A$9,1)-($I$4-1))<=0,7,0)+(ROW(C12)-ROW($A$11))*7+(COLUMN(C12)-COLUMN($A$11)+1)),"",$A$9-(WEEKDAY($A$9,1)-($I$4-1))-IF((WEEKDAY($A$9,1)-($I$4-1))<=0,7,0)+(ROW(C12)-ROW($A$11))*7+(COLUMN(C12)-COLUMN($A$11)+1)) -> 46238 | D12: =IF(MONTH($A$9)<>MONTH($A$9-(WEEKDAY($A$9,1)-($I$4-1))-IF((WEEKDAY($A$9,1)-($I$4-1))<=0,7,0)+(ROW(D12)-ROW($A$11))*7+(COLUMN(D12)-COLUMN($A$11)+1)),"",$A$9-(WEEKDAY($A$9,1)-($I$4-1))-IF((WEEKDAY($A$9,1)-($I$4-1))<=0,7,0)+(ROW(D12)-ROW($A$11))*7+(COLUMN(D12)-COLUMN($A$11)+1)) -> 46239 | E12: =IF(MONTH($A$9)<>MONTH($A$9-(WEEKDAY($A$9,1)-($I$4-1))-IF((WEEKDAY($A$9,1)-($I$4-1))<=0,7,0)+(ROW(E12)-ROW($A$11))*7+(COLUMN(E12)-COLUMN($A$11)+1)),"",$A$9-(WEEKDAY($A$9,1)-($I$4-1))-IF((WEEKDAY($A$9,1)-($I$4-1))<=0,7,0)+(ROW(E12)-ROW($A$11))*7+(COLUMN(E12)-COLUMN($A$11)+1)) -> 46240 | F12: =IF(MONTH($A$9)<>MONTH($A$9-(WEEKDAY($A$9,1)-($I$4-1))-IF((WEEKDAY($A$9,1)-($I$4-1))<=0,7,0)+(ROW(F12)-ROW($A$11))*7+(COLUMN(F12)-COLUMN($A$11)+1)),"",$A$9-(WEEKDAY($A$9,1)-($I$4-1))-IF((WEEKDAY($A$9,1)-($I$4-1))<=0,7,0)+(ROW(F12)-ROW($A$11))*7+(COLUMN(F12)-COLUMN($A$11)+1)) -> 46241 | G12: =IF(MONTH($A$9)<>MONTH($A$9-(WEEKDAY($A$9,1)-($I$4-1))-IF((WEEKDAY($A$9,1)-($I$4-1))<=0,7,0)+(ROW(G12)-ROW($A$11))*7+(COLUMN(G12)-COLUMN($A$11)+1)),"",$A$9-(WEEKDAY($A$9,1)-($I$4-1))-IF((WEEKDAY($A$9,1)-($I$4-1))<=0,7,0)+(ROW(G12)-ROW($A$11))*7+(COLUMN(G12)-COLUMN($A$11)+1)) -> 46242 | I12: =IF(MONTH($I$9)<>MONTH($I$9-(WEEKDAY($I$9,1)-($I$4-1))-IF((WEEKDAY($I$9,1)-($I$4-1))<=0,7,0)+(ROW(I12)-ROW($I$11))*7+(COLUMN(I12)-COLUMN($I$11)+1)),"",$I$9-(WEEKDAY($I$9,1)-($I$4-1))-IF((WEEKDAY($I$9,1)-($I$4-1))<=0,7,0)+(ROW(I12)-ROW($I$11))*7+(COLUMN(I12)-COLUMN($I$11)+1)) -> 46271 | J12: =IF(MONTH($I$9)<>MONTH($I$9-(WEEKDAY($I$9,1)-($I$4-1))-IF((WEEKDAY($I$9,1)-($I$4-1))<=0,7,0)+(ROW(J12)-ROW($I$11))*7+(COLUMN(J12)-COLUMN($I$11)+1)),"",$I$9-(WEEKDAY($I$9,1)-($I$4-1))-IF((WEEKDAY($I$9,1)-($I$4-1))<=0,7,0)+(ROW(J12)-ROW($I$11))*7+(COLUMN(J12)-COLUMN($I$11)+1)) -> 46272 | K12: =IF(MONTH($I$9)<>MONTH($I$9-(WEEKDAY($I$9,1)-($I$4-1))-IF((WEEKDAY($I$9,1)-($I$4-1))<=0,7,0)+(ROW(K12)-ROW($I$11))*7+(COLUMN(K12)-COLUMN($I$11)+1)),"",$I$9-(WEEKDAY($I$9,1)-($I$4-1))-IF((WEEKDAY($I$9,1)-($I$4-1))<=0,7,0)+(ROW(K12)-ROW($I$11))*7+(COLUMN(K12)-COLUMN($I$11)+1)) -> 46273 | L12: =IF(MONTH($I$9)<>MONTH($I$9-(WEEKDAY($I$9,1)-($I$4-1))-IF((WEEKDAY($I$9,1)-($I$4-1))<=0,7,0)+(ROW(L12)-ROW($I$11))*7+(COLUMN(L12)-COLUMN($I$11)+1)),"",$I$9-(WEEKDAY($I$9,1)-($I$4-1))-IF((WEEKDAY($I$9,1)-($I$4-1))<=0,7,0)+(ROW(L12)-ROW($I$11))*7+(COLUMN(L12)-COLUMN($I$11)+1)) -> 46274 | M12: =IF(MONTH($I$9)<>MONTH($I$9-(WEEKDAY($I$9,1)-($I$4-1))-IF((WEEKDAY($I$9,1)-($I$4-1))<=0,7,0)+(ROW(M12)-ROW($I$11))*7+(COLUMN(M12)-COLUMN($I$11)+1)),"",$I$9-(WEEKDAY($I$9,1)-($I$4-1))-IF((WEEKDAY($I$9,1)-($I$4-1))<=0,7,0)+(ROW(M12)-ROW($I$11))*7+(COLUMN(M12)-COLUMN($I$11)+1)) -> 46275 | N12: =IF(MONTH($I$9)<>MONTH($I$9-(WEEKDAY($I$9,1)-($I$4-1))-IF((WEEKDAY($I$9,1)-($I$4-1))<=0,7,0)+(ROW(N12)-ROW($I$11))*7+(COLUMN(N12)-COLUMN($I$11)+1)),"",$I$9-(WEEKDAY($I$9,1)-($I$4-1))-IF((WEEKDAY($I$9,1)-($I$4-1))<=0,7,0)+(ROW(N12)-ROW($I$11))*7+(COLUMN(N12)-COLUMN($I$11)+1)) -> 46276 | O12: =IF(MONTH($I$9)<>MONTH($I$9-(WEEKDAY($I$9,1)-($I$4-1))-IF((WEEKDAY($I$9,1)-($I$4-1))<=0,7,0)+(ROW(O12)-ROW($I$11))*7+(COLUMN(O12)-COLUMN($I$11)+1)),"",$I$9-(WEEKDAY($I$9,1)-($I$4-1))-IF((WEEKDAY($I$9,1)-($I$4-1))<=0,7,0)+(ROW(O12)-ROW($I$11))*7+(COLUMN(O12)-COLUMN($I$11)+1)) -> 46277 | Q12: =IF(MONTH($Q$9)<>MONTH($Q$9-(WEEKDAY($Q$9,1)-($I$4-1))-IF((WEEKDAY($Q$9,1)-($I$4-1))<=0,7,0)+(ROW(Q12)-ROW($Q$11))*7+(COLUMN(Q12)-COLUMN($Q$11)+1)),"",$Q$9-(WEEKDAY($Q$9,1)-($I$4-1))-IF((WEEKDAY($Q$9,1)-($I$4-1))<=0,7,0)+(ROW(Q12)-ROW($Q$11))*7+(COLUMN(Q12)-COLUMN($Q$11)+1)) -> 46299 | R12: =IF(MONTH($Q$9)<>MONTH($Q$9-(WEEKDAY($Q$9,1)-($I$4-1))-IF((WEEKDAY($Q$9,1)-($I$4-1))<=0,7,0)+(ROW(R12)-ROW($Q$11))*7+(COLUMN(R12)-COLUMN($Q$11)+1)),"",$Q$9-(WEEKDAY($Q$9,1)-($I$4-1))-IF((WEEKDAY($Q$9,1)-($I$4-1))<=0,7,0)+(ROW(R12)-ROW($Q$11))*7+(COLUMN(R12)-COLUMN($Q$11)+1)) -> 46300 | S12: =IF(MONTH($Q$9)<>MONTH($Q$9-(WEEKDAY($Q$9,1)-($I$4-1))-IF((WEEKDAY($Q$9,1)-($I$4-1))<=0,7,0)+(ROW(S12)-ROW($Q$11))*7+(COLUMN(S12)-COLUMN($Q$11)+1)),"",$Q$9-(WEEKDAY($Q$9,1)-($I$4-1))-IF((WEEKDAY($Q$9,1)-($I$4-1))<=0,7,0)+(ROW(S12)-ROW($Q$11))*7+(COLUMN(S12)-COLUMN($Q$11)+1)) -> 46301 | T12: =IF(MONTH($Q$9)<>MONTH($Q$9-(WEEKDAY($Q$9,1)-($I$4-1))-IF((WEEKDAY($Q$9,1)-($I$4-1))<=0,7,0)+(ROW(T12)-ROW($Q$11))*7+(COLUMN(T12)-COLUMN($Q$11)+1)),"",$Q$9-(WEEKDAY($Q$9,1)-($I$4-1))-IF((WEEKDAY($Q$9,1)-($I$4-1))<=0,7,0)+(ROW(T12)-ROW($Q$11))*7+(COLUMN(T12)-COLUMN($Q$11)+1)) -> 46302 | U12: =IF(MONTH($Q$9)<>MONTH($Q$9-(WEEKDAY($Q$9,1)-($I$4-1))-IF((WEEKDAY($Q$9,1)-($I$4-1))<=0,7,0)+(ROW(U12)-ROW($Q$11))*7+(COLUMN(U12)-COLUMN($Q$11)+1)),"",$Q$9-(WEEKDAY($Q$9,1)-($I$4-1))-IF((WEEKDAY($Q$9,1)-($I$4-1))<=0,7,0)+(ROW(U12)-ROW($Q$11))*7+(COLUMN(U12)-COLUMN($Q$11)+1)) -> 46303 | V12: =IF(MONTH($Q$9)<>MONTH($Q$9-(WEEKDAY($Q$9,1)-($I$4-1))-IF((WEEKDAY($Q$9,1)-($I$4-1))<=0,7,0)+(ROW(V12)-ROW($Q$11))*7+(COLUMN(V12)-COLUMN($Q$11)+1)),"",$Q$9-(WEEKDAY($Q$9,1)-($I$4-1))-IF((WEEKDAY($Q$9,1)-($I$4-1))<=0,7,0)+(ROW(V12)-ROW($Q$11))*7+(COLUMN(V12)-COLUMN($Q$11)+1)) -> 46304 | W12: =IF(MONTH($Q$9)<>MONTH($Q$9-(WEEKDAY($Q$9,1)-($I$4-1))-IF((WEEKDAY($Q$9,1)-($I$4-1))<=0,7,0)+(ROW(W12)-ROW($Q$11))*7+(COLUMN(W12)-COLUMN($Q$11)+1)),"",$Q$9-(WEEKDAY($Q$9,1)-($I$4-1))-IF((WEEKDAY($Q$9,1)-($I$4-1))<=0,7,0)+(ROW(W12)-ROW($Q$11))*7+(COLUMN(W12)-COLUMN($Q$11)+1)) -> 46305 | Y12: =IF($A$4+IF($E$4>4,1,0)<2007,(DATE($A$4+IF($E$4>4,1,0),4,1)+(1-1)*7)+IF(1<WEEKDAY(DATE($A$4+IF($E$4>4,1,0),4,1)),1+7-WEEKDAY(DATE($A$4+IF($E$4>4,1,0),4,1),1),1-WEEKDAY(DATE($A$4+IF($E$4>4,1,0),4,1),1)),(DATE($A$4+IF($E$4>4,1,0),4-1,1)+(2-1)*7)+IF(1<WEEKDAY(DATE($A$4+IF($E$4>4,1,0),4-1,1),1),1+7-WEEKDAY(DATE($A$4+IF($E$4>4,1,0),4-1,1),1),1-WEEKDAY(DATE($A$4+IF($E$4>4,1,0),4-1,1),1))) -> 46460 | Z12: Daylight Savings
A13: =IF(MONTH($A$9)<>MONTH($A$9-(WEEKDAY($A$9,1)-($I$4-1))-IF((WEEKDAY($A$9,1)-($I$4-1))<=0,7,0)+(ROW(A13)-ROW($A$11))*7+(COLUMN(A13)-COLUMN($A$11)+1)),"",$A$9-(WEEKDAY($A$9,1)-($I$4-1))-IF((WEEKDAY($A$9,1)-($I$4-1))<=0,7,0)+(ROW(A13)-ROW($A$11))*7+(COLUMN(A13)-COLUMN($A$11)+1)) -> 46243 | B13: =IF(MONTH($A$9)<>MONTH($A$9-(WEEKDAY($A$9,1)-($I$4-1))-IF((WEEKDAY($A$9,1)-($I$4-1))<=0,7,0)+(ROW(B13)-ROW($A$11))*7+(COLUMN(B13)-COLUMN($A$11)+1)),"",$A$9-(WEEKDAY($A$9,1)-($I$4-1))-IF((WEEKDAY($A$9,1)-($I$4-1))<=0,7,0)+(ROW(B13)-ROW($A$11))*7+(COLUMN(B13)-COLUMN($A$11)+1)) -> 46244 | C13: =IF(MONTH($A$9)<>MONTH($A$9-(WEEKDAY($A$9,1)-($I$4-1))-IF((WEEKDAY($A$9,1)-($I$4-1))<=0,7,0)+(ROW(C13)-ROW($A$11))*7+(COLUMN(C13)-COLUMN($A$11)+1)),"",$A$9-(WEEKDAY($A$9,1)-($I$4-1))-IF((WEEKDAY($A$9,1)-($I$4-1))<=0,7,0)+(ROW(C13)-ROW($A$11))*7+(COLUMN(C13)-COLUMN($A$11)+1)) -> 46245 | D13: =IF(MONTH($A$9)<>MONTH($A$9-(WEEKDAY($A$9,1)-($I$4-1))-IF((WEEKDAY($A$9,1)-($I$4-1))<=0,7,0)+(ROW(D13)-ROW($A$11))*7+(COLUMN(D13)-COLUMN($A$11)+1)),"",$A$9-(WEEKDAY($A$9,1)-($I$4-1))-IF((WEEKDAY($A$9,1)-($I$4-1))<=0,7,0)+(ROW(D13)-ROW($A$11))*7+(COLUMN(D13)-COLUMN($A$11)+1)) -> 46246 | E13: =IF(MONTH($A$9)<>MONTH($A$9-(WEEKDAY($A$9,1)-($I$4-1))-IF((WEEKDAY($A$9,1)-($I$4-1))<=0,7,0)+(ROW(E13)-ROW($A$11))*7+(COLUMN(E13)-COLUMN($A$11)+1)),"",$A$9-(WEEKDAY($A$9,1)-($I$4-1))-IF((WEEKDAY($A$9,1)-($I$4-1))<=0,7,0)+(ROW(E13)-ROW($A$11))*7+(COLUMN(E13)-COLUMN($A$11)+1)) -> 46247 | F13: =IF(MONTH($A$9)<>MONTH($A$9-(WEEKDAY($A$9,1)-($I$4-1))-IF((WEEKDAY($A$9,1)-($I$4-1))<=0,7,0)+(ROW(F13)-ROW($A$11))*7+(COLUMN(F13)-COLUMN($A$11)+1)),"",$A$9-(WEEKDAY($A$9,1)-($I$4-1))-IF((WEEKDAY($A$9,1)-($I$4-1))<=0,7,0)+(ROW(F13)-ROW($A$11))*7+(COLUMN(F13)-COLUMN($A$11)+1)) -> 46248 | G13: =IF(MONTH($A$9)<>MONTH($A$9-(WEEKDAY($A$9,1)-($I$4-1))-IF((WEEKDAY($A$9,1)-($I$4-1))<=0,7,0)+(ROW(G13)-ROW($A$11))*7+(COLUMN(G13)-COLUMN($A$11)+1)),"",$A$9-(WEEKDAY($A$9,1)-($I$4-1))-IF((WEEKDAY($A$9,1)-($I$4-1))<=0,7,0)+(ROW(G13)-ROW($A$11))*7+(COLUMN(G13)-COLUMN($A$11)+1)) -> 46249 | I13: =IF(MONTH($I$9)<>MONTH($I$9-(WEEKDAY($I$9,1)-($I$4-1))-IF((WEEKDAY($I$9,1)-($I$4-1))<=0,7,0)+(ROW(I13)-ROW($I$11))*7+(COLUMN(I13)-COLUMN($I$11)+1)),"",$I$9-(WEEKDAY($I$9,1)-($I$4-1))-IF((WEEKDAY($I$9,1)-($I$4-1))<=0,7,0)+(ROW(I13)-ROW($I$11))*7+(COLUMN(I13)-COLUMN($I$11)+1)) -> 46278 | J13: =IF(MONTH($I$9)<>MONTH($I$9-(WEEKDAY($I$9,1)-($I$4-1))-IF((WEEKDAY($I$9,1)-($I$4-1))<=0,7,0)+(ROW(J13)-ROW($I$11))*7+(COLUMN(J13)-COLUMN($I$11)+1)),"",$I$9-(WEEKDAY($I$9,1)-($I$4-1))-IF((WEEKDAY($I$9,1)-($I$4-1))<=0,7,0)+(ROW(J13)-ROW($I$11))*7+(COLUMN(J13)-COLUMN($I$11)+1)) -> 46279 | K13: =IF(MONTH($I$9)<>MONTH($I$9-(WEEKDAY($I$9,1)-($I$4-1))-IF((WEEKDAY($I$9,1)-($I$4-1))<=0,7,0)+(ROW(K13)-ROW($I$11))*7+(COLUMN(K13)-COLUMN($I$11)+1)),"",$I$9-(WEEKDAY($I$9,1)-($I$4-1))-IF((WEEKDAY($I$9,1)-($I$4-1))<=0,7,0)+(ROW(K13)-ROW($I$11))*7+(COLUMN(K13)-COLUMN($I$11)+1)) -> 46280 | L13: =IF(MONTH($I$9)<>MONTH($I$9-(WEEKDAY($I$9,1)-($I$4-1))-IF((WEEKDAY($I$9,1)-($I$4-1))<=0,7,0)+(ROW(L13)-ROW($I$11))*7+(COLUMN(L13)-COLUMN($I$11)+1)),"",$I$9-(WEEKDAY($I$9,1)-($I$4-1))-IF((WEEKDAY($I$9,1)-($I$4-1))<=0,7,0)+(ROW(L13)-ROW($I$11))*7+(COLUMN(L13)-COLUMN($I$11)+1)) -> 46281 | M13: =IF(MONTH($I$9)<>MONTH($I$9-(WEEKDAY($I$9,1)-($I$4-1))-IF((WEEKDAY($I$9,1)-($I$4-1))<=0,7,0)+(ROW(M13)-ROW($I$11))*7+(COLUMN(M13)-COLUMN($I$11)+1)),"",$I$9-(WEEKDAY($I$9,1)-($I$4-1))-IF((WEEKDAY($I$9,1)-($I$4-1))<=0,7,0)+(ROW(M13)-ROW($I$11))*7+(COLUMN(M13)-COLUMN($I$11)+1)) -> 46282 | N13: =IF(MONTH($I$9)<>MONTH($I$9-(WEEKDAY($I$9,1)-($I$4-1))-IF((WEEKDAY($I$9,1)-($I$4-1))<=0,7,0)+(ROW(N13)-ROW($I$11))*7+(COLUMN(N13)-COLUMN($I$11)+1)),"",$I$9-(WEEKDAY($I$9,1)-($I$4-1))-IF((WEEKDAY($I$9,1)-($I$4-1))<=0,7,0)+(ROW(N13)-ROW($I$11))*7+(COLUMN(N13)-COLUMN($I$11)+1)) -> 46283 | O13: =IF(MONTH($I$9)<>MONTH($I$9-(WEEKDAY($I$9,1)-($I$4-1))-IF((WEEKDAY($I$9,1)-($I$4-1))<=0,7,0)+(ROW(O13)-ROW($I$11))*7+(COLUMN(O13)-COLUMN($I$11)+1)),"",$I$9-(WEEKDAY($I$9,1)-($I$4-1))-IF((WEEKDAY($I$9,1)-($I$4-1))<=0,7,0)+(ROW(O13)-ROW($I$11))*7+(COLUMN(O13)-COLUMN($I$11)+1)) -> 46284 | Q13: =IF(MONTH($Q$9)<>MONTH($Q$9-(WEEKDAY($Q$9,1)-($I$4-1))-IF((WEEKDAY($Q$9,1)-($I$4-1))<=0,7,0)+(ROW(Q13)-ROW($Q$11))*7+(COLUMN(Q13)-COLUMN($Q$11)+1)),"",$Q$9-(WEEKDAY($Q$9,1)-($I$4-1))-IF((WEEKDAY($Q$9,1)-($I$4-1))<=0,7,0)+(ROW(Q13)-ROW($Q$11))*7+(COLUMN(Q13)-COLUMN($Q$11)+1)) -> 46306 | R13: =IF(MONTH($Q$9)<>MONTH($Q$9-(WEEKDAY($Q$9,1)-($I$4-1))-IF((WEEKDAY($Q$9,1)-($I$4-1))<=0,7,0)+(ROW(R13)-ROW($Q$11))*7+(COLUMN(R13)-COLUMN($Q$11)+1)),"",$Q$9-(WEEKDAY($Q$9,1)-($I$4-1))-IF((WEEKDAY($Q$9,1)-($I$4-1))<=0,7,0)+(ROW(R13)-ROW($Q$11))*7+(COLUMN(R13)-COLUMN($Q$11)+1)) -> 46307 | S13: =IF(MONTH($Q$9)<>MONTH($Q$9-(WEEKDAY($Q$9,1)-($I$4-1))-IF((WEEKDAY($Q$9,1)-($I$4-1))<=0,7,0)+(ROW(S13)-ROW($Q$11))*7+(COLUMN(S13)-COLUMN($Q$11)+1)),"",$Q$9-(WEEKDAY($Q$9,1)-($I$4-1))-IF((WEEKDAY($Q$9,1)-($I$4-1))<=0,7,0)+(ROW(S13)-ROW($Q$11))*7+(COLUMN(S13)-COLUMN($Q$11)+1)) -> 46308 | T13: =IF(MONTH($Q$9)<>MONTH($Q$9-(WEEKDAY($Q$9,1)-($I$4-1))-IF((WEEKDAY($Q$9,1)-($I$4-1))<=0,7,0)+(ROW(T13)-ROW($Q$11))*7+(COLUMN(T13)-COLUMN($Q$11)+1)),"",$Q$9-(WEEKDAY($Q$9,1)-($I$4-1))-IF((WEEKDAY($Q$9,1)-($I$4-1))<=0,7,0)+(ROW(T13)-ROW($Q$11))*7+(COLUMN(T13)-COLUMN($Q$11)+1)) -> 46309 | U13: =IF(MONTH($Q$9)<>MONTH($Q$9-(WEEKDAY($Q$9,1)-($I$4-1))-IF((WEEKDAY($Q$9,1)-($I$4-1))<=0,7,0)+(ROW(U13)-ROW($Q$11))*7+(COLUMN(U13)-COLUMN($Q$11)+1)),"",$Q$9-(WEEKDAY($Q$9,1)-($I$4-1))-IF((WEEKDAY($Q$9,1)-($I$4-1))<=0,7,0)+(ROW(U13)-ROW($Q$11))*7+(COLUMN(U13)-COLUMN($Q$11)+1)) -> 46310 | V13: =IF(MONTH($Q$9)<>MONTH($Q$9-(WEEKDAY($Q$9,1)-($I$4-1))-IF((WEEKDAY($Q$9,1)-($I$4-1))<=0,7,0)+(ROW(V13)-ROW($Q$11))*7+(COLUMN(V13)-COLUMN($Q$11)+1)),"",$Q$9-(WEEKDAY($Q$9,1)-($I$4-1))-IF((WEEKDAY($Q$9,1)-($I$4-1))<=0,7,0)+(ROW(V13)-ROW($Q$11))*7+(COLUMN(V13)-COLUMN($Q$11)+1)) -> 46311 | W13: =IF(MONTH($Q$9)<>MONTH($Q$9-(WEEKDAY($Q$9,1)-($I$4-1))-IF((WEEKDAY($Q$9,1)-($I$4-1))<=0,7,0)+(ROW(W13)-ROW($Q$11))*7+(COLUMN(W13)-COLUMN($Q$11)+1)),"",$Q$9-(WEEKDAY($Q$9,1)-($I$4-1))-IF((WEEKDAY($Q$9,1)-($I$4-1))<=0,7,0)+(ROW(W13)-ROW($Q$11))*7+(COLUMN(W13)-COLUMN($Q$11)+1)) -> 46312 | Y13: =IF($A$4+IF($E$4>11,1,0)<2007,(DATE($A$4+IF($E$4>11,1,0),11,1)+(-1)*7)+IF(1<WEEKDAY(DATE($A$4+IF($E$4>11,1,0),11,1),1),1+7-WEEKDAY(DATE($A$4+IF($E$4>11,1,0),11,1),1),1-WEEKDAY(DATE($A$4+IF($E$4>11,1,0),11,1),1)),(DATE($A$4+IF($E$4>11,1,0),11,1)+(1-1)*7)+IF(1<WEEKDAY(DATE($A$4+IF($E$4>11,1,0),11,1),1),1+7-WEEKDAY(DATE($A$4+IF($E$4>11,1,0),11,1),1),1-WEEKDAY(DATE($A$4+IF($E$4>11,1,0),11,1),1))) -> 46327 | Z13: Daylight Savings
A14: =IF(MONTH($A$9)<>MONTH($A$9-(WEEKDAY($A$9,1)-($I$4-1))-IF((WEEKDAY($A$9,1)-($I$4-1))<=0,7,0)+(ROW(A14)-ROW($A$11))*7+(COLUMN(A14)-COLUMN($A$11)+1)),"",$A$9-(WEEKDAY($A$9,1)-($I$4-1))-IF((WEEKDAY($A$9,1)-($I$4-1))<=0,7,0)+(ROW(A14)-ROW($A$11))*7+(COLUMN(A14)-COLUMN($A$11)+1)) -> 46250 | B14: =IF(MONTH($A$9)<>MONTH($A$9-(WEEKDAY($A$9,1)-($I$4-1))-IF((WEEKDAY($A$9,1)-($I$4-1))<=0,7,0)+(ROW(B14)-ROW($A$11))*7+(COLUMN(B14)-COLUMN($A$11)+1)),"",$A$9-(WEEKDAY($A$9,1)-($I$4-1))-IF((WEEKDAY($A$9,1)-($I$4-1))<=0,7,0)+(ROW(B14)-ROW($A$11))*7+(COLUMN(B14)-COLUMN($A$11)+1)) -> 46251 | C14: =IF(MONTH($A$9)<>MONTH($A$9-(WEEKDAY($A$9,1)-($I$4-1))-IF((WEEKDAY($A$9,1)-($I$4-1))<=0,7,0)+(ROW(C14)-ROW($A$11))*7+(COLUMN(C14)-COLUMN($A$11)+1)),"",$A$9-(WEEKDAY($A$9,1)-($I$4-1))-IF((WEEKDAY($A$9,1)-($I$4-1))<=0,7,0)+(ROW(C14)-ROW($A$11))*7+(COLUMN(C14)-COLUMN($A$11)+1)) -> 46252 | D14: =IF(MONTH($A$9)<>MONTH($A$9-(WEEKDAY($A$9,1)-($I$4-1))-IF((WEEKDAY($A$9,1)-($I$4-1))<=0,7,0)+(ROW(D14)-ROW($A$11))*7+(COLUMN(D14)-COLUMN($A$11)+1)),"",$A$9-(WEEKDAY($A$9,1)-($I$4-1))-IF((WEEKDAY($A$9,1)-($I$4-1))<=0,7,0)+(ROW(D14)-ROW($A$11))*7+(COLUMN(D14)-COLUMN($A$11)+1)) -> 46253 | E14: =IF(MONTH($A$9)<>MONTH($A$9-(WEEKDAY($A$9,1)-($I$4-1))-IF((WEEKDAY($A$9,1)-($I$4-1))<=0,7,0)+(ROW(E14)-ROW($A$11))*7+(COLUMN(E14)-COLUMN($A$11)+1)),"",$A$9-(WEEKDAY($A$9,1)-($I$4-1))-IF((WEEKDAY($A$9,1)-($I$4-1))<=0,7,0)+(ROW(E14)-ROW($A$11))*7+(COLUMN(E14)-COLUMN($A$11)+1)) -> 46254 | F14: =IF(MONTH($A$9)<>MONTH($A$9-(WEEKDAY($A$9,1)-($I$4-1))-IF((WEEKDAY($A$9,1)-($I$4-1))<=0,7,0)+(ROW(F14)-ROW($A$11))*7+(COLUMN(F14)-COLUMN($A$11)+1)),"",$A$9-(WEEKDAY($A$9,1)-($I$4-1))-IF((WEEKDAY($A$9,1)-($I$4-1))<=0,7,0)+(ROW(F14)-ROW($A$11))*7+(COLUMN(F14)-COLUMN($A$11)+1)) -> 46255 | G14: =IF(MONTH($A$9)<>MONTH($A$9-(WEEKDAY($A$9,1)-($I$4-1))-IF((WEEKDAY($A$9,1)-($I$4-1))<=0,7,0)+(ROW(G14)-ROW($A$11))*7+(COLUMN(G14)-COLUMN($A$11)+1)),"",$A$9-(WEEKDAY($A$9,1)-($I$4-1))-IF((WEEKDAY($A$9,1)-($I$4-1))<=0,7,0)+(ROW(G14)-ROW($A$11))*7+(COLUMN(G14)-COLUMN($A$11)+1)) -> 46256 | I14: =IF(MONTH($I$9)<>MONTH($I$9-(WEEKDAY($I$9,1)-($I$4-1))-IF((WEEKDAY($I$9,1)-($I$4-1))<=0,7,0)+(ROW(I14)-ROW($I$11))*7+(COLUMN(I14)-COLUMN($I$11)+1)),"",$I$9-(WEEKDAY($I$9,1)-($I$4-1))-IF((WEEKDAY($I$9,1)-($I$4-1))<=0,7,0)+(ROW(I14)-ROW($I$11))*7+(COLUMN(I14)-COLUMN($I$11)+1)) -> 46285 | J14: =IF(MONTH($I$9)<>MONTH($I$9-(WEEKDAY($I$9,1)-($I$4-1))-IF((WEEKDAY($I$9,1)-($I$4-1))<=0,7,0)+(ROW(J14)-ROW($I$11))*7+(COLUMN(J14)-COLUMN($I$11)+1)),"",$I$9-(WEEKDAY($I$9,1)-($I$4-1))-IF((WEEKDAY($I$9,1)-($I$4-1))<=0,7,0)+(ROW(J14)-ROW($I$11))*7+(COLUMN(J14)-COLUMN($I$11)+1)) -> 46286 | K14: =IF(MONTH($I$9)<>MONTH($I$9-(WEEKDAY($I$9,1)-($I$4-1))-IF((WEEKDAY($I$9,1)-($I$4-1))<=0,7,0)+(ROW(K14)-ROW($I$11))*7+(COLUMN(K14)-COLUMN($I$11)+1)),"",$I$9-(WEEKDAY($I$9,1)-($I$4-1))-IF((WEEKDAY($I$9,1)-($I$4-1))<=0,7,0)+(ROW(K14)-ROW($I$11))*7+(COLUMN(K14)-COLUMN($I$11)+1)) -> 46287 | L14: =IF(MONTH($I$9)<>MONTH($I$9-(WEEKDAY($I$9,1)-($I$4-1))-IF((WEEKDAY($I$9,1)-($I$4-1))<=0,7,0)+(ROW(L14)-ROW($I$11))*7+(COLUMN(L14)-COLUMN($I$11)+1)),"",$I$9-(WEEKDAY($I$9,1)-($I$4-1))-IF((WEEKDAY($I$9,1)-($I$4-1))<=0,7,0)+(ROW(L14)-ROW($I$11))*7+(COLUMN(L14)-COLUMN($I$11)+1)) -> 46288 | M14: =IF(MONTH($I$9)<>MONTH($I$9-(WEEKDAY($I$9,1)-($I$4-1))-IF((WEEKDAY($I$9,1)-($I$4-1))<=0,7,0)+(ROW(M14)-ROW($I$11))*7+(COLUMN(M14)-COLUMN($I$11)+1)),"",$I$9-(WEEKDAY($I$9,1)-($I$4-1))-IF((WEEKDAY($I$9,1)-($I$4-1))<=0,7,0)+(ROW(M14)-ROW($I$11))*7+(COLUMN(M14)-COLUMN($I$11)+1)) -> 46289 | N14: =IF(MONTH($I$9)<>MONTH($I$9-(WEEKDAY($I$9,1)-($I$4-1))-IF((WEEKDAY($I$9,1)-($I$4-1))<=0,7,0)+(ROW(N14)-ROW($I$11))*7+(COLUMN(N14)-COLUMN($I$11)+1)),"",$I$9-(WEEKDAY($I$9,1)-($I$4-1))-IF((WEEKDAY($I$9,1)-($I$4-1))<=0,7,0)+(ROW(N14)-ROW($I$11))*7+(COLUMN(N14)-COLUMN($I$11)+1)) -> 46290 | O14: =IF(MONTH($I$9)<>MONTH($I$9-(WEEKDAY($I$9,1)-($I$4-1))-IF((WEEKDAY($I$9,1)-($I$4-1))<=0,7,0)+(ROW(O14)-ROW($I$11))*7+(COLUMN(O14)-COLUMN($I$11)+1)),"",$I$9-(WEEKDAY($I$9,1)-($I$4-1))-IF((WEEKDAY($I$9,1)-($I$4-1))<=0,7,0)+(ROW(O14)-ROW($I$11))*7+(COLUMN(O14)-COLUMN($I$11)+1)) -> 46291 | Q14: =IF(MONTH($Q$9)<>MONTH($Q$9-(WEEKDAY($Q$9,1)-($I$4-1))-IF((WEEKDAY($Q$9,1)-($I$4-1))<=0,7,0)+(ROW(Q14)-ROW($Q$11))*7+(COLUMN(Q14)-COLUMN($Q$11)+1)),"",$Q$9-(WEEKDAY($Q$9,1)-($I$4-1))-IF((WEEKDAY($Q$9,1)-($I$4-1))<=0,7,0)+(ROW(Q14)-ROW($Q$11))*7+(COLUMN(Q14)-COLUMN($Q$11)+1)) -> 46313 | R14: =IF(MONTH($Q$9)<>MONTH($Q$9-(WEEKDAY($Q$9,1)-($I$4-1))-IF((WEEKDAY($Q$9,1)-($I$4-1))<=0,7,0)+(ROW(R14)-ROW($Q$11))*7+(COLUMN(R14)-COLUMN($Q$11)+1)),"",$Q$9-(WEEKDAY($Q$9,1)-($I$4-1))-IF((WEEKDAY($Q$9,1)-($I$4-1))<=0,7,0)+(ROW(R14)-ROW($Q$11))*7+(COLUMN(R14)-COLUMN($Q$11)+1)) -> 46314 | S14: =IF(MONTH($Q$9)<>MONTH($Q$9-(WEEKDAY($Q$9,1)-($I$4-1))-IF((WEEKDAY($Q$9,1)-($I$4-1))<=0,7,0)+(ROW(S14)-ROW($Q$11))*7+(COLUMN(S14)-COLUMN($Q$11)+1)),"",$Q$9-(WEEKDAY($Q$9,1)-($I$4-1))-IF((WEEKDAY($Q$9,1)-($I$4-1))<=0,7,0)+(ROW(S14)-ROW($Q$11))*7+(COLUMN(S14)-COLUMN($Q$11)+1)) -> 46315 | T14: =IF(MONTH($Q$9)<>MONTH($Q$9-(WEEKDAY($Q$9,1)-($I$4-1))-IF((WEEKDAY($Q$9,1)-($I$4-1))<=0,7,0)+(ROW(T14)-ROW($Q$11))*7+(COLUMN(T14)-COLUMN($Q$11)+1)),"",$Q$9-(WEEKDAY($Q$9,1)-($I$4-1))-IF((WEEKDAY($Q$9,1)-($I$4-1))<=0,7,0)+(ROW(T14)-ROW($Q$11))*7+(COLUMN(T14)-COLUMN($Q$11)+1)) -> 46316 | U14: =IF(MONTH($Q$9)<>MONTH($Q$9-(WEEKDAY($Q$9,1)-($I$4-1))-IF((WEEKDAY($Q$9,1)-($I$4-1))<=0,7,0)+(ROW(U14)-ROW($Q$11))*7+(COLUMN(U14)-COLUMN($Q$11)+1)),"",$Q$9-(WEEKDAY($Q$9,1)-($I$4-1))-IF((WEEKDAY($Q$9,1)-($I$4-1))<=0,7,0)+(ROW(U14)-ROW($Q$11))*7+(COLUMN(U14)-COLUMN($Q$11)+1)) -> 46317 | V14: =IF(MONTH($Q$9)<>MONTH($Q$9-(WEEKDAY($Q$9,1)-($I$4-1))-IF((WEEKDAY($Q$9,1)-($I$4-1))<=0,7,0)+(ROW(V14)-ROW($Q$11))*7+(COLUMN(V14)-COLUMN($Q$11)+1)),"",$Q$9-(WEEKDAY($Q$9,1)-($I$4-1))-IF((WEEKDAY($Q$9,1)-($I$4-1))<=0,7,0)+(ROW(V14)-ROW($Q$11))*7+(COLUMN(V14)-COLUMN($Q$11)+1)) -> 46318 | W14: =IF(MONTH($Q$9)<>MONTH($Q$9-(WEEKDAY($Q$9,1)-($I$4-1))-IF((WEEKDAY($Q$9,1)-($I$4-1))<=0,7,0)+(ROW(W14)-ROW($Q$11))*7+(COLUMN(W14)-COLUMN($Q$11)+1)),"",$Q$9-(WEEKDAY($Q$9,1)-($I$4-1))-IF((WEEKDAY($Q$9,1)-($I$4-1))<=0,7,0)+(ROW(W14)-ROW($Q$11))*7+(COLUMN(W14)-COLUMN($Q$11)+1)) -> 46319 | Y14: =IF(WEEKDAY(DATE($A$4+IF($E$4>4+1,1,0),4+1,0),1)=7,DATE($A$4+IF($E$4>4+1,1,0),4+1,0)-(7-4),(DATE($A$4+IF($E$4>4+1,1,0),4+1,0)-WEEKDAY(DATE($A$4+IF($E$4>4+1,1,0),4+1,0),1))-(7-4)) -> 46498 | Z14: Admin Assistants Day
A15: =IF(MONTH($A$9)<>MONTH($A$9-(WEEKDAY($A$9,1)-($I$4-1))-IF((WEEKDAY($A$9,1)-($I$4-1))<=0,7,0)+(ROW(A15)-ROW($A$11))*7+(COLUMN(A15)-COLUMN($A$11)+1)),"",$A$9-(WEEKDAY($A$9,1)-($I$4-1))-IF((WEEKDAY($A$9,1)-($I$4-1))<=0,7,0)+(ROW(A15)-ROW($A$11))*7+(COLUMN(A15)-COLUMN($A$11)+1)) -> 46257 | B15: =IF(MONTH($A$9)<>MONTH($A$9-(WEEKDAY($A$9,1)-($I$4-1))-IF((WEEKDAY($A$9,1)-($I$4-1))<=0,7,0)+(ROW(B15)-ROW($A$11))*7+(COLUMN(B15)-COLUMN($A$11)+1)),"",$A$9-(WEEKDAY($A$9,1)-($I$4-1))-IF((WEEKDAY($A$9,1)-($I$4-1))<=0,7,0)+(ROW(B15)-ROW($A$11))*7+(COLUMN(B15)-COLUMN($A$11)+1)) -> 46258 | C15: =IF(MONTH($A$9)<>MONTH($A$9-(WEEKDAY($A$9,1)-($I$4-1))-IF((WEEKDAY($A$9,1)-($I$4-1))<=0,7,0)+(ROW(C15)-ROW($A$11))*7+(COLUMN(C15)-COLUMN($A$11)+1)),"",$A$9-(WEEKDAY($A$9,1)-($I$4-1))-IF((WEEKDAY($A$9,1)-($I$4-1))<=0,7,0)+(ROW(C15)-ROW($A$11))*7+(COLUMN(C15)-COLUMN($A$11)+1)) -> 46259 | D15: =IF(MONTH($A$9)<>MONTH($A$9-(WEEKDAY($A$9,1)-($I$4-1))-IF((WEEKDAY($A$9,1)-($I$4-1))<=0,7,0)+(ROW(D15)-ROW($A$11))*7+(COLUMN(D15)-COLUMN($A$11)+1)),"",$A$9-(WEEKDAY($A$9,1)-($I$4-1))-IF((WEEKDAY($A$9,1)-($I$4-1))<=0,7,0)+(ROW(D15)-ROW($A$11))*7+(COLUMN(D15)-COLUMN($A$11)+1)) -> 46260 | E15: =IF(MONTH($A$9)<>MONTH($A$9-(WEEKDAY($A$9,1)-($I$4-1))-IF((WEEKDAY($A$9,1)-($I$4-1))<=0,7,0)+(ROW(E15)-ROW($A$11))*7+(COLUMN(E15)-COLUMN($A$11)+1)),"",$A$9-(WEEKDAY($A$9,1)-($I$4-1))-IF((WEEKDAY($A$9,1)-($I$4-1))<=0,7,0)+(ROW(E15)-ROW($A$11))*7+(COLUMN(E15)-COLUMN($A$11)+1)) -> 46261 | F15: =IF(MONTH($A$9)<>MONTH($A$9-(WEEKDAY($A$9,1)-($I$4-1))-IF((WEEKDAY($A$9,1)-($I$4-1))<=0,7,0)+(ROW(F15)-ROW($A$11))*7+(COLUMN(F15)-COLUMN($A$11)+1)),"",$A$9-(WEEKDAY($A$9,1)-($I$4-1))-IF((WEEKDAY($A$9,1)-($I$4-1))<=0,7,0)+(ROW(F15)-ROW($A$11))*7+(COLUMN(F15)-COLUMN($A$11)+1)) -> 46262 | G15: =IF(MONTH($A$9)<>MONTH($A$9-(WEEKDAY($A$9,1)-($I$4-1))-IF((WEEKDAY($A$9,1)-($I$4-1))<=0,7,0)+(ROW(G15)-ROW($A$11))*7+(COLUMN(G15)-COLUMN($A$11)+1)),"",$A$9-(WEEKDAY($A$9,1)-($I$4-1))-IF((WEEKDAY($A$9,1)-($I$4-1))<=0,7,0)+(ROW(G15)-ROW($A$11))*7+(COLUMN(G15)-COLUMN($A$11)+1)) -> 46263 | I15: =IF(MONTH($I$9)<>MONTH($I$9-(WEEKDAY($I$9,1)-($I$4-1))-IF((WEEKDAY($I$9,1)-($I$4-1))<=0,7,0)+(ROW(I15)-ROW($I$11))*7+(COLUMN(I15)-COLUMN($I$11)+1)),"",$I$9-(WEEKDAY($I$9,1)-($I$4-1))-IF((WEEKDAY($I$9,1)-($I$4-1))<=0,7,0)+(ROW(I15)-ROW($I$11))*7+(COLUMN(I15)-COLUMN($I$11)+1)) -> 46292 | J15: =IF(MONTH($I$9)<>MONTH($I$9-(WEEKDAY($I$9,1)-($I$4-1))-IF((WEEKDAY($I$9,1)-($I$4-1))<=0,7,0)+(ROW(J15)-ROW($I$11))*7+(COLUMN(J15)-COLUMN($I$11)+1)),"",$I$9-(WEEKDAY($I$9,1)-($I$4-1))-IF((WEEKDAY($I$9,1)-($I$4-1))<=0,7,0)+(ROW(J15)-ROW($I$11))*7+(COLUMN(J15)-COLUMN($I$11)+1)) -> 46293 | K15: =IF(MONTH($I$9)<>MONTH($I$9-(WEEKDAY($I$9,1)-($I$4-1))-IF((WEEKDAY($I$9,1)-($I$4-1))<=0,7,0)+(ROW(K15)-ROW($I$11))*7+(COLUMN(K15)-COLUMN($I$11)+1)),"",$I$9-(WEEKDAY($I$9,1)-($I$4-1))-IF((WEEKDAY($I$9,1)-($I$4-1))<=0,7,0)+(ROW(K15)-ROW($I$11))*7+(COLUMN(K15)-COLUMN($I$11)+1)) -> 46294 | L15: =IF(MONTH($I$9)<>MONTH($I$9-(WEEKDAY($I$9,1)-($I$4-1))-IF((WEEKDAY($I$9,1)-($I$4-1))<=0,7,0)+(ROW(L15)-ROW($I$11))*7+(COLUMN(L15)-COLUMN($I$11)+1)),"",$I$9-(WEEKDAY($I$9,1)-($I$4-1))-IF((WEEKDAY($I$9,1)-($I$4-1))<=0,7,0)+(ROW(L15)-ROW($I$11))*7+(COLUMN(L15)-COLUMN($I$11)+1)) -> 46295 | M15: =IF(MONTH($I$9)<>MONTH($I$9-(WEEKDAY($I$9,1)-($I$4-1))-IF((WEEKDAY($I$9,1)-($I$4-1))<=0,7,0)+(ROW(M15)-ROW($I$11))*7+(COLUMN(M15)-COLUMN($I$11)+1)),"",$I$9-(WEEKDAY($I$9,1)-($I$4-1))-IF((WEEKDAY($I$9,1)-($I$4-1))<=0,7,0)+(ROW(M15)-ROW($I$11))*7+(COLUMN(M15)-COLUMN($I$11)+1)) | N15: =IF(MONTH($I$9)<>MONTH($I$9-(WEEKDAY($I$9,1)-($I$4-1))-IF((WEEKDAY($I$9,1)-($I$4-1))<=0,7,0)+(ROW(N15)-ROW($I$11))*7+(COLUMN(N15)-COLUMN($I$11)+1)),"",$I$9-(WEEKDAY($I$9,1)-($I$4-1))-IF((WEEKDAY($I$9,1)-($I$4-1))<=0,7,0)+(ROW(N15)-ROW($I$11))*7+(COLUMN(N15)-COLUMN($I$11)+1)) | O15: =IF(MONTH($I$9)<>MONTH($I$9-(WEEKDAY($I$9,1)-($I$4-1))-IF((WEEKDAY($I$9,1)-($I$4-1))<=0,7,0)+(ROW(O15)-ROW($I$11))*7+(COLUMN(O15)-COLUMN($I$11)+1)),"",$I$9-(WEEKDAY($I$9,1)-($I$4-1))-IF((WEEKDAY($I$9,1)-($I$4-1))<=0,7,0)+(ROW(O15)-ROW($I$11))*7+(COLUMN(O15)-COLUMN($I$11)+1)) | Q15: =IF(MONTH($Q$9)<>MONTH($Q$9-(WEEKDAY($Q$9,1)-($I$4-1))-IF((WEEKDAY($Q$9,1)-($I$4-1))<=0,7,0)+(ROW(Q15)-ROW($Q$11))*7+(COLUMN(Q15)-COLUMN($Q$11)+1)),"",$Q$9-(WEEKDAY($Q$9,1)-($I$4-1))-IF((WEEKDAY($Q$9,1)-($I$4-1))<=0,7,0)+(ROW(Q15)-ROW($Q$11))*7+(COLUMN(Q15)-COLUMN($Q$11)+1)) -> 46320 | R15: =IF(MONTH($Q$9)<>MONTH($Q$9-(WEEKDAY($Q$9,1)-($I$4-1))-IF((WEEKDAY($Q$9,1)-($I$4-1))<=0,7,0)+(ROW(R15)-ROW($Q$11))*7+(COLUMN(R15)-COLUMN($Q$11)+1)),"",$Q$9-(WEEKDAY($Q$9,1)-($I$4-1))-IF((WEEKDAY($Q$9,1)-($I$4-1))<=0,7,0)+(ROW(R15)-ROW($Q$11))*7+(COLUMN(R15)-COLUMN($Q$11)+1)) -> 46321 | S15: =IF(MONTH($Q$9)<>MONTH($Q$9-(WEEKDAY($Q$9,1)-($I$4-1))-IF((WEEKDAY($Q$9,1)-($I$4-1))<=0,7,0)+(ROW(S15)-ROW($Q$11))*7+(COLUMN(S15)-COLUMN($Q$11)+1)),"",$Q$9-(WEEKDAY($Q$9,1)-($I$4-1))-IF((WEEKDAY($Q$9,1)-($I$4-1))<=0,7,0)+(ROW(S15)-ROW($Q$11))*7+(COLUMN(S15)-COLUMN($Q$11)+1)) -> 46322 | T15: =IF(MONTH($Q$9)<>MONTH($Q$9-(WEEKDAY($Q$9,1)-($I$4-1))-IF((WEEKDAY($Q$9,1)-($I$4-1))<=0,7,0)+(ROW(T15)-ROW($Q$11))*7+(COLUMN(T15)-COLUMN($Q$11)+1)),"",$Q$9-(WEEKDAY($Q$9,1)-($I$4-1))-IF((WEEKDAY($Q$9,1)-($I$4-1))<=0,7,0)+(ROW(T15)-ROW($Q$11))*7+(COLUMN(T15)-COLUMN($Q$11)+1)) -> 46323 | U15: =IF(MONTH($Q$9)<>MONTH($Q$9-(WEEKDAY($Q$9,1)-($I$4-1))-IF((WEEKDAY($Q$9,1)-($I$4-1))<=0,7,0)+(ROW(U15)-ROW($Q$11))*7+(COLUMN(U15)-COLUMN($Q$11)+1)),"",$Q$9-(WEEKDAY($Q$9,1)-($I$4-1))-IF((WEEKDAY($Q$9,1)-($I$4-1))<=0,7,0)+(ROW(U15)-ROW($Q$11))*7+(COLUMN(U15)-COLUMN($Q$11)+1)) -> 46324 | V15: =IF(MONTH($Q$9)<>MONTH($Q$9-(WEEKDAY($Q$9,1)-($I$4-1))-IF((WEEKDAY($Q$9,1)-($I$4-1))<=0,7,0)+(ROW(V15)-ROW($Q$11))*7+(COLUMN(V15)-COLUMN($Q$11)+1)),"",$Q$9-(WEEKDAY($Q$9,1)-($I$4-1))-IF((WEEKDAY($Q$9,1)-($I$4-1))<=0,7,0)+(ROW(V15)-ROW($Q$11))*7+(COLUMN(V15)-COLUMN($Q$11)+1)) -> 46325 | W15: =IF(MONTH($Q$9)<>MONTH($Q$9-(WEEKDAY($Q$9,1)-($I$4-1))-IF((WEEKDAY($Q$9,1)-($I$4-1))<=0,7,0)+(ROW(W15)-ROW($Q$11))*7+(COLUMN(W15)-COLUMN($Q$11)+1)),"",$Q$9-(WEEKDAY($Q$9,1)-($I$4-1))-IF((WEEKDAY($Q$9,1)-($I$4-1))<=0,7,0)+(ROW(W15)-ROW($Q$11))*7+(COLUMN(W15)-COLUMN($Q$11)+1)) -> 46326 | Y15: {=IF(AND($A$4>=2009,$A$4<=2018),DATEVALUE(INDEX({"1/26/2009";"2/14/2010";"2/3/2011";"1/23/2012";"2/10/2013";"1/31/2014";"2/19/2015";"2/8/2016";"1/28/2017";"2/16/2018";"2/5/2019"},$A$4-2008+IF(MONTH(DATEVALUE(INDEX({"1/26/2009";"2/14/2010";"2/3/2011";"1/23/2012";"2/10/2013";"1/31/2014";"2/19/2015";"2/8/2016";"1/28/2017";"2/16/2018";"2/5/2019"},$A$4-2008)))<$E$4,1,0))),"n/f")} -> n/f | Z15: Chinese New Year
A16: =IF(MONTH($A$9)<>MONTH($A$9-(WEEKDAY($A$9,1)-($I$4-1))-IF((WEEKDAY($A$9,1)-($I$4-1))<=0,7,0)+(ROW(A16)-ROW($A$11))*7+(COLUMN(A16)-COLUMN($A$11)+1)),"",$A$9-(WEEKDAY($A$9,1)-($I$4-1))-IF((WEEKDAY($A$9,1)-($I$4-1))<=0,7,0)+(ROW(A16)-ROW($A$11))*7+(COLUMN(A16)-COLUMN($A$11)+1)) -> 46264 | B16: =IF(MONTH($A$9)<>MONTH($A$9-(WEEKDAY($A$9,1)-($I$4-1))-IF((WEEKDAY($A$9,1)-($I$4-1))<=0,7,0)+(ROW(B16)-ROW($A$11))*7+(COLUMN(B16)-COLUMN($A$11)+1)),"",$A$9-(WEEKDAY($A$9,1)-($I$4-1))-IF((WEEKDAY($A$9,1)-($I$4-1))<=0,7,0)+(ROW(B16)-ROW($A$11))*7+(COLUMN(B16)-COLUMN($A$11)+1)) -> 46265 | C16: =IF(MONTH($A$9)<>MONTH($A$9-(WEEKDAY($A$9,1)-($I$4-1))-IF((WEEKDAY($A$9,1)-($I$4-1))<=0,7,0)+(ROW(C16)-ROW($A$11))*7+(COLUMN(C16)-COLUMN($A$11)+1)),"",$A$9-(WEEKDAY($A$9,1)-($I$4-1))-IF((WEEKDAY($A$9,1)-($I$4-1))<=0,7,0)+(ROW(C16)-ROW($A$11))*7+(COLUMN(C16)-COLUMN($A$11)+1)) | D16: =IF(MONTH($A$9)<>MONTH($A$9-(WEEKDAY($A$9,1)-($I$4-1))-IF((WEEKDAY($A$9,1)-($I$4-1))<=0,7,0)+(ROW(D16)-ROW($A$11))*7+(COLUMN(D16)-COLUMN($A$11)+1)),"",$A$9-(WEEKDAY($A$9,1)-($I$4-1))-IF((WEEKDAY($A$9,1)-($I$4-1))<=0,7,0)+(ROW(D16)-ROW($A$11))*7+(COLUMN(D16)-COLUMN($A$11)+1)) | E16: =IF(MONTH($A$9)<>MONTH($A$9-(WEEKDAY($A$9,1)-($I$4-1))-IF((WEEKDAY($A$9,1)-($I$4-1))<=0,7,0)+(ROW(E16)-ROW($A$11))*7+(COLUMN(E16)-COLUMN($A$11)+1)),"",$A$9-(WEEKDAY($A$9,1)-($I$4-1))-IF((WEEKDAY($A$9,1)-($I$4-1))<=0,7,0)+(ROW(E16)-ROW($A$11))*7+(COLUMN(E16)-COLUMN($A$11)+1)) | F16: =IF(MONTH($A$9)<>MONTH($A$9-(WEEKDAY($A$9,1)-($I$4-1))-IF((WEEKDAY($A$9,1)-($I$4-1))<=0,7,0)+(ROW(F16)-ROW($A$11))*7+(COLUMN(F16)-COLUMN($A$11)+1)),"",$A$9-(WEEKDAY($A$9,1)-($I$4-1))-IF((WEEKDAY($A$9,1)-($I$4-1))<=0,7,0)+(ROW(F16)-ROW($A$11))*7+(COLUMN(F16)-COLUMN($A$11)+1)) | G16: =IF(MONTH($A$9)<>MONTH($A$9-(WEEKDAY($A$9,1)-($I$4-1))-IF((WEEKDAY($A$9,1)-($I$4-1))<=0,7,0)+(ROW(G16)-ROW($A$11))*7+(COLUMN(G16)-COLUMN($A$11)+1)),"",$A$9-(WEEKDAY($A$9,1)-($I$4-1))-IF((WEEKDAY($A$9,1)-($I$4-1))<=0,7,0)+(ROW(G16)-ROW($A$11))*7+(COLUMN(G16)-COLUMN($A$11)+1)) | I16: =IF(MONTH($I$9)<>MONTH($I$9-(WEEKDAY($I$9,1)-($I$4-1))-IF((WEEKDAY($I$9,1)-($I$4-1))<=0,7,0)+(ROW(I16)-ROW($I$11))*7+(COLUMN(I16)-COLUMN($I$11)+1)),"",$I$9-(WEEKDAY($I$9,1)-($I$4-1))-IF((WEEKDAY($I$9,1)-($I$4-1))<=0,7,0)+(ROW(I16)-ROW($I$11))*7+(COLUMN(I16)-COLUMN($I$11)+1)) | J16: =IF(MONTH($I$9)<>MONTH($I$9-(WEEKDAY($I$9,1)-($I$4-1))-IF((WEEKDAY($I$9,1)-($I$4-1))<=0,7,0)+(ROW(J16)-ROW($I$11))*7+(COLUMN(J16)-COLUMN($I$11)+1)),"",$I$9-(WEEKDAY($I$9,1)-($I$4-1))-IF((WEEKDAY($I$9,1)-($I$4-1))<=0,7,0)+(ROW(J16)-ROW($I$11))*7+(COLUMN(J16)-COLUMN($I$11)+1)) | K16: =IF(MONTH($I$9)<>MONTH($I$9-(WEEKDAY($I$9,1)-($I$4-1))-IF((WEEKDAY($I$9,1)-($I$4-1))<=0,7,0)+(ROW(K16)-ROW($I$11))*7+(COLUMN(K16)-COLUMN($I$11)+1)),"",$I$9-(WEEKDAY($I$9,1)-($I$4-1))-IF((WEEKDAY($I$9,1)-($I$4-1))<=0,7,0)+(ROW(K16)-ROW($I$11))*7+(COLUMN(K16)-COLUMN($I$11)+1)) | L16: =IF(MONTH($I$9)<>MONTH($I$9-(WEEKDAY($I$9,1)-($I$4-1))-IF((WEEKDAY($I$9,1)-($I$4-1))<=0,7,0)+(ROW(L16)-ROW($I$11))*7+(COLUMN(L16)-COLUMN($I$11)+1)),"",$I$9-(WEEKDAY($I$9,1)-($I$4-1))-IF((WEEKDAY($I$9,1)-($I$4-1))<=0,7,0)+(ROW(L16)-ROW($I$11))*7+(COLUMN(L16)-COLUMN($I$11)+1)) | M16: =IF(MONTH($I$9)<>MONTH($I$9-(WEEKDAY($I$9,1)-($I$4-1))-IF((WEEKDAY($I$9,1)-($I$4-1))<=0,7,0)+(ROW(M16)-ROW($I$11))*7+(COLUMN(M16)-COLUMN($I$11)+1)),"",$I$9-(WEEKDAY($I$9,1)-($I$4-1))-IF((WEEKDAY($I$9,1)-($I$4-1))<=0,7,0)+(ROW(M16)-ROW($I$11))*7+(COLUMN(M16)-COLUMN($I$11)+1)) | N16: =IF(MONTH($I$9)<>MONTH($I$9-(WEEKDAY($I$9,1)-($I$4-1))-IF((WEEKDAY($I$9,1)-($I$4-1))<=0,7,0)+(ROW(N16)-ROW($I$11))*7+(COLUMN(N16)-COLUMN($I$11)+1)),"",$I$9-(WEEKDAY($I$9,1)-($I$4-1))-IF((WEEKDAY($I$9,1)-($I$4-1))<=0,7,0)+(ROW(N16)-ROW($I$11))*7+(COLUMN(N16)-COLUMN($I$11)+1)) | O16: =IF(MONTH($I$9)<>MONTH($I$9-(WEEKDAY($I$9,1)-($I$4-1))-IF((WEEKDAY($I$9,1)-($I$4-1))<=0,7,0)+(ROW(O16)-ROW($I$11))*7+(COLUMN(O16)-COLUMN($I$11)+1)),"",$I$9-(WEEKDAY($I$9,1)-($I$4-1))-IF((WEEKDAY($I$9,1)-($I$4-1))<=0,7,0)+(ROW(O16)-ROW($I$11))*7+(COLUMN(O16)-COLUMN($I$11)+1)) | Q16: =IF(MONTH($Q$9)<>MONTH($Q$9-(WEEKDAY($Q$9,1)-($I$4-1))-IF((WEEKDAY($Q$9,1)-($I$4-1))<=0,7,0)+(ROW(Q16)-ROW($Q$11))*7+(COLUMN(Q16)-COLUMN($Q$11)+1)),"",$Q$9-(WEEKDAY($Q$9,1)-($I$4-1))-IF((WEEKDAY($Q$9,1)-($I$4-1))<=0,7,0)+(ROW(Q16)-ROW($Q$11))*7+(COLUMN(Q16)-COLUMN($Q$11)+1)) | R16: =IF(MONTH($Q$9)<>MONTH($Q$9-(WEEKDAY($Q$9,1)-($I$4-1))-IF((WEEKDAY($Q$9,1)-($I$4-1))<=0,7,0)+(ROW(R16)-ROW($Q$11))*7+(COLUMN(R16)-COLUMN($Q$11)+1)),"",$Q$9-(WEEKDAY($Q$9,1)-($I$4-1))-IF((WEEKDAY($Q$9,1)-($I$4-1))<=0,7,0)+(ROW(R16)-ROW($Q$11))*7+(COLUMN(R16)-COLUMN($Q$11)+1)) | S16: =IF(MONTH($Q$9)<>MONTH($Q$9-(WEEKDAY($Q$9,1)-($I$4-1))-IF((WEEKDAY($Q$9,1)-($I$4-1))<=0,7,0)+(ROW(S16)-ROW($Q$11))*7+(COLUMN(S16)-COLUMN($Q$11)+1)),"",$Q$9-(WEEKDAY($Q$9,1)-($I$4-1))-IF((WEEKDAY($Q$9,1)-($I$4-1))<=0,7,0)+(ROW(S16)-ROW($Q$11))*7+(COLUMN(S16)-COLUMN($Q$11)+1)) | T16: =IF(MONTH($Q$9)<>MONTH($Q$9-(WEEKDAY($Q$9,1)-($I$4-1))-IF((WEEKDAY($Q$9,1)-($I$4-1))<=0,7,0)+(ROW(T16)-ROW($Q$11))*7+(COLUMN(T16)-COLUMN($Q$11)+1)),"",$Q$9-(WEEKDAY($Q$9,1)-($I$4-1))-IF((WEEKDAY($Q$9,1)-($I$4-1))<=0,7,0)+(ROW(T16)-ROW($Q$11))*7+(COLUMN(T16)-COLUMN($Q$11)+1)) | U16: =IF(MONTH($Q$9)<>MONTH($Q$9-(WEEKDAY($Q$9,1)-($I$4-1))-IF((WEEKDAY($Q$9,1)-($I$4-1))<=0,7,0)+(ROW(U16)-ROW($Q$11))*7+(COLUMN(U16)-COLUMN($Q$11)+1)),"",$Q$9-(WEEKDAY($Q$9,1)-($I$4-1))-IF((WEEKDAY($Q$9,1)-($I$4-1))<=0,7,0)+(ROW(U16)-ROW($Q$11))*7+(COLUMN(U16)-COLUMN($Q$11)+1)) | V16: =IF(MONTH($Q$9)<>MONTH($Q$9-(WEEKDAY($Q$9,1)-($I$4-1))-IF((WEEKDAY($Q$9,1)-($I$4-1))<=0,7,0)+(ROW(V16)-ROW($Q$11))*7+(COLUMN(V16)-COLUMN($Q$11)+1)),"",$Q$9-(WEEKDAY($Q$9,1)-($I$4-1))-IF((WEEKDAY($Q$9,1)-($I$4-1))<=0,7,0)+(ROW(V16)-ROW($Q$11))*7+(COLUMN(V16)-COLUMN($Q$11)+1)) | W16: =IF(MONTH($Q$9)<>MONTH($Q$9-(WEEKDAY($Q$9,1)-($I$4-1))-IF((WEEKDAY($Q$9,1)-($I$4-1))<=0,7,0)+(ROW(W16)-ROW($Q$11))*7+(COLUMN(W16)-COLUMN($Q$11)+1)),"",$Q$9-(WEEKDAY($Q$9,1)-($I$4-1))-IF((WEEKDAY($Q$9,1)-($I$4-1))<=0,7,0)+(ROW(W16)-ROW($Q$11))*7+(COLUMN(W16)-COLUMN($Q$11)+1)) | Y16: =(DATE($A$4+IF($E$4>11,1,0),11,1)+(4-1)*7)+5-WEEKDAY(DATE($A$4+IF($E$4>11,1,0),11,1),1)+IF(5<WEEKDAY(DATE($A$4+IF($E$4>11,1,0),11,1),1),7,0) -> 46352 | Z16: Thanksgiving
Y17: =(DATE($A$4+IF($E$4>1,1,0),1,1)+(3-1)*7)+2-WEEKDAY(DATE($A$4+IF($E$4>1,1,0),1,1),1)+IF(2<WEEKDAY(DATE($A$4+IF($E$4>1,1,0),1,1),1),7,0) -> 46405 | Z17: ML King Day
A18: =DATE(YEAR(Q9),MONTH(Q9)+1,1) -> 46327 | I18: =DATE(YEAR(A18),MONTH(A18)+1,1) -> 46357 | Q18: =DATE(YEAR(I18),MONTH(I18)+1,1) -> 46388 | Y18: =(DATE($A$4+IF($E$4>5,1,0),5,1)+(2-1)*7)+1-WEEKDAY(DATE($A$4+IF($E$4>5,1,0),5,1),1)+IF(1<WEEKDAY(DATE($A$4+IF($E$4>5,1,0),5,1),1),7,0) -> 46516 | Z18: Mother's Day
