Workbook

Sheet Front Page
I1: DARE COUNTY SCHOOLS
I2: REIMBURSEMENT OF TRAVEL AND OTHER EXPENSES INCURRED
A3: INSTRUCTIONS TO CLAIMANT: Attach all original receipts and other supporting documents to this form and submit the original form to Accounts
A4: Payable. Supporting documents include: Agenda (required), Map (Mileage Reimbursement), and Invoice (Hotel, Parking, or Registration reimbusement).
A5: Utilize the second tab for trips greater than three (3) days. Please retain a copy for your records.
A6: Payee's Full Legal Name (First, Middle, Last) | I6: Employee ID | M6: Account #
A8: Title | I8: School or Office
A10: Under penalty of perjury, I certify this is a true and accurate statement of the | J10: I have examined this reimbursement request and certify that it is
A11: expenses & allowances incurred in the services of my job with Dare County Schools. | J11: just and reasonable.
B15: (CLAIMANT) | F15: (DATE) | K15: (SUPERVISOR) | O15: (DATE)
A16: This instrument has been pre-audited in the manner required by the School Budget & Fiscal Control Act.
F19: Director of Finance | L19: Date
B21: NOTE: ORIGINAL SIGNATURES MUST APPEAR ON ORIGINAL COPY
A22: Period Covered by this Request | F22: Total Expenses Claimed | N22: =SUM('Back Page'!G40,'Back Page'!H40,'Back Page'!J40,'Back Page'!K40,'Back Page'!M40) -> 0
A23: Date/Time Left: | G23: Less Travel Advance Trip Advance Annual Advance
A24: Date/Time Returned: | F24: NET REIMBURSEMENT | N24: =+N22-N23 -> 0
O26: 0.33
O27: 0.76
B28: TRAVEL (Show Each City Visited) | H28: TRANSPORTATION | L28: SUBSISTENCE | N28: OTHER EXPENSES
A29: DATE | B29: FROM TO | E29: MODE | F29: DAILY MILEAGE | I29: IN-STATE | J29: OUT-OF-STATE | K29: TYPE | L29: IN-STATE | M29: OUT-OF-STATE | N29: EXPLANATION | O29: AMOUNT
E30: P | G30: @ | H30: =$O$27 -> 0.76 | I30: =F30*H30 -> 0 | K30: B | L30: 0 | M30: 0
E31: A | K31: L | L31: 0 | M31: 0
E32: O | K32: D | L32: 0 | M32: 0
E33: R | K33: H
K34: T | L34: =SUM(L30:L33) -> 0 | M34: =SUM(M30:M33) -> 0 | O34: =SUM(O30:O33) -> 0
E35: P | G35: @ | H35: =$O$27 -> 0.76 | I35: =F35*H35 -> 0 | K35: B | L35: 0 | M35: 0
E36: A | K36: L | L36: 0 | M36: 0
E37: O | K37: D | L37: 0 | M37: 0
E38: R | K38: H
K39: T | L39: =SUM(L35:L38) -> 0 | M39: =SUM(M35:M38) -> 0 | O39: =SUM(O35:O38) -> 0
E40: P | G40: @ | H40: =$O$27 -> 0.76 | I40: =F40*H40 -> 0 | K40: B | L40: 0 | M40: 0
E41: A | K41: L | L41: 0 | M41: 0
E42: O | K42: D | L42: 0 | M42: 0
E43: R | K43: H
K44: T | L44: =SUM(L40:L43) -> 0 | M44: =SUM(M40:M43) -> 0 | O44: =SUM(O40:O43) -> 0
I45: TOTAL TRANS. | J45: TOTAL TRANS. | L45: TOTAL SUBS. | M45: TOTAL SUBS. | O45: TOTAL OTH. EXP.
I46: =SUM(I30:I44) -> 0 | J46: =SUM(J30:J44) -> 0 | L46: =SUM(L39,L34,L44) -> 0 | M46: =SUM(M39,M34,M44) -> 0 | O46: =SUM(O39,O34,O44) -> 0
I47: Daily total for subsistence not to exceed authorized amount for in-state or out-of-state travel.
O48: revised 5/2021

Sheet Back Page
B1: TRAVEL (Show Each City Visited) | F1: TRANSPORTATION | J1: SUBSISTENCE | L1: OTHER EXPENSES
A2: DAY | B2: FROM TO | C2: MODE | D2: DAILY MILEAGE | G2: IN-STATE | H2: OUT-OF-STATE | I2: TYPE | J2: IN-STATE | K2: OUT-OF-STATE | L2: EXPLANATION | M2: AMOUNT
B3: TOTALS BROUGHT FORWARD | G3: ='Front Page'!I46 -> 0 | H3: ='Front Page'!J46 -> 0 | J3: ='Front Page'!L46 -> 0 | K3: ='Front Page'!M46 -> 0 | M3: ='Front Page'!O46 -> 0
C4: P | E4: @ | F4: =$O$21 -> 0.76 | G4: =D4*F4 -> 0 | I4: B | J4: 0 | K4: 0
C5: A | I5: L | J5: 0 | K5: 0
C6: O | I6: D | J6: 0 | K6: 0
C7: R | I7: H
I8: T | J8: =SUM(J4:J7) -> 0 | K8: =SUM(K4:K7) -> 0 | M8: =SUM(M4:M7) -> 0
C9: P | E9: @ | F9: =$O$21 -> 0.76 | G9: =D9*F9 -> 0 | I9: B | J9: 0 | K9: 0
C10: A | I10: L | J10: 0 | K10: 0
C11: O | I11: D | J11: 0 | K11: 0
C12: R | I12: H
I13: T | J13: =SUM(J9:J12) -> 0 | K13: =SUM(K9:K12) -> 0 | M13: =SUM(M9:M12) -> 0
C14: P | E14: @ | F14: =$O$21 -> 0.76 | G14: =D14*F14 -> 0 | I14: B | J14: 0 | K14: 0
C15: A | I15: L | J15: 0 | K15: 0
C16: O | I16: D | J16: 0 | K16: 0
C17: R | I17: H
I18: T | J18: =SUM(J14:J17) -> 0 | K18: =SUM(K14:K17) -> 0 | M18: =SUM(M14:M17) -> 0
C19: P | E19: @ | F19: =$O$21 -> 0.76 | G19: =D19*F19 -> 0 | I19: B | J19: 0 | K19: 0
C20: A | I20: L | J20: 0 | K20: 0
C21: O | I21: D | J21: 0 | K21: 0 | O21: ='Front Page'!$O$27 -> 0.76
C22: R | I22: H
I23: T | J23: =SUM(J19:J22) -> 0 | K23: =SUM(K19:K22) -> 0 | M23: =SUM(M19:M22) -> 0
C24: P | E24: @ | F24: =$O$21 -> 0.76 | G24: =D24*F24 -> 0 | I24: B | J24: 0 | K24: 0
C25: A | I25: L | J25: 0 | K25: 0
C26: O | I26: D | J26: 0 | K26: 0
C27: R | I27: H
I28: T | J28: =SUM(J24:J27) -> 0 | K28: =SUM(K24:K27) -> 0 | M28: =SUM(M24:M27) -> 0
C29: P | E29: @ | F29: =$O$21 -> 0.76 | G29: =D29*F29 -> 0 | I29: B | J29: 0 | K29: 0
C30: A | I30: L | J30: 0 | K30: 0
C31: O | I31: D | J31: 0 | K31: 0
C32: R | I32: H
I33: T | J33: =SUM(J29:J32) -> 0 | K33: =SUM(K29:K32) -> 0 | M33: =SUM(M29:M32) -> 0
C34: P | E34: @ | F34: =$O$21 -> 0.76 | G34: =D34*F34 -> 0 | I34: B | J34: 0 | K34: 0
C35: A | I35: L | J35: 0 | K35: 0
C36: O | I36: D | J36: 0 | K36: 0
C37: R | I37: H
I38: T | J38: =SUM(J34:J37) -> 0 | K38: =SUM(K34:K37) -> 0 | M38: =SUM(M34:M37) -> 0
G39: TOTAL TRANS. | H39: TOTAL TRANS. | J39: TOTAL SUBS. | K39: TOTAL SUBS. | M39: TOTAL OTH. EXP.
G40: =SUM(G3:G37) -> 0 | H40: =SUM(H3:H37) -> 0 | J40: =+J3+J8+J13+J18+J23+J28+J33+J38 -> 0 | K40: =+K3+K8+K13+K18+K23+K28+K33+K38 -> 0 | L40: =+L3+L8+L13+L18+L23+L28+L33+L38 -> 0 | M40: =+M3+M8+M13+M18+M23+M28+M33+M38 -> 0
...

Sheet Sheet1
