Workbook

Sheet MEC v0726
B1: MONTHLY MILEAGE EXPENSE CLAIM REPORT (MEC)
B2: For Regular, Business/Work-Related Mileage Within Ventura County
B3: Mileage reimbursement claims should be submitted each month that the employee has travel using their person vehicle for a business/work purpose. Mileage claims should be submitted within ten (10) days of the end of of the month in which the travel occurred. Mileage reimbursement rates are paid per mile only and at the IRS rate that is effective during the travel. Mileage reimbursement rates will be verified and updated at the time of payment if necessary. BP 3350(b)
B4: Check will be issued to the address that is on file with HR. Contact HR or update through the Employee Portal if there is an address change.
B6: Employee: | I6: EMP ID:* | K6: Required* | L6: MM/YY
D7: Last Name, First Name | J7: Employee ID - Do not use SS | M7: Ex. 01/26
B9: Job Classification: | K9: Work Site/Loc:
B11: RT = Round Trip. Please indicate if the trip was a round trip. | K11: Please do not combine various months on the same claim.
B13: TRIP # | C13: DATE | D13: FROM | E13: TO | F13: MILES | G13: RT | I13: TRIP # | J13: DATE | K13: FROM | L13: TO | M13: MILES | N13: RT
B14: 1 | F14: {=IFERROR(IF(H14=TRUE,(INDEX(Mileage!$B$2:$AI$35,MATCH(D14,Mileage!$A$2:$A$35),MATCH(E14,Mileage!$B$1:$AI$1)))*2,(INDEX(Mileage!$B$2:$AI$35,MATCH(D14,Mileage!$A$2:$A$35),MATCH(E14,Mileage!$B$1:$AI$1)))),"")} | H14: FALSE | I14: 21 | M14: {=IFERROR(IF(O14=TRUE,(INDEX(Mileage!$B$2:$AI$35,MATCH(K14,Mileage!$A$2:$A$35),MATCH(L14,Mileage!$B$1:$AI$1)))*2,(INDEX(Mileage!$B$2:$AI$35,MATCH(K14,Mileage!$A$2:$A$35),MATCH(L14,Mileage!$B$1:$AI$1)))),"")} | O14: FALSE
B15: 2 | F15: {=IFERROR(IF(H15=TRUE,(INDEX(Mileage!$B$2:$AI$35,MATCH(D15,Mileage!$A$2:$A$35),MATCH(E15,Mileage!$B$1:$AI$1)))*2,(INDEX(Mileage!$B$2:$AI$35,MATCH(D15,Mileage!$A$2:$A$35),MATCH(E15,Mileage!$B$1:$AI$1)))),"")} | H15: FALSE | I15: 22 | M15: {=IFERROR(IF(O15=TRUE,(INDEX(Mileage!$B$2:$AI$35,MATCH(K15,Mileage!$A$2:$A$35),MATCH(L15,Mileage!$B$1:$AI$1)))*2,(INDEX(Mileage!$B$2:$AI$35,MATCH(K15,Mileage!$A$2:$A$35),MATCH(L15,Mileage!$B$1:$AI$1)))),"")} | O15: FALSE
B16: 3 | F16: {=IFERROR(IF(H16=TRUE,(INDEX(Mileage!$B$2:$AI$35,MATCH(D16,Mileage!$A$2:$A$35),MATCH(E16,Mileage!$B$1:$AI$1)))*2,(INDEX(Mileage!$B$2:$AI$35,MATCH(D16,Mileage!$A$2:$A$35),MATCH(E16,Mileage!$B$1:$AI$1)))),"")} | H16: FALSE | I16: 23 | M16: {=IFERROR(IF(O16=TRUE,(INDEX(Mileage!$B$2:$AI$35,MATCH(K16,Mileage!$A$2:$A$35),MATCH(L16,Mileage!$B$1:$AI$1)))*2,(INDEX(Mileage!$B$2:$AI$35,MATCH(K16,Mileage!$A$2:$A$35),MATCH(L16,Mileage!$B$1:$AI$1)))),"")} | O16: FALSE
B17: 4 | F17: {=IFERROR(IF(H17=TRUE,(INDEX(Mileage!$B$2:$AI$35,MATCH(D17,Mileage!$A$2:$A$35),MATCH(E17,Mileage!$B$1:$AI$1)))*2,(INDEX(Mileage!$B$2:$AI$35,MATCH(D17,Mileage!$A$2:$A$35),MATCH(E17,Mileage!$B$1:$AI$1)))),"")} | H17: FALSE | I17: 24 | M17: {=IFERROR(IF(O17=TRUE,(INDEX(Mileage!$B$2:$AI$35,MATCH(K17,Mileage!$A$2:$A$35),MATCH(L17,Mileage!$B$1:$AI$1)))*2,(INDEX(Mileage!$B$2:$AI$35,MATCH(K17,Mileage!$A$2:$A$35),MATCH(L17,Mileage!$B$1:$AI$1)))),"")} | O17: FALSE
B18: 5 | F18: {=IFERROR(IF(H18=TRUE,(INDEX(Mileage!$B$2:$AI$35,MATCH(D18,Mileage!$A$2:$A$35),MATCH(E18,Mileage!$B$1:$AI$1)))*2,(INDEX(Mileage!$B$2:$AI$35,MATCH(D18,Mileage!$A$2:$A$35),MATCH(E18,Mileage!$B$1:$AI$1)))),"")} | H18: FALSE | I18: 25 | M18: {=IFERROR(IF(O18=TRUE,(INDEX(Mileage!$B$2:$AI$35,MATCH(K18,Mileage!$A$2:$A$35),MATCH(L18,Mileage!$B$1:$AI$1)))*2,(INDEX(Mileage!$B$2:$AI$35,MATCH(K18,Mileage!$A$2:$A$35),MATCH(L18,Mileage!$B$1:$AI$1)))),"")} | O18: FALSE
B19: 6 | F19: {=IFERROR(IF(H19=TRUE,(INDEX(Mileage!$B$2:$AI$35,MATCH(D19,Mileage!$A$2:$A$35),MATCH(E19,Mileage!$B$1:$AI$1)))*2,(INDEX(Mileage!$B$2:$AI$35,MATCH(D19,Mileage!$A$2:$A$35),MATCH(E19,Mileage!$B$1:$AI$1)))),"")} | H19: FALSE | I19: 26 | M19: {=IFERROR(IF(O19=TRUE,(INDEX(Mileage!$B$2:$AI$35,MATCH(K19,Mileage!$A$2:$A$35),MATCH(L19,Mileage!$B$1:$AI$1)))*2,(INDEX(Mileage!$B$2:$AI$35,MATCH(K19,Mileage!$A$2:$A$35),MATCH(L19,Mileage!$B$1:$AI$1)))),"")} | O19: FALSE
B20: 7 | F20: {=IFERROR(IF(H20=TRUE,(INDEX(Mileage!$B$2:$AI$35,MATCH(D20,Mileage!$A$2:$A$35),MATCH(E20,Mileage!$B$1:$AI$1)))*2,(INDEX(Mileage!$B$2:$AI$35,MATCH(D20,Mileage!$A$2:$A$35),MATCH(E20,Mileage!$B$1:$AI$1)))),"")} | H20: FALSE | I20: 27 | M20: {=IFERROR(IF(O20=TRUE,(INDEX(Mileage!$B$2:$AI$35,MATCH(K20,Mileage!$A$2:$A$35),MATCH(L20,Mileage!$B$1:$AI$1)))*2,(INDEX(Mileage!$B$2:$AI$35,MATCH(K20,Mileage!$A$2:$A$35),MATCH(L20,Mileage!$B$1:$AI$1)))),"")} | O20: FALSE
B21: 8 | F21: {=IFERROR(IF(H21=TRUE,(INDEX(Mileage!$B$2:$AI$35,MATCH(D21,Mileage!$A$2:$A$35),MATCH(E21,Mileage!$B$1:$AI$1)))*2,(INDEX(Mileage!$B$2:$AI$35,MATCH(D21,Mileage!$A$2:$A$35),MATCH(E21,Mileage!$B$1:$AI$1)))),"")} | H21: FALSE | I21: 28 | M21: {=IFERROR(IF(O21=TRUE,(INDEX(Mileage!$B$2:$AI$35,MATCH(K21,Mileage!$A$2:$A$35),MATCH(L21,Mileage!$B$1:$AI$1)))*2,(INDEX(Mileage!$B$2:$AI$35,MATCH(K21,Mileage!$A$2:$A$35),MATCH(L21,Mileage!$B$1:$AI$1)))),"")} | O21: FALSE
B22: 9 | F22: {=IFERROR(IF(H22=TRUE,(INDEX(Mileage!$B$2:$AI$35,MATCH(D22,Mileage!$A$2:$A$35),MATCH(E22,Mileage!$B$1:$AI$1)))*2,(INDEX(Mileage!$B$2:$AI$35,MATCH(D22,Mileage!$A$2:$A$35),MATCH(E22,Mileage!$B$1:$AI$1)))),"")} | H22: FALSE | I22: 29 | M22: {=IFERROR(IF(O22=TRUE,(INDEX(Mileage!$B$2:$AI$35,MATCH(K22,Mileage!$A$2:$A$35),MATCH(L22,Mileage!$B$1:$AI$1)))*2,(INDEX(Mileage!$B$2:$AI$35,MATCH(K22,Mileage!$A$2:$A$35),MATCH(L22,Mileage!$B$1:$AI$1)))),"")} | O22: FALSE
B23: 10 | F23: {=IFERROR(IF(H23=TRUE,(INDEX(Mileage!$B$2:$AI$35,MATCH(D23,Mileage!$A$2:$A$35),MATCH(E23,Mileage!$B$1:$AI$1)))*2,(INDEX(Mileage!$B$2:$AI$35,MATCH(D23,Mileage!$A$2:$A$35),MATCH(E23,Mileage!$B$1:$AI$1)))),"")} | H23: FALSE | I23: 30 | M23: {=IFERROR(IF(O23=TRUE,(INDEX(Mileage!$B$2:$AI$35,MATCH(K23,Mileage!$A$2:$A$35),MATCH(L23,Mileage!$B$1:$AI$1)))*2,(INDEX(Mileage!$B$2:$AI$35,MATCH(K23,Mileage!$A$2:$A$35),MATCH(L23,Mileage!$B$1:$AI$1)))),"")} | O23: FALSE
B24: 11 | F24: {=IFERROR(IF(H24=TRUE,(INDEX(Mileage!$B$2:$AI$35,MATCH(D24,Mileage!$A$2:$A$35),MATCH(E24,Mileage!$B$1:$AI$1)))*2,(INDEX(Mileage!$B$2:$AI$35,MATCH(D24,Mileage!$A$2:$A$35),MATCH(E24,Mileage!$B$1:$AI$1)))),"")} | H24: FALSE | I24: 31 | M24: {=IFERROR(IF(O24=TRUE,(INDEX(Mileage!$B$2:$AI$35,MATCH(K24,Mileage!$A$2:$A$35),MATCH(L24,Mileage!$B$1:$AI$1)))*2,(INDEX(Mileage!$B$2:$AI$35,MATCH(K24,Mileage!$A$2:$A$35),MATCH(L24,Mileage!$B$1:$AI$1)))),"")} | O24: FALSE
B25: 12 | F25: {=IFERROR(IF(H25=TRUE,(INDEX(Mileage!$B$2:$AI$35,MATCH(D25,Mileage!$A$2:$A$35),MATCH(E25,Mileage!$B$1:$AI$1)))*2,(INDEX(Mileage!$B$2:$AI$35,MATCH(D25,Mileage!$A$2:$A$35),MATCH(E25,Mileage!$B$1:$AI$1)))),"")} | H25: FALSE | I25: 32 | M25: {=IFERROR(IF(O25=TRUE,(INDEX(Mileage!$B$2:$AI$35,MATCH(K25,Mileage!$A$2:$A$35),MATCH(L25,Mileage!$B$1:$AI$1)))*2,(INDEX(Mileage!$B$2:$AI$35,MATCH(K25,Mileage!$A$2:$A$35),MATCH(L25,Mileage!$B$1:$AI$1)))),"")} | O25: FALSE
... B33: 20 | F33: {=IFERROR(IF(H33=TRUE,(INDEX(Mileage!$B$2:$AI$35,MATCH(D33,Mileage!$A$2:$A$35),MATCH(E33,Mileage!$B$1:$AI$1)))*2,(INDEX(Mileage!$B$2:$AI$35,MATCH(D33,Mileage!$A$2:$A$35),MATCH(E33,Mileage!$B$1:$AI$1)))),"")} | H33: FALSE | I33: 40 | M33: {=IFERROR(IF(O33=TRUE,(INDEX(Mileage!$B$2:$AI$35,MATCH(K33,Mileage!$A$2:$A$35),MATCH(L33,Mileage!$B$1:$AI$1)))*2,(INDEX(Mileage!$B$2:$AI$35,MATCH(K33,Mileage!$A$2:$A$35),MATCH(L33,Mileage!$B$1:$AI$1)))),"")} | O33: FALSE
B35: For mileages that are not listed in the mileage allowance chart, or using the dropdown location lookup, please attach a mileage map to show the miles claimed.
B38: I HEREBY CERTIFY that I was authorized to travel and the above is a true statement of the travel expenses incurred by me in accordance with the applicable VUSD policies and procedures, and that all items shown were for the official business of Ventura Unified School District. Furthermore, I HEREBY CERTIFY that I will not seek reimbursement for a duplicate claim or from any other source. APPROVALS: I am authorized to approve this travel expense claim, as it services a VUSD business purpose, and I certify that adequate funds are available.
I39: IRS Mileage Reimbursement Rates: | L39: Total Mileage | M39: =SUM($F$14:$F$33)+SUM($M$14:$M$33) -> 0
I40: January 1 to June 30, 2026 | K40: 0.725 | L40: IRS Rate | M40: =IF(OR(M6="01/26",M6="02/26",M6="03/26",M6="04/26",M6="05/26",M6="06/26"),K40,0)&IF(OR(M6="07/26",M6="08/26",M6="09/26",M6="010/26",M6="11/26",M6="12/26"),K41,0) -> 00
I41: July 1 to December 31, 2026 | K41: 0.76 | L41: Total Claim | M41: =ROUND($M$39*$M$40,2) -> 0
B45: Traveler's Signature | D45: Required* | F45: Date
L46: Fiscal Services Only:
B49: Appropriate Administrator's Signature | E49: Required* | F49: Date
B53: Account Number:
D54: Required*

Sheet Mileage
A1: Location To/From | B1: Anacapa | C1: ATLAS | D1: Balboa | E1: Buena | F1: Cabrillo | G1: Citrus Glen | H1: DeAnza | I1: El Camino | J1: Elmhurst | K1: EP Foster | L1: ESC | M1: Facilities | N1: Foothill | O1: Homestead | P1: J Serra | Q1: Juanamaria | R1: Lemon Grove | S1: Lincoln | T1: Loma Vista | U1: Montalvo | V1: Mound | W1: Oak View Rec | X1: Pacific | Y1: Pierpont | Z1: Poinsettia | AA1: Portola | AB1: Sa'aliyas Ranch | AC1: Sheridan Way | AD1: Sunset | AE1: Transportation | AF1: VACE | AG1: VCOE | AH1: Ventura | AI1: Will Rogers | AN1: Location To | AO1: Location From
A2: Anacapa | B2: 0 | C2: 6.9 | D2: 3.1 | E2: 2.8 | F2: 2.3 | G2: 7.7 | H2: 6.5 | I2: 1.9 | J2: 1.6 | K2: 6.4 | L2: 6 | M2: 2.4 | N2: 2.2 | O2: 1.9 | P2: 5.3 | Q2: 4.2 | R2: 1 | S2: 2.3 | T2: 0.6 | U2: 3.1 | V2: 3.3 | W2: 13.7 | X2: 0.6 | Y2: 2.4 | Z2: 2.8 | AA2: 3.3 | AB2: 0.6 | AC2: 4.2 | AD2: 13 | AE2: 8.1 | AF2: 3.2 | AG2: 15.8 | AH2: 1.7 | AI2: 1.1
A3: ATLAS | B3: 6.9 | C3: 0 | D3: 3.7 | E3: 4.9 | F3: 10 | G3: 0.9 | H3: 12.7 | I3: 5.8 | J3: 6 | K3: 12.6 | L3: 12.3 | M3: 4.6 | N3: 5.8 | O3: 5.8 | P3: 1.8 | Q3: 2.5 | R3: 7.2 | S3: 9.8 | T3: 7.5 | U3: 4.5 | V3: 3.9 | W3: 19.8 | X3: 7.1 | Y3: 8.6 | Z3: 4.2 | AA3: 3.3 | AB3: 7.1 | AC3: 9.8 | AD3: 19 | AE3: 14.1 | AF3: 6.2 | AG3: 13.3 | AH3: 9.2 | AI3: 8.7 | AN3: Anacapa | AO3: Anacapa
A4: Balboa | B4: 3.1 | C4: 3.7 | D4: 0 | E4: 0.5 | F4: 6.1 | G4: 4.2 | H4: 8.8 | I4: 1.4 | J4: 1.6 | K4: 8.7 | L4: 8.4 | M4: 0.7 | N4: 1.5 | O4: 1.4 | P4: 3.5 | Q4: 1.4 | R4: 3.3 | S4: 5.9 | T4: 3 | U4: 2 | V4: 0.2 | W4: 16 | X4: 2.6 | Y4: 4.7 | Z4: 0.9 | AA4: 2 | AB4: 2.6 | AC4: 7.4 | AD4: 15.3 | AE4: 10.3 | AF4: 2.7 | AG4: 15 | AH4: 4.2 | AI4: 3.4 | AN4: ATLAS | AO4: ATLAS
A5: Buena | B5: 2.8 | C5: 4.9 | D5: 0.5 | E5: 0 | F5: 5.8 | G5: 3.8 | H5: 8.5 | I5: 1.2 | J5: 1.3 | K5: 8.4 | L5: 8.5 | M5: 0.4 | N5: 1.2 | O5: 1.2 | P5: 3.2 | Q5: 1.8 | R5: 3 | S5: 5.6 | T5: 2.7 | U5: 1.7 | V5: 0.7 | W5: 15.7 | X5: 2.3 | Y5: 4.4 | Z5: 0.7 | AA5: 1.7 | AB5: 2.3 | AC5: 7.1 | AD5: 15 | AE5: 10 | AF5: 2.4 | AG5: 14.8 | AH5: 3.9 | AI5: 4.5 | AN5: Balboa | AO5: Balboa
A6: Cabrillo | B6: 2.3 | C6: 10 | D6: 6.1 | E6: 5.8 | F6: 0 | G6: 9.3 | H6: 3.1 | I6: 3.4 | J6: 3.6 | K6: 2.5 | L6: 3.5 | M6: 4.8 | N6: 3.3 | O6: 3.4 | P6: 8.4 | Q6: 7.2 | R6: 2.1 | S6: 0.3 | T6: 2 | U6: 6.2 | V6: 6.3 | W6: 11.2 | X6: 2.8 | Y6: 2.6 | Z6: 4.1 | AA6: 7 | AB6: 2.8 | AC6: 2.3 | AD6: 10.5 | AE6: 5.4 | AF6: 6.8 | AG6: 18.8 | AH6: 0.9 | AI6: 1.4 | AN6: Buena | AO6: Buena
A7: Citrus Glen | B7: 7.7 | C7: 0.9 | D7: 4.2 | E7: 3.8 | F7: 9.3 | G7: 0 | H7: 11.2 | I7: 5.2 | J7: 5.3 | K7: 11.1 | L7: 10.8 | M7: 5.4 | N7: 5.2 | O7: 5.2 | P7: 1 | Q7: 3 | R7: 5.7 | S7: 9 | T7: 6.2 | U7: 3.8 | V7: 3.9 | W7: 18.4 | X7: 6.4 | Y7: 7.7 | Z7: 4.7 | AA7: 2.5 | AB7: 6.4 | AC7: 9.8 | AD7: 17.7 | AE7: 12.7 | AF7: 5.3 | AG7: 15.7 | AH7: 7.7 | AI7: 7.2 | AN7: Cabrillo | AO7: Cabrillo
A8: DeAnza | B8: 6.5 | C8: 12.7 | D8: 8.8 | E8: 8.5 | F8: 3.1 | G8: 11.2 | H8: 0 | I8: 9.5 | J8: 9.5 | K8: 0.6 | L8: 0.6 | M8: 8.9 | N8: 9.6 | O8: 9.5 | P8: 11.1 | Q8: 9.9 | R8: 7.2 | S8: 2.7 | T8: 7.5 | U8: 8.8 | V8: 9 | W8: 8.2 | X8: 7 | Y8: 5.3 | Z8: 9 | AA8: 9.7 | AB8: 7 | AC8: 1.5 | AD8: 7.5 | AE8: 2.2 | AF8: 9 | AG8: 21.5 | AH8: 3.5 | AI8: 5.4 | AN8: Citrus Glen | AO8: Citrus Glen
A9: El Camino | B9: 1.9 | C9: 5.8 | D9: 1.4 | E9: 1.2 | F9: 3.4 | G9: 5.2 | H9: 9.5 | I9: 0 | J9: 1 | K9: 9.3 | L9: 9 | M9: 1.3 | N9: 0.9 | O9: 0 | P9: 4.2 | Q9: 2.4 | R9: 2.4 | S9: 2.9 | T9: 1.7 | U9: 2.6 | V9: 1.6 | W9: 16.6 | X9: 1.6 | Y9: 3.7 | Z9: 1.3 | AA9: 2.6 | AB9: 1.6 | AC9: 5.6 | AD9: 15.9 | AE9: 10.1 | AF9: 3.3 | AG9: 15.7 | AH9: 3 | AI9: 2.4 | AN9: DeAnza | AO9: DeAnza
A10: Elmhurst | B10: 1.6 | C10: 6 | D10: 1.6 | E10: 1.3 | F10: 3.6 | G10: 5.3 | H10: 9.5 | I10: 1 | J10: 0 | K10: 9.4 | L10: 9.2 | M10: 1.3 | N10: 1 | O10: 1 | P10: 4.2 | Q10: 2.5 | R10: 2.5 | S10: 3.8 | T10: 2 | U10: 2.8 | V10: 1.8 | W10: 16.7 | X10: 1.3 | Y10: 3.8 | Z10: 1.4 | AA10: 2.8 | AB10: 1.3 | AC10: 8 | AD10: 16 | AE10: 11.2 | AF10: 3.4 | AG10: 15.9 | AH10: 3 | AI10: 2.5 | AN10: El Camino | AO10: El Camino
A11: EP Foster | B11: 6.4 | C11: 12.6 | D11: 8.7 | E11: 8.4 | F11: 2.5 | G11: 11.1 | H11: 0.6 | I11: 9.3 | J11: 9.4 | K11: 0 | L11: 0.5 | M11: 8.7 | N11: 5.7 | O11: 9.3 | P11: 10.9 | Q11: 9.8 | R11: 7.1 | S11: 2.2 | T11: 4.2 | U11: 8.7 | V11: 8.9 | W11: 8.5 | X11: 6.9 | Y11: 5.2 | Z11: 8.9 | AA11: 9.5 | AB11: 6.9 | AC11: 1 | AD11: 7.8 | AE11: 2.3 | AF11: 8.9 | AG11: 18.9 | AH11: 3 | AI11: 5.3 | AN11: Elmhurst | AO11: Elmhurst
A12: ESC | B12: 6 | C12: 12.3 | D12: 8.4 | E12: 8.5 | F12: 3.5 | G12: 10.8 | H12: 0.6 | I12: 9 | J12: 9 | K12: 0.5 | L12: 0 | M12: 8.4 | N12: 9.2 | O12: 9 | P12: 10.6 | Q12: 9.5 | R12: 6.7 | S12: 3.2 | T12: 7 | U12: 8.4 | V12: 8.5 | W12: 8.1 | X12: 6.5 | Y12: 4.9 | Z12: 8.5 | AA12: 9.2 | AB12: 6.5 | AC12: 1.1 | AD12: 7.4 | AE12: 2.3 | AF12: 8.6 | AG12: 21.1 | AH12: 3.4 | AI12: 5 | AN12: EP Foster | AO12: EP Foster
A13: Facilities | B13: 2.4 | C13: 4.6 | D13: 0.7 | E13: 0.4 | F13: 4.8 | G13: 5.4 | H13: 8.8 | I13: 1.3 | J13: 1.3 | K13: 8.7 | L13: 8.4 | M13: 0 | N13: 1.5 | O13: 1.3 | P13: 3.2 | Q13: 1.9 | R13: 3.2 | S13: 6.3 | T13: 2.9 | U13: 1.6 | V13: 0.9 | W13: 16.1 | X13: 2.5 | Y13: 4.6 | Z13: 0.8 | AA13: 1.7 | AB13: 2.5 | AC13: 7.3 | AD13: 15.4 | AE13: 10.4 | AF13: 2 | AG13: 14.7 | AH13: 4.1 | AI13: 3.3 | AN13: ESC | AO13: ESC
A14: Foothill | B14: 2.2 | C14: 5.8 | D14: 1.5 | E14: 1.2 | F14: 3.3 | G14: 5.2 | H14: 9.6 | I14: 0.9 | J14: 1 | K14: 5.7 | L14: 9.2 | M14: 1.5 | N14: 0 | O14: 0.9 | P14: 4.2 | Q14: 2.4 | R14: 2.5 | S14: 3.4 | T14: 1.6 | U14: 2.7 | V14: 1.7 | W14: 16.8 | X14: 1.8 | Y14: 4.2 | Z14: 1.3 | AA14: 2.7 | AB14: 1.8 | AC14: 5.5 | AD14: 16.1 | AE14: 11.3 | AF14: 3.5 | AG14: 15.8 | AH14: 2.9 | AI14: 2.3 | AN14: Facilities | AO14: Facilities
... A35: Will Rogers | B35: 1.1 | C35: 8.7 | D35: 3.4 | E35: 4.5 | F35: 1.4 | G35: 7.2 | H35: 5.4 | I35: 2.4 | J35: 2.5 | K35: 5.3 | L35: 5 | M35: 3.3 | N35: 2.3 | O35: 2.4 | P35: 7.1 | Q35: 5.9 | R35: 0.9 | S35: 1.4 | T35: 1.1 | U35: 4.9 | V35: 3.6 | W35: 12.6 | X35: 1.7 | Y35: 1.4 | Z35: 3.1 | AA35: 4.1 | AB35: 1.7 | AC35: 3.3 | AD35: 11.9 | AE35: 6.9 | AF35: 3.1 | AG35: 17.5 | AH35: 0.9 | AI35: 0 | AN35: Ventura | AO35: Ventura
AN36: Will Rogers | AO36: Will Rogers
