Workbook

Sheet 2026
A1: Mileage Reimbursement Spreadsheet
A2: (Original Signed State Board of Accounts approved sheet must be attached)
A3: Employee Name | J3: Rate Per Mile | K3: 0.76
A4: Home Address | J4: Total Mileage | K4: =E59+J59 -> 0
A5: City, State Zipcode | J5: Total Reimbursement | K5: =+K59+L59 -> 0
A6: Account Number:
C8: In District - USE DROPDOWN! | F8: Out of District (Please enter address) | K8: Total
A9: Date | B9: Nature of Business | C9: Chart Start/Finish | D9: Round Trip | E9: Chart Miles | F9: From Address | G9: To Address | H9: Odom Start | I9: Odom End | K9: Odom Expense | L9: Chart Expense
E10: =IF(C10="",0,(IF(OR((D10="Y"),(D10="Yes")),2*VLOOKUP(C10,'In-District '!$A$2:$B$130,2,FALSE),VLOOKUP(C10,'In-District '!$A$2:$B$130,2,FALSE)))) -> 0 | J10: =I10-H10 -> 0 | K10: =ROUND(K$3*J10,3) -> 0 | L10: =ROUND(K$3*E10,3) -> 0
E11: =IF(C11="",0,(IF(OR((D11="Y"),(D11="Yes")),2*VLOOKUP(C11,'In-District '!$A$2:$B$130,2,FALSE),VLOOKUP(C11,'In-District '!$A$2:$B$130,2,FALSE)))) -> 0 | J11: =I11-H11 -> 0 | K11: =ROUND(K$3*J11,3) -> 0 | L11: =ROUND(K$3*E11,3) -> 0
E12: =IF(C12="",0,(IF(OR((D12="Y"),(D12="Yes")),2*VLOOKUP(C12,'In-District '!$A$2:$B$130,2,FALSE),VLOOKUP(C12,'In-District '!$A$2:$B$130,2,FALSE)))) -> 0 | J12: =I12-H12 -> 0 | K12: =ROUND(K$3*J12,3) -> 0 | L12: =ROUND(K$3*E12,3) -> 0
E13: =IF(C13="",0,(IF(OR((D13="Y"),(D13="Yes")),2*VLOOKUP(C13,'In-District '!$A$2:$B$130,2,FALSE),VLOOKUP(C13,'In-District '!$A$2:$B$130,2,FALSE)))) -> 0 | J13: =I13-H13 -> 0 | K13: =ROUND(K$3*J13,3) -> 0 | L13: =ROUND(K$3*E13,3) -> 0
E14: =IF(C14="",0,(IF(OR((D14="Y"),(D14="Yes")),2*VLOOKUP(C14,'In-District '!$A$2:$B$130,2,FALSE),VLOOKUP(C14,'In-District '!$A$2:$B$130,2,FALSE)))) -> 0 | J14: =I14-H14 -> 0 | K14: =ROUND(K$3*J14,3) -> 0 | L14: =ROUND(K$3*E14,3) -> 0
E15: =IF(C15="",0,(IF(OR((D15="Y"),(D15="Yes")),2*VLOOKUP(C15,'In-District '!$A$2:$B$130,2,FALSE),VLOOKUP(C15,'In-District '!$A$2:$B$130,2,FALSE)))) -> 0 | J15: =I15-H15 -> 0 | K15: =ROUND(K$3*J15,3) -> 0 | L15: =ROUND(K$3*E15,3) -> 0
E16: =IF(C16="",0,(IF(OR((D16="Y"),(D16="Yes")),2*VLOOKUP(C16,'In-District '!$A$2:$B$130,2,FALSE),VLOOKUP(C16,'In-District '!$A$2:$B$130,2,FALSE)))) -> 0 | J16: =I16-H16 -> 0 | K16: =ROUND(K$3*J16,3) -> 0 | L16: =ROUND(K$3*E16,3) -> 0
E17: =IF(C17="",0,(IF(OR((D17="Y"),(D17="Yes")),2*VLOOKUP(C17,'In-District '!$A$2:$B$130,2,FALSE),VLOOKUP(C17,'In-District '!$A$2:$B$130,2,FALSE)))) -> 0 | J17: =I17-H17 -> 0 | K17: =ROUND(K$3*J17,3) -> 0 | L17: =ROUND(K$3*E17,3) -> 0
E18: =IF(C18="",0,(IF(OR((D18="Y"),(D18="Yes")),2*VLOOKUP(C18,'In-District '!$A$2:$B$130,2,FALSE),VLOOKUP(C18,'In-District '!$A$2:$B$130,2,FALSE)))) -> 0 | J18: =I18-H18 -> 0 | K18: =ROUND(K$3*J18,3) -> 0 | L18: =ROUND(K$3*E18,3) -> 0
E19: =IF(C19="",0,(IF(OR((D19="Y"),(D19="Yes")),2*VLOOKUP(C19,'In-District '!$A$2:$B$130,2,FALSE),VLOOKUP(C19,'In-District '!$A$2:$B$130,2,FALSE)))) -> 0 | J19: =I19-H19 -> 0 | K19: =ROUND(K$3*J19,3) -> 0 | L19: =ROUND(K$3*E19,3) -> 0
E20: =IF(C20="",0,(IF(OR((D20="Y"),(D20="Yes")),2*VLOOKUP(C20,'In-District '!$A$2:$B$130,2,FALSE),VLOOKUP(C20,'In-District '!$A$2:$B$130,2,FALSE)))) -> 0 | J20: =I20-H20 -> 0 | K20: =ROUND(K$3*J20,3) -> 0 | L20: =ROUND(K$3*E20,3) -> 0
E21: =IF(C21="",0,(IF(OR((D21="Y"),(D21="Yes")),2*VLOOKUP(C21,'In-District '!$A$2:$B$130,2,FALSE),VLOOKUP(C21,'In-District '!$A$2:$B$130,2,FALSE)))) -> 0 | J21: =I21-H21 -> 0 | K21: =ROUND(K$3*J21,3) -> 0 | L21: =ROUND(K$3*E21,3) -> 0
... E58: =IF(C58="",0,(IF(OR((D58="Y"),(D58="Yes")),2*VLOOKUP(C58,'In-District '!$A$2:$B$130,2,FALSE),VLOOKUP(C58,'In-District '!$A$2:$B$130,2,FALSE)))) -> 0 | J58: =I58-H58 -> 0 | K58: =ROUND(K$3*J58,3) -> 0 | L58: =ROUND(K$3*E58,3) -> 0
D59: Total | E59: =SUM(E10:E58) -> 0 | I59: Total | J59: =SUM(J10:J58) -> 0 | K59: =SUM(K10:K58) -> 0 | L59: =SUM(L10:L58) -> 0

Sheet In-District 
A1: In District Mileage Chart
A2: BME to EE | B2: 5.6 | C2: Y
A3: BME to ESC | B3: 5.5 | C3: N
A4: BME to HS | B4: 5.5
A5: BME to PVE | B5: 5.8
A6: BME to SGE | B6: 1.9
A7: BME to TSE | B7: 4.2
A8: BME to UE | B8: 10
A9: BME to ZM | B9: 4.7
A10: BME to ZW | B10: 1.7
A11: BME to Huntington Zville | B11: 6.7
A12: BME to Key Bank Zville | B12: 4.1
A13: EE to BME | B13: 5.6
A14: EE to ESC | B14: 0.8
A15: EE to HS | B15: 0.8
... A130: ZW to ZM | B130: 4.3
