Workbook

Sheet Exhibit A
B1: DOUGLAS COUNTY SCHOOL DISTRICT
B2: TRAVEL ADVANCE FORM - EXHIBIT A
B3: (SEE BUSINESS SERVICES PROCEDURAL MANUAL 0200 FOR TRAVEL REGULATIONS)
B5: Name
H6: I declare under penalties of perjury that to the best of my knowledge
H7: this is a true and correct claim in conformance with the governing
B8: Department / School | H8: statutes and all district policies and procedures.
I9: I am requesting a travel advance from the District,
I10: and agree to the rules in accordance with the above.
B11: Account Number
B14: Official Duty Station | H14: Signature of Traveler Date
B16: Normal Commute (miles)* | D16: to: from:
B17: (*insert mileage one-way TO work from home and FROM work to home) | H17: Supervisor Approval Date
B18: (reimbursement can only be given for miles IN EXCESS of normal commute)
B19: Transportation Codes:
B20: P - Plane | D20: X - Passenger in Car | H20: Superintendent Approval Date
B21: PV1- Private Vehicle* | D21: PV2- Private Vehicle*
B22: (Employee's Convenience) | D22: (District's Convenience)
B23: DV - District Vehicle | D23: PT - Public Trans: Subway, City Bus | H23: Traveler is:
B24: OT - Other: Limousine, Taxi, Shuttle, Rental Car, Inter-City Bus, Railroad | J24: District Employee | O24: Board Member
B25: Miscellaneous Codes:
B26: PA - Parking T - Taxes/Fees MI - All other miscellaneous expenses
B28: Travel Advances require an estimated cost of travel. Fill out the form with estimated expenses and submit with written statement substantiating the need for a travel advance. Advances will not be approved without Superintendent's signature.
C29: Destination | E29: Travel | G29: Transportation | J29: Miscellaneous | L29: Daily Expenses | P29: Total
C30: and | E30: Time | J30: Expenses | L30: Meals | O30: Lodging | P30: For
B31: Date | C31: Purpose of Each Trip | E31: Started | F31: Ended | G31: Code | H31: Mileage | I31: Cost | J31: Code | K31: Cost | L31: B | M31: L | N31: D | P31: Day
P32: =SUM(I32+K32+L32+M32+N32+O32) -> 0
P33: =SUM(I33+K33+L33+M33+N33+O33) -> 0
P34: =SUM(I34+K34+L34+M34+N34+O34) -> 0
P35: =SUM(I35+K35+L35+M35+N35+O35) -> 0
P36: =SUM(I36+K36+L36+M36+N36+O36) -> 0
P37: =SUM(I37+K37+L37+M37+N37+O37) -> 0
P38: =SUM(I38+K38+L38+M38+N38+O38) -> 0
P39: =SUM(I39+K39+L39+M39+N39+O39) -> 0
P40: =SUM(I40+K40+L40+M40+N40+O40) -> 0
C41: Total Estimated Claim by Category | I41: =SUM(I32:I40) -> 0 | J41: =SUM(J32:J40) -> 0 | K41: =SUM(K32:K40) -> 0 | L41: =SUM(L32:L40) -> 0 | M41: =SUM(M32:M40) -> 0 | N41: =SUM(N32:N40) -> 0 | O41: =SUM(O32:O40) -> 0 | P41: =SUM(I41+K41+L41+M41+N41+O41) -> 0
B43: Allowable Advance (80% of Lodging/Meals; 100% All Other) | P43: =0.8*(SUM(L41:O41))+SUM(I41:K41) -> 0
B45: This form is used to estimate travel expenses. Actual expenses must be submitted utilizing EXHIBIT D - Travel Expense
B46: Reimbursement Claim Form within 5 days of completion of travel unless prohibited by exceptional circumstances.
B47: Travel advances will not be processed until 10 days before Departure, and shall only be processed by Business Services.
...

Sheet Exhibit B
A1: DOUGLAS COUNTY SCHOOL DISTRICT
A2: REIMBURSEMENT SCHEDULE - EXHIBIT B
A3: (SEE BUSINESS SERVICES PROCEDURAL MANUAL 0200 FOR TRAVEL REGULATIONS)
A7: Airfare: | C7: Least expensive method; Coach / Economy seating only
A9: Rental Cars: | C9: Use cooperative contract/agreement from State Purchasing website
C11: http://purchasing.nv.gov/Contracts/Documents/VehicleRentals/
C13: Mandatory Account Numbers:
E14: Enterprise / National = | G14: XZ54WNV | H14: (pin = NEV if requested)
E15: Hertz = | G15: CDP #88103
C17: Always Choose "BUSINESS USE" option when booking rental.
C19: Utilize Vehicle Maintenance Department for coordination of rentals
C20: Requires 2 weeks' advance notice; call (775) 782-4679
A22: Lodging: | C22: Governmental Services Administration (GSA) continental United States (CONUS) Rates
C24: http://www.gsa.gov/portal/category/104711
C26: CONUS rates are determined by locale and season. Taxes are excluded from
C27: the CONUS rate, but are reimbursable in ratio to approved CONUS rate.
A30: Meals: | C30: For Per Diem Rate Lookup at gsa.gov | G30: Partial Per Diem Rate Timing
G31: Leave Home Before: | I31: Arrive Home After:
G32: 0.27083333 | I32: 0.35416667
G33: 0.47916667 | I33: 0.5625
G34: 0.6875 | I34: 0.77083333
A38: Mileage: | C38: Adopted Rates
C40: Per Mile Rate: | D40: (PV1) | E40: 0.17 | F40: (Employee's convenience)
C41: Per Mile Rate: | D41: (PV2) | E41: 0.76 | F41: (If district vehicle is unavailable; district's convenience)
A43: Receipts are required for all reimbursements except for meals.
A46: Revised: | B46: 45658

Sheet Exhibit C
B1: DOUGLAS COUNTY SCHOOL DISTRICT
B2: "DAY TRIP" MEAL REIMBURSEMENT CLAIM - EXHIBIT C
B3: (SEE BUSINESS SERVICES PROCEDURAL MANUAL 0200 FOR TRAVEL REGULATIONS)
B5: Name | H5: I declare under penalties of perjury that to the best of my knowledge
H6: this is a true and correct claim in conformance with the governing
B7: Department / School | H7: statutes and all district policies and procedures.
H8: *Receipts are NOT required for Meals
B9: Account Number
B11: Official Duty Station | H11: Signature of Traveler Date
C13: BUSINESS SERVICES USE ONLY
H14: Supervisor Approval Date
C15: ___________ | D15: Date Received
H16: Traveler is:
C17: ___________ | D17: Date Reviewed and | H17: District Employee
D18: Approved for Disbursement
H19: Board Member
C20: ___________ | D20: Date Processed by Payroll
C22: Destination | E22: Travel | H22: Daily Expenses | K22: Total
C23: and | E23: Time | H23: Meals | K23: For
B24: Date | C24: Purpose of Each Trip | E24: Started | F24: Ended | H24: B | I24: L | J24: D | K24: Day
B42: Total of this Claim | K42: =SUM(K25:K41) -> 0
B44: This form is used for the district to reimburse the traveler and must be submitted within 60 days of completion of travel unless
B45: prohibited by exceptional circumstances, or will be subject to taxes as a fringe benefit.
C47: "Day Trip" meal reimbursements will only be processed through PAYROLL, not Petty Cash.
B49: Revised: | C49: ='Exhibit A'!C57 -> 42733
B53: BASIC INSTRUCTIONS: EXHIBIT C
B55: -"DAY TRIP" REIMBURSEMENT IS APPLICABLE ONLY TO MEALS; ALL OTHER REQUESTS FOR REIMBURSEMENT MUST BE
B56: SUBMITTED USING EXHIBIT D
B58: -ALL BOXES / LINE ITEMS MUST BE FILLED OUT IN FULL
B59: -ENSURE TO DATE AND SIGN (BOTH EMPLOYEE & SUPERVISOR)
B60: -FORWARD TO BUSINESS SERVICES WTIHIN 60 DAYS OF TRAVEL; REIMBURSEMENT WILL OCCUR WHEN NEXT PAYROLL
B61: IS PROCESSED DEPENDING ON TIMING OF RECEIPT OF REQUEST
B63: -ALLOWABLE REIMBURSEMENTS ARE DEPENDENT UPON TIME OF LEAVING AND ARRIVING HOME; SEE EXHIBIT B
B65: -BE SURE TO CHANGE THE ACCOUNT CODE; THE ACCOUNT REFLECTED IS INTENDED AS AN EXAMPLE ONLY

Sheet Exhibit D
B1: DOUGLAS COUNTY SCHOOL DISTRICT
B2: TRAVEL EXPENSE REIMBURSEMENT CLAIM - EXHIBIT D
B3: (SEE BUSINESS SERVICES PROCEDURAL MANUAL 0200 FOR TRAVEL REGULATIONS)
B5: Name | K5: I declare under penalties of perjury that to the best of my knowledge
K6: this is a true and correct claim in conformance with the governing
B7: Department / School | K7: statutes and all district policies and procedures.
L8: CHECK THE FOLLOWING AS APPLICABLE PRIOR TO SUBMITTAL
B9: Account Number | L9: All required receipts are attached.
L11: Exhibit A (Travel Advance) is attached.
B12: Official Duty Station
L13: Exhibit H is attached showing proof of Travel Authorization.
B15: Normal Commute (miles)* | D15: to: | G15: from:
B16: (*insert mileage one-way TO work from home and FROM work to home;
B17: THIS IS REQUIRED for reimbursement of private vehicle mileage) | K17: Signature of Traveler Date
B18: Transportation Codes:
B19: P - Plane | D19: X - Passenger in Car
B20: PV1 - Private Vehicle* (Employee's Convenience) | D20: PV2 - Private Vehicle* (District's Convenience) | K20: Supervisor Approval Date
B21: DV - District Vehicle | D21: PT - Public Trans: Subway, City Bus | J21: Traveler is:
B22: OT - Other: Limousine, Taxi, Shuttle, Rental Car, Inter-City Bus, Railroad | K22: District Employee
B23: Miscellaneous Codes:
B24: PA - Parking T - Taxes/Fees MI - All other miscellaneous expenses | K24: Board Member
C26: Destination | H26: Travel | J26: Transportation | M26: Miscellaneous | O26: Daily Expenses | S26: Total
C27: and | H27: Time | M27: Expenses | O27: Meals | R27: Lodging | S27: For
B28: Date | C28: Purpose of Each Trip | H28: Started | I28: Ended | J28: Code | K28: Mileage | L28: Cost | M28: Code | N28: Cost | O28: B | P28: L | Q28: D | S28: Day
S29: =L29+N29+SUM(O29:R29) -> 0
S30: =L30+N30+SUM(O30:R30) -> 0
S31: =L31+N31+SUM(O31:R31) -> 0
S32: =L32+N32+SUM(O32:R32) -> 0
S33: =L33+N33+SUM(O33:R33) -> 0
S34: =L34+N34+SUM(O34:R34) -> 0
S35: =L35+N35+SUM(O35:R35) -> 0
S36: =L36+N36+SUM(O36:R36) -> 0
S37: =L37+N37+SUM(O37:R37) -> 0
S38: =L38+N38+SUM(O38:R38) -> 0
B39: Total of this Claim | S39: =SUM(S29:S38) -> 0
B40: Less Travel Advance Received (attach approved "Exhibit A" - Travel Advance Form)
B41: Balance Due to Traveler: | S41: =SUM(S39:S40) -> 0
B43: **Receipts are required for: | I43: This form is used for the district to reimburse the traveler and must be
B44: ALL expenses related to travel, including taxes and fees. | I44: submitted within 60 days of completion of travel, unless prohibited by
B45: Tips will NOT be reimbursed. Meal reimbursements DO | I45: exceptional circumstances, or will be subject to taxes as a fringe benefit.
...

Sheet Exhibit E
B1: DOUGLAS COUNTY SCHOOL DISTRICT
B2: PRIVATE VEHICLE MILEAGE LOG REIMBURSEMENT CLAIM - EXHIBIT E
B3: (SEE BUSINESS SERVICES PROCEDURAL MANUAL 0200 FOR TRAVEL REGULATIONS)
B5: Name | I5: I declare under penalties of perjury that to the best of my knowledge
I6: this is a true and correct claim in conformance with the governing
I7: statutes and all district policies and procedures.
B8: Department / School
B10: Account Number
I11: Signature of Traveler Date
B13: Official Duty Station
I14: Supervisor Approval Date
B15: Normal Commute (miles)* | D15: to: | F15: from:
B16: (*insert mileage one-way TO work from home and FROM work to home) | I16: Traveler is:
B17: (reimbursement can only be given for miles IN EXCESS of normal commute) | I17: District Employee
B18: Select DROP DOWN: REQUIRED | G18: Per Mile
C19: Employee's Convenience | G19: ='Exhibit B'!E40 -> 0.17 | I19: Board Member
C20: District's Convenience | G20: 0.76
C22: Destination | I22: Transportation
C23: and | I23: beginning mileage (use odometer) | J23: ending mileage (use odometer) | L23: Cost
B24: Date | C24: Purpose of Each Trip | K24: Mileage
K25: =J25-I25 -> 0
K26: =J26-I26 -> 0
K27: =J27-I27 -> 0
K28: =J28-I28 -> 0
K29: =J29-I29 -> 0
K30: =J30-I30 -> 0
K31: =J31-I31 -> 0
K32: =J32-I32 -> 0
K33: =J33-I33 -> 0
K34: =J34-I34 -> 0
K35: =J35-I35 -> 0
K36: =J36-I36 -> 0
... K41: =J41-I41 -> 0
B42: Total of this Claim | L42: =SUM(L25:L41) -> 0
B44: This form is used for the district to reimburse the traveler and must be submitted within 60 days of completion of travel unless
B45: prohibited by exceptional circumstances, or will be subject to taxes as a fringe benefit.
I47: BUSINESS SERVICES USE ONLY
J49: Date Received
J51: Date Reviewed and
J52: Approved for Disbursement
...

Sheet Exhibit F
A1: DOUGLAS COUNTY SCHOOL DISTRICT
A2: STANDARD MILEAGE REIMBURSEMENT RATES - EXHIBIT F
A3: (SEE BUSINESS SERVICES PROCEDURAL MANUAL 0200 FOR TRAVEL REGULATIONS)
A5: ALL DISTANCES ARE NOTED AS ONE-WAY AND CALCULATED USING INTERNET MAPPING WEBSITE
B7: LOCATION B
B8: AIRPORT FACILITIES | C8: DO | D8: PHES | E8: JVES | F8: DHS | G8: ASPIRE HS | H8: MES | I8: CVMS | J8: GES / HERITAGE | K8: CCMES | L8: PWLMS / SES | M8: GWHS / ZCES | N8: JHS
A9: LOCATION A
A10: AIRPORT FACILITIES | B10: X | C10: 4.7 | D10: 4.7 | E10: 9.4 | F10: 4.5 | G10: 6.9 | H10: 5.5 | I10: 5.8 | J10: 7 | K10: 9.9 | L10: 10.7 | M10: 27.2 | N10: 15.8
A11: DO | B11: 4.7 | C11: X | D11: 9.4 | E11: 12 | F11: 1 | G11: 2.5 | H11: 1 | I11: 1.2 | J11: 2.5 | K11: 5.4 | L11: 6.2 | M11: 20.8 | N11: 11.4
A12: PHES | B12: 4.7 | C12: 9.4 | D12: X | E12: 8.5 | F12: 8.6 | G12: 8 | H12: 10.1 | I12: 10.4 | J12: 11.6 | K12: 14.5 | L12: 15.4 | M12: 26.3 | N12: 20.5
A13: JVES | B13: 9.4 | C13: 12 | D13: 8.5 | E13: X | F13: 11.2 | G13: 14.3 | H13: 12.8 | I13: 13.1 | J13: 14.2 | K13: 17.2 | L13: 18 | M13: 20.5 | N13: 23.1
A14: DHS | B14: 4.5 | C14: 1 | D14: 8.6 | E14: 11.2 | F14: X | G14: 3.3 | H14: 2.3 | I14: 2.5 | J14: 3.7 | K14: 7.2 | L14: 7.4 | M14: 20.3 | N14: 12.6
A15: ASPIRE HS | B15: 6.9 | C15: 2.5 | D15: 8 | E15: 14.3 | F15: 3.3 | G15: X | H15: 1.7 | I15: 2.6 | J15: 2.9 | K15: 5.9 | L15: 6.7 | M15: 23.6 | N15: 11.9
A16: MES | B16: 5.5 | C16: 1 | D16: 10.1 | E16: 12.8 | F16: 2.3 | G16: 1.7 | H16: X | I16: 1.8 | J16: 3.1 | K16: 6 | L16: 6.8 | M16: 22.1 | N16: 11.9
A17: CVMS | B17: 5.8 | C17: 1.2 | D17: 10.4 | E17: 13.1 | F17: 2.5 | G17: 2.6 | H17: 1.8 | I17: X | J17: 1.2 | K17: 4.2 | L17: 5 | M17: 22.3 | N17: 10.1
A18: GES / HERITAGE | B18: 7 | C18: 2.5 | D18: 11.6 | E18: 14.2 | F18: 3.7 | G18: 2.9 | H18: 3.1 | I18: 1.2 | J18: X | K18: 3.7 | L18: 4.5 | M18: 22.3 | N18: 9.6
A19: CCMES | B19: 9.9 | C19: 5.4 | D19: 14.5 | E19: 17.2 | F19: 7.2 | G19: 5.9 | H19: 6 | I19: 4.2 | J19: 3.7 | K19: X | L19: 1.3 | M19: 23 | N19: 8.7
A20: PWLMS/SES | B20: 10.7 | C20: 6.2 | D20: 15.4 | E20: 18 | F20: 7.4 | G20: 6.7 | H20: 6.8 | I20: 5 | J20: 4.5 | K20: 1.3 | L20: X | M20: 24.3 | N20: 9.5
A21: GWHS/ZCES | B21: 27.2 | C21: 20.8 | D21: 26.3 | E21: 20.5 | F21: 20.3 | G21: 23.6 | H21: 22.1 | I21: 22.3 | J21: 22.3 | K21: 23 | L21: 24.3 | M21: X | N21: 30.5
A22: JHS | B22: 15.8 | C22: 11.4 | D22: 20.5 | E22: 23.1 | F22: 12.6 | G22: 11.9 | H22: 11.9 | I22: 10.1 | J22: 9.6 | K22: 8.7 | L22: 9.5 | M22: 30.5 | N22: X
A45: Revised: | C45: 42005

Sheet Exhibit G
B1: DOUGLAS COUNTY SCHOOL DISTRICT
B2: BUSINESS AND PERSONAL TRAVEL COMBINATION FORM - EXHIBIT G
B3: (SEE BUSINESS SERVICES PROCEDURAL MANUAL 0200 FOR TRAVEL REGULATIONS)
B5: Name: | G5: I declare under penalties of perjury that to the best of my knowledge
G6: this is a true and correct claim in conformance with the governing
G7: statutes and all district policies and procedures.
B9: Department/School:
B12: Dates/Purpose of Travel:
G13: Signature of Traveler Date
G16: Supervisor Approval Date
B18: Dates of Vacation:
G19: Superintendent Approval Date
G21: Traveler is:
G22: District Employee
G24: Board Member
B25: Justification of Combining Business / Personal Travel:
B57: Revised: | C57: ='Exhibit A'!C57 -> 42733

Sheet Exhibit H
B1: DOUGLAS COUNTY SCHOOL DISTRICT
B2: BUSINESS TRAVEL AUTHORIZATION FORM - EXHIBIT H
B3: (SEE BUSINESS SERVICES PROCEDURAL MANUAL 0200 FOR TRAVEL REGULATIONS)
B5: Name:
C8: Department / School
J9: Signature of Traveler Date
B11: Dates/Purpose of Travel:
J12: Supervisor Approval Date
B13: The following require Superintendent's Approval:
B14: Traveler is:
B15: Combo Business/Personal Travel (Attach Exhibit G) | J15: Grant Director Approval Date
B16: Travel Advance (Attach Exhibit A)
B17: Lodging Exceeds GSA/CONUS Rates (Attach Quote)
B18: Other (Provide full justification below along with any other necessary documentation/receipts) | J18: Superintendent Approval Date
J20: Traveler is:
B21: Account Number | J21: District Employee
J23: Board Member
B28: Justification of Travel (If grant related please include which grant in justification of expenses notes below):
B55: Revised: | C55: ='Exhibit B'!B46 -> 45658
B61: Business Services Procedure Manual | P61: Exhibit H
B64: Basic Instructions: Exhibit H
B67: * All boxes / lines must be filled out in full if applicable
B68: * Date and sign where appropriate. No approvals will be honored without neceassry signatures. Exceptions must be approved by the Superintendent.
B69: * Retain Original authorization and submit copy to Business Services when travel is completed.
B70: * All travel related expenses will be charged to the account provided.
B71: * When travel has been completed, fill-in and submit Exhibit D to Business services within 60 calendar days. Travel advances constitute a lien upon employee wages.
B72: IF a travel advance was issued ONLY Exhibits A, and D must be submitted.

Sheet Lodging Tax ProRated worksheet
A1: Employee Paid Lodging Rate: | B1: 135 | C1: A | E1: GSA approved rate: | F1: 77 | G1: C
A2: Employee Paid Tax Rate: | B2: 18.225 | C2: B | E2: Pro-rated tax for reimbursement: | F2: =B2/B3*F1 -> 9.1585903 | G2: D
A3: Total Lodging Cost: | B3: =SUM(B1:B2) -> 153.225 | E3: Allowable Lodging Reimbursement: | F3: =SUM(F1:F2) -> 86.15859 | G3: E
A7: Steps: ONLY greyed out cells are INPUT cells.
A8: (1) Enter Employee Paid Lodging Rate in Cell "A"
A9: (2) Enter Employee Paid Taxes Cell "B"
A10: (3) Enter GSA approved rate for locale in Cell "C"
A11: (4) Pro-rated Tax allowable for reimbursement is derived in Cell "D"
A12: (5) Submit this worksheet with your travel reimbursement as back-up for reimbursable amount.
A14: District will reimburse Total in Cell "E"
A17: Lodging: | C17: Governmental Services Administration (GSA) continental United States (CONUS) Rates
C19: http://www.gsa.gov | F19: click on "Per Diem Rates"
C21: CONUS rates are determined by locale and season. Taxes are excluded from
C22: the CONUS rate, but are reimbursable in ratio to approved CONUS rate.

Sheet Travel Codes
A1: Account Code
A2: 100.000.0000.000.2190.580.03000.50.421
A3: 100.000.0000.000.2190.580.03201.10.421
A4: 100.000.0000.000.2190.580.03202.10.421
A5: 100.000.0000.000.2190.580.03205.10.421
A6: 100.000.0000.000.2190.580.03206.10.421
A7: 100.000.0000.000.2190.580.03207.10.421
A8: 100.000.0000.000.2190.580.03209.10.421
A9: 100.000.0000.000.2190.580.03210.10.421
A10: 100.000.0000.000.2190.580.03301.20.421
A11: 100.000.0000.000.2190.580.03302.20.421
A12: 100.000.0000.000.2190.580.03501.30.421
... A170: 600.000.0000.000.3100.580.03000.50.421

Sheet Account codes
A1: Code | B1: School / Department | G1: Account Codes
A2: 3504 | B2: ASPIRE Academy High School | G2: 100.000.0000.000.2190.580.03000.50.421
B3: Business Services | G3: 100.000.0000.000.2190.580.03201.10.421
A4: 3205 | B4: C C Meneley Elementary School | G4: 100.000.0000.000.2190.580.03202.10.421
A5: 3301 | B5: Carson Valley Middle School | G5: 100.000.0000.000.2190.580.03205.10.421
B6: Curriculum | G6: 100.000.0000.000.2190.580.03206.10.421
A7: 3501 | B7: Douglas County High School | G7: 100.000.0000.000.2190.580.03207.10.421
A8: 3201 | B8: Gardnerville Elementary School | G8: 100.000.0000.000.2190.580.03209.10.421
A9: 3207 | B9: Gene Scarselli Elementary School | G9: 100.000.0000.000.2190.580.03210.10.421
A10: 3502 | B10: George Whittell High School | G10: 100.000.0000.000.2190.580.03301.20.421
B11: Grants & Assessments | G11: 100.000.0000.000.2190.580.03302.20.421
B12: Human Resources | G12: 100.000.0000.000.2190.580.03501.30.421
B13: Information Technology | G13: 100.000.0000.000.2190.580.03502.30.421
B14: Instructional Services | G14: 100.000.0000.000.2191.580.03000.50.421
A15: 3206 | B15: Jacks Valley Elementary School | G15: 100.000.0000.000.2192.580.03000.50.421
A16: 3503 | B16: Jacobsen High (China Spring Youth Camp) | G16: 100.000.0000.000.2210.580.03000.50.421
B17: Maintenance & Grounds | G17: 100.000.0000.000.2211.580.03000.50.421
A18: 3210 | B18: Minden Elementary School | G18: 100.000.0000.000.2212.580.03000.50.421
A19: 3302 | B19: Pau Wa Lu Middle School | G19: 100.000.0000.000.2212.580.03205.10.421
A20: 3209 | B20: Pinon Hills Elementary | G20: 100.000.0000.000.2219.580.03000.50.421
B21: Professional Development Center | G21: 100.000.0000.000.2230.580.03000.50.421
B22: Special Education | G22: 100.000.0000.000.2310.580.03000.50.421
B23: Superintendent | G23: 100.000.0000.000.2320.580.03000.50.421
B24: Transportation | G24: 100.000.0000.000.2510.580.03000.50.421
B25: Vehicle Maintenance | G25: 100.000.0000.000.2570.580.03000.50.421
A26: 3202 | B26: Zephyr Cove Elementary School | G26: 100.000.0000.000.2580.580.03000.50.421
G27: 100.000.0000.000.2610.580.03000.50.421
G28: 100.000.0000.000.2620.580.03000.50.421
G29: 100.000.0000.000.2630.580.03000.50.421
G30: 100.000.0000.000.2710.580.03000.50.421
G31: 100.000.0000.000.2720.580.03000.50.421
G32: 100.000.0000.000.2730.580.03000.50.421
G33: 100.000.0000.000.2900.580.03000.50.421
G34: 100.000.0000.100.1000.580.03000.50.421
G35: 100.000.0000.100.1000.580.03501.30.421
G36: 100.000.0000.100.2213.580.03000.50.421
G37: 100.000.0000.300.1000.580.03501.30.421
G38: 100.000.0000.300.1000.580.03502.30.421
... G170: 600.000.0000.000.3100.580.03000.50.421

Sheet Combo box tab
A1: 11 CCMES
A2: 12 GES
A3: 13 ZCES
A4: 14 JVES
A5: 15 SES
A6: 16 PHES
A7: 17 MES
A8: 31 CVMS
A9: 33 PWLMS
A10: 51 DHS
A11: 52 WHS
A12: 53 JHS
... A24: 97 HUMAN RESOURCES
