Workbook

Sheet July 2026
A1: Extra Hour and Compensatory Time Tracker
A2: July 2026 | V2: Carry Over Comp Time: | W2: 0 | X2: Enter Your Normal Hours Per Work Week here>>> | Z2: 37.5 | AB2: Carry Over Comp Time: | AE2: =W2 -> 0 | AG2: Normal Hours Per Work Week | AI2: =Z2 -> 37.5
A3: Sunday | D3: Monday | G3: Tuesday | J3: Wednesday | M3: Thursday | P3: Friday | S3: Saturday
B4: n/a | C4: leave taken/non-work day | F4: leave taken/non-work day | I4: leave taken/non-work day | J4: 1 | L4: leave taken/non-work day | M4: 2 | O4: leave taken/non-work day | P4: 3 | R4: leave taken/non-work day | S4: 4 | T4: n/a | U4: leave taken/non-work day | AB4: # Hours of leave taken/non-work day | AE4: =SUM(E4+H4+K4+N4+Q4) -> 0 | AG4: Actual Hours (Before Extra) | AJ4: =AI2 -> 37.5
B5: n/a | C5: comp taken | F5: comp taken | I5: comp taken | L5: comp taken | O5: comp taken | R5: comp taken | T5: n/a | U5: comp taken | AB5: # Hours of Comp Taken | AE5: =SUM(E5+H5+K5+N5+Q5) -> 0 | AG5: Total # of Extra Hours | AJ5: =SUM(E6+H6+K6+N6+Q6+T6+B6) -> 0
C6: xtr hrs | F6: xtr hrs | I6: xtr hrs | L6: xtr hrs | O6: xtr hrs | R6: xtr hrs | U6: xtr hrs | V6: Total Comp Earned: | W6: =+AE6 -> 0 | AB6: Net comp hours | AE6: =IF(AJ7>0,AJ7,B6+(E6-E5)+(H6-H5)+(K6-K5)+(N6-N5)+(Q6-Q5)+T6) -> 0 | AG6: Total # Leave Hours Taken | AJ6: =AE4+AE5 -> 0
A7: Reason: | D7: Reason: | G7: Reason: | J7: Reason: | M7: Reason: | P7: Reason: | S7: Reason: | AG7: Comp Time (Xtr Hrs x 1.5) | AJ7: =IF(AJ5-AJ6>0,IF(((AJ4+AJ5-AJ6) - 40) > 0,((AJ4+AJ5-AJ6) - 40)*1.5,0) + IF((AJ4+AJ5-AJ6)>40,40-AI2,IF(AJ5-AJ6>0,((AJ4+AJ5-AJ6)-AJ4),0)),0) -> 0
A10: 5 | B10: n/a | C10: leave taken/non-work day | D10: 6 | F10: leave taken/non-work day | G10: 7 | I10: leave taken/non-work day | J10: 8 | L10: leave taken/non-work day | M10: 9 | O10: leave taken/non-work day | P10: 10 | R10: leave taken/non-work day | S10: 11 | T10: n/a | U10: leave taken/non-work day | AB10: # Hours of leave taken/non-work day | AE10: =SUM(E10+H10+K10+N10+Q10) -> 0 | AG10: Actual Hours (Before Extra) | AJ10: =AI2 -> 37.5
B11: n/a | C11: comp taken | F11: comp taken | I11: comp taken | L11: comp taken | O11: comp taken | R11: comp taken | T11: n/a | U11: comp taken | AB11: # Hours of Comp Taken | AE11: =SUM(E11+H11+K11+N11+Q11) -> 0 | AG11: Total # of Extra Hours | AJ11: =SUM(E12+H12+K12+N12+Q12+T12+B12) -> 0
C12: xtr hrs | F12: xtr hrs | I12: xtr hrs | L12: xtr hrs | O12: xtr hrs | R12: xtr hrs | U12: xtr hrs | V12: Total Comp Earned: | W12: =+AE12 -> 0 | AB12: Net comp hours | AE12: =IF(AJ13>0,AJ13,B12+(E12-E11)+(H12-H11)+(K12-K11)+(N12-N11)+(Q12-Q11)+T12) -> 0 | AG12: Total # of Hours Taken | AJ12: =AE10+AE11 -> 0
A13: Reason: | D13: Reason: | G13: Reason: | J13: Reason: | M13: Reason: | P13: Reason: | S13: Reason: | AG13: Comp Time (Xtr Hrs x 1.5) | AJ13: =IF(AJ11-AJ12>0,IF(((AJ10+AJ11-AJ12) - 40) > 0,((AJ10+AJ11-AJ12) - 40)*1.5,0) + IF((AJ10+AJ11-AJ12)>40,40-AI2,IF(AJ11-AJ12>0,((AJ10+AJ11-AJ12)-AJ10),0)),0) -> 0
A16: 12 | B16: n/a | C16: leave taken/non-work day | D16: 13 | F16: leave taken/non-work day | G16: 14 | I16: leave taken/non-work day | J16: 15 | L16: leave taken/non-work day | M16: 16 | O16: leave taken/non-work day | P16: 17 | R16: leave taken/non-work day | S16: 18 | T16: n/a | U16: leave taken/non-work day | AB16: # Hours of leave taken/non-work day | AE16: =SUM(E16+H16+K16+N16+Q16) -> 0 | AG16: Actual Hours (Before Extra) | AJ16: =AI2 -> 37.5
B17: n/a | C17: comp taken | F17: comp taken | I17: comp taken | L17: comp taken | O17: comp taken | R17: comp taken | T17: n/a | U17: comp taken | AB17: # Hours of Comp Taken | AE17: =SUM(E17+H17+K17+N17+Q17) -> 0 | AG17: Total # of Extra Hours | AJ17: =SUM(E18+H18+K18+N18+Q18+T18+B18) -> 0
C18: xtr hrs | F18: xtr hrs | I18: xtr hrs | L18: xtr hrs | O18: xtr hrs | R18: xtr hrs | U18: xtr hrs | V18: Total Comp Earned: | W18: =+AE18 -> 0 | AB18: Net comp hours | AE18: =IF(AJ19>0,AJ19,B18+(E18-E17)+(H18-H17)+(K18-K17)+(N18-N17)+(Q18-Q17)+T18) -> 0 | AG18: Total # Hours Taken | AJ18: =AE16+AE17 -> 0
A19: Reason: | D19: Reason: | G19: Reason: | J19: Reason: | M19: Reason: | P19: Reason: | S19: Reason: | AG19: Comp Time (Xtr Hrs x 1.5) | AJ19: =IF(AJ17-AJ18>0,IF(((AJ16+AJ17-AJ18) - 40) > 0,((AJ16+AJ17-AJ18) - 40)*1.5,0) + IF((AJ16+AJ17-AJ18)>40,40-AI2,IF(AJ17-AJ18>0,((AJ16+AJ17-AJ18)-AJ16),0)),0) -> 0
A22: 19 | B22: n/a | C22: leave taken/non-work day | D22: 20 | F22: leave taken/non-work day | G22: 21 | I22: leave taken/non-work day | J22: 22 | L22: leave taken/non-work day | M22: 23 | O22: leave taken/non-work day | P22: 24 | R22: leave taken/non-work day | S22: 25 | T22: n/a | U22: leave taken/non-work day | AB22: # Hours of leave taken/non-work day | AE22: =SUM(E22+H22+K22+N22+Q22) -> 0 | AG22: Actual Hours (Before Extra) | AJ22: =AI2 -> 37.5
B23: n/a | C23: comp taken | F23: comp taken | I23: comp taken | L23: comp taken | O23: comp taken | R23: comp taken | T23: n/a | U23: comp taken | AB23: # Hours of Comp Taken | AE23: =SUM(E23+H23+K23+N23+Q23) -> 0 | AG23: Total # of Extra Hours | AJ23: =SUM(E24+H24+K24+N24+Q24+T24+B24) -> 0
C24: xtr hrs | F24: xtr hrs | I24: xtr hrs | L24: xtr hrs | O24: xtr hrs | R24: xtr hrs | U24: xtr hrs | V24: Total Comp Earned: | W24: =+AE24 -> 0 | AB24: Net comp hours | AE24: =IF(AJ25>0,AJ25,B24+(E24-E23)+(H24-H23)+(K24-K23)+(N24-N23)+(Q24-Q23)+T24) -> 0 | AG24: Total # Hours Taken | AJ24: =AE22+AE23 -> 0
A25: Reason: | D25: Reason: | G25: Reason: | J25: Reason: | M25: Reason: | P25: Reason: | S25: Reason: | AG25: Comp Time (Xtr Hrs x 1.5) | AJ25: =IF(AJ23-AJ24>0,IF(((AJ22+AJ23-AJ24) - 40) > 0,((AJ22+AJ23-AJ24) - 40)*1.5,0) + IF((AJ22+AJ23-AJ24)>40,40-AI2,IF(AJ23-AJ24>0,((AJ22+AJ23-AJ24)-AJ22),0)),0) -> 0
A28: 26 | B28: n/a | C28: leave taken/non-work day | D28: 27 | F28: leave taken/non-work day | G28: 28 | I28: leave taken/non-work day | J28: 29 | L28: leave taken/non-work day | M28: 30 | O28: leave taken/non-work day | P28: 31 | R28: leave taken/non-work day | T28: n/a | U28: leave taken/non-work day | AB28: # Hours of leave taken/non-work day | AE28: =SUM(E28+H28+K28+N28+Q28) -> 0 | AG28: Actual Hours (Before Extra) | AJ28: =AI2 -> 37.5
B29: n/a | C29: comp taken | F29: comp taken | I29: comp taken | L29: comp taken | O29: comp taken | R29: comp taken | T29: n/a | U29: comp taken | AB29: # Hours of Comp Taken | AE29: =SUM(E29+H29+K29+N29+Q29) -> 0 | AG29: Total # of Extra Hours | AJ29: =SUM(E30+H30+K30+N30+Q30+T30+B30) -> 0
C30: xtr hrs | F30: xtr hrs | I30: xtr hrs | L30: xtr hrs | O30: xtr hrs | R30: xtr hrs | U30: xtr hrs | V30: Total Comp Earned: | W30: =+AE30 -> 0 | AB30: Net comp hours | AE30: =IF(AJ31>0,AJ31,B30+(E30-E29)+(H30-H29)+(K30-K29)+(N30-N29)+(Q30-Q29)+T30) -> 0 | AG30: Total # Hours Taken | AJ30: =AE28+AE29 -> 0
A31: Reason: | D31: Reason: | G31: Reason: | J31: Reason: | M31: Reason: | P31: Reason: | S31: Reason: | AG31: Comp Time (Xtr Hrs x 1.5) | AJ31: =IF(AJ29-AJ30>0,IF(((AJ28+AJ29-AJ30) - 40) > 0,((AJ28+AJ29-AJ30) - 40)*1.5,0) + IF((AJ28+AJ29-AJ30)>40,40-AI2,IF(AJ29-AJ30>0,((AJ28+AJ29-AJ30)-AJ28),0)),0) -> 0
A35: Please round up to the nearest quarter hour. | V35: Month End Total | W35: =W2+W6+W12+W18+W24+W30 -> 0
I37: 0.25 | J37: 15 Minutes
I38: 0.5 | J38: 30 Minutes
I39: 0.75 | J39: 45 Minutes
I40: 1 | J40: 1 Hour

Sheet August 2026
A1: Extra Hour and Compensatory Time Tracker
A2: August 2026 | V2: Carry Over Comp Time: | W2: ='July 2026'!W35 -> 0 | X2: Enter Your Normal Hours Per Work Week here>>> | Z2: ='July 2026'!Z2 -> 37.5 | AB2: Carry Over Comp Time: | AE2: =W2 -> 0 | AG2: Normal Hours Per Work Week | AI2: =Z2 -> 37.5
A3: Sunday | D3: Monday | G3: Tuesday | J3: Wednesday | M3: Thursday | P3: Friday | S3: Saturday
B4: n/a | C4: leave taken/non-work day | F4: leave taken/non-work day | I4: leave taken/non-work day | L4: leave taken/non-work day | O4: leave taken/non-work day | R4: leave taken/non-work day | S4: 1 | T4: n/a | U4: leave taken/non-work day | AB4: # Hours of leave taken/non-work day | AE4: =SUM(E4+H4+K4+N4+Q4) -> 0 | AG4: Actual Hours (Before Extra) | AJ4: =AI2 -> 37.5
B5: n/a | C5: comp taken | F5: comp taken | I5: comp taken | L5: comp taken | O5: comp taken | R5: comp taken | T5: n/a | U5: comp taken | AB5: # Hours of Comp Taken | AE5: =SUM(E5+H5+K5+N5+Q5) -> 0 | AG5: Total # of Extra Hours | AJ5: =SUM(E6+H6+K6+N6+Q6+T6+B6) -> 0
C6: xtr hrs | F6: xtr hrs | I6: xtr hrs | L6: xtr hrs | O6: xtr hrs | R6: xtr hrs | U6: xtr hrs | V6: Total Comp Earned: | W6: =+AE6 -> 0 | AB6: Net comp hours | AE6: =IF(AJ7>0,AJ7,B6+(E6-E5)+(H6-H5)+(K6-K5)+(N6-N5)+(Q6-Q5)+T6) -> 0 | AG6: Total # Leave Hours Taken | AJ6: =AE4+AE5 -> 0
A7: Reason: | D7: Reason: | G7: Reason: | J7: Reason: | M7: Reason: | P7: Reason: | S7: Reason: | AG7: Comp Time (Xtr Hrs x 1.5) | AJ7: =IF(AJ5-AJ6>0,IF(((AJ4+AJ5-AJ6) - 40) > 0,((AJ4+AJ5-AJ6) - 40)*1.5,0) + IF((AJ4+AJ5-AJ6)>40,40-AI2,IF(AJ5-AJ6>0,((AJ4+AJ5-AJ6)-AJ4),0)),0) -> 0
A10: 2 | B10: n/a | C10: leave taken/non-work day | D10: 3 | F10: leave taken/non-work day | G10: 4 | I10: leave taken/non-work day | J10: 5 | L10: leave taken/non-work day | M10: 6 | O10: leave taken/non-work day | P10: 7 | R10: leave taken/non-work day | S10: 8 | T10: n/a | U10: leave taken/non-work day | AB10: # Hours of leave taken/non-work day | AE10: =SUM(E10+H10+K10+N10+Q10) -> 0 | AG10: Actual Hours (Before Extra) | AJ10: =AI2 -> 37.5
B11: n/a | C11: comp taken | F11: comp taken | I11: comp taken | L11: comp taken | O11: comp taken | R11: comp taken | T11: n/a | U11: comp taken | AB11: # Hours of Comp Taken | AE11: =SUM(E11+H11+K11+N11+Q11) -> 0 | AG11: Total # of Extra Hours | AJ11: =SUM(E12+H12+K12+N12+Q12+T12+B12) -> 0
C12: xtr hrs | F12: xtr hrs | I12: xtr hrs | L12: xtr hrs | O12: xtr hrs | R12: xtr hrs | U12: xtr hrs | V12: Total Comp Earned: | W12: =+AE12 -> 0 | AB12: Net comp hours | AE12: =IF(AJ13>0,AJ13,B12+(E12-E11)+(H12-H11)+(K12-K11)+(N12-N11)+(Q12-Q11)+T12) -> 0 | AG12: Total # of Hours Taken | AJ12: =AE10+AE11 -> 0
A13: Reason: | D13: Reason: | G13: Reason: | J13: Reason: | M13: Reason: | P13: Reason: | S13: Reason: | AG13: Comp Time (Xtr Hrs x 1.5) | AJ13: =IF(AJ11-AJ12>0,IF(((AJ10+AJ11-AJ12) - 40) > 0,((AJ10+AJ11-AJ12) - 40)*1.5,0) + IF((AJ10+AJ11-AJ12)>40,40-AI2,IF(AJ11-AJ12>0,((AJ10+AJ11-AJ12)-AJ10),0)),0) -> 0
A16: 9 | C16: leave taken/non-work day | D16: 10 | F16: leave taken/non-work day | G16: 11 | I16: leave taken/non-work day | J16: 12 | L16: leave taken/non-work day | M16: 13 | O16: leave taken/non-work day | P16: 14 | R16: leave taken/non-work day | S16: 15 | T16: n/a | U16: leave taken/non-work day | AB16: # Hours of leave taken/non-work day | AE16: =SUM(E16+H16+K16+N16+Q16) -> 0 | AG16: Actual Hours (Before Extra) | AJ16: =AI2 -> 37.5
B17: n/a | C17: comp taken | F17: comp taken | I17: comp taken | L17: comp taken | O17: comp taken | R17: comp taken | T17: n/a | U17: comp taken | AB17: # Hours of Comp Taken | AE17: =SUM(E17+H17+K17+N17+Q17) -> 0 | AG17: Total # of Extra Hours | AJ17: =SUM(E18+H18+K18+N18+Q18+T18+B18) -> 0
C18: xtr hrs | F18: xtr hrs | I18: xtr hrs | L18: xtr hrs | O18: xtr hrs | R18: xtr hrs | U18: xtr hrs | V18: Total Comp Earned: | W18: =+AE18 -> 0 | AB18: Net comp hours | AE18: =IF(AJ19>0,AJ19,B18+(E18-E17)+(H18-H17)+(K18-K17)+(N18-N17)+(Q18-Q17)+T18) -> 0 | AG18: Total # Hours Taken | AJ18: =AE16+AE17 -> 0
A19: Reason: | D19: Reason: | G19: Reason: | J19: Reason: | M19: Reason: | P19: Reason: | S19: Reason: | AG19: Comp Time (Xtr Hrs x 1.5) | AJ19: =IF(AJ17-AJ18>0,IF(((AJ16+AJ17-AJ18) - 40) > 0,((AJ16+AJ17-AJ18) - 40)*1.5,0) + IF((AJ16+AJ17-AJ18)>40,40-AI2,IF(AJ17-AJ18>0,((AJ16+AJ17-AJ18)-AJ16),0)),0) -> 0
A22: 16 | B22: n/a | C22: leave taken/non-work day | D22: 17 | F22: leave taken/non-work day | G22: 18 | I22: leave taken/non-work day | J22: 19 | L22: leave taken/non-work day | M22: 20 | O22: leave taken/non-work day | P22: 21 | R22: leave taken/non-work day | S22: 22 | T22: n/a | U22: leave taken/non-work day | AB22: # Hours of leave taken/non-work day | AE22: =SUM(E22+H22+K22+N22+Q22) -> 0 | AG22: Actual Hours (Before Extra) | AJ22: =AI2 -> 37.5
B23: n/a | C23: comp taken | F23: comp taken | I23: comp taken | L23: comp taken | O23: comp taken | R23: comp taken | T23: n/a | U23: comp taken | AB23: # Hours of Comp Taken | AE23: =SUM(E23+H23+K23+N23+Q23) -> 0 | AG23: Total # of Extra Hours | AJ23: =SUM(E24+H24+K24+N24+Q24+T24+B24) -> 0
C24: xtr hrs | F24: xtr hrs | I24: xtr hrs | L24: xtr hrs | O24: xtr hrs | R24: xtr hrs | U24: xtr hrs | V24: Total Comp Earned: | W24: =+AE24 -> 0 | AB24: Net comp hours | AE24: =IF(AJ25>0,AJ25,B24+(E24-E23)+(H24-H23)+(K24-K23)+(N24-N23)+(Q24-Q23)+T24) -> 0 | AG24: Total # Hours Taken | AJ24: =AE22+AE23 -> 0
A25: Reason: | D25: Reason: | G25: Reason: | J25: Reason: | M25: Reason: | P25: Reason: | S25: Reason: | AG25: Comp Time (Xtr Hrs x 1.5) | AJ25: =IF(AJ23-AJ24>0,IF(((AJ22+AJ23-AJ24) - 40) > 0,((AJ22+AJ23-AJ24) - 40)*1.5,0) + IF((AJ22+AJ23-AJ24)>40,40-AI2,IF(AJ23-AJ24>0,((AJ22+AJ23-AJ24)-AJ22),0)),0) -> 0
A28: 23 | B28: n/a | C28: leave taken/non-work day | D28: 24 | F28: leave taken/non-work day | G28: 25 | I28: leave taken/non-work day | J28: 26 | L28: leave taken/non-work day | M28: 27 | O28: leave taken/non-work day | P28: 28 | R28: leave taken/non-work day | S28: 29 | T28: n/a | U28: leave taken/non-work day | AB28: # Hours of leave taken/non-work day | AE28: =SUM(E28+H28+K28+N28+Q28) -> 0 | AG28: Actual Hours (Before Extra) | AJ28: =AI2 -> 37.5
B29: n/a | C29: comp taken | F29: comp taken | I29: comp taken | L29: comp taken | O29: comp taken | R29: comp taken | T29: n/a | U29: comp taken | AB29: # Hours of Comp Taken | AE29: =SUM(E29+H29+K29+N29+Q29) -> 0 | AG29: Total # of Extra Hours | AJ29: =SUM(E30+H30+K30+N30+Q30+T30+B30) -> 0
C30: xtr hrs | F30: xtr hrs | I30: xtr hrs | L30: xtr hrs | O30: xtr hrs | R30: xtr hrs | U30: xtr hrs | V30: Total Comp Earned: | W30: =+AE30 -> 0 | AB30: Net comp hours | AE30: =IF(AJ31>0,AJ31,B30+(E30-E29)+(H30-H29)+(K30-K29)+(N30-N29)+(Q30-Q29)+T30) -> 0 | AG30: Total # Hours Taken | AJ30: =AE28+AE29 -> 0
A31: Reason: | D31: Reason: | G31: Reason: | J31: Reason: | M31: Reason: | P31: Reason: | S31: Reason: | AG31: Comp Time (Xtr Hrs x 1.5) | AJ31: =IF(AJ29-AJ30>0,IF(((AJ28+AJ29-AJ30) - 40) > 0,((AJ28+AJ29-AJ30) - 40)*1.5,0) + IF((AJ28+AJ29-AJ30)>40,40-AI2,IF(AJ29-AJ30>0,((AJ28+AJ29-AJ30)-AJ28),0)),0) -> 0
A34: 30 | B34: n/a | C34: leave taken/non-work day | D34: 31 | F34: leave taken/non-work day | I34: leave taken/non-work day | L34: leave taken/non-work day | O34: leave taken/non-work day | R34: leave taken/non-work day | T34: n/a | U34: leave taken/non-work day | AB34: # Hours of leave taken/non-work day | AE34: =SUM(E34+H34+K34+N34+Q34) -> 0 | AG34: Actual Hours (Before Extra) | AJ34: =AI8 -> 0
B35: n/a | C35: comp taken | F35: comp taken | I35: comp taken | L35: comp taken | O35: comp taken | R35: comp taken | T35: n/a | U35: comp taken | AB35: # Hours of Comp Taken | AE35: =SUM(E35+H35+K35+N35+Q35) -> 0 | AG35: Total # of Extra Hours | AJ35: =SUM(E36+H36+K36+N36+Q36+T36+B36) -> 0
C36: xtr hrs | F36: xtr hrs | I36: xtr hrs | L36: xtr hrs | O36: xtr hrs | R36: xtr hrs | U36: xtr hrs | V36: Total Comp Earned: | W36: =+AE36 -> 0 | AB36: Net comp hours | AE36: =IF(AJ37>0,AJ37,B36+(E36-E35)+(H36-H35)+(K36-K35)+(N36-N35)+(Q36-Q35)+T36) -> 0 | AG36: Total # Hours Taken | AJ36: =AE34+AE35 -> 0
A37: Reason: | D37: Reason: | G37: Reason: | J37: Reason: | M37: Reason: | P37: Reason: | S37: Reason: | AG37: Comp Time (Xtr Hrs x 1.5) | AJ37: =IF(AJ35-AJ36>0,IF(((AJ34+AJ35-AJ36) - 40) > 0,((AJ34+AJ35-AJ36) - 40)*1.5,0) + IF((AJ34+AJ35-AJ36)>40,40-AI8,IF(AJ35-AJ36>0,((AJ34+AJ35-AJ36)-AJ34),0)),0) -> 0
A41: Please round up to the nearest quarter hour. | V41: Month End Total | W41: =SUM(W2+W6+W12+W18+W24+W30+W36) -> 0
I43: 0.25 | J43: 15 Minutes
I44: 0.5 | J44: 30 Minutes
I45: 0.75 | J45: 45 Minutes
I46: 1 | J46: 1 Hour

Sheet September 2026
A1: Extra Hour and Compensatory Time Tracker
A2: September 2026 | V2: Carry Over Comp Time: | W2: ='August 2026'!W41 -> 0 | X2: Enter Your Normal Hours Per Work Week here>>> | Z2: ='July 2026'!Z2 -> 37.5 | AB2: Carry Over Comp Time: | AE2: =W2 -> 0 | AG2: Normal Hours Per Work Week | AI2: =Z2 -> 37.5
A3: Sunday | D3: Monday | G3: Tuesday | J3: Wednesday | M3: Thursday | P3: Friday | S3: Saturday
B4: n/a | C4: leave taken/non-work day | F4: leave taken/non-work day | G4: 1 | I4: leave taken/non-work day | J4: 2 | L4: leave taken/non-work day | M4: 3 | O4: leave taken/non-work day | P4: 4 | R4: leave taken/non-work day | S4: 5 | T4: n/a | U4: leave taken/non-work day | AB4: # Hours of leave taken/non-work day | AE4: =SUM(E4+H4+K4+N4+Q4) -> 0 | AG4: Actual Hours (Before Extra) | AJ4: =AI2 -> 37.5
B5: n/a | C5: comp taken | F5: comp taken | I5: comp taken | L5: comp taken | O5: comp taken | R5: comp taken | T5: n/a | U5: comp taken | AB5: # Hours of Comp Taken | AE5: =SUM(E5+H5+K5+N5+Q5) -> 0 | AG5: Total # of Extra Hours | AJ5: =SUM(E6+H6+K6+N6+Q6+T6+B6) -> 0
C6: xtr hrs | F6: xtr hrs | I6: xtr hrs | L6: xtr hrs | O6: xtr hrs | R6: xtr hrs | U6: xtr hrs | V6: Total Comp Earned: | W6: =+AE6 -> 0 | AB6: Net comp hours | AE6: =IF(AJ7>0,AJ7,B6+(E6-E5)+(H6-H5)+(K6-K5)+(N6-N5)+(Q6-Q5)+T6) -> 0 | AG6: Total # Leave Hours Taken | AJ6: =AE4+AE5 -> 0
A7: Reason: | D7: Reason: | G7: Reason: | J7: Reason: | M7: Reason: | P7: Reason: | S7: Reason: | AG7: Comp Time (Xtr Hrs x 1.5) | AJ7: =IF(AJ5-AJ6>0,IF(((AJ4+AJ5-AJ6) - 40) > 0,((AJ4+AJ5-AJ6) - 40)*1.5,0) + IF((AJ4+AJ5-AJ6)>40,40-AI2,IF(AJ5-AJ6>0,((AJ4+AJ5-AJ6)-AJ4),0)),0) -> 0
A10: 6 | B10: n/a | C10: leave taken/non-work day | D10: 7 | F10: leave taken/non-work day | G10: 8 | I10: leave taken/non-work day | J10: 9 | L10: leave taken/non-work day | M10: 10 | O10: leave taken/non-work day | P10: 11 | R10: leave taken/non-work day | S10: 12 | T10: n/a | U10: leave taken/non-work day | AB10: # Hours of leave taken/non-work day | AE10: =SUM(E10+H10+K10+N10+Q10) -> 0 | AG10: Actual Hours (Before Extra) | AJ10: =AI2 -> 37.5
B11: n/a | C11: comp taken | F11: comp taken | I11: comp taken | L11: comp taken | O11: comp taken | R11: comp taken | T11: n/a | U11: comp taken | AB11: # Hours of Comp Taken | AE11: =SUM(E11+H11+K11+N11+Q11) -> 0 | AG11: Total # of Extra Hours | AJ11: =SUM(E12+H12+K12+N12+Q12+T12+B12) -> 0
C12: xtr hrs | F12: xtr hrs | I12: xtr hrs | L12: xtr hrs | O12: xtr hrs | R12: xtr hrs | U12: xtr hrs | V12: Total Comp Earned: | W12: =+AE12 -> 0 | AB12: Net comp hours | AE12: =IF(AJ13>0,AJ13,B12+(E12-E11)+(H12-H11)+(K12-K11)+(N12-N11)+(Q12-Q11)+T12) -> 0 | AG12: Total # of Hours Taken | AJ12: =AE10+AE11 -> 0
A13: Reason: | D13: Reason: | G13: Reason: | J13: Reason: | M13: Reason: | P13: Reason: | S13: Reason: | AG13: Comp Time (Xtr Hrs x 1.5) | AJ13: =IF(AJ11-AJ12>0,IF(((AJ10+AJ11-AJ12) - 40) > 0,((AJ10+AJ11-AJ12) - 40)*1.5,0) + IF((AJ10+AJ11-AJ12)>40,40-AI2,IF(AJ11-AJ12>0,((AJ10+AJ11-AJ12)-AJ10),0)),0) -> 0
A16: 13 | B16: n/a | C16: leave taken/non-work day | D16: 14 | F16: leave taken/non-work day | G16: 15 | I16: leave taken/non-work day | J16: 16 | L16: leave taken/non-work day | M16: 17 | O16: leave taken/non-work day | P16: 18 | R16: leave taken/non-work day | S16: 19 | T16: n/a | U16: leave taken/non-work day | AB16: # Hours of leave taken/non-work day | AE16: =SUM(E16+H16+K16+N16+Q16) -> 0 | AG16: Actual Hours (Before Extra) | AJ16: =AI2 -> 37.5
B17: n/a | C17: comp taken | F17: comp taken | I17: comp taken | L17: comp taken | O17: comp taken | R17: comp taken | T17: n/a | U17: comp taken | AB17: # Hours of Comp Taken | AE17: =SUM(E17+H17+K17+N17+Q17) -> 0 | AG17: Total # of Extra Hours | AJ17: =SUM(E18+H18+K18+N18+Q18+T18+B18) -> 0
C18: xtr hrs | F18: xtr hrs | I18: xtr hrs | L18: xtr hrs | O18: xtr hrs | R18: xtr hrs | U18: xtr hrs | V18: Total Comp Earned: | W18: =+AE18 -> 0 | AB18: Net comp hours | AE18: =IF(AJ19>0,AJ19,B18+(E18-E17)+(H18-H17)+(K18-K17)+(N18-N17)+(Q18-Q17)+T18) -> 0 | AG18: Total # Hours Taken | AJ18: =AE16+AE17 -> 0
A19: Reason: | D19: Reason: | G19: Reason: | J19: Reason: | M19: Reason: | P19: Reason: | S19: Reason: | AG19: Comp Time (Xtr Hrs x 1.5) | AJ19: =IF(AJ17-AJ18>0,IF(((AJ16+AJ17-AJ18) - 40) > 0,((AJ16+AJ17-AJ18) - 40)*1.5,0) + IF((AJ16+AJ17-AJ18)>40,40-AI2,IF(AJ17-AJ18>0,((AJ16+AJ17-AJ18)-AJ16),0)),0) -> 0
A22: 20 | B22: n/a | C22: leave taken/non-work day | D22: 21 | F22: leave taken/non-work day | G22: 22 | I22: leave taken/non-work day | J22: 23 | L22: leave taken/non-work day | M22: 24 | O22: leave taken/non-work day | P22: 25 | R22: leave taken/non-work day | S22: 26 | T22: n/a | U22: leave taken/non-work day | AB22: # Hours of leave taken/non-work day | AE22: =SUM(E22+H22+K22+N22+Q22) -> 0 | AG22: Actual Hours (Before Extra) | AJ22: =AI2 -> 37.5
B23: n/a | C23: comp taken | F23: comp taken | I23: comp taken | L23: comp taken | O23: comp taken | R23: comp taken | T23: n/a | U23: comp taken | AB23: # Hours of Comp Taken | AE23: =SUM(E23+H23+K23+N23+Q23) -> 0 | AG23: Total # of Extra Hours | AJ23: =SUM(E24+H24+K24+N24+Q24+T24+B24) -> 0
C24: xtr hrs | F24: xtr hrs | I24: xtr hrs | L24: xtr hrs | O24: xtr hrs | R24: xtr hrs | U24: xtr hrs | V24: Total Comp Earned: | W24: =+AE24 -> 0 | AB24: Net comp hours | AE24: =IF(AJ25>0,AJ25,B24+(E24-E23)+(H24-H23)+(K24-K23)+(N24-N23)+(Q24-Q23)+T24) -> 0 | AG24: Total # Hours Taken | AJ24: =AE22+AE23 -> 0
A25: Reason: | D25: Reason: | G25: Reason: | J25: Reason: | M25: Reason: | P25: Reason: | S25: Reason: | AG25: Comp Time (Xtr Hrs x 1.5) | AJ25: =IF(AJ23-AJ24>0,IF(((AJ22+AJ23-AJ24) - 40) > 0,((AJ22+AJ23-AJ24) - 40)*1.5,0) + IF((AJ22+AJ23-AJ24)>40,40-AI2,IF(AJ23-AJ24>0,((AJ22+AJ23-AJ24)-AJ22),0)),0) -> 0
A28: 27 | B28: n/a | C28: leave taken/non-work day | D28: 28 | F28: leave taken/non-work day | G28: 29 | I28: leave taken/non-work day | J28: 30 | L28: leave taken/non-work day | O28: leave taken/non-work day | R28: leave taken/non-work day | T28: n/a | U28: leave taken/non-work day | AB28: # Hours of leave taken/non-work day | AE28: =SUM(E28+H28+K28+N28+Q28) -> 0 | AG28: Actual Hours (Before Extra) | AJ28: =AI2 -> 37.5
B29: n/a | C29: comp taken | F29: comp taken | I29: comp taken | L29: comp taken | O29: comp taken | R29: comp taken | T29: n/a | U29: comp taken | AB29: # Hours of Comp Taken | AE29: =SUM(E29+H29+K29+N29+Q29) -> 0 | AG29: Total # of Extra Hours | AJ29: =SUM(E30+H30+K30+N30+Q30+T30+B30) -> 0
C30: xtr hrs | F30: xtr hrs | I30: xtr hrs | L30: xtr hrs | O30: xtr hrs | R30: xtr hrs | U30: xtr hrs | V30: Total Comp Earned: | W30: =+AE30 -> 0 | AB30: Net comp hours | AE30: =IF(AJ31>0,AJ31,B30+(E30-E29)+(H30-H29)+(K30-K29)+(N30-N29)+(Q30-Q29)+T30) -> 0 | AG30: Total # Hours Taken | AJ30: =AE28+AE29 -> 0
A31: Reason: | D31: Reason: | G31: Reason: | J31: Reason: | M31: Reason: | P31: Reason: | S31: Reason: | AG31: Comp Time (Xtr Hrs x 1.5) | AJ31: =IF(AJ29-AJ30>0,IF(((AJ28+AJ29-AJ30) - 40) > 0,((AJ28+AJ29-AJ30) - 40)*1.5,0) + IF((AJ28+AJ29-AJ30)>40,40-AI2,IF(AJ29-AJ30>0,((AJ28+AJ29-AJ30)-AJ28),0)),0) -> 0
A35: Please round up to the nearest quarter hour. | V35: Month End Total | W35: =W2+W6+W12+W18+W24+W30 -> 0
I37: 0.25 | J37: 15 Minutes
I38: 0.5 | J38: 30 Minutes
I39: 0.75 | J39: 45 Minutes
I40: 1 | J40: 1 Hour

Sheet October 2026
A1: Extra Hour and Compensatory Time Tracker
A2: October 2026 | V2: Carry Over Comp Time: | W2: ='September 2026'!W35 -> 0 | X2: Enter Your Normal Hours Per Work Week here>>> | Z2: ='July 2026'!Z2 -> 37.5 | AB2: Carry Over Comp Time: | AE2: =W2 -> 0 | AG2: Normal Hours Per Work Week | AI2: =Z2 -> 37.5
A3: Sunday | D3: Monday | G3: Tuesday | J3: Wednesday | M3: Thursday | P3: Friday | S3: Saturday
B4: n/a | C4: leave taken/non-work day | F4: leave taken/non-work day | I4: leave taken/non-work day | L4: leave taken/non-work day | M4: 1 | O4: leave taken/non-work day | P4: 2 | R4: leave taken/non-work day | S4: 3 | T4: n/a | U4: leave taken/non-work day | AB4: # Hours of leave taken/non-work day | AE4: =SUM(E4+H4+K4+N4+Q4) -> 0 | AG4: Actual Hours (Before Extra) | AJ4: =AI2 -> 37.5
B5: n/a | C5: comp taken | F5: comp taken | I5: comp taken | L5: comp taken | O5: comp taken | R5: comp taken | T5: n/a | U5: comp taken | AB5: # Hours of Comp Taken | AE5: =SUM(E5+H5+K5+N5+Q5) -> 0 | AG5: Total # of Extra Hours | AJ5: =SUM(E6+H6+K6+N6+Q6+T6+B6) -> 0
C6: xtr hrs | F6: xtr hrs | I6: xtr hrs | L6: xtr hrs | O6: xtr hrs | R6: xtr hrs | U6: xtr hrs | V6: Total Comp Earned: | W6: =+AE6 -> 0 | AB6: Net comp hours | AE6: =IF(AJ7>0,AJ7,B6+(E6-E5)+(H6-H5)+(K6-K5)+(N6-N5)+(Q6-Q5)+T6) -> 0 | AG6: Total # Leave Hours Taken | AJ6: =AE4+AE5 -> 0
A7: Reason: | D7: Reason: | G7: Reason: | J7: Reason: | M7: Reason: | P7: Reason: | S7: Reason: | AG7: Comp Time (Xtr Hrs x 1.5) | AJ7: =IF(AJ5-AJ6>0,IF(((AJ4+AJ5-AJ6) - 40) > 0,((AJ4+AJ5-AJ6) - 40)*1.5,0) + IF((AJ4+AJ5-AJ6)>40,40-AI2,IF(AJ5-AJ6>0,((AJ4+AJ5-AJ6)-AJ4),0)),0) -> 0
A10: 4 | B10: n/a | C10: leave taken/non-work day | D10: 5 | F10: leave taken/non-work day | G10: 6 | I10: leave taken/non-work day | J10: 7 | L10: leave taken/non-work day | M10: 8 | O10: leave taken/non-work day | P10: 9 | R10: leave taken/non-work day | S10: 10 | T10: n/a | U10: leave taken/non-work day | AB10: # Hours of leave taken/non-work day | AE10: =SUM(E10+H10+K10+N10+Q10) -> 0 | AG10: Actual Hours (Before Extra) | AJ10: =AI2 -> 37.5
B11: n/a | C11: comp taken | F11: comp taken | I11: comp taken | L11: comp taken | O11: comp taken | R11: comp taken | T11: n/a | U11: comp taken | AB11: # Hours of Comp Taken | AE11: =SUM(E11+H11+K11+N11+Q11) -> 0 | AG11: Total # of Extra Hours | AJ11: =SUM(E12+H12+K12+N12+Q12+T12+B12) -> 0
C12: xtr hrs | F12: xtr hrs | I12: xtr hrs | L12: xtr hrs | O12: xtr hrs | R12: xtr hrs | U12: xtr hrs | V12: Total Comp Earned: | W12: =+AE12 -> 0 | AB12: Net comp hours | AE12: =IF(AJ13>0,AJ13,B12+(E12-E11)+(H12-H11)+(K12-K11)+(N12-N11)+(Q12-Q11)+T12) -> 0 | AG12: Total # of Hours Taken | AJ12: =AE10+AE11 -> 0
A13: Reason: | D13: Reason: | G13: Reason: | J13: Reason: | M13: Reason: | P13: Reason: | S13: Reason: | AG13: Comp Time (Xtr Hrs x 1.5) | AJ13: =IF(AJ11-AJ12>0,IF(((AJ10+AJ11-AJ12) - 40) > 0,((AJ10+AJ11-AJ12) - 40)*1.5,0) + IF((AJ10+AJ11-AJ12)>40,40-AI2,IF(AJ11-AJ12>0,((AJ10+AJ11-AJ12)-AJ10),0)),0) -> 0
A16: 11 | B16: n/a | C16: leave taken/non-work day | D16: 12 | F16: leave taken/non-work day | G16: 13 | I16: leave taken/non-work day | J16: 14 | L16: leave taken/non-work day | M16: 15 | O16: leave taken/non-work day | P16: 16 | R16: leave taken/non-work day | S16: 17 | T16: n/a | U16: leave taken/non-work day | AB16: # Hours of leave taken/non-work day | AE16: =SUM(E16+H16+K16+N16+Q16) -> 0 | AG16: Actual Hours (Before Extra) | AJ16: =AI2 -> 37.5
B17: n/a | C17: comp taken | F17: comp taken | I17: comp taken | L17: comp taken | O17: comp taken | R17: comp taken | T17: n/a | U17: comp taken | AB17: # Hours of Comp Taken | AE17: =SUM(E17+H17+K17+N17+Q17) -> 0 | AG17: Total # of Extra Hours | AJ17: =SUM(E18+H18+K18+N18+Q18+T18+B18) -> 0
C18: xtr hrs | F18: xtr hrs | I18: xtr hrs | L18: xtr hrs | O18: xtr hrs | R18: xtr hrs | U18: xtr hrs | V18: Total Comp Earned: | W18: =+AE18 -> 0 | AB18: Net comp hours | AE18: =IF(AJ19>0,AJ19,B18+(E18-E17)+(H18-H17)+(K18-K17)+(N18-N17)+(Q18-Q17)+T18) -> 0 | AG18: Total # Hours Taken | AJ18: =AE16+AE17 -> 0
A19: Reason: | D19: Reason: | G19: Reason: | J19: Reason: | M19: Reason: | P19: Reason: | S19: Reason: | AG19: Comp Time (Xtr Hrs x 1.5) | AJ19: =IF(AJ17-AJ18>0,IF(((AJ16+AJ17-AJ18) - 40) > 0,((AJ16+AJ17-AJ18) - 40)*1.5,0) + IF((AJ16+AJ17-AJ18)>40,40-AI2,IF(AJ17-AJ18>0,((AJ16+AJ17-AJ18)-AJ16),0)),0) -> 0
A22: 18 | B22: n/a | C22: leave taken/non-work day | D22: 19 | F22: leave taken/non-work day | G22: 20 | I22: leave taken/non-work day | J22: 21 | L22: leave taken/non-work day | M22: 22 | O22: leave taken/non-work day | P22: 23 | R22: leave taken/non-work day | S22: 24 | T22: n/a | U22: leave taken/non-work day | AB22: # Hours of leave taken/non-work day | AE22: =SUM(E22+H22+K22+N22+Q22) -> 0 | AG22: Actual Hours (Before Extra) | AJ22: =AI2 -> 37.5
B23: n/a | C23: comp taken | F23: comp taken | I23: comp taken | L23: comp taken | O23: comp taken | R23: comp taken | T23: n/a | U23: comp taken | AB23: # Hours of Comp Taken | AE23: =SUM(E23+H23+K23+N23+Q23) -> 0 | AG23: Total # of Extra Hours | AJ23: =SUM(E24+H24+K24+N24+Q24+T24+B24) -> 0
C24: xtr hrs | F24: xtr hrs | I24: xtr hrs | L24: xtr hrs | O24: xtr hrs | R24: xtr hrs | U24: xtr hrs | V24: Total Comp Earned: | W24: =+AE24 -> 0 | AB24: Net comp hours | AE24: =IF(AJ25>0,AJ25,B24+(E24-E23)+(H24-H23)+(K24-K23)+(N24-N23)+(Q24-Q23)+T24) -> 0 | AG24: Total # Hours Taken | AJ24: =AE22+AE23 -> 0
A25: Reason: | D25: Reason: | G25: Reason: | J25: Reason: | M25: Reason: | P25: Reason: | S25: Reason: | AG25: Comp Time (Xtr Hrs x 1.5) | AJ25: =IF(AJ23-AJ24>0,IF(((AJ22+AJ23-AJ24) - 40) > 0,((AJ22+AJ23-AJ24) - 40)*1.5,0) + IF((AJ22+AJ23-AJ24)>40,40-AI2,IF(AJ23-AJ24>0,((AJ22+AJ23-AJ24)-AJ22),0)),0) -> 0
A28: 25 | B28: n/a | C28: leave taken/non-work day | D28: 26 | F28: leave taken/non-work day | G28: 27 | I28: leave taken/non-work day | J28: 28 | L28: leave taken/non-work day | M28: 29 | O28: leave taken/non-work day | P28: 30 | R28: leave taken/non-work day | T28: n/a | U28: leave taken/non-work day | AB28: # Hours of leave taken/non-work day | AE28: =SUM(E28+H28+K28+N28+Q28) -> 0 | AG28: Actual Hours (Before Extra) | AJ28: =AI2 -> 37.5
B29: n/a | C29: comp taken | F29: comp taken | I29: comp taken | L29: comp taken | O29: comp taken | R29: comp taken | T29: n/a | U29: comp taken | AB29: # Hours of Comp Taken | AE29: =SUM(E29+H29+K29+N29+Q29) -> 0 | AG29: Total # of Extra Hours | AJ29: =SUM(E30+H30+K30+N30+Q30+T30+B30) -> 0
C30: xtr hrs | F30: xtr hrs | I30: xtr hrs | L30: xtr hrs | O30: xtr hrs | R30: xtr hrs | U30: xtr hrs | V30: Total Comp Earned: | W30: =+AE30 -> 0 | AB30: Net comp hours | AE30: =IF(AJ31>0,AJ31,B30+(E30-E29)+(H30-H29)+(K30-K29)+(N30-N29)+(Q30-Q29)+T30) -> 0 | AG30: Total # Hours Taken | AJ30: =AE28+AE29 -> 0
A31: Reason: | D31: Reason: | G31: Reason: | J31: Reason: | M31: Reason: | P31: Reason: | S31: Reason: | AG31: Comp Time (Xtr Hrs x 1.5) | AJ31: =IF(AJ29-AJ30>0,IF(((AJ28+AJ29-AJ30) - 40) > 0,((AJ28+AJ29-AJ30) - 40)*1.5,0) + IF((AJ28+AJ29-AJ30)>40,40-AI2,IF(AJ29-AJ30>0,((AJ28+AJ29-AJ30)-AJ28),0)),0) -> 0
B34: n/a | C34: leave taken/non-work day | F34: leave taken/non-work day | I34: leave taken/non-work day | L34: leave taken/non-work day | O34: leave taken/non-work day | R34: leave taken/non-work day | T34: n/a | U34: leave taken/non-work day | AB34: # Hours of leave taken/non-work day | AE34: =SUM(E34+H34+K34+N34+Q34) -> 0 | AG34: Actual Hours (Before Extra) | AJ34: =AI2 -> 37.5
B35: n/a | C35: comp taken | F35: comp taken | I35: comp taken | L35: comp taken | O35: comp taken | R35: comp taken | T35: n/a | U35: comp taken | AB35: # Hours of Comp Taken | AE35: =SUM(E35+H35+K35+N35+Q35) -> 0 | AG35: Total # of Extra Hours | AJ35: =SUM(E36+H36+K36+N36+Q36+T36+B36) -> 0
C36: xtr hrs | F36: xtr hrs | I36: xtr hrs | L36: xtr hrs | O36: xtr hrs | R36: xtr hrs | U36: xtr hrs | V36: Total Comp Earned: | W36: =+AE36 -> 0 | AB36: Net comp hours | AE36: =IF(AJ37>0,AJ37,B36+(E36-E35)+(H36-H35)+(K36-K35)+(N36-N35)+(Q36-Q35)+T36) -> 0 | AG36: Total # Hours Taken | AJ36: =AE34+AE35 -> 0
A37: Reason: | D37: Reason: | G37: Reason: | J37: Reason: | M37: Reason: | P37: Reason: | S37: Reason: | AG37: Comp Time (Xtr Hrs x 1.5) | AJ37: =IF(AJ35-AJ36>0,IF(((AJ34+AJ35-AJ36) - 40) > 0,((AJ34+AJ35-AJ36) - 40)*1.5,0) + IF((AJ34+AJ35-AJ36)>40,40-AI2,IF(AJ35-AJ36>0,((AJ34+AJ35-AJ36)-AJ34),0)),0) -> 0
B40: n/a | C40: leave taken/non-work day | F40: leave taken/non-work day | I40: leave taken/non-work day | L40: leave taken/non-work day | O40: leave taken/non-work day | R40: leave taken/non-work day | T40: n/a | U40: leave taken/non-work day | AB40: # Hours of leave taken/non-work day | AE40: =SUM(E40+H40+K40+N40+Q40) -> 0 | AG40: Actual Hours (Before Extra) | AJ40: =AI14 -> 0
B41: n/a | C41: comp taken | F41: comp taken | I41: comp taken | L41: comp taken | O41: comp taken | R41: comp taken | T41: n/a | U41: comp taken | AB41: # Hours of Comp Taken | AE41: =SUM(E41+H41+K41+N41+Q41) -> 0 | AG41: Total # of Extra Hours | AJ41: =SUM(E42+H42+K42+N42+Q42+T42+B42) -> 0
C42: xtr hrs | F42: xtr hrs | I42: xtr hrs | L42: xtr hrs | O42: xtr hrs | R42: xtr hrs | U42: xtr hrs | V42: Total Comp Earned: | W42: =+AE42 -> 0 | AB42: Net comp hours | AE42: =IF(AJ43>0,AJ43,B42+(E42-E41)+(H42-H41)+(K42-K41)+(N42-N41)+(Q42-Q41)+T42) -> 0 | AG42: Total # Hours Taken | AJ42: =AE40+AE41 -> 0
A43: Reason: | D43: Reason: | G43: Reason: | J43: Reason: | M43: Reason: | P43: Reason: | S43: Reason: | AG43: Comp Time (Xtr Hrs x 1.5) | AJ43: =IF(AJ41-AJ42>0,IF(((AJ40+AJ41-AJ42) - 40) > 0,((AJ40+AJ41-AJ42) - 40)*1.5,0) + IF((AJ40+AJ41-AJ42)>40,40-AI14,IF(AJ41-AJ42>0,((AJ40+AJ41-AJ42)-AJ40),0)),0) -> 0
A47: Please round up to the nearest quarter hour. | V47: Month End Total | W47: =W2+W6+W12+W18+W24+W30+W36 -> 0
I49: 0.25 | J49: 15 Minutes
I50: 0.5 | J50: 30 Minutes
I51: 0.75 | J51: 45 Minutes
I52: 1 | J52: 1 Hour

Sheet November 2026
A1: Extra Hour and Compensatory Time Tracker
A2: November 2026 | V2: Carry Over Comp Time: | W2: ='October 2026'!W47 -> 0 | X2: Enter Your Normal Hours Per Work Week here>>> | Z2: ='July 2026'!Z2 -> 37.5 | AB2: Carry Over Comp Time: | AE2: =W2 -> 0 | AG2: Normal Hours Per Work Week | AI2: =Z2 -> 37.5
A3: Sunday | D3: Monday | G3: Tuesday | J3: Wednesday | M3: Thursday | P3: Friday | S3: Saturday
B4: n/a | C4: leave taken/non-work day | F4: leave taken/non-work day | I4: leave taken/non-work day | L4: leave taken/non-work day | O4: leave taken/non-work day | R4: leave taken/non-work day | T4: n/a | U4: leave taken/non-work day | AB4: # Hours of leave taken/non-work day | AE4: =SUM(E4+H4+K4+N4+Q4) -> 0 | AG4: Actual Hours (Before Extra) | AJ4: =AI2 -> 37.5
B5: n/a | C5: comp taken | F5: comp taken | I5: comp taken | L5: comp taken | O5: comp taken | R5: comp taken | T5: n/a | U5: comp taken | AB5: # Hours of Comp Taken | AE5: =SUM(E5+H5+K5+N5+Q5) -> 0 | AG5: Total # of Extra Hours | AJ5: =SUM(E6+H6+K6+N6+Q6+T6+B6) -> 0
C6: xtr hrs | F6: xtr hrs | I6: xtr hrs | L6: xtr hrs | O6: xtr hrs | R6: xtr hrs | U6: xtr hrs | V6: Total Comp Earned: | W6: =+AE6 -> 0 | AB6: Net comp hours | AE6: =IF(AJ7>0,AJ7,B6+(E6-E5)+(H6-H5)+(K6-K5)+(N6-N5)+(Q6-Q5)+T6) -> 0 | AG6: Total # Leave Hours Taken | AJ6: =AE4+AE5 -> 0
A7: Reason: | D7: Reason: | G7: Reason: | J7: Reason: | M7: Reason: | P7: Reason: | S7: Reason: | AG7: Comp Time (Xtr Hrs x 1.5) | AJ7: =IF(AJ5-AJ6>0,IF(((AJ4+AJ5-AJ6) - 40) > 0,((AJ4+AJ5-AJ6) - 40)*1.5,0) + IF((AJ4+AJ5-AJ6)>40,40-AI2,IF(AJ5-AJ6>0,((AJ4+AJ5-AJ6)-AJ4),0)),0) -> 0
A10: 1 | B10: n/a | C10: leave taken/non-work day | D10: 2 | F10: leave taken/non-work day | G10: 3 | I10: leave taken/non-work day | J10: 4 | L10: leave taken/non-work day | M10: 5 | O10: leave taken/non-work day | P10: 6 | R10: leave taken/non-work day | S10: 7 | T10: n/a | U10: leave taken/non-work day | AB10: # Hours of leave taken/non-work day | AE10: =SUM(E10+H10+K10+N10+Q10) -> 0 | AG10: Actual Hours (Before Extra) | AJ10: =AI2 -> 37.5
B11: n/a | C11: comp taken | F11: comp taken | I11: comp taken | L11: comp taken | O11: comp taken | R11: comp taken | T11: n/a | U11: comp taken | AB11: # Hours of Comp Taken | AE11: =SUM(E11+H11+K11+N11+Q11) -> 0 | AG11: Total # of Extra Hours | AJ11: =SUM(E12+H12+K12+N12+Q12+T12+B12) -> 0
C12: xtr hrs | F12: xtr hrs | I12: xtr hrs | L12: xtr hrs | O12: xtr hrs | R12: xtr hrs | U12: xtr hrs | V12: Total Comp Earned: | W12: =+AE12 -> 0 | AB12: Net comp hours | AE12: =IF(AJ13>0,AJ13,B12+(E12-E11)+(H12-H11)+(K12-K11)+(N12-N11)+(Q12-Q11)+T12) -> 0 | AG12: Total # of Hours Taken | AJ12: =AE10+AE11 -> 0
A13: Reason: | D13: Reason: | G13: Reason: | J13: Reason: | M13: Reason: | P13: Reason: | S13: Reason: | AG13: Comp Time (Xtr Hrs x 1.5) | AJ13: =IF(AJ11-AJ12>0,IF(((AJ10+AJ11-AJ12) - 40) > 0,((AJ10+AJ11-AJ12) - 40)*1.5,0) + IF((AJ10+AJ11-AJ12)>40,40-AI2,IF(AJ11-AJ12>0,((AJ10+AJ11-AJ12)-AJ10),0)),0) -> 0
A16: 8 | B16: n/a | C16: leave taken/non-work day | D16: 9 | F16: leave taken/non-work day | G16: 10 | I16: leave taken/non-work day | J16: 11 | L16: leave taken/non-work day | M16: 12 | O16: leave taken/non-work day | P16: 13 | R16: leave taken/non-work day | S16: 14 | T16: n/a | U16: leave taken/non-work day | AB16: # Hours of leave taken/non-work day | AE16: =SUM(E16+H16+K16+N16+Q16) -> 0 | AG16: Actual Hours (Before Extra) | AJ16: =AI2 -> 37.5
B17: n/a | C17: comp taken | F17: comp taken | I17: comp taken | L17: comp taken | O17: comp taken | R17: comp taken | T17: n/a | U17: comp taken | AB17: # Hours of Comp Taken | AE17: =SUM(E17+H17+K17+N17+Q17) -> 0 | AG17: Total # of Extra Hours | AJ17: =SUM(E18+H18+K18+N18+Q18+T18+B18) -> 0
C18: xtr hrs | F18: xtr hrs | I18: xtr hrs | L18: xtr hrs | O18: xtr hrs | R18: xtr hrs | U18: xtr hrs | V18: Total Comp Earned: | W18: =+AE18 -> 0 | AB18: Net comp hours | AE18: =IF(AJ19>0,AJ19,B18+(E18-E17)+(H18-H17)+(K18-K17)+(N18-N17)+(Q18-Q17)+T18) -> 0 | AG18: Total # Hours Taken | AJ18: =AE16+AE17 -> 0
A19: Reason: | D19: Reason: | G19: Reason: | J19: Reason: | M19: Reason: | P19: Reason: | S19: Reason: | AG19: Comp Time (Xtr Hrs x 1.5) | AJ19: =IF(AJ17-AJ18>0,IF(((AJ16+AJ17-AJ18) - 40) > 0,((AJ16+AJ17-AJ18) - 40)*1.5,0) + IF((AJ16+AJ17-AJ18)>40,40-AI2,IF(AJ17-AJ18>0,((AJ16+AJ17-AJ18)-AJ16),0)),0) -> 0
A22: 15 | B22: n/a | C22: leave taken/non-work day | D22: 16 | F22: leave taken/non-work day | G22: 17 | I22: leave taken/non-work day | J22: 18 | L22: leave taken/non-work day | M22: 19 | O22: leave taken/non-work day | P22: 20 | R22: leave taken/non-work day | S22: 21 | T22: n/a | U22: leave taken/non-work day | AB22: # Hours of leave taken/non-work day | AE22: =SUM(E22+H22+K22+N22+Q22) -> 0 | AG22: Actual Hours (Before Extra) | AJ22: =AI2 -> 37.5
B23: n/a | C23: comp taken | F23: comp taken | I23: comp taken | L23: comp taken | O23: comp taken | R23: comp taken | T23: n/a | U23: comp taken | AB23: # Hours of Comp Taken | AE23: =SUM(E23+H23+K23+N23+Q23) -> 0 | AG23: Total # of Extra Hours | AJ23: =SUM(E24+H24+K24+N24+Q24+T24+B24) -> 0
C24: xtr hrs | F24: xtr hrs | I24: xtr hrs | L24: xtr hrs | O24: xtr hrs | R24: xtr hrs | U24: xtr hrs | V24: Total Comp Earned: | W24: =+AE24 -> 0 | AB24: Net comp hours | AE24: =IF(AJ25>0,AJ25,B24+(E24-E23)+(H24-H23)+(K24-K23)+(N24-N23)+(Q24-Q23)+T24) -> 0 | AG24: Total # Hours Taken | AJ24: =AE22+AE23 -> 0
A25: Reason: | D25: Reason: | G25: Reason: | J25: Reason: | M25: Reason: | P25: Reason: | S25: Reason: | AG25: Comp Time (Xtr Hrs x 1.5) | AJ25: =IF(AJ23-AJ24>0,IF(((AJ22+AJ23-AJ24) - 40) > 0,((AJ22+AJ23-AJ24) - 40)*1.5,0) + IF((AJ22+AJ23-AJ24)>40,40-AI2,IF(AJ23-AJ24>0,((AJ22+AJ23-AJ24)-AJ22),0)),0) -> 0
A28: 22/29 | C28: leave taken/non-work day | D28: 23/30 | F28: leave taken/non-work day | G28: 24 | I28: leave taken/non-work day | J28: 25 | L28: leave taken/non-work day | M28: 26 | O28: leave taken/non-work day | P28: 27 | R28: leave taken/non-work day | S28: 28 | T28: n/a | U28: leave taken/non-work day | AB28: # Hours of leave taken/non-work day | AE28: =SUM(E28+H28+K28+N28+Q28) -> 0 | AG28: Actual Hours (Before Extra) | AJ28: =AI2 -> 37.5
B29: n/a | C29: comp taken | F29: comp taken | I29: comp taken | L29: comp taken | O29: comp taken | R29: comp taken | T29: n/a | U29: comp taken | AB29: # Hours of Comp Taken | AE29: =SUM(E29+H29+K29+N29+Q29) -> 0 | AG29: Total # of Extra Hours | AJ29: =SUM(E30+H30+K30+N30+Q30+T30+B30) -> 0
C30: xtr hrs | F30: xtr hrs | I30: xtr hrs | L30: xtr hrs | O30: xtr hrs | R30: xtr hrs | U30: xtr hrs | V30: Total Comp Earned: | W30: =+AE30 -> 0 | AB30: Net comp hours | AE30: =IF(AJ31>0,AJ31,B30+(E30-E29)+(H30-H29)+(K30-K29)+(N30-N29)+(Q30-Q29)+T30) -> 0 | AG30: Total # Hours Taken | AJ30: =AE28+AE29 -> 0
A31: Reason: | D31: Reason: | G31: Reason: | J31: Reason: | M31: Reason: | P31: Reason: | S31: Reason: | AG31: Comp Time (Xtr Hrs x 1.5) | AJ31: =IF(AJ29-AJ30>0,IF(((AJ28+AJ29-AJ30) - 40) > 0,((AJ28+AJ29-AJ30) - 40)*1.5,0) + IF((AJ28+AJ29-AJ30)>40,40-AI2,IF(AJ29-AJ30>0,((AJ28+AJ29-AJ30)-AJ28),0)),0) -> 0
A35: Please round up to the nearest quarter hour. | V35: Month End Total | W35: =W2+W6+W12+W18+W24+W30 -> 0
I37: 0.25 | J37: 15 Minutes
I38: 0.5 | J38: 30 Minutes
I39: 0.75 | J39: 45 Minutes
I40: 1 | J40: 1 Hour

Sheet December 2026
A1: Extra Hour and Compensatory Time Tracker
A2: December 2026 | V2: Carry Over Comp Time: | W2: ='November 2026'!W35 -> 0 | X2: Enter Your Normal Hours Per Work Week here>>> | Z2: ='July 2026'!Z2 -> 37.5 | AB2: Carry Over Comp Time: | AE2: =W2 -> 0 | AG2: Normal Hours Per Work Week | AI2: =Z2 -> 37.5
A3: Sunday | D3: Monday | G3: Tuesday | J3: Wednesday | M3: Thursday | P3: Friday | S3: Saturday
B4: n/a | C4: leave taken/non-work day | F4: leave taken/non-work day | G4: 1 | I4: leave taken/non-work day | J4: 2 | L4: leave taken/non-work day | M4: 3 | O4: leave taken/non-work day | P4: 4 | R4: leave taken/non-work day | S4: 5 | T4: n/a | U4: leave taken/non-work day | AB4: # Hours of leave taken/non-work day | AE4: =SUM(E4+H4+K4+N4+Q4) -> 0 | AG4: Actual Hours (Before Extra) | AJ4: =AI2 -> 37.5
B5: n/a | C5: comp taken | F5: comp taken | I5: comp taken | L5: comp taken | O5: comp taken | R5: comp taken | T5: n/a | U5: comp taken | AB5: # Hours of Comp Taken | AE5: =SUM(E5+H5+K5+N5+Q5) -> 0 | AG5: Total # of Extra Hours | AJ5: =SUM(E6+H6+K6+N6+Q6+T6+B6) -> 0
C6: xtr hrs | F6: xtr hrs | I6: xtr hrs | L6: xtr hrs | O6: xtr hrs | R6: xtr hrs | U6: xtr hrs | V6: Total Comp Earned: | W6: =+AE6 -> 0 | AB6: Net comp hours | AE6: =IF(AJ7>0,AJ7,B6+(E6-E5)+(H6-H5)+(K6-K5)+(N6-N5)+(Q6-Q5)+T6) -> 0 | AG6: Total # Leave Hours Taken | AJ6: =AE4+AE5 -> 0
A7: Reason: | D7: Reason: | G7: Reason: | J7: Reason: | M7: Reason: | P7: Reason: | S7: Reason: | AG7: Comp Time (Xtr Hrs x 1.5) | AJ7: =IF(AJ5-AJ6>0,IF(((AJ4+AJ5-AJ6) - 40) > 0,((AJ4+AJ5-AJ6) - 40)*1.5,0) + IF((AJ4+AJ5-AJ6)>40,40-AI2,IF(AJ5-AJ6>0,((AJ4+AJ5-AJ6)-AJ4),0)),0) -> 0
A10: 6 | B10: n/a | C10: leave taken/non-work day | D10: 7 | F10: leave taken/non-work day | G10: 8 | I10: leave taken/non-work day | J10: 9 | L10: leave taken/non-work day | M10: 10 | O10: leave taken/non-work day | P10: 11 | R10: leave taken/non-work day | S10: 12 | T10: n/a | U10: leave taken/non-work day | AB10: # Hours of leave taken/non-work day | AE10: =SUM(E10+H10+K10+N10+Q10) -> 0 | AG10: Actual Hours (Before Extra) | AJ10: =AI2 -> 37.5
B11: n/a | C11: comp taken | F11: comp taken | I11: comp taken | L11: comp taken | O11: comp taken | R11: comp taken | T11: n/a | U11: comp taken | AB11: # Hours of Comp Taken | AE11: =SUM(E11+H11+K11+N11+Q11) -> 0 | AG11: Total # of Extra Hours | AJ11: =SUM(E12+H12+K12+N12+Q12+T12+B12) -> 0
C12: xtr hrs | F12: xtr hrs | I12: xtr hrs | L12: xtr hrs | O12: xtr hrs | R12: xtr hrs | U12: xtr hrs | V12: Total Comp Earned: | W12: =+AE12 -> 0 | AB12: Net comp hours | AE12: =IF(AJ13>0,AJ13,B12+(E12-E11)+(H12-H11)+(K12-K11)+(N12-N11)+(Q12-Q11)+T12) -> 0 | AG12: Total # of Hours Taken | AJ12: =AE10+AE11 -> 0
A13: Reason: | D13: Reason: | G13: Reason: | J13: Reason: | M13: Reason: | P13: Reason: | S13: Reason: | AG13: Comp Time (Xtr Hrs x 1.5) | AJ13: =IF(AJ11-AJ12>0,IF(((AJ10+AJ11-AJ12) - 40) > 0,((AJ10+AJ11-AJ12) - 40)*1.5,0) + IF((AJ10+AJ11-AJ12)>40,40-AI2,IF(AJ11-AJ12>0,((AJ10+AJ11-AJ12)-AJ10),0)),0) -> 0
A16: 13 | B16: n/a | C16: leave taken/non-work day | D16: 14 | F16: leave taken/non-work day | G16: 15 | I16: leave taken/non-work day | J16: 16 | L16: leave taken/non-work day | M16: 17 | O16: leave taken/non-work day | P16: 18 | R16: leave taken/non-work day | S16: 19 | T16: n/a | U16: leave taken/non-work day | AB16: # Hours of leave taken/non-work day | AE16: =SUM(E16+H16+K16+N16+Q16) -> 0 | AG16: Actual Hours (Before Extra) | AJ16: =AI2 -> 37.5
B17: n/a | C17: comp taken | F17: comp taken | I17: comp taken | L17: comp taken | O17: comp taken | R17: comp taken | T17: n/a | U17: comp taken | AB17: # Hours of Comp Taken | AE17: =SUM(E17+H17+K17+N17+Q17) -> 0 | AG17: Total # of Extra Hours | AJ17: =SUM(E18+H18+K18+N18+Q18+T18+B18) -> 0
C18: xtr hrs | F18: xtr hrs | I18: xtr hrs | L18: xtr hrs | O18: xtr hrs | R18: xtr hrs | U18: xtr hrs | V18: Total Comp Earned: | W18: =+AE18 -> 0 | AB18: Net comp hours | AE18: =IF(AJ19>0,AJ19,B18+(E18-E17)+(H18-H17)+(K18-K17)+(N18-N17)+(Q18-Q17)+T18) -> 0 | AG18: Total # Hours Taken | AJ18: =AE16+AE17 -> 0
A19: Reason: | D19: Reason: | G19: Reason: | J19: Reason: | M19: Reason: | P19: Reason: | S19: Reason: | AG19: Comp Time (Xtr Hrs x 1.5) | AJ19: =IF(AJ17-AJ18>0,IF(((AJ16+AJ17-AJ18) - 40) > 0,((AJ16+AJ17-AJ18) - 40)*1.5,0) + IF((AJ16+AJ17-AJ18)>40,40-AI2,IF(AJ17-AJ18>0,((AJ16+AJ17-AJ18)-AJ16),0)),0) -> 0
A22: 20 | B22: n/a | C22: leave taken/non-work day | D22: 21 | F22: leave taken/non-work day | G22: 22 | I22: leave taken/non-work day | J22: 23 | L22: leave taken/non-work day | M22: 24 | O22: leave taken/non-work day | P22: 25 | R22: leave taken/non-work day | S22: 26 | T22: n/a | U22: leave taken/non-work day | AB22: # Hours of leave taken/non-work day | AE22: =SUM(E22+H22+K22+N22+Q22) -> 0 | AG22: Actual Hours (Before Extra) | AJ22: =AI2 -> 37.5
B23: n/a | C23: comp taken | F23: comp taken | I23: comp taken | L23: comp taken | O23: comp taken | R23: comp taken | T23: n/a | U23: comp taken | AB23: # Hours of Comp Taken | AE23: =SUM(E23+H23+K23+N23+Q23) -> 0 | AG23: Total # of Extra Hours | AJ23: =SUM(E24+H24+K24+N24+Q24+T24+B24) -> 0
C24: xtr hrs | F24: xtr hrs | I24: xtr hrs | L24: xtr hrs | O24: xtr hrs | R24: xtr hrs | U24: xtr hrs | V24: Total Comp Earned: | W24: =+AE24 -> 0 | AB24: Net comp hours | AE24: =IF(AJ25>0,AJ25,B24+(E24-E23)+(H24-H23)+(K24-K23)+(N24-N23)+(Q24-Q23)+T24) -> 0 | AG24: Total # Hours Taken | AJ24: =AE22+AE23 -> 0
A25: Reason: | D25: Reason: | G25: Reason: | J25: Reason: | M25: Reason: | P25: Reason: | S25: Reason: | AG25: Comp Time (Xtr Hrs x 1.5) | AJ25: =IF(AJ23-AJ24>0,IF(((AJ22+AJ23-AJ24) - 40) > 0,((AJ22+AJ23-AJ24) - 40)*1.5,0) + IF((AJ22+AJ23-AJ24)>40,40-AI2,IF(AJ23-AJ24>0,((AJ22+AJ23-AJ24)-AJ22),0)),0) -> 0
A28: 27 | B28: n/a | C28: leave taken/non-work day | D28: 28 | F28: leave taken/non-work day | G28: 29 | I28: leave taken/non-work day | J28: 30 | L28: leave taken/non-work day | M28: 31 | O28: leave taken/non-work day | R28: leave taken/non-work day | T28: n/a | U28: leave taken/non-work day | AB28: # Hours of leave taken/non-work day | AE28: =SUM(E28+H28+K28+N28+Q28) -> 0 | AG28: Actual Hours (Before Extra) | AJ28: =AI2 -> 37.5
B29: n/a | C29: comp taken | F29: comp taken | I29: comp taken | L29: comp taken | O29: comp taken | R29: comp taken | T29: n/a | U29: comp taken | AB29: # Hours of Comp Taken | AE29: =SUM(E29+H29+K29+N29+Q29) -> 0 | AG29: Total # of Extra Hours | AJ29: =SUM(E30+H30+K30+N30+Q30+T30+B30) -> 0
C30: xtr hrs | F30: xtr hrs | I30: xtr hrs | L30: xtr hrs | O30: xtr hrs | R30: xtr hrs | U30: xtr hrs | V30: Total Comp Earned: | W30: =+AE30 -> 0 | AB30: Net comp hours | AE30: =IF(AJ31>0,AJ31,B30+(E30-E29)+(H30-H29)+(K30-K29)+(N30-N29)+(Q30-Q29)+T30) -> 0 | AG30: Total # Hours Taken | AJ30: =AE28+AE29 -> 0
A31: Reason: | D31: Reason: | G31: Reason: | J31: Reason: | M31: Reason: | P31: Reason: | S31: Reason: | AG31: Comp Time (Xtr Hrs x 1.5) | AJ31: =IF(AJ29-AJ30>0,IF(((AJ28+AJ29-AJ30) - 40) > 0,((AJ28+AJ29-AJ30) - 40)*1.5,0) + IF((AJ28+AJ29-AJ30)>40,40-AI2,IF(AJ29-AJ30>0,((AJ28+AJ29-AJ30)-AJ28),0)),0) -> 0
A35: Please round up to the nearest quarter hour. | V35: Month End Total | W35: =W2+W6+W12+W18+W24+W30 -> 0
I37: 0.25 | J37: 15 Minutes
I38: 0.5 | J38: 30 Minutes
I39: 0.75 | J39: 45 Minutes
I40: 1 | J40: 1 Hour

Sheet January 2027
A1: Extra Hour and Compensatory Time Tracker
A2: January 2027 | V2: Carry Over Comp Time: | W2: ='December 2026'!W35 -> 0 | X2: Enter Your Normal Hours Per Work Week here>>> | Z2: ='July 2026'!Z2 -> 37.5 | AB2: Carry Over Comp Time: | AE2: =W2 -> 0 | AG2: Normal Hours Per Work Week | AI2: =Z2 -> 37.5
A3: Sunday | D3: Monday | G3: Tuesday | J3: Wednesday | M3: Thursday | P3: Friday | S3: Saturday
B4: n/a | C4: leave taken/non-work day | F4: leave taken/non-work day | I4: leave taken/non-work day | L4: leave taken/non-work day | O4: leave taken/non-work day | P4: 1 | R4: leave taken/non-work day | S4: 2 | T4: n/a | U4: leave taken/non-work day | AB4: # Hours of leave taken/non-work day | AE4: =SUM(E4+H4+K4+N4+Q4) -> 0 | AG4: Actual Hours (Before Extra) | AJ4: =AI2 -> 37.5
B5: n/a | C5: comp taken | F5: comp taken | I5: comp taken | L5: comp taken | O5: comp taken | R5: comp taken | T5: n/a | U5: comp taken | AB5: # Hours of Comp Taken | AE5: =SUM(E5+H5+K5+N5+Q5) -> 0 | AG5: Total # of Extra Hours | AJ5: =SUM(E6+H6+K6+N6+Q6+T6+B6) -> 0
C6: xtr hrs | F6: xtr hrs | I6: xtr hrs | L6: xtr hrs | O6: xtr hrs | R6: xtr hrs | U6: xtr hrs | V6: Total Comp Earned: | W6: =+AE6 -> 0 | AB6: Net comp hours | AE6: =IF(AJ7>0,AJ7,B6+(E6-E5)+(H6-H5)+(K6-K5)+(N6-N5)+(Q6-Q5)+T6) -> 0 | AG6: Total # Leave Hours Taken | AJ6: =AE4+AE5 -> 0
A7: Reason: | D7: Reason: | G7: Reason: | J7: Reason: | M7: Reason: | P7: Reason: | S7: Reason: | AG7: Comp Time (Xtr Hrs x 1.5) | AJ7: =IF(AJ5-AJ6>0,IF(((AJ4+AJ5-AJ6) - 40) > 0,((AJ4+AJ5-AJ6) - 40)*1.5,0) + IF((AJ4+AJ5-AJ6)>40,40-AI2,IF(AJ5-AJ6>0,((AJ4+AJ5-AJ6)-AJ4),0)),0) -> 0
A10: 3 | B10: n/a | C10: leave taken/non-work day | D10: 4 | F10: leave taken/non-work day | G10: 5 | I10: leave taken/non-work day | J10: 6 | L10: leave taken/non-work day | M10: 7 | O10: leave taken/non-work day | P10: 8 | R10: leave taken/non-work day | S10: 9 | T10: n/a | U10: leave taken/non-work day | AB10: # Hours of leave taken/non-work day | AE10: =SUM(E10+H10+K10+N10+Q10) -> 0 | AG10: Actual Hours (Before Extra) | AJ10: =AI2 -> 37.5
B11: n/a | C11: comp taken | F11: comp taken | I11: comp taken | L11: comp taken | O11: comp taken | R11: comp taken | T11: n/a | U11: comp taken | AB11: # Hours of Comp Taken | AE11: =SUM(E11+H11+K11+N11+Q11) -> 0 | AG11: Total # of Extra Hours | AJ11: =SUM(E12+H12+K12+N12+Q12+T12+B12) -> 0
C12: xtr hrs | F12: xtr hrs | I12: xtr hrs | L12: xtr hrs | O12: xtr hrs | R12: xtr hrs | U12: xtr hrs | V12: Total Comp Earned: | W12: =+AE12 -> 0 | AB12: Net comp hours | AE12: =IF(AJ13>0,AJ13,B12+(E12-E11)+(H12-H11)+(K12-K11)+(N12-N11)+(Q12-Q11)+T12) -> 0 | AG12: Total # of Hours Taken | AJ12: =AE10+AE11 -> 0
A13: Reason: | D13: Reason: | G13: Reason: | J13: Reason: | M13: Reason: | P13: Reason: | S13: Reason: | AG13: Comp Time (Xtr Hrs x 1.5) | AJ13: =IF(AJ11-AJ12>0,IF(((AJ10+AJ11-AJ12) - 40) > 0,((AJ10+AJ11-AJ12) - 40)*1.5,0) + IF((AJ10+AJ11-AJ12)>40,40-AI2,IF(AJ11-AJ12>0,((AJ10+AJ11-AJ12)-AJ10),0)),0) -> 0
A16: 10 | B16: n/a | C16: leave taken/non-work day | D16: 11 | F16: leave taken/non-work day | G16: 12 | I16: leave taken/non-work day | J16: 13 | L16: leave taken/non-work day | M16: 14 | O16: leave taken/non-work day | P16: 15 | R16: leave taken/non-work day | S16: 16 | T16: n/a | U16: leave taken/non-work day | AB16: # Hours of leave taken/non-work day | AE16: =SUM(E16+H16+K16+N16+Q16) -> 0 | AG16: Actual Hours (Before Extra) | AJ16: =AI2 -> 37.5
B17: n/a | C17: comp taken | F17: comp taken | I17: comp taken | L17: comp taken | O17: comp taken | R17: comp taken | T17: n/a | U17: comp taken | AB17: # Hours of Comp Taken | AE17: =SUM(E17+H17+K17+N17+Q17) -> 0 | AG17: Total # of Extra Hours | AJ17: =SUM(E18+H18+K18+N18+Q18+T18+B18) -> 0
C18: xtr hrs | F18: xtr hrs | I18: xtr hrs | L18: xtr hrs | O18: xtr hrs | R18: xtr hrs | U18: xtr hrs | V18: Total Comp Earned: | W18: =+AE18 -> 0 | AB18: Net comp hours | AE18: =IF(AJ19>0,AJ19,B18+(E18-E17)+(H18-H17)+(K18-K17)+(N18-N17)+(Q18-Q17)+T18) -> 0 | AG18: Total # Hours Taken | AJ18: =AE16+AE17 -> 0
A19: Reason: | D19: Reason: | G19: Reason: | J19: Reason: | M19: Reason: | P19: Reason: | S19: Reason: | AG19: Comp Time (Xtr Hrs x 1.5) | AJ19: =IF(AJ17-AJ18>0,IF(((AJ16+AJ17-AJ18) - 40) > 0,((AJ16+AJ17-AJ18) - 40)*1.5,0) + IF((AJ16+AJ17-AJ18)>40,40-AI2,IF(AJ17-AJ18>0,((AJ16+AJ17-AJ18)-AJ16),0)),0) -> 0
A22: 17 | B22: n/a | C22: leave taken/non-work day | D22: 18 | F22: leave taken/non-work day | G22: 19 | I22: leave taken/non-work day | J22: 20 | L22: leave taken/non-work day | M22: 21 | O22: leave taken/non-work day | P22: 22 | R22: leave taken/non-work day | S22: 23 | T22: n/a | U22: leave taken/non-work day | AB22: # Hours of leave taken/non-work day | AE22: =SUM(E22+H22+K22+N22+Q22) -> 0 | AG22: Actual Hours (Before Extra) | AJ22: =AI2 -> 37.5
B23: n/a | C23: comp taken | F23: comp taken | I23: comp taken | L23: comp taken | O23: comp taken | R23: comp taken | T23: n/a | U23: comp taken | AB23: # Hours of Comp Taken | AE23: =SUM(E23+H23+K23+N23+Q23) -> 0 | AG23: Total # of Extra Hours | AJ23: =SUM(E24+H24+K24+N24+Q24+T24+B24) -> 0
C24: xtr hrs | F24: xtr hrs | I24: xtr hrs | L24: xtr hrs | O24: xtr hrs | R24: xtr hrs | U24: xtr hrs | V24: Total Comp Earned: | W24: =+AE24 -> 0 | AB24: Net comp hours | AE24: =IF(AJ25>0,AJ25,B24+(E24-E23)+(H24-H23)+(K24-K23)+(N24-N23)+(Q24-Q23)+T24) -> 0 | AG24: Total # Hours Taken | AJ24: =AE22+AE23 -> 0
A25: Reason: | D25: Reason: | G25: Reason: | J25: Reason: | M25: Reason: | P25: Reason: | S25: Reason: | AG25: Comp Time (Xtr Hrs x 1.5) | AJ25: =IF(AJ23-AJ24>0,IF(((AJ22+AJ23-AJ24) - 40) > 0,((AJ22+AJ23-AJ24) - 40)*1.5,0) + IF((AJ22+AJ23-AJ24)>40,40-AI2,IF(AJ23-AJ24>0,((AJ22+AJ23-AJ24)-AJ22),0)),0) -> 0
A28: 24/31 | B28: n/a | C28: leave taken/non-work day | D28: 25 | F28: leave taken/non-work day | G28: 26 | I28: leave taken/non-work day | J28: 27 | L28: leave taken/non-work day | M28: 28 | O28: leave taken/non-work day | P28: 29 | R28: leave taken/non-work day | S28: 30 | T28: n/a | U28: leave taken/non-work day | AB28: # Hours of leave taken/non-work day | AE28: =SUM(E28+H28+K28+N28+Q28) -> 0 | AG28: Actual Hours (Before Extra) | AJ28: =AI2 -> 37.5
B29: n/a | C29: comp taken | F29: comp taken | I29: comp taken | L29: comp taken | O29: comp taken | R29: comp taken | T29: n/a | U29: comp taken | AB29: # Hours of Comp Taken | AE29: =SUM(E29+H29+K29+N29+Q29) -> 0 | AG29: Total # of Extra Hours | AJ29: =SUM(E30+H30+K30+N30+Q30+T30+B30) -> 0
C30: xtr hrs | F30: xtr hrs | I30: xtr hrs | L30: xtr hrs | O30: xtr hrs | R30: xtr hrs | U30: xtr hrs | V30: Total Comp Earned: | W30: =+AE30 -> 0 | AB30: Net comp hours | AE30: =IF(AJ31>0,AJ31,B30+(E30-E29)+(H30-H29)+(K30-K29)+(N30-N29)+(Q30-Q29)+T30) -> 0 | AG30: Total # Hours Taken | AJ30: =AE28+AE29 -> 0
A31: Reason: | D31: Reason: | G31: Reason: | J31: Reason: | M31: Reason: | P31: Reason: | S31: Reason: | AG31: Comp Time (Xtr Hrs x 1.5) | AJ31: =IF(AJ29-AJ30>0,IF(((AJ28+AJ29-AJ30) - 40) > 0,((AJ28+AJ29-AJ30) - 40)*1.5,0) + IF((AJ28+AJ29-AJ30)>40,40-AI2,IF(AJ29-AJ30>0,((AJ28+AJ29-AJ30)-AJ28),0)),0) -> 0
A35: Please round up to the nearest quarter hour. | V35: Month End Total | W35: =SUM(W2+W6+W12+W18+W24+W30) -> 0
I37: 0.25 | J37: 15 Minutes
I38: 0.5 | J38: 30 Minutes
I39: 0.75 | J39: 45 Minutes
I40: 1 | J40: 1 Hour

Sheet February 2027
A1: Extra Hour and Compensatory Time Tracker
A2: February 2027 | V2: Carry Over Comp Time: | W2: ='January 2027'!W35 -> 0 | X2: Enter Your Normal Hours Per Work Week here>>> | Z2: ='July 2026'!Z2 -> 37.5 | AB2: Carry Over Comp Time: | AE2: =W2 -> 0 | AG2: Normal Hours Per Work Week | AI2: =Z2 -> 37.5
A3: Sunday | D3: Monday | G3: Tuesday | J3: Wednesday | M3: Thursday | P3: Friday | S3: Saturday
B4: n/a | C4: leave taken/non-work day | D4: 1 | F4: leave taken/non-work day | G4: 2 | I4: leave taken/non-work day | J4: 3 | L4: leave taken/non-work day | M4: 4 | O4: leave taken/non-work day | P4: 5 | R4: leave taken/non-work day | S4: 6 | T4: n/a | U4: leave taken/non-work day | AB4: # Hours of leave taken/non-work day | AE4: =SUM(E4+H4+K4+N4+Q4) -> 0 | AG4: Actual Hours (Before Extra) | AJ4: =AI2 -> 37.5
B5: n/a | C5: comp taken | F5: comp taken | I5: comp taken | L5: comp taken | O5: comp taken | R5: comp taken | T5: n/a | U5: comp taken | AB5: # Hours of Comp Taken | AE5: =SUM(E5+H5+K5+N5+Q5) -> 0 | AG5: Total # of Extra Hours | AJ5: =SUM(E6+H6+K6+N6+Q6+T6+B6) -> 0
C6: xtr hrs | F6: xtr hrs | I6: xtr hrs | L6: xtr hrs | O6: xtr hrs | R6: xtr hrs | U6: xtr hrs | V6: Total Comp Earned: | W6: =+AE6 -> 0 | AB6: Net comp hours | AE6: =IF(AJ7>0,AJ7,B6+(E6-E5)+(H6-H5)+(K6-K5)+(N6-N5)+(Q6-Q5)+T6) -> 0 | AG6: Total # Leave Hours Taken | AJ6: =AE4+AE5 -> 0
A7: Reason: | D7: Reason: | G7: Reason: | J7: Reason: | M7: Reason: | P7: Reason: | S7: Reason: | AG7: Comp Time (Xtr Hrs x 1.5) | AJ7: =IF(AJ5-AJ6>0,IF(((AJ4+AJ5-AJ6) - 40) > 0,((AJ4+AJ5-AJ6) - 40)*1.5,0) + IF((AJ4+AJ5-AJ6)>40,40-AI2,IF(AJ5-AJ6>0,((AJ4+AJ5-AJ6)-AJ4),0)),0) -> 0
A10: 7 | B10: n/a | C10: leave taken/non-work day | D10: 8 | F10: leave taken/non-work day | G10: 9 | I10: leave taken/non-work day | J10: 10 | L10: leave taken/non-work day | M10: 11 | O10: leave taken/non-work day | P10: 12 | R10: leave taken/non-work day | S10: 13 | T10: n/a | U10: leave taken/non-work day | AB10: # Hours of leave taken/non-work day | AE10: =SUM(E10+H10+K10+N10+Q10) -> 0 | AG10: Actual Hours (Before Extra) | AJ10: =AI2 -> 37.5
B11: n/a | C11: comp taken | F11: comp taken | I11: comp taken | L11: comp taken | O11: comp taken | R11: comp taken | T11: n/a | U11: comp taken | AB11: # Hours of Comp Taken | AE11: =SUM(E11+H11+K11+N11+Q11) -> 0 | AG11: Total # of Extra Hours | AJ11: =SUM(E12+H12+K12+N12+Q12+T12+B12) -> 0
C12: xtr hrs | F12: xtr hrs | I12: xtr hrs | L12: xtr hrs | O12: xtr hrs | R12: xtr hrs | U12: xtr hrs | V12: Total Comp Earned: | W12: =+AE12 -> 0 | AB12: Net comp hours | AE12: =IF(AJ13>0,AJ13,B12+(E12-E11)+(H12-H11)+(K12-K11)+(N12-N11)+(Q12-Q11)+T12) -> 0 | AG12: Total # of Hours Taken | AJ12: =AE10+AE11 -> 0
A13: Reason: | D13: Reason: | G13: Reason: | J13: Reason: | M13: Reason: | P13: Reason: | S13: Reason: | AG13: Comp Time (Xtr Hrs x 1.5) | AJ13: =IF(AJ11-AJ12>0,IF(((AJ10+AJ11-AJ12) - 40) > 0,((AJ10+AJ11-AJ12) - 40)*1.5,0) + IF((AJ10+AJ11-AJ12)>40,40-AI2,IF(AJ11-AJ12>0,((AJ10+AJ11-AJ12)-AJ10),0)),0) -> 0
A16: 14 | B16: n/a | C16: leave taken/non-work day | D16: 15 | F16: leave taken/non-work day | G16: 16 | I16: leave taken/non-work day | J16: 17 | L16: leave taken/non-work day | M16: 18 | O16: leave taken/non-work day | P16: 19 | R16: leave taken/non-work day | S16: 20 | T16: n/a | U16: leave taken/non-work day | AB16: # Hours of leave taken/non-work day | AE16: =SUM(E16+H16+K16+N16+Q16) -> 0 | AG16: Actual Hours (Before Extra) | AJ16: =AI2 -> 37.5
B17: n/a | C17: comp taken | F17: comp taken | I17: comp taken | L17: comp taken | O17: comp taken | R17: comp taken | T17: n/a | U17: comp taken | AB17: # Hours of Comp Taken | AE17: =SUM(E17+H17+K17+N17+Q17) -> 0 | AG17: Total # of Extra Hours | AJ17: =SUM(E18+H18+K18+N18+Q18+T18+B18) -> 0
C18: xtr hrs | F18: xtr hrs | I18: xtr hrs | L18: xtr hrs | O18: xtr hrs | R18: xtr hrs | U18: xtr hrs | V18: Total Comp Earned: | W18: =+AE18 -> 0 | AB18: Net comp hours | AE18: =IF(AJ19>0,AJ19,B18+(E18-E17)+(H18-H17)+(K18-K17)+(N18-N17)+(Q18-Q17)+T18) -> 0 | AG18: Total # Hours Taken | AJ18: =AE16+AE17 -> 0
A19: Reason: | D19: Reason: | G19: Reason: | J19: Reason: | M19: Reason: | P19: Reason: | S19: Reason: | AG19: Comp Time (Xtr Hrs x 1.5) | AJ19: =IF(AJ17-AJ18>0,IF(((AJ16+AJ17-AJ18) - 40) > 0,((AJ16+AJ17-AJ18) - 40)*1.5,0) + IF((AJ16+AJ17-AJ18)>40,40-AI2,IF(AJ17-AJ18>0,((AJ16+AJ17-AJ18)-AJ16),0)),0) -> 0
A22: 21 | B22: n/a | C22: leave taken/non-work day | D22: 22 | F22: leave taken/non-work day | G22: 23 | I22: leave taken/non-work day | J22: 24 | L22: leave taken/non-work day | M22: 25 | O22: leave taken/non-work day | P22: 26 | R22: leave taken/non-work day | S22: 27 | T22: n/a | U22: leave taken/non-work day | AB22: # Hours of leave taken/non-work day | AE22: =SUM(E22+H22+K22+N22+Q22) -> 0 | AG22: Actual Hours (Before Extra) | AJ22: =AI2 -> 37.5
B23: n/a | C23: comp taken | F23: comp taken | I23: comp taken | L23: comp taken | O23: comp taken | R23: comp taken | T23: n/a | U23: comp taken | AB23: # Hours of Comp Taken | AE23: =SUM(E23+H23+K23+N23+Q23) -> 0 | AG23: Total # of Extra Hours | AJ23: =SUM(E24+H24+K24+N24+Q24+T24+B24) -> 0
C24: xtr hrs | F24: xtr hrs | I24: xtr hrs | L24: xtr hrs | O24: xtr hrs | R24: xtr hrs | U24: xtr hrs | V24: Total Comp Earned: | W24: =+AE24 -> 0 | AB24: Net comp hours | AE24: =IF(AJ25>0,AJ25,B24+(E24-E23)+(H24-H23)+(K24-K23)+(N24-N23)+(Q24-Q23)+T24) -> 0 | AG24: Total # Hours Taken | AJ24: =AE22+AE23 -> 0
A25: Reason: | D25: Reason: | G25: Reason: | J25: Reason: | M25: Reason: | P25: Reason: | S25: Reason: | AG25: Comp Time (Xtr Hrs x 1.5) | AJ25: =IF(AJ23-AJ24>0,IF(((AJ22+AJ23-AJ24) - 40) > 0,((AJ22+AJ23-AJ24) - 40)*1.5,0) + IF((AJ22+AJ23-AJ24)>40,40-AI2,IF(AJ23-AJ24>0,((AJ22+AJ23-AJ24)-AJ22),0)),0) -> 0
A28: 28 | B28: n/a | C28: leave taken/non-work day | F28: leave taken/non-work day | G28: 25 | I28: leave taken/non-work day | J28: 26 | L28: leave taken/non-work day | M28: 27 | O28: leave taken/non-work day | P28: 28 | R28: leave taken/non-work day | T28: n/a | U28: leave taken/non-work day | AB28: # Hours of leave taken/non-work day | AE28: =SUM(E28+H28+K28+N28+Q28) -> 0 | AG28: Actual Hours (Before Extra) | AJ28: =AI2 -> 37.5
B29: n/a | C29: comp taken | F29: comp taken | I29: comp taken | L29: comp taken | O29: comp taken | R29: comp taken | T29: n/a | U29: comp taken | AB29: # Hours of Comp Taken | AE29: =SUM(E29+H29+K29+N29+Q29) -> 0 | AG29: Total # of Extra Hours | AJ29: =SUM(E30+H30+K30+N30+Q30+T30+B30) -> 0
C30: xtr hrs | F30: xtr hrs | I30: xtr hrs | L30: xtr hrs | O30: xtr hrs | R30: xtr hrs | U30: xtr hrs | V30: Total Comp Earned: | W30: =+AE30 -> 0 | AB30: Net comp hours | AE30: =IF(AJ31>0,AJ31,B30+(E30-E29)+(H30-H29)+(K30-K29)+(N30-N29)+(Q30-Q29)+T30) -> 0 | AG30: Total # Hours Taken | AJ30: =AE28+AE29 -> 0
A31: Reason: | D31: Reason: | G31: Reason: | J31: Reason: | M31: Reason: | P31: Reason: | S31: Reason: | AG31: Comp Time (Xtr Hrs x 1.5) | AJ31: =IF(AJ29-AJ30>0,IF(((AJ28+AJ29-AJ30) - 40) > 0,((AJ28+AJ29-AJ30) - 40)*1.5,0) + IF((AJ28+AJ29-AJ30)>40,40-AI2,IF(AJ29-AJ30>0,((AJ28+AJ29-AJ30)-AJ28),0)),0) -> 0
A35: Please round up to the nearest quarter hour. | V35: Month End Total
I37: 0.25 | J37: 15 Minutes
I38: 0.5 | J38: 30 Minutes
I39: 0.75 | J39: 45 Minutes
I40: 1 | J40: 1 Hour

Sheet March 2027
A1: Extra Hour and Compensatory Time Tracker
A2: March 2027 | V2: Carry Over Comp Time: | W2: ='February 2027'!W35 -> 0 | X2: Enter Your Normal Hours Per Work Week here>>> | Z2: ='July 2026'!Z2 -> 37.5 | AB2: Carry Over Comp Time: | AE2: =W2 -> 0 | AG2: Normal Hours Per Work Week | AI2: =Z2 -> 37.5
A3: Sunday | D3: Monday | G3: Tuesday | J3: Wednesday | M3: Thursday | P3: Friday | S3: Saturday
B4: n/a | C4: leave taken/non-work day | D4: 1 | F4: leave taken/non-work day | G4: 2 | I4: leave taken/non-work day | J4: 3 | L4: leave taken/non-work day | M4: 4 | O4: leave taken/non-work day | P4: 5 | R4: leave taken/non-work day | S4: 6 | T4: n/a | U4: leave taken/non-work day | AB4: # Hours of leave taken/non-work day | AE4: =SUM(E4+H4+K4+N4+Q4) -> 0 | AG4: Actual Hours (Before Extra) | AJ4: =AI2 -> 37.5
B5: n/a | C5: comp taken | F5: comp taken | I5: comp taken | L5: comp taken | O5: comp taken | R5: comp taken | T5: n/a | U5: comp taken | AB5: # Hours of Comp Taken | AE5: =SUM(E5+H5+K5+N5+Q5) -> 0 | AG5: Total # of Extra Hours | AJ5: =SUM(E6+H6+K6+N6+Q6+T6+B6) -> 0
C6: xtr hrs | F6: xtr hrs | I6: xtr hrs | L6: xtr hrs | O6: xtr hrs | R6: xtr hrs | U6: xtr hrs | V6: Total Comp Earned: | W6: =+AE6 -> 0 | AB6: Net comp hours | AE6: =IF(AJ7>0,AJ7,B6+(E6-E5)+(H6-H5)+(K6-K5)+(N6-N5)+(Q6-Q5)+T6) -> 0 | AG6: Total # Leave Hours Taken | AJ6: =AE4+AE5 -> 0
A7: Reason: | D7: Reason: | G7: Reason: | J7: Reason: | M7: Reason: | P7: Reason: | S7: Reason: | AG7: Comp Time (Xtr Hrs x 1.5) | AJ7: =IF(AJ5-AJ6>0,IF(((AJ4+AJ5-AJ6) - 40) > 0,((AJ4+AJ5-AJ6) - 40)*1.5,0) + IF((AJ4+AJ5-AJ6)>40,40-AI2,IF(AJ5-AJ6>0,((AJ4+AJ5-AJ6)-AJ4),0)),0) -> 0
A10: 7 | B10: n/a | C10: leave taken/non-work day | D10: 8 | F10: leave taken/non-work day | G10: 9 | I10: leave taken/non-work day | J10: 10 | L10: leave taken/non-work day | M10: 11 | O10: leave taken/non-work day | P10: 12 | R10: leave taken/non-work day | S10: 13 | T10: n/a | U10: leave taken/non-work day | AB10: # Hours of leave taken/non-work day | AE10: =SUM(E10+H10+K10+N10+Q10) -> 0 | AG10: Actual Hours (Before Extra) | AJ10: =AI2 -> 37.5
B11: n/a | C11: comp taken | F11: comp taken | I11: comp taken | L11: comp taken | O11: comp taken | R11: comp taken | T11: n/a | U11: comp taken | AB11: # Hours of Comp Taken | AE11: =SUM(E11+H11+K11+N11+Q11) -> 0 | AG11: Total # of Extra Hours | AJ11: =SUM(E12+H12+K12+N12+Q12+T12+B12) -> 0
C12: xtr hrs | F12: xtr hrs | I12: xtr hrs | L12: xtr hrs | O12: xtr hrs | R12: xtr hrs | U12: xtr hrs | V12: Total Comp Earned: | W12: =+AE12 -> 0 | AB12: Net comp hours | AE12: =IF(AJ13>0,AJ13,B12+(E12-E11)+(H12-H11)+(K12-K11)+(N12-N11)+(Q12-Q11)+T12) -> 0 | AG12: Total # of Hours Taken | AJ12: =AE10+AE11 -> 0
A13: Reason: | D13: Reason: | G13: Reason: | J13: Reason: | M13: Reason: | P13: Reason: | S13: Reason: | AG13: Comp Time (Xtr Hrs x 1.5) | AJ13: =IF(AJ11-AJ12>0,IF(((AJ10+AJ11-AJ12) - 40) > 0,((AJ10+AJ11-AJ12) - 40)*1.5,0) + IF((AJ10+AJ11-AJ12)>40,40-AI2,IF(AJ11-AJ12>0,((AJ10+AJ11-AJ12)-AJ10),0)),0) -> 0
A16: 14 | B16: n/a | C16: leave taken/non-work day | D16: 15 | F16: leave taken/non-work day | G16: 16 | I16: leave taken/non-work day | J16: 17 | L16: leave taken/non-work day | M16: 18 | O16: leave taken/non-work day | P16: 19 | R16: leave taken/non-work day | S16: 20 | T16: n/a | U16: leave taken/non-work day | AB16: # Hours of leave taken/non-work day | AE16: =SUM(E16+H16+K16+N16+Q16) -> 0 | AG16: Actual Hours (Before Extra) | AJ16: =AI2 -> 37.5
B17: n/a | C17: comp taken | F17: comp taken | I17: comp taken | L17: comp taken | O17: comp taken | R17: comp taken | T17: n/a | U17: comp taken | AB17: # Hours of Comp Taken | AE17: =SUM(E17+H17+K17+N17+Q17) -> 0 | AG17: Total # of Extra Hours | AJ17: =SUM(E18+H18+K18+N18+Q18+T18+B18) -> 0
C18: xtr hrs | F18: xtr hrs | I18: xtr hrs | L18: xtr hrs | O18: xtr hrs | R18: xtr hrs | U18: xtr hrs | V18: Total Comp Earned: | W18: =+AE18 -> 0 | AB18: Net comp hours | AE18: =IF(AJ19>0,AJ19,B18+(E18-E17)+(H18-H17)+(K18-K17)+(N18-N17)+(Q18-Q17)+T18) -> 0 | AG18: Total # Hours Taken | AJ18: =AE16+AE17 -> 0
A19: Reason: | D19: Reason: | G19: Reason: | J19: Reason: | M19: Reason: | P19: Reason: | S19: Reason: | AG19: Comp Time (Xtr Hrs x 1.5) | AJ19: =IF(AJ17-AJ18>0,IF(((AJ16+AJ17-AJ18) - 40) > 0,((AJ16+AJ17-AJ18) - 40)*1.5,0) + IF((AJ16+AJ17-AJ18)>40,40-AI2,IF(AJ17-AJ18>0,((AJ16+AJ17-AJ18)-AJ16),0)),0) -> 0
A22: 21 | B22: n/a | C22: leave taken/non-work day | D22: 22 | F22: leave taken/non-work day | G22: 23 | I22: leave taken/non-work day | J22: 24 | L22: leave taken/non-work day | M22: 25 | O22: leave taken/non-work day | P22: 26 | R22: leave taken/non-work day | S22: 27 | T22: n/a | U22: leave taken/non-work day | AB22: # Hours of leave taken/non-work day | AE22: =SUM(E22+H22+K22+N22+Q22) -> 0 | AG22: Actual Hours (Before Extra) | AJ22: =AI2 -> 37.5
B23: n/a | C23: comp taken | F23: comp taken | I23: comp taken | L23: comp taken | O23: comp taken | R23: comp taken | T23: n/a | U23: comp taken | AB23: # Hours of Comp Taken | AE23: =SUM(E23+H23+K23+N23+Q23) -> 0 | AG23: Total # of Extra Hours | AJ23: =SUM(E24+H24+K24+N24+Q24+T24+B24) -> 0
C24: xtr hrs | F24: xtr hrs | I24: xtr hrs | L24: xtr hrs | O24: xtr hrs | R24: xtr hrs | U24: xtr hrs | V24: Total Comp Earned: | W24: =+AE24 -> 0 | AB24: Net comp hours | AE24: =IF(AJ25>0,AJ25,B24+(E24-E23)+(H24-H23)+(K24-K23)+(N24-N23)+(Q24-Q23)+T24) -> 0 | AG24: Total # Hours Taken | AJ24: =AE22+AE23 -> 0
A25: Reason: | D25: Reason: | G25: Reason: | J25: Reason: | M25: Reason: | P25: Reason: | S25: Reason: | AG25: Comp Time (Xtr Hrs x 1.5) | AJ25: =IF(AJ23-AJ24>0,IF(((AJ22+AJ23-AJ24) - 40) > 0,((AJ22+AJ23-AJ24) - 40)*1.5,0) + IF((AJ22+AJ23-AJ24)>40,40-AI2,IF(AJ23-AJ24>0,((AJ22+AJ23-AJ24)-AJ22),0)),0) -> 0
A28: 28 | B28: n/a | C28: leave taken/non-work day | D28: 29 | F28: leave taken/non-work day | G28: 30 | I28: leave taken/non-work day | J28: 31 | L28: leave taken/non-work day | O28: leave taken/non-work day | R28: leave taken/non-work day | T28: n/a | U28: leave taken/non-work day | AB28: # Hours of leave taken/non-work day | AE28: =SUM(E28+H28+K28+N28+Q28) -> 0 | AG28: Actual Hours (Before Extra) | AJ28: =AI8 -> 0
B29: n/a | C29: comp taken | F29: comp taken | I29: comp taken | L29: comp taken | O29: comp taken | R29: comp taken | T29: n/a | U29: comp taken | AB29: # Hours of Comp Taken | AE29: =SUM(E29+H29+K29+N29+Q29) -> 0 | AG29: Total # of Extra Hours | AJ29: =SUM(E30+H30+K30+N30+Q30+T30+B30) -> 0
C30: xtr hrs | F30: xtr hrs | I30: xtr hrs | L30: xtr hrs | O30: xtr hrs | R30: xtr hrs | U30: xtr hrs | V30: Total Comp Earned: | W30: =+AE30 -> 0 | AB30: Net comp hours | AE30: =IF(AJ31>0,AJ31,B30+(E30-E29)+(H30-H29)+(K30-K29)+(N30-N29)+(Q30-Q29)+T30) -> 0 | AG30: Total # Hours Taken | AJ30: =AE28+AE29 -> 0
A31: Reason: | D31: Reason: | G31: Reason: | J31: Reason: | M31: Reason: | P31: Reason: | S31: Reason: | AG31: Comp Time (Xtr Hrs x 1.5) | AJ31: =IF(AJ29-AJ30>0,IF(((AJ28+AJ29-AJ30) - 40) > 0,((AJ28+AJ29-AJ30) - 40)*1.5,0) + IF((AJ28+AJ29-AJ30)>40,40-#REF!,IF(AJ29-AJ30>0,((AJ28+AJ29-AJ30)-AJ28),0)),0) -> 0
B34: n/a | C34: leave taken/non-work day | F34: leave taken/non-work day | I34: leave taken/non-work day | L34: leave taken/non-work day | O34: leave taken/non-work day | R34: leave taken/non-work day | T34: n/a | U34: leave taken/non-work day | AB34: # Hours of leave taken/non-work day | AE34: =SUM(E34+H34+K34+N34+Q34) -> 0 | AG34: Actual Hours (Before Extra) | AJ34: =AI2 -> 37.5
B35: n/a | C35: comp taken | F35: comp taken | I35: comp taken | L35: comp taken | O35: comp taken | R35: comp taken | T35: n/a | U35: comp taken | AB35: # Hours of Comp Taken | AE35: =SUM(E35+H35+K35+N35+Q35) -> 0 | AG35: Total # of Extra Hours | AJ35: =SUM(E36+H36+K36+N36+Q36+T36+B36) -> 0
C36: xtr hrs | F36: xtr hrs | I36: xtr hrs | L36: xtr hrs | O36: xtr hrs | R36: xtr hrs | U36: xtr hrs | V36: Total Comp Earned: | W36: =+AE36 -> 0 | AB36: Net comp hours | AE36: =IF(AJ37>0,AJ37,B36+(E36-E35)+(H36-H35)+(K36-K35)+(N36-N35)+(Q36-Q35)+T36) -> 0 | AG36: Total # Hours Taken | AJ36: =AE34+AE35 -> 0
A37: Reason: | D37: Reason: | G37: Reason: | J37: Reason: | M37: Reason: | P37: Reason: | S37: Reason: | AG37: Comp Time (Xtr Hrs x 1.5) | AJ37: =IF(AJ35-AJ36>0,IF(((AJ34+AJ35-AJ36) - 40) > 0,((AJ34+AJ35-AJ36) - 40)*1.5,0) + IF((AJ34+AJ35-AJ36)>40,40-AI2,IF(AJ35-AJ36>0,((AJ34+AJ35-AJ36)-AJ34),0)),0) -> 0
A41: Please round up to the nearest quarter hour. | V41: Month End Total | W41: =W2+W6+W12+W18+W24+W30+W36 -> 0
I43: 0.25 | J43: 15 Minutes
I44: 0.5 | J44: 30 Minutes
I45: 0.75 | J45: 45 Minutes
I46: 1 | J46: 1 Hour

Sheet April 2027
A1: Extra Hour and Compensatory Time Tracker
A2: April 2027 | V2: Carry Over Comp Time: | W2: ='March 2027'!W41 -> 0 | X2: Enter Your Normal Hours Per Work Week here>>> | Z2: ='July 2026'!Z2 -> 37.5 | AB2: Carry Over Comp Time: | AE2: =W2 -> 0 | AG2: Normal Hours Per Work Week | AI2: =Z2 -> 37.5
A3: Sunday | D3: Monday | G3: Tuesday | J3: Wednesday | M3: Thursday | P3: Friday | S3: Saturday
B4: n/a | C4: leave taken/non-work day | F4: leave taken/non-work day | I4: leave taken/non-work day | L4: leave taken/non-work day | M4: 1 | O4: leave taken/non-work day | P4: 2 | R4: leave taken/non-work day | S4: 3 | T4: n/a | U4: leave taken/non-work day | AB4: # Hours of leave taken/non-work day | AE4: =SUM(E4+H4+K4+N4+Q4) -> 0 | AG4: Actual Hours (Before Extra) | AJ4: =AI2 -> 37.5
B5: n/a | C5: comp taken | F5: comp taken | I5: comp taken | L5: comp taken | O5: comp taken | R5: comp taken | T5: n/a | U5: comp taken | AB5: # Hours of Comp Taken | AE5: =SUM(E5+H5+K5+N5+Q5) -> 0 | AG5: Total # of Extra Hours | AJ5: =SUM(E6+H6+K6+N6+Q6+T6+B6) -> 0
C6: xtr hrs | F6: xtr hrs | I6: xtr hrs | L6: xtr hrs | O6: xtr hrs | R6: xtr hrs | U6: xtr hrs | V6: Total Comp Earned: | W6: =+AE6 -> 0 | AB6: Net comp hours | AE6: =IF(AJ7>0,AJ7,B6+(E6-E5)+(H6-H5)+(K6-K5)+(N6-N5)+(Q6-Q5)+T6) -> 0 | AG6: Total # Leave Hours Taken | AJ6: =AE4+AE5 -> 0
A7: Reason: | D7: Reason: | G7: Reason: | J7: Reason: | M7: Reason: | P7: Reason: | S7: Reason: | AG7: Comp Time (Xtr Hrs x 1.5) | AJ7: =IF(AJ5-AJ6>0,IF(((AJ4+AJ5-AJ6) - 40) > 0,((AJ4+AJ5-AJ6) - 40)*1.5,0) + IF((AJ4+AJ5-AJ6)>40,40-AI2,IF(AJ5-AJ6>0,((AJ4+AJ5-AJ6)-AJ4),0)),0) -> 0
A10: 4 | B10: n/a | C10: leave taken/non-work day | D10: 5 | F10: leave taken/non-work day | G10: 6 | I10: leave taken/non-work day | J10: 7 | L10: leave taken/non-work day | M10: 8 | O10: leave taken/non-work day | P10: 9 | R10: leave taken/non-work day | S10: 10 | T10: n/a | U10: leave taken/non-work day | AB10: # Hours of leave taken/non-work day | AE10: =SUM(E10+H10+K10+N10+Q10) -> 0 | AG10: Actual Hours (Before Extra) | AJ10: =AI2 -> 37.5
B11: n/a | C11: comp taken | F11: comp taken | I11: comp taken | L11: comp taken | O11: comp taken | R11: comp taken | T11: n/a | U11: comp taken | AB11: # Hours of Comp Taken | AE11: =SUM(E11+H11+K11+N11+Q11) -> 0 | AG11: Total # of Extra Hours | AJ11: =SUM(E12+H12+K12+N12+Q12+T12+B12) -> 0
C12: xtr hrs | F12: xtr hrs | I12: xtr hrs | L12: xtr hrs | O12: xtr hrs | R12: xtr hrs | U12: xtr hrs | V12: Total Comp Earned: | W12: =+AE12 -> 0 | AB12: Net comp hours | AE12: =IF(AJ13>0,AJ13,B12+(E12-E11)+(H12-H11)+(K12-K11)+(N12-N11)+(Q12-Q11)+T12) -> 0 | AG12: Total # of Hours Taken | AJ12: =AE10+AE11 -> 0
A13: Reason: | D13: Reason: | G13: Reason: | J13: Reason: | M13: Reason: | P13: Reason: | S13: Reason: | AG13: Comp Time (Xtr Hrs x 1.5) | AJ13: =IF(AJ11-AJ12>0,IF(((AJ10+AJ11-AJ12) - 40) > 0,((AJ10+AJ11-AJ12) - 40)*1.5,0) + IF((AJ10+AJ11-AJ12)>40,40-AI2,IF(AJ11-AJ12>0,((AJ10+AJ11-AJ12)-AJ10),0)),0) -> 0
A16: 11 | B16: n/a | C16: leave taken/non-work day | D16: 12 | F16: leave taken/non-work day | G16: 13 | I16: leave taken/non-work day | J16: 14 | L16: leave taken/non-work day | M16: 15 | O16: leave taken/non-work day | P16: 16 | R16: leave taken/non-work day | S16: 17 | T16: n/a | U16: leave taken/non-work day | AB16: # Hours of leave taken/non-work day | AE16: =SUM(E16+H16+K16+N16+Q16) -> 0 | AG16: Actual Hours (Before Extra) | AJ16: =AI2 -> 37.5
B17: n/a | C17: comp taken | F17: comp taken | I17: comp taken | L17: comp taken | O17: comp taken | R17: comp taken | T17: n/a | U17: comp taken | AB17: # Hours of Comp Taken | AE17: =SUM(E17+H17+K17+N17+Q17) -> 0 | AG17: Total # of Extra Hours | AJ17: =SUM(E18+H18+K18+N18+Q18+T18+B18) -> 0
C18: xtr hrs | F18: xtr hrs | I18: xtr hrs | L18: xtr hrs | O18: xtr hrs | R18: xtr hrs | U18: xtr hrs | V18: Total Comp Earned: | W18: =+AE18 -> 0 | AB18: Net comp hours | AE18: =IF(AJ19>0,AJ19,B18+(E18-E17)+(H18-H17)+(K18-K17)+(N18-N17)+(Q18-Q17)+T18) -> 0 | AG18: Total # Hours Taken | AJ18: =AE16+AE17 -> 0
A19: Reason: | D19: Reason: | G19: Reason: | J19: Reason: | M19: Reason: | P19: Reason: | S19: Reason: | AG19: Comp Time (Xtr Hrs x 1.5) | AJ19: =IF(AJ17-AJ18>0,IF(((AJ16+AJ17-AJ18) - 40) > 0,((AJ16+AJ17-AJ18) - 40)*1.5,0) + IF((AJ16+AJ17-AJ18)>40,40-AI2,IF(AJ17-AJ18>0,((AJ16+AJ17-AJ18)-AJ16),0)),0) -> 0
A22: 18 | B22: n/a | C22: leave taken/non-work day | D22: 19 | F22: leave taken/non-work day | G22: 20 | I22: leave taken/non-work day | J22: 21 | L22: leave taken/non-work day | M22: 22 | O22: leave taken/non-work day | P22: 23 | R22: leave taken/non-work day | S22: 24 | T22: n/a | U22: leave taken/non-work day | AB22: # Hours of leave taken/non-work day | AE22: =SUM(E22+H22+K22+N22+Q22) -> 0 | AG22: Actual Hours (Before Extra) | AJ22: =AI2 -> 37.5
B23: n/a | C23: comp taken | F23: comp taken | I23: comp taken | L23: comp taken | O23: comp taken | R23: comp taken | T23: n/a | U23: comp taken | AB23: # Hours of Comp Taken | AE23: =SUM(E23+H23+K23+N23+Q23) -> 0 | AG23: Total # of Extra Hours | AJ23: =SUM(E24+H24+K24+N24+Q24+T24+B24) -> 0
C24: xtr hrs | F24: xtr hrs | I24: xtr hrs | L24: xtr hrs | O24: xtr hrs | R24: xtr hrs | U24: xtr hrs | V24: Total Comp Earned: | W24: =+AE24 -> 0 | AB24: Net comp hours | AE24: =IF(AJ25>0,AJ25,B24+(E24-E23)+(H24-H23)+(K24-K23)+(N24-N23)+(Q24-Q23)+T24) -> 0 | AG24: Total # Hours Taken | AJ24: =AE22+AE23 -> 0
A25: Reason: | D25: Reason: | G25: Reason: | J25: Reason: | M25: Reason: | P25: Reason: | S25: Reason: | AG25: Comp Time (Xtr Hrs x 1.5) | AJ25: =IF(AJ23-AJ24>0,IF(((AJ22+AJ23-AJ24) - 40) > 0,((AJ22+AJ23-AJ24) - 40)*1.5,0) + IF((AJ22+AJ23-AJ24)>40,40-AI2,IF(AJ23-AJ24>0,((AJ22+AJ23-AJ24)-AJ22),0)),0) -> 0
A28: 25 | B28: n/a | C28: leave taken/non-work day | D28: 26 | F28: leave taken/non-work day | G28: 27 | I28: leave taken/non-work day | J28: 28 | L28: leave taken/non-work day | M28: 29 | O28: leave taken/non-work day | P28: 30 | R28: leave taken/non-work day | T28: n/a | U28: leave taken/non-work day | AB28: # Hours of leave taken/non-work day | AE28: =SUM(E28+H28+K28+N28+Q28) -> 0 | AG28: Actual Hours (Before Extra) | AJ28: =AI2 -> 37.5
B29: n/a | C29: comp taken | F29: comp taken | I29: comp taken | L29: comp taken | O29: comp taken | R29: comp taken | T29: n/a | U29: comp taken | AB29: # Hours of Comp Taken | AE29: =SUM(E29+H29+K29+N29+Q29) -> 0 | AG29: Total # of Extra Hours | AJ29: =SUM(E30+H30+K30+N30+Q30+T30+B30) -> 0
C30: xtr hrs | F30: xtr hrs | I30: xtr hrs | L30: xtr hrs | O30: xtr hrs | R30: xtr hrs | U30: xtr hrs | V30: Total Comp Earned: | W30: =+AE30 -> 0 | AB30: Net comp hours | AE30: =IF(AJ31>0,AJ31,B30+(E30-E29)+(H30-H29)+(K30-K29)+(N30-N29)+(Q30-Q29)+T30) -> 0 | AG30: Total # Hours Taken | AJ30: =AE28+AE29 -> 0
A31: Reason: | D31: Reason: | G31: Reason: | J31: Reason: | M31: Reason: | P31: Reason: | S31: Reason: | AG31: Comp Time (Xtr Hrs x 1.5) | AJ31: =IF(AJ29-AJ30>0,IF(((AJ28+AJ29-AJ30) - 40) > 0,((AJ28+AJ29-AJ30) - 40)*1.5,0) + IF((AJ28+AJ29-AJ30)>40,40-AI2,IF(AJ29-AJ30>0,((AJ28+AJ29-AJ30)-AJ28),0)),0) -> 0
B34: n/a | C34: leave taken/non-work day | F34: leave taken/non-work day | I34: leave taken/non-work day | L34: leave taken/non-work day | O34: leave taken/non-work day | R34: leave taken/non-work day | T34: n/a | U34: leave taken/non-work day | AB34: # Hours of leave taken/non-work day | AE34: =SUM(E34+H34+K34+N34+Q34) -> 0 | AG34: Actual Hours (Before Extra) | AJ34: =AI2 -> 37.5
B35: n/a | C35: comp taken | F35: comp taken | I35: comp taken | L35: comp taken | O35: comp taken | R35: comp taken | T35: n/a | U35: comp taken | AB35: # Hours of Comp Taken | AE35: =SUM(E35+H35+K35+N35+Q35) -> 0 | AG35: Total # of Extra Hours | AJ35: =SUM(E36+H36+K36+N36+Q36+T36+B36) -> 0
C36: xtr hrs | F36: xtr hrs | I36: xtr hrs | L36: xtr hrs | O36: xtr hrs | R36: xtr hrs | U36: xtr hrs | V36: Total Comp Earned: | W36: =+AE36 -> 0 | AB36: Net comp hours | AE36: =IF(AJ37>0,AJ37,B36+(E36-E35)+(H36-H35)+(K36-K35)+(N36-N35)+(Q36-Q35)+T36) -> 0 | AG36: Total # Hours Taken | AJ36: =AE34+AE35 -> 0
A37: Reason: | D37: Reason: | G37: Reason: | J37: Reason: | M37: Reason: | P37: Reason: | S37: Reason: | AG37: Comp Time (Xtr Hrs x 1.5) | AJ37: =IF(AJ35-AJ36>0,IF(((AJ34+AJ35-AJ36) - 40) > 0,((AJ34+AJ35-AJ36) - 40)*1.5,0) + IF((AJ34+AJ35-AJ36)>40,40-AI2,IF(AJ35-AJ36>0,((AJ34+AJ35-AJ36)-AJ34),0)),0) -> 0
A41: Please round up to the nearest quarter hour. | V41: Month End Total | W41: =W2+W6+W12+W18+W24+W30+W36 -> 0
I43: 0.25 | J43: 15 Minutes
I44: 0.5 | J44: 30 Minutes
I45: 0.75 | J45: 45 Minutes
I46: 1 | J46: 1 Hour

Sheet May 2027
A1: Extra Hour and Compensatory Time Tracker
A2: May 2027 | V2: Carry Over Comp Time: | W2: ='April 2027'!W41 -> 0 | X2: Enter Your Normal Hours Per Work Week here>>> | Z2: ='July 2026'!Z2 -> 37.5 | AB2: Carry Over Comp Time: | AE2: =W2 -> 0 | AG2: Normal Hours Per Work Week | AI2: =Z2 -> 37.5
A3: Sunday | D3: Monday | G3: Tuesday | J3: Wednesday | M3: Thursday | P3: Friday | S3: Saturday
B4: n/a | C4: leave taken/non-work day | F4: leave taken/non-work day | I4: leave taken/non-work day | L4: leave taken/non-work day | O4: leave taken/non-work day | R4: leave taken/non-work day | S4: 1 | T4: n/a | U4: leave taken/non-work day | AB4: # Hours of leave taken/non-work day | AE4: =SUM(E4+H4+K4+N4+Q4) -> 0 | AG4: Actual Hours (Before Extra) | AJ4: =AI2 -> 37.5
B5: n/a | C5: comp taken | F5: comp taken | I5: comp taken | L5: comp taken | O5: comp taken | R5: comp taken | T5: n/a | U5: comp taken | AB5: # Hours of Comp Taken | AE5: =SUM(E5+H5+K5+N5+Q5) -> 0 | AG5: Total # of Extra Hours | AJ5: =SUM(E6+H6+K6+N6+Q6+T6+B6) -> 0
C6: xtr hrs | F6: xtr hrs | I6: xtr hrs | L6: xtr hrs | O6: xtr hrs | R6: xtr hrs | U6: xtr hrs | V6: Total Comp Earned: | W6: =+AE6 -> 0 | AB6: Net comp hours | AE6: =IF(AJ7>0,AJ7,B6+(E6-E5)+(H6-H5)+(K6-K5)+(N6-N5)+(Q6-Q5)+T6) -> 0 | AG6: Total # Leave Hours Taken | AJ6: =AE4+AE5 -> 0
A7: Reason: | D7: Reason: | G7: Reason: | J7: Reason: | M7: Reason: | P7: Reason: | S7: Reason: | AG7: Comp Time (Xtr Hrs x 1.5) | AJ7: =IF(AJ5-AJ6>0,IF(((AJ4+AJ5-AJ6) - 40) > 0,((AJ4+AJ5-AJ6) - 40)*1.5,0) + IF((AJ4+AJ5-AJ6)>40,40-AI2,IF(AJ5-AJ6>0,((AJ4+AJ5-AJ6)-AJ4),0)),0) -> 0
A10: 2 | B10: n/a | C10: leave taken/non-work day | D10: 3 | F10: leave taken/non-work day | G10: 4 | I10: leave taken/non-work day | J10: 5 | L10: leave taken/non-work day | M10: 6 | O10: leave taken/non-work day | P10: 7 | R10: leave taken/non-work day | S10: 8 | T10: n/a | U10: leave taken/non-work day | AB10: # Hours of leave taken/non-work day | AE10: =SUM(E10+H10+K10+N10+Q10) -> 0 | AG10: Actual Hours (Before Extra) | AJ10: =AI2 -> 37.5
B11: n/a | C11: comp taken | F11: comp taken | I11: comp taken | L11: comp taken | O11: comp taken | R11: comp taken | T11: n/a | U11: comp taken | AB11: # Hours of Comp Taken | AE11: =SUM(E11+H11+K11+N11+Q11) -> 0 | AG11: Total # of Extra Hours | AJ11: =SUM(E12+H12+K12+N12+Q12+T12+B12) -> 0
C12: xtr hrs | F12: xtr hrs | I12: xtr hrs | L12: xtr hrs | O12: xtr hrs | R12: xtr hrs | U12: xtr hrs | V12: Total Comp Earned: | W12: =+AE12 -> 0 | AB12: Net comp hours | AE12: =IF(AJ13>0,AJ13,B12+(E12-E11)+(H12-H11)+(K12-K11)+(N12-N11)+(Q12-Q11)+T12) -> 0 | AG12: Total # of Hours Taken | AJ12: =AE10+AE11 -> 0
A13: Reason: | D13: Reason: | G13: Reason: | J13: Reason: | M13: Reason: | P13: Reason: | S13: Reason: | AG13: Comp Time (Xtr Hrs x 1.5) | AJ13: =IF(AJ11-AJ12>0,IF(((AJ10+AJ11-AJ12) - 40) > 0,((AJ10+AJ11-AJ12) - 40)*1.5,0) + IF((AJ10+AJ11-AJ12)>40,40-AI2,IF(AJ11-AJ12>0,((AJ10+AJ11-AJ12)-AJ10),0)),0) -> 0
A16: 9 | B16: n/a | C16: leave taken/non-work day | D16: 10 | F16: leave taken/non-work day | G16: 11 | I16: leave taken/non-work day | J16: 12 | L16: leave taken/non-work day | M16: 13 | O16: leave taken/non-work day | P16: 14 | R16: leave taken/non-work day | S16: 15 | T16: n/a | U16: leave taken/non-work day | AB16: # Hours of leave taken/non-work day | AE16: =SUM(E16+H16+K16+N16+Q16) -> 0 | AG16: Actual Hours (Before Extra) | AJ16: =AI2 -> 37.5
B17: n/a | C17: comp taken | F17: comp taken | I17: comp taken | L17: comp taken | O17: comp taken | R17: comp taken | T17: n/a | U17: comp taken | AB17: # Hours of Comp Taken | AE17: =SUM(E17+H17+K17+N17+Q17) -> 0 | AG17: Total # of Extra Hours | AJ17: =SUM(E18+H18+K18+N18+Q18+T18+B18) -> 0
C18: xtr hrs | F18: xtr hrs | I18: xtr hrs | L18: xtr hrs | O18: xtr hrs | R18: xtr hrs | U18: xtr hrs | V18: Total Comp Earned: | W18: =+AE18 -> 0 | AB18: Net comp hours | AE18: =IF(AJ19>0,AJ19,B18+(E18-E17)+(H18-H17)+(K18-K17)+(N18-N17)+(Q18-Q17)+T18) -> 0 | AG18: Total # Hours Taken | AJ18: =AE16+AE17 -> 0
A19: Reason: | D19: Reason: | G19: Reason: | J19: Reason: | M19: Reason: | P19: Reason: | S19: Reason: | AG19: Comp Time (Xtr Hrs x 1.5) | AJ19: =IF(AJ17-AJ18>0,IF(((AJ16+AJ17-AJ18) - 40) > 0,((AJ16+AJ17-AJ18) - 40)*1.5,0) + IF((AJ16+AJ17-AJ18)>40,40-AI2,IF(AJ17-AJ18>0,((AJ16+AJ17-AJ18)-AJ16),0)),0) -> 0
A22: 16 | B22: n/a | C22: leave taken/non-work day | D22: 17 | F22: leave taken/non-work day | G22: 18 | I22: leave taken/non-work day | J22: 19 | L22: leave taken/non-work day | M22: 20 | O22: leave taken/non-work day | P22: 21 | R22: leave taken/non-work day | S22: 22 | T22: n/a | U22: leave taken/non-work day | AB22: # Hours of leave taken/non-work day | AE22: =SUM(E22+H22+K22+N22+Q22) -> 0 | AG22: Actual Hours (Before Extra) | AJ22: =AI2 -> 37.5
B23: n/a | C23: comp taken | F23: comp taken | I23: comp taken | L23: comp taken | O23: comp taken | R23: comp taken | T23: n/a | U23: comp taken | AB23: # Hours of Comp Taken | AE23: =SUM(E23+H23+K23+N23+Q23) -> 0 | AG23: Total # of Extra Hours | AJ23: =SUM(E24+H24+K24+N24+Q24+T24+B24) -> 0
C24: xtr hrs | F24: xtr hrs | I24: xtr hrs | L24: xtr hrs | O24: xtr hrs | R24: xtr hrs | U24: xtr hrs | V24: Total Comp Earned: | W24: =+AE24 -> 0 | AB24: Net comp hours | AE24: =IF(AJ25>0,AJ25,B24+(E24-E23)+(H24-H23)+(K24-K23)+(N24-N23)+(Q24-Q23)+T24) -> 0 | AG24: Total # Hours Taken | AJ24: =AE22+AE23 -> 0
A25: Reason: | D25: Reason: | G25: Reason: | J25: Reason: | M25: Reason: | P25: Reason: | S25: Reason: | AG25: Comp Time (Xtr Hrs x 1.5) | AJ25: =IF(AJ23-AJ24>0,IF(((AJ22+AJ23-AJ24) - 40) > 0,((AJ22+AJ23-AJ24) - 40)*1.5,0) + IF((AJ22+AJ23-AJ24)>40,40-AI2,IF(AJ23-AJ24>0,((AJ22+AJ23-AJ24)-AJ22),0)),0) -> 0
A28: 23 | B28: n/a | C28: leave taken/non-work day | D28: 24 | F28: leave taken/non-work day | G28: 25 | I28: leave taken/non-work day | J28: 26 | L28: leave taken/non-work day | M28: 27 | O28: leave taken/non-work day | P28: 28 | R28: leave taken/non-work day | S28: 29 | T28: n/a | U28: leave taken/non-work day | AB28: # Hours of leave taken/non-work day | AE28: =SUM(E28+H28+K28+N28+Q28) -> 0 | AG28: Actual Hours (Before Extra) | AJ28: =AI2 -> 37.5
B29: n/a | C29: comp taken | F29: comp taken | I29: comp taken | L29: comp taken | O29: comp taken | R29: comp taken | T29: n/a | U29: comp taken | AB29: # Hours of Comp Taken | AE29: =SUM(E29+H29+K29+N29+Q29) -> 0 | AG29: Total # of Extra Hours | AJ29: =SUM(E30+H30+K30+N30+Q30+T30+B30) -> 0
C30: xtr hrs | F30: xtr hrs | I30: xtr hrs | L30: xtr hrs | O30: xtr hrs | R30: xtr hrs | U30: xtr hrs | V30: Total Comp Earned: | W30: =+AE30 -> 0 | AB30: Net comp hours | AE30: =IF(AJ31>0,AJ31,B30+(E30-E29)+(H30-H29)+(K30-K29)+(N30-N29)+(Q30-Q29)+T30) -> 0 | AG30: Total # Hours Taken | AJ30: =AE28+AE29 -> 0
A31: Reason: | G31: Reason: | J31: Reason: | M31: Reason: | P31: Reason: | S31: Reason: | AG31: Comp Time (Xtr Hrs x 1.5) | AJ31: =IF(AJ29-AJ30>0,IF(((AJ28+AJ29-AJ30) - 40) > 0,((AJ28+AJ29-AJ30) - 40)*1.5,0) + IF((AJ28+AJ29-AJ30)>40,40-AI2,IF(AJ29-AJ30>0,((AJ28+AJ29-AJ30)-AJ28),0)),0) -> 0
A34: 30 | B34: n/a | C34: leave taken/non-work day | D34: 31 | F34: leave taken/non-work day | I34: leave taken/non-work day | L34: leave taken/non-work day | O34: leave taken/non-work day | R34: leave taken/non-work day | T34: n/a | U34: leave taken/non-work day | AB34: # Hours of leave taken/non-work day | AE34: =SUM(E34+H34+K34+N34+Q34) -> 0 | AG34: Actual Hours (Before Extra) | AJ34: =AI9 -> 0
B35: n/a | C35: comp taken | F35: comp taken | I35: comp taken | L35: comp taken | O35: comp taken | R35: comp taken | T35: n/a | U35: comp taken | AB35: # Hours of Comp Taken | AE35: =SUM(E35+H35+K35+N35+Q35) -> 0 | AG35: Total # of Extra Hours | AJ35: =SUM(E36+H36+K36+N36+Q36+T36+B36) -> 0
C36: xtr hrs | F36: xtr hrs | I36: xtr hrs | L36: xtr hrs | O36: xtr hrs | R36: xtr hrs | U36: xtr hrs | V36: Total Comp Earned: | W36: =+AE36 -> 0 | AB36: Net comp hours | AE36: =IF(AJ37>0,AJ37,B36+(E36-E35)+(H36-H35)+(K36-K35)+(N36-N35)+(Q36-Q35)+T36) -> 0 | AG36: Total # Hours Taken | AJ36: =AE34+AE35 -> 0
A37: Reason: | D37: Reason: | G37: Reason: | J37: Reason: | M37: Reason: | P37: Reason: | S37: Reason: | AG37: Comp Time (Xtr Hrs x 1.5) | AJ37: =IF(AJ35-AJ36>0,IF(((AJ34+AJ35-AJ36) - 40) > 0,((AJ34+AJ35-AJ36) - 40)*1.5,0) + IF((AJ34+AJ35-AJ36)>40,40-AI9,IF(AJ35-AJ36>0,((AJ34+AJ35-AJ36)-AJ34),0)),0) -> 0
A41: Please round up to the nearest quarter hour. | V41: Month End Total | W41: =W2+W6+W12+W18+W24+W30+W36 -> 0
I43: 0.25 | J43: 15 Minutes
I44: 0.5 | J44: 30 Minutes
I45: 0.75 | J45: 45 Minutes
I46: 1 | J46: 1 Hour

Sheet June 2027
A1: Extra Hour and Compensatory Time Tracker
A2: June 2027 | V2: Carry Over Comp Time: | W2: ='May 2027'!W41 -> 0 | X2: Enter Your Normal Hours Per Work Week here>>> | Z2: ='July 2026'!Z2 -> 37.5 | AB2: Carry Over Comp Time: | AE2: =W2 -> 0 | AG2: Normal Hours Per Work Week | AI2: =Z2 -> 37.5
A3: Sunday | D3: Monday | G3: Tuesday | J3: Wednesday | M3: Thursday | P3: Friday | S3: Saturday
B4: n/a | C4: leave taken/non-work day | F4: leave taken/non-work day | G4: 1 | I4: leave taken/non-work day | J4: 2 | L4: leave taken/non-work day | M4: 3 | O4: leave taken/non-work day | P4: 4 | R4: leave taken/non-work day | S4: 5 | T4: n/a | U4: leave taken/non-work day | AB4: # Hours of leave taken/non-work day | AE4: =SUM(E4+H4+K4+N4+Q4) -> 0 | AG4: Actual Hours (Before Extra) | AJ4: =AI2 -> 37.5
B5: n/a | C5: comp taken | F5: comp taken | I5: comp taken | L5: comp taken | O5: comp taken | R5: comp taken | T5: n/a | U5: comp taken | AB5: # Hours of Comp Taken | AE5: =SUM(E5+H5+K5+N5+Q5) -> 0 | AG5: Total # of Extra Hours | AJ5: =SUM(E6+H6+K6+N6+Q6+T6+B6) -> 0
C6: xtr hrs | F6: xtr hrs | I6: xtr hrs | L6: xtr hrs | O6: xtr hrs | R6: xtr hrs | U6: xtr hrs | V6: Total Comp Earned: | W6: =+AE6 -> 0 | AB6: Net comp hours | AE6: =IF(AJ7>0,AJ7,B6+(E6-E5)+(H6-H5)+(K6-K5)+(N6-N5)+(Q6-Q5)+T6) -> 0 | AG6: Total # Leave Hours Taken | AJ6: =AE4+AE5 -> 0
A7: Reason: | D7: Reason: | G7: Reason: | J7: Reason: | M7: Reason: | P7: Reason: | S7: Reason: | AG7: Comp Time (Xtr Hrs x 1.5) | AJ7: =IF(AJ5-AJ6>0,IF(((AJ4+AJ5-AJ6) - 40) > 0,((AJ4+AJ5-AJ6) - 40)*1.5,0) + IF((AJ4+AJ5-AJ6)>40,40-AI2,IF(AJ5-AJ6>0,((AJ4+AJ5-AJ6)-AJ4),0)),0) -> 0
A10: 6 | B10: n/a | C10: leave taken/non-work day | D10: 7 | F10: leave taken/non-work day | G10: 8 | I10: leave taken/non-work day | J10: 9 | L10: leave taken/non-work day | M10: 10 | O10: leave taken/non-work day | P10: 11 | R10: leave taken/non-work day | S10: 12 | T10: n/a | U10: leave taken/non-work day | AB10: # Hours of leave taken/non-work day | AE10: =SUM(E10+H10+K10+N10+Q10) -> 0 | AG10: Actual Hours (Before Extra) | AJ10: =AI2 -> 37.5
B11: n/a | C11: comp taken | F11: comp taken | I11: comp taken | L11: comp taken | O11: comp taken | R11: comp taken | T11: n/a | U11: comp taken | AB11: # Hours of Comp Taken | AE11: =SUM(E11+H11+K11+N11+Q11) -> 0 | AG11: Total # of Extra Hours | AJ11: =SUM(E12+H12+K12+N12+Q12+T12+B12) -> 0
C12: xtr hrs | F12: xtr hrs | I12: xtr hrs | L12: xtr hrs | O12: xtr hrs | R12: xtr hrs | U12: xtr hrs | V12: Total Comp Earned: | W12: =+AE12 -> 0 | AB12: Net comp hours | AE12: =IF(AJ13>0,AJ13,B12+(E12-E11)+(H12-H11)+(K12-K11)+(N12-N11)+(Q12-Q11)+T12) -> 0 | AG12: Total # of Hours Taken | AJ12: =AE10+AE11 -> 0
A13: Reason: | D13: Reason: | G13: Reason: | J13: Reason: | M13: Reason: | P13: Reason: | S13: Reason: | AG13: Comp Time (Xtr Hrs x 1.5) | AJ13: =IF(AJ11-AJ12>0,IF(((AJ10+AJ11-AJ12) - 40) > 0,((AJ10+AJ11-AJ12) - 40)*1.5,0) + IF((AJ10+AJ11-AJ12)>40,40-AI2,IF(AJ11-AJ12>0,((AJ10+AJ11-AJ12)-AJ10),0)),0) -> 0
A16: 13 | B16: n/a | C16: leave taken/non-work day | D16: 14 | F16: leave taken/non-work day | G16: 15 | I16: leave taken/non-work day | J16: 16 | L16: leave taken/non-work day | M16: 17 | O16: leave taken/non-work day | P16: 18 | R16: leave taken/non-work day | S16: 19 | T16: n/a | U16: leave taken/non-work day | AB16: # Hours of leave taken/non-work day | AE16: =SUM(E16+H16+K16+N16+Q16) -> 0 | AG16: Actual Hours (Before Extra) | AJ16: =AI2 -> 37.5
B17: n/a | C17: comp taken | F17: comp taken | I17: comp taken | L17: comp taken | O17: comp taken | R17: comp taken | T17: n/a | U17: comp taken | AB17: # Hours of Comp Taken | AE17: =SUM(E17+H17+K17+N17+Q17) -> 0 | AG17: Total # of Extra Hours | AJ17: =SUM(E18+H18+K18+N18+Q18+T18+B18) -> 0
C18: xtr hrs | F18: xtr hrs | I18: xtr hrs | L18: xtr hrs | O18: xtr hrs | R18: xtr hrs | U18: xtr hrs | V18: Total Comp Earned: | W18: =+AE18 -> 0 | AB18: Net comp hours | AE18: =IF(AJ19>0,AJ19,B18+(E18-E17)+(H18-H17)+(K18-K17)+(N18-N17)+(Q18-Q17)+T18) -> 0 | AG18: Total # Hours Taken | AJ18: =AE16+AE17 -> 0
A19: Reason: | D19: Reason: | G19: Reason: | J19: Reason: | M19: Reason: | P19: Reason: | S19: Reason: | AG19: Comp Time (Xtr Hrs x 1.5) | AJ19: =IF(AJ17-AJ18>0,IF(((AJ16+AJ17-AJ18) - 40) > 0,((AJ16+AJ17-AJ18) - 40)*1.5,0) + IF((AJ16+AJ17-AJ18)>40,40-AI2,IF(AJ17-AJ18>0,((AJ16+AJ17-AJ18)-AJ16),0)),0) -> 0
A22: 20 | B22: n/a | C22: leave taken/non-work day | D22: 21 | F22: leave taken/non-work day | G22: 22 | I22: leave taken/non-work day | J22: 23 | L22: leave taken/non-work day | M22: 24 | O22: leave taken/non-work day | P22: 25 | R22: leave taken/non-work day | S22: 26 | T22: n/a | U22: leave taken/non-work day | AB22: # Hours of leave taken/non-work day | AE22: =SUM(E22+H22+K22+N22+Q22) -> 0 | AG22: Actual Hours (Before Extra) | AJ22: =AI2 -> 37.5
B23: n/a | C23: comp taken | F23: comp taken | I23: comp taken | L23: comp taken | O23: comp taken | R23: comp taken | T23: n/a | U23: comp taken | AB23: # Hours of Comp Taken | AE23: =SUM(E23+H23+K23+N23+Q23) -> 0 | AG23: Total # of Extra Hours | AJ23: =SUM(E24+H24+K24+N24+Q24+T24+B24) -> 0
C24: xtr hrs | F24: xtr hrs | I24: xtr hrs | L24: xtr hrs | O24: xtr hrs | R24: xtr hrs | U24: xtr hrs | V24: Total Comp Earned: | W24: =+AE24 -> 0 | AB24: Net comp hours | AE24: =IF(AJ25>0,AJ25,B24+(E24-E23)+(H24-H23)+(K24-K23)+(N24-N23)+(Q24-Q23)+T24) -> 0 | AG24: Total # Hours Taken | AJ24: =AE22+AE23 -> 0
A25: Reason: | D25: Reason: | G25: Reason: | J25: Reason: | M25: Reason: | P25: Reason: | S25: Reason: | AG25: Comp Time (Xtr Hrs x 1.5) | AJ25: =IF(AJ23-AJ24>0,IF(((AJ22+AJ23-AJ24) - 40) > 0,((AJ22+AJ23-AJ24) - 40)*1.5,0) + IF((AJ22+AJ23-AJ24)>40,40-AI2,IF(AJ23-AJ24>0,((AJ22+AJ23-AJ24)-AJ22),0)),0) -> 0
A28: 27 | B28: n/a | C28: leave taken/non-work day | D28: 28 | F28: leave taken/non-work day | G28: 29 | I28: leave taken/non-work day | J28: 30 | L28: leave taken/non-work day | O28: leave taken/non-work day | R28: leave taken/non-work day | T28: n/a | U28: leave taken/non-work day | AB28: # Hours of leave taken/non-work day | AE28: =SUM(E28+H28+K28+N28+Q28) -> 0 | AG28: Actual Hours (Before Extra) | AJ28: =AI2 -> 37.5
B29: n/a | C29: comp taken | F29: comp taken | I29: comp taken | L29: comp taken | O29: comp taken | R29: comp taken | T29: n/a | U29: comp taken | AB29: # Hours of Comp Taken | AE29: =SUM(E29+H29+K29+N29+Q29) -> 0 | AG29: Total # of Extra Hours | AJ29: =SUM(E30+H30+K30+N30+Q30+T30+B30) -> 0
C30: xtr hrs | F30: xtr hrs | I30: xtr hrs | L30: xtr hrs | O30: xtr hrs | R30: xtr hrs | U30: xtr hrs | V30: Total Comp Earned: | W30: =+AE30 -> 0 | AB30: Net comp hours | AE30: =IF(AJ31>0,AJ31,B30+(E30-E29)+(H30-H29)+(K30-K29)+(N30-N29)+(Q30-Q29)+T30) -> 0 | AG30: Total # Hours Taken | AJ30: =AE28+AE29 -> 0
A31: Reason: | D31: Reason: | G31: Reason: | J31: Reason: | M31: Reason: | P31: Reason: | S31: Reason: | AG31: Comp Time (Xtr Hrs x 1.5) | AJ31: =IF(AJ29-AJ30>0,IF(((AJ28+AJ29-AJ30) - 40) > 0,((AJ28+AJ29-AJ30) - 40)*1.5,0) + IF((AJ28+AJ29-AJ30)>40,40-AI2,IF(AJ29-AJ30>0,((AJ28+AJ29-AJ30)-AJ28),0)),0) -> 0
A35: Please round up to the nearest quarter hour. | V35: Month End Total | W35: =W2+W6+W12+W18+W24+W30 -> 0
I37: 0.25 | J37: 15 Minutes
I38: 0.5 | J38: 30 Minutes
I39: 0.75 | J39: 45 Minutes
I40: 1 | J40: 1 Hour
