Workbook
Name _1: '0100'!$A$11
Name _1: '0571'!$A$11
Name _1: '1461'!$A$11
Name _1: '1571'!$A$11
Name _1: '2521'!$A$11
Name _1: '2531'!$A$11
Name _1: '2791'!$A$11
Name _1: '2801'!$A$11
Name _1: '2911'!$A$11
Name _1: '2941'!$A$11
Name _1: '3083'!$A$11
Name _1: '3345'!$A$11
Name _1: '3362'!$A$11
Name _1: '3381'!$A$11
Name _1: '3382'!$A$11
Name _1: '3391'!$A$11
Name _1: '3394'!$A$11
Name _1: '3395'!$A$11
Name _1: '3396'!$A$11
Name _1: '3398'!$A$11
Name _1: '3400'!$A$11
Name _1: '3401'!$A$11
Name _1: '3413'!$A$11
Name _1: '3421'!$A$11
Name _1: '3431'!$A$11
Name _1: '3441'!$A$11
Name _1: '3924'!$A$11
Name _1: '3941'!$A$11
Name _1: '3961'!$A$11
Name _1: '3971'!$A$11
Name _1: '4001'!$A$11
Name _1: '4002'!$A$11
Name _1: '4012'!$A$11
Name _1: '4013'!$A$11
Name _1: '4020'!$A$11
Name _1: '4030'!$A$11
Name _1: '4031'!$A$11
Name _1: '4041'!$A$11
Name _1: '4050'!$A$11
Name _1: '4051'!$A$11
Name _1: '4061'!$A$11
Name _1: '4080'!$A$11
Name _1: '4081'!$A$11
Name _1: '4090'!$A$11
Name _1: '4091'!$A$11
Name _1: '4100'!$A$11
Name _1: '4102'!$A$11
Name _1: '4103'!$A$11
Name _1: '4111'!$A$11
Name _1: '4131'!$A$11
Name _1: '4141'!$A$11
Name _1: '0040'!$A$11
Name _1.__2009_10_FEFP_State_and_Local_Funding: '0100'!$A$5
Name _1.__2009_10_FEFP_State_and_Local_Funding: '0571'!$A$5
Name _1.__2009_10_FEFP_State_and_Local_Funding: '1461'!$A$5
Name _1.__2009_10_FEFP_State_and_Local_Funding: '1571'!$A$5
Name _1.__2009_10_FEFP_State_and_Local_Funding: '2521'!$A$5
Name _1.__2009_10_FEFP_State_and_Local_Funding: '2531'!$A$5
Name _1.__2009_10_FEFP_State_and_Local_Funding: '2791'!$A$5
Name _1.__2009_10_FEFP_State_and_Local_Funding: '2801'!$A$5

Sheet Surveys
C3: Survey 2 | G3: Survey 3 | K3: Final
C4: FLDOE Report | D4: ESE Guar | E4: Transp | G4: FLDOE Report | H4: ESE Guar | I4: Transp | K4: Final Calculation
A7: FY 2016
A8: Release date | C8: 42342 | G8: 42459 | K8: 42629
A9: 1st month used | C9: 42339 | G9: 42491 | K9: 42675
A12: FY 2017
A13: Release date | C13: 42702 | G13: 42817 | K13: 42997
A14: 1st month used | C14: 42705 | G14: 42826 | K14: 43040
A17: FY 2018
A18: Release date | C18: 43046 | G18: 43218 | K18: 43343
A19: Received | K19: 43647
A20: 1st month used | C20: 43070 | G20: 43221 | K20: 43708
C21: Preliminary
A23: Release date | C23: 43102 | G23: --- | K23: ---
A24: 1st month used | C24: 43132 | G24: --- | K24: ---
C25: Final | G25: --- | K25: ---
A28: FY 2019
A29: Release date | C29: 43468 | D29: --- | G29: 43538 | H29: --- | K29: 43713
A30: Received | C30: 43476 | G30: 43595 | H30: 43726 | I30: 43648 | K30: 43773
A31: 1st month used | C31: 43497 | D31: 43525 | G31: 43617 | H31: 43770 | I31: 43656 | K31: 43770
H32: SR-0067373 | I32: SR-0067374
A34: FY 2020
A35: Release/Requested date | C35: 43775
A36: Received | C36: 43788
A37: 1st month used | C37: 43830
C38: Preliminary
A40: Release/Requested date | C40: 43833 | D40: 43853 | E40: 43853 | G40: 43895 | H40: 43906 | I40: 43906 | K40: 44028
A41: Received | C41: 43859 | D41: 43858 | E41: 43858 | G41: 43906 | H41: 43950 | I41: 43950 | K41: 44075
A42: 1st month used | C42: 43889 | D42: 43889 | E42: 43889 | G42: 43951 | H42: 43982 | I42: 43982 | K42: 44166
A43: Service Request # | C43: Final | D43: SR-0085635 | E43: SR0085639 | H43: SR-0089096 | I43: SR-0089100
A46: FY 2021
A48: Release/Requested date | C48: 44147 | D48: 44314 | E48: 44314 | G48: 44307 | H48: 44314 | I48: 44314 | K48: 44875
A49: Received | C49: 44151 | D49: 44316 | E49: 44316 | G49: 44314 | H49: 44319 | I49: 44319 | K49: 44565
A50: 1st month used | C50: 44317 | D50: 44347 | E50: 44347 | G50: 44347 | H50: 44347 | I50: 44347 | K50: 44613
A51: Service Request # | D51: SR-0125077 | E51: SR-0125081 | H51: SR-0125054 | I51: SR-0125055
A54: FY 2022
A56: Release/Requested date | C56: 44518 | D56: 01/07/2022, 08:49:15 | E56: 01/07/2022, 09:18:46 | G56: 44630 | H56: 05/03/2022, 12:14:36 | I56: 05/03/2022, 12:16:24 | K56: 44834
A57: Received | C57: 44565 | D57: 44580 | E57: 44580 | G57: 44684 | H57: 44691 | I57: 44691 | K57: 44893
A58: 1st month used | C58: 44562 | D58: 44620 | E58: 44620 | G58: 44712 | H58: 44742 | I58: 44742 | K58: 44926
A59: Service Request # | C59: --- | D59: SR-0156328 | E59: SR-0125081 | G59: --- | H59: SR-0171396 | I59: SR-0171397 | K59: ---
...

Sheet Net Payment
B1: May 2026 - FY 2026 Charter School FTE Payment
B2: =Based_on_the_Second_Calculation_of_the_FEFP_2010_11 -> Based on the 2025-26 Third Calculation Worksheet
B4: School # | C4: School Name | D4: Description | E4: FTE | F4: Adjustments | G4: Net | I4: NOTES TO ALL CHARTER SCHOOLS
A5: 1 | B5: 0040 | C5: Palm Beach Preparatory Middle School | D5: FTE Jul 2026 | E5: ='0040'!$J$124 -> 17938 | G5: =SUBTOTAL(109,E5:F7) -> 17938
D6: PY Final FEFP
I7: Please go to the bottom of the page.
A8: 2 | B8: 0571 | C8: Palmetto Park | D8: =D5 -> FTE Jul 2026 | E8: ='0571'!$J$124 -> 97114.58 | G8: =SUBTOTAL(109,E8:F8) -> 97114.58
A10: 3 | B10: 0100 | C10: The Learning Center High School | D10: =D5 -> FTE Jul 2026 | E10: ='0100'!$J$124 -> 74347.16 | G10: =SUBTOTAL(109,E10:F12) -> 74347.16
D11: PY Final FEFP
A14: 4 | B14: 1461 | C14: Inlet Grove Community High School | D14: =D5 -> FTE Jul 2026 | E14: ='1461'!$J$124 -> 659118.96 | G14: =SUBTOTAL(109,E14:F55) -> 544693.51
D15: PY Final FEFP | I15: Please go to the bottom of the page.
D16: Sep Teacher Supplies Retract
D17: PY Digital C/R
D18: PY Dig C/R A/R
D19: PY Class Size Cat.
D20: Class Size Cat.
D21: Transportation | F21: -97617.78
D22: School Police | F22: -14222.22
D23: AT&T | F23: -264.72
D24: Avaya Maintenance | F24: -94.48
D25: LAN & Internet | F25: -90
C26: Ends June 2022 | D26: SWA Fees
D27: FY21 TSIA
D30: WPB-248085
D31: WPB-248086
D32: WPB-248087
D33: WPB-249234
D36: WPB-297918
D37: WPB-303998
D39: WPB-303276
D40: WPB-310033
D41: WPB-310034
D42: WPB-310035
D43: WPB-310036
... D50: WPB-310490
D51: WPB-318690 | F51: -2098.75
D52: WPB-319721 | F52: -37.5
D55: WPB-3
A56: =1+A14 -> 5 | B56: 1571 | C56: South Tech Charter Academy | D56: =$D$14 -> FTE Jul 2026 | E56: ='1571'!$J$124 -> 999703.09 | G56: =SUBTOTAL(109,E56:F73) -> 985014.31
D57: PY Final FEFP
...

Sheet Annual Rev & Fees
E4: 0.75 | F4: Admin | G4: Fee % | I4: Annual | M4: Current | Q4: Sec 1 Rev/Fee per FTE | U4: Net Rev Per Sec 1 FTE
D5: H/P | E5: ESE | F5: Fee % | G5: W/O TSIA | I5: Revenue | J5: Rev - TSIA | K5: Admin Fee | L5: Net Revenue | M5: Mth's Pmt | O5: Sec 1 FTE | Q5: Rev | R5: Fee | S5: Net Rev | U5: H/P | V5: 75% ESE | W5: Other
A6: 1 | B6: 0040 | C6: Palm Beach Preparatory Middle School | D6: 0 | F6: =-K6/I6 -> 0.046729286 | G6: =-K6/J6 -> 0.050000009 | I6: ='0040'!$J$107 -> 225807.86 | J6: ='0040'!$J$109 -> 211036.76 | K6: ='0040'!$J$114 -> -10551.84 | L6: ='0040'!$J$116 -> 215256.02 | M6: ='0040'!$J$124 -> 17938 | O6: {='0040'!E28:F28} -> 23.81 | P6: 0 | Q6: =I6/O6 -> 9483.7404 | R6: =K6/O6 -> -443.16842 | S6: =L6/O6 -> 9040.572 | U6: =IF(D6="H",S6,0) -> 0 | V6: =ROUND(IF(E6=1,S6,0),2) -> 0 | W6: =IF(AND(U6=0,V6=0),S6,) -> 9040.572
A7: 2 | B7: 0571 | C7: Palmetto Park | F7: =-K7/I7 -> 0.049170628 | G7: =-K7/J7 -> 0.049999997 | I7: ='0571'!$J$107 -> 1225640.4 | J7: ='0571'!$J$109 -> 1205310.3 | K7: ='0571'!$J$114 -> -60265.51 | L7: ='0571'!$J$116 -> 1165374.9 | M7: ='0571'!$J$124 -> 97114.58 | O7: {='0571'!E28:F28} -> 125.54 | P7: 0 | Q7: =I7/O7 -> 9762.9475 | R7: =K7/O7 -> -480.05026 | S7: =L7/O7 -> 9282.8972 | U7: =IF(D7="H",S7,0) -> 0 | V7: =ROUND(IF(E7=1,S7,0),2) -> 0 | W7: =IF(AND(U7=0,V7=0),S7,) -> 9282.8972
A8: 3 | B8: 0100 | C8: The Learning Center Highschool | D8: 0 | E8: 1 | F8: =-K8/I8 -> 0.011377198 | G8: =-K8/J8 -> 0.011553989 | I8: ='0100'!$J$107 -> 902433.13 | J8: ='0100'!$J$109 -> 888624.72 | K8: ='0100'!$J$114 -> -10267.16 | L8: ='0100'!$J$116 -> 892165.97 | M8: ='0100'!$J$124 -> 74347.16 | O8: {='0100'!E28:F28} -> 27 | P8: 0 | Q8: =I8/O8 -> 33423.449 | R8: =K8/O8 -> -380.26519 | S8: =L8/O8 -> 33043.184 | U8: =IF(D8="H",S8,0) -> 0 | V8: =ROUND(IF(E8=1,S8,0),2) -> 33043.18 | W8: =IF(AND(U8=0,V8=0),S8,) -> 0
A9: 4 | B9: 1461 | C9: Inlet Grove Community High School | D9: H | F9: =-K9/I9 -> 0.0058237379 | G9: =-K9/J9 -> 0.0060362417 | I9: ='1461'!$J$107 -> 7955759.8 | J9: ='1461'!$J$109 -> 7675680.1 | K9: ='1461'!$J$114 -> -46332.26 | L9: ='1461'!$J$116 -> 7909427.5 | M9: ='1461'!$J$124 -> 659118.96 | O9: {='1461'!E28:F28} -> 828.33 | P9: 0 | Q9: =I9/O9 -> 9604.5776 | R9: =K9/O9 -> -55.934543 | S9: =L9/O9 -> 9548.6431 | U9: =IF(D9="H",S9,0) -> 9548.6431 | V9: =ROUND(IF(E9=1,S9,0),2) -> 0 | W9: =IF(AND(U9=0,V9=0),S9,) -> 0
A10: 5 | B10: 1571 | C10: South Tech Charter Academy | D10: H | F10: =-K10/I10 -> 0.0043842346 | G10: =-K10/J10 -> 0.0045525731 | I10: ='1571'!$J$107 -> 12049264 | J10: ='1571'!$J$109 -> 11603724 | K10: ='1571'!$J$114 -> -52826.8 | L10: ='1571'!$J$116 -> 11996437 | M10: ='1571'!$J$124 -> 999703.09 | O10: {='1571'!E28:F28} -> 1098.28 | P10: 0 | Q10: =I10/O10 -> 10971.031 | R10: =K10/O10 -> -48.099574 | S10: =L10/O10 -> 10922.931 | U10: =IF(D10="H",S10,0) -> 10922.931 | V10: =ROUND(IF(E10=1,S10,0),2) -> 0 | W10: =IF(AND(U10=0,V10=0),S10,) -> 0
A11: 6 | B11: 2521 | C11: Ed Venture | D11: 0 | E11: 1 | F11: =-K11/I11 -> 0.021250763 | G11: =-K11/J11 -> 0.02207618 | I11: ='2521'!$J$107 -> 1363440.4 | J11: ='2521'!$J$109 -> 1312462.1 | K11: ='2521'!$J$114 -> -28974.15 | L11: ='2521'!$J$116 -> 1334466.3 | M11: ='2521'!$J$124 -> 111205.53 | O11: {='2521'!E28:F28} -> 73.69 | P11: 0 | Q11: =I11/O11 -> 18502.381 | R11: =K11/O11 -> -393.18971 | S11: =L11/O11 -> 18109.191 | U11: =IF(D11="H",S11,0) -> 0 | V11: =ROUND(IF(E11=1,S11,0),2) -> 18109.19 | W11: =IF(AND(U11=0,V11=0),S11,) -> 0
A12: 7 | B12: 2531 | C12: Bodwell Academy | D12: 0 | E12: 1 | F12: =-K12/I12 -> 0.011356381 | G12: =-K12/J12 -> 0.011969305 | I12: ='2531'!$J$107 -> 1473502.9 | J12: ='2531'!$J$109 -> 1398047.8 | K12: ='2531'!$J$114 -> -16733.66 | L12: ='2531'!$J$116 -> 1456769.2 | M12: ='2531'!$J$124 -> 121397.44 | O12: {='2531'!E28:F28} -> 48.54 | P12: 0 | Q12: =I12/O12 -> 30356.467 | R12: =K12/O12 -> -344.7396 | S12: =L12/O12 -> 30011.727 | U12: =IF(D12="H",S12,0) -> 0 | V12: =ROUND(IF(E12=1,S12,0),2) -> 30011.73 | W12: =IF(AND(U12=0,V12=0),S12,) -> 0
A13: 8 | B13: 2791 | C13: The Learning Center @ The Els Center of Excl | D13: 0 | E13: 1 | F13: =-K13/I13 -> 0.0095067542 | G13: =-K13/J13 -> 0.0099720054 | I13: ='2791'!$J$107 -> 5952215.5 | J13: ='2791'!$J$109 -> 5674510.6 | K13: ='2791'!$J$114 -> -56586.25 | L13: ='2791'!$J$116 -> 5895629.3 | M13: ='2791'!$J$124 -> 491302.44 | O13: {='2791'!E28:F28} -> 173.06 | P13: 0 | Q13: =I13/O13 -> 34393.942 | R13: =K13/O13 -> -326.97475 | S13: =L13/O13 -> 34066.967 | U13: =IF(D13="H",S13,0) -> 0 | V13: =ROUND(IF(E13=1,S13,0),2) -> 34066.97 | W13: =IF(AND(U13=0,V13=0),S13,) -> 0
A14: 9 | B14: 2801 | C14: Palm Beach Maritime Academy Elementary | D14: 0 | F14: =-K14/I14 -> 0.02140984 | G14: =-K14/J14 -> 0.022507518 | I14: ='2801'!$J$107 -> 5216172.5 | J14: ='2801'!$J$109 -> 4961783 | K14: ='2801'!$J$114 -> -111677.42 | L14: ='2801'!$J$116 -> 5104495.1 | M14: ='2801'!$J$124 -> 425374.59 | O14: {='2801'!E28:F28} -> 555.37 | P14: 0 | Q14: =I14/O14 -> 9392.2475 | R14: =K14/O14 -> -201.08652 | S14: =L14/O14 -> 9191.161 | U14: =IF(D14="H",S14,0) -> 0 | V14: =ROUND(IF(E14=1,S14,0),2) -> 0 | W14: =IF(AND(U14=0,V14=0),S14,) -> 9191.161
A15: 10 | B15: 2911 | C15: Western Academy Charter School | D15: H | F15: =-K15/I15 -> 0.00614694 | G15: =-K15/J15 -> 0.0064174966 | I15: ='2911'!$J$107 -> 7063672.4 | J15: ='2911'!$J$109 -> 6765873.5 | K15: ='2911'!$J$114 -> -43419.97 | L15: ='2911'!$J$116 -> 7020252.4 | M15: ='2911'!$J$124 -> 585021.03 | O15: {='2911'!E28:F28} -> 779.12 | P15: 0 | Q15: =I15/O15 -> 9066.2188 | R15: =K15/O15 -> -55.729503 | S15: =L15/O15 -> 9010.4893 | U15: =IF(D15="H",S15,0) -> 9010.4893 | V15: =ROUND(IF(E15=1,S15,0),2) -> 0 | W15: =IF(AND(U15=0,V15=0),S15,) -> 0
A16: 11 | B16: 2941 | C16: Palm Beach School for Autism | D16: 0 | E16: 1 | F16: =-K16/I16 -> 0.0075729122 | G16: =-K16/J16 -> 0.0079262509 | I16: ='2941'!$J$107 -> 11245703 | J16: ='2941'!$J$109 -> 10744389 | K16: ='2941'!$J$114 -> -85162.72 | L16: ='2941'!$J$116 -> 11160540 | M16: ='2941'!$J$124 -> 930045.01 | O16: {='2941'!E28:F28} -> 380.07 | P16: 0 | Q16: =I16/O16 -> 29588.504 | R16: =K16/O16 -> -224.07114 | S16: =L16/O16 -> 29364.433 | U16: =IF(D16="H",S16,0) -> 0 | V16: =ROUND(IF(E16=1,S16,0),2) -> 29364.43 | W16: =IF(AND(U16=0,V16=0),S16,) -> 0
A17: 12 | B17: 3083 | C17: The Learning Academy @ The Els Center of Excl | D17: 0 | E17: 1 | F17: =-K17/I17 -> 0.0085397228 | G17: =-K17/J17 -> 0.0089476086 | I17: ='3083'!$J$107 -> 6740032.6 | J17: ='3083'!$J$109 -> 6432781.4 | K17: ='3083'!$J$114 -> -57558.01 | L17: ='3083'!$J$116 -> 6682474.5 | M17: ='3083'!$J$124 -> 556872.88 | O17: {='3083'!E28:F28} -> 179.4 | P17: 0 | Q17: =I17/O17 -> 37569.858 | R17: =K17/O17 -> -320.83618 | S17: =L17/O17 -> 37249.022 | U17: =IF(D17="H",S17,0) -> 0 | V17: =ROUND(IF(E17=1,S17,0),2) -> 37249.02 | W17: =IF(AND(U17=0,V17=0),S17,) -> 0
A18: 13 | B18: 3345 | C18: Career Academy of the Palm Beaches | D18: 0 | E18: 1 | F18: =-K18/I18 -> 0.026866998 | G18: =-K18/J18 -> 0.027561877 | I18: ='3345'!$J$107 -> 1274674.2 | J18: ='3345'!$J$109 -> 1242537.6 | K18: ='3345'!$J$114 -> -34246.67 | L18: ='3345'!$J$116 -> 1240427.6 | M18: ='3345'!$J$124 -> 103368.96 | O18: {='3345'!E28:F28} -> 83 | P18: 0 | Q18: =I18/O18 -> 15357.521 | R18: =K18/O18 -> -412.61048 | S18: =L18/O18 -> 14944.91 | U18: =IF(D18="H",S18,0) -> 0 | V18: =ROUND(IF(E18=1,S18,0),2) -> 14944.91 | W18: =IF(AND(U18=0,V18=0),S18,) -> 0
A19: 14 | B19: 3362 | C19: Somerset Avenir | F19: =-K19/I19 -> 0.049529715 | G19: =-K19/J19 -> 0.049999998 | I19: ='3362'!$J$107 -> 1468095.3 | J19: ='3362'!$J$109 -> 1454286.9 | K19: ='3362'!$J$114 -> -72714.34 | L19: ='3362'!$J$116 -> 1395380.9 | M19: ='3362'!$J$124 -> 116281.74 | O19: {='3362'!E28:F28} -> 161.11 | P19: 0 | Q19: =I19/O19 -> 9112.3783 | R19: =K19/O19 -> -451.3335 | S19: =L19/O19 -> 8661.0448 | U19: =IF(D19="H",S19,0) -> 0 | V19: =ROUND(IF(E19=1,S19,0),2) -> 0 | W19: =IF(AND(U19=0,V19=0),S19,) -> 8661.0448
A20: 15 | B20: 3381 | C20: Imagine Schools - Chancellor Campus | D20: H | F20: =-K20/I20 -> 0.0045440036 | G20: =-K20/J20 -> 0.0047650357 | I20: ='3381'!$J$107 -> 9527103 | J20: ='3381'!$J$109 -> 9085176.5 | K20: ='3381'!$J$114 -> -43291.19 | L20: ='3381'!$J$116 -> 9483811.8 | M20: ='3381'!$J$124 -> 790317.65 | O20: {='3381'!E28:F28} -> 1049.31 | P20: 0 | Q20: =I20/O20 -> 9079.3979 | R20: =K20/O20 -> -41.256816 | S20: =L20/O20 -> 9038.1411 | U20: =IF(D20="H",S20,0) -> 9038.1411 | V20: =ROUND(IF(E20=1,S20,0),2) -> 0 | W20: =IF(AND(U20=0,V20=0),S20,) -> 0
A21: 16 | B21: 3382 | C21: Glades Academy | D21: 0 | F21: =-K21/I21 -> 0.045558378 | G21: =-K21/J21 -> 0.047748196 | I21: ='3382'!$J$107 -> 2498787.6 | J21: ='3382'!$J$109 -> 2384188.7 | K21: ='3382'!$J$114 -> -113840.71 | L21: ='3382'!$J$116 -> 2384946.9 | M21: ='3382'!$J$124 -> 198745.57 | O21: {='3382'!E28:F28} -> 261.79 | P21: 0 | Q21: =I21/O21 -> 9545.0078 | R21: =K21/O21 -> -434.85507 | S21: =L21/O21 -> 9110.1527 | U21: =IF(D21="H",S21,0) -> 0 | V21: =ROUND(IF(E21=1,S21,0),2) -> 0 | W21: =IF(AND(U21=0,V21=0),S21,) -> 9110.1527
A22: 17 | B22: 3391 | C22: Seagull Academy for Independent Living | D22: 0
A23: 18 | B23: 3394 | C23: Montessori Academy of Early Enrichment | D23: 0 | F23: =-K23/I23 -> 0.047605394 | G23: =-K23/J23 -> 0.050000001 | I23: ='3394'!$J$107 -> 1776433.4 | J23: ='3394'!$J$109 -> 1691356.2 | K23: ='3394'!$J$114 -> -84567.81 | L23: ='3394'!$J$116 -> 1691865.6 | M23: ='3394'!$J$124 -> 140988.8 | O23: {='3394'!E28:F28} -> 192.98 | P23: 0 | Q23: =I23/O23 -> 9205.2718 | R23: =K23/O23 -> -438.22059 | S23: =L23/O23 -> 8767.0512 | U23: =IF(D23="H",S23,0) -> 0 | V23: =ROUND(IF(E23=1,S23,0),2) -> 0 | W23: =IF(AND(U23=0,V23=0),S23,) -> 8767.0512
A24: 19 | B24: 3395 | C24: Somerset Academy Charter School | D24: 0 | F24: =-K24/I24 -> 0.022200569 | G24: =-K24/J24 -> 0.023267501 | I24: ='3395'!$J$107 -> 4821613.3 | J24: ='3395'!$J$109 -> 4600518.1 | K24: ='3395'!$J$114 -> -107042.56 | L24: ='3395'!$J$116 -> 4714570.8 | M24: ='3395'!$J$124 -> 392880.9 | O24: {='3395'!E28:F28} -> 537.23 | P24: 0 | Q24: =I24/O24 -> 8974.9518 | R24: =K24/O24 -> -199.24904 | S24: =L24/O24 -> 8775.7028 | U24: =IF(D24="H",S24,0) -> 0 | V24: =ROUND(IF(E24=1,S24,0),2) -> 0 | W24: =IF(AND(U24=0,V24=0),S24,) -> 8775.7028
A25: 20 | B25: 3396 | C25: G-Star School of the Arts | D25: H | F25: =-K25/I25 -> 0.0068222044 | G25: =-K25/J25 -> 0.0071231153 | I25: ='3396'!$J$107 -> 6659120.3 | J25: ='3396'!$J$109 -> 6377810.6 | K25: ='3396'!$J$114 -> -45429.88 | L25: ='3396'!$J$116 -> 6613690.4 | M25: ='3396'!$J$124 -> 551140.87 | O25: {='3396'!E28:F28} -> 701.94 | P25: 0 | Q25: =I25/O25 -> 9486.7372 | R25: =K25/O25 -> -64.72046 | S25: =L25/O25 -> 9422.0168 | U25: =IF(D25="H",S25,0) -> 9422.0168 | V25: =ROUND(IF(E25=1,S25,0),2) -> 0 | W25: =IF(AND(U25=0,V25=0),S25,) -> 0
A26: 21 | B26: 3398 | C26: Everglades Preparatory Academy | D26: 0 | F26: =-K26/I26 -> 0.047854702 | G26: =-K26/J26 -> 0.050000002 | I26: ='3398'!$J$107 -> 1038144 | J26: ='3398'!$J$109 -> 993601.36 | K26: ='3398'!$J$114 -> -49680.07 | L26: ='3398'!$J$116 -> 988463.89 | M26: ='3398'!$J$124 -> 82371.99 | O26: {='3398'!E28:F28} -> 101.9 | P26: 0 | Q26: =I26/O26 -> 10187.87 | R26: =K26/O26 -> -487.53749 | S26: =L26/O26 -> 9700.3326 | U26: =IF(D26="H",S26,0) -> 0 | V26: =ROUND(IF(E26=1,S26,0),2) -> 0 | W26: =IF(AND(U26=0,V26=0),S26,) -> 9700.3326
A27: 22 | B27: 3400 | C27: Believers Academy | D27: 0 | E27: 1 | F27: =-K27/I27 -> 0.026900066 | G27: =-K27/J27 -> 0.027673021 | I27: ='3400'!$J$107 -> 1340071.5 | J27: ='3400'!$J$109 -> 1302641 | K27: ='3400'!$J$114 -> -36048.01 | L27: ='3400'!$J$116 -> 1304023.4 | M27: ='3400'!$J$124 -> 108668.62 | O27: {='3400'!E28:F28} -> 91.06 | P27: 0 | Q27: =I27/O27 -> 14716.357 | R27: =K27/O27 -> -395.87096 | S27: =L27/O27 -> 14320.486 | U27: =IF(D27="H",S27,0) -> 0 | V27: =ROUND(IF(E27=1,S27,0),2) -> 14320.49 | W27: =IF(AND(U27=0,V27=0),S27,) -> 0
A28: 23 | B28: 3401 | C28: Quantum High School | D28: 0 | E28: 0 | F28: =-K28/I28 -> 0.030256375 | G28: =-K28/J28 -> 0.031651178 | I28: ='3401'!$J$107 -> 3809583 | J28: ='3401'!$J$109 -> 3641702.4 | K28: ='3401'!$J$114 -> -115264.17 | L28: ='3401'!$J$116 -> 3694318.8 | M28: ='3401'!$J$124 -> 307859.9 | O28: {='3401'!E28:F28} -> 394.93 | P28: 0 | Q28: =I28/O28 -> 9646.2233 | R28: =K28/O28 -> -291.85975 | S28: =L28/O28 -> 9354.3636 | U28: =IF(D28="H",S28,0) -> 0 | V28: =ROUND(IF(E28=1,S28,0),2) -> 0 | W28: =IF(AND(U28=0,V28=0),S28,) -> 9354.3636
A29: 24 | B29: 3413 | C29: Somerset Academy Boca | D29: H | F29: =-K29/I29 -> 0.012166167 | G29: =-K29/J29 -> 0.012762915 | I29: ='3413'!$J$107 -> 3605331.2 | J29: ='3413'!$J$109 -> 3436758.7 | K29: ='3413'!$J$114 -> -43863.06 | L29: ='3413'!$J$116 -> 3561468.1 | M29: ='3413'!$J$124 -> 296789.01 | O29: {='3413'!E28:F28} -> 391.76 | P29: 0 | Q29: =I29/O29 -> 9202.9078 | R29: =K29/O29 -> -111.96411 | S29: =L29/O29 -> 9090.9437 | U29: =IF(D29="H",S29,0) -> 9090.9437 | V29: =ROUND(IF(E29=1,S29,0),2) -> 0 | W29: =IF(AND(U29=0,V29=0),S29,) -> 0
A30: 25 | B30: 3421 | C30: Worthington High School | D30: 0 | F30: =-K30/I30 -> 0.020202373 | G30: =-K30/J30 -> 0.020907904 | I30: ='3421'!$J$107 -> 5564352.8 | J30: ='3421'!$J$109 -> 5376585.3 | K30: ='3421'!$J$114 -> -112413.13 | L30: ='3421'!$J$116 -> 5451939.7 | M30: ='3421'!$J$124 -> 454328.31 | O30: {='3421'!E28:F28} -> 597.86 | P30: 0 | Q30: =I30/O30 -> 9307.1167 | R30: =K30/O30 -> -188.02584 | S30: =L30/O30 -> 9119.0909 | U30: =IF(D30="H",S30,0) -> 0 | V30: =ROUND(IF(E30=1,S30,0),2) -> 0 | W30: =IF(AND(U30=0,V30=0),S30,) -> 9119.0909
A31: 26 | B31: 3431 | C31: Renaissance Charter School at WPB | D31: H | F31: =-K31/I31 -> 0.0047708213 | G31: =-K31/J31 -> 0.0050119782 | I31: ='3431'!$J$107 -> 8953125.1 | J31: ='3431'!$J$109 -> 8522335.5 | K31: ='3431'!$J$114 -> -42713.76 | L31: ='3431'!$J$116 -> 8910411.3 | M31: ='3431'!$J$124 -> 742534.27 | O31: {='3431'!E28:F28} -> 997.61 | P31: 0 | Q31: =I31/O31 -> 8974.5743 | R31: =K31/O31 -> -42.81609 | S31: =L31/O31 -> 8931.7582 | U31: =IF(D31="H",S31,0) -> 8931.7582 | V31: =ROUND(IF(E31=1,S31,0),2) -> 0 | W31: =IF(AND(U31=0,V31=0),S31,) -> 0
A32: 27 | B32: 3441 | C32: South Tech Preparatory Academy (MS) | D32: H | F32: =-K32/I32 -> 0.0091393491 | G32: =-K32/J32 -> 0.009564435 | I32: ='3441'!$J$107 -> 4786069.5 | J32: ='3441'!$J$109 -> 4573355.3 | K32: ='3441'!$J$114 -> -43741.56 | L32: ='3441'!$J$116 -> 4742328 | M32: ='3441'!$J$124 -> 395194 | O32: {='3441'!E28:F28} -> 522.77 | P32: 0 | Q32: =I32/O32 -> 9155.2107 | R32: =K32/O32 -> -83.672667 | S32: =L32/O32 -> 9071.5381 | U32: =IF(D32="H",S32,0) -> 9071.5381 | V32: =ROUND(IF(E32=1,S32,0),2) -> 0 | W32: =IF(AND(U32=0,V32=0),S32,) -> 0
A33: 28 | B33: 3924 | C33: Palm Beach Maritime Academy Secondary | D33: 0 | F33: =-K33/I33 -> 0.029281614 | G33: =-K33/J33 -> 0.030717813 | I33: ='3924'!$J$107 -> 3793190.5 | J33: ='3924'!$J$109 -> 3615841.4 | K33: ='3924'!$J$114 -> -111070.74 | L33: ='3924'!$J$116 -> 3682119.7 | M33: ='3924'!$J$124 -> 306843.31 | O33: {='3924'!E28:F28} -> 406.93 | P33: 0 | Q33: =I33/O33 -> 9321.4815 | R33: =K33/O33 -> -272.94803 | S33: =L33/O33 -> 9048.5335 | U33: =IF(D33="H",S33,0) -> 0 | V33: =ROUND(IF(E33=1,S33,0),2) -> 0 | W33: =IF(AND(U33=0,V33=0),S33,) -> 9048.5335
A34: 29 | B34: 3941 | C34: Ben Gamla Charter School | D34: H | F34: =-K34/I34 -> 0.01901896 | G34: =-K34/J34 -> 0.019999999 | I34: ='3941'!$J$107 -> 2029915.5 | J34: ='3941'!$J$109 -> 1930344.1 | K34: ='3941'!$J$114 -> -38606.88 | L34: ='3941'!$J$116 -> 1991308.6 | M34: ='3941'!$J$124 -> 165942.38 | O34: {='3941'!E28:F28} -> 224.3 | P34: 0 | Q34: =I34/O34 -> 9050.0021 | R34: =K34/O34 -> -172.12162 | S34: =L34/O34 -> 8877.8804 | U34: =IF(D34="H",S34,0) -> 8877.8804 | V34: =ROUND(IF(E34=1,S34,0),2) -> 0 | W34: =IF(AND(U34=0,V34=0),S34,) -> 0
A35: 30 | B35: 3961 | C35: Gardens School of Technology Arts | D35: 0
A36: 31 | B36: 3971 | C36: Palm Beach Preparatory Charter Academy | D36: 0 | F36: =-K36/I36 -> 0.019083017 | G36: =-K36/J36 -> 0.019919366 | I36: ='3971'!$J$107 -> 5980730.6 | J36: ='3971'!$J$109 -> 5729619.2 | K36: ='3971'!$J$114 -> -114130.38 | L36: ='3971'!$J$116 -> 5866600.2 | M36: ='3971'!$J$124 -> 488883.35 | O36: {='3971'!E28:F28} -> 627.53 | P36: 0 | Q36: =I36/O36 -> 9530.5891 | R36: =K36/O36 -> -181.87239 | S36: =L36/O36 -> 9348.7167 | U36: =IF(D36="H",S36,0) -> 0 | V36: =ROUND(IF(E36=1,S36,0),2) -> 0 | W36: =IF(AND(U36=0,V36=0),S36,) -> 9348.7167
A37: 32 | B37: 4001 | C37: Renaissance Charter School at Wellington | D37: 0 | F37: =-K37/I37 -> 0.018576335 | G37: =-K37/J37 -> 0.019568553 | I37: ='4001'!$J$107 -> 5728109 | J37: ='4001'!$J$109 -> 5437666.6 | K37: ='4001'!$J$114 -> -106407.27 | L37: ='4001'!$J$116 -> 5621701.7 | M37: ='4001'!$J$124 -> 468475.14 | O37: {='4001'!E28:F28} -> 638.78 | P37: 0 | Q37: =I37/O37 -> 8967.2641 | R37: =K37/O37 -> -166.5789 | S37: =L37/O37 -> 8800.6852 | U37: =IF(D37="H",S37,0) -> 0 | V37: =ROUND(IF(E37=1,S37,0),2) -> 0 | W37: =IF(AND(U37=0,V37=0),S37,) -> 8800.6852
A38: 33 | B38: 4002 | C38: Renaissance Charter School at Summit | D38: 0 | F38: =-K38/I38 -> 0.013518025 | G38: =-K38/J38 -> 0.014294372 | I38: ='4002'!$J$107 -> 7827925.1 | J38: ='4002'!$J$109 -> 7402779.8 | K38: ='4002'!$J$114 -> -105818.09 | L38: ='4002'!$J$116 -> 7722107 | M38: ='4002'!$J$124 -> 643508.92 | O38: {='4002'!E28:F28} -> 874.47 | P38: 0 | Q38: =I38/O38 -> 8951.6222 | R38: =K38/O38 -> -121.00826 | S38: =L38/O38 -> 8830.614 | U38: =IF(D38="H",S38,0) -> 0 | V38: =ROUND(IF(E38=1,S38,0),2) -> 0 | W38: =IF(AND(U38=0,V38=0),S38,) -> 8830.614
A39: 34 | B39: 4012 | C39: Somerset Academy Canyons Middle School | D39: H | F39: =-K39/I39 -> #DIV/0! | G39: =-K39/J39 -> #DIV/0! | I39: ='4012'!$J$107 -> 0 | J39: ='4012'!$J$109 -> 0 | K39: ='4012'!$J$114 -> 0 | L39: ='4012'!$J$116 -> 0 | M39: ='4012'!$J$124 -> 0 | O39: {='4012'!E28:F28} -> 0 | P39: 0 | Q39: =I39/O39 -> #DIV/0! | R39: =K39/O39 -> #DIV/0! | S39: =L39/O39 -> #DIV/0! | U39: =IF(D39="H",S39,0) -> #DIV/0! | V39: =ROUND(IF(E39=1,S39,0),2) -> 0 | W39: =IF(AND(U39=0,V39=0),S39,) -> #DIV/0!
A40: 35 | B40: 4013 | C40: Somerset Academy Canyons High School | D40: H | F40: =-K40/I40 -> 0.0031367098 | G40: =-K40/J40 -> 0.003285302 | I40: ='4013'!$J$107 -> 14167878 | J40: ='4013'!$J$109 -> 13527073 | K40: ='4013'!$J$114 -> -44440.52 | L40: ='4013'!$J$116 -> 14123437 | M40: ='4013'!$J$124 -> 1176953.1 | O40: {='4013'!E28:F28} -> 1521.93 | P40: 0 | Q40: =I40/O40 -> 9309.1519 | R40: =K40/O40 -> -29.200108 | S40: =L40/O40 -> 9279.9518 | U40: =IF(D40="H",S40,0) -> 9279.9518 | V40: =ROUND(IF(E40=1,S40,0),2) -> 0 | W40: =IF(AND(U40=0,V40=0),S40,) -> 0
A41: 36 | B41: 4020 | C41: Franklin Academy - Boynton Beach | D41: 0 | F41: =-K41/I41 -> 0.0096435592 | G41: =-K41/J41 -> 0.010123015 | I41: ='4020'!$J$107 -> 11127250 | J41: ='4020'!$J$109 -> 10600230 | K41: ='4020'!$J$114 -> -107306.29 | L41: ='4020'!$J$116 -> 11019943 | M41: ='4020'!$J$124 -> 918328.6 | O41: {='4020'!E28:F28} -> 1234.81 | P41: 0 | Q41: =I41/O41 -> 9011.305 | R41: =K41/O41 -> -86.901054 | S41: =L41/O41 -> 8924.4039 | U41: =IF(D41="H",S41,0) -> 0 | V41: =ROUND(IF(E41=1,S41,0),2) -> 0 | W41: =IF(AND(U41=0,V41=0),S41,) -> 8924.4039
A42: 37 | B42: 4030 | C42: Olympus International Academy | D42: 0 | F42: =IFERROR(-K42/I42,"") | G42: =IFERROR(-K42/J42,"") | I42: ='4030'!$J$107 -> 0 | J42: ='4030'!$J$109 -> 0 | K42: ='4030'!$J$114 -> 0 | L42: ='4030'!$J$116 -> 0 | M42: ='4030'!$J$124 -> 0 | O42: {='4030'!E28:F28} -> 0 | P42: 0 | Q42: =IFERROR(I42/O42,0) -> 0 | R42: =IFERROR(K42/O42,0) -> 0 | S42: =IFERROR(L42/O42,0) -> 0 | U42: =IF(D42="H",S42,0) -> 0 | V42: =ROUND(IF(E42=1,S42,0),2) -> 0 | W42: =IF(AND(U42=0,V42=0),S42,) -> 0
A43: 38 | B43: 4031 | C43: Somerset Academy Wellington | D43: 0 | F43: =-K43/I43 -> 0.029682858 | G43: =-K43/J43 -> 0.031410982 | I43: ='4031'!$J$107 -> 3560632.2 | J43: ='4031'!$J$109 -> 3364738.5 | K43: ='4031'!$J$114 -> -105689.74 | L43: ='4031'!$J$116 -> 3454942.5 | M43: ='4031'!$J$124 -> 287911.87 | O43: {='4031'!E28:F28} -> 397.95 | P43: 0 | Q43: =I43/O43 -> 8947.4361 | R43: =K43/O43 -> -265.58548 | S43: =L43/O43 -> 8681.8507 | U43: =IF(D43="H",S43,0) -> 0 | V43: =ROUND(IF(E43=1,S43,0),2) -> 0 | W43: =IF(AND(U43=0,V43=0),S43,) -> 8681.8507
...

Sheet Charter Schools
B1: Palm Beach County Charter Schools
B3: Sorted by School Number | E3: Sorted by School Name
B4: Dept # | C4: Charter School Name | E4: Dept # | F4: Charter School Name
A5: 1 | B5: 0040 | C5: PALM BEACH PREPARATORY ACADEMY MS | E5: 3400 | F5: Believers Academy
A6: 2 | B6: 0571 | C6: PALMETTO PARK | E6: 3941 | F6: Ben Gamla Charter School | I6: 3391 Seagull Academy for Independent Living and 2531 Potentials Charter School merged in FY 25 and changed their name to Bodwell Academy
A7: 3 | B7: 0100 | C7: THE LEARNING CENTER HS | E7: 4102 | F7: BridgePrep Academy of PB
A8: 4 | B8: 1461 | C8: Inlet Grove Community High School | E8: 3345 | F8: Career Academy of the Palm Beaches
A9: 5 | B9: 1571 | C9: South Tech Charter Academy | E9: 4100 | F9: Connections Education Center of the Palm Beaches | I9: 3961 Garden School of Technology is closing for FY 26.
A10: 6 | B10: 2521 | C10: Ed Venture | E10: 2521 | F10: Ed Venture | I10: 4080 University Prep is closed for FY 26
A11: 7 | B11: 2531 | C11: Bodwell Academy (formerly - Potentials Charter School) | E11: 3398 | F11: Everglades Preparatory Academy
A12: 8 | B12: 2791 | C12: The Learning Center at The Els Center of Excellence | E12: 4081 | F12: Florida Futures Academy - North Campus
A13: 9 | B13: 2801 | C13: Palm Beach Maritime Academy Elementary | E13: 4020 | F13: Franklin Academy - Boynton Beach | I13: New Schools
A14: 10 | B14: 2911 | C14: Western Academy Charter School | E14: 4061 | F14: Franklin Academy - Palm Beach Gardens | I14: 0040 | J14: PALM BEACH PREPARATORY ACADEMY MS
A15: 11 | B15: 2941 | C15: Palm Beach School for Autism | E15: 3961 | F15: Gardens School of Technology Arts | I15: 0100 | J15: THE LEARNING CENTER HS
A16: 12 | B16: 3083 | C16: The Learning Academy at The Els Center of Excellence | E16: 3382 | F16: Glades Academy | I16: 3362 | J16: Somserset Avenir
A17: 13 | B17: 3345 | C17: Career Academy of the Palm Beaches | E17: 3396 | F17: G-Star School of the Arts for Motion Pictures and Television | I17: 0571 | J17: Palmetto Park High School
A18: 14 | B18: 3362 | C18: Somerset Avenir | E18: 3381 | F18: Imagine Schools - Chancellor Campus
A19: 15 | B19: 3381 | C19: Imagine Schools - Chancellor Campus | E19: 1461 | F19: Inlet Grove Community High School
A20: 16 | B20: 3382 | C20: Glades Academy | E20: 3394 | F20: Montessori Academy of Early Enrichment
A21: 17 | B21: 3391 | C21: Seagull Academy for Independent Living | E21: 4030 | F21: Olympus International Academy
A22: 18 | B22: 3394 | C22: Montessori Academy of Early Enrichment | E22: 2801 | F22: Palm Beach Maritime Academy Elementary
A23: 19 | B23: 3395 | C23: Somerset Academy JFK Charter School | E23: 3924 | F23: Palm Beach Maritime Academy Secondary
A24: 20 | B24: 3396 | C24: G-Star School of the Arts for Motion Pictures and Television | E24: 0040 | F24: PALM BEACH PREPARATORY ACADEMY MS
A25: 21 | B25: 3398 | C25: Everglades Preparatory Academy | E25: 3971 | F25: Palm Beach Preparatory Charter Academy
A26: 22 | B26: 3400 | C26: Believers Academy | E26: 2941 | F26: Palm Beach School for Autism
A27: 23 | B27: 3401 | C27: Quantum High School | E27: 0571 | F27: PALMETTO PARK
A28: 24 | B28: 3413 | C28: Somerset Academy Boca | E28: 2531 | F28: Potentials Charter School
A29: 25 | B29: 3421 | C29: Worthington High School | E29: 3401 | F29: Quantum High School
A30: 26 | B30: 3431 | C30: Renaissance Charter School at WPB | E30: 4051 | F30: Renaissance Charter School at Central Palm
... A35: 31 | B35: 3971 | C35: Palm Beach Preparatory Charter Academy | E35: 3391 | F35: Seagull Academy for Independent Living
A36: 32 | B36: 4001 | C36: Renaissance Charter School at Wellington | E36: 4111 | F36: SLAM HS Palm Beach
A37: 33 | B37: 4002 | C37: Renaissance Charter School at Summit | E37: 3413 | F37: Somerset Academy Boca
A38: 34 | B38: 4012 | C38: Somerset Academy Canyons Middle School | E38: 4041 | F38: Somerset Academy Boca Middle School
A39: 35 | B39: 4013 | C39: Somerset Academy Canyons High School | E39: 4013 | F39: Somerset Academy Canyons High School
A40: 36 | B40: 4020 | C40: Franklin Academy - Boynton Beach | E40: 4012 | F40: Somerset Academy Canyons Middle School
A41: 37 | B41: 4030 | C41: Olympus International Academy | E41: 3395 | F41: Somerset Academy JFK Charter School
A42: 38 | B42: 4031 | C42: Somerset Academy Wellington | E42: 4091 | F42: Somerset Academy Lakes
A43: 39 | B43: 4041 | C43: Somerset Academy Boca Middle School | E43: 4031 | F43: Somerset Academy Wellington
A44: 40 | B44: 4050 | C44: Renaissance Charter School at Cypress | E44: 4131 | F44: Somerset Academy Wellington HS
A45: 41 | B45: 4051 | C45: Renaissance Charter School at Central Palm | E45: 3362 | F45: Somerset Avenir
...

Sheet Cumulative Payments
A1: Cumulative Payments
D4: Net Revenue | E4: July | F4: August | G4: Sept | H4: Oct | I4: Nov | J4: Dec | K4: Jan | L4: Feb | M4: March | N4: April | O4: May | P4: June | Q4: Total | R4: Payments including current month
A5: 1 | B5: 0040 | C5: Palm Beach Preparatory Middle School | D5: ='Annual Rev & Fees'!L6 -> 215256.02 | E5: 17938 | Q5: =SUM(E5:P5) -> 17938 | R5: 0
A6: 2 | B6: 0571 | C6: Palmetto Park | D6: ='Annual Rev & Fees'!L7 -> 1165374.9 | E6: 97114.58 | Q6: =SUM(E6:P6) -> 97114.58
A7: 3 | B7: 0100 | C7: The Learning Center Highschool | D7: ='Annual Rev & Fees'!L8 -> 892165.97 | E7: 74347.16 | Q7: =SUM(E7:P7) -> 74347.16 | R7: 0
A8: 4 | B8: 1461 | C8: Inlet Grove Community High School | D8: ='Annual Rev & Fees'!L9 -> 7909427.5 | E8: 659118.96 | Q8: =SUM(E8:P8) -> 659118.96 | R8: 0
A9: 5 | B9: 1571 | C9: South Tech Charter Academy | D9: ='Annual Rev & Fees'!L10 -> 11996437 | E9: 999703.09 | Q9: =SUM(E9:P9) -> 999703.09 | R9: 0
A10: 6 | B10: 2521 | C10: Ed Venture | D10: ='Annual Rev & Fees'!L11 -> 1334466.3 | E10: 111205.53 | Q10: =SUM(E10:P10) -> 111205.53 | R10: 0
A11: 7 | B11: 2531 | C11: Bodwell Academy | D11: ='Annual Rev & Fees'!L12 -> 1456769.2 | E11: 121397.44 | Q11: =SUM(E11:P11) -> 121397.44 | R11: 0
A12: 8 | B12: 2791 | C12: The Learning Center @ The Els Center of Excl | D12: ='Annual Rev & Fees'!L13 -> 5895629.3 | E12: 491302.44 | Q12: =SUM(E12:P12) -> 491302.44 | R12: 0
A13: 9 | B13: 2801 | C13: Palm Beach Maritime Academy Elementary | D13: ='Annual Rev & Fees'!L14 -> 5104495.1 | E13: 425374.59 | Q13: =SUM(E13:P13) -> 425374.59 | R13: 0
A14: 10 | B14: 2911 | C14: Western Academy Charter School | D14: ='Annual Rev & Fees'!L15 -> 7020252.4 | E14: 585021.03 | Q14: =SUM(E14:P14) -> 585021.03 | R14: 0
A15: 11 | B15: 2941 | C15: Palm Beach School for Autism | D15: ='Annual Rev & Fees'!L16 -> 11160540 | E15: 930045.01 | Q15: =SUM(E15:P15) -> 930045.01 | R15: 0
A16: 12 | B16: 3083 | C16: The Learning Academy @ The Els Center of Excl | D16: ='Annual Rev & Fees'!L17 -> 6682474.5 | E16: 556872.88 | Q16: =SUM(E16:P16) -> 556872.88 | R16: 0
A17: 13 | B17: 3345 | C17: Career Academy of the Palm Beaches | D17: ='Annual Rev & Fees'!L18 -> 1240427.6 | E17: 103368.96 | Q17: =SUM(E17:P17) -> 103368.96 | R17: 0
A18: 14 | B18: 3362 | C18: Somerset Avenir | D18: ='Annual Rev & Fees'!L19 -> 1395380.9 | E18: 116281.74 | Q18: =SUM(E18:P18) -> 116281.74
A19: 15 | B19: 3381 | C19: Imagine Schools - Chancellor Campus | D19: ='Annual Rev & Fees'!L20 -> 9483811.8 | E19: 790317.65 | Q19: =SUM(E19:P19) -> 790317.65 | R19: 0
A20: 16 | B20: 3382 | C20: Glades Academy | D20: ='Annual Rev & Fees'!L21 -> 2384946.9 | E20: 198745.57 | Q20: =SUM(E20:P20) -> 198745.57 | R20: 0
A21: 17 | B21: 3391 | C21: Seagull Academy for Independent Living | D21: ='Annual Rev & Fees'!L22 -> 0 | E21: 0 | Q21: =SUM(E21:P21) -> 0 | R21: 0
A22: 18 | B22: 3394 | C22: Montessori Academy of Early Enrichment | D22: ='Annual Rev & Fees'!L23 -> 1691865.6 | E22: 140988.8 | Q22: =SUM(E22:P22) -> 140988.8 | R22: 0
A23: 19 | B23: 3395 | C23: Somerset Academy Charter School | D23: ='Annual Rev & Fees'!L24 -> 4714570.8 | E23: 392880.9 | Q23: =SUM(E23:P23) -> 392880.9 | R23: 0
A24: 20 | B24: 3396 | C24: G-Star School of the Arts | D24: ='Annual Rev & Fees'!L25 -> 6613690.4 | E24: 551140.87 | Q24: =SUM(E24:P24) -> 551140.87 | R24: 0
A25: 21 | B25: 3398 | C25: Everglades Preparatory Academy | D25: ='Annual Rev & Fees'!L26 -> 988463.89 | E25: 82371.99 | Q25: =SUM(E25:P25) -> 82371.99 | R25: 0
A26: 22 | B26: 3400 | C26: Believers Academy | D26: ='Annual Rev & Fees'!L27 -> 1304023.4 | E26: 108668.62 | Q26: =SUM(E26:P26) -> 108668.62 | R26: 0
A27: 23 | B27: 3401 | C27: Quantum High School | D27: ='Annual Rev & Fees'!L28 -> 3694318.8 | E27: 307859.9 | Q27: =SUM(E27:P27) -> 307859.9 | R27: 0
A28: 24 | B28: 3413 | C28: Somerset Academy Boca | D28: ='Annual Rev & Fees'!L29 -> 3561468.1 | E28: 296789.01 | Q28: =SUM(E28:P28) -> 296789.01 | R28: 0
A29: 25 | B29: 3421 | C29: Worthington High School | D29: ='Annual Rev & Fees'!L30 -> 5451939.7 | E29: 454328.31 | Q29: =SUM(E29:P29) -> 454328.31 | R29: 0
A30: 26 | B30: 3431 | C30: Renaissance Charter School at WPB | D30: ='Annual Rev & Fees'!L31 -> 8910411.3 | E30: 742534.27 | Q30: =SUM(E30:P30) -> 742534.27 | R30: 0
A31: 27 | B31: 3441 | C31: South Tech Preparatory Academy (MS) | D31: ='Annual Rev & Fees'!L32 -> 4742328 | E31: 395194 | Q31: =SUM(E31:P31) -> 395194 | R31: 0
A32: 28 | B32: 3924 | C32: Palm Beach Maritime Academy Secondary | D32: ='Annual Rev & Fees'!L33 -> 3682119.7 | E32: 306843.31 | Q32: =SUM(E32:P32) -> 306843.31 | R32: 0
A33: 29 | B33: 3941 | C33: Ben Gamla Charter School | D33: ='Annual Rev & Fees'!L34 -> 1991308.6 | E33: 165942.38 | Q33: =SUM(E33:P33) -> 165942.38 | R33: 0
A34: 30 | B34: 3961 | C34: Gardens School of Technology Arts | D34: ='Annual Rev & Fees'!L35 -> 0 | E34: 0 | Q34: =SUM(E34:P34) -> 0 | R34: 0
A35: 31 | B35: 3971 | C35: Palm Beach Perparatory Charter Academy | D35: ='Annual Rev & Fees'!L36 -> 5866600.2 | E35: 488883.35 | Q35: =SUM(E35:P35) -> 488883.35 | R35: 0
A36: 32 | B36: 4001 | C36: Renaissance Charter School at Wellington | D36: ='Annual Rev & Fees'!L37 -> 5621701.7 | E36: 468475.14 | Q36: =SUM(E36:P36) -> 468475.14 | R36: 0
A37: 33 | B37: 4002 | C37: Renaissance Charter School at Summit | D37: ='Annual Rev & Fees'!L38 -> 7722107 | E37: 643508.92 | Q37: =SUM(E37:P37) -> 643508.92 | R37: 0
A38: 34 | B38: 4012 | C38: Somerset Academy Canyons Middle School | D38: ='Annual Rev & Fees'!L39 -> 0 | E38: 384598.14 | Q38: =SUM(E38:P38) -> 384598.14 | R38: 0
A39: 35 | B39: 4013 | C39: Somerset Academy Canyons High School | D39: ='Annual Rev & Fees'!L40 -> 14123437 | E39: 788760.73 | Q39: =SUM(E39:P39) -> 788760.73 | R39: 0
A40: 36 | B40: 4020 | C40: Franklin Academy - Boynton Beach | D40: ='Annual Rev & Fees'!L41 -> 11019943 | E40: 918328.6 | Q40: =SUM(E40:P40) -> 918328.6 | R40: 0
A41: 37 | B41: 4030 | C41: Olympus International Academy | D41: ='Annual Rev & Fees'!L42 -> 0 | E41: 0 | Q41: =SUM(E41:P41) -> 0 | R41: 0
A42: 38 | B42: 4031 | C42: Somerset Academy Wellington | D42: ='Annual Rev & Fees'!L43 -> 3454942.5 | E42: 287911.87 | Q42: =SUM(E42:P42) -> 287911.87 | R42: 0
...

Sheet Consolidated
B1: (Insert district number in cell A1, enter, then strike F9. Your district data then pulls from Calculation Detail Sheets)
A2: Revenue Estimate Worksheet: All Charter Schools (Consolidated Tab)
A3: Based on the 2025-26 Fourth Calculation Worksheet
A4: School District: | C4: Palm Beach | H4: 46204
A7: 1A. 2025-26 FEFP State and Local Funding
B8: Base Student Allocation: | C8: 5372.6 | G8: District Cost Differential: | H8: 1.0355
G9: Small District Factor: | H9: 1
I10: 2025-26
C11: Oct 2025 | D11: Feb 2026 | E11: Total | F11: Program | H11: Weighted FTE | I11: Base Funding
A12: Program | C12: FTE | D12: FTE | E12: FTE | F12: Cost Factor | H12: (2) x (3) | I12: (WFTE x BSA x CWF x SDF)
A13: (1) | E13: (2) | F13: (3) | H13: (4) | I13: (5)
A14: 101 Basic K-3 | C14: =SUM('0040:4141'!C12) -> 1934.19 | D14: =SUM('0040:4141'!D12) -> 1868.49 | E14: =SUM('0040:4141'!E12) -> 3802.68 | F14: 1.108 | H14: =SUM('0040:4141'!I12) -> 4213.3694 | I14: =SUM('0040:4141'!J12) -> 23440353
A15: 111 Basic K-3 with ESE Services | C15: =SUM('0040:4141'!C13) -> 305 | D15: =SUM('0040:4141'!D13) -> 331.87 | E15: =SUM('0040:4141'!E13) -> 636.87 | F15: 1.108 | H15: =SUM('0040:4141'!I13) -> 705.6519 | I15: =SUM('0040:4141'!J13) -> 3925772.5
A16: 102 Basic 4-8 | C16: =SUM('0040:4141'!C14) -> 3241.36 | D16: =SUM('0040:4141'!D14) -> 3189.12 | E16: =SUM('0040:4141'!E14) -> 6430.48 | F16: 1 | H16: =SUM('0040:4141'!I14) -> 6430.48 | I16: =SUM('0040:4141'!J14) -> 35774865
A17: 112 Basic 4-8 with ESE Services | C17: =SUM('0040:4141'!C15) -> 638.87 | D17: =SUM('0040:4141'!D15) -> 629.76 | E17: =SUM('0040:4141'!E15) -> 1268.63 | F17: 1 | H17: =SUM('0040:4141'!I15) -> 1268.63 | I17: =SUM('0040:4141'!J15) -> 7057803.9
A18: 103 Basic 9-12 | C18: =SUM('0040:4141'!C16) -> 2167.92 | D18: =SUM('0040:4141'!D16) -> 2195.32 | E18: =SUM('0040:4141'!E16) -> 4363.24 | F18: 0.972 | H18: =SUM('0040:4141'!I16) -> 4241.0692 | I18: =SUM('0040:4141'!J16) -> 23594456
A19: 113 Basic 9-12 with ESE Services | C19: =SUM('0040:4141'!C17) -> 657.85 | D19: =SUM('0040:4141'!D17) -> 669 | E19: =SUM('0040:4141'!E17) -> 1326.85 | F19: 0.972 | H19: =SUM('0040:4141'!I17) -> 1289.6981 | I19: =SUM('0040:4141'!J17) -> 7175012.6
A20: 254 ESE Level 4 (Grade Level PK-3) | C20: =SUM('0040:4141'!C18) -> 99 | D20: =SUM('0040:4141'!D18) -> 89.44 | E20: =SUM('0040:4141'!E18) -> 188.44 | F20: 3.609 | H20: =SUM('0040:4141'!I18) -> 680.08 | I20: =SUM('0040:4141'!J18) -> 3783507.6
A21: 254 ESE Level 4 (Grade Level 4-8) | C21: =SUM('0040:4141'!C19) -> 70 | D21: =SUM('0040:4141'!D19) -> 64.5 | E21: =SUM('0040:4141'!E19) -> 134.5 | F21: 3.609 | H21: =SUM('0040:4141'!I19) -> 485.4105 | I21: =SUM('0040:4141'!J19) -> 2700497.5
A22: 254 ESE Level 4 (Grade Level 9-12) | C22: =SUM('0040:4141'!C20) -> 74.85 | D22: =SUM('0040:4141'!D20) -> 72.41 | E22: =SUM('0040:4141'!E20) -> 147.26 | F22: 3.609 | H22: =SUM('0040:4141'!I20) -> 531.4614 | I22: =SUM('0040:4141'!J20) -> 2956693.7
A23: 255 ESE Level 5 (Grade Level PK-3) | C23: =SUM('0040:4141'!C21) -> 49.5 | D23: =SUM('0040:4141'!D21) -> 67.47 | E23: =SUM('0040:4141'!E21) -> 116.97 | F23: 6.064 | H23: =SUM('0040:4141'!I21) -> 709.3061 | I23: =SUM('0040:4141'!J21) -> 3946102
A24: 255 ESE Level 5 (Grade Level 4-8) | C24: =SUM('0040:4141'!C22) -> 64.5 | D24: =SUM('0040:4141'!D22) -> 71 | E24: =SUM('0040:4141'!E22) -> 135.5 | F24: 6.064 | H24: =SUM('0040:4141'!I22) -> 821.672 | I24: =SUM('0040:4141'!J22) -> 4571230.3
A25: 255 ESE Level 5 (Grade Level 9-12) | C25: =SUM('0040:4141'!C23) -> 45 | D25: =SUM('0040:4141'!D23) -> 45.55 | E25: =SUM('0040:4141'!E23) -> 90.55 | F25: 6.064 | H25: =SUM('0040:4141'!I23) -> 549.0952 | I25: =SUM('0040:4141'!J23) -> 3054796.3
... A29: 300 Career Education (Grades 9-12) | C29: =SUM('0040:4141'!C27) -> 307.3 | D29: =SUM('0040:4141'!D27) -> 298.26 | E29: =SUM('0040:4141'!E27) -> 605.56 | F29: 1.081 | H29: =SUM('0040:4141'!I27) -> 654.6104 | I29: =SUM('0040:4141'!J27) -> 3641811.9
A30: Totals non-virtual schools | C30: =SUM(C14:C29) -> 10590.24 | D30: =SUM(D14:D29) -> 10531.68 | E30: =SUM(E14:E29) -> 21121.92 | H30: =SUM('0040:4141'!I28) -> 24764.2 | I30: =SUM('0040:4141'!J28) -> 1.3777135e+08 | K30: 1.3894844e+08
A31: Virtual schools ($5,476.28/FTE) | C31: =SUM('0040:4141'!C29) -> 0 | D31: =SUM('0040:4141'!D29) -> 0 | E31: =IF(D$30=0,C31*2,C31+D31) -> 0 | F31: 0 | H31: =ROUND(E31*F31,4) -> 0
A32: Totals all schools | C32: =SUM(C30:C31) -> 10590.24 | D32: =SUM(D30:D31) -> 10531.68 | E32: =SUM(E30:E31) -> 21121.92 | I32: =SUM('0040:4141'!J30) -> 0
A34: Letters in Parentheses Refer to Notes at Bottom of Worksheet:
I36: 2018-19
C37: =C11 -> Oct 2025 | D37: =D11 -> Feb 2026 | E37: Total | I37: Base Funding
A38: Additional FTE (a) | C38: FTE | D38: FTE | E38: FTE | I38: (WFTE x BSA x DCD)
A39: Advanced Placement | C39: 0 | D39: 0 | E39: =+C39+D39 -> 0
A40: International Baccalaureate | C40: 0 | D40: 0 | E40: =+C40+D40 -> 0
A41: Advanced International Certificate | C41: 0 | D41: 0 | E41: =+C41+D41 -> 0
A42: Industry Certified Career Education | C42: 0 | D42: 0 | E42: =+C42+D42 -> 0
A43: Early High School Graduation | C43: 0 | D43: 0 | E43: =+C43+D43 -> 0
A44: Small District ESE Supplement | C44: 0 | D44: 0 | E44: =+C44+D44 -> 0
B45: Total Additional FTE | C45: =SUM(C39:C44) -> 0 | D45: =SUM(D39:D44) -> 0 | E45: =SUM(E39:E44) -> 0 | H45: Additional Base Funds | I45: =SUM(I39:I44) -> 0
B47: Total Funded Weighted FTE | E47: =H30+E45 -> 24764.2 | H47: Total Base Funding | I47: =SUM(I45,I32) -> 0
A50: 1B. Classroom Teacher & Other Instructional Personnel Salary Increase
...

Sheet Surv2-3
A1: Count 2 | H1: Count 3
A2: School # | B2: Program | C2: Prog Total | D2: PK-3 | E2: 4-8 | F2: 9-12 | H2: School # | I2: Program | J2: Prog Total | K2: PK-3 | L2: 4-8 | M2: 9-12 | P2: Sch No | Q2: Sch (0000) | R2: Prog | S2: Count 2 Unwtd | U2: Sch No | V2: Sch (0000) | W2: Prog | X2: Count 3 Unwtd | Z2: Sch (0000) | AA2: FTE
A3: 0040 | B3: 102 | C3: 6.75 | D3: 0 | E3: 6.75 | F3: 0 | H3: 0040 | I3: 102 | J3: 7.5 | K3: 0 | L3: 7.5 | M3: 0 | P3: 11 | Q3: =TEXT(P3,"0000") -> 0011 | R3: 101 | S3: 126.5 | U3: 11 | V3: =TEXT(U3,"0000") -> 0011 | W3: 101 | X3: 123.96 | Z3: 0040 | AA3: =SUMIF(Q:Q,Z3,S:S)+SUMIF(V:V,Z3,X:X) -> 23.72
A4: 0040 | B4: 112 | C4: 3.5 | D4: 0 | E4: 3.5 | F4: 0 | H4: 0040 | I4: 112 | J4: 3.97 | K4: 0 | L4: 3.97 | M4: 0 | P4: 11 | Q4: =TEXT(P4,"0000") -> 0011 | R4: 102 | S4: 148.52 | U4: 11 | V4: =TEXT(U4,"0000") -> 0011 | W4: 102 | X4: 147.49 | Z4: 0571 | AA4: =SUMIF(Q:Q,Z4,S:S)+SUMIF(V:V,Z4,X:X) -> 126
A5: 0040 | B5: 130 | C5: 1.25 | D5: 0 | E5: 1.25 | F5: 0 | H5: 0040 | I5: 130 | J5: 0.84 | K5: 0 | L5: 0.84 | M5: 0 | P5: 11 | Q5: =TEXT(P5,"0000") -> 0011 | R5: 111 | S5: 60.45 | U5: 11 | V5: =TEXT(U5,"0000") -> 0011 | W5: 111 | X5: 63.55 | Z5: 0100 | AA5: =SUMIF(Q:Q,Z5,S:S)+SUMIF(V:V,Z5,X:X) -> 27
A6: 0100 | B6: 113 | C6: 0.5 | D6: 0 | E6: 0 | F6: 0.5 | H6: 0100 | I6: 254 | J6: 9 | K6: 0 | L6: 0 | M6: 9 | P6: 11 | Q6: =TEXT(P6,"0000") -> 0011 | R6: 112 | S6: 50.5 | U6: 11 | V6: =TEXT(U6,"0000") -> 0011 | W6: 112 | X6: 50.23 | Z6: 1461 | AA6: =SUMIF(Q:Q,Z6,S:S)+SUMIF(V:V,Z6,X:X) -> 830.39
A7: 0100 | B7: 254 | C7: 10 | D7: 0 | E7: 0 | F7: 10 | H7: 0100 | I7: 255 | J7: 4.5 | K7: 0 | L7: 0 | M7: 4.5 | P7: 11 | Q7: =TEXT(P7,"0000") -> 0011 | R7: 130 | S7: 37.63 | U7: 11 | V7: =TEXT(U7,"0000") -> 0011 | W7: 130 | X7: 34.42 | Z7: 1571 | AA7: =SUMIF(Q:Q,Z7,S:S)+SUMIF(V:V,Z7,X:X) -> 1103.25
A8: 0100 | B8: 255 | C8: 3 | D8: 0 | E8: 0 | F8: 3 | H8: 0571 | I8: 102 | J8: 2.56 | K8: 0 | L8: 2.56 | M8: 0 | P8: 11 | Q8: =TEXT(P8,"0000") -> 0011 | R8: 254 | S8: 1 | U8: 11 | V8: =TEXT(U8,"0000") -> 0011 | W8: 254 | X8: 1 | Z8: 2521 | AA8: =SUMIF(Q:Q,Z8,S:S)+SUMIF(V:V,Z8,X:X) -> 73.6
A9: 0571 | B9: 102 | C9: 2.9 | D9: 0 | E9: 2.9 | F9: 0 | H9: 0571 | I9: 103 | J9: 54.84 | K9: 0 | L9: 0 | M9: 54.84 | P9: 11 | Q9: =TEXT(P9,"0000") -> 0011 | R9: 255 | S9: 0.48 | U9: 12 | V9: =TEXT(U9,"0000") -> 0012 | W9: 101 | X9: 118.16 | Z9: 2531 | AA9: =SUMIF(Q:Q,Z9,S:S)+SUMIF(V:V,Z9,X:X) -> 48.5
A10: 0571 | B10: 103 | C10: 26.72 | D10: 0 | E10: 0 | F10: 26.72 | H10: 0571 | I10: 112 | J10: 0.48 | K10: 0 | L10: 0.48 | M10: 0 | P10: 12 | Q10: =TEXT(P10,"0000") -> 0012 | R10: 101 | S10: 118.76 | U10: 12 | V10: =TEXT(U10,"0000") -> 0012 | W10: 102 | X10: 49.82 | Z10: 2791 | AA10: =SUMIF(Q:Q,Z10,S:S)+SUMIF(V:V,Z10,X:X) -> 173.06
A11: 0571 | B11: 112 | C11: 0.5 | D11: 0 | E11: 0.5 | F11: 0 | H11: 0571 | I11: 113 | J11: 20.6 | K11: 0 | L11: 0 | M11: 20.6 | P11: 12 | Q11: =TEXT(P11,"0000") -> 0012 | R11: 102 | S11: 51.34 | U11: 12 | V11: =TEXT(U11,"0000") -> 0012 | W11: 111 | X11: 30.09 | Z11: 2801 | AA11: =SUMIF(Q:Q,Z11,S:S)+SUMIF(V:V,Z11,X:X) -> 555.49
A12: 0571 | B12: 113 | C12: 9.43 | D12: 0 | E12: 0 | F12: 9.43 | H12: 0571 | I12: 130 | J12: 5.25 | K12: 0 | L12: 0.4 | M12: 4.85 | P12: 12 | Q12: =TEXT(P12,"0000") -> 0012 | R12: 111 | S12: 31.52 | U12: 12 | V12: =TEXT(U12,"0000") -> 0012 | W12: 112 | X12: 10.5 | Z12: 2911 | AA12: =SUMIF(Q:Q,Z12,S:S)+SUMIF(V:V,Z12,X:X) -> 778.53
A13: 0571 | B13: 130 | C13: 1.5 | D13: 0 | E13: 0.6 | F13: 0.9 | H13: 0571 | I13: 300 | J13: 0.76 | K13: 0 | L13: 0 | M13: 0.76 | P13: 12 | Q13: =TEXT(P13,"0000") -> 0012 | R13: 112 | S13: 11.74 | U13: 12 | V13: =TEXT(U13,"0000") -> 0012 | W13: 130 | X13: 107.54 | Z13: 2941 | AA13: =SUMIF(Q:Q,Z13,S:S)+SUMIF(V:V,Z13,X:X) -> 380.17
A14: 1461 | B14: 102 | C14: 73.38 | D14: 0 | E14: 73.38 | F14: 0 | H14: 1461 | I14: 102 | J14: 70.1 | K14: 0 | L14: 70.1 | M14: 0 | P14: 12 | Q14: =TEXT(P14,"0000") -> 0012 | R14: 130 | S14: 109.08 | U14: 12 | V14: =TEXT(U14,"0000") -> 0012 | W14: 254 | X14: 0.54 | Z14: 3083 | AA14: =SUMIF(Q:Q,Z14,S:S)+SUMIF(V:V,Z14,X:X) -> 179.39
A15: 1461 | B15: 103 | C15: 206.34 | D15: 0 | E15: 0 | F15: 206.34 | H15: 1461 | I15: 103 | J15: 203.7 | K15: 0 | L15: 0 | M15: 203.7 | P15: 12 | Q15: =TEXT(P15,"0000") -> 0012 | R15: 254 | S15: 0.29 | U15: 21 | V15: =TEXT(U15,"0000") -> 0021 | W15: 102 | X15: 373.67 | Z15: 3345 | AA15: =SUMIF(Q:Q,Z15,S:S)+SUMIF(V:V,Z15,X:X) -> 83
A16: 1461 | B16: 112 | C16: 10 | D16: 0 | E16: 10 | F16: 0 | H16: 1461 | I16: 112 | J16: 10.01 | K16: 0 | L16: 10.01 | M16: 0 | P16: 21 | Q16: =TEXT(P16,"0000") -> 0021 | R16: 102 | S16: 377.79 | U16: 21 | V16: =TEXT(U16,"0000") -> 0021 | W16: 112 | X16: 121.95 | Z16: 3362 | AA16: =SUMIF(Q:Q,Z16,S:S)+SUMIF(V:V,Z16,X:X) -> 160.99
A17: 1461 | B17: 113 | C17: 34.84 | D17: 0 | E17: 0 | F17: 34.84 | H17: 1461 | I17: 113 | J17: 32.42 | K17: 0 | L17: 0 | M17: 32.42 | P17: 21 | Q17: =TEXT(P17,"0000") -> 0021 | R17: 112 | S17: 124.47 | U17: 21 | V17: =TEXT(U17,"0000") -> 0021 | W17: 130 | X17: 80.44 | Z17: 3381 | AA17: =SUMIF(Q:Q,Z17,S:S)+SUMIF(V:V,Z17,X:X) -> 1049.84
A18: 1461 | B18: 130 | C18: 10.14 | D18: 0 | E18: 2.63 | F18: 7.51 | H18: 1461 | I18: 130 | J18: 9.67 | K18: 0 | L18: 1.5 | M18: 8.17 | P18: 21 | Q18: =TEXT(P18,"0000") -> 0021 | R18: 130 | S18: 82.3 | U18: 21 | V18: =TEXT(U18,"0000") -> 0021 | W18: 254 | X18: 1 | Z18: 3382 | AA18: =SUMIF(Q:Q,Z18,S:S)+SUMIF(V:V,Z18,X:X) -> 261.71
A19: 1461 | B19: 300 | C19: 88.4 | D19: 0 | E19: 0 | F19: 88.4 | H19: 1461 | I19: 300 | J19: 79.33 | K19: 0 | L19: 0 | M19: 79.33 | P19: 21 | Q19: =TEXT(P19,"0000") -> 0021 | R19: 254 | S19: 1 | U19: 31 | V19: =TEXT(U19,"0000") -> 0031 | W19: 101 | X19: 105.44 | Z19: 3391 | AA19: =SUMIF(Q:Q,Z19,S:S)+SUMIF(V:V,Z19,X:X) -> 0
A20: 1571 | B20: 103 | C20: 286.32 | D20: 0 | E20: 0 | F20: 286.32 | H20: 1571 | I20: 102 | J20: 0.11 | K20: 0 | L20: 0.11 | M20: 0 | P20: 31 | Q20: =TEXT(P20,"0000") -> 0031 | R20: 101 | S20: 123.31 | U20: 31 | V20: =TEXT(U20,"0000") -> 0031 | W20: 102 | X20: 60.95 | Z20: 3394 | AA20: =SUMIF(Q:Q,Z20,S:S)+SUMIF(V:V,Z20,X:X) -> 192.97
A21: 1571 | B21: 113 | C21: 144.73 | D21: 0 | E21: 0 | F21: 144.73 | H21: 1571 | I21: 103 | J21: 273.25 | K21: 0 | L21: 0 | M21: 273.25 | P21: 31 | Q21: =TEXT(P21,"0000") -> 0031 | R21: 102 | S21: 62.45 | U21: 31 | V21: =TEXT(U21,"0000") -> 0031 | W21: 111 | X21: 108.3 | Z21: 3395 | AA21: =SUMIF(Q:Q,Z21,S:S)+SUMIF(V:V,Z21,X:X) -> 537
A22: 1571 | B22: 130 | C22: 1.51 | D22: 0 | E22: 0 | F22: 1.51 | H22: 1571 | I22: 113 | J22: 137.68 | K22: 0 | L22: 0 | M22: 137.68 | P22: 31 | Q22: =TEXT(P22,"0000") -> 0031 | R22: 111 | S22: 89.86 | U22: 31 | V22: =TEXT(U22,"0000") -> 0031 | W22: 112 | X22: 58.82 | Z22: 3396 | AA22: =SUMIF(Q:Q,Z22,S:S)+SUMIF(V:V,Z22,X:X) -> 702.78
A23: 1571 | B23: 300 | C23: 127.35 | D23: 0 | E23: 0 | F23: 127.35 | H23: 1571 | I23: 130 | J23: 1.33 | K23: 0 | L23: 0 | M23: 1.33 | P23: 31 | Q23: =TEXT(P23,"0000") -> 0031 | R23: 112 | S23: 56.82 | U23: 31 | V23: =TEXT(U23,"0000") -> 0031 | W23: 130 | X23: 18.84 | Z23: 3398 | AA23: =SUMIF(Q:Q,Z23,S:S)+SUMIF(V:V,Z23,X:X) -> 102.32
A24: 2521 | B24: 113 | C24: 27.79 | D24: 0 | E24: 0 | F24: 27.79 | H24: 1571 | I24: 300 | J24: 126 | K24: 0 | L24: 0 | M24: 126 | P24: 31 | Q24: =TEXT(P24,"0000") -> 0031 | R24: 130 | S24: 20.88 | U24: 31 | V24: =TEXT(U24,"0000") -> 0031 | W24: 254 | X24: 0.5 | Z24: 3400 | AA24: =SUMIF(Q:Q,Z24,S:S)+SUMIF(V:V,Z24,X:X) -> 91.18
A25: 2521 | B25: 254 | C25: 9.35 | D25: 0 | E25: 0 | F25: 9.35 | H25: 2521 | I25: 113 | J25: 27.19 | K25: 0 | L25: 0 | M25: 27.19 | P25: 31 | Q25: =TEXT(P25,"0000") -> 0031 | R25: 254 | S25: 0.5 | U25: 40 | V25: =TEXT(U25,"0000") -> 0040 | W25: 102 | X25: 7.5 | Z25: 3401 | AA25: =SUMIF(Q:Q,Z25,S:S)+SUMIF(V:V,Z25,X:X) -> 395.41
A26: 2531 | B26: 113 | C26: 11.5 | D26: 0 | E26: 0 | F26: 11.5 | H26: 2521 | I26: 254 | J26: 9.36 | K26: 0 | L26: 0 | M26: 9.36 | P26: 40 | Q26: =TEXT(P26,"0000") -> 0040 | R26: 102 | S26: 6.7 | U26: 40 | V26: =TEXT(U26,"0000") -> 0040 | W26: 112 | X26: 3.97 | Z26: 3413 | AA26: =SUMIF(Q:Q,Z26,S:S)+SUMIF(V:V,Z26,X:X) -> 391.82
A27: 2531 | B27: 254 | C27: 2 | D27: 0 | E27: 0.5 | F27: 1.5 | H27: 2531 | I27: 112 | J27: 0.5 | K27: 0 | L27: 0.5 | M27: 0 | P27: 40 | Q27: =TEXT(P27,"0000") -> 0040 | R27: 112 | S27: 3.48 | U27: 40 | V27: =TEXT(U27,"0000") -> 0040 | W27: 130 | X27: 0.84 | Z27: 3421 | AA27: =SUMIF(Q:Q,Z27,S:S)+SUMIF(V:V,Z27,X:X) -> 597.46
A28: 2531 | B28: 255 | C28: 10.5 | D28: 4 | E28: 2.5 | F28: 4 | H28: 2531 | I28: 113 | J28: 10.98 | K28: 0 | L28: 0 | M28: 10.98 | P28: 40 | Q28: =TEXT(P28,"0000") -> 0040 | R28: 130 | S28: 1.23 | U28: 51 | V28: =TEXT(U28,"0000") -> 0051 | W28: 101 | X28: 161.65 | Z28: 3431 | AA28: =SUMIF(Q:Q,Z28,S:S)+SUMIF(V:V,Z28,X:X) -> 997.39
A29: 2791 | B29: 111 | C29: 3 | D29: 3 | E29: 0 | F29: 0 | H29: 2531 | I29: 254 | J29: 2.52 | K29: 0 | L29: 0.5 | M29: 2.02 | P29: 51 | Q29: =TEXT(P29,"0000") -> 0051 | R29: 101 | S29: 159.46 | U29: 51 | V29: =TEXT(U29,"0000") -> 0051 | W29: 102 | X29: 99.93 | Z29: 3441 | AA29: =SUMIF(Q:Q,Z29,S:S)+SUMIF(V:V,Z29,X:X) -> 522.78
A30: 2791 | B30: 112 | C30: 1 | D30: 0 | E30: 1 | F30: 0 | H30: 2531 | I30: 255 | J30: 10.54 | K30: 4.02 | L30: 2.5 | M30: 4.02 | P30: 51 | Q30: =TEXT(P30,"0000") -> 0051 | R30: 102 | S30: 95.2 | U30: 51 | V30: =TEXT(U30,"0000") -> 0051 | W30: 111 | X30: 22.5 | Z30: 3924 | AA30: =SUMIF(Q:Q,Z30,S:S)+SUMIF(V:V,Z30,X:X) -> 407.17
A31: 2791 | B31: 254 | C31: 60.5 | D31: 36 | E31: 24.5 | F31: 0 | H31: 2791 | I31: 111 | J31: 1.04 | K31: 1.04 | L31: 0 | M31: 0 | P31: 51 | Q31: =TEXT(P31,"0000") -> 0051 | R31: 111 | S31: 20.5 | U31: 51 | V31: =TEXT(U31,"0000") -> 0051 | W31: 112 | X31: 14.5 | Z31: 3941 | AA31: =SUMIF(Q:Q,Z31,S:S)+SUMIF(V:V,Z31,X:X) -> 224.44
A32: 2791 | B32: 255 | C32: 22 | D32: 13.5 | E32: 8.5 | F32: 0 | H32: 2791 | I32: 254 | J32: 48.02 | K32: 28.52 | L32: 19.5 | M32: 0 | P32: 51 | Q32: =TEXT(P32,"0000") -> 0051 | R32: 112 | S32: 15 | U32: 51 | V32: =TEXT(U32,"0000") -> 0051 | W32: 130 | X32: 75.27 | Z32: 3961 | AA32: =SUMIF(Q:Q,Z32,S:S)+SUMIF(V:V,Z32,X:X) -> 0
A33: 2801 | B33: 101 | C33: 111.37 | D33: 111.37 | E33: 0 | F33: 0 | H33: 2791 | I33: 255 | J33: 37.5 | K33: 23.5 | L33: 14 | M33: 0 | P33: 51 | Q33: =TEXT(P33,"0000") -> 0051 | R33: 130 | S33: 77.35 | U33: 51 | V33: =TEXT(U33,"0000") -> 0051 | W33: 254 | X33: 1.5 | Z33: 3971 | AA33: =SUMIF(Q:Q,Z33,S:S)+SUMIF(V:V,Z33,X:X) -> 627.37
A34: 2801 | B34: 102 | C34: 59.9 | D34: 0 | E34: 59.9 | F34: 0 | H34: 2801 | I34: 101 | J34: 105.01 | K34: 105.01 | L34: 0 | M34: 0 | P34: 51 | Q34: =TEXT(P34,"0000") -> 0051 | R34: 254 | S34: 1.5 | U34: 61 | V34: =TEXT(U34,"0000") -> 0061 | W34: 101 | X34: 142.33 | Z34: 4001 | AA34: =SUMIF(Q:Q,Z34,S:S)+SUMIF(V:V,Z34,X:X) -> 639.52
A35: 2801 | B35: 111 | C35: 25 | D35: 25 | E35: 0 | F35: 0 | H35: 2801 | I35: 102 | J35: 57.85 | K35: 0 | L35: 57.85 | M35: 0 | P35: 61 | Q35: =TEXT(P35,"0000") -> 0061 | R35: 101 | S35: 152.86 | U35: 61 | V35: =TEXT(U35,"0000") -> 0061 | W35: 102 | X35: 89.69 | Z35: 4002 | AA35: =SUMIF(Q:Q,Z35,S:S)+SUMIF(V:V,Z35,X:X) -> 875.02
A36: 2801 | B36: 112 | C36: 14 | D36: 0 | E36: 14 | F36: 0 | H36: 2801 | I36: 111 | J36: 29.51 | K36: 29.51 | L36: 0 | M36: 0 | P36: 61 | Q36: =TEXT(P36,"0000") -> 0061 | R36: 102 | S36: 87.2 | U36: 61 | V36: =TEXT(U36,"0000") -> 0061 | W36: 111 | X36: 78 | Z36: 4012 | AA36: =SUMIF(Q:Q,Z36,S:S)+SUMIF(V:V,Z36,X:X) -> 531.06
A37: 2801 | B37: 130 | C37: 69.73 | D37: 57.63 | E37: 12.1 | F37: 0 | H37: 2801 | I37: 112 | J37: 14.98 | K37: 0 | L37: 14.98 | M37: 0 | P37: 61 | Q37: =TEXT(P37,"0000") -> 0061 | R37: 111 | S37: 69.99 | U37: 61 | V37: =TEXT(U37,"0000") -> 0061 | W37: 112 | X37: 50.8 | Z37: 4013 | AA37: =SUMIF(Q:Q,Z37,S:S)+SUMIF(V:V,Z37,X:X) -> 991.76
A38: 2911 | B38: 101 | C38: 129.24 | D38: 129.24 | E38: 0 | F38: 0 | H38: 2801 | I38: 130 | J38: 68.02 | K38: 55.93 | L38: 12.09 | M38: 0 | P38: 61 | Q38: =TEXT(P38,"0000") -> 0061 | R38: 112 | S38: 52.79 | U38: 61 | V38: =TEXT(U38,"0000") -> 0061 | W38: 130 | X38: 23.39 | Z38: 4020 | AA38: =SUMIF(Q:Q,Z38,S:S)+SUMIF(V:V,Z38,X:X) -> 1235.6
A39: 2911 | B39: 102 | C39: 171.85 | D39: 0 | E39: 171.85 | F39: 0 | H39: 2911 | I39: 101 | J39: 128.4 | K39: 128.4 | L39: 0 | M39: 0 | P39: 61 | Q39: =TEXT(P39,"0000") -> 0061 | R39: 130 | S39: 23.24 | U39: 61 | V39: =TEXT(U39,"0000") -> 0061 | W39: 254 | X39: 2 | Z39: 4030 | AA39: =SUMIF(Q:Q,Z39,S:S)+SUMIF(V:V,Z39,X:X) -> 0
A40: 2911 | B40: 111 | C40: 30.5 | D40: 30.5 | E40: 0 | F40: 0 | H40: 2911 | I40: 102 | J40: 167.87 | K40: 0 | L40: 167.87 | M40: 0 | P40: 61 | Q40: =TEXT(P40,"0000") -> 0061 | R40: 254 | S40: 2 | U40: 71 | V40: =TEXT(U40,"0000") -> 0071 | W40: 101 | X40: 85.16 | Z40: 4031 | AA40: =SUMIF(Q:Q,Z40,S:S)+SUMIF(V:V,Z40,X:X) -> 398.09
...

Sheet 0040
A1: 50 | B1: (Insert district number in cell A1, enter, then strike F9. Your district data then pulls from Calculation Detail Sheets) | R1: 50 | S1: (Insert district number in cell A1, enter, then strike F9. Your district data then pulls from Calculation Detail Sheets)
A2: Revenue Estimate Worksheet: Palm Beach Preparatory Middle School 0040 | I2: =RIGHT(A2,4) -> 0040 | R2: =Revenue_Estimate_Worksheet_for___________Charter_School -> Revenue Estimate Worksheet: Palm Beach Preparatory Middle School 0040
A3: Based on the 2025-26 Third Calculation Worksheet | R3: Based on the 2025-26 FEFP Second Calculation
A4: School District: | D4: Palm Beach | H4: =Consolidated!H4 -> 46204 | R4: School District: | T4: Palm Beach
A5: 1A. 2025-26 FEFP State and Local Funding | R5: 1A. 2025-26 FEFP State and Local Funding
A6: Base Student Allocation | E6: =Consolidated!$C$8 -> 5372.6 | G6: Comparable Wage Factor: | I6: =Consolidated!$H$8 -> 1.0355 | R6: Base Student Allocation | T6: =E6 -> 5372.6 | V6: Comparable Wage Factor: | X6: 1.0355
G7: Small District Factor | I7: =Consolidated!$H$9 -> 1 | O7: =IF(AND(C13>=C15, C13>=C17), "E", "-") -> - | V7: Small District Factor | X7: 1
J8: 2025-26 | O8: =IF(AND(C15>C17, C15>C13), "M", "-") -> M | Y8: 2025-26
C9: =Consolidated!C$11 -> Oct 2025 | D9: =Consolidated!D$11 -> Feb 2026 | G9: Program | I9: Weighted FTE | J9: Base Funding | O9: =IF(AND(C17>C15, C17>C13), "H", "-") -> - | V9: Program | X9: Weighted FTE | Y9: Base Funding
A10: Program | C10: FTE | D10: FTE | E10: Total FTE | G10: Cost Factor | I10: (2) x (3) | J10: (WFTE x BSA x CWF x SDF) | R10: Program | T10: Number of FTE | V10: Cost Factor | X10: (2) x (3) | Y10: (WFTE x BSA x CWF x SDF)
A11: (1) | E11: (2) | G11: (3) | I11: (4) | J11: (5) | R11: (1) | T11: (2) | V11: (3) | X11: (4) | Y11: (5)
A12: 101 Basic K-3 | C12: =SUMIFS('Surv2-3'!D:D,'Surv2-3'!$A:$A,$I$2,'Surv2-3'!$B:$B,$O12) -> 0 | D12: =SUMIFS('Surv2-3'!K:K,'Surv2-3'!$H:$H,$I$2,'Surv2-3'!$I:$I,$O12) -> 0 | E12: =IF($D$28=0,C12*2,C12+D12) -> 0 | G12: =Consolidated!$F14 -> 1.108 | H12: =Consolidated!$H$9 -> 1 | I12: =ROUND(E12*G12,4) -> 0 | J12: =ROUND(ROUND(ROUND(I12*$E$6,4)*($I$6),2)*(MAX($I$7,1)),2) -> 0 | O12: =LEFT(R12,3) -> 101 | R12: 101 Basic K-3 | T12: =IF($I$111=1,E12,0) -> 0 | V12: 1 | X12: =ROUND(T12*V12,4) -> 0 | Y12: =ROUND(ROUND(ROUND(X12*$E$6,4)*($I$6),2)*(MAX($I$7,1)),2) -> 0
A13: 111 Basic K-3 with ESE Services | C13: =SUMIFS('Surv2-3'!D:D,'Surv2-3'!$A:$A,$I$2,'Surv2-3'!$B:$B,$O13) -> 0 | D13: =SUMIFS('Surv2-3'!K:K,'Surv2-3'!$H:$H,$I$2,'Surv2-3'!$I:$I,$O13) -> 0 | E13: =IF($D$28=0,C13*2,C13+D13) -> 0 | G13: =Consolidated!$F15 -> 1.108 | H13: =Consolidated!$H$9 -> 1 | I13: =ROUND(E13*G13,4) -> 0 | J13: =ROUND(ROUND(ROUND(I13*$E$6,4)*($I$6),2)*(MAX($I$7,1)),2) -> 0 | O13: =LEFT(R13,3) -> 111 | R13: 111 Basic K-3 with ESE Services | T13: =IF($I$111=1,E13,0) -> 0 | V13: 1 | X13: =ROUND(T13*V13,4) -> 0 | Y13: =ROUND(ROUND(ROUND(X13*$E$6,4)*($I$6),2)*(MAX($I$7,1)),2) -> 0
A14: 102 Basic 4-8 | C14: =SUMIFS('Surv2-3'!E:E,'Surv2-3'!$A:$A,$I$2,'Surv2-3'!$B:$B,$O14) -> 6.75 | D14: =SUMIFS('Surv2-3'!L:L,'Surv2-3'!$H:$H,$I$2,'Surv2-3'!$I:$I,$O14) -> 7.5 | E14: =IF($D$28=0,C14*2,C14+D14) -> 14.25 | G14: =Consolidated!$F16 -> 1 | H14: =Consolidated!$H$9 -> 1 | I14: =ROUND(E14*G14,4) -> 14.25 | J14: =ROUND(ROUND(ROUND(I14*$E$6,4)*($I$6),2)*(MAX($I$7,1)),2) -> 79277.41 | O14: =LEFT(R14,3) -> 102 | R14: 102 Basic 4-8 | T14: =IF($I$111=1,E14,0) -> 0 | V14: 1 | X14: =ROUND(T14*V14,4) -> 0 | Y14: =ROUND(ROUND(ROUND(X14*$E$6,4)*($I$6),2)*(MAX($I$7,1)),2) -> 0
A15: 112 Basic 4-8 with ESE Services | C15: =SUMIFS('Surv2-3'!E:E,'Surv2-3'!$A:$A,$I$2,'Surv2-3'!$B:$B,$O15) -> 3.5 | D15: =SUMIFS('Surv2-3'!L:L,'Surv2-3'!$H:$H,$I$2,'Surv2-3'!$I:$I,$O15) -> 3.97 | E15: =IF($D$28=0,C15*2,C15+D15) -> 7.47 | G15: =Consolidated!$F17 -> 1 | H15: =Consolidated!$H$9 -> 1 | I15: =ROUND(E15*G15,4) -> 7.47 | J15: =ROUND(ROUND(ROUND(I15*$E$6,4)*($I$6),2)*(MAX($I$7,1)),2) -> 41558.05 | O15: =LEFT(R15,3) -> 112 | R15: 112 Basic 4-8 with ESE Services | T15: =IF($I$111=1,E15,0) -> 0 | V15: 1 | X15: =ROUND(T15*V15,4) -> 0 | Y15: =ROUND(ROUND(ROUND(X15*$E$6,4)*($I$6),2)*(MAX($I$7,1)),2) -> 0
