Workbook

Sheet Introduction & Rating Scale
A1: READ Act
A2: Request for Advisory List Submissions
A3: Professional Development Review
A4: Review Support - Rubric
A5: 2019-2022 Review Cycle
A7: The Colorado Reading to Ensure Academic Development Act (READ Act) requires the Colorado Department of Education to create an advisory list of professional development programs that are related to addressing significant reading deficiencies and to applying evidence - based intervention instruction and strategies, in addition to programs related to scientifically based and evidence - based training in teaching reading (C.R.S. 22-7-1209). The professional development review process to create an advisory list involves the use of rubrics to evaluate professional development for evidence-based training in teaching reading, program specific training, and other professional development opportunities that support the implementation of the science of reading. The professional development for evidence-based training in teaching reading must meet all the minimum statute requirements listed below to move forward for review. If the professional development does not meet the minimum statute requirements, the review will be stopped and the vendor will be notified that the professional development has not met the requirements to be approved for the Colorado Department of Education Advisory List for Professional Development. (Rubric on next tab)
A9: If the professional development meets the minimum statute requirements above, the professional development will be reviewed utilizing a rubric designed in two phases. In Phase 1, expert reviewers will evaluate professional development on the key elements and features of scientifically-based reading instruction and best practices in professional learning including: • research alignment and effectiveness • elements of effective professional development • related elements Professional development that meet criteria in Phase 1 of the rubric will move on to Phase 2. Phase 2 review involves evaluating the extent to which professional development implement effective instructional practices for teaching the essential early literacy skills including but not limited to those addressed in the educator preparation literacy standards in the Colorado Elementary Education Endorsement (Grades K-6) Standards 1 CCR 301-101. Phase 1 and Phase 2 of the rubric are broken down into sections. Professional development programs that meet the criteria in phase 1 will move forward to phase 2. Each section in phase 2 has a minimum threshold for points that must be reached in order to receive credit for the section.
A10: Criteria shaded gray are required elements; they must receive a score of “Met” in order to receive points, and they must be “met” in order to pass the section. Individual criterion is scored using the following rating scale: Fully Met or Met = 2 points Items marked as Fully Met should have evidence of all components of the criteria throughout the program. Reviewers are encouraged to note evidence and feedback for the publisher. Partially Met = 1 point Items should be marked as Partially Met when some aspect of the criteria is met but others are not, and/or the criteria is met in one part of the program but not met in others. Reviewers are encouraged to note evidence and feedback for the publisher. Not Met = 0 points Items are marked as Not Met when no evidence of the criteria could be found in the program materials submitted by the publisher, or when there is evidence of a practice that is contrary to the criteria. Reviewers should note feedback for the publisher.

Sheet Statute Requirements
A1: Minimum Statute and State Board Rule Requirements
A3: Criteria: To move forward, all components above must be marked as “met”.
B4: Minimum Statute and Rule Requirements The professional development must meet all minimum statute and rule requirements to move forward with the review. | C4: Rating | D4: Score | E4: Evidence/Feedback
A5: 1 | B5: Includes rigorous evaluations of learning throughout the course. (e.g. true/false, multiple choice, short answer, essay, etc.) Evaluations of learning throughout the course align with course content and measure participant mastery of the content. | C5: Met | D5: =IF(C5="Met", 2, 0) -> 2
A6: 2 | B6: Includes a rigorous end of course assessment. End of course evaluation aligns with course content and measures participant mastery of the content. | C6: Met | D6: =IF(C6="Met", 2, 0) -> 2
C7: Decision: | D7: All marked Met (Score Phase 1)

Sheet Usability
A1: Usability
B3: Section S: USABILITY This section will receive a score, but the score of this section will not be included in the final decision. | C3: Rating | D3: Score | E3: Evidence/Feedback
A4: 1 | B4: Delivery format has been provided (e.g. face-to-face, online only, online with a face to face component) | C4: Fully met | D4: =IF(C4="Fully met", 2, IF(C4="Partially met",1, 0)) -> 2 | E4: Face-to-Face format
A5: 2 | B5: Required components necessary to ensure effective results and improving outcomes has been clearly stated and described | C5: Fully met | D5: =IF(C5="Fully met", 2, IF(C5="Partially met",1, 0)) -> 2
A6: 3 | B6: Pacing of professional development has been provided | C6: Fully met | D6: =IF(C6="Fully met", 2, IF(C6="Partially met",1, 0)) -> 2 | E6: 8 hour course.
A7: 4 | B7: Clear explanation has been provided on how any direct learning provided will transfer to practice (see application, Appendix B) | C7: Fully met | D7: =IF(C7="Fully met", 2, IF(C7="Partially met",1, 0)) -> 2
C8: Total earned points for Section S: | D8: =SUM(D4:D7) -> 8 | E8: Notes:
D9: out of 8

Sheet Phase 1
A1: Phase 1: Key Elements and Features of Scientifically-Based Reading Instruction
B3: Section D: Reading Development Theory The professional development: *gray shaded criterion must be "met" in order to receive credit for this section. | C3: Rating | D3: Score | E3: Evidence/Feedback
A4: 1 | B4: The theoretical model the professional development is grounded in aligns to the evidence base of how children learn to read and the science of reading, including teaching in the areas of phonemic awareness, phonics, vocabulary development, reading fluency including oral skills and reading comprehension. Includes authors of the model(s) and citations for the model(s) (Note in the feedback section if not included, but do not mark as not met if author and citations are not included). | C4: Met | D4: =IF(C4="Met", 2, 0) -> 2
A5: 2 | B5: Provides explanation of how the brain learns to read and the nature of reading difficulties that is aligned to scientifically-based reading research. | C5: Met | D5: =IF(C5="Met", 2, 0) -> 2
A6: 3 | B6: As described, the professional development directly impacts and supports understanding of the science of reading and evidence-based practices. | C6: Met | D6: =IF(C6="Met", 2, 0) -> 2
A7: 4 | B7: Provides an explanation of scientifically and evidence-based practices in teaching reading to address the needs of English Learners. - Must include an explanation of the differences and similarities in the development of literacy in English between English learners and native English speakers. | C7: Met | D7: =IF(C7="Met", 2, 0) -> 2
C8: Total Met Section D: | D8: =SUM(D4:D7) -> 8 | E8: out of 8
B10: Section E: Professional Development Model & Delivery *gray shaded criterion must be "met" in order to receive credit for this section. | C10: Rating | D10: Score | E10: Evidence/Feedback
A11: 1 | B11: Listed topic(s) align with scientifically based reading research. | C11: Met | D11: =IF(C11="Met", 2, 0) -> 2
A12: 2 | B12: Includes a clear scope and sequence with objectives for learning to explain the content of the professional development. | C12: Met | D12: =IF(C12="Met", 2, 0) -> 2
A13: 3 | B13: Alignment to the K-3 Colorado Academic Standards- Reading, Writing and Communicating | C13: Met | D13: =IF(C13="Met", 2, 0) -> 2
A14: 4 | B14: Includes a description of how demonstration of new learning is provided (e.g. modeling, videos, etc). | C14: Fully met | D14: =IF(C14="Fully met", 2, IF(C14="Partially met",1, 0)) -> 2
A15: 5 | B15: Includes opportunities for targeted practice of skills being taught as well as opportunities to reflect on the learning and how these skills can be applied in the classroom. | C15: Fully met | D15: =IF(C15="Fully met", 2, IF(C15="Partially met",1, 0)) -> 2
A16: 6 | B16: Includes built-in interactive learning opportunities that align with the content. Examples include: videos, application of the content, required discussions, reflection, etc. | C16: Fully met | D16: =IF(C16="Fully met", 2, IF(C16="Partially met",1, 0)) -> 2
A17: 7 | B17: Includes instruction in strategies that are evidence-based and grounded in solid research of proven effectiveness, including differentiation of instruction for English Learners. | C17: Fully met | D17: =IF(C17="Fully met", 2, IF(C17="Partially met",1, 0)) -> 2
C18: Total Met Section E: | D18: =SUM(D11:D17) -> 14 | E18: out of 14
B20: Section F: Minimum Statute and Rule Requirements *gray shaded criterion must be “met” in order to receive credit for this section. | C20: Rating | D20: Score | E20: Evidence/Feedback
A21: 1 | B21: Includes rigorous evaluations of learning throughout the course. (e.g. true/false, multiple choice, short answer, essay, etc.) Evaluations of learning throughout the course align with course content and measure participant mastery of the content. | C21: ='Statute Requirements'!C5 -> Met | D21: ='Statute Requirements'!D5 -> 2 | E21: ='Statute Requirements'!E5 -> 0
A22: 2 | B22: Includes a rigorous end of course assessment. End of course evaluation aligns with course content and measures participant mastery of the content. | C22: ='Statute Requirements'!C6 -> Met | D22: ='Statute Requirements'!D6 -> 2 | E22: ='Statute Requirements'!E6 -> 0
C23: Total Met Section F: | D23: =SUM(D21:D22) -> 4 | E23: out of 4
B25: Section G: Theory of Action & Documentation of Effectiveness *gray shaded criterion must be “met” in order to receive credit for this section. | C25: Rating | D25: Score | E25: Evidence/Feedback
A26: 1 | B26: A well-specified logic model that is informed by research or an evaluation that suggests how the program is likely to improve relevant outcomes. | C26: Met | D26: =IF(C26="Met", 2, 0) -> 2 | E26: Vendor provided a logic model.
A27: 2 | B27: Provides evidence that demonstrates professional development has improved student outcomes and supports with closing the achievement gap across all disaggregated student groups. | C27: Fully met | D27: =IF(C27="Fully met", 2, IF(C27="Partially met",1, 0)) -> 2 | E27: Vendor provided evidence of effectiveness.
C28: Total Met Section G: | D28: =SUM(D26:D27) -> 4 | E28: out of 4
B30: Section H: Ongoing Support and Training Staff | C30: Rating | D30: Score | E30: Evidence/Feedback
A31: 1 | B31: Ensures standardization of content for program delivery (e.g., presenter materials, delivery formats, etc.) | C31: Fully met | D31: =IF(C31="Fully met", 2, IF(C31="Partially met",1, 0)) -> 2
A32: 2 | B32: Minimum staff qualifications are provided & documentation of staff knowledge for the following: The science of reading and evidence-based practices Adult learning theory Effective delivery of content If scoring a fully online PD, give full credit for this component and write “does not apply - online PD” in the Evidence/Feedback section of the rubric. | C32: Fully met | D32: =IF(C32="Fully met", 2, IF(C32="Partially met",1, 0)) -> 2
A33: 3 | B33: Staff/presenters are effectively trained and supported to deliver the professional development with fidelity (e.g. gradual release, observation/feedback, technical support, reflection, participant feedback, etc.) If scoring a fully online PD, give full credit for this component and write “does not apply - online PD” in the Evidence/Feedback section of the rubric. | C33: Fully met | D33: =IF(C33="Fully met", 2, IF(C33="Partially met",1, 0)) -> 2
C34: Total Met Section H: | D34: =SUM(D31:D33) -> 6 | E34: out of 6
B36: Rating Summary
B37: Criteria
B38: To move forward, a program must be marked as "Met" in all sections shaded gray as well as receive a score of 28 points or higher.
C39: All sections shaded gray are marked as met:
B40: Total Points: | C40: =SUM(D8+D18+D23+D28+D34) -> 36
C41: Decision: | D41: Program moves to Phase 2

Sheet Phase 2
A1: Phase 2: Alignment to Colorado Teacher Standards
B3: Section I: ADMINISTRATION AND INTERPRETATION OF ASSESSMENTS| 1 CCR 301-101, 4.02(7) At a minimum, the vendor provides evidence that the product provides instruction in: | C3: Rating | D3: Score | E3: Evidence/Feedback
A4: 1 | B4: Effective administration of a wide variety of ongoing formal and informal assessments that are developmentally appropriate and responsive to the needs of diverse learners. | C4: Fully met | D4: =IF(C4="Fully met", 2, IF(C4="Partially met",1, 0)) -> 2
A5: 2 | B5: Effective utilization of assessment results and related data to plan for appropriate student instruction. | C5: Fully met | D5: =IF(C5="Fully met", 2, IF(C5="Partially met",1, 0)) -> 2
A6: 3 | B6: The differences among screening, diagnostic, outcome and progress monitoring assessments. | C6: Fully met | D6: =IF(C6="Fully met", 2, IF(C6="Partially met",1, 0)) -> 2
A7: 4 | B7: Basic principles of test construction including reliability, validity, norm-referencing and criterion-referencing. | C7: Fully met | D7: =IF(C7="Fully met", 2, IF(C7="Partially met",1, 0)) -> 2 | E7: Identified multiple tests that are within these categories.
A8: 5 | B8: The principles of progress monitoring and the use of graphs to indicate progress. | C8: Fully met | D8: =IF(C8="Fully met", 2, IF(C8="Partially met",1, 0)) -> 2
A9: 6 | B9: The range of skills typically assessed in terms of phonological skills, decoding skills, oral reading skills, spelling and writing. How the range of skills typically assessed in terms of phonological skills, decoding skills, oral reading skills, spelling and writing might impact students acquiring English. | C9: Fully met | D9: =IF(C9="Fully met", 2, IF(C9="Partially met",1, 0)) -> 2
A10: 7 | B10: The content and purposes of the most common diagnostic tests used by psychologists and educational evaluators. | C10: Fully met | D10: =IF(C10="Fully met", 2, IF(C10="Partially met",1, 0)) -> 2
A11: 8 | B11: Interpreting measures of reading comprehension and written expression to make appropriate instructional recommendations. (e.g. information a teacher can glean from a student’s writing to inform their instruction) | C11: Fully met | D11: =IF(C11="Fully met", 2, IF(C11="Partially met",1, 0)) -> 2
B12: Minimum points needed to pass section I: 13/16 | C12: Total earned points for Section I: | D12: =SUM(D4:D11) -> 16 | E12: Notes: Recommended in this topic area.
D13: out of 16
B15: Section J: LITERACY DEVELOPMENT|1 CCR 301-101, 4.02(5) At a minimum, the vendor provides evidence that the product provides instruction in: *gray shaded criterion must be at least “partially met” in order to receive credit for this section. | C15: Rating | D15: Score | E15: Evidence/Feedback
A16: 1 | B16: How the brain learns to read | C16: Fully met | D16: =IF(C16="Fully met", 2, IF(C16="Partially met",1, 0)) -> 2
A17: 2 | B17: Nature of reading difficulties | C17: Fully met | D17: =IF(C17="Fully met", 2, IF(C17="Partially met",1, 0)) -> 2
A18: 3 | B18: Understanding that learning to read is not natural. | C18: Fully met | D18: =IF(C18="Fully met", 2, IF(C18="Partially met",1, 0)) -> 2
A19: 4 | B19: The language processing requirements of proficient reading and writing including phonological (speech sound) processing; orthographic (print) processing; semantic (meaning) processing; syntactic (sentence level) processing; discourse (connected text level) processing. | C19: Fully met | D19: =IF(C19="Fully met", 2, IF(C19="Partially met",1, 0)) -> 2
A20: 5 | B20: Other aspects of cognition and behavior that affect reading and writing including attention, executive function, memory, processing speed and graphomotor control. | C20: Fully met | D20: =IF(C20="Fully met", 2, IF(C20="Partially met",1, 0)) -> 2
A21: 6 | B21: The environmental, cultural, and social factors that contribute to literacy development (e.g. language spoken at home, language and literacy experiences, literacy skills in other languages, cultural values). | C21: Fully met | D21: =IF(C21="Fully met", 2, IF(C21="Partially met",1, 0)) -> 2
A22: 7 | B22: Phases in the typical developmental progression of oral language (semantic, syntactic, pragmatic); phonological skill; printed word recognition; spelling; reading fluency; reading comprehension; and written expression. (Do not penalize if written expression is the only component missing.) | C22: Fully met | D22: =IF(C22="Fully met", 2, IF(C22="Partially met",1, 0)) -> 2
A23: 8 | B23: The known causal relationship among phonological skill, phonic decoding, spelling, accurate and automatic word recognition, text reading fluency, background knowledge, verbal reasoning skill, vocabulary, reading comprehension and writing. | C23: Fully met | D23: =IF(C23="Fully met", 2, IF(C23="Partially met",1, 0)) -> 2
A24: 9 | B24: How the relationships among the major components of literacy development change with reading development (i.e., changes in oral language, including phonological awareness; phonics and word recognition; spelling; reading and writing fluency; vocabulary; reading comprehension skills and strategies; written expression). (Do not penalize if written expression is the only component missing.) | C24: Fully met | D24: =IF(C24="Fully met", 2, IF(C24="Partially met",1, 0)) -> 2
A25: 10 | B25: Reasonable goals and expectations for learners at various stages of reading and writing development. | C25: Fully met | D25: =IF(C25="Fully met", 2, IF(C25="Partially met",1, 0)) -> 2
A26: 11 | B26: Provides an explanation of scientifically and evidence-based practices in teaching reading to English Learners. - must include an explanation of the differences and similarities in the development of literacy between English Learners and native speakers. | C26: Fully met | D26: =IF(C26="Fully met", 2, IF(C26="Partially met",1, 0)) -> 2
A27: 12 | B27: Provides an explanation of the relationship between second language oral proficiency and second language literacy. | C27: Fully met | D27: =IF(C27="Fully met", 2, IF(C27="Partially met",1, 0)) -> 2
A28: 13 | B28: The importance of providing frequent and intentional instruction focused on oral language development when supporting English Learners with literacy development. | C28: Fully met | D28: =IF(C28="Fully met", 2, IF(C28="Partially met",1, 0)) -> 2
B29: Minimum points needed to pass section J: 20/26 | C29: Total earned points for Section J: | D29: =SUM(D16:D28) -> 26 | E29: Notes: Recommended in this topic area.
D30: out of 26
B33: Section K: PHONOLOGY DEVELOPMENT|1 CCR 301-101, 4.02(8) At a minimum, the vendor provides evidence that the product provides instruction in: *gray shaded criterion must be at least “partially met” in order to receive credit for this section. | C33: Rating | D33: Score | E33: Evidence/Feedback
A34: 1 | B34: The general goal of phonological skill instruction and how to explicitly state the goal of any phonological teaching activity. | C34: Fully met | D34: =IF(C34="Fully met", 2, IF(C34="Partially met",1, 0)) -> 2
A35: 2 | B35: The progression of phonological skill development (i.e., rhyme, syllable, onset-rime, phoneme differentiation). | C35: Fully met | D35: =IF(C35="Fully met", 2, IF(C35="Partially met",1, 0)) -> 2
A36: 3 | B36: The differences among various phonological manipulations, including identifying, matching, blending, segmenting, substituting and deleting sounds. | C36: Fully met | D36: =IF(C36="Fully met", 2, IF(C36="Partially met",1, 0)) -> 2
A37: 4 | B37: The principles of phonological skill instruction: brief, multisensory, conceptual and auditory-verbal. | C37: Fully met | D37: =IF(C37="Fully met", 2, IF(C37="Partially met",1, 0)) -> 2
A38: 5 | B38: The reciprocal relationship among phonological processing, reading, spelling and vocabulary. | C38: Fully met | D38: =IF(C38="Fully met", 2, IF(C38="Partially met",1, 0)) -> 2
A39: 6 | B39: The phonological features of a second language, such as Spanish, and how they interfere with English pronunciation and phonics. | C39: Fully met | D39: =IF(C39="Fully met", 2, IF(C39="Partially met",1, 0)) -> 2
A40: 7 | B40: The phonological features of languages other than English, such as Spanish, and how they are similar to English and can support with transfer of phonemes that occur in both languages, such Spanish and English, and how they differ. | C40: Fully met | D40: =IF(C40="Fully met", 2, IF(C40="Partially met",1, 0)) -> 2
A41: 8 | B41: Scientifically and evidence-based instructional strategies, scaffolding, and differentiation for teaching phonological awareness to English Learners | C41: Fully met | D41: =IF(C41="Fully met", 2, IF(C41="Partially met",1, 0)) -> 2
A42: STRUCTURE OF LANGUAGE - Phonology|1 CCR 301-101, 4.02(6)
A43: At a minimum, the vendor provides evidence that the product provides instruction in:
A44: 9 | B44: Identification, pronunciation, classification and comparison of the consonant and vowel phonemes of English. | D44: =IF(C44="Fully met", 2, IF(C44="Partially met",1, 0)) -> 0
B45: Minimum points needed to pass section K: 14/18 | C45: Total earned points for Section K: | D45: =SUM(D34:D41,D44) -> 16 | E45: Notes: Recommended in this topic area.
D46: out of 18
B49: Section L: PHONICS AND WORD RECOGNITION DEVELOPMENT|1 CCR 301-101, 4.02(9) At a minimum, the vendor provides evidence that the product provides instruction in: *gray shaded criterion must be at least "partially met” in order to receive credit for this section. | C49: Rating | D49: Score | E49: Evidence/Feedback
A50: 1 | B50: The appropriate sequence of phonics concepts from basic to advanced. | C50: Fully met | D50: =IF(C50="Fully met", 2, IF(C50="Partially met",1, 0)) -> 2
A51: 2 | B51: Principles of explicit and direct teaching; model, lead, give guided practice and review. | C51: Fully met | D51: =IF(C51="Fully met", 2, IF(C51="Partially met",1, 0)) -> 2
A52: 3 | B52: The rationale for multisensory and multimodal techniques. | C52: Fully met | D52: =IF(C52="Fully met", 2, IF(C52="Partially met",1, 0)) -> 2
A53: 4 | B53: The routines of a complete lesson format, from the introduction of a word-recognition concept to fluent application in meaningful reading and writing. | C53: Fully met | D53: =IF(C53="Fully met", 2, IF(C53="Partially met",1, 0)) -> 2
A54: 5 | B54: Research-based adaptations of instruction for students with weaknesses in working memory, attention, executive function or processing speed. | C54: Fully met | D54: =IF(C54="Fully met", 2, IF(C54="Partially met",1, 0)) -> 2
A55: 6 | B55: Scientifically and evidence-based instructional strategies, scaffolds, and differentiation to develop English Learners': -letter knowledge -grapho-phonemic knowledge -decoding skills -morphological awareness | C55: Partially met | D55: =IF(C55="Fully met", 2, IF(C55="Partially met",1, 0)) -> 1 | E55: Need access to google folders to assess if grapho-phonemic knkowledge, decoding, and morphological awareness are included.
A56: STRUCTURE OF LANGUAGE - Orthography|1 CCR 301-101, 4.02(6)
A57: At a minimum, the vendor provides evidence that the product provides instruction in:
A58: 7 | B58: The broad outline of historical influences on English spelling patterns, especially Anglo-Saxon, Latin (romance) and Greek. | C58: Not met | D58: =IF(C58="Fully met", 2, IF(C58="Partially met",1, 0)) -> 0 | E58: Only one link provided which did not work. Unclear how this concept would be taught to participants.
A59: 8 | B59: Defining grapheme as a functional correspondence unit or representation of a phoneme. | C59: Fully met | D59: =IF(C59="Fully met", 2, IF(C59="Partially met",1, 0)) -> 2
A60: 9 | B60: Common orthographic rules and patterns in English, including the six basic syllable types in English spelling. | C60: Not met | D60: =IF(C60="Fully met", 2, IF(C60="Partially met",1, 0)) -> 0 | E60: Not applicable for preschool.
A61: 10 | B61: The difference between high frequency and irregular words. | C61: Not met | D61: =IF(C61="Fully met", 2, IF(C61="Partially met",1, 0)) -> 0 | E61: No evidence found.
B62: Minimum points needed to pass section L: 16/20 | C62: Total earned points for Section L: | D62: =SUM(D50:D55,D58:D61) -> 13 | E62: Notes: Not Recommended in this topic area. Must meet score threshold.
D63: out of 20
B65: Section M: FLUENCY DEVELOPMENT|1 CCR 301-101, 4.02(10) At a minimum, the vendor provides evidence that the product provides instruction in: *gray shaded criterion must be “fully met” in order to receive credit for this section. | C65: Rating | D65: Score | E65: Evidence/Feedback
A66: 1 | B66: The role of fluency in word recognition, oral reading, silent reading, comprehension of written discourse and motivation to read. | D66: =IF(C66="Fully met", 2, IF(C66="Partially met",1, 0)) -> 0 | E66: Not applicable
A67: 2 | B67: Reading fluency as a stage of normal reading development, as the primary symptom of some reading disorders and as a consequence of practice and instruction. | D67: =IF(C67="Fully met", 2, IF(C67="Partially met",1, 0)) -> 0 | E67: Not applicable
A68: 3 | B68: Examples of text at a student’s frustration, instructional and independent reading level. (Selecting text at an appropriate level of accuracy and difficulty to support students in building fluency.) | D68: =IF(C68="Fully met", 2, IF(C68="Partially met",1, 0)) -> 0 | E68: Not applicable
A69: 4 | B69: Sources of activities for building fluency in component reading skills. | D69: =IF(C69="Fully met", 2, IF(C69="Partially met",1, 0)) -> 0 | E69: Not applicable for preschool.
A70: 5 | B70: Instructional activities and approaches that are most likely to improve fluency outcomes. | D70: =IF(C70="Fully met", 2, IF(C70="Partially met",1, 0)) -> 0 | E70: Not applicable
A71: 6 | B71: Techniques to enhance a student’s motivation to read. | D71: =IF(C71="Fully met", 2, IF(C71="Partially met",1, 0)) -> 0 | E71: Not applicable
A72: 7 | B72: Appropriate uses of assistive technology for students with serious limitations in reading fluency. | D72: =IF(C72="Fully met", 2, IF(C72="Partially met",1, 0)) -> 0 | E72: Not applicable
A73: 8 | B73: The relationship between accuracy and reading fluency. | D73: =IF(C73="Fully met", 2, IF(C73="Partially met",1, 0)) -> 0 | E73: Not applicable
A74: 9 | B74: Scientifically and evidence-based instructional strategies and techniques for teaching fluency to English Learners. | D74: =IF(C74="Fully met", 2, IF(C74="Partially met",1, 0)) -> 0 | E74: Not applicable
B75: Minimum points needed to pass section M: 14/18 | C75: Total earned points for Section M: | D75: =SUM(D66:D74) -> 0 | E75: Notes: Not recommended in this topic area.
D76: out of 18
B79: Section N: VOCABULARY DEVELOPMENT|1 CCR 301-101, 4.02(11) At a minimum, the vendor provides evidence that the product provides instruction in: *gray shaded criterion must be at least “partially met” in order to receive credit for this section. | C79: Rating | D79: Score | E79: Evidence/Feedback
A80: 1 | B80: The role of vocabulary development and vocabulary knowledge in comprehension. | C80: Fully met | D80: =IF(C80="Fully met", 2, IF(C80="Partially met",1, 0)) -> 2
A81: 2 | B81: The role and characteristics of direct and indirect (contextual) methods of vocabulary instruction. | C81: Fully met | D81: =IF(C81="Fully met", 2, IF(C81="Partially met",1, 0)) -> 2
A82: 3 | B82: Varied techniques for vocabulary instruction before, during and after reading. | C82: Fully met | D82: =IF(C82="Fully met", 2, IF(C82="Partially met",1, 0)) -> 2
A83: 4 | B83: The multifaceted nature of word knowledge. | C83: Fully met | D83: =IF(C83="Fully met", 2, IF(C83="Partially met",1, 0)) -> 2
A84: 5 | B84: The sources of wide differences in students’ vocabularies. | C84: Fully met | D84: =IF(C84="Fully met", 2, IF(C84="Partially met",1, 0)) -> 2
A85: 6 | B85: Principles of evidence-based instructional design to teach vocabulary to English Learners. | C85: Fully met | D85: =IF(C85="Fully met", 2, IF(C85="Partially met",1, 0)) -> 2
A86: 7 | B86: Scientifically and evidence-based strategies, scaffolds, and differentiation for teaching vocabulary skills to English Learners | C86: Fully met | D86: =IF(C86="Fully met", 2, IF(C86="Partially met",1, 0)) -> 2
A87: STRUCTURE OF LANGUAGE - Semantics|1 CCR 301-101, 4.02(6)
A88: At a minimum, the vendor provides evidence that the product provides instruction in:
A89: 8 | B89: Examples of meaningful word relationships or semantic organization. | D89: =IF(C89="Fully met", 2, IF(C89="Partially met",1, 0)) -> 0 | E89: Not applicable.
A90: STRUCTURE OF LANGUAGE - Morphology|1 CCR 301-101, 4.02(6)
A91: At a minimum, the vendor provides evidence that the product provides instruction in:
A92: 9 | B92: Common morphemes in English, including Anglo Saxon compounds, inflectional suffixes, and derivational suffixes; Latin-based prefixes, roots and derivational suffixes; and Greek-based combining forms. | C92: Partially met | D92: =IF(C92="Fully met", 2, IF(C92="Partially met",1, 0)) -> 1 | E92: Morphemes are minimally addressed through links. Unclear how it is specifically taught to participants.
B93: Minimum points needed to pass section N: 14/18 | C93: Total earned points for Section N: | D93: =SUM(D80:D86,D89,D92) -> 15 | E93: Notes: Recommended in this topic area.
D94: out of 18
B97: Section O: TEXT COMPREHENSION DEVELOPMENT|1 CCR 301-101, 4.02(12) At a minimum, the vendor provides evidence that the product provides instruction in: *gray shaded criterion must be at least “partially met” in order to receive credit for this section. | C97: Rating | D97: Score | E97: Evidence/Feedback
A98: 1 | B98: Teaching strategies that are appropriate before, during and after reading and that promote reflective reading. | D98: =IF(C98="Fully met", 2, IF(C98="Partially met",1, 0)) -> 0 | E98: Not applicable
A99: 2 | B99: The characteristics of major text genres. | D99: =IF(C99="Fully met", 2, IF(C99="Partially met",1, 0)) -> 0 | E99: Not applicable
A100: 3 | B100: The similarities and differences between written composition and text comprehension, and the usefulness of writing in building comprehension. | D100: =IF(C100="Fully met", 2, IF(C100="Partially met",1, 0)) -> 0 | E100: Not applicable
A101: 4 | B101: The phrases, clauses, sentences, paragraphs and “academic language” that could be a source of miscomprehension. | D101: =IF(C101="Fully met", 2, IF(C101="Partially met",1, 0)) -> 0 | E101: Not applicable
A102: 5 | B102: Levels of comprehension including the surface code, text base and mental model (situation model). | D102: =IF(C102="Fully met", 2, IF(C102="Partially met",1, 0)) -> 0 | E102: Not applicable
A103: 6 | B103: Factors that contribute to deep comprehension, including background knowledge, vocabulary, verbal reasoning ability, knowledge of literary structures and conventions, and use of skills and strategies for close reading of text. | D103: =IF(C103="Fully met", 2, IF(C103="Partially met",1, 0)) -> 0 | E103: Not applicable
A104: 7 | B104: Principles of evidence-based instructional practices to support with developing comprehension skills in English Learners. | D104: =IF(C104="Fully met", 2, IF(C104="Partially met",1, 0)) -> 0 | E104: Not applicable
A105: 8 | B105: Scientifically and evidence-based strategies, scaffolds, and differentiation for teaching reading comprehension skills to English Learners. | D105: =IF(C105="Fully met", 2, IF(C105="Partially met",1, 0)) -> 0 | E105: Not applicable
B106: Minimum points needed to pass section O: 12/16 | C106: Total earned points for Section O: | D106: =SUM(D98:D105) -> 0 | E106: Notes: Not recommended in this topic area.
D107: out of 16
B110: Section P: STRUCTURE OF LANGUAGE - Additional|1 CCR 301-101, 4.02(6) At a minimum, the vendor provides evidence that the product provides instruction in: *gray shaded criterion must be at least “partially met” in order to receive credit for this section. | C110: Rating | D110: Score | E110: Evidence/Feedback
A111: Syntax
A112: 1 | B112: Defining and distinguishing among phrases, dependent clauses, and independent clauses in sentence structure. | C112: Not met | D112: =IF(C112="Fully met", 2, IF(C112="Partially met",1, 0)) -> 0 | E112: Not applicable.
A113: 2 | B113: The parts of speech and grammatical role of a word in a sentence. | C113: Partially met | D113: =IF(C113="Fully met", 2, IF(C113="Partially met",1, 0)) -> 1 | E113: Grammatical role of words is minimally addressed.
...

Sheet Ratings Summary
A1: Ratings Summary
A3: Phase 1: Key Elements and Features of Scientifically-Based Reading Instruction
A4: Rating Summary
A5: Criteria
A6: To move forward, a program must be marked as "Met" in all sections shaded gray as well as receive a score of 32 points or higher.
C7: YES (required to move forward) | D7: ='Phase 1'!D39 -> 0
B8: Total Points: | C8: ='Phase 1'!C40 -> 36 | D8: ='Phase 1'!D40 -> 0
C9: Decision: | D9: ='Phase 1'!D41 -> Program moves to Phase 2
A11: Phase 2: Alignment to Colorado Teacher Standards
A12: Section | B12: Point Total | D12: Criteria | E12: Overall Rating
A13: Section J: ADMINISTRATION AND INTERPRETATION OF ASSESSMENTS | B13: ='Phase 2'!D12 -> 16 | C13: ouf of 16 | D13: 13 - 16 Points = Met 0 - 12 Points = Not Met | E13: Met
A14: Section K: LITERACY DEVELOPMENT | B14: ='Phase 2'!D29 -> 26 | C14: out of 26 | D14: 20 - 26 Points = Met 0 - 19 Points = Not Met | E14: Met
A15: Section L: PHONOLOGY DEVELOPMENT | B15: ='Phase 2'!D45 -> 16 | C15: out of 18 | D15: 14 - 18 Points = Met 0 - 13 Points = Not Met | E15: Met
A16: Section M: PHONICS AND WORD RECOGNITION DEVELOPMENT | B16: ='Phase 2'!D62 -> 13 | C16: out of 20 | D16: 16 - 20 Points = Met 0 - 15 Points = Not Met | E16: Not Met
A17: Section N: FLUENCY DEVELOPMENT | B17: ='Phase 2'!D75 -> 0 | C17: out of 18 | D17: 14 - 18 Points = Met 0 - 13 Points = Not Met
A18: Section O: VOCABULARY DEVELOPMENT | B18: ='Phase 2'!D93 -> 15 | C18: out of 18 | D18: 14 - 18 Points = Met 0 - 13 Points = Not Met | E18: Met
A19: Section P: TEXT COMPREHENSION DEVELOPMENT | B19: ='Phase 2'!D106 -> 0 | C19: out of 16 | D19: 12 - 16 Points = Met 0 - 11 Points = Not Met
A20: Section Q: STRUCTURE OF LANGUAGE | B20: ='Phase 2'!D120 -> 3 | C20: out of 14 | D20: 10 - 14 Points= Met 0 - 9 Points = Not Met | E20: Not Met
A21: Section R: HANDWRITING, SPELLING, AND WRITTEN EXPRESSION | B21: ='Phase 2'!D137 -> 14 | C21: out of 20 | D21: 16 - 20 Points= Met 0 - 15 Points = Not Met | E21: Not Met
A22: Section S: LITERACY INSTRUCTION FOR ENGLISH LEARNERS | B22: ='Phase 2'!D158 -> 23 | C22: out of 34 | D22: 27 - 34 Points= Met 0 - 27 Points = Not Met | E22: Not Met
A24: Items below will receive a score but the score will not be included in final decision.
A25: Section | B25: Point Total
A26: Section S: USABILITY This section will receive a score, but the score of this section will not be included in the final decision. | B26: =Usability!D8 -> 8 | C26: ouf of 8

Sheet Final Summary
A1: Professional Development Program Final Summary
A3: Name of Vendor: | B3: Orton-Gillingham International_x000D_
A4: Professional Development Title: | B4: Yoshimoto-Orton Gillingham International (Y-OGI) Preschool
A5: Publication Year: | B5: 2019
A6: Professional Development Topic(s): | B6: Literacy development, Structure of language, Assessment administration and interpretation, Phonology development, Phonics and word recognition development, Vocabulary development, Handwriting, Spelling, and Written Expression, Supporting Literacy Instruction for English Learners
A7: Target Audience(s): | B7: All
A8: Delivery Format: | B8: Face-to-Face
A9: Review Team: | B9: Team G
A11: Review Summary
A12: Statute Requirements | B12: ='Statute Requirements'!D7 -> All marked Met (Score Phase 1)
A13: Phase 1 | B13: ='Ratings Summary'!D9 -> Program moves to Phase 2
A14: Phase 2 | B14: Recommended for 5/10 topics submitted.
A15: Usability This section will receive a score, but the score of this section will not be included in the final decision. | B15: ='Ratings Summary'!B26 -> 8
A16: Notes: | B16: Recommended for 5/10 topics submitted. The parts of the presentation that were specific towards preschool were well developed. Reviewers noted the areas that were not applicable to preschool aged children, which affected the overall scores of the section and resulted in not passing several of the sections.
