Workbook

Sheet Introduction & Rating Scale
A1: READ Act
A2: Request for Advisory List Submissions
A3: Professional Development Review
A4: Review Support - Rubric
A5: 2019-2022 Review Cycle
A7: The Colorado Reading to Ensure Academic Development Act (READ Act) requires the Colorado Department of Education to create an advisory list of professional development programs that are related to addressing significant reading deficiencies and to applying evidence - based intervention instruction and strategies, in addition to programs related to scientifically based and evidence - based training in teaching reading (C.R.S. 22-7-1209). The professional development review process to create an advisory list involves the use of rubrics to evaluate professional development for evidence-based training in teaching reading, program specific training, and other professional development opportunities that support the implementation of the science of reading. The professional development for evidence-based training in teaching reading must meet all the minimum statute requirements listed below to move forward for review. If the professional development does not meet the minimum statute requirements, the review will be stopped and the vendor will be notified that the professional development has not met the requirements to be approved for the Colorado Department of Education Advisory List for Professional Development. (Rubric on next tab)
A9: If the professional development meets the minimum statute requirements above, the professional development will be reviewed utilizing a rubric designed in two phases. In Phase 1, expert reviewers will evaluate professional development on the key elements and features of scientifically-based reading instruction and best practices in professional learning including: • research alignment and effectiveness • elements of effective professional development • related elements Professional development that meet criteria in Phase 1 of the rubric will move on to Phase 2. Phase 2 review involves evaluating the extent to which professional development implement effective instructional practices for teaching the essential early literacy skills including but not limited to those addressed in the educator preparation literacy standards in the Colorado Elementary Education Endorsement (Grades K-6) Standards 1 CCR 301-101. Phase 1 and Phase 2 of the rubric are broken down into sections. Professional development programs that meet the criteria in phase 1 will move forward to phase 2. Each section in phase 2 has a minimum threshold for points that must be reached in order to receive credit for the section.
A10: Criteria shaded gray are required elements; they must receive a score of “Met” in order to receive points, and they must be “met” in order to pass the section. Individual criterion is scored using the following rating scale: Fully Met or Met = 2 points Items marked as Fully Met should have evidence of all components of the criteria throughout the program. Reviewers are encouraged to note evidence and feedback for the publisher. Partially Met = 1 point Items should be marked as Partially Met when some aspect of the criteria is met but others are not, and/or the criteria is met in one part of the program but not met in others. Reviewers are encouraged to note evidence and feedback for the publisher. Not Met = 0 points Items are marked as Not Met when no evidence of the criteria could be found in the program materials submitted by the publisher, or when there is evidence of a practice that is contrary to the criteria. Reviewers should note feedback for the publisher.

Sheet Statute Requirements
A1: Minimum Statute and State Board Rule Requirements
A3: Criteria: To move forward, all components above must be marked as “met”.
B4: Minimum Statute and Rule Requirements The professional development must meet all minimum statute and rule requirements to move forward with the review. | C4: Rating | D4: Score | E4: Evidence/Feedback
A5: 1 | B5: Includes rigorous evaluations of learning throughout the course. (e.g. true/false, multiple choice, short answer, essay, etc.) Evaluations of learning throughout the course align with course content and measure participant mastery of the content. | C5: Met | D5: =IF(C5="Met", 2, 0) -> 2
A6: 2 | B6: Includes a rigorous end of course assessment. End of course evaluation aligns with course content and measures participant mastery of the content. | C6: Met | D6: =IF(C6="Met", 2, 0) -> 2
C7: Decision:

Sheet Phase 1
A1: Phase 1: Key Elements and Features of Scientifically-Based Reading Instruction
B3: Section D: Reading Development Theory The professional development: *gray shaded criterion must be "met" in order to receive credit for this section. | C3: Rating | D3: Score | E3: Evidence/Feedback
A4: 1 | B4: The theoretical model the professional development is grounded in aligns to the evidence base of how children learn to read and the science of reading, including teaching in the areas of phonemic awareness, phonics, vocabulary development, reading fluency including oral skills and reading comprehension. Includes authors of the model(s) and citations for the model(s) (Note in the feedback section if not included, but do not mark as not met if author and citations are not included). | C4: Met | D4: =IF(C4="Met", 2, 0) -> 2
A5: 2 | B5: Provides explanation of how the brain learns to read and the nature of reading difficulties that is aligned to scientifically-based reading research. | C5: Met | D5: =IF(C5="Met", 2, 0) -> 2
A6: 3 | B6: As described, the professional development directly impacts and supports understanding of the science of reading and evidence-based practices. | C6: Met | D6: =IF(C6="Met", 2, 0) -> 2
A7: 4 | B7: Provides an explanation of scientifically and evidence-based practices in teaching reading to address the needs of English Learners. - Must include an explanation of the differences and similarities in the development of literacy in English between English learners and native English speakers. | C7: Met | D7: =IF(C7="Met", 2, 0) -> 2
C8: Total Met Section D: | D8: =SUM(D4:D7) -> 8 | E8: out of 8
B10: Section E: Professional Development Model & Delivery *gray shaded criterion must be "met" in order to receive credit for this section. | C10: Rating | D10: Score | E10: Evidence/Feedback
A11: 1 | B11: Listed topic(s) align with scientifically based reading research. | C11: Met | D11: =IF(C11="Met", 2, 0) -> 2
A12: 2 | B12: Includes a clear scope and sequence with objectives for learning to explain the content of the professional development. | C12: Met | D12: =IF(C12="Met", 2, 0) -> 2
A13: 3 | B13: Alignment to the K-3 Colorado Academic Standards- Reading, Writing and Communicating | C13: Met | D13: =IF(C13="Met", 2, 0) -> 2
A14: 4 | B14: Includes a description of how demonstration of new learning is provided (e.g. modeling, videos, etc). | C14: Fully met | D14: =IF(C14="Fully met", 2, IF(C14="Partially met",1, 0)) -> 2
A15: 5 | B15: Includes opportunities for targeted practice of skills being taught as well as opportunities to reflect on the learning and how these skills can be applied in the classroom. | C15: Fully met | D15: =IF(C15="Fully met", 2, IF(C15="Partially met",1, 0)) -> 2
A16: 6 | B16: Includes built-in interactive learning opportunities that align with the content. Examples include: videos, application of the content, required discussions, reflection, etc. | C16: Fully met | D16: =IF(C16="Fully met", 2, IF(C16="Partially met",1, 0)) -> 2
A17: 7 | B17: Includes instruction in strategies that are evidence-based and grounded in solid research of proven effectiveness, including differentiation of instruction for English Learners. | C17: Fully met | D17: =IF(C17="Fully met", 2, IF(C17="Partially met",1, 0)) -> 2 | E17: Appeal Rating: Fully Met
C18: Total Met Section E: | D18: =SUM(D11:D17) -> 14 | E18: out of 14
B20: Section F: Minimum Statute and Rule Requirements *gray shaded criterion must be “met” in order to receive credit for this section. | C20: Rating | D20: Score | E20: Evidence/Feedback
A21: 1 | B21: Includes rigorous evaluations of learning throughout the course. (e.g. true/false, multiple choice, short answer, essay, etc.) Evaluations of learning throughout the course align with course content and measure participant mastery of the content. | C21: ='Statute Requirements'!C5 -> Met | D21: ='Statute Requirements'!D5 -> 2 | E21: ='Statute Requirements'!E5 -> 0
A22: 2 | B22: Includes a rigorous end of course assessment. End of course evaluation aligns with course content and measures participant mastery of the content. | C22: ='Statute Requirements'!C6 -> Met | D22: ='Statute Requirements'!D6 -> 2 | E22: ='Statute Requirements'!E6 -> 0
C23: Total Met Section F: | D23: =SUM(D21:D22) -> 4 | E23: out of 4
B25: Section G: Theory of Action & Documentation of Effectiveness *gray shaded criterion must be “met” in order to receive credit for this section. | C25: Rating | D25: Score | E25: Evidence/Feedback
A26: 1 | B26: A well-specified logic model that is informed by research or an evaluation that suggests how the program is likely to improve relevant outcomes. | C26: Met | D26: =IF(C26="Met", 2, 0) -> 2
A27: 2 | B27: Provides evidence that demonstrates professional development has improved student outcomes and supports with closing the achievement gap across all disaggregated student groups. | C27: Fully met | D27: =IF(C27="Fully met", 2, IF(C27="Partially met",1, 0)) -> 2
C28: Total Met Section G: | D28: =SUM(D26:D27) -> 4 | E28: out of 4
B30: Section H: Ongoing Support and Training Staff | C30: Rating | D30: Score | E30: Evidence/Feedback
A31: 1 | B31: Ensures standardization of content for program delivery (e.g., presenter materials, delivery formats, etc.) | C31: Fully met | D31: =IF(C31="Fully met", 2, IF(C31="Partially met",1, 0)) -> 2
A32: 2 | B32: Minimum staff qualifications are provided & documentation of staff knowledge for the following: The science of reading and evidence-based practices Adult learning theory Effective delivery of content If scoring a fully online PD, give full credit for this component and write “does not apply - online PD” in the Evidence/Feedback section of the rubric. | C32: Fully met | D32: =IF(C32="Fully met", 2, IF(C32="Partially met",1, 0)) -> 2
A33: 3 | B33: Staff/presenters are effectively trained and supported to deliver the professional development with fidelity (e.g. gradual release, observation/feedback, technical support, reflection, participant feedback, etc.) If scoring a fully online PD, give full credit for this component and write “does not apply - online PD” in the Evidence/Feedback section of the rubric. | C33: Fully met | D33: =IF(C33="Fully met", 2, IF(C33="Partially met",1, 0)) -> 2
C34: Total Met Section H: | D34: =SUM(D31:D33) -> 6 | E34: out of 6
B36: Rating Summary
B37: Criteria
B38: To move forward, a program must be marked as "Met" in all sections shaded gray as well as receive a score of 28 points or higher.
C39: All sections shaded gray are marked as met: | D39: YES (required to move to Phase 2)
B40: Total Points: | C40: =SUM(D8+D18+D23+D28+D34) -> 36 | D40: 32-40 points
C41: Decision: | D41: Program moves to Phase 2

Sheet Phase 2
A1: Phase 2: Alignment to Colorado Teacher Standards
B3: Section I: ADMINISTRATION AND INTERPRETATION OF ASSESSMENTS| 1 CCR 301-101, 4.02(7) At a minimum, the vendor provides evidence that the product provides instruction in: | C3: Rating | D3: Score | E3: Evidence/Feedback
A4: 1 | B4: Effective administration of a wide variety of ongoing formal and informal assessments that are developmentally appropriate and responsive to the needs of diverse learners. | C4: Fully met | D4: =IF(C4="Fully met", 2, IF(C4="Partially met",1, 0)) -> 2
A5: 2 | B5: Effective utilization of assessment results and related data to plan for appropriate student instruction. | C5: Fully met | D5: =IF(C5="Fully met", 2, IF(C5="Partially met",1, 0)) -> 2
A6: 3 | B6: The differences among screening, diagnostic, outcome and progress monitoring assessments. | C6: Fully met | D6: =IF(C6="Fully met", 2, IF(C6="Partially met",1, 0)) -> 2
A7: 4 | B7: Basic principles of test construction including reliability, validity, norm-referencing and criterion-referencing. | C7: Fully met | D7: =IF(C7="Fully met", 2, IF(C7="Partially met",1, 0)) -> 2
A8: 5 | B8: The principles of progress monitoring and the use of graphs to indicate progress. | C8: Fully met | D8: =IF(C8="Fully met", 2, IF(C8="Partially met",1, 0)) -> 2
A9: 6 | B9: The range of skills typically assessed in terms of phonological skills, decoding skills, oral reading skills, spelling and writing. How the range of skills typically assessed in terms of phonological skills, decoding skills, oral reading skills, spelling and writing might impact students acquiring English. | C9: Fully met | D9: =IF(C9="Fully met", 2, IF(C9="Partially met",1, 0)) -> 2 | E9: Original Rating: Not Met Original Review Comments: No evidence provided. // Appeal Rating: Fully Met Appeal Review Comments: Evidence provided in appeal fully meets this criteria.
A10: 7 | B10: The content and purposes of the most common diagnostic tests used by psychologists and educational evaluators. | C10: Fully met | D10: =IF(C10="Fully met", 2, IF(C10="Partially met",1, 0)) -> 2
A11: 8 | B11: Interpreting measures of reading comprehension and written expression to make appropriate instructional recommendations. (e.g. information a teacher can glean from a student’s writing to inform their instruction) | C11: Fully met | D11: =IF(C11="Fully met", 2, IF(C11="Partially met",1, 0)) -> 2
B12: Minimum points needed to pass section I: 13/16 | C12: Total earned points for Section I: | D12: =SUM(D4:D11) -> 16 | E12: Original Review Notes: Recommended in this topic area. While the included slide deck for the Assessment Module indicated that many of these indicators are addressed within the training, no presenter notes or module content was provided as evidence to clearly determine if the training sufficiently met the required criteria. Please provide presenter notes, along with exact pages in training manual, powerpoint slide numbers, and specific sub-lessons in the online course for each rubric indicator submitted for consideration on appeal. // Appeal Review Notes: Additional evidence provided in appeal fully meets criteria.
D13: out of 16
B15: Section J: LITERACY DEVELOPMENT|1 CCR 301-101, 4.02(5) At a minimum, the vendor provides evidence that the product provides instruction in: *gray shaded criterion must be at least “partially met” in order to receive credit for this section. | C15: Rating | D15: Score | E15: Evidence/Feedback
A16: 1 | B16: How the brain learns to read | C16: Fully met | D16: =IF(C16="Fully met", 2, IF(C16="Partially met",1, 0)) -> 2
A17: 2 | B17: Nature of reading difficulties | C17: Fully met | D17: =IF(C17="Fully met", 2, IF(C17="Partially met",1, 0)) -> 2
A18: 3 | B18: Understanding that learning to read is not natural. | C18: Fully met | D18: =IF(C18="Fully met", 2, IF(C18="Partially met",1, 0)) -> 2
A19: 4 | B19: The language processing requirements of proficient reading and writing including phonological (speech sound) processing; orthographic (print) processing; semantic (meaning) processing; syntactic (sentence level) processing; discourse (connected text level) processing. | C19: Fully met | D19: =IF(C19="Fully met", 2, IF(C19="Partially met",1, 0)) -> 2
A20: 5 | B20: Other aspects of cognition and behavior that affect reading and writing including attention, executive function, memory, processing speed and graphomotor control. | C20: Fully met | D20: =IF(C20="Fully met", 2, IF(C20="Partially met",1, 0)) -> 2
A21: 6 | B21: The environmental, cultural, and social factors that contribute to literacy development (e.g. language spoken at home, language and literacy experiences, literacy skills in other languages, cultural values). | C21: Fully met | D21: =IF(C21="Fully met", 2, IF(C21="Partially met",1, 0)) -> 2
A22: 7 | B22: Phases in the typical developmental progression of oral language (semantic, syntactic, pragmatic); phonological skill; printed word recognition; spelling; reading fluency; reading comprehension; and written expression. (Do not penalize if written expression is the only component missing.) | C22: Fully met | D22: =IF(C22="Fully met", 2, IF(C22="Partially met",1, 0)) -> 2
A23: 8 | B23: The known causal relationship among phonological skill, phonic decoding, spelling, accurate and automatic word recognition, text reading fluency, background knowledge, verbal reasoning skill, vocabulary, reading comprehension and writing. | C23: Fully met | D23: =IF(C23="Fully met", 2, IF(C23="Partially met",1, 0)) -> 2
A24: 9 | B24: How the relationships among the major components of literacy development change with reading development (i.e., changes in oral language, including phonological awareness; phonics and word recognition; spelling; reading and writing fluency; vocabulary; reading comprehension skills and strategies; written expression). (Do not penalize if written expression is the only component missing.) | C24: Fully met | D24: =IF(C24="Fully met", 2, IF(C24="Partially met",1, 0)) -> 2
A25: 10 | B25: Reasonable goals and expectations for learners at various stages of reading and writing development. | C25: Fully met | D25: =IF(C25="Fully met", 2, IF(C25="Partially met",1, 0)) -> 2
A26: 11 | B26: Provides an explanation of scientifically and evidence-based practices in teaching reading to English Learners. - must include an explanation of the differences and similarities in the development of literacy between English Learners and native speakers. | C26: Fully met | D26: =IF(C26="Fully met", 2, IF(C26="Partially met",1, 0)) -> 2 | E26: Original Rating: Not Met Original Review Comments: No evidence provided. // Appeal Rating: Fully Met Appeal Review Comments: Evidence provided in appeal fully meets this criteria.
A27: 12 | B27: Provides an explanation of the relationship between second language oral proficiency and second language literacy. | C27: Fully met | D27: =IF(C27="Fully met", 2, IF(C27="Partially met",1, 0)) -> 2 | E27: Original Rating: Not Met Original Review Comments: No evidence provided. // Appeal Rating: Fully Met Appeal Review Comments: Evidence provided in appeal fully meets this criteria.
A28: 13 | B28: The importance of providing frequent and intentional instruction focused on oral language development when supporting English Learners with literacy development. | C28: Fully met | D28: =IF(C28="Fully met", 2, IF(C28="Partially met",1, 0)) -> 2 | E28: Original Rating: Not Met Original Review Comments: No evidence provided. // Appeal Rating: Fully Met Appeal Review Comments: Evidence provided in appeal fully meets this criteria.
B29: Minimum points needed to pass section J: 20/26 | C29: Total earned points for Section J: | D29: =SUM(D16:D28) -> 26 | E29: Original Review Notes: - Grey-shaded rubric indicators must be at least "partially met" in order recieve credit for this section. - Please provide presenter notes, along with exact pages in training manual, powerpoint slide numbers, and specific sub-lessons in the online course for each rubric indicator submitted for consideration on appeal. // Appeal Review Notes: Additional evidence provided in appeal fully meets criteria.
D30: out of 26
B33: Section K: PHONOLOGY DEVELOPMENT|1 CCR 301-101, 4.02(8) At a minimum, the vendor provides evidence that the product provides instruction in: *gray shaded criterion must be at least “partially met” in order to receive credit for this section. | C33: Rating | D33: Score | E33: Evidence/Feedback
A34: 1 | B34: The general goal of phonological skill instruction and how to explicitly state the goal of any phonological teaching activity. | C34: Fully met | D34: =IF(C34="Fully met", 2, IF(C34="Partially met",1, 0)) -> 2
A35: 2 | B35: The progression of phonological skill development (i.e., rhyme, syllable, onset-rime, phoneme differentiation). | C35: Fully met | D35: =IF(C35="Fully met", 2, IF(C35="Partially met",1, 0)) -> 2
A36: 3 | B36: The differences among various phonological manipulations, including identifying, matching, blending, segmenting, substituting and deleting sounds. | C36: Fully met | D36: =IF(C36="Fully met", 2, IF(C36="Partially met",1, 0)) -> 2
A37: 4 | B37: The principles of phonological skill instruction: brief, multisensory, conceptual and auditory-verbal. | C37: Fully met | D37: =IF(C37="Fully met", 2, IF(C37="Partially met",1, 0)) -> 2
A38: 5 | B38: The reciprocal relationship among phonological processing, reading, spelling and vocabulary. | C38: Fully met | D38: =IF(C38="Fully met", 2, IF(C38="Partially met",1, 0)) -> 2
A39: 6 | B39: The phonological features of a second language, such as Spanish, and how they interfere with English pronunciation and phonics. | C39: Partially met | D39: =IF(C39="Fully met", 2, IF(C39="Partially met",1, 0)) -> 1 | E39: Slides were provided for the Struggling Readers module but did not include presenter notes. The Struggling Reader module mentioned in the evidence column of the worksheet was not included in the submission. The Struggling Reader module must be provided in order to adequately to review this indicator.
A40: 7 | B40: The phonological features of languages other than English, such as Spanish, and how they are similar to English and can support with transfer of phonemes that occur in both languages, such Spanish and English, and how they differ. | C40: Fully met | D40: =IF(C40="Fully met", 2, IF(C40="Partially met",1, 0)) -> 2 | E40: Original Rating: Not Met Original Review Comments: No evidence provided. // Appeal Rating: Fully Met Appeal Review Comments: Evidence provided in appeal fully meets this criteria.
A41: 8 | B41: Scientifically and evidence-based instructional strategies, scaffolding, and differentiation for teaching phonological awareness to English Learners | C41: Fully met | D41: =IF(C41="Fully met", 2, IF(C41="Partially met",1, 0)) -> 2 | E41: Original Rating: Not Met Original Review Comments: No evidence provided. // Appeal Rating: Fully Met Appeal Review Comments: Evidence provided in appeal fully meets this criteria.
A42: STRUCTURE OF LANGUAGE - Phonology|1 CCR 301-101, 4.02(6)
A43: At a minimum, the vendor provides evidence that the product provides instruction in:
A44: 9 | B44: Identification, pronunciation, classification and comparison of the consonant and vowel phonemes of English. | C44: Fully met | D44: =IF(C44="Fully met", 2, IF(C44="Partially met",1, 0)) -> 2 | E44: In the online training, the supplemental resource included in section 3.12 may be confusing for participants who do not have a clear understanding of the individual English phonemes and how they connect to spellings. At least two examples of phonograms contain more than a single phoneme (e.g. "cei"= /see/). Consider moving this supplemental resource to the phonics section to avoid misinterpretation.
...

Sheet Usability
A1: Usability
B3: Section S: USABILITY This section will receive a score, but the score of this section will not be included in the final decision. | C3: Rating | D3: Score | E3: Evidence/Feedback
A4: 1 | B4: Delivery format has been provided (e.g. face-to-face, online only, online with a face to face component) | C4: Fully met | D4: =IF(C4="Fully met", 2, IF(C4="Partially met",1, 0)) -> 2
A5: 2 | B5: Required components necessary to ensure effective results and improving outcomes has been clearly stated and described | C5: Fully met | D5: =IF(C5="Fully met", 2, IF(C5="Partially met",1, 0)) -> 2
A6: 3 | B6: Pacing of professional development has been provided | C6: Fully met | D6: =IF(C6="Fully met", 2, IF(C6="Partially met",1, 0)) -> 2
A7: 4 | B7: Clear explanation has been provided on how any direct learning provided will transfer to practice (see application, Appendix B) | C7: Fully met | D7: =IF(C7="Fully met", 2, IF(C7="Partially met",1, 0)) -> 2
C8: Total earned points for Section S: | D8: =SUM(D4:D7) -> 8 | E8: Notes:
D9: out of 8

Sheet Ratings Summary
A1: Ratings Summary
A3: Phase 1: Key Elements and Features of Scientifically-Based Reading Instruction
A4: Rating Summary
A5: Criteria
A6: To move forward, a program must be marked as "Met" in all sections shaded gray as well as receive a score of 32 points or higher.
C7: All sections shaded gray are marked as met: | D7: ='Phase 1'!D39 -> YES (required to move to Phase 2)
B8: Total Points: | C8: ='Phase 1'!C40 -> 36 | D8: ='Phase 1'!D40 -> 32-40 points
C9: Decision: | D9: ='Phase 1'!D41 -> Program moves to Phase 2
A11: Phase 2: Alignment to Colorado Teacher Standards
A12: Section | B12: Point Total | D12: Criteria | E12: Overall Rating
A13: Section J: ADMINISTRATION AND INTERPRETATION OF ASSESSMENTS | B13: ='Phase 2'!D12 -> 16 | C13: ouf of 16 | D13: 13 - 16 Points = Met 0 - 12 Points = Not Met | E13: Met
A14: Section K: LITERACY DEVELOPMENT | B14: ='Phase 2'!D29 -> 26 | C14: out of 26 | D14: 20 - 26 Points = Met 0 - 19 Points = Not Met | E14: Met
A15: Section L: PHONOLOGY DEVELOPMENT | B15: ='Phase 2'!D45 -> 17 | C15: out of 18 | D15: 14 - 18 Points = Met 0 - 13 Points = Not Met | E15: Met
A16: Section M: PHONICS AND WORD RECOGNITION DEVELOPMENT | B16: ='Phase 2'!D62 -> 20 | C16: out of 20 | D16: 16 - 20 Points = Met 0 - 15 Points = Not Met | E16: Met
A17: Section N: FLUENCY DEVELOPMENT | B17: ='Phase 2'!D75 -> 18 | C17: out of 18 | D17: 14 - 18 Points = Met 0 - 13 Points = Not Met | E17: Met
A18: Section O: VOCABULARY DEVELOPMENT | B18: ='Phase 2'!D93 -> 18 | C18: out of 18 | D18: 14 - 18 Points = Met 0 - 13 Points = Not Met | E18: Met
A19: Section P: TEXT COMPREHENSION DEVELOPMENT | B19: ='Phase 2'!D106 -> 15 | C19: out of 16 | D19: 12 - 16 Points = Met 0 - 11 Points = Not Met | E19: Met
A20: Section Q: STRUCTURE OF LANGUAGE | B20: ='Phase 2'!D120 -> 12 | C20: out of 14 | D20: 10 - 14 Points= Met 0 - 9 Points = Not Met | E20: Met
A21: Section R: HANDWRITING, SPELLING, AND WRITTEN EXPRESSION | B21: ='Phase 2'!D137 -> 15 | C21: out of 20 | D21: 16 - 20 Points= Met 0 - 15 Points = Not Met | E21: Not Met
A22: Section S: LITERACY INSTRUCTION FOR ENGLISH LEARNERS | B22: ='Phase 2'!D158 -> 0 | C22: out of 34 | D22: 27 - 34 Points= Met 0 - 27 Points = Not Met
A24: Items below will receive a score but the score will not be included in final decision.
A25: Section | B25: Point Total
A26: Section S: USABILITY This section will receive a score, but the score of this section will not be included in the final decision. | B26: =Usability!D8 -> 8 | C26: ouf of 8

Sheet Final Summary
A1: Professional Development Program Final Summary
A3: Name of Vendor: | B3: Keys to Literacy
A4: Professional Development Title: | B4: Keys to Beginning Reading
A5: Publication Year: | B5: 2019
A6: Professional Development Topic(s): | B6: Literacy development Structure of language Assessment administration and interpretation Phonology development Phonics and word recognition development Develop fluent automatic reading Text comprehension development Vocabulary development Handwriting, Spelling, and Written Expression
A7: Target Audience(s): | B7: Administrators Coaches Teachers Paraprofessionals Tutors
A8: Delivery Format: | B8: Face to Face, Online, Blended
A9: Review Team: | B9: Group L
A11: Review Summary
A12: Statute Requirements | B12: ='Statute Requirements'!D7 -> 0
A13: Phase 1 | B13: ='Ratings Summary'!D9 -> Program moves to Phase 2
A14: Phase 2
A15: Usability This section will receive a score, but the score of this section will not be included in the final decision. | B15: ='Ratings Summary'!B26 -> 8
A16: Notes: | B16: Original Review Notes: Most sections met the score threshold, but all sections (except for assessment) did not provide evidence that the training addresses the grey shaded indicators related to English Learners. Grey-shaded rubric indicators must be at least "partially met" in order recieve a passing score for each section. - Please provide presenter notes, along with exact pages in training manual, powerpoint slide numbers, and specific sub-lessons in the online course for each rubric indicator submitted for consideration on appeal. *Hybrid Online Facilitated Debrief Meetings that align with the content provided in the associated slide deck would be approved in the case that the training is approved (on appeal). The pricing for the blended model should be reflective of the description of what the blended model contains. Coaching and consulting is not appropriate for this Topic-Specific PD list. // Appeal Notes: Evidence submitted in the appeal demonstrates alignment with rubric criteria.
