Workbook
Name OLE_LINK1: Directions!$A$9

Sheet Directions
A1: FILL OUT THE INFORMATION BELOW THEN READ THE REMAINING INFORMATION
A3: Your Name: | B3: Enter your name here
A4: Employee ID Number: | B4: 0
A5: Contracted Number of Days: | B5: 240
A9: PLEASE READ
A10: Why we ask you to use the eCalendar
A11: We need your help! We are seeing the same common mistakes when eCalendars are filled out.
A12: We do not want mistakes on eCalendars as it effects your payroll including worked, sick, personal, etc. days.
A14: Why is this so important?
A15: 1. Payroll is a BEAST each month and we need eCalendars to be correct for time sake (and for Heather's sanity).
A16: 2. If you do not properly keep up with your Contracted (days worked) and Non-Contracted (days off) days, then there might be issues at the end
A17: of the year and you might receive a dock in pay if you took too many days off! Or, what if you worked too many days and didn't realize it?!
A18: We do NOT want this to happen!
A20: So, please review the steps below to help ensure your eCalendar is correct. And, here is a link to a “How To” video for a complete visual guide.
A21: https://www.youtube.com/watch?v=bz-uN7Y6KUQ&feature=youtu.be&hd=1
A23: Thank you! Thank you! Thank you for your attention to this! If you have questions or need help, please do not hesitate to
... A35: 9. Print or email the calendar the last day of the month and turn into your school secretary or Heather Woodward.

Sheet Quick Reference
A2: BE SURE TO FILL OUT YOUR NAME AND CONTACTED DAYS IN THE "DIRECTIONS" SHEET

Sheet July 2026
A1: JULY 2026 | E1: =Directions!B5&" DAYS" -> 240 DAYS | F1: =Directions!B3 -> Enter your name here | I1: =Directions!B4 -> 0
B4: SUN | C4: MON | D4: TUE | E4: WED | F4: THU | G4: FRI | H4: SAT
A5: CONTRACT DAYS WORKED | E5: =D5+1 -> 1 | F5: =E5+1 -> 2 | G5: =F5+1 -> 3 | H5: =G5+1 -> 4 | I5: NON CONTRACT DAYS AVAILABLE (includes future NC days)
B7: =H5+1 -> 5 | C7: =B7+1 -> 6 | D7: =C7+1 -> 7 | E7: =D7+1 -> 8 | F7: =E7+1 -> 9 | G7: =F7+1 -> 10 | H7: =G7+1 -> 11
B9: =H7+1 -> 12 | C9: =B9+1 -> 13 | D9: =C9+1 -> 14 | E9: =D9+1 -> 15 | F9: =E9+1 -> 16 | G9: =F9+1 -> 17 | H9: =G9+1 -> 18
B11: =H9+1 -> 19 | C11: =B11+1 -> 20 | D11: =C11+1 -> 21 | E11: =D11+1 -> 22 | F11: =E11+1 -> 23 | G11: =F11+1 -> 24 | H11: =G11+1 -> 25
B13: =H11+1 -> 26 | C13: =B13+1 -> 27 | D13: =C13+1 -> 28 | E13: =D13+1 -> 29 | F13: =E13+1 -> 30 | G13: =F13+1 -> 31
A14: =SUM(F21:G28) -> 0 | I14: =(367-106-Directions!B5)-F20+F46+(F47)/2 -> 21
F17: Future NC Days Planned: | I17: ='August 2026'!$F$20+'September 2026'!$F$20+'October 2026'!$F$20+'November 2026'!$F$20+'December 2026'!$F$20+'January 2027'!$F$20+'February 2027'!$F$20+'March 2027'!$F$20+'April 2027'!$F$20+'May 2027'!$F$20+'June 2027'!$F$20 -> 0
A19: CODES (Monday-Friday) | F19: MONTH | H19: YTD
A20: NON CONTRACT | E20: NC | F20: =COUNTIF(C5:G16,"NC")+(F29/2)+(F31/2)+(F38/2)+(F39/2)+(F43/2) -> 0 | H20: =F20 -> 0 | J20: =IF(I14<0,"OVER","")
A21: WORK | E21: W | F21: =COUNTIF(C5:G16,"W")+(F29/2)+(F30/2)+F46+(F47/2)+(F32/2)+(F33/2)+(F34/2) -> 0 | H21: =F21 -> 0 | J21: =IF(H21>E1,"OVER","")
A22: SICK | E22: S | F22: =COUNTIF(C5:G16,"S")+(F30)/2+(F36/2)+(F37/2)+(F38/2)+(F40/2) -> 0 | H22: =F22 -> 0 | J22: =IF(H22>10,"OVER","")
A23: HOLIDAY | E23: H | F23: =COUNTIF(C5:G16,"H") -> 0 | H23: =F23 -> 0 | J23: =IF(AND(Directions!B5>220,H23>7),"OVER",IF(AND(Directions!B5<220,H23>5),"OVER",""))
A24: PERSONAL | E24: P | F24: =COUNTIF(C5:G16,"P")+(F31/2)+(F33/2)+(F35/2)+(F36/2)+(F41/2) -> 0 | H24: =F24 -> 0 | J24: =IF(H24>2,"OVER","")
A25: EMERGENCY | E25: E | F25: =COUNTIF(C5:G16,"E")+(F32)/2+(F35/2)+(F37/2)+(F39/2)+(F42/2) -> 0 | H25: =F25 -> 0 | J25: =IF(H25>1,"OVER","")
A26: MILITARY | E26: M | F26: =COUNTIF(C5:G16,"M") -> 0 | H26: =F26 -> 0
A27: JURY DUTY | E27: J | F27: =COUNTIF(C5:G16,"J")+(F34/2)+(F40/2)+(F41/2)+(F42/2)+(F43/2) -> 0 | H27: =F27 -> 0
A29: WORK/NON CONTRACT | E29: W/NC | F29: =SUM(COUNTIF(C5:G16,"W/NC")+COUNTIF(C5:G16,"NC/W")+COUNTIF(C5:G16,"W\NC")+COUNTIF(C5:G16,"NC\W")) -> 0 | H29: =F29 -> 0
A30: WORK/SICK | E30: W/S | F30: =SUM(COUNTIF(C5:G16,"W/S")+COUNTIF(C5:G16,"S/W")+COUNTIF(C5:G16,"W\S")+COUNTIF(C5:G16,"S\W")) -> 0 | H30: =F30 -> 0
A31: PERSONAL/NON CONTRACT | E31: P/NC | F31: =SUM(COUNTIF(C5:G16,"P/NC")+COUNTIF(C5:G16,"NC/P")+COUNTIF(C5:G16,"P\NC")+COUNTIF(C5:G16,"NC\P")) -> 0 | H31: =F31 -> 0
A32: EMERGENCY/WORK | E32: E/W | F32: =SUM(COUNTIF(C5:G16,"W/E")+COUNTIF(C5:G16,"E/W")+COUNTIF(C5:G16,"W\E")+COUNTIF(C5:G16,"E\W")) -> 0 | H32: =F32 -> 0
A33: PERSONAL/WORK | E33: P/W | F33: =SUM(COUNTIF(C5:G16,"W/P")+COUNTIF(C5:G16,"P/W")+COUNTIF(C5:G16,"W\P")+COUNTIF(C5:G16,"P\W")) -> 0 | H33: =F33 -> 0
A34: JURY DUTY/WORK | E34: J/W | F34: =SUM(COUNTIF(C5:G16,"W/J")+COUNTIF(C5:G16,"J/W")+COUNTIF(C5:G16,"W\J")+COUNTIF(C5:G16,"J\W")) -> 0 | H34: =F34 -> 0
A35: PERSONAL/EMERGENCY | E35: P/E | F35: =SUM(COUNTIF($C$5:$G$16,"P/E")+COUNTIF($C$5:$G$16,"E/P")+COUNTIF($C$5:$G$16,"P\E")+COUNTIF($C$5:$G$16,"E\P")) -> 0 | H35: =F35 -> 0
A36: PERSONAL/SICK | E36: P/S | F36: =SUM(COUNTIF($C$5:$G$16,"P/S")+COUNTIF($C$5:$G$16,"S/P")+COUNTIF($C$5:$G$16,"P\S")+COUNTIF($C$5:$G$16,"S\P")) -> 0 | H36: =F36 -> 0
A37: EMERGENCY/SICK | E37: E/S | F37: =SUM(COUNTIF($C$5:$G$16,"E/S")+COUNTIF($C$5:$G$16,"S/E")+COUNTIF($C$5:$G$16,"E\S")+COUNTIF($C$5:$G$16,"S\E")) -> 0 | H37: =F37 -> 0
A38: SICK/NON CONTRACT | E38: S/NC | F38: =SUM(COUNTIF($C$5:$G$16,"NC/S")+COUNTIF($C$5:$G$16,"S/NC")+COUNTIF($C$5:$G$16,"NC\S")+COUNTIF($C$5:$G$16,"S\NC")) -> 0 | H38: =F38 -> 0
A39: EMERGENCY/NON CONTRACT | E39: E/NC | F39: =SUM(COUNTIF($C$5:$G$16,"NC/E")+COUNTIF($C$5:$G$16,"E/NC")+COUNTIF($C$5:$G$16,"NC\E")+COUNTIF($C$5:$G$16,"E\NC")) -> 0 | H39: =F39 -> 0
A40: JURY DUTY/SICK | E40: J/S | F40: =SUM(COUNTIF($C$5:$G$16,"S/J")+COUNTIF($C$5:$G$16,"J/S")+COUNTIF($C$5:$G$16,"S\J")+COUNTIF($C$5:$G$16,"J\S")) -> 0 | H40: =F40 -> 0
A41: JURY DUTY/PERSONAL | E41: J/P | F41: =SUM(COUNTIF($C$5:$G$16,"P/J")+COUNTIF($C$5:$G$16,"J/P")+COUNTIF($C$5:$G$16,"P\J")+COUNTIF($C$5:$G$16,"J\P")) -> 0 | H41: =F41 -> 0
A42: JURY DUTY/EMERGENCY | E42: J/E | F42: =SUM(COUNTIF($C$5:$G$16,"E/J")+COUNTIF($C$5:$G$16,"J/E")+COUNTIF($C$5:$G$16,"E\J")+COUNTIF($C$5:$G$16,"J\E")) -> 0 | H42: =F42 -> 0
A43: JURY DUTY/NON CONTRACT | E43: J/NC | F43: =SUM(COUNTIF($C$5:$G$16,"NC/J")+COUNTIF($C$5:$G$16,"J/NC")+COUNTIF($C$5:$G$16,"NC\J")+COUNTIF($C$5:$G$16,"J\NC")) -> 0 | H43: =F43 -> 0
A45: CODES (Saturday/Sunday)
A46: WORK | E46: W | F46: =COUNTIF(B5:B16,"W")+COUNTIF(H5:H16,"W") -> 0 | H46: =F46 -> 0
A47: WORK (HALF DAY) | E47: W/ | F47: =COUNTIF(B5:B16,"W/")+COUNTIF(H5:H16,"W/") -> 0 | H47: =F47 -> 0
C49: Employee Signature:
C51: Supervisor Signature:
A53: Timesheets may be emailed in lieu of a signature.

Sheet August 2026
A1: AUGUST 2026 | E1: ='July 2026'!E1 -> 240 DAYS | F1: ='July 2026'!F1 -> Enter your name here | I1: ='July 2026'!I1 -> 0
B4: SUN | C4: MON | D4: TUE | E4: WED | F4: THU | G4: FRI | H4: SAT
A5: CONTRACT DAYS WORKED | H5: =G5+1 -> 1 | I5: NON CONTRACT DAYS AVAILABLE (includes future NC days)
B7: =H5+1 -> 2 | C7: =B7+1 -> 3 | D7: =C7+1 -> 4 | E7: =D7+1 -> 5 | F7: =E7+1 -> 6 | G7: =F7+1 -> 7 | H7: =G7+1 -> 8
B9: =H7+1 -> 9 | C9: =B9+1 -> 10 | D9: =C9+1 -> 11 | E9: =D9+1 -> 12 | F9: =E9+1 -> 13 | G9: =F9+1 -> 14 | H9: =G9+1 -> 15
B11: =H9+1 -> 16 | C11: =B11+1 -> 17 | D11: =C11+1 -> 18 | E11: =D11+1 -> 19 | F11: =E11+1 -> 20 | G11: =F11+1 -> 21 | H11: =G11+1 -> 22
B13: =H11+1 -> 23 | C13: =B13+1 -> 24 | D13: =C13+1 -> 25 | E13: =D13+1 -> 26 | F13: =E13+1 -> 27 | G13: =F13+1 -> 28 | H13: =G13+1 -> 29
A14: =SUM(F21:G28)+'July 2026'!A14 -> 0 | I14: ='July 2026'!I14-F20+F46+(F47)/2 -> 21
B15: =H13+1 -> 30 | C15: =B15+1 -> 31
F17: Future NC Days Planned: | I17: ='September 2026'!$F$20+'October 2026'!$F$20+'November 2026'!$F$20+'December 2026'!$F$20+'January 2027'!$F$20+'February 2027'!$F$20+'March 2027'!$F$20+'April 2027'!$F$20+'May 2027'!$F$20+'June 2027'!$F$20 -> 0
A19: CODES (Monday-Friday) | F19: MONTH | H19: YTD
A20: NON CONTRACT | E20: NC | F20: =COUNTIF(C5:G16,"NC")+(F29/2)+(F31/2)+(F38/2)+(F39/2)+(F43/2) -> 0 | H20: =F20+'July 2026'!H20 -> 0 | J20: =IF(I14<0,"OVER","")
A21: WORK | E21: W | F21: =COUNTIF(C5:G16,"W")+(F29/2)+(F30/2)+F46+(F47/2)+(F32/2)+(F33/2)+(F34/2) -> 0 | H21: =F21+'July 2026'!H21 -> 0 | J21: =IF(H21>E1,"OVER","")
A22: SICK | E22: S | F22: =COUNTIF(C5:G16,"S")+(F30)/2+(F36/2)+(F37/2)+(F38/2)+(F40/2) -> 0 | H22: =F22+'July 2026'!H22 -> 0 | J22: =IF(H22>10,"OVER","")
A23: HOLIDAY | E23: H | F23: =COUNTIF(C5:G16,"H") -> 0 | H23: =F23+'July 2026'!H23 -> 0 | J23: =IF(AND(Directions!B5>220,H23>7),"OVER",IF(AND(Directions!B5<220,H23>5),"OVER",""))
A24: PERSONAL | E24: P | F24: =COUNTIF(C5:G16,"P")+(F31/2)+(F33/2)+(F35/2)+(F36/2)+(F41/2) -> 0 | H24: =F24+'July 2026'!H24 -> 0 | J24: =IF(H24>2,"OVER","")
A25: EMERGENCY | E25: E | F25: =COUNTIF(C5:G16,"E")+(F32)/2+(F35/2)+(F37/2)+(F39/2)+(F42/2) -> 0 | H25: =F25+'July 2026'!H25 -> 0 | J25: =IF(H25>1,"OVER","")
A26: MILITARY | E26: M | F26: =COUNTIF(C5:G16,"M") -> 0 | H26: =F26+'July 2026'!H26 -> 0
A27: JURY DUTY | E27: J | F27: =COUNTIF(C5:G16,"J")+(F34/2)+(F40/2)+(F41/2)+(F42/2)+(F43/2) -> 0 | H27: =F27+'July 2026'!H27 -> 0
A29: WORK/NON CONTRACT | E29: W/NC | F29: =SUM(COUNTIF(C5:G16,"W/NC")+COUNTIF(C5:G16,"NC/W")+COUNTIF(C5:G16,"W\NC")+COUNTIF(C5:G16,"NC\W")) -> 0 | H29: =F29+'July 2026'!H30 -> 0
A30: WORK/SICK | E30: W/S | F30: =SUM(COUNTIF(C5:G16,"W/S")+COUNTIF(C5:G16,"S/W")+COUNTIF(C5:G16,"W\S")+COUNTIF(C5:G16,"S\W")) -> 0 | H30: =F30+'July 2026'!H30 -> 0
A31: PERSONAL/NON CONTRACT | E31: P/NC | F31: =SUM(COUNTIF(C5:G16,"P/NC")+COUNTIF(C5:G16,"NC/P")+COUNTIF(C5:G16,"P\NC")+COUNTIF(C5:G16,"NC\P")) -> 0 | H31: =F31+'July 2026'!H31 -> 0
A32: EMERGENCY/WORK | E32: E/W | F32: =SUM(COUNTIF(C5:G16,"W/E")+COUNTIF(C5:G16,"E/W")+COUNTIF(C5:G16,"W\E")+COUNTIF(C5:G16,"E\W")) -> 0 | H32: =F32+'July 2026'!H32 -> 0
A33: PERSONAL/WORK | E33: P/W | F33: =SUM(COUNTIF(C5:G16,"W/P")+COUNTIF(C5:G16,"P/W")+COUNTIF(C5:G16,"W\P")+COUNTIF(C5:G16,"P\W")) -> 0 | H33: =F33+'July 2026'!H33 -> 0
A34: JURY DUTY/WORK | E34: J/W | F34: =SUM(COUNTIF(C5:G16,"W/J")+COUNTIF(C5:G16,"J/W")+COUNTIF(C5:G16,"W\J")+COUNTIF(C5:G16,"J\W")) -> 0 | H34: =F34+'July 2026'!H34 -> 0
A35: PERSONAL/EMERGENCY | E35: P/E | F35: =SUM(COUNTIF($C$5:$G$16,"P/E")+COUNTIF($C$5:$G$16,"E/P")+COUNTIF($C$5:$G$16,"P\E")+COUNTIF($C$5:$G$16,"E\P")) -> 0 | H35: =F35+'July 2026'!H35 -> 0
A36: PERSONAL/SICK | E36: P/S | F36: =SUM(COUNTIF($C$5:$G$16,"P/S")+COUNTIF($C$5:$G$16,"S/P")+COUNTIF($C$5:$G$16,"P\S")+COUNTIF($C$5:$G$16,"S\P")) -> 0 | H36: =F36+'July 2026'!H36 -> 0
A37: EMERGENCY/SICK | E37: E/S | F37: =SUM(COUNTIF($C$5:$G$16,"E/S")+COUNTIF($C$5:$G$16,"S/E")+COUNTIF($C$5:$G$16,"E\S")+COUNTIF($C$5:$G$16,"S\E")) -> 0 | H37: =F37+'July 2026'!H37 -> 0
A38: SICK/NON CONTRACT | E38: S/NC | F38: =SUM(COUNTIF($C$5:$G$16,"NC/S")+COUNTIF($C$5:$G$16,"S/NC")+COUNTIF($C$5:$G$16,"NC\S")+COUNTIF($C$5:$G$16,"S\NC")) -> 0 | H38: =F38+'July 2026'!H38 -> 0
A39: EMERGENCY/NON CONTRACT | E39: E/NC | F39: =SUM(COUNTIF($C$5:$G$16,"NC/E")+COUNTIF($C$5:$G$16,"E/NC")+COUNTIF($C$5:$G$16,"NC\E")+COUNTIF($C$5:$G$16,"E\NC")) -> 0 | H39: =F39+'July 2026'!H39 -> 0
A40: JURY DUTY/SICK | E40: J/S | F40: =SUM(COUNTIF($C$5:$G$16,"S/J")+COUNTIF($C$5:$G$16,"J/S")+COUNTIF($C$5:$G$16,"S\J")+COUNTIF($C$5:$G$16,"J\S")) -> 0 | H40: =F40+'July 2026'!H40 -> 0
A41: JURY DUTY/PERSONAL | E41: J/P | F41: =SUM(COUNTIF($C$5:$G$16,"P/J")+COUNTIF($C$5:$G$16,"J/P")+COUNTIF($C$5:$G$16,"P\J")+COUNTIF($C$5:$G$16,"J\P")) -> 0 | H41: =F41+'July 2026'!H41 -> 0
A42: JURY DUTY/EMERGENCY | E42: J/E | F42: =SUM(COUNTIF($C$5:$G$16,"E/J")+COUNTIF($C$5:$G$16,"J/E")+COUNTIF($C$5:$G$16,"E\J")+COUNTIF($C$5:$G$16,"J\E")) -> 0 | H42: =F42+'July 2026'!H42 -> 0
A43: JURY DUTY/NON CONTRACT | E43: J/NC | F43: =SUM(COUNTIF($C$5:$G$16,"NC/J")+COUNTIF($C$5:$G$16,"J/NC")+COUNTIF($C$5:$G$16,"NC\J")+COUNTIF($C$5:$G$16,"J\NC")) -> 0 | H43: =F43+'July 2026'!H43 -> 0
A45: CODES (Saturday/Sunday)
A46: WORK | E46: W | F46: =COUNTIF(B5:B16,"W")+COUNTIF(H5:H16,"W") -> 0 | H46: =F46 -> 0
A47: WORK (HALF DAY) | E47: W/ | F47: =COUNTIF(B5:B16,"W/")+COUNTIF(H5:H16,"W/") -> 0 | H47: =F47 -> 0
C49: Employee Signature:
C51: Supervisor Signature:
A53: Timesheets may be emailed in lieu of a signature.

Sheet September 2026
A1: SEPTEMBER 2026 | E1: ='July 2026'!E1 -> 240 DAYS | F1: ='July 2026'!F1 -> Enter your name here | I1: ='July 2026'!I1 -> 0
B4: SUN | C4: MON | D4: TUE | E4: WED | F4: THU | G4: FRI | H4: SAT
A5: CONTRACT DAYS WORKED | D5: =C5+1 -> 1 | E5: =D5+1 -> 2 | F5: =E5+1 -> 3 | G5: =F5+1 -> 4 | H5: =G5+1 -> 5 | I5: NON CONTRACT DAYS AVAILABLE (includes future NC days)
B7: =H5+1 -> 6 | C7: =B7+1 -> 7 | D7: =C7+1 -> 8 | E7: =D7+1 -> 9 | F7: =E7+1 -> 10 | G7: =F7+1 -> 11 | H7: =G7+1 -> 12
B9: =H7+1 -> 13 | C9: =B9+1 -> 14 | D9: =C9+1 -> 15 | E9: =D9+1 -> 16 | F9: =E9+1 -> 17 | G9: =F9+1 -> 18 | H9: =G9+1 -> 19
B11: =H9+1 -> 20 | C11: =B11+1 -> 21 | D11: =C11+1 -> 22 | E11: =D11+1 -> 23 | F11: =E11+1 -> 24 | G11: =F11+1 -> 25 | H11: =G11+1 -> 26
B13: =H11+1 -> 27 | C13: =B13+1 -> 28 | D13: =C13+1 -> 29 | E13: =D13+1 -> 30
A14: =SUM(F21:G28)+'August 2026'!A14 -> 0 | I14: ='August 2026'!I14-F20+F46+(F47)/2 -> 21
F17: Future NC Days Planned: | I17: ='October 2026'!$F$20+'November 2026'!$F$20+'December 2026'!$F$20+'January 2027'!$F$20+'February 2027'!$F$20+'March 2027'!$F$20+'April 2027'!$F$20+'May 2027'!$F$20+'June 2027'!$F$20 -> 0
A19: CODES (Monday-Friday) | F19: MONTH | H19: YTD
A20: NON CONTRACT | E20: NC | F20: =COUNTIF(C5:G16,"NC")+(F29/2)+(F31/2)+(F38/2)+(F39/2)+(F43/2) -> 0 | H20: =F20+'August 2026'!H20 -> 0 | J20: =IF(I14<0,"OVER","")
A21: WORK | E21: W | F21: =COUNTIF(C5:G16,"W")+(F29/2)+(F30/2)+F46+(F47/2)+(F32/2)+(F33/2)+(F34/2) -> 0 | H21: =F21+'August 2026'!H21 -> 0 | J21: =IF(H21>E1,"OVER","")
A22: SICK | E22: S | F22: =COUNTIF(C5:G16,"S")+(F30)/2+(F36/2)+(F37/2)+(F38/2)+(F40/2) -> 0 | H22: =F22+'August 2026'!H22 -> 0 | J22: =IF(H22>10,"OVER","")
A23: HOLIDAY | E23: H | F23: =COUNTIF(C5:G16,"H") -> 0 | H23: =F23+'August 2026'!H23 -> 0 | J23: =IF(AND(Directions!B5>220,H23>7),"OVER",IF(AND(Directions!B5<220,H23>5),"OVER",""))
A24: PERSONAL | E24: P | F24: =COUNTIF(C5:G16,"P")+(F31/2)+(F33/2)+(F35/2)+(F36/2)+(F41/2) -> 0 | H24: =F24+'August 2026'!H24 -> 0 | J24: =IF(H24>2,"OVER","")
A25: EMERGENCY | E25: E | F25: =COUNTIF(C5:G16,"E")+(F32)/2+(F35/2)+(F37/2)+(F39/2)+(F42/2) -> 0 | H25: =F25+'August 2026'!H25 -> 0 | J25: =IF(H25>1,"OVER","")
A26: MILITARY | E26: M | F26: =COUNTIF(C5:G16,"M") -> 0 | H26: =F26+'August 2026'!H26 -> 0
A27: JURY DUTY | E27: J | F27: =COUNTIF(C5:G16,"J")+(F34/2)+(F40/2)+(F41/2)+(F42/2)+(F43/2) -> 0 | H27: =F27+'August 2026'!H27 -> 0
A29: WORK/NON CONTRACT | E29: W/NC | F29: =SUM(COUNTIF(C5:G16,"W/NC")+COUNTIF(C5:G16,"NC/W")+COUNTIF(C5:G16,"W\NC")+COUNTIF(C5:G16,"NC\W")) -> 0 | H29: =F29+'August 2026'!H30 -> 0
A30: WORK/SICK | E30: W/S | F30: =SUM(COUNTIF(C5:G16,"W/S")+COUNTIF(C5:G16,"S/W")+COUNTIF(C5:G16,"W\S")+COUNTIF(C5:G16,"S\W")) -> 0 | H30: =F30+'August 2026'!H30 -> 0
A31: PERSONAL/NON CONTRACT | E31: P/NC | F31: =SUM(COUNTIF(C5:G16,"P/NC")+COUNTIF(C5:G16,"NC/P")+COUNTIF(C5:G16,"P\NC")+COUNTIF(C5:G16,"NC\P")) -> 0 | H31: =F31+'August 2026'!H31 -> 0
A32: EMERGENCY/WORK | E32: E/W | F32: =SUM(COUNTIF(C5:G16,"W/E")+COUNTIF(C5:G16,"E/W")+COUNTIF(C5:G16,"W\E")+COUNTIF(C5:G16,"E\W")) -> 0 | H32: =F32+'August 2026'!H32 -> 0
A33: PERSONAL/WORK | E33: P/W | F33: =SUM(COUNTIF(C5:G16,"W/P")+COUNTIF(C5:G16,"P/W")+COUNTIF(C5:G16,"W\P")+COUNTIF(C5:G16,"P\W")) -> 0 | H33: =F33+'August 2026'!H33 -> 0
A34: JURY DUTY/WORK | E34: J/W | F34: =SUM(COUNTIF(C5:G16,"W/J")+COUNTIF(C5:G16,"J/W")+COUNTIF(C5:G16,"W\J")+COUNTIF(C5:G16,"J\W")) -> 0 | H34: =F34+'August 2026'!H34 -> 0
A35: PERSONAL/EMERGENCY | E35: P/E | F35: =SUM(COUNTIF($C$5:$G$16,"P/E")+COUNTIF($C$5:$G$16,"E/P")+COUNTIF($C$5:$G$16,"P\E")+COUNTIF($C$5:$G$16,"E\P")) -> 0 | H35: =F35+'August 2026'!H35 -> 0
A36: PERSONAL/SICK | E36: P/S | F36: =SUM(COUNTIF($C$5:$G$16,"P/S")+COUNTIF($C$5:$G$16,"S/P")+COUNTIF($C$5:$G$16,"P\S")+COUNTIF($C$5:$G$16,"S\P")) -> 0 | H36: =F36+'August 2026'!H36 -> 0
A37: EMERGENCY/SICK | E37: E/S | F37: =SUM(COUNTIF($C$5:$G$16,"E/S")+COUNTIF($C$5:$G$16,"S/E")+COUNTIF($C$5:$G$16,"E\S")+COUNTIF($C$5:$G$16,"S\E")) -> 0 | H37: =F37+'August 2026'!H37 -> 0
A38: SICK/NON CONTRACT | E38: S/NC | F38: =SUM(COUNTIF($C$5:$G$16,"NC/S")+COUNTIF($C$5:$G$16,"S/NC")+COUNTIF($C$5:$G$16,"NC\S")+COUNTIF($C$5:$G$16,"S\NC")) -> 0 | H38: =F38+'August 2026'!H38 -> 0
A39: EMERGENCY/NON CONTRACT | E39: E/NC | F39: =SUM(COUNTIF($C$5:$G$16,"NC/E")+COUNTIF($C$5:$G$16,"E/NC")+COUNTIF($C$5:$G$16,"NC\E")+COUNTIF($C$5:$G$16,"E\NC")) -> 0 | H39: =F39+'August 2026'!H39 -> 0
A40: JURY DUTY/SICK | E40: J/S | F40: =SUM(COUNTIF($C$5:$G$16,"S/J")+COUNTIF($C$5:$G$16,"J/S")+COUNTIF($C$5:$G$16,"S\J")+COUNTIF($C$5:$G$16,"J\S")) -> 0 | H40: =F40+'August 2026'!H40 -> 0
A41: JURY DUTY/PERSONAL | E41: J/P | F41: =SUM(COUNTIF($C$5:$G$16,"P/J")+COUNTIF($C$5:$G$16,"J/P")+COUNTIF($C$5:$G$16,"P\J")+COUNTIF($C$5:$G$16,"J\P")) -> 0 | H41: =F41+'August 2026'!H41 -> 0
A42: JURY DUTY/EMERGENCY | E42: J/E | F42: =SUM(COUNTIF($C$5:$G$16,"E/J")+COUNTIF($C$5:$G$16,"J/E")+COUNTIF($C$5:$G$16,"E\J")+COUNTIF($C$5:$G$16,"J\E")) -> 0 | H42: =F42+'August 2026'!H42 -> 0
A43: JURY DUTY/NON CONTRACT | E43: J/NC | F43: =SUM(COUNTIF($C$5:$G$16,"NC/J")+COUNTIF($C$5:$G$16,"J/NC")+COUNTIF($C$5:$G$16,"NC\J")+COUNTIF($C$5:$G$16,"J\NC")) -> 0 | H43: =F43+'August 2026'!H43 -> 0
A45: CODES (Saturday/Sunday)
A46: WORK | E46: W | F46: =COUNTIF(B5:B16,"W")+COUNTIF(H5:H16,"W") -> 0 | H46: =F46 -> 0
A47: WORK (HALF DAY) | E47: W/ | F47: =COUNTIF(B5:B16,"W/")+COUNTIF(H5:H16,"W/") -> 0 | H47: =F47 -> 0
C49: Employee Signature:
C51: Supervisor Signature:
A53: Timesheets may be emailed in lieu of a signature.

Sheet October 2026
A1: OCTOBER 2026 | E1: ='July 2026'!E1 -> 240 DAYS | F1: ='July 2026'!F1 -> Enter your name here | I1: ='July 2026'!I1 -> 0
B4: SUN | C4: MON | D4: TUE | E4: WED | F4: THU | G4: FRI | H4: SAT
A5: CONTRACT DAYS WORKED | F5: =E5+1 -> 1 | G5: =F5+1 -> 2 | H5: =G5+1 -> 3 | I5: NON CONTRACT DAYS AVAILABLE (includes future NC days)
B7: =H5+1 -> 4 | C7: =B7+1 -> 5 | D7: =C7+1 -> 6 | E7: =D7+1 -> 7 | F7: =E7+1 -> 8 | G7: =F7+1 -> 9 | H7: =G7+1 -> 10
B9: =H7+1 -> 11 | C9: =B9+1 -> 12 | D9: =C9+1 -> 13 | E9: =D9+1 -> 14 | F9: =E9+1 -> 15 | G9: =F9+1 -> 16 | H9: =G9+1 -> 17
B11: =H9+1 -> 18 | C11: =B11+1 -> 19 | D11: =C11+1 -> 20 | E11: =D11+1 -> 21 | F11: =E11+1 -> 22 | G11: =F11+1 -> 23 | H11: =G11+1 -> 24
B13: =H11+1 -> 25 | C13: =B13+1 -> 26 | D13: =C13+1 -> 27 | E13: =D13+1 -> 28 | F13: =E13+1 -> 29 | G13: =F13+1 -> 30 | H13: =G13+1 -> 31
A14: =SUM(F21:G28)+'September 2026'!A14 -> 0 | I14: ='September 2026'!I14-F20+F46+(F47)/2 -> 21
F17: Future NC Days Planned: | I17: ='November 2026'!$F$20+'December 2026'!$F$20+'January 2027'!$F$20+'February 2027'!$F$20+'March 2027'!$F$20+'April 2027'!$F$20+'May 2027'!$F$20+'June 2027'!$F$20 -> 0
A19: CODES (Monday-Friday) | F19: MONTH | H19: YTD
A20: NON CONTRACT | E20: NC | F20: =COUNTIF(C5:G16,"NC")+(F29/2)+(F31/2)+(F38/2)+(F39/2)+(F43/2) -> 0 | H20: =F20+'September 2026'!H20 -> 0 | J20: =IF(I14<0,"OVER","")
A21: WORK | E21: W | F21: =COUNTIF(C5:G16,"W")+(F29/2)+(F30/2)+F46+(F47/2)+(F32/2)+(F33/2)+(F34/2) -> 0 | H21: =F21+'September 2026'!H21 -> 0 | J21: =IF(H21>E1,"OVER","")
A22: SICK | E22: S | F22: =COUNTIF(C5:G16,"S")+(F30)/2+(F36/2)+(F37/2)+(F38/2)+(F40/2) -> 0 | H22: =F22+'September 2026'!H22 -> 0 | J22: =IF(H22>10,"OVER","")
A23: HOLIDAY | E23: H | F23: =COUNTIF(C5:G16,"H") -> 0 | H23: =F23+'September 2026'!H23 -> 0 | J23: =IF(AND(Directions!B5>220,H23>7),"OVER",IF(AND(Directions!B5<220,H23>5),"OVER",""))
A24: PERSONAL | E24: P | F24: =COUNTIF(C5:G16,"P")+(F31/2)+(F33/2)+(F35/2)+(F36/2)+(F41/2) -> 0 | H24: =F24+'September 2026'!H24 -> 0 | J24: =IF(H24>2,"OVER","")
A25: EMERGENCY | E25: E | F25: =COUNTIF(C5:G16,"E")+(F32)/2+(F35/2)+(F37/2)+(F39/2)+(F42/2) -> 0 | H25: =F25+'September 2026'!H25 -> 0 | J25: =IF(H25>1,"OVER","")
A26: MILITARY | E26: M | F26: =COUNTIF(C5:G16,"M") -> 0 | H26: =F26+'September 2026'!H26 -> 0
A27: JURY DUTY | E27: J | F27: =COUNTIF(C5:G16,"J")+(F34/2)+(F40/2)+(F41/2)+(F42/2)+(F43/2) -> 0 | H27: =F27+'September 2026'!H27 -> 0
A29: WORK/NON CONTRACT | E29: W/NC | F29: =SUM(COUNTIF(C5:G16,"W/NC")+COUNTIF(C5:G16,"NC/W")+COUNTIF(C5:G16,"W\NC")+COUNTIF(C5:G16,"NC\W")) -> 0 | H29: =F29+'September 2026'!H30 -> 0
A30: WORK/SICK | E30: W/S | F30: =SUM(COUNTIF(C5:G16,"W/S")+COUNTIF(C5:G16,"S/W")+COUNTIF(C5:G16,"W\S")+COUNTIF(C5:G16,"S\W")) -> 0 | H30: =F30+'September 2026'!H30 -> 0
A31: PERSONAL/NON CONTRACT | E31: P/NC | F31: =SUM(COUNTIF(C5:G16,"P/NC")+COUNTIF(C5:G16,"NC/P")+COUNTIF(C5:G16,"P\NC")+COUNTIF(C5:G16,"NC\P")) -> 0 | H31: =F31+'September 2026'!H31 -> 0
A32: EMERGENCY/WORK | E32: E/W | F32: =SUM(COUNTIF(C5:G16,"W/E")+COUNTIF(C5:G16,"E/W")+COUNTIF(C5:G16,"W\E")+COUNTIF(C5:G16,"E\W")) -> 0 | H32: =F32+'September 2026'!H32 -> 0
A33: PERSONAL/WORK | E33: P/W | F33: =SUM(COUNTIF(C5:G16,"W/P")+COUNTIF(C5:G16,"P/W")+COUNTIF(C5:G16,"W\P")+COUNTIF(C5:G16,"P\W")) -> 0 | H33: =F33+'September 2026'!H33 -> 0
A34: JURY DUTY/WORK | E34: J/W | F34: =SUM(COUNTIF(C5:G16,"W/J")+COUNTIF(C5:G16,"J/W")+COUNTIF(C5:G16,"W\J")+COUNTIF(C5:G16,"J\W")) -> 0 | H34: =F34+'September 2026'!H34 -> 0
A35: PERSONAL/EMERGENCY | E35: P/E | F35: =SUM(COUNTIF($C$5:$G$16,"P/E")+COUNTIF($C$5:$G$16,"E/P")+COUNTIF($C$5:$G$16,"P\E")+COUNTIF($C$5:$G$16,"E\P")) -> 0 | H35: =F35+'September 2026'!H35 -> 0
A36: PERSONAL/SICK | E36: P/S | F36: =SUM(COUNTIF($C$5:$G$16,"P/S")+COUNTIF($C$5:$G$16,"S/P")+COUNTIF($C$5:$G$16,"P\S")+COUNTIF($C$5:$G$16,"S\P")) -> 0 | H36: =F36+'September 2026'!H36 -> 0
A37: EMERGENCY/SICK | E37: E/S | F37: =SUM(COUNTIF($C$5:$G$16,"E/S")+COUNTIF($C$5:$G$16,"S/E")+COUNTIF($C$5:$G$16,"E\S")+COUNTIF($C$5:$G$16,"S\E")) -> 0 | H37: =F37+'September 2026'!H37 -> 0
A38: SICK/NON CONTRACT | E38: S/NC | F38: =SUM(COUNTIF($C$5:$G$16,"NC/S")+COUNTIF($C$5:$G$16,"S/NC")+COUNTIF($C$5:$G$16,"NC\S")+COUNTIF($C$5:$G$16,"S\NC")) -> 0 | H38: =F38+'September 2026'!H38 -> 0
A39: EMERGENCY/NON CONTRACT | E39: E/NC | F39: =SUM(COUNTIF($C$5:$G$16,"NC/E")+COUNTIF($C$5:$G$16,"E/NC")+COUNTIF($C$5:$G$16,"NC\E")+COUNTIF($C$5:$G$16,"E\NC")) -> 0 | H39: =F39+'September 2026'!H39 -> 0
A40: JURY DUTY/SICK | E40: J/S | F40: =SUM(COUNTIF($C$5:$G$16,"S/J")+COUNTIF($C$5:$G$16,"J/S")+COUNTIF($C$5:$G$16,"S\J")+COUNTIF($C$5:$G$16,"J\S")) -> 0 | H40: =F40+'September 2026'!H40 -> 0
A41: JURY DUTY/PERSONAL | E41: J/P | F41: =SUM(COUNTIF($C$5:$G$16,"P/J")+COUNTIF($C$5:$G$16,"J/P")+COUNTIF($C$5:$G$16,"P\J")+COUNTIF($C$5:$G$16,"J\P")) -> 0 | H41: =F41+'September 2026'!H41 -> 0
A42: JURY DUTY/EMERGENCY | E42: J/E | F42: =SUM(COUNTIF($C$5:$G$16,"E/J")+COUNTIF($C$5:$G$16,"J/E")+COUNTIF($C$5:$G$16,"E\J")+COUNTIF($C$5:$G$16,"J\E")) -> 0 | H42: =F42+'September 2026'!H42 -> 0
A43: JURY DUTY/NON CONTRACT | E43: J/NC | F43: =SUM(COUNTIF($C$5:$G$16,"NC/J")+COUNTIF($C$5:$G$16,"J/NC")+COUNTIF($C$5:$G$16,"NC\J")+COUNTIF($C$5:$G$16,"J\NC")) -> 0 | H43: =F43+'September 2026'!H43 -> 0
A45: CODES (Saturday/Sunday)
A46: WORK | E46: W | F46: =COUNTIF(B5:B16,"W")+COUNTIF(H5:H16,"W") -> 0 | H46: =F46 -> 0
A47: WORK (HALF DAY) | E47: W/ | F47: =COUNTIF(B5:B16,"W/")+COUNTIF(H5:H16,"W/") -> 0 | H47: =F47 -> 0
C49: Employee Signature:
C51: Supervisor Signature:
A53: Timesheets may be emailed in lieu of a signature.

Sheet November 2026
A1: NOVEMBER 2026 | E1: ='July 2026'!E1 -> 240 DAYS | F1: ='July 2026'!F1 -> Enter your name here | I1: ='July 2026'!I1 -> 0
B4: SUN | C4: MON | D4: TUE | E4: WED | F4: THU | G4: FRI | H4: SAT
A5: CONTRACT DAYS WORKED | B5: 1 | C5: =B5+1 -> 2 | D5: =C5+1 -> 3 | E5: =D5+1 -> 4 | F5: =E5+1 -> 5 | G5: =F5+1 -> 6 | H5: =G5+1 -> 7 | I5: NON CONTRACT DAYS AVAILABLE (includes future NC days)
B7: =H5+1 -> 8 | C7: =B7+1 -> 9 | D7: =C7+1 -> 10 | E7: =D7+1 -> 11 | F7: =E7+1 -> 12 | G7: =F7+1 -> 13 | H7: =G7+1 -> 14
B9: =H7+1 -> 15 | C9: =B9+1 -> 16 | D9: =C9+1 -> 17 | E9: =D9+1 -> 18 | F9: =E9+1 -> 19 | G9: =F9+1 -> 20 | H9: =G9+1 -> 21
B11: =H9+1 -> 22 | C11: =B11+1 -> 23 | D11: =C11+1 -> 24 | E11: =D11+1 -> 25 | F11: =E11+1 -> 26 | G11: =F11+1 -> 27 | H11: =G11+1 -> 28
B13: =H11+1 -> 29 | C13: =B13+1 -> 30
A14: =SUM(F21:G28)+'October 2026'!A14 -> 0 | I14: ='October 2026'!I14-F20+F46+(F47)/2 -> 21
F17: Future NC Days Planned: | I17: ='December 2026'!$F$20+'January 2027'!$F$20+'February 2027'!$F$20+'March 2027'!$F$20+'April 2027'!$F$20+'May 2027'!$F$20+'June 2027'!$F$20 -> 0
A19: CODES (Monday-Friday) | F19: MONTH | H19: YTD
A20: NON CONTRACT | E20: NC | F20: =COUNTIF(C5:G16,"NC")+(F29/2)+(F31/2)+(F38/2)+(F39/2)+(F43/2) -> 0 | H20: =F20+'October 2026'!H20 -> 0 | J20: =IF(I14<0,"OVER","")
A21: WORK | E21: W | F21: =COUNTIF(C5:G16,"W")+(F29/2)+(F30/2)+F46+(F47/2)+(F32/2)+(F33/2)+(F34/2) -> 0 | H21: =F21+'October 2026'!H21 -> 0 | J21: =IF(H21>E1,"OVER","")
A22: SICK | E22: S | F22: =COUNTIF(C5:G16,"S")+(F30)/2+(F36/2)+(F37/2)+(F38/2)+(F40/2) -> 0 | H22: =F22+'October 2026'!H22 -> 0 | J22: =IF(H22>10,"OVER","")
A23: HOLIDAY | E23: H | F23: =COUNTIF(C5:G16,"H") -> 0 | H23: =F23+'October 2026'!H23 -> 0 | J23: =IF(AND(Directions!B5>220,H23>7),"OVER",IF(AND(Directions!B5<220,H23>5),"OVER",""))
A24: PERSONAL | E24: P | F24: =COUNTIF(C5:G16,"P")+(F31/2)+(F33/2)+(F35/2)+(F36/2)+(F41/2) -> 0 | H24: =F24+'October 2026'!H24 -> 0 | J24: =IF(H24>2,"OVER","")
A25: EMERGENCY | E25: E | F25: =COUNTIF(C5:G16,"E")+(F32)/2+(F35/2)+(F37/2)+(F39/2)+(F42/2) -> 0 | H25: =F25+'October 2026'!H25 -> 0 | J25: =IF(H25>1,"OVER","")
A26: MILITARY | E26: M | F26: =COUNTIF(C5:G16,"M") -> 0 | H26: =F26+'October 2026'!H26 -> 0
A27: JURY DUTY | E27: J | F27: =COUNTIF(C5:G16,"J")+(F34/2)+(F40/2)+(F41/2)+(F42/2)+(F43/2) -> 0 | H27: =F27+'October 2026'!H27 -> 0
A29: WORK/NON CONTRACT | E29: W/NC | F29: =SUM(COUNTIF(C5:G16,"W/NC")+COUNTIF(C5:G16,"NC/W")+COUNTIF(C5:G16,"W\NC")+COUNTIF(C5:G16,"NC\W")) -> 0 | H29: =F29+'October 2026'!H30 -> 0
A30: WORK/SICK | E30: W/S | F30: =SUM(COUNTIF(C5:G16,"W/S")+COUNTIF(C5:G16,"S/W")+COUNTIF(C5:G16,"W\S")+COUNTIF(C5:G16,"S\W")) -> 0 | H30: =F30+'October 2026'!H30 -> 0
A31: PERSONAL/NON CONTRACT | E31: P/NC | F31: =SUM(COUNTIF(C5:G16,"P/NC")+COUNTIF(C5:G16,"NC/P")+COUNTIF(C5:G16,"P\NC")+COUNTIF(C5:G16,"NC\P")) -> 0 | H31: =F31+'October 2026'!H31 -> 0
A32: EMERGENCY/WORK | E32: E/W | F32: =SUM(COUNTIF(C5:G16,"W/E")+COUNTIF(C5:G16,"E/W")+COUNTIF(C5:G16,"W\E")+COUNTIF(C5:G16,"E\W")) -> 0 | H32: =F32+'October 2026'!H32 -> 0
A33: PERSONAL/WORK | E33: P/W | F33: =SUM(COUNTIF(C5:G16,"W/P")+COUNTIF(C5:G16,"P/W")+COUNTIF(C5:G16,"W\P")+COUNTIF(C5:G16,"P\W")) -> 0 | H33: =F33+'October 2026'!H33 -> 0
A34: JURY DUTY/WORK | E34: J/W | F34: =SUM(COUNTIF(C5:G16,"W/J")+COUNTIF(C5:G16,"J/W")+COUNTIF(C5:G16,"W\J")+COUNTIF(C5:G16,"J\W")) -> 0 | H34: =F34+'October 2026'!H34 -> 0
A35: PERSONAL/EMERGENCY | E35: P/E | F35: =SUM(COUNTIF($C$5:$G$16,"P/E")+COUNTIF($C$5:$G$16,"E/P")+COUNTIF($C$5:$G$16,"P\E")+COUNTIF($C$5:$G$16,"E\P")) -> 0 | H35: =F35+'October 2026'!H35 -> 0
A36: PERSONAL/SICK | E36: P/S | F36: =SUM(COUNTIF($C$5:$G$16,"P/S")+COUNTIF($C$5:$G$16,"S/P")+COUNTIF($C$5:$G$16,"P\S")+COUNTIF($C$5:$G$16,"S\P")) -> 0 | H36: =F36+'October 2026'!H36 -> 0
A37: EMERGENCY/SICK | E37: E/S | F37: =SUM(COUNTIF($C$5:$G$16,"E/S")+COUNTIF($C$5:$G$16,"S/E")+COUNTIF($C$5:$G$16,"E\S")+COUNTIF($C$5:$G$16,"S\E")) -> 0 | H37: =F37+'October 2026'!H37 -> 0
A38: SICK/NON CONTRACT | E38: S/NC | F38: =SUM(COUNTIF($C$5:$G$16,"NC/S")+COUNTIF($C$5:$G$16,"S/NC")+COUNTIF($C$5:$G$16,"NC\S")+COUNTIF($C$5:$G$16,"S\NC")) -> 0 | H38: =F38+'October 2026'!H38 -> 0
A39: EMERGENCY/NON CONTRACT | E39: E/NC | F39: =SUM(COUNTIF($C$5:$G$16,"NC/E")+COUNTIF($C$5:$G$16,"E/NC")+COUNTIF($C$5:$G$16,"NC\E")+COUNTIF($C$5:$G$16,"E\NC")) -> 0 | H39: =F39+'October 2026'!H39 -> 0
A40: JURY DUTY/SICK | E40: J/S | F40: =SUM(COUNTIF($C$5:$G$16,"S/J")+COUNTIF($C$5:$G$16,"J/S")+COUNTIF($C$5:$G$16,"S\J")+COUNTIF($C$5:$G$16,"J\S")) -> 0 | H40: =F40+'October 2026'!H40 -> 0
A41: JURY DUTY/PERSONAL | E41: J/P | F41: =SUM(COUNTIF($C$5:$G$16,"P/J")+COUNTIF($C$5:$G$16,"J/P")+COUNTIF($C$5:$G$16,"P\J")+COUNTIF($C$5:$G$16,"J\P")) -> 0 | H41: =F41+'October 2026'!H41 -> 0
A42: JURY DUTY/EMERGENCY | E42: J/E | F42: =SUM(COUNTIF($C$5:$G$16,"E/J")+COUNTIF($C$5:$G$16,"J/E")+COUNTIF($C$5:$G$16,"E\J")+COUNTIF($C$5:$G$16,"J\E")) -> 0 | H42: =F42+'October 2026'!H42 -> 0
A43: JURY DUTY/NON CONTRACT | E43: J/NC | F43: =SUM(COUNTIF($C$5:$G$16,"NC/J")+COUNTIF($C$5:$G$16,"J/NC")+COUNTIF($C$5:$G$16,"NC\J")+COUNTIF($C$5:$G$16,"J\NC")) -> 0 | H43: =F43+'October 2026'!H43 -> 0
A45: CODES (Saturday/Sunday)
A46: WORK | E46: W | F46: =COUNTIF(B5:B16,"W")+COUNTIF(H5:H16,"W") -> 0 | H46: =F46 -> 0
A47: WORK (HALF DAY) | E47: W/ | F47: =COUNTIF(B5:B16,"W/")+COUNTIF(H5:H16,"W/") -> 0 | H47: =F47 -> 0
C49: Employee Signature:
C51: Supervisor Signature:
A53: Timesheets may be emailed in lieu of a signature.

Sheet December 2026
A1: DECEMBER 2026 | E1: ='July 2026'!E1 -> 240 DAYS | F1: ='July 2026'!F1 -> Enter your name here | I1: ='July 2026'!I1 -> 0
B4: SUN | C4: MON | D4: TUE | E4: WED | F4: THU | G4: FRI | H4: SAT
A5: CONTRACT DAYS WORKED | D5: =C5+1 -> 1 | E5: =D5+1 -> 2 | F5: =E5+1 -> 3 | G5: =F5+1 -> 4 | H5: =G5+1 -> 5 | I5: NON CONTRACT DAYS AVAILABLE (includes future NC days)
B7: =H5+1 -> 6 | C7: =B7+1 -> 7 | D7: =C7+1 -> 8 | E7: =D7+1 -> 9 | F7: =E7+1 -> 10 | G7: =F7+1 -> 11 | H7: =G7+1 -> 12
B9: =H7+1 -> 13 | C9: =B9+1 -> 14 | D9: =C9+1 -> 15 | E9: =D9+1 -> 16 | F9: =E9+1 -> 17 | G9: =F9+1 -> 18 | H9: =G9+1 -> 19
B11: =H9+1 -> 20 | C11: =B11+1 -> 21 | D11: =C11+1 -> 22 | E11: =D11+1 -> 23 | F11: =E11+1 -> 24 | G11: =F11+1 -> 25 | H11: =G11+1 -> 26
B13: =H11+1 -> 27 | C13: =B13+1 -> 28 | D13: =C13+1 -> 29 | E13: =D13+1 -> 30 | F13: =E13+1 -> 31
A14: =SUM(F21:G28)+'November 2026'!A14 -> 0 | I14: ='November 2026'!I14-F20+F46+(F47)/2 -> 21
F17: Future NC Days Planned: | I17: ='January 2027'!$F$20+'February 2027'!$F$20+'March 2027'!$F$20+'April 2027'!$F$20+'May 2027'!$F$20+'June 2027'!$F$20 -> 0
A19: CODES (Monday-Friday) | F19: MONTH | H19: YTD
A20: NON CONTRACT | E20: NC | F20: =COUNTIF(C5:G16,"NC")+(F29/2)+(F31/2)+(F38/2)+(F39/2)+(F43/2) -> 0 | H20: =F20+'November 2026'!H20 -> 0 | J20: =IF(I14<0,"OVER","")
A21: WORK | E21: W | F21: =COUNTIF(C5:G16,"W")+(F29/2)+(F30/2)+F46+(F47/2)+(F32/2)+(F33/2)+(F34/2) -> 0 | H21: =F21+'November 2026'!H21 -> 0 | J21: =IF(H21>E1,"OVER","")
A22: SICK | E22: S | F22: =COUNTIF(C5:G16,"S")+(F30)/2+(F36/2)+(F37/2)+(F38/2)+(F40/2) -> 0 | H22: =F22+'November 2026'!H22 -> 0 | J22: =IF(H22>10,"OVER","")
A23: HOLIDAY | E23: H | F23: =COUNTIF(C5:G16,"H") -> 0 | H23: =F23+'November 2026'!H23 -> 0 | J23: =IF(AND(Directions!B5>220,H23>7),"OVER",IF(AND(Directions!B5<220,H23>5),"OVER",""))
A24: PERSONAL | E24: P | F24: =COUNTIF(C5:G16,"P")+(F31/2)+(F33/2)+(F35/2)+(F36/2)+(F41/2) -> 0 | H24: =F24+'November 2026'!H24 -> 0 | J24: =IF(H24>2,"OVER","")
A25: EMERGENCY | E25: E | F25: =COUNTIF(C5:G16,"E")+(F32)/2+(F35/2)+(F37/2)+(F39/2)+(F42/2) -> 0 | H25: =F25+'November 2026'!H25 -> 0 | J25: =IF(H25>1,"OVER","")
A26: MILITARY | E26: M | F26: =COUNTIF(C5:G16,"M") -> 0 | H26: =F26+'November 2026'!H26 -> 0
A27: JURY DUTY | E27: J | F27: =COUNTIF(C5:G16,"J")+(F34/2)+(F40/2)+(F41/2)+(F42/2)+(F43/2) -> 0 | H27: =F27+'November 2026'!H27 -> 0
A29: WORK/NON CONTRACT | E29: W/NC | F29: =SUM(COUNTIF(C5:G16,"W/NC")+COUNTIF(C5:G16,"NC/W")+COUNTIF(C5:G16,"W\NC")+COUNTIF(C5:G16,"NC\W")) -> 0 | H29: =F29+'November 2026'!H30 -> 0
A30: WORK/SICK | E30: W/S | F30: =SUM(COUNTIF(C5:G16,"W/S")+COUNTIF(C5:G16,"S/W")+COUNTIF(C5:G16,"W\S")+COUNTIF(C5:G16,"S\W")) -> 0 | H30: =F30+'November 2026'!H30 -> 0
A31: PERSONAL/NON CONTRACT | E31: P/NC | F31: =SUM(COUNTIF(C5:G16,"P/NC")+COUNTIF(C5:G16,"NC/P")+COUNTIF(C5:G16,"P\NC")+COUNTIF(C5:G16,"NC\P")) -> 0 | H31: =F31+'November 2026'!H31 -> 0
A32: EMERGENCY/WORK | E32: E/W | F32: =SUM(COUNTIF(C5:G16,"W/E")+COUNTIF(C5:G16,"E/W")+COUNTIF(C5:G16,"W\E")+COUNTIF(C5:G16,"E\W")) -> 0 | H32: =F32+'November 2026'!H32 -> 0
A33: PERSONAL/WORK | E33: P/W | F33: =SUM(COUNTIF(C5:G16,"W/P")+COUNTIF(C5:G16,"P/W")+COUNTIF(C5:G16,"W\P")+COUNTIF(C5:G16,"P\W")) -> 0 | H33: =F33+'November 2026'!H33 -> 0
A34: JURY DUTY/WORK | E34: J/W | F34: =SUM(COUNTIF(C5:G16,"W/J")+COUNTIF(C5:G16,"J/W")+COUNTIF(C5:G16,"W\J")+COUNTIF(C5:G16,"J\W")) -> 0 | H34: =F34+'November 2026'!H34 -> 0
A35: PERSONAL/EMERGENCY | E35: P/E | F35: =SUM(COUNTIF($C$5:$G$16,"P/E")+COUNTIF($C$5:$G$16,"E/P")+COUNTIF($C$5:$G$16,"P\E")+COUNTIF($C$5:$G$16,"E\P")) -> 0 | H35: =F35+'November 2026'!H35 -> 0
A36: PERSONAL/SICK | E36: P/S | F36: =SUM(COUNTIF($C$5:$G$16,"P/S")+COUNTIF($C$5:$G$16,"S/P")+COUNTIF($C$5:$G$16,"P\S")+COUNTIF($C$5:$G$16,"S\P")) -> 0 | H36: =F36+'November 2026'!H36 -> 0
A37: EMERGENCY/SICK | E37: E/S | F37: =SUM(COUNTIF($C$5:$G$16,"E/S")+COUNTIF($C$5:$G$16,"S/E")+COUNTIF($C$5:$G$16,"E\S")+COUNTIF($C$5:$G$16,"S\E")) -> 0 | H37: =F37+'November 2026'!H37 -> 0
A38: SICK/NON CONTRACT | E38: S/NC | F38: =SUM(COUNTIF($C$5:$G$16,"NC/S")+COUNTIF($C$5:$G$16,"S/NC")+COUNTIF($C$5:$G$16,"NC\S")+COUNTIF($C$5:$G$16,"S\NC")) -> 0 | H38: =F38+'November 2026'!H38 -> 0
A39: EMERGENCY/NON CONTRACT | E39: E/NC | F39: =SUM(COUNTIF($C$5:$G$16,"NC/E")+COUNTIF($C$5:$G$16,"E/NC")+COUNTIF($C$5:$G$16,"NC\E")+COUNTIF($C$5:$G$16,"E\NC")) -> 0 | H39: =F39+'November 2026'!H39 -> 0
A40: JURY DUTY/SICK | E40: J/S | F40: =SUM(COUNTIF($C$5:$G$16,"S/J")+COUNTIF($C$5:$G$16,"J/S")+COUNTIF($C$5:$G$16,"S\J")+COUNTIF($C$5:$G$16,"J\S")) -> 0 | H40: =F40+'November 2026'!H40 -> 0
A41: JURY DUTY/PERSONAL | E41: J/P | F41: =SUM(COUNTIF($C$5:$G$16,"P/J")+COUNTIF($C$5:$G$16,"J/P")+COUNTIF($C$5:$G$16,"P\J")+COUNTIF($C$5:$G$16,"J\P")) -> 0 | H41: =F41+'November 2026'!H41 -> 0
A42: JURY DUTY/EMERGENCY | E42: J/E | F42: =SUM(COUNTIF($C$5:$G$16,"E/J")+COUNTIF($C$5:$G$16,"J/E")+COUNTIF($C$5:$G$16,"E\J")+COUNTIF($C$5:$G$16,"J\E")) -> 0 | H42: =F42+'November 2026'!H42 -> 0
A43: JURY DUTY/NON CONTRACT | E43: J/NC | F43: =SUM(COUNTIF($C$5:$G$16,"NC/J")+COUNTIF($C$5:$G$16,"J/NC")+COUNTIF($C$5:$G$16,"NC\J")+COUNTIF($C$5:$G$16,"J\NC")) -> 0 | H43: =F43+'November 2026'!H43 -> 0
A45: CODES (Saturday/Sunday)
A46: WORK | E46: W | F46: =COUNTIF(B5:B16,"W")+COUNTIF(H5:H16,"W") -> 0 | H46: =F46 -> 0
A47: WORK (HALF DAY) | E47: W/ | F47: =COUNTIF(B5:B16,"W/")+COUNTIF(H5:H16,"W/") -> 0 | H47: =F47 -> 0
C49: Employee Signature:
C51: Supervisor Signature:
A53: Timesheets may be emailed in lieu of a signature.

Sheet January 2027
A1: JANUARY 2027 | E1: ='July 2026'!E1 -> 240 DAYS | F1: ='July 2026'!F1 -> Enter your name here | I1: ='July 2026'!I1 -> 0
B4: SUN | C4: MON | D4: TUE | E4: WED | F4: THU | G4: FRI | H4: SAT
A5: CONTRACT DAYS WORKED | G5: =F5+1 -> 1 | H5: =G5+1 -> 2 | I5: NON CONTRACT DAYS AVAILABLE (includes future NC days)
B7: =H5+1 -> 3 | C7: =B7+1 -> 4 | D7: =C7+1 -> 5 | E7: =D7+1 -> 6 | F7: =E7+1 -> 7 | G7: =F7+1 -> 8 | H7: =G7+1 -> 9
B9: =H7+1 -> 10 | C9: =B9+1 -> 11 | D9: =C9+1 -> 12 | E9: =D9+1 -> 13 | F9: =E9+1 -> 14 | G9: =F9+1 -> 15 | H9: =G9+1 -> 16
B11: =H9+1 -> 17 | C11: =B11+1 -> 18 | D11: =C11+1 -> 19 | E11: =D11+1 -> 20 | F11: =E11+1 -> 21 | G11: =F11+1 -> 22 | H11: =G11+1 -> 23
B13: =H11+1 -> 24 | C13: =B13+1 -> 25 | D13: =C13+1 -> 26 | E13: =D13+1 -> 27 | F13: =E13+1 -> 28 | G13: =F13+1 -> 29 | H13: =G13+1 -> 30
A14: =SUM(F21:G28)+'December 2026'!A14 -> 0 | I14: ='December 2026'!I14-F20+F46+(F47)/2 -> 21
B15: =H13+1 -> 31
F17: Future NC Days Planned: | I17: ='February 2027'!$F$20+'March 2027'!$F$20+'April 2027'!$F$20+'May 2027'!$F$20+'June 2027'!$F$20 -> 0
A19: CODES (Monday-Friday) | F19: MONTH | H19: YTD
A20: NON CONTRACT | E20: NC | F20: =COUNTIF(C5:G16,"NC")+(F29/2)+(F31/2)+(F38/2)+(F39/2)+(F43/2) -> 0 | H20: =F20+'December 2026'!H20 -> 0 | J20: =IF(I14<0,"OVER","")
A21: WORK | E21: W | F21: =COUNTIF(C5:G16,"W")+(F29/2)+(F30/2)+F46+(F47/2)+(F32/2)+(F33/2)+(F34/2) -> 0 | H21: =F21+'December 2026'!H21 -> 0 | J21: =IF(H21>E1,"OVER","")
A22: SICK | E22: S | F22: =COUNTIF(C5:G16,"S")+(F30)/2+(F36/2)+(F37/2)+(F38/2)+(F40/2) -> 0 | H22: =F22+'December 2026'!H22 -> 0 | J22: =IF(H22>10,"OVER","")
A23: HOLIDAY | E23: H | F23: =COUNTIF(C5:G16,"H") -> 0 | H23: =F23+'December 2026'!H23 -> 0 | J23: =IF(AND(Directions!B5>220,H23>7),"OVER",IF(AND(Directions!B5<220,H23>5),"OVER",""))
A24: PERSONAL | E24: P | F24: =COUNTIF(C5:G16,"P")+(F31/2)+(F33/2)+(F35/2)+(F36/2)+(F41/2) -> 0 | H24: =F24+'December 2026'!H24 -> 0 | J24: =IF(H24>2,"OVER","")
A25: EMERGENCY | E25: E | F25: =COUNTIF(C5:G16,"E")+(F32)/2+(F35/2)+(F37/2)+(F39/2)+(F42/2) -> 0 | H25: =F25+'December 2026'!H25 -> 0 | J25: =IF(H25>1,"OVER","")
A26: MILITARY | E26: M | F26: =COUNTIF(C5:G16,"M") -> 0 | H26: =F26+'December 2026'!H26 -> 0
A27: JURY DUTY | E27: J | F27: =COUNTIF(C5:G16,"J")+(F34/2)+(F40/2)+(F41/2)+(F42/2)+(F43/2) -> 0 | H27: =F27+'December 2026'!H27 -> 0
A29: WORK/NON CONTRACT | E29: W/NC | F29: =SUM(COUNTIF(C5:G16,"W/NC")+COUNTIF(C5:G16,"NC/W")+COUNTIF(C5:G16,"W\NC")+COUNTIF(C5:G16,"NC\W")) -> 0 | H29: =F29+'December 2026'!H30 -> 0
A30: WORK/SICK | E30: W/S | F30: =SUM(COUNTIF(C5:G16,"W/S")+COUNTIF(C5:G16,"S/W")+COUNTIF(C5:G16,"W\S")+COUNTIF(C5:G16,"S\W")) -> 0 | H30: =F30+'December 2026'!H30 -> 0
A31: PERSONAL/NON CONTRACT | E31: P/NC | F31: =SUM(COUNTIF(C5:G16,"P/NC")+COUNTIF(C5:G16,"NC/P")+COUNTIF(C5:G16,"P\NC")+COUNTIF(C5:G16,"NC\P")) -> 0 | H31: =F31+'December 2026'!H31 -> 0
A32: EMERGENCY/WORK | E32: E/W | F32: =SUM(COUNTIF(C5:G16,"W/E")+COUNTIF(C5:G16,"E/W")+COUNTIF(C5:G16,"W\E")+COUNTIF(C5:G16,"E\W")) -> 0 | H32: =F32+'December 2026'!H32 -> 0
A33: PERSONAL/WORK | E33: P/W | F33: =SUM(COUNTIF(C5:G16,"W/P")+COUNTIF(C5:G16,"P/W")+COUNTIF(C5:G16,"W\P")+COUNTIF(C5:G16,"P\W")) -> 0 | H33: =F33+'December 2026'!H33 -> 0
A34: JURY DUTY/WORK | E34: J/W | F34: =SUM(COUNTIF(C5:G16,"W/J")+COUNTIF(C5:G16,"J/W")+COUNTIF(C5:G16,"W\J")+COUNTIF(C5:G16,"J\W")) -> 0 | H34: =F34+'December 2026'!H34 -> 0
A35: PERSONAL/EMERGENCY | E35: P/E | F35: =SUM(COUNTIF($C$5:$G$16,"P/E")+COUNTIF($C$5:$G$16,"E/P")+COUNTIF($C$5:$G$16,"P\E")+COUNTIF($C$5:$G$16,"E\P")) -> 0 | H35: =F35+'December 2026'!H35 -> 0
A36: PERSONAL/SICK | E36: P/S | F36: =SUM(COUNTIF($C$5:$G$16,"P/S")+COUNTIF($C$5:$G$16,"S/P")+COUNTIF($C$5:$G$16,"P\S")+COUNTIF($C$5:$G$16,"S\P")) -> 0 | H36: =F36+'December 2026'!H36 -> 0
A37: EMERGENCY/SICK | E37: E/S | F37: =SUM(COUNTIF($C$5:$G$16,"E/S")+COUNTIF($C$5:$G$16,"S/E")+COUNTIF($C$5:$G$16,"E\S")+COUNTIF($C$5:$G$16,"S\E")) -> 0 | H37: =F37+'December 2026'!H37 -> 0
A38: SICK/NON CONTRACT | E38: S/NC | F38: =SUM(COUNTIF($C$5:$G$16,"NC/S")+COUNTIF($C$5:$G$16,"S/NC")+COUNTIF($C$5:$G$16,"NC\S")+COUNTIF($C$5:$G$16,"S\NC")) -> 0 | H38: =F38+'December 2026'!H38 -> 0
A39: EMERGENCY/NON CONTRACT | E39: E/NC | F39: =SUM(COUNTIF($C$5:$G$16,"NC/E")+COUNTIF($C$5:$G$16,"E/NC")+COUNTIF($C$5:$G$16,"NC\E")+COUNTIF($C$5:$G$16,"E\NC")) -> 0 | H39: =F39+'December 2026'!H39 -> 0
A40: JURY DUTY/SICK | E40: J/S | F40: =SUM(COUNTIF($C$5:$G$16,"S/J")+COUNTIF($C$5:$G$16,"J/S")+COUNTIF($C$5:$G$16,"S\J")+COUNTIF($C$5:$G$16,"J\S")) -> 0 | H40: =F40+'December 2026'!H40 -> 0
A41: JURY DUTY/PERSONAL | E41: J/P | F41: =SUM(COUNTIF($C$5:$G$16,"P/J")+COUNTIF($C$5:$G$16,"J/P")+COUNTIF($C$5:$G$16,"P\J")+COUNTIF($C$5:$G$16,"J\P")) -> 0 | H41: =F41+'December 2026'!H41 -> 0
A42: JURY DUTY/EMERGENCY | E42: J/E | F42: =SUM(COUNTIF($C$5:$G$16,"E/J")+COUNTIF($C$5:$G$16,"J/E")+COUNTIF($C$5:$G$16,"E\J")+COUNTIF($C$5:$G$16,"J\E")) -> 0 | H42: =F42+'December 2026'!H42 -> 0
A43: JURY DUTY/NON CONTRACT | E43: J/NC | F43: =SUM(COUNTIF($C$5:$G$16,"NC/J")+COUNTIF($C$5:$G$16,"J/NC")+COUNTIF($C$5:$G$16,"NC\J")+COUNTIF($C$5:$G$16,"J\NC")) -> 0 | H43: =F43+'December 2026'!H43 -> 0
A45: CODES (Saturday/Sunday)
A46: WORK | E46: W | F46: =COUNTIF(B5:B16,"W")+COUNTIF(H5:H16,"W") -> 0 | H46: =F46 -> 0
A47: WORK (HALF DAY) | E47: W/ | F47: =COUNTIF(B5:B16,"W/")+COUNTIF(H5:H16,"W/") -> 0 | H47: =F47 -> 0
C49: Employee Signature:
C51: Supervisor Signature:
A53: Timesheets may be emailed in lieu of a signature.

Sheet February 2027
A1: FEBRUARY 2027 | E1: ='July 2026'!E1 -> 240 DAYS | F1: ='July 2026'!F1 -> Enter your name here | I1: ='July 2026'!I1 -> 0
B4: SUN | C4: MON | D4: TUE | E4: WED | F4: THU | G4: FRI | H4: SAT
A5: CONTRACT DAYS WORKED | C5: =B5+1 -> 1 | D5: =C5+1 -> 2 | E5: =D5+1 -> 3 | F5: =E5+1 -> 4 | G5: =F5+1 -> 5 | H5: =G5+1 -> 6 | I5: NON CONTRACT DAYS AVAILABLE (includes future NC days)
B7: =H5+1 -> 7 | C7: =B7+1 -> 8 | D7: =C7+1 -> 9 | E7: =D7+1 -> 10 | F7: =E7+1 -> 11 | G7: =F7+1 -> 12 | H7: =G7+1 -> 13
B9: =H7+1 -> 14 | C9: =B9+1 -> 15 | D9: =C9+1 -> 16 | E9: =D9+1 -> 17 | F9: =E9+1 -> 18 | G9: =F9+1 -> 19 | H9: =G9+1 -> 20
B11: =H9+1 -> 21 | C11: =B11+1 -> 22 | D11: =C11+1 -> 23 | E11: =D11+1 -> 24 | F11: =E11+1 -> 25 | G11: =F11+1 -> 26 | H11: =G11+1 -> 27
B13: =H11+1 -> 28
A14: =SUM(F21:G28)+'January 2027'!A14 -> 0 | I14: ='January 2027'!I14-F20+F46+(F47)/2 -> 21
F17: Future NC Days Planned: | I17: ='March 2027'!$F$20+'April 2027'!$F$20+'May 2027'!$F$20+'June 2027'!$F$20 -> 0
A19: CODES (Monday-Friday) | F19: MONTH | H19: YTD
A20: NON CONTRACT | E20: NC | F20: =COUNTIF(C5:G16,"NC")+(F29/2)+(F31/2)+(F38/2)+(F39/2)+(F43/2) -> 0 | H20: =F20+'January 2027'!H20 -> 0 | J20: =IF(I14<0,"OVER","")
A21: WORK | E21: W | F21: =COUNTIF(C5:G16,"W")+(F29/2)+(F30/2)+F46+(F47/2)+(F32/2)+(F33/2)+(F34/2) -> 0 | H21: =F21+'January 2027'!H21 -> 0 | J21: =IF(H21>E1,"OVER","")
A22: SICK | E22: S | F22: =COUNTIF(C5:G16,"S")+(F30)/2+(F36/2)+(F37/2)+(F38/2)+(F40/2) -> 0 | H22: =F22+'January 2027'!H22 -> 0 | J22: =IF(H22>10,"OVER","")
A23: HOLIDAY | E23: H | F23: =COUNTIF(C5:G16,"H") -> 0 | H23: =F23+'January 2027'!H23 -> 0 | J23: =IF(AND(Directions!B5>220,H23>7),"OVER",IF(AND(Directions!B5<220,H23>5),"OVER",""))
A24: PERSONAL | E24: P | F24: =COUNTIF(C5:G16,"P")+(F31/2)+(F33/2)+(F35/2)+(F36/2)+(F41/2) -> 0 | H24: =F24+'January 2027'!H24 -> 0 | J24: =IF(H24>2,"OVER","")
A25: EMERGENCY | E25: E | F25: =COUNTIF(C5:G16,"E")+(F32)/2+(F35/2)+(F37/2)+(F39/2)+(F42/2) -> 0 | H25: =F25+'January 2027'!H25 -> 0 | J25: =IF(H25>1,"OVER","")
A26: MILITARY | E26: M | F26: =COUNTIF(C5:G16,"M") -> 0 | H26: =F26+'January 2027'!H26 -> 0
A27: JURY DUTY | E27: J | F27: =COUNTIF(C5:G16,"J")+(F34/2)+(F40/2)+(F41/2)+(F42/2)+(F43/2) -> 0 | H27: =F27+'January 2027'!H27 -> 0
A29: WORK/NON CONTRACT | E29: W/NC | F29: =SUM(COUNTIF(C5:G16,"W/NC")+COUNTIF(C5:G16,"NC/W")+COUNTIF(C5:G16,"W\NC")+COUNTIF(C5:G16,"NC\W")) -> 0 | H29: =F29+'January 2027'!H30 -> 0
A30: WORK/SICK | E30: W/S | F30: =SUM(COUNTIF(C5:G16,"W/S")+COUNTIF(C5:G16,"S/W")+COUNTIF(C5:G16,"W\S")+COUNTIF(C5:G16,"S\W")) -> 0 | H30: =F30+'January 2027'!H30 -> 0
A31: PERSONAL/NON CONTRACT | E31: P/NC | F31: =SUM(COUNTIF(C5:G16,"P/NC")+COUNTIF(C5:G16,"NC/P")+COUNTIF(C5:G16,"P\NC")+COUNTIF(C5:G16,"NC\P")) -> 0 | H31: =F31+'January 2027'!H31 -> 0
A32: EMERGENCY/WORK | E32: E/W | F32: =SUM(COUNTIF(C5:G16,"W/E")+COUNTIF(C5:G16,"E/W")+COUNTIF(C5:G16,"W\E")+COUNTIF(C5:G16,"E\W")) -> 0 | H32: =F32+'January 2027'!H32 -> 0
A33: PERSONAL/WORK | E33: P/W | F33: =SUM(COUNTIF(C5:G16,"W/P")+COUNTIF(C5:G16,"P/W")+COUNTIF(C5:G16,"W\P")+COUNTIF(C5:G16,"P\W")) -> 0 | H33: =F33+'January 2027'!H33 -> 0
A34: JURY DUTY/WORK | E34: J/W | F34: =SUM(COUNTIF(C5:G16,"W/J")+COUNTIF(C5:G16,"J/W")+COUNTIF(C5:G16,"W\J")+COUNTIF(C5:G16,"J\W")) -> 0 | H34: =F34+'January 2027'!H34 -> 0
A35: PERSONAL/EMERGENCY | E35: P/E | F35: =SUM(COUNTIF($C$5:$G$16,"P/E")+COUNTIF($C$5:$G$16,"E/P")+COUNTIF($C$5:$G$16,"P\E")+COUNTIF($C$5:$G$16,"E\P")) -> 0 | H35: =F35+'January 2027'!H35 -> 0
A36: PERSONAL/SICK | E36: P/S | F36: =SUM(COUNTIF($C$5:$G$16,"P/S")+COUNTIF($C$5:$G$16,"S/P")+COUNTIF($C$5:$G$16,"P\S")+COUNTIF($C$5:$G$16,"S\P")) -> 0 | H36: =F36+'January 2027'!H36 -> 0
A37: EMERGENCY/SICK | E37: E/S | F37: =SUM(COUNTIF($C$5:$G$16,"E/S")+COUNTIF($C$5:$G$16,"S/E")+COUNTIF($C$5:$G$16,"E\S")+COUNTIF($C$5:$G$16,"S\E")) -> 0 | H37: =F37+'January 2027'!H37 -> 0
A38: SICK/NON CONTRACT | E38: S/NC | F38: =SUM(COUNTIF($C$5:$G$16,"NC/S")+COUNTIF($C$5:$G$16,"S/NC")+COUNTIF($C$5:$G$16,"NC\S")+COUNTIF($C$5:$G$16,"S\NC")) -> 0 | H38: =F38+'January 2027'!H38 -> 0
A39: EMERGENCY/NON CONTRACT | E39: E/NC | F39: =SUM(COUNTIF($C$5:$G$16,"NC/E")+COUNTIF($C$5:$G$16,"E/NC")+COUNTIF($C$5:$G$16,"NC\E")+COUNTIF($C$5:$G$16,"E\NC")) -> 0 | H39: =F39+'January 2027'!H39 -> 0
A40: JURY DUTY/SICK | E40: J/S | F40: =SUM(COUNTIF($C$5:$G$16,"S/J")+COUNTIF($C$5:$G$16,"J/S")+COUNTIF($C$5:$G$16,"S\J")+COUNTIF($C$5:$G$16,"J\S")) -> 0 | H40: =F40+'January 2027'!H40 -> 0
A41: JURY DUTY/PERSONAL | E41: J/P | F41: =SUM(COUNTIF($C$5:$G$16,"P/J")+COUNTIF($C$5:$G$16,"J/P")+COUNTIF($C$5:$G$16,"P\J")+COUNTIF($C$5:$G$16,"J\P")) -> 0 | H41: =F41+'January 2027'!H41 -> 0
A42: JURY DUTY/EMERGENCY | E42: J/E | F42: =SUM(COUNTIF($C$5:$G$16,"E/J")+COUNTIF($C$5:$G$16,"J/E")+COUNTIF($C$5:$G$16,"E\J")+COUNTIF($C$5:$G$16,"J\E")) -> 0 | H42: =F42+'January 2027'!H42 -> 0
A43: JURY DUTY/NON CONTRACT | E43: J/NC | F43: =SUM(COUNTIF($C$5:$G$16,"NC/J")+COUNTIF($C$5:$G$16,"J/NC")+COUNTIF($C$5:$G$16,"NC\J")+COUNTIF($C$5:$G$16,"J\NC")) -> 0 | H43: =F43+'January 2027'!H43 -> 0
A45: CODES (Saturday/Sunday)
A46: WORK | E46: W | F46: =COUNTIF(B5:B16,"W")+COUNTIF(H5:H16,"W") -> 0 | H46: =F46 -> 0
A47: WORK (HALF DAY) | E47: W/ | F47: =COUNTIF(B5:B16,"W/")+COUNTIF(H5:H16,"W/") -> 0 | H47: =F47 -> 0
C49: Employee Signature:
C51: Supervisor Signature:
A53: Timesheets may be emailed in lieu of a signature.

Sheet March 2027
A1: MARCH 2027 | E1: ='July 2026'!E1 -> 240 DAYS | F1: ='July 2026'!F1 -> Enter your name here | I1: ='July 2026'!I1 -> 0
B4: SUN | C4: MON | D4: TUE | E4: WED | F4: THU | G4: FRI | H4: SAT
A5: CONTRACT DAYS WORKED | C5: =B5+1 -> 1 | D5: =C5+1 -> 2 | E5: =D5+1 -> 3 | F5: =E5+1 -> 4 | G5: =F5+1 -> 5 | H5: =G5+1 -> 6 | I5: NON CONTRACT DAYS AVAILABLE (includes future NC days)
B7: =H5+1 -> 7 | C7: =B7+1 -> 8 | D7: =C7+1 -> 9 | E7: =D7+1 -> 10 | F7: =E7+1 -> 11 | G7: =F7+1 -> 12 | H7: =G7+1 -> 13
B9: =H7+1 -> 14 | C9: =B9+1 -> 15 | D9: =C9+1 -> 16 | E9: =D9+1 -> 17 | F9: =E9+1 -> 18 | G9: =F9+1 -> 19 | H9: =G9+1 -> 20
B11: =H9+1 -> 21 | C11: =B11+1 -> 22 | D11: =C11+1 -> 23 | E11: =D11+1 -> 24 | F11: =E11+1 -> 25 | G11: =F11+1 -> 26 | H11: =G11+1 -> 27
B13: =H11+1 -> 28 | C13: =B13+1 -> 29 | D13: =C13+1 -> 30 | E13: =D13+1 -> 31
A14: =SUM(F21:G28)+'February 2027'!A14 -> 0 | I14: ='February 2027'!I14-F20+F46+(F47)/2 -> 21
F17: Future NC Days Planned: | I17: ='April 2027'!$F$20+'May 2027'!$F$20+'June 2027'!$F$20 -> 0
A19: CODES (Monday-Friday) | F19: MONTH | H19: YTD
A20: NON CONTRACT | E20: NC | F20: =COUNTIF(C5:G16,"NC")+(F29/2)+(F31/2)+(F38/2)+(F39/2)+(F43/2) -> 0 | H20: =F20+'February 2027'!H20 -> 0 | J20: =IF(I14<0,"OVER","")
A21: WORK | E21: W | F21: =COUNTIF(C5:G16,"W")+(F29/2)+(F30/2)+F46+(F47/2)+(F32/2)+(F33/2)+(F34/2) -> 0 | H21: =F21+'February 2027'!H21 -> 0 | J21: =IF(H21>E1,"OVER","")
A22: SICK | E22: S | F22: =COUNTIF(C5:G16,"S")+(F30)/2+(F36/2)+(F37/2)+(F38/2)+(F40/2) -> 0 | H22: =F22+'February 2027'!H22 -> 0 | J22: =IF(H22>10,"OVER","")
A23: HOLIDAY | E23: H | F23: =COUNTIF(C5:G16,"H") -> 0 | H23: =F23+'February 2027'!H23 -> 0 | J23: =IF(AND(Directions!B5>220,H23>7),"OVER",IF(AND(Directions!B5<220,H23>5),"OVER",""))
A24: PERSONAL | E24: P | F24: =COUNTIF(C5:G16,"P")+(F31/2)+(F33/2)+(F35/2)+(F36/2)+(F41/2) -> 0 | H24: =F24+'February 2027'!H24 -> 0 | J24: =IF(H24>2,"OVER","")
A25: EMERGENCY | E25: E | F25: =COUNTIF(C5:G16,"E")+(F32)/2+(F35/2)+(F37/2)+(F39/2)+(F42/2) -> 0 | H25: =F25+'February 2027'!H25 -> 0 | J25: =IF(H25>1,"OVER","")
A26: MILITARY | E26: M | F26: =COUNTIF(C5:G16,"M") -> 0 | H26: =F26+'February 2027'!H26 -> 0
A27: JURY DUTY | E27: J | F27: =COUNTIF(C5:G16,"J")+(F34/2)+(F40/2)+(F41/2)+(F42/2)+(F43/2) -> 0 | H27: =F27+'February 2027'!H27 -> 0
A29: WORK/NON CONTRACT | E29: W/NC | F29: =SUM(COUNTIF(C5:G16,"W/NC")+COUNTIF(C5:G16,"NC/W")+COUNTIF(C5:G16,"W\NC")+COUNTIF(C5:G16,"NC\W")) -> 0 | H29: =F29+'February 2027'!H30 -> 0
A30: WORK/SICK | E30: W/S | F30: =SUM(COUNTIF(C5:G16,"W/S")+COUNTIF(C5:G16,"S/W")+COUNTIF(C5:G16,"W\S")+COUNTIF(C5:G16,"S\W")) -> 0 | H30: =F30+'February 2027'!H30 -> 0
A31: PERSONAL/NON CONTRACT | E31: P/NC | F31: =SUM(COUNTIF(C5:G16,"P/NC")+COUNTIF(C5:G16,"NC/P")+COUNTIF(C5:G16,"P\NC")+COUNTIF(C5:G16,"NC\P")) -> 0 | H31: =F31+'February 2027'!H31 -> 0
A32: EMERGENCY/WORK | E32: E/W | F32: =SUM(COUNTIF(C5:G16,"W/E")+COUNTIF(C5:G16,"E/W")+COUNTIF(C5:G16,"W\E")+COUNTIF(C5:G16,"E\W")) -> 0 | H32: =F32+'February 2027'!H32 -> 0
A33: PERSONAL/WORK | E33: P/W | F33: =SUM(COUNTIF(C5:G16,"W/P")+COUNTIF(C5:G16,"P/W")+COUNTIF(C5:G16,"W\P")+COUNTIF(C5:G16,"P\W")) -> 0 | H33: =F33+'February 2027'!H33 -> 0
A34: JURY DUTY/WORK | E34: J/W | F34: =SUM(COUNTIF(C5:G16,"W/J")+COUNTIF(C5:G16,"J/W")+COUNTIF(C5:G16,"W\J")+COUNTIF(C5:G16,"J\W")) -> 0 | H34: =F34+'February 2027'!H34 -> 0
A35: PERSONAL/EMERGENCY | E35: P/E | F35: =SUM(COUNTIF($C$5:$G$16,"P/E")+COUNTIF($C$5:$G$16,"E/P")+COUNTIF($C$5:$G$16,"P\E")+COUNTIF($C$5:$G$16,"E\P")) -> 0 | H35: =F35+'February 2027'!H35 -> 0
A36: PERSONAL/SICK | E36: P/S | F36: =SUM(COUNTIF($C$5:$G$16,"P/S")+COUNTIF($C$5:$G$16,"S/P")+COUNTIF($C$5:$G$16,"P\S")+COUNTIF($C$5:$G$16,"S\P")) -> 0 | H36: =F36+'February 2027'!H36 -> 0
A37: EMERGENCY/SICK | E37: E/S | F37: =SUM(COUNTIF($C$5:$G$16,"E/S")+COUNTIF($C$5:$G$16,"S/E")+COUNTIF($C$5:$G$16,"E\S")+COUNTIF($C$5:$G$16,"S\E")) -> 0 | H37: =F37+'February 2027'!H37 -> 0
A38: SICK/NON CONTRACT | E38: S/NC | F38: =SUM(COUNTIF($C$5:$G$16,"NC/S")+COUNTIF($C$5:$G$16,"S/NC")+COUNTIF($C$5:$G$16,"NC\S")+COUNTIF($C$5:$G$16,"S\NC")) -> 0 | H38: =F38+'February 2027'!H38 -> 0
A39: EMERGENCY/NON CONTRACT | E39: E/NC | F39: =SUM(COUNTIF($C$5:$G$16,"NC/E")+COUNTIF($C$5:$G$16,"E/NC")+COUNTIF($C$5:$G$16,"NC\E")+COUNTIF($C$5:$G$16,"E\NC")) -> 0 | H39: =F39+'February 2027'!H39 -> 0
A40: JURY DUTY/SICK | E40: J/S | F40: =SUM(COUNTIF($C$5:$G$16,"S/J")+COUNTIF($C$5:$G$16,"J/S")+COUNTIF($C$5:$G$16,"S\J")+COUNTIF($C$5:$G$16,"J\S")) -> 0 | H40: =F40+'February 2027'!H40 -> 0
A41: JURY DUTY/PERSONAL | E41: J/P | F41: =SUM(COUNTIF($C$5:$G$16,"P/J")+COUNTIF($C$5:$G$16,"J/P")+COUNTIF($C$5:$G$16,"P\J")+COUNTIF($C$5:$G$16,"J\P")) -> 0 | H41: =F41+'February 2027'!H41 -> 0
A42: JURY DUTY/EMERGENCY | E42: J/E | F42: =SUM(COUNTIF($C$5:$G$16,"E/J")+COUNTIF($C$5:$G$16,"J/E")+COUNTIF($C$5:$G$16,"E\J")+COUNTIF($C$5:$G$16,"J\E")) -> 0 | H42: =F42+'February 2027'!H42 -> 0
A43: JURY DUTY/NON CONTRACT | E43: J/NC | F43: =SUM(COUNTIF($C$5:$G$16,"NC/J")+COUNTIF($C$5:$G$16,"J/NC")+COUNTIF($C$5:$G$16,"NC\J")+COUNTIF($C$5:$G$16,"J\NC")) -> 0 | H43: =F43+'February 2027'!H43 -> 0
A45: CODES (Saturday/Sunday)
A46: WORK | E46: W | F46: =COUNTIF(B5:B16,"W")+COUNTIF(H5:H16,"W") -> 0 | H46: =F46 -> 0
A47: WORK (HALF DAY) | E47: W/ | F47: =COUNTIF(B5:B16,"W/")+COUNTIF(H5:H16,"W/") -> 0 | H47: =F47 -> 0
C49: Employee Signature:
C51: Supervisor Signature:
A53: Timesheets may be emailed in lieu of a signature.

Sheet April 2027
A1: APRIL 2027 | E1: ='July 2026'!E1 -> 240 DAYS | F1: ='July 2026'!F1 -> Enter your name here | I1: ='July 2026'!I1 -> 0
B4: SUN | C4: MON | D4: TUE | E4: WED | F4: THU | G4: FRI | H4: SAT
A5: CONTRACT DAYS WORKED | F5: =E5+1 -> 1 | G5: =F5+1 -> 2 | H5: =G5+1 -> 3 | I5: NON CONTRACT DAYS AVAILABLE (includes future NC days)
B7: =H5+1 -> 4 | C7: =B7+1 -> 5 | D7: =C7+1 -> 6 | E7: =D7+1 -> 7 | F7: =E7+1 -> 8 | G7: =F7+1 -> 9 | H7: =G7+1 -> 10
B9: =H7+1 -> 11 | C9: =B9+1 -> 12 | D9: =C9+1 -> 13 | E9: =D9+1 -> 14 | F9: =E9+1 -> 15 | G9: =F9+1 -> 16 | H9: =G9+1 -> 17
B11: =H9+1 -> 18 | C11: =B11+1 -> 19 | D11: =C11+1 -> 20 | E11: =D11+1 -> 21 | F11: =E11+1 -> 22 | G11: =F11+1 -> 23 | H11: =G11+1 -> 24
B13: =H11+1 -> 25 | C13: =B13+1 -> 26 | D13: =C13+1 -> 27 | E13: =D13+1 -> 28 | F13: =E13+1 -> 29 | G13: =F13+1 -> 30
A14: =SUM(F21:G28)+'March 2027'!A14 -> 0 | I14: ='March 2027'!I14-F20+F46+(F47)/2 -> 21
F17: Future NC Days Planned: | I17: ='May 2027'!$F$20+'June 2027'!$F$20 -> 0
A19: CODES (Monday-Friday) | F19: MONTH | H19: YTD
A20: NON CONTRACT | E20: NC | F20: =COUNTIF(C5:G16,"NC")+(F29/2)+(F31/2)+(F38/2)+(F39/2)+(F43/2) -> 0 | H20: =F20+'March 2027'!H20 -> 0 | J20: =IF(I14<0,"OVER","")
A21: WORK | E21: W | F21: =COUNTIF(C5:G16,"W")+(F29/2)+(F30/2)+F46+(F47/2)+(F32/2)+(F33/2)+(F34/2) -> 0 | H21: =F21+'March 2027'!H21 -> 0 | J21: =IF(H21>E1,"OVER","")
A22: SICK | E22: S | F22: =COUNTIF(C5:G16,"S")+(F30)/2+(F36/2)+(F37/2)+(F38/2)+(F40/2) -> 0 | H22: =F22+'March 2027'!H22 -> 0 | J22: =IF(H22>10,"OVER","")
A23: HOLIDAY | E23: H | F23: =COUNTIF(C5:G16,"H") -> 0 | H23: =F23+'March 2027'!H23 -> 0 | J23: =IF(AND(Directions!B5>220,H23>7),"OVER",IF(AND(Directions!B5<220,H23>5),"OVER",""))
A24: PERSONAL | E24: P | F24: =COUNTIF(C5:G16,"P")+(F31/2)+(F33/2)+(F35/2)+(F36/2)+(F41/2) -> 0 | H24: =F24+'March 2027'!H24 -> 0 | J24: =IF(H24>2,"OVER","")
A25: EMERGENCY | E25: E | F25: =COUNTIF(C5:G16,"E")+(F32)/2+(F35/2)+(F37/2)+(F39/2)+(F42/2) -> 0 | H25: =F25+'March 2027'!H25 -> 0 | J25: =IF(H25>1,"OVER","")
A26: MILITARY | E26: M | F26: =COUNTIF(C5:G16,"M") -> 0 | H26: =F26+'March 2027'!H26 -> 0
A27: JURY DUTY | E27: J | F27: =COUNTIF(C5:G16,"J")+(F34/2)+(F40/2)+(F41/2)+(F42/2)+(F43/2) -> 0 | H27: =F27+'March 2027'!H27 -> 0
A29: WORK/NON CONTRACT | E29: W/NC | F29: =SUM(COUNTIF(C5:G16,"W/NC")+COUNTIF(C5:G16,"NC/W")+COUNTIF(C5:G16,"W\NC")+COUNTIF(C5:G16,"NC\W")) -> 0 | H29: =F29+'March 2027'!H30 -> 0
A30: WORK/SICK | E30: W/S | F30: =SUM(COUNTIF(C5:G16,"W/S")+COUNTIF(C5:G16,"S/W")+COUNTIF(C5:G16,"W\S")+COUNTIF(C5:G16,"S\W")) -> 0 | H30: =F30+'March 2027'!H30 -> 0
A31: PERSONAL/NON CONTRACT | E31: P/NC | F31: =SUM(COUNTIF(C5:G16,"P/NC")+COUNTIF(C5:G16,"NC/P")+COUNTIF(C5:G16,"P\NC")+COUNTIF(C5:G16,"NC\P")) -> 0 | H31: =F31+'March 2027'!H31 -> 0
A32: EMERGENCY/WORK | E32: E/W | F32: =SUM(COUNTIF(C5:G16,"W/E")+COUNTIF(C5:G16,"E/W")+COUNTIF(C5:G16,"W\E")+COUNTIF(C5:G16,"E\W")) -> 0 | H32: =F32+'March 2027'!H32 -> 0
A33: PERSONAL/WORK | E33: P/W | F33: =SUM(COUNTIF(C5:G16,"W/P")+COUNTIF(C5:G16,"P/W")+COUNTIF(C5:G16,"W\P")+COUNTIF(C5:G16,"P\W")) -> 0 | H33: =F33+'March 2027'!H33 -> 0
A34: JURY DUTY/WORK | E34: J/W | F34: =SUM(COUNTIF(C5:G16,"W/J")+COUNTIF(C5:G16,"J/W")+COUNTIF(C5:G16,"W\J")+COUNTIF(C5:G16,"J\W")) -> 0 | H34: =F34+'March 2027'!H34 -> 0
A35: PERSONAL/EMERGENCY | E35: P/E | F35: =SUM(COUNTIF($C$5:$G$16,"P/E")+COUNTIF($C$5:$G$16,"E/P")+COUNTIF($C$5:$G$16,"P\E")+COUNTIF($C$5:$G$16,"E\P")) -> 0 | H35: =F35+'March 2027'!H35 -> 0
A36: PERSONAL/SICK | E36: P/S | F36: =SUM(COUNTIF($C$5:$G$16,"P/S")+COUNTIF($C$5:$G$16,"S/P")+COUNTIF($C$5:$G$16,"P\S")+COUNTIF($C$5:$G$16,"S\P")) -> 0 | H36: =F36+'March 2027'!H36 -> 0
A37: EMERGENCY/SICK | E37: E/S | F37: =SUM(COUNTIF($C$5:$G$16,"E/S")+COUNTIF($C$5:$G$16,"S/E")+COUNTIF($C$5:$G$16,"E\S")+COUNTIF($C$5:$G$16,"S\E")) -> 0 | H37: =F37+'March 2027'!H37 -> 0
A38: SICK/NON CONTRACT | E38: S/NC | F38: =SUM(COUNTIF($C$5:$G$16,"NC/S")+COUNTIF($C$5:$G$16,"S/NC")+COUNTIF($C$5:$G$16,"NC\S")+COUNTIF($C$5:$G$16,"S\NC")) -> 0 | H38: =F38+'March 2027'!H38 -> 0
A39: EMERGENCY/NON CONTRACT | E39: E/NC | F39: =SUM(COUNTIF($C$5:$G$16,"NC/E")+COUNTIF($C$5:$G$16,"E/NC")+COUNTIF($C$5:$G$16,"NC\E")+COUNTIF($C$5:$G$16,"E\NC")) -> 0 | H39: =F39+'March 2027'!H39 -> 0
A40: JURY DUTY/SICK | E40: J/S | F40: =SUM(COUNTIF($C$5:$G$16,"S/J")+COUNTIF($C$5:$G$16,"J/S")+COUNTIF($C$5:$G$16,"S\J")+COUNTIF($C$5:$G$16,"J\S")) -> 0 | H40: =F40+'March 2027'!H40 -> 0
A41: JURY DUTY/PERSONAL | E41: J/P | F41: =SUM(COUNTIF($C$5:$G$16,"P/J")+COUNTIF($C$5:$G$16,"J/P")+COUNTIF($C$5:$G$16,"P\J")+COUNTIF($C$5:$G$16,"J\P")) -> 0 | H41: =F41+'March 2027'!H41 -> 0
A42: JURY DUTY/EMERGENCY | E42: J/E | F42: =SUM(COUNTIF($C$5:$G$16,"E/J")+COUNTIF($C$5:$G$16,"J/E")+COUNTIF($C$5:$G$16,"E\J")+COUNTIF($C$5:$G$16,"J\E")) -> 0 | H42: =F42+'March 2027'!H42 -> 0
A43: JURY DUTY/NON CONTRACT | E43: J/NC | F43: =SUM(COUNTIF($C$5:$G$16,"NC/J")+COUNTIF($C$5:$G$16,"J/NC")+COUNTIF($C$5:$G$16,"NC\J")+COUNTIF($C$5:$G$16,"J\NC")) -> 0 | H43: =F43+'March 2027'!H43 -> 0
A45: CODES (Saturday/Sunday)
A46: WORK | E46: W | F46: =COUNTIF(B5:B16,"W")+COUNTIF(H5:H16,"W") -> 0 | H46: =F46 -> 0
A47: WORK (HALF DAY) | E47: W/ | F47: =COUNTIF(B5:B16,"W/")+COUNTIF(H5:H16,"W/") -> 0 | H47: =F47 -> 0
C49: Employee Signature:
C51: Supervisor Signature:
A53: Timesheets may be emailed in lieu of a signature.

Sheet May 2027
A1: MAY 2027 | E1: ='July 2026'!E1 -> 240 DAYS | F1: ='July 2026'!F1 -> Enter your name here | I1: ='July 2026'!I1 -> 0
B4: SUN | C4: MON | D4: TUE | E4: WED | F4: THU | G4: FRI | H4: SAT
A5: CONTRACT DAYS WORKED | H5: =G5+1 -> 1 | I5: NON CONTRACT DAYS AVAILABLE (includes future NC days)
B7: =H5+1 -> 2 | C7: =B7+1 -> 3 | D7: =C7+1 -> 4 | E7: =D7+1 -> 5 | F7: =E7+1 -> 6 | G7: =F7+1 -> 7 | H7: =G7+1 -> 8
B9: =H7+1 -> 9 | C9: =B9+1 -> 10 | D9: =C9+1 -> 11 | E9: =D9+1 -> 12 | F9: =E9+1 -> 13 | G9: =F9+1 -> 14 | H9: =G9+1 -> 15
B11: =H9+1 -> 16 | C11: =B11+1 -> 17 | D11: =C11+1 -> 18 | E11: =D11+1 -> 19 | F11: =E11+1 -> 20 | G11: =F11+1 -> 21 | H11: =G11+1 -> 22
B13: =H11+1 -> 23 | C13: =B13+1 -> 24 | D13: =C13+1 -> 25 | E13: =D13+1 -> 26 | F13: =E13+1 -> 27 | G13: =F13+1 -> 28 | H13: =G13+1 -> 29
A14: =SUM(F21:G28)+'April 2027'!A14 -> 0 | I14: ='April 2027'!I14-F20+F46+(F47)/2 -> 21
B15: =H13+1 -> 30 | C15: =B15+1 -> 31
F17: Future NC Days Planned: | I17: ='June 2027'!$F$20 -> 0
A19: CODES (Monday-Friday) | F19: MONTH | H19: YTD
A20: NON CONTRACT | E20: NC | F20: =COUNTIF(C5:G16,"NC")+(F29/2)+(F31/2)+(F38/2)+(F39/2)+(F43/2) -> 0 | H20: =F20+'April 2027'!H20 -> 0 | J20: =IF(I14<0,"OVER","")
A21: WORK | E21: W | F21: =COUNTIF(C5:G16,"W")+(F29/2)+(F30/2)+F46+(F47/2)+(F32/2)+(F33/2)+(F34/2) -> 0 | H21: =F21+'April 2027'!H21 -> 0 | J21: =IF(H21>E1,"OVER","")
A22: SICK | E22: S | F22: =COUNTIF(C5:G16,"S")+(F30)/2+(F36/2)+(F37/2)+(F38/2)+(F40/2) -> 0 | H22: =F22+'April 2027'!H22 -> 0 | J22: =IF(H22>10,"OVER","")
A23: HOLIDAY | E23: H | F23: =COUNTIF(C5:G16,"H") -> 0 | H23: =F23+'April 2027'!H23 -> 0 | J23: =IF(AND(Directions!B5>220,H23>7),"OVER",IF(AND(Directions!B5<220,H23>5),"OVER",""))
A24: PERSONAL | E24: P | F24: =COUNTIF(C5:G16,"P")+(F31/2)+(F33/2)+(F35/2)+(F36/2)+(F41/2) -> 0 | H24: =F24+'April 2027'!H24 -> 0 | J24: =IF(H24>2,"OVER","")
A25: EMERGENCY | E25: E | F25: =COUNTIF(C5:G16,"E")+(F32)/2+(F35/2)+(F37/2)+(F39/2)+(F42/2) -> 0 | H25: =F25+'April 2027'!H25 -> 0 | J25: =IF(H25>1,"OVER","")
A26: MILITARY | E26: M | F26: =COUNTIF(C5:G16,"M") -> 0 | H26: =F26+'April 2027'!H26 -> 0
A27: JURY DUTY | E27: J | F27: =COUNTIF(C5:G16,"J")+(F34/2)+(F40/2)+(F41/2)+(F42/2)+(F43/2) -> 0 | H27: =F27+'April 2027'!H27 -> 0
A29: WORK/NON CONTRACT | E29: W/NC | F29: =SUM(COUNTIF(C5:G16,"W/NC")+COUNTIF(C5:G16,"NC/W")+COUNTIF(C5:G16,"W\NC")+COUNTIF(C5:G16,"NC\W")) -> 0 | H29: =F29+'April 2027'!H30 -> 0
A30: WORK/SICK | E30: W/S | F30: =SUM(COUNTIF(C5:G16,"W/S")+COUNTIF(C5:G16,"S/W")+COUNTIF(C5:G16,"W\S")+COUNTIF(C5:G16,"S\W")) -> 0 | H30: =F30+'April 2027'!H30 -> 0
A31: PERSONAL/NON CONTRACT | E31: P/NC | F31: =SUM(COUNTIF(C5:G16,"P/NC")+COUNTIF(C5:G16,"NC/P")+COUNTIF(C5:G16,"P\NC")+COUNTIF(C5:G16,"NC\P")) -> 0 | H31: =F31+'April 2027'!H31 -> 0
A32: EMERGENCY/WORK | E32: E/W | F32: =SUM(COUNTIF(C5:G16,"W/E")+COUNTIF(C5:G16,"E/W")+COUNTIF(C5:G16,"W\E")+COUNTIF(C5:G16,"E\W")) -> 0 | H32: =F32+'April 2027'!H32 -> 0
A33: PERSONAL/WORK | E33: P/W | F33: =SUM(COUNTIF(C5:G16,"W/P")+COUNTIF(C5:G16,"P/W")+COUNTIF(C5:G16,"W\P")+COUNTIF(C5:G16,"P\W")) -> 0 | H33: =F33+'April 2027'!H33 -> 0
A34: JURY DUTY/WORK | E34: J/W | F34: =SUM(COUNTIF(C5:G16,"W/J")+COUNTIF(C5:G16,"J/W")+COUNTIF(C5:G16,"W\J")+COUNTIF(C5:G16,"J\W")) -> 0 | H34: =F34+'April 2027'!H34 -> 0
A35: PERSONAL/EMERGENCY | E35: P/E | F35: =SUM(COUNTIF($C$5:$G$16,"P/E")+COUNTIF($C$5:$G$16,"E/P")+COUNTIF($C$5:$G$16,"P\E")+COUNTIF($C$5:$G$16,"E\P")) -> 0 | H35: =F35+'April 2027'!H35 -> 0
A36: PERSONAL/SICK | E36: P/S | F36: =SUM(COUNTIF($C$5:$G$16,"P/S")+COUNTIF($C$5:$G$16,"S/P")+COUNTIF($C$5:$G$16,"P\S")+COUNTIF($C$5:$G$16,"S\P")) -> 0 | H36: =F36+'April 2027'!H36 -> 0
