Workbook

Sheet IIIB
A3: DISTRICT | B3: County-Dist
F4: General | G4: General | H4: General | J4: General
E5: DISTRICT/ | F5: High School | G5: Post-Secondary | H5: Integrated | I5: Gifted & Talented | J5: Instructional | K5: Other General
D6: COUNTY | E6: BOCES | F6: Education | G6: Education | H6: Education | I6: Education | J6: Media | K6: Education
A8: 0010 | B8: ADAMSMAPLETON 1 | D8: ADAMS | E8: MAPLETON 1
A9: 0010 | B9: ADAMSMAPLETON 1 | C9: $ | D9: Operating | F9: 165160.89 | G9: 156.17 | H9: 121638.67 | I9: 0 | J9: 0 | K9: 196012.54
A10: 0010 | B10: ADAMSMAPLETON 1 | C10: $ | D10: Capital | F10: 0 | G10: 0 | H10: 0 | I10: 0 | J10: 0 | K10: 0
A11: 0010 | B11: ADAMSMAPLETON 1 | C11: $ | D11: Total | F11: 165160.89 | G11: 156.17 | H11: 121638.67 | I11: 0 | J11: 0 | K11: 196012.54
A12: 0010 | B12: ADAMSMAPLETON 1 | C12: % | D12: Instructional Expenditures | F12: 3.0344542 | G12: 0.0028692671 | H12: 2.2348328 | I12: 0 | J12: 0 | K12: 3.6012828
A13: 0010 | B13: ADAMSMAPLETON 1
A14: 0020 | B14: ADAMSADAMS 12 FIV | D14: ADAMS | E14: ADAMS 12 FIVE STAR
A15: 0020 | B15: ADAMSADAMS 12 FIV | C15: $ | D15: Operating | F15: 7146647.9 | G15: 0 | H15: 452046.78 | I15: 32193.46 | J15: 104048.54 | K15: 1905703
A16: 0020 | B16: ADAMSADAMS 12 FIV | C16: $ | D16: Capital | F16: 1069.28 | G16: 0 | H16: 0 | I16: 0 | J16: 0 | K16: 0
A17: 0020 | B17: ADAMSADAMS 12 FIV | C17: $ | D17: Total | F17: 7147717.2 | G17: 0 | H17: 452046.78 | I17: 32193.46 | J17: 104048.54 | K17: 1905703
A18: 0020 | B18: ADAMSADAMS 12 FIV | C18: % | D18: Instructional Expenditures | F18: 11.144237 | G18: 0 | H18: 0.70480073 | I18: 0.050193863 | J18: 0.16222544 | K18: 2.9712431
A19: 0020 | B19: ADAMSADAMS 12 FIV
A20: 0030 | B20: ADAMSADAMS COUNTY | D20: ADAMS | E20: ADAMS COUNTY 14
A21: 0030 | B21: ADAMSADAMS COUNTY | C21: $ | D21: Operating | F21: 378152.77 | G21: -3814.78 | H21: 0 | I21: 8558.13 | J21: 1484.61 | K21: 900
A22: 0030 | B22: ADAMSADAMS COUNTY | C22: $ | D22: Capital | F22: 41148.61 | G22: 0 | H22: 0 | I22: 0 | J22: 0 | K22: 0
A23: 0030 | B23: ADAMSADAMS COUNTY | C23: $ | D23: Total | F23: 419301.38 | G23: -3814.78 | H23: 0 | I23: 8558.13 | J23: 1484.61 | K23: 900
A24: 0030 | B24: ADAMSADAMS COUNTY | C24: % | D24: Instructional Expenditures | F24: 4.4524888 | G24: -0.040508489 | H24: 0 | I24: 0.090877302 | J24: 0.015764817 | K24: 0.0095569443
A25: 0030 | B25: ADAMSADAMS COUNTY
A26: 0040 | B26: ADAMSSCHOOL DISTRICT 27J | D26: ADAMS | E26: SCHOOL DISTRICT 27J
A27: 0040 | B27: ADAMSSCHOOL DISTRICT 27J | C27: $ | D27: Operating | F27: 4004503.3 | G27: 0 | H27: 610.52 | I27: 1693.15 | J27: 0 | K27: 372870.62
A28: 0040 | B28: ADAMSSCHOOL DISTRICT 27J | C28: $ | D28: Capital | F28: 0 | G28: 0 | H28: 0 | I28: 0 | J28: 0 | K28: 0
A29: 0040 | B29: ADAMSSCHOOL DISTRICT 27J | C29: $ | D29: Total | F29: 4004503.3 | G29: 0 | H29: 610.52 | I29: 1693.15 | J29: 0 | K29: 372870.62
A30: 0040 | B30: ADAMSSCHOOL DISTRICT 27J | C30: % | D30: Instructional Expenditures | F30: 15.50568 | G30: 0 | H30: 0.0023639706 | I30: 0.0065559797 | J30: 0 | K30: 1.4437777
A31: 0040 | B31: ADAMSSCHOOL DISTRICT 27J
A32: 0050 | B32: ADAMSBENNETT 29J | D32: ADAMS | E32: BENNETT 29J
A33: 0050 | B33: ADAMSBENNETT 29J | C33: $ | D33: Operating | F33: 627980.62 | G33: 106691.03 | H33: 0 | I33: 0 | J33: 0 | K33: 196286.58
A34: 0050 | B34: ADAMSBENNETT 29J | C34: $ | D34: Capital | F34: 0 | G34: 0 | H34: 0 | I34: 0 | J34: 0 | K34: 0
A35: 0050 | B35: ADAMSBENNETT 29J | C35: $ | D35: Total | F35: 627980.62 | G35: 106691.03 | H35: 0 | I35: 0 | J35: 0 | K35: 196286.58
A36: 0050 | B36: ADAMSBENNETT 29J | C36: % | D36: Instructional Expenditures | F36: 20.735772 | G36: 3.5229127 | H36: 0 | I36: 0 | J36: 0 | K36: 6.4813367
A37: 0050 | B37: ADAMSBENNETT 29J
A38: 0060 | B38: ADAMSSTRASBURG 31 | D38: ADAMS | E38: STRASBURG 31J
A39: 0060 | B39: ADAMSSTRASBURG 31 | C39: $ | D39: Operating | F39: 319669.58 | G39: 50619.68 | H39: 0 | I39: 1230.5 | J39: 0 | K39: 4106.85
A40: 0060 | B40: ADAMSSTRASBURG 31 | C40: $ | D40: Capital | F40: 56015.93 | G40: 0 | H40: 0 | I40: 0 | J40: 0 | K40: 0
A41: 0060 | B41: ADAMSSTRASBURG 31 | C41: $ | D41: Total | F41: 375685.51 | G41: 50619.68 | H41: 0 | I41: 1230.5 | J41: 0 | K41: 4106.85
A42: 0060 | B42: ADAMSSTRASBURG 31 | C42: % | D42: Instructional Expenditures | F42: 17.17295 | G42: 2.3138748 | H42: 0 | I42: 0.05624735 | J42: 0 | K42: 0.1877281
A43: 0060 | B43: ADAMSSTRASBURG 31
A44: 0070 | B44: ADAMSWESTMINSTER | D44: ADAMS | E44: WESTMINSTER SCHOOL DISTRICT
A45: 0070 | B45: ADAMSWESTMINSTER | C45: $ | D45: Operating | F45: 8491332.1 | G45: 0 | H45: 0 | I45: 15465.77 | J45: 15595.33 | K45: 0
A46: 0070 | B46: ADAMSWESTMINSTER | C46: $ | D46: Capital | F46: 0 | G46: 0 | H46: 0 | I46: 0 | J46: 0 | K46: 0
A47: 0070 | B47: ADAMSWESTMINSTER | C47: $ | D47: Total | F47: 8491332.1 | G47: 0 | H47: 0 | I47: 15465.77 | J47: 15595.33 | K47: 0
A48: 0070 | B48: ADAMSWESTMINSTER | C48: % | D48: Instructional Expenditures | F48: 57.032282 | G48: 0 | H48: 0 | I48: 0.1038763 | J48: 0.10474649 | K48: 0
A49: 0070 | B49: ADAMSWESTMINSTER
A50: 0100 | B50: ALAMOALAMOSA RE-1 | D50: ALAMOSA | E50: ALAMOSA RE-11J
A51: 0100 | B51: ALAMOALAMOSA RE-1 | C51: $ | D51: Operating | F51: 231831.94 | G51: 0 | H51: 0 | I51: 0 | J51: 0 | K51: 0
A52: 0100 | B52: ALAMOALAMOSA RE-1 | C52: $ | D52: Capital | F52: 0 | G52: 0 | H52: 0 | I52: 0 | J52: 0 | K52: 0
A53: 0100 | B53: ALAMOALAMOSA RE-1 | C53: $ | D53: Total | F53: 231831.94 | G53: 0 | H53: 0 | I53: 0 | J53: 0 | K53: 0
A54: 0100 | B54: ALAMOALAMOSA RE-1 | C54: % | D54: Instructional Expenditures | F54: 5.9387746 | G54: 0 | H54: 0 | I54: 0 | J54: 0 | K54: 0
A55: 0100 | B55: ALAMOALAMOSA RE-1
A56: 0110 | B56: ALAMOSANGRE DE CR | D56: ALAMOSA | E56: SANGRE DE CRISTO RE-22J
A57: 0110 | B57: ALAMOSANGRE DE CR | C57: $ | D57: Operating | F57: 13921.03 | G57: 0 | H57: 8697.14 | I57: 0 | J57: 0 | K57: 0
A58: 0110 | B58: ALAMOSANGRE DE CR | C58: $ | D58: Capital | F58: 0 | G58: 0 | H58: 0 | I58: 0 | J58: 0 | K58: 0
A59: 0110 | B59: ALAMOSANGRE DE CR | C59: $ | D59: Total | F59: 13921.03 | G59: 0 | H59: 8697.14 | I59: 0 | J59: 0 | K59: 0
A60: 0110 | B60: ALAMOSANGRE DE CR | C60: % | D60: Instructional Expenditures | F60: 1.5998743 | G60: 0 | H60: 0.99951879 | I60: 0 | J60: 0 | K60: 0
A61: 0110 | B61: ALAMOSANGRE DE CR
A62: 0120 | B62: ARAPAENGLEWOOD 1 | D62: ARAPAHOE | E62: ENGLEWOOD 1
A63: 0120 | B63: ARAPAENGLEWOOD 1 | C63: $ | D63: Operating | F63: 446345.67 | G63: 6000 | H63: 61666.88 | I63: 0 | J63: 650 | K63: 0
A64: 0120 | B64: ARAPAENGLEWOOD 1 | C64: $ | D64: Capital | F64: 0 | G64: 0 | H64: 0 | I64: 0 | J64: 0 | K64: 0
A65: 0120 | B65: ARAPAENGLEWOOD 1 | C65: $ | D65: Total | F65: 446345.67 | G65: 6000 | H65: 61666.88 | I65: 0 | J65: 650 | K65: 0
A66: 0120 | B66: ARAPAENGLEWOOD 1 | C66: % | D66: Instructional Expenditures | F66: 6.2448192 | G66: 0.083945959 | H66: 0.86278089 | I66: 0 | J66: 0.0090941455 | K66: 0
A67: 0120 | B67: ARAPAENGLEWOOD 1
A68: 0123 | B68: ARAPASHERIDAN 2 | D68: ARAPAHOE | E68: SHERIDAN 2
A69: 0123 | B69: ARAPASHERIDAN 2 | C69: $ | D69: Operating | F69: 587020.29 | G69: 0 | H69: 0 | I69: 0 | J69: 112613.21 | K69: 9901.45
A70: 0123 | B70: ARAPASHERIDAN 2 | C70: $ | D70: Capital | F70: 102.97 | G70: 0 | H70: 0 | I70: 0 | J70: 0 | K70: 0
A71: 0123 | B71: ARAPASHERIDAN 2 | C71: $ | D71: Total | F71: 587123.26 | G71: 0 | H71: 0 | I71: 0 | J71: 112613.21 | K71: 9901.45
A72: 0123 | B72: ARAPASHERIDAN 2 | C72: % | D72: Instructional Expenditures | F72: 17.459498 | G72: 0 | H72: 0 | I72: 0 | J72: 3.3488199 | K72: 0.29444301
A73: 0123 | B73: ARAPASHERIDAN 2
A74: 0130 | B74: ARAPACHERRY CREEK | D74: ARAPAHOE | E74: CHERRY CREEK 5
A75: 0130 | B75: ARAPACHERRY CREEK | C75: $ | D75: Operating | F75: -71264.01 | G75: 270.3 | H75: 3639084.3 | I75: 165088.37 | J75: 100796.95 | K75: 643932.19
A76: 0130 | B76: ARAPACHERRY CREEK | C76: $ | D76: Capital | F76: 97505.94 | G76: 0 | H76: 3158.85 | I76: 0 | J76: 8470 | K76: 0
A77: 0130 | B77: ARAPACHERRY CREEK | C77: $ | D77: Total | F77: 26241.93 | G77: 270.3 | H77: 3642243.1 | I77: 165088.37 | J77: 109266.95 | K77: 643932.19
A78: 0130 | B78: ARAPACHERRY CREEK | C78: % | D78: Instructional Expenditures | F78: 0.019368035 | G78: 0.00019949675 | H78: 2.6881823 | I78: 0.12184459 | J78: 0.080645215 | K78: 0.47525853
A79: 0130 | B79: ARAPACHERRY CREEK
A80: 0140 | B80: ARAPALITTLETON 6 | D80: ARAPAHOE | E80: LITTLETON 6
A81: 0140 | B81: ARAPALITTLETON 6 | C81: $ | D81: Operating | F81: 2185263.7 | G81: 0 | H81: 0 | I81: 0 | J81: 0 | K81: 0
A82: 0140 | B82: ARAPALITTLETON 6 | C82: $ | D82: Capital | F82: 6213.26 | G82: 0 | H82: 0 | I82: 0 | J82: 0 | K82: 0
A83: 0140 | B83: ARAPALITTLETON 6 | C83: $ | D83: Total | F83: 2191477 | G83: 0 | H83: 0 | I83: 0 | J83: 0 | K83: 0
A84: 0140 | B84: ARAPALITTLETON 6 | C84: % | D84: Instructional Expenditures | F84: 7.6278826 | G84: 0 | H84: 0 | I84: 0 | J84: 0 | K84: 0
A85: 0140 | B85: ARAPALITTLETON 6
A86: 0170 | B86: ARAPADEER TRAIL 2 | D86: ARAPAHOE | E86: DEER TRAIL 26J
A87: 0170 | B87: ARAPADEER TRAIL 2 | C87: $ | D87: Operating | F87: 8962.1 | G87: 7927.6 | H87: 0 | I87: 0 | J87: 0 | K87: 26776.36
A88: 0170 | B88: ARAPADEER TRAIL 2 | C88: $ | D88: Capital | F88: 1203.37 | G88: 0 | H88: 0 | I88: 0 | J88: 0 | K88: 0
A89: 0170 | B89: ARAPADEER TRAIL 2 | C89: $ | D89: Total | F89: 10165.47 | G89: 7927.6 | H89: 0 | I89: 0 | J89: 0 | K89: 26776.36
A90: 0170 | B90: ARAPADEER TRAIL 2 | C90: % | D90: Instructional Expenditures | F90: 1.477549 | G90: 1.152275 | H90: 0 | I90: 0 | J90: 0 | K90: 3.8919384
A91: 0170 | B91: ARAPADEER TRAIL 2
A92: 0180 | B92: ARAPAADAMS-ARAPAH | D92: ARAPAHOE | E92: ADAMS-ARAPAHOE 28J
A93: 0180 | B93: ARAPAADAMS-ARAPAH | C93: $ | D93: Operating | F93: 5834003.4 | G93: 93182.22 | H93: 2315.2 | I93: 0 | J93: 0 | K93: 195524.1
A94: 0180 | B94: ARAPAADAMS-ARAPAH | C94: $ | D94: Capital | F94: 105109.3 | G94: 110631.67 | H94: 0 | I94: 0 | J94: 0 | K94: 0
A95: 0180 | B95: ARAPAADAMS-ARAPAH | C95: $ | D95: Total | F95: 5939112.7 | G95: 203813.89 | H95: 2315.2 | I95: 0 | J95: 0 | K95: 195524.1
A96: 0180 | B96: ARAPAADAMS-ARAPAH | C96: % | D96: Instructional Expenditures | F96: 9.2124729 | G96: 0.31614654 | H96: 0.0035912296 | I96: 0 | J96: 0 | K96: 0.30328781
A97: 0180 | B97: ARAPAADAMS-ARAPAH
A98: 0190 | B98: ARAPABYERS 32J | D98: ARAPAHOE | E98: BYERS 32J
A99: 0190 | B99: ARAPABYERS 32J | C99: $ | D99: Operating | F99: 25921.4 | G99: 0 | H99: 19030486 | I99: 45081.51 | J99: 0 | K99: 0
A100: 0190 | B100: ARAPABYERS 32J | C100: $ | D100: Capital | F100: 0 | G100: 0 | H100: 0 | I100: 0 | J100: 0 | K100: 0
A101: 0190 | B101: ARAPABYERS 32J | C101: $ | D101: Total | F101: 25921.4 | G101: 0 | H101: 19030486 | I101: 45081.51 | J101: 0 | K101: 0
A102: 0190 | B102: ARAPABYERS 32J | C102: % | D102: Instructional Expenditures | F102: 0.12183794 | G102: 0 | H102: 89.448686 | I102: 0.21189589 | J102: 0 | K102: 0
A103: 0190 | B103: ARAPABYERS 32J
...

Sheet IIIC
A3: DISTRICT | B3: County-Dist
I4: Distributive | L4: Health | N4: Family & | O4: Industrial Arts
E5: DISTRICT/ | I5: Marketing | J5: English | K5: Foreign | L5: Occupations | M5: Physical | N5: Consumer | O5: Technology
D6: COUNTY | E6: BOCES | F6: Agriculture | G6: Art | H6: Business | I6: Education | J6: Language Arts | K6: Language | L6: Education | M6: Curriculum | N6: Education | O6: Education
A8: 0010 | B8: ADAMSMAPLETON 1 | D8: ADAMS | E8: MAPLETON 1
A9: 0010 | B9: ADAMSMAPLETON 1 | C9: $ | D9: Operating | F9: 0 | G9: 72706.19 | H9: 0 | I9: 0 | J9: 1018960.9 | K9: 473589.7 | L9: 0 | M9: 196635.51 | N9: 0 | O9: 0
A10: 0010 | B10: ADAMSMAPLETON 1 | C10: $ | D10: Capital | F10: 0 | G10: 0 | H10: 0 | I10: 0 | J10: 0 | K10: 0 | L10: 0 | M10: 0 | N10: 0 | O10: 0
A11: 0010 | B11: ADAMSMAPLETON 1 | C11: $ | D11: Total | F11: 0 | G11: 72706.19 | H11: 0 | I11: 0 | J11: 1018960.9 | K11: 473589.7 | L11: 0 | M11: 196635.51 | N11: 0 | O11: 0
A12: 0010 | B12: ADAMSMAPLETON 1 | C12: % | D12: Instructional Expenditures | F12: 0 | G12: 1.3358102 | H12: 0 | I12: 0 | J12: 18.72108 | K12: 8.7011293 | L12: 0 | M12: 3.6127285 | N12: 0 | O12: 0
A13: 0010 | B13: ADAMSMAPLETON 1
A14: 0020 | B14: ADAMSADAMS 12 FIV | D14: ADAMS | E14: ADAMS 12 FIVE STAR
A15: 0020 | B15: ADAMSADAMS 12 FIV | C15: $ | D15: Operating | F15: 0 | G15: 1874054.2 | H15: 1486655.1 | I15: 156634.53 | J15: 7728143 | K15: 3348413.5 | L15: 9996.98 | M15: 2952732.7 | N15: 974318.91 | O15: 23267.42
A16: 0020 | B16: ADAMSADAMS 12 FIV | C16: $ | D16: Capital | F16: 0 | G16: 7518 | H16: 0 | I16: 0 | J16: 0 | K16: 0 | L16: 0 | M16: 13400 | N16: 0 | O16: 0
A17: 0020 | B17: ADAMSADAMS 12 FIV | C17: $ | D17: Total | F17: 0 | G17: 1881572.2 | H17: 1486655.1 | I17: 156634.53 | J17: 7728143 | K17: 3348413.5 | L17: 9996.98 | M17: 2966132.7 | N17: 974318.91 | O17: 23267.42
A18: 0020 | B18: ADAMSADAMS 12 FIV | C18: % | D18: Instructional Expenditures | F18: 0 | G18: 2.93362 | H18: 2.317892 | I18: 0.24421395 | J18: 12.049197 | K18: 5.2206196 | L18: 0.015586614 | M18: 4.6245933 | N18: 1.5190921 | O18: 0.036276986
A19: 0020 | B19: ADAMSADAMS 12 FIV
A20: 0030 | B20: ADAMSADAMS COUNTY | D20: ADAMS | E20: ADAMS COUNTY 14
A21: 0030 | B21: ADAMSADAMS COUNTY | C21: $ | D21: Operating | F21: 0 | G21: 198048.96 | H21: 102014.66 | I21: 0 | J21: 2026263.3 | K21: 317719.08 | L21: 0 | M21: 753827.38 | N21: 165009.66 | O21: 261669.99
A22: 0030 | B22: ADAMSADAMS COUNTY | C22: $ | D22: Capital | F22: 0 | G22: 0 | H22: 0 | I22: 0 | J22: 0 | K22: 0 | L22: 0 | M22: 0 | N22: 0 | O22: 0
A23: 0030 | B23: ADAMSADAMS COUNTY | C23: $ | D23: Total | F23: 0 | G23: 198048.96 | H23: 102014.66 | I23: 0 | J23: 2026263.3 | K23: 317719.08 | L23: 0 | M23: 753827.38 | N23: 165009.66 | O23: 261669.99
A24: 0030 | B24: ADAMSADAMS COUNTY | C24: % | D24: Instructional Expenditures | F24: 0 | G24: 2.1030476 | H24: 1.083276 | I24: 0 | J24: 21.516539 | K24: 3.3738039 | L24: 0 | M24: 8.0047625 | N24: 1.752209 | O24: 2.7786283
A25: 0030 | B25: ADAMSADAMS COUNTY
A26: 0040 | B26: ADAMSSCHOOL DISTRICT 27J | D26: ADAMS | E26: SCHOOL DISTRICT 27J
A27: 0040 | B27: ADAMSSCHOOL DISTRICT 27J | C27: $ | D27: Operating | F27: 73490.29 | G27: 311094.17 | H27: 199641.23 | I27: 97928.96 | J27: 2672713.2 | K27: 1057554.4 | L27: 89940.78 | M27: 989093.55 | N27: 139324.58 | O27: 712069.93
A28: 0040 | B28: ADAMSSCHOOL DISTRICT 27J | C28: $ | D28: Capital | F28: 0 | G28: 0 | H28: 0 | I28: 0 | J28: 0 | K28: 0 | L28: 0 | M28: 0 | N28: 0 | O28: 0
A29: 0040 | B29: ADAMSSCHOOL DISTRICT 27J | C29: $ | D29: Total | F29: 73490.29 | G29: 311094.17 | H29: 199641.23 | I29: 97928.96 | J29: 2672713.2 | K29: 1057554.4 | L29: 89940.78 | M29: 989093.55 | N29: 139324.58 | O29: 712069.93
A30: 0040 | B30: ADAMSSCHOOL DISTRICT 27J | C30: % | D30: Instructional Expenditures | F30: 0.28455887 | G30: 1.2045755 | H30: 0.77302298 | I30: 0.37918689 | J30: 10.348908 | K30: 4.0949149 | L30: 0.34825617 | M30: 3.8298304 | N30: 0.53947324 | O30: 2.7571781
A31: 0040 | B31: ADAMSSCHOOL DISTRICT 27J
A32: 0050 | B32: ADAMSBENNETT 29J | D32: ADAMS | E32: BENNETT 29J
A33: 0050 | B33: ADAMSBENNETT 29J | C33: $ | D33: Operating | F33: 43626.5 | G33: 54728.33 | H33: 158554.21 | I33: 0 | J33: 195906.21 | K33: 56907.01 | L33: 3085.53 | M33: 86938.02 | N33: 8706.5 | O33: 70571.58
A34: 0050 | B34: ADAMSBENNETT 29J | C34: $ | D34: Capital | F34: 0 | G34: 0 | H34: 0 | I34: 0 | J34: 0 | K34: 0 | L34: 0 | M34: 0 | N34: 0 | O34: 0
A35: 0050 | B35: ADAMSBENNETT 29J | C35: $ | D35: Total | F35: 43626.5 | G35: 54728.33 | H35: 158554.21 | I35: 0 | J35: 195906.21 | K35: 56907.01 | L35: 3085.53 | M35: 86938.02 | N35: 8706.5 | O35: 70571.58
A36: 0050 | B36: ADAMSBENNETT 29J | C36: % | D36: Instructional Expenditures | F36: 1.4405368 | G36: 1.8071166 | H36: 5.2354227 | I36: 0 | J36: 6.468777 | K36: 1.8790561 | L36: 0.10188347 | M36: 2.870673 | N36: 0.28748658 | O36: 2.330257
A37: 0050 | B37: ADAMSBENNETT 29J
A38: 0060 | B38: ADAMSSTRASBURG 31 | D38: ADAMS | E38: STRASBURG 31J
A39: 0060 | B39: ADAMSSTRASBURG 31 | C39: $ | D39: Operating | F39: 0 | G39: 35224.07 | H39: 69507.86 | I39: 0 | J39: 191535.97 | K39: 78095.82 | L39: 0 | M39: 164252.14 | N39: 0 | O39: 0
A40: 0060 | B40: ADAMSSTRASBURG 31 | C40: $ | D40: Capital | F40: 0 | G40: 0 | H40: 0 | I40: 0 | J40: 0 | K40: 0 | L40: 0 | M40: 0 | N40: 0 | O40: 0
A41: 0060 | B41: ADAMSSTRASBURG 31 | C41: $ | D41: Total | F41: 0 | G41: 35224.07 | H41: 69507.86 | I41: 0 | J41: 191535.97 | K41: 78095.82 | L41: 0 | M41: 164252.14 | N41: 0 | O41: 0
A42: 0060 | B42: ADAMSSTRASBURG 31 | C42: % | D42: Instructional Expenditures | F42: 0 | G42: 1.6101265 | H42: 3.1772718 | I42: 0 | J42: 8.7552953 | K42: 3.5698358 | L42: 0 | M42: 7.5081249 | N42: 0 | O42: 0
A43: 0060 | B43: ADAMSSTRASBURG 31
A44: 0070 | B44: ADAMSWESTMINSTER | D44: ADAMS | E44: WESTMINSTER SCHOOL DISTRICT
A45: 0070 | B45: ADAMSWESTMINSTER | C45: $ | D45: Operating | F45: 283822.33 | G45: 6748.71 | H45: 133435.64 | I45: 53786.91 | J45: 1056996.8 | K45: 2651.87 | L45: 526757.05 | M45: 131193.21 | N45: 264845.94 | O45: 488877.6
A46: 0070 | B46: ADAMSWESTMINSTER | C46: $ | D46: Capital | F46: 10449.05 | G46: 0 | H46: 0 | I46: 0 | J46: 0 | K46: 0 | L46: 0 | M46: 0 | N46: 0 | O46: 59657.9
A47: 0070 | B47: ADAMSWESTMINSTER | C47: $ | D47: Total | F47: 294271.38 | G47: 6748.71 | H47: 133435.64 | I47: 53786.91 | J47: 1056996.8 | K47: 2651.87 | L47: 526757.05 | M47: 131193.21 | N47: 264845.94 | O47: 548535.5
A48: 0070 | B48: ADAMSWESTMINSTER | C48: % | D48: Instructional Expenditures | F48: 1.9764824 | G48: 0.04532791 | H48: 0.89622441 | I48: 0.36126137 | J48: 7.0993501 | K48: 0.017811363 | L48: 3.5379792 | M48: 0.88116306 | N48: 1.7788456 | O48: 3.6842548
A49: 0070 | B49: ADAMSWESTMINSTER
A50: 0100 | B50: ALAMOALAMOSA RE-1 | D50: ALAMOSA | E50: ALAMOSA RE-11J
A51: 0100 | B51: ALAMOALAMOSA RE-1 | C51: $ | D51: Operating | F51: 266907.43 | G51: 103588.88 | H51: 242451.98 | I51: 0 | J51: 420768.12 | K51: 210243.62 | L51: 0 | M51: 207661.22 | N51: 4805.85 | O51: 88727.52
A52: 0100 | B52: ALAMOALAMOSA RE-1 | C52: $ | D52: Capital | F52: 2912.57 | G52: 705 | H52: 0 | I52: 0 | J52: 0 | K52: 0 | L52: 0 | M52: 0 | N52: 0 | O52: 1215.33
A53: 0100 | B53: ALAMOALAMOSA RE-1 | C53: $ | D53: Total | F53: 269820 | G53: 104293.88 | H53: 242451.98 | I53: 0 | J53: 420768.12 | K53: 210243.62 | L53: 0 | M53: 207661.22 | N53: 4805.85 | O53: 89942.85
A54: 0100 | B54: ALAMOALAMOSA RE-1 | C54: % | D54: Instructional Expenditures | F54: 6.9119042 | G54: 2.6716674 | H54: 6.2108252 | I54: 0 | J54: 10.7787 | K54: 5.3857526 | L54: 0 | M54: 5.3195999 | N54: 0.12311013 | O54: 2.3040411
A55: 0100 | B55: ALAMOALAMOSA RE-1
A56: 0110 | B56: ALAMOSANGRE DE CR | D56: ALAMOSA | E56: SANGRE DE CRISTO RE-22J
A57: 0110 | B57: ALAMOSANGRE DE CR | C57: $ | D57: Operating | F57: 93821.8 | G57: 27848.85 | H57: 27046.84 | I57: 0 | J57: 69888.12 | K57: 30691.29 | L57: 0 | M57: 36398.55 | N57: 0 | O57: 0
A58: 0110 | B58: ALAMOSANGRE DE CR | C58: $ | D58: Capital | F58: 0 | G58: 0 | H58: 0 | I58: 0 | J58: 0 | K58: 0 | L58: 0 | M58: 0 | N58: 0 | O58: 0
A59: 0110 | B59: ALAMOSANGRE DE CR | C59: $ | D59: Total | F59: 93821.8 | G59: 27848.85 | H59: 27046.84 | I59: 0 | J59: 69888.12 | K59: 30691.29 | L59: 0 | M59: 36398.55 | N59: 0 | O59: 0
A60: 0110 | B60: ALAMOSANGRE DE CR | C60: % | D60: Instructional Expenditures | F60: 10.78247 | G60: 3.200529 | H60: 3.108358 | I60: 0 | J60: 8.031892 | K60: 3.5271964 | L60: 0 | M60: 4.1831032 | N60: 0 | O60: 0
A61: 0110 | B61: ALAMOSANGRE DE CR
A62: 0120 | B62: ARAPAENGLEWOOD 1 | D62: ARAPAHOE | E62: ENGLEWOOD 1
A63: 0120 | B63: ARAPAENGLEWOOD 1 | C63: $ | D63: Operating | F63: 148314.98 | G63: 302520.22 | H63: 77937.26 | I63: 0 | J63: 858622.06 | K63: 231101.6 | L63: 70486.76 | M63: 403871.68 | N63: 575721.1 | O63: 2920
A64: 0120 | B64: ARAPAENGLEWOOD 1 | C64: $ | D64: Capital | F64: 0 | G64: 0 | H64: 0 | I64: 0 | J64: 0 | K64: 0 | L64: 0 | M64: 0 | N64: 0 | O64: 0
A65: 0120 | B65: ARAPAENGLEWOOD 1 | C65: $ | D65: Total | F65: 148314.98 | G65: 302520.22 | H65: 77937.26 | I65: 0 | J65: 858622.06 | K65: 231101.6 | L65: 70486.76 | M65: 403871.68 | N65: 575721.1 | O65: 2920
A66: 0120 | B66: ARAPAENGLEWOOD 1 | C66: % | D66: Instructional Expenditures | F66: 2.0750739 | G66: 4.2325583 | H66: 1.0904197 | I66: 0 | J66: 12.012975 | K66: 3.2333409 | L66: 0.98617977 | M66: 5.6505659 | N66: 8.0549099 | O66: 0.0408537
A67: 0120 | B67: ARAPAENGLEWOOD 1
A68: 0123 | B68: ARAPASHERIDAN 2 | D68: ARAPAHOE | E68: SHERIDAN 2
A69: 0123 | B69: ARAPASHERIDAN 2 | C69: $ | D69: Operating | F69: 0 | G69: 82279.79 | H69: 15917.84 | I69: 0 | J69: 435868.25 | K69: 114306.54 | L69: 0 | M69: 137845.8 | N69: 0 | O69: 333012.3
A70: 0123 | B70: ARAPASHERIDAN 2 | C70: $ | D70: Capital | F70: 0 | G70: 0 | H70: 0 | I70: 0 | J70: 0 | K70: 0 | L70: 0 | M70: 0 | N70: 0 | O70: 0
A71: 0123 | B71: ARAPASHERIDAN 2 | C71: $ | D71: Total | F71: 0 | G71: 82279.79 | H71: 15917.84 | I71: 0 | J71: 435868.25 | K71: 114306.54 | L71: 0 | M71: 137845.8 | N71: 0 | O71: 333012.3
A72: 0123 | B72: ARAPASHERIDAN 2 | C72: % | D72: Instructional Expenditures | F72: 0 | G72: 2.446784 | H72: 0.47335459 | I72: 0 | J72: 12.961572 | K72: 3.3991751 | L72: 0 | M72: 4.0991706 | N72: 0 | O72: 9.9029077
A73: 0123 | B73: ARAPASHERIDAN 2
A74: 0130 | B74: ARAPACHERRY CREEK | D74: ARAPAHOE | E74: CHERRY CREEK 5
A75: 0130 | B75: ARAPACHERRY CREEK | C75: $ | D75: Operating | F75: 4962.63 | G75: 3745874.9 | H75: 1294241.9 | I75: 975940.6 | J75: 18299574 | K75: 9155070.8 | L75: 30615.5 | M75: 7599603.2 | N75: 1310179.8 | O75: 1016030.1
A76: 0130 | B76: ARAPACHERRY CREEK | C76: $ | D76: Capital | F76: 0 | G76: 25589.19 | H76: 10543.36 | I76: 2891.59 | J76: 124432.74 | K76: 23708.94 | L76: 0 | M76: 39051.49 | N76: 20293.69 | O76: 191505.55
A77: 0130 | B77: ARAPACHERRY CREEK | C77: $ | D77: Total | F77: 4962.63 | G77: 3771464.1 | H77: 1304785.3 | I77: 978832.19 | J77: 18424007 | K77: 9178779.7 | L77: 30615.5 | M77: 7638654.7 | N77: 1330473.4 | O77: 1207535.7
A78: 0130 | B78: ARAPACHERRY CREEK | C78: % | D78: Instructional Expenditures | F78: 0.0036627028 | G78: 2.7835547 | H78: 0.96300567 | I78: 0.72243375 | J78: 13.597963 | K78: 6.7744608 | L78: 0.022595978 | M78: 5.637761 | N78: 0.98196497 | O78: 0.8912299
A79: 0130 | B79: ARAPACHERRY CREEK
A80: 0140 | B80: ARAPALITTLETON 6 | D80: ARAPAHOE | E80: LITTLETON 6
A81: 0140 | B81: ARAPALITTLETON 6 | C81: $ | D81: Operating | F81: 0 | G81: 878224.61 | H81: 636587.04 | I81: 0 | J81: 4215183.9 | K81: 2285144.6 | L81: 0 | M81: 1297219.2 | N81: 249004.02 | O81: 428182.77
A82: 0140 | B82: ARAPALITTLETON 6 | C82: $ | D82: Capital | F82: 0 | G82: 0 | H82: 0 | I82: 0 | J82: 0 | K82: 0 | L82: 0 | M82: 0 | N82: 0 | O82: 11116.09
A83: 0140 | B83: ARAPALITTLETON 6 | C83: $ | D83: Total | F83: 0 | G83: 878224.61 | H83: 636587.04 | I83: 0 | J83: 4215183.9 | K83: 2285144.6 | L83: 0 | M83: 1297219.2 | N83: 249004.02 | O83: 439298.86
A84: 0140 | B84: ARAPALITTLETON 6 | C84: % | D84: Instructional Expenditures | F84: 0 | G84: 3.0568399 | H84: 2.215771 | I84: 0 | J84: 14.671807 | K84: 7.9539119 | L84: 0 | M84: 4.5152359 | N84: 0.86670928 | O84: 1.5290693
A85: 0140 | B85: ARAPALITTLETON 6
A86: 0170 | B86: ARAPADEER TRAIL 2 | D86: ARAPAHOE | E86: DEER TRAIL 26J
A87: 0170 | B87: ARAPADEER TRAIL 2 | C87: $ | D87: Operating | F87: 73935.41 | G87: 13231.89 | H87: 43481.83 | I87: 0 | J87: 49935.89 | K87: 29359.55 | L87: 0 | M87: 20678.43 | N87: 11267.23 | O87: 49390.58
A88: 0170 | B88: ARAPADEER TRAIL 2 | C88: $ | D88: Capital | F88: 0 | G88: 0 | H88: 0 | I88: 0 | J88: 0 | K88: 0 | L88: 0 | M88: 0 | N88: 0 | O88: 0
A89: 0170 | B89: ARAPADEER TRAIL 2 | C89: $ | D89: Total | F89: 73935.41 | G89: 13231.89 | H89: 43481.83 | I89: 0 | J89: 49935.89 | K89: 29359.55 | L89: 0 | M89: 20678.43 | N89: 11267.23 | O89: 49390.58
A90: 0170 | B90: ARAPADEER TRAIL 2 | C90: % | D90: Instructional Expenditures | F90: 10.746496 | G90: 1.9232525 | H90: 6.320075 | I90: 0 | J90: 7.2581712 | K90: 4.2674045 | L90: 0 | M90: 3.0056055 | N90: 1.6376895 | O90: 7.1789105
A91: 0170 | B91: ARAPADEER TRAIL 2
A92: 0180 | B92: ARAPAADAMS-ARAPAH | D92: ARAPAHOE | E92: ADAMS-ARAPAHOE 28J
A93: 0180 | B93: ARAPAADAMS-ARAPAH | C93: $ | D93: Operating | F93: 200753.89 | G93: 2450826.6 | H93: 916183.57 | I93: 348881.26 | J93: 9439330.1 | K93: 2929041.9 | L93: 2072456.7 | M93: 2556046.8 | N93: 1825633.9 | O93: 3012782.6
A94: 0180 | B94: ARAPAADAMS-ARAPAH | C94: $ | D94: Capital | F94: 0 | G94: 0 | H94: 2030.14 | I94: 0 | J94: 0 | K94: 0 | L94: 436804.87 | M94: 0 | N94: 4296.25 | O94: 91911.21
A95: 0180 | B95: ARAPAADAMS-ARAPAH | C95: $ | D95: Total | F95: 200753.89 | G95: 2450826.6 | H95: 918213.71 | I95: 348881.26 | J95: 9439330.1 | K95: 2929041.9 | L95: 2509261.6 | M95: 2556046.8 | N95: 1829930.2 | O95: 3104693.8
A96: 0180 | B96: ARAPAADAMS-ARAPAH | C96: % | D96: Instructional Expenditures | F96: 0.31140001 | G96: 3.8016072 | H96: 1.42429 | I96: 0.54116824 | J96: 14.641846 | K96: 4.5433924 | L96: 3.8922489 | M96: 3.9648198 | N96: 2.8385018 | O96: 4.8158554
A97: 0180 | B97: ARAPAADAMS-ARAPAH
A98: 0190 | B98: ARAPABYERS 32J | D98: ARAPAHOE | E98: BYERS 32J
A99: 0190 | B99: ARAPABYERS 32J | C99: $ | D99: Operating | F99: 73929.78 | G99: 71288.81 | H99: 51389.6 | I99: 0 | J99: 64420.6 | K99: 40446.41 | L99: 0 | M99: 60712.07 | N99: 67988.97 | O99: 0
A100: 0190 | B100: ARAPABYERS 32J | C100: $ | D100: Capital | F100: 714.61 | G100: 0 | H100: 489.78 | I100: 0 | J100: 0 | K100: 0 | L100: 0 | M100: 0 | N100: 354.99 | O100: 0
A101: 0190 | B101: ARAPABYERS 32J | C101: $ | D101: Total | F101: 74644.39 | G101: 71288.81 | H101: 51879.38 | I101: 0 | J101: 64420.6 | K101: 40446.41 | L101: 0 | M101: 60712.07 | N101: 68343.96 | O101: 0
A102: 0190 | B102: ARAPABYERS 32J | C102: % | D102: Instructional Expenditures | F102: 0.35084982 | G102: 0.33507764 | H102: 0.24384781 | I102: 0 | J102: 0.3027951 | K102: 0.19010961 | L102: 0 | M102: 0.28536396 | N102: 0.32123601 | O102: 0
A103: 0190 | B103: ARAPABYERS 32J
...

Sheet IIID
A3: DISTRICT | B3: County-Dist
K4: Technical Education | M4: Cocurricular | N4: Cocurricular | O4: Total
E5: DISTRICT/ | H5: Natural | I5: Office | J5: Social | K5: Computer | L5: Special | M5: Activities | N5: Activities | O5: Instructional
D6: COUNTY | E6: BOCES | F6: Mathematics | G6: Music | H6: Science | I6: Occupations | J6: Sciences | K6: Technology | L6: Education | M6: Athletic/Sports | N6: Nonathletic | O6: Expenditures
A8: 0010 | B8: ADAMSMAPLETON 1 | D8: ADAMS | E8: MAPLETON 1
A9: 0010 | B9: ADAMSMAPLETON 1 | C9: $ | D9: Operating | F9: 1163972.3 | G9: 0 | H9: 1161179.4 | I9: 0 | J9: 754041.66 | K9: 113472.18 | L9: 0 | M9: 0 | N9: 5327.07 | O9: =SUM(F9:N9)+SUM(IIIC!F9:O9)+SUM(IIIB!F9:K9) -> 5442853.3
A10: 0010 | B10: ADAMSMAPLETON 1 | C10: $ | D10: Capital | F10: 0 | G10: 0 | H10: 0 | I10: 0 | J10: 0 | K10: 0 | L10: 0 | M10: 0 | N10: 0 | O10: =SUM(F10:N10)+SUM(IIIC!F10:O10)+SUM(IIIB!F10:K10) -> 0
A11: 0010 | B11: ADAMSMAPLETON 1 | C11: $ | D11: Total | F11: 1163972.3 | G11: 0 | H11: 1161179.4 | I11: 0 | J11: 754041.66 | K11: 113472.18 | L11: 0 | M11: 0 | N11: 5327.07 | O11: =SUM(F11:N11)+SUM(IIIC!F11:O11)+SUM(IIIB!F11:K11) -> 5442853.3
A12: 0010 | B12: ADAMSMAPLETON 1 | C12: % | D12: Instructional Expenditures | F12: 21.385334 | G12: 0 | H12: 21.33402 | I12: 0 | J12: 13.853794 | K12: 2.0847922 | L12: 0 | M12: 0 | N12: 0.097872747 | O12: =IFERROR((O11/IIID!$O11)*100,0) -> 100
A13: 0010 | B13: ADAMSMAPLETON 1
A14: 0020 | B14: ADAMSADAMS 12 FIV | D14: ADAMS | E14: ADAMS 12 FIVE STAR
A15: 0020 | B15: ADAMSADAMS 12 FIV | C15: $ | D15: Operating | F15: 7035230.2 | G15: 1188633.5 | H15: 6769248.4 | I15: 0 | J15: 6835609.2 | K15: 214953.29 | L15: 8785457.7 | M15: 3208864.8 | N15: 1863138.6 | O15: =SUM(F15:N15)+SUM(IIIC!F15:O15)+SUM(IIIB!F15:K15) -> 64095992
A16: 0020 | B16: ADAMSADAMS 12 FIV | C16: $ | D16: Capital | F16: 0 | G16: 0 | H16: 0 | I16: 0 | J16: 0 | K16: 0 | L16: 0 | M16: 0 | N16: 20260.52 | O16: =SUM(F16:N16)+SUM(IIIC!F16:O16)+SUM(IIIB!F16:K16) -> 42247.8
A17: 0020 | B17: ADAMSADAMS 12 FIV | C17: $ | D17: Total | F17: 7035230.2 | G17: 1188633.5 | H17: 6769248.4 | I17: 0 | J17: 6835609.2 | K17: 214953.29 | L17: 8785457.7 | M17: 3208864.8 | N17: 1883399.1 | O17: =SUM(F17:N17)+SUM(IIIC!F17:O17)+SUM(IIIB!F17:K17) -> 64138240
A18: 0020 | B18: ADAMSADAMS 12 FIV | C18: % | D18: Instructional Expenditures | F18: 10.968855 | G18: 1.8532368 | H18: 10.554154 | I18: 0 | J18: 10.657619 | K18: 0.33514061 | L18: 13.697691 | M18: 5.0030447 | N18: 2.9364684 | O18: =IFERROR((O17/IIID!$O17)*100,0) -> 100
A19: 0020 | B19: ADAMSADAMS 12 FIV
A20: 0030 | B20: ADAMSADAMS COUNTY | D20: ADAMS | E20: ADAMS COUNTY 14
A21: 0030 | B21: ADAMSADAMS COUNTY | C21: $ | D21: Operating | F21: 1404312.7 | G21: 135396.65 | H21: 1034899.2 | I21: 0 | J21: 817650.01 | K21: 0 | L21: 1159410.8 | M21: 484835.89 | N21: 118394.27 | O21: =SUM(F21:N21)+SUM(IIIC!F21:O21)+SUM(IIIB!F21:K21) -> 9364733.3
A22: 0030 | B22: ADAMSADAMS COUNTY | C22: $ | D22: Capital | F22: 0 | G22: 0 | H22: 0 | I22: 0 | J22: 0 | K22: 0 | L22: 0 | M22: 11354.09 | N22: 0 | O22: =SUM(F22:N22)+SUM(IIIC!F22:O22)+SUM(IIIB!F22:K22) -> 52502.7
A23: 0030 | B23: ADAMSADAMS COUNTY | C23: $ | D23: Total | F23: 1404312.7 | G23: 135396.65 | H23: 1034899.2 | I23: 0 | J23: 817650.01 | K23: 0 | L23: 1159410.8 | M23: 496189.98 | N23: 118394.27 | O23: =SUM(F23:N23)+SUM(IIIC!F23:O23)+SUM(IIIB!F23:K23) -> 9417236
A24: 0030 | B24: ADAMSADAMS COUNTY | C24: % | D24: Instructional Expenditures | F24: 14.912154 | G24: 1.4377536 | H24: 10.989416 | I24: 0 | J24: 8.682484 | K24: 0 | L24: 12.311583 | M24: 5.2689555 | N24: 1.2572083 | O24: =IFERROR((O23/IIID!$O23)*100,0) -> 100
A25: 0030 | B25: ADAMSADAMS COUNTY
A26: 0040 | B26: ADAMSSCHOOL DISTRICT 27J | D26: ADAMS | E26: SCHOOL DISTRICT 27J
A27: 0040 | B27: ADAMSSCHOOL DISTRICT 27J | C27: $ | D27: Operating | F27: 3519733.9 | G27: 473543.45 | H27: 2451655.7 | I27: 0 | J27: 1919183.7 | K27: 201615.51 | L27: 2645684.2 | M27: 1965954 | N27: 1925692.2 | O27: =SUM(F27:N27)+SUM(IIIC!F27:O27)+SUM(IIIB!F27:K27) -> 25825591
A28: 0040 | B28: ADAMSSCHOOL DISTRICT 27J | C28: $ | D28: Capital | F28: 449.5 | G28: 0 | H28: 0 | I28: 0 | J28: 0 | K28: 0 | L28: 0 | M28: 0 | N28: 0 | O28: =SUM(F28:N28)+SUM(IIIC!F28:O28)+SUM(IIIB!F28:K28) -> 449.5
A29: 0040 | B29: ADAMSSCHOOL DISTRICT 27J | C29: $ | D29: Total | F29: 3520183.4 | G29: 473543.45 | H29: 2451655.7 | I29: 0 | J29: 1919183.7 | K29: 201615.51 | L29: 2645684.2 | M29: 1965954 | N29: 1925692.2 | O29: =SUM(F29:N29)+SUM(IIIC!F29:O29)+SUM(IIIB!F29:K29) -> 25826041
A30: 0040 | B30: ADAMSSCHOOL DISTRICT 27J | C30: % | D30: Instructional Expenditures | F30: 13.630364 | G30: 1.833589 | H30: 9.4929598 | I30: 0 | J30: 7.4311958 | K30: 0.78066751 | L30: 10.24425 | M30: 7.6122934 | N30: 7.4563972 | O30: =IFERROR((O29/IIID!$O29)*100,0) -> 100
A31: 0040 | B31: ADAMSSCHOOL DISTRICT 27J
A32: 0050 | B32: ADAMSBENNETT 29J | D32: ADAMS | E32: BENNETT 29J
A33: 0050 | B33: ADAMSBENNETT 29J | C33: $ | D33: Operating | F33: 174661.86 | G33: 77998.88 | H33: 181727.99 | I33: 0 | J33: 213916.95 | K33: 413 | L33: 407017.23 | M33: 345659.75 | N33: 17111.39 | O33: =SUM(F33:N33)+SUM(IIIC!F33:O33)+SUM(IIIB!F33:K33) -> 3028489.2
A34: 0050 | B34: ADAMSBENNETT 29J | C34: $ | D34: Capital | F34: 0 | G34: 0 | H34: 0 | I34: 0 | J34: 0 | K34: 0 | L34: 0 | M34: 0 | N34: 0 | O34: =SUM(F34:N34)+SUM(IIIC!F34:O34)+SUM(IIIB!F34:K34) -> 0
A35: 0050 | B35: ADAMSBENNETT 29J | C35: $ | D35: Total | F35: 174661.86 | G35: 77998.88 | H35: 181727.99 | I35: 0 | J35: 213916.95 | K35: 413 | L35: 407017.23 | M35: 345659.75 | N35: 17111.39 | O35: =SUM(F35:N35)+SUM(IIIC!F35:O35)+SUM(IIIB!F35:K35) -> 3028489.2
A36: 0050 | B36: ADAMSBENNETT 29J | C36: % | D36: Instructional Expenditures | F36: 5.7672935 | G36: 2.5755047 | H36: 6.0006155 | I36: 0 | J36: 7.0634874 | K36: 0.013637163 | L36: 13.439613 | M36: 11.413604 | N36: 0.56501407 | O36: =IFERROR((O35/IIID!$O35)*100,0) -> 100
A37: 0050 | B37: ADAMSBENNETT 29J
A38: 0060 | B38: ADAMSSTRASBURG 31 | D38: ADAMS | E38: STRASBURG 31J
A39: 0060 | B39: ADAMSSTRASBURG 31 | C39: $ | D39: Operating | F39: 250279.06 | G39: 40484.77 | H39: 247674.41 | I39: 0 | J39: 198246.57 | K39: 0 | L39: 178590.64 | M39: 250867.21 | N39: 51257.54 | O39: =SUM(F39:N39)+SUM(IIIC!F39:O39)+SUM(IIIB!F39:K39) -> 2131642.7
A40: 0060 | B40: ADAMSSTRASBURG 31 | C40: $ | D40: Capital | F40: 0 | G40: 0 | H40: 0 | I40: 0 | J40: 0 | K40: 0 | L40: 0 | M40: 0 | N40: 0 | O40: =SUM(F40:N40)+SUM(IIIC!F40:O40)+SUM(IIIB!F40:K40) -> 56015.93
A41: 0060 | B41: ADAMSSTRASBURG 31 | C41: $ | D41: Total | F41: 250279.06 | G41: 40484.77 | H41: 247674.41 | I41: 0 | J41: 198246.57 | K41: 0 | L41: 178590.64 | M41: 250867.21 | N41: 51257.54 | O41: =SUM(F41:N41)+SUM(IIIC!F41:O41)+SUM(IIIB!F41:K41) -> 2187658.6
A42: 0060 | B42: ADAMSSTRASBURG 31 | C42: % | D42: Instructional Expenditures | F42: 11.440499 | G42: 1.8505982 | H42: 11.321438 | I42: 0 | J42: 9.0620433 | K42: 0 | L42: 8.1635517 | M42: 11.467384 | N42: 2.343032 | O42: =IFERROR((O41/IIID!$O41)*100,0) -> 100
A43: 0060 | B43: ADAMSSTRASBURG 31
A44: 0070 | B44: ADAMSWESTMINSTER | D44: ADAMS | E44: WESTMINSTER SCHOOL DISTRICT
A45: 0070 | B45: ADAMSWESTMINSTER | C45: $ | D45: Operating | F45: 4241.47 | G45: 21224.73 | H45: 56364.51 | I45: 0 | J45: 2773.94 | K45: 253550.5 | L45: 1875055.2 | M45: 739822.75 | N45: 309186.26 | O45: =SUM(F45:N45)+SUM(IIIC!F45:O45)+SUM(IIIB!F45:K45) -> 14733729
A46: 0070 | B46: ADAMSWESTMINSTER | C46: $ | D46: Capital | F46: 0 | G46: 0 | H46: 84806 | I46: 0 | J46: 0 | K46: 0 | L46: 0 | M46: 0 | N46: 0 | O46: =SUM(F46:N46)+SUM(IIIC!F46:O46)+SUM(IIIB!F46:K46) -> 154912.95
A47: 0070 | B47: ADAMSWESTMINSTER | C47: $ | D47: Total | F47: 4241.47 | G47: 21224.73 | H47: 141170.51 | I47: 0 | J47: 2773.94 | K47: 253550.5 | L47: 1875055.2 | M47: 739822.75 | N47: 309186.26 | O47: =SUM(F47:N47)+SUM(IIIC!F47:O47)+SUM(IIIB!F47:K47) -> 14888642
A48: 0070 | B48: ADAMSWESTMINSTER | C48: % | D48: Instructional Expenditures | F48: 0.028487958 | G48: 0.14255652 | H48: 0.94817589 | I48: 0 | J48: 0.01863125 | K48: 1.7029794 | L48: 12.593864 | M48: 4.9690413 | N48: 2.0766586 | O48: =IFERROR((O47/IIID!$O47)*100,0) -> 100
A49: 0070 | B49: ADAMSWESTMINSTER
A50: 0100 | B50: ALAMOALAMOSA RE-1 | D50: ALAMOSA | E50: ALAMOSA RE-11J
A51: 0100 | B51: ALAMOALAMOSA RE-1 | C51: $ | D51: Operating | F51: 486454.87 | G51: 158559.84 | H51: 333402.25 | I51: 0 | J51: 320181.36 | K51: 0 | L51: 304327.16 | M51: 465876.34 | N51: 43028.9 | O51: =SUM(F51:N51)+SUM(IIIC!F51:O51)+SUM(IIIB!F51:K51) -> 3888817.3
A52: 0100 | B52: ALAMOALAMOSA RE-1 | C52: $ | D52: Capital | F52: 2033.72 | G52: 3415.84 | H52: 1321.25 | I52: 0 | J52: 0 | K52: 0 | L52: 0 | M52: 3278.95 | N52: 0 | O52: =SUM(F52:N52)+SUM(IIIC!F52:O52)+SUM(IIIB!F52:K52) -> 14882.66
A53: 0100 | B53: ALAMOALAMOSA RE-1 | C53: $ | D53: Total | F53: 488488.59 | G53: 161975.68 | H53: 334723.5 | I53: 0 | J53: 320181.36 | K53: 0 | L53: 304327.16 | M53: 469155.29 | N53: 43028.9 | O53: =SUM(F53:N53)+SUM(IIIC!F53:O53)+SUM(IIIB!F53:K53) -> 3903699.9
A54: 0100 | B54: ALAMOALAMOSA RE-1 | C54: % | D54: Instructional Expenditures | F54: 12.513477 | G54: 4.1492861 | H54: 8.5745192 | I54: 0 | J54: 8.2019972 | K54: 0 | L54: 7.7958646 | M54: 12.018221 | N54: 1.1022594 | O54: =IFERROR((O53/IIID!$O53)*100,0) -> 100
A55: 0100 | B55: ALAMOALAMOSA RE-1
A56: 0110 | B56: ALAMOSANGRE DE CR | D56: ALAMOSA | E56: SANGRE DE CRISTO RE-22J
A57: 0110 | B57: ALAMOSANGRE DE CR | C57: $ | D57: Operating | F57: 87148.08 | G57: 30824.05 | H57: 79738.82 | I57: 96579.65 | J57: 70204.56 | K57: 0 | L57: 90805.9 | M57: 88148.99 | N57: 5287.31 | O57: =SUM(F57:N57)+SUM(IIIC!F57:O57)+SUM(IIIB!F57:K57) -> 857050.98
A58: 0110 | B58: ALAMOSANGRE DE CR | C58: $ | D58: Capital | F58: 0 | G58: 0 | H58: 0 | I58: 13081.74 | J58: 0 | K58: 0 | L58: 0 | M58: 0 | N58: 0 | O58: =SUM(F58:N58)+SUM(IIIC!F58:O58)+SUM(IIIB!F58:K58) -> 13081.74
A59: 0110 | B59: ALAMOSANGRE DE CR | C59: $ | D59: Total | F59: 87148.08 | G59: 30824.05 | H59: 79738.82 | I59: 109661.39 | J59: 70204.56 | K59: 0 | L59: 90805.9 | M59: 88148.99 | N59: 5287.31 | O59: =SUM(F59:N59)+SUM(IIIC!F59:O59)+SUM(IIIB!F59:K59) -> 870132.72
A60: 0110 | B60: ALAMOSANGRE DE CR | C60: % | D60: Instructional Expenditures | F60: 10.015493 | G60: 3.5424538 | H60: 9.1639836 | I60: 12.602835 | J60: 8.0682588 | K60: 0 | L60: 10.435868 | M60: 10.130522 | N60: 0.60764408 | O60: =IFERROR((O59/IIID!$O59)*100,0) -> 100
A61: 0110 | B61: ALAMOSANGRE DE CR
A62: 0120 | B62: ARAPAENGLEWOOD 1 | D62: ARAPAHOE | E62: ENGLEWOOD 1
A63: 0120 | B63: ARAPAENGLEWOOD 1 | C63: $ | D63: Operating | F63: 714078.34 | G63: 203345.29 | H63: 420150.25 | I63: 0 | J63: 686744.63 | K63: 1712 | L63: 1235406.3 | M63: 445746.3 | N63: 242762.72 | O63: =SUM(F63:N63)+SUM(IIIC!F63:O63)+SUM(IIIB!F63:K63) -> 7136104
A64: 0120 | B64: ARAPAENGLEWOOD 1 | C64: $ | D64: Capital | F64: 0 | G64: 0 | H64: 0 | I64: 0 | J64: 0 | K64: 0 | L64: 0 | M64: 11351.43 | N64: 0 | O64: =SUM(F64:N64)+SUM(IIIC!F64:O64)+SUM(IIIB!F64:K64) -> 11351.43
A65: 0120 | B65: ARAPAENGLEWOOD 1 | C65: $ | D65: Total | F65: 714078.34 | G65: 203345.29 | H65: 420150.25 | I65: 0 | J65: 686744.63 | K65: 1712 | L65: 1235406.3 | M65: 457097.73 | N65: 242762.72 | O65: =SUM(F65:N65)+SUM(IIIC!F65:O65)+SUM(IIIB!F65:K65) -> 7147455.5
A66: 0120 | B66: ARAPAENGLEWOOD 1 | C66: % | D66: Instructional Expenditures | F66: 9.9906651 | G66: 2.8450026 | H66: 5.8783193 | I66: 0 | J66: 9.6082394 | K66: 0.02395258 | L66: 17.284561 | M66: 6.3952512 | N66: 3.3964915 | O66: =IFERROR((O65/IIID!$O65)*100,0) -> 100
A67: 0120 | B67: ARAPAENGLEWOOD 1
A68: 0123 | B68: ARAPASHERIDAN 2 | D68: ARAPAHOE | E68: SHERIDAN 2
A69: 0123 | B69: ARAPASHERIDAN 2 | C69: $ | D69: Operating | F69: 351503.71 | G69: 90879.09 | H69: 301207 | I69: 0 | J69: 424437.47 | K69: 2710.5 | L69: 121124.55 | M69: 197314.07 | N69: 44728.11 | O69: =SUM(F69:N69)+SUM(IIIC!F69:O69)+SUM(IIIB!F69:K69) -> 3362670
A70: 0123 | B70: ARAPASHERIDAN 2 | C70: $ | D70: Capital | F70: 0 | G70: 0 | H70: 0 | I70: 0 | J70: 0 | K70: 0 | L70: 0 | M70: 0 | N70: 0 | O70: =SUM(F70:N70)+SUM(IIIC!F70:O70)+SUM(IIIB!F70:K70) -> 102.97
A71: 0123 | B71: ARAPASHERIDAN 2 | C71: $ | D71: Total | F71: 351503.71 | G71: 90879.09 | H71: 301207 | I71: 0 | J71: 424437.47 | K71: 2710.5 | L71: 121124.55 | M71: 197314.07 | N71: 44728.11 | O71: =SUM(F71:N71)+SUM(IIIC!F71:O71)+SUM(IIIB!F71:K71) -> 3362772.9
A72: 0123 | B72: ARAPASHERIDAN 2 | C72: % | D72: Instructional Expenditures | F72: 10.452793 | G72: 2.7025045 | H72: 8.9571019 | I72: 0 | J72: 12.621651 | K72: 0.080603123 | L72: 3.6019247 | M72: 5.8676001 | N72: 1.330096 | O72: =IFERROR((O71/IIID!$O71)*100,0) -> 100
A73: 0123 | B73: ARAPASHERIDAN 2
A74: 0130 | B74: ARAPACHERRY CREEK | D74: ARAPAHOE | E74: CHERRY CREEK 5
A75: 0130 | B75: ARAPACHERRY CREEK | C75: $ | D75: Operating | F75: 17805958 | G75: 3169522.9 | H75: 16380523 | I75: 1259389.5 | J75: 15828246 | K75: 2600333.5 | L75: 15764453 | M75: 6305350.9 | N75: 7397769.1 | O75: =SUM(F75:N75)+SUM(IIIC!F75:O75)+SUM(IIIB!F75:K75) -> 1.3442155e+08
A76: 0130 | B76: ARAPACHERRY CREEK | C76: $ | D76: Capital | F76: 60397.16 | G76: 18972.4 | H76: 56061.54 | I76: 3059.71 | J76: 49271.19 | K76: 103793 | L76: 6538.62 | M76: 81993.6 | N76: 142141.53 | O76: =SUM(F76:N76)+SUM(IIIC!F76:O76)+SUM(IIIB!F76:K76) -> 1069380.1
A77: 0130 | B77: ARAPACHERRY CREEK | C77: $ | D77: Total | F77: 17866355 | G77: 3188495.3 | H77: 16436584 | I77: 1262449.2 | J77: 15877518 | K77: 2704126.5 | L77: 15770992 | M77: 6387344.5 | N77: 7539910.7 | O77: =SUM(F77:N77)+SUM(IIIC!F77:O77)+SUM(IIIB!F77:K77) -> 1.3549093e+08
A78: 0130 | B78: ARAPACHERRY CREEK | C78: % | D78: Instructional Expenditures | F78: 13.186385 | G78: 2.3532906 | H78: 12.131133 | I78: 0.93175923 | J78: 11.71851 | K78: 1.995799 | L78: 11.639888 | M78: 4.714223 | N78: 5.5648823 | O78: =IFERROR((O77/IIID!$O77)*100,0) -> 100
A79: 0130 | B79: ARAPACHERRY CREEK
A80: 0140 | B80: ARAPALITTLETON 6 | D80: ARAPAHOE | E80: LITTLETON 6
A81: 0140 | B81: ARAPALITTLETON 6 | C81: $ | D81: Operating | F81: 3345939.8 | G81: 693894.07 | H81: 3802151.9 | I81: 0 | J81: 4090132.8 | K81: 526947.34 | L81: 15192.31 | M81: 2224661.8 | N81: 1748842.9 | O81: =SUM(F81:N81)+SUM(IIIC!F81:O81)+SUM(IIIB!F81:K81) -> 28622573
A82: 0140 | B82: ARAPALITTLETON 6 | C82: $ | D82: Capital | F82: 0 | G82: 0 | H82: 0 | I82: 0 | J82: 0 | K82: 0 | L82: 0 | M82: 30979.5 | N82: 58938.75 | O82: =SUM(F82:N82)+SUM(IIIC!F82:O82)+SUM(IIIB!F82:K82) -> 107247.6
A83: 0140 | B83: ARAPALITTLETON 6 | C83: $ | D83: Total | F83: 3345939.8 | G83: 693894.07 | H83: 3802151.9 | I83: 0 | J83: 4090132.8 | K83: 526947.34 | L83: 15192.31 | M83: 2255641.3 | N83: 1807781.7 | O83: =SUM(F83:N83)+SUM(IIIC!F83:O83)+SUM(IIIB!F83:K83) -> 28729820
A84: 0140 | B84: ARAPALITTLETON 6 | C84: % | D84: Instructional Expenditures | F84: 11.646226 | G84: 2.4152399 | H84: 13.234165 | I84: 0 | J84: 14.236542 | K84: 1.8341477 | L84: 0.052879934 | M84: 7.8512195 | N84: 6.2923528 | O84: =IFERROR((O83/IIID!$O83)*100,0) -> 100
A85: 0140 | B85: ARAPALITTLETON 6
A86: 0170 | B86: ARAPADEER TRAIL 2 | D86: ARAPAHOE | E86: DEER TRAIL 26J
A87: 0170 | B87: ARAPADEER TRAIL 2 | C87: $ | D87: Operating | F87: 56870.34 | G87: 31412.29 | H87: 66336.95 | I87: 0 | J87: 47983.89 | K87: 10384.24 | L87: 0 | M87: 109814.55 | N87: 29042.98 | O87: =SUM(F87:N87)+SUM(IIIC!F87:O87)+SUM(IIIB!F87:K87) -> 686792.11
A88: 0170 | B88: ARAPADEER TRAIL 2 | C88: $ | D88: Capital | F88: 0 | G88: 0 | H88: 0 | I88: 0 | J88: 0 | K88: 0 | L88: 0 | M88: 0 | N88: 0 | O88: =SUM(F88:N88)+SUM(IIIC!F88:O88)+SUM(IIIB!F88:K88) -> 1203.37
A89: 0170 | B89: ARAPADEER TRAIL 2 | C89: $ | D89: Total | F89: 56870.34 | G89: 31412.29 | H89: 66336.95 | I89: 0 | J89: 47983.89 | K89: 10384.24 | L89: 0 | M89: 109814.55 | N89: 29042.98 | O89: =SUM(F89:N89)+SUM(IIIC!F89:O89)+SUM(IIIB!F89:K89) -> 687995.48
A90: 0170 | B90: ARAPADEER TRAIL 2 | C90: % | D90: Instructional Expenditures | F90: 8.2660921 | G90: 4.5657698 | H90: 9.6420619 | I90: 0 | J90: 6.9744484 | K90: 1.5093471 | L90: 0 | M90: 15.961522 | N90: 4.2213911 | O90: =IFERROR((O89/IIID!$O89)*100,0) -> 100
A91: 0170 | B91: ARAPADEER TRAIL 2
A92: 0180 | B92: ARAPAADAMS-ARAPAH | D92: ARAPAHOE | E92: ADAMS-ARAPAHOE 28J
A93: 0180 | B93: ARAPAADAMS-ARAPAH | C93: $ | D93: Operating | F93: 6537113.6 | G93: 1144833.5 | H93: 6783032.6 | I93: 121799.22 | J93: 5088569.4 | K93: 424282.44 | L93: 8000369.9 | M93: 2007848.7 | N93: 1380397.2 | O93: =SUM(F93:N93)+SUM(IIIC!F93:O93)+SUM(IIIB!F93:K93) -> 63365209
A94: 0180 | B94: ARAPAADAMS-ARAPAH | C94: $ | D94: Capital | F94: 0 | G94: 0 | H94: 1067.49 | I94: 1367.2 | J94: 0 | K94: 0 | L94: 0 | M94: 349743 | N94: 0 | O94: =SUM(F94:N94)+SUM(IIIC!F94:O94)+SUM(IIIB!F94:K94) -> 1102961.1
A95: 0180 | B95: ARAPAADAMS-ARAPAH | C95: $ | D95: Total | F95: 6537113.6 | G95: 1144833.5 | H95: 6784100.1 | I95: 123166.42 | J95: 5088569.4 | K95: 424282.44 | L95: 8000369.9 | M95: 2357591.7 | N95: 1380397.2 | O95: =SUM(F95:N95)+SUM(IIIC!F95:O95)+SUM(IIIB!F95:K95) -> 64468170
A96: 0180 | B96: ARAPAADAMS-ARAPAH | C96: % | D96: Instructional Expenditures | F96: 10.140064 | G96: 1.7758119 | H96: 10.523178 | I96: 0.19104997 | J96: 7.8931501 | K96: 0.65812701 | L96: 12.409798 | M96: 3.6569856 | N96: 2.1412073 | O96: =IFERROR((O95/IIID!$O95)*100,0) -> 100
A97: 0180 | B97: ARAPAADAMS-ARAPAH
A98: 0190 | B98: ARAPABYERS 32J | D98: ARAPAHOE | E98: BYERS 32J
A99: 0190 | B99: ARAPABYERS 32J | C99: $ | D99: Operating | F99: 69340.18 | G99: 58994.47 | H99: 43338.48 | I99: 0 | J99: 56738.11 | K99: 0 | L99: 1273232.2 | M99: 175859.71 | N99: 57498.96 | O99: =SUM(F99:N99)+SUM(IIIC!F99:O99)+SUM(IIIB!F99:K99) -> 21266667
A100: 0190 | B100: ARAPABYERS 32J | C100: $ | D100: Capital | F100: 0 | G100: 6084.27 | H100: 0 | I100: 0 | J100: 0 | K100: 0 | L100: 0 | M100: 1000 | N100: 0 | O100: =SUM(F100:N100)+SUM(IIIC!F100:O100)+SUM(IIIB!F100:K100) -> 8643.65
A101: 0190 | B101: ARAPABYERS 32J | C101: $ | D101: Total | F101: 69340.18 | G101: 65078.74 | H101: 43338.48 | I101: 0 | J101: 56738.11 | K101: 0 | L101: 1273232.2 | M101: 176859.71 | N101: 57498.96 | O101: =SUM(F101:N101)+SUM(IIIC!F101:O101)+SUM(IIIB!F101:K101) -> 21275311
A102: 0190 | B102: ARAPABYERS 32J | C102: % | D102: Instructional Expenditures | F102: 0.32591852 | G102: 0.30588855 | H102: 0.20370316 | I102: 0 | J102: 0.26668522 | K102: 0 | L102: 5.9845528 | M102: 0.83129083 | N102: 0.27026143 | O102: =IFERROR((O101/IIID!$O101)*100,0) -> 100
A103: 0190 | B103: ARAPABYERS 32J
...
