Workbook

Sheet IIIB
A3: DISTRICT | B3: County-Dist
F4: General | G4: General | H4: General | J4: General
E5: DISTRICT/ | F5: High School | G5: Post-Secondary | H5: Integrated | I5: Gifted & Talented | J5: Instructional | K5: Other General
D6: COUNTY | E6: BOCES | F6: Education | G6: Education | H6: Education | I6: Education | J6: Media | K6: Education
A8: 0010 | B8: ADAMSMAPLETON 1 | D8: ADAMS | E8: MAPLETON 1
A9: 0010 | B9: ADAMSMAPLETON 1 | C9: $ | D9: Operating | F9: 165160.89 | G9: 156.17 | H9: 121638.67 | I9: 0 | J9: 0 | K9: 196012.54
A10: 0010 | B10: ADAMSMAPLETON 1 | C10: $ | D10: Capital | F10: 0 | G10: 0 | H10: 0 | I10: 0 | J10: 0 | K10: 0
A11: 0010 | B11: ADAMSMAPLETON 1 | C11: $ | D11: Total | F11: 165160.89 | G11: 156.17 | H11: 121638.67 | I11: 0 | J11: 0 | K11: 196012.54
A12: 0010 | B12: ADAMSMAPLETON 1 | C12: % | D12: Instructional Expenditures | F12: 3.0344542 | G12: 0.0028692671 | H12: 2.2348328 | I12: 0 | J12: 0 | K12: 3.6012828
A13: 0010 | B13: ADAMSMAPLETON 1
A14: 0020 | B14: ADAMSADAMS 12 FIV | D14: ADAMS | E14: ADAMS 12 FIVE STAR
A15: 0020 | B15: ADAMSADAMS 12 FIV | C15: $ | D15: Operating | F15: 7146647.9 | G15: 0 | H15: 452046.78 | I15: 32193.46 | J15: 104048.54 | K15: 1905703
A16: 0020 | B16: ADAMSADAMS 12 FIV | C16: $ | D16: Capital | F16: 1069.28 | G16: 0 | H16: 0 | I16: 0 | J16: 0 | K16: 0
A17: 0020 | B17: ADAMSADAMS 12 FIV | C17: $ | D17: Total | F17: 7147717.2 | G17: 0 | H17: 452046.78 | I17: 32193.46 | J17: 104048.54 | K17: 1905703
A18: 0020 | B18: ADAMSADAMS 12 FIV | C18: % | D18: Instructional Expenditures | F18: 11.144237 | G18: 0 | H18: 0.70480073 | I18: 0.050193863 | J18: 0.16222544 | K18: 2.9712431
A19: 0020 | B19: ADAMSADAMS 12 FIV
A20: 0030 | B20: ADAMSADAMS COUNTY | D20: ADAMS | E20: ADAMS COUNTY 14
A21: 0030 | B21: ADAMSADAMS COUNTY | C21: $ | D21: Operating | F21: 378152.77 | G21: -3814.78 | H21: 0 | I21: 8558.13 | J21: 1484.61 | K21: 900
A22: 0030 | B22: ADAMSADAMS COUNTY | C22: $ | D22: Capital | F22: 41148.61 | G22: 0 | H22: 0 | I22: 0 | J22: 0 | K22: 0
A23: 0030 | B23: ADAMSADAMS COUNTY | C23: $ | D23: Total | F23: 419301.38 | G23: -3814.78 | H23: 0 | I23: 8558.13 | J23: 1484.61 | K23: 900
A24: 0030 | B24: ADAMSADAMS COUNTY | C24: % | D24: Instructional Expenditures | F24: 4.4524888 | G24: -0.040508489 | H24: 0 | I24: 0.090877302 | J24: 0.015764817 | K24: 0.0095569443
A25: 0030 | B25: ADAMSADAMS COUNTY
A26: 0040 | B26: ADAMSSCHOOL DISTRICT 27J | D26: ADAMS | E26: SCHOOL DISTRICT 27J
A27: 0040 | B27: ADAMSSCHOOL DISTRICT 27J | C27: $ | D27: Operating | F27: 4004503.3 | G27: 0 | H27: 610.52 | I27: 1693.15 | J27: 0 | K27: 372870.62
A28: 0040 | B28: ADAMSSCHOOL DISTRICT 27J | C28: $ | D28: Capital | F28: 0 | G28: 0 | H28: 0 | I28: 0 | J28: 0 | K28: 0
A29: 0040 | B29: ADAMSSCHOOL DISTRICT 27J | C29: $ | D29: Total | F29: 4004503.3 | G29: 0 | H29: 610.52 | I29: 1693.15 | J29: 0 | K29: 372870.62
A30: 0040 | B30: ADAMSSCHOOL DISTRICT 27J | C30: % | D30: Instructional Expenditures | F30: 15.50568 | G30: 0 | H30: 0.0023639706 | I30: 0.0065559797 | J30: 0 | K30: 1.4437777
A31: 0040 | B31: ADAMSSCHOOL DISTRICT 27J
A32: 0050 | B32: ADAMSBENNETT 29J | D32: ADAMS | E32: BENNETT 29J
A33: 0050 | B33: ADAMSBENNETT 29J | C33: $ | D33: Operating | F33: 627980.62 | G33: 106691.03 | H33: 0 | I33: 0 | J33: 0 | K33: 196286.58
A34: 0050 | B34: ADAMSBENNETT 29J | C34: $ | D34: Capital | F34: 0 | G34: 0 | H34: 0 | I34: 0 | J34: 0 | K34: 0
A35: 0050 | B35: ADAMSBENNETT 29J | C35: $ | D35: Total | F35: 627980.62 | G35: 106691.03 | H35: 0 | I35: 0 | J35: 0 | K35: 196286.58
A36: 0050 | B36: ADAMSBENNETT 29J | C36: % | D36: Instructional Expenditures | F36: 20.735772 | G36: 3.5229127 | H36: 0 | I36: 0 | J36: 0 | K36: 6.4813367
A37: 0050 | B37: ADAMSBENNETT 29J
A38: 0060 | B38: ADAMSSTRASBURG 31 | D38: ADAMS | E38: STRASBURG 31J
A39: 0060 | B39: ADAMSSTRASBURG 31 | C39: $ | D39: Operating | F39: 319669.58 | G39: 50619.68 | H39: 0 | I39: 1230.5 | J39: 0 | K39: 4106.85
A40: 0060 | B40: ADAMSSTRASBURG 31 | C40: $ | D40: Capital | F40: 56015.93 | G40: 0 | H40: 0 | I40: 0 | J40: 0 | K40: 0
A41: 0060 | B41: ADAMSSTRASBURG 31 | C41: $ | D41: Total | F41: 375685.51 | G41: 50619.68 | H41: 0 | I41: 1230.5 | J41: 0 | K41: 4106.85
A42: 0060 | B42: ADAMSSTRASBURG 31 | C42: % | D42: Instructional Expenditures | F42: 17.17295 | G42: 2.3138748 | H42: 0 | I42: 0.05624735 | J42: 0 | K42: 0.1877281
A43: 0060 | B43: ADAMSSTRASBURG 31
...

Sheet IIIC
A3: DISTRICT | B3: County-Dist
I4: Distributive | L4: Health | N4: Family & | O4: Industrial Arts
E5: DISTRICT/ | I5: Marketing | J5: English | K5: Foreign | L5: Occupations | M5: Physical | N5: Consumer | O5: Technology
D6: COUNTY | E6: BOCES | F6: Agriculture | G6: Art | H6: Business | I6: Education | J6: Language Arts | K6: Language | L6: Education | M6: Curriculum | N6: Education | O6: Education
A8: 0010 | B8: ADAMSMAPLETON 1 | D8: ADAMS | E8: MAPLETON 1
A9: 0010 | B9: ADAMSMAPLETON 1 | C9: $ | D9: Operating | F9: 0 | G9: 72706.19 | H9: 0 | I9: 0 | J9: 1018960.9 | K9: 473589.7 | L9: 0 | M9: 196635.51 | N9: 0 | O9: 0
A10: 0010 | B10: ADAMSMAPLETON 1 | C10: $ | D10: Capital | F10: 0 | G10: 0 | H10: 0 | I10: 0 | J10: 0 | K10: 0 | L10: 0 | M10: 0 | N10: 0 | O10: 0
A11: 0010 | B11: ADAMSMAPLETON 1 | C11: $ | D11: Total | F11: 0 | G11: 72706.19 | H11: 0 | I11: 0 | J11: 1018960.9 | K11: 473589.7 | L11: 0 | M11: 196635.51 | N11: 0 | O11: 0
A12: 0010 | B12: ADAMSMAPLETON 1 | C12: % | D12: Instructional Expenditures | F12: 0 | G12: 1.3358102 | H12: 0 | I12: 0 | J12: 18.72108 | K12: 8.7011293 | L12: 0 | M12: 3.6127285 | N12: 0 | O12: 0
A13: 0010 | B13: ADAMSMAPLETON 1
A14: 0020 | B14: ADAMSADAMS 12 FIV | D14: ADAMS | E14: ADAMS 12 FIVE STAR
A15: 0020 | B15: ADAMSADAMS 12 FIV | C15: $ | D15: Operating | F15: 0 | G15: 1874054.2 | H15: 1486655.1 | I15: 156634.53 | J15: 7728143 | K15: 3348413.5 | L15: 9996.98 | M15: 2952732.7 | N15: 974318.91 | O15: 23267.42
A16: 0020 | B16: ADAMSADAMS 12 FIV | C16: $ | D16: Capital | F16: 0 | G16: 7518 | H16: 0 | I16: 0 | J16: 0 | K16: 0 | L16: 0 | M16: 13400 | N16: 0 | O16: 0
A17: 0020 | B17: ADAMSADAMS 12 FIV | C17: $ | D17: Total | F17: 0 | G17: 1881572.2 | H17: 1486655.1 | I17: 156634.53 | J17: 7728143 | K17: 3348413.5 | L17: 9996.98 | M17: 2966132.7 | N17: 974318.91 | O17: 23267.42
A18: 0020 | B18: ADAMSADAMS 12 FIV | C18: % | D18: Instructional Expenditures | F18: 0 | G18: 2.93362 | H18: 2.317892 | I18: 0.24421395 | J18: 12.049197 | K18: 5.2206196 | L18: 0.015586614 | M18: 4.6245933 | N18: 1.5190921 | O18: 0.036276986
A19: 0020 | B19: ADAMSADAMS 12 FIV
A20: 0030 | B20: ADAMSADAMS COUNTY | D20: ADAMS | E20: ADAMS COUNTY 14
A21: 0030 | B21: ADAMSADAMS COUNTY | C21: $ | D21: Operating | F21: 0 | G21: 198048.96 | H21: 102014.66 | I21: 0 | J21: 2026263.3 | K21: 317719.08 | L21: 0 | M21: 753827.38 | N21: 165009.66 | O21: 261669.99
A22: 0030 | B22: ADAMSADAMS COUNTY | C22: $ | D22: Capital | F22: 0 | G22: 0 | H22: 0 | I22: 0 | J22: 0 | K22: 0 | L22: 0 | M22: 0 | N22: 0 | O22: 0
A23: 0030 | B23: ADAMSADAMS COUNTY | C23: $ | D23: Total | F23: 0 | G23: 198048.96 | H23: 102014.66 | I23: 0 | J23: 2026263.3 | K23: 317719.08 | L23: 0 | M23: 753827.38 | N23: 165009.66 | O23: 261669.99
A24: 0030 | B24: ADAMSADAMS COUNTY | C24: % | D24: Instructional Expenditures | F24: 0 | G24: 2.1030476 | H24: 1.083276 | I24: 0 | J24: 21.516539 | K24: 3.3738039 | L24: 0 | M24: 8.0047625 | N24: 1.752209 | O24: 2.7786283
A25: 0030 | B25: ADAMSADAMS COUNTY
A26: 0040 | B26: ADAMSSCHOOL DISTRICT 27J | D26: ADAMS | E26: SCHOOL DISTRICT 27J
A27: 0040 | B27: ADAMSSCHOOL DISTRICT 27J | C27: $ | D27: Operating | F27: 73490.29 | G27: 311094.17 | H27: 199641.23 | I27: 97928.96 | J27: 2672713.2 | K27: 1057554.4 | L27: 89940.78 | M27: 989093.55 | N27: 139324.58 | O27: 712069.93
A28: 0040 | B28: ADAMSSCHOOL DISTRICT 27J | C28: $ | D28: Capital | F28: 0 | G28: 0 | H28: 0 | I28: 0 | J28: 0 | K28: 0 | L28: 0 | M28: 0 | N28: 0 | O28: 0
A29: 0040 | B29: ADAMSSCHOOL DISTRICT 27J | C29: $ | D29: Total | F29: 73490.29 | G29: 311094.17 | H29: 199641.23 | I29: 97928.96 | J29: 2672713.2 | K29: 1057554.4 | L29: 89940.78 | M29: 989093.55 | N29: 139324.58 | O29: 712069.93
A30: 0040 | B30: ADAMSSCHOOL DISTRICT 27J | C30: % | D30: Instructional Expenditures | F30: 0.28455887 | G30: 1.2045755 | H30: 0.77302298 | I30: 0.37918689 | J30: 10.348908 | K30: 4.0949149 | L30: 0.34825617 | M30: 3.8298304 | N30: 0.53947324 | O30: 2.7571781
A31: 0040 | B31: ADAMSSCHOOL DISTRICT 27J
A32: 0050 | B32: ADAMSBENNETT 29J | D32: ADAMS | E32: BENNETT 29J
A33: 0050 | B33: ADAMSBENNETT 29J | C33: $ | D33: Operating | F33: 43626.5 | G33: 54728.33 | H33: 158554.21 | I33: 0 | J33: 195906.21 | K33: 56907.01 | L33: 3085.53 | M33: 86938.02 | N33: 8706.5 | O33: 70571.58
A34: 0050 | B34: ADAMSBENNETT 29J | C34: $ | D34: Capital | F34: 0 | G34: 0 | H34: 0 | I34: 0 | J34: 0 | K34: 0 | L34: 0 | M34: 0 | N34: 0 | O34: 0
A35: 0050 | B35: ADAMSBENNETT 29J | C35: $ | D35: Total | F35: 43626.5 | G35: 54728.33 | H35: 158554.21 | I35: 0 | J35: 195906.21 | K35: 56907.01 | L35: 3085.53 | M35: 86938.02 | N35: 8706.5 | O35: 70571.58
A36: 0050 | B36: ADAMSBENNETT 29J | C36: % | D36: Instructional Expenditures | F36: 1.4405368 | G36: 1.8071166 | H36: 5.2354227 | I36: 0 | J36: 6.468777 | K36: 1.8790561 | L36: 0.10188347 | M36: 2.870673 | N36: 0.28748658 | O36: 2.330257
A37: 0050 | B37: ADAMSBENNETT 29J
A38: 0060 | B38: ADAMSSTRASBURG 31 | D38: ADAMS | E38: STRASBURG 31J
A39: 0060 | B39: ADAMSSTRASBURG 31 | C39: $ | D39: Operating | F39: 0 | G39: 35224.07 | H39: 69507.86 | I39: 0 | J39: 191535.97 | K39: 78095.82 | L39: 0 | M39: 164252.14 | N39: 0 | O39: 0
A40: 0060 | B40: ADAMSSTRASBURG 31 | C40: $ | D40: Capital | F40: 0 | G40: 0 | H40: 0 | I40: 0 | J40: 0 | K40: 0 | L40: 0 | M40: 0 | N40: 0 | O40: 0
A41: 0060 | B41: ADAMSSTRASBURG 31 | C41: $ | D41: Total | F41: 0 | G41: 35224.07 | H41: 69507.86 | I41: 0 | J41: 191535.97 | K41: 78095.82 | L41: 0 | M41: 164252.14 | N41: 0 | O41: 0
A42: 0060 | B42: ADAMSSTRASBURG 31 | C42: % | D42: Instructional Expenditures | F42: 0 | G42: 1.6101265 | H42: 3.1772718 | I42: 0 | J42: 8.7552953 | K42: 3.5698358 | L42: 0 | M42: 7.5081249 | N42: 0 | O42: 0
A43: 0060 | B43: ADAMSSTRASBURG 31
...

Sheet IIID
A3: DISTRICT | B3: County-Dist
K4: Technical Education | M4: Cocurricular | N4: Cocurricular | O4: Total
E5: DISTRICT/ | H5: Natural | I5: Office | J5: Social | K5: Computer | L5: Special | M5: Activities | N5: Activities | O5: Instructional
D6: COUNTY | E6: BOCES | F6: Mathematics | G6: Music | H6: Science | I6: Occupations | J6: Sciences | K6: Technology | L6: Education | M6: Athletic/Sports | N6: Nonathletic | O6: Expenditures
A8: 0010 | B8: ADAMSMAPLETON 1 | D8: ADAMS | E8: MAPLETON 1
A9: 0010 | B9: ADAMSMAPLETON 1 | C9: $ | D9: Operating | F9: 1163972.3 | G9: 0 | H9: 1161179.4 | I9: 0 | J9: 754041.66 | K9: 113472.18 | L9: 0 | M9: 0 | N9: 5327.07 | O9: =SUM(F9:N9)+SUM(IIIC!F9:O9)+SUM(IIIB!F9:K9) -> 5442853.3
A10: 0010 | B10: ADAMSMAPLETON 1 | C10: $ | D10: Capital | F10: 0 | G10: 0 | H10: 0 | I10: 0 | J10: 0 | K10: 0 | L10: 0 | M10: 0 | N10: 0 | O10: =SUM(F10:N10)+SUM(IIIC!F10:O10)+SUM(IIIB!F10:K10) -> 0
A11: 0010 | B11: ADAMSMAPLETON 1 | C11: $ | D11: Total | F11: 1163972.3 | G11: 0 | H11: 1161179.4 | I11: 0 | J11: 754041.66 | K11: 113472.18 | L11: 0 | M11: 0 | N11: 5327.07 | O11: =SUM(F11:N11)+SUM(IIIC!F11:O11)+SUM(IIIB!F11:K11) -> 5442853.3
A12: 0010 | B12: ADAMSMAPLETON 1 | C12: % | D12: Instructional Expenditures | F12: 21.385334 | G12: 0 | H12: 21.33402 | I12: 0 | J12: 13.853794 | K12: 2.0847922 | L12: 0 | M12: 0 | N12: 0.097872747 | O12: =IFERROR((O11/IIID!$O11)*100,0) -> 100
A13: 0010 | B13: ADAMSMAPLETON 1
A14: 0020 | B14: ADAMSADAMS 12 FIV | D14: ADAMS | E14: ADAMS 12 FIVE STAR
A15: 0020 | B15: ADAMSADAMS 12 FIV | C15: $ | D15: Operating | F15: 7035230.2 | G15: 1188633.5 | H15: 6769248.4 | I15: 0 | J15: 6835609.2 | K15: 214953.29 | L15: 8785457.7 | M15: 3208864.8 | N15: 1863138.6 | O15: =SUM(F15:N15)+SUM(IIIC!F15:O15)+SUM(IIIB!F15:K15) -> 64095992
A16: 0020 | B16: ADAMSADAMS 12 FIV | C16: $ | D16: Capital | F16: 0 | G16: 0 | H16: 0 | I16: 0 | J16: 0 | K16: 0 | L16: 0 | M16: 0 | N16: 20260.52 | O16: =SUM(F16:N16)+SUM(IIIC!F16:O16)+SUM(IIIB!F16:K16) -> 42247.8
A17: 0020 | B17: ADAMSADAMS 12 FIV | C17: $ | D17: Total | F17: 7035230.2 | G17: 1188633.5 | H17: 6769248.4 | I17: 0 | J17: 6835609.2 | K17: 214953.29 | L17: 8785457.7 | M17: 3208864.8 | N17: 1883399.1 | O17: =SUM(F17:N17)+SUM(IIIC!F17:O17)+SUM(IIIB!F17:K17) -> 64138240
A18: 0020 | B18: ADAMSADAMS 12 FIV | C18: % | D18: Instructional Expenditures | F18: 10.968855 | G18: 1.8532368 | H18: 10.554154 | I18: 0 | J18: 10.657619 | K18: 0.33514061 | L18: 13.697691 | M18: 5.0030447 | N18: 2.9364684 | O18: =IFERROR((O17/IIID!$O17)*100,0) -> 100
A19: 0020 | B19: ADAMSADAMS 12 FIV
A20: 0030 | B20: ADAMSADAMS COUNTY | D20: ADAMS | E20: ADAMS COUNTY 14
A21: 0030 | B21: ADAMSADAMS COUNTY | C21: $ | D21: Operating | F21: 1404312.7 | G21: 135396.65 | H21: 1034899.2 | I21: 0 | J21: 817650.01 | K21: 0 | L21: 1159410.8 | M21: 484835.89 | N21: 118394.27 | O21: =SUM(F21:N21)+SUM(IIIC!F21:O21)+SUM(IIIB!F21:K21) -> 9364733.3
A22: 0030 | B22: ADAMSADAMS COUNTY | C22: $ | D22: Capital | F22: 0 | G22: 0 | H22: 0 | I22: 0 | J22: 0 | K22: 0 | L22: 0 | M22: 11354.09 | N22: 0 | O22: =SUM(F22:N22)+SUM(IIIC!F22:O22)+SUM(IIIB!F22:K22) -> 52502.7
A23: 0030 | B23: ADAMSADAMS COUNTY | C23: $ | D23: Total | F23: 1404312.7 | G23: 135396.65 | H23: 1034899.2 | I23: 0 | J23: 817650.01 | K23: 0 | L23: 1159410.8 | M23: 496189.98 | N23: 118394.27 | O23: =SUM(F23:N23)+SUM(IIIC!F23:O23)+SUM(IIIB!F23:K23) -> 9417236
A24: 0030 | B24: ADAMSADAMS COUNTY | C24: % | D24: Instructional Expenditures | F24: 14.912154 | G24: 1.4377536 | H24: 10.989416 | I24: 0 | J24: 8.682484 | K24: 0 | L24: 12.311583 | M24: 5.2689555 | N24: 1.2572083 | O24: =IFERROR((O23/IIID!$O23)*100,0) -> 100
A25: 0030 | B25: ADAMSADAMS COUNTY
A26: 0040 | B26: ADAMSSCHOOL DISTRICT 27J | D26: ADAMS | E26: SCHOOL DISTRICT 27J
A27: 0040 | B27: ADAMSSCHOOL DISTRICT 27J | C27: $ | D27: Operating | F27: 3519733.9 | G27: 473543.45 | H27: 2451655.7 | I27: 0 | J27: 1919183.7 | K27: 201615.51 | L27: 2645684.2 | M27: 1965954 | N27: 1925692.2 | O27: =SUM(F27:N27)+SUM(IIIC!F27:O27)+SUM(IIIB!F27:K27) -> 25825591
A28: 0040 | B28: ADAMSSCHOOL DISTRICT 27J | C28: $ | D28: Capital | F28: 449.5 | G28: 0 | H28: 0 | I28: 0 | J28: 0 | K28: 0 | L28: 0 | M28: 0 | N28: 0 | O28: =SUM(F28:N28)+SUM(IIIC!F28:O28)+SUM(IIIB!F28:K28) -> 449.5
A29: 0040 | B29: ADAMSSCHOOL DISTRICT 27J | C29: $ | D29: Total | F29: 3520183.4 | G29: 473543.45 | H29: 2451655.7 | I29: 0 | J29: 1919183.7 | K29: 201615.51 | L29: 2645684.2 | M29: 1965954 | N29: 1925692.2 | O29: =SUM(F29:N29)+SUM(IIIC!F29:O29)+SUM(IIIB!F29:K29) -> 25826041
A30: 0040 | B30: ADAMSSCHOOL DISTRICT 27J | C30: % | D30: Instructional Expenditures | F30: 13.630364 | G30: 1.833589 | H30: 9.4929598 | I30: 0 | J30: 7.4311958 | K30: 0.78066751 | L30: 10.24425 | M30: 7.6122934 | N30: 7.4563972 | O30: =IFERROR((O29/IIID!$O29)*100,0) -> 100
A31: 0040 | B31: ADAMSSCHOOL DISTRICT 27J
A32: 0050 | B32: ADAMSBENNETT 29J | D32: ADAMS | E32: BENNETT 29J
A33: 0050 | B33: ADAMSBENNETT 29J | C33: $ | D33: Operating | F33: 174661.86 | G33: 77998.88 | H33: 181727.99 | I33: 0 | J33: 213916.95 | K33: 413 | L33: 407017.23 | M33: 345659.75 | N33: 17111.39 | O33: =SUM(F33:N33)+SUM(IIIC!F33:O33)+SUM(IIIB!F33:K33) -> 3028489.2
A34: 0050 | B34: ADAMSBENNETT 29J | C34: $ | D34: Capital | F34: 0 | G34: 0 | H34: 0 | I34: 0 | J34: 0 | K34: 0 | L34: 0 | M34: 0 | N34: 0 | O34: =SUM(F34:N34)+SUM(IIIC!F34:O34)+SUM(IIIB!F34:K34) -> 0
A35: 0050 | B35: ADAMSBENNETT 29J | C35: $ | D35: Total | F35: 174661.86 | G35: 77998.88 | H35: 181727.99 | I35: 0 | J35: 213916.95 | K35: 413 | L35: 407017.23 | M35: 345659.75 | N35: 17111.39 | O35: =SUM(F35:N35)+SUM(IIIC!F35:O35)+SUM(IIIB!F35:K35) -> 3028489.2
A36: 0050 | B36: ADAMSBENNETT 29J | C36: % | D36: Instructional Expenditures | F36: 5.7672935 | G36: 2.5755047 | H36: 6.0006155 | I36: 0 | J36: 7.0634874 | K36: 0.013637163 | L36: 13.439613 | M36: 11.413604 | N36: 0.56501407 | O36: =IFERROR((O35/IIID!$O35)*100,0) -> 100
A37: 0050 | B37: ADAMSBENNETT 29J
A38: 0060 | B38: ADAMSSTRASBURG 31 | D38: ADAMS | E38: STRASBURG 31J
A39: 0060 | B39: ADAMSSTRASBURG 31 | C39: $ | D39: Operating | F39: 250279.06 | G39: 40484.77 | H39: 247674.41 | I39: 0 | J39: 198246.57 | K39: 0 | L39: 178590.64 | M39: 250867.21 | N39: 51257.54 | O39: =SUM(F39:N39)+SUM(IIIC!F39:O39)+SUM(IIIB!F39:K39) -> 2131642.7
A40: 0060 | B40: ADAMSSTRASBURG 31 | C40: $ | D40: Capital | F40: 0 | G40: 0 | H40: 0 | I40: 0 | J40: 0 | K40: 0 | L40: 0 | M40: 0 | N40: 0 | O40: =SUM(F40:N40)+SUM(IIIC!F40:O40)+SUM(IIIB!F40:K40) -> 56015.93
A41: 0060 | B41: ADAMSSTRASBURG 31 | C41: $ | D41: Total | F41: 250279.06 | G41: 40484.77 | H41: 247674.41 | I41: 0 | J41: 198246.57 | K41: 0 | L41: 178590.64 | M41: 250867.21 | N41: 51257.54 | O41: =SUM(F41:N41)+SUM(IIIC!F41:O41)+SUM(IIIB!F41:K41) -> 2187658.6
A42: 0060 | B42: ADAMSSTRASBURG 31 | C42: % | D42: Instructional Expenditures | F42: 11.440499 | G42: 1.8505982 | H42: 11.321438 | I42: 0 | J42: 9.0620433 | K42: 0 | L42: 8.1635517 | M42: 11.467384 | N42: 2.343032 | O42: =IFERROR((O41/IIID!$O41)*100,0) -> 100
A43: 0060 | B43: ADAMSSTRASBURG 31
...
