Workbook

Sheet 2013 Rfdg
A1: SALADO INDEPENDENT SCHOOL DISTRICT
A2: (Bell County, Texas)
A4: Unlimited Tax Refunding Bonds
A5: Series 2013
A7: Debt Service Schedule
A9: Due | B9: Principal | C9: Int.Rate | D9: Interest | E9: Total | F9: Fisc Total
A10: 45519 | D10: =+B10*C10/2 -> 0 | E10: =+B10+D10 -> 0
A11: 45703 | B11: 30000 | C11: 0 | D11: 890000 | E11: =+B11+D11 -> 920000 | F11: =+E10+E11 -> 920000
B12: =SUM(B10:B11) -> 30000 | D12: =SUM(D10:D11) -> 890000 | E12: =SUM(E10:E11) -> 920000 | F12: =SUM(F10:F11) -> 920000
A14: Notes: | B14: Original Issue Size: | D14: 8625000
B15: Payable through US Bank, Houston.

Sheet 2019 Bldg
A1: SALADO INDEPENDENT SCHOOL DISTRICT
A2: (Bell County, Texas)
A4: Unlimited Tax School Building Bonds
A5: Series 2019
A7: Debt Service Schedule
A9: Due | B9: Principal | C9: Int.Rate | D9: Interest | E9: Total | F9: Fisc Total
A10: 45519 | D10: =+B10*C10/2+D11 -> 905900 | E10: =+B10+D10 -> 905900
A11: 45703 | B11: 960000 | C11: 0.05 | D11: =+B11*C11/2+D12 -> 905900 | E11: =+B11+D11 -> 1865900 | F11: =+E10+E11 -> 2771800
A12: 45884 | D12: =+B12*C12/2+D13 -> 881900 | E12: =+B12+D12 -> 881900
A13: 46068 | B13: 1010000 | C13: 0.05 | D13: =+B13*C13/2+D14 -> 881900 | E13: =+B13+D13 -> 1891900 | F13: =+E12+E13 -> 2773800
A14: 46249 | D14: =+B14*C14/2+D15 -> 856650 | E14: =+B14+D14 -> 856650
A15: 46433 | B15: 1060000 | C15: 0.05 | D15: =+B15*C15/2+D16 -> 856650 | E15: =+B15+D15 -> 1916650 | F15: =+E14+E15 -> 2773300
A16: 46614 | D16: =+B16*C16/2+D17 -> 830150 | E16: =+B16+D16 -> 830150
A17: 46798 | B17: 1115000 | C17: 0.05 | D17: =+B17*C17/2+D18 -> 830150 | E17: =+B17+D17 -> 1945150 | F17: =+E16+E17 -> 2775300
A18: 46980 | D18: =+B18*C18/2+D19 -> 802275 | E18: =+B18+D18 -> 802275
A19: 47164 | B19: 1170000 | C19: 0.05 | D19: =+B19*C19/2+D20 -> 802275 | E19: =+B19+D19 -> 1972275 | F19: =+E18+E19 -> 2774550
A20: 47345 | D20: =+B20*C20/2+D21 -> 773025 | E20: =+B20+D20 -> 773025
A21: 47529 | B21: 1230000 | C21: 0.03 | D21: =+B21*C21/2+D22 -> 773025 | E21: =+B21+D21 -> 2003025 | F21: =+E20+E21 -> 2776050
A22: 47710 | D22: =+B22*C22/2+D23 -> 754575 | E22: =+B22+D22 -> 754575
A23: 47894 | B23: 1265000 | C23: 0.03 | D23: =+B23*C23/2+D24 -> 754575 | E23: =+B23+D23 -> 2019575 | F23: =+E22+E23 -> 2774150
A24: 48075 | D24: =+B24*C24/2+D25 -> 735600 | E24: =+B24+D24 -> 735600
A25: 48259 | B25: 1300000 | C25: 0.05 | D25: =+B25*C25/2+D26 -> 735600 | E25: =+B25+D25 -> 2035600 | F25: =+E24+E25 -> 2771200
A26: 48441 | D26: =+B26*C26/2+D27 -> 703100 | E26: =+B26+D26 -> 703100
A27: 48625 | B27: 1365000 | C27: 0.05 | D27: =+B27*C27/2+D28 -> 703100 | E27: =+B27+D27 -> 2068100 | F27: =+E26+E27 -> 2771200
A28: 48806 | D28: =+B28*C28/2+D29 -> 668975 | E28: =+B28+D28 -> 668975
A29: 48990 | B29: 1435000 | C29: 0.05 | D29: =+B29*C29/2+D30 -> 668975 | E29: =+B29+D29 -> 2103975 | F29: =+E28+E29 -> 2772950
A30: 49171 | D30: =+B30*C30/2+D31 -> 633100 | E30: =+B30+D30 -> 633100
A31: 49355 | B31: 1505000 | C31: 0.04 | D31: =+B31*C31/2+D32 -> 633100 | E31: =+B31+D31 -> 2138100 | F31: =+E30+E31 -> 2771200
A32: 49536 | D32: =+B32*C32/2+D33 -> 603000 | E32: =+B32+D32 -> 603000
A33: 49720 | B33: 1570000 | C33: 0.04 | D33: =+B33*C33/2+D34 -> 603000 | E33: =+B33+D33 -> 2173000 | F33: =+E32+E33 -> 2776000
A34: 49902 | D34: =+B34*C34/2+D35 -> 571600 | E34: =+B34+D34 -> 571600
A35: 50086 | B35: 1630000 | C35: 0.04 | D35: =+B35*C35/2+D36 -> 571600 | E35: =+B35+D35 -> 2201600 | F35: =+E34+E35 -> 2773200
A36: 50267 | D36: =+B36*C36/2+D37 -> 539000 | E36: =+B36+D36 -> 539000
A37: 50451 | B37: 1695000 | C37: 0.04 | D37: =+B37*C37/2+D38 -> 539000 | E37: =+B37+D37 -> 2234000 | F37: =+E36+E37 -> 2773000
A38: 50632 | D38: =+B38*C38/2+D39 -> 505100 | E38: =+B38+D38 -> 505100
A39: 50816 | B39: 1765000 | C39: 0.04 | D39: =+B39*C39/2+D40 -> 505100 | E39: =+B39+D39 -> 2270100 | F39: =+E38+E39 -> 2775200
A40: 50997 | D40: =+B40*C40/2+D41 -> 469800 | E40: =+B40+D40 -> 469800
A41: 51181 | B41: 1835000 | C41: 0.04 | D41: =+B41*C41/2+D42 -> 469800 | E41: =+B41+D41 -> 2304800 | F41: =+E40+E41 -> 2774600
A42: 51363 | D42: =+B42*C42/2+D43 -> 433100 | E42: =+B42+D42 -> 433100
A43: 51547 | B43: 1905000 | C43: 0.04 | D43: =+B43*C43/2+D44 -> 433100 | E43: =+B43+D43 -> 2338100 | F43: =+E42+E43 -> 2771200
...

Sheet 2021 Rfdg
A1: SALADO INDEPENDENT SCHOOL DISTRICT
A2: (Bell County, Texas)
A4: Unlimited Tax Refunding Bonds
A5: Series 2021
A7: Debt Service Schedule
A9: Due | B9: Principal | C9: Int.Rate | D9: Interest | E9: Total | F9: Fisc Total
A10: 45519 | D10: =+B10*C10/2+D11 -> 123850 | E10: =+B10+D10 -> 123850
A11: 45703 | D11: =+B11*C11/2+D12 -> 123850 | E11: =+B11+D11 -> 123850 | F11: =+E10+E11 -> 247700
A12: 45884 | D12: =+B12*C12/2+D13 -> 123850 | E12: =+B12+D12 -> 123850
A13: 46068 | B13: 820000 | C13: 0.04 | D13: =+B13*C13/2+D14 -> 123850 | E13: =+B13+D13 -> 943850 | F13: =+E12+E13 -> 1067700
A14: 46249 | D14: =+B14*C14/2+D15 -> 107450 | E14: =+B14+D14 -> 107450
A15: 46433 | B15: 855000 | C15: 0.04 | D15: =+B15*C15/2+D16 -> 107450 | E15: =+B15+D15 -> 962450 | F15: =+E14+E15 -> 1069900
A16: 46614 | D16: =+B16*C16/2+D17 -> 90350 | E16: =+B16+D16 -> 90350
A17: 46798 | B17: 885000 | C17: 0.04 | D17: =+B17*C17/2+D18 -> 90350 | E17: =+B17+D17 -> 975350 | F17: =+E16+E17 -> 1065700
A18: 46980 | D18: =+B18*C18/2+D19 -> 72650 | E18: =+B18+D18 -> 72650
A19: 47164 | B19: 920000 | C19: 0.04 | D19: =+B19*C19/2+D20 -> 72650 | E19: =+B19+D19 -> 992650 | F19: =+E18+E19 -> 1065300
A20: 47345 | D20: =+B20*C20/2+D21 -> 54250 | E20: =+B20+D20 -> 54250
A21: 47529 | B21: 945000 | C21: 0.04 | D21: =+B21*C21/2+D22 -> 54250 | E21: =+B21+D21 -> 999250 | F21: =+E20+E21 -> 1053500 | H21: =+D20+D21 -> 108500
A22: 47710 | D22: =+B22*C22/2+D23 -> 35350 | E22: =+B22+D22 -> 35350
A23: 47894 | B23: 995000 | C23: 0.04 | D23: =+B23*C23/2+D24 -> 35350 | E23: =+B23+D23 -> 1030350 | F23: =+E22+E23 -> 1065700
A24: 48075 | D24: =+B24*C24/2+D25 -> 15450 | E24: =+B24+D24 -> 15450
A25: 48259 | B25: 1030000 | C25: 0.03 | D25: =+B25*C25/2 -> 15450 | E25: =+B25+D25 -> 1045450 | F25: =+E24+E25 -> 1060900
B26: =SUM(B10:B25) -> 6450000 | D26: =SUM(D10:D25) -> 1246400 | E26: =SUM(E10:E25) -> 7696400 | F26: =SUM(F10:F25) -> 7696400
A28: Notes: | B28: Original Issue Size: | D28: 6995000
B29: Payable through US Bank, Houston.
B30: Callable beginning February 15, 2031 at par.

Sheet 2024 Bldg
A1: SALADO INDEPENDENT SCHOOL DISTRICT
A2: (Bell County, Texas)
A4: Unlimited Tax School Building Bonds
A5: Series 2024
A7: Debt Service Schedule
A9: Due | B9: Principal | C9: Int.Rate | D9: Interest | E9: Total | F9: Fisc Total
A10: 45519
A11: 45703 | B11: 1705000 | C11: 0.05 | D11: =+(B11*C11/2+D12)/180*353 -> 4722306.5 | E11: =+B11+D11 -> 6427306.5 | F11: =+E10+E11 -> 6427306.5
A12: 45884 | D12: =+B12*C12/2+D13 -> 2365350 | E12: =+B12+D12 -> 2365350
A13: 46068 | B13: 1700000 | C13: 0.05 | D13: =+B13*C13/2+D14 -> 2365350 | E13: =+B13+D13 -> 4065350 | F13: =+E12+E13 -> 6430700
A14: 46249 | D14: =+B14*C14/2+D15 -> 2322850 | E14: =+B14+D14 -> 2322850
A15: 46433 | B15: 1785000 | C15: 0.05 | D15: =+B15*C15/2+D16 -> 2322850 | E15: =+B15+D15 -> 4107850 | F15: =+E14+E15 -> 6430700
A16: 46614 | D16: =+B16*C16/2+D17 -> 2278225 | E16: =+B16+D16 -> 2278225
A17: 46798 | B17: 1870000 | C17: 0.05 | D17: =+B17*C17/2+D18 -> 2278225 | E17: =+B17+D17 -> 4148225 | F17: =+E16+E17 -> 6426450
A18: 46980 | D18: =+B18*C18/2+D19 -> 2231475 | E18: =+B18+D18 -> 2231475
A19: 47164 | B19: 1965000 | C19: 0.05 | D19: =+B19*C19/2+D20 -> 2231475 | E19: =+B19+D19 -> 4196475 | F19: =+E18+E19 -> 6427950
A20: 47345 | D20: =+B20*C20/2+D21 -> 2182350 | E20: =+B20+D20 -> 2182350
A21: 47529 | B21: 2065000 | C21: 0.05 | D21: =+B21*C21/2+D22 -> 2182350 | E21: =+B21+D21 -> 4247350 | F21: =+E20+E21 -> 6429700
A22: 47710 | D22: =+B22*C22/2+D23 -> 2130725 | E22: =+B22+D22 -> 2130725
A23: 47894 | B23: 2170000 | C23: 0.05 | D23: =+B23*C23/2+D24 -> 2130725 | E23: =+B23+D23 -> 4300725 | F23: =+E22+E23 -> 6431450
A24: 48075 | D24: =+B24*C24/2+D25 -> 2076475 | E24: =+B24+D24 -> 2076475
A25: 48259 | B25: 2275000 | C25: 0.05 | D25: =+B25*C25/2+D26 -> 2076475 | E25: =+B25+D25 -> 4351475 | F25: =+E24+E25 -> 6427950
A26: 48441 | D26: =+B26*C26/2+D27 -> 2019600 | E26: =+B26+D26 -> 2019600
A27: 48625 | B27: 2390000 | C27: 0.05 | D27: =+B27*C27/2+D28 -> 2019600 | E27: =+B27+D27 -> 4409600 | F27: =+E26+E27 -> 6429200
A28: 48806 | D28: =+B28*C28/2+D29 -> 1959850 | E28: =+B28+D28 -> 1959850
A29: 48990 | B29: 2510000 | C29: 0.05 | D29: =+B29*C29/2+D30 -> 1959850 | E29: =+B29+D29 -> 4469850 | F29: =+E28+E29 -> 6429700
A30: 49171 | D30: =+B30*C30/2+D31 -> 1897100 | E30: =+B30+D30 -> 1897100
A31: 49355 | B31: 2635000 | C31: 0.05 | D31: =+B31*C31/2+D32 -> 1897100 | E31: =+B31+D31 -> 4532100 | F31: =+E30+E31 -> 6429200
A32: 49536 | D32: =+B32*C32/2+D33 -> 1831225 | E32: =+B32+D32 -> 1831225
A33: 49720 | B33: 2765000 | C33: 0.05 | D33: =+B33*C33/2+D34 -> 1831225 | E33: =+B33+D33 -> 4596225 | F33: =+E32+E33 -> 6427450
A34: 49902 | D34: =+B34*C34/2+D35 -> 1762100 | E34: =+B34+D34 -> 1762100
A35: 50086 | B35: 2905000 | C35: 0.05 | D35: =+B35*C35/2+D36 -> 1762100 | E35: =+B35+D35 -> 4667100 | F35: =+E34+E35 -> 6429200
A36: 50267 | D36: =+B36*C36/2+D37 -> 1689475 | E36: =+B36+D36 -> 1689475
A37: 50451 | B37: 3050000 | C37: 0.05 | D37: =+B37*C37/2+D38 -> 1689475 | E37: =+B37+D37 -> 4739475 | F37: =+E36+E37 -> 6428950
A38: 50632 | D38: =+B38*C38/2+D39 -> 1613225 | E38: =+B38+D38 -> 1613225
A39: 50816 | B39: 3200000 | C39: 0.05 | D39: =+B39*C39/2+D40 -> 1613225 | E39: =+B39+D39 -> 4813225 | F39: =+E38+E39 -> 6426450
A40: 50997 | D40: =+B40*C40/2+D41 -> 1533225 | E40: =+B40+D40 -> 1533225
A41: 51181 | B41: 3365000 | C41: 0.05 | D41: =+B41*C41/2+D42 -> 1533225 | E41: =+B41+D41 -> 4898225 | F41: =+E40+E41 -> 6431450
A42: 51363 | D42: =+B42*C42/2+D43 -> 1449100 | E42: =+B42+D42 -> 1449100
A43: 51547 | B43: 3530000 | C43: 0.05 | D43: =+B43*C43/2+D44 -> 1449100 | E43: =+B43+D43 -> 4979100 | F43: =+E42+E43 -> 6428200
...

Sheet 2024 Rfdg
A1: SALADO INDEPENDENT SCHOOL DISTRICT
A2: (Bell County, Texas)
A4: Unlimited Tax Refunding Bonds
A5: Series 2024
A7: Debt Service Schedule
A9: Due | B9: Principal | C9: Int.Rate | D9: Interest | E9: Total | F9: Fisc Total
A10: 45519 | D10: =+(B10*C10/2+D11)/180*152 -> 83093.333 | E10: =+B10+D10 -> 83093.333
A11: 45703 | B11: 20000 | C11: 0.04 | D11: =+(B11*C11/2+D12) -> 98400 | E11: =+B11+D11 -> 118400 | F11: =+E10+E11 -> 201493.33
A12: 45884 | D12: =+B12*C12/2+D13 -> 98000 | E12: =+B12+D12 -> 98000
A13: 46068 | D13: =+B13*C13/2+D14 -> 98000 | E13: =+B13+D13 -> 98000 | F13: =+E12+E13 -> 196000
A14: 46249 | D14: =+B14*C14/2+D15 -> 98000 | E14: =+B14+D14 -> 98000
A15: 46433 | D15: =+B15*C15/2+D16 -> 98000 | E15: =+B15+D15 -> 98000 | F15: =+E14+E15 -> 196000
A16: 46614 | D16: =+B16*C16/2+D17 -> 98000 | E16: =+B16+D16 -> 98000
A17: 46798 | D17: =+B17*C17/2+D18 -> 98000 | E17: =+B17+D17 -> 98000 | F17: =+E16+E17 -> 196000
A18: 46980 | D18: =+B18*C18/2+D19 -> 98000 | E18: =+B18+D18 -> 98000
A19: 47164 | D19: =+B19*C19/2+D20 -> 98000 | E19: =+B19+D19 -> 98000 | F19: =+E18+E19 -> 196000
A20: 47345 | D20: =+B20*C20/2+D21 -> 98000 | E20: =+B20+D20 -> 98000
A21: 47529 | D21: =+B21*C21/2+D22 -> 98000 | E21: =+B21+D21 -> 98000 | F21: =+E20+E21 -> 196000
A22: 47710 | D22: =+B22*C22/2+D23 -> 98000 | E22: =+B22+D22 -> 98000
A23: 47894 | D23: =+B23*C23/2+D24 -> 98000 | E23: =+B23+D23 -> 98000 | F23: =+E22+E23 -> 196000
A24: 48075 | D24: =+B24*C24/2+D25 -> 98000 | E24: =+B24+D24 -> 98000
A25: 48259 | D25: =+B25*C25/2+D26 -> 98000 | E25: =+B25+D25 -> 98000 | F25: =+E24+E25 -> 196000
A26: 48441 | D26: =+B26*C26/2+D27 -> 98000 | E26: =+B26+D26 -> 98000
A27: 48625 | B27: 1155000 | C27: 0.04 | D27: =+B27*C27/2+D28 -> 98000 | E27: =+B27+D27 -> 1253000 | F27: =+E26+E27 -> 1351000
A28: 48806 | D28: =+B28*C28/2+D29 -> 74900 | E28: =+B28+D28 -> 74900
A29: 48990 | B29: 1200000 | C29: 0.04 | D29: =+B29*C29/2+D30 -> 74900 | E29: =+B29+D29 -> 1274900 | F29: =+E28+E29 -> 1349800
A30: 49171 | D30: =+B30*C30/2+D31 -> 50900 | E30: =+B30+D30 -> 50900
A31: 49355 | B31: 1250000 | C31: 0.04 | D31: =+B31*C31/2+D32 -> 50900 | E31: =+B31+D31 -> 1300900 | F31: =+E30+E31 -> 1351800
A32: 49536 | D32: =+B32*C32/2+D33 -> 25900 | E32: =+B32+D32 -> 25900
A33: 49720 | B33: 1295000 | C33: 0.04 | D33: =+B33*C33/2 -> 25900 | E33: =+B33+D33 -> 1320900 | F33: =+E32+E33 -> 1346800
B34: =SUM(B10:B33) -> 4920000 | D34: =SUM(D10:D33) -> 2052893.3 | E34: =SUM(E10:E33) -> 6972893.3 | F34: =SUM(F10:F33) -> 6972893.3
A36: Notes: | B36: Original Issue Size: | D36: 4920000
B37: Payable through US Bank, Houston.
B38: Callable beginning February 15, 2033 at par.

Sheet 2025 Bldg
A1: SALADO INDEPENDENT SCHOOL DISTRICT
A2: (Bell County, Texas)
A4: Unlimited Tax School Building Bonds
A5: Series 2025
A7: Debt Service Schedule
A9: Due | B9: Principal | C9: Int.Rate | D9: Interest | E9: Total | F9: Fisc Total
A10: 45519
A11: 45703
A12: 45884
A13: 45897 | D13: 19127.15
A14: 46068 | B14: 2095000 | C14: 0.05 | D14: =+(B14*C14/2+D15)/180*167 -> 1597117.3 | E14: =+B14+D14 -> 3692117.3 | F14: =+D13+E14 -> 3711244.4
A15: 46249 | D15: =+B15*C15/2+D16 -> 1669068.8 | E15: =+B15+D15 -> 1669068.8
A16: 46433 | B16: 1055000 | C16: 0.05 | D16: =+B16*C16/2+D17 -> 1669068.8 | E16: =+B16+D16 -> 2724068.8 | F16: =+E15+E16 -> 4393137.5
A17: 46614 | D17: =+B17*C17/2+D18 -> 1642693.8 | E17: =+B17+D17 -> 1642693.8
A18: 46798 | B18: 1105000 | C18: 0.05 | D18: =+B18*C18/2+D19 -> 1642693.8 | E18: =+B18+D18 -> 2747693.8 | F18: =+E17+E18 -> 4390387.5
A19: 46980 | D19: =+B19*C19/2+D20 -> 1615068.8 | E19: =+B19+D19 -> 1615068.8
A20: 47164 | B20: 1165000 | C20: 0.05 | D20: =+B20*C20/2+D21 -> 1615068.8 | E20: =+B20+D20 -> 2780068.8 | F20: =+E19+E20 -> 4395137.5
A21: 47345 | D21: =+B21*C21/2+D22 -> 1585943.8 | E21: =+B21+D21 -> 1585943.8
A22: 47529 | B22: 1220000 | C22: 0.05 | D22: =+B22*C22/2+D23 -> 1585943.8 | E22: =+B22+D22 -> 2805943.8 | F22: =+E21+E22 -> 4391887.5
A23: 47710 | D23: =+B23*C23/2+D24 -> 1555443.8 | E23: =+B23+D23 -> 1555443.8
A24: 47894 | B24: 1280000 | C24: 0.05 | D24: =+B24*C24/2+D25 -> 1555443.8 | E24: =+B24+D24 -> 2835443.8 | F24: =+E23+E24 -> 4390887.5
A25: 48075 | D25: =+B25*C25/2+D26 -> 1523443.8 | E25: =+B25+D25 -> 1523443.8
A26: 48259 | B26: 1345000 | C26: 0.05 | D26: =+B26*C26/2+D27 -> 1523443.8 | E26: =+B26+D26 -> 2868443.8 | F26: =+E25+E26 -> 4391887.5
A27: 48441 | D27: =+B27*C27/2+D28 -> 1489818.8 | E27: =+B27+D27 -> 1489818.8
A28: 48625 | B28: 1415000 | C28: 0.05 | D28: =+B28*C28/2+D29 -> 1489818.8 | E28: =+B28+D28 -> 2904818.8 | F28: =+E27+E28 -> 4394637.5
A29: 48806 | D29: =+B29*C29/2+D30 -> 1454443.8 | E29: =+B29+D29 -> 1454443.8
A30: 48990 | B30: 1485000 | C30: 0.05 | D30: =+B30*C30/2+D31 -> 1454443.8 | E30: =+B30+D30 -> 2939443.8 | F30: =+E29+E30 -> 4393887.5
A31: 49171 | D31: =+B31*C31/2+D32 -> 1417318.8 | E31: =+B31+D31 -> 1417318.8
A32: 49355 | B32: 1560000 | C32: 0.05 | D32: =+B32*C32/2+D33 -> 1417318.8 | E32: =+B32+D32 -> 2977318.8 | F32: =+E31+E32 -> 4394637.5
A33: 49536 | D33: =+B33*C33/2+D34 -> 1378318.8 | E33: =+B33+D33 -> 1378318.8
A34: 49720 | B34: 1635000 | C34: 0.05 | D34: =+B34*C34/2+D35 -> 1378318.8 | E34: =+B34+D34 -> 3013318.8 | F34: =+E33+E34 -> 4391637.5
A35: 49902 | D35: =+B35*C35/2+D36 -> 1337443.8 | E35: =+B35+D35 -> 1337443.8
A36: 50086 | B36: 1720000 | C36: 0.05 | D36: =+B36*C36/2+D37 -> 1337443.8 | E36: =+B36+D36 -> 3057443.8 | F36: =+E35+E36 -> 4394887.5
A37: 50267 | D37: =+B37*C37/2+D38 -> 1294443.8 | E37: =+B37+D37 -> 1294443.8
A38: 50451 | B38: 1805000 | C38: 0.05 | D38: =+B38*C38/2+D39 -> 1294443.8 | E38: =+B38+D38 -> 3099443.8 | F38: =+E37+E38 -> 4393887.5
A39: 50632 | D39: =+B39*C39/2+D40 -> 1249318.8 | E39: =+B39+D39 -> 1249318.8
A40: 50816 | B40: 1895000 | C40: 0.05 | D40: =+B40*C40/2+D41 -> 1249318.8 | E40: =+B40+D40 -> 3144318.8 | F40: =+E39+E40 -> 4393637.5
A41: 50997 | D41: =+B41*C41/2+D42 -> 1201943.8 | E41: =+B41+D41 -> 1201943.8
A42: 51181 | B42: 1990000 | C42: 0.05 | D42: =+B42*C42/2+D43 -> 1201943.8 | E42: =+B42+D42 -> 3191943.8 | F42: =+E41+E42 -> 4393887.5
A43: 51363 | D43: =+B43*C43/2+D44 -> 1152193.8 | E43: =+B43+D43 -> 1152193.8
...

Sheet Combined
A1: SALADO INDEPENDENT SCHOOL DISTRICT
A2: (Bell County, Texas)
A4: Combined Debt Requirement Schedule
A6: 45875
A8: Fiscal Year | B8: 2013 Rfdg Bonds | D8: 2019 Bldg Bonds | F8: 2021 Rfdg Bonds | H8: 2024 Bldg Bonds | J8: 2024 Rfdg Bonds | L8: 2025 Rfdg Bonds | N8: Combined Totals
A9: Ending | B9: Principal | C9: Interest | D9: Principal | E9: Interest | F9: Principal | G9: Interest | H9: Principal | I9: Interest | J9: Principal | K9: Interest | L9: Principal | M9: Interest | N9: Principal | O9: Interest | P9: Total | Q9: Fisc Total
C10: =+'2013 Rfdg'!D10 -> 0 | E10: =+'2019 Bldg'!D10 -> 905900 | G10: =+'2021 Rfdg'!D10 -> 123850 | K10: =+'2024 Rfdg'!D10 -> 83093.333 | O10: =+C10+E10+G10+I10+K10+M10 -> 1112843.3 | P10: =+N10+O10 -> 1112843.3 | S10: =+Q11 -> 10568300
A11: 45838 | B11: =+'2013 Rfdg'!B11 -> 30000 | C11: =+'2013 Rfdg'!D11 -> 890000 | D11: =+'2019 Bldg'!B11 -> 960000 | E11: =+'2019 Bldg'!D11 -> 905900 | F11: =+'2021 Rfdg'!B11 -> 0 | G11: =+'2021 Rfdg'!D11 -> 123850 | H11: =+'2024 Bldg'!B11 -> 1705000 | I11: =+'2024 Bldg'!D11 -> 4722306.5 | J11: =+'2024 Rfdg'!B11 -> 20000 | K11: =+'2024 Rfdg'!D11 -> 98400 | N11: =+B11+D11+F11+H11+J11+L11 -> 2715000 | O11: =+C11+E11+G11+I11+K11+M11 -> 6740456.5 | P11: =+N11+O11 -> 9455456.5 | Q11: =+P10+P11 -> 10568300 | S11: =+Q13 -> 14179444
E12: =+'2019 Bldg'!D12 -> 881900 | G12: =+'2021 Rfdg'!D12 -> 123850 | I12: =+'2024 Bldg'!D12 -> 2365350 | K12: =+'2024 Rfdg'!D12 -> 98000 | M12: =+'2025 Bldg'!D13 -> 19127.15 | O12: =+C12+E12+G12+I12+K12+M12 -> 3488227.1 | P12: =+N12+O12 -> 3488227.1 | S12: =+Q15 -> 14863038
A13: 46203 | D13: =+'2019 Bldg'!B13 -> 1010000 | E13: =+'2019 Bldg'!D13 -> 881900 | F13: =+'2021 Rfdg'!B13 -> 820000 | G13: =+'2021 Rfdg'!D13 -> 123850 | H13: =+'2024 Bldg'!B13 -> 1700000 | I13: =+'2024 Bldg'!D13 -> 2365350 | J13: =+'2024 Rfdg'!B13 -> 0 | K13: =+'2024 Rfdg'!D13 -> 98000 | L13: =+'2025 Bldg'!B14 -> 2095000 | M13: =+'2025 Bldg'!D14 -> 1597117.3 | N13: =+B13+D13+F13+H13+J13+L13 -> 5625000 | O13: =+C13+E13+G13+I13+K13+M13 -> 5066217.3 | P13: =+N13+O13 -> 10691217 | Q13: =+P12+P13 -> 14179444 | S13: =+Q17 -> 14853838
E14: =+'2019 Bldg'!D14 -> 856650 | G14: =+'2021 Rfdg'!D14 -> 107450 | I14: =+'2024 Bldg'!D14 -> 2322850 | K14: =+'2024 Rfdg'!D14 -> 98000 | M14: =+'2025 Bldg'!D15 -> 1669068.8 | O14: =+C14+E14+G14+I14+K14+M14 -> 5054018.8 | P14: =+N14+O14 -> 5054018.8 | S14: =+Q19 -> 14858938
A15: 46568 | D15: =+'2019 Bldg'!B15 -> 1060000 | E15: =+'2019 Bldg'!D15 -> 856650 | F15: =+'2021 Rfdg'!B15 -> 855000 | G15: =+'2021 Rfdg'!D15 -> 107450 | H15: =+'2024 Bldg'!B15 -> 1785000 | I15: =+'2024 Bldg'!D15 -> 2322850 | J15: =+'2024 Rfdg'!B15 -> 0 | K15: =+'2024 Rfdg'!D15 -> 98000 | L15: =+'2025 Bldg'!B16 -> 1055000 | M15: =+'2025 Bldg'!D16 -> 1669068.8 | N15: =+B15+D15+F15+H15+J15+L15 -> 4755000 | O15: =+C15+E15+G15+I15+K15+M15 -> 5054018.8 | P15: =+N15+O15 -> 9809018.8 | Q15: =+P14+P15 -> 14863038 | S15: =+Q21 -> 14847138
E16: =+'2019 Bldg'!D16 -> 830150 | G16: =+'2021 Rfdg'!D16 -> 90350 | I16: =+'2024 Bldg'!D16 -> 2278225 | K16: =+'2024 Rfdg'!D16 -> 98000 | M16: =+'2025 Bldg'!D17 -> 1642693.8 | O16: =+C16+E16+G16+I16+K16+M16 -> 4939418.8 | P16: =+N16+O16 -> 4939418.8 | S16: =+Q23 -> 14858188
A17: 46934 | D17: =+'2019 Bldg'!B17 -> 1115000 | E17: =+'2019 Bldg'!D17 -> 830150 | F17: =+'2021 Rfdg'!B17 -> 885000 | G17: =+'2021 Rfdg'!D17 -> 90350 | H17: =+'2024 Bldg'!B17 -> 1870000 | I17: =+'2024 Bldg'!D17 -> 2278225 | J17: =+'2024 Rfdg'!B17 -> 0 | K17: =+'2024 Rfdg'!D17 -> 98000 | L17: =+'2025 Bldg'!B18 -> 1105000 | M17: =+'2025 Bldg'!D18 -> 1642693.8 | N17: =+B17+D17+F17+H17+J17+L17 -> 4975000 | O17: =+C17+E17+G17+I17+K17+M17 -> 4939418.8 | P17: =+N17+O17 -> 9914418.8 | Q17: =+P16+P17 -> 14853838 | S17: =+Q25 -> 14847938
E18: =+'2019 Bldg'!D18 -> 802275 | G18: =+'2021 Rfdg'!D18 -> 72650 | I18: =+'2024 Bldg'!D18 -> 2231475 | K18: =+'2024 Rfdg'!D18 -> 98000 | M18: =+'2025 Bldg'!D19 -> 1615068.8 | O18: =+C18+E18+G18+I18+K18+M18 -> 4819468.8 | P18: =+N18+O18 -> 4819468.8 | S18: =+Q27 -> 14946038
A19: 47299 | D19: =+'2019 Bldg'!B19 -> 1170000 | E19: =+'2019 Bldg'!D19 -> 802275 | F19: =+'2021 Rfdg'!B19 -> 920000 | G19: =+'2021 Rfdg'!D19 -> 72650 | H19: =+'2024 Bldg'!B19 -> 1965000 | I19: =+'2024 Bldg'!D19 -> 2231475 | J19: =+'2024 Rfdg'!B19 -> 0 | K19: =+'2024 Rfdg'!D19 -> 98000 | L19: =+'2025 Bldg'!B20 -> 1165000 | M19: =+'2025 Bldg'!D20 -> 1615068.8 | N19: =+B19+D19+F19+H19+J19+L19 -> 5220000 | O19: =+C19+E19+G19+I19+K19+M19 -> 4819468.8 | P19: =+N19+O19 -> 10039469 | Q19: =+P18+P19 -> 14858938 | S19: =+Q29 -> 14946338
E20: =+'2019 Bldg'!D20 -> 773025 | G20: =+'2021 Rfdg'!D20 -> 54250 | I20: =+'2024 Bldg'!D20 -> 2182350 | K20: =+'2024 Rfdg'!D20 -> 98000 | M20: =+'2025 Bldg'!D21 -> 1585943.8 | O20: =+C20+E20+G20+I20+K20+M20 -> 4693568.8 | P20: =+N20+O20 -> 4693568.8 | S20: =+Q31 -> 14946838
A21: 47664 | D21: =+'2019 Bldg'!B21 -> 1230000 | E21: =+'2019 Bldg'!D21 -> 773025 | F21: =+'2021 Rfdg'!B21 -> 945000 | G21: =+'2021 Rfdg'!D21 -> 54250 | H21: =+'2024 Bldg'!B21 -> 2065000 | I21: =+'2024 Bldg'!D21 -> 2182350 | J21: =+'2024 Rfdg'!B21 -> 0 | K21: =+'2024 Rfdg'!D21 -> 98000 | L21: =+'2025 Bldg'!B22 -> 1220000 | M21: =+'2025 Bldg'!D22 -> 1585943.8 | N21: =+B21+D21+F21+H21+J21+L21 -> 5460000 | O21: =+C21+E21+G21+I21+K21+M21 -> 4693568.8 | P21: =+N21+O21 -> 10153569 | Q21: =+P20+P21 -> 14847138 | S21: =+Q33 -> 14941888
E22: =+'2019 Bldg'!D22 -> 754575 | G22: =+'2021 Rfdg'!D22 -> 35350 | I22: =+'2024 Bldg'!D22 -> 2130725 | K22: =+'2024 Rfdg'!D22 -> 98000 | M22: =+'2025 Bldg'!D23 -> 1555443.8 | O22: =+C22+E22+G22+I22+K22+M22 -> 4574093.8 | P22: =+N22+O22 -> 4574093.8 | S22: =+Q35 -> 13597288
A23: 48029 | D23: =+'2019 Bldg'!B23 -> 1265000 | E23: =+'2019 Bldg'!D23 -> 754575 | F23: =+'2021 Rfdg'!B23 -> 995000 | G23: =+'2021 Rfdg'!D23 -> 35350 | H23: =+'2024 Bldg'!B23 -> 2170000 | I23: =+'2024 Bldg'!D23 -> 2130725 | J23: =+'2024 Rfdg'!B23 -> 0 | K23: =+'2024 Rfdg'!D23 -> 98000 | L23: =+'2025 Bldg'!B24 -> 1280000 | M23: =+'2025 Bldg'!D24 -> 1555443.8 | N23: =+B23+D23+F23+H23+J23+L23 -> 5710000 | O23: =+C23+E23+G23+I23+K23+M23 -> 4574093.8 | P23: =+N23+O23 -> 10284094 | Q23: =+P22+P23 -> 14858188 | S23: =+Q37 -> 13595838
E24: =+'2019 Bldg'!D24 -> 735600 | G24: =+'2021 Rfdg'!D24 -> 15450 | I24: =+'2024 Bldg'!D24 -> 2076475 | K24: =+'2024 Rfdg'!D24 -> 98000 | M24: =+'2025 Bldg'!D25 -> 1523443.8 | O24: =+C24+E24+G24+I24+K24+M24 -> 4448968.8 | P24: =+N24+O24 -> 4448968.8 | S24: =+Q39 -> 13595288
A25: 48395 | D25: =+'2019 Bldg'!B25 -> 1300000 | E25: =+'2019 Bldg'!D25 -> 735600 | F25: =+'2021 Rfdg'!B25 -> 1030000 | G25: =+'2021 Rfdg'!D25 -> 15450 | H25: =+'2024 Bldg'!B25 -> 2275000 | I25: =+'2024 Bldg'!D25 -> 2076475 | J25: =+'2024 Rfdg'!B25 -> 0 | K25: =+'2024 Rfdg'!D25 -> 98000 | L25: =+'2025 Bldg'!B26 -> 1345000 | M25: =+'2025 Bldg'!D26 -> 1523443.8 | N25: =+B25+D25+F25+H25+J25+L25 -> 5950000 | O25: =+C25+E25+G25+I25+K25+M25 -> 4448968.8 | P25: =+N25+O25 -> 10398969 | Q25: =+P24+P25 -> 14847938 | S25: =+Q41 -> 13599938
E26: =+'2019 Bldg'!D26 -> 703100 | I26: =+'2024 Bldg'!D26 -> 2019600 | K26: =+'2024 Rfdg'!D26 -> 98000 | M26: =+'2025 Bldg'!D27 -> 1489818.8 | O26: =+C26+E26+G26+I26+K26+M26 -> 4310518.8 | P26: =+N26+O26 -> 4310518.8 | S26: =+Q43 -> 13593788
A27: 48760 | D27: =+'2019 Bldg'!B27 -> 1365000 | E27: =+'2019 Bldg'!D27 -> 703100 | H27: =+'2024 Bldg'!B27 -> 2390000 | I27: =+'2024 Bldg'!D27 -> 2019600 | J27: =+'2024 Rfdg'!B27 -> 1155000 | K27: =+'2024 Rfdg'!D27 -> 98000 | L27: =+'2025 Bldg'!B28 -> 1415000 | M27: =+'2025 Bldg'!D28 -> 1489818.8 | N27: =+B27+D27+F27+H27+J27+L27 -> 6325000 | O27: =+C27+E27+G27+I27+K27+M27 -> 4310518.8 | P27: =+N27+O27 -> 10635519 | Q27: =+P26+P27 -> 14946038 | S27: =+Q45 -> 13591362
E28: =+'2019 Bldg'!D28 -> 668975 | I28: =+'2024 Bldg'!D28 -> 1959850 | K28: =+'2024 Rfdg'!D28 -> 74900 | M28: =+'2025 Bldg'!D29 -> 1454443.8 | O28: =+C28+E28+G28+I28+K28+M28 -> 4158168.8 | P28: =+N28+O28 -> 4158168.8 | S28: =+Q47 -> 13601475
A29: 49125 | D29: =+'2019 Bldg'!B29 -> 1435000 | E29: =+'2019 Bldg'!D29 -> 668975 | H29: =+'2024 Bldg'!B29 -> 2510000 | I29: =+'2024 Bldg'!D29 -> 1959850 | J29: =+'2024 Rfdg'!B29 -> 1200000 | K29: =+'2024 Rfdg'!D29 -> 74900 | L29: =+'2025 Bldg'!B30 -> 1485000 | M29: =+'2025 Bldg'!D30 -> 1454443.8 | N29: =+B29+D29+F29+H29+J29+L29 -> 6630000 | O29: =+C29+E29+G29+I29+K29+M29 -> 4158168.8 | P29: =+N29+O29 -> 10788169 | Q29: =+P28+P29 -> 14946338 | S29: =+Q49 -> 13592588
E30: =+'2019 Bldg'!D30 -> 633100 | I30: =+'2024 Bldg'!D30 -> 1897100 | K30: =+'2024 Rfdg'!D30 -> 50900 | M30: =+'2025 Bldg'!D31 -> 1417318.8 | O30: =+C30+E30+G30+I30+K30+M30 -> 3998418.8 | P30: =+N30+O30 -> 3998418.8 | S30: =+Q51 -> 13590062
A31: 49490 | D31: =+'2019 Bldg'!B31 -> 1505000 | E31: =+'2019 Bldg'!D31 -> 633100 | H31: =+'2024 Bldg'!B31 -> 2635000 | I31: =+'2024 Bldg'!D31 -> 1897100 | J31: =+'2024 Rfdg'!B31 -> 1250000 | K31: =+'2024 Rfdg'!D31 -> 50900 | L31: =+'2025 Bldg'!B32 -> 1560000 | M31: =+'2025 Bldg'!D32 -> 1417318.8 | N31: =+B31+D31+F31+H31+J31+L31 -> 6950000 | O31: =+C31+E31+G31+I31+K31+M31 -> 3998418.8 | P31: =+N31+O31 -> 10948419 | Q31: =+P30+P31 -> 14946838 | S31: =+Q53 -> 13595625
E32: =+'2019 Bldg'!D32 -> 603000 | I32: =+'2024 Bldg'!D32 -> 1831225 | K32: =+'2024 Rfdg'!D32 -> 25900 | M32: =+'2025 Bldg'!D33 -> 1378318.8 | O32: =+C32+E32+G32+I32+K32+M32 -> 3838443.8 | P32: =+N32+O32 -> 3838443.8 | S32: =+Q55 -> 13592388
A33: 49856 | D33: =+'2019 Bldg'!B33 -> 1570000 | E33: =+'2019 Bldg'!D33 -> 603000 | H33: =+'2024 Bldg'!B33 -> 2765000 | I33: =+'2024 Bldg'!D33 -> 1831225 | J33: =+'2024 Rfdg'!B33 -> 1295000 | K33: =+'2024 Rfdg'!D33 -> 25900 | L33: =+'2025 Bldg'!B34 -> 1635000 | M33: =+'2025 Bldg'!D34 -> 1378318.8 | N33: =+B33+D33+F33+H33+J33+L33 -> 7265000 | O33: =+C33+E33+G33+I33+K33+M33 -> 3838443.8 | P33: =+N33+O33 -> 11103444 | Q33: =+P32+P33 -> 14941888 | S33: =+Q57 -> 13592850
E34: =+'2019 Bldg'!D34 -> 571600 | I34: =+'2024 Bldg'!D34 -> 1762100 | M34: =+'2025 Bldg'!D35 -> 1337443.8 | O34: =+C34+E34+G34+I34+K34+M34 -> 3671143.8 | P34: =+N34+O34 -> 3671143.8 | S34: =+Q59 -> 13593500
A35: 50221 | D35: =+'2019 Bldg'!B35 -> 1630000 | E35: =+'2019 Bldg'!D35 -> 571600 | H35: =+'2024 Bldg'!B35 -> 2905000 | I35: =+'2024 Bldg'!D35 -> 1762100 | L35: =+'2025 Bldg'!B36 -> 1720000 | M35: =+'2025 Bldg'!D36 -> 1337443.8 | N35: =+B35+D35+F35+H35+J35+L35 -> 6255000 | O35: =+C35+E35+G35+I35+K35+M35 -> 3671143.8 | P35: =+N35+O35 -> 9926143.8 | Q35: =+P34+P35 -> 13597288 | S35: =+Q61 -> 10818450
E36: =+'2019 Bldg'!D36 -> 539000 | I36: =+'2024 Bldg'!D36 -> 1689475 | M36: =+'2025 Bldg'!D37 -> 1294443.8 | O36: =+C36+E36+G36+I36+K36+M36 -> 3522918.8 | P36: =+N36+O36 -> 3522918.8 | S36: =+Q63 -> 10822462
A37: 50586 | D37: =+'2019 Bldg'!B37 -> 1695000 | E37: =+'2019 Bldg'!D37 -> 539000 | H37: =+'2024 Bldg'!B37 -> 3050000 | I37: =+'2024 Bldg'!D37 -> 1689475 | L37: =+'2025 Bldg'!B38 -> 1805000 | M37: =+'2025 Bldg'!D38 -> 1294443.8 | N37: =+B37+D37+F37+H37+J37+L37 -> 6550000 | O37: =+C37+E37+G37+I37+K37+M37 -> 3522918.8 | P37: =+N37+O37 -> 10072919 | Q37: =+P36+P37 -> 13595838 | S37: =+Q65 -> 10822550
E38: =+'2019 Bldg'!D38 -> 505100 | I38: =+'2024 Bldg'!D38 -> 1613225 | M38: =+'2025 Bldg'!D39 -> 1249318.8 | O38: =+C38+E38+G38+I38+K38+M38 -> 3367643.8 | P38: =+N38+O38 -> 3367643.8 | S38: =+Q67 -> 10818412
A39: 50951 | D39: =+'2019 Bldg'!B39 -> 1765000 | E39: =+'2019 Bldg'!D39 -> 505100 | H39: =+'2024 Bldg'!B39 -> 3200000 | I39: =+'2024 Bldg'!D39 -> 1613225 | L39: =+'2025 Bldg'!B40 -> 1895000 | M39: =+'2025 Bldg'!D40 -> 1249318.8 | N39: =+B39+D39+F39+H39+J39+L39 -> 6860000 | O39: =+C39+E39+G39+I39+K39+M39 -> 3367643.8 | P39: =+N39+O39 -> 10227644 | Q39: =+P38+P39 -> 13595288 | S39: =+Q69 -> 10819362
E40: =+'2019 Bldg'!D40 -> 469800 | I40: =+'2024 Bldg'!D40 -> 1533225 | M40: =+'2025 Bldg'!D41 -> 1201943.8 | O40: =+C40+E40+G40+I40+K40+M40 -> 3204968.8 | P40: =+N40+O40 -> 3204968.8 | S40: =+Q71 -> 4394187.5
A41: 51317 | D41: =+'2019 Bldg'!B41 -> 1835000 | E41: =+'2019 Bldg'!D41 -> 469800 | H41: =+'2024 Bldg'!B41 -> 3365000 | I41: =+'2024 Bldg'!D41 -> 1533225 | L41: =+'2025 Bldg'!B42 -> 1990000 | M41: =+'2025 Bldg'!D42 -> 1201943.8 | N41: =+B41+D41+F41+H41+J41+L41 -> 7190000 | O41: =+C41+E41+G41+I41+K41+M41 -> 3204968.8 | P41: =+N41+O41 -> 10394969 | Q41: =+P40+P41 -> 13599938
E42: =+'2019 Bldg'!D42 -> 433100 | I42: =+'2024 Bldg'!D42 -> 1449100 | M42: =+'2025 Bldg'!D43 -> 1152193.8 | O42: =+C42+E42+G42+I42+K42+M42 -> 3034393.8 | P42: =+N42+O42 -> 3034393.8 | S42: =SUM(S10:S41) -> 4.0888533e+08
A43: 51682 | D43: =+'2019 Bldg'!B43 -> 1905000 | E43: =+'2019 Bldg'!D43 -> 433100 | H43: =+'2024 Bldg'!B43 -> 3530000 | I43: =+'2024 Bldg'!D43 -> 1449100 | L43: =+'2025 Bldg'!B44 -> 2090000 | M43: =+'2025 Bldg'!D44 -> 1152193.8 | N43: =+B43+D43+F43+H43+J43+L43 -> 7525000 | O43: =+C43+E43+G43+I43+K43+M43 -> 3034393.8 | P43: =+N43+O43 -> 10559394 | Q43: =+P42+P43 -> 13593788
...

Sheet Repayment at 50 cents
A1: SALADO INDEPENDENT SCHOOL DISTRICT
A2: (Bell County, Texas)
A4: Debt Service Fund Cash Flow at 50 cent Tax Rate
A6: 45138
A9: Fisc Year | B9: Beginning I&S | C9: 50 cent I&S | D9: 2013 Rfdg Bonds | F9: 2019 Bldg Bonds | H9: 2021 Rfdg Bonds | J9: 2024 Bldg Bonds | L9: 2024 Rfdg Bonds | N9: Total Payments & Redemptions | P9: Ending I&S | X9: Net Taxable | Y9: %
A10: Ending | B10: Fund Balance | C10: Tax Levy | D10: Principal | E10: Interest | F10: Principal | G10: Interest | H10: Principal | I10: Interest | J10: Principal | K10: Interest | L10: Principal | M10: Interest | N10: Principal | O10: Interest | P10: Fund Balance | X10: Value | Y10: Growth
A11: 45838 | B11: 16771976 | C11: =(0.5/100*X11)*0.98 -> 8467047.8 | D11: =+'2013 Rfdg'!B11 -> 30000 | E11: =+'2013 Rfdg'!D11 -> 890000 | F11: =+'2019 Bldg'!B11 -> 960000 | G11: 1811800 | H11: =+'2021 Rfdg'!B11 -> 0 | I11: =+'2021 Rfdg'!D10+'2021 Rfdg'!D11 -> 247700 | J11: =+'2024 Bldg'!B11 -> 1705000 | K11: =+'2024 Bldg'!D10+'2024 Bldg'!D11 -> 4722306.5 | N11: =+#REF!+D11+#REF!+#REF!+F11+H11 -> #REF! | O11: =+#REF!+E11+#REF!+#REF!+G11+I11 -> #REF! | P11: =+B11+C11-N11-O11 -> #REF! | R11: =+#REF!-N11 -> #REF! | S11: =+N11+O11 -> #REF! | X11: 1727968935 | Y11: 0.09
A12: 46203 | B12: =+P11 -> #REF! | C12: =(0.5/100*X12)*0.98 -> 9144411.6 | F12: =+'2019 Bldg'!B13 -> 1010000 | G12: 1763800 | H12: =+'2021 Rfdg'!B13 -> 820000 | I12: =+'2021 Rfdg'!D12+'2021 Rfdg'!D13 -> 247700 | N12: =+#REF!+D12+#REF!+#REF!+F12+H12 -> #REF! | O12: =+#REF!+E12+#REF!+#REF!+G12+I12 -> #REF! | P12: =+B12+C12-N12-O12 -> #REF! | R12: =+R11-N12 -> #REF! | S12: =+N12+O12 -> #REF! | X12: =+X11*Y12+X11 -> 1.8662064e+09 | Y12: 0.08
A13: 46568 | B13: =+P12 -> #REF! | C13: =(0.5/100*X13)*0.98 -> 9784520.4 | F13: =+'2019 Bldg'!B15 -> 1060000 | G13: 1713300 | H13: =+'2021 Rfdg'!B15 -> 855000 | I13: =+'2021 Rfdg'!D14+'2021 Rfdg'!D15 -> 214900 | N13: =+#REF!+D13+#REF!+#REF!+F13+H13 -> #REF! | O13: =+#REF!+E13+#REF!+#REF!+G13+I13 -> #REF! | P13: =+B13+C13-N13-O13 -> #REF! | R13: =+R12-N13 -> #REF! | S13: =+N13+O13 -> #REF! | X13: =+X12*Y13+X12 -> 1.9968409e+09 | Y13: 0.07
A14: 46934 | B14: =+P13 -> #REF! | C14: =(0.5/100*X14)*0.98 -> 10371592 | F14: =+'2019 Bldg'!B17+27110000 -> 28225000 | G14: 1660300 | H14: =+'2021 Rfdg'!B17 -> 885000 | I14: =+'2021 Rfdg'!D16+'2021 Rfdg'!D17 -> 180700 | N14: =+#REF!+D14+#REF!+#REF!+F14+H14 -> #REF! | O14: =+#REF!+E14+#REF!+#REF!+G14+I14 -> #REF! | P14: =+B14+C14-N14-O14 -> #REF! | R14: =+R13-N14 -> #REF! | S14: =+N14+O14 -> #REF! | X14: =+X13*Y14+X13 -> 2.1166514e+09 | Y14: 0.06
A15: 47299 | B15: =+P14 -> #REF! | C15: =(0.5/100*X15)*0.98 -> 10890171 | F15: =+'2019 Bldg'!B19+8440000 -> 9610000 | G15: 461350 | H15: =+'2021 Rfdg'!B19 -> 920000 | I15: =+'2021 Rfdg'!D18+'2021 Rfdg'!D19 -> 145300 | N15: =+#REF!+D15+#REF!+#REF!+F15+H15 -> #REF! | O15: =+#REF!+E15+#REF!+#REF!+G15+I15 -> #REF! | P15: =+B15+C15-N15-O15 -> #REF! | R15: =+R14-N15 -> #REF! | S15: =+N15+O15 -> #REF! | X15: =+X14*Y15+X14 -> 2.2224839e+09 | Y15: 0.05
A16: 47664 | B16: =+P15 -> #REF! | C16: =(0.5/100*X16)*0.98 -> 11325778 | F16: 1230000 | G16: 36900 | H16: =+'2021 Rfdg'!B21 -> 945000 | I16: =+'2021 Rfdg'!D20+'2021 Rfdg'!D21 -> 108500 | N16: =+#REF!+D16+#REF!+#REF!+F16+H16 -> #REF! | O16: =+#REF!+E16+#REF!+#REF!+G16+I16 -> #REF! | P16: =+B16+C16-N16-O16 -> #REF! | R16: =+R15-N16 -> #REF! | S16: =+N16+O16 -> #REF! | X16: =+X15*Y16+X15 -> 2.3113833e+09 | Y16: 0.04
A17: 48029 | B17: =+P16 -> #REF! | C17: =(0.5/100*X17)*0.98 -> 11778809 | H17: =+'2021 Rfdg'!B23+1030000 -> 2025000 | I17: =+'2021 Rfdg'!D22+'2021 Rfdg'!D23 -> 70700 | N17: =+#REF!+D17+#REF!+#REF!+F17+H17 -> #REF! | O17: =+#REF!+E17+#REF!+#REF!+G17+I17 -> #REF! | P17: =+B17+C17-N17-O17 -> #REF! | R17: =+R16-N17 -> #REF! | S17: =+N17+O17 -> #REF! | X17: =+X16*Y17+X16 -> 2.4038386e+09 | Y17: =+Y16 -> 0.04
X18: =+X17*Y18+X17 -> 2.4999922e+09 | Y18: =+Y17 -> 0.04
A19: Note: Redemptions are noted in green. | X19: =+X18*Y19+X18 -> 2.5999918e+09 | Y19: =+Y18 -> 0.04
X20: =+X19*Y20+X19 -> 2.7039915e+09 | Y20: =+Y19 -> 0.04
X21: =+X20*Y21+X20 -> 2.8121512e+09 | Y21: =+Y20 -> 0.04
X22: =+X21*Y22+X21 -> 2.9246372e+09 | Y22: =+Y21 -> 0.04
X23: =+X22*Y23+X22 -> 3.0416227e+09 | Y23: =+Y22 -> 0.04
X24: =+X23*Y24+X23 -> 3.1632876e+09 | Y24: =+Y23 -> 0.04
X25: =+X24*Y25+X24 -> 3.2898191e+09 | Y25: =+Y24 -> 0.04
X26: =+X25*Y26+X25 -> 3.4214119e+09 | Y26: =+Y25 -> 0.04
