Workbook
Name _1: '0100'!$A$11
Name _1: '0571'!$A$11
Name _1: '1461'!$A$11
Name _1: '1571'!$A$11
Name _1: '2521'!$A$11
Name _1: '2531'!$A$11
Name _1: '2791'!$A$11
Name _1: '2801'!$A$11
Name _1: '2911'!$A$11
Name _1: '2941'!$A$11
Name _1: '3083'!$A$11
Name _1: '3345'!$A$11
Name _1: '3362'!$A$11
Name _1: '3381'!$A$11
Name _1: '3382'!$A$11
Name _1: '3391'!$A$11
Name _1: '3394'!$A$11
Name _1: '3395'!$A$11
Name _1: '3396'!$A$11
Name _1: '3398'!$A$11
Name _1: '3400'!$A$11
Name _1: '3401'!$A$11
Name _1: '3413'!$A$11
Name _1: '3421'!$A$11
Name _1: '3431'!$A$11
Name _1: '3441'!$A$11
Name _1: '3924'!$A$11
Name _1: '3941'!$A$11
Name _1: '3961'!$A$11
Name _1: '3971'!$A$11
Name _1: '4001'!$A$11
Name _1: '4002'!$A$11
Name _1: '4012'!$A$11
Name _1: '4013'!$A$11
Name _1: '4020'!$A$11
Name _1: '4030'!$A$11
Name _1: '4031'!$A$11
Name _1: '4041'!$A$11
Name _1: '4050'!$A$11
Name _1: '4051'!$A$11
Name _1: '4061'!$A$11
Name _1: '4080'!$A$11
Name _1: '4081'!$A$11
Name _1: '4090'!$A$11
Name _1: '4091'!$A$11
Name _1: '4100'!$A$11
Name _1: '4102'!$A$11
Name _1: '4103'!$A$11
Name _1: '4111'!$A$11
Name _1: '4131'!$A$11
Name _1: '0040'!$A$11
Name _1.__2009_10_FEFP_State_and_Local_Funding: '0100'!$A$5
Name _1.__2009_10_FEFP_State_and_Local_Funding: '0571'!$A$5
Name _1.__2009_10_FEFP_State_and_Local_Funding: '1461'!$A$5
Name _1.__2009_10_FEFP_State_and_Local_Funding: '1571'!$A$5
Name _1.__2009_10_FEFP_State_and_Local_Funding: '2521'!$A$5
Name _1.__2009_10_FEFP_State_and_Local_Funding: '2531'!$A$5
Name _1.__2009_10_FEFP_State_and_Local_Funding: '2791'!$A$5
Name _1.__2009_10_FEFP_State_and_Local_Funding: '2801'!$A$5
Name _1.__2009_10_FEFP_State_and_Local_Funding: '2911'!$A$5

Sheet Net Payment
B1: May 2026 - FY 2026 Charter School FTE Payment
B2: =Based_on_the_Second_Calculation_of_the_FEFP_2010_11 -> Based on the 2025-26 Third Calculation Worksheet
B4: School # | C4: School Name | D4: Description | E4: FTE | F4: Adjustments | G4: Net | I4: NOTES TO ALL CHARTER SCHOOLS
A5: 1 | B5: 0040 | C5: Palm Beach Preparatory Middle School | D5: FTE May 2026 | E5: ='0040'!$J$124 -> 6720.22 | G5: =SUBTOTAL(109,E5:F7) -> 6720.22
D6: PY Final FEFP
I7: Please go to the bottom of the page.
A8: 2 | B8: 0571 | C8: Palmetto Park | D8: =D5 -> FTE May 2026 | E8: ='0571'!$J$124 -> 264162.62 | G8: =SUBTOTAL(109,E8:F8) -> 264162.62
A10: 3 | B10: 0100 | C10: The Learning Center High School | D10: =D5 -> FTE May 2026 | E10: ='0100'!$J$124 -> 153765.41 | G10: =SUBTOTAL(109,E10:F12) -> 153765.41
D11: PY Final FEFP
A14: 4 | B14: 1461 | C14: Inlet Grove Community High School | D14: =D5 -> FTE May 2026 | E14: ='1461'!$J$124 -> 587865.11 | G14: =SUBTOTAL(109,E14:F55) -> 474263.41
D15: PY Final FEFP | I15: Please go to the bottom of the page.
D16: Sep Teacher Supplies Retract
D17: PY Digital C/R
D18: PY Dig C/R A/R
D19: PY Class Size Cat.
D20: Class Size Cat.
D21: Transportation | F21: -97617.78
D22: School Police | F22: -14222.22
D23: AT&T | F23: -264.72
D24: Avaya Maintenance | F24: -94.48
D25: LAN & Internet | F25: -90
C26: Ends June 2022 | D26: SWA Fees
D27: FY21 TSIA
D30: WPB-248085
D31: WPB-248086
D32: WPB-248087
D33: WPB-249234
D36: WPB-297918
D37: WPB-303998
D39: WPB-303276
D40: WPB-310033
D41: WPB-310034
D42: WPB-310035
D43: WPB-310036
... D50: WPB-310490
D51: WPB-314561 | F51: -337.5
D52: WPB-316028 | F52: -225
D53: WPB-316029 | F53: -225
D54: WPB-316030 | F54: -262.5
D55: WPB-316031 | F55: -262.5
...

Sheet Annual Rev & Fees
E4: 0.75 | F4: Admin | G4: Fee % | I4: Annual | M4: Current | Q4: Sec 1 Rev/Fee per FTE | U4: Net Rev Per Sec 1 FTE
D5: H/P | E5: ESE | F5: Fee % | G5: W/O TSIA | I5: Revenue | J5: Rev - TSIA | K5: Admin Fee | L5: Net Revenue | M5: Mth's Pmt | O5: Sec 1 FTE | Q5: Rev | R5: Fee | S5: Net Rev | U5: H/P | V5: 75% ESE | W5: Other
A6: 1 | B6: 0040 | C6: Palm Beach Preparatory Middle School | D6: 0 | F6: =-K6/I6 -> 0.046450547 | G6: =-K6/J6 -> 0.050000021 | I6: ='0040'!$J$107 -> 208074.62 | J6: ='0040'!$J$109 -> 193303.52 | K6: ='0040'!$J$114 -> -9665.18 | L6: ='0040'!$J$116 -> 198409.44 | M6: ='0040'!$J$124 -> 6720.22 | O6: {='0040'!E28:F28} -> 23.72 | P6: 0 | Q6: =I6/O6 -> 8772.1172 | R6: =K6/O6 -> -407.46965 | S6: =L6/O6 -> 8364.6476 | U6: =IF(D6="H",S6,0) -> 0 | V6: =ROUND(IF(E6=1,S6,0),2) -> 0 | W6: =IF(AND(U6=0,V6=0),S6,) -> 8364.6476
A7: 2 | B7: 0571 | C7: Palmetto Park | F7: =-K7/I7 -> 0.049024595 | G7: =-K7/J7 -> 0.050000002 | I7: ='0571'!$J$107 -> 1042137.3 | J7: ='0571'!$J$109 -> 1021807.1 | K7: ='0571'!$J$114 -> -51090.36 | L7: ='0571'!$J$116 -> 991046.95 | M7: ='0571'!$J$124 -> 264162.62 | O7: {='0571'!E28:F28} -> 126 | P7: 0 | Q7: =I7/O7 -> 8270.931 | R7: =K7/O7 -> -405.47905 | S7: =L7/O7 -> 7865.452 | U7: =IF(D7="H",S7,0) -> 0 | V7: =ROUND(IF(E7=1,S7,0),2) -> 0 | W7: =IF(AND(U7=0,V7=0),S7,) -> 7865.452
A8: 3 | B8: 0100 | C8: The Learning Center Highschool | D8: 0 | E8: 1 | F8: =-K8/I8 -> 0.011451321 | G8: =-K8/J8 -> 0.011630443 | I8: ='0100'!$J$107 -> 896580.44 | J8: ='0100'!$J$109 -> 882772.03 | K8: ='0100'!$J$114 -> -10267.03 | L8: ='0100'!$J$116 -> 886313.41 | M8: ='0100'!$J$124 -> 153765.41 | O8: {='0100'!E28:F28} -> 27 | P8: 0 | Q8: =I8/O8 -> 33206.683 | R8: =K8/O8 -> -380.26037 | S8: =L8/O8 -> 32826.423 | U8: =IF(D8="H",S8,0) -> 0 | V8: =ROUND(IF(E8=1,S8,0),2) -> 32826.42 | W8: =IF(AND(U8=0,V8=0),S8,) -> 0
A9: 4 | B9: 1461 | C9: Inlet Grove Community High School | D9: H | F9: =-K9/I9 -> 0.0057957156 | G9: =-K9/J9 -> 0.0060212667 | I9: ='1461'!$J$107 -> 7476950.8 | J9: ='1461'!$J$109 -> 7196871.1 | K9: ='1461'!$J$114 -> -43334.28 | L9: ='1461'!$J$116 -> 7433616.5 | M9: ='1461'!$J$124 -> 587865.11 | O9: {='1461'!E28:F28} -> 830.39 | P9: 0 | Q9: =I9/O9 -> 9004.1435 | R9: =K9/O9 -> -52.185455 | S9: =L9/O9 -> 8951.9581 | U9: =IF(D9="H",S9,0) -> 8951.9581 | V9: =ROUND(IF(E9=1,S9,0),2) -> 0 | W9: =IF(AND(U9=0,V9=0),S9,) -> 0
A10: 5 | B10: 1571 | C10: South Tech Charter Academy | D10: H | F10: =-K10/I10 -> 0.0043364055 | G10: =-K10/J10 -> 0.004532064 | I10: ='1571'!$J$107 -> 10320107 | J10: ='1571'!$J$109 -> 9874567 | K10: ='1571'!$J$114 -> -44752.17 | L10: ='1571'!$J$116 -> 10275355 | M10: ='1571'!$J$124 -> 831353.2 | O10: {='1571'!E28:F28} -> 1103.25 | P10: 0 | Q10: =I10/O10 -> 9354.2781 | R10: =K10/O10 -> -40.563943 | S10: =L10/O10 -> 9313.7142 | U10: =IF(D10="H",S10,0) -> 9313.7142 | V10: =ROUND(IF(E10=1,S10,0),2) -> 0 | W10: =IF(AND(U10=0,V10=0),S10,) -> 0
A11: 6 | B11: 2521 | C11: Ed Venture | D11: 0 | E11: 1 | F11: =-K11/I11 -> 0.021244065 | G11: =-K11/J11 -> 0.022070175 | I11: ='2521'!$J$107 -> 1361926.7 | J11: ='2521'!$J$109 -> 1310948.4 | K11: ='2521'!$J$114 -> -28932.86 | L11: ='2521'!$J$116 -> 1332993.9 | M11: ='2521'!$J$124 -> 109669.4 | O11: {='2521'!E28:F28} -> 73.6 | P11: 0 | Q11: =I11/O11 -> 18504.439 | R11: =K11/O11 -> -393.10951 | S11: =L11/O11 -> 18111.33 | U11: =IF(D11="H",S11,0) -> 0 | V11: =ROUND(IF(E11=1,S11,0),2) -> 18111.33 | W11: =IF(AND(U11=0,V11=0),S11,) -> 0
A12: 7 | B12: 2531 | C12: Bodwell Academy | D12: 0 | E12: 1 | F12: =-K12/I12 -> 0.011367849 | G12: =-K12/J12 -> 0.011984459 | I12: ='2531'!$J$107 -> 1466548.4 | J12: ='2531'!$J$109 -> 1391093.3 | K12: ='2531'!$J$114 -> -16671.5 | L12: ='2531'!$J$116 -> 1449876.9 | M12: ='2531'!$J$124 -> 105445.2 | O12: {='2531'!E28:F28} -> 48.5 | P12: 0 | Q12: =I12/O12 -> 30238.111 | R12: =K12/O12 -> -343.74227 | S12: =L12/O12 -> 29894.369 | U12: =IF(D12="H",S12,0) -> 0 | V12: =ROUND(IF(E12=1,S12,0),2) -> 29894.37 | W12: =IF(AND(U12=0,V12=0),S12,) -> 0
A13: 8 | B13: 2791 | C13: The Learning Center @ The Els Center of Excl | D13: 0 | E13: 1 | F13: =-K13/I13 -> 0.0095066978 | G13: =-K13/J13 -> 0.0099708204 | I13: ='2791'!$J$107 -> 5965981.2 | J13: ='2791'!$J$109 -> 5688276.2 | K13: ='2791'!$J$114 -> -56716.78 | L13: ='2791'!$J$116 -> 5909264.4 | M13: ='2791'!$J$124 -> 661778.35 | O13: {='2791'!E28:F28} -> 173.06 | P13: 0 | Q13: =I13/O13 -> 34473.484 | R13: =K13/O13 -> -327.729 | S13: =L13/O13 -> 34145.755 | U13: =IF(D13="H",S13,0) -> 0 | V13: =ROUND(IF(E13=1,S13,0),2) -> 34145.76 | W13: =IF(AND(U13=0,V13=0),S13,) -> 0
A14: 9 | B14: 2801 | C14: Palm Beach Maritime Academy Elementary | D14: 0 | F14: =-K14/I14 -> 0.021391984 | G14: =-K14/J14 -> 0.022502656 | I14: ='2801'!$J$107 -> 5154030.7 | J14: ='2801'!$J$109 -> 4899641.1 | K14: ='2801'!$J$114 -> -110254.94 | L14: ='2801'!$J$116 -> 5043775.7 | M14: ='2801'!$J$124 -> 381923.19 | O14: {='2801'!E28:F28} -> 555.49 | P14: 0 | Q14: =I14/O14 -> 9278.35 | R14: =K14/O14 -> -198.48231 | S14: =L14/O14 -> 9079.8677 | U14: =IF(D14="H",S14,0) -> 0 | V14: =ROUND(IF(E14=1,S14,0),2) -> 0 | W14: =IF(AND(U14=0,V14=0),S14,) -> 9079.8677
A15: 10 | B15: 2911 | C15: Western Academy Charter School | D15: H | F15: =-K15/I15 -> 0.0061439412 | G15: =-K15/J15 -> 0.00642236 | I15: ='2911'!$J$107 -> 6869406.5 | J15: ='2911'!$J$109 -> 6571607.6 | K15: ='2911'!$J$114 -> -42205.23 | L15: ='2911'!$J$116 -> 6827201.3 | M15: ='2911'!$J$124 -> 640427.29 | O15: {='2911'!E28:F28} -> 778.53 | P15: 0 | Q15: =I15/O15 -> 8823.5605 | R15: =K15/O15 -> -54.211437 | S15: =L15/O15 -> 8769.349 | U15: =IF(D15="H",S15,0) -> 8769.349 | V15: =ROUND(IF(E15=1,S15,0),2) -> 0 | W15: =IF(AND(U15=0,V15=0),S15,) -> 0
A16: 11 | B16: 2941 | C16: Palm Beach School for Autism | D16: 0 | E16: 1 | F16: =-K16/I16 -> 0.0074828791 | G16: =-K16/J16 -> 0.0078283449 | I16: ='2941'!$J$107 -> 11359910 | J16: ='2941'!$J$109 -> 10858595 | K16: ='2941'!$J$114 -> -85004.83 | L16: ='2941'!$J$116 -> 11274905 | M16: ='2941'!$J$124 -> 1041964.5 | O16: {='2941'!E28:F28} -> 380.17 | P16: 0 | Q16: =I16/O16 -> 29881.131 | R16: =K16/O16 -> -223.59689 | S16: =L16/O16 -> 29657.534 | U16: =IF(D16="H",S16,0) -> 0 | V16: =ROUND(IF(E16=1,S16,0),2) -> 29657.53 | W16: =IF(AND(U16=0,V16=0),S16,) -> 0
A17: 12 | B17: 3083 | C17: The Learning Academy @ The Els Center of Excl | D17: 0 | E17: 1 | F17: =-K17/I17 -> 0.0085354534 | G17: =-K17/J17 -> 0.0089434929 | I17: ='3083'!$J$107 -> 6734393.3 | J17: ='3083'!$J$109 -> 6427142.1 | K17: ='3083'!$J$114 -> -57481.1 | L17: ='3083'!$J$116 -> 6676912.2 | M17: ='3083'!$J$124 -> 668299.76 | O17: {='3083'!E28:F28} -> 179.39 | P17: 0 | Q17: =I17/O17 -> 37540.517 | R17: =K17/O17 -> -320.42533 | S17: =L17/O17 -> 37220.091 | U17: =IF(D17="H",S17,0) -> 0 | V17: =ROUND(IF(E17=1,S17,0),2) -> 37220.09 | W17: =IF(AND(U17=0,V17=0),S17,) -> 0
A18: 13 | B18: 3345 | C18: Career Academy of the Palm Beaches | D18: 0 | E18: 1 | F18: =-K18/I18 -> 0.029579053 | G18: =-K18/J18 -> 0.030424256 | I18: ='3345'!$J$107 -> 1156801.4 | J18: ='3345'!$J$109 -> 1124664.8 | K18: ='3345'!$J$114 -> -34217.09 | L18: ='3345'!$J$116 -> 1122584.3 | M18: ='3345'!$J$124 -> 100422.83 | O18: {='3345'!E28:F28} -> 83 | P18: 0 | Q18: =I18/O18 -> 13937.366 | R18: =K18/O18 -> -412.2541 | S18: =L18/O18 -> 13525.112 | U18: =IF(D18="H",S18,0) -> 0 | V18: =ROUND(IF(E18=1,S18,0),2) -> 13525.11 | W18: =IF(AND(U18=0,V18=0),S18,) -> 0
A19: 14 | B19: 3362 | C19: Somerset Avenir | F19: =-K19/I19 -> 0.049528813 | G19: =-K19/J19 -> 0.049999997 | I19: ='3362'!$J$107 -> 1465288.1 | J19: ='3362'!$J$109 -> 1451479.7 | K19: ='3362'!$J$114 -> -72573.98 | L19: ='3362'!$J$116 -> 1392714.1 | M19: ='3362'!$J$124 -> 159135.13 | O19: {='3362'!E28:F28} -> 160.99 | P19: 0 | Q19: =I19/O19 -> 9101.7336 | R19: =K19/O19 -> -450.79806 | S19: =L19/O19 -> 8650.9356 | U19: =IF(D19="H",S19,0) -> 0 | V19: =ROUND(IF(E19=1,S19,0),2) -> 0 | W19: =IF(AND(U19=0,V19=0),S19,) -> 8650.9356
A20: 15 | B20: 3381 | C20: Imagine Schools - Chancellor Campus | D20: H | F20: =-K20/I20 -> 0.0045352604 | G20: =-K20/J20 -> 0.0047626304 | I20: ='3381'!$J$107 -> 9256859.9 | J20: ='3381'!$J$109 -> 8814933.4 | K20: ='3381'!$J$114 -> -41982.27 | L20: ='3381'!$J$116 -> 9214877.7 | M20: ='3381'!$J$124 -> 780619.56 | O20: {='3381'!E28:F28} -> 1049.84 | P20: 0 | Q20: =I20/O20 -> 8817.4007 | R20: =K20/O20 -> -39.989208 | S20: =L20/O20 -> 8777.4115 | U20: =IF(D20="H",S20,0) -> 8777.4115 | V20: =ROUND(IF(E20=1,S20,0),2) -> 0 | W20: =IF(AND(U20=0,V20=0),S20,) -> 0
A21: 16 | B21: 3382 | C21: Glades Academy | D21: 0 | F21: =-K21/I21 -> 0.045510863 | G21: =-K21/J21 -> 0.047762793 | I21: ='3382'!$J$107 -> 2430609.6 | J21: ='3382'!$J$109 -> 2316010.7 | K21: ='3382'!$J$114 -> -110619.14 | L21: ='3382'!$J$116 -> 2319990.4 | M21: ='3382'!$J$124 -> 159713.42 | O21: {='3382'!E28:F28} -> 261.71 | P21: 0 | Q21: =I21/O21 -> 9287.4158 | R21: =K21/O21 -> -422.67831 | S21: =L21/O21 -> 8864.7375 | U21: =IF(D21="H",S21,0) -> 0 | V21: =ROUND(IF(E21=1,S21,0),2) -> 0 | W21: =IF(AND(U21=0,V21=0),S21,) -> 8864.7375
A22: 17 | B22: 3391 | C22: Seagull Academy for Independent Living | D22: 0
A23: 18 | B23: 3394 | C23: Montessori Academy of Early Enrichment | D23: 0 | F23: =-K23/I23 -> 0.047586687 | G23: =-K23/J23 -> 0.049999999 | I23: ='3394'!$J$107 -> 1762664.8 | J23: ='3394'!$J$109 -> 1677587.6 | K23: ='3394'!$J$114 -> -83879.38 | L23: ='3394'!$J$116 -> 1678785.5 | M23: ='3394'!$J$124 -> 144035.92 | O23: {='3394'!E28:F28} -> 192.97 | P23: 0 | Q23: =I23/O23 -> 9134.3984 | R23: =K23/O23 -> -434.67575 | S23: =L23/O23 -> 8699.7226 | U23: =IF(D23="H",S23,0) -> 0 | V23: =ROUND(IF(E23=1,S23,0),2) -> 0 | W23: =IF(AND(U23=0,V23=0),S23,) -> 8699.7226
A24: 19 | B24: 3395 | C24: Somerset Academy Charter School | D24: 0 | F24: =-K24/I24 -> 0.022190209 | G24: =-K24/J24 -> 0.023277468 | I24: ='3395'!$J$107 -> 4733496.6 | J24: ='3395'!$J$109 -> 4512401.4 | K24: ='3395'!$J$114 -> -105037.28 | L24: ='3395'!$J$116 -> 4628459.4 | M24: ='3395'!$J$124 -> 400297.65 | O24: {='3395'!E28:F28} -> 537 | P24: 0 | Q24: =I24/O24 -> 8814.7051 | R24: =K24/O24 -> -195.60015 | S24: =L24/O24 -> 8619.105 | U24: =IF(D24="H",S24,0) -> 0 | V24: =ROUND(IF(E24=1,S24,0),2) -> 0 | W24: =IF(AND(U24=0,V24=0),S24,) -> 8619.105
A25: 20 | B25: 3396 | C25: G-Star School of the Arts | D25: H | F25: =-K25/I25 -> 0.0067949796 | G25: =-K25/J25 -> 0.0071146028 | I25: ='3396'!$J$107 -> 6261771.5 | J25: ='3396'!$J$109 -> 5980461.8 | K25: ='3396'!$J$114 -> -42548.61 | L25: ='3396'!$J$116 -> 6219222.9 | M25: ='3396'!$J$124 -> 486738.7 | O25: {='3396'!E28:F28} -> 702.78 | P25: 0 | Q25: =I25/O25 -> 8910.0024 | R25: =K25/O25 -> -60.543285 | S25: =L25/O25 -> 8849.4592 | U25: =IF(D25="H",S25,0) -> 8849.4592 | V25: =ROUND(IF(E25=1,S25,0),2) -> 0 | W25: =IF(AND(U25=0,V25=0),S25,) -> 0
A26: 21 | B26: 3398 | C26: Everglades Preparatory Academy | D26: 0 | F26: =-K26/I26 -> 0.04755848 | G26: =-K26/J26 -> 0.049999997 | I26: ='3398'!$J$107 -> 912191.06 | J26: ='3398'!$J$109 -> 867648.46 | K26: ='3398'!$J$114 -> -43382.42 | L26: ='3398'!$J$116 -> 868808.64 | M26: ='3398'!$J$124 -> 71414.32 | O26: {='3398'!E28:F28} -> 102.32 | P26: 0 | Q26: =I26/O26 -> 8915.0807 | R26: =K26/O26 -> -423.98769 | S26: =L26/O26 -> 8491.093 | U26: =IF(D26="H",S26,0) -> 0 | V26: =ROUND(IF(E26=1,S26,0),2) -> 0 | W26: =IF(AND(U26=0,V26=0),S26,) -> 8491.093
A27: 22 | B27: 3400 | C27: Believers Academy | D27: 0 | E27: 1 | F27: =-K27/I27 -> 0.031457982 | G27: =-K27/J27 -> 0.032507245 | I27: ='3400'!$J$107 -> 1159635.1 | J27: ='3400'!$J$109 -> 1122204.6 | K27: ='3400'!$J$114 -> -36479.78 | L27: ='3400'!$J$116 -> 1123155.3 | M27: ='3400'!$J$124 -> 86497.22 | O27: {='3400'!E28:F28} -> 91.18 | P27: 0 | Q27: =I27/O27 -> 12718.086 | R27: =K27/O27 -> -400.08533 | S27: =L27/O27 -> 12318.001 | U27: =IF(D27="H",S27,0) -> 0 | V27: =ROUND(IF(E27=1,S27,0),2) -> 12318 | W27: =IF(AND(U27=0,V27=0),S27,) -> 0
A28: 23 | B28: 3401 | C28: Quantum High School | D28: 0 | E28: 0 | F28: =-K28/I28 -> 0.030058063 | G28: =-K28/J28 -> 0.031612757 | I28: ='3401'!$J$107 -> 3413641.4 | J28: ='3401'!$J$109 -> 3245760.8 | K28: ='3401'!$J$114 -> -102607.45 | L28: ='3401'!$J$116 -> 3311034 | M28: ='3401'!$J$124 -> 259437.29 | O28: {='3401'!E28:F28} -> 395.41 | P28: 0 | Q28: =I28/O28 -> 8633.1692 | R28: =K28/O28 -> -259.49635 | S28: =L28/O28 -> 8373.6729 | U28: =IF(D28="H",S28,0) -> 0 | V28: =ROUND(IF(E28=1,S28,0),2) -> 0 | W28: =IF(AND(U28=0,V28=0),S28,) -> 8373.6729
A29: 24 | B29: 3413 | C29: Somerset Academy Boca | D29: H | F29: =-K29/I29 -> 0.012151392 | G29: =-K29/J29 -> 0.012760962 | I29: ='3413'!$J$107 -> 3528955.4 | J29: ='3413'!$J$109 -> 3360383 | K29: ='3413'!$J$114 -> -42881.72 | L29: ='3413'!$J$116 -> 3486073.7 | M29: ='3413'!$J$124 -> 297200.24 | O29: {='3413'!E28:F28} -> 391.82 | P29: 0 | Q29: =I29/O29 -> 9006.5729 | R29: =K29/O29 -> -109.4424 | S29: =L29/O29 -> 8897.1305 | U29: =IF(D29="H",S29,0) -> 8897.1305 | V29: =ROUND(IF(E29=1,S29,0),2) -> 0 | W29: =IF(AND(U29=0,V29=0),S29,) -> 0
A30: 25 | B30: 3421 | C30: Worthington High School | D30: 0 | F30: =-K30/I30 -> 0.020132297 | G30: =-K30/J30 -> 0.020921902 | I30: ='3421'!$J$107 -> 4975212.3 | J30: ='3421'!$J$109 -> 4787444.8 | K30: ='3421'!$J$114 -> -100162.45 | L30: ='3421'!$J$116 -> 4875049.9 | M30: ='3421'!$J$124 -> 573403.85 | O30: {='3421'!E28:F28} -> 597.46 | P30: 0 | Q30: =I30/O30 -> 8327.2727 | R30: =K30/O30 -> -167.64712 | S30: =L30/O30 -> 8159.6255 | U30: =IF(D30="H",S30,0) -> 0 | V30: =ROUND(IF(E30=1,S30,0),2) -> 0 | W30: =IF(AND(U30=0,V30=0),S30,) -> 8159.6255
A31: 26 | B31: 3431 | C31: Renaissance Charter School at WPB | D31: H | F31: =-K31/I31 -> 0.0047671927 | G31: =-K31/J31 -> 0.0050130836 | I31: ='3431'!$J$107 -> 8782690.9 | J31: ='3431'!$J$109 -> 8351901.3 | K31: ='3431'!$J$114 -> -41868.78 | L31: ='3431'!$J$116 -> 8740822.1 | M31: ='3431'!$J$124 -> 709458.76 | O31: {='3431'!E28:F28} -> 997.39 | P31: 0 | Q31: =I31/O31 -> 8805.6737 | R31: =K31/O31 -> -41.978343 | S31: =L31/O31 -> 8763.6954 | U31: =IF(D31="H",S31,0) -> 8763.6954 | V31: =ROUND(IF(E31=1,S31,0),2) -> 0 | W31: =IF(AND(U31=0,V31=0),S31,) -> 0
A32: 27 | B32: 3441 | C32: South Tech Preparatory Academy (MS) | D32: H | F32: =-K32/I32 -> 0.0091252851 | G32: =-K32/J32 -> 0.0095642532 | I32: ='3441'!$J$107 -> 4634623.4 | J32: ='3441'!$J$109 -> 4421909.3 | K32: ='3441'!$J$114 -> -42292.26 | L32: ='3441'!$J$116 -> 4592331.2 | M32: ='3441'!$J$124 -> 382032.54 | O32: {='3441'!E28:F28} -> 522.78 | P32: 0 | Q32: =I32/O32 -> 8865.3419 | R32: =K32/O32 -> -80.898772 | S32: =L32/O32 -> 8784.4431 | U32: =IF(D32="H",S32,0) -> 8784.4431 | V32: =ROUND(IF(E32=1,S32,0),2) -> 0 | W32: =IF(AND(U32=0,V32=0),S32,) -> 0
A33: 28 | B33: 3924 | C33: Palm Beach Maritime Academy Secondary | D33: 0 | F33: =-K33/I33 -> 0.02916839 | G33: =-K33/J33 -> 0.030699708 | I33: ='3924'!$J$107 -> 3555476.3 | J33: ='3924'!$J$109 -> 3378127.2 | K33: ='3924'!$J$114 -> -103707.52 | L33: ='3924'!$J$116 -> 3451768.8 | M33: ='3924'!$J$124 -> 254398.21 | O33: {='3924'!E28:F28} -> 407.17 | P33: 0 | Q33: =I33/O33 -> 8732.1667 | R33: =K33/O33 -> -254.70324 | S33: =L33/O33 -> 8477.4635 | U33: =IF(D33="H",S33,0) -> 0 | V33: =ROUND(IF(E33=1,S33,0),2) -> 0 | W33: =IF(AND(U33=0,V33=0),S33,) -> 8477.4635
A34: 29 | B34: 3941 | C34: Ben Gamla Charter School | D34: H | F34: =-K34/I34 -> 0.019015692 | G34: =-K34/J34 -> 0.019999999 | I34: ='3941'!$J$107 -> 2023176.4 | J34: ='3941'!$J$109 -> 1923605.1 | K34: ='3941'!$J$114 -> -38472.1 | L34: ='3941'!$J$116 -> 1984704.3 | M34: ='3941'!$J$124 -> 151856.59 | O34: {='3941'!E28:F28} -> 224.44 | P34: 0 | Q34: =I34/O34 -> 9014.3309 | R34: =K34/O34 -> -171.41374 | S34: =L34/O34 -> 8842.9171 | U34: =IF(D34="H",S34,0) -> 8842.9171 | V34: =ROUND(IF(E34=1,S34,0),2) -> 0 | W34: =IF(AND(U34=0,V34=0),S34,) -> 0
A35: 30 | B35: 3961 | C35: Gardens School of Technology Arts | D35: 0
A36: 31 | B36: 3971 | C36: Palm Beach Preparatory Charter Academy | D36: 0 | F36: =-K36/I36 -> 0.018970266 | G36: =-K36/J36 -> 0.019924446 | I36: ='3971'!$J$107 -> 5243512.1 | J36: ='3971'!$J$109 -> 4992400.7 | K36: ='3971'!$J$114 -> -99470.82 | L36: ='3971'!$J$116 -> 5144041.2 | M36: ='3971'!$J$124 -> 442140.95 | O36: {='3971'!E28:F28} -> 627.37 | P36: 0 | Q36: =I36/O36 -> 8357.9261 | R36: =K36/O36 -> -158.55208 | S36: =L36/O36 -> 8199.374 | U36: =IF(D36="H",S36,0) -> 0 | V36: =ROUND(IF(E36=1,S36,0),2) -> 0 | W36: =IF(AND(U36=0,V36=0),S36,) -> 8199.374
A37: 32 | B37: 4001 | C37: Renaissance Charter School at Wellington | D37: 0 | F37: =-K37/I37 -> 0.01854152 | G37: =-K37/J37 -> 0.019545909 | I37: ='4001'!$J$107 -> 5652151.5 | J37: ='4001'!$J$109 -> 5361709.1 | K37: ='4001'!$J$114 -> -104799.48 | L37: ='4001'!$J$116 -> 5547352 | M37: ='4001'!$J$124 -> 410325.1 | O37: {='4001'!E28:F28} -> 639.52 | P37: 0 | Q37: =I37/O37 -> 8838.1153 | R37: =K37/O37 -> -163.87209 | S37: =L37/O37 -> 8674.2432 | U37: =IF(D37="H",S37,0) -> 0 | V37: =ROUND(IF(E37=1,S37,0),2) -> 0 | W37: =IF(AND(U37=0,V37=0),S37,) -> 8674.2432
A38: 33 | B38: 4002 | C38: Renaissance Charter School at Summit | D38: 0 | F38: =-K38/I38 -> 0.013502894 | G38: =-K38/J38 -> 0.014285388 | I38: ='4002'!$J$107 -> 7761553.8 | J38: ='4002'!$J$109 -> 7336408.5 | K38: ='4002'!$J$114 -> -104803.44 | L38: ='4002'!$J$116 -> 7656750.3 | M38: ='4002'!$J$124 -> 494080.06 | O38: {='4002'!E28:F28} -> 875.02 | P38: 0 | Q38: =I38/O38 -> 8870.1444 | R38: =K38/O38 -> -119.77262 | S38: =L38/O38 -> 8750.3718 | U38: =IF(D38="H",S38,0) -> 0 | V38: =ROUND(IF(E38=1,S38,0),2) -> 0 | W38: =IF(AND(U38=0,V38=0),S38,) -> 8750.3718
A39: 34 | B39: 4012 | C39: Somerset Academy Canyons Middle School | D39: H | F39: =-K39/I39 -> 0.0089137248 | G39: =-K39/J39 -> 0.0094151316 | I39: ='4012'!$J$107 -> 4503928.6 | J39: ='4012'!$J$109 -> 4264070 | K39: ='4012'!$J$114 -> -40146.78 | L39: ='4012'!$J$116 -> 4463781.8 | M39: ='4012'!$J$124 -> 288517.84 | O39: {='4012'!E28:F28} -> 531.06 | P39: 0 | Q39: =I39/O39 -> 8481.0164 | R39: =K39/O39 -> -75.597447 | S39: =L39/O39 -> 8405.419 | U39: =IF(D39="H",S39,0) -> 8405.419 | V39: =ROUND(IF(E39=1,S39,0),2) -> 0 | W39: =IF(AND(U39=0,V39=0),S39,) -> 0
A40: 35 | B40: 4013 | C40: Somerset Academy Canyons High School | D40: H | F40: =-K40/I40 -> 0.0048171477 | G40: =-K40/J40 -> 0.0050415422 | I40: ='4013'!$J$107 -> 9008181.4 | J40: ='4013'!$J$109 -> 8607235.2 | K40: ='4013'!$J$114 -> -43393.74 | L40: ='4013'!$J$116 -> 8964787.6 | M40: ='4013'!$J$124 -> 692428.09 | O40: {='4013'!E28:F28} -> 991.76 | P40: 0 | Q40: =I40/O40 -> 9083.0255 | R40: =K40/O40 -> -43.754275 | S40: =L40/O40 -> 9039.2712 | U40: =IF(D40="H",S40,0) -> 9039.2712 | V40: =ROUND(IF(E40=1,S40,0),2) -> 0 | W40: =IF(AND(U40=0,V40=0),S40,) -> 0
A41: 36 | B41: 4020 | C41: Franklin Academy - Boynton Beach | D41: 0 | F41: =-K41/I41 -> 0.0096289647 | G41: =-K41/J41 -> 0.010116543 | I41: ='4020'!$J$107 -> 10934890 | J41: ='4020'!$J$109 -> 10407871 | K41: ='4020'!$J$114 -> -105291.67 | L41: ='4020'!$J$116 -> 10829598 | M41: ='4020'!$J$124 -> 880883.05 | O41: {='4020'!E28:F28} -> 1235.6 | P41: 0 | Q41: =I41/O41 -> 8849.8624 | R41: =K41/O41 -> -85.215013 | S41: =L41/O41 -> 8764.6474 | U41: =IF(D41="H",S41,0) -> 0 | V41: =ROUND(IF(E41=1,S41,0),2) -> 0 | W41: =IF(AND(U41=0,V41=0),S41,) -> 8764.6474
A42: 37 | B42: 4030 | C42: Olympus International Academy | D42: 0 | F42: =-K42/I42 -> 0.04689789 | G42: =-K42/J42 -> 0.05 | I42: ='4030'!$J$107 -> 2178098.4 | J42: ='4030'!$J$109 -> 2042964.4 | K42: ='4030'!$J$114 -> -102148.22 | L42: ='4030'!$J$116 -> 2075950.2 | M42: ='4030'!$J$124 -> 101024.31 | O42: {='4030'!E28:F28} -> 242.8 | P42: 0 | Q42: =I42/O42 -> 8970.7514 | R42: =K42/O42 -> -420.70931 | S42: =L42/O42 -> 8550.0421 | U42: =IF(D42="H",S42,0) -> 0 | V42: =ROUND(IF(E42=1,S42,0),2) -> 0 | W42: =IF(AND(U42=0,V42=0),S42,) -> 8550.0421
A43: 38 | B43: 4031 | C43: Somerset Academy Wellington | D43: 0 | F43: =-K43/I43 -> 0.029641863 | G43: =-K43/J43 -> 0.031399935 | I43: ='4031'!$J$107 -> 3498747.3 | J43: ='4031'!$J$109 -> 3302853.6 | K43: ='4031'!$J$114 -> -103709.39 | L43: ='4031'!$J$116 -> 3395038 | M43: ='4031'!$J$124 -> 220857.79 | O43: {='4031'!E28:F28} -> 398.09 | P43: 0 | Q43: =I43/O43 -> 8788.835 | R43: =K43/O43 -> -260.51745 | S43: =L43/O43 -> 8528.3176 | U43: =IF(D43="H",S43,0) -> 0 | V43: =ROUND(IF(E43=1,S43,0),2) -> 0 | W43: =IF(AND(U43=0,V43=0),S43,) -> 8528.3176
...

Sheet Charter Schools
B1: Palm Beach County Charter Schools
B3: Sorted by School Number | E3: Sorted by School Name
B4: Dept # | C4: Charter School Name | E4: Dept # | F4: Charter School Name
A5: 1 | B5: 0040 | C5: PALM BEACH PREPARATORY ACADEMY MS | E5: 3400 | F5: Believers Academy
A6: 2 | B6: 0571 | C6: PALMETTO PARK | E6: 3941 | F6: Ben Gamla Charter School | I6: 3391 Seagull Academy for Independent Living and 2531 Potentials Charter School merged in FY 25 and changed their name to Bodwell Academy
A7: 3 | B7: 0100 | C7: THE LEARNING CENTER HS | E7: 4102 | F7: BridgePrep Academy of PB
A8: 4 | B8: 1461 | C8: Inlet Grove Community High School | E8: 4100 | F8: Connections Education Center of the Palm Beaches
A9: 5 | B9: 1571 | C9: South Tech Charter Academy | E9: 2521 | F9: Ed Venture | I9: 3961 Garden School of Technology is closing for FY 26.
A10: 6 | B10: 2521 | C10: Ed Venture | E10: 3398 | F10: Everglades Preparatory Academy | I10: 4080 University Prep is closed for FY 26
A11: 7 | B11: 2531 | C11: Bodwell Academy (formerly - Potentials Charter School) | E11: 4081 | F11: Florida Futures Academy - North Campus
A12: 8 | B12: 2791 | C12: The Learning Center at The Els Center of Excellence | E12: 4020 | F12: Franklin Academy - Boynton Beach
A13: 9 | B13: 2801 | C13: Palm Beach Maritime Academy Elementary | E13: 4061 | F13: Franklin Academy - Palm Beach Gardens | I13: New Schools
A14: 10 | B14: 2911 | C14: Western Academy Charter School | E14: 3961 | F14: Gardens School of Technology Arts | I14: 0040 | J14: PALM BEACH PREPARATORY ACADEMY MS
A15: 11 | B15: 2941 | C15: Palm Beach School for Autism | E15: 3382 | F15: Glades Academy | I15: 0100 | J15: THE LEARNING CENTER HS
A16: 12 | B16: 3083 | C16: The Learning Academy at The Els Center of Excellence | E16: 3396 | F16: G-Star School of the Arts for Motion Pictures and Television | I16: 3362 | J16: Somserset Avenir
A17: 13 | B17: 3345 | C17: Career Academy of the Palm Beaches | E17: 3345 | F17: Career Academy of the Palm Beaches | I17: 0571 | J17: Palmetto Park High School
A18: 14 | B18: 3362 | C18: Somerset Avenir | E18: 3381 | F18: Imagine Schools - Chancellor Campus
A19: 15 | B19: 3381 | C19: Imagine Schools - Chancellor Campus | E19: 1461 | F19: Inlet Grove Community High School
A20: 16 | B20: 3382 | C20: Glades Academy | E20: 3394 | F20: Montessori Academy of Early Enrichment
A21: 17 | B21: 3391 | C21: Seagull Academy for Independent Living | E21: 4030 | F21: Olympus International Academy
A22: 18 | B22: 3394 | C22: Montessori Academy of Early Enrichment | E22: 2801 | F22: Palm Beach Maritime Academy Elementary
A23: 19 | B23: 3395 | C23: Somerset Academy JFK Charter School | E23: 3924 | F23: Palm Beach Maritime Academy Secondary
A24: 20 | B24: 3396 | C24: G-Star School of the Arts for Motion Pictures and Television | E24: 3971 | F24: Palm Beach Preparatory Charter Academy
A25: 21 | B25: 3398 | C25: Everglades Preparatory Academy | E25: 0040 | F25: PALM BEACH PREPARATORY ACADEMY MS
A26: 22 | B26: 3400 | C26: Believers Academy | E26: 2941 | F26: Palm Beach School for Autism
A27: 23 | B27: 3401 | C27: Quantum High School | E27: 2531 | F27: Potentials Charter School
A28: 24 | B28: 3413 | C28: Somerset Academy Boca | E28: 3401 | F28: Quantum High School
A29: 25 | B29: 3421 | C29: Worthington High School | E29: 4051 | F29: Renaissance Charter School at Central Palm
A30: 26 | B30: 3431 | C30: Renaissance Charter School at WPB | E30: 4050 | F30: Renaissance Charter School at Cypress
... A34: 30 | B34: 3961 | C34: Gardens School of Technology Arts | E34: 3391 | F34: Seagull Academy for Independent Living
A35: 31 | B35: 3971 | C35: Palm Beach Preparatory Charter Academy | E35: 4111 | F35: SLAM HS Palm Beach
A36: 32 | B36: 4001 | C36: Renaissance Charter School at Wellington | E36: 3362 | F36: Somerset Avenir
A37: 33 | B37: 4002 | C37: Renaissance Charter School at Summit | E37: 3413 | F37: Somerset Academy Boca
A38: 34 | B38: 4012 | C38: Somerset Academy Canyons Middle School | E38: 4041 | F38: Somerset Academy Boca Middle School
A39: 35 | B39: 4013 | C39: Somerset Academy Canyons High School | E39: 4013 | F39: Somerset Academy Canyons High School
A40: 36 | B40: 4020 | C40: Franklin Academy - Boynton Beach | E40: 4012 | F40: Somerset Academy Canyons Middle School
A41: 37 | B41: 4030 | C41: Olympus International Academy | E41: 3395 | F41: Somerset Academy JFK Charter School
A42: 38 | B42: 4031 | C42: Somerset Academy Wellington | E42: 4091 | F42: Somerset Academy Lakes
A43: 39 | B43: 4041 | C43: Somerset Academy Boca Middle School | E43: 4031 | F43: Somerset Academy Wellington
A44: 40 | B44: 4050 | C44: Renaissance Charter School at Cypress | E44: 4131 | F44: Somerset Academy Wellington HS
...

Sheet Cumulative Payments
A1: Cumulative Payments
D4: Net Revenue | E4: July | F4: August | G4: Sept | H4: Oct | I4: Nov | J4: Dec | K4: Jan | L4: Feb | M4: March | N4: April | O4: May | P4: June | Q4: Total | R4: Payments excluding current month
A5: 1 | B5: 0040 | C5: Palm Beach Preparatory Middle School | D5: ='Annual Rev & Fees'!L6 -> 198409.44 | E5: 24451.48 | F5: 24870.66 | G5: 24870.66 | H5: 24538.62 | I5: 24538.63 | J5: 24538.62 | K5: 24538.63 | L5: 4207.23 | M5: 4207.23 | N5: 4207.24 | O5: 6720.22 | Q5: =SUM(E5:P5) -> 191689.22 | R5: 0
A6: 2 | B6: 0571 | C6: Palmetto Park | D6: ='Annual Rev & Fees'!L7 -> 991046.95 | H6: 43342.64 | I6: 43342.64 | J6: 43342.64 | K6: 43342.64 | L6: 96450.38 | M6: 96450.39 | N6: 96450.38 | O6: 264162.62 | Q6: =SUM(E6:P6) -> 726884.33
A7: 3 | B7: 0100 | C7: The Learning Center Highschool | D7: ='Annual Rev & Fees'!L8 -> 886313.41 | E7: 22293.06 | F7: 22269.68 | G7: 22269.68 | H7: 26670.77 | I7: 26670.78 | J7: 26737.89 | K7: 28707.39 | L7: 134387.78 | M7: 134387.78 | N7: 134387.78 | O7: 153765.41 | Q7: =SUM(E7:P7) -> 732548 | R7: 0
A8: 4 | B8: 1461 | C8: Inlet Grove Community High School | D8: ='Annual Rev & Fees'!L9 -> 7433616.5 | E8: 485398.34 | F8: 492757.49 | G8: 662254.39 | H8: 675822.09 | I8: 659372.2 | J8: 659372.2 | K8: 659372.2 | L8: 654512.45 | M8: 654512.45 | N8: 654512.45 | O8: 587865.11 | Q8: =SUM(E8:P8) -> 6845751.4 | R8: 0
A9: 5 | B9: 1571 | C9: South Tech Charter Academy | D9: ='Annual Rev & Fees'!L10 -> 10275355 | E9: 795164.86 | F9: 808415.92 | G9: 876352.53 | H9: 860836.4 | I9: 860836.4 | J9: 860836.4 | K9: 860836.4 | L9: 896456.63 | M9: 896456.63 | N9: 896456.62 | O9: 831353.2 | Q9: =SUM(E9:P9) -> 9444002 | R9: 0
A10: 6 | B10: 2521 | C10: Ed Venture | D10: ='Annual Rev & Fees'!L11 -> 1332993.9 | E10: 112200.54 | F10: 112562.16 | G10: 112694.4 | H10: 109553.39 | I10: 109553.39 | J10: 109705.04 | K10: 109705.05 | L10: 112560.37 | M10: 112560.37 | N10: 112560.37 | O10: 109669.4 | Q10: =SUM(E10:P10) -> 1223324.5 | R10: 0
A11: 7 | B11: 2531 | C11: Bodwell Academy | D11: ='Annual Rev & Fees'!L12 -> 1449876.9 | E11: 128465.38 | F11: 132295.12 | G11: 132295.12 | H11: 136643.49 | I11: 136643.49 | J11: 137042.07 | K11: 136859.32 | L11: 99580.83 | M11: 99580.83 | N11: 99580.83 | O11: 105445.2 | Q11: =SUM(E11:P11) -> 1344431.7 | R11: 0
A12: 8 | B12: 2791 | C12: The Learning Center @ The Els Center of Excl | D12: ='Annual Rev & Fees'!L13 -> 5909264.4 | E12: 440248.86 | F12: 446019.94 | G12: 446019.95 | H12: 454340.22 | I12: 454340.22 | J12: 455853.95 | K12: 455853.95 | L12: 477676.86 | M12: 477676.86 | N12: 477676.86 | O12: 661778.35 | Q12: =SUM(E12:P12) -> 5247486 | R12: 0
A13: 9 | B13: 2801 | C13: Palm Beach Maritime Academy Elementary | D13: ='Annual Rev & Fees'!L14 -> 5043775.7 | E13: 433777.9 | F13: 438326.62 | G13: 438326.62 | H13: 441316.79 | I13: 441316.79 | J13: 441316.79 | K13: 441316.79 | L13: 401410.35 | M13: 401410.35 | N13: 401410.34 | O13: 381923.19 | Q13: =SUM(E13:P13) -> 4661852.5 | R13: 0
A14: 10 | B14: 2911 | C14: Western Academy Charter School | D14: ='Annual Rev & Fees'!L15 -> 6827201.3 | E14: 505265.93 | F14: 513425.85 | G14: 513425.85 | H14: 511868.89 | I14: 511868.89 | J14: 511868.89 | K14: 511868.9 | L14: 655584.5 | M14: 655584.5 | N14: 655584.5 | O14: 640427.29 | Q14: =SUM(E14:P14) -> 6186774 | R14: 0
A15: 11 | B15: 2941 | C15: Palm Beach School for Autism | D15: ='Annual Rev & Fees'!L16 -> 11274905 | E15: 858865.25 | F15: 869504.11 | G15: 869504.11 | H15: 890806.34 | I15: 890806.34 | J15: 892399.18 | K15: 892467.27 | L15: 1008874.4 | M15: 1008874.4 | N15: 1008874.4 | O15: 1041964.5 | Q15: =SUM(E15:P15) -> 10232940 | R15: 0
A16: 12 | B16: 3083 | C16: The Learning Academy @ The Els Center of Excl | D16: ='Annual Rev & Fees'!L17 -> 6676912.2 | E16: 484859.99 | F16: 497059.68 | G16: 497059.68 | H16: 504701.18 | I16: 504701.18 | J16: 506490.84 | K16: 505938.1 | L16: 613167.34 | M16: 613167.34 | N16: 613167.33 | O16: 668299.76 | Q16: =SUM(E16:P16) -> 6008612.4 | R16: 0
A17: 13 | B17: 3345 | C17: Career Academy of the Palm Beaches | D17: ='Annual Rev & Fees'!L18 -> 1122584.3 | E17: 90419.86 | F17: 91364.55 | G17: 91364.55 | H17: 93532.75 | I17: 93532.75 | J17: 93541.68 | K17: 93541.68 | L17: 91480.28 | M17: 91480.28 | N17: 91480.28 | O17: 100422.83 | Q17: =SUM(E17:P17) -> 1022161.5 | R17: 0
A18: 14 | B18: 3362 | C18: Somerset Avenir | D18: ='Annual Rev & Fees'!L19 -> 1392714.1 | H18: 152593 | I18: 152593 | J18: 152593 | K18: 152593 | L18: 154690.62 | M18: 154690.63 | N18: 154690.62 | O18: 159135.13 | Q18: =SUM(E18:P18) -> 1233579
A19: 15 | B19: 3381 | C19: Imagine Schools - Chancellor Campus | D19: ='Annual Rev & Fees'!L20 -> 9214877.7 | E19: 750894 | F19: 762872.3 | G19: 762872.3 | H19: 765891.06 | I19: 765891.07 | J19: 765891.06 | K19: 765891.07 | L19: 771145.22 | M19: 771145.23 | N19: 771145.22 | O19: 780619.56 | Q19: =SUM(E19:P19) -> 8434258.1 | R19: 0
A20: 16 | B20: 3382 | C20: Glades Academy | D20: ='Annual Rev & Fees'!L21 -> 2319990.4 | E20: 199480.37 | F20: 202508.28 | G20: 202508.28 | H20: 198960.42 | I20: 198960.42 | J20: 198960.42 | K20: 198960.42 | L20: 200075 | M20: 200075 | N20: 200075 | O20: 159713.42 | Q20: =SUM(E20:P20) -> 2160277 | R20: 0
A21: 17 | B21: 3391 | C21: Seagull Academy for Independent Living | D21: ='Annual Rev & Fees'!L22 -> 0 | F21: 0 | Q21: =SUM(E21:P21) -> 0 | R21: 0
A22: 18 | B22: 3394 | C22: Montessori Academy of Early Enrichment | D22: ='Annual Rev & Fees'!L23 -> 1678785.5 | E22: 136646.84 | F22: 137857.37 | G22: 137857.37 | H22: 136608.8 | I22: 136608.8 | J22: 136608.79 | K22: 136608.8 | L22: 143972.29 | M22: 143972.29 | N22: 143972.29 | O22: 144035.92 | Q22: =SUM(E22:P22) -> 1534749.6 | R22: 0
A23: 19 | B23: 3395 | C23: Somerset Academy Charter School | D23: ='Annual Rev & Fees'!L24 -> 4628459.4 | E23: 363962.87 | F23: 368541.43 | G23: 368541.43 | H23: 366702.21 | I23: 366702.21 | J23: 366702.21 | K23: 366702.22 | L23: 420003.16 | M23: 420003.16 | N23: 420003.16 | O23: 400297.65 | Q23: =SUM(E23:P23) -> 4228161.7 | R23: 0
A24: 20 | B24: 3396 | C24: G-Star School of the Arts | D24: ='Annual Rev & Fees'!L25 -> 6219222.9 | E24: 481353.82 | F24: 489623.72 | G24: 533385.66 | H24: 524600.61 | I24: 524600.61 | J24: 524600.6 | K24: 524600.61 | L24: 547659.96 | M24: 547659.97 | N24: 547659.96 | O24: 486738.7 | Q24: =SUM(E24:P24) -> 5732484.2 | R24: 0
A25: 21 | B25: 3398 | C25: Everglades Preparatory Academy | D25: ='Annual Rev & Fees'!L26 -> 868808.64 | E25: 75370.15 | F25: 76763.56 | G25: 76763.56 | H25: 78174.02 | I25: 78174.02 | J25: 78174.02 | K25: 78174.02 | L25: 61462.22 | M25: 61462.22 | N25: 61462.22 | O25: 71414.32 | Q25: =SUM(E25:P25) -> 797394.33 | R25: 0
A26: 22 | B26: 3400 | C26: Believers Academy | D26: ='Annual Rev & Fees'!L27 -> 1123155.3 | E26: 93540.76 | F26: 94458.1 | G26: 94458.1 | H26: 100055.2 | I26: 100055.2 | J26: 100047.91 | K26: 100047.91 | L26: 89165.9 | M26: 89165.91 | N26: 89165.9 | O26: 86497.22 | Q26: =SUM(E26:P26) -> 1036658.1 | R26: 0
A27: 23 | B27: 3401 | C27: Quantum High School | D27: ='Annual Rev & Fees'!L28 -> 3311034 | E27: 291401.55 | F27: 296284.6 | G27: 298028.7 | H27: 307696.18 | I27: 307696.18 | J27: 307696.17 | K27: 307696.18 | L27: 225219.95 | M27: 225219.95 | N27: 225219.95 | O27: 259437.29 | Q27: =SUM(E27:P27) -> 3051596.7 | R27: 0
A28: 24 | B28: 3413 | C28: Somerset Academy Boca | D28: ='Annual Rev & Fees'!L29 -> 3486073.7 | E28: 282765.64 | F28: 286550.08 | G28: 286550.08 | H28: 287180.12 | I28: 287180.12 | J28: 287180.12 | K28: 287180.12 | L28: 295695.63 | M28: 295695.64 | N28: 295695.63 | O28: 297200.24 | Q28: =SUM(E28:P28) -> 3188873.4 | R28: 0
A29: 25 | B29: 3421 | C29: Worthington High School | D29: ='Annual Rev & Fees'!L30 -> 4875049.9 | E29: 318686.65 | F29: 320269.78 | G29: 322019.77 | H29: 365620.49 | I29: 365620.49 | J29: 365620.49 | K29: 365620.49 | L29: 434928.01 | M29: 434928.01 | N29: 434928.01 | O29: 573403.85 | Q29: =SUM(E29:P29) -> 4301646 | R29: 0
A30: 26 | B30: 3431 | C30: Renaissance Charter School at WPB | D30: ='Annual Rev & Fees'!L31 -> 8740822.1 | E30: 727291.13 | F30: 737684.93 | G30: 737684.93 | H30: 725549.97 | I30: 725549.97 | J30: 725549.97 | K30: 725549.97 | L30: 739014.58 | M30: 739014.59 | N30: 739014.58 | O30: 709458.76 | Q30: =SUM(E30:P30) -> 8031363.4 | R30: 0
A31: 27 | B31: 3441 | C31: South Tech Preparatory Academy (MS) | D31: ='Annual Rev & Fees'!L32 -> 4592331.2 | E31: 365051.77 | F31: 372113.82 | G31: 380953.21 | H31: 387823.98 | I31: 387823.98 | J31: 387823.98 | K31: 387823.98 | L31: 386283.79 | M31: 386283.8 | N31: 386283.79 | O31: 382032.54 | Q31: =SUM(E31:P31) -> 4210298.6 | R31: 0
A32: 28 | B32: 3924 | C32: Palm Beach Maritime Academy Secondary | D32: ='Annual Rev & Fees'!L33 -> 3451768.8 | E32: 303122.37 | F32: 308213.52 | G32: 309424.3 | H32: 306743.77 | I32: 306743.77 | J32: 306743.77 | K32: 306743.77 | L32: 265079.04 | M32: 265079.04 | N32: 265079.04 | O32: 254398.21 | Q32: =SUM(E32:P32) -> 3197370.6 | R32: 0
A33: 29 | B33: 3941 | C33: Ben Gamla Charter School | D33: ='Annual Rev & Fees'!L34 -> 1984704.3 | E33: 166503.7 | F33: 168521.9 | G33: 168521.9 | H33: 168880.64 | I33: 168880.64 | J33: 168880.64 | K33: 168880.64 | L33: 167307.03 | M33: 167307.03 | N33: 167307.02 | O33: 151856.59 | Q33: =SUM(E33:P33) -> 1832847.7 | R33: 0
A34: 30 | B34: 3961 | C34: Gardens School of Technology Arts | D34: ='Annual Rev & Fees'!L35 -> 0 | F34: 0 | Q34: =SUM(E34:P34) -> 0 | R34: 0
A35: 31 | B35: 3971 | C35: Palm Beach Perparatory Charter Academy | D35: ='Annual Rev & Fees'!L36 -> 5144041.2 | E35: 418200.93 | F35: 425546.45 | G35: 426358.86 | H35: 468192.65 | I35: 468192.65 | J35: 468192.64 | K35: 468192.65 | L35: 372294.18 | M35: 372294.18 | N35: 372294.17 | O35: 442140.95 | Q35: =SUM(E35:P35) -> 4701900.3 | R35: 0
A36: 32 | B36: 4001 | C36: Renaissance Charter School at Wellington | D36: ='Annual Rev & Fees'!L37 -> 5547352 | E36: 486040.8 | F36: 493503.39 | G36: 493503.4 | H36: 492923.41 | I36: 492923.41 | J36: 492923.41 | K36: 492923.41 | L36: 427320.19 | M36: 427320.19 | N36: 427320.19 | O36: 410325.1 | Q36: =SUM(E36:P36) -> 5137026.9 | R36: 0
A37: 33 | B37: 4002 | C37: Renaissance Charter School at Summit | D37: ='Annual Rev & Fees'!L38 -> 7656750.3 | E37: 707326.89 | F37: 715174.9 | G37: 715174.91 | H37: 708965.29 | I37: 708965.29 | J37: 708965.29 | K37: 708965.29 | L37: 565017.45 | M37: 565017.45 | N37: 565017.44 | O37: 494080.06 | Q37: =SUM(E37:P37) -> 7162670.3 | R37: 0
A38: 34 | B38: 4012 | C38: Somerset Academy Canyons Middle School | D38: ='Annual Rev & Fees'!L39 -> 4463781.8 | E38: 401311.12 | F38: 409405.4 | G38: 417398.36 | H38: 416469.55 | I38: 416469.55 | J38: 416469.55 | K38: 416469.55 | L38: 330917.68 | M38: 330917.68 | N38: 330917.68 | O38: 288517.84 | Q38: =SUM(E38:P38) -> 4175264 | R38: 0
A39: 35 | B39: 4013 | C39: Somerset Academy Canyons High School | D39: ='Annual Rev & Fees'!L40 -> 8964787.6 | E39: 667648.91 | F39: 677472.72 | G39: 795258.27 | H39: 786596.81 | I39: 786596.81 | J39: 786596.81 | K39: 786596.81 | L39: 764388.1 | M39: 764388.1 | N39: 764388.1 | O39: 692428.09 | Q39: =SUM(E39:P39) -> 8272359.5 | R39: 0
A40: 36 | B40: 4020 | C40: Franklin Academy - Boynton Beach | D40: ='Annual Rev & Fees'!L41 -> 10829598 | E40: 892802.19 | F40: 906770.45 | G40: 906770.45 | H40: 899763.33 | I40: 899763.33 | J40: 899763.33 | K40: 899763.33 | L40: 920811.93 | M40: 920811.93 | N40: 920811.93 | O40: 880883.05 | Q40: =SUM(E40:P40) -> 9948715.2 | R40: 0
A41: 37 | B41: 4030 | C41: Olympus International Academy | D41: ='Annual Rev & Fees'!L42 -> 2075950.2 | E41: 216879.02 | F41: 218407.85 | G41: 218407.85 | H41: 217485.59 | I41: 217485.59 | J41: 217485.59 | K41: 217485.59 | L41: 116754.84 | M41: 116754.84 | N41: 116754.84 | O41: 101024.31 | Q41: =SUM(E41:P41) -> 1974925.9 | R41: 0
A42: 38 | B42: 4031 | C42: Somerset Academy Wellington | D42: ='Annual Rev & Fees'!L43 -> 3395038 | E42: 322483.34 | F42: 326575.68 | G42: 326575.68 | H42: 319995.16 | I42: 319995.16 | J42: 319995.16 | K42: 319995.16 | L42: 232569.01 | M42: 232569.02 | N42: 232569.01 | O42: 220857.79 | Q42: =SUM(E42:P42) -> 3174180.2 | R42: 0
...

Sheet Consolidated
B1: (Insert district number in cell A1, enter, then strike F9. Your district data then pulls from Calculation Detail Sheets) | K1: v:\Charter Schools\!!FEFP\FY 26 - FEFP Funding\!Payments 2025-26\2025-09\01 - 2025-08 - FEFP CS Pmt Calc - Old.xlsx
A2: Revenue Estimate Worksheet: All Charter Schools (Consolidated Tab)
A3: Based on the 2025-26 Third Calculation Worksheet
A4: School District: | C4: Palm Beach | H4: 46143
A7: 1A. 2025-26 FEFP State and Local Funding
B8: Base Student Allocation: | C8: 5372.6 | G8: District Cost Differential: | H8: 1.0355
G9: Small District Factor: | H9: 1
I10: 2025-26
C11: Oct 2025 | D11: Feb 2026 | E11: Total | F11: Program | H11: Weighted FTE | I11: Base Funding
A12: Program | C12: FTE | D12: FTE | E12: FTE | F12: Cost Factor | H12: (2) x (3) | I12: (WFTE x BSA x CWF x SDF)
A13: (1) | E13: (2) | F13: (3) | H13: (4) | I13: (5)
A14: 101 Basic K-3 | C14: =SUM('0040:4131'!C12) -> 1961.52 | D14: =SUM('0040:4131'!D12) -> 1892.41 | E14: =SUM('0040:4131'!E12) -> 3853.93 | F14: 1.108 | H14: =SUM('0040:4131'!I12) -> 4270.1543 | I14: =SUM('0040:4131'!J12) -> 23756266
A15: 111 Basic K-3 with ESE Services | C15: =SUM('0040:4131'!C13) -> 307.92 | D15: =SUM('0040:4131'!D13) -> 334.33 | E15: =SUM('0040:4131'!E13) -> 642.25 | F15: 1.108 | H15: =SUM('0040:4131'!I13) -> 711.6131 | I15: =SUM('0040:4131'!J13) -> 3958936.6
A16: 102 Basic 4-8 | C16: =SUM('0040:4131'!C14) -> 3270.78 | D16: =SUM('0040:4131'!D14) -> 3223.35 | E16: =SUM('0040:4131'!E14) -> 6494.13 | F16: 1 | H16: =SUM('0040:4131'!I14) -> 6494.13 | I16: =SUM('0040:4131'!J14) -> 36128971
A17: 112 Basic 4-8 with ESE Services | C17: =SUM('0040:4131'!C15) -> 645.83 | D17: =SUM('0040:4131'!D15) -> 633.13 | E17: =SUM('0040:4131'!E15) -> 1278.96 | F17: 1 | H17: =SUM('0040:4131'!I15) -> 1278.96 | I17: =SUM('0040:4131'!J15) -> 7115273.1
A18: 103 Basic 9-12 | C18: =SUM('0040:4131'!C16) -> 2170.35 | D18: =SUM('0040:4131'!D16) -> 2195.32 | E18: =SUM('0040:4131'!E16) -> 4365.67 | F18: 0.972 | H18: =SUM('0040:4131'!I16) -> 4243.4314 | I18: =SUM('0040:4131'!J16) -> 23607598
A19: 113 Basic 9-12 with ESE Services | C19: =SUM('0040:4131'!C17) -> 655.13 | D19: =SUM('0040:4131'!D17) -> 669 | E19: =SUM('0040:4131'!E17) -> 1324.13 | F19: 0.972 | H19: =SUM('0040:4131'!I17) -> 1287.0544 | I19: =SUM('0040:4131'!J17) -> 7160304.9
A20: 254 ESE Level 4 (Grade Level PK-3) | C20: =SUM('0040:4131'!C18) -> 77.98 | D20: =SUM('0040:4131'!D18) -> 64.02 | E20: =SUM('0040:4131'!E18) -> 142 | F20: 3.609 | H20: =SUM('0040:4131'!I18) -> 512.478 | I20: =SUM('0040:4131'!J18) -> 2851082.8
A21: 254 ESE Level 4 (Grade Level 4-8) | C21: =SUM('0040:4131'!C19) -> 0 | D21: =SUM('0040:4131'!D19) -> 0 | E21: =SUM('0040:4131'!E19) -> 0 | F21: 3.609 | H21: =SUM('0040:4131'!I19) -> 0 | I21: =SUM('0040:4131'!J19) -> 0
A22: 254 ESE Level 4 (Grade Level 9-12) | C22: =SUM('0040:4131'!C20) -> 163.84 | D22: =SUM('0040:4131'!D20) -> 158.83 | E22: =SUM('0040:4131'!E20) -> 322.67 | F22: 3.609 | H22: =SUM('0040:4131'!I20) -> 1164.516 | I22: =SUM('0040:4131'!J20) -> 6478583.7
A23: 255 ESE Level 5 (Grade Level PK-3) | C23: =SUM('0040:4131'!C21) -> 51.5 | D23: =SUM('0040:4131'!D21) -> 69.5 | E23: =SUM('0040:4131'!E21) -> 121 | F23: 6.064 | H23: =SUM('0040:4131'!I21) -> 733.744 | I23: =SUM('0040:4131'!J21) -> 4082058
A24: 255 ESE Level 5 (Grade Level 4-8) | C24: =SUM('0040:4131'!C22) -> 0 | D24: =SUM('0040:4131'!D22) -> 0 | E24: =SUM('0040:4131'!E22) -> 0 | F24: 6.064 | H24: =SUM('0040:4131'!I22) -> 0 | I24: =SUM('0040:4131'!J22) -> 0
A25: 255 ESE Level 5 (Grade Level 9-12) | C25: =SUM('0040:4131'!C23) -> 102.91 | D25: =SUM('0040:4131'!D23) -> 112.52 | E25: =SUM('0040:4131'!E23) -> 215.43 | F25: 6.064 | H25: =SUM('0040:4131'!I23) -> 1306.3675 | I25: =SUM('0040:4131'!J23) -> 7267750
... A29: 300 Career Education (Grades 9-12) | C29: =SUM('0040:4131'!C27) -> 310.24 | D29: =SUM('0040:4131'!D27) -> 298.26 | E29: =SUM('0040:4131'!E27) -> 608.5 | F29: 1.081 | H29: =SUM('0040:4131'!I27) -> 657.7887 | I29: =SUM('0040:4131'!J27) -> 3659493.9
A30: Totals non-virtual schools | C30: =SUM(C14:C29) -> 10709.4 | D30: =SUM(D14:D29) -> 10646.86 | E30: =SUM(E14:E29) -> 21356.26 | H30: =SUM('0040:4131'!I28) -> 24975.781 | I30: =SUM('0040:4131'!J28) -> 1.3894844e+08 | K30: 1.3894844e+08
A31: Virtual schools ($5,476.28/FTE) | C31: =SUM('0040:4131'!C29) -> 0 | D31: =SUM('0040:4131'!D29) -> 0 | E31: =IF(D$30=0,C31*2,C31+D31) -> 0 | F31: 0 | H31: =ROUND(E31*F31,4) -> 0
A32: Totals all schools | C32: =SUM(C30:C31) -> 10709.4 | D32: =SUM(D30:D31) -> 10646.86 | E32: =SUM(E30:E31) -> 21356.26 | I32: =SUM('0040:4131'!J30) -> 0
A34: Letters in Parentheses Refer to Notes at Bottom of Worksheet:
I36: 2018-19
C37: =C11 -> Oct 2025 | D37: =D11 -> Feb 2026 | E37: Total | I37: Base Funding
A38: Additional FTE (a) | C38: FTE | D38: FTE | E38: FTE | I38: (WFTE x BSA x DCD)
A39: Advanced Placement | C39: 0 | D39: 0 | E39: =+C39+D39 -> 0
A40: International Baccalaureate | C40: 0 | D40: 0 | E40: =+C40+D40 -> 0
A41: Advanced International Certificate | C41: 0 | D41: 0 | E41: =+C41+D41 -> 0
A42: Industry Certified Career Education | C42: 0 | D42: 0 | E42: =+C42+D42 -> 0
A43: Early High School Graduation | C43: 0 | D43: 0 | E43: =+C43+D43 -> 0
A44: Small District ESE Supplement | C44: 0 | D44: 0 | E44: =+C44+D44 -> 0
B45: Total Additional FTE | C45: =SUM(C39:C44) -> 0 | D45: =SUM(D39:D44) -> 0 | E45: =SUM(E39:E44) -> 0 | H45: Additional Base Funds | I45: =SUM(I39:I44) -> 0
B47: Total Funded Weighted FTE | E47: =H30+E45 -> 24975.781 | H47: Total Base Funding | I47: =SUM(I45,I32) -> 0
A50: 1B. Classroom Teacher & Other Instructional Personnel Salary Increase
...

Sheet CountData
A1: Sch No | B1: Sch (0000) | C1: Prog | D1: Count 2 Unwtd | G1: Sch No | H1: Sch (0000) | I1: Prog | J1: Count 3 Unwtd | L1: Sch (0000) | M1: FTE
A2: 11 | B2: =TEXT(A2,"0000") -> 0011 | C2: 101 | D2: 126.5 | G2: 11 | H2: =TEXT(G2,"0000") -> 0011 | I2: 101 | J2: 123.96 | L2: 0040 | M2: =SUMIF(B:B,L2,D:D)+SUMIF(H:H,L2,J:J) -> 23.72
A3: 11 | B3: =TEXT(A3,"0000") -> 0011 | C3: 102 | D3: 148.52 | G3: 11 | H3: =TEXT(G3,"0000") -> 0011 | I3: 102 | J3: 147.49 | L3: 0571 | M3: =SUMIF(B:B,L3,D:D)+SUMIF(H:H,L3,J:J) -> 126
A4: 11 | B4: =TEXT(A4,"0000") -> 0011 | C4: 111 | D4: 60.45 | G4: 11 | H4: =TEXT(G4,"0000") -> 0011 | I4: 111 | J4: 63.55 | L4: 0100 | M4: =SUMIF(B:B,L4,D:D)+SUMIF(H:H,L4,J:J) -> 27
A5: 11 | B5: =TEXT(A5,"0000") -> 0011 | C5: 112 | D5: 50.5 | G5: 11 | H5: =TEXT(G5,"0000") -> 0011 | I5: 112 | J5: 50.23 | L5: 1461 | M5: =SUMIF(B:B,L5,D:D)+SUMIF(H:H,L5,J:J) -> 830.39
A6: 11 | B6: =TEXT(A6,"0000") -> 0011 | C6: 130 | D6: 37.63 | G6: 11 | H6: =TEXT(G6,"0000") -> 0011 | I6: 130 | J6: 34.42 | L6: 1571 | M6: =SUMIF(B:B,L6,D:D)+SUMIF(H:H,L6,J:J) -> 1103.25
A7: 11 | B7: =TEXT(A7,"0000") -> 0011 | C7: 254 | D7: 1 | G7: 11 | H7: =TEXT(G7,"0000") -> 0011 | I7: 254 | J7: 1 | L7: 2521 | M7: =SUMIF(B:B,L7,D:D)+SUMIF(H:H,L7,J:J) -> 73.6
A8: 11 | B8: =TEXT(A8,"0000") -> 0011 | C8: 255 | D8: 0.48 | G8: 12 | H8: =TEXT(G8,"0000") -> 0012 | I8: 101 | J8: 118.16 | L8: 2531 | M8: =SUMIF(B:B,L8,D:D)+SUMIF(H:H,L8,J:J) -> 48.5
A9: 12 | B9: =TEXT(A9,"0000") -> 0012 | C9: 101 | D9: 118.76 | G9: 12 | H9: =TEXT(G9,"0000") -> 0012 | I9: 102 | J9: 49.82 | L9: 2791 | M9: =SUMIF(B:B,L9,D:D)+SUMIF(H:H,L9,J:J) -> 173.06
A10: 12 | B10: =TEXT(A10,"0000") -> 0012 | C10: 102 | D10: 51.34 | G10: 12 | H10: =TEXT(G10,"0000") -> 0012 | I10: 111 | J10: 30.09 | L10: 2801 | M10: =SUMIF(B:B,L10,D:D)+SUMIF(H:H,L10,J:J) -> 555.49
A11: 12 | B11: =TEXT(A11,"0000") -> 0012 | C11: 111 | D11: 31.52 | G11: 12 | H11: =TEXT(G11,"0000") -> 0012 | I11: 112 | J11: 10.5 | L11: 2911 | M11: =SUMIF(B:B,L11,D:D)+SUMIF(H:H,L11,J:J) -> 778.53
A12: 12 | B12: =TEXT(A12,"0000") -> 0012 | C12: 112 | D12: 11.74 | G12: 12 | H12: =TEXT(G12,"0000") -> 0012 | I12: 130 | J12: 107.54 | L12: 2941 | M12: =SUMIF(B:B,L12,D:D)+SUMIF(H:H,L12,J:J) -> 380.17
A13: 12 | B13: =TEXT(A13,"0000") -> 0012 | C13: 130 | D13: 109.08 | G13: 12 | H13: =TEXT(G13,"0000") -> 0012 | I13: 254 | J13: 0.54 | L13: 3083 | M13: =SUMIF(B:B,L13,D:D)+SUMIF(H:H,L13,J:J) -> 179.39
A14: 12 | B14: =TEXT(A14,"0000") -> 0012 | C14: 254 | D14: 0.29 | G14: 21 | H14: =TEXT(G14,"0000") -> 0021 | I14: 102 | J14: 373.67 | L14: 3345 | M14: =SUMIF(B:B,L14,D:D)+SUMIF(H:H,L14,J:J) -> 83
A15: 21 | B15: =TEXT(A15,"0000") -> 0021 | C15: 102 | D15: 377.79 | G15: 21 | H15: =TEXT(G15,"0000") -> 0021 | I15: 112 | J15: 121.95 | L15: 3362 | M15: =SUMIF(B:B,L15,D:D)+SUMIF(H:H,L15,J:J) -> 160.99
A16: 21 | B16: =TEXT(A16,"0000") -> 0021 | C16: 112 | D16: 124.47 | G16: 21 | H16: =TEXT(G16,"0000") -> 0021 | I16: 130 | J16: 80.44 | L16: 3381 | M16: =SUMIF(B:B,L16,D:D)+SUMIF(H:H,L16,J:J) -> 1049.84
A17: 21 | B17: =TEXT(A17,"0000") -> 0021 | C17: 130 | D17: 82.3 | G17: 21 | H17: =TEXT(G17,"0000") -> 0021 | I17: 254 | J17: 1 | L17: 3382 | M17: =SUMIF(B:B,L17,D:D)+SUMIF(H:H,L17,J:J) -> 261.71
A18: 21 | B18: =TEXT(A18,"0000") -> 0021 | C18: 254 | D18: 1 | G18: 31 | H18: =TEXT(G18,"0000") -> 0031 | I18: 101 | J18: 105.44 | L18: 3391 | M18: =SUMIF(B:B,L18,D:D)+SUMIF(H:H,L18,J:J) -> 0
A19: 31 | B19: =TEXT(A19,"0000") -> 0031 | C19: 101 | D19: 123.31 | G19: 31 | H19: =TEXT(G19,"0000") -> 0031 | I19: 102 | J19: 60.95 | L19: 3394 | M19: =SUMIF(B:B,L19,D:D)+SUMIF(H:H,L19,J:J) -> 192.97
A20: 31 | B20: =TEXT(A20,"0000") -> 0031 | C20: 102 | D20: 62.45 | G20: 31 | H20: =TEXT(G20,"0000") -> 0031 | I20: 111 | J20: 108.3 | L20: 3395 | M20: =SUMIF(B:B,L20,D:D)+SUMIF(H:H,L20,J:J) -> 537
A21: 31 | B21: =TEXT(A21,"0000") -> 0031 | C21: 111 | D21: 89.86 | G21: 31 | H21: =TEXT(G21,"0000") -> 0031 | I21: 112 | J21: 58.82 | L21: 3396 | M21: =SUMIF(B:B,L21,D:D)+SUMIF(H:H,L21,J:J) -> 702.78
A22: 31 | B22: =TEXT(A22,"0000") -> 0031 | C22: 112 | D22: 56.82 | G22: 31 | H22: =TEXT(G22,"0000") -> 0031 | I22: 130 | J22: 18.84 | L22: 3398 | M22: =SUMIF(B:B,L22,D:D)+SUMIF(H:H,L22,J:J) -> 102.32
A23: 31 | B23: =TEXT(A23,"0000") -> 0031 | C23: 130 | D23: 20.88 | G23: 31 | H23: =TEXT(G23,"0000") -> 0031 | I23: 254 | J23: 0.5 | L23: 3400 | M23: =SUMIF(B:B,L23,D:D)+SUMIF(H:H,L23,J:J) -> 91.18
A24: 31 | B24: =TEXT(A24,"0000") -> 0031 | C24: 254 | D24: 0.5 | G24: 40 | H24: =TEXT(G24,"0000") -> 0040 | I24: 102 | J24: 7.5 | L24: 3401 | M24: =SUMIF(B:B,L24,D:D)+SUMIF(H:H,L24,J:J) -> 395.41
A25: 40 | B25: =TEXT(A25,"0000") -> 0040 | C25: 102 | D25: 6.7 | G25: 40 | H25: =TEXT(G25,"0000") -> 0040 | I25: 112 | J25: 3.97 | L25: 3413 | M25: =SUMIF(B:B,L25,D:D)+SUMIF(H:H,L25,J:J) -> 391.82
A26: 40 | B26: =TEXT(A26,"0000") -> 0040 | C26: 112 | D26: 3.48 | G26: 40 | H26: =TEXT(G26,"0000") -> 0040 | I26: 130 | J26: 0.84 | L26: 3421 | M26: =SUMIF(B:B,L26,D:D)+SUMIF(H:H,L26,J:J) -> 597.46
A27: 40 | B27: =TEXT(A27,"0000") -> 0040 | C27: 130 | D27: 1.23 | G27: 51 | H27: =TEXT(G27,"0000") -> 0051 | I27: 101 | J27: 161.65 | L27: 3431 | M27: =SUMIF(B:B,L27,D:D)+SUMIF(H:H,L27,J:J) -> 997.39
A28: 51 | B28: =TEXT(A28,"0000") -> 0051 | C28: 101 | D28: 159.46 | G28: 51 | H28: =TEXT(G28,"0000") -> 0051 | I28: 102 | J28: 99.93 | L28: 3441 | M28: =SUMIF(B:B,L28,D:D)+SUMIF(H:H,L28,J:J) -> 522.78
A29: 51 | B29: =TEXT(A29,"0000") -> 0051 | C29: 102 | D29: 95.2 | G29: 51 | H29: =TEXT(G29,"0000") -> 0051 | I29: 111 | J29: 22.5 | L29: 3924 | M29: =SUMIF(B:B,L29,D:D)+SUMIF(H:H,L29,J:J) -> 407.17
A30: 51 | B30: =TEXT(A30,"0000") -> 0051 | C30: 111 | D30: 20.5 | G30: 51 | H30: =TEXT(G30,"0000") -> 0051 | I30: 112 | J30: 14.5 | L30: 3941 | M30: =SUMIF(B:B,L30,D:D)+SUMIF(H:H,L30,J:J) -> 224.44
A31: 51 | B31: =TEXT(A31,"0000") -> 0051 | C31: 112 | D31: 15 | G31: 51 | H31: =TEXT(G31,"0000") -> 0051 | I31: 130 | J31: 75.27 | L31: 3961 | M31: =SUMIF(B:B,L31,D:D)+SUMIF(H:H,L31,J:J) -> 0
A32: 51 | B32: =TEXT(A32,"0000") -> 0051 | C32: 130 | D32: 77.35 | G32: 51 | H32: =TEXT(G32,"0000") -> 0051 | I32: 254 | J32: 1.5 | L32: 3971 | M32: =SUMIF(B:B,L32,D:D)+SUMIF(H:H,L32,J:J) -> 627.37
A33: 51 | B33: =TEXT(A33,"0000") -> 0051 | C33: 254 | D33: 1.5 | G33: 61 | H33: =TEXT(G33,"0000") -> 0061 | I33: 101 | J33: 142.33 | L33: 4001 | M33: =SUMIF(B:B,L33,D:D)+SUMIF(H:H,L33,J:J) -> 639.52
A34: 61 | B34: =TEXT(A34,"0000") -> 0061 | C34: 101 | D34: 152.86 | G34: 61 | H34: =TEXT(G34,"0000") -> 0061 | I34: 102 | J34: 89.69 | L34: 4002 | M34: =SUMIF(B:B,L34,D:D)+SUMIF(H:H,L34,J:J) -> 875.02
A35: 61 | B35: =TEXT(A35,"0000") -> 0061 | C35: 102 | D35: 87.2 | G35: 61 | H35: =TEXT(G35,"0000") -> 0061 | I35: 111 | J35: 78 | L35: 4012 | M35: =SUMIF(B:B,L35,D:D)+SUMIF(H:H,L35,J:J) -> 531.06
A36: 61 | B36: =TEXT(A36,"0000") -> 0061 | C36: 111 | D36: 69.99 | G36: 61 | H36: =TEXT(G36,"0000") -> 0061 | I36: 112 | J36: 50.8 | L36: 4013 | M36: =SUMIF(B:B,L36,D:D)+SUMIF(H:H,L36,J:J) -> 991.76
A37: 61 | B37: =TEXT(A37,"0000") -> 0061 | C37: 112 | D37: 52.79 | G37: 61 | H37: =TEXT(G37,"0000") -> 0061 | I37: 130 | J37: 23.39 | L37: 4020 | M37: =SUMIF(B:B,L37,D:D)+SUMIF(H:H,L37,J:J) -> 1235.6
A38: 61 | B38: =TEXT(A38,"0000") -> 0061 | C38: 130 | D38: 23.24 | G38: 61 | H38: =TEXT(G38,"0000") -> 0061 | I38: 254 | J38: 2 | L38: 4030 | M38: =SUMIF(B:B,L38,D:D)+SUMIF(H:H,L38,J:J) -> 242.8
A39: 61 | B39: =TEXT(A39,"0000") -> 0061 | C39: 254 | D39: 2 | G39: 71 | H39: =TEXT(G39,"0000") -> 0071 | I39: 101 | J39: 85.16 | L39: 4031 | M39: =SUMIF(B:B,L39,D:D)+SUMIF(H:H,L39,J:J) -> 398.09
A40: 71 | B40: =TEXT(A40,"0000") -> 0071 | C40: 101 | D40: 89.11 | G40: 71 | H40: =TEXT(G40,"0000") -> 0071 | I40: 102 | J40: 70.73 | L40: 4041 | M40: =SUMIF(B:B,L40,D:D)+SUMIF(H:H,L40,J:J) -> 95.06
...

Sheet 0040
A1: 50 | B1: (Insert district number in cell A1, enter, then strike F9. Your district data then pulls from Calculation Detail Sheets) | R1: 50 | S1: (Insert district number in cell A1, enter, then strike F9. Your district data then pulls from Calculation Detail Sheets)
A2: Revenue Estimate Worksheet: Palm Beach Preparatory Middle School 0040 | I2: =RIGHT(A2,4) -> 0040 | R2: =Revenue_Estimate_Worksheet_for___________Charter_School -> Revenue Estimate Worksheet: Palm Beach Preparatory Middle School 0040
A3: Based on the 2025-26 Third Calculation Worksheet | R3: Based on the 2025-26 FEFP Second Calculation
A4: School District: | D4: Palm Beach | H4: =Consolidated!H4 -> 46143 | R4: School District: | T4: Palm Beach
A5: 1A. 2025-26 FEFP State and Local Funding | R5: 1A. 2025-26 FEFP State and Local Funding
A6: Base Student Allocation | E6: =Consolidated!$C$8 -> 5372.6 | G6: Comparable Wage Factor: | I6: =Consolidated!$H$8 -> 1.0355 | R6: Base Student Allocation | T6: =E6 -> 5372.6 | V6: Comparable Wage Factor: | X6: 1.0355
G7: Small District Factor | I7: =Consolidated!$H$9 -> 1 | O7: =IF(AND(C13>=C15, C13>=C17), "E", "-") -> - | V7: Small District Factor | X7: 1
J8: 2025-26 | O8: =IF(AND(C15>C17, C15>C13), "M", "-") -> M | Y8: 2025-26
C9: =Consolidated!C$11 -> Oct 2025 | D9: =Consolidated!D$11 -> Feb 2026 | G9: Program | I9: Weighted FTE | J9: Base Funding | O9: =IF(AND(C17>C15, C17>C13), "H", "-") -> - | V9: Program | X9: Weighted FTE | Y9: Base Funding
A10: Program | C10: FTE | D10: FTE | E10: Total FTE | G10: Cost Factor | I10: (2) x (3) | J10: (WFTE x BSA x CWF x SDF) | R10: Program | T10: Number of FTE | V10: Cost Factor | X10: (2) x (3) | Y10: (WFTE x BSA x CWF x SDF)
A11: (1) | E11: (2) | G11: (3) | I11: (4) | J11: (5) | R11: (1) | T11: (2) | V11: (3) | X11: (4) | Y11: (5)
A12: 101 Basic K-3 | C12: =SUMIFS(CountData!D:D,CountData!B:B,$I$2,CountData!C:C,$O12) -> 0 | D12: =SUMIFS(CountData!J:J,CountData!H:H,$I$2,CountData!I:I,$O12) -> 0 | E12: =IF($D$28=0,C12*2,C12+D12) -> 0 | G12: =Consolidated!$F14 -> 1.108 | H12: =Consolidated!$H$9 -> 1 | I12: =ROUND(E12*G12,4) -> 0 | J12: =ROUND(ROUND(ROUND(I12*$E$6,4)*($I$6),2)*(MAX($I$7,1)),2) -> 0 | O12: =LEFT(R12,3) -> 101 | R12: 101 Basic K-3 | T12: =IF($I$111=1,E12,0) -> 0 | V12: 1 | X12: =ROUND(T12*V12,4) -> 0 | Y12: =ROUND(ROUND(ROUND(X12*$E$6,4)*($I$6),2)*(MAX($I$7,1)),2) -> 0
A13: 111 Basic K-3 with ESE Services | C13: =SUMIFS(CountData!D:D,CountData!B:B,$I$2,CountData!C:C,$O13) -> 0 | D13: =SUMIFS(CountData!J:J,CountData!H:H,$I$2,CountData!I:I,$O13) -> 0 | E13: =IF($D$28=0,C13*2,C13+D13) -> 0 | G13: =Consolidated!$F15 -> 1.108 | H13: =Consolidated!$H$9 -> 1 | I13: =ROUND(E13*G13,4) -> 0 | J13: =ROUND(ROUND(ROUND(I13*$E$6,4)*($I$6),2)*(MAX($I$7,1)),2) -> 0 | O13: =LEFT(R13,3) -> 111 | R13: 111 Basic K-3 with ESE Services | T13: =IF($I$111=1,E13,0) -> 0 | V13: 1 | X13: =ROUND(T13*V13,4) -> 0 | Y13: =ROUND(ROUND(ROUND(X13*$E$6,4)*($I$6),2)*(MAX($I$7,1)),2) -> 0
A14: 102 Basic 4-8 | C14: =SUMIFS(CountData!D:D,CountData!B:B,$I$2,CountData!C:C,$O14) -> 6.7 | D14: =SUMIFS(CountData!J:J,CountData!H:H,$I$2,CountData!I:I,$O14) -> 7.5 | E14: =IF($D$28=0,C14*2,C14+D14) -> 14.2 | G14: =Consolidated!$F16 -> 1 | H14: =Consolidated!$H$9 -> 1 | I14: =ROUND(E14*G14,4) -> 14.2 | J14: =ROUND(ROUND(ROUND(I14*$E$6,4)*($I$6),2)*(MAX($I$7,1)),2) -> 78999.25 | O14: =LEFT(R14,3) -> 102 | R14: 102 Basic 4-8 | T14: =IF($I$111=1,E14,0) -> 0 | V14: 1 | X14: =ROUND(T14*V14,4) -> 0 | Y14: =ROUND(ROUND(ROUND(X14*$E$6,4)*($I$6),2)*(MAX($I$7,1)),2) -> 0
A15: 112 Basic 4-8 with ESE Services | C15: =SUMIFS(CountData!D:D,CountData!B:B,$I$2,CountData!C:C,$O15) -> 3.48 | D15: =SUMIFS(CountData!J:J,CountData!H:H,$I$2,CountData!I:I,$O15) -> 3.97 | E15: =IF($D$28=0,C15*2,C15+D15) -> 7.45 | G15: =Consolidated!$F17 -> 1 | H15: =Consolidated!$H$9 -> 1 | I15: =ROUND(E15*G15,4) -> 7.45 | J15: =ROUND(ROUND(ROUND(I15*$E$6,4)*($I$6),2)*(MAX($I$7,1)),2) -> 41446.79 | O15: =LEFT(R15,3) -> 112 | R15: 112 Basic 4-8 with ESE Services | T15: =IF($I$111=1,E15,0) -> 0 | V15: 1 | X15: =ROUND(T15*V15,4) -> 0 | Y15: =ROUND(ROUND(ROUND(X15*$E$6,4)*($I$6),2)*(MAX($I$7,1)),2) -> 0
A16: 103 Basic 9-12 | C16: =SUMIFS(CountData!D:D,CountData!B:B,$I$2,CountData!C:C,$O16) -> 0 | D16: =SUMIFS(CountData!J:J,CountData!H:H,$I$2,CountData!I:I,$O16) -> 0 | E16: =IF($D$28=0,C16*2,C16+D16) -> 0 | G16: =Consolidated!$F18 -> 0.972 | H16: =Consolidated!$H$9 -> 1 | I16: =ROUND(E16*G16,4) -> 0 | J16: =ROUND(ROUND(ROUND(I16*$E$6,4)*($I$6),2)*(MAX($I$7,1)),2) -> 0 | O16: =LEFT(R16,3) -> 103 | R16: 103 Basic 9-12 | T16: =IF($I$111=1,E16,0) -> 0 | V16: 1 | X16: =ROUND(T16*V16,4) -> 0 | Y16: =ROUND(ROUND(ROUND(X16*$E$6,4)*($I$6),2)*(MAX($I$7,1)),2) -> 0
A17: 113 Basic 9-12 with ESE Services | C17: =SUMIFS(CountData!D:D,CountData!B:B,$I$2,CountData!C:C,$O17) -> 0 | D17: =SUMIFS(CountData!J:J,CountData!H:H,$I$2,CountData!I:I,$O17) -> 0 | E17: =IF($D$28=0,C17*2,C17+D17) -> 0 | G17: =Consolidated!$F19 -> 0.972 | H17: =Consolidated!$H$9 -> 1 | I17: =ROUND(E17*G17,4) -> 0 | J17: =ROUND(ROUND(ROUND(I17*$E$6,4)*($I$6),2)*(MAX($I$7,1)),2) -> 0 | O17: =LEFT(R17,3) -> 113 | R17: 113 Basic 9-12 with ESE Services | T17: =IF($I$111=1,E17,0) -> 0 | V17: 1 | X17: =ROUND(T17*V17,4) -> 0 | Y17: =ROUND(ROUND(ROUND(X17*$E$6,4)*($I$6),2)*(MAX($I$7,1)),2) -> 0
A18: 254 ESE Level 4 (Grade Level PK-3) | C18: =SUMIFS(CountData!D:D,CountData!B:B,$I$2,CountData!C:C,$O18) -> 0 | D18: =SUMIFS(CountData!J:J,CountData!H:H,$I$2,CountData!I:I,$O18) -> 0 | E18: =IF($D$28=0,C18*2,C18+D18) -> 0 | G18: =Consolidated!$F20 -> 3.609 | H18: =Consolidated!$H$9 -> 1 | I18: =ROUND(E18*G18,4) -> 0 | J18: =ROUND(ROUND(ROUND(I18*$E$6,4)*($I$6),2)*(MAX($I$7,1)),2) -> 0 | O18: =IF(O$7="E",LEFT(R$18,3),"") | R18: 254 ESE Level 4 (Grade Level PK-3) | T18: =IF($I$111=1,E18,0) -> 0 | V18: 1 | X18: =ROUND(T18*V18,4) -> 0 | Y18: =ROUND(ROUND(ROUND(X18*$E$6,4)*($I$6),2)*(MAX($I$7,1)),2) -> 0
