Workbook
Name W_Change: '[1]Grade K-12 Students with IDs'!$N$4:$N$20000
Name W_Grade: '[1]Grade K-12 Students with IDs'!$F$4:$F$20000
Name W_IncomeEligibility: '[1]Grade K-12 Students with IDs'!$G$4:$G$20000
Name W_StudentID: '[1]Grade K-12 Students with IDs'!$B$4:$B$20000
Name WO_Change: '[1]Grade K-12 Students without IDs'!$N$5:$N$20000
Name WO_Grade: '[1]Grade K-12 Students without IDs'!$D$5:$D$20000
Name WO_IncomeEligibility: '[1]Grade K-12 Students without IDs'!$E$5:$E$20000
Name WO_StudentID: '[1]Grade K-12 Students without IDs'!$L$5:$L$20000
Name WO_StudLastName: '[1]Grade K-12 Students without IDs'!$A$5:$A$20000

Sheet Instructions
A2: Steps to Complete:
A4: 1. Save this file to your computer using this format: [your School Name_Last 4 digits of BEDS Code] - Student Demographic Information 26-27
A6: 2. Review the Eligibility tab.
A8: 3. Go to the Enrollment Summary tab and complete only the yellow highlighted fields:
A10: 4. Complete the Student Data tab (Leave the Student ID field blank if a student does not yet have a student ID number).
A12: * If you have (or are planning to submit) an affidavit to the Transportation Office, copy student information from the affidavit sheet directly into the Demographic sheet (columns B through S). All mandatory columns (those with red asterisk*) must be completed
A14: * If you are not submitting an affidavit to the Transportation Office, you may manually enter the information. Please ensure all mandatory columns (those with red asterisk*) are completed
A15: * Complete the income eligibility section and select the appropriate school zone for each student.
A16: Helpful Tip:
A17: In past years, some schools received an “N/A” error on the Enrollment Summary page. This usually happens when Student ID numbers are pasted in as text instead of numbers. To avoid this, please make sure you paste ID numbers as values and that they are formatted as numbers.
A19: 5. Only complete these fields if making updates after your initial submission:
A20: “Date (new) ID added” → if adding a Student ID later
... A35: ****Please do NOT change the sorting of the sheet after your initial submission. Add new students to the bottom of the table****

Sheet Eligibility
A2: Title I Eligibility
A4: Only residents of East Ramapo Central School District "Federal Free or Reduced-Price Meals" and "Free Milk Program" participating students entering Kindergarten through Grade 12 can be included in the Title I eligibility count for 2025-26. Children whose place of residency lies outside the geographic boundaries of the East Ramapo CSD are not eligible for Title I services from East Ramapo CSD. Eligible students must have a unique student identification number issued by the East Ramapo School District.
A10: Textbook Eligibility
A12: All ERCSD-resident students entering Kindergarten through Grade 12, regardless of family income, are eligible for textbook funds. Children whose place of residency lies outside the geographic boundaries of the East Ramapo CSD are not eligible for Textbooks from East Ramapo CSD. Only students that have an ERCSD-issued ID number will be counted towards the school's textbook allocation.

Sheet Enrollment Summary
D1: EAST RAMAPO CENTRAL SCHOOL DISTRICT
D2: OFFICE OF FUNDED PROGRAMS
D3: 2026-27
D4: Summary of District Resident Student Enrollment
D6: School Name:
D7: School BEDS Number:
D8: School Administrator Name:
D9: Contact Name:
D10: Contact Telephone Number:
D11: Email:
D12: Submission Date:
D14: Grades | E14: Enrollment count of Students with IDs | F14: Income Eligible Students with IDs | G14: Enrollment count of Students with pending ID numbers | H14: Income Eligible Students with pending ID numbers | I14: Total Enrollment | J14: Total Income Eligible
B15: K | D15: Grade K | E15: =COUNTIFS(studentdata[Student ID (Leave blank if student does not have ID)*],">0",studentdata[School Year 26-27 Grade*],'Enrollment Summary'!B15)-COUNTIFS(studentdata[Student ID (Leave blank if student does not have ID)*],">0",studentdata[School Year 26-27 Grade*],'Enrollment Summary'!B15,studentdata[Add/ Remove],"Remove") -> 0 | F15: =COUNTIFS(studentdata[Student ID (Leave blank if student does not have ID)*],">0",studentdata[School Year 26-27 Grade*],'Enrollment Summary'!B15,studentdata[Income Eligibility (Enter or Select from dropdown)*],"Y")-COUNTIFS(studentdata[Student ID (Leave blank if student does not have ID)*],">0",studentdata[School Year 26-27 Grade*],'Enrollment Summary'!B15,studentdata[Income Eligibility (Enter or Select from dropdown)*],"Y",studentdata[Add/ Remove],"Remove") -> 0 | G15: =COUNTIFS(studentdata[Student ID (Leave blank if student does not have ID)*],"",studentdata[Last Name*],"<>",studentdata[School Year 26-27 Grade*],'Enrollment Summary'!B15)-COUNTIFS(studentdata[Student ID (Leave blank if student does not have ID)*],"",studentdata[Last Name*],"<>",studentdata[School Year 26-27 Grade*],'Enrollment Summary'!B15,studentdata[Add/ Remove],"Remove") -> 0 | H15: =COUNTIFS(studentdata[Student ID (Leave blank if student does not have ID)*],"",studentdata[Last Name*],"<>",studentdata[School Year 26-27 Grade*],'Enrollment Summary'!B15,studentdata[Income Eligibility (Enter or Select from dropdown)*],"Y")-COUNTIFS(studentdata[Student ID (Leave blank if student does not have ID)*],"",studentdata[Last Name*],"<>",studentdata[School Year 26-27 Grade*],'Enrollment Summary'!B15,studentdata[Income Eligibility (Enter or Select from dropdown)*],"Y",studentdata[Add/ Remove],"Remove") -> 0 | I15: =Table4[[#This Row],[Enrollment count of Students with IDs]]+Table4[[#This Row],[Enrollment count of Students with pending ID numbers]] -> 0 | J15: =Table4[[#This Row],[Income Eligible Students with IDs]]+Table4[[#This Row],[Income Eligible Students with pending ID numbers]] -> 0
B16: 01 | D16: Grade 1 | E16: =COUNTIFS(studentdata[Student ID (Leave blank if student does not have ID)*],">0",studentdata[School Year 26-27 Grade*],'Enrollment Summary'!B16)-COUNTIFS(studentdata[Student ID (Leave blank if student does not have ID)*],">0",studentdata[School Year 26-27 Grade*],'Enrollment Summary'!B16,studentdata[Add/ Remove],"Remove") -> 0 | F16: =COUNTIFS(studentdata[Student ID (Leave blank if student does not have ID)*],">0",studentdata[School Year 26-27 Grade*],'Enrollment Summary'!B16,studentdata[Income Eligibility (Enter or Select from dropdown)*],"Y")-COUNTIFS(studentdata[Student ID (Leave blank if student does not have ID)*],">0",studentdata[School Year 26-27 Grade*],'Enrollment Summary'!B16,studentdata[Income Eligibility (Enter or Select from dropdown)*],"Y",studentdata[Add/ Remove],"Remove") -> 0 | G16: =COUNTIFS(studentdata[Student ID (Leave blank if student does not have ID)*],"",studentdata[Last Name*],"<>",studentdata[School Year 26-27 Grade*],'Enrollment Summary'!B16)-COUNTIFS(studentdata[Student ID (Leave blank if student does not have ID)*],"",studentdata[Last Name*],"<>",studentdata[School Year 26-27 Grade*],'Enrollment Summary'!B16,studentdata[Add/ Remove],"Remove") -> 0 | H16: =COUNTIFS(studentdata[Student ID (Leave blank if student does not have ID)*],"",studentdata[Last Name*],"<>",studentdata[School Year 26-27 Grade*],'Enrollment Summary'!B16,studentdata[Income Eligibility (Enter or Select from dropdown)*],"Y")-COUNTIFS(studentdata[Student ID (Leave blank if student does not have ID)*],"",studentdata[Last Name*],"<>",studentdata[School Year 26-27 Grade*],'Enrollment Summary'!B16,studentdata[Income Eligibility (Enter or Select from dropdown)*],"Y",studentdata[Add/ Remove],"Remove") -> 0 | I16: =Table4[[#This Row],[Enrollment count of Students with IDs]]+Table4[[#This Row],[Enrollment count of Students with pending ID numbers]] -> 0 | J16: =Table4[[#This Row],[Income Eligible Students with IDs]]+Table4[[#This Row],[Income Eligible Students with pending ID numbers]] -> 0
B17: 02 | D17: Grade 2 | E17: =COUNTIFS(studentdata[Student ID (Leave blank if student does not have ID)*],">0",studentdata[School Year 26-27 Grade*],'Enrollment Summary'!B17)-COUNTIFS(studentdata[Student ID (Leave blank if student does not have ID)*],">0",studentdata[School Year 26-27 Grade*],'Enrollment Summary'!B17,studentdata[Add/ Remove],"Remove") -> 0 | F17: =COUNTIFS(studentdata[Student ID (Leave blank if student does not have ID)*],">0",studentdata[School Year 26-27 Grade*],'Enrollment Summary'!B17,studentdata[Income Eligibility (Enter or Select from dropdown)*],"Y")-COUNTIFS(studentdata[Student ID (Leave blank if student does not have ID)*],">0",studentdata[School Year 26-27 Grade*],'Enrollment Summary'!B17,studentdata[Income Eligibility (Enter or Select from dropdown)*],"Y",studentdata[Add/ Remove],"Remove") -> 0 | G17: =COUNTIFS(studentdata[Student ID (Leave blank if student does not have ID)*],"",studentdata[Last Name*],"<>",studentdata[School Year 26-27 Grade*],'Enrollment Summary'!B17)-COUNTIFS(studentdata[Student ID (Leave blank if student does not have ID)*],"",studentdata[Last Name*],"<>",studentdata[School Year 26-27 Grade*],'Enrollment Summary'!B17,studentdata[Add/ Remove],"Remove") -> 0 | H17: =COUNTIFS(studentdata[Student ID (Leave blank if student does not have ID)*],"",studentdata[Last Name*],"<>",studentdata[School Year 26-27 Grade*],'Enrollment Summary'!B17,studentdata[Income Eligibility (Enter or Select from dropdown)*],"Y")-COUNTIFS(studentdata[Student ID (Leave blank if student does not have ID)*],"",studentdata[Last Name*],"<>",studentdata[School Year 26-27 Grade*],'Enrollment Summary'!B17,studentdata[Income Eligibility (Enter or Select from dropdown)*],"Y",studentdata[Add/ Remove],"Remove") -> 0 | I17: =Table4[[#This Row],[Enrollment count of Students with IDs]]+Table4[[#This Row],[Enrollment count of Students with pending ID numbers]] -> 0 | J17: =Table4[[#This Row],[Income Eligible Students with IDs]]+Table4[[#This Row],[Income Eligible Students with pending ID numbers]] -> 0
B18: 03 | D18: Grade 3 | E18: =COUNTIFS(studentdata[Student ID (Leave blank if student does not have ID)*],">0",studentdata[School Year 26-27 Grade*],'Enrollment Summary'!B18)-COUNTIFS(studentdata[Student ID (Leave blank if student does not have ID)*],">0",studentdata[School Year 26-27 Grade*],'Enrollment Summary'!B18,studentdata[Add/ Remove],"Remove") -> 0 | F18: =COUNTIFS(studentdata[Student ID (Leave blank if student does not have ID)*],">0",studentdata[School Year 26-27 Grade*],'Enrollment Summary'!B18,studentdata[Income Eligibility (Enter or Select from dropdown)*],"Y")-COUNTIFS(studentdata[Student ID (Leave blank if student does not have ID)*],">0",studentdata[School Year 26-27 Grade*],'Enrollment Summary'!B18,studentdata[Income Eligibility (Enter or Select from dropdown)*],"Y",studentdata[Add/ Remove],"Remove") -> 0 | G18: =COUNTIFS(studentdata[Student ID (Leave blank if student does not have ID)*],"",studentdata[Last Name*],"<>",studentdata[School Year 26-27 Grade*],'Enrollment Summary'!B18)-COUNTIFS(studentdata[Student ID (Leave blank if student does not have ID)*],"",studentdata[Last Name*],"<>",studentdata[School Year 26-27 Grade*],'Enrollment Summary'!B18,studentdata[Add/ Remove],"Remove") -> 0 | H18: =COUNTIFS(studentdata[Student ID (Leave blank if student does not have ID)*],"",studentdata[Last Name*],"<>",studentdata[School Year 26-27 Grade*],'Enrollment Summary'!B18,studentdata[Income Eligibility (Enter or Select from dropdown)*],"Y")-COUNTIFS(studentdata[Student ID (Leave blank if student does not have ID)*],"",studentdata[Last Name*],"<>",studentdata[School Year 26-27 Grade*],'Enrollment Summary'!B18,studentdata[Income Eligibility (Enter or Select from dropdown)*],"Y",studentdata[Add/ Remove],"Remove") -> 0 | I18: =Table4[[#This Row],[Enrollment count of Students with IDs]]+Table4[[#This Row],[Enrollment count of Students with pending ID numbers]] -> 0 | J18: =Table4[[#This Row],[Income Eligible Students with IDs]]+Table4[[#This Row],[Income Eligible Students with pending ID numbers]] -> 0
B19: 04 | D19: Grade 4 | E19: =COUNTIFS(studentdata[Student ID (Leave blank if student does not have ID)*],">0",studentdata[School Year 26-27 Grade*],'Enrollment Summary'!B19)-COUNTIFS(studentdata[Student ID (Leave blank if student does not have ID)*],">0",studentdata[School Year 26-27 Grade*],'Enrollment Summary'!B19,studentdata[Add/ Remove],"Remove") -> 0 | F19: =COUNTIFS(studentdata[Student ID (Leave blank if student does not have ID)*],">0",studentdata[School Year 26-27 Grade*],'Enrollment Summary'!B19,studentdata[Income Eligibility (Enter or Select from dropdown)*],"Y")-COUNTIFS(studentdata[Student ID (Leave blank if student does not have ID)*],">0",studentdata[School Year 26-27 Grade*],'Enrollment Summary'!B19,studentdata[Income Eligibility (Enter or Select from dropdown)*],"Y",studentdata[Add/ Remove],"Remove") -> 0 | G19: =COUNTIFS(studentdata[Student ID (Leave blank if student does not have ID)*],"",studentdata[Last Name*],"<>",studentdata[School Year 26-27 Grade*],'Enrollment Summary'!B19)-COUNTIFS(studentdata[Student ID (Leave blank if student does not have ID)*],"",studentdata[Last Name*],"<>",studentdata[School Year 26-27 Grade*],'Enrollment Summary'!B19,studentdata[Add/ Remove],"Remove") -> 0 | H19: =COUNTIFS(studentdata[Student ID (Leave blank if student does not have ID)*],"",studentdata[Last Name*],"<>",studentdata[School Year 26-27 Grade*],'Enrollment Summary'!B19,studentdata[Income Eligibility (Enter or Select from dropdown)*],"Y")-COUNTIFS(studentdata[Student ID (Leave blank if student does not have ID)*],"",studentdata[Last Name*],"<>",studentdata[School Year 26-27 Grade*],'Enrollment Summary'!B19,studentdata[Income Eligibility (Enter or Select from dropdown)*],"Y",studentdata[Add/ Remove],"Remove") -> 0 | I19: =Table4[[#This Row],[Enrollment count of Students with IDs]]+Table4[[#This Row],[Enrollment count of Students with pending ID numbers]] -> 0 | J19: =Table4[[#This Row],[Income Eligible Students with IDs]]+Table4[[#This Row],[Income Eligible Students with pending ID numbers]] -> 0
B20: 05 | D20: Grade 5 | E20: =COUNTIFS(studentdata[Student ID (Leave blank if student does not have ID)*],">0",studentdata[School Year 26-27 Grade*],'Enrollment Summary'!B20)-COUNTIFS(studentdata[Student ID (Leave blank if student does not have ID)*],">0",studentdata[School Year 26-27 Grade*],'Enrollment Summary'!B20,studentdata[Add/ Remove],"Remove") -> 0 | F20: =COUNTIFS(studentdata[Student ID (Leave blank if student does not have ID)*],">0",studentdata[School Year 26-27 Grade*],'Enrollment Summary'!B20,studentdata[Income Eligibility (Enter or Select from dropdown)*],"Y")-COUNTIFS(studentdata[Student ID (Leave blank if student does not have ID)*],">0",studentdata[School Year 26-27 Grade*],'Enrollment Summary'!B20,studentdata[Income Eligibility (Enter or Select from dropdown)*],"Y",studentdata[Add/ Remove],"Remove") -> 0 | G20: =COUNTIFS(studentdata[Student ID (Leave blank if student does not have ID)*],"",studentdata[Last Name*],"<>",studentdata[School Year 26-27 Grade*],'Enrollment Summary'!B20)-COUNTIFS(studentdata[Student ID (Leave blank if student does not have ID)*],"",studentdata[Last Name*],"<>",studentdata[School Year 26-27 Grade*],'Enrollment Summary'!B20,studentdata[Add/ Remove],"Remove") -> 0 | H20: =COUNTIFS(studentdata[Student ID (Leave blank if student does not have ID)*],"",studentdata[Last Name*],"<>",studentdata[School Year 26-27 Grade*],'Enrollment Summary'!B20,studentdata[Income Eligibility (Enter or Select from dropdown)*],"Y")-COUNTIFS(studentdata[Student ID (Leave blank if student does not have ID)*],"",studentdata[Last Name*],"<>",studentdata[School Year 26-27 Grade*],'Enrollment Summary'!B20,studentdata[Income Eligibility (Enter or Select from dropdown)*],"Y",studentdata[Add/ Remove],"Remove") -> 0 | I20: =Table4[[#This Row],[Enrollment count of Students with IDs]]+Table4[[#This Row],[Enrollment count of Students with pending ID numbers]] -> 0 | J20: =Table4[[#This Row],[Income Eligible Students with IDs]]+Table4[[#This Row],[Income Eligible Students with pending ID numbers]] -> 0
B21: 06 | D21: Grade 6 | E21: =COUNTIFS(studentdata[Student ID (Leave blank if student does not have ID)*],">0",studentdata[School Year 26-27 Grade*],'Enrollment Summary'!B21)-COUNTIFS(studentdata[Student ID (Leave blank if student does not have ID)*],">0",studentdata[School Year 26-27 Grade*],'Enrollment Summary'!B21,studentdata[Add/ Remove],"Remove") -> 0 | F21: =COUNTIFS(studentdata[Student ID (Leave blank if student does not have ID)*],">0",studentdata[School Year 26-27 Grade*],'Enrollment Summary'!B21,studentdata[Income Eligibility (Enter or Select from dropdown)*],"Y")-COUNTIFS(studentdata[Student ID (Leave blank if student does not have ID)*],">0",studentdata[School Year 26-27 Grade*],'Enrollment Summary'!B21,studentdata[Income Eligibility (Enter or Select from dropdown)*],"Y",studentdata[Add/ Remove],"Remove") -> 0 | G21: =COUNTIFS(studentdata[Student ID (Leave blank if student does not have ID)*],"",studentdata[Last Name*],"<>",studentdata[School Year 26-27 Grade*],'Enrollment Summary'!B21)-COUNTIFS(studentdata[Student ID (Leave blank if student does not have ID)*],"",studentdata[Last Name*],"<>",studentdata[School Year 26-27 Grade*],'Enrollment Summary'!B21,studentdata[Add/ Remove],"Remove") -> 0 | H21: =COUNTIFS(studentdata[Student ID (Leave blank if student does not have ID)*],"",studentdata[Last Name*],"<>",studentdata[School Year 26-27 Grade*],'Enrollment Summary'!B21,studentdata[Income Eligibility (Enter or Select from dropdown)*],"Y")-COUNTIFS(studentdata[Student ID (Leave blank if student does not have ID)*],"",studentdata[Last Name*],"<>",studentdata[School Year 26-27 Grade*],'Enrollment Summary'!B21,studentdata[Income Eligibility (Enter or Select from dropdown)*],"Y",studentdata[Add/ Remove],"Remove") -> 0 | I21: =Table4[[#This Row],[Enrollment count of Students with IDs]]+Table4[[#This Row],[Enrollment count of Students with pending ID numbers]] -> 0 | J21: =Table4[[#This Row],[Income Eligible Students with IDs]]+Table4[[#This Row],[Income Eligible Students with pending ID numbers]] -> 0
B22: 07 | D22: Grade 7 | E22: =COUNTIFS(studentdata[Student ID (Leave blank if student does not have ID)*],">0",studentdata[School Year 26-27 Grade*],'Enrollment Summary'!B22)-COUNTIFS(studentdata[Student ID (Leave blank if student does not have ID)*],">0",studentdata[School Year 26-27 Grade*],'Enrollment Summary'!B22,studentdata[Add/ Remove],"Remove") -> 0 | F22: =COUNTIFS(studentdata[Student ID (Leave blank if student does not have ID)*],">0",studentdata[School Year 26-27 Grade*],'Enrollment Summary'!B22,studentdata[Income Eligibility (Enter or Select from dropdown)*],"Y")-COUNTIFS(studentdata[Student ID (Leave blank if student does not have ID)*],">0",studentdata[School Year 26-27 Grade*],'Enrollment Summary'!B22,studentdata[Income Eligibility (Enter or Select from dropdown)*],"Y",studentdata[Add/ Remove],"Remove") -> 0 | G22: =COUNTIFS(studentdata[Student ID (Leave blank if student does not have ID)*],"",studentdata[Last Name*],"<>",studentdata[School Year 26-27 Grade*],'Enrollment Summary'!B22)-COUNTIFS(studentdata[Student ID (Leave blank if student does not have ID)*],"",studentdata[Last Name*],"<>",studentdata[School Year 26-27 Grade*],'Enrollment Summary'!B22,studentdata[Add/ Remove],"Remove") -> 0 | H22: =COUNTIFS(studentdata[Student ID (Leave blank if student does not have ID)*],"",studentdata[Last Name*],"<>",studentdata[School Year 26-27 Grade*],'Enrollment Summary'!B22,studentdata[Income Eligibility (Enter or Select from dropdown)*],"Y")-COUNTIFS(studentdata[Student ID (Leave blank if student does not have ID)*],"",studentdata[Last Name*],"<>",studentdata[School Year 26-27 Grade*],'Enrollment Summary'!B22,studentdata[Income Eligibility (Enter or Select from dropdown)*],"Y",studentdata[Add/ Remove],"Remove") -> 0 | I22: =Table4[[#This Row],[Enrollment count of Students with IDs]]+Table4[[#This Row],[Enrollment count of Students with pending ID numbers]] -> 0 | J22: =Table4[[#This Row],[Income Eligible Students with IDs]]+Table4[[#This Row],[Income Eligible Students with pending ID numbers]] -> 0
B23: 08 | D23: Grade 8 | E23: =COUNTIFS(studentdata[Student ID (Leave blank if student does not have ID)*],">0",studentdata[School Year 26-27 Grade*],'Enrollment Summary'!B23)-COUNTIFS(studentdata[Student ID (Leave blank if student does not have ID)*],">0",studentdata[School Year 26-27 Grade*],'Enrollment Summary'!B23,studentdata[Add/ Remove],"Remove") -> 0 | F23: =COUNTIFS(studentdata[Student ID (Leave blank if student does not have ID)*],">0",studentdata[School Year 26-27 Grade*],'Enrollment Summary'!B23,studentdata[Income Eligibility (Enter or Select from dropdown)*],"Y")-COUNTIFS(studentdata[Student ID (Leave blank if student does not have ID)*],">0",studentdata[School Year 26-27 Grade*],'Enrollment Summary'!B23,studentdata[Income Eligibility (Enter or Select from dropdown)*],"Y",studentdata[Add/ Remove],"Remove") -> 0 | G23: =COUNTIFS(studentdata[Student ID (Leave blank if student does not have ID)*],"",studentdata[Last Name*],"<>",studentdata[School Year 26-27 Grade*],'Enrollment Summary'!B23)-COUNTIFS(studentdata[Student ID (Leave blank if student does not have ID)*],"",studentdata[Last Name*],"<>",studentdata[School Year 26-27 Grade*],'Enrollment Summary'!B23,studentdata[Add/ Remove],"Remove") -> 0 | H23: =COUNTIFS(studentdata[Student ID (Leave blank if student does not have ID)*],"",studentdata[Last Name*],"<>",studentdata[School Year 26-27 Grade*],'Enrollment Summary'!B23,studentdata[Income Eligibility (Enter or Select from dropdown)*],"Y")-COUNTIFS(studentdata[Student ID (Leave blank if student does not have ID)*],"",studentdata[Last Name*],"<>",studentdata[School Year 26-27 Grade*],'Enrollment Summary'!B23,studentdata[Income Eligibility (Enter or Select from dropdown)*],"Y",studentdata[Add/ Remove],"Remove") -> 0 | I23: =Table4[[#This Row],[Enrollment count of Students with IDs]]+Table4[[#This Row],[Enrollment count of Students with pending ID numbers]] -> 0 | J23: =Table4[[#This Row],[Income Eligible Students with IDs]]+Table4[[#This Row],[Income Eligible Students with pending ID numbers]] -> 0
B24: 09 | D24: Grade 9 | E24: =COUNTIFS(studentdata[Student ID (Leave blank if student does not have ID)*],">0",studentdata[School Year 26-27 Grade*],'Enrollment Summary'!B24)-COUNTIFS(studentdata[Student ID (Leave blank if student does not have ID)*],">0",studentdata[School Year 26-27 Grade*],'Enrollment Summary'!B24,studentdata[Add/ Remove],"Remove") -> 0 | F24: =COUNTIFS(studentdata[Student ID (Leave blank if student does not have ID)*],">0",studentdata[School Year 26-27 Grade*],'Enrollment Summary'!B24,studentdata[Income Eligibility (Enter or Select from dropdown)*],"Y")-COUNTIFS(studentdata[Student ID (Leave blank if student does not have ID)*],">0",studentdata[School Year 26-27 Grade*],'Enrollment Summary'!B24,studentdata[Income Eligibility (Enter or Select from dropdown)*],"Y",studentdata[Add/ Remove],"Remove") -> 0 | G24: =COUNTIFS(studentdata[Student ID (Leave blank if student does not have ID)*],"",studentdata[Last Name*],"<>",studentdata[School Year 26-27 Grade*],'Enrollment Summary'!B24)-COUNTIFS(studentdata[Student ID (Leave blank if student does not have ID)*],"",studentdata[Last Name*],"<>",studentdata[School Year 26-27 Grade*],'Enrollment Summary'!B24,studentdata[Add/ Remove],"Remove") -> 0 | H24: =COUNTIFS(studentdata[Student ID (Leave blank if student does not have ID)*],"",studentdata[Last Name*],"<>",studentdata[School Year 26-27 Grade*],'Enrollment Summary'!B24,studentdata[Income Eligibility (Enter or Select from dropdown)*],"Y")-COUNTIFS(studentdata[Student ID (Leave blank if student does not have ID)*],"",studentdata[Last Name*],"<>",studentdata[School Year 26-27 Grade*],'Enrollment Summary'!B24,studentdata[Income Eligibility (Enter or Select from dropdown)*],"Y",studentdata[Add/ Remove],"Remove") -> 0 | I24: =Table4[[#This Row],[Enrollment count of Students with IDs]]+Table4[[#This Row],[Enrollment count of Students with pending ID numbers]] -> 0 | J24: =Table4[[#This Row],[Income Eligible Students with IDs]]+Table4[[#This Row],[Income Eligible Students with pending ID numbers]] -> 0
B25: 10 | D25: Grade 10 | E25: =COUNTIFS(studentdata[Student ID (Leave blank if student does not have ID)*],">0",studentdata[School Year 26-27 Grade*],'Enrollment Summary'!B25)-COUNTIFS(studentdata[Student ID (Leave blank if student does not have ID)*],">0",studentdata[School Year 26-27 Grade*],'Enrollment Summary'!B25,studentdata[Add/ Remove],"Remove") -> 0 | F25: =COUNTIFS(studentdata[Student ID (Leave blank if student does not have ID)*],">0",studentdata[School Year 26-27 Grade*],'Enrollment Summary'!B25,studentdata[Income Eligibility (Enter or Select from dropdown)*],"Y")-COUNTIFS(studentdata[Student ID (Leave blank if student does not have ID)*],">0",studentdata[School Year 26-27 Grade*],'Enrollment Summary'!B25,studentdata[Income Eligibility (Enter or Select from dropdown)*],"Y",studentdata[Add/ Remove],"Remove") -> 0 | G25: =COUNTIFS(studentdata[Student ID (Leave blank if student does not have ID)*],"",studentdata[Last Name*],"<>",studentdata[School Year 26-27 Grade*],'Enrollment Summary'!B25)-COUNTIFS(studentdata[Student ID (Leave blank if student does not have ID)*],"",studentdata[Last Name*],"<>",studentdata[School Year 26-27 Grade*],'Enrollment Summary'!B25,studentdata[Add/ Remove],"Remove") -> 0 | H25: =COUNTIFS(studentdata[Student ID (Leave blank if student does not have ID)*],"",studentdata[Last Name*],"<>",studentdata[School Year 26-27 Grade*],'Enrollment Summary'!B25,studentdata[Income Eligibility (Enter or Select from dropdown)*],"Y")-COUNTIFS(studentdata[Student ID (Leave blank if student does not have ID)*],"",studentdata[Last Name*],"<>",studentdata[School Year 26-27 Grade*],'Enrollment Summary'!B25,studentdata[Income Eligibility (Enter or Select from dropdown)*],"Y",studentdata[Add/ Remove],"Remove") -> 0 | I25: =Table4[[#This Row],[Enrollment count of Students with IDs]]+Table4[[#This Row],[Enrollment count of Students with pending ID numbers]] -> 0 | J25: =Table4[[#This Row],[Income Eligible Students with IDs]]+Table4[[#This Row],[Income Eligible Students with pending ID numbers]] -> 0
B26: 11 | D26: Grade 11 | E26: =COUNTIFS(studentdata[Student ID (Leave blank if student does not have ID)*],">0",studentdata[School Year 26-27 Grade*],'Enrollment Summary'!B26)-COUNTIFS(studentdata[Student ID (Leave blank if student does not have ID)*],">0",studentdata[School Year 26-27 Grade*],'Enrollment Summary'!B26,studentdata[Add/ Remove],"Remove") -> 0 | F26: =COUNTIFS(studentdata[Student ID (Leave blank if student does not have ID)*],">0",studentdata[School Year 26-27 Grade*],'Enrollment Summary'!B26,studentdata[Income Eligibility (Enter or Select from dropdown)*],"Y")-COUNTIFS(studentdata[Student ID (Leave blank if student does not have ID)*],">0",studentdata[School Year 26-27 Grade*],'Enrollment Summary'!B26,studentdata[Income Eligibility (Enter or Select from dropdown)*],"Y",studentdata[Add/ Remove],"Remove") -> 0 | G26: =COUNTIFS(studentdata[Student ID (Leave blank if student does not have ID)*],"",studentdata[Last Name*],"<>",studentdata[School Year 26-27 Grade*],'Enrollment Summary'!B26)-COUNTIFS(studentdata[Student ID (Leave blank if student does not have ID)*],"",studentdata[Last Name*],"<>",studentdata[School Year 26-27 Grade*],'Enrollment Summary'!B26,studentdata[Add/ Remove],"Remove") -> 0 | H26: =COUNTIFS(studentdata[Student ID (Leave blank if student does not have ID)*],"",studentdata[Last Name*],"<>",studentdata[School Year 26-27 Grade*],'Enrollment Summary'!B26,studentdata[Income Eligibility (Enter or Select from dropdown)*],"Y")-COUNTIFS(studentdata[Student ID (Leave blank if student does not have ID)*],"",studentdata[Last Name*],"<>",studentdata[School Year 26-27 Grade*],'Enrollment Summary'!B26,studentdata[Income Eligibility (Enter or Select from dropdown)*],"Y",studentdata[Add/ Remove],"Remove") -> 0 | I26: =Table4[[#This Row],[Enrollment count of Students with IDs]]+Table4[[#This Row],[Enrollment count of Students with pending ID numbers]] -> 0 | J26: =Table4[[#This Row],[Income Eligible Students with IDs]]+Table4[[#This Row],[Income Eligible Students with pending ID numbers]] -> 0
B27: 12 | D27: Grade 12 | E27: =COUNTIFS(studentdata[Student ID (Leave blank if student does not have ID)*],">0",studentdata[School Year 26-27 Grade*],'Enrollment Summary'!B27)-COUNTIFS(studentdata[Student ID (Leave blank if student does not have ID)*],">0",studentdata[School Year 26-27 Grade*],'Enrollment Summary'!B27,studentdata[Add/ Remove],"Remove") -> 0 | F27: =COUNTIFS(studentdata[Student ID (Leave blank if student does not have ID)*],">0",studentdata[School Year 26-27 Grade*],'Enrollment Summary'!B27,studentdata[Income Eligibility (Enter or Select from dropdown)*],"Y")-COUNTIFS(studentdata[Student ID (Leave blank if student does not have ID)*],">0",studentdata[School Year 26-27 Grade*],'Enrollment Summary'!B27,studentdata[Income Eligibility (Enter or Select from dropdown)*],"Y",studentdata[Add/ Remove],"Remove") -> 0 | G27: =COUNTIFS(studentdata[Student ID (Leave blank if student does not have ID)*],"",studentdata[Last Name*],"<>",studentdata[School Year 26-27 Grade*],'Enrollment Summary'!B27)-COUNTIFS(studentdata[Student ID (Leave blank if student does not have ID)*],"",studentdata[Last Name*],"<>",studentdata[School Year 26-27 Grade*],'Enrollment Summary'!B27,studentdata[Add/ Remove],"Remove") -> 0 | H27: =COUNTIFS(studentdata[Student ID (Leave blank if student does not have ID)*],"",studentdata[Last Name*],"<>",studentdata[School Year 26-27 Grade*],'Enrollment Summary'!B27,studentdata[Income Eligibility (Enter or Select from dropdown)*],"Y")-COUNTIFS(studentdata[Student ID (Leave blank if student does not have ID)*],"",studentdata[Last Name*],"<>",studentdata[School Year 26-27 Grade*],'Enrollment Summary'!B27,studentdata[Income Eligibility (Enter or Select from dropdown)*],"Y",studentdata[Add/ Remove],"Remove") -> 0 | I27: =Table4[[#This Row],[Enrollment count of Students with IDs]]+Table4[[#This Row],[Enrollment count of Students with pending ID numbers]] -> 0 | J27: =Table4[[#This Row],[Income Eligible Students with IDs]]+Table4[[#This Row],[Income Eligible Students with pending ID numbers]] -> 0
B28: UG/ UGS | D28: Ungraded | E28: =COUNTIFS(studentdata[Student ID (Leave blank if student does not have ID)*],">0",studentdata[School Year 26-27 Grade*],"UG")-COUNTIFS(studentdata[Student ID (Leave blank if student does not have ID)*],">0",studentdata[School Year 26-27 Grade*],"UG",studentdata[Add/ Remove],"Remove")+COUNTIFS(studentdata[Student ID (Leave blank if student does not have ID)*],">0",studentdata[School Year 26-27 Grade*],"UGS")-COUNTIFS(studentdata[Student ID (Leave blank if student does not have ID)*],">0",studentdata[School Year 26-27 Grade*],"UGS",studentdata[Add/ Remove],"Remove") -> 0 | F28: =COUNTIFS(studentdata[Student ID (Leave blank if student does not have ID)*],">0",studentdata[School Year 26-27 Grade*],"UG",studentdata[Income Eligibility (Enter or Select from dropdown)*],"Y")-COUNTIFS(studentdata[Student ID (Leave blank if student does not have ID)*],">0",studentdata[School Year 26-27 Grade*],"UG",studentdata[Income Eligibility (Enter or Select from dropdown)*],"Y",studentdata[Add/ Remove],"Remove")+COUNTIFS(studentdata[Student ID (Leave blank if student does not have ID)*],">0",studentdata[School Year 26-27 Grade*],"UGS",studentdata[Income Eligibility (Enter or Select from dropdown)*],"Y")-COUNTIFS(studentdata[Student ID (Leave blank if student does not have ID)*],">0",studentdata[School Year 26-27 Grade*],"UGS",studentdata[Income Eligibility (Enter or Select from dropdown)*],"Y",studentdata[Add/ Remove],"Remove") -> 0 | G28: =COUNTIFS(studentdata[Student ID (Leave blank if student does not have ID)*],"",studentdata[Last Name*],"<>",studentdata[School Year 26-27 Grade*],"UG")-COUNTIFS(studentdata[Student ID (Leave blank if student does not have ID)*],"",studentdata[Last Name*],"<>",studentdata[School Year 26-27 Grade*],"UG",studentdata[Add/ Remove],"Remove")+COUNTIFS(studentdata[Student ID (Leave blank if student does not have ID)*],"",studentdata[Last Name*],"<>",studentdata[School Year 26-27 Grade*],"UGS")-COUNTIFS(studentdata[Student ID (Leave blank if student does not have ID)*],"",studentdata[Last Name*],"<>",studentdata[School Year 26-27 Grade*],"UGS",studentdata[Add/ Remove],"Remove") -> 0 | H28: =COUNTIFS(studentdata[Student ID (Leave blank if student does not have ID)*],"",studentdata[Last Name*],"<>",studentdata[School Year 26-27 Grade*],"UG",studentdata[Income Eligibility (Enter or Select from dropdown)*],"Y")-COUNTIFS(studentdata[Student ID (Leave blank if student does not have ID)*],"",studentdata[Last Name*],"<>",studentdata[School Year 26-27 Grade*],"UG",studentdata[Income Eligibility (Enter or Select from dropdown)*],"Y",studentdata[Add/ Remove],"Remove")+COUNTIFS(studentdata[Student ID (Leave blank if student does not have ID)*],"",studentdata[Last Name*],"<>",studentdata[School Year 26-27 Grade*],"UGS",studentdata[Income Eligibility (Enter or Select from dropdown)*],"Y")-COUNTIFS(studentdata[Student ID (Leave blank if student does not have ID)*],"",studentdata[Last Name*],"<>",studentdata[School Year 26-27 Grade*],"UGS",studentdata[Income Eligibility (Enter or Select from dropdown)*],"Y",studentdata[Add/ Remove],"Remove") -> 0 | I28: =Table4[[#This Row],[Enrollment count of Students with IDs]]+Table4[[#This Row],[Enrollment count of Students with pending ID numbers]] -> 0 | J28: =Table4[[#This Row],[Income Eligible Students with IDs]]+Table4[[#This Row],[Income Eligible Students with pending ID numbers]] -> 0
D29: Total | E29: =SUBTOTAL(109,Table4[Enrollment count of Students with IDs]) -> 0 | F29: =SUBTOTAL(109,Table4[Income Eligible Students with IDs]) -> 0 | G29: =SUBTOTAL(109,Table4[Enrollment count of Students with pending ID numbers]) -> 0 | H29: =SUBTOTAL(109,Table4[Income Eligible Students with pending ID numbers]) -> 0 | I29: =SUBTOTAL(109,Table4[Total Enrollment]) -> 0 | J29: =SUBTOTAL(109,Table4[Total Income Eligible]) -> 0

Sheet Student Data
B1: Student ID (Leave blank if student does not have ID)* | C1: Last Name* | D1: First Name* | E1: Middle Name | F1: School Year 26-27 Grade* | G1: School | H1: Home Street Address* | I1: Home Apt. Number* | J1: Home City* | K1: Home State* | L1: Home Zip* | M1: Gender | N1: Birthdate* | O1: Home Phone | P1: Guardian 1 Name | Q1: Guardian 1 Relationship | R1: Guardian 1 Email | S1: Guardian 1 Phone Number | T1: Income Eligibility (Enter or Select from dropdown)* | U1: School Zone* | V1: Date (new) ID is added (For IDs added after initial Submission) | W1: Add/ Remove | X1: Add/ Remove Date
A2: !Please! Paste data starting here -->
