Workbook

Sheet Contact Info and Approval
E2: Building/Program:
E6: Contact Person:
E10: Email Address:
E14: Phone Number:
E18: Administrator's Signature:

Sheet Paper OrderForm 2026-27
A1: Reference Only | B1: 1000 PAPERS - COPIER, 8 1/2 X 11, 8 1/2 x 14 | I1: Instructional | K1: Office | M1: Custodial | O1: Medical | Q1: Grand Totals
B3: Paper Premium, Copier, 8.5 Inch X 11 Inch, 20/50 POUND
B4: Pkgd In Moisture Proof Wrapper, 500 Sheets/Ream, 10 Reams/Case, 5,000 Sheets/Case
A5: Item Number | B5: Vendor Name | C5: Color | D5: Vendor's Item Number | E5: Brand | F5: Description | G5: Unit of Order | H5: Unit Price | I5: Quantity Ordered Instruction | J5: Total Cost Instruction | K5: Quantity Ordered Office | L5: Total Cost Office | M5: Quantity Ordered Custodial | N5: Total Cost Custodial | O5: Quantity Ordered Medical | P5: Total Cost Medical | Q5: Grand Total Qty Ordered | R5: Grand Total Cost
A6: 1000 | B6: Paper 101 | C6: White | D6: 151124 | E6: PREMIUM | F6: White 94 Bright | G6: Case of 10 Reams | H6: 34.09 | J6: =H6*I6 -> 0 | L6: =H6*K6 -> 0 | N6: =H6*M6 -> 0 | P6: =H6*O6 -> 0 | Q6: =I6+K6+M6+O6 -> 0 | R6: =J6+L6+N6+P6 -> 0
A7: 1003 | B7: Paper 101 | D7: 124624 | E7: E-Copy | F7: Blue | G7: Case of 10 Reams | H7: 51.77 | J7: =H7*I7 -> 0 | L7: =H7*K7 -> 0 | N7: =H7*M7 -> 0 | P7: =H7*O7 -> 0 | Q7: =I7+K7+M7+O7 -> 0 | R7: =J7+L7+N7+P7 -> 0
A8: 1004 | B8: Paper 101 | D8: 131524 | E8: E-Copy | F8: Goldenrod | G8: Case of 10 Reams | H8: 51.77 | J8: =H8*I8 -> 0 | L8: =H8*K8 -> 0 | N8: =H8*M8 -> 0 | P8: =H8*O8 -> 0 | Q8: =I8+K8+M8+O8 -> 0 | R8: =J8+L8+N8+P8 -> 0
A9: 1005 | B9: Paper 101 | D9: 109424 | E9: E-Copy | F9: Green | G9: Case of 10 Reams | H9: 51.77 | J9: =H9*I9 -> 0 | L9: =H9*K9 -> 0 | N9: =H9*M9 -> 0 | P9: =H9*O9 -> 0 | Q9: =I9+K9+M9+O9 -> 0 | R9: =J9+L9+N9+P9 -> 0
A10: 1006 | B10: Paper 101 | D10: 1942424 | E10: E-Copy | F10: Pink | G10: Case of 10 Reams | H10: 51.77 | J10: =H10*I10 -> 0 | L10: =H10*K10 -> 0 | N10: =H10*M10 -> 0 | P10: =H10*O10 -> 0 | Q10: =I10+K10+M10+O10 -> 0 | R10: =J10+L10+N10+P10 -> 0
A11: 1007 | B11: Paper 101 | D11: 982424OP | E11: E-Copy | F11: Canary | G11: Case of 10 Reams | H11: 51.77 | J11: =H11*I11 -> 0 | L11: =H11*K11 -> 0 | N11: =H11*M11 -> 0 | P11: =H11*O11 -> 0 | Q11: =I11+K11+M11+O11 -> 0 | R11: =J11+L11+N11+P11 -> 0
A12: 1009 | B12: Staples Contract & Commercial | D12: 24617762 | E12: Staples 073050CT | F12: Gray | G12: Case of 10 Reams | H12: 53.81 | J12: =H12*I12 -> 0 | L12: =H12*K12 -> 0 | N12: =H12*M12 -> 0 | P12: =H12*O12 -> 0 | Q12: =I12+K12+M12+O12 -> 0 | R12: =J12+L12+N12+P12 -> 0
A13: 1010 | B13: Staples Contract & Commercial | D13: 24617759 | E13: Staples 073030CT | F13: Salmon | G13: Case of 10 Reams | H13: 53.81 | J13: =H13*I13 -> 0 | L13: =H13*K13 -> 0 | N13: =H13*M13 -> 0 | P13: =H13*O13 -> 0 | Q13: =I13+K13+M13+O13 -> 0 | R13: =J13+L13+N13+P13 -> 0
A14: 1011 | B14: Paper 101 | D14: 109224 | E14: E-Copy | F14: Ivory | G14: Case of 10 Reams | H14: 57.43 | J14: =H14*I14 -> 0 | L14: =H14*K14 -> 0 | N14: =H14*M14 -> 0 | P14: =H14*O14 -> 0 | Q14: =I14+K14+M14+O14 -> 0 | R14: =J14+L14+N14+P14 -> 0
A15: 1013 | B15: Staples Contract & Commercial | D15: 24633699 | E15: Exact Brights WAU26721 | F15: Bright Orange | G15: Case of 10 Reams | H15: 80.2 | J15: =H15*I15 -> 0 | L15: =H15*K15 -> 0 | N15: =H15*M15 -> 0 | P15: =H15*O15 -> 0 | Q15: =I15+K15+M15+O15 -> 0 | R15: =J15+L15+N15+P15 -> 0
A16: 1014 | B16: Paper 101 | D16: 106424 | E16: E-Copy | F16: Cherry | G16: Case of 10 Reams | H16: 57.43 | J16: =H16*I16 -> 0 | L16: =H16*K16 -> 0 | N16: =H16*M16 -> 0 | P16: =H16*O16 -> 0 | Q16: =I16+K16+M16+O16 -> 0 | R16: =J16+L16+N16+P16 -> 0
B17: Continued Paper Premium, Copier, 8.5 Inch X 11 Inch, 20/50 POUND
A18: Item Number | B18: Vendor Name | C18: Color | D18: Vendor's Item Number | E18: Brand | F18: Description | G18: Unit of Order | H18: Unit Price | I18: Quantity Ordered Instruction | J18: Total Cost Instruction | K18: Quantity Ordered Office | L18: Total Cost Office | M18: Quantity Ordered Custodial | N18: Total Cost Custodial | O18: Quantity Ordered Medical | P18: Total Cost Medical | Q18: Grand Total Qty Ordered | R18: Grand Total Cost
A19: 1015 | B19: Paper 101 | D19: 108924 | E19: E-Copy | F19: Orchid | G19: Case of 10 Reams | H19: 57.43 | J19: =H19*I19 -> 0 | L19: =H19*K19 -> 0 | N19: =H19*M19 -> 0 | P19: =H19*O19 -> 0 | Q19: =I19+K19+M19+O19 -> 0 | R19: =J19+L19+N19+P19 -> 0
B21: Paper Premium, Copier, 8.5 Inch X 14 Inch, 20/50 POUND
B22: Pkgd In Moisture Proof Wrapper, 500 Sheets/Ream, 10 Reams/Case, 5,000 Sheets/Case
A23: Item Number | B23: Vendor Name | C23: Color | D23: Vendor's Item Number | E23: Brand | F23: Description | G23: Unit of Order | H23: Unit Price | I23: Quantity Ordered Instruction | J23: Total Cost Instruction | K23: Quantity Ordered Office | L23: Total Cost Office | M23: Quantity Ordered Custodial | N23: Total Cost Custodial | O23: Quantity Ordered Medical | P23: Total Cost Medical | Q23: Grand Total Qty Ordered | R23: Grand Total Cost
A24: 1018 | B24: Paper 101 | C24: White | D24: 114124 | E24: E-Copy | F24: White, 92+ | G24: Case of 10 Reams | H24: 52.5 | J24: =H24*I24 -> 0 | L24: =H24*K24 -> 0 | N24: =H24*M24 -> 0 | P24: =H24*O24 -> 0 | Q24: =I24+K24+M24+O24 -> 0 | R24: =J24+L24+N24+P24 -> 0
B26: Paper Premium, Copier, Brilliant Color, 8.5 Inch X 11 Inch, 20/50 POUND
B27: Pkgd In Moisture Proof Wrapper, 500 Sheets/Ream, 10 Reams/Case, 5,000 Sheets/Case
A28: Item Number | B28: Vendor Name | C28: Color | D28: Vendor's Item Number | E28: Brand | F28: Description | G28: Unit of Order | H28: Unit Price | I28: Quantity Ordered Instruction | J28: Total Cost Instruction | K28: Quantity Ordered Office | L28: Total Cost Office | M28: Quantity Ordered Custodial | N28: Total Cost Custodial | O28: Quantity Ordered Medical | P28: Total Cost Medical | Q28: Grand Total Qty Ordered | R28: Grand Total Cost
A29: 1023 | B29: Paper 101 | D29: 119012 | E29: Astrobrights | F29: Ultra Fuschia | G29: Case of 10 Reams | H29: 89.05 | J29: =H29*I29 -> 0 | L29: =H29*K29 -> 0 | N29: =H29*M29 -> 0 | P29: =H29*O29 -> 0 | Q29: =I29+K29+M29+O29 -> 0 | R29: =J29+L29+N29+P29 -> 0
A30: 1028 | B30: Staples Contract & Commercial | D30: 24384926 | E30: Astrobrights WAU22681 | F30: Cosmic Orange | G30: Case of 10 Reams | H30: 86.13 | J30: =H30*I30 -> 0 | L30: =H30*K30 -> 0 | N30: =H30*M30 -> 0 | P30: =H30*O30 -> 0 | Q30: =I30+K30+M30+O30 -> 0 | R30: =J30+L30+N30+P30 -> 0
A31: 1031 | B31: Staples Contract & Commercial | D31: 24633712 | E31: Exact Brights WAU26701 | F31: Bright Yellow | G31: Case of 10 Reams | H31: 86.13 | J31: =H31*I31 -> 0 | L31: =H31*K31 -> 0 | N31: =H31*M31 -> 0 | P31: =H31*O31 -> 0 | Q31: =I31+K31+M31+O31 -> 0 | R31: =J31+L31+N31+P31 -> 0
A32: 1033 | B32: Staples Contract & Commercial | D32: 24633695 | E32: Exact Brights WAU26791 | F32: Bright Green | G32: Case of 10 Reams | H32: 86.13 | J32: =H32*I32 -> 0 | L32: =H32*K32 -> 0 | N32: =H32*M32 -> 0 | P32: =H32*O32 -> 0 | Q32: =I32+K32+M32+O32 -> 0 | R32: =J32+L32+N32+P32 -> 0
A33: 1046 | B33: Paper 101 | D33: 987824 | E33: Astrobrights | F33: Gamma Green (Christmas Green) | G33: Case of 10 Reams | H33: 95.05 | J33: =H33*I33 -> 0 | L33: =H33*K33 -> 0 | N33: =H33*M33 -> 0 | P33: =H33*O33 -> 0 | Q33: =I33+K33+M33+O33 -> 0 | R33: =J33+L33+N33+P33 -> 0
A34: 1048 | B34: Paper 101 | D34: 972224 | E34: Astrobrights | F34: Orbit Orange (Halloween Orange) | G34: Case of 10 Reams | H34: 89.05 | J34: =H34*I34 -> 0 | L34: =H34*K34 -> 0 | N34: =H34*M34 -> 0 | P34: =H34*O34 -> 0 | Q34: =I34+K34+M34+O34 -> 0 | R34: =J34+L34+N34+P34 -> 0
A35: 1050 | B35: Paper 101 | D35: 9170724 | E35: Astrobrights | F35: Lunar Blue | G35: Case of 10 Reams | H35: 95.05 | J35: =H35*I35 -> 0 | L35: =H35*K35 -> 0 | N35: =H35*M35 -> 0 | P35: =H35*O35 -> 0 | Q35: =I35+K35+M35+O35 -> 0 | R35: =J35+L35+N35+P35 -> 0
A36: 1057 | B36: Staples Contract & Commercial | D36: 24490218 | E36: Astrobrights WAU22551 | F36: Re-Entry Red (Christmas Red) | G36: Case of 10 Reams | H36: 83.2 | J36: =H36*I36 -> 0 | L36: =H36*K36 -> 0 | N36: =H36*M36 -> 0 | P36: =H36*O36 -> 0 | Q36: =I36+K36+M36+O36 -> 0 | R36: =J36+L36+N36+P36 -> 0
B38: Paper Premium, Copier, White, 8.5 Inch X 11 Inch, 24/60 POUND HEAVY WEIGHT
B39: Pkgd In Moisture Proof Wrapper, 500 Sheets/Ream, 8 Reams/Case, 4,000 Sheets/Case
A40: Item Number | B40: Vendor Name | C40: Color | D40: Vendor's Item Number | E40: Brand | F40: Description | G40: Unit of Order | H40: Unit Price | I40: Quantity Ordered Instruction | J40: Total Cost Instruction | K40: Quantity Ordered Office | L40: Total Cost Office | M40: Quantity Ordered Custodial | N40: Total Cost Custodial | O40: Quantity Ordered Medical | P40: Total Cost Medical | Q40: Grand Total Qty Ordered | R40: Grand Total Cost
A41: 1060 | B41: Paper 101 | C41: White | D41: 149824 | E41: Astrobrights | F41: White, 92+ | G41: Case of 8 Reams | H41: 44.42 | J41: =H41*I41 -> 0 | L41: =H41*K41 -> 0 | N41: =H41*M41 -> 0 | P41: =H41*O41 -> 0 | Q41: =I41+K41+M41+O41 -> 0 | R41: =J41+L41+N41+P41 -> 0
B43: Paper, Copier, Card/Cover Stock, White, Color, 8.5 Inch X 11 Inch, 60 POUND HEAVY WEIGHT
B44: Pkgd In Moisture Proof Wrapper, 250 Sheets/Ream, 8 Reams/Case, 2,000 Sheets/Case
A45: Item Number | B45: Vendor Name | C45: Color | D45: Vendor's Item Number | E45: Brand | F45: Description | G45: Unit of Order | H45: Unit Price | I45: Quantity Ordered Instruction | J45: Total Cost Instruction | K45: Quantity Ordered Office | L45: Total Cost Office | M45: Quantity Ordered Custodial | N45: Total Cost Custodial | O45: Quantity Ordered Medical | P45: Total Cost Medical | Q45: Grand Total Qty Ordered | R45: Grand Total Cost
...

Sheet OrderForm 2026-27
A1: Reference Only | B1: 1200 PAPERS - KRAFT Rolls, POSTER/RAILROAD BOARDS | H1: Instructional | J1: Office | L1: Custodial | N1: Medical | P1: Grand Totals
A3: Item Number | B3: Vendor Name | C3: Vendor's Item Number | D3: Brand | E3: Description | F3: Unit of Order | G3: Unit Price | H3: Quantity Ordered Instruction | I3: Total Cost Instruction | J3: Quantity Ordered Office | K3: Total Cost Office | L3: Quantity Ordered Custodial | M3: Total Cost Custodial | N3: Quantity Ordered Medical | O3: Total Cost Medical | P3: Quantity Ordered | Q3: Total Cost
A4: 1231 | B4: Ravion Supply | C4: 8337 | D4: Endday | E4: Railroad/Poster Board, 22 Inch X 28 Inch, White, 4 Ply .017, 100 Sheets/Carton | F4: Carton of 100 Sheets | G4: 21.98 | I4: =G4*H4 -> 0 | K4: =G4*J4 -> 0 | M4: =G4*L4 -> 0 | O4: =G4*N4 -> 0 | P4: =H4+J4+L4+N4 -> 0 | Q4: =I4+K4+M4+O4 -> 0
A5: 1232 | B5: Ravion Supply | C5: 8326-4 | D5: Enday | E5: Railroad/Poster Board, 22 Inch X 28 Inch, Assorted Colors On 2 Sides, 4 Ply .017 , 100 Sheets/Carton | F5: Carton of 100 Sheets | G5: 30.99 | I5: =G5*H5 -> 0 | K5: =G5*J5 -> 0 | M5: =G5*L5 -> 0 | O5: =G5*N5 -> 0 | P5: =H5+J5+L5+N5 -> 0 | Q5: =I5+K5+M5+O5 -> 0
A7: Reference Only | B7: 1400 PAPER - GRAPH, PENMANSHIP, NOTEBOOK FILLER | H7: Instructional | J7: Office | L7: Custodial | N7: Medical | P7: Grand Totals
A9: Item Number | B9: Vendor Name | C9: Vendor's Item Number | D9: Brand | E9: Description | F9: Unit of Order | G9: Unit Price | H9: Quantity Ordered Instruction | I9: Total Cost Instruction | J9: Quantity Ordered Office | K9: Total Cost Office | L9: Quantity Ordered Custodial | M9: Total Cost Custodial | N9: Quantity Ordered Medical | O9: Total Cost Medical | P9: Quantity Ordered | Q9: Total Cost
A10: 1450 | B10: Ravion Supply | C10: 1721-48 | D10: Enday | E10: Paper Notebook Filler, 8.5 Inch X 11 Inch, White, Ruled 3/8 Inch, With Red Margin Line On Both Sides, 3-Hole Punched, 100 Sheets/Package | F10: 50 Package of 200 Sheets | G10: 47.99 | I10: =G10*H10 -> 0 | K10: =G10*J10 -> 0 | M10: =G10*L10 -> 0 | O10: =G10*N10 -> 0 | P10: =H10+J10+L10+N10 -> 0 | Q10: =I10+K10+M10+O10 -> 0
A12: Reference Only | B12: 1500 PAPER Pads: POST-IT, LECTURE | H12: Instructional | J12: Office | L12: Custodial | N12: Medical | P12: Grand Totals
A14: Item Number | B14: Vendor Name | C14: Vendor's Item Number | D14: Brand | E14: Description | F14: Unit of Order | G14: Unit Price | H14: Quantity Ordered Instruction | I14: Total Cost Instruction | J14: Quantity Ordered Office | K14: Total Cost Office | L14: Quantity Ordered Custodial | M14: Total Cost Custodial | N14: Quantity Ordered Medical | O14: Total Cost Medical | P14: Quantity Ordered | Q14: Total Cost
A15: 1510 | B15: Staples Contract & Commercial | C15: 105809 | D15: Staples S33YR12 | E15: Self-Stick Note Pads, 3 Inch X 3 Inch, Yellow, 100 Sheets/Pad, 12 Pads/Package, 18 Packages/Carton | F15: Carton of 216 | G15: 41.94 | I15: =G15*H15 -> 0 | K15: =G15*J15 -> 0 | M15: =G15*L15 -> 0 | O15: =G15*N15 -> 0 | P15: =H15+J15+L15+N15 -> 0 | Q15: =I15+K15+M15+O15 -> 0
A16: 1547 | B16: Staples Contract & Commercial | C16: 760951 | D16: 3M 559-VAD-6Pk | E16: Post-it Super Sticky Easel Pad, 25 Inch x 30 Inch, 30 Sheets/Pad, 6 Pads/Package | F16: Package of 6 Pads | G16: 115.85 | I16: =G16*H16 -> 0 | K16: =G16*J16 -> 0 | M16: =G16*L16 -> 0 | O16: =G16*N16 -> 0 | P16: =H16+J16+L16+N16 -> 0 | Q16: =I16+K16+M16+O16 -> 0
A18: Reference Only | B18: 1700 SANITARY PAPERS | H18: Instructional | J18: Office | L18: Custodial | N18: Medical | P18: Grand Totals
A20: Item Number | B20: Vendor Name | C20: Vendor's Item Number | D20: Brand | E20: Description | F20: Unit of Order | G20: Unit Price | H20: Quantity Ordered Instruction | I20: Total Cost Instruction | J20: Quantity Ordered Office | K20: Total Cost Office | L20: Quantity Ordered Custodial | M20: Total Cost Custodial | N20: Quantity Ordered Medical | O20: Total Cost Medical | P20: Quantity Ordered | Q20: Total Cost
A21: 1705 | B21: APAC Paper & Packaging | C21: 446811 | D21: Nova Facial | E21: Facial Tissue 2-Ply Flat Box, 100 Tissues/Box, 30 Boxes/Case, 3,000 Sheets/Case | F21: Case of 30 | G21: 16.39 | I21: =G21*H21 -> 0 | K21: =G21*J21 -> 0 | M21: =G21*L21 -> 0 | O21: =G21*N21 -> 0 | P21: =H21+J21+L21+N21 -> 0 | Q21: =I21+K21+M21+O21 -> 0
A22: 1707 | B22: APAC Paper & Packaging | C22: 441130 | D22: Kimberly Clark | E22: Facial Tissue 2-Ply Flat Box, 100 Tissues/Box, 36 Boxes/Case, 3,600 Sheets/Case | F22: Case of 36 | G22: 40.37 | I22: =G22*H22 -> 0 | K22: =G22*J22 -> 0 | M22: =G22*L22 -> 0 | O22: =G22*N22 -> 0 | P22: =H22+J22+L22+N22 -> 0 | Q22: =I22+K22+M22+O22 -> 0
A23: 1708 | B23: APAC Paper & Packaging | C23: 441113 | D23: Kimberly Clark | E23: Facial Tissue, 3-Ply, Anti-Viral, 60 Tissues/Box, 12 Boxes/Case, Kleenex #21286 | F23: Case of 12 | G23: 27.89 | I23: =G23*H23 -> 0 | K23: =G23*J23 -> 0 | M23: =G23*L23 -> 0 | O23: =G23*N23 -> 0 | P23: =H23+J23+L23+N23 -> 0 | Q23: =I23+K23+M23+O23 -> 0
A24: 1709 | B24: Staples Contract & Commercial | C24: 503405 | D24: Scott 07006 | E24: Toilet Tissue Roll, High-Capacity, Jumbo Roll, White, Coreless, 3.7 Inch X 1,150 Feet, 2-ply, 13,800 Linear Feet/Roll, 12 Rolls/Case, Scott 0700602 | F24: Case of 12 | G24: 53.15 | I24: =G24*H24 -> 0 | K24: =G24*J24 -> 0 | M24: =G24*L24 -> 0 | O24: =G24*N24 -> 0 | P24: =H24+J24+L24+N24 -> 0 | Q24: =I24+K24+M24+O24 -> 0
A25: 1710 | B25: Staples Contract & Commercial | C25: 24596679 | D25: Baseline BL62595 | E25: Toilet Tissue Roll, 4.5 Inch X 4.5 Inch, Soft, 500 Sheets/Roll, 96 Rolls/Case, 48,000 Sheets/Case | F25: Case of 96 | G25: 56.25 | I25: =G25*H25 -> 0 | K25: =G25*J25 -> 0 | M25: =G25*L25 -> 0 | O25: =G25*N25 -> 0 | P25: =H25+J25+L25+N25 -> 0 | Q25: =I25+K25+M25+O25 -> 0
A26: 1712 | B26: APAC Paper & Packaging | C26: 441103 | D26: Kimberly Clark | E26: Toilet Tissue Roll, 4.09 Inch X 4.0 Inch, 2-Ply Soft, 506 Sheets/Roll, 60 Rolls/Case, 30,360 Sheets/Case | F26: Case of 60 | G26: 44.97 | I26: =G26*H26 -> 0 | K26: =G26*J26 -> 0 | M26: =G26*L26 -> 0 | O26: =G26*N26 -> 0 | P26: =H26+J26+L26+N26 -> 0 | Q26: =I26+K26+M26+O26 -> 0
A27: 1715 | B27: Imperial Bag & Paper Co | C27: VBJ2100 | D27: Victoria Bay | E27: Toilet Tissue, Jumbo Roll, 9 Inch Diameter, 2-Ply 1,000 Foot Rolls, 12 Rolls/Case | F27: Case of 12 | G27: 23.78 | I27: =G27*H27 -> 0 | K27: =G27*J27 -> 0 | M27: =G27*L27 -> 0 | O27: =G27*N27 -> 0 | P27: =H27+J27+L27+N27 -> 0 | Q27: =I27+K27+M27+O27 -> 0
A28: 1720 | B28: Imperial Bag & Paper Co | C28: 2008 | D28: Cascades PRO | E28: Paper Towels, Single Fold, Highly Absorbent, Natural, 9.25 Inch X 10.25 Inch Open, 9.25 Inch X 5.125 Inch Folded, 250/Package, 16 Packages/Case, 4,000 Towels/Case | F28: Case of 16 Packages | G28: 16.85 | I28: =G28*H28 -> 0 | K28: =G28*J28 -> 0 | M28: =G28*L28 -> 0 | O28: =G28*N28 -> 0 | P28: =H28+J28+L28+N28 -> 0 | Q28: =I28+K28+M28+O28 -> 0
A30: Reference Only | B30: Continued SANITARY PAPERS | H30: Instructional | J30: Office | L30: Custodial | N30: Medical | P30: Grand Totals
A32: Item Number | B32: Vendor Name | C32: Vendor's Item Number | D32: Brand | E32: Description | F32: Unit of Order | G32: Unit Price | H32: Quantity Ordered Instruction | I32: Total Cost Instruction | J32: Quantity Ordered Office | K32: Total Cost Office | L32: Quantity Ordered Custodial | M32: Total Cost Custodial | N32: Quantity Ordered Medical | O32: Total Cost Medical | P32: Quantity Ordered | Q32: Total Cost
A33: 1725 | B33: Imperial Bag & Paper Co | C33: VBMF91K | D33: Victoria Bay | E33: Paper Towels, Multi-Fold, Highly Absorbent, Natural, 9.5 Inch X 9.25 Inch, 250/Package, 16 Packages/Case, 4,000 Towels/Case | F33: Case of 16 Packages | G33: 18.07 | I33: =G33*H33 -> 0 | K33: =G33*J33 -> 0 | M33: =G33*L33 -> 0 | O33: =G33*N33 -> 0 | P33: =H33+J33+L33+N33 -> 0 | Q33: =I33+K33+M33+O33 -> 0
A34: 1730 | B34: APAC Paper & Packaging | C34: 443143 | D34: Kimberly Clark | E34: Paper Towels, Multi-Fold, Kimberly-Clark White, 9.4 Inch X 9.2 Inch, 150/Package, 16/Per Case, 2,400 Towels/Case, Kleenex | F34: Case of 16 Packages | G34: 32.1 | I34: =G34*H34 -> 0 | K34: =G34*J34 -> 0 | M34: =G34*L34 -> 0 | O34: =G34*N34 -> 0 | P34: =H34+J34+L34+N34 -> 0 | Q34: =I34+K34+M34+O34 -> 0
A35: 1735 | B35: Staples Contract & Commercial | C35: 24387406 | D35: Baseline BL55583 | E35: Paper Towel Rolls, Highly Absorbent, Natural, 7-7/8 Inch Wide, Non-Perforated, 600 Linear Feet Roll, 12 Rolls/Case, 7,200 Linear Feet/Case | F35: Case of 12 Rolls | G35: 25.95 | I35: =G35*H35 -> 0 | K35: =G35*J35 -> 0 | M35: =G35*L35 -> 0 | O35: =G35*N35 -> 0 | P35: =H35+J35+L35+N35 -> 0 | Q35: =I35+K35+M35+O35 -> 0
A36: 1740 | B36: Imperial Bag & Paper Co | C36: VBRT350K | D36: Victoria Bay | E36: Paper Towel Rolls, Highly Absorbent Natural, 7-7/8 Inch Wide, 12 Rolls/Case, 350 Linear Feet/Roll, 4,200 Linear Feet/Case | F36: Case of 12 Rolls | G36: 18.5 | I36: =G36*H36 -> 0 | K36: =G36*J36 -> 0 | M36: =G36*L36 -> 0 | O36: =G36*N36 -> 0 | P36: =H36+J36+L36+N36 -> 0 | Q36: =I36+K36+M36+O36 -> 0
A37: 1780 | B37: APAC Paper & Packaging | C37: 426208 | D37: Hospeco | E37: Sanitary Napkin Bag, Wax Coated Paper, Brown, 9 Inch L x 3-1/4 Inch W x 10 Inch D, 250/Case, Health Gards Hospeco HS-6141 | F37: Case of 250 | G37: 14.67 | I37: =G37*H37 -> 0 | K37: =G37*J37 -> 0 | M37: =G37*L37 -> 0 | O37: =G37*N37 -> 0 | P37: =H37+J37+L37+N37 -> 0 | Q37: =I37+K37+M37+O37 -> 0
A39: Reference Only | B39: 1800 PENCILS | H39: Instructional | J39: Office | L39: Custodial | N39: Medical | P39: Grand Totals
A41: Item Number | B41: Vendor Name | C41: Vendor's Item Number | D41: Brand | E41: Description | F41: Unit of Order | G41: Unit Price | H41: Quantity Ordered Instruction | I41: Total Cost Instruction | J41: Quantity Ordered Office | K41: Total Cost Office | L41: Quantity Ordered Custodial | M41: Total Cost Custodial | N41: Quantity Ordered Medical | O41: Total Cost Medical | P41: Quantity Ordered | Q41: Total Cost
A42: 1805 | B42: Staples Contract & Commercial | C42: 137943 | D42: Dixon Oriole 12872 | E42: Pencils, # 2 Black Lead, Hex, Brass Tip With Eraser, 12/Package, 6 Packages/Pack, 20 Packs/Case | F42: Case of 1,440 | G42: 132 | I42: =G42*H42 -> 0 | K42: =G42*J42 -> 0 | M42: =G42*L42 -> 0 | O42: =G42*N42 -> 0 | P42: =H42+J42+L42+N42 -> 0 | Q42: =I42+K42+M42+O42 -> 0
A43: 1835 | B43: Staples Contract & Commercial | C43: 300525 | D43: Crayola 68-4012 | E43: Pencils Colored, 12 Assorted Colors/Set, 12 Sets/Package | F43: Package of 12 Sets | G43: 14.4 | I43: =G43*H43 -> 0 | K43: =G43*J43 -> 0 | M43: =G43*L43 -> 0 | O43: =G43*N43 -> 0 | P43: =H43+J43+L43+N43 -> 0 | Q43: =I43+K43+M43+O43 -> 0
A44: 1840 | B44: Staples Contract & Commercial | C44: 475715 | D44: Crayola 68-4024 | E44: Pencils Colored, 24 Assorted Colors/Set, 6 Sets/Package | F44: Package of 6 Sets | G44: 14.4 | I44: =G44*H44 -> 0 | K44: =G44*J44 -> 0 | M44: =G44*L44 -> 0 | O44: =G44*N44 -> 0 | P44: =H44+J44+L44+N44 -> 0 | Q44: =I44+K44+M44+O44 -> 0
A45: 1845 | B45: Staples Contract & Commercial | C45: 662783 | D45: Crayola 68-4036 | E45: Pencils Colored, 36 Assorted Colors/Set, 6 Sets/Package | F45: Package of 6 Sets | G45: 23.4 | I45: =G45*H45 -> 0 | K45: =G45*J45 -> 0 | M45: =G45*L45 -> 0 | O45: =G45*N45 -> 0 | P45: =H45+J45+L45+N45 -> 0 | Q45: =I45+K45+M45+O45 -> 0
A47: Reference Only | B47: 2000 MARKERS | H47: Instructional | J47: Office | L47: Custodial | N47: Medical | P47: Grand Totals
A49: Item Number | B49: Vendor Name | C49: Vendor's Item Number | D49: Brand | E49: Description | F49: Unit of Order | G49: Unit Price | H49: Quantity Ordered Instruction | I49: Total Cost Instruction | J49: Quantity Ordered Office | K49: Total Cost Office | L49: Quantity Ordered Custodial | M49: Total Cost Custodial | N49: Quantity Ordered Medical | O49: Total Cost Medical | P49: Quantity Ordered | Q49: Total Cost
A50: 2005 | B50: Staples Contract & Commercial | C50: 578608 | D50: Crayola 58-7852 | E50: Marker Fine Line, Washable, 10 Assorted Classic Colors/Set, 6 Sets/Package | F50: Package of 6 Sets | G50: 15.66 | I50: =G50*H50 -> 0 | K50: =G50*J50 -> 0 | M50: =G50*L50 -> 0 | O50: =G50*N50 -> 0 | P50: =H50+J50+L50+N50 -> 0 | Q50: =I50+K50+M50+O50 -> 0
A51: 2006 | B51: Staples Contract & Commercial | C51: 445743 | D51: Crayola 58-7708 | E51: Marker Broad Line, Washable, 10 Assorted Bold Colors/Set, 6 Sets/Package | F51: Package of 6 Sets | G51: 12 | I51: =G51*H51 -> 0 | K51: =G51*J51 -> 0 | M51: =G51*L51 -> 0 | O51: =G51*N51 -> 0 | P51: =H51+J51+L51+N51 -> 0 | Q51: =I51+K51+M51+O51 -> 0
A52: 2007 | B52: Staples Contract & Commercial | C52: 352369 | D52: Crayola 58-7808 | E52: Marker Broad Point, Washable, 8 Assorted Classic Colors/Set, 6 Sets/Package | F52: Package of 6 Sets | G52: 10.32 | I52: =G52*H52 -> 0 | K52: =G52*J52 -> 0 | M52: =G52*L52 -> 0 | O52: =G52*N52 -> 0 | P52: =H52+J52+L52+N52 -> 0 | Q52: =I52+K52+M52+O52 -> 0
A53: 2060 | B53: Staples Contract & Commercial | C53: 379465 | D53: Expo 80174 | E53: Marker White Board Dry Erase, Chisel Point, 4 Assorted Colors/Package | F53: Package of 4 | G53: 2.55 | I53: =G53*H53 -> 0 | K53: =G53*J53 -> 0 | M53: =G53*L53 -> 0 | O53: =G53*N53 -> 0 | P53: =H53+J53+L53+N53 -> 0 | Q53: =I53+K53+M53+O53 -> 0
...
