Workbook

Sheet Contact Info and Approval
E2: Building/Program:
E6: Contact Person:
E10: Email Address:
E14: Phone Number:
E18: Administrator's Signature:

Sheet Paper OrderForm 2026-27
A1: Reference Only | B1: 1000 PAPERS - COPIER, 8 1/2 X 11, 8 1/2 x 14 | I1: Instructional | K1: Office | M1: Custodial | O1: Medical | Q1: Grand Totals
B3: Paper Premium, Copier, 8.5 Inch X 11 Inch, 20/50 POUND
B4: Pkgd In Moisture Proof Wrapper, 500 Sheets/Ream, 10 Reams/Case, 5,000 Sheets/Case
A5: Item Number | B5: Vendor Name | C5: Color | D5: Vendor's Item Number | E5: Brand | F5: Description | G5: Unit of Order | H5: Unit Price | I5: Quantity Ordered Instruction | J5: Total Cost Instruction | K5: Quantity Ordered Office | L5: Total Cost Office | M5: Quantity Ordered Custodial | N5: Total Cost Custodial | O5: Quantity Ordered Medical | P5: Total Cost Medical | Q5: Grand Total Qty Ordered | R5: Grand Total Cost
A6: 1000 | B6: Paper 101 | C6: White | D6: 151124 | E6: PREMIUM | F6: White 94 Bright | G6: Case of 10 Reams | H6: 34.09 | J6: =H6*I6 -> 0 | L6: =H6*K6 -> 0 | N6: =H6*M6 -> 0 | P6: =H6*O6 -> 0 | Q6: =I6+K6+M6+O6 -> 0 | R6: =J6+L6+N6+P6 -> 0
A7: 1003 | B7: Paper 101 | D7: 124624 | E7: E-Copy | F7: Blue | G7: Case of 10 Reams | H7: 51.77 | J7: =H7*I7 -> 0 | L7: =H7*K7 -> 0 | N7: =H7*M7 -> 0 | P7: =H7*O7 -> 0 | Q7: =I7+K7+M7+O7 -> 0 | R7: =J7+L7+N7+P7 -> 0
A8: 1004 | B8: Paper 101 | D8: 131524 | E8: E-Copy | F8: Goldenrod | G8: Case of 10 Reams | H8: 51.77 | J8: =H8*I8 -> 0 | L8: =H8*K8 -> 0 | N8: =H8*M8 -> 0 | P8: =H8*O8 -> 0 | Q8: =I8+K8+M8+O8 -> 0 | R8: =J8+L8+N8+P8 -> 0
A9: 1005 | B9: Paper 101 | D9: 109424 | E9: E-Copy | F9: Green | G9: Case of 10 Reams | H9: 51.77 | J9: =H9*I9 -> 0 | L9: =H9*K9 -> 0 | N9: =H9*M9 -> 0 | P9: =H9*O9 -> 0 | Q9: =I9+K9+M9+O9 -> 0 | R9: =J9+L9+N9+P9 -> 0
A10: 1006 | B10: Paper 101 | D10: 1942424 | E10: E-Copy | F10: Pink | G10: Case of 10 Reams | H10: 51.77 | J10: =H10*I10 -> 0 | L10: =H10*K10 -> 0 | N10: =H10*M10 -> 0 | P10: =H10*O10 -> 0 | Q10: =I10+K10+M10+O10 -> 0 | R10: =J10+L10+N10+P10 -> 0
A11: 1007 | B11: Paper 101 | D11: 982424OP | E11: E-Copy | F11: Canary | G11: Case of 10 Reams | H11: 51.77 | J11: =H11*I11 -> 0 | L11: =H11*K11 -> 0 | N11: =H11*M11 -> 0 | P11: =H11*O11 -> 0 | Q11: =I11+K11+M11+O11 -> 0 | R11: =J11+L11+N11+P11 -> 0
A12: 1009 | B12: Staples Contract & Commercial | D12: 24617762 | E12: Staples 073050CT | F12: Gray | G12: Case of 10 Reams | H12: 53.81 | J12: =H12*I12 -> 0 | L12: =H12*K12 -> 0 | N12: =H12*M12 -> 0 | P12: =H12*O12 -> 0 | Q12: =I12+K12+M12+O12 -> 0 | R12: =J12+L12+N12+P12 -> 0
A13: 1010 | B13: Staples Contract & Commercial | D13: 24617759 | E13: Staples 073030CT | F13: Salmon | G13: Case of 10 Reams | H13: 53.81 | J13: =H13*I13 -> 0 | L13: =H13*K13 -> 0 | N13: =H13*M13 -> 0 | P13: =H13*O13 -> 0 | Q13: =I13+K13+M13+O13 -> 0 | R13: =J13+L13+N13+P13 -> 0
A14: 1011 | B14: Paper 101 | D14: 109224 | E14: E-Copy | F14: Ivory | G14: Case of 10 Reams | H14: 57.43 | J14: =H14*I14 -> 0 | L14: =H14*K14 -> 0 | N14: =H14*M14 -> 0 | P14: =H14*O14 -> 0 | Q14: =I14+K14+M14+O14 -> 0 | R14: =J14+L14+N14+P14 -> 0
A15: 1013 | B15: Staples Contract & Commercial | D15: 24633699 | E15: Exact Brights WAU26721 | F15: Bright Orange | G15: Case of 10 Reams | H15: 80.2 | J15: =H15*I15 -> 0 | L15: =H15*K15 -> 0 | N15: =H15*M15 -> 0 | P15: =H15*O15 -> 0 | Q15: =I15+K15+M15+O15 -> 0 | R15: =J15+L15+N15+P15 -> 0
A16: 1014 | B16: Paper 101 | D16: 106424 | E16: E-Copy | F16: Cherry | G16: Case of 10 Reams | H16: 57.43 | J16: =H16*I16 -> 0 | L16: =H16*K16 -> 0 | N16: =H16*M16 -> 0 | P16: =H16*O16 -> 0 | Q16: =I16+K16+M16+O16 -> 0 | R16: =J16+L16+N16+P16 -> 0
B17: Continued Paper Premium, Copier, 8.5 Inch X 11 Inch, 20/50 POUND
A18: Item Number | B18: Vendor Name | C18: Color | D18: Vendor's Item Number | E18: Brand | F18: Description | G18: Unit of Order | H18: Unit Price | I18: Quantity Ordered Instruction | J18: Total Cost Instruction | K18: Quantity Ordered Office | L18: Total Cost Office | M18: Quantity Ordered Custodial | N18: Total Cost Custodial | O18: Quantity Ordered Medical | P18: Total Cost Medical | Q18: Grand Total Qty Ordered | R18: Grand Total Cost
A19: 1015 | B19: Paper 101 | D19: 108924 | E19: E-Copy | F19: Orchid | G19: Case of 10 Reams | H19: 57.43 | J19: =H19*I19 -> 0 | L19: =H19*K19 -> 0 | N19: =H19*M19 -> 0 | P19: =H19*O19 -> 0 | Q19: =I19+K19+M19+O19 -> 0 | R19: =J19+L19+N19+P19 -> 0
B21: Paper Premium, Copier, 8.5 Inch X 14 Inch, 20/50 POUND
B22: Pkgd In Moisture Proof Wrapper, 500 Sheets/Ream, 10 Reams/Case, 5,000 Sheets/Case
A23: Item Number | B23: Vendor Name | C23: Color | D23: Vendor's Item Number | E23: Brand | F23: Description | G23: Unit of Order | H23: Unit Price | I23: Quantity Ordered Instruction | J23: Total Cost Instruction | K23: Quantity Ordered Office | L23: Total Cost Office | M23: Quantity Ordered Custodial | N23: Total Cost Custodial | O23: Quantity Ordered Medical | P23: Total Cost Medical | Q23: Grand Total Qty Ordered | R23: Grand Total Cost
A24: 1018 | B24: Paper 101 | C24: White | D24: 114124 | E24: E-Copy | F24: White, 92+ | G24: Case of 10 Reams | H24: 52.5 | J24: =H24*I24 -> 0 | L24: =H24*K24 -> 0 | N24: =H24*M24 -> 0 | P24: =H24*O24 -> 0 | Q24: =I24+K24+M24+O24 -> 0 | R24: =J24+L24+N24+P24 -> 0
B26: Paper Premium, Copier, Brilliant Color, 8.5 Inch X 11 Inch, 20/50 POUND
B27: Pkgd In Moisture Proof Wrapper, 500 Sheets/Ream, 10 Reams/Case, 5,000 Sheets/Case
A28: Item Number | B28: Vendor Name | C28: Color | D28: Vendor's Item Number | E28: Brand | F28: Description | G28: Unit of Order | H28: Unit Price | I28: Quantity Ordered Instruction | J28: Total Cost Instruction | K28: Quantity Ordered Office | L28: Total Cost Office | M28: Quantity Ordered Custodial | N28: Total Cost Custodial | O28: Quantity Ordered Medical | P28: Total Cost Medical | Q28: Grand Total Qty Ordered | R28: Grand Total Cost
A29: 1023 | B29: Paper 101 | D29: 119012 | E29: Astrobrights | F29: Ultra Fuschia | G29: Case of 10 Reams | H29: 89.05 | J29: =H29*I29 -> 0 | L29: =H29*K29 -> 0 | N29: =H29*M29 -> 0 | P29: =H29*O29 -> 0 | Q29: =I29+K29+M29+O29 -> 0 | R29: =J29+L29+N29+P29 -> 0
A30: 1028 | B30: Staples Contract & Commercial | D30: 24384926 | E30: Astrobrights WAU22681 | F30: Cosmic Orange | G30: Case of 10 Reams | H30: 86.13 | J30: =H30*I30 -> 0 | L30: =H30*K30 -> 0 | N30: =H30*M30 -> 0 | P30: =H30*O30 -> 0 | Q30: =I30+K30+M30+O30 -> 0 | R30: =J30+L30+N30+P30 -> 0
A31: 1031 | B31: Staples Contract & Commercial | D31: 24633712 | E31: Exact Brights WAU26701 | F31: Bright Yellow | G31: Case of 10 Reams | H31: 86.13 | J31: =H31*I31 -> 0 | L31: =H31*K31 -> 0 | N31: =H31*M31 -> 0 | P31: =H31*O31 -> 0 | Q31: =I31+K31+M31+O31 -> 0 | R31: =J31+L31+N31+P31 -> 0
A32: 1033 | B32: Staples Contract & Commercial | D32: 24633695 | E32: Exact Brights WAU26791 | F32: Bright Green | G32: Case of 10 Reams | H32: 86.13 | J32: =H32*I32 -> 0 | L32: =H32*K32 -> 0 | N32: =H32*M32 -> 0 | P32: =H32*O32 -> 0 | Q32: =I32+K32+M32+O32 -> 0 | R32: =J32+L32+N32+P32 -> 0
A33: 1046 | B33: Paper 101 | D33: 987824 | E33: Astrobrights | F33: Gamma Green (Christmas Green) | G33: Case of 10 Reams | H33: 95.05 | J33: =H33*I33 -> 0 | L33: =H33*K33 -> 0 | N33: =H33*M33 -> 0 | P33: =H33*O33 -> 0 | Q33: =I33+K33+M33+O33 -> 0 | R33: =J33+L33+N33+P33 -> 0
A34: 1048 | B34: Paper 101 | D34: 972224 | E34: Astrobrights | F34: Orbit Orange (Halloween Orange) | G34: Case of 10 Reams | H34: 89.05 | J34: =H34*I34 -> 0 | L34: =H34*K34 -> 0 | N34: =H34*M34 -> 0 | P34: =H34*O34 -> 0 | Q34: =I34+K34+M34+O34 -> 0 | R34: =J34+L34+N34+P34 -> 0
A35: 1050 | B35: Paper 101 | D35: 9170724 | E35: Astrobrights | F35: Lunar Blue | G35: Case of 10 Reams | H35: 95.05 | J35: =H35*I35 -> 0 | L35: =H35*K35 -> 0 | N35: =H35*M35 -> 0 | P35: =H35*O35 -> 0 | Q35: =I35+K35+M35+O35 -> 0 | R35: =J35+L35+N35+P35 -> 0
A36: 1057 | B36: Staples Contract & Commercial | D36: 24490218 | E36: Astrobrights WAU22551 | F36: Re-Entry Red (Christmas Red) | G36: Case of 10 Reams | H36: 83.2 | J36: =H36*I36 -> 0 | L36: =H36*K36 -> 0 | N36: =H36*M36 -> 0 | P36: =H36*O36 -> 0 | Q36: =I36+K36+M36+O36 -> 0 | R36: =J36+L36+N36+P36 -> 0
B38: Paper Premium, Copier, White, 8.5 Inch X 11 Inch, 24/60 POUND HEAVY WEIGHT
B39: Pkgd In Moisture Proof Wrapper, 500 Sheets/Ream, 8 Reams/Case, 4,000 Sheets/Case
A40: Item Number | B40: Vendor Name | C40: Color | D40: Vendor's Item Number | E40: Brand | F40: Description | G40: Unit of Order | H40: Unit Price | I40: Quantity Ordered Instruction | J40: Total Cost Instruction | K40: Quantity Ordered Office | L40: Total Cost Office | M40: Quantity Ordered Custodial | N40: Total Cost Custodial | O40: Quantity Ordered Medical | P40: Total Cost Medical | Q40: Grand Total Qty Ordered | R40: Grand Total Cost
A41: 1060 | B41: Paper 101 | C41: White | D41: 149824 | E41: Astrobrights | F41: White, 92+ | G41: Case of 8 Reams | H41: 44.42 | J41: =H41*I41 -> 0 | L41: =H41*K41 -> 0 | N41: =H41*M41 -> 0 | P41: =H41*O41 -> 0 | Q41: =I41+K41+M41+O41 -> 0 | R41: =J41+L41+N41+P41 -> 0
B43: Paper, Copier, Card/Cover Stock, White, Color, 8.5 Inch X 11 Inch, 60 POUND HEAVY WEIGHT
B44: Pkgd In Moisture Proof Wrapper, 250 Sheets/Ream, 8 Reams/Case, 2,000 Sheets/Case
A45: Item Number | B45: Vendor Name | C45: Color | D45: Vendor's Item Number | E45: Brand | F45: Description | G45: Unit of Order | H45: Unit Price | I45: Quantity Ordered Instruction | J45: Total Cost Instruction | K45: Quantity Ordered Office | L45: Total Cost Office | M45: Quantity Ordered Custodial | N45: Total Cost Custodial | O45: Quantity Ordered Medical | P45: Total Cost Medical | Q45: Grand Total Qty Ordered | R45: Grand Total Cost
A46: 1061 | B46: Paper 101 | C46: White | D46: 659914 | E46: Astrobrights | F46: Bright White | G46: Case of 8 Reams | H46: 62.16 | J46: =H46*I46 -> 0 | L46: =H46*K46 -> 0 | N46: =H46*M46 -> 0 | P46: =H46*O46 -> 0 | Q46: =I46+K46+M46+O46 -> 0 | R46: =J46+L46+N46+P46 -> 0
A47: 1063 | B47: Paper 101 | D47: 987014 | E47: Astrobrights | F47: Lift-off Lemon | G47: Case of 8 Reams | H47: 83.75 | J47: =H47*I47 -> 0 | L47: =H47*K47 -> 0 | N47: =H47*M47 -> 0 | P47: =H47*O47 -> 0 | Q47: =I47+K47+M47+O47 -> 0 | R47: =J47+L47+N47+P47 -> 0
A48: 1064 | B48: Staples Contract & Commercial | D48: 24617773 | E48: Astrobrights 22721 | F48: Lunar Blue | G48: Case of 8 Reams | H48: 85 | J48: =H48*I48 -> 0 | L48: =H48*K48 -> 0 | N48: =H48*M48 -> 0 | P48: =H48*O48 -> 0 | Q48: =I48+K48+M48+O48 -> 0 | R48: =J48+L48+N48+P48 -> 0
A49: 1066 | B49: Paper 101 | D49: 998914 | E49: Astrobrights | F49: Pulsar Pink | G49: Case of 8 Reams | H49: 83.75 | J49: =H49*I49 -> 0 | L49: =H49*K49 -> 0 | N49: =H49*M49 -> 0 | P49: =H49*O49 -> 0 | Q49: =I49+K49+M49+O49 -> 0 | R49: =J49+L49+N49+P49 -> 0
A50: 1077 NEW | B50: Staples Contract & Commercial | D50: 24617771 | E50: Astrobrights 22741 | F50: Gamma Green (Christmas Green) | G50: Case of 8 Reams | H50: 85 | J50: =H50*I50 -> 0 | L50: =H50*K50 -> 0 | N50: =H50*M50 -> 0 | P50: =H50*O50 -> 0 | Q50: =I50+K50+M50+O50 -> 0 | R50: =J50+L50+N50+P50 -> 0
H54: Totals | I54: =SUM(I6:I50) -> 0 | J54: =SUM(J6:J50) -> 0 | K54: =SUM(K6:K50) -> 0 | L54: =SUM(L6:L50) -> 0 | M54: =SUM(M6:M50) -> 0 | N54: =SUM(N6:N50) -> 0 | O54: =SUM(O6:O50) -> 0 | P54: =SUM(P6:P50) -> 0 | ... R54: =SUM(R6:R50) -> 0

Sheet OrderForm 2026-27
A1: Reference Only | B1: 1200 PAPERS - KRAFT Rolls, POSTER/RAILROAD BOARDS | H1: Instructional | J1: Office | L1: Custodial | N1: Medical | P1: Grand Totals
A3: Item Number | B3: Vendor Name | C3: Vendor's Item Number | D3: Brand | E3: Description | F3: Unit of Order | G3: Unit Price | H3: Quantity Ordered Instruction | I3: Total Cost Instruction | J3: Quantity Ordered Office | K3: Total Cost Office | L3: Quantity Ordered Custodial | M3: Total Cost Custodial | N3: Quantity Ordered Medical | O3: Total Cost Medical | P3: Quantity Ordered | Q3: Total Cost
A4: 1231 | B4: Ravion Supply | C4: 8337 | D4: Endday | E4: Railroad/Poster Board, 22 Inch X 28 Inch, White, 4 Ply .017, 100 Sheets/Carton | F4: Carton of 100 Sheets | G4: 21.98 | I4: =G4*H4 -> 0 | K4: =G4*J4 -> 0 | M4: =G4*L4 -> 0 | O4: =G4*N4 -> 0 | P4: =H4+J4+L4+N4 -> 0 | Q4: =I4+K4+M4+O4 -> 0
A5: 1232 | B5: Ravion Supply | C5: 8326-4 | D5: Enday | E5: Railroad/Poster Board, 22 Inch X 28 Inch, Assorted Colors On 2 Sides, 4 Ply .017 , 100 Sheets/Carton | F5: Carton of 100 Sheets | G5: 30.99 | I5: =G5*H5 -> 0 | K5: =G5*J5 -> 0 | M5: =G5*L5 -> 0 | O5: =G5*N5 -> 0 | P5: =H5+J5+L5+N5 -> 0 | Q5: =I5+K5+M5+O5 -> 0
A7: Reference Only | B7: 1400 PAPER - GRAPH, PENMANSHIP, NOTEBOOK FILLER | H7: Instructional | J7: Office | L7: Custodial | N7: Medical | P7: Grand Totals
A9: Item Number | B9: Vendor Name | C9: Vendor's Item Number | D9: Brand | E9: Description | F9: Unit of Order | G9: Unit Price | H9: Quantity Ordered Instruction | I9: Total Cost Instruction | J9: Quantity Ordered Office | K9: Total Cost Office | L9: Quantity Ordered Custodial | M9: Total Cost Custodial | N9: Quantity Ordered Medical | O9: Total Cost Medical | P9: Quantity Ordered | Q9: Total Cost
A10: 1450 | B10: Ravion Supply | C10: 1721-48 | D10: Enday | E10: Paper Notebook Filler, 8.5 Inch X 11 Inch, White, Ruled 3/8 Inch, With Red Margin Line On Both Sides, 3-Hole Punched, 100 Sheets/Package | F10: 50 Package of 200 Sheets | G10: 47.99 | I10: =G10*H10 -> 0 | K10: =G10*J10 -> 0 | M10: =G10*L10 -> 0 | O10: =G10*N10 -> 0 | P10: =H10+J10+L10+N10 -> 0 | Q10: =I10+K10+M10+O10 -> 0
A12: Reference Only | B12: 1500 PAPER Pads: POST-IT, LECTURE | H12: Instructional | J12: Office | L12: Custodial | N12: Medical | P12: Grand Totals
A14: Item Number | B14: Vendor Name | C14: Vendor's Item Number | D14: Brand | E14: Description | F14: Unit of Order | G14: Unit Price | H14: Quantity Ordered Instruction | I14: Total Cost Instruction | J14: Quantity Ordered Office | K14: Total Cost Office | L14: Quantity Ordered Custodial | M14: Total Cost Custodial | N14: Quantity Ordered Medical | O14: Total Cost Medical | P14: Quantity Ordered | Q14: Total Cost
A15: 1510 | B15: Staples Contract & Commercial | C15: 105809 | D15: Staples S33YR12 | E15: Self-Stick Note Pads, 3 Inch X 3 Inch, Yellow, 100 Sheets/Pad, 12 Pads/Package, 18 Packages/Carton | F15: Carton of 216 | G15: 41.94 | I15: =G15*H15 -> 0 | K15: =G15*J15 -> 0 | M15: =G15*L15 -> 0 | O15: =G15*N15 -> 0 | P15: =H15+J15+L15+N15 -> 0 | Q15: =I15+K15+M15+O15 -> 0
A16: 1547 | B16: Staples Contract & Commercial | C16: 760951 | D16: 3M 559-VAD-6Pk | E16: Post-it Super Sticky Easel Pad, 25 Inch x 30 Inch, 30 Sheets/Pad, 6 Pads/Package | F16: Package of 6 Pads | G16: 115.85 | I16: =G16*H16 -> 0 | K16: =G16*J16 -> 0 | M16: =G16*L16 -> 0 | O16: =G16*N16 -> 0 | P16: =H16+J16+L16+N16 -> 0 | Q16: =I16+K16+M16+O16 -> 0
A18: Reference Only | B18: 1700 SANITARY PAPERS | H18: Instructional | J18: Office | L18: Custodial | N18: Medical | P18: Grand Totals
A20: Item Number | B20: Vendor Name | C20: Vendor's Item Number | D20: Brand | E20: Description | F20: Unit of Order | G20: Unit Price | H20: Quantity Ordered Instruction | I20: Total Cost Instruction | J20: Quantity Ordered Office | K20: Total Cost Office | L20: Quantity Ordered Custodial | M20: Total Cost Custodial | N20: Quantity Ordered Medical | O20: Total Cost Medical | P20: Quantity Ordered | Q20: Total Cost
A21: 1705 | B21: APAC Paper & Packaging | C21: 446811 | D21: Nova Facial | E21: Facial Tissue 2-Ply Flat Box, 100 Tissues/Box, 30 Boxes/Case, 3,000 Sheets/Case | F21: Case of 30 | G21: 16.39 | I21: =G21*H21 -> 0 | K21: =G21*J21 -> 0 | M21: =G21*L21 -> 0 | O21: =G21*N21 -> 0 | P21: =H21+J21+L21+N21 -> 0 | Q21: =I21+K21+M21+O21 -> 0
A22: 1707 | B22: APAC Paper & Packaging | C22: 441130 | D22: Kimberly Clark | E22: Facial Tissue 2-Ply Flat Box, 100 Tissues/Box, 36 Boxes/Case, 3,600 Sheets/Case | F22: Case of 36 | G22: 40.37 | I22: =G22*H22 -> 0 | K22: =G22*J22 -> 0 | M22: =G22*L22 -> 0 | O22: =G22*N22 -> 0 | P22: =H22+J22+L22+N22 -> 0 | Q22: =I22+K22+M22+O22 -> 0
A23: 1708 | B23: APAC Paper & Packaging | C23: 441113 | D23: Kimberly Clark | E23: Facial Tissue, 3-Ply, Anti-Viral, 60 Tissues/Box, 12 Boxes/Case, Kleenex #21286 | F23: Case of 12 | G23: 27.89 | I23: =G23*H23 -> 0 | K23: =G23*J23 -> 0 | M23: =G23*L23 -> 0 | O23: =G23*N23 -> 0 | P23: =H23+J23+L23+N23 -> 0 | Q23: =I23+K23+M23+O23 -> 0
A24: 1709 | B24: Staples Contract & Commercial | C24: 503405 | D24: Scott 07006 | E24: Toilet Tissue Roll, High-Capacity, Jumbo Roll, White, Coreless, 3.7 Inch X 1,150 Feet, 2-ply, 13,800 Linear Feet/Roll, 12 Rolls/Case, Scott 0700602 | F24: Case of 12 | G24: 53.15 | I24: =G24*H24 -> 0 | K24: =G24*J24 -> 0 | M24: =G24*L24 -> 0 | O24: =G24*N24 -> 0 | P24: =H24+J24+L24+N24 -> 0 | Q24: =I24+K24+M24+O24 -> 0
A25: 1710 | B25: Staples Contract & Commercial | C25: 24596679 | D25: Baseline BL62595 | E25: Toilet Tissue Roll, 4.5 Inch X 4.5 Inch, Soft, 500 Sheets/Roll, 96 Rolls/Case, 48,000 Sheets/Case | F25: Case of 96 | G25: 56.25 | I25: =G25*H25 -> 0 | K25: =G25*J25 -> 0 | M25: =G25*L25 -> 0 | O25: =G25*N25 -> 0 | P25: =H25+J25+L25+N25 -> 0 | Q25: =I25+K25+M25+O25 -> 0
A26: 1712 | B26: APAC Paper & Packaging | C26: 441103 | D26: Kimberly Clark | E26: Toilet Tissue Roll, 4.09 Inch X 4.0 Inch, 2-Ply Soft, 506 Sheets/Roll, 60 Rolls/Case, 30,360 Sheets/Case | F26: Case of 60 | G26: 44.97 | I26: =G26*H26 -> 0 | K26: =G26*J26 -> 0 | M26: =G26*L26 -> 0 | O26: =G26*N26 -> 0 | P26: =H26+J26+L26+N26 -> 0 | Q26: =I26+K26+M26+O26 -> 0
A27: 1715 | B27: Imperial Bag & Paper Co | C27: VBJ2100 | D27: Victoria Bay | E27: Toilet Tissue, Jumbo Roll, 9 Inch Diameter, 2-Ply 1,000 Foot Rolls, 12 Rolls/Case | F27: Case of 12 | G27: 23.78 | I27: =G27*H27 -> 0 | K27: =G27*J27 -> 0 | M27: =G27*L27 -> 0 | O27: =G27*N27 -> 0 | P27: =H27+J27+L27+N27 -> 0 | Q27: =I27+K27+M27+O27 -> 0
A28: 1720 | B28: Imperial Bag & Paper Co | C28: 2008 | D28: Cascades PRO | E28: Paper Towels, Single Fold, Highly Absorbent, Natural, 9.25 Inch X 10.25 Inch Open, 9.25 Inch X 5.125 Inch Folded, 250/Package, 16 Packages/Case, 4,000 Towels/Case | F28: Case of 16 Packages | G28: 16.85 | I28: =G28*H28 -> 0 | K28: =G28*J28 -> 0 | M28: =G28*L28 -> 0 | O28: =G28*N28 -> 0 | P28: =H28+J28+L28+N28 -> 0 | Q28: =I28+K28+M28+O28 -> 0
A30: Reference Only | B30: Continued SANITARY PAPERS | H30: Instructional | J30: Office | L30: Custodial | N30: Medical | P30: Grand Totals
A32: Item Number | B32: Vendor Name | C32: Vendor's Item Number | D32: Brand | E32: Description | F32: Unit of Order | G32: Unit Price | H32: Quantity Ordered Instruction | I32: Total Cost Instruction | J32: Quantity Ordered Office | K32: Total Cost Office | L32: Quantity Ordered Custodial | M32: Total Cost Custodial | N32: Quantity Ordered Medical | O32: Total Cost Medical | P32: Quantity Ordered | Q32: Total Cost
A33: 1725 | B33: Imperial Bag & Paper Co | C33: VBMF91K | D33: Victoria Bay | E33: Paper Towels, Multi-Fold, Highly Absorbent, Natural, 9.5 Inch X 9.25 Inch, 250/Package, 16 Packages/Case, 4,000 Towels/Case | F33: Case of 16 Packages | G33: 18.07 | I33: =G33*H33 -> 0 | K33: =G33*J33 -> 0 | M33: =G33*L33 -> 0 | O33: =G33*N33 -> 0 | P33: =H33+J33+L33+N33 -> 0 | Q33: =I33+K33+M33+O33 -> 0
A34: 1730 | B34: APAC Paper & Packaging | C34: 443143 | D34: Kimberly Clark | E34: Paper Towels, Multi-Fold, Kimberly-Clark White, 9.4 Inch X 9.2 Inch, 150/Package, 16/Per Case, 2,400 Towels/Case, Kleenex | F34: Case of 16 Packages | G34: 32.1 | I34: =G34*H34 -> 0 | K34: =G34*J34 -> 0 | M34: =G34*L34 -> 0 | O34: =G34*N34 -> 0 | P34: =H34+J34+L34+N34 -> 0 | Q34: =I34+K34+M34+O34 -> 0
A35: 1735 | B35: Staples Contract & Commercial | C35: 24387406 | D35: Baseline BL55583 | E35: Paper Towel Rolls, Highly Absorbent, Natural, 7-7/8 Inch Wide, Non-Perforated, 600 Linear Feet Roll, 12 Rolls/Case, 7,200 Linear Feet/Case | F35: Case of 12 Rolls | G35: 25.95 | I35: =G35*H35 -> 0 | K35: =G35*J35 -> 0 | M35: =G35*L35 -> 0 | O35: =G35*N35 -> 0 | P35: =H35+J35+L35+N35 -> 0 | Q35: =I35+K35+M35+O35 -> 0
A36: 1740 | B36: Imperial Bag & Paper Co | C36: VBRT350K | D36: Victoria Bay | E36: Paper Towel Rolls, Highly Absorbent Natural, 7-7/8 Inch Wide, 12 Rolls/Case, 350 Linear Feet/Roll, 4,200 Linear Feet/Case | F36: Case of 12 Rolls | G36: 18.5 | I36: =G36*H36 -> 0 | K36: =G36*J36 -> 0 | M36: =G36*L36 -> 0 | O36: =G36*N36 -> 0 | P36: =H36+J36+L36+N36 -> 0 | Q36: =I36+K36+M36+O36 -> 0
A37: 1780 | B37: APAC Paper & Packaging | C37: 426208 | D37: Hospeco | E37: Sanitary Napkin Bag, Wax Coated Paper, Brown, 9 Inch L x 3-1/4 Inch W x 10 Inch D, 250/Case, Health Gards Hospeco HS-6141 | F37: Case of 250 | G37: 14.67 | I37: =G37*H37 -> 0 | K37: =G37*J37 -> 0 | M37: =G37*L37 -> 0 | O37: =G37*N37 -> 0 | P37: =H37+J37+L37+N37 -> 0 | Q37: =I37+K37+M37+O37 -> 0
A39: Reference Only | B39: 1800 PENCILS | H39: Instructional | J39: Office | L39: Custodial | N39: Medical | P39: Grand Totals
A41: Item Number | B41: Vendor Name | C41: Vendor's Item Number | D41: Brand | E41: Description | F41: Unit of Order | G41: Unit Price | H41: Quantity Ordered Instruction | I41: Total Cost Instruction | J41: Quantity Ordered Office | K41: Total Cost Office | L41: Quantity Ordered Custodial | M41: Total Cost Custodial | N41: Quantity Ordered Medical | O41: Total Cost Medical | P41: Quantity Ordered | Q41: Total Cost
A42: 1805 | B42: Staples Contract & Commercial | C42: 137943 | D42: Dixon Oriole 12872 | E42: Pencils, # 2 Black Lead, Hex, Brass Tip With Eraser, 12/Package, 6 Packages/Pack, 20 Packs/Case | F42: Case of 1,440 | G42: 132 | I42: =G42*H42 -> 0 | K42: =G42*J42 -> 0 | M42: =G42*L42 -> 0 | O42: =G42*N42 -> 0 | P42: =H42+J42+L42+N42 -> 0 | Q42: =I42+K42+M42+O42 -> 0
A43: 1835 | B43: Staples Contract & Commercial | C43: 300525 | D43: Crayola 68-4012 | E43: Pencils Colored, 12 Assorted Colors/Set, 12 Sets/Package | F43: Package of 12 Sets | G43: 14.4 | I43: =G43*H43 -> 0 | K43: =G43*J43 -> 0 | M43: =G43*L43 -> 0 | O43: =G43*N43 -> 0 | P43: =H43+J43+L43+N43 -> 0 | Q43: =I43+K43+M43+O43 -> 0
A44: 1840 | B44: Staples Contract & Commercial | C44: 475715 | D44: Crayola 68-4024 | E44: Pencils Colored, 24 Assorted Colors/Set, 6 Sets/Package | F44: Package of 6 Sets | G44: 14.4 | I44: =G44*H44 -> 0 | K44: =G44*J44 -> 0 | M44: =G44*L44 -> 0 | O44: =G44*N44 -> 0 | P44: =H44+J44+L44+N44 -> 0 | Q44: =I44+K44+M44+O44 -> 0
A45: 1845 | B45: Staples Contract & Commercial | C45: 662783 | D45: Crayola 68-4036 | E45: Pencils Colored, 36 Assorted Colors/Set, 6 Sets/Package | F45: Package of 6 Sets | G45: 23.4 | I45: =G45*H45 -> 0 | K45: =G45*J45 -> 0 | M45: =G45*L45 -> 0 | O45: =G45*N45 -> 0 | P45: =H45+J45+L45+N45 -> 0 | Q45: =I45+K45+M45+O45 -> 0
A47: Reference Only | B47: 2000 MARKERS | H47: Instructional | J47: Office | L47: Custodial | N47: Medical | P47: Grand Totals
A49: Item Number | B49: Vendor Name | C49: Vendor's Item Number | D49: Brand | E49: Description | F49: Unit of Order | G49: Unit Price | H49: Quantity Ordered Instruction | I49: Total Cost Instruction | J49: Quantity Ordered Office | K49: Total Cost Office | L49: Quantity Ordered Custodial | M49: Total Cost Custodial | N49: Quantity Ordered Medical | O49: Total Cost Medical | P49: Quantity Ordered | Q49: Total Cost
A50: 2005 | B50: Staples Contract & Commercial | C50: 578608 | D50: Crayola 58-7852 | E50: Marker Fine Line, Washable, 10 Assorted Classic Colors/Set, 6 Sets/Package | F50: Package of 6 Sets | G50: 15.66 | I50: =G50*H50 -> 0 | K50: =G50*J50 -> 0 | M50: =G50*L50 -> 0 | O50: =G50*N50 -> 0 | P50: =H50+J50+L50+N50 -> 0 | Q50: =I50+K50+M50+O50 -> 0
A51: 2006 | B51: Staples Contract & Commercial | C51: 445743 | D51: Crayola 58-7708 | E51: Marker Broad Line, Washable, 10 Assorted Bold Colors/Set, 6 Sets/Package | F51: Package of 6 Sets | G51: 12 | I51: =G51*H51 -> 0 | K51: =G51*J51 -> 0 | M51: =G51*L51 -> 0 | O51: =G51*N51 -> 0 | P51: =H51+J51+L51+N51 -> 0 | Q51: =I51+K51+M51+O51 -> 0
A52: 2007 | B52: Staples Contract & Commercial | C52: 352369 | D52: Crayola 58-7808 | E52: Marker Broad Point, Washable, 8 Assorted Classic Colors/Set, 6 Sets/Package | F52: Package of 6 Sets | G52: 10.32 | I52: =G52*H52 -> 0 | K52: =G52*J52 -> 0 | M52: =G52*L52 -> 0 | O52: =G52*N52 -> 0 | P52: =H52+J52+L52+N52 -> 0 | Q52: =I52+K52+M52+O52 -> 0
A53: 2060 | B53: Staples Contract & Commercial | C53: 379465 | D53: Expo 80174 | E53: Marker White Board Dry Erase, Chisel Point, 4 Assorted Colors/Package | F53: Package of 4 | G53: 2.55 | I53: =G53*H53 -> 0 | K53: =G53*J53 -> 0 | M53: =G53*L53 -> 0 | O53: =G53*N53 -> 0 | P53: =H53+J53+L53+N53 -> 0 | Q53: =I53+K53+M53+O53 -> 0
A54: 2065 | B54: Staples Contract & Commercial | C54: 589824 | D54: Expo 80002 | E54: Marker White Board Dry Erase, Chisel Tip, Red, Dozen | F54: Package of 12 | G54: 8 | I54: =G54*H54 -> 0 | K54: =G54*J54 -> 0 | M54: =G54*L54 -> 0 | O54: =G54*N54 -> 0 | P54: =H54+J54+L54+N54 -> 0 | Q54: =I54+K54+M54+O54 -> 0
A55: 2070 | B55: Staples Contract & Commercial | C55: 1015829 | D55: Expo 1871774 | E55: Marker White Board Dry Erase, Ultra Fine Point, Low-Odor, Black, 4/Package | F55: Package of 4 | G55: 3.1 | I55: =G55*H55 -> 0 | K55: =G55*J55 -> 0 | M55: =G55*L55 -> 0 | O55: =G55*N55 -> 0 | P55: =H55+J55+L55+N55 -> 0 | Q55: =I55+K55+M55+O55 -> 0
A57: Reference Only | B57: 2000 MARKERS Continued | H57: Instructional | J57: Office | L57: Custodial | N57: Medical | P57: Grand Totals
A59: Item Number | B59: Vendor Name | C59: Vendor's Item Number | D59: Brand | E59: Description | F59: Unit of Order | G59: Unit Price | H59: Quantity Ordered Instruction | I59: Total Cost Instruction | J59: Quantity Ordered Office | K59: Total Cost Office | L59: Quantity Ordered Custodial | M59: Total Cost Custodial | N59: Quantity Ordered Medical | O59: Total Cost Medical | P59: Quantity Ordered | Q59: Total Cost
A60: 2080 | B60: Staples Contract & Commercial | C60: 124826 | D60: Expo 16001A | E60: Wet Erase Markers, Fine Point, Washable, Black, Dozen | F60: Package of 12 | G60: 8.25 | I60: =G60*H60 -> 0 | K60: =G60*J60 -> 0 | M60: =G60*L60 -> 0 | O60: =G60*N60 -> 0 | P60: =H60+J60+L60+N60 -> 0 | Q60: =I60+K60+M60+O60 -> 0
A61: 2085 | B61: Staples Contract & Commercial | C61: 125310 | D61: Expo 16078 | E61: Wet Erase Markers, Fine Point, Washable, Assorted Colors, 8/Package | F61: Package of 8 | G61: 7.34 | I61: =G61*H61 -> 0 | K61: =G61*J61 -> 0 | M61: =G61*L61 -> 0 | O61: =G61*N61 -> 0 | P61: =H61+J61+L61+N61 -> 0 | Q61: =I61+K61+M61+O61 -> 0
A62: 2090 | B62: Staples Contract & Commercial | C62: 228452 | D62: Sanford 8430152 | E62: Felt Tip Pens, Medium Point, Black, Dozen | F62: Package of 12 | G62: 8.12 | I62: =G62*H62 -> 0 | K62: =G62*J62 -> 0 | M62: =G62*L62 -> 0 | O62: =G62*N62 -> 0 | P62: =H62+J62+L62+N62 -> 0 | Q62: =I62+K62+M62+O62 -> 0
A63: 2091 | B63: Staples Contract & Commercial | C63: 228445 | D63: Sanford 8420152 | E63: Felt Tip Pens, Medium Point, Red, Dozen | F63: Package of 12 | G63: 8.12 | I63: =G63*H63 -> 0 | K63: =G63*J63 -> 0 | M63: =G63*L63 -> 0 | O63: =G63*N63 -> 0 | P63: =H63+J63+L63+N63 -> 0 | Q63: =I63+K63+M63+O63 -> 0
A64: 2092 | B64: Staples Contract & Commercial | C64: 615725 | D64: Sanford 74423 | E64: Felt Tip Pens, Medium Point, Assorted Color Ink, 12/Package | F64: Package of 12 | G64: 8.12 | I64: =G64*H64 -> 0 | K64: =G64*J64 -> 0 | M64: =G64*L64 -> 0 | O64: =G64*N64 -> 0 | P64: =H64+J64+L64+N64 -> 0 | Q64: =I64+K64+M64+O64 -> 0
A66: Reference Only | B66: 2100 CRAYONS | H66: Instructional | J66: Office | L66: Custodial | N66: Medical | P66: Grand Totals
A68: Item Number | B68: Vendor Name | C68: Vendor's Item Number | D68: Brand | E68: Description | F68: Unit of Order | G68: Unit Price | H68: Quantity Ordered Instruction | I68: Total Cost Instruction | J68: Quantity Ordered Office | K68: Total Cost Office | L68: Quantity Ordered Custodial | M68: Total Cost Custodial | N68: Quantity Ordered Medical | O68: Total Cost Medical | P68: Quantity Ordered | Q68: Total Cost
A69: 2120 | B69: Staples Contract & Commercial | C69: 299198 | D69: Crayola 52-3024 | E69: Crayons Wax, Regular Size, 24 Assorted Colors/Set, 12 Sets/Package | F69: Package of 12 Sets | G69: 10.56 | I69: =G69*H69 -> 0 | K69: =G69*J69 -> 0 | M69: =G69*L69 -> 0 | O69: =G69*N69 -> 0 | P69: =H69+J69+L69+N69 -> 0 | Q69: =I69+K69+M69+O69 -> 0
A71: Reference Only | B71: 2200 PAINT SETS | H71: Instructional | J71: Office | L71: Custodial | N71: Medical | P71: Grand Totals
A73: Item Number | B73: Vendor Name | C73: Vendor's Item Number | D73: Brand | E73: Description | F73: Unit of Order | G73: Unit Price | H73: Quantity Ordered Instruction | I73: Total Cost Instruction | J73: Quantity Ordered Office | K73: Total Cost Office | L73: Quantity Ordered Custodial | M73: Total Cost Custodial | N73: Quantity Ordered Medical | O73: Total Cost Medical | P73: Quantity Ordered | Q73: Total Cost
A74: 2230 | B74: Staples Contract & Commercial | C74: 430745 | D74: Crayola 53-0080 | E74: Paint Sets, Water Color, Semi-Moist In Plastic Box With Hinged Cover, Paints In 1/2 Inch Pans, CP Certified, 1 Number 7 Camel Hair Brush Included In Each Set, 8 Colors/Set, 6 Sets/Package | F74: Package of 6 Sets | G74: 12 | I74: =G74*H74 -> 0 | K74: =G74*J74 -> 0 | M74: =G74*L74 -> 0 | O74: =G74*N74 -> 0 | P74: =H74+J74+L74+N74 -> 0 | Q74: =I74+K74+M74+O74 -> 0
A76: Reference Only | B76: 2400 LABELS | H76: Instructional | J76: Office | L76: Custodial | N76: Medical | P76: Grand Totals
A78: Item Number | B78: Vendor Name | C78: Vendor's Item Number | D78: Brand | E78: Description | F78: Unit of Order | G78: Unit Price | H78: Quantity Ordered Instruction | I78: Total Cost Instruction | J78: Quantity Ordered Office | K78: Total Cost Office | L78: Quantity Ordered Custodial | M78: Total Cost Custodial | N78: Quantity Ordered Medical | O78: Total Cost Medical | P78: Quantity Ordered | Q78: Total Cost
A79: 2430 | B79: Pyramid School Products | C79: 30600 | D79: Avery 30600 | E79: Labels Address, 1 Inch X 2 5/8 Inch, For Laser Printers, 30 Labels/Sheet, 100 Sheets/Box | F79: Box of 100 Sheets | G79: 7.39 | I79: =G79*H79 -> 0 | K79: =G79*J79 -> 0 | M79: =G79*L79 -> 0 | O79: =G79*N79 -> 0 | P79: =H79+J79+L79+N79 -> 0 | Q79: =I79+K79+M79+O79 -> 0
A81: Reference Only | B81: 2500 LOOSE LEAF NOTEBOOKS | H81: Instructional | J81: Office | L81: Custodial | N81: Medical | P81: Grand Totals
A83: Item Number | B83: Vendor Name | C83: Vendor's Item Number | D83: Brand | E83: Description | F83: Unit of Order | G83: Unit Price | H83: Quantity Ordered Instruction | I83: Total Cost Instruction | J83: Quantity Ordered Office | K83: Total Cost Office | L83: Quantity Ordered Custodial | M83: Total Cost Custodial | N83: Quantity Ordered Medical | O83: Total Cost Medical | P83: Quantity Ordered | Q83: Total Cost
A84: 2502 | B84: Staples Contract & Commercial | C84: 358168 | D84: Staples 23735-21684 | E84: Notebook Loose Leaf, 3 Ring, 1 Inch Wide, White Vinyl Covers, Full Clear Vinyl Pockets On the Outside, Front and Back Covers and Along Spine, For 8.5 Inch X 11 Inch Paper, Top And Bottom Release Latches | F84: Each | G84: 1.66 | I84: =G84*H84 -> 0 | K84: =G84*J84 -> 0 | M84: =G84*L84 -> 0 | O84: =G84*N84 -> 0 | P84: =H84+J84+L84+N84 -> 0 | Q84: =I84+K84+M84+O84 -> 0
A85: 2504 | B85: Staples Contract & Commercial | C85: 358174 | D85: Staples 23725-21688 | E85: Notebook Loose Leaf, 3 Ring, 2 Inch Wide, White Vinyl Covers, Full Clear Vinyl Pockets On Outside, Front and Back Covers and Along Spine, For 8.5 Inch X 11 Inch Paper, Top And Bottom Release Latches | F85: Each | G85: 2.35 | I85: =G85*H85 -> 0 | K85: =G85*J85 -> 0 | M85: =G85*L85 -> 0 | O85: =G85*N85 -> 0 | P85: =H85+J85+L85+N85 -> 0 | Q85: =I85+K85+M85+O85 -> 0
A87: Reference Only | B87: 2600 FILE FOLDERS, PORTFOLIOS | H87: Instructional | J87: Office | L87: Custodial | N87: Medical | P87: Grand Totals
A89: Item Number | B89: Vendor Name | C89: Vendor's Item Number | D89: Brand | E89: Description | F89: Unit of Order | G89: Unit Price | H89: Quantity Ordered Instruction | I89: Total Cost Instruction | J89: Quantity Ordered Office | K89: Total Cost Office | L89: Quantity Ordered Custodial | M89: Total Cost Custodial | N89: Quantity Ordered Medical | O89: Total Cost Medical | P89: Quantity Ordered | Q89: Total Cost
A90: 2615 | B90: Staples Contract & Commercial | C90: 116657 | D90: Staples ST56675 | E90: File Folders, Letter Size, 3 Cut, Manila, 100/Box | F90: Box of 100 | G90: 7.45 | I90: =G90*H90 -> 0 | K90: =G90*J90 -> 0 | M90: =G90*L90 -> 0 | O90: =G90*N90 -> 0 | P90: =H90+J90+L90+N90 -> 0 | Q90: =I90+K90+M90+O90 -> 0
A91: 2620 | B91: Staples Contract & Commercial | C91: 116699 | D91: Staples ST22937 | E91: File Folders, Letter Size, 5 Cut, Manila, 100/Box | F91: Box of 100 | G91: 8.8 | I91: =G91*H91 -> 0 | K91: =G91*J91 -> 0 | M91: =G91*L91 -> 0 | O91: =G91*N91 -> 0 | P91: =H91+J91+L91+N91 -> 0 | Q91: =I91+K91+M91+O91 -> 0
A92: 2625 | B92: Staples Contract & Commercial | C92: 116764 | D92: Staples ST116764 | E92: File Folders Hanging, Letter Size, 5 Cut With Tabs, 25/Box | F92: Box of 25 | G92: 7.82 | I92: =G92*H92 -> 0 | K92: =G92*J92 -> 0 | M92: =G92*L92 -> 0 | O92: =G92*N92 -> 0 | P92: =H92+J92+L92+N92 -> 0 | Q92: =I92+K92+M92+O92 -> 0
A93: 2635 | B93: Pyramid School Products | C93: 50770 | D93: Tops Oxford 50770 | E93: Folder Pocket Portfolio, With Fasteners, Double Pockets, Assorted Colors, 25/Package | F93: Package of 25 | G93: 9.95 | I93: =G93*H93 -> 0 | K93: =G93*J93 -> 0 | M93: =G93*L93 -> 0 | O93: =G93*N93 -> 0 | P93: =H93+J93+L93+N93 -> 0 | Q93: =I93+K93+M93+O93 -> 0
A94: 2650 | B94: Pyramid School Products | C94: 50750 | D94: Tops Oxford 50750 | E94: Folder Pocket, No Fasteners, Double Pockets, Assorted Colors 25/Box | F94: Box of 25 | G94: 7.95 | I94: =G94*H94 -> 0 | K94: =G94*J94 -> 0 | M94: =G94*L94 -> 0 | O94: =G94*N94 -> 0 | P94: =H94+J94+L94+N94 -> 0 | Q94: =I94+K94+M94+O94 -> 0
A96: Reference Only | B96: 2900 SCISSORS | H96: Instructional | J96: Office | L96: Custodial | N96: Medical | P96: Grand Totals
A98: Item Number | B98: Vendor Name | C98: Vendor's Item Number | D98: Brand | E98: Description | F98: Unit of Order | G98: Unit Price | H98: Quantity Ordered Instruction | I98: Total Cost Instruction | J98: Quantity Ordered Office | K98: Total Cost Office | L98: Quantity Ordered Custodial | M98: Total Cost Custodial | N98: Quantity Ordered Medical | O98: Total Cost Medical | P98: Quantity Ordered | Q98: Total Cost
A99: 2915 | B99: Staples Contract & Commercial | C99: 257089 | D99: Fiskars 94167797 | E99: Scissors, 5 Inch, Blunt Point, 1 Dozen/Package | F99: Package of 12 | G99: 17.4 | I99: =G99*H99 -> 0 | K99: =G99*J99 -> 0 | M99: =G99*L99 -> 0 | O99: =G99*N99 -> 0 | P99: =H99+J99+L99+N99 -> 0 | Q99: =I99+K99+M99+O99 -> 0
A100: 2920 | B100: Staples Contract & Commercial | C100: 407908 | D100: Fiskars 94307097J | E100: Scissors, 5 Inch, Sharp Point, 1 Dozen/Package | F100: Package of 12 | G100: 17.4 | I100: =G100*H100 -> 0 | K100: =G100*J100 -> 0 | M100: =G100*L100 -> 0 | O100: =G100*N100 -> 0 | P100: =H100+J100+L100+N100 -> 0 | Q100: =I100+K100+M100+O100 -> 0
A101: 2924 | B101: Staples Contract & Commercial | C101: 24395089 | D101: Westcott 17532 | E101: Westcott Titanium Bonded, 8 Inch, Titanium, Multi-Purpose/Heavy Duty Scissor, Pointed Tip, Gray/Yellow, 3/Package | F101: Package of 3 | G101: 13.29 | I101: =G101*H101 -> 0 | K101: =G101*J101 -> 0 | M101: =G101*L101 -> 0 | O101: =G101*N101 -> 0 | P101: =H101+J101+L101+N101 -> 0 | Q101: =I101+K101+M101+O101 -> 0
A103: Reference Only | B103: 3000 ADHESIVES | H103: Instructional | J103: Office | L103: Custodial | N103: Medical | P103: Grand Totals
A105: Item Number | B105: Vendor Name | C105: Vendor's Item Number | D105: Brand | E105: Description | F105: Unit of Order | G105: Unit Price | H105: Quantity Ordered Instruction | I105: Total Cost Instruction | J105: Quantity Ordered Office | K105: Total Cost Office | L105: Quantity Ordered Custodial | M105: Total Cost Custodial | N105: Quantity Ordered Medical | O105: Total Cost Medical | P105: Quantity Ordered | Q105: Total Cost
A106: 3017 | B106: Pyramid School Products | C106: 67-475 | D106: STX 67-475 | E106: Glue Stick, Washable, .74 Ounce, Rub-On Glue For Paper, Cardboard, Photos, Fast Dry, Acid Free, Non-toxic | F106: Package of 12 .74 oz Tube Stick | G106: 3.48 | I106: =G106*H106 -> 0 | K106: =G106*J106 -> 0 | M106: =G106*L106 -> 0 | O106: =G106*N106 -> 0 | P106: =H106+J106+L106+N106 -> 0 | Q106: =I106+K106+M106+O106 -> 0
A107: 3018 | B107: Pyramid School Products | C107: 67-477 | D107: STX 67-477 | E107: Glue Stick, Washable, 1.27 Ounce, Rub-On Glue For Paper, Cardboard, Fabric, Photos, Polystyrene, Etc. | F107: Package of 12 1.27 Ounce Tube Stick | G107: 4.8 | I107: =G107*H107 -> 0 | K107: =G107*J107 -> 0 | M107: =G107*L107 -> 0 | O107: =G107*N107 -> 0 | P107: =H107+J107+L107+N107 -> 0 | Q107: =I107+K107+M107+O107 -> 0
A109: Reference Only | B109: Continued ADHESIVES | H109: Instructional | J109: Office | L109: Custodial | N109: Medical | P109: Grand Totals
A110: Item Number | B110: Vendor Name | C110: Vendor's Item Number | D110: Brand | E110: Description | F110: Unit of Order | G110: Unit Price | H110: Quantity Ordered Instruction | I110: Total Cost Instruction | J110: Quantity Ordered Office | K110: Total Cost Office | L110: Quantity Ordered Custodial | M110: Total Cost Custodial | N110: Quantity Ordered Medical | O110: Total Cost Medical | P110: Quantity Ordered | Q110: Total Cost
A111: 3045 | B111: Staples Contract & Commercial | C111: 812041 | D111: Highland 26001 | E111: Tape, Masking, 1 Inch Wide X 60 Yards Long, 3 Inch Core Roll | F111: Each | G111: 50.4 | I111: =G111*H111 -> 0 | K111: =G111*J111 -> 0 | M111: =G111*L111 -> 0 | O111: =G111*N111 -> 0 | P111: =H111+J111+L111+N111 -> 0 | Q111: =I111+K111+M111+O111 -> 0
A112: 3048 | B112: Staples Contract & Commercial | C112: 812042 | D112: Highland 26002 | E112: Tape, Masking, 2 Inch Wide X 60 Yards Long, 3 Inch Core | F112: Each | G112: 64.56 | I112: =G112*H112 -> 0 | K112: =G112*J112 -> 0 | M112: =G112*L112 -> 0 | O112: =G112*N112 -> 0 | P112: =H112+J112+L112+N112 -> 0 | Q112: =I112+K112+M112+O112 -> 0
A113: 3068 | B113: Staples Contract & Commercial | C113: 468389 | D113: Staples 468389-CL | E113: Tape, Duct, 1.88 Inch X 60.14 Yards, Roll, Utility Grade, Silver, Cloth Waterproof Backing, 7 Mil Thick, 6 Rolls/Package | F113: Package of 6 | G113: 44.76 | I113: =G113*H113 -> 0 | K113: =G113*J113 -> 0 | M113: =G113*L113 -> 0 | O113: =G113*N113 -> 0 | P113: =H113+J113+L113+N113 -> 0 | Q113: =I113+K113+M113+O113 -> 0
A115: Reference Only | B115: 3100 STAPLERS | H115: Instructional | J115: Office | L115: Custodial | N115: Medical | P115: Grand Totals
A117: Item Number | B117: Vendor Name | C117: Vendor's Item Number | D117: Brand | E117: Description | F117: Unit of Order | G117: Unit Price | H117: Quantity Ordered Instruction | I117: Total Cost Instruction | J117: Quantity Ordered Office | K117: Total Cost Office | L117: Quantity Ordered Custodial | M117: Total Cost Custodial | N117: Quantity Ordered Medical | O117: Total Cost Medical | P117: Quantity Ordered | Q117: Total Cost
A118: 3110 | B118: Pyramid School Products | C118: 74701 | D118: Swingline 747BK | E118: Stapler, Office, Black | F118: Each | G118: 8.49 | I118: =G118*H118 -> 0 | K118: =G118*J118 -> 0 | M118: =G118*L118 -> 0 | O118: =G118*N118 -> 0 | P118: =H118+J118+L118+N118 -> 0 | Q118: =I118+K118+M118+O118 -> 0
A120: Reference Only | B120: 3200 PENCIL SHARPENERS | H120: Instructional | J120: Office | L120: Custodial | N120: Medical | P120: Grand Totals
A122: Item Number | B122: Vendor Name | C122: Vendor's Item Number | D122: Brand | E122: Description | F122: Unit of Order | G122: Unit Price | H122: Quantity Ordered Instruction | I122: Total Cost Instruction | J122: Quantity Ordered Office | K122: Total Cost Office | L122: Quantity Ordered Custodial | M122: Total Cost Custodial | N122: Quantity Ordered Medical | O122: Total Cost Medical | P122: Quantity Ordered | Q122: Total Cost
A123: 3220 | B123: Staples Contract & Commercial | C123: 758039 | D123: X-Acto 1675x | E123: Pencil Sharpener, Electric, XL Shavings Receptable, X-Acto 1675X | F123: Each | G123: 35.95 | I123: =G123*H123 -> 0 | K123: =G123*J123 -> 0 | M123: =G123*L123 -> 0 | O123: =G123*N123 -> 0 | P123: =H123+J123+L123+N123 -> 0 | Q123: =I123+K123+M123+O123 -> 0
A124: 3230 | B124: Staples Contract & Commercial | C124: 116475 | D124: X-Acto 1031 | E124: Pencil Sharpener, Manual, All Metal, 8-Hole, Wall or Desk Mountable | F124: Each | G124: 8.02 | I124: =G124*H124 -> 0 | K124: =G124*J124 -> 0 | M124: =G124*L124 -> 0 | O124: =G124*N124 -> 0 | P124: =H124+J124+L124+N124 -> 0 | Q124: =I124+K124+M124+O124 -> 0
A126: Reference Only | B126: 3300 COFFEE, HOT/COLD CUPS, NAPKINS | H126: Instructional | J126: Office | L126: Custodial | N126: Medical | P126: Grand Totals
A128: Item Number | B128: Vendor Name | C128: Vendor's Item Number | D128: Brand | E128: Description | F128: Unit of Order | G128: Unit Price | H128: Quantity Ordered Instruction | I128: Total Cost Instruction | J128: Quantity Ordered Office | K128: Total Cost Office | L128: Quantity Ordered Custodial | M128: Total Cost Custodial | N128: Quantity Ordered Medical | O128: Total Cost Medical | P128: Quantity Ordered | Q128: Total Cost
A129: 3320 | B129: Imprial Bag & Paper Co | C129: FOL06239 | D129: Folgers | E129: Coffee, Premeasured in Filter Packs, Regular, 0.90 oz Filter Packs, 40 Packs/Carton | F129: Carton of 40 | G129: 38.54 | I129: =G129*H129 -> 0 | K129: =G129*J129 -> 0 | M129: =G129*L129 -> 0 | O129: =G129*N129 -> 0 | P129: =H129+J129+L129+N129 -> 0 | Q129: =I129+K129+M129+O129 -> 0
A130: 3370 | B130: Imprial Bag & Paper Co | C130: 8J8 | D130: Dart | E130: Cups, Beverage, Hot/Cold, 8 Ounce, Styrofoam, 1,000 Cups/Case | F130: Case of 1,000 | G130: 29.59 | I130: =G130*H130 -> 0 | K130: =G130*J130 -> 0 | M130: =G130*L130 -> 0 | O130: =G130*N130 -> 0 | P130: =H130+J130+L130+N130 -> 0 | Q130: =I130+K130+M130+O130 -> 0
A132: Reference Only | B132: 3400 ART CLAY | H132: Instructional | J132: Office | L132: Custodial | N132: Medical | P132: Grand Totals
A134: Item Number | B134: Vendor Name | C134: Vendor's Item Number | D134: Brand | E134: Description | F134: Unit of Order | G134: Unit Price | H134: Quantity Ordered Instruction | I134: Total Cost Instruction | J134: Quantity Ordered Office | K134: Total Cost Office | L134: Quantity Ordered Custodial | M134: Total Cost Custodial | N134: Quantity Ordered Medical | O134: Total Cost Medical | P134: Quantity Ordered | Q134: Total Cost
A135: 3430 | B135: Runyan Pottery | C135: SC-225 | D135: School Low Fire White | E135: Clay, School, White, Earthenware, Grey Bodied Low-Fire, 50 Pound Carton | F135: Carton | G135: 37.5 | I135: =G135*H135 -> 0 | K135: =G135*J135 -> 0 | M135: =G135*L135 -> 0 | O135: =G135*N135 -> 0 | P135: =H135+J135+L135+N135 -> 0 | Q135: =I135+K135+M135+O135 -> 0
A137: Reference Only | B137: 3600 FIRST AID/HEALTH | H137: Instructional | J137: Office | L137: Custodial | N137: Medical | P137: Grand Totals
A139: Item Number | B139: Vendor Name | C139: Vendor's Item Number | D139: Brand | E139: Description | F139: Unit of Order | G139: Unit Price | H139: Quantity Ordered Instruction | I139: Total Cost Instruction | J139: Quantity Ordered Office | K139: Total Cost Office | L139: Quantity Ordered Custodial | M139: Total Cost Custodial | N139: Quantity Ordered Medical | O139: Total Cost Medical | P139: Quantity Ordered | Q139: Total Cost
A140: 3620 | B140: Staples Contract & Commercial | C140: 898936 | D140: First Aid Only FAOG122 | E140: Bandages, Adhesive, 1 Inch By 3 Inch, Latex Free, Flexible Fabric, Sterile, Individually Wrapped, Box Of 100 | F140: Box of 100 | G140: 7.12 | I140: =G140*H140 -> 0 | K140: =G140*J140 -> 0 | M140: =G140*L140 -> 0 | O140: =G140*N140 -> 0 | P140: =H140+J140+L140+N140 -> 0 | Q140: =I140+K140+M140+O140 -> 0
...
