Workbook
Name AK: 'High Cost Rates'!$M$4:$M$36
Name AL: 'High Cost Rates'!$N$4:$N$36
Name AR: 'High Cost Rates'!$O$4:$O$36
Name AZ: 'High Cost Rates'!$P$4:$P$36
Name CA: 'High Cost Rates'!$Q$4:$Q$36
Name CO: 'High Cost Rates'!$R$4:$R$36
Name CT: 'High Cost Rates'!$S$4:$S$36
Name DC: 'High Cost Rates'!$T$4:$T$36
Name DE: 'High Cost Rates'!$U$4:$U$36
Name FL: 'High Cost Rates'!$V$4:$V$36
Name GA: 'High Cost Rates'!$W$4:$W$36
Name HI: 'High Cost Rates'!$X$4:$X$36
Name IA: 'High Cost Rates'!$Y$4:$Y$36
Name ID: 'High Cost Rates'!$Z$4:$Z$36
Name IL: 'High Cost Rates'!$AA$4:$AA$36
Name IN: 'High Cost Rates'!$AB$4:$AB$36
Name KS: 'High Cost Rates'!$AC$4:$AC$36
Name KY: 'High Cost Rates'!$AD$4:$AD$36
Name LA: 'High Cost Rates'!$AE$4:$AE$36
Name MA: 'High Cost Rates'!$AF$4:$AF$36
Name MD: 'High Cost Rates'!$AG$4:$AG$36
Name ME: 'High Cost Rates'!$AH$4:$AH$36
Name MI: 'High Cost Rates'!$AI$4:$AI$36
Name MN: 'High Cost Rates'!$AJ$4:$AJ$36
Name MO: 'High Cost Rates'!$AK$4:$AK$36
Name MS: 'High Cost Rates'!$AL$4:$AL$36
Name MT: 'High Cost Rates'!$AM$4:$AM$36
Name NC: 'High Cost Rates'!$AN$4:$AN$36
Name NE: 'High Cost Rates'!$AO$4:$AO$36
Name NH: 'High Cost Rates'!$AP$4:$AP$36
Name NJ: 'High Cost Rates'!$AQ$4:$AQ$36
Name NM: 'High Cost Rates'!$AR$4:$AR$36
Name NV: 'High Cost Rates'!$AS$4:$AS$36
Name NY: 'High Cost Rates'!$AT$4:$AT$36
Name OH: 'High Cost Rates'!$AU$4:$AU$36
Name OK: 'High Cost Rates'!$AV$4:$AV$36
Name OR: 'High Cost Rates'!$AW$4:$AW$36
Name PA: 'High Cost Rates'!$AX$4:$AX$36
Name RI: 'High Cost Rates'!$AY$4:$AY$36
Name SC: 'High Cost Rates'!$AZ$4:$AZ$36
Name SD: 'High Cost Rates'!$BA$4:$BA$36
Name TN: 'High Cost Rates'!$BB$4:$BB$36
Name TX: 'High Cost Rates'!$BC$4:$BC$36
Name UT: 'High Cost Rates'!$BD$4:$BD$36
Name VA: 'High Cost Rates'!$BE$4:$BE$36
Name VT: 'High Cost Rates'!$BF$4:$BF$36
Name WA: 'High Cost Rates'!$BG$4:$BG$36
Name WI: 'High Cost Rates'!$BH$4:$BH$36
Name WV: 'High Cost Rates'!$BI$4:$BI$36
Name WY: 'High Cost Rates'!$BJ$4:$BJ$36

Sheet Calculator
B1: Meal Reimbursement Calculator
C4: Destination:
D6: State | E6: NC
D8: City | E8: Chapel Hill
C11: Dates:
D13: From: | E13: 46114
D15: To: | E15: 46122
B19: Dates | D19: City | E19: State | G19: Amount
B20: =IF(E13="","",E13) -> 46114 | D20: =IF(B20="","",$E$8) -> Chapel Hill | E20: =IF(B20="","",$E$6) -> NC | G20: {=IFERROR(IF(B20="","",_xlfn.XLOOKUP(1,('High Cost Rates'!$C$4:$C$669=D20)*('High Cost Rates'!$B$4:$B$669=E20),'High Cost Rates'!$E$4:$E$669,'High Cost Rates'!$E$3)*0.75),"")} -> 60
B21: =IF(B20="","",B20+1) -> 46115 | D21: =IF(B21="","",$E$8) -> Chapel Hill | E21: =IF(B21="","",$E$6) -> NC | G21: {=IFERROR(IF(B21="","",IF(B21=$E$15,_xlfn.XLOOKUP(1,('High Cost Rates'!$C$4:$C$669=D21)*('High Cost Rates'!$B$4:$B$669=E21),'High Cost Rates'!$E$4:$E$669,'High Cost Rates'!$E$3)*0.75,_xlfn.XLOOKUP(1,('High Cost Rates'!$C$4:$C$669=D21)*('High Cost Rates'!$B$4:$B$669=E21),'High Cost Rates'!$E$4:$E$669,'High Cost Rates'!$E$3))),"")} -> 80
B22: =IF($E$15>B21,B21+1,"") -> 46116 | D22: =IF(B22="","",$E$8) -> Chapel Hill | E22: =IF(B22="","",$E$6) -> NC | G22: {=IFERROR(IF(B22="","",IF(B22=$E$15,_xlfn.XLOOKUP(1,('High Cost Rates'!$C$4:$C$669=D22)*('High Cost Rates'!$B$4:$B$669=E22),'High Cost Rates'!$E$4:$E$669,'High Cost Rates'!$E$3)*0.75,_xlfn.XLOOKUP(1,('High Cost Rates'!$C$4:$C$669=D22)*('High Cost Rates'!$B$4:$B$669=E22),'High Cost Rates'!$E$4:$E$669,'High Cost Rates'!$E$3))),"")} -> 80
B23: =IF($E$15>B22,B22+1,"") -> 46117 | D23: =IF(B23="","",$E$8) -> Chapel Hill | E23: =IF(B23="","",$E$6) -> NC | G23: {=IFERROR(IF(B23="","",IF(B23=$E$15,_xlfn.XLOOKUP(1,('High Cost Rates'!$C$4:$C$669=D23)*('High Cost Rates'!$B$4:$B$669=E23),'High Cost Rates'!$E$4:$E$669,'High Cost Rates'!$E$3)*0.75,_xlfn.XLOOKUP(1,('High Cost Rates'!$C$4:$C$669=D23)*('High Cost Rates'!$B$4:$B$669=E23),'High Cost Rates'!$E$4:$E$669,'High Cost Rates'!$E$3))),"")} -> 80
B24: =IF($E$15>B23,B23+1,"") -> 46118 | D24: =IF(B24="","",$E$8) -> Chapel Hill | E24: =IF(B24="","",$E$6) -> NC | G24: {=IFERROR(IF(B24="","",IF(B24=$E$15,_xlfn.XLOOKUP(1,('High Cost Rates'!$C$4:$C$669=D24)*('High Cost Rates'!$B$4:$B$669=E24),'High Cost Rates'!$E$4:$E$669,'High Cost Rates'!$E$3)*0.75,_xlfn.XLOOKUP(1,('High Cost Rates'!$C$4:$C$669=D24)*('High Cost Rates'!$B$4:$B$669=E24),'High Cost Rates'!$E$4:$E$669,'High Cost Rates'!$E$3))),"")} -> 80
B25: =IF($E$15>B24,B24+1,"") -> 46119 | D25: =IF(B25="","",$E$8) -> Chapel Hill | E25: =IF(B25="","",$E$6) -> NC | G25: {=IFERROR(IF(B25="","",IF(B25=$E$15,_xlfn.XLOOKUP(1,('High Cost Rates'!$C$4:$C$669=D25)*('High Cost Rates'!$B$4:$B$669=E25),'High Cost Rates'!$E$4:$E$669,'High Cost Rates'!$E$3)*0.75,_xlfn.XLOOKUP(1,('High Cost Rates'!$C$4:$C$669=D25)*('High Cost Rates'!$B$4:$B$669=E25),'High Cost Rates'!$E$4:$E$669,'High Cost Rates'!$E$3))),"")} -> 80
B26: =IF($E$15>B25,B25+1,"") -> 46120 | D26: =IF(B26="","",$E$8) -> Chapel Hill | E26: =IF(B26="","",$E$6) -> NC | G26: {=IFERROR(IF(B26="","",IF(B26=$E$15,_xlfn.XLOOKUP(1,('High Cost Rates'!$C$4:$C$669=D26)*('High Cost Rates'!$B$4:$B$669=E26),'High Cost Rates'!$E$4:$E$669,'High Cost Rates'!$E$3)*0.75,_xlfn.XLOOKUP(1,('High Cost Rates'!$C$4:$C$669=D26)*('High Cost Rates'!$B$4:$B$669=E26),'High Cost Rates'!$E$4:$E$669,'High Cost Rates'!$E$3))),"")} -> 80
B27: =IF($E$15>B26,B26+1,"") -> 46121 | D27: =IF(B27="","",$E$8) -> Chapel Hill | E27: =IF(B27="","",$E$6) -> NC | G27: {=IFERROR(IF(B27="","",IF(B27=$E$15,_xlfn.XLOOKUP(1,('High Cost Rates'!$C$4:$C$669=D27)*('High Cost Rates'!$B$4:$B$669=E27),'High Cost Rates'!$E$4:$E$669,'High Cost Rates'!$E$3)*0.75,_xlfn.XLOOKUP(1,('High Cost Rates'!$C$4:$C$669=D27)*('High Cost Rates'!$B$4:$B$669=E27),'High Cost Rates'!$E$4:$E$669,'High Cost Rates'!$E$3))),"")} -> 80
B28: =IF($E$15>B27,B27+1,"") -> 46122 | D28: =IF(B28="","",$E$8) -> Chapel Hill | E28: =IF(B28="","",$E$6) -> NC | G28: {=IFERROR(IF(B28="","",IF(B28=$E$15,_xlfn.XLOOKUP(1,('High Cost Rates'!$C$4:$C$669=D28)*('High Cost Rates'!$B$4:$B$669=E28),'High Cost Rates'!$E$4:$E$669,'High Cost Rates'!$E$3)*0.75,_xlfn.XLOOKUP(1,('High Cost Rates'!$C$4:$C$669=D28)*('High Cost Rates'!$B$4:$B$669=E28),'High Cost Rates'!$E$4:$E$669,'High Cost Rates'!$E$3))),"")} -> 60
B29: =IF($E$15>B28,B28+1,"") | D29: =IF(B29="","",$E$8) | E29: =IF(B29="","",$E$6) | G29: {=IFERROR(IF(B29="","",IF(B29=$E$15,_xlfn.XLOOKUP(1,('High Cost Rates'!$C$4:$C$669=D29)*('High Cost Rates'!$B$4:$B$669=E29),'High Cost Rates'!$E$4:$E$669,'High Cost Rates'!$E$3)*0.75,_xlfn.XLOOKUP(1,('High Cost Rates'!$C$4:$C$669=D29)*('High Cost Rates'!$B$4:$B$669=E29),'High Cost Rates'!$E$4:$E$669,'High Cost Rates'!$E$3))),"")}
B30: =IF($E$15>B29,B29+1,"") | D30: =IF(B30="","",$E$8) | E30: =IF(B30="","",$E$6) | G30: {=IFERROR(IF(B30="","",IF(B30=$E$15,_xlfn.XLOOKUP(1,('High Cost Rates'!$C$4:$C$669=D30)*('High Cost Rates'!$B$4:$B$669=E30),'High Cost Rates'!$E$4:$E$669,'High Cost Rates'!$E$3)*0.75,_xlfn.XLOOKUP(1,('High Cost Rates'!$C$4:$C$669=D30)*('High Cost Rates'!$B$4:$B$669=E30),'High Cost Rates'!$E$4:$E$669,'High Cost Rates'!$E$3))),"")}
B31: =IF($E$15>B30,B30+1,"") | D31: =IF(B31="","",$E$8) | E31: =IF(B31="","",$E$6) | G31: {=IFERROR(IF(B31="","",IF(B31=$E$15,_xlfn.XLOOKUP(1,('High Cost Rates'!$C$4:$C$669=D31)*('High Cost Rates'!$B$4:$B$669=E31),'High Cost Rates'!$E$4:$E$669,'High Cost Rates'!$E$3)*0.75,_xlfn.XLOOKUP(1,('High Cost Rates'!$C$4:$C$669=D31)*('High Cost Rates'!$B$4:$B$669=E31),'High Cost Rates'!$E$4:$E$669,'High Cost Rates'!$E$3))),"")}
B32: =IF($E$15>B31,B31+1,"") | D32: =IF(B32="","",$E$8) | E32: =IF(B32="","",$E$6) | G32: {=IFERROR(IF(B32="","",IF(B32=$E$15,_xlfn.XLOOKUP(1,('High Cost Rates'!$C$4:$C$669=D32)*('High Cost Rates'!$B$4:$B$669=E32),'High Cost Rates'!$E$4:$E$669,'High Cost Rates'!$E$3)*0.75,_xlfn.XLOOKUP(1,('High Cost Rates'!$C$4:$C$669=D32)*('High Cost Rates'!$B$4:$B$669=E32),'High Cost Rates'!$E$4:$E$669,'High Cost Rates'!$E$3))),"")}
B33: =IF($E$15>B32,B32+1,"") | D33: =IF(B33="","",$E$8) | E33: =IF(B33="","",$E$6) | G33: {=IFERROR(IF(B33="","",IF(B33=$E$15,_xlfn.XLOOKUP(1,('High Cost Rates'!$C$4:$C$669=D33)*('High Cost Rates'!$B$4:$B$669=E33),'High Cost Rates'!$E$4:$E$669,'High Cost Rates'!$E$3)*0.75,_xlfn.XLOOKUP(1,('High Cost Rates'!$C$4:$C$669=D33)*('High Cost Rates'!$B$4:$B$669=E33),'High Cost Rates'!$E$4:$E$669,'High Cost Rates'!$E$3))),"")}
... B41: =IF($E$15>B40,B40+1,"") | D41: =IF(B41="","",$E$8) | E41: =IF(B41="","",$E$6) | G41: {=IFERROR(IF(B41="","",IF(B41=$E$15,_xlfn.XLOOKUP(1,('High Cost Rates'!$C$4:$C$669=D41)*('High Cost Rates'!$B$4:$B$669=E41),'High Cost Rates'!$E$4:$E$669,'High Cost Rates'!$E$3)*0.75,_xlfn.XLOOKUP(1,('High Cost Rates'!$C$4:$C$669=D41)*('High Cost Rates'!$B$4:$B$669=E41),'High Cost Rates'!$E$4:$E$669,'High Cost Rates'!$E$3))),"")}
D42: Meals Total to PO | G42: =SUM(G20:G41) -> 680
A46: Employee Certification
A47: I certify that the total cost of meals incurred during the travel dates listed above met or exceeded the meal
A48: reimbursement amount requested. I further affirm that the information provided is accurate, all expenses are
A49: related to official district business, and no meals claimed were reimbursed from another source.
B50: Employee Signature: _________________________ Date: _______________

Sheet High Cost Rates
B1: FY2025 Per Diem Rates - Effective October 1, 2024
A2: ID | B2: STATE | C2: DESTINATION | D2: COUNTY/LOCATION DEFINED | E2: FY25 M&IE
C3: Standard CONUS rate applies to all counties not specifically listed. Cities not listed may be located in a listed county. | E3: 68 | H3: STATE | L3: STATE | M3: AK | N3: AL | O3: AR | P3: AZ | Q3: CA | R3: CO | S3: CT | T3: DC | U3: DE | V3: FL | W3: GA | X3: HI | Y3: IA | Z3: ID | AA3: IL | AB3: IN | AC3: KS | AD3: KY | AE3: LA | AF3: MA | AG3: MD | AH3: ME | AI3: MI | AJ3: MN | AK3: MO | AL3: MS | AM3: MT | AN3: NC | AO3: NE | AP3: NH | AQ3: NJ | AR3: NM | AS3: NV | AT3: NY | AU3: OH | AV3: OK | AW3: OR | AX3: PA | AY3: RI | AZ3: SC | BA3: SD | BB3: TN | BC3: TX | BD3: UT | BE3: VA | BF3: VT | BG3: WA | BH3: WI | BI3: WV | BJ3: WY
A4: 1 | B4: AL | C4: Birmingham | D4: Jefferson | E4: 80 | H4: AK | J4: AL | K4: Birmingham | M4: Other | N4: Birmingham | O4: Hot Springs | P4: Grand Canyon / Flagstaff | Q4: Antioch / Brentwood / Concord | R4: Aspen | S4: Bridgeport / Danbury | T4: District of Columbia | U4: Lewes | V4: Boca Raton / Delray Beach / Jupiter | W4: Athens | X4: Other | Y4: Dallas | Z4: Boise | AA4: Bolingbrook / Romeoville / Lemont | AB4: Bloomington | AC4: Kansas City / Overland Park | AD4: Boone | AE4: Alexandria / Leesville / Natchitoches | AF4: Andover | AG4: Aberdeen / Bel Air / Belcamp | AH4: Bar Harbor / Rockport | AI4: Ann Arbor | AJ4: Duluth | AK4: Kansas City | AL4: Oxford | AM4: Big Sky / West Yellowstone/Gardiner | AN4: Asheville | AO4: Omaha | AP4: Concord | AQ4: Cherry Hill / Moorestown | AR4: Albuquerque | AS4: Incline Village / Reno / Sparks | AT4: Albany | AU4: Canton | AV4: Oklahoma City | AW4: Beaverton | AX4: Allentown / Easton / Bethlehem | AY4: East Greenwich / Warwick | AZ4: Charleston | BA4: Deadwood / Spearfish | BB4: Brentwood / Franklin | BC4: Arlington / Fort Worth / Grapevine | BD4: Moab | BE4: Blacksburg | BF4: Burlington | BG4: Everett / Lynnwood | BH4: Madison | BI4: Charles Town | BJ4: Cody
A5: 2 | B5: AL | C5: Gulf Shores | D5: Baldwin | E5: 74 | H5: AL | J5: AL | K5: Gulf Shores | N5: Gulf Shores | O5: Other | P5: Kayenta | Q5: Bakersfield / Ridgecrest | R5: Boulder / Broomfield | S5: Hartford | T5: Other | U5: Wilmington | V5: Bradenton | W5: Atlanta | Y5: Des Moines | Z5: Coeur d'Alene | AA5: Chicago | AB5: Ft. Wayne | AC5: Other | AD5: Kenton | AE5: New Orleans | AF5: Boston / Cambridge | AG5: Annapolis | AH5: Kennebunk / Kittery / Sanford | AI5: Detroit | AJ5: Minneapolis / St. Paul | AK5: St. Louis | AL5: Southaven | AM5: Helena | AN5: Atlantic Beach / Morehead City | AO5: Other | AP5: Conway | AQ5: Eatontown / Freehold | AR5: Carlsbad | AS5: Las Vegas | AT5: Binghamton | AU5: Cincinnati | AV5: Other | AW5: Bend | AX5: Bucks | AY5: Jamestown / Middletown / Newport | AZ5: Columbia | BA5: Hot Springs | BB5: Chattanooga | BC5: Austin | BD5: Park City | BE5: Charlottesville | BF5: Manchester | BG5: Ocean Shores | BH5: Milwaukee | BI5: Charleston | BJ5: Jackson / Pinedale
A6: 3 | B6: AL | C6: Huntsville | D6: Madison | E6: 74 | H6: AR | J6: AL | K6: Huntsville | N6: Huntsville | P6: Phoenix / Scottsdale | Q6: Barstow / Ontario / Victorville | R6: Colorado Springs | S6: New Haven | U6: Other | V6: Cocoa Beach | W6: Augusta | Y6: Other | Z6: Sun Valley / Ketchum | AA6: East St. Louis / O'Fallon / Fairview Heights | AB6: Indianapolis / Carmel | AD6: Lexington | AE6: Other | AF6: Burlington / Woburn | AG6: Baltimore City | AH6: Portland | AI6: Grand Rapids | AJ6: Rochester | AK6: Other | AL6: Starkville | AM6: Kalispell/Whitefish | AN6: Chapel Hill | AP6: Durham | AQ6: Edison / Piscataway | AR6: Santa Fe | AS6: Other | AT6: Buffalo | AU6: Cleveland | AW6: Clackamas | AX6: Chester / Radnor / Essington | AY6: Providence / Bristol | AZ6: Hilton Head | BA6: Rapid City | BB6: Knoxville | BC6: Big Spring | BD6: Provo | BE6: Loudoun | BF6: Montpelier | BG6: Olympia / Tumwater | BH6: Sturgeon Bay | BI6: Other | BJ6: Other
A7: 460 | B7: AL | C7: Mobile | D7: Mobile | E7: 74 | H7: AZ | J7: AL | K7: Mobile | N7: Mobile | P7: Sedona | Q7: Death Valley | R7: Cortez | S7: New London / Groton | V7: Daytona Beach | W7: Jekyll Island / Brunswick | Z7: Other | AA7: Oak Brook Terrace | AB7: Lafayette / West Lafayette | AD7: Louisville | AF7: Falmouth | AG7: Cambridge / St. Michaels | AH7: Other | AI7: Holland | AJ7: Other | AL7: Other | AM7: Missoula | AN7: Charlotte | AP7: Laconia | AQ7: Flemington | AR7: Taos | AT7: Floral Park / Garden City / Great Neck | AU7: Columbus | AW7: Eugene / Florence | AX7: Gettysburg | AY7: Other | AZ7: Myrtle Beach | BA7: Other | BB7: Memphis | BC7: Dallas | BD7: Salt Lake City | BE7: Lynchburg | BF7: Stowe | BG7: Port Angeles / Port Townsend | BH7: Wisconsin Dells
A8: 6 | B8: AR | C8: Hot Springs | D8: Garland | E8: 68 | H8: CA | J8: AR | K8: Hot Springs | N8: Other | P8: Tucson | Q8: Eureka / Arcata / McKinleyville | R8: Crested Butte / Gunnison | S8: Other | V8: Fort Lauderdale | W8: Marietta | AA8: Other | AB8: Other | AD8: Other | AF8: Hyannis | AG8: Centreville | AI8: Mackinac Island | AM8: Other | AN8: Durham | AP8: Lebanon / Lincoln / West Lebanon | AQ8: Newark | AR8: Other | AT8: Glens Falls | AU8: Dayton / Fairborn | AW8: Lincoln City | AX8: Harrisburg | AZ8: Other | BB8: Nashville | BC8: Galveston | BD8: Other | BE8: Richmond | BF8: White River Junction | BG8: Richland / Pasco | BH8: Other
A9: 9 | B9: AZ | C9: Grand Canyon / Flagstaff | D9: Coconino / Yavapai less the city of Sedona | E9: 80 | H9: CO | J9: AZ | K9: Grand Canyon / Flagstaff | P9: Other | Q9: Fresno | R9: Denver / Aurora | V9: Fort Myers | W9: Savannah | AF9: Martha's Vineyard | AG9: Columbia | AI9: Midland | AN9: Fayetteville | AP9: Manchester | AQ9: Parsippany | AT9: Ithaca | AU9: Hamilton | AW9: Portland | AX9: Hershey | BB9: Other | BC9: Houston | BE9: Roanoke | BF9: Other | BG9: Seattle
A10: 8 | B10: AZ | C10: Kayenta | D10: Navajo | E10: 74 | H10: CT | J10: AZ | K10: Kayenta | Q10: Los Angeles | R10: Douglas | V10: Fort Walton Beach / De Funiak Springs | W10: Other | AF10: Nantucket | AG10: Ocean City | AI10: Muskegon | AN10: Greensboro | AP10: Portsmouth | AQ10: Princeton / Trenton | AT10: Kingston | AU10: Mentor | AW10: Seaside | AX10: Lancaster | BC10: Midland / Odessa | BE10: Virginia Beach | BG10: Spokane
A11: 10 | B11: AZ | C11: Phoenix / Scottsdale | D11: Maricopa | E11: 86 | H11: DC | J11: AZ | K11: Phoenix / Scottsdale | Q11: Mammoth Lakes | R11: Durango | V11: Gulf Breeze | AF11: Northampton | AG11: Other | AI11: Petoskey | AN11: Kill Devil Hills | AP11: Other | AQ11: Somerset | AT11: Lake Placid | AU11: Sandusky | AW11: Other | AX11: Malvern / Frazer / Berwyn | BC11: Pecos | BE11: Wallops Island | BG11: Tacoma
A12: 11 | B12: AZ | C12: Sedona | D12: City Limits of Sedona | E12: 92 | H12: DE | J12: AZ | K12: Sedona | Q12: Mill Valley / San Rafael / Novato | R12: Fort Collins / Loveland | V12: Key West | AF12: Pittsfield | AI12: Pontiac / Auburn Hills | AN12: Raleigh | AQ12: Springfield / Cranford / New Providence | AT12: New York City | AU12: Other | AX12: Montgomery | BC12: Plano | BE12: Williamsburg / York | BG12: Vancouver
A13: 12 | B13: AZ | C13: Tucson | D13: Pima | E13: 80 | H13: FL | J13: AZ | K13: Tucson | Q13: Monterey | R13: Grand Lake | V13: Miami | AF13: Plymouth / Taunton / New Bedford | AI13: South Haven | AN13: Wilmington | AQ13: Toms River | AT13: Niagara Falls | AX13: Philadelphia | BC13: San Antonio | BE13: Other | BG13: Other
A14: 14 | B14: CA | C14: Antioch / Brentwood / Concord | D14: Contra Costa | E14: 86 | H14: GA | J14: CA | K14: Antioch / Brentwood / Concord | Q14: Napa | R14: Montrose | V14: Naples | AF14: Quincy | AI14: Traverse City | AN14: Other | AQ14: Other | AT14: Nyack / Palisades | AX14: Pittsburgh | BC14: South Padre Island
A15: 481 | B15: CA | C15: Bakersfield / Ridgecrest | D15: Kern | E15: 74 | H15: HI | J15: CA | K15: Bakersfield / Ridgecrest | Q15: Oakhurst | R15: Silverthorne / Breckenridge | V15: Orlando | AF15: Springfield | AI15: Other | AT15: Poughkeepsie | AX15: Reading | BC15: Waco
A16: 16 | B16: CA | C16: Barstow / Ontario / Victorville | D16: San Bernardino | E16: 86 | H16: IA | J16: CA | K16: Barstow / Ontario / Victorville | Q16: Oakland | R16: Steamboat Springs | V16: Panama City | AF16: Worcester | AT16: Riverhead / Ronkonkoma / Melville | AX16: State College | BC16: Other
A17: 20 | B17: CA | C17: Death Valley | D17: Inyo / NAWS China Lake | E17: 80 | H17: ID | J17: CA | K17: Death Valley | Q17: Palm Springs | R17: Telluride | V17: Pensacola | AF17: Other | AT17: Rochester | AX17: Other
A18: 461 | B18: CA | C18: Eureka / Arcata / McKinleyville | D18: Humboldt | E18: 86 | H18: IL | J18: CA | K18: Eureka / Arcata / McKinleyville | Q18: Point Arena / Gualala | R18: Vail | V18: Punta Gorda | AT18: Saratoga Springs / Schenectady
A19: 21 | B19: CA | C19: Fresno | D19: Fresno | E19: 86 | H19: IN | J19: CA | K19: Fresno | Q19: Sacramento | R19: Other | V19: Sarasota | AT19: Syracuse / Oswego
A20: 22 | B20: CA | C20: Los Angeles | D20: Los Angeles / Orange / Ventura / Edwards AFB less the city of Santa Monica | E20: 86 | H20: KS | J20: CA | K20: Los Angeles | Q20: San Diego | V20: Sebring | AT20: Tarrytown / White Plains / New Rochelle
A21: 23 | B21: CA | C21: Mammoth Lakes | D21: Mono | E21: 86 | H21: KY | J21: CA | K21: Mammoth Lakes | Q21: San Francisco | V21: St. Augustine | AT21: Troy
A22: 24 | B22: CA | C22: Mill Valley / San Rafael / Novato | D22: Marin | E22: 92 | H22: LA | J22: CA | K22: Mill Valley / San Rafael / Novato | Q22: San Luis Obispo | V22: Stuart | AT22: West Point
A23: 26 | B23: CA | C23: Monterey | D23: Monterey | E23: 92 | H23: MA | J23: CA | K23: Monterey | Q23: San Mateo / Foster City / Belmont | V23: Tallahassee | AT23: Other
A24: 27 | B24: CA | C24: Napa | D24: Napa | E24: 92 | H24: MD | J24: CA | K24: Napa | Q24: Santa Barbara | V24: Tampa / St. Petersburg
A25: 28 | B25: CA | C25: Oakhurst | D25: Madera | E25: 80 | H25: ME | J25: CA | K25: Oakhurst | Q25: Santa Cruz | V25: Vero Beach
A26: 29 | B26: CA | C26: Oakland | D26: Alameda | E26: 92 | H26: MI | J26: CA | K26: Oakland | Q26: Santa Monica | V26: Other
A27: 30 | B27: CA | C27: Palm Springs | D27: Riverside | E27: 86 | H27: MN | J27: CA | K27: Palm Springs | Q27: Santa Rosa
A28: 31 | B28: CA | C28: Point Arena / Gualala | D28: Mendocino | E28: 86 | H28: MO | J28: CA | K28: Point Arena / Gualala | Q28: South Lake Tahoe
A29: 33 | B29: CA | C29: Sacramento | D29: Sacramento | E29: 86 | H29: MS | J29: CA | K29: Sacramento | Q29: Stockton
A30: 34 | B30: CA | C30: San Diego | D30: San Diego | E30: 86 | H30: MT | J30: CA | K30: San Diego | Q30: Sunnyvale / Palo Alto / San Jose
A31: 35 | B31: CA | C31: San Francisco | D31: San Francisco | E31: 92 | H31: NC | J31: CA | K31: San Francisco | Q31: Tahoe City
A32: 36 | B32: CA | C32: San Luis Obispo | D32: San Luis Obispo | E32: 86 | H32: NE | J32: CA | K32: San Luis Obispo | Q32: Truckee
A33: 37 | B33: CA | C33: San Mateo / Foster City / Belmont | D33: San Mateo | E33: 86 | H33: NH | J33: CA | K33: San Mateo / Foster City / Belmont | Q33: Visalia
A34: 38 | B34: CA | C34: Santa Barbara | D34: Santa Barbara | E34: 92 | H34: NJ | J34: CA | K34: Santa Barbara | Q34: West Sacramento / Davis
A35: 39 | B35: CA | C35: Santa Cruz | D35: Santa Cruz | E35: 86 | H35: NM | J35: CA | K35: Santa Cruz | Q35: Yosemite National Park
A36: 40 | B36: CA | C36: Santa Monica | D36: City limits of Santa Monica | E36: 92 | H36: NV | J36: CA | K36: Santa Monica | Q36: Other
A37: 41 | B37: CA | C37: Santa Rosa | D37: Sonoma | E37: 86 | H37: NY | J37: CA | K37: Santa Rosa
A38: 42 | B38: CA | C38: South Lake Tahoe | D38: El Dorado | E38: 86 | H38: OH | J38: CA | K38: South Lake Tahoe
A39: 43 | B39: CA | C39: Stockton | D39: San Joaquin | E39: 74 | H39: OK | J39: CA | K39: Stockton
A40: 44 | B40: CA | C40: Sunnyvale / Palo Alto / San Jose | D40: Santa Clara | E40: 92 | H40: OR | J40: CA | K40: Sunnyvale / Palo Alto / San Jose
A41: 45 | B41: CA | C41: Tahoe City | D41: Placer | E41: 86 | H41: PA | J41: CA | K41: Tahoe City
A42: 46 | B42: CA | C42: Truckee | D42: Nevada | E42: 86 | H42: RI | J42: CA | K42: Truckee
A43: 47 | B43: CA | C43: Visalia | D43: Tulare | E43: 80 | H43: SC | J43: CA | K43: Visalia
A44: 48 | B44: CA | C44: West Sacramento / Davis | D44: Yolo | E44: 80 | H44: SD | J44: CA | K44: West Sacramento / Davis
A45: 49 | B45: CA | C45: Yosemite National Park | D45: Mariposa | E45: 86 | H45: TN | J45: CA | K45: Yosemite National Park
A46: 50 | B46: CO | C46: Aspen | D46: Pitkin | E46: 92 | H46: TX | J46: CO | K46: Aspen
A47: 52 | B47: CO | C47: Boulder / Broomfield | D47: Boulder / Broomfield | E47: 80 | H47: UT | J47: CO | K47: Boulder / Broomfield
A48: 53 | B48: CO | C48: Colorado Springs | D48: El Paso | E48: 86 | H48: VA | J48: CO | K48: Colorado Springs
... A53: 57 | B53: CO | C53: Durango | D53: La Plata | E53: 80 | H53: WY | J53: CO | K53: Durango
A54: 58 | B54: CO | C54: Fort Collins / Loveland | D54: Larimer | E54: 80 | J54: CO | K54: Fort Collins / Loveland
A55: 493 | B55: CO | C55: Grand Lake | D55: Grand | E55: 86 | J55: CO | K55: Grand Lake
A56: 61 | B56: CO | C56: Montrose | D56: Montrose | E56: 74 | J56: CO | K56: Montrose
A57: 63 | B57: CO | C57: Silverthorne / Breckenridge | D57: Summit | E57: 92 | J57: CO | K57: Silverthorne / Breckenridge
A58: 64 | B58: CO | C58: Steamboat Springs | D58: Routt | E58: 92 | J58: CO | K58: Steamboat Springs
A59: 65 | B59: CO | C59: Telluride | D59: San Miguel | E59: 92 | J59: CO | K59: Telluride
A60: 66 | B60: CO | C60: Vail | D60: Eagle | E60: 92 | J60: CO | K60: Vail
A61: 67 | B61: CT | C61: Bridgeport / Danbury | D61: Fairfield | E61: 86 | J61: CT | K61: Bridgeport / Danbury
A62: 69 | B62: CT | C62: Hartford | D62: Hartford | E62: 80 | J62: CT | K62: Hartford
A63: 71 | B63: CT | C63: New Haven | D63: New Haven | E63: 80 | J63: CT | K63: New Haven
A64: 72 | B64: CT | C64: New London / Groton | D64: New London | E64: 86 | J64: CT | K64: New London / Groton
A65: 75 | B65: DC | C65: District of Columbia | D65: Washington DC (also the cities of Alexandria, Falls Church and Fairfax, and the counties of Arlington and Fairfax, in Virginia; and the counties of Montgomery and Prince George's in Maryland) | E65: 92 | J65: DC | K65: District of Columbia
... A299: 409 | B299: WY | C299: Jackson / Pinedale | D299: Teton / Sublette | E299: 92 | J299: WI | K299: Milwaukee
J300: WI | K300: Sturgeon Bay
J301: WI | K301: Wisconsin Dells
J302: WV | K302: Charles Town
J303: WV | K303: Charleston
J304: WY | K304: Cody
J305: WY | K305: Jackson / Pinedale
