Workbook

Sheet Introduction
A1: READ Act
A2: Request for Advisory List Submissions
A3: Part II - Program Review
A4: Supplemental Instructional Programming
A5: 2025-2026
A7: The Colorado Reading to Ensure Academic Development Act (READ Act) requires the Colorado Department of Education to create an advisory list of evidence-based or scientifically based instructional programming in reading (C.R.C., 22-7-1209). Part 2 of the process to create an advisory list of programs involves the use of rubrics to evaluate core, supplemental and intervention program materials. A separate rubric is used for each type of instructional program. These rubrics are designed for reviewing programs that teach students to read in English. If a program is teaching reading in another language, the scope and sequence for learning to read in that language must be considered.
A9: Core Programming: A comprehensive program used to teach initial and differentiated instruction in the regular classroom. Core reading programs typically encompass both content (curriculum) and strategies (instruction) for teaching the included domains and skills. They provide the instructional priorities, sequence, delivery methods, and materials to articulate how to teach students so they will achieve grade level standards.
A11: Supplemental Programming: A program selected to supplement core reading instruction when the core program doesn’t provide enough instruction or practice in key areas to meet student needs.
A13: Intervention Programming: A program designed to provide scientifically-based, high-quality instruction for students who are below proficient in reading.
A15: The core, supplemental, and intervention programs will be reviewed in two phases. In Phase 1, expert reviewers will evaluate programs on the key elements and features of scientifically-based reading instruction, including: • research alignment • explicit instruction • sequential instruction • systematic and cumulative instruction • coordinated components • related elements
A17: Programs that meet criteria in Phase 1 will move on to Phase 2. The Phase 2 review involves evaluating the extent to which programs implement effective instructional practices for teaching the essential early literacy skills: • phonemic awareness • vocabulary • phonics • oral reading fluency • reading comprehension The criteria for each grade are organized into sections based on the essential early literacy skills.
A19: Supplemental Programming which pass Phase 1, will reviewed by grade level and by literacy component submitted by the vendor. Recommendations will reflect criteria met in Phase 2.

Sheet Rating Definitions
A1: Rating Definitions for Supplemental Programming
A3: Fully Met or Met
A4: Items marked as Fully Met should have evidence of all components of the criteria throughout the program. Reviewers are encouraged to note evidence and feedback for the publisher.
A5: Items marked as Fully Met or Met will receive a score of 1.
A7: Partially Met
A8: Items should be marked as Partially Met when some aspect of the criteria is met but others are not, and/or the criteria is met in one part of the program but not met in others. Reviewers are encouraged to note evidence and feedback for the publisher.
A9: Items marked as Partially Met will receive a score of 0.5.
A11: Not Met
A12: Items are marked as Not Met when no evidence of the criteria could be found in the program materials submitted by the publisher, or when there is evidence of a practice that is contrary to the criteria. Reviewers should note feedback for the publisher.
A13: Items marked Not met will receive a score of 0.

Sheet Phase 1
A1: Supplemental Program Review Rubric
A3: Phase 1: Required Features of Scientifically-Based or Evidence Based Supplemental Reading Programs
B5: Section 1: Research Alignment - The program reflects current and confirmed research in reading and cognitive science. Must receive one point for each criterion in Section 1 in order to move forward to Phase 2 review. | C5: Rating | D5: Stock Evidence/Feedback | E5: Other Evidence/Feedback | F5: Evidence/Feedback | G5: Score
A6: 1 | B6: For the grades for which the program is submitted, the program must include evidence of alignment to ESSA Evidence Level 1, 2, 3 or 4. If Level 4, then a logic model must be submitted. | G6: =IF(C6="Met", 1, 0) -> 0
A7: 2 | B7: The program provides evidence of grounding in conceptual research and theoretical models with reference to research articles and websites. If the program is constructed for learning to read in a language other than English, a conceptual model and research foundation, as well as evidence that it is not merely a translation of an English program is provided. | G7: =IF(C7="Met", 1, 0) -> 0
A8: 3 | B8: There is an obvious emphasis on teaching and learning the five essential early literacy skills. *score only for literacy components vendor selected within the application | G8: =IF(C8="Met", 1, 0) -> 0
A9: 4 | B9: The program reflects the understanding that reading is a language-based skill and learning to read depends on mapping sounds to print. | G9: =IF(C9="Met", 1, 0) -> 0
A10: 5 | B10: Word recognition is explicitly taught through relating sounds to letters, and not visual memory, guessing, the shape of the word, or the use of context clues to decode words. | G10: =IF(C10="Met", 1, 0) -> 0
D11: Total Met Section 1: | G11: =SUM(G6:G10) -> 0
D12: All points needed to move to Phase 2 review. | G12: out of 5
B14: Section 2: Explicit Instruction – Students are introduced to the new skill before they are asked to perform it. | C14: Rating | D14: Stock Evidence/Feedback | E14: Other Evidence/Feedback | F14: Evidence/Feedback | G14: Score
A15: 1 | B15: Lessons include instructional routines, that include a step-by-step sequence, procedures and consistent academic language and vocabulary that relates back to outcomes and standards. *score only for grade level vendor selected within the application | G15: =IF(C15="Met", 1, 0) -> 0
A16: 2 | B16: Routines include language to introduce, define or explain new skills through demonstration and modeling before students are asked to perform the skills. | G16: =IF(C16="Met", 1, 0) -> 0
A17: 3 | B17: There are multiple opportunities for students to practice new skills with feedback. | G17: =IF(C17="Met", 1, 0) -> 0
D18: Total Met Section 2: | G18: =SUM(G15:G17) -> 0
G19: out of 3
B21: Section 3: Sequential Instruction - There is a detailed scope and sequence including a list of specific skills taught, a sequence for teaching the skills over the course of the year, and a timeline showing when skills are taught (by week, month, unit). | C21: Rating | D21: Stock Evidence/Feedback | E21: Other Evidence/Feedback | F21: Evidence/Feedback | G21: Score
A22: 1 | B22: The scope and sequence for a skill shows a clear progression from easier to harder and is appropriate for the instructional area(s) for which the program is designed. *score only for literacy components and a grade level selected by the vendor within the application | G22: =IF(C22="Met", 1, 0) -> 0
A23: 2 | B23: Advanced skills are not introduced before students have been taught pre-requisite skills. | G23: =IF(C23="Met", 1, 0) -> 0
A24: 3 | B24: The scope and sequence articulates when skills are taught across the program.*score only for literacy components and grade levels selected by the vendor within the application | G24: =IF(C24="Met", 1, 0) -> 0
D25: Total Met Section 3: | G25: =SUM(G22:G24) -> 0
G26: out of 3
B28: Section 4: Systematic & Cumulative Instruction – The structured lesson format includes a plan, procedure, or routine that is carried through the sequence of teaching skills. | C28: Rating | D28: Stock Evidence/Feedback | E28: Other Evidence/Feedback | F28: Evidence/Feedback | G28: Score
A29: 1 | B29: A clear and consistent lesson format is present in program lessons for each of the five foundational skill areas. *score only for literacy components and grade levels selected by the vendor within the application | G29: =IF(C29="Met", 1, 0) -> 0
A30: 2 | B30: There is a daily schedule of lessons noting suggestions for the length of lessons and units. There is a daily schedule of lessons noting suggestions for the length of time dedicated to each of the foundational skill areas that is consistent across lessons and units. *score only for literacy components and a grade level selected by the vendor within the application | G30: =IF(C30="Met", 1, 0) -> 0
A31: 3 | B31: Time is spent in individual or small group formats, with the majority of instruction delivered in small, flexible, skill-based instruction. | G31: =IF(C31="Met", 1, 0) -> 0
A32: 4 | B32: Independent practice occurs after instruction on the essential skills not before the instruction and not without it or instead of it. | G32: =IF(C32="Met", 1, 0) -> 0
A33: 5 | B33: Lessons include instructional routines that have consistent procedures, and language across lessons. *score only for grade levels selected by the vendor within the application | G33: =IF(C33="Met", 1, 0) -> 0
A34: 6 | B34: The teacher manual(s) include directions for how to implement the program. | G34: =IF(C34="Met", 1, 0) -> 0
A35: 7 | B35: High-priority skills are cumulatively reviewed. | G35: =IF(C35="Met", 1, 0) -> 0
D36: Total Met Section 4: | G36: =SUM(G29:G35) -> 0
G37: out of 7
B39: Section 5: Coordinated Components - Elements of the program are clearly linked. | C39: Rating | D39: Stock Evidence/Feedback | E39: Other Evidence/Feedback | F39: Evidence/Feedback | G39: Score
A40: 1 | B40: The same routines, terminology, and procedures are used across skill areas and over time. | G40: =IF(C40="Met", 1, 0) -> 0
A41: 2 | B41: There is a clear link between foundational skills and higher order skills. Skills are integrated across areas (e.g. phonemic awareness and phonics, phonemic awareness and oral language). *score only for literacy components and a grade level selected by the vendor within the application | G41: =IF(C41="Met", 1, 0) -> 0
A42: 3 | B42: Lessons and materials are available for differentiating for students who are struggling or need enrichment, in supplemental programs (e.g., alternate pacing considerations within the platform or program, options or recommendations for adapting instruction within the platform or program). | G42: =IF(C42="Met", 1, 0) -> 0
A43: 4 | B43: Differentiation and academic and linguistic scaffolding (including oral language development) are provided for supporting multilingual learners who are learning how to read in English and/or learning to read in multiple languages, students who are struggling, and those who need acceleration. | G43: =IF(C43="Met", 1, 0) -> 0
D44: Total Met Section 5: | G44: =SUM(G40:G43) -> 0
G45: out of 4
B47: Section 6: Related Elements – The program contains features that are optimal for delivering effective instruction. | C47: Rating | D47: Stock Evidence/Feedback | E47: Other Evidence/Feedback | F47: Evidence/Feedback | G47: Score
...

Sheet Phase 2 Kindergarten
A1: Supplemental Program Review Rubric
A3: Phase 2: Required Instructional Practices for Teaching Essential Early Literacy Skills
A5: Kindergarten
B7: Section 1: Phonological and Phonemic Awareness
B8: In the supplemental instructional program… | C8: Rating | D8: Stock Evidence/Feedback | E8: Other Evidence/Feedback | F8: Evidence/Feedback | G8: Score
A9: 1 | B9: a detailed scope and sequence of phonological and phonemic awareness skills progresses from easier (e.g., blending compound words or segmenting onset-rime) to more difficult (e.g., segmenting phonemes), culminating in advanced skills such as addition, deletion and substitution of phonemes | F9: =SUBSTITUTE(SUBSTITUTE(D9, ",", ""), """", "") & " " & SUBSTITUTE(E9, ",", "") | G9: =IF(C9="Fully met", 1, IF(C9="Partially met",0.5, 0)) -> 0
A10: 2 | B10: new skills are explicitly modeled using multiple unambiguous examples, where the new skill is introduced, defined and/or explained, a model or demonstration is provided, students are given opportunity to practice orally with immediate corrective feedback | F10: =SUBSTITUTE(SUBSTITUTE(D10, ",", ""), """", "") & " " & SUBSTITUTE(E10, ",", "") | G10: =IF(C10="Fully met", 1, IF(C10="Partially met",0.5, 0)) -> 0
A11: 3 | B11: Students are taught strategies to demonstrate and practice how sounds are connected to letters (e.g. phoneme-grapheme mapping) | F11: =SUBSTITUTE(SUBSTITUTE(D11, ",", ""), """", "") & " " & SUBSTITUTE(E11, ",", "") | G11: =IF(C11="Fully met", 1, IF(C11="Partially met",0.5, 0)) -> 0
A12: 4 | B12: students analyze spoken words at the phoneme level, including segmenting individual phonemes | F12: =SUBSTITUTE(SUBSTITUTE(D12, ",", ""), """", "") & " " & SUBSTITUTE(E12, ",", "") | G12: =IF(C12="Fully met", 1, IF(C12="Partially met",0.5, 0)) -> 0
A13: 5 | B13: movement and/or manipulatives are used to make sounds in words concrete | F13: =SUBSTITUTE(SUBSTITUTE(D13, ",", ""), """", "") & " " & SUBSTITUTE(E13, ",", "") | G13: =IF(C13="Fully met", 1, IF(C13="Partially met",0.5, 0)) -> 0
A14: 6 | B14: the order of attention to phonemes in three-phoneme words is first sound, last sound, middle sound | F14: =SUBSTITUTE(SUBSTITUTE(D14, ",", ""), """", "") & " " & SUBSTITUTE(E14, ",", "") | G14: =IF(C14="Fully met", 1, IF(C14="Partially met",0.5, 0)) -> 0
A15: 7 | B15: instructional time is focused on high priority skills such as isolating beginning phoneme, blending, segmenting and manipulating phonemes | F15: =SUBSTITUTE(SUBSTITUTE(D15, ",", ""), """", "") & " " & SUBSTITUTE(E15, ",", "") | G15: =IF(C15="Fully met", 1, IF(C15="Partially met",0.5, 0)) -> 0
A16: 8 | B16: students are taught to blend and segment phonemes in three-, four- and five-phoneme words | F16: =SUBSTITUTE(SUBSTITUTE(D16, ",", ""), """", "") & " " & SUBSTITUTE(E16, ",", "") | G16: =IF(C16="Fully met", 1, IF(C16="Partially met",0.5, 0)) -> 0
A17: 9 | B17: students are taught to pull apart the two phonemes in consonant blends when segmenting | F17: =SUBSTITUTE(SUBSTITUTE(D17, ",", ""), """", "") & " " & SUBSTITUTE(E17, ",", "") | G17: =IF(C17="Fully met", 1, IF(C17="Partially met",0.5, 0)) -> 0
A18: 10 | B18: students spend time practicing orally producing the sounds in spoken words, not just identifying the sounds or matching the sounds using objects or pictures | F18: =SUBSTITUTE(SUBSTITUTE(D18, ",", ""), """", "") & " " & SUBSTITUTE(E18, ",", "") | G18: =IF(C18="Fully met", 1, IF(C18="Partially met",0.5, 0)) -> 0
A19: 11 | B19: the activities and materials are designed to elicit high levels of responding and engagement | F19: =SUBSTITUTE(SUBSTITUTE(D19, ",", ""), """", "") & " " & SUBSTITUTE(E19, ",", "") | G19: =IF(C19="Fully met", 1, IF(C19="Partially met",0.5, 0)) -> 0
A20: 12 | B20: differentiation of phonemic awareness instruction is linked to assessment data, with flexible grouping based on students’ needs and progress. | F20: =SUBSTITUTE(SUBSTITUTE(D20, ",", ""), """", "") & " " & SUBSTITUTE(E20, ",", "") | G20: =IF(C20="Fully met", 1, IF(C20="Partially met",0.5, 0)) -> 0
F21: Score Summary | G21: =SUM(G9:G20) -> 0
G22: out of 12
B24: Section 2: Phonics and Word Study
B25: In the supplemental instructional program… | C25: Rating | D25: Stock Evidence/Feedback | E25: Other Evidence/Feedback | F25: Evidence/Feedback | G25: Score
A26: 1 | B26: there is a detailed scope and sequence of phonics skills that progresses from simple letter-sounds to more complex patterns | F26: =SUBSTITUTE(SUBSTITUTE(D26, ",", ""), """", "") & " " & SUBSTITUTE(E26, ",", "") | G26: =IF(C26="Fully met", 1, IF(C26="Partially met",0.5, 0)) -> 0
A27: 2 | B27: the phonics lesson format includes o brief cumulative review of previously taught skills, o a phonological warm up, o phoneme-grapheme matching, o word reading accuracy, o fluency building at the word, phrase, and eventually simple sentence level, o word dictation, o transfer to simple decodable text | F27: =SUBSTITUTE(SUBSTITUTE(D27, ",", ""), """", "") & " " & SUBSTITUTE(E27, ",", "") | G27: =IF(C27="Fully met", 1, IF(C27="Partially met",0.5, 0)) -> 0
A28: 3 | B28: new skills are explicitly modeled using multiple unambiguous examples, where the new skill is introduced, defined and/or explained, a model or demonstration is provided, students are given opportunity to practice orally with immediate corrective feedback (e.g. an explicit step by step routine is utilized) | F28: =SUBSTITUTE(SUBSTITUTE(D28, ",", ""), """", "") & " " & SUBSTITUTE(E28, ",", "") | G28: =IF(C28="Fully met", 1, IF(C28="Partially met",0.5, 0)) -> 0
A29: 4 | B29: letter-sound instruction starts with high-utility letters (i.e., m, s, a, r, t) | F29: =SUBSTITUTE(SUBSTITUTE(D29, ",", ""), """", "") & " " & SUBSTITUTE(E29, ",", "") | G29: =IF(C29="Fully met", 1, IF(C29="Partially met",0.5, 0)) -> 0
A30: 5 | B30: letter-sound instruction integrates the letter name, sound, and explicitly and systematically how to write the symbol | F30: =SUBSTITUTE(SUBSTITUTE(D30, ",", ""), """", "") & " " & SUBSTITUTE(E30, ",", "") | G30: =IF(C30="Fully met", 1, IF(C30="Partially met",0.5, 0)) -> 0
A31: 6 | B31: the letter that represents the sound is explicitly modeled with multiple unambiguous examples before students practice and apply | F31: =SUBSTITUTE(SUBSTITUTE(D31, ",", ""), """", "") & " " & SUBSTITUTE(E31, ",", "") | G31: =IF(C31="Fully met", 1, IF(C31="Partially met",0.5, 0)) -> 0
A32: 7 | B32: letter-sound combinations are learned to automaticity through frequent and cumulative review | F32: =SUBSTITUTE(SUBSTITUTE(D32, ",", ""), """", "") & " " & SUBSTITUTE(E32, ",", "") | G32: =IF(C32="Fully met", 1, IF(C32="Partially met",0.5, 0)) -> 0
A33: 8 | B33: phonics lessons include segmenting at the level of individual phonemes then matching graphemes to phonemes | F33: =SUBSTITUTE(SUBSTITUTE(D33, ",", ""), """", "") & " " & SUBSTITUTE(E33, ",", "") | G33: =IF(C33="Fully met", 1, IF(C33="Partially met",0.5, 0)) -> 0
A34: 9 | B34: easily confused letters, letter-sounds and words (those that look or sound similar) are not taught in close sequence but are separated in time | F34: =SUBSTITUTE(SUBSTITUTE(D34, ",", ""), """", "") & " " & SUBSTITUTE(E34, ",", "") | G34: =IF(C34="Fully met", 1, IF(C34="Partially met",0.5, 0)) -> 0
A35: 10 | B35: a few short vowel letter-sounds are taught early so students can blend VC and CVC patterns to read and write words | F35: =SUBSTITUTE(SUBSTITUTE(D35, ",", ""), """", "") & " " & SUBSTITUTE(E35, ",", "") | G35: =IF(C35="Fully met", 1, IF(C35="Partially met",0.5, 0)) -> 0
A36: 11 | B36: there is an explicit strategy for blending letter sounds into words | F36: =SUBSTITUTE(SUBSTITUTE(D36, ",", ""), """", "") & " " & SUBSTITUTE(E36, ",", "") | G36: =IF(C36="Fully met", 1, IF(C36="Partially met",0.5, 0)) -> 0
A37: 12 | B37: there are multiple opportunities to practice blending letter sounds for the purpose of reading and writing words | F37: =SUBSTITUTE(SUBSTITUTE(D37, ",", ""), """", "") & " " & SUBSTITUTE(E37, ",", "") | G37: =IF(C37="Fully met", 1, IF(C37="Partially met",0.5, 0)) -> 0
... A48: 23 | B48: differentiation of phonics instruction is linked to assessment data, with flexible grouping based on students’ needs and progress | F48: =SUBSTITUTE(SUBSTITUTE(D48, ",", ""), """", "") & " " & SUBSTITUTE(E48, ",", "") | G48: =IF(C48="Fully met", 1, IF(C48="Partially met",0.5, 0)) -> 0
F49: Score Summary | G49: =SUM(G26:G48) -> 0
G50: out of 23
B52: Section 3: Vocabulary
B53: In the supplemental instructional program… | C53: Rating | D53: Stock Evidence/Feedback | E53: Other Evidence/Feedback | F53: Evidence/Feedback | G53: Score
A54: 1 | B54: there is a detailed scope and sequence of vocabulary skills | F54: =SUBSTITUTE(SUBSTITUTE(D54, ",", ""), """", "") & " " & SUBSTITUTE(E54, ",", "") | G54: =IF(C54="Fully met", 1, IF(C54="Partially met",0.5, 0)) -> 0
A55: 2 | B55: words selected for instruction are rich, high-utility words that will appear in conversation and literature, those that must be learned to understand a concept or text, and words from content area instruction | F55: =SUBSTITUTE(SUBSTITUTE(D55, ",", ""), """", "") & " " & SUBSTITUTE(E55, ",", "") | G55: =IF(C55="Fully met", 1, IF(C55="Partially met",0.5, 0)) -> 0
...

Sheet Phase 2 First Grade
A1: Supplemental Program Review Rubric
A3: Phase 2: Required Instructional Practices for Teaching Essential Early Literacy Skills
A5: First Grade
B7: Section 1: Phonological and Phonemic Awareness
B8: In the supplemental instructional program… | C8: Rating | D8: Stock Evidence/Feedback | E8: Other Evidence/Feedback | F8: Evidence/Feedback | G8: Score
A9: 1 | B9: there is a detailed scope and sequence of phonological and phonemic awareness skills that progress from easier to more difficult, culminating in advanced skills such as addition, deletion and substitution of phonemes | F9: =SUBSTITUTE(SUBSTITUTE(D9, ",", ""), """", "") & " " & SUBSTITUTE(E9, ",", "") | G9: =IF(C9="Fully met", 1, IF(C9="Partially met",0.5, 0)) -> 0
A10: 2 | B10: new skills are explicitly modeled using multiple unambiguous examples, where the new skill is introduced, defined and/or explained, a model or demonstration is provided, students are given opportunity to practice orally with immediate corrective feedback | F10: =SUBSTITUTE(SUBSTITUTE(D10, ",", ""), """", "") & " " & SUBSTITUTE(E10, ",", "") | G10: =IF(C10="Fully met", 1, IF(C10="Partially met",0.5, 0)) -> 0
A11: 3 | B11: movement and/or manipulatives are used to make sounds in words concrete | F11: =SUBSTITUTE(SUBSTITUTE(D11, ",", ""), """", "") & " " & SUBSTITUTE(E11, ",", "") | G11: =IF(C11="Fully met", 1, IF(C11="Partially met",0.5, 0)) -> 0
A12: 4 | B12: students analyze spoken words at the phoneme level, including segmenting individual phonemes | F12: =SUBSTITUTE(SUBSTITUTE(D12, ",", ""), """", "") & " " & SUBSTITUTE(E12, ",", "") | G12: =IF(C12="Fully met", 1, IF(C12="Partially met",0.5, 0)) -> 0
A13: 5 | B13: the order of attention to phonemes in three-sound words is first, last, middle sound | F13: =SUBSTITUTE(SUBSTITUTE(D13, ",", ""), """", "") & " " & SUBSTITUTE(E13, ",", "") | G13: =IF(C13="Fully met", 1, IF(C13="Partially met",0.5, 0)) -> 0
A14: 6 | B14: instructional time is focused on high priority skills such as isolating beginning sound, blending, segmenting and manipulating phonemes | F14: =SUBSTITUTE(SUBSTITUTE(D14, ",", ""), """", "") & " " & SUBSTITUTE(E14, ",", "") | G14: =IF(C14="Fully met", 1, IF(C14="Partially met",0.5, 0)) -> 0
A15: 7 | B15: students are taught to blend and segment sounds in three-, four-, and five-phoneme words | F15: =SUBSTITUTE(SUBSTITUTE(D15, ",", ""), """", "") & " " & SUBSTITUTE(E15, ",", "") | G15: =IF(C15="Fully met", 1, IF(C15="Partially met",0.5, 0)) -> 0
A16: 8 | B16: students are taught to pull apart the two phonemes in consonant blends when segmenting | F16: =SUBSTITUTE(SUBSTITUTE(D16, ",", ""), """", "") & " " & SUBSTITUTE(E16, ",", "") | G16: =IF(C16="Fully met", 1, IF(C16="Partially met",0.5, 0)) -> 0
A17: 9 | B17: students spend time practicing orally producing the sounds in spoken words, not just identifying the sounds or matching the sounds using objects or pictures | F17: =SUBSTITUTE(SUBSTITUTE(D17, ",", ""), """", "") & " " & SUBSTITUTE(E17, ",", "") | G17: =IF(C17="Fully met", 1, IF(C17="Partially met",0.5, 0)) -> 0
A18: 10 | B18: activities and materials are designed to elicit high levels of responding and engagement | F18: =SUBSTITUTE(SUBSTITUTE(D18, ",", ""), """", "") & " " & SUBSTITUTE(E18, ",", "") | G18: =IF(C18="Fully met", 1, IF(C18="Partially met",0.5, 0)) -> 0
A19: 11 | B19: differentiation of phonemic awareness instruction is linked to assessment data, with flexible grouping based on students’ needs and progress | F19: =SUBSTITUTE(SUBSTITUTE(D19, ",", ""), """", "") & " " & SUBSTITUTE(E19, ",", "") | G19: =IF(C19="Fully met", 1, IF(C19="Partially met",0.5, 0)) -> 0
F20: Score Summary | G20: =SUM(G9:G19) -> 0
G21: out of 11
B23: Section 2: Phonics and Word Study
B24: In the supplemental instructional program… | C24: Rating | D24: Stock Evidence/Feedback | E24: Other Evidence/Feedback | F24: Evidence/Feedback | G24: Score
A25: 1 | B25: there is a detailed scope and sequence of phonics patterns that progresses from simple word types, lengths, and complexities to more complex words and syllable types | F25: =SUBSTITUTE(SUBSTITUTE(D25, ",", ""), """", "") & " " & SUBSTITUTE(E25, ",", "") | G25: =IF(C25="Fully met", 1, IF(C25="Partially met",0.5, 0)) -> 0
A26: 2 | B26: the phonics lesson format includes o brief cumulative review of previously taught skills, o a phonological warm up, o phoneme-grapheme matching, o word reading accuracy, o fluency building at the word, phrase, sentence and passage level, o sentence dictation, o transfer to grade-level text | F26: =SUBSTITUTE(SUBSTITUTE(D26, ",", ""), """", "") & " " & SUBSTITUTE(E26, ",", "") | G26: =IF(C26="Fully met", 1, IF(C26="Partially met",0.5, 0)) -> 0
A27: 3 | B27: new skills are explicitly modeled using multiple unambiguous examples, where the new skill is introduced, defined and/or explained, a model or demonstration is provided, students are given opportunity to practice orally with immediate corrective feedback (e.g. an explicit step by step routine is utilized) | F27: =SUBSTITUTE(SUBSTITUTE(D27, ",", ""), """", "") & " " & SUBSTITUTE(E27, ",", "") | G27: =IF(C27="Fully met", 1, IF(C27="Partially met",0.5, 0)) -> 0
A28: 4 | B28: there is an explicit strategy for blending letter sounds into words that is taught with multiple unambiguous examples | F28: =SUBSTITUTE(SUBSTITUTE(D28, ",", ""), """", "") & " " & SUBSTITUTE(E28, ",", "") | G28: =IF(C28="Fully met", 1, IF(C28="Partially met",0.5, 0)) -> 0
A29: 5 | B29: easily confused letters, letter-sounds and words (those that look or sound similar) are not taught in close sequence but are separated in time | F29: =SUBSTITUTE(SUBSTITUTE(D29, ",", ""), """", "") & " " & SUBSTITUTE(E29, ",", "") | G29: =IF(C29="Fully met", 1, IF(C29="Partially met",0.5, 0)) -> 0
A30: 6 | B30: there are multiple opportunities to blend and read words, and to use letter-sound correspondence to read and write words (e.g. phoneme–grapheme mapping) | F30: =SUBSTITUTE(SUBSTITUTE(D30, ",", ""), """", "") & " " & SUBSTITUTE(E30, ",", "") | G30: =IF(C30="Fully met", 1, IF(C30="Partially met",0.5, 0)) -> 0
A31: 7 | B31: students are taught and practice how to build regular words for which they know all letter sounds | F31: =SUBSTITUTE(SUBSTITUTE(D31, ",", ""), """", "") & " " & SUBSTITUTE(E31, ",", "") | G31: =IF(C31="Fully met", 1, IF(C31="Partially met",0.5, 0)) -> 0
A32: 8 | B32: students practice to automaticity in word lists, phrases and controlled decodable text that provide enough exposures for the words to become sight words | F32: =SUBSTITUTE(SUBSTITUTE(D32, ",", ""), """", "") & " " & SUBSTITUTE(E32, ",", "") | G32: =IF(C32="Fully met", 1, IF(C32="Partially met",0.5, 0)) -> 0
A33: 9 | B33: regular word types are introduced first (e.g., VC, CVC, CV) | F33: =SUBSTITUTE(SUBSTITUTE(D33, ",", ""), """", "") & " " & SUBSTITUTE(E33, ",", "") | G33: =IF(C33="Fully met", 1, IF(C33="Partially met",0.5, 0)) -> 0
A34: 10 | B34: irregular, high-utility words are introduced and practiced to automaticity | F34: =SUBSTITUTE(SUBSTITUTE(D34, ",", ""), """", "") & " " & SUBSTITUTE(E34, ",", "") | G34: =IF(C34="Fully met", 1, IF(C34="Partially met",0.5, 0)) -> 0
A35: 11 | B35: irregularities are pointed out in high frequency words (e.g., have, I, said) while still focusing attention on the predictable letter-sound combinations | F35: =SUBSTITUTE(SUBSTITUTE(D35, ",", ""), """", "") & " " & SUBSTITUTE(E35, ",", "") | G35: =IF(C35="Fully met", 1, IF(C35="Partially met",0.5, 0)) -> 0
A36: 12 | B36: the number of irregular words introduced in a lesson is minimized | F36: =SUBSTITUTE(SUBSTITUTE(D36, ",", ""), """", "") & " " & SUBSTITUTE(E36, ",", "") | G36: =IF(C36="Fully met", 1, IF(C36="Partially met",0.5, 0)) -> 0
... A42: 18 | B42: differentiation of phonics instruction is linked to assessment data, with flexible grouping based on students’ needs and progress | F42: =SUBSTITUTE(SUBSTITUTE(D42, ",", ""), """", "") & " " & SUBSTITUTE(E42, ",", "") | G42: =IF(C42="Fully met", 1, IF(C42="Partially met",0.5, 0)) -> 0
F43: Score Summary | G43: =SUM(G25:G42) -> 0
G44: out of 18
B46: Section 3: Vocabulary
B47: In the supplemental instructional program… | C47: Rating | D47: Stock Evidence/Feedback | E47: Other Evidence/Feedback | F47: Evidence/Feedback | G47: Score
A48: 1 | B48: words selected for instruction are rich, high-utility words that will appear in conversation and literature, those that must be learned to understand a concept or text, and words from content area instruction | F48: =SUBSTITUTE(SUBSTITUTE(D48, ",", ""), """", "") & " " & SUBSTITUTE(E48, ",", "") | G48: =IF(C48="Fully met", 1, IF(C48="Partially met",0.5, 0)) -> 0
A49: 2 | B49: new words are explicitly modeled using student-friendly definitions, multiple unambiguous examples and non-examples, and students are given opportunity to practice using the words with immediate corrective feedback | F49: =SUBSTITUTE(SUBSTITUTE(D49, ",", ""), """", "") & " " & SUBSTITUTE(E49, ",", "") | G49: =IF(C49="Fully met", 1, IF(C49="Partially met",0.5, 0)) -> 0
A50: 3 | B50: words that have been taught are repeated multiple times in a variety of contexts | F50: =SUBSTITUTE(SUBSTITUTE(D50, ",", ""), """", "") & " " & SUBSTITUTE(E50, ",", "") | G50: =IF(C50="Fully met", 1, IF(C50="Partially met",0.5, 0)) -> 0
...

Sheet Phase 2 Second Grade
A1: Supplemental Program Review Rubric
A3: Phase 2: Required Instructional Practices for Teaching Essential Early Literacy Skills
A5: Second Grade
B7: Section 1: Phonics and Word Study
B8: In the supplemental instructional program… | C8: Rating | D8: Stock Evidence/Feedback | E8: Other Evidence/Feedback | F8: Evidence/Feedback | G8: Score
A9: 1 | B9: a detailed scope and sequence of phonics patterns moves from simple word types, lengths, and complexities to more complex words, syllable types, and multi-syllable words | F9: =SUBSTITUTE(SUBSTITUTE(D9, ",", ""), """", "") & " " & SUBSTITUTE(E9, ",", "") | G9: =IF(C9="Fully met", 1, IF(C9="Partially met",0.5, 0)) -> 0
A10: 2 | B10: new skills are explicitly modeled using multiple unambiguous examples, where the new skill is introduced, defined and/or explained, a model or demonstration is provided, students are given opportunity to practice orally with immediate corrective feedback | F10: =SUBSTITUTE(SUBSTITUTE(D10, ",", ""), """", "") & " " & SUBSTITUTE(E10, ",", "")
A11: 3 | B11: phonics lessons include step by step routines to teach new advanced phonics patterns | F11: =SUBSTITUTE(SUBSTITUTE(D11, ",", ""), """", "") & " " & SUBSTITUTE(E11, ",", "") | G11: =IF(C11="Fully met", 1, IF(C11="Partially met",0.5, 0)) -> 0
A12: 4 | B12: the phonics lesson format includes o brief cumulative review of previously taught skills, o a phonological warm up, o phoneme-grapheme matching, o word reading accuracy, o fluency building at the word, phrase, sentence and passage level, o sentence dictation, o transfer to text | F12: =SUBSTITUTE(SUBSTITUTE(D12, ",", ""), """", "") & " " & SUBSTITUTE(E12, ",", "") | G12: =IF(C12="Fully met", 1, IF(C12="Partially met",0.5, 0)) -> 0
A13: 5 | B13: students practice to automaticity the full continuum of the phonological and phonemic awareness skills from early (rhyming and onset-rime) to basic (segmenting and blending) to advanced (sound manipulation and deletion) that were previously learned in kindergarten and first grade | F13: =SUBSTITUTE(SUBSTITUTE(D13, ",", ""), """", "") & " " & SUBSTITUTE(E13, ",", "") | G13: =IF(C13="Fully met", 1, IF(C13="Partially met",0.5, 0)) -> 0
A14: 6 | B14: multi-syllable words are explicitly taught using prefixes, suffixes, syllable types and known word parts to aid in word recognition | F14: =SUBSTITUTE(SUBSTITUTE(D14, ",", ""), """", "") & " " & SUBSTITUTE(E14, ",", "") | G14: =IF(C14="Fully met", 1, IF(C14="Partially met",0.5, 0)) -> 0
A15: 7 | B15: larger, high-utility patterns (e.g., -ight, -ing) are taught explicitly and practiced to automaticity to increase fluency of word recognition | F15: =SUBSTITUTE(SUBSTITUTE(D15, ",", ""), """", "") & " " & SUBSTITUTE(E15, ",", "") | G15: =IF(C15="Fully met", 1, IF(C15="Partially met",0.5, 0)) -> 0
A16: 8 | B16: high-utility words are introduced and practiced to automaticity | F16: =SUBSTITUTE(SUBSTITUTE(D16, ",", ""), """", "") & " " & SUBSTITUTE(E16, ",", "") | G16: =IF(C16="Fully met", 1, IF(C16="Partially met",0.5, 0)) -> 0
A17: 9 | B17: phonics patterns and high-utility words are taught and learned in isolation before introduced in text that students read independently | F17: =SUBSTITUTE(SUBSTITUTE(D17, ",", ""), """", "") & " " & SUBSTITUTE(E17, ",", "") | G17: =IF(C17="Fully met", 1, IF(C17="Partially met",0.5, 0)) -> 0
A18: 10 | B18: text for independent reading doesn’t contain words that have phonics patterns that haven’t been taught in prior phonics lessons | F18: =SUBSTITUTE(SUBSTITUTE(D18, ",", ""), """", "") & " " & SUBSTITUTE(E18, ",", "") | G18: =IF(C18="Fully met", 1, IF(C18="Partially met",0.5, 0)) -> 0
A19: 11 | B19: the number of irregular words introduced in a lesson is minimized | F19: =SUBSTITUTE(SUBSTITUTE(D19, ",", ""), """", "") & " " & SUBSTITUTE(E19, ",", "") | G19: =IF(C19="Fully met", 1, IF(C19="Partially met",0.5, 0)) -> 0
A20: 12 | B20: instruction of similar, easily-confused letter patterns are separated in time | F20: =SUBSTITUTE(SUBSTITUTE(D20, ",", ""), """", "") & " " & SUBSTITUTE(E20, ",", "") | G20: =IF(C20="Fully met", 1, IF(C20="Partially met",0.5, 0)) -> 0
A21: 13 | B21: there are multiple opportunities to read the previously learned regular and irregular words in the context of controlled text (also known as decodable text) | F21: =SUBSTITUTE(SUBSTITUTE(D21, ",", ""), """", "") & " " & SUBSTITUTE(E21, ",", "") | G21: =IF(C21="Fully met", 1, IF(C21="Partially met",0.5, 0)) -> 0
A22: 14 | B22: instruction in irregular, high-utility words focuses on predictable letter-sound combinations and irregularities | F22: =SUBSTITUTE(SUBSTITUTE(D22, ",", ""), """", "") & " " & SUBSTITUTE(E22, ",", "") | G22: =IF(C22="Fully met", 1, IF(C22="Partially met",0.5, 0)) -> 0
... A26: 18 | B26: differentiation of phonics instruction is linked to assessment data, with flexible grouping based on students’ needs and progress | F26: =SUBSTITUTE(SUBSTITUTE(D26, ",", ""), """", "") & " " & SUBSTITUTE(E26, ",", "") | G26: =IF(C26="Fully met", 1, IF(C26="Partially met",0.5, 0)) -> 0
D27: Score Summary | G27: =SUM(G9:G26) -> 0
G28: out of 18
B30: Section 2: Vocabulary
B31: In the supplemental instructional program… | C31: Rating | D31: Stock Evidence/Feedback | E31: Other Evidence/Feedback | F31: Evidence/Feedback | G31: Score
A32: 1 | B32: words selected for instruction are rich, high-utility words that will appear in conversation and literature, those that must be learned to understand a concept or text, and words from content area instruction | G32: =IF(C32="Fully met", 1, IF(C32="Partially met",0.5, 0)) -> 0
A33: 2 | B33: new words are explicitly modeled using student-friendly definitions, multiple unambiguous examples and non-examples, and students are given opportunity to practice using the words with immediate corrective feedback | G33: =IF(C33="Fully met", 1, IF(C33="Partially met",0.5, 0)) -> 0
A34: 3 | B34: words that have been taught are repeated multiple times in a variety of contexts | G34: =IF(C34="Fully met", 1, IF(C34="Partially met",0.5, 0)) -> 0
A35: 4 | B35: new words are integrated into sentences and students are prompted to use them in sentences | G35: =IF(C35="Fully met", 1, IF(C35="Partially met",0.5, 0)) -> 0
A36: 5 | B36: students are engaged in processing word meanings at deeper levels, to associate new words with known words | G36: =IF(C36="Fully met", 1, IF(C36="Partially met",0.5, 0)) -> 0
A37: 6 | B37: there is cumulative review and practice of previously learned words | G37: =IF(C37="Fully met", 1, IF(C37="Partially met",0.5, 0)) -> 0
A38: 7 | B38: students are exposed to a wide range of words through reading aloud from a wide range of stories and informational text | G38: =IF(C38="Fully met", 1, IF(C38="Partially met",0.5, 0)) -> 0
A39: 8 | B39: morphemic analysis is taught explicitly and systematically to support building word meaning through knowledge of root words, prefixes and suffixes | G39: =IF(C39="Fully met", 1, IF(C39="Partially met",0.5, 0)) -> 0
A40: 9 | B40: students are taught to predict meaning using antonyms and synonyms, words in compound words, and prefixes and suffixes | G40: =IF(C40="Fully met", 1, IF(C40="Partially met",0.5, 0)) -> 0
A41: 10 | B41: students are taught simple multiple meaning words | G41: =IF(C41="Fully met", 1, IF(C41="Partially met",0.5, 0)) -> 0
A42: 11 | B42: students are asked to demonstrate understanding word meaning by using words in oral and written sentences | G42: =IF(C42="Fully met", 1, IF(C42="Partially met",0.5, 0)) -> 0
A43: 12 | B43: activities and materials are designed to elicit high levels of responding and engagement | G43: =IF(C43="Fully met", 1, IF(C43="Partially met",0.5, 0)) -> 0
A44: 13 | B44: differentiation of vocabulary instruction is linked to assessment data, with flexible grouping based on students’ needs and progress | G44: =IF(C44="Fully met", 1, IF(C44="Partially met",0.5, 0)) -> 0
D45: Score Summary | G45: =SUM(G32:G44) -> 0
G46: out of 13
B48: Section 3: Text Reading and Fluency
...

Sheet Phase 2 Third Grade
A1: Supplemental Program Review Rubric
A3: Phase 2: Required Instructional Practices for Teaching Essential Early Literacy Skills
A5: Third Grade
B7: Section 1: Phonics and Word Study
B8: In the supplemental instructional program… | C8: Rating | D8: Stock Evidence/Feedback | E8: Other Evidence/Feedback | F8: Evidence/Feedback | G8: Score
A9: 1 | B9: there is a detailed scope and sequence of phonics patterns that progresses from simple word types, lengths, and complexities to more complex words, syllable types, and multi-syllable words (orthographically larger and more complex units) | G9: =IF(C9="Fully met", 1, IF(C9="Partially met",0.5, 0)) -> 0
A10: 2 | B10: new skills are explicitly modeled using multiple unambiguous examples, where the new skill is introduced, defined and/or explained, a model or demonstration is provided, students are given opportunity to practice orally with immediate corrective feedback | G10: =IF(C10="Fully met", 1, IF(C10="Partially met",0.5, 0)) -> 0
A11: 3 | B11: phonics lessons include step by step routines to teach new advanced phonics patterns | G11: =IF(C11="Fully met", 1, IF(C11="Partially met",0.5, 0)) -> 0
A12: 4 | B12: the phonics lesson format includes o brief cumulative review of previously taught skills, o a phonological warm up, o phoneme-grapheme matching, o word reading accuracy, o fluency building at the word, phrase, sentence and passage level, o sentence dictation, o transfer to text | G12: =IF(C12="Fully met", 1, IF(C12="Partially met",0.5, 0)) -> 0
A13: 5 | B13: students practice to automaticity the full continuum of the phonological and phonemic awareness skills from early (rhyming and onset-rime) to basic (segmenting and blending) to advanced (sound manipulation and deletion) that were previously learned in kindergarten and first grade | G13: =IF(C13="Fully met", 1, IF(C13="Partially met",0.5, 0)) -> 0
A14: 6 | B14: multi-syllable words are explicitly taught using root words, prefixes, suffixes, syllable types and known word parts to aid in word recognition | G14: =IF(C14="Fully met", 1, IF(C14="Partially met",0.5, 0)) -> 0
A15: 7 | B15: there is sufficient practice in automatic reading of longer, more complex, multi-syllable words | G15: =IF(C15="Fully met", 1, IF(C15="Partially met",0.5, 0)) -> 0
A16: 8 | B16: high-utility words are introduced and practiced to automaticity | G16: =IF(C16="Fully met", 1, IF(C16="Partially met",0.5, 0)) -> 0
A17: 9 | B17: phonics patterns and high-utility words are taught and learned in isolation before being introduced in text that students read independently | G17: =IF(C17="Fully met", 1, IF(C17="Partially met",0.5, 0)) -> 0
A18: 10 | B18: text for independent reading doesn’t contain words that have phonics patterns that haven’t been taught in prior phonics lessons | G18: =IF(C18="Fully met", 1, IF(C18="Partially met",0.5, 0)) -> 0
A19: 11 | B19: the number of irregular words introduced in a lesson is minimized | G19: =IF(C19="Fully met", 1, IF(C19="Partially met",0.5, 0)) -> 0
A20: 12 | B20: instruction of similar, easily-confused letter patterns are separated in time | G20: =IF(C20="Fully met", 1, IF(C20="Partially met",0.5, 0)) -> 0
... A26: 18 | B26: differentiation of phonics instruction is linked to assessment data, with flexible grouping based on students’ needs and progress | G26: =IF(C26="Fully met", 1, IF(C26="Partially met",0.5, 0)) -> 0
D27: Score Summary | G27: =SUM(G9:G26) -> 0
G28: out of 18
B30: Section 2: Vocabulary
B31: In the supplemental instructional program… | C31: Rating | D31: Stock Evidence/Feedback | E31: Other Evidence/Feedback | F31: Evidence/Feedback | G31: Score
A32: 1 | B32: words selected for instruction are rich, high-utility words that will appear in conversation and literature, those that must be learned to understand a concept or text, and words from content area instruction | G32: =IF(C32="Fully met", 1, IF(C32="Partially met",0.5, 0)) -> 0
A33: 2 | B33: new words are explicitly modeled using student-friendly definitions, multiple unambiguous examples and non-examples, and students are given opportunity to practice using the words with immediate corrective feedback | G33: =IF(C33="Fully met", 1, IF(C33="Partially met",0.5, 0)) -> 0
A34: 3 | B34: words that have been taught are repeated multiple times in a variety of contexts | G34: =IF(C34="Fully met", 1, IF(C34="Partially met",0.5, 0)) -> 0
A35: 4 | B35: new words are integrated into sentences and students are prompted to use them in sentences | G35: =IF(C35="Fully met", 1, IF(C35="Partially met",0.5, 0)) -> 0
A36: 5 | B36: students are engaged in processing word meanings at deeper levels, to associate new words with known words | G36: =IF(C36="Fully met", 1, IF(C36="Partially met",0.5, 0)) -> 0
A37: 6 | B37: there is cumulative review and practice of previously learned words | G37: =IF(C37="Fully met", 1, IF(C37="Partially met",0.5, 0)) -> 0
A38: 7 | B38: students are exposed o a wide range of words through reading aloud from a wide range of stories and informational text | G38: =IF(C38="Fully met", 1, IF(C38="Partially met",0.5, 0)) -> 0
A39: 8 | B39: morphemic analysis is taught explicitly and systematically to support building word meaning through knowledge of root words, prefixes and suffixes | G39: =IF(C39="Fully met", 1, IF(C39="Partially met",0.5, 0)) -> 0
A40: 9 | B40: students are taught to predict meaning using antonyms and synonyms, individual words in compound words, and prefixes and suffixes | G40: =IF(C40="Fully met", 1, IF(C40="Partially met",0.5, 0)) -> 0
A41: 10 | B41: students are taught multiple meaning words | G41: =IF(C41="Fully met", 1, IF(C41="Partially met",0.5, 0)) -> 0
A42: 11 | B42: students are asked to demonstrate understanding word meaning by using words in oral and written sentences | G42: =IF(C42="Fully met", 1, IF(C42="Partially met",0.5, 0)) -> 0
A43: 12 | B43: students are taught to use grade-appropriate dictionaries | G43: =IF(C43="Fully met", 1, IF(C43="Partially met",0.5, 0)) -> 0
... A45: 14 | B45: differentiation of vocabulary instruction is linked to assessment data, with flexible grouping based on students’ needs and progress | G45: =IF(C45="Fully met", 1, IF(C45="Partially met",0.5, 0)) -> 0
D46: Score Summary | G46: =SUM(G32:G45) -> 0
G47: out of 14
B49: Section 3: Text Reading and Fluency
B50: In the supplemental instructional program… | C50: Rating | D50: Stock Evidence/Feedback | E50: Other Evidence/Feedback | F50: Evidence/Feedback | G50: Score
A51: 1 | B51: sentence and passage reading is introduced after students can accurately and automatically read a sufficient number of regular and irregular words | G51: =IF(C51="Fully met", 1, IF(C51="Partially met",0.5, 0)) -> 0
...

Sheet Usability, Professional Dev.
A1: Supplemental Program Review Rubric
A3: Phase 2: Required Instructional Practices for Teaching Essential Early Literacy Skills
A5: Usability and Professional Development
B7: Section 5: Usability
B8: In the supplemental instructional program… | C8: Rating | D8: Stock Evidence/Feedback | E8: Other Evidence/Feedback | F8: Evidence/Feedback | G8: Score
A9: 1 | B9: materials are well organized and easy to locate | G9: =IF(C9="Fully met", 1, IF(C9="Partially met",0.5, 0)) -> 0
A10: 2 | B10: teacher editions are concise and easy to manage with clear connections between teacher resources | G10: =IF(C10="Fully met", 1, IF(C10="Partially met",0.5, 0)) -> 0
A11: 3 | B11: the reading selections are centrally located within the materials and the center of the focus | G11: =IF(C11="Fully met", 1, IF(C11="Partially met",0.5, 0)) -> 0
A12: 4 | B12: the content can be reasonably completed within a regular school year and the pacing of content allows for maximum student understanding | G12: =IF(C12="Fully met", 1, IF(C12="Partially met",0.5, 0)) -> 0
A13: 5 | B13: the materials provide guidance about the amount of time a task might reasonably take | G13: =IF(C13="Fully met", 1, IF(C13="Partially met",0.5, 0)) -> 0
A14: 6 | B14: The vendor describes the device, web browsers, and technical specifications necessary to access the platform.
F15: Score Summary | G15: =SUM(G9:G13) -> 0
G16: out of 5
B19: Section 6: Professional Development
B20: In the supplemental instructional program… | C20: Rating | D20: Stock Evidence/Feedback | E20: Other Evidence/Feedback | F20: Evidence/Feedback | G20: Score
A21: 1 | B21: Professional Development · Professional development and coaching are available to support implementing the program with fidelity. | G21: =IF(C21="Met", 1, 0) -> 0
A22: 2 | B22: Professional Development – Program Specific Advisory List · Meets statute criteria · Assurances signed | F22: If professional development is available, rate this item as Met. | G22: =IF(C22="Met", 1, 0) -> 0
F23: Score Summary | G23: =SUM(G21:G22) -> 0
G24: out of 2

Sheet Supplemental Programs Rating Su
A1: Supplemental Program Ratings Summary
A3: For a grade level to be rated as Meets Expectations, all but one section must be rated as Meets Expectations.
A4: That single section must receive the rating Meets or Partially Meets.
A5: If more than one section is rated as Partially Meets, the grade level must be rated as Partially Meets Expectations.
A6: If any one section is rated as Doesn’t Meet Expectations, the grade level must be rated as Doesn’t Meet Expectations.
A7: All sections have to be rated as Partially Meets or Meets for the grade level rating to be Meets Expectations.
A9: Phase 1: Required Features of Scientifically-Based or Evidence Based Supplemental Reading Programs
A10: Section | C10: Point Total | D10: Criteria
A11: 1: Research Alignment | C11: ='Phase 1'!G11 -> 0 | D11: out of 5
A12: 2: Explicit Instruction | C12: ='Phase 1'!G18 -> 0 | D12: out of 3
A13: 3: Sequential Instruction | C13: ='Phase 1'!G25 -> 0 | D13: out of 3
A14: 4: Systematic & Cumulative Instruction | C14: ='Phase 1'!G36 -> 0 | D14: out of 7
A15: 5: Coordinated Components | C15: ='Phase 1'!G44 -> 0 | D15: out of 4
A16: 6: Related Elements | C16: ='Phase 1'!G51 -> 0 | D16: out of 3
B17: Overall Points | C17: ='Phase 1'!B58 -> 0 | D17: out of 25 points
B18: Decision | C18: ='Phase 1'!C60 -> 0
A21: Phase 2: Required Instructional Practices for Teaching Essential Early Literacy Skills
A23: Kindergarten
A24: Section | B24: Point Total | D24: Criteria | E24: Recommendation
A25: 1: Phonological and Phonemic Awareness | B25: ='Phase 2 Kindergarten'!G21 -> 0 | C25: out of 12 points | D25: 10 - 12 points = Meets Expectations 6 - 9 points = Partially Meets Expectations 0 - 5 points = Doesn’t Meet Expectations
A26: 2: Phonics and Word Study | B26: ='Phase 2 Kindergarten'!G49 -> 0 | C26: out of 23 points | D26: 18 - 23 points = Meets Expectations 11 - 17 points = Partially Meets Expectations 0 - 10 points = Doesn’t Meet Expectations
A27: 3: Vocabulary | B27: ='Phase 2 Kindergarten'!G65 -> 0 | C27: out of 11 points | D27: 9 – 11 points = Meets Expectations 6 - 8 points = Partially Meets Expectations 0 - 5 points = Doesn’t Meet Expectations
A28: 4: Listening Comprehension | B28: ='Phase 2 Kindergarten'!G77 -> 0 | C28: out of 7 points | D28: 5-7 points = Meets Expectations 3-5 points = Partially Meets Expectations 0 - 2 points = Doesn’t Meet Expectations
D29: Grade Level Rating
A30: Reviewer Comments
A32: First Grade
A33: Section | B33: Point Total | D33: Criteria | E33: Recommendation
A34: 1: Phonological and Phonemic Awareness | B34: ='Phase 2 First Grade'!G20 -> 0 | C34: out of 11 points | D34: 8 - 11 points = Meets Expectations 6 - 7 points = Partially Meets Expectations 0 - 5 points = Doesn’t Meet Expectations
A35: 2: Phonics and Word Study | B35: ='Phase 2 First Grade'!G43 -> 0 | C35: out of 18 points | D35: 15 - 18 points = Meets Expectations 9 - 14 points = Partially Meets Expectations 0 - 8 points = Doesn’t Meet Expectations
A36: 3: Vocabulary | B36: ='Phase 2 First Grade'!G58 -> 0 | C36: out of 10 points | D36: 8 - 10 points = Meets Expectations 5 - 7 points = Partially Meets Expectations 0 - 4 points = Doesn’t Meet Expectations
A37: 4: Text Reading and Fluency | B37: ='Phase 2 First Grade'!G69 -> 0 | C37: out of 6 points | D37: 5 - 6 points = Meets Expectations 3 - 4 points = Partially Meets Expectations 0 - 2 points = Doesn’t Meet Expectations
A38: 5: Reading Comprehension | B38: ='Phase 2 First Grade'!G85 -> 0 | C38: out of 11 points | D38: 9-11 points = Meets Expectations 5-8 points = Partially Meets Expectations 0 - 4 points = Doesn’t Meet Expectations
D39: Grade Level Rating
A40: Reviewer Comments
A42: Second Grade
A43: Section | B43: Point Total | D43: Criteria | E43: Recommendation
A44: 1: Phonics and Word Study | B44: ='Phase 2 Second Grade'!G27 -> 0 | C44: out of 18 points | D44: 15 - 18 points = Meets Expectations 9 - 14 points = Partially Meets Expectations 0 - 8 points = Doesn’t Meet Expectations
A45: 2: Vocabulary | B45: ='Phase 2 Second Grade'!G45 -> 0 | C45: out of 13 points | D45: 10 - 13 points = Meets Expectations 7 – 9 points = Partially Meets Expectations 0 - 6 points = Doesn’t Meet Expectations
A46: 3: Text Reading and Fluency | B46: ='Phase 2 Second Grade'!G56 -> 0 | C46: out of 6 points | D46: 5 - 6 points = Meets Expectations 3 - 4 points = Partially Meets Expectations 0 - 2 points = Doesn’t Meet Expectations
A47: 4: Reading Comprehension | B47: ='Phase 2 Second Grade'!G72 -> 0 | C47: out of 11 points | D47: 9-11 points = Meets Expectations 6 - 8 points = Partially Meets Expectations 0 - 5 points = Doesn’t Meet Expectations
...

Sheet Final Summary
A1: Supplemental Program Final Summary
A3: Program Name, Publisher, Publication Year
A4: Review Team
A6: Phase 1 | B6: ='Supplemental Programs Rating Su'!C18 -> 0
A7: Usability | B7: ='Supplemental Programs Rating Su'!E63 -> 0
A8: Professional Development | B8: ='Supplemental Programs Rating Su'!E69 -> 0
A10: Phase 2
A11: Grade | B11: Recommendation
A12: Kindergarten | B12: ='Supplemental Programs Rating Su'!E29 -> 0
A13: First Grade | B13: ='Supplemental Programs Rating Su'!E39 -> 0
A14: Second Grade | B14: ='Supplemental Programs Rating Su'!E48 -> 0
A15: Third Grade | B15: ='Supplemental Programs Rating Su'!E57 -> 0
A16: Overall | B16: (Recommended for grades:____)
