Workbook

Sheet Introduction
A1: READ Act
A2: Request for Advisory List Submissions
A3: Part II - Program Review
A4: Core Instructional Programming
A5: 2025-2026
A7: The Colorado Reading to Ensure Academic Development Act (READ Act) requires the Colorado Department of Education to create an advisory list of evidence-based or scientifically based instructional programming in reading (C.R.C., 22-7-1209). Part 2 of the process to create an advisory list of programs involves the use of rubrics to evaluate core, supplemental and intervention program materials. A separate rubric is used for each type of instructional program. These rubrics are designed for reviewing programs that teach students to read in English. If a program is teaching reading in another language, the scope and sequence for learning to read in that language must be considered.
A9: Core Programming: A comprehensive program used to teach initial and differentiated instruction in the regular classroom. Core reading programs typically encompass both content (curriculum) and strategies (instruction) for teaching the included domains and skills. They provide the instructional priorities, sequence, delivery methods, and materials to articulate how to teach students so they will achieve grade level standards.
A11: Supplemental Programming: A program selected to supplement core reading instruction when the core program doesn’t provide enough instruction or practice in key areas to meet student needs.
A13: Intervention Programming: A program designed to provide scientifically-based, high-quality instruction for students who are below proficient in reading.
A15: The core, supplemental, and intervention programs will be reviewed in two phases. In Phase 1, expert reviewers will evaluate programs on the key elements and features of scientifically-based reading instruction, including: • research alignment • explicit instruction • sequential instruction • systematic and cumulative instruction • coordinated components • related elements
A17: Programs that meet criteria in Phase 1 will move on to Phase 2. The Phase 2 review involves evaluating the extent to which programs implement effective instructional practices for teaching the essential early literacy skills: • phonemic awareness • vocabulary • phonics • oral reading fluency • reading comprehension The criteria for each grade are organized into sections based on the essential early literacy skills.
A19: Core Programming will recommended for each grade level which meets the phase 2 rubric criteria.

Sheet Rating Definitions
A1: Rating Definitions for Core Programming
A3: Fully Met or Met
A4: Items marked as Fully Met should have evidence of all components of the criteria throughout the program. Reviewers are encouraged to note evidence and feedback for the publisher.
A5: Items marked as Fully Met or Met will receive a score of 1.
A7: Partially Met
A8: Items should be marked as Partially Met when some aspect of the criteria is met but others are not, and/or the criteria is met in one part of the program but not met in others. Reviewers are encouraged to note evidence and feedback for the publisher.
A9: Items marked as Partially Met will receive a score of 0.5.
A11: Not Met
A12: Items are marked as Not Met when no evidence of the criteria could be found in the program materials submitted by the publisher, or when there is evidence of a practice that is contrary to the criteria. Reviewers should note feedback for the publisher.
A13: Items marked Not met will receive a score of 0.

Sheet Phase 1
A1: Core Program Review Rubric
A3: Phase 1: Required Features of Scientifically-Based or Evidence Based Core Reading Programs
B5: Section 1: Research Alignment - The program reflects current and confirmed research in reading and cognitive science. Must receive one point for each criterion in Section 1 in order to move forward to Phase 2 review. | C5: Rating | D5: Stock Evidence/Feedback | E5: Feedback | F5: Evidence/Feedback | G5: Score
A6: 1 | B6: For the grades for which the program is submitted, the program must include evidence of alignment to ESSA Evidence Level 1, 2, 3 or 4. If Level 4, then a logic model must be submitted. | C6: Met | F6: =SUBSTITUTE(SUBSTITUTE(D6, ",", ""), """", "") & " " & SUBSTITUTE(E6, ",", "") | G6: =IF(C6="Met", 1, 0) -> 1
A7: 2 | B7: The program provides evidence of grounding in conceptual research and theoretical models with reference to research articles and websites. If the program is constructed for learning to read in a language other than English, a conceptual model and research foundation, as well as evidence that it is not merely a translation of an English program is provided. | C7: Met | F7: =SUBSTITUTE(SUBSTITUTE(D7, ",", ""), """", "") & " " & SUBSTITUTE(E7, ",", "") | G7: =IF(C7="Met", 1, 0) -> 1
A8: 3 | B8: There is an obvious emphasis on teaching and learning the five essential early literacy skills. | C8: Met | F8: =SUBSTITUTE(SUBSTITUTE(D8, ",", ""), """", "") & " " & SUBSTITUTE(E8, ",", "") | G8: =IF(C8="Met", 1, 0) -> 1
A9: 4 | B9: The program reflects the understanding that reading is a language-based skill and learning to read depends on mapping sounds to print. | C9: Met | F9: =SUBSTITUTE(SUBSTITUTE(D9, ",", ""), """", "") & " " & SUBSTITUTE(E9, ",", "") | G9: =IF(C9="Met", 1, 0) -> 1
A10: 5 | B10: Word recognition is explicitly taught through relating sounds to letters, and not visual memory, guessing, the shape of the word, or the use of context clues to decode words. | C10: Met | F10: =SUBSTITUTE(SUBSTITUTE(D10, ",", ""), """", "") & " " & SUBSTITUTE(E10, ",", "") | G10: =IF(C10="Met", 1, 0) -> 1
D11: Total Met Section 1: | G11: =SUM(G6:G10) -> 5
D12: All points needed to move to Phase 2 review. | G12: out of 5
B14: Section 2: Explicit Instruction – Students are introduced to the new skill before they are asked to perform it. | C14: Rating | D14: Stock Evidence/Feedback | E14: Evidence/Feedback | F14: Evidence/Feedback | G14: Score
A15: 1 | B15: Lessons include instructional routines and/or scripts that note what the teacher should say, include a step-by-step sequence, include procedures, and consistent academic language and vocabulary that relates back to grade level outcomes and standards. | C15: Met | F15: =SUBSTITUTE(SUBSTITUTE(D15, ",", ""), """", "") & " " & SUBSTITUTE(E15, ",", "") | G15: =IF(C15="Met", 1, 0) -> 1
A16: 2 | B16: Routines include language for the teacher to introduce, define or explain new skills through demonstration and modeling before students are asked to perform the skills. | C16: Met | F16: =SUBSTITUTE(SUBSTITUTE(D16, ",", ""), """", "") & " " & SUBSTITUTE(E16, ",", "") | G16: =IF(C16="Met", 1, 0) -> 1
A17: 3 | B17: There are multiple opportunities for students to practice new skills with instructions for the teacher to give immediate corrective feedback. | C17: Met | F17: =SUBSTITUTE(SUBSTITUTE(D17, ",", ""), """", "") & " " & SUBSTITUTE(E17, ",", "") | G17: =IF(C17="Met", 1, 0) -> 1
D18: Total Met Section 2: | G18: =SUM(G15:G17) -> 3
G19: out of 3
B21: Section 3: Sequential Instruction - There is a detailed scope and sequence including a list of specific skills taught, a sequence for teaching the skills over the course of the year, and a timeline showing when skills are taught (by week, month, unit). | C21: Rating | D21: Stock Evidence/Feedback | E21: Evidence/Feedback | F21: Evidence/Feedback | G21: Score
A22: 1 | B22: The scope and sequence for a skill within a grade shows a clear progression from easier to harder, and is appropriate for the grade for which the program is designed. | C22: Met | F22: =SUBSTITUTE(SUBSTITUTE(D22, ",", ""), """", "") & " " & SUBSTITUTE(E22, ",", "") | G22: =IF(C22="Met", 1, 0) -> 1
A23: 2 | B23: Advanced skills are not introduced before students have been taught pre-requisite skills. | C23: Met | F23: =SUBSTITUTE(SUBSTITUTE(D23, ",", ""), """", "") & " " & SUBSTITUTE(E23, ",", "") | G23: =IF(C23="Met", 1, 0) -> 1
A24: 3 | B24: The scope and sequence at each grade level articulates when skills are taught across grades. | C24: Met | F24: =SUBSTITUTE(SUBSTITUTE(D24, ",", ""), """", "") & " " & SUBSTITUTE(E24, ",", "") | G24: =IF(C24="Met", 1, 0) -> 1
D25: Total Met Section 3: | G25: =SUM(G22:G24) -> 3
G26: out of 3
B28: Section 4: Systematic & Cumulative Instruction – The structured lesson format includes a plan, procedure, or routine that is carried through the sequence of teaching skills. | C28: Rating | D28: Stock Evidence/Feedback | E28: Evidence/Feedback | F28: Evidence/Feedback | G28: Score
A29: 1 | B29: A clear and consistent lesson format is present in program lessons for each of the five foundational skill areas at each grade. | C29: Met | F29: =SUBSTITUTE(SUBSTITUTE(D29, ",", ""), """", "") & " " & SUBSTITUTE(E29, ",", "") | G29: =IF(C29="Met", 1, 0) -> 1
A30: 2 | B30: There is a daily schedule of lessons noting suggestions for the length of lessons and units. There is a daily schedule of lessons noting suggestions for the length of time dedicated to each of the foundational skill areas that is consistent across lessons and units. | C30: Met | F30: =SUBSTITUTE(SUBSTITUTE(D30, ",", ""), """", "") & " " & SUBSTITUTE(E30, ",", "") | G30: =IF(C30="Met", 1, 0) -> 1
A31: 3 | B31: Time is spent in whole group and small group formats, with the majority of instruction delivered in small, flexible, skill-based groups. | C31: Met | F31: =SUBSTITUTE(SUBSTITUTE(D31, ",", ""), """", "") & " " & SUBSTITUTE(E31, ",", "") | G31: =IF(C31="Met", 1, 0) -> 1
A32: 4 | B32: Independent or group practice occurs after teacher-led instruction on the essential skills, not before the teacher-led instruction and not without it or instead of it. | C32: Not met | E32: The program does not provide evidence for 2nd and 3rd grade for this point on the rubric, nor does the program provide sufficient guided practice after explicit instruction. | F32: =SUBSTITUTE(SUBSTITUTE(D32, ",", ""), """", "") & " " & SUBSTITUTE(E32, ",", "") -> The program does not provide evidence for 2nd and 3rd grade for this point on the rubric nor does the program provide sufficient guided practice after explicit instruction. | G32: =IF(C32="Met", 1, 0) -> 0
A33: 5 | B33: Lessons include instructional routines, noting what the teacher should say, which includes a step-by-step sequence, procedures, and consistent language across lessons and grades. | C33: Met | F33: =SUBSTITUTE(SUBSTITUTE(D33, ",", ""), """", "") & " " & SUBSTITUTE(E33, ",", "") | G33: =IF(C33="Met", 1, 0) -> 1
A34: 6 | B34: The teacher manual(s) include directions for how to implement lessons (e.g., materials, target skill, script or wording for how to teach, examples to use, specific content such as word lists or book list). | C34: Met | F34: =SUBSTITUTE(SUBSTITUTE(D34, ",", ""), """", "") & " " & SUBSTITUTE(E34, ",", "") | G34: =IF(C34="Met", 1, 0) -> 1
A35: 7 | B35: High-priority skills are cumulatively reviewed. | C35: Not met | E35: In "Cumulative Review" portions, teachers are encouraged to "consider reviewing" skills; in comprehension lessons submitted as evidence, cumulative review is not mentioned explicitly. Therefore, it is not clear what essential skills teachers are to review. | F35: =SUBSTITUTE(SUBSTITUTE(D35, ",", ""), """", "") & " " & SUBSTITUTE(E35, ",", "") -> In "Cumulative Review" portions teachers are encouraged to "consider reviewing" skills; in comprehension lessons submitted as evidence cumulative review is not mentioned explicitly. Therefore it is not clear what essential skills teachers are to review. | G35: =IF(C35="Met", 1, 0) -> 0
D36: Total Met Section 4: | G36: =SUM(G29:G35) -> 5
G37: out of 7
B39: Section 5: Coordinated Components - Elements of the program are clearly linked. | C39: Rating | D39: Stock Evidence/Feedback | E39: Evidence/Feedback | F39: Evidence/Feedback | G39: Score
A40: 1 | B40: The same routines, terminology, and procedures are used across skill areas and over time. | C40: Met | F40: =SUBSTITUTE(SUBSTITUTE(D40, ",", ""), """", "") & " " & SUBSTITUTE(E40, ",", "") | G40: =IF(C40="Met", 1, 0) -> 1
A41: 2 | B41: There is a clear link between foundational skills and higher order skills. Skills are integrated across areas (e.g. phonemic awareness and phonics, phonemic awareness and oral language). | C41: Met | F41: =SUBSTITUTE(SUBSTITUTE(D41, ",", ""), """", "") & " " & SUBSTITUTE(E41, ",", "") | G41: =IF(C41="Met", 1, 0) -> 1
A42: 3 | B42: Lessons and materials are available for differentiating instruction for students who are struggling or need enrichment, in the core program and in supplemental programs. | C42: Met | F42: =SUBSTITUTE(SUBSTITUTE(D42, ",", ""), """", "") & " " & SUBSTITUTE(E42, ",", "") | G42: =IF(C42="Met", 1, 0) -> 1
A43: 4 | B43: Differentiation and support are provided for supporting English Learners, students who are struggling, and those who need acceleration. | C43: Met | F43: =SUBSTITUTE(SUBSTITUTE(D43, ",", ""), """", "") & " " & SUBSTITUTE(E43, ",", "") | G43: =IF(C43="Met", 1, 0) -> 1
D44: Total Met Section 5: | G44: =SUM(G40:G43) -> 4
G45: out of 4
B47: Section 6: Related Elements – The program contains features that are optimal for delivering effective instruction. | C47: Rating | D47: Stock Evidence/Feedback | E47: Evidence/Feedback | F47: Evidence/Feedback | G47: Score
A48: 1 | B48: Assessment · Formative (e.g., progress monitoring) · Summative (e.g., unit tests) · Framework for data-based decision making | C48: Met | F48: =SUBSTITUTE(SUBSTITUTE(D48, ",", ""), """", "") & " " & SUBSTITUTE(E48, ",", "") | G48: =IF(C48="Met", 1, 0) -> 1
A49: 2 | B49: Environment · Classroom management to support small group instruction · Motivation for students (e.g., built-in choice, charts/graphs of progress, immediate feedback on progress) | C49: Met | F49: =SUBSTITUTE(SUBSTITUTE(D49, ",", ""), """", "") & " " & SUBSTITUTE(E49, ",", "") | G49: =IF(C49="Met", 1, 0) -> 1
A50: 3 | B50: Explicit links to state standards and grade level expectations. | C50: Met | F50: =SUBSTITUTE(SUBSTITUTE(D50, ",", ""), """", "") & " " & SUBSTITUTE(E50, ",", "") | G50: =IF(C50="Met", 1, 0) -> 1
D51: Total Met Section 6: | G51: =SUM(G48:G50) -> 3
G52: out of 3
B54: Rating Summary
B56: Total Points | C56: Criteria
B57: To move forward, a program must be marked as "Met" in all criteria in Section 1 as well as receive a score of 20 points or higher.
B58: =SUM(G11+G18+G25+G36+G44+G51) -> 23 | C58: 20-25 points = program moves to Phase 2
B59: out of 25 points | C59: 0-19 points = program doesn't move to Phase 2
B60: Decision | C60: 20-25 points = program moves to Phase 2

Sheet Phase 2 Kindergarten
A1: Core Program Review Rubric
A3: Phase 2: Required Instructional Practices for Teaching Essential Early Literacy Skills
A5: Kindergarten
B7: Section 1: Phonological and Phonemic Awareness
B8: In the core instructional program… | C8: Rating | D8: Stock Evidence/Feedback | E8: Other Evidence/Feedback | F8: Evidence/Feedback | G8: Score
A9: 1 | B9: a detailed scope and sequence of phonological and phonemic awareness skills progresses from easier (e.g., blending compound words or segmenting onset-rime) to more difficult (e.g., segmenting phonemes), culminating in advanced skills such as addition, deletion and substitution of phonemes | C9: Fully met | F9: =SUBSTITUTE(SUBSTITUTE(D9, ",", ""), """", "") & " " & SUBSTITUTE(E9, ",", "") | G9: =IF(C9="Fully met", 1, IF(C9="Partially met",0.5, 0)) -> 1
A10: 2 | B10: new skills are explicitly modeled using multiple unambiguous examples, where the new skill is introduced, defined and/or explained, a model or demonstration is provided, students are given opportunity to practice orally with immediate corrective feedback | C10: Fully met | F10: =SUBSTITUTE(SUBSTITUTE(D10, ",", ""), """", "") & " " & SUBSTITUTE(E10, ",", "") | G10: =IF(C10="Fully met", 1, IF(C10="Partially met",0.5, 0)) -> 1
A11: 3 | B11: students are taught strategies to demonstrate and practice how sounds are connected to letters (e.g. phoneme-grapheme mapping) (working toward understanding of the alphabetic principle) | C11: Fully met | F11: =SUBSTITUTE(SUBSTITUTE(D11, ",", ""), """", "") & " " & SUBSTITUTE(E11, ",", "") | G11: =IF(C11="Fully met", 1, IF(C11="Partially met",0.5, 0)) -> 1
A12: 4 | B12: students analyze spoken words at the phoneme level, including segmenting individual phonemes | C12: Fully met | F12: =SUBSTITUTE(SUBSTITUTE(D12, ",", ""), """", "") & " " & SUBSTITUTE(E12, ",", "") | G12: =IF(C12="Fully met", 1, IF(C12="Partially met",0.5, 0)) -> 1
A13: 5 | B13: movement and/or manipulatives are used to make sounds in words concrete | C13: Fully met | F13: =SUBSTITUTE(SUBSTITUTE(D13, ",", ""), """", "") & " " & SUBSTITUTE(E13, ",", "") | G13: =IF(C13="Fully met", 1, IF(C13="Partially met",0.5, 0)) -> 1
A14: 6 | B14: the order of attention to phonemes in three-phoneme words is first sound, last sound, middle sound | C14: Fully met | F14: =SUBSTITUTE(SUBSTITUTE(D14, ",", ""), """", "") & " " & SUBSTITUTE(E14, ",", "") | G14: =IF(C14="Fully met", 1, IF(C14="Partially met",0.5, 0)) -> 1
A15: 7 | B15: instructional time is focused on high priority skills such as isolating beginning phoneme, blending, segmenting and manipulating phonemes | C15: Fully met | F15: =SUBSTITUTE(SUBSTITUTE(D15, ",", ""), """", "") & " " & SUBSTITUTE(E15, ",", "") | G15: =IF(C15="Fully met", 1, IF(C15="Partially met",0.5, 0)) -> 1
A16: 8 | B16: students are taught to blend and segment phonemes in three-, four- and five-phoneme words | C16: Fully met | F16: =SUBSTITUTE(SUBSTITUTE(D16, ",", ""), """", "") & " " & SUBSTITUTE(E16, ",", "") | G16: =IF(C16="Fully met", 1, IF(C16="Partially met",0.5, 0)) -> 1
A17: 9 | B17: students are taught to pull apart the two phonemes in consonant blends when segmenting | C17: Fully met | F17: =SUBSTITUTE(SUBSTITUTE(D17, ",", ""), """", "") & " " & SUBSTITUTE(E17, ",", "") | G17: =IF(C17="Fully met", 1, IF(C17="Partially met",0.5, 0)) -> 1
A18: 10 | B18: students spend time practicing orally producing the sounds in spoken words, not just identifying the sounds or matching the sounds using objects or pictures | C18: Fully met | F18: =SUBSTITUTE(SUBSTITUTE(D18, ",", ""), """", "") & " " & SUBSTITUTE(E18, ",", "") | G18: =IF(C18="Fully met", 1, IF(C18="Partially met",0.5, 0)) -> 1
A19: 11 | B19: the activities and materials are designed to elicit high levels of responding and engagement | C19: Fully met | F19: =SUBSTITUTE(SUBSTITUTE(D19, ",", ""), """", "") & " " & SUBSTITUTE(E19, ",", "") | G19: =IF(C19="Fully met", 1, IF(C19="Partially met",0.5, 0)) -> 1
A20: 12 | B20: differentiation of phonemic awareness instruction is linked to assessment data, with flexible grouping based on students’ needs and progress. | C20: Fully met | F20: =SUBSTITUTE(SUBSTITUTE(D20, ",", ""), """", "") & " " & SUBSTITUTE(E20, ",", "") | G20: =IF(C20="Fully met", 1, IF(C20="Partially met",0.5, 0)) -> 1
F21: Score Summary | G21: =SUM(G9:G20) -> 12
G22: out of 12
B24: Section 2: Phonics and Word Study
B25: In the core instructional program… | C25: Rating | D25: Stock Evidence/Feedback | E25: Other Evidence/Feedback | F25: Evidence/Feedback | G25: Score
A26: 1 | B26: there is a detailed scope and sequence of phonics skills that progresses from simple letter-sounds to more complex patterns | C26: Fully met | F26: =SUBSTITUTE(SUBSTITUTE(D26, ",", ""), """", "") & " " & SUBSTITUTE(E26, ",", "") | G26: =IF(C26="Fully met", 1, IF(C26="Partially met",0.5, 0)) -> 1
A27: 2 | B27: the phonics lesson format includes o brief cumulative review of previously taught skills, o a phonological warm up, o phoneme-grapheme matching, o word reading accuracy, o fluency building at the word, phrase, and eventually simple sentence level, o word dictation, o transfer to simple decodable text | C27: Partially met | D27: Phonics lessons include some but not all of the above elements. | E27: Cumulative review is not embedded into every lesson. | F27: =SUBSTITUTE(SUBSTITUTE(D27, ",", ""), """", "") & " " & SUBSTITUTE(E27, ",", "") -> Phonics lessons include some but not all of the above elements. Cumulative review is not embedded into every lesson. | G27: =IF(C27="Fully met", 1, IF(C27="Partially met",0.5, 0)) -> 0.5
A28: 3 | B28: new skills are explicitly modeled using multiple unambiguous examples, where the new skill is introduced, defined and/or explained, a model or demonstration is provided, students are given opportunity to practice orally with immediate corrective feedback (e.g. an explicit step by step routine is utilized) | C28: Partially met | D28: Evidence provided but does not address criteria. | E28: Corrective feedback not immediately given; rather, after formative assessment, students are assigned to a small group for further instruction. | F28: =SUBSTITUTE(SUBSTITUTE(D28, ",", ""), """", "") & " " & SUBSTITUTE(E28, ",", "") -> Evidence provided but does not address criteria. Corrective feedback not immediately given; rather after formative assessment students are assigned to a small group for further instruction. | G28: =IF(C28="Fully met", 1, IF(C28="Partially met",0.5, 0)) -> 0.5
A29: 4 | B29: letter-sound instruction starts with high-utility letters (i.e., m, s, a, r, t) | C29: Fully met | F29: =SUBSTITUTE(SUBSTITUTE(D29, ",", ""), """", "") & " " & SUBSTITUTE(E29, ",", "") | G29: =IF(C29="Fully met", 1, IF(C29="Partially met",0.5, 0)) -> 1
A30: 5 | B30: letter-sound instruction integrates the letter name, sound, and explicitly and systematically how to write the symbol | C30: Partially met | E30: Letter-sound instruction integrates the letter name and sound consistently. However, explicit and systematic letter formation and letter writing could not be found. | F30: =SUBSTITUTE(SUBSTITUTE(D30, ",", ""), """", "") & " " & SUBSTITUTE(E30, ",", "") -> Letter-sound instruction integrates the letter name and sound consistently. However explicit and systematic letter formation and letter writing could not be found. | G30: =IF(C30="Fully met", 1, IF(C30="Partially met",0.5, 0)) -> 0.5
A31: 6 | B31: the letter that represents the sound is explicitly modeled with multiple unambiguous examples before students practice and apply | C31: Fully met | F31: =SUBSTITUTE(SUBSTITUTE(D31, ",", ""), """", "") & " " & SUBSTITUTE(E31, ",", "") | G31: =IF(C31="Fully met", 1, IF(C31="Partially met",0.5, 0)) -> 1
A32: 7 | B32: letter-sound combinations are learned to automaticity through frequent and cumulative review | C32: Not met | D32: Evidence provided but does not address criteria., Letter-sounds are introduced but not reviewed along with the previously mastered letter sounds. | F32: =SUBSTITUTE(SUBSTITUTE(D32, ",", ""), """", "") & " " & SUBSTITUTE(E32, ",", "") -> Evidence provided but does not address criteria. Letter-sounds are introduced but not reviewed along with the previously mastered letter sounds. | G32: =IF(C32="Fully met", 1, IF(C32="Partially met",0.5, 0)) -> 0
A33: 8 | B33: phonics lessons include segmenting at the level of individual phonemes then matching graphemes to phonemes | C33: Fully met | F33: =SUBSTITUTE(SUBSTITUTE(D33, ",", ""), """", "") & " " & SUBSTITUTE(E33, ",", "") | G33: =IF(C33="Fully met", 1, IF(C33="Partially met",0.5, 0)) -> 1
A34: 9 | B34: easily confused letters, letter-sounds and words (those that look or sound similar) are not taught in close sequence but are separated in time | C34: Fully met | F34: =SUBSTITUTE(SUBSTITUTE(D34, ",", ""), """", "") & " " & SUBSTITUTE(E34, ",", "") | G34: =IF(C34="Fully met", 1, IF(C34="Partially met",0.5, 0)) -> 1
A35: 10 | B35: a few short vowel letter-sounds are taught early so students can blend VC and CVC patterns to read and write words | C35: Fully met | F35: =SUBSTITUTE(SUBSTITUTE(D35, ",", ""), """", "") & " " & SUBSTITUTE(E35, ",", "") | G35: =IF(C35="Fully met", 1, IF(C35="Partially met",0.5, 0)) -> 1
A36: 11 | B36: there is an explicit strategy for blending letter sounds into words | C36: Partially met | E36: While the Reading Routines Companion explains the routine for blending words with each newly introduced letter sound, there is not one explicit, overall strategy provided that is transferable across letter sounds. | F36: =SUBSTITUTE(SUBSTITUTE(D36, ",", ""), """", "") & " " & SUBSTITUTE(E36, ",", "") -> While the Reading Routines Companion explains the routine for blending words with each newly introduced letter sound there is not one explicit overall strategy provided that is transferable across letter sounds. | G36: =IF(C36="Fully met", 1, IF(C36="Partially met",0.5, 0)) -> 0.5
A37: 12 | B37: there are multiple opportunities to practice blending letter sounds for the purpose of reading and writing words | C37: Fully met | F37: =SUBSTITUTE(SUBSTITUTE(D37, ",", ""), """", "") & " " & SUBSTITUTE(E37, ",", "") | G37: =IF(C37="Fully met", 1, IF(C37="Partially met",0.5, 0)) -> 1
A38: 13 | B38: students are taught and practice how to build regular words for which they know all letter sounds | C38: Fully met | F38: =SUBSTITUTE(SUBSTITUTE(D38, ",", ""), """", "") & " " & SUBSTITUTE(E38, ",", "") | G38: =IF(C38="Fully met", 1, IF(C38="Partially met",0.5, 0)) -> 1
A39: 14 | B39: students practice to automaticity in word lists, phrases and controlled decodable texts that provide enough exposures to the learned words that they become sight words | C39: Partially met | D39: No or insufficient numbers of word and phrase lists are available for practice. | F39: =SUBSTITUTE(SUBSTITUTE(D39, ",", ""), """", "") & " " & SUBSTITUTE(E39, ",", "") -> No or insufficient numbers of word and phrase lists are available for practice. | G39: =IF(C39="Fully met", 1, IF(C39="Partially met",0.5, 0)) -> 0.5
A40: 15 | B40: regular word types are introduced first (e.g., VC, CVC, CV) | C40: Fully met | F40: =SUBSTITUTE(SUBSTITUTE(D40, ",", ""), """", "") & " " & SUBSTITUTE(E40, ",", "") | G40: =IF(C40="Fully met", 1, IF(C40="Partially met",0.5, 0)) -> 1
A41: 16 | B41: irregularities are pointed out in high utility words (i.e., have, I, said) while still focusing attention on the predictable letter-sound combinations | C41: Partially met | E41: In high frequency word instruction, students are asked to attend to letter sound combinations they know and identify irregular letter-sound combinations. However, students are also asked to identify irregular letter-sound combinations with words they have not been explicitly taught. | F41: =SUBSTITUTE(SUBSTITUTE(D41, ",", ""), """", "") & " " & SUBSTITUTE(E41, ",", "") -> In high frequency word instruction students are asked to attend to letter sound combinations they know and identify irregular letter-sound combinations. However students are also asked to identify irregular letter-sound combinations with words they have not been explicitly taught. | G41: =IF(C41="Fully met", 1, IF(C41="Partially met",0.5, 0)) -> 0.5
A42: 17 | B42: irregular, high-utility words are introduced and practiced to automaticity | C42: Partially met | D42: High-utility words are not practiced to automaticity. | F42: =SUBSTITUTE(SUBSTITUTE(D42, ",", ""), """", "") & " " & SUBSTITUTE(E42, ",", "") -> High-utility words are not practiced to automaticity. | G42: =IF(C42="Fully met", 1, IF(C42="Partially met",0.5, 0)) -> 0.5
A43: 18 | B43: the number of irregular words introduced in a lesson is minimized | C43: Fully met | F43: =SUBSTITUTE(SUBSTITUTE(D43, ",", ""), """", "") & " " & SUBSTITUTE(E43, ",", "") | G43: =IF(C43="Fully met", 1, IF(C43="Partially met",0.5, 0)) -> 1
A44: 19 | B44: words are taught and learned in isolation before practiced in text; words in texts used for independent reading are the ones that have been taught in prior phonics lessons | C44: Fully met | F44: =SUBSTITUTE(SUBSTITUTE(D44, ",", ""), """", "") & " " & SUBSTITUTE(E44, ",", "") | G44: =IF(C44="Fully met", 1, IF(C44="Partially met",0.5, 0)) -> 1
A45: 20 | B45: there is cumulative review of known letter-sound combinations and words | C45: Partially met | D45: Evidence provided but does not address criteria. | E45: Cumulative review section is a suggestion, not a required part of any component. All Cumulative Review sessions included as evidence only review content from the prior two weeks, not the whole program. | F45: =SUBSTITUTE(SUBSTITUTE(D45, ",", ""), """", "") & " " & SUBSTITUTE(E45, ",", "") -> Evidence provided but does not address criteria. Cumulative review section is a suggestion not a required part of any component. All Cumulative Review sessions included as evidence only review content from the prior two weeks not the whole program. | G45: =IF(C45="Fully met", 1, IF(C45="Partially met",0.5, 0)) -> 0.5
A46: 21 | B46: there are repeated opportunities to read words in context of the controlled decodable text that contain the phonic elements and irregular words students have learned previously | C46: Fully met | F46: =SUBSTITUTE(SUBSTITUTE(D46, ",", ""), """", "") & " " & SUBSTITUTE(E46, ",", "") | G46: =IF(C46="Fully met", 1, IF(C46="Partially met",0.5, 0)) -> 1
A47: 22 | B47: activities and materials are designed to elicit high levels of responding and engagement | C47: Fully met | F47: =SUBSTITUTE(SUBSTITUTE(D47, ",", ""), """", "") & " " & SUBSTITUTE(E47, ",", "") | G47: =IF(C47="Fully met", 1, IF(C47="Partially met",0.5, 0)) -> 1
A48: 23 | B48: differentiation of phonics instruction is linked to assessment data, with flexible grouping based on students’ needs and progress | C48: Fully met | F48: =SUBSTITUTE(SUBSTITUTE(D48, ",", ""), """", "") & " " & SUBSTITUTE(E48, ",", "") | G48: =IF(C48="Fully met", 1, IF(C48="Partially met",0.5, 0)) -> 1
F49: Score Summary | G49: =SUM(G26:G48) -> 18
G50: out of 23
B52: Section 3: Vocabulary
B53: In the core instructional program… | C53: Rating | D53: Stock Evidence/Feedback | E53: Other Evidence/Feedback | F53: Evidence/Feedback | G53: Score
A54: 1 | B54: there is a detailed scope and sequence of vocabulary skills | C54: Fully met | F54: =SUBSTITUTE(SUBSTITUTE(D54, ",", ""), """", "") & " " & SUBSTITUTE(E54, ",", "") | G54: =IF(C54="Fully met", 1, IF(C54="Partially met",0.5, 0)) -> 1
A55: 2 | B55: words selected for instruction are rich, high-utility words that will appear in conversation and literature, those that must be learned to understand a concept or text, and words from content area instruction | C55: Partially met | E55: Academic vocabulary is text-based, but leads to inconsistent quality of words across the scope and sequence. For example, one week's word list is "library," "movie," and "computers," while another week's word list is "crawls," "peeks," "unpacks," and "plunks." | F55: =SUBSTITUTE(SUBSTITUTE(D55, ",", ""), """", "") & " " & SUBSTITUTE(E55, ",", "") -> Academic vocabulary is text-based but leads to inconsistent quality of words across the scope and sequence. For example one week's word list is "library" "movie" and "computers" while another week's word list is "crawls" "peeks" "unpacks" and "plunks." | G55: =IF(C55="Fully met", 1, IF(C55="Partially met",0.5, 0)) -> 0.5
A56: 3 | B56: new words are explicitly modeled using student-friendly definitions, multiple unambiguous examples and non-examples, and students are given opportunity to practice using the words with immediate corrective feedback | C56: Partially met | D56: Students are asked to guess the meaning or look up meaning in a dictionary., Examples and non-examples are not used., Students are not given immediate corrective feedback when they make an error. | F56: =SUBSTITUTE(SUBSTITUTE(D56, ",", ""), """", "") & " " & SUBSTITUTE(E56, ",", "") -> Students are asked to guess the meaning or look up meaning in a dictionary. Examples and non-examples are not used. Students are not given immediate corrective feedback when they make an error. | G56: =IF(C56="Fully met", 1, IF(C56="Partially met",0.5, 0)) -> 0.5
A57: 4 | B57: words that have been taught are repeated multiple times in a variety of contexts | C57: Partially met | D57: Vocabulary words selected for instruction are rare words that don’t appear in a variety of contexts., Vocabulary words are introduced one time only and are not repeated over time. | F57: =SUBSTITUTE(SUBSTITUTE(D57, ",", ""), """", "") & " " & SUBSTITUTE(E57, ",", "") -> Vocabulary words selected for instruction are rare words that don’t appear in a variety of contexts. Vocabulary words are introduced one time only and are not repeated over time. | G57: =IF(C57="Fully met", 1, IF(C57="Partially met",0.5, 0)) -> 0.5
A58: 5 | B58: new words are integrated into sentences and students are prompted to use them in sentences across multiple domains | C58: Not met | D58: The program doesn’t include ways to prompt students to use the words over time and across content areas., Instruction of new words doesn’t include putting them into sentences. | F58: =SUBSTITUTE(SUBSTITUTE(D58, ",", ""), """", "") & " " & SUBSTITUTE(E58, ",", "") -> The program doesn’t include ways to prompt students to use the words over time and across content areas. Instruction of new words doesn’t include putting them into sentences. | G58: =IF(C58="Fully met", 1, IF(C58="Partially met",0.5, 0)) -> 0
A59: 6 | B59: students are engaged in processing word meanings at deeper levels, to associate new words with known words | C59: Fully met | F59: =SUBSTITUTE(SUBSTITUTE(D59, ",", ""), """", "") & " " & SUBSTITUTE(E59, ",", "") | G59: =IF(C59="Fully met", 1, IF(C59="Partially met",0.5, 0)) -> 1
A60: 7 | B60: there is cumulative review and practice of previously learned words | C60: Not met | D60: There is no plan to review or revisit previously learned words. | E60: Evidence included was mostly assessment items. | F60: =SUBSTITUTE(SUBSTITUTE(D60, ",", ""), """", "") & " " & SUBSTITUTE(E60, ",", "") -> There is no plan to review or revisit previously learned words. Evidence included was mostly assessment items. | G60: =IF(C60="Fully met", 1, IF(C60="Partially met",0.5, 0)) -> 0
A61: 8 | B61: students are exposed to a wide range of words through teachers reading aloud from a wide range of stories and informational text | C61: Fully met | F61: =SUBSTITUTE(SUBSTITUTE(D61, ",", ""), """", "") & " " & SUBSTITUTE(E61, ",", "") | G61: =IF(C61="Fully met", 1, IF(C61="Partially met",0.5, 0)) -> 1
A62: 9 | B62: morphemic analysis is taught explicitly and systematically to support building word meaning through knowledge of root words, prefixes and suffixes | C62: Partially met | E62: Some word parts are taught incidentally as they show up in text; there is no systematic morphology instruction in the evidence provided. | F62: =SUBSTITUTE(SUBSTITUTE(D62, ",", ""), """", "") & " " & SUBSTITUTE(E62, ",", "") -> Some word parts are taught incidentally as they show up in text; there is no systematic morphology instruction in the evidence provided. | G62: =IF(C62="Fully met", 1, IF(C62="Partially met",0.5, 0)) -> 0.5
A63: 10 | B63: activities and materials are designed to elicit high levels of responding and engagement | C63: Fully met | F63: =SUBSTITUTE(SUBSTITUTE(D63, ",", ""), """", "") & " " & SUBSTITUTE(E63, ",", "") | G63: =IF(C63="Fully met", 1, IF(C63="Partially met",0.5, 0)) -> 1
A64: 11 | B64: differentiation of vocabulary instruction is linked to assessment data, with flexible grouping based on students’ needs and progress | C64: Fully met | F64: =SUBSTITUTE(SUBSTITUTE(D64, ",", ""), """", "") & " " & SUBSTITUTE(E64, ",", "") | G64: =IF(C64="Fully met", 1, IF(C64="Partially met",0.5, 0)) -> 1
F65: Score Summary | G65: =SUM(G54:G64) -> 7
G66: out of 11
B68: Section 4: Listening Comprehension
B69: In the core instructional program… | C69: Rating | D69: Stock Evidence/Feedback | E69: Other Evidence/Feedback | F69: Evidence/Feedback | G69: Score
A70: 1 | B70: there a clear scope and sequence that guides listening comprehension instruction, in which the goals are explicitly stated and in which the ideas follow a logical order | C70: Partially met | D70: Evidence provided but does not address criteria. | E70: A scope and sequence for comprehension is provided, but it is not clear or explicit. | F70: =SUBSTITUTE(SUBSTITUTE(D70, ",", ""), """", "") & " " & SUBSTITUTE(E70, ",", "") -> Evidence provided but does not address criteria. A scope and sequence for comprehension is provided but it is not clear or explicit. | G70: =IF(C70="Fully met", 1, IF(C70="Partially met",0.5, 0)) -> 0.5
A71: 2 | B71: students are explicitly taught to do an oral retelling of events or stories that were read to them | C71: Fully met | F71: =SUBSTITUTE(SUBSTITUTE(D71, ",", ""), """", "") & " " & SUBSTITUTE(E71, ",", "") | G71: =IF(C71="Fully met", 1, IF(C71="Partially met",0.5, 0)) -> 1
A72: 3 | B72: story structure (e.g., beginning, middle, end) is modeled with multiple unambiguous examples | C72: Partially met | E72: Multiple examples not provided; only opportunity found is in Unit 3, Week 5. | F72: =SUBSTITUTE(SUBSTITUTE(D72, ",", ""), """", "") & " " & SUBSTITUTE(E72, ",", "") -> Multiple examples not provided; only opportunity found is in Unit 3 Week 5. | G72: =IF(C72="Fully met", 1, IF(C72="Partially met",0.5, 0)) -> 0.5
A73: 4 | B73: high-utility (e.g., words selected for instruction are rich, high-utility words that will appear in conversation and literature, those that must be learned to understand a concept or text, and words from content area instruction) words are pre-selected and taught before, during and after reading aloud | C73: Fully met | F73: =SUBSTITUTE(SUBSTITUTE(D73, ",", ""), """", "") & " " & SUBSTITUTE(E73, ",", "") | G73: =IF(C73="Fully met", 1, IF(C73="Partially met",0.5, 0)) -> 1
A74: 5 | B74: the materials support engaging in interactive discussion on a wide variety of topics to expand and deepen background knowledge | C74: Fully met | F74: =SUBSTITUTE(SUBSTITUTE(D74, ",", ""), """", "") & " " & SUBSTITUTE(E74, ",", "") | G74: =IF(C74="Fully met", 1, IF(C74="Partially met",0.5, 0)) -> 1
A75: 6 | B75: the text selections include model questions to ask while reading aloud | C75: Fully met | F75: =SUBSTITUTE(SUBSTITUTE(D75, ",", ""), """", "") & " " & SUBSTITUTE(E75, ",", "") | G75: =IF(C75="Fully met", 1, IF(C75="Partially met",0.5, 0)) -> 1
A76: 7 | B76: the specific content knowledge students will learn throughout the year is clearly stated, mapped out across the year, and prepares students for later grades | C76: Partially met | E76: Reviewers were unable to locate evidence of clearly stated content knowledge and how it is mapped across the year. | F76: =SUBSTITUTE(SUBSTITUTE(D76, ",", ""), """", "") & " " & SUBSTITUTE(E76, ",", "") -> Reviewers were unable to locate evidence of clearly stated content knowledge and how it is mapped across the year. | G76: =IF(C76="Fully met", 1, IF(C76="Partially met",0.5, 0)) -> 0.5
A77: 8 | B77: complex topics are introduced in a carefully planned sequence through teachers reading aloud, discussions, and projects, starting with a basic introduction and building towards a deeper understanding | C77: Fully met | F77: =SUBSTITUTE(SUBSTITUTE(D77, ",", ""), """", "") & " " & SUBSTITUTE(E77, ",", "") | G77: =IF(C77="Fully met", 1, IF(C77="Partially met",0.5, 0)) -> 1
A78: 9 | B78: differentiation of listening comprehension instruction is linked to assessment data, with flexible grouping based on students’ needs and progress. | C78: Fully met | F78: =SUBSTITUTE(SUBSTITUTE(D78, ",", ""), """", "") & " " & SUBSTITUTE(E78, ",", "") | G78: =IF(C78="Fully met", 1, IF(C78="Partially met",0.5, 0)) -> 1
F79: Score Summary | G79: =SUM(G70:G78) -> 7.5
G80: out of 9

Sheet Phase 2 First Grade
A1: Core Program Review Rubric
A3: Phase 2: Required Instructional Practices for Teaching Essential Early Literacy Skills
A5: First Grade
B7: Section 1: Phonological and Phonemic Awareness
B8: In the core instructional program… | C8: Rating | D8: Stock Evidence/Feedback | E8: Other Evidence/Feedback | F8: Evidence/Feedback | G8: Score
A9: 1 | B9: there is a detailed scope and sequence of phonological and phonemic awareness skills that progress from easier to more difficult, culminating in advanced skills such as addition, deletion and substitution of phonemes | C9: Fully met | E9: Original Rating: Partially Met Original Comments: There is no clear progression of easier to harder skills. Appeal Rating: Fully Met | F9: =SUBSTITUTE(SUBSTITUTE(D9, ",", ""), """", "") & " " & SUBSTITUTE(E9, ",", "") -> Original Rating: Partially Met Original Comments: There is no clear progression of easier to harder skills. Appeal Rating: Fully Met | G9: =IF(C9="Fully met", 1, IF(C9="Partially met",0.5, 0)) -> 1
A10: 2 | B10: new skills are explicitly modeled using multiple unambiguous examples, where the new skill is introduced, defined and/or explained, a model or demonstration is provided, students are given opportunity to practice orally with immediate corrective feedback | C10: Fully met | F10: =SUBSTITUTE(SUBSTITUTE(D10, ",", ""), """", "") & " " & SUBSTITUTE(E10, ",", "") | G10: =IF(C10="Fully met", 1, IF(C10="Partially met",0.5, 0)) -> 1
A11: 3 | B11: movement and/or manipulatives are used to make sounds in words concrete to demonstrate and practice how sounds are connected to letters (e.g. phoneme-grapheme mapping) (working toward understanding of the alphabetic principle) | C11: Fully met | F11: =SUBSTITUTE(SUBSTITUTE(D11, ",", ""), """", "") & " " & SUBSTITUTE(E11, ",", "") | G11: =IF(C11="Fully met", 1, IF(C11="Partially met",0.5, 0)) -> 1
A12: 4 | B12: students analyze spoken words at the phoneme level, including segmenting individual phonemes | C12: Fully met | F12: =SUBSTITUTE(SUBSTITUTE(D12, ",", ""), """", "") & " " & SUBSTITUTE(E12, ",", "") | G12: =IF(C12="Fully met", 1, IF(C12="Partially met",0.5, 0)) -> 1
A13: 5 | B13: the order of attention to phonemes in three-sound words is first, last, middle sound | C13: Fully met | E13: Original Rating: Partially Met Original Comments: Evidence provided but does not address criteria. Evidence provided shows medial sounds being taught first. Appeal Rating: Fully Met | F13: =SUBSTITUTE(SUBSTITUTE(D13, ",", ""), """", "") & " " & SUBSTITUTE(E13, ",", "") -> Original Rating: Partially Met Original Comments: Evidence provided but does not address criteria. Evidence provided shows medial sounds being taught first. Appeal Rating: Fully Met | G13: =IF(C13="Fully met", 1, IF(C13="Partially met",0.5, 0)) -> 1
A14: 6 | B14: instructional time is focused on high priority skills such as isolating beginning sound, blending, segmenting and manipulating phonemes | C14: Fully met | F14: =SUBSTITUTE(SUBSTITUTE(D14, ",", ""), """", "") & " " & SUBSTITUTE(E14, ",", "") | G14: =IF(C14="Fully met", 1, IF(C14="Partially met",0.5, 0)) -> 1
A15: 7 | B15: students are taught to blend and segment sounds in three-, four-, and five-phoneme words | C15: Fully met | F15: =SUBSTITUTE(SUBSTITUTE(D15, ",", ""), """", "") & " " & SUBSTITUTE(E15, ",", "") | G15: =IF(C15="Fully met", 1, IF(C15="Partially met",0.5, 0)) -> 1
A16: 8 | B16: students are taught to pull apart the two phonemes in consonant blends when segmenting | C16: Fully met | F16: =SUBSTITUTE(SUBSTITUTE(D16, ",", ""), """", "") & " " & SUBSTITUTE(E16, ",", "") | G16: =IF(C16="Fully met", 1, IF(C16="Partially met",0.5, 0)) -> 1
A17: 9 | B17: students spend time practicing orally producing the sounds in spoken words, not just identifying the sounds or matching the sounds using objects or pictures | C17: Fully met | F17: =SUBSTITUTE(SUBSTITUTE(D17, ",", ""), """", "") & " " & SUBSTITUTE(E17, ",", "") | G17: =IF(C17="Fully met", 1, IF(C17="Partially met",0.5, 0)) -> 1
A18: 10 | B18: activities and materials are designed to elicit high levels of responding and engagement | C18: Fully met | F18: =SUBSTITUTE(SUBSTITUTE(D18, ",", ""), """", "") & " " & SUBSTITUTE(E18, ",", "") | G18: =IF(C18="Fully met", 1, IF(C18="Partially met",0.5, 0)) -> 1
A19: 11 | B19: differentiation of phonemic awareness instruction is linked to assessment data, with flexible grouping based on students’ needs and progress | C19: Fully met | F19: =SUBSTITUTE(SUBSTITUTE(D19, ",", ""), """", "") & " " & SUBSTITUTE(E19, ",", "") | G19: =IF(C19="Fully met", 1, IF(C19="Partially met",0.5, 0)) -> 1
D20: Score Summary | G20: =SUM(G9:G19) -> 11
G21: out of 11
B23: Section 2: Phonics and Word Study
B24: In the core instructional program… | C24: Rating | D24: Stock Evidence/Feedback | E24: Evidence/Feedback | F24: Evidence/Feedback | G24: Score
A25: 1 | B25: there is a detailed scope and sequence of phonics patterns that progresses from simple word types, lengths, and complexities to more complex words and syllable types | C25: Fully met | F25: =SUBSTITUTE(SUBSTITUTE(D25, ",", ""), """", "") & " " & SUBSTITUTE(E25, ",", "") | G25: =IF(C25="Fully met", 1, IF(C25="Partially met",0.5, 0)) -> 1
A26: 2 | B26: the phonics lesson format includes o brief cumulative review of previously taught skills, o a phonological warm up, o phoneme-grapheme matching, o word reading accuracy, o fluency building at the word, phrase, and eventually simple sentence level, o word dictation, o transfer to simple decodable text | C26: Partially met | E26: Original Rating: Partially Met Original Comments: Phonics lessons include some but not all of the elements. Phonics lessons do not include brief explicit cumulative review phrase reading and simple sentence reading. Appeal Rating: Partially Met Appeal Comments: Appeal response included examples; however, reviewers did not find sufficient evidence to change the original rating. Review included is not cumulative. | F26: =SUBSTITUTE(SUBSTITUTE(D26, ",", ""), """", "") & " " & SUBSTITUTE(E26, ",", "") -> Original Rating: Partially Met Original Comments: Phonics lessons include some but not all of the elements. Phonics lessons do not include brief explicit cumulative review phrase reading and simple sentence reading. Appeal Rating: Partially Met Appeal Comments: Appeal response included examples; however reviewers did not find sufficient evidence to change the original rating. Review included is not cumulative. | G26: =IF(C26="Fully met", 1, IF(C26="Partially met",0.5, 0)) -> 0.5
A27: 3 | B27: new skills are explicitly modeled using multiple unambiguous examples, where the new skill is introduced, defined and/or explained, a model or demonstration is provided, students are given opportunity to practice orally with immediate corrective feedback (e.g. an explicit step by step routine is utilized) | C27: Partially met | E27: Original Rating: Partially Met Original Comments: Introduction of new skills does not include all of the elements. Corrective feedback not immediately given; rather, after formative assessment, students are assigned to a small group for further instruction. Appeal Rating: Partially Met Appeal Comments: Appeal response included examples; however, reviewers did not find sufficient evidence to change the original rating. Specific corrective feedback prompting is only available in supplemental materials. Evidence not provided addressing concern that corrective feedback is consistently immediate and in the moment. | F27: =SUBSTITUTE(SUBSTITUTE(D27, ",", ""), """", "") & " " & SUBSTITUTE(E27, ",", "") -> Original Rating: Partially Met Original Comments: Introduction of new skills does not include all of the elements. Corrective feedback not immediately given; rather after formative assessment students are assigned to a small group for further instruction. Appeal Rating: Partially Met Appeal Comments: Appeal response included examples; however reviewers did not find sufficient evidence to change the original rating. Specific corrective feedback prompting is only available in supplemental materials. Evidence not provided addressing concern that corrective feedback is consistently immediate and in the moment. | G27: =IF(C27="Fully met", 1, IF(C27="Partially met",0.5, 0)) -> 0.5
A28: 4 | B28: there is an explicit strategy for blending letter sounds into words that is taught with multiple unambiguous examples | C28: Fully met | E28: Original Rating: Partially Met Original Comments: Evidence provided but does not address criteria. Program includes a routine for blending but not necessarily a transferable strategy. Appeal Rating: Fully Met | F28: =SUBSTITUTE(SUBSTITUTE(D28, ",", ""), """", "") & " " & SUBSTITUTE(E28, ",", "") -> Original Rating: Partially Met Original Comments: Evidence provided but does not address criteria. Program includes a routine for blending but not necessarily a transferable strategy. Appeal Rating: Fully Met | G28: =IF(C28="Fully met", 1, IF(C28="Partially met",0.5, 0)) -> 1
A29: 5 | B29: easily confused letters, letter-sounds and words (those that look or sound similar) are not taught in close sequence but are separated in time | C29: Fully met | F29: =SUBSTITUTE(SUBSTITUTE(D29, ",", ""), """", "") & " " & SUBSTITUTE(E29, ",", "") | G29: =IF(C29="Fully met", 1, IF(C29="Partially met",0.5, 0)) -> 1
A30: 6 | B30: there are multiple opportunities to blend and read words, and to use letter-sound correspondence to read and write words (e.g. phoneme–grapheme mapping) | C30: Fully met | E30: Original Rating: Partially Met Original Comments: There are limited opportunities for students to read words and inadequate tools (for instance, students are required to draw their own sound boxes) which will impact time for practice. Appeal Rating: Fully Met | F30: =SUBSTITUTE(SUBSTITUTE(D30, ",", ""), """", "") & " " & SUBSTITUTE(E30, ",", "") -> Original Rating: Partially Met Original Comments: There are limited opportunities for students to read words and inadequate tools (for instance students are required to draw their own sound boxes) which will impact time for practice. Appeal Rating: Fully Met | G30: =IF(C30="Fully met", 1, IF(C30="Partially met",0.5, 0)) -> 1
A31: 7 | B31: students are taught and practice how to build regular words for which they know all letter sounds | C31: Fully met | E31: Original Rating: Partially Met Original Comments: Evidence provided but does not address criteria. Evidence includes asking students to read words, not build words, and activities in which skills are not explicitly reviewed. Appeal Rating: Fully Met | F31: =SUBSTITUTE(SUBSTITUTE(D31, ",", ""), """", "") & " " & SUBSTITUTE(E31, ",", "") -> Original Rating: Partially Met Original Comments: Evidence provided but does not address criteria. Evidence includes asking students to read words not build words and activities in which skills are not explicitly reviewed. Appeal Rating: Fully Met | G31: =IF(C31="Fully met", 1, IF(C31="Partially met",0.5, 0)) -> 1
A32: 8 | B32: students practice to automaticity in word lists, phrases and controlled decodable text that provide enough exposures for the words to become sight words | C32: Partially met | E32: Original Rating: Partially Met Original Comments: No or insufficient numbers of word and phrase lists are available for practice. Appeal Rating: Partially Met Appeal Comments: Appeal response included examples; however, reviewers did not find sufficient evidence to change the original rating. Evidence does not show how word lists are practiced over time to automaticity. | F32: =SUBSTITUTE(SUBSTITUTE(D32, ",", ""), """", "") & " " & SUBSTITUTE(E32, ",", "") -> Original Rating: Partially Met Original Comments: No or insufficient numbers of word and phrase lists are available for practice. Appeal Rating: Partially Met Appeal Comments: Appeal response included examples; however reviewers did not find sufficient evidence to change the original rating. Evidence does not show how word lists are practiced over time to automaticity. | G32: =IF(C32="Fully met", 1, IF(C32="Partially met",0.5, 0)) -> 0.5
A33: 9 | B33: regular word types are introduced first (e.g., VC, CVC, CV) | C33: Fully met | F33: =SUBSTITUTE(SUBSTITUTE(D33, ",", ""), """", "") & " " & SUBSTITUTE(E33, ",", "") | G33: =IF(C33="Fully met", 1, IF(C33="Partially met",0.5, 0)) -> 1
A34: 10 | B34: irregular, high-utility words are introduced and practiced to automaticity | C34: Partially met | E34: Original Rating: Partially Met Original Comments: High-utility words are not practiced to automaticity. Appeal Rating: Partially Met Appeal Comments: Appeal response provided a narrative to explain; however, reviewers did not find sufficient evidence to change the original rating. | F34: =SUBSTITUTE(SUBSTITUTE(D34, ",", ""), """", "") & " " & SUBSTITUTE(E34, ",", "") -> Original Rating: Partially Met Original Comments: High-utility words are not practiced to automaticity. Appeal Rating: Partially Met Appeal Comments: Appeal response provided a narrative to explain; however reviewers did not find sufficient evidence to change the original rating. | G34: =IF(C34="Fully met", 1, IF(C34="Partially met",0.5, 0)) -> 0.5
A35: 11 | B35: irregularities are pointed out in high frequency words (e.g., have, I, said) while still focusing attention on the predictable letter-sound combinations | C35: Partially met | E35: Original Rating: Partially Met Original Comments: In high frequency word instruction, students are asked to attend to letter sound combinations they know and identify irregular letter-sound combinations. However, students are also asked to identify irregular letter-sound combinations with words they have not been explicitly taught. Appeal Rating: Partially Met Appeal Comments: In instruction, students are asked to discover high-frequency word irregularities instead of experiencing explicit instruction. | F35: =SUBSTITUTE(SUBSTITUTE(D35, ",", ""), """", "") & " " & SUBSTITUTE(E35, ",", "") -> Original Rating: Partially Met Original Comments: In high frequency word instruction students are asked to attend to letter sound combinations they know and identify irregular letter-sound combinations. However students are also asked to identify irregular letter-sound combinations with words they have not been explicitly taught. Appeal Rating: Partially Met Appeal Comments: In instruction students are asked to discover high-frequency word irregularities instead of experiencing explicit instruction. | G35: =IF(C35="Fully met", 1, IF(C35="Partially met",0.5, 0)) -> 0.5
A36: 12 | B36: the number of irregular words introduced in a lesson is minimized | C36: Fully met | F36: =SUBSTITUTE(SUBSTITUTE(D36, ",", ""), """", "") & " " & SUBSTITUTE(E36, ",", "") | G36: =IF(C36="Fully met", 1, IF(C36="Partially met",0.5, 0)) -> 1
A37: 13 | B37: words are taught and learned in isolation before practiced in text; words in texts used for independent reading are the ones that have been taught in prior phonics lessons | C37: Fully met | F37: =SUBSTITUTE(SUBSTITUTE(D37, ",", ""), """", "") & " " & SUBSTITUTE(E37, ",", "") | G37: =IF(C37="Fully met", 1, IF(C37="Partially met",0.5, 0)) -> 1
A38: 14 | B38: there is cumulative review of known letter-sound combinations and words | C38: Partially met | E38: Original Rating: Partially Met Original Comments: Letter-sounds and words that have been learned are not revisited or reviewed. Appeal Rating: Partially Met Appeal Comments: Materials for cumulative review are not explicit for teacher use. | F38: =SUBSTITUTE(SUBSTITUTE(D38, ",", ""), """", "") & " " & SUBSTITUTE(E38, ",", "") -> Original Rating: Partially Met Original Comments: Letter-sounds and words that have been learned are not revisited or reviewed. Appeal Rating: Partially Met Appeal Comments: Materials for cumulative review are not explicit for teacher use. | G38: =IF(C38="Fully met", 1, IF(C38="Partially met",0.5, 0)) -> 0.5
A39: 15 | B39: there are repeated opportunities to read words in context of the controlled decodable text that contain the phonic elements and irregular words students have learned previously | C39: Fully met | F39: =SUBSTITUTE(SUBSTITUTE(D39, ",", ""), """", "") & " " & SUBSTITUTE(E39, ",", "") | G39: =IF(C39="Fully met", 1, IF(C39="Partially met",0.5, 0)) -> 1
A40: 16 | B40: instruction in patterns and word families is done after letter-sound correspondences in the unit | C40: Fully met | E40: Original Rating: Partially Met Original Comments: Evidence provided but does not address criteria. Word families is not an explicit concept taught. Appeal Rating: Fully Met | F40: =SUBSTITUTE(SUBSTITUTE(D40, ",", ""), """", "") & " " & SUBSTITUTE(E40, ",", "") -> Original Rating: Partially Met Original Comments: Evidence provided but does not address criteria. Word families is not an explicit concept taught. Appeal Rating: Fully Met | G40: =IF(C40="Fully met", 1, IF(C40="Partially met",0.5, 0)) -> 1
A41: 17 | B41: activities and materials are designed to elicit high levels of responding and engagement | C41: Fully met | E41: Original Rating: Partially Met Original Comments: Most student participation appears to happen via reading and writing words in a workbook. Appeal Rating: Fully Met | F41: =SUBSTITUTE(SUBSTITUTE(D41, ",", ""), """", "") & " " & SUBSTITUTE(E41, ",", "") -> Original Rating: Partially Met Original Comments: Most student participation appears to happen via reading and writing words in a workbook. Appeal Rating: Fully Met | G41: =IF(C41="Fully met", 1, IF(C41="Partially met",0.5, 0)) -> 1
A42: 18 | B42: differentiation of phonics instruction is linked to assessment data, with flexible grouping based on students’ needs and progress | C42: Fully met | F42: =SUBSTITUTE(SUBSTITUTE(D42, ",", ""), """", "") & " " & SUBSTITUTE(E42, ",", "") | G42: =IF(C42="Fully met", 1, IF(C42="Partially met",0.5, 0)) -> 1
D43: Score Summary | G43: =SUM(G25:G42) -> 15
G44: out of 18
B46: Section 3: Vocabulary
B47: In the core instructional program… | C47: Rating | D47: Stock Evidence/Feedback | E47: Other Evidence/Feedback | F47: Evidence/Feedback | G47: Score
A48: 1 | B48: words selected for instruction are rich, high-utility words that will appear in conversation and literature, those that must be learned to understand a concept or text, and words from content area instruction | C48: Partially met | E48: Original Rating: Partially Met Original Comments: Evidence provided but does not address criteria. Many words identified as "Selection Vocabulary" are not rich (example: "big") or are overly content-specific (example: "cattle"). Appeal Rating: Partially Met Appeal Comments: Appeal response provided a narrative to explain; however, reviewers did not find sufficient evidence to change the original rating. | F48: =SUBSTITUTE(SUBSTITUTE(D48, ",", ""), """", "") & " " & SUBSTITUTE(E48, ",", "") -> Original Rating: Partially Met Original Comments: Evidence provided but does not address criteria. Many words identified as "Selection Vocabulary" are not rich (example: "big") or are overly content-specific (example: "cattle"). Appeal Rating: Partially Met Appeal Comments: Appeal response provided a narrative to explain; however reviewers did not find sufficient evidence to change the original rating. | G48: =IF(C48="Fully met", 1, IF(C48="Partially met",0.5, 0)) -> 0.5
A49: 2 | B49: new words are explicitly modeled using student-friendly definitions, multiple unambiguous examples and non-examples, and students are given opportunity to practice using the words with immediate corrective feedback | C49: Partially met | E49: Original Rating: Partially Met Original Comments: Students are asked to guess the meaning or look up meaning in a dictionary. Examples and non-examples are not used. Students are not given immediate corrective feedback when they make an error. Appeal Rating: Partially Met Appeal Comments: Appeal response provided a narrative to explain; however, reviewers did not find sufficient evidence to change the original rating. | F49: =SUBSTITUTE(SUBSTITUTE(D49, ",", ""), """", "") & " " & SUBSTITUTE(E49, ",", "") -> Original Rating: Partially Met Original Comments: Students are asked to guess the meaning or look up meaning in a dictionary. Examples and non-examples are not used. Students are not given immediate corrective feedback when they make an error. Appeal Rating: Partially Met Appeal Comments: Appeal response provided a narrative to explain; however reviewers did not find sufficient evidence to change the original rating. | G49: =IF(C49="Fully met", 1, IF(C49="Partially met",0.5, 0)) -> 0.5
A50: 3 | B50: words that have been taught are repeated multiple times in a variety of contexts | C50: Partially met | E50: Original Rating: Partially Met Original Comments: Vocabulary words are introduced one time and are not repeated over time. Selection vocabulary is used across the week, but not in a wide variety of contexts. Appeal Rating: Partially Met Appeal Comments: Appeal response provided a narrative to explain; however, reviewers did not find sufficient evidence to change the original rating. | F50: =SUBSTITUTE(SUBSTITUTE(D50, ",", ""), """", "") & " " & SUBSTITUTE(E50, ",", "") -> Original Rating: Partially Met Original Comments: Vocabulary words are introduced one time and are not repeated over time. Selection vocabulary is used across the week but not in a wide variety of contexts. Appeal Rating: Partially Met Appeal Comments: Appeal response provided a narrative to explain; however reviewers did not find sufficient evidence to change the original rating. | G50: =IF(C50="Fully met", 1, IF(C50="Partially met",0.5, 0)) -> 0.5
A51: 4 | B51: new words are integrated into sentences and students are prompted to use them in sentences | C51: Partially met | E51: Original Rating: Partially Met Original Comments: The program doesn't include ways to prompt students to use the words over time and across content areas. Appeal Rating: Partially Met Appeal Comments: Appeal response provided a narrative to explain; however, reviewers did not find sufficient evidence to change the original rating. | F51: =SUBSTITUTE(SUBSTITUTE(D51, ",", ""), """", "") & " " & SUBSTITUTE(E51, ",", "") -> Original Rating: Partially Met Original Comments: The program doesn't include ways to prompt students to use the words over time and across content areas. Appeal Rating: Partially Met Appeal Comments: Appeal response provided a narrative to explain; however reviewers did not find sufficient evidence to change the original rating. | G51: =IF(C51="Fully met", 1, IF(C51="Partially met",0.5, 0)) -> 0.5
A52: 5 | B52: students are engaged in processing word meanings at deeper levels, to associate new words with known words | C52: Fully met | F52: =SUBSTITUTE(SUBSTITUTE(D52, ",", ""), """", "") & " " & SUBSTITUTE(E52, ",", "") | G52: =IF(C52="Fully met", 1, IF(C52="Partially met",0.5, 0)) -> 1
A53: 6 | B53: there is cumulative review and practice of previously learned words | C53: Partially met | E53: Original Rating: Partially Met Original Comments: Evidence provided but does not address criteria. Appeal Rating: Partially Met Appeal Comments: Appeal response provided evidence to explain; however, reviewers did not find sufficient evidence to change the original rating. | F53: =SUBSTITUTE(SUBSTITUTE(D53, ",", ""), """", "") & " " & SUBSTITUTE(E53, ",", "") -> Original Rating: Partially Met Original Comments: Evidence provided but does not address criteria. Appeal Rating: Partially Met Appeal Comments: Appeal response provided evidence to explain; however reviewers did not find sufficient evidence to change the original rating. | G53: =IF(C53="Fully met", 1, IF(C53="Partially met",0.5, 0)) -> 0.5
A54: 7 | B54: students are exposed to a wide range of words through reading aloud from a wide range of stories and informational text | C54: Fully met | F54: =SUBSTITUTE(SUBSTITUTE(D54, ",", ""), """", "") & " " & SUBSTITUTE(E54, ",", "") | G54: =IF(C54="Fully met", 1, IF(C54="Partially met",0.5, 0)) -> 1
A55: 8 | B55: morphemic analysis is taught explicitly and systematically to support building word meaning through knowledge of root words, prefixes and suffixes | C55: Not met | E55: Original Rating: Not Met Original Comments: Some word parts are taught incidentally as they show up in text; there is no systematic morphology instruction in the evidence provided. Appeal Rating: Not Met Appeal Comments: Appeal response provided evidence to explain; however, reviewers did not find sufficient evidence to change the original rating. | F55: =SUBSTITUTE(SUBSTITUTE(D55, ",", ""), """", "") & " " & SUBSTITUTE(E55, ",", "") -> Original Rating: Not Met Original Comments: Some word parts are taught incidentally as they show up in text; there is no systematic morphology instruction in the evidence provided. Appeal Rating: Not Met Appeal Comments: Appeal response provided evidence to explain; however reviewers did not find sufficient evidence to change the original rating. | G55: =IF(C55="Fully met", 1, IF(C55="Partially met",0.5, 0)) -> 0
A56: 9 | B56: activities and materials are designed to elicit high levels of responding and engagement | C56: Fully met | F56: =SUBSTITUTE(SUBSTITUTE(D56, ",", ""), """", "") & " " & SUBSTITUTE(E56, ",", "") | G56: =IF(C56="Fully met", 1, IF(C56="Partially met",0.5, 0)) -> 1
A57: 10 | B57: differentiation of vocabulary instruction is linked to assessment data, with flexible grouping based on students’ needs and progress | C57: Fully met | F57: =SUBSTITUTE(SUBSTITUTE(D57, ",", ""), """", "") & " " & SUBSTITUTE(E57, ",", "") | G57: =IF(C57="Fully met", 1, IF(C57="Partially met",0.5, 0)) -> 1
D58: Score Summary | G58: =SUM(G48:G57) -> 6.5
G59: out of 10
B61: Section 4: Text Reading and Fluency
B62: In the core instructional program… | C62: Rating | D62: Stock Evidence/Feedback | E62: Other Evidence/Feedback | F62: Evidence/Feedback | G62: Score
A63: 1 | B63: sentence and passage reading are introduced after students can accurately and automatically read a sufficient number of VC and CVC words along with a few high-utility irregular words | C63: Fully met | E63: Original Rating: Partially Met Original Comments: Evidence provided but does not address criteria. Appeal Rating: Fully Met | F63: =SUBSTITUTE(SUBSTITUTE(D63, ",", ""), """", "") & " " & SUBSTITUTE(E63, ",", "") -> Original Rating: Partially Met Original Comments: Evidence provided but does not address criteria. Appeal Rating: Fully Met | G63: =IF(C63="Fully met", 1, IF(C63="Partially met",0.5, 0)) -> 1
A64: 2 | B64: the texts students are asked to read independently are controlled to include only the letter-sounds, phonic elements and word types that have been previously taught in phonics lessons | C64: Fully met | F64: =SUBSTITUTE(SUBSTITUTE(D64, ",", ""), """", "") & " " & SUBSTITUTE(E64, ",", "") | G64: =IF(C64="Fully met", 1, IF(C64="Partially met",0.5, 0)) -> 1
A65: 3 | B65: fluency building in connected text is done only with passages the student can decode accurately (without hesitation or guessing) | C65: Fully met | F65: =SUBSTITUTE(SUBSTITUTE(D65, ",", ""), """", "") & " " & SUBSTITUTE(E65, ",", "") | G65: =IF(C65="Fully met", 1, IF(C65="Partially met",0.5, 0)) -> 1
A66: 4 | B66: there are sufficient numbers of controlled decodable text that align to the phonics scope and sequence to allow students to practice to automaticity | C66: Fully met | F66: =SUBSTITUTE(SUBSTITUTE(D66, ",", ""), """", "") & " " & SUBSTITUTE(E66, ",", "") | G66: =IF(C66="Fully met", 1, IF(C66="Partially met",0.5, 0)) -> 1
A67: 5 | B67: materials are available for teachers to read aloud for the purpose of modeling fluent reading, building vocabulary and background knowledge, and exposing students to text more complex than students could read on their own | C67: Fully met | F67: =SUBSTITUTE(SUBSTITUTE(D67, ",", ""), """", "") & " " & SUBSTITUTE(E67, ",", "") | G67: =IF(C67="Fully met", 1, IF(C67="Partially met",0.5, 0)) -> 1
A68: 6 | B68: differentiation of fluency instruction is linked to assessment data, with flexible grouping based on students’ needs and progress | C68: Fully met | F68: =SUBSTITUTE(SUBSTITUTE(D68, ",", ""), """", "") & " " & SUBSTITUTE(E68, ",", "") | G68: =IF(C68="Fully met", 1, IF(C68="Partially met",0.5, 0)) -> 1
D69: Score Summary | G69: =SUM(G63:G68) -> 6
G70: out of 6
B72: Section 5: Listening and Reading Comprehension
B73: In the core instructional program… | C73: Rating | D73: Stock Evidence/Feedback | E73: Other Evidence/Feedback | F73: Evidence/Feedback | G73: Score
A74: 1 | B74: a clear scope and sequence guides comprehension instruction, in which the goal of the comprehension unit is explicitly stated and in which the ideas follow a logical order | C74: Partially met | E74: Original Rating: Partially Met Original Comments: A scope and sequence for comprehension is provided, but it is not clear or explicit. Appeal Rating: Partially Met Appeal Comments: Appeal response provided evidence to explain; however, reviewers did not find sufficient evidence to change the original rating. | F74: =SUBSTITUTE(SUBSTITUTE(D74, ",", ""), """", "") & " " & SUBSTITUTE(E74, ",", "") -> Original Rating: Partially Met Original Comments: A scope and sequence for comprehension is provided but it is not clear or explicit. Appeal Rating: Partially Met Appeal Comments: Appeal response provided evidence to explain; however reviewers did not find sufficient evidence to change the original rating. | G74: =IF(C74="Fully met", 1, IF(C74="Partially met",0.5, 0)) -> 0.5
A75: 2 | B75: students use controlled decodable text for independent, small group or scaffolded reading instruction until they can accurately read a. one-syllable words in isolation that contain short vowels, digraphs and blends, silent e, r-controlled vowels b. two-syllable words with short vowels, silent e, schwa c. 50 high-utility words with spelling patterns that haven’t been taught (e.g., go, he, said, are, to, was, you, they, there, from) | C75: Fully met | E75: Original Rating: Partially Met Original Comments: There are texts included in the weekly planner that exist without explanation, like "Book Club" books and "myFocus Readers." Evaluators are concerned that this might be a leveled text system. Appeal Rating: Fully Met | F75: =SUBSTITUTE(SUBSTITUTE(D75, ",", ""), """", "") & " " & SUBSTITUTE(E75, ",", "") -> Original Rating: Partially Met Original Comments: There are texts included in the weekly planner that exist without explanation like "Book Club" books and "myFocus Readers." Evaluators are concerned that this might be a leveled text system. Appeal Rating: Fully Met | G75: =IF(C75="Fully met", 1, IF(C75="Partially met",0.5, 0)) -> 1
A76: 3 | B76: the background knowledge necessary to understand text, that is read to or by students, is explicitly taught or activated | C76: Fully met | F76: =SUBSTITUTE(SUBSTITUTE(D76, ",", ""), """", "") & " " & SUBSTITUTE(E76, ",", "") | G76: =IF(C76="Fully met", 1, IF(C76="Partially met",0.5, 0)) -> 1
A77: 4 | B77: comprehension strategies are taught with multiple carefully designed unambiguous examples and text selection | C77: Fully met | F77: =SUBSTITUTE(SUBSTITUTE(D77, ",", ""), """", "") & " " & SUBSTITUTE(E77, ",", "") | G77: =IF(C77="Fully met", 1, IF(C77="Partially met",0.5, 0)) -> 1
A78: 5 | B78: reading comprehension is practiced with cumulative review over the course of the year | C78: Fully met | F78: =SUBSTITUTE(SUBSTITUTE(D78, ",", ""), """", "") & " " & SUBSTITUTE(E78, ",", "") | G78: =IF(C78="Fully met", 1, IF(C78="Partially met",0.5, 0)) -> 1
A79: 6 | B79: students hear teachers modeling and thinking aloud to identify components of story structure, using story structure as a tool for prompting information to compare and contrast, organize information, and group related ideas to maintain a consistent focus | C79: Fully met | F79: =SUBSTITUTE(SUBSTITUTE(D79, ",", ""), """", "") & " " & SUBSTITUTE(E79, ",", "") | G79: =IF(C79="Fully met", 1, IF(C79="Partially met",0.5, 0)) -> 1
A80: 7 | B80: there are multiple opportunities to listen to and explore narrative and expository text forms and engage in interactive discussion of the meanings of text | C80: Fully met | F80: =SUBSTITUTE(SUBSTITUTE(D80, ",", ""), """", "") & " " & SUBSTITUTE(E80, ",", "") | G80: =IF(C80="Fully met", 1, IF(C80="Partially met",0.5, 0)) -> 1
A81: 8 | B81: previously taught content, skills, and strategies are connected with new content and texts | C81: Fully met | F81: =SUBSTITUTE(SUBSTITUTE(D81, ",", ""), """", "") & " " & SUBSTITUTE(E81, ",", "") | G81: =IF(C81="Fully met", 1, IF(C81="Partially met",0.5, 0)) -> 1
A82: 9 | B82: text used for initial instruction in reading comprehension uses: · familiar vocabulary, · only words students can read accurately and have been learned previously, · previously learned content knowledge, · simple sentences, · short passages | C82: Fully met | F82: =SUBSTITUTE(SUBSTITUTE(D82, ",", ""), """", "") & " " & SUBSTITUTE(E82, ",", "") | G82: =IF(C82="Fully met", 1, IF(C82="Partially met",0.5, 0)) -> 1
A83: 10 | B83: text used for reading comprehension instruction has an explicit structure (obvious beginning, middle and end) | C83: Fully met | F83: =SUBSTITUTE(SUBSTITUTE(D83, ",", ""), """", "") & " " & SUBSTITUTE(E83, ",", "") | G83: =IF(C83="Fully met", 1, IF(C83="Partially met",0.5, 0)) -> 1
A84: 11 | B84: the specific content knowledge students will learn throughout the year is clearly stated, mapped out across the year, and prepares students for later grades | C84: Partially met | E84: Original Rating: Partially Met Original Comments: The scope and sequence does not outline the content knowledge that will be learned throughout the grade. Reviewers were unable to locate evidence of clearly stated content knowledge and how it is mapped across the year. Appeal Rating: Partially Met Appeal Comments: Appeal response included examples; however, reviewers did not find sufficient evidence to change the original rating. | F84: =SUBSTITUTE(SUBSTITUTE(D84, ",", ""), """", "") & " " & SUBSTITUTE(E84, ",", "") -> Original Rating: Partially Met Original Comments: The scope and sequence does not outline the content knowledge that will be learned throughout the grade. Reviewers were unable to locate evidence of clearly stated content knowledge and how it is mapped across the year. Appeal Rating: Partially Met Appeal Comments: Appeal response included examples; however reviewers did not find sufficient evidence to change the original rating. | G84: =IF(C84="Fully met", 1, IF(C84="Partially met",0.5, 0)) -> 0.5
A85: 12 | B85: complex topics are introduced in a carefully planned sequence through teachers reading aloud, discussions, and projects, starting with a basic introduction and building towards a deeper understanding | C85: Fully met | F85: =SUBSTITUTE(SUBSTITUTE(D85, ",", ""), """", "") & " " & SUBSTITUTE(E85, ",", "") | G85: =IF(C85="Fully met", 1, IF(C85="Partially met",0.5, 0)) -> 1
A86: 13 | B86: differentiation of comprehension instruction is linked to assessment data, with flexible grouping based on students’ needs and progress | C86: Fully met | F86: =SUBSTITUTE(SUBSTITUTE(D86, ",", ""), """", "") & " " & SUBSTITUTE(E86, ",", "") | G86: =IF(C86="Fully met", 1, IF(C86="Partially met",0.5, 0)) -> 1
D87: Score Summary | G87: =SUM(G74:G86) -> 12
G88: out of 13

Sheet Phase 2 Second Grade
A1: Core Program Review Rubric
A3: Phase 2: Required Instructional Practices for Teaching Essential Early Literacy Skills
A5: Second Grade
B7: Section 1: Phonics and Word Study
B8: In the core instructional program… | C8: Rating | D8: Stock Evidence/Feedback | E8: Evidence/Feedback | F8: Evidence/Feedback | G8: Score
A9: 1 | B9: a detailed scope and sequence of phonics patterns moves from simple word types, lengths, and complexities to more complex words, syllable types, and multi-syllable words | C9: Fully met | F9: =SUBSTITUTE(SUBSTITUTE(D9, ",", ""), """", "") & " " & SUBSTITUTE(E9, ",", "") | G9: =IF(C9="Fully met", 1, IF(C9="Partially met",0.5, 0)) -> 1
A10: 2 | B10: the phonics lesson format includes o brief cumulative review of previously taught skills, o a phonological warm up, o phoneme-grapheme matching, o word reading accuracy, o fluency building at the word, phrase, and eventually simple sentence level, o word dictation, o transfer to simple decodable text | C10: Partially met | E10: Original Rating: Partially Met Original Comments: Evidence provided but does not address criteria. Phonics lessons include some but not all components. Appeal Rating: Partially Met Appeal Comments: Appeal response included examples; however, reviewers did not find sufficient evidence to change the original rating. Evidence did not include explicit cumulative review or a phonological warm-up. | F10: =SUBSTITUTE(SUBSTITUTE(D10, ",", ""), """", "") & " " & SUBSTITUTE(E10, ",", "") -> Original Rating: Partially Met Original Comments: Evidence provided but does not address criteria. Phonics lessons include some but not all components. Appeal Rating: Partially Met Appeal Comments: Appeal response included examples; however reviewers did not find sufficient evidence to change the original rating. Evidence did not include explicit cumulative review or a phonological warm-up. | G10: =IF(C10="Fully met", 1, IF(C10="Partially met",0.5, 0)) -> 0.5
A11: 3 | B11: new skills are explicitly modeled using multiple unambiguous examples, where the new skill is introduced, defined and/or explained, a model or demonstration is provided, students are given opportunity to practice orally with immediate corrective feedback | C11: Partially met | D11: Introduction of new skills does not include the above elements. | E11: Original Rating: Partially Met Original Comments: Introduction of new skills does not include the above elements. Appeal Rating: Partially Met Appeal Comments: Appeal response included examples; however, reviewers did not find sufficient evidence to change the original rating. | F11: =SUBSTITUTE(SUBSTITUTE(D11, ",", ""), """", "") & " " & SUBSTITUTE(E11, ",", "") -> Introduction of new skills does not include the above elements. Original Rating: Partially Met Original Comments: Introduction of new skills does not include the above elements. Appeal Rating: Partially Met Appeal Comments: Appeal response included examples; however reviewers did not find sufficient evidence to change the original rating. | G11: =IF(C11="Fully met", 1, IF(C11="Partially met",0.5, 0)) -> 0.5
A12: 4 | B12: phonics lessons include step by step routines to teach new advanced phonics patterns | C12: Fully met | E12: Original Rating: Partially Met Original Comments: Evidence provided but does not address criteria. Program includes a routine for blending but not necessarily a transferable strategy. Appeal Rating: Fully Met | F12: =SUBSTITUTE(SUBSTITUTE(D12, ",", ""), """", "") & " " & SUBSTITUTE(E12, ",", "") -> Original Rating: Partially Met Original Comments: Evidence provided but does not address criteria. Program includes a routine for blending but not necessarily a transferable strategy. Appeal Rating: Fully Met | G12: =IF(C12="Fully met", 1, IF(C12="Partially met",0.5, 0)) -> 1
A13: 5 | B13: students practice to automaticity the full continuum of the phonological and phonemic awareness skills from early (rhyming and onset-rime) to basic (segmenting and blending) to advanced (sound manipulation and deletion) that were previously learned in kindergarten and first grade | C13: Fully met | F13: =SUBSTITUTE(SUBSTITUTE(D13, ",", ""), """", "") & " " & SUBSTITUTE(E13, ",", "") | G13: =IF(C13="Fully met", 1, IF(C13="Partially met",0.5, 0)) -> 1
A14: 6 | B14: multi-syllable words are explicitly taught using prefixes, suffixes, syllable types and known word parts to aid in word recognition | C14: Fully met | F14: =SUBSTITUTE(SUBSTITUTE(D14, ",", ""), """", "") & " " & SUBSTITUTE(E14, ",", "") | G14: =IF(C14="Fully met", 1, IF(C14="Partially met",0.5, 0)) -> 1
A15: 7 | B15: larger, high-utility patterns (e.g., -ight, -ing) are taught explicitly and practiced to automaticity to increase fluency of word recognition | C15: Fully met | E15: Original Rating: Partially Met Original Comments: Evidence provided but does not address criteria. High-utility words are introduced incidentally as they appear in text and/or not practiced to automaticity. Appeal Rating: Fully Met | F15: =SUBSTITUTE(SUBSTITUTE(D15, ",", ""), """", "") & " " & SUBSTITUTE(E15, ",", "") -> Original Rating: Partially Met Original Comments: Evidence provided but does not address criteria. High-utility words are introduced incidentally as they appear in text and/or not practiced to automaticity. Appeal Rating: Fully Met | G15: =IF(C15="Fully met", 1, IF(C15="Partially met",0.5, 0)) -> 1
A16: 8 | B16: high-utility words are introduced and practiced to automaticity | C16: Partially met | E16: Original Rating: Partially Met Original Comments: High-utility words are introduced incidentally as they appear in text and/or not practiced to automaticity. Appeal Rating: Partially Met Appeal Comments: Appeal response included examples; however, reviewers did not find sufficient evidence to change the original rating. | F16: =SUBSTITUTE(SUBSTITUTE(D16, ",", ""), """", "") & " " & SUBSTITUTE(E16, ",", "") -> Original Rating: Partially Met Original Comments: High-utility words are introduced incidentally as they appear in text and/or not practiced to automaticity. Appeal Rating: Partially Met Appeal Comments: Appeal response included examples; however reviewers did not find sufficient evidence to change the original rating. | G16: =IF(C16="Fully met", 1, IF(C16="Partially met",0.5, 0)) -> 0.5
A17: 9 | B17: phonics patterns and high-utility words are taught and learned in isolation before introduced in text that students read independently | C17: Fully met | F17: =SUBSTITUTE(SUBSTITUTE(D17, ",", ""), """", "") & " " & SUBSTITUTE(E17, ",", "") | G17: =IF(C17="Fully met", 1, IF(C17="Partially met",0.5, 0)) -> 1
A18: 10 | B18: text for independent reading doesn’t contain words that have phonics patterns that haven’t been taught in prior phonics lessons | C18: Fully met | F18: =SUBSTITUTE(SUBSTITUTE(D18, ",", ""), """", "") & " " & SUBSTITUTE(E18, ",", "") | G18: =IF(C18="Fully met", 1, IF(C18="Partially met",0.5, 0)) -> 1
A19: 11 | B19: the number of irregular words introduced in a lesson is minimized | C19: Fully met | F19: =SUBSTITUTE(SUBSTITUTE(D19, ",", ""), """", "") & " " & SUBSTITUTE(E19, ",", "") | G19: =IF(C19="Fully met", 1, IF(C19="Partially met",0.5, 0)) -> 1
A20: 12 | B20: instruction of similar, easily-confused letter patterns are separated in time | C20: Fully met | F20: =SUBSTITUTE(SUBSTITUTE(D20, ",", ""), """", "") & " " & SUBSTITUTE(E20, ",", "") | G20: =IF(C20="Fully met", 1, IF(C20="Partially met",0.5, 0)) -> 1
A21: 13 | B21: there are multiple opportunities to read the previously learned regular and irregular words in the context of controlled text (also known as decodable text) | C21: Fully met | F21: =SUBSTITUTE(SUBSTITUTE(D21, ",", ""), """", "") & " " & SUBSTITUTE(E21, ",", "") | G21: =IF(C21="Fully met", 1, IF(C21="Partially met",0.5, 0)) -> 1
A22: 14 | B22: instruction in irregular, high-utility words focuses on predictable letter-sound combinations and irregularities | C22: Fully met | E22: Original Rating: Partially Met Original Comments: Evidence provided but does not address criteria Appeal Rating: Fully Met | F22: =SUBSTITUTE(SUBSTITUTE(D22, ",", ""), """", "") & " " & SUBSTITUTE(E22, ",", "") -> Original Rating: Partially Met Original Comments: Evidence provided but does not address criteria Appeal Rating: Fully Met | G22: =IF(C22="Fully met", 1, IF(C22="Partially met",0.5, 0)) -> 1
A23: 15 | B23: regular and irregular words are cumulatively reviewed | C23: Partially met | E23: Original Rating: Partially Met Original Comments: Words that have been learned are not revisited or reviewed Appeal Rating: Partially met Appeal Comments: Appeal response included examples; however, reviewers did not find sufficient evidence to change the original rating. | F23: =SUBSTITUTE(SUBSTITUTE(D23, ",", ""), """", "") & " " & SUBSTITUTE(E23, ",", "") -> Original Rating: Partially Met Original Comments: Words that have been learned are not revisited or reviewed Appeal Rating: Partially met Appeal Comments: Appeal response included examples; however reviewers did not find sufficient evidence to change the original rating. | G23: =IF(C23="Fully met", 1, IF(C23="Partially met",0.5, 0)) -> 0.5
A24: 16 | B24: spelling is integrated with the phonics instruction | C24: Fully met | E24: Original Rating: Partially Met Original Comments: Evidence provided but does not address criteria. Appeal Rating: Fully Met | F24: =SUBSTITUTE(SUBSTITUTE(D24, ",", ""), """", "") & " " & SUBSTITUTE(E24, ",", "") -> Original Rating: Partially Met Original Comments: Evidence provided but does not address criteria. Appeal Rating: Fully Met | G24: =IF(C24="Fully met", 1, IF(C24="Partially met",0.5, 0)) -> 1
A25: 17 | B25: activities and materials are designed to elicit high levels of responding and engagement | C25: Fully met | E25: Original Rating: Partially Met Original Comments: Evidence provided but does not address criteria. Appeal Rating: Fully Met | F25: =SUBSTITUTE(SUBSTITUTE(D25, ",", ""), """", "") & " " & SUBSTITUTE(E25, ",", "") -> Original Rating: Partially Met Original Comments: Evidence provided but does not address criteria. Appeal Rating: Fully Met | G25: =IF(C25="Fully met", 1, IF(C25="Partially met",0.5, 0)) -> 1
A26: 18 | B26: differentiation of phonics instruction is linked to assessment data, with flexible grouping based on students’ needs and progress | C26: Fully met | F26: =SUBSTITUTE(SUBSTITUTE(D26, ",", ""), """", "") & " " & SUBSTITUTE(E26, ",", "") | G26: =IF(C26="Fully met", 1, IF(C26="Partially met",0.5, 0)) -> 1
D27: Score Summary | G27: =SUM(G9:G26) -> 16
G28: out of 18
B30: Section 2: Vocabulary
B31: In the core instructional program… | C31: Rating | D31: Stock Evidence/Feedback | E31: Other Evidence/Feedback | F31: Evidence/Feedback | G31: Score
A32: 1 | B32: words selected for instruction are rich, high-utility words that will appear in conversation and literature, those that must be learned to understand a concept or text, and words from content area instruction | C32: Partially met | E32: Original Rating: Partially Met Original Comments: Evidence provided but does not address criteria. The words included as evidence are "backyard," "treehouse," "searchlights," and "daylight." While these are all compound words that may be useful in teaching that specific vocabulary skill, evidence does not indicate consistent high-quality words. Words throughout the scope and sequence are inconsistent in quality and sometimes include Tier 1 vocabulary words, like "place." Appeal Rating: Partially Met Appeal Comments: Appeal response included examples; however, reviewers did not find sufficient evidence to change the original rating. | F32: =SUBSTITUTE(SUBSTITUTE(D32, ",", ""), """", "") & " " & SUBSTITUTE(E32, ",", "") -> Original Rating: Partially Met Original Comments: Evidence provided but does not address criteria. The words included as evidence are "backyard" "treehouse" "searchlights" and "daylight." While these are all compound words that may be useful in teaching that specific vocabulary skill evidence does not indicate consistent high-quality words. Words throughout the scope and sequence are inconsistent in quality and sometimes include Tier 1 vocabulary words like "place." Appeal Rating: Partially Met Appeal Comments: Appeal response included examples; however reviewers did not find sufficient evidence to change the original rating. | G32: =IF(C32="Fully met", 1, IF(C32="Partially met",0.5, 0)) -> 0.5
A33: 2 | B33: new words are explicitly modeled using student-friendly definitions, multiple unambiguous examples and non-examples, and students are given opportunity to practice using the words with immediate corrective feedback | C33: Partially met | E33: Original Rating: Partially Met Original Comments: In evidence provided, students are asked to remind themselves of the word's meaning, not explicitly taught. Students have the opportunity to practice with vocabulary words in their workbook in the evidence provided and are not provided immediate corrective feedback; rather teachers are encouraged to assign students to a skill group. In the small group evidence, teachers model thinking aloud the meaning of a compound word by identifying the meaning of both words together. Appeal Rating: Partially Met Appeal Comments: Appeal response included examples; however, reviewers did not find sufficient evidence to change the original rating. | F33: =SUBSTITUTE(SUBSTITUTE(D33, ",", ""), """", "") & " " & SUBSTITUTE(E33, ",", "") -> Original Rating: Partially Met Original Comments: In evidence provided students are asked to remind themselves of the word's meaning not explicitly taught. Students have the opportunity to practice with vocabulary words in their workbook in the evidence provided and are not provided immediate corrective feedback; rather teachers are encouraged to assign students to a skill group. In the small group evidence teachers model thinking aloud the meaning of a compound word by identifying the meaning of both words together. Appeal Rating: Partially Met Appeal Comments: Appeal response included examples; however reviewers did not find sufficient evidence to change the original rating. | G33: =IF(C33="Fully met", 1, IF(C33="Partially met",0.5, 0)) -> 0.5
A34: 3 | B34: words that have been taught are repeated multiple times in a variety of contexts | C34: Fully met | E34: Original Rating: Partially Met Original Comments: Evidence provided includes practice of previously taught words in one example. In other examples, the evidence provided includes context clue mini-lessons for previously untaught words. Appeal Rating: Fully Met | F34: =SUBSTITUTE(SUBSTITUTE(D34, ",", ""), """", "") & " " & SUBSTITUTE(E34, ",", "") -> Original Rating: Partially Met Original Comments: Evidence provided includes practice of previously taught words in one example. In other examples the evidence provided includes context clue mini-lessons for previously untaught words. Appeal Rating: Fully Met | G34: =IF(C34="Fully met", 1, IF(C34="Partially met",0.5, 0)) -> 1
A35: 4 | B35: new words are integrated into sentences and students are prompted to use them in sentences | C35: Partially met | E35: Original Rating: Partially Met Original Comments: Evidence provided but does not address the criteria. In one example, students are prompted to state the meaning of a word, not use it in a sentence. Appeal Rating: Partially Met Appeal Comments: Appeal response included examples; however, reviewers did not find sufficient evidence to change the original rating. | F35: =SUBSTITUTE(SUBSTITUTE(D35, ",", ""), """", "") & " " & SUBSTITUTE(E35, ",", "") -> Original Rating: Partially Met Original Comments: Evidence provided but does not address the criteria. In one example students are prompted to state the meaning of a word not use it in a sentence. Appeal Rating: Partially Met Appeal Comments: Appeal response included examples; however reviewers did not find sufficient evidence to change the original rating. | G35: =IF(C35="Fully met", 1, IF(C35="Partially met",0.5, 0)) -> 0.5
A36: 5 | B36: students are engaged in processing word meanings at deeper levels, to associate new words with known words | C36: Fully met | F36: =SUBSTITUTE(SUBSTITUTE(D36, ",", ""), """", "") & " " & SUBSTITUTE(E36, ",", "") | G36: =IF(C36="Fully met", 1, IF(C36="Partially met",0.5, 0)) -> 1
A37: 6 | B37: there is cumulative review and practice of previously learned words | C37: Partially met | E37: Original Rating: Partially Met Original Comments: Evidence provided but does not address criteria. In the evidence provided, there is one example of review of unit words, but it is in a sidebar and not labeled explicitly as cumulative review/practice. The other examples are assessment items, not teacher-led review or practice. Appeal Rating: Partially Met Appeal Comments: Appeal response included examples; however, reviewers did not find sufficient evidence to change the original rating. | F37: =SUBSTITUTE(SUBSTITUTE(D37, ",", ""), """", "") & " " & SUBSTITUTE(E37, ",", "") -> Original Rating: Partially Met Original Comments: Evidence provided but does not address criteria. In the evidence provided there is one example of review of unit words but it is in a sidebar and not labeled explicitly as cumulative review/practice. The other examples are assessment items not teacher-led review or practice. Appeal Rating: Partially Met Appeal Comments: Appeal response included examples; however reviewers did not find sufficient evidence to change the original rating. | G37: =IF(C37="Fully met", 1, IF(C37="Partially met",0.5, 0)) -> 0.5
A38: 7 | B38: students are exposed to a wide range of words through reading aloud from a wide range of stories and informational text | C38: Fully met | F38: =SUBSTITUTE(SUBSTITUTE(D38, ",", ""), """", "") & " " & SUBSTITUTE(E38, ",", "") | G38: =IF(C38="Fully met", 1, IF(C38="Partially met",0.5, 0)) -> 1
A39: 8 | B39: morphemic analysis is taught explicitly and systematically to support building word meaning through knowledge of root words, prefixes and suffixes | C39: Partially met | E39: Original Rating: Partially Met Original Comments: There is evidence of some explicit instruction of word parts, but instruction is not systematic. Appeal Rating: Partially Met Appeal comments: Appeal response included examples; however, reviewers did not find sufficient evidence to change the original rating. | F39: =SUBSTITUTE(SUBSTITUTE(D39, ",", ""), """", "") & " " & SUBSTITUTE(E39, ",", "") -> Original Rating: Partially Met Original Comments: There is evidence of some explicit instruction of word parts but instruction is not systematic. Appeal Rating: Partially Met Appeal comments: Appeal response included examples; however reviewers did not find sufficient evidence to change the original rating. | G39: =IF(C39="Fully met", 1, IF(C39="Partially met",0.5, 0)) -> 0.5
A40: 9 | B40: students are taught to predict meaning using antonyms and synonyms, words in compound words, and prefixes and suffixes | C40: Fully met | F40: =SUBSTITUTE(SUBSTITUTE(D40, ",", ""), """", "") & " " & SUBSTITUTE(E40, ",", "") | G40: =IF(C40="Fully met", 1, IF(C40="Partially met",0.5, 0)) -> 1
A41: 10 | B41: students are taught simple multiple meaning words | C41: Fully met | E41: Original Rating: Not Met Original Comments: Evidence provided but does not address criteria. Evidence provided was about compound words. Explicit instruction in multiple-meaning words not found. Appeal Rating: Fully Met | F41: =SUBSTITUTE(SUBSTITUTE(D41, ",", ""), """", "") & " " & SUBSTITUTE(E41, ",", "") -> Original Rating: Not Met Original Comments: Evidence provided but does not address criteria. Evidence provided was about compound words. Explicit instruction in multiple-meaning words not found. Appeal Rating: Fully Met | G41: =IF(C41="Fully met", 1, IF(C41="Partially met",0.5, 0)) -> 1
A42: 11 | B42: students are asked to demonstrate understanding word meaning by using words in oral and written sentences | C42: Fully met | F42: =SUBSTITUTE(SUBSTITUTE(D42, ",", ""), """", "") & " " & SUBSTITUTE(E42, ",", "") | G42: =IF(C42="Fully met", 1, IF(C42="Partially met",0.5, 0)) -> 1
A43: 12 | B43: activities and materials are designed to elicit high levels of responding and engagement | C43: Fully met | E43: Original Rating: Partially Met Original Comments: Examples provided are completion of workbook pages. Appeal Rating: Fully Met | F43: =SUBSTITUTE(SUBSTITUTE(D43, ",", ""), """", "") & " " & SUBSTITUTE(E43, ",", "") -> Original Rating: Partially Met Original Comments: Examples provided are completion of workbook pages. Appeal Rating: Fully Met | G43: =IF(C43="Fully met", 1, IF(C43="Partially met",0.5, 0)) -> 1
A44: 13 | B44: differentiation of vocabulary instruction is linked to assessment data, with flexible grouping based on students’ needs and progress | C44: Fully met | F44: =SUBSTITUTE(SUBSTITUTE(D44, ",", ""), """", "") & " " & SUBSTITUTE(E44, ",", "") | G44: =IF(C44="Fully met", 1, IF(C44="Partially met",0.5, 0)) -> 1
D45: Score Summary | G45: =SUM(G32:G44) -> 10.5
G46: out of 13
B48: Section 3: Text Reading and Fluency
B49: In the core instructional program… | C49: Rating | D49: Stock Evidence/Feedback | E49: Other Evidence/Feedback | F49: Evidence/Feedback | G49: Score
A50: 1 | B50: sentence and passage reading is introduced after students can accurately and automatically read a sufficient number of regular and irregular words | C50: Fully met | F50: =SUBSTITUTE(SUBSTITUTE(D50, ",", ""), """", "") & " " & SUBSTITUTE(E50, ",", "") | G50: =IF(C50="Fully met", 1, IF(C50="Partially met",0.5, 0)) -> 1
A51: 2 | B51: the texts students are asked to read independently are controlled to include only the phonic elements and word types that have been previously taught in phonics lessons | C51: Fully met | F51: =SUBSTITUTE(SUBSTITUTE(D51, ",", ""), """", "") & " " & SUBSTITUTE(E51, ",", "") | G51: =IF(C51="Fully met", 1, IF(C51="Partially met",0.5, 0)) -> 1
A52: 3 | B52: fluency building in connected text is done only with passages the student can decode accurately (without hesitation or guessing) | C52: Fully met | F52: =SUBSTITUTE(SUBSTITUTE(D52, ",", ""), """", "") & " " & SUBSTITUTE(E52, ",", "") | G52: =IF(C52="Fully met", 1, IF(C52="Partially met",0.5, 0)) -> 1
A53: 4 | B53: there are sufficient numbers of controlled decodable text that aligns to the phonics scope and sequence are available to allow students to practice to automaticity | C53: Fully met | F53: =SUBSTITUTE(SUBSTITUTE(D53, ",", ""), """", "") & " " & SUBSTITUTE(E53, ",", "") | G53: =IF(C53="Fully met", 1, IF(C53="Partially met",0.5, 0)) -> 1
A54: 5 | B54: materials are available for teachers to read aloud for the purpose of modeling fluent reading, building vocabulary and background knowledge, and exposing students to text more complex than students could read on their own | C54: Fully met | F54: =SUBSTITUTE(SUBSTITUTE(D54, ",", ""), """", "") & " " & SUBSTITUTE(E54, ",", "") | G54: =IF(C54="Fully met", 1, IF(C54="Partially met",0.5, 0)) -> 1
A55: 6 | B55: differentiation of oral reading fluency instruction is linked to assessment data, with flexible grouping based on students’ needs and progress | C55: Fully met | F55: =SUBSTITUTE(SUBSTITUTE(D55, ",", ""), """", "") & " " & SUBSTITUTE(E55, ",", "") | G55: =IF(C55="Fully met", 1, IF(C55="Partially met",0.5, 0)) -> 1
D56: Score Summary | G56: =SUM(G50:G55) -> 6
G57: out of 6
B59: Section 4: Reading Comprehension
B60: In the core instructional program… | C60: Rating | D60: Stock Evidence/Feedback | E60: Other Evidence/Feedback | F60: Evidence/Feedback | G60: Score
A61: 1 | B61: there is a clear scope and sequence that guides comprehension instruction, in which the goal of the comprehension unit is explicitly stated and in which the ideas follow a logical order | C61: Partially met | E61: Original Rating: Partially Met Original Comments: A scope and sequence for comprehension is provided, but it is not clear or explicit. Appeal Rating: Partially Met Appeal Comments: Appeal response included examples; however, reviewers did not find sufficient evidence to change the original rating. | F61: =SUBSTITUTE(SUBSTITUTE(D61, ",", ""), """", "") & " " & SUBSTITUTE(E61, ",", "") -> Original Rating: Partially Met Original Comments: A scope and sequence for comprehension is provided but it is not clear or explicit. Appeal Rating: Partially Met Appeal Comments: Appeal response included examples; however reviewers did not find sufficient evidence to change the original rating. | G61: =IF(C61="Fully met", 1, IF(C61="Partially met",0.5, 0)) -> 0.5
A62: 2 | B62: the background knowledge necessary to understand text, that is read to or by students, is explicitly taught or activated | C62: Fully met | F62: =SUBSTITUTE(SUBSTITUTE(D62, ",", ""), """", "") & " " & SUBSTITUTE(E62, ",", "") | G62: =IF(C62="Fully met", 1, IF(C62="Partially met",0.5, 0)) -> 1
A63: 3 | B63: modeling and thinking aloud are used to identify components of story structure, using story structure as a tool for prompting information to compare and contrast, organize information, and group related ideas to maintain a consistent focus | C63: Fully met | F63: =SUBSTITUTE(SUBSTITUTE(D63, ",", ""), """", "") & " " & SUBSTITUTE(E63, ",", "") | G63: =IF(C63="Fully met", 1, IF(C63="Partially met",0.5, 0)) -> 1
A64: 4 | B64: text used for initial instruction in reading comprehension uses: · familiar vocabulary, · only words students can read accurately and have been learned previously, · previously learned content knowledge, · simple sentences, · short passages | C64: Fully met | F64: =SUBSTITUTE(SUBSTITUTE(D64, ",", ""), """", "") & " " & SUBSTITUTE(E64, ",", "") | G64: =IF(C64="Fully met", 1, IF(C64="Partially met",0.5, 0)) -> 1
A65: 5 | B65: there are multiple opportunities to listen to and explore narrative and expository text forms and engage in interactive discussion of the meanings of text | C65: Fully met | F65: =SUBSTITUTE(SUBSTITUTE(D65, ",", ""), """", "") & " " & SUBSTITUTE(E65, ",", "") | G65: =IF(C65="Fully met", 1, IF(C65="Partially met",0.5, 0)) -> 1
A66: 6 | B66: previously taught content, skills, and strategies are connected with new content and texts | C66: Fully met | F66: =SUBSTITUTE(SUBSTITUTE(D66, ",", ""), """", "") & " " & SUBSTITUTE(E66, ",", "") | G66: =IF(C66="Fully met", 1, IF(C66="Partially met",0.5, 0)) -> 1
A67: 7 | B67: lessons include explicit instruction in the structure and use of conventions of informational text such as titles, headings, information from graphs and charts to locate important information | C67: Fully met | F67: =SUBSTITUTE(SUBSTITUTE(D67, ",", ""), """", "") & " " & SUBSTITUTE(E67, ",", "") | G67: =IF(C67="Fully met", 1, IF(C67="Partially met",0.5, 0)) -> 1
A68: 8 | B68: lessons include explicit instruction in analyzing elements of narrative text and comparing and contrasting elements within and among texts | C68: Fully met | F68: =SUBSTITUTE(SUBSTITUTE(D68, ",", ""), """", "") & " " & SUBSTITUTE(E68, ",", "") | G68: =IF(C68="Fully met", 1, IF(C68="Partially met",0.5, 0)) -> 1
A69: 9 | B69: a coherent sequence of questions and tasks supports students to examine language (vocabulary, sentences, and structure) and apply their knowledge and skills in reading, writing, speaking and listening | C69: Partially met | E69: Original Rating: Partially Met Original Comments: There is a scope and sequence, however, evidence of examining language structures, including sentence structure not found. Appeal Rating: Partially Met Appeal Comments: Appeal response included examples; however, reviewers did not find sufficient evidence to change the original rating. | F69: =SUBSTITUTE(SUBSTITUTE(D69, ",", ""), """", "") & " " & SUBSTITUTE(E69, ",", "") -> Original Rating: Partially Met Original Comments: There is a scope and sequence however evidence of examining language structures including sentence structure not found. Appeal Rating: Partially Met Appeal Comments: Appeal response included examples; however reviewers did not find sufficient evidence to change the original rating. | G69: =IF(C69="Fully met", 1, IF(C69="Partially met",0.5, 0)) -> 0.5
A70: 10 | B70: reading comprehension is practiced with cumulative review over the course of the year | C70: Fully met | F70: =SUBSTITUTE(SUBSTITUTE(D70, ",", ""), """", "") & " " & SUBSTITUTE(E70, ",", "") | G70: =IF(C70="Fully met", 1, IF(C70="Partially met",0.5, 0)) -> 1
A71: 11 | B71: the specific content knowledge students will learn throughout the year is clearly stated, mapped out across the year, and prepares students for later grades | C71: Fully met | E71: Original Rating: Partially Met Original Comments: The scope and sequence does not outline the content knowledge that will be learned throughout the grade. Reviewers were unable to locate evidence of clearly stated content knowledge and how it is mapped across the year. Appeal Rating: Fully Met | F71: =SUBSTITUTE(SUBSTITUTE(D71, ",", ""), """", "") & " " & SUBSTITUTE(E71, ",", "") -> Original Rating: Partially Met Original Comments: The scope and sequence does not outline the content knowledge that will be learned throughout the grade. Reviewers were unable to locate evidence of clearly stated content knowledge and how it is mapped across the year. Appeal Rating: Fully Met | G71: =IF(C71="Fully met", 1, IF(C71="Partially met",0.5, 0)) -> 1
A72: 12 | B72: differentiation of reading comprehension instruction is linked to assessment data, with flexible grouping based on students’ needs and progress | C72: Fully met | F72: =SUBSTITUTE(SUBSTITUTE(D72, ",", ""), """", "") & " " & SUBSTITUTE(E72, ",", "") | G72: =IF(C72="Fully met", 1, IF(C72="Partially met",0.5, 0)) -> 1
D73: Score Summary | G73: =SUM(G61:G72) -> 11
G74: out of 12

Sheet Phase 2 Third Grade
A1: Core Program Review Rubric
A3: Phase 2: Required Instructional Practices for Teaching Essential Early Literacy Skills
A5: Third Grade
B7: Section 1: Phonics and Word Study
B8: In the core instructional program… | C8: Rating | D8: Stock Evidence/Feedback | E8: Other Evidence/Feedback | F8: Evidence/Feedback | G8: Score
A9: 1 | B9: there is a detailed scope and sequence of phonics patterns that progresses from simple word types, lengths, and complexities to more complex words, syllable types, and multi-syllable words (orthographically larger and more complex units) | C9: Fully met | F9: =SUBSTITUTE(SUBSTITUTE(D9, ",", ""), """", "") & " " & SUBSTITUTE(E9, ",", "") | G9: =IF(C9="Fully met", 1, IF(C9="Partially met",0.5, 0)) -> 1
A10: 2 | B10: new skills are explicitly modeled using multiple unambiguous examples, where the new skill is introduced, defined and/or explained, a model or demonstration is provided, students are given opportunity to practice orally with immediate corrective feedback | C10: Partially met | D10: Students are not provided immediate corrective feedback when they make errors. | F10: =SUBSTITUTE(SUBSTITUTE(D10, ",", ""), """", "") & " " & SUBSTITUTE(E10, ",", "") -> Students are not provided immediate corrective feedback when they make errors. | G10: =IF(C10="Fully met", 1, IF(C10="Partially met",0.5, 0)) -> 0.5
A11: 3 | B11: phonics lessons include step by step routines to teach new advanced phonics patterns | C11: Partially met | D11: Evidence provided but does not address criteria. | F11: =SUBSTITUTE(SUBSTITUTE(D11, ",", ""), """", "") & " " & SUBSTITUTE(E11, ",", "") -> Evidence provided but does not address criteria. | G11: =IF(C11="Fully met", 1, IF(C11="Partially met",0.5, 0)) -> 0.5
A12: 4 | B12: the phonics lesson format includes o brief cumulative review of previously taught skills, o a phonological warm up, o phoneme-grapheme matching, o word reading accuracy, o fluency building at the word, phrase, and eventually simple sentence level, o word dictation, o transfer to simple decodable text | C12: Partially met | D12: Phonics lessons include some but not all of the elements. | F12: =SUBSTITUTE(SUBSTITUTE(D12, ",", ""), """", "") & " " & SUBSTITUTE(E12, ",", "") -> Phonics lessons include some but not all of the elements. | G12: =IF(C12="Fully met", 1, IF(C12="Partially met",0.5, 0)) -> 0.5 | H12: *
A13: 5 | B13: students practice to automaticity the full continuum of the phonological and phonemic awareness skills from early (rhyming and onset-rime) to basic (segmenting and blending) to advanced (sound manipulation and deletion) that were previously learned in kindergarten and first grade | C13: Partially met | E13: PA instruction is limited to introduction of weekly concepts. Evidence provided is included as part of comprehensive suite of intervention resources. | F13: =SUBSTITUTE(SUBSTITUTE(D13, ",", ""), """", "") & " " & SUBSTITUTE(E13, ",", "") -> PA instruction is limited to introduction of weekly concepts. Evidence provided is included as part of comprehensive suite of intervention resources. | G13: =IF(C13="Fully met", 1, IF(C13="Partially met",0.5, 0)) -> 0.5
A14: 6 | B14: multi-syllable words are explicitly taught using root words, prefixes, suffixes, syllable types and known word parts to aid in word recognition | C14: Partially met | D14: "Multi-syllable words are not taught explicitly with recognition of root words, affixes, or syllable types." | F14: =SUBSTITUTE(SUBSTITUTE(D14, ",", ""), """", "") & " " & SUBSTITUTE(E14, ",", "") -> Multi-syllable words are not taught explicitly with recognition of root words affixes or syllable types. | G14: =IF(C14="Fully met", 1, IF(C14="Partially met",0.5, 0)) -> 0.5
A15: 7 | B15: there is sufficient practice in automatic reading of longer, more complex, multi-syllable words | C15: Partially met | D15: There are not enough practice opportunities to learn multi-syllable words to mastery. | F15: =SUBSTITUTE(SUBSTITUTE(D15, ",", ""), """", "") & " " & SUBSTITUTE(E15, ",", "") -> There are not enough practice opportunities to learn multi-syllable words to mastery. | G15: =IF(C15="Fully met", 1, IF(C15="Partially met",0.5, 0)) -> 0.5
A16: 8 | B16: high-utility words are introduced and practiced to automaticity | C16: Partially met | D16: High-utility words are introduced incidentally as they appear in text and/or not practiced to automaticity. | F16: =SUBSTITUTE(SUBSTITUTE(D16, ",", ""), """", "") & " " & SUBSTITUTE(E16, ",", "") -> High-utility words are introduced incidentally as they appear in text and/or not practiced to automaticity. | G16: =IF(C16="Fully met", 1, IF(C16="Partially met",0.5, 0)) -> 0.5
A17: 9 | B17: phonics patterns and high-utility words are taught and learned in isolation before being introduced in text that students read independently | C17: Fully met | F17: =SUBSTITUTE(SUBSTITUTE(D17, ",", ""), """", "") & " " & SUBSTITUTE(E17, ",", "") | G17: =IF(C17="Fully met", 1, IF(C17="Partially met",0.5, 0)) -> 1
A18: 10 | B18: text for independent reading doesn’t contain words that have phonics patterns that haven’t been taught in prior phonics lessons | C18: Fully met | F18: =SUBSTITUTE(SUBSTITUTE(D18, ",", ""), """", "") & " " & SUBSTITUTE(E18, ",", "") | G18: =IF(C18="Fully met", 1, IF(C18="Partially met",0.5, 0)) -> 1
A19: 11 | B19: the number of irregular words introduced in a lesson is minimized | C19: Fully met | F19: =SUBSTITUTE(SUBSTITUTE(D19, ",", ""), """", "") & " " & SUBSTITUTE(E19, ",", "") | G19: =IF(C19="Fully met", 1, IF(C19="Partially met",0.5, 0)) -> 1
A20: 12 | B20: instruction of similar, easily-confused letter patterns are separated in time | C20: Fully met | F20: =SUBSTITUTE(SUBSTITUTE(D20, ",", ""), """", "") & " " & SUBSTITUTE(E20, ",", "") | G20: =IF(C20="Fully met", 1, IF(C20="Partially met",0.5, 0)) -> 1
A21: 13 | B21: there are multiple opportunities to read the previously learned regular and irregular words in the context of controlled text (also known as decodable text) | C21: Partially met | E21: Decodable texts not automatically included in core program; online "Foldable Decodable" texts must be printed and created for students if teachers want to give students additional practice reading connected text, and instructional materials pertaining to those decodables could not be found by evaluators. | F21: =SUBSTITUTE(SUBSTITUTE(D21, ",", ""), """", "") & " " & SUBSTITUTE(E21, ",", "") -> Decodable texts not automatically included in core program; online "Foldable Decodable" texts must be printed and created for students if teachers want to give students additional practice reading connected text and instructional materials pertaining to those decodables could not be found by evaluators. | G21: =IF(C21="Fully met", 1, IF(C21="Partially met",0.5, 0)) -> 0.5
A22: 14 | B22: instruction in irregular, high-utility words focuses on predictable letter-sound combinations and irregularities | C22: Partially met | D22: Evidence provided but does not address criteria. | F22: =SUBSTITUTE(SUBSTITUTE(D22, ",", ""), """", "") & " " & SUBSTITUTE(E22, ",", "") -> Evidence provided but does not address criteria. | G22: =IF(C22="Fully met", 1, IF(C22="Partially met",0.5, 0)) -> 0.5
A23: 15 | B23: regular and irregular words are cumulatively reviewed | C23: Partially met | D23: Words that have been learned are not revisited or reviewed. | F23: =SUBSTITUTE(SUBSTITUTE(D23, ",", ""), """", "") & " " & SUBSTITUTE(E23, ",", "") -> Words that have been learned are not revisited or reviewed. | G23: =IF(C23="Fully met", 1, IF(C23="Partially met",0.5, 0)) -> 0.5
A24: 16 | B24: spelling (encoding) is integrated with the phonics instruction | C24: Partially met | D24: Evidence provided but does not address criteria. | F24: =SUBSTITUTE(SUBSTITUTE(D24, ",", ""), """", "") & " " & SUBSTITUTE(E24, ",", "") -> Evidence provided but does not address criteria. | G24: =IF(C24="Fully met", 1, IF(C24="Partially met",0.5, 0)) -> 0.5
A25: 17 | B25: activities and materials are designed to elicit high levels of responding and engagement | C25: Fully met | F25: =SUBSTITUTE(SUBSTITUTE(D25, ",", ""), """", "") & " " & SUBSTITUTE(E25, ",", "") | G25: =IF(C25="Fully met", 1, IF(C25="Partially met",0.5, 0)) -> 1
A26: 18 | B26: differentiation of phonics instruction is linked to assessment data, with flexible grouping based on students’ needs and progress | C26: Fully met | F26: =SUBSTITUTE(SUBSTITUTE(D26, ",", ""), """", "") & " " & SUBSTITUTE(E26, ",", "") | G26: =IF(C26="Fully met", 1, IF(C26="Partially met",0.5, 0)) -> 1
D27: Score Summary | G27: =SUM(G9:G26) -> 12.5
G28: out of 18
B30: Section 2: Vocabulary
B31: In the core instructional program… | C31: Rating | D31: Stock Evidence/Feedback | E31: Other Evidence/Feedback | F31: Evidence/Feedback | G31: Score
A32: 1 | B32: words selected for instruction are rich, high-utility words that will appear in conversation and literature, those that must be learned to understand a concept or text, and words from content area instruction | C32: Fully met | F32: =SUBSTITUTE(SUBSTITUTE(D32, ",", ""), """", "") & " " & SUBSTITUTE(E32, ",", "") | G32: =IF(C32="Fully met", 1, IF(C32="Partially met",0.5, 0)) -> 1
A33: 2 | B33: new words are explicitly modeled using student-friendly definitions, multiple unambiguous examples and non-examples, and students are given opportunity to practice using the words with immediate corrective feedback | C33: Partially met | D33: Students are asked to guess the meaning or look up meaning in a dictionary., Students are not given immediate corrective feedback when they make an error. | E33: In the examples provided as evidence, students are not explicitly taught words with student-friendly definitions. | F33: =SUBSTITUTE(SUBSTITUTE(D33, ",", ""), """", "") & " " & SUBSTITUTE(E33, ",", "") -> Students are asked to guess the meaning or look up meaning in a dictionary. Students are not given immediate corrective feedback when they make an error. In the examples provided as evidence students are not explicitly taught words with student-friendly definitions. | G33: =IF(C33="Fully met", 1, IF(C33="Partially met",0.5, 0)) -> 0.5
A34: 3 | B34: words that have been taught are repeated multiple times in a variety of contexts | C34: Partially met | D34: Evidence provided but does not address criteria. | F34: =SUBSTITUTE(SUBSTITUTE(D34, ",", ""), """", "") & " " & SUBSTITUTE(E34, ",", "") -> Evidence provided but does not address criteria. | G34: =IF(C34="Fully met", 1, IF(C34="Partially met",0.5, 0)) -> 0.5
A35: 4 | B35: new words are integrated into sentences and students are prompted to use them in sentences | C35: Partially met | D35: Evidence provided but does not address criteria. | E35: In one example, students are prompted to state the meaning of a word, not use it in a sentence. | F35: =SUBSTITUTE(SUBSTITUTE(D35, ",", ""), """", "") & " " & SUBSTITUTE(E35, ",", "") -> Evidence provided but does not address criteria. In one example students are prompted to state the meaning of a word not use it in a sentence. | G35: =IF(C35="Fully met", 1, IF(C35="Partially met",0.5, 0)) -> 0.5
A36: 5 | B36: students are engaged in processing word meanings at deeper levels, to associate new words with known words | C36: Fully met | F36: =SUBSTITUTE(SUBSTITUTE(D36, ",", ""), """", "") & " " & SUBSTITUTE(E36, ",", "") | G36: =IF(C36="Fully met", 1, IF(C36="Partially met",0.5, 0)) -> 1
A37: 6 | B37: there is cumulative review and practice of previously learned words | C37: Partially met | D37: Evidence provided but does not address criteria. | E37: In the evidence provided, there is one example of review of unit words, but it is in a sidebar and not labeled explicitly as cumulative review/practice. The other examples are assessment items, not teacher-led review or practice. | F37: =SUBSTITUTE(SUBSTITUTE(D37, ",", ""), """", "") & " " & SUBSTITUTE(E37, ",", "") -> Evidence provided but does not address criteria. In the evidence provided there is one example of review of unit words but it is in a sidebar and not labeled explicitly as cumulative review/practice. The other examples are assessment items not teacher-led review or practice. | G37: =IF(C37="Fully met", 1, IF(C37="Partially met",0.5, 0)) -> 0.5
A38: 7 | B38: students are exposed o a wide range of words through reading aloud from a wide range of stories and informational text | C38: Fully met | F38: =SUBSTITUTE(SUBSTITUTE(D38, ",", ""), """", "") & " " & SUBSTITUTE(E38, ",", "") | G38: =IF(C38="Fully met", 1, IF(C38="Partially met",0.5, 0)) -> 1
A39: 8 | B39: morphemic analysis is taught explicitly and systematically to support building word meaning through knowledge of root words, prefixes and suffixes | C39: Fully met | E39: Prefixes and suffixes regularly become a part of word study in third grade. | F39: =SUBSTITUTE(SUBSTITUTE(D39, ",", ""), """", "") & " " & SUBSTITUTE(E39, ",", "") -> Prefixes and suffixes regularly become a part of word study in third grade. | G39: =IF(C39="Fully met", 1, IF(C39="Partially met",0.5, 0)) -> 1
A40: 9 | B40: students are taught to predict meaning using antonyms and synonyms, individual words in compound words, and prefixes and suffixes | C40: Partially met | E40: In the evidence provided, students are asked to identify words with suffixes, create a plural of a word, and use context clues. However, in the scope and sequence, synonyms and antonyms and prefixes and suffixes are taught. | F40: =SUBSTITUTE(SUBSTITUTE(D40, ",", ""), """", "") & " " & SUBSTITUTE(E40, ",", "") -> In the evidence provided students are asked to identify words with suffixes create a plural of a word and use context clues. However in the scope and sequence synonyms and antonyms and prefixes and suffixes are taught. | G40: =IF(C40="Fully met", 1, IF(C40="Partially met",0.5, 0)) -> 0.5
A41: 10 | B41: students are taught multiple meaning words | C41: Fully met | F41: =SUBSTITUTE(SUBSTITUTE(D41, ",", ""), """", "") & " " & SUBSTITUTE(E41, ",", "") | G41: =IF(C41="Fully met", 1, IF(C41="Partially met",0.5, 0)) -> 1
A42: 11 | B42: students are asked to demonstrate understanding word meaning by using words in oral and written sentences | C42: Fully met | F42: =SUBSTITUTE(SUBSTITUTE(D42, ",", ""), """", "") & " " & SUBSTITUTE(E42, ",", "") | G42: =IF(C42="Fully met", 1, IF(C42="Partially met",0.5, 0)) -> 1
A43: 12 | B43: students are taught to use grade-appropriate dictionaries | C43: Not met | E43: In one example, students are asked to use provided definitions in a workbook to generate synonyms and antonyms and use a dictionary to verify student-generated meanings. In another example, students are "encouraged" to "use a dictionary if necessary." In the final example students can use a dictionary if they are "not ready" to complete the activity. No evidence found of teaching students to use a dictionary. In the back of the TE, there is a lesson on "How to Use a Glossary." | F43: =SUBSTITUTE(SUBSTITUTE(D43, ",", ""), """", "") & " " & SUBSTITUTE(E43, ",", "") -> In one example students are asked to use provided definitions in a workbook to generate synonyms and antonyms and use a dictionary to verify student-generated meanings. In another example students are "encouraged" to "use a dictionary if necessary." In the final example students can use a dictionary if they are "not ready" to complete the activity. No evidence found of teaching students to use a dictionary. In the back of the TE there is a lesson on "How to Use a Glossary." | G43: =IF(C43="Fully met", 1, IF(C43="Partially met",0.5, 0)) -> 0
A44: 13 | B44: activities and materials are designed to elicit high levels of responding and engagement | C44: Fully met | F44: =SUBSTITUTE(SUBSTITUTE(D44, ",", ""), """", "") & " " & SUBSTITUTE(E44, ",", "") | G44: =IF(C44="Fully met", 1, IF(C44="Partially met",0.5, 0)) -> 1
A45: 14 | B45: differentiation of vocabulary instruction is linked to assessment data, with flexible grouping based on students’ needs and progress | C45: Fully met | F45: =SUBSTITUTE(SUBSTITUTE(D45, ",", ""), """", "") & " " & SUBSTITUTE(E45, ",", "") | G45: =IF(C45="Fully met", 1, IF(C45="Partially met",0.5, 0)) -> 1
D46: Score Summary | G46: =SUM(G32:G45) -> 10.5
G47: out of 14
B49: Section 3: Text Reading and Fluency
B50: In the core instructional program… | C50: Rating | D50: Stock Evidence/Feedback | E50: Other Evidence/Feedback | F50: Evidence/Feedback | G50: Score
A51: 1 | B51: sentence and passage reading is introduced after students can accurately and automatically read a sufficient number of regular and irregular words | C51: Fully met | F51: =SUBSTITUTE(SUBSTITUTE(D51, ",", ""), """", "") & " " & SUBSTITUTE(E51, ",", "") | G51: =IF(C51="Fully met", 1, IF(C51="Partially met",0.5, 0)) -> 1
A52: 2 | B52: the texts students are asked to read independently are controlled to include only the phonic elements and word types that have been previously taught in phonics lessons | C52: Partially met | E52: Decodable texts not automatically included in core program; online "Foldable Decodable" texts must be printed and created for students if teachers want to give students additional practice reading connected text, and instructional materials pertaining to those decodables could not be found by evaluators. | F52: =SUBSTITUTE(SUBSTITUTE(D52, ",", ""), """", "") & " " & SUBSTITUTE(E52, ",", "") -> Decodable texts not automatically included in core program; online "Foldable Decodable" texts must be printed and created for students if teachers want to give students additional practice reading connected text and instructional materials pertaining to those decodables could not be found by evaluators. | G52: =IF(C52="Fully met", 1, IF(C52="Partially met",0.5, 0)) -> 0.5
A53: 3 | B53: fluency building in connected text is done only with passages the student can decode accurately (without hesitation or guessing) | C53: Partially met | E53: Decodable texts not automatically included in core program; online "Foldable Decodable" texts must be printed and created for students if teachers want to give students additional practice reading connected text, and instructional materials pertaining to those decodables could not be found by evaluators. | F53: =SUBSTITUTE(SUBSTITUTE(D53, ",", ""), """", "") & " " & SUBSTITUTE(E53, ",", "") -> Decodable texts not automatically included in core program; online "Foldable Decodable" texts must be printed and created for students if teachers want to give students additional practice reading connected text and instructional materials pertaining to those decodables could not be found by evaluators. | G53: =IF(C53="Fully met", 1, IF(C53="Partially met",0.5, 0)) -> 0.5
A54: 4 | B54: sufficient numbers of controlled decodable text that aligns to the phonics scope and sequence are available to allow students to practice to automaticity | C54: Partially met | E54: Decodable texts not automatically included in core program; online "Foldable Decodable" texts must be printed and created for students if teachers want to give students additional practice reading connected text, and instructional materials pertaining to those decodables could not be found by evaluators. | F54: =SUBSTITUTE(SUBSTITUTE(D54, ",", ""), """", "") & " " & SUBSTITUTE(E54, ",", "") -> Decodable texts not automatically included in core program; online "Foldable Decodable" texts must be printed and created for students if teachers want to give students additional practice reading connected text and instructional materials pertaining to those decodables could not be found by evaluators. | G54: =IF(C54="Fully met", 1, IF(C54="Partially met",0.5, 0)) -> 0.5
A55: 5 | B55: materials are available for teachers to read aloud for the purpose of modeling fluent reading, building vocabulary and background knowledge, and exposing students to text more complex than students could read on their own. | C55: Fully met | F55: =SUBSTITUTE(SUBSTITUTE(D55, ",", ""), """", "") & " " & SUBSTITUTE(E55, ",", "") | G55: =IF(C55="Fully met", 1, IF(C55="Partially met",0.5, 0)) -> 1
A56: 6 | B56: differentiation of oral reading fluency instruction is linked to assessment data, with flexible grouping based on students’ needs and progress | C56: Fully met | F56: =SUBSTITUTE(SUBSTITUTE(D56, ",", ""), """", "") & " " & SUBSTITUTE(E56, ",", "") | G56: =IF(C56="Fully met", 1, IF(C56="Partially met",0.5, 0)) -> 1
D57: Score Summary | G57: =SUM(G51:G56) -> 4.5
G58: out of 6
B60: Section 4: Reading Comprehension
B61: In the core instructional program… | C61: Rating | D61: Stock Evidence/Feedback | E61: Other Evidence/Feedback | F61: Evidence/Feedback | G61: Score
A62: 1 | B62: there is a clear scope and sequence that guides comprehension instruction, in which the goal of the comprehension unit is explicitly stated and in which the ideas follow a logical order | C62: Partially met | E62: A scope and sequence for comprehension is provided, but it is not clear or explicit | F62: =SUBSTITUTE(SUBSTITUTE(D62, ",", ""), """", "") & " " & SUBSTITUTE(E62, ",", "") -> A scope and sequence for comprehension is provided but it is not clear or explicit | G62: =IF(C62="Fully met", 1, IF(C62="Partially met",0.5, 0)) -> 0.5
A63: 2 | B63: the specific content knowledge students will learn throughout the year is clearly stated, mapped out across the year, and prepares students for later grades | C63: Fully met | F63: =SUBSTITUTE(SUBSTITUTE(D63, ",", ""), """", "") & " " & SUBSTITUTE(E63, ",", "") | G63: =IF(C63="Fully met", 1, IF(C63="Partially met",0.5, 0)) -> 1
A64: 3 | B64: reading comprehension is practiced with cumulative review over the course of the year | C64: Partially met | E64: Evidence provided is a MOY assessment and unit project. There is not clear evidence of cumulative review within instruction. | F64: =SUBSTITUTE(SUBSTITUTE(D64, ",", ""), """", "") & " " & SUBSTITUTE(E64, ",", "") -> Evidence provided is a MOY assessment and unit project. There is not clear evidence of cumulative review within instruction. | G64: =IF(C64="Fully met", 1, IF(C64="Partially met",0.5, 0)) -> 0.5
A65: 4 | B65: the background knowledge necessary to understand text, that will be read to or by students, is explicitly taught or activated | C65: Fully met | F65: =SUBSTITUTE(SUBSTITUTE(D65, ",", ""), """", "") & " " & SUBSTITUTE(E65, ",", "") | G65: =IF(C65="Fully met", 1, IF(C65="Partially met",0.5, 0)) -> 1
A66: 5 | B66: modeling and thinking aloud are used to identify components of story structure, using story structure as a tool for prompting information to compare and contrast, organize information, and group related ideas to maintain a consistent focus | C66: Fully met | F66: =SUBSTITUTE(SUBSTITUTE(D66, ",", ""), """", "") & " " & SUBSTITUTE(E66, ",", "") | G66: =IF(C66="Fully met", 1, IF(C66="Partially met",0.5, 0)) -> 1
A67: 6 | B67: text used for reading comprehension instruction uses: · familiar vocabulary · only words students can read accurately · previously learned content knowledge · more complex sentence structure · longer passages | C67: Fully met | F67: =SUBSTITUTE(SUBSTITUTE(D67, ",", ""), """", "") & " " & SUBSTITUTE(E67, ",", "") | G67: =IF(C67="Fully met", 1, IF(C67="Partially met",0.5, 0)) -> 1
A68: 7 | B68: there are multiple opportunities to listen to and explore narrative and expository text forms and engage in interactive discussion of the meanings of text | C68: Fully met | F68: =SUBSTITUTE(SUBSTITUTE(D68, ",", ""), """", "") & " " & SUBSTITUTE(E68, ",", "") | G68: =IF(C68="Fully met", 1, IF(C68="Partially met",0.5, 0)) -> 1
A69: 8 | B69: previously taught content, skills and strategies are connected with new content and text | C69: Fully met | F69: =SUBSTITUTE(SUBSTITUTE(D69, ",", ""), """", "") & " " & SUBSTITUTE(E69, ",", "") | G69: =IF(C69="Fully met", 1, IF(C69="Partially met",0.5, 0)) -> 1
A70: 9 | B70: topics from science, social studies, math and the arts are integrated into the content studied through text read aloud by the teacher and independent reading | C70: Fully met | F70: =SUBSTITUTE(SUBSTITUTE(D70, ",", ""), """", "") & " " & SUBSTITUTE(E70, ",", "") | G70: =IF(C70="Fully met", 1, IF(C70="Partially met",0.5, 0)) -> 1
A71: 10 | B71: lessons include explicit instruction in the structure and use of conventions of informational text such as titles, headings, information from graphs and charts to locate important information | C71: Fully met | F71: =SUBSTITUTE(SUBSTITUTE(D71, ",", ""), """", "") & " " & SUBSTITUTE(E71, ",", "") | G71: =IF(C71="Fully met", 1, IF(C71="Partially met",0.5, 0)) -> 1
A72: 11 | B72: lessons include explicit instruction in analyzing elements of narrative text and comparing and contrasting elements within and among texts | C72: Fully met | F72: =SUBSTITUTE(SUBSTITUTE(D72, ",", ""), """", "") & " " & SUBSTITUTE(E72, ",", "") | G72: =IF(C72="Fully met", 1, IF(C72="Partially met",0.5, 0)) -> 1
A73: 12 | B73: a coherent sequence of questions and tasks support students to examine language (vocabulary, sentences, and structure) and apply their knowledge and skills in reading, writing, speaking and listening | C73: Partially met | D73: There is no scope and sequence or it doesn’t explicitly include a coherent sequence of supporting students to examine language. | E73: There is a scope and sequence, however, evidence of examining language structures, including sentence structure not found. | F73: =SUBSTITUTE(SUBSTITUTE(D73, ",", ""), """", "") & " " & SUBSTITUTE(E73, ",", "") -> There is no scope and sequence or it doesn’t explicitly include a coherent sequence of supporting students to examine language. There is a scope and sequence however evidence of examining language structures including sentence structure not found. | G73: =IF(C73="Fully met", 1, IF(C73="Partially met",0.5, 0)) -> 0.5
A74: 13 | B74: complex topics are introduced in a carefully planned sequence including teachers reading aloud, discussions, and projects, starting with a basic introduction and building towards a deeper understanding | C74: Fully met | F74: =SUBSTITUTE(SUBSTITUTE(D74, ",", ""), """", "") & " " & SUBSTITUTE(E74, ",", "") | G74: =IF(C74="Fully met", 1, IF(C74="Partially met",0.5, 0)) -> 1
A75: 14 | B75: differentiation of reading comprehension instruction is linked to assessment data, with flexible grouping based on students’ needs and progress | C75: Fully met | F75: =SUBSTITUTE(SUBSTITUTE(D75, ",", ""), """", "") & " " & SUBSTITUTE(E75, ",", "") | G75: =IF(C75="Fully met", 1, IF(C75="Partially met",0.5, 0)) -> 1
D76: Score Summary | G76: =SUM(G62:G75) -> 12.5
G77: out of 14

Sheet Usability, Professional Dev.
A1: Core Program Review Rubric
A3: Phase 2: Required Instructional Practices for Teaching Essential Early Literacy Skills
A5: Usability and Professional Development
B7: Section 5: Usability
B8: In the core instructional program… | C8: Rating | D8: Stock Evidence/Feedback | E8: Other Evidence/Feedback | F8: Evidence/Feedback | G8: Score
A9: 1 | B9: materials are well organized and easy to locate | C9: Partially met | D9: "Some materials are organized with labels or sections, but others are scattered or inconsistent." | F9: =SUBSTITUTE(SUBSTITUTE(D9, ",", ""), """", "") & " " & SUBSTITUTE(E9, ",", "") -> Some materials are organized with labels or sections but others are scattered or inconsistent. | G9: =IF(C9="Fully met", 1, IF(C9="Partially met",0.5, 0)) -> 0.5
A10: 2 | B10: teacher editions are concise and easy to manage with clear connections between teacher resources | C10: Partially met | D10: "Prioritized materials are not clearly identified, leaving teachers unsure which resources are required or optional." | F10: =SUBSTITUTE(SUBSTITUTE(D10, ",", ""), """", "") & " " & SUBSTITUTE(E10, ",", "") -> Prioritized materials are not clearly identified leaving teachers unsure which resources are required or optional. | G10: =IF(C10="Fully met", 1, IF(C10="Partially met",0.5, 0)) -> 0.5
A11: 3 | B11: the reading selections are centrally located within the materials and the center of the focus | C11: Partially met | D11: "Reading selections are scattered, difficult to locate, or secondary to other materials." | F11: =SUBSTITUTE(SUBSTITUTE(D11, ",", ""), """", "") & " " & SUBSTITUTE(E11, ",", "") -> Reading selections are scattered difficult to locate or secondary to other materials. | G11: =IF(C11="Fully met", 1, IF(C11="Partially met",0.5, 0)) -> 0.5
A12: 4 | B12: the content can be reasonably completed within a regular school year and the pacing of content allows for maximum student understanding | C12: Partially met | D12: Teachers may need to adjust pacing or omit lessons to stay on schedule. | F12: =SUBSTITUTE(SUBSTITUTE(D12, ",", ""), """", "") & " " & SUBSTITUTE(E12, ",", "") -> Teachers may need to adjust pacing or omit lessons to stay on schedule. | G12: =IF(C12="Fully met", 1, IF(C12="Partially met",0.5, 0)) -> 0.5
A13: 5 | B13: the materials provide guidance about the amount of time a task might reasonably take | C13: Not met | D13: No guidance is provided regarding the time needed for tasks. | F13: =SUBSTITUTE(SUBSTITUTE(D13, ",", ""), """", "") & " " & SUBSTITUTE(E13, ",", "") -> No guidance is provided regarding the time needed for tasks. | G13: =IF(C13="Fully met", 1, IF(C13="Partially met",0.5, 0)) -> 0
F14: Score Summary | G14: =SUM(G9:G13) -> 2
G15: out of 5
B18: Section 6: Professional Development
B19: In the core instructional program… | C19: Rating | D19: Stock Evidence/Feedback | E19: Other Evidence/Feedback | F19: Evidence/Feedback | G19: Score
A20: 1 | B20: Professional Development · Professional development and coaching are available to support implementing the program with fidelity. | C20: Met | F20: =SUBSTITUTE(SUBSTITUTE(D20, ",", ""), """", "") & " " & SUBSTITUTE(E20, ",", "") | G20: =IF(C20="Met", 1, 0) -> 1
A21: 2 | B21: Professional Development – Program Specific Advisory List · Meets statute criteria · Assurances signed | C21: Met | F21: =SUBSTITUTE(SUBSTITUTE(D21, ",", ""), """", "") & " " & SUBSTITUTE(E21, ",", "") | G21: =IF(C21="Met", 1, 0) -> 1
F22: Score Summary | G22: =SUM(G20:G21) -> 2
G23: out of 2

Sheet Core Programs Rating Summary
A1: Core Program Ratings Summary
A3: For a grade level to be rated as Meets Expectations, all but one section must be rated as Meets Expectations.
A4: That single section must receive the rating Meets or Partially Meets.
A5: If more than one section is rated as Partially Meets, the grade level must be rated as Partially Meets Expectations.
A6: If any one section is rated as Doesn’t Meet Expectations, the grade level must be rated as Doesn’t Meet Expectations.
A7: All sections have to be rated as Partially Meets or Meets for the grade level rating to be Meets Expectations.
A9: Phase 1: Required Features of Scientifically-Based or Evidence Based Core Reading Programs
A10: Section | C10: Point Total | D10: Criteria
A11: 1: Research Alignment | C11: ='Phase 1'!G11 -> 5 | D11: out of 5
A12: 2: Explicit Instruction | C12: ='Phase 1'!G18 -> 3 | D12: out of 3
A13: 3: Sequential Instruction | C13: ='Phase 1'!G25 -> 3 | D13: out of 3
A14: 4: Systematic & Cumulative Instruction | C14: ='Phase 1'!G36 -> 5 | D14: out of 7
A15: 5: Coordinated Components | C15: ='Phase 1'!G44 -> 4 | D15: out of 4
A16: 6: Related Elements | C16: ='Phase 1'!G51 -> 3 | D16: out of 3
B17: Overall Points | C17: ='Phase 1'!B58 -> 23 | D17: out of 25 points
B18: Decision | C18: ='Phase 1'!C60 -> 20-25 points = program moves to Phase 2
A21: Phase 2: Required Instructional Practices for Teaching Essential Early Literacy Skills
A23: Kindergarten
A24: Section | B24: Point Total | D24: Criteria | E24: Recommendation
A25: 1: Phonological and Phonemic Awareness | B25: ='Phase 2 Kindergarten'!G21 -> 12 | C25: out of 12 points | D25: 10 - 12 points = Meets Expectations 6 - 9 points = Partially Meets Expectations 0 - 5 points = Doesn’t Meet Expectations | E25: Meets Expectations
A26: 2: Phonics and Word Study | B26: ='Phase 2 Kindergarten'!G49 -> 18 | C26: out of 23 points | D26: 18 - 23 points = Meets Expectations 11 - 17 points = Partially Meets Expectations 0 - 10 points = Doesn’t Meet Expectations | E26: Meets Expectations
A27: 3: Vocabulary | B27: ='Phase 2 Kindergarten'!G65 -> 7 | C27: out of 11 points | D27: 9 – 11 points = Meets Expectations 6 - 8 points = Partially Meets Expectations 0 - 5 points = Doesn’t Meet Expectations | E27: Partially Meets Expectations
A28: 4: Listening Comprehension | B28: ='Phase 2 Kindergarten'!G79 -> 7.5 | C28: out of 9 points | D28: 7 - 9 points = Meets Expectations 4 - 6 points = Partially Meets Expectations 0 - 3 points = Doesn’t Meet Expectations | E28: Meets Expectations
D29: Grade Level Rating | E29: Meets Expectations
A30: Reviewer Comments
A32: First Grade
A33: Section | B33: Point Total | D33: Criteria | E33: Recommendation
A34: 1: Phonological and Phonemic Awareness | B34: ='Phase 2 First Grade'!G20 -> 11 | C34: out of 11 points | D34: 8 - 11 points = Meets Expectations 6 - 7 points = Partially Meets Expectations 0 - 5 points = Doesn’t Meet Expectations | E34: Meets Expectations
A35: 2: Phonics and Word Study | B35: ='Phase 2 First Grade'!G43 -> 15 | C35: out of 18 points | D35: 15 - 18 points = Meets Expectations 9 - 14 points = Partially Meets Expectations 0 - 8 points = Doesn’t Meet Expectations | E35: Meets Expectations
A36: 3: Vocabulary | B36: ='Phase 2 First Grade'!G58 -> 6.5 | C36: out of 10 points | D36: 8 - 10 points = Meets Expectations 5 - 7 points = Partially Meets Expectations 0 - 4 points = Doesn’t Meet Expectations | E36: Partially Meets Expectations
A37: 4: Text Reading and Fluency | B37: ='Phase 2 First Grade'!G69 -> 6 | C37: out of 6 points | D37: 5 - 6 points = Meets Expectations 3 - 4 points = Partially Meets Expectations 0 - 2 points = Doesn’t Meet Expectations | E37: Meets Expectations
A38: 5: Reading Comprehension | B38: ='Phase 2 First Grade'!G87 -> 12 | C38: out of 13 points | D38: 10 - 13 points = Meets Expectations 6 - 9 points = Partially Meets Expectations 0 - 5 points = Doesn’t Meet Expectations | E38: Meets Expectations
D39: Grade Level Rating | E39: Meets Expectations
A40: Reviewer Comments
A42: Second Grade
A43: Section | B43: Point Total | D43: Criteria | E43: Recommendation
A44: 1: Phonics and Word Study | B44: ='Phase 2 Second Grade'!G27 -> 16 | C44: out of 18 points | D44: 15 - 18 points = Meets Expectations 9 - 14 points = Partially Meets Expectations 0 - 8 points = Doesn’t Meet Expectations | E44: Meets Expectations
A45: 2: Vocabulary | B45: ='Phase 2 Second Grade'!G45 -> 10.5 | C45: out of 13 points | D45: 10 - 13 points = Meets Expectations 7 – 9 points = Partially Meets Expectations 0 - 6 points = Doesn’t Meet Expectations | E45: Meets Expectations
A46: 3: Text Reading and Fluency | B46: ='Phase 2 Second Grade'!G56 -> 6 | C46: out of 6 points | D46: 5 - 6 points = Meets Expectations 3 - 4 points = Partially Meets Expectations 0 - 2 points = Doesn’t Meet Expectations | E46: Meets Expectations
A47: 4: Reading Comprehension | B47: ='Phase 2 Second Grade'!G73 -> 11 | C47: out of 12 points | D47: 10 - 12 points = Meets Expectations 6 - 9 points = Partially Meets Expectations 0 - 5 points = Doesn’t Meet Expectations | E47: Meets Expectations
D48: Grade Level Rating | E48: Meets Expectations
A49: Reviewer Comments
A51: Third Grade
A52: Section | B52: Point Total | D52: Criteria | E52: Recommendation
A53: 1: Phonics and Word Study | B53: ='Phase 2 Third Grade'!G27 -> 12.5 | C53: out of 18 points | D53: 14 - 18 points = Meets Expectations 9 - 13 points = Partially Meets Expectations 0 - 8 points = Doesn’t Meet Expectations | E53: Partially Meets Expectations
A54: 2: Vocabulary | B54: ='Phase 2 Third Grade'!G46 -> 10.5 | C54: out of 14 points | D54: 11 - 14 points = Meets Expectations 7 - 10 points = Partially Meets Expectations 0 - 6 points = Doesn’t Meet Expectations | E54: Meets Expectations
A55: 3 :Text Reading and Fluency | B55: ='Phase 2 Third Grade'!G57 -> 4.5 | C55: out of 6 points | D55: 5 - 6 points = Meets Expectations 3 - 4 points = Partially Meets Expectations 0 - 2 points = Doesn’t Meet Expectations | E55: Meets Expectations
A56: 4: Reading Comprehension | B56: ='Phase 2 Third Grade'!G76 -> 12.5 | C56: out of 14 points | D56: 11 - 14 points = Meets Expectations 7 - 10 points = Partially Meets Expectations 0 - 6 points = Doesn’t Meet Expectations | E56: Meets Expectations
D57: Grade Level Rating | E57: Meets Expectations
A58: Reviewer Comments
A60: Usability
A61: Section | B61: Point Total | D61: Criteria | E61: Recommendation
A62: Usability | B62: ='Usability, Professional Dev.'!G14 -> 2 | C62: out of 5 points | D62: 4 - 5 points = Meets Expectations 3 points = Partially Meets Expectations 0 - 2 points = Doesn’t Meet Expectations | E62: Doesn’t Meet Expectations
D63: Score Summary | E63: Doesn’t Meet Expectations
A64: Reviewer Comments
A66: Professional Development
A67: Section | B67: Point Total | D67: Professional Development meets the criteria for further review by the Department for inclusion on the Professional Development Advisory List. | E67: Recommendation
A68: Professional Development | B68: ='Usability, Professional Dev.'!G22 -> 2 | C68: out of 2 points | D68: 2 points = Meets Expectations 0 - 1 points = Doesn’t Meet Expectations | E68: Meets Expectations
D69: Score Summary | E69: Meets Expectations
A70: Reviewer Comments

Sheet Final Summary
A1: Core Program Final Summary
A3: Program Name, Publisher, Publication Year | B3: myView Literacy, Savvas Learning Company, LLC, 2025
A4: Review Team | B4: 12
A6: Phase 1 | B6: ='Core Programs Rating Summary'!C18 -> 20-25 points = program moves to Phase 2
A7: Usability | B7: Doesn't Meet Expectations
A8: Professional Development | B8: ='Core Programs Rating Summary'!E69 -> Meets Expectations
A10: Phase 2
A11: Grade | B11: Recommendation
A12: Kindergarten | B12: ='Core Programs Rating Summary'!E29 -> Meets Expectations
A13: First Grade | B13: ='Core Programs Rating Summary'!E39 -> Meets Expectations
A14: Second Grade | B14: ='Core Programs Rating Summary'!E48 -> Meets Expectations
A15: Third Grade | B15: ='Core Programs Rating Summary'!E57 -> Meets Expectations
A16: Overall | B16: Original Recommendation: Recommended for grades K and 3. Eligible for appeal. Appeal Recommendation: Recommended for K,1,2,3
