Workbook

Sheet Introduction
A1: READ Act
A2: Request for Advisory List Submissions
A3: Part II - Program Review
A4: Core Instructional Programming
A5: 2025-2026
A7: The Colorado Reading to Ensure Academic Development Act (READ Act) requires the Colorado Department of Education to create an advisory list of evidence-based or scientifically based instructional programming in reading (C.R.C., 22-7-1209). Part 2 of the process to create an advisory list of programs involves the use of rubrics to evaluate core, supplemental and intervention program materials. A separate rubric is used for each type of instructional program. These rubrics are designed for reviewing programs that teach students to read in English. If a program is teaching reading in another language, the scope and sequence for learning to read in that language must be considered.
A9: Core Programming: A comprehensive program used to teach initial and differentiated instruction in the regular classroom. Core reading programs typically encompass both content (curriculum) and strategies (instruction) for teaching the included domains and skills. They provide the instructional priorities, sequence, delivery methods, and materials to articulate how to teach students so they will achieve grade level standards.
A11: Supplemental Programming: A program selected to supplement core reading instruction when the core program doesn’t provide enough instruction or practice in key areas to meet student needs.
A13: Intervention Programming: A program designed to provide scientifically-based, high-quality instruction for students who are below proficient in reading.
A15: The core, supplemental, and intervention programs will be reviewed in two phases. In Phase 1, expert reviewers will evaluate programs on the key elements and features of scientifically-based reading instruction, including: • research alignment • explicit instruction • sequential instruction • systematic and cumulative instruction • coordinated components • related elements
A17: Programs that meet criteria in Phase 1 will move on to Phase 2. The Phase 2 review involves evaluating the extent to which programs implement effective instructional practices for teaching the essential early literacy skills: • phonemic awareness • vocabulary • phonics • oral reading fluency • reading comprehension The criteria for each grade are organized into sections based on the essential early literacy skills.
A19: Core Programming will recommended for each grade level which meets the phase 2 rubric criteria.

Sheet Rating Definitions
A1: Rating Definitions for Core Programming
A3: Fully Met or Met
A4: Items marked as Fully Met should have evidence of all components of the criteria throughout the program. Reviewers are encouraged to note evidence and feedback for the publisher.
A5: Items marked as Fully Met or Met will receive a score of 1.
A7: Partially Met
A8: Items should be marked as Partially Met when some aspect of the criteria is met but others are not, and/or the criteria is met in one part of the program but not met in others. Reviewers are encouraged to note evidence and feedback for the publisher.
A9: Items marked as Partially Met will receive a score of 0.5.
A11: Not Met
A12: Items are marked as Not Met when no evidence of the criteria could be found in the program materials submitted by the publisher, or when there is evidence of a practice that is contrary to the criteria. Reviewers should note feedback for the publisher.
A13: Items marked Not met will receive a score of 0.

Sheet Phase 1
A1: Core Program Review Rubric
A3: Phase 1: Required Features of Scientifically-Based or Evidence Based Core Reading Programs
B5: Section 1: Research Alignment - The program reflects current and confirmed research in reading and cognitive science. Must receive one point for each criterion in Section 1 in order to move forward to Phase 2 review. | C5: Rating | D5: Stock Evidence/Feedback | E5: Feedback | F5: Evidence/Feedback | G5: Score
A6: 1 | B6: For the grades for which the program is submitted, the program must include evidence of alignment to ESSA Evidence Level 1, 2, 3 or 4. If Level 4, then a logic model must be submitted. | C6: Met | F6: =SUBSTITUTE(SUBSTITUTE(D6, ",", ""), """", "") & " " & SUBSTITUTE(E6, ",", "") | G6: =IF(C6="Met", 1, 0) -> 1
A7: 2 | B7: The program provides evidence of grounding in conceptual research and theoretical models with reference to research articles and websites. If the program is constructed for learning to read in a language other than English, a conceptual model and research foundation, as well as evidence that it is not merely a translation of an English program is provided. | C7: Met | F7: =SUBSTITUTE(SUBSTITUTE(D7, ",", ""), """", "") & " " & SUBSTITUTE(E7, ",", "") | G7: =IF(C7="Met", 1, 0) -> 1
A8: 3 | B8: There is an obvious emphasis on teaching and learning the five essential early literacy skills. | C8: Met | F8: =SUBSTITUTE(SUBSTITUTE(D8, ",", ""), """", "") & " " & SUBSTITUTE(E8, ",", "") | G8: =IF(C8="Met", 1, 0) -> 1
A9: 4 | B9: The program reflects the understanding that reading is a language-based skill and learning to read depends on mapping sounds to print. | C9: Met | F9: =SUBSTITUTE(SUBSTITUTE(D9, ",", ""), """", "") & " " & SUBSTITUTE(E9, ",", "") | G9: =IF(C9="Met", 1, 0) -> 1
A10: 5 | B10: Word recognition is explicitly taught through relating sounds to letters, and not visual memory, guessing, the shape of the word, or the use of context clues to decode words. | C10: Met | F10: =SUBSTITUTE(SUBSTITUTE(D10, ",", ""), """", "") & " " & SUBSTITUTE(E10, ",", "") | G10: =IF(C10="Met", 1, 0) -> 1
D11: Total Met Section 1: | G11: =SUM(G6:G10) -> 5
D12: All points needed to move to Phase 2 review. | G12: out of 5
B14: Section 2: Explicit Instruction – Students are introduced to the new skill before they are asked to perform it. | C14: Rating | D14: Stock Evidence/Feedback | E14: Evidence/Feedback | F14: Evidence/Feedback | G14: Score
A15: 1 | B15: Lessons include instructional routines and/or scripts that note what the teacher should say, include a step-by-step sequence, include procedures, and consistent academic language and vocabulary that relates back to grade level outcomes and standards. | C15: Met | F15: =SUBSTITUTE(SUBSTITUTE(D15, ",", ""), """", "") & " " & SUBSTITUTE(E15, ",", "") | G15: =IF(C15="Met", 1, 0) -> 1
A16: 2 | B16: Routines include language for the teacher to introduce, define or explain new skills through demonstration and modeling before students are asked to perform the skills. | C16: Met | F16: =SUBSTITUTE(SUBSTITUTE(D16, ",", ""), """", "") & " " & SUBSTITUTE(E16, ",", "") | G16: =IF(C16="Met", 1, 0) -> 1
A17: 3 | B17: There are multiple opportunities for students to practice new skills with instructions for the teacher to give immediate corrective feedback. | C17: Met | F17: =SUBSTITUTE(SUBSTITUTE(D17, ",", ""), """", "") & " " & SUBSTITUTE(E17, ",", "") | G17: =IF(C17="Met", 1, 0) -> 1
D18: Total Met Section 2: | G18: =SUM(G15:G17) -> 3
G19: out of 3
B21: Section 3: Sequential Instruction - There is a detailed scope and sequence including a list of specific skills taught, a sequence for teaching the skills over the course of the year, and a timeline showing when skills are taught (by week, month, unit). | C21: Rating | D21: Stock Evidence/Feedback | E21: Evidence/Feedback | F21: Evidence/Feedback | G21: Score
A22: 1 | B22: The scope and sequence for a skill within a grade shows a clear progression from easier to harder, and is appropriate for the grade for which the program is designed. | C22: Met | F22: =SUBSTITUTE(SUBSTITUTE(D22, ",", ""), """", "") & " " & SUBSTITUTE(E22, ",", "") | G22: =IF(C22="Met", 1, 0) -> 1
A23: 2 | B23: Advanced skills are not introduced before students have been taught pre-requisite skills. | C23: Met | F23: =SUBSTITUTE(SUBSTITUTE(D23, ",", ""), """", "") & " " & SUBSTITUTE(E23, ",", "") | G23: =IF(C23="Met", 1, 0) -> 1
A24: 3 | B24: The scope and sequence at each grade level articulates when skills are taught across grades. | C24: Met | F24: =SUBSTITUTE(SUBSTITUTE(D24, ",", ""), """", "") & " " & SUBSTITUTE(E24, ",", "") | G24: =IF(C24="Met", 1, 0) -> 1
D25: Total Met Section 3: | G25: =SUM(G22:G24) -> 3
G26: out of 3
B28: Section 4: Systematic & Cumulative Instruction – The structured lesson format includes a plan, procedure, or routine that is carried through the sequence of teaching skills. | C28: Rating | D28: Stock Evidence/Feedback | E28: Evidence/Feedback | F28: Evidence/Feedback | G28: Score
A29: 1 | B29: A clear and consistent lesson format is present in program lessons for each of the five foundational skill areas at each grade. | C29: Met | F29: =SUBSTITUTE(SUBSTITUTE(D29, ",", ""), """", "") & " " & SUBSTITUTE(E29, ",", "") | G29: =IF(C29="Met", 1, 0) -> 1
A30: 2 | B30: There is a daily schedule of lessons noting suggestions for the length of lessons and units. There is a daily schedule of lessons noting suggestions for the length of time dedicated to each of the foundational skill areas that is consistent across lessons and units. | C30: Met | F30: =SUBSTITUTE(SUBSTITUTE(D30, ",", ""), """", "") & " " & SUBSTITUTE(E30, ",", "") | G30: =IF(C30="Met", 1, 0) -> 1
A31: 3 | B31: Time is spent in whole group and small group formats, with the majority of instruction delivered in small, flexible, skill-based groups. | C31: Met | F31: =SUBSTITUTE(SUBSTITUTE(D31, ",", ""), """", "") & " " & SUBSTITUTE(E31, ",", "") | G31: =IF(C31="Met", 1, 0) -> 1
A32: 4 | B32: Independent or group practice occurs after teacher-led instruction on the essential skills, not before the teacher-led instruction and not without it or instead of it. | C32: Not met | E32: The program does not provide evidence for 2nd and 3rd grade for this point on the rubric, nor does the program provide sufficient guided practice after explicit instruction. | F32: =SUBSTITUTE(SUBSTITUTE(D32, ",", ""), """", "") & " " & SUBSTITUTE(E32, ",", "") -> The program does not provide evidence for 2nd and 3rd grade for this point on the rubric nor does the program provide sufficient guided practice after explicit instruction. | G32: =IF(C32="Met", 1, 0) -> 0
A33: 5 | B33: Lessons include instructional routines, noting what the teacher should say, which includes a step-by-step sequence, procedures, and consistent language across lessons and grades. | C33: Met | F33: =SUBSTITUTE(SUBSTITUTE(D33, ",", ""), """", "") & " " & SUBSTITUTE(E33, ",", "") | G33: =IF(C33="Met", 1, 0) -> 1
A34: 6 | B34: The teacher manual(s) include directions for how to implement lessons (e.g., materials, target skill, script or wording for how to teach, examples to use, specific content such as word lists or book list). | C34: Met | F34: =SUBSTITUTE(SUBSTITUTE(D34, ",", ""), """", "") & " " & SUBSTITUTE(E34, ",", "") | G34: =IF(C34="Met", 1, 0) -> 1
A35: 7 | B35: High-priority skills are cumulatively reviewed. | C35: Not met | E35: In "Cumulative Review" portions, teachers are encouraged to "consider reviewing" skills; in comprehension lessons submitted as evidence, cumulative review is not mentioned explicitly. Therefore, it is not clear what essential skills teachers are to review. | F35: =SUBSTITUTE(SUBSTITUTE(D35, ",", ""), """", "") & " " & SUBSTITUTE(E35, ",", "") -> In "Cumulative Review" portions teachers are encouraged to "consider reviewing" skills; in comprehension lessons submitted as evidence cumulative review is not mentioned explicitly. Therefore it is not clear what essential skills teachers are to review. | G35: =IF(C35="Met", 1, 0) -> 0
D36: Total Met Section 4: | G36: =SUM(G29:G35) -> 5
G37: out of 7
B39: Section 5: Coordinated Components - Elements of the program are clearly linked. | C39: Rating | D39: Stock Evidence/Feedback | E39: Evidence/Feedback | F39: Evidence/Feedback | G39: Score
A40: 1 | B40: The same routines, terminology, and procedures are used across skill areas and over time. | C40: Met | F40: =SUBSTITUTE(SUBSTITUTE(D40, ",", ""), """", "") & " " & SUBSTITUTE(E40, ",", "") | G40: =IF(C40="Met", 1, 0) -> 1
A41: 2 | B41: There is a clear link between foundational skills and higher order skills. Skills are integrated across areas (e.g. phonemic awareness and phonics, phonemic awareness and oral language). | C41: Met | F41: =SUBSTITUTE(SUBSTITUTE(D41, ",", ""), """", "") & " " & SUBSTITUTE(E41, ",", "") | G41: =IF(C41="Met", 1, 0) -> 1
A42: 3 | B42: Lessons and materials are available for differentiating instruction for students who are struggling or need enrichment, in the core program and in supplemental programs. | C42: Met | F42: =SUBSTITUTE(SUBSTITUTE(D42, ",", ""), """", "") & " " & SUBSTITUTE(E42, ",", "") | G42: =IF(C42="Met", 1, 0) -> 1
A43: 4 | B43: Differentiation and support are provided for supporting English Learners, students who are struggling, and those who need acceleration. | C43: Met | F43: =SUBSTITUTE(SUBSTITUTE(D43, ",", ""), """", "") & " " & SUBSTITUTE(E43, ",", "") | G43: =IF(C43="Met", 1, 0) -> 1
D44: Total Met Section 5: | G44: =SUM(G40:G43) -> 4
G45: out of 4
B47: Section 6: Related Elements – The program contains features that are optimal for delivering effective instruction. | C47: Rating | D47: Stock Evidence/Feedback | E47: Evidence/Feedback | F47: Evidence/Feedback | G47: Score
...

Sheet Phase 2 Kindergarten
A1: Core Program Review Rubric
A3: Phase 2: Required Instructional Practices for Teaching Essential Early Literacy Skills
A5: Kindergarten
B7: Section 1: Phonological and Phonemic Awareness
B8: In the core instructional program… | C8: Rating | D8: Stock Evidence/Feedback | E8: Other Evidence/Feedback | F8: Evidence/Feedback | G8: Score
A9: 1 | B9: a detailed scope and sequence of phonological and phonemic awareness skills progresses from easier (e.g., blending compound words or segmenting onset-rime) to more difficult (e.g., segmenting phonemes), culminating in advanced skills such as addition, deletion and substitution of phonemes | C9: Fully met | F9: =SUBSTITUTE(SUBSTITUTE(D9, ",", ""), """", "") & " " & SUBSTITUTE(E9, ",", "") | G9: =IF(C9="Fully met", 1, IF(C9="Partially met",0.5, 0)) -> 1
A10: 2 | B10: new skills are explicitly modeled using multiple unambiguous examples, where the new skill is introduced, defined and/or explained, a model or demonstration is provided, students are given opportunity to practice orally with immediate corrective feedback | C10: Fully met | F10: =SUBSTITUTE(SUBSTITUTE(D10, ",", ""), """", "") & " " & SUBSTITUTE(E10, ",", "") | G10: =IF(C10="Fully met", 1, IF(C10="Partially met",0.5, 0)) -> 1
A11: 3 | B11: students are taught strategies to demonstrate and practice how sounds are connected to letters (e.g. phoneme-grapheme mapping) (working toward understanding of the alphabetic principle) | C11: Fully met | F11: =SUBSTITUTE(SUBSTITUTE(D11, ",", ""), """", "") & " " & SUBSTITUTE(E11, ",", "") | G11: =IF(C11="Fully met", 1, IF(C11="Partially met",0.5, 0)) -> 1
A12: 4 | B12: students analyze spoken words at the phoneme level, including segmenting individual phonemes | C12: Fully met | F12: =SUBSTITUTE(SUBSTITUTE(D12, ",", ""), """", "") & " " & SUBSTITUTE(E12, ",", "") | G12: =IF(C12="Fully met", 1, IF(C12="Partially met",0.5, 0)) -> 1
A13: 5 | B13: movement and/or manipulatives are used to make sounds in words concrete | C13: Fully met | F13: =SUBSTITUTE(SUBSTITUTE(D13, ",", ""), """", "") & " " & SUBSTITUTE(E13, ",", "") | G13: =IF(C13="Fully met", 1, IF(C13="Partially met",0.5, 0)) -> 1
A14: 6 | B14: the order of attention to phonemes in three-phoneme words is first sound, last sound, middle sound | C14: Fully met | F14: =SUBSTITUTE(SUBSTITUTE(D14, ",", ""), """", "") & " " & SUBSTITUTE(E14, ",", "") | G14: =IF(C14="Fully met", 1, IF(C14="Partially met",0.5, 0)) -> 1
A15: 7 | B15: instructional time is focused on high priority skills such as isolating beginning phoneme, blending, segmenting and manipulating phonemes | C15: Fully met | F15: =SUBSTITUTE(SUBSTITUTE(D15, ",", ""), """", "") & " " & SUBSTITUTE(E15, ",", "") | G15: =IF(C15="Fully met", 1, IF(C15="Partially met",0.5, 0)) -> 1
A16: 8 | B16: students are taught to blend and segment phonemes in three-, four- and five-phoneme words | C16: Fully met | F16: =SUBSTITUTE(SUBSTITUTE(D16, ",", ""), """", "") & " " & SUBSTITUTE(E16, ",", "") | G16: =IF(C16="Fully met", 1, IF(C16="Partially met",0.5, 0)) -> 1
A17: 9 | B17: students are taught to pull apart the two phonemes in consonant blends when segmenting | C17: Fully met | F17: =SUBSTITUTE(SUBSTITUTE(D17, ",", ""), """", "") & " " & SUBSTITUTE(E17, ",", "") | G17: =IF(C17="Fully met", 1, IF(C17="Partially met",0.5, 0)) -> 1
A18: 10 | B18: students spend time practicing orally producing the sounds in spoken words, not just identifying the sounds or matching the sounds using objects or pictures | C18: Fully met | F18: =SUBSTITUTE(SUBSTITUTE(D18, ",", ""), """", "") & " " & SUBSTITUTE(E18, ",", "") | G18: =IF(C18="Fully met", 1, IF(C18="Partially met",0.5, 0)) -> 1
A19: 11 | B19: the activities and materials are designed to elicit high levels of responding and engagement | C19: Fully met | F19: =SUBSTITUTE(SUBSTITUTE(D19, ",", ""), """", "") & " " & SUBSTITUTE(E19, ",", "") | G19: =IF(C19="Fully met", 1, IF(C19="Partially met",0.5, 0)) -> 1
A20: 12 | B20: differentiation of phonemic awareness instruction is linked to assessment data, with flexible grouping based on students’ needs and progress. | C20: Fully met | F20: =SUBSTITUTE(SUBSTITUTE(D20, ",", ""), """", "") & " " & SUBSTITUTE(E20, ",", "") | G20: =IF(C20="Fully met", 1, IF(C20="Partially met",0.5, 0)) -> 1
F21: Score Summary | G21: =SUM(G9:G20) -> 12
G22: out of 12
B24: Section 2: Phonics and Word Study
B25: In the core instructional program… | C25: Rating | D25: Stock Evidence/Feedback | E25: Other Evidence/Feedback | F25: Evidence/Feedback | G25: Score
A26: 1 | B26: there is a detailed scope and sequence of phonics skills that progresses from simple letter-sounds to more complex patterns | C26: Fully met | F26: =SUBSTITUTE(SUBSTITUTE(D26, ",", ""), """", "") & " " & SUBSTITUTE(E26, ",", "") | G26: =IF(C26="Fully met", 1, IF(C26="Partially met",0.5, 0)) -> 1
A27: 2 | B27: the phonics lesson format includes o brief cumulative review of previously taught skills, o a phonological warm up, o phoneme-grapheme matching, o word reading accuracy, o fluency building at the word, phrase, and eventually simple sentence level, o word dictation, o transfer to simple decodable text | C27: Partially met | D27: Phonics lessons include some but not all of the above elements. | E27: Cumulative review is not embedded into every lesson. | F27: =SUBSTITUTE(SUBSTITUTE(D27, ",", ""), """", "") & " " & SUBSTITUTE(E27, ",", "") -> Phonics lessons include some but not all of the above elements. Cumulative review is not embedded into every lesson. | G27: =IF(C27="Fully met", 1, IF(C27="Partially met",0.5, 0)) -> 0.5
A28: 3 | B28: new skills are explicitly modeled using multiple unambiguous examples, where the new skill is introduced, defined and/or explained, a model or demonstration is provided, students are given opportunity to practice orally with immediate corrective feedback (e.g. an explicit step by step routine is utilized) | C28: Partially met | D28: Evidence provided but does not address criteria. | E28: Corrective feedback not immediately given; rather, after formative assessment, students are assigned to a small group for further instruction. | F28: =SUBSTITUTE(SUBSTITUTE(D28, ",", ""), """", "") & " " & SUBSTITUTE(E28, ",", "") -> Evidence provided but does not address criteria. Corrective feedback not immediately given; rather after formative assessment students are assigned to a small group for further instruction. | G28: =IF(C28="Fully met", 1, IF(C28="Partially met",0.5, 0)) -> 0.5
A29: 4 | B29: letter-sound instruction starts with high-utility letters (i.e., m, s, a, r, t) | C29: Fully met | F29: =SUBSTITUTE(SUBSTITUTE(D29, ",", ""), """", "") & " " & SUBSTITUTE(E29, ",", "") | G29: =IF(C29="Fully met", 1, IF(C29="Partially met",0.5, 0)) -> 1
A30: 5 | B30: letter-sound instruction integrates the letter name, sound, and explicitly and systematically how to write the symbol | C30: Partially met | E30: Letter-sound instruction integrates the letter name and sound consistently. However, explicit and systematic letter formation and letter writing could not be found. | F30: =SUBSTITUTE(SUBSTITUTE(D30, ",", ""), """", "") & " " & SUBSTITUTE(E30, ",", "") -> Letter-sound instruction integrates the letter name and sound consistently. However explicit and systematic letter formation and letter writing could not be found. | G30: =IF(C30="Fully met", 1, IF(C30="Partially met",0.5, 0)) -> 0.5
A31: 6 | B31: the letter that represents the sound is explicitly modeled with multiple unambiguous examples before students practice and apply | C31: Fully met | F31: =SUBSTITUTE(SUBSTITUTE(D31, ",", ""), """", "") & " " & SUBSTITUTE(E31, ",", "") | G31: =IF(C31="Fully met", 1, IF(C31="Partially met",0.5, 0)) -> 1
A32: 7 | B32: letter-sound combinations are learned to automaticity through frequent and cumulative review | C32: Not met | D32: Evidence provided but does not address criteria., Letter-sounds are introduced but not reviewed along with the previously mastered letter sounds. | F32: =SUBSTITUTE(SUBSTITUTE(D32, ",", ""), """", "") & " " & SUBSTITUTE(E32, ",", "") -> Evidence provided but does not address criteria. Letter-sounds are introduced but not reviewed along with the previously mastered letter sounds. | G32: =IF(C32="Fully met", 1, IF(C32="Partially met",0.5, 0)) -> 0
A33: 8 | B33: phonics lessons include segmenting at the level of individual phonemes then matching graphemes to phonemes | C33: Fully met | F33: =SUBSTITUTE(SUBSTITUTE(D33, ",", ""), """", "") & " " & SUBSTITUTE(E33, ",", "") | G33: =IF(C33="Fully met", 1, IF(C33="Partially met",0.5, 0)) -> 1
A34: 9 | B34: easily confused letters, letter-sounds and words (those that look or sound similar) are not taught in close sequence but are separated in time | C34: Fully met | F34: =SUBSTITUTE(SUBSTITUTE(D34, ",", ""), """", "") & " " & SUBSTITUTE(E34, ",", "") | G34: =IF(C34="Fully met", 1, IF(C34="Partially met",0.5, 0)) -> 1
A35: 10 | B35: a few short vowel letter-sounds are taught early so students can blend VC and CVC patterns to read and write words | C35: Fully met | F35: =SUBSTITUTE(SUBSTITUTE(D35, ",", ""), """", "") & " " & SUBSTITUTE(E35, ",", "") | G35: =IF(C35="Fully met", 1, IF(C35="Partially met",0.5, 0)) -> 1
A36: 11 | B36: there is an explicit strategy for blending letter sounds into words | C36: Partially met | E36: While the Reading Routines Companion explains the routine for blending words with each newly introduced letter sound, there is not one explicit, overall strategy provided that is transferable across letter sounds. | F36: =SUBSTITUTE(SUBSTITUTE(D36, ",", ""), """", "") & " " & SUBSTITUTE(E36, ",", "") -> While the Reading Routines Companion explains the routine for blending words with each newly introduced letter sound there is not one explicit overall strategy provided that is transferable across letter sounds. | G36: =IF(C36="Fully met", 1, IF(C36="Partially met",0.5, 0)) -> 0.5
A37: 12 | B37: there are multiple opportunities to practice blending letter sounds for the purpose of reading and writing words | C37: Fully met | F37: =SUBSTITUTE(SUBSTITUTE(D37, ",", ""), """", "") & " " & SUBSTITUTE(E37, ",", "") | G37: =IF(C37="Fully met", 1, IF(C37="Partially met",0.5, 0)) -> 1
A38: 13 | B38: students are taught and practice how to build regular words for which they know all letter sounds | C38: Fully met | F38: =SUBSTITUTE(SUBSTITUTE(D38, ",", ""), """", "") & " " & SUBSTITUTE(E38, ",", "") | G38: =IF(C38="Fully met", 1, IF(C38="Partially met",0.5, 0)) -> 1
A39: 14 | B39: students practice to automaticity in word lists, phrases and controlled decodable texts that provide enough exposures to the learned words that they become sight words | C39: Partially met | D39: No or insufficient numbers of word and phrase lists are available for practice. | F39: =SUBSTITUTE(SUBSTITUTE(D39, ",", ""), """", "") & " " & SUBSTITUTE(E39, ",", "") -> No or insufficient numbers of word and phrase lists are available for practice. | G39: =IF(C39="Fully met", 1, IF(C39="Partially met",0.5, 0)) -> 0.5
A40: 15 | B40: regular word types are introduced first (e.g., VC, CVC, CV) | C40: Fully met | F40: =SUBSTITUTE(SUBSTITUTE(D40, ",", ""), """", "") & " " & SUBSTITUTE(E40, ",", "") | G40: =IF(C40="Fully met", 1, IF(C40="Partially met",0.5, 0)) -> 1
A41: 16 | B41: irregularities are pointed out in high utility words (i.e., have, I, said) while still focusing attention on the predictable letter-sound combinations | C41: Partially met | E41: In high frequency word instruction, students are asked to attend to letter sound combinations they know and identify irregular letter-sound combinations. However, students are also asked to identify irregular letter-sound combinations with words they have not been explicitly taught. | F41: =SUBSTITUTE(SUBSTITUTE(D41, ",", ""), """", "") & " " & SUBSTITUTE(E41, ",", "") -> In high frequency word instruction students are asked to attend to letter sound combinations they know and identify irregular letter-sound combinations. However students are also asked to identify irregular letter-sound combinations with words they have not been explicitly taught. | G41: =IF(C41="Fully met", 1, IF(C41="Partially met",0.5, 0)) -> 0.5
A42: 17 | B42: irregular, high-utility words are introduced and practiced to automaticity | C42: Partially met | D42: High-utility words are not practiced to automaticity. | F42: =SUBSTITUTE(SUBSTITUTE(D42, ",", ""), """", "") & " " & SUBSTITUTE(E42, ",", "") -> High-utility words are not practiced to automaticity. | G42: =IF(C42="Fully met", 1, IF(C42="Partially met",0.5, 0)) -> 0.5
A43: 18 | B43: the number of irregular words introduced in a lesson is minimized | C43: Fully met | F43: =SUBSTITUTE(SUBSTITUTE(D43, ",", ""), """", "") & " " & SUBSTITUTE(E43, ",", "") | G43: =IF(C43="Fully met", 1, IF(C43="Partially met",0.5, 0)) -> 1
A44: 19 | B44: words are taught and learned in isolation before practiced in text; words in texts used for independent reading are the ones that have been taught in prior phonics lessons | C44: Fully met | F44: =SUBSTITUTE(SUBSTITUTE(D44, ",", ""), """", "") & " " & SUBSTITUTE(E44, ",", "") | G44: =IF(C44="Fully met", 1, IF(C44="Partially met",0.5, 0)) -> 1
...

Sheet Phase 2 First Grade
A1: Core Program Review Rubric
A3: Phase 2: Required Instructional Practices for Teaching Essential Early Literacy Skills
A5: First Grade
B7: Section 1: Phonological and Phonemic Awareness
B8: In the core instructional program… | C8: Rating | D8: Stock Evidence/Feedback | E8: Other Evidence/Feedback | F8: Evidence/Feedback | G8: Score
A9: 1 | B9: there is a detailed scope and sequence of phonological and phonemic awareness skills that progress from easier to more difficult, culminating in advanced skills such as addition, deletion and substitution of phonemes | C9: Fully met | E9: Original Rating: Partially Met Original Comments: There is no clear progression of easier to harder skills. Appeal Rating: Fully Met | F9: =SUBSTITUTE(SUBSTITUTE(D9, ",", ""), """", "") & " " & SUBSTITUTE(E9, ",", "") -> Original Rating: Partially Met Original Comments: There is no clear progression of easier to harder skills. Appeal Rating: Fully Met | G9: =IF(C9="Fully met", 1, IF(C9="Partially met",0.5, 0)) -> 1
A10: 2 | B10: new skills are explicitly modeled using multiple unambiguous examples, where the new skill is introduced, defined and/or explained, a model or demonstration is provided, students are given opportunity to practice orally with immediate corrective feedback | C10: Fully met | F10: =SUBSTITUTE(SUBSTITUTE(D10, ",", ""), """", "") & " " & SUBSTITUTE(E10, ",", "") | G10: =IF(C10="Fully met", 1, IF(C10="Partially met",0.5, 0)) -> 1
A11: 3 | B11: movement and/or manipulatives are used to make sounds in words concrete to demonstrate and practice how sounds are connected to letters (e.g. phoneme-grapheme mapping) (working toward understanding of the alphabetic principle) | C11: Fully met | F11: =SUBSTITUTE(SUBSTITUTE(D11, ",", ""), """", "") & " " & SUBSTITUTE(E11, ",", "") | G11: =IF(C11="Fully met", 1, IF(C11="Partially met",0.5, 0)) -> 1
A12: 4 | B12: students analyze spoken words at the phoneme level, including segmenting individual phonemes | C12: Fully met | F12: =SUBSTITUTE(SUBSTITUTE(D12, ",", ""), """", "") & " " & SUBSTITUTE(E12, ",", "") | G12: =IF(C12="Fully met", 1, IF(C12="Partially met",0.5, 0)) -> 1
A13: 5 | B13: the order of attention to phonemes in three-sound words is first, last, middle sound | C13: Fully met | E13: Original Rating: Partially Met Original Comments: Evidence provided but does not address criteria. Evidence provided shows medial sounds being taught first. Appeal Rating: Fully Met | F13: =SUBSTITUTE(SUBSTITUTE(D13, ",", ""), """", "") & " " & SUBSTITUTE(E13, ",", "") -> Original Rating: Partially Met Original Comments: Evidence provided but does not address criteria. Evidence provided shows medial sounds being taught first. Appeal Rating: Fully Met | G13: =IF(C13="Fully met", 1, IF(C13="Partially met",0.5, 0)) -> 1
A14: 6 | B14: instructional time is focused on high priority skills such as isolating beginning sound, blending, segmenting and manipulating phonemes | C14: Fully met | F14: =SUBSTITUTE(SUBSTITUTE(D14, ",", ""), """", "") & " " & SUBSTITUTE(E14, ",", "") | G14: =IF(C14="Fully met", 1, IF(C14="Partially met",0.5, 0)) -> 1
A15: 7 | B15: students are taught to blend and segment sounds in three-, four-, and five-phoneme words | C15: Fully met | F15: =SUBSTITUTE(SUBSTITUTE(D15, ",", ""), """", "") & " " & SUBSTITUTE(E15, ",", "") | G15: =IF(C15="Fully met", 1, IF(C15="Partially met",0.5, 0)) -> 1
A16: 8 | B16: students are taught to pull apart the two phonemes in consonant blends when segmenting | C16: Fully met | F16: =SUBSTITUTE(SUBSTITUTE(D16, ",", ""), """", "") & " " & SUBSTITUTE(E16, ",", "") | G16: =IF(C16="Fully met", 1, IF(C16="Partially met",0.5, 0)) -> 1
A17: 9 | B17: students spend time practicing orally producing the sounds in spoken words, not just identifying the sounds or matching the sounds using objects or pictures | C17: Fully met | F17: =SUBSTITUTE(SUBSTITUTE(D17, ",", ""), """", "") & " " & SUBSTITUTE(E17, ",", "") | G17: =IF(C17="Fully met", 1, IF(C17="Partially met",0.5, 0)) -> 1
A18: 10 | B18: activities and materials are designed to elicit high levels of responding and engagement | C18: Fully met | F18: =SUBSTITUTE(SUBSTITUTE(D18, ",", ""), """", "") & " " & SUBSTITUTE(E18, ",", "") | G18: =IF(C18="Fully met", 1, IF(C18="Partially met",0.5, 0)) -> 1
A19: 11 | B19: differentiation of phonemic awareness instruction is linked to assessment data, with flexible grouping based on students’ needs and progress | C19: Fully met | F19: =SUBSTITUTE(SUBSTITUTE(D19, ",", ""), """", "") & " " & SUBSTITUTE(E19, ",", "") | G19: =IF(C19="Fully met", 1, IF(C19="Partially met",0.5, 0)) -> 1
D20: Score Summary | G20: =SUM(G9:G19) -> 11
G21: out of 11
B23: Section 2: Phonics and Word Study
B24: In the core instructional program… | C24: Rating | D24: Stock Evidence/Feedback | E24: Evidence/Feedback | F24: Evidence/Feedback | G24: Score
A25: 1 | B25: there is a detailed scope and sequence of phonics patterns that progresses from simple word types, lengths, and complexities to more complex words and syllable types | C25: Fully met | F25: =SUBSTITUTE(SUBSTITUTE(D25, ",", ""), """", "") & " " & SUBSTITUTE(E25, ",", "") | G25: =IF(C25="Fully met", 1, IF(C25="Partially met",0.5, 0)) -> 1
A26: 2 | B26: the phonics lesson format includes o brief cumulative review of previously taught skills, o a phonological warm up, o phoneme-grapheme matching, o word reading accuracy, o fluency building at the word, phrase, and eventually simple sentence level, o word dictation, o transfer to simple decodable text | C26: Partially met | E26: Original Rating: Partially Met Original Comments: Phonics lessons include some but not all of the elements. Phonics lessons do not include brief explicit cumulative review phrase reading and simple sentence reading. Appeal Rating: Partially Met Appeal Comments: Appeal response included examples; however, reviewers did not find sufficient evidence to change the original rating. Review included is not cumulative. | F26: =SUBSTITUTE(SUBSTITUTE(D26, ",", ""), """", "") & " " & SUBSTITUTE(E26, ",", "") -> Original Rating: Partially Met Original Comments: Phonics lessons include some but not all of the elements. Phonics lessons do not include brief explicit cumulative review phrase reading and simple sentence reading. Appeal Rating: Partially Met Appeal Comments: Appeal response included examples; however reviewers did not find sufficient evidence to change the original rating. Review included is not cumulative. | G26: =IF(C26="Fully met", 1, IF(C26="Partially met",0.5, 0)) -> 0.5
A27: 3 | B27: new skills are explicitly modeled using multiple unambiguous examples, where the new skill is introduced, defined and/or explained, a model or demonstration is provided, students are given opportunity to practice orally with immediate corrective feedback (e.g. an explicit step by step routine is utilized) | C27: Partially met | E27: Original Rating: Partially Met Original Comments: Introduction of new skills does not include all of the elements. Corrective feedback not immediately given; rather, after formative assessment, students are assigned to a small group for further instruction. Appeal Rating: Partially Met Appeal Comments: Appeal response included examples; however, reviewers did not find sufficient evidence to change the original rating. Specific corrective feedback prompting is only available in supplemental materials. Evidence not provided addressing concern that corrective feedback is consistently immediate and in the moment. | F27: =SUBSTITUTE(SUBSTITUTE(D27, ",", ""), """", "") & " " & SUBSTITUTE(E27, ",", "") -> Original Rating: Partially Met Original Comments: Introduction of new skills does not include all of the elements. Corrective feedback not immediately given; rather after formative assessment students are assigned to a small group for further instruction. Appeal Rating: Partially Met Appeal Comments: Appeal response included examples; however reviewers did not find sufficient evidence to change the original rating. Specific corrective feedback prompting is only available in supplemental materials. Evidence not provided addressing concern that corrective feedback is consistently immediate and in the moment. | G27: =IF(C27="Fully met", 1, IF(C27="Partially met",0.5, 0)) -> 0.5
A28: 4 | B28: there is an explicit strategy for blending letter sounds into words that is taught with multiple unambiguous examples | C28: Fully met | E28: Original Rating: Partially Met Original Comments: Evidence provided but does not address criteria. Program includes a routine for blending but not necessarily a transferable strategy. Appeal Rating: Fully Met | F28: =SUBSTITUTE(SUBSTITUTE(D28, ",", ""), """", "") & " " & SUBSTITUTE(E28, ",", "") -> Original Rating: Partially Met Original Comments: Evidence provided but does not address criteria. Program includes a routine for blending but not necessarily a transferable strategy. Appeal Rating: Fully Met | G28: =IF(C28="Fully met", 1, IF(C28="Partially met",0.5, 0)) -> 1
A29: 5 | B29: easily confused letters, letter-sounds and words (those that look or sound similar) are not taught in close sequence but are separated in time | C29: Fully met | F29: =SUBSTITUTE(SUBSTITUTE(D29, ",", ""), """", "") & " " & SUBSTITUTE(E29, ",", "") | G29: =IF(C29="Fully met", 1, IF(C29="Partially met",0.5, 0)) -> 1
A30: 6 | B30: there are multiple opportunities to blend and read words, and to use letter-sound correspondence to read and write words (e.g. phoneme–grapheme mapping) | C30: Fully met | E30: Original Rating: Partially Met Original Comments: There are limited opportunities for students to read words and inadequate tools (for instance, students are required to draw their own sound boxes) which will impact time for practice. Appeal Rating: Fully Met | F30: =SUBSTITUTE(SUBSTITUTE(D30, ",", ""), """", "") & " " & SUBSTITUTE(E30, ",", "") -> Original Rating: Partially Met Original Comments: There are limited opportunities for students to read words and inadequate tools (for instance students are required to draw their own sound boxes) which will impact time for practice. Appeal Rating: Fully Met | G30: =IF(C30="Fully met", 1, IF(C30="Partially met",0.5, 0)) -> 1
A31: 7 | B31: students are taught and practice how to build regular words for which they know all letter sounds | C31: Fully met | E31: Original Rating: Partially Met Original Comments: Evidence provided but does not address criteria. Evidence includes asking students to read words, not build words, and activities in which skills are not explicitly reviewed. Appeal Rating: Fully Met | F31: =SUBSTITUTE(SUBSTITUTE(D31, ",", ""), """", "") & " " & SUBSTITUTE(E31, ",", "") -> Original Rating: Partially Met Original Comments: Evidence provided but does not address criteria. Evidence includes asking students to read words not build words and activities in which skills are not explicitly reviewed. Appeal Rating: Fully Met | G31: =IF(C31="Fully met", 1, IF(C31="Partially met",0.5, 0)) -> 1
A32: 8 | B32: students practice to automaticity in word lists, phrases and controlled decodable text that provide enough exposures for the words to become sight words | C32: Partially met | E32: Original Rating: Partially Met Original Comments: No or insufficient numbers of word and phrase lists are available for practice. Appeal Rating: Partially Met Appeal Comments: Appeal response included examples; however, reviewers did not find sufficient evidence to change the original rating. Evidence does not show how word lists are practiced over time to automaticity. | F32: =SUBSTITUTE(SUBSTITUTE(D32, ",", ""), """", "") & " " & SUBSTITUTE(E32, ",", "") -> Original Rating: Partially Met Original Comments: No or insufficient numbers of word and phrase lists are available for practice. Appeal Rating: Partially Met Appeal Comments: Appeal response included examples; however reviewers did not find sufficient evidence to change the original rating. Evidence does not show how word lists are practiced over time to automaticity. | G32: =IF(C32="Fully met", 1, IF(C32="Partially met",0.5, 0)) -> 0.5
A33: 9 | B33: regular word types are introduced first (e.g., VC, CVC, CV) | C33: Fully met | F33: =SUBSTITUTE(SUBSTITUTE(D33, ",", ""), """", "") & " " & SUBSTITUTE(E33, ",", "") | G33: =IF(C33="Fully met", 1, IF(C33="Partially met",0.5, 0)) -> 1
A34: 10 | B34: irregular, high-utility words are introduced and practiced to automaticity | C34: Partially met | E34: Original Rating: Partially Met Original Comments: High-utility words are not practiced to automaticity. Appeal Rating: Partially Met Appeal Comments: Appeal response provided a narrative to explain; however, reviewers did not find sufficient evidence to change the original rating. | F34: =SUBSTITUTE(SUBSTITUTE(D34, ",", ""), """", "") & " " & SUBSTITUTE(E34, ",", "") -> Original Rating: Partially Met Original Comments: High-utility words are not practiced to automaticity. Appeal Rating: Partially Met Appeal Comments: Appeal response provided a narrative to explain; however reviewers did not find sufficient evidence to change the original rating. | G34: =IF(C34="Fully met", 1, IF(C34="Partially met",0.5, 0)) -> 0.5
A35: 11 | B35: irregularities are pointed out in high frequency words (e.g., have, I, said) while still focusing attention on the predictable letter-sound combinations | C35: Partially met | E35: Original Rating: Partially Met Original Comments: In high frequency word instruction, students are asked to attend to letter sound combinations they know and identify irregular letter-sound combinations. However, students are also asked to identify irregular letter-sound combinations with words they have not been explicitly taught. Appeal Rating: Partially Met Appeal Comments: In instruction, students are asked to discover high-frequency word irregularities instead of experiencing explicit instruction. | F35: =SUBSTITUTE(SUBSTITUTE(D35, ",", ""), """", "") & " " & SUBSTITUTE(E35, ",", "") -> Original Rating: Partially Met Original Comments: In high frequency word instruction students are asked to attend to letter sound combinations they know and identify irregular letter-sound combinations. However students are also asked to identify irregular letter-sound combinations with words they have not been explicitly taught. Appeal Rating: Partially Met Appeal Comments: In instruction students are asked to discover high-frequency word irregularities instead of experiencing explicit instruction. | G35: =IF(C35="Fully met", 1, IF(C35="Partially met",0.5, 0)) -> 0.5
A36: 12 | B36: the number of irregular words introduced in a lesson is minimized | C36: Fully met | F36: =SUBSTITUTE(SUBSTITUTE(D36, ",", ""), """", "") & " " & SUBSTITUTE(E36, ",", "") | G36: =IF(C36="Fully met", 1, IF(C36="Partially met",0.5, 0)) -> 1
A37: 13 | B37: words are taught and learned in isolation before practiced in text; words in texts used for independent reading are the ones that have been taught in prior phonics lessons | C37: Fully met | F37: =SUBSTITUTE(SUBSTITUTE(D37, ",", ""), """", "") & " " & SUBSTITUTE(E37, ",", "") | G37: =IF(C37="Fully met", 1, IF(C37="Partially met",0.5, 0)) -> 1
A38: 14 | B38: there is cumulative review of known letter-sound combinations and words | C38: Partially met | E38: Original Rating: Partially Met Original Comments: Letter-sounds and words that have been learned are not revisited or reviewed. Appeal Rating: Partially Met Appeal Comments: Materials for cumulative review are not explicit for teacher use. | F38: =SUBSTITUTE(SUBSTITUTE(D38, ",", ""), """", "") & " " & SUBSTITUTE(E38, ",", "") -> Original Rating: Partially Met Original Comments: Letter-sounds and words that have been learned are not revisited or reviewed. Appeal Rating: Partially Met Appeal Comments: Materials for cumulative review are not explicit for teacher use. | G38: =IF(C38="Fully met", 1, IF(C38="Partially met",0.5, 0)) -> 0.5
A39: 15 | B39: there are repeated opportunities to read words in context of the controlled decodable text that contain the phonic elements and irregular words students have learned previously | C39: Fully met | F39: =SUBSTITUTE(SUBSTITUTE(D39, ",", ""), """", "") & " " & SUBSTITUTE(E39, ",", "") | G39: =IF(C39="Fully met", 1, IF(C39="Partially met",0.5, 0)) -> 1
A40: 16 | B40: instruction in patterns and word families is done after letter-sound correspondences in the unit | C40: Fully met | E40: Original Rating: Partially Met Original Comments: Evidence provided but does not address criteria. Word families is not an explicit concept taught. Appeal Rating: Fully Met | F40: =SUBSTITUTE(SUBSTITUTE(D40, ",", ""), """", "") & " " & SUBSTITUTE(E40, ",", "") -> Original Rating: Partially Met Original Comments: Evidence provided but does not address criteria. Word families is not an explicit concept taught. Appeal Rating: Fully Met | G40: =IF(C40="Fully met", 1, IF(C40="Partially met",0.5, 0)) -> 1
A41: 17 | B41: activities and materials are designed to elicit high levels of responding and engagement | C41: Fully met | E41: Original Rating: Partially Met Original Comments: Most student participation appears to happen via reading and writing words in a workbook. Appeal Rating: Fully Met | F41: =SUBSTITUTE(SUBSTITUTE(D41, ",", ""), """", "") & " " & SUBSTITUTE(E41, ",", "") -> Original Rating: Partially Met Original Comments: Most student participation appears to happen via reading and writing words in a workbook. Appeal Rating: Fully Met | G41: =IF(C41="Fully met", 1, IF(C41="Partially met",0.5, 0)) -> 1
A42: 18 | B42: differentiation of phonics instruction is linked to assessment data, with flexible grouping based on students’ needs and progress | C42: Fully met | F42: =SUBSTITUTE(SUBSTITUTE(D42, ",", ""), """", "") & " " & SUBSTITUTE(E42, ",", "") | G42: =IF(C42="Fully met", 1, IF(C42="Partially met",0.5, 0)) -> 1
D43: Score Summary | G43: =SUM(G25:G42) -> 15
G44: out of 18
...

Sheet Phase 2 Second Grade
A1: Core Program Review Rubric
A3: Phase 2: Required Instructional Practices for Teaching Essential Early Literacy Skills
A5: Second Grade
B7: Section 1: Phonics and Word Study
B8: In the core instructional program… | C8: Rating | D8: Stock Evidence/Feedback | E8: Evidence/Feedback | F8: Evidence/Feedback | G8: Score
A9: 1 | B9: a detailed scope and sequence of phonics patterns moves from simple word types, lengths, and complexities to more complex words, syllable types, and multi-syllable words | C9: Fully met | F9: =SUBSTITUTE(SUBSTITUTE(D9, ",", ""), """", "") & " " & SUBSTITUTE(E9, ",", "") | G9: =IF(C9="Fully met", 1, IF(C9="Partially met",0.5, 0)) -> 1
A10: 2 | B10: the phonics lesson format includes o brief cumulative review of previously taught skills, o a phonological warm up, o phoneme-grapheme matching, o word reading accuracy, o fluency building at the word, phrase, and eventually simple sentence level, o word dictation, o transfer to simple decodable text | C10: Partially met | E10: Original Rating: Partially Met Original Comments: Evidence provided but does not address criteria. Phonics lessons include some but not all components. Appeal Rating: Partially Met Appeal Comments: Appeal response included examples; however, reviewers did not find sufficient evidence to change the original rating. Evidence did not include explicit cumulative review or a phonological warm-up. | F10: =SUBSTITUTE(SUBSTITUTE(D10, ",", ""), """", "") & " " & SUBSTITUTE(E10, ",", "") -> Original Rating: Partially Met Original Comments: Evidence provided but does not address criteria. Phonics lessons include some but not all components. Appeal Rating: Partially Met Appeal Comments: Appeal response included examples; however reviewers did not find sufficient evidence to change the original rating. Evidence did not include explicit cumulative review or a phonological warm-up. | G10: =IF(C10="Fully met", 1, IF(C10="Partially met",0.5, 0)) -> 0.5
A11: 3 | B11: new skills are explicitly modeled using multiple unambiguous examples, where the new skill is introduced, defined and/or explained, a model or demonstration is provided, students are given opportunity to practice orally with immediate corrective feedback | C11: Partially met | D11: Introduction of new skills does not include the above elements. | E11: Original Rating: Partially Met Original Comments: Introduction of new skills does not include the above elements. Appeal Rating: Partially Met Appeal Comments: Appeal response included examples; however, reviewers did not find sufficient evidence to change the original rating. | F11: =SUBSTITUTE(SUBSTITUTE(D11, ",", ""), """", "") & " " & SUBSTITUTE(E11, ",", "") -> Introduction of new skills does not include the above elements. Original Rating: Partially Met Original Comments: Introduction of new skills does not include the above elements. Appeal Rating: Partially Met Appeal Comments: Appeal response included examples; however reviewers did not find sufficient evidence to change the original rating. | G11: =IF(C11="Fully met", 1, IF(C11="Partially met",0.5, 0)) -> 0.5
A12: 4 | B12: phonics lessons include step by step routines to teach new advanced phonics patterns | C12: Fully met | E12: Original Rating: Partially Met Original Comments: Evidence provided but does not address criteria. Program includes a routine for blending but not necessarily a transferable strategy. Appeal Rating: Fully Met | F12: =SUBSTITUTE(SUBSTITUTE(D12, ",", ""), """", "") & " " & SUBSTITUTE(E12, ",", "") -> Original Rating: Partially Met Original Comments: Evidence provided but does not address criteria. Program includes a routine for blending but not necessarily a transferable strategy. Appeal Rating: Fully Met | G12: =IF(C12="Fully met", 1, IF(C12="Partially met",0.5, 0)) -> 1
A13: 5 | B13: students practice to automaticity the full continuum of the phonological and phonemic awareness skills from early (rhyming and onset-rime) to basic (segmenting and blending) to advanced (sound manipulation and deletion) that were previously learned in kindergarten and first grade | C13: Fully met | F13: =SUBSTITUTE(SUBSTITUTE(D13, ",", ""), """", "") & " " & SUBSTITUTE(E13, ",", "") | G13: =IF(C13="Fully met", 1, IF(C13="Partially met",0.5, 0)) -> 1
A14: 6 | B14: multi-syllable words are explicitly taught using prefixes, suffixes, syllable types and known word parts to aid in word recognition | C14: Fully met | F14: =SUBSTITUTE(SUBSTITUTE(D14, ",", ""), """", "") & " " & SUBSTITUTE(E14, ",", "") | G14: =IF(C14="Fully met", 1, IF(C14="Partially met",0.5, 0)) -> 1
A15: 7 | B15: larger, high-utility patterns (e.g., -ight, -ing) are taught explicitly and practiced to automaticity to increase fluency of word recognition | C15: Fully met | E15: Original Rating: Partially Met Original Comments: Evidence provided but does not address criteria. High-utility words are introduced incidentally as they appear in text and/or not practiced to automaticity. Appeal Rating: Fully Met | F15: =SUBSTITUTE(SUBSTITUTE(D15, ",", ""), """", "") & " " & SUBSTITUTE(E15, ",", "") -> Original Rating: Partially Met Original Comments: Evidence provided but does not address criteria. High-utility words are introduced incidentally as they appear in text and/or not practiced to automaticity. Appeal Rating: Fully Met | G15: =IF(C15="Fully met", 1, IF(C15="Partially met",0.5, 0)) -> 1
A16: 8 | B16: high-utility words are introduced and practiced to automaticity | C16: Partially met | E16: Original Rating: Partially Met Original Comments: High-utility words are introduced incidentally as they appear in text and/or not practiced to automaticity. Appeal Rating: Partially Met Appeal Comments: Appeal response included examples; however, reviewers did not find sufficient evidence to change the original rating. | F16: =SUBSTITUTE(SUBSTITUTE(D16, ",", ""), """", "") & " " & SUBSTITUTE(E16, ",", "") -> Original Rating: Partially Met Original Comments: High-utility words are introduced incidentally as they appear in text and/or not practiced to automaticity. Appeal Rating: Partially Met Appeal Comments: Appeal response included examples; however reviewers did not find sufficient evidence to change the original rating. | G16: =IF(C16="Fully met", 1, IF(C16="Partially met",0.5, 0)) -> 0.5
A17: 9 | B17: phonics patterns and high-utility words are taught and learned in isolation before introduced in text that students read independently | C17: Fully met | F17: =SUBSTITUTE(SUBSTITUTE(D17, ",", ""), """", "") & " " & SUBSTITUTE(E17, ",", "") | G17: =IF(C17="Fully met", 1, IF(C17="Partially met",0.5, 0)) -> 1
A18: 10 | B18: text for independent reading doesn’t contain words that have phonics patterns that haven’t been taught in prior phonics lessons | C18: Fully met | F18: =SUBSTITUTE(SUBSTITUTE(D18, ",", ""), """", "") & " " & SUBSTITUTE(E18, ",", "") | G18: =IF(C18="Fully met", 1, IF(C18="Partially met",0.5, 0)) -> 1
A19: 11 | B19: the number of irregular words introduced in a lesson is minimized | C19: Fully met | F19: =SUBSTITUTE(SUBSTITUTE(D19, ",", ""), """", "") & " " & SUBSTITUTE(E19, ",", "") | G19: =IF(C19="Fully met", 1, IF(C19="Partially met",0.5, 0)) -> 1
A20: 12 | B20: instruction of similar, easily-confused letter patterns are separated in time | C20: Fully met | F20: =SUBSTITUTE(SUBSTITUTE(D20, ",", ""), """", "") & " " & SUBSTITUTE(E20, ",", "") | G20: =IF(C20="Fully met", 1, IF(C20="Partially met",0.5, 0)) -> 1
A21: 13 | B21: there are multiple opportunities to read the previously learned regular and irregular words in the context of controlled text (also known as decodable text) | C21: Fully met | F21: =SUBSTITUTE(SUBSTITUTE(D21, ",", ""), """", "") & " " & SUBSTITUTE(E21, ",", "") | G21: =IF(C21="Fully met", 1, IF(C21="Partially met",0.5, 0)) -> 1
A22: 14 | B22: instruction in irregular, high-utility words focuses on predictable letter-sound combinations and irregularities | C22: Fully met | E22: Original Rating: Partially Met Original Comments: Evidence provided but does not address criteria Appeal Rating: Fully Met | F22: =SUBSTITUTE(SUBSTITUTE(D22, ",", ""), """", "") & " " & SUBSTITUTE(E22, ",", "") -> Original Rating: Partially Met Original Comments: Evidence provided but does not address criteria Appeal Rating: Fully Met | G22: =IF(C22="Fully met", 1, IF(C22="Partially met",0.5, 0)) -> 1
A23: 15 | B23: regular and irregular words are cumulatively reviewed | C23: Partially met | E23: Original Rating: Partially Met Original Comments: Words that have been learned are not revisited or reviewed Appeal Rating: Partially met Appeal Comments: Appeal response included examples; however, reviewers did not find sufficient evidence to change the original rating. | F23: =SUBSTITUTE(SUBSTITUTE(D23, ",", ""), """", "") & " " & SUBSTITUTE(E23, ",", "") -> Original Rating: Partially Met Original Comments: Words that have been learned are not revisited or reviewed Appeal Rating: Partially met Appeal Comments: Appeal response included examples; however reviewers did not find sufficient evidence to change the original rating. | G23: =IF(C23="Fully met", 1, IF(C23="Partially met",0.5, 0)) -> 0.5
A24: 16 | B24: spelling is integrated with the phonics instruction | C24: Fully met | E24: Original Rating: Partially Met Original Comments: Evidence provided but does not address criteria. Appeal Rating: Fully Met | F24: =SUBSTITUTE(SUBSTITUTE(D24, ",", ""), """", "") & " " & SUBSTITUTE(E24, ",", "") -> Original Rating: Partially Met Original Comments: Evidence provided but does not address criteria. Appeal Rating: Fully Met | G24: =IF(C24="Fully met", 1, IF(C24="Partially met",0.5, 0)) -> 1
A25: 17 | B25: activities and materials are designed to elicit high levels of responding and engagement | C25: Fully met | E25: Original Rating: Partially Met Original Comments: Evidence provided but does not address criteria. Appeal Rating: Fully Met | F25: =SUBSTITUTE(SUBSTITUTE(D25, ",", ""), """", "") & " " & SUBSTITUTE(E25, ",", "") -> Original Rating: Partially Met Original Comments: Evidence provided but does not address criteria. Appeal Rating: Fully Met | G25: =IF(C25="Fully met", 1, IF(C25="Partially met",0.5, 0)) -> 1
A26: 18 | B26: differentiation of phonics instruction is linked to assessment data, with flexible grouping based on students’ needs and progress | C26: Fully met | F26: =SUBSTITUTE(SUBSTITUTE(D26, ",", ""), """", "") & " " & SUBSTITUTE(E26, ",", "") | G26: =IF(C26="Fully met", 1, IF(C26="Partially met",0.5, 0)) -> 1
D27: Score Summary | G27: =SUM(G9:G26) -> 16
G28: out of 18
B30: Section 2: Vocabulary
B31: In the core instructional program… | C31: Rating | D31: Stock Evidence/Feedback | E31: Other Evidence/Feedback | F31: Evidence/Feedback | G31: Score
A32: 1 | B32: words selected for instruction are rich, high-utility words that will appear in conversation and literature, those that must be learned to understand a concept or text, and words from content area instruction | C32: Partially met | E32: Original Rating: Partially Met Original Comments: Evidence provided but does not address criteria. The words included as evidence are "backyard," "treehouse," "searchlights," and "daylight." While these are all compound words that may be useful in teaching that specific vocabulary skill, evidence does not indicate consistent high-quality words. Words throughout the scope and sequence are inconsistent in quality and sometimes include Tier 1 vocabulary words, like "place." Appeal Rating: Partially Met Appeal Comments: Appeal response included examples; however, reviewers did not find sufficient evidence to change the original rating. | F32: =SUBSTITUTE(SUBSTITUTE(D32, ",", ""), """", "") & " " & SUBSTITUTE(E32, ",", "") -> Original Rating: Partially Met Original Comments: Evidence provided but does not address criteria. The words included as evidence are "backyard" "treehouse" "searchlights" and "daylight." While these are all compound words that may be useful in teaching that specific vocabulary skill evidence does not indicate consistent high-quality words. Words throughout the scope and sequence are inconsistent in quality and sometimes include Tier 1 vocabulary words like "place." Appeal Rating: Partially Met Appeal Comments: Appeal response included examples; however reviewers did not find sufficient evidence to change the original rating. | G32: =IF(C32="Fully met", 1, IF(C32="Partially met",0.5, 0)) -> 0.5
A33: 2 | B33: new words are explicitly modeled using student-friendly definitions, multiple unambiguous examples and non-examples, and students are given opportunity to practice using the words with immediate corrective feedback | C33: Partially met | E33: Original Rating: Partially Met Original Comments: In evidence provided, students are asked to remind themselves of the word's meaning, not explicitly taught. Students have the opportunity to practice with vocabulary words in their workbook in the evidence provided and are not provided immediate corrective feedback; rather teachers are encouraged to assign students to a skill group. In the small group evidence, teachers model thinking aloud the meaning of a compound word by identifying the meaning of both words together. Appeal Rating: Partially Met Appeal Comments: Appeal response included examples; however, reviewers did not find sufficient evidence to change the original rating. | F33: =SUBSTITUTE(SUBSTITUTE(D33, ",", ""), """", "") & " " & SUBSTITUTE(E33, ",", "") -> Original Rating: Partially Met Original Comments: In evidence provided students are asked to remind themselves of the word's meaning not explicitly taught. Students have the opportunity to practice with vocabulary words in their workbook in the evidence provided and are not provided immediate corrective feedback; rather teachers are encouraged to assign students to a skill group. In the small group evidence teachers model thinking aloud the meaning of a compound word by identifying the meaning of both words together. Appeal Rating: Partially Met Appeal Comments: Appeal response included examples; however reviewers did not find sufficient evidence to change the original rating. | G33: =IF(C33="Fully met", 1, IF(C33="Partially met",0.5, 0)) -> 0.5
A34: 3 | B34: words that have been taught are repeated multiple times in a variety of contexts | C34: Fully met | E34: Original Rating: Partially Met Original Comments: Evidence provided includes practice of previously taught words in one example. In other examples, the evidence provided includes context clue mini-lessons for previously untaught words. Appeal Rating: Fully Met | F34: =SUBSTITUTE(SUBSTITUTE(D34, ",", ""), """", "") & " " & SUBSTITUTE(E34, ",", "") -> Original Rating: Partially Met Original Comments: Evidence provided includes practice of previously taught words in one example. In other examples the evidence provided includes context clue mini-lessons for previously untaught words. Appeal Rating: Fully Met | G34: =IF(C34="Fully met", 1, IF(C34="Partially met",0.5, 0)) -> 1
