Workbook
Name Print_Area_MI: 'Enroll Trends'!$A$5:$O$53

Sheet Enroll Trends
C1: =VLOOKUP($L$1,'2022'!$A$4:$S$506,1,FALSE) -> 4287 | M1: Enter District # in Cell L1
F3: ENROLLMENT TRENDS
C5: Actual | D5: Actual | E5: Actual | F5: Actual | G5: Actual | H5: Estimate | I5: Estimate | J5: Estimate
B6: Grade | C6: 2021 | D6: 2022 | E6: 2023 | F6: 2024 | G6: 2025 | H6: 2026 | I6: 2027 | J6: 2028
B8: EC (+PK -2024) | C8: =VLOOKUP($L$1,'2021'!$A$4:$S$550,3,FALSE) -> 0 | D8: =VLOOKUP($L$1,'2022'!$A$4:$S$550,3,FALSE) -> 0 | E8: =VLOOKUP($L$1,'2023'!$A$4:$S$550,3,FALSE) -> 0 | F8: =VLOOKUP($L$1,'2024'!$A$4:$S$550,3,FALSE) -> 0 | G8: =VLOOKUP($L$1,'2025'!$A$4:$T$550,3,FALSE) -> 0
B9: Ktgn Hdcp | C9: =VLOOKUP($L$1,'2021'!$A$4:$S$550,4,FALSE) -> 0 | D9: =VLOOKUP($L$1,'2022'!$A$4:$S$550,4,FALSE) -> 0 | E9: =VLOOKUP($L$1,'2023'!$A$4:$S$550,4,FALSE) -> 0 | F9: =VLOOKUP($L$1,'2024'!$A$4:$S$550,4,FALSE) -> 0 | G9: =VLOOKUP($L$1,'2025'!$A$4:$T$550,5,FALSE) -> 0
B10: Ktgn Full Day | C10: =VLOOKUP($L$1,'2021'!$A$4:$S$550,7,FALSE) -> 0 | D10: =VLOOKUP($L$1,'2022'!$A$4:$S$550,7,FALSE) -> 0 | E10: =VLOOKUP($L$1,'2023'!$A$4:$S$550,7,FALSE) -> 0 | F10: =VLOOKUP($L$1,'2024'!$A$4:$S$550,5,FALSE) -> 0 | G10: =VLOOKUP($L$1,'2025'!$A$4:$T$550,6,FALSE) -> 0
B11: Ktgn Half Day | C11: =VLOOKUP($L$1,'2021'!$A$4:$S$550,6,FALSE) -> 0 | D11: =VLOOKUP($L$1,'2022'!$A$4:$S$550,6,FALSE) -> 0 | E11: =VLOOKUP($L$1,'2023'!$A$4:$S$550,6,FALSE) -> 0 | F11: =VLOOKUP($L$1,'2024'!$A$4:$R$550,6,FALSE) -> 0 | G11: =VLOOKUP($L$1,'2025'!$A$4:$T$550,7,FALSE) -> 0
B12: Preschool (2025) | C12: 0 | D12: 0 | E12: 0 | F12: 0 | G12: =VLOOKUP($L$1,'2025'!$A$4:$T$550,4,FALSE) -> 0
B13: Elementary | C13: =VLOOKUP($L$1,'2021'!$A$4:$S$550,8,FALSE)+VLOOKUP($L$1,'2021'!$A$4:$S$550,9,FALSE)+VLOOKUP($L$1,'2021'!$A$4:$S$550,10,FALSE)+VLOOKUP($L$1,'2021'!$A$4:$S$550,11,FALSE)+VLOOKUP($L$1,'2021'!$A$4:$S$550,12,FALSE)+VLOOKUP($L$1,'2021'!$A$4:$S$550,13,FALSE) -> 0 | D13: =VLOOKUP($L$1,'2022'!$A$4:$S$550,8,FALSE)+VLOOKUP($L$1,'2022'!$A$4:$S$550,9,FALSE)+VLOOKUP($L$1,'2022'!$A$4:$S$550,10,FALSE)+VLOOKUP($L$1,'2022'!$A$4:$S$550,11,FALSE)+VLOOKUP($L$1,'2022'!$A$4:$S$550,12,FALSE)+VLOOKUP($L$1,'2022'!$A$4:$S$550,13,FALSE) -> 0 | E13: =VLOOKUP($L$1,'2023'!$A$4:$S$550,8,FALSE)+VLOOKUP($L$1,'2023'!$A$4:$S$550,9,FALSE)+VLOOKUP($L$1,'2023'!$A$4:$S$550,10,FALSE)+VLOOKUP($L$1,'2023'!$A$4:$S$550,11,FALSE)+VLOOKUP($L$1,'2023'!$A$4:$S$550,12,FALSE)+VLOOKUP($L$1,'2023'!$A$4:$S$550,13,FALSE) -> 0 | F13: =VLOOKUP($L$1,'2024'!$A$4:$S$550,8,FALSE)+VLOOKUP($L$1,'2024'!$A$4:$S$550,9,FALSE)+VLOOKUP($L$1,'2024'!$A$4:$S$550,10,FALSE)+VLOOKUP($L$1,'2024'!$A$4:$S$550,11,FALSE)+VLOOKUP($L$1,'2024'!$A$4:$S$550,12,FALSE)+VLOOKUP($L$1,'2024'!$A$4:$S$550,13,FALSE) -> 0 | G13: =VLOOKUP($L$1,'2025'!$A$4:$T$550,9,FALSE)+VLOOKUP($L$1,'2025'!$A$4:$T$550,10,FALSE)+VLOOKUP($L$1,'2025'!$A$4:$T$550,11,FALSE)+VLOOKUP($L$1,'2025'!$A$4:$T$550,12,FALSE)+VLOOKUP($L$1,'2025'!$A$4:$T$550,13,FALSE)+VLOOKUP($L$1,'2025'!$A$4:$T$550,14,FALSE) -> 0
B14: Secondary | C14: =VLOOKUP($L$1,'2021'!$A$4:$S$550,14,FALSE)+VLOOKUP($L$1,'2021'!$A$4:$S$550,15,FALSE)+VLOOKUP($L$1,'2021'!$A$4:$S$550,16,FALSE)+VLOOKUP($L$1,'2021'!$A$4:$S$550,17,FALSE)+VLOOKUP($L$1,'2021'!$A$4:$S$550,18,FALSE)+VLOOKUP($L$1,'2021'!$A$4:$S$550,19,FALSE) -> 0 | D14: =VLOOKUP($L$1,'2022'!$A$4:$S$550,14,FALSE)+VLOOKUP($L$1,'2022'!$A$4:$S$550,15,FALSE)+VLOOKUP($L$1,'2022'!$A$4:$S$550,16,FALSE)+VLOOKUP($L$1,'2022'!$A$4:$S$550,17,FALSE)+VLOOKUP($L$1,'2022'!$A$4:$S$550,18,FALSE)+VLOOKUP($L$1,'2022'!$A$4:$S$550,19,FALSE) -> 0 | E14: =VLOOKUP($L$1,'2023'!$A$4:$S$550,14,FALSE)+VLOOKUP($L$1,'2023'!$A$4:$S$550,15,FALSE)+VLOOKUP($L$1,'2023'!$A$4:$S$550,16,FALSE)+VLOOKUP($L$1,'2023'!$A$4:$S$550,17,FALSE)+VLOOKUP($L$1,'2023'!$A$4:$S$550,18,FALSE)+VLOOKUP($L$1,'2023'!$A$4:$S$550,19,FALSE) -> 0 | F14: =VLOOKUP($L$1,'2024'!$A$4:$S$550,14,FALSE)+VLOOKUP($L$1,'2024'!$A$4:$S$550,15,FALSE)+VLOOKUP($L$1,'2024'!$A$4:$S$550,16,FALSE)+VLOOKUP($L$1,'2024'!$A$4:$S$550,17,FALSE)+VLOOKUP($L$1,'2024'!$A$4:$S$550,18,FALSE)+VLOOKUP($L$1,'2024'!$A$4:$S$550,19,FALSE) -> 0 | G14: =VLOOKUP($L$1,'2025'!$A$4:$T$550,15,FALSE)+VLOOKUP($L$1,'2025'!$A$4:$T$550,16,FALSE)+VLOOKUP($L$1,'2025'!$A$4:$T$550,17,FALSE)+VLOOKUP($L$1,'2025'!$A$4:$T$550,18,FALSE)+VLOOKUP($L$1,'2025'!$A$4:$T$550,19,FALSE)+VLOOKUP($L$1,'2025'!$A$4:$T$550,20,FALSE) -> 0
B16: Total Enrollment | C16: =SUM(C8:C14) -> 0 | D16: =SUM(D8:D14) -> 0 | E16: =SUM(E8:E14) -> 0 | F16: =SUM(F8:F14) -> 0 | G16: =SUM(G8:G14) -> 0 | H16: =SUM(H8:H14) -> 0 | I16: =SUM(I8:I14) -> 0 | J16: =SUM(J8:J14) -> 0

Sheet 2025
A1: FY 25 End of Year Final Adjusted ADM by grade for each District and Charter
A2: District No: | B2: District Type: | C2: EC | D2: PK | E2: HK | F2: K-Full | G2: K-Half | H2: K-L | I2: 1 | J2: 2 | K2: 3 | L2: 4 | M2: 5 | N2: 6 | O2: 7 | P2: 8 | Q2: 9 | R2: 10 | S2: 11 | T2: 12 | U2: Total
A3: 1 | B3: 1 | C3: 6.2 | D3: 24.62 | F3: 58.5 | G3: 0 | I3: 51.43 | J3: 80.16 | K3: 57.05 | L3: 65.09 | M3: 53.29 | N3: 61.88 | O3: 90.55 | P3: 71.39 | Q3: 79.98 | R3: 85.08 | S3: 93.61 | T3: 90.77 | U3: =SUM(C3:T3) -> 969.6
A4: 1 | B4: 3 | C4: 463.91 | D4: 332.45 | F4: 2466.68 | G4: 0 | I4: 2359.82 | J4: 2419.81 | K4: 2415.8 | L4: 2255.7 | M4: 2274.1 | N4: 1906.19 | O4: 1877.09 | P4: 1877.96 | Q4: 2068.92 | R4: 2100.16 | S4: 2064.91 | T4: 2226.03 | U4: =SUM(C4:T4) -> 29109.53
A5: 2 | B5: 1 | C5: 5.49 | D5: 7.78 | F5: 19.11 | G5: 0 | I5: 24.55 | J5: 17.25 | K5: 16.66 | L5: 13.46 | M5: 25.5 | N5: 17 | O5: 23.51 | P5: 16.7 | Q5: 17.31 | R5: 18.42 | S5: 16.48 | T5: 16.07 | U5: =SUM(C5:T5) -> 255.29
A6: 4 | B6: 1 | C6: 7.15 | D6: 14.78 | F6: 23.8 | G6: 0 | I6: 31.11 | J6: 19.46 | K6: 24.89 | L6: 21.5 | M6: 36.95 | N6: 33.68 | O6: 26.11 | P6: 23.2 | Q6: 39.49 | R6: 33.85 | S6: 30.48 | T6: 36.53 | U6: =SUM(C6:T6) -> 402.98
A7: 6 | B7: 3 | C7: 51.6 | D7: 85.05 | F7: 210.43 | G7: 0 | I7: 166.97 | J7: 190.17 | K7: 185.88 | L7: 199.07 | M7: 204.83 | N7: 188.23 | O7: 182.48 | P7: 175.01 | Q7: 230.8 | R7: 232.67 | S7: 220.03 | T7: 281.26 | U7: =SUM(C7:T7) -> 2804.48
A8: 11 | B8: 1 | C8: 625.43 | D8: 74.88 | F8: 2397.22 | G8: 0 | I8: 2505.44 | J8: 2577.16 | K8: 2761.25 | L8: 2688.86 | M8: 2761.15 | N8: 2894.43 | O8: 2758.39 | P8: 2807.32 | Q8: 3096.39 | R8: 3169.69 | S8: 3048.54 | T8: 3231.91 | U8: =SUM(C8:T8) -> 37398.06
A9: 12 | B9: 1 | C9: 51.72 | D9: 4.79 | F9: 472.44 | G9: 0 | I9: 453.15 | J9: 461.73 | K9: 511.62 | L9: 474.44 | M9: 534.15 | N9: 523.58 | O9: 542.1 | P9: 536.19 | Q9: 522.88 | R9: 534.88 | S9: 504.38 | T9: 499.28 | U9: =SUM(C9:T9) -> 6627.33
A10: 13 | B10: 1 | C10: 61.82 | D10: 77.34 | F10: 225.67 | G10: 0 | I10: 219.47 | J10: 244.13 | K10: 236.85 | L10: 217.97 | M10: 245 | N10: 233.95 | O10: 249.94 | P10: 259.84 | Q10: 316.63 | R10: 270.44 | S10: 343.22 | T10: 408.5 | U10: =SUM(C10:T10) -> 3610.77
A11: 14 | B11: 1 | C11: 27.07 | D11: 75.89 | F11: 183.18 | G11: 0 | I11: 190.7 | J11: 188.03 | K11: 171.94 | L11: 185.29 | M11: 176.23 | N11: 187.17 | O11: 180.26 | P11: 194.81 | Q11: 216.52 | R11: 240.33 | S11: 215.01 | T11: 207.31 | U11: =SUM(C11:T11) -> 2639.74
A12: 15 | B12: 1 | C12: 50.95 | D12: 28.68 | F12: 277.66 | G12: 0 | I12: 265.95 | J12: 297.86 | K12: 329.61 | L12: 282.83 | M12: 336.44 | N12: 300.69 | O12: 324.91 | P12: 345.17 | Q12: 314.3 | R12: 323.99 | S12: 306.24 | T12: 319.99 | U12: =SUM(C12:T12) -> 4105.27
A13: 16 | B13: 1 | C13: 52.07 | D13: 39.62 | F13: 427.07 | G13: 0 | I13: 424.86 | J13: 467.42 | K13: 465.38 | L13: 426.91 | M13: 430.98 | N13: 429.99 | O13: 407.3 | P13: 432.56 | Q13: 493.38 | R13: 489.39 | S13: 510.57 | T13: 436.3 | U13: =SUM(C13:T13) -> 5933.8
A14: 22 | B14: 1 | C14: 34.2 | D14: 11.27 | F14: 173.85 | G14: 0 | I14: 187.24 | J14: 182.5 | K14: 191.13 | L14: 195.19 | M14: 192.33 | N14: 212.1 | O14: 200.16 | P14: 208.55 | Q14: 212.18 | R14: 210.53 | S14: 203.22 | T14: 256.72 | U14: =SUM(C14:T14) -> 2671.17
... A506: 4302 | B506: 7 | C506: 0 | D506: 0 | F506: 16.43 | G506: 0 | I506: 16.17 | J506: 8.34 | K506: 9.17 | L506: 9.72 | M506: 11.02 | N506: 6 | O506: 0 | P506: 0 | Q506: 0 | R506: 0 | S506: 0 | T506: 0 | U506: =SUM(C506:T506) -> 76.85

Sheet 2024
A1: FY 24 End of Year Final Adjusted ADM by grade for each District and Charter
A2: District No: | B2: District Type: | C2: EC/PK | D2: HK | E2: K-Full | F2: K-Half | G2: K-L | H2: 1 | I2: 2 | J2: 3 | K2: 4 | L2: 5 | M2: 6 | N2: 7 | O2: 8 | P2: 9 | Q2: 10 | R2: 11 | S2: 12 | T2: Total
A3: 1 | B3: 1 | C3: 7.4 | D3: 0 | E3: 55.61 | F3: 0 | G3: 0 | H3: 75.34 | I3: 52.3 | J3: 65.63 | K3: 56.21 | L3: 61.94 | M3: 87.86 | N3: 75.84 | O3: 83.93 | P3: 83.41 | Q3: 101.09 | R3: 91.39 | S3: 85.25 | T3: =SUM(C3:S3) -> 983.2
A4: 1 | B4: 3 | C4: 779.23 | D4: 0 | E4: 2314.92 | F4: 0.18 | G4: 0 | H4: 2414.96 | I4: 2454.03 | J4: 2227.55 | K4: 2264.87 | L4: 2129.15 | M4: 1880.26 | N4: 1855.66 | O4: 1859.07 | P4: 2097.58 | Q4: 2178.74 | R4: 2025.98 | S4: 2275.96 | T4: =SUM(C4:S4) -> 28758.14
A5: 2 | B5: 1 | C5: 11.22 | D5: 0 | E5: 19.61 | F5: 0 | G5: 0 | H5: 14.97 | I5: 14.71 | J5: 10.72 | K5: 23.96 | L5: 13.71 | M5: 21.14 | N5: 15.53 | O5: 16.15 | P5: 18.67 | Q5: 16.44 | R5: 18.93 | S5: 17.28 | T5: =SUM(C5:S5) -> 233.04
A6: 4 | B6: 1 | C6: 10.75 | D6: 0 | E6: 37.13 | F6: 0 | G6: 0 | H6: 22.04 | I6: 24.03 | J6: 21.84 | K6: 35.75 | L6: 30.86 | M6: 23.63 | N6: 22.78 | O6: 43.44 | P6: 37.09 | Q6: 37.01 | R6: 39.36 | S6: 26.76 | T6: =SUM(C6:S6) -> 412.47
A7: 6 | B7: 3 | C7: 132.12 | D7: 0 | E7: 165.11 | F7: 0 | G7: 0 | H7: 181.87 | I7: 181.57 | J7: 202.17 | K7: 207.96 | L7: 210.14 | M7: 183.57 | N7: 169.36 | O7: 237.1 | P7: 225.66 | Q7: 224.48 | R7: 240.77 | S7: 256.4 | T7: =SUM(C7:S7) -> 2818.28
A8: 11 | B8: 1 | C8: 639.17 | D8: 0 | E8: 2457.17 | F8: 0 | G8: 0 | H8: 2558.51 | I8: 2716.76 | J8: 2637.72 | K8: 2742.3 | L8: 2801.89 | M8: 2703.25 | N8: 2772.01 | O8: 2881.54 | P8: 3162.85 | Q8: 3205.22 | R8: 3148.91 | S8: 3197.95 | T8: =SUM(C8:S8) -> 37625.25
A9: 12 | B9: 1 | C9: 73.26 | D9: 0 | E9: 440.64 | F9: 0 | G9: 0 | H9: 462.45 | I9: 504.35 | J9: 465.09 | K9: 531.28 | L9: 500.09 | M9: 538.92 | N9: 519.94 | O9: 496.83 | P9: 532.89 | Q9: 520.77 | R9: 480.18 | S9: 411.74 | T9: =SUM(C9:S9) -> 6478.43
A10: 13 | B10: 1 | C10: 142.99 | D10: 0 | E10: 224.39 | F10: 0 | G10: 0 | H10: 258.71 | I10: 233.49 | J10: 216.38 | K10: 247.51 | L10: 215.01 | M10: 243.25 | N10: 256.07 | O10: 253.68 | P10: 277.49 | Q10: 329.66 | R10: 329.91 | S10: 373.45 | T10: =SUM(C10:S10) -> 3601.99
A11: 14 | B11: 1 | C11: 103.01 | D11: 0 | E11: 196.39 | F11: 0 | G11: 0 | H11: 179.73 | I11: 173.14 | J11: 172.53 | K11: 181.03 | L11: 163.35 | M11: 164.29 | N11: 180.84 | O11: 175.44 | P11: 229.8 | Q11: 233.78 | R11: 237.96 | S11: 193.52 | T11: =SUM(C11:S11) -> 2584.81
A12: 15 | B12: 1 | C12: 49.57 | D12: 0 | E12: 263.15 | F12: 0 | G12: 0 | H12: 291.13 | I12: 326.15 | J12: 287.46 | K12: 323.45 | L12: 302.97 | M12: 325.84 | N12: 337.63 | O12: 318.45 | P12: 320.61 | Q12: 338.84 | R12: 316.01 | S12: 305.49 | T12: =SUM(C12:S12) -> 4106.75
A13: 16 | B13: 1 | C13: 74.27 | D13: 0 | E13: 411.56 | F13: 0 | G13: 0 | H13: 466.19 | I13: 456.45 | J13: 448.42 | K13: 451.88 | L13: 425.11 | M13: 412.34 | N13: 436.21 | O13: 452.98 | P13: 487.7 | Q13: 534.79 | R13: 480.24 | S13: 462.8 | T13: =SUM(C13:S13) -> 6000.94
A14: 22 | B14: 1 | C14: 42.37 | D14: 0 | E14: 191.25 | F14: 0 | G14: 0 | H14: 187.93 | I14: 190.24 | J14: 196.67 | K14: 192.19 | L14: 212.86 | M14: 196.6 | N14: 210.82 | O14: 204.56 | P14: 212.55 | Q14: 210.66 | R14: 250.68 | S14: 238.94 | T14: =SUM(C14:S14) -> 2738.32
... A512: 4301 | B512: 7 | C512: 0 | D512: 0 | E512: 15.22 | F512: 0 | G512: 0 | H512: 8.3 | I512: 13.67 | J512: 9.16 | K512: 7.48 | L512: 6.82 | M512: 0 | N512: 0 | O512: 0 | P512: 0 | Q512: 0 | R512: 0 | S512: 0 | T512: =SUM(C512:S512) -> 60.65
S513: =SUM(T3:T512) -> 850480.09

Sheet 2023
A1: 2022-23 Adjusted Average Daily Membership by District and Grade
A3: District No: | B3: District Type: | C3: EC/PK | D3: HK | E3: K-Full | F3: K-Half | G3: K-L | H3: 1 | I3: 2 | J3: 3 | K3: 4 | L3: 5 | M3: 6 | N3: 7 | O3: 8 | P3: 9 | Q3: 10 | R3: 11 | S3: 12 | T3: Total
A4: 1 | B4: 1 | C4: 8.68 | D4: 12.05 | E4: 0 | F4: 0 | G4: 64.81 | H4: 54.61 | I4: 66.35 | J4: 54.37 | K4: 62.96 | L4: 85.54 | M4: 75.71 | N4: 83.67 | O4: 78.06 | P4: 102.69 | Q4: 93.68 | R4: 78.91 | S4: 95.68 | T4: =SUM(C4:S4) -> 1017.77
A5: 2 | B5: 1 | C5: 11.66 | D5: 3.14 | E5: 0 | F5: 0 | G5: 12.77 | H5: 16.3 | I5: 14.92 | J5: 19.46 | K5: 13.14 | L5: 18.7 | M5: 14.69 | N5: 17.78 | O5: 17.98 | P5: 16.61 | Q5: 19.16 | R5: 22.28 | S5: 21.55 | T5: =SUM(C5:S5) -> 240.14
A6: 4 | B6: 1 | C6: 10.69 | D6: 3 | E6: 0 | F6: 0 | G6: 16.4 | H6: 27.16 | I6: 17.46 | J6: 37.71 | K6: 34.44 | L6: 23.28 | M6: 25.99 | N6: 43.31 | O6: 36.42 | P6: 37.25 | Q6: 42.4 | R6: 25.81 | S6: 35.03 | T6: =SUM(C6:S6) -> 416.35
A7: 11 | B7: 1 | C7: 555.25 | D7: 436.98 | E7: 0 | F7: 0 | G7: 2110.5 | H7: 2686.55 | I7: 2625.56 | J7: 2751.07 | K7: 2738.52 | L7: 2637.7 | M7: 2748.37 | N7: 2838.04 | O7: 2901.39 | P7: 3169.56 | Q7: 3207.97 | R7: 3117.16 | S7: 3216.26 | T7: =SUM(C7:S7) -> 37740.88
A8: 12 | B8: 1 | C8: 67.22 | D8: 80.18 | E8: 0 | F8: 0 | G8: 380.31 | H8: 501.31 | I8: 451.83 | J8: 516.73 | K8: 503.54 | L8: 522.45 | M8: 504.4 | N8: 494.41 | O8: 525.34 | P8: 533.68 | Q8: 534.02 | R8: 459.07 | S8: 395.88 | T8: =SUM(C8:S8) -> 6470.37
A9: 13 | B9: 1 | C9: 118.87 | D9: 37.32 | E9: 0 | F9: 0 | G9: 194.19 | H9: 224.93 | I9: 206.63 | J9: 233.66 | K9: 192.34 | L9: 228.18 | M9: 235.11 | N9: 234.11 | O9: 236.89 | P9: 332.78 | Q9: 314.98 | R9: 282.74 | S9: 372.66 | T9: =SUM(C9:S9) -> 3445.39
A10: 14 | B10: 1 | C10: 101.91 | D10: 35.75 | E10: 0 | F10: 0 | G10: 153.57 | H10: 182.31 | I10: 186.34 | J10: 189.67 | K10: 185.45 | L10: 150.52 | M10: 192.05 | N10: 183.67 | O10: 231.33 | P10: 229.55 | Q10: 251.68 | R10: 220.64 | S10: 192.6 | T10: =SUM(C10:S10) -> 2687.04
A11: 15 | B11: 1 | C11: 48.71 | D11: 62.36 | E11: 0 | F11: 0 | G11: 231.38 | H11: 322.26 | I11: 280.79 | J11: 328.44 | K11: 297.19 | L11: 326.19 | M11: 334.67 | N11: 313.69 | O11: 322.76 | P11: 343.18 | Q11: 345.34 | R11: 302.8 | S11: 338.08 | T11: =SUM(C11:S11) -> 4197.84
A12: 16 | B12: 1 | C12: 80.03 | D12: 51.79 | E12: 0 | F12: 0 | G12: 399.36 | H12: 468.95 | I12: 442.76 | J12: 452.38 | K12: 456.13 | L12: 398.25 | M12: 445.9 | N12: 456.71 | O12: 428.29 | P12: 541.18 | Q12: 503.29 | R12: 471.04 | S12: 403.12 | T12: =SUM(C12:S12) -> 5999.18
A13: 22 | B13: 1 | C13: 44.78 | D13: 42.88 | E13: 0 | F13: 0 | G13: 144.36 | H13: 194.15 | I13: 183.8 | J13: 184.22 | K13: 209.69 | L13: 194.42 | M13: 210.75 | N13: 201.62 | O13: 183.14 | P13: 209.13 | Q13: 253.32 | R13: 240.94 | S13: 233.77 | T13: =SUM(C13:S13) -> 2730.97
A14: 23 | B14: 1 | C14: 17.02 | D14: 18.3 | E14: 0 | F14: 0 | G14: 43.75 | H14: 59.56 | I14: 56.77 | J14: 59.35 | K14: 58.51 | L14: 66.61 | M14: 72.96 | N14: 65.73 | O14: 68.56 | P14: 72.54 | Q14: 57.12 | R14: 59.43 | S14: 52.49 | T14: =SUM(C14:S14) -> 828.7
A15: 25 | B15: 1 | C15: 0 | D15: 0.24 | E15: 0 | F15: 0 | G15: 6.56 | H15: 6.88 | I15: 9.84 | J15: 6.82 | K15: 10.1 | L15: 6.46 | M15: 4.28 | N15: 9.52 | O15: 5.99 | P15: 0 | Q15: 0 | R15: 0 | S15: 0 | T15: =SUM(C15:S15) -> 66.69
... A509: 4298 | B509: 7 | C509: 0 | D509: 0.19 | E509: 0 | F509: 0 | G509: 8.81 | H509: 13.6 | I509: 10.22 | J509: 8.47 | K509: 9.2 | L509: 8.05 | M509: 0 | N509: 0 | O509: 0 | P509: 0 | Q509: 0 | R509: 0 | S509: 0 | T509: =SUM(C509:S509) -> 58.54

Sheet 2022
A1: 2021-22 Adjusted Average Daily Membership by District and Grade
A3: District Number | B3: District Type | C3: EC/PK | D3: HK | E3: K-Half | F3: K-L | G3: K-Full | H3: 1 | I3: 2 | J3: 3 | K3: 4 | L3: 5 | M3: 6 | N3: 7 | O3: 8 | P3: 9 | Q3: 10 | R3: 11 | S3: 12 | T3: Total
A4: 1 | B4: 1 | C4: 7.37 | D4: 6.29 | E4: 0 | F4: 0 | G4: 45.2 | H4: 70.46 | I4: 58.15 | J4: 58.24 | K4: 89.37 | L4: 75.04 | M4: 80.09 | N4: 78.7 | O4: 99.98 | P4: 95.98 | Q4: 81.77 | R4: 92.38 | S4: 97.77 | T4: =SUM(C4:S4) -> 1036.79
A5: 2 | B5: 1 | C5: 9.77 | D5: 3.21 | E5: 0 | F5: 0 | G5: 7.71 | H5: 13.46 | I5: 18.72 | J5: 13.63 | K5: 17.68 | L5: 12.76 | M5: 18.97 | N5: 13.33 | O5: 18.01 | P5: 19.75 | Q5: 20.26 | R5: 25.98 | S5: 25.92 | T5: =SUM(C5:S5) -> 239.16
A6: 4 | B6: 1 | C6: 11.82 | D6: 6.81 | E6: 0 | F6: 0 | G6: 18.85 | H6: 16.24 | I6: 38.94 | J6: 34.02 | K6: 25.6 | L6: 28.12 | M6: 40.09 | N6: 39.21 | O6: 34.77 | P6: 45.12 | Q6: 23.36 | R6: 33.22 | S6: 36.31 | T6: =SUM(C6:S6) -> 432.48
A7: 11 | B7: 1 | C7: 547.09 | D7: 413.22 | E7: 0 | F7: 0 | G7: 2198.29 | H7: 2511.35 | I7: 2658.35 | J7: 2650.92 | K7: 2561.42 | L7: 2616.7 | M7: 2788.44 | N7: 2842.4 | O7: 2936.11 | P7: 3202.61 | Q7: 3196.35 | R7: 3044.66 | S7: 3332.67 | T7: =SUM(C7:S7) -> 37500.58
A8: 12 | B8: 1 | C8: 70.61 | D8: 67.63 | E8: 0 | F8: 0 | G8: 416.43 | H8: 430.71 | I8: 497.85 | J8: 490.88 | K8: 512.23 | L8: 485.65 | M8: 484.15 | N8: 523.77 | O8: 529.35 | P8: 538.18 | Q8: 500.21 | R8: 454.12 | S8: 481.42 | T8: =SUM(C8:S8) -> 6483.19
A9: 13 | B9: 1 | C9: 132.42 | D9: 29.22 | E9: 0 | F9: 0 | G9: 187.31 | H9: 199.39 | I9: 225.88 | J9: 183.75 | K9: 210.69 | L9: 208.72 | M9: 234.29 | N9: 222.7 | O9: 262.36 | P9: 290.82 | Q9: 268.15 | R9: 307.21 | S9: 379.34 | T9: =SUM(C9:S9) -> 3342.25
A10: 14 | B10: 1 | C10: 93.3 | D10: 19.91 | E10: 0 | F10: 0 | G10: 162.08 | H10: 202.76 | I10: 185.81 | J10: 185.23 | K10: 169.49 | L10: 189.86 | M10: 183.24 | N10: 221.48 | O10: 233.26 | P10: 236.11 | Q10: 246.51 | R10: 225.49 | S10: 214.75 | T10: =SUM(C10:S10) -> 2769.28
A11: 15 | B11: 1 | C11: 51.52 | D11: 68.64 | E11: 0 | F11: 0 | G11: 247.84 | H11: 273.35 | I11: 329.58 | J11: 290.23 | K11: 322.31 | L11: 334.2 | M11: 314.57 | N11: 323.55 | O11: 326.88 | P11: 339.57 | Q11: 340.48 | R11: 320.1 | S11: 337.65 | T11: =SUM(C11:S11) -> 4220.47
A12: 16 | B12: 1 | C12: 66.34 | D12: 59.56 | E12: 0 | F12: 0 | G12: 400.1 | H12: 457.18 | I12: 455.92 | J12: 461.81 | K12: 401.16 | L12: 454.55 | M12: 473.59 | N12: 425.33 | O12: 495.17 | P12: 514.21 | Q12: 527.97 | R12: 433.19 | S12: 433.71 | T12: =SUM(C12:S12) -> 6059.79
A13: 22 | B13: 1 | C13: 43.76 | D13: 40.6 | E13: 0 | F13: 0 | G13: 156.35 | H13: 180.34 | I13: 186.06 | J13: 207.57 | K13: 195.09 | L13: 210.2 | M13: 204.15 | N13: 181.06 | O13: 194.09 | P13: 257.93 | Q13: 251.26 | R13: 234.38 | S13: 199.75 | T13: =SUM(C13:S13) -> 2742.59
A14: 23 | B14: 1 | C14: 12.33 | D14: 16.42 | E14: 0 | F14: 0 | G14: 51.32 | H14: 53.34 | I14: 61.58 | J14: 57.33 | K14: 66.03 | L14: 70.46 | M14: 70.1 | N14: 67.89 | O14: 74.33 | P14: 58.66 | Q14: 76.37 | R14: 60.35 | S14: 56.7 | T14: =SUM(C14:S14) -> 853.21
A15: 25 | B15: 1 | C15: 0 | D15: 2 | E15: 0 | F15: 0 | G15: 8.66 | H15: 8.38 | I15: 8.91 | J15: 10.23 | K15: 9.64 | L15: 4.16 | M15: 8.66 | N15: 10.33 | O15: 4.18 | P15: 0 | Q15: 0 | R15: 0 | S15: 0 | T15: =SUM(C15:S15) -> 75.15
... A508: 4290 | B508: 7 | C508: 0 | D508: 0 | E508: 0 | F508: 0 | G508: 0 | H508: 0 | I508: 0 | J508: 0 | K508: 0 | L508: 0 | M508: 0 | N508: 0 | O508: 0 | P508: 29.68 | Q508: 19.79 | R508: 30.82 | S508: 23.64 | T508: =SUM(C508:S508) -> 103.93

Sheet 2021
A1: 2020-21 Adjusted Average Daily Membership by District and Grade
A3: District Number | B3: District Type | C3: EC/PK | D3: HK | E3: K-Half | F3: K-L | G3: K-Full | H3: 1 | I3: 2 | J3: 3 | K3: 4 | L3: 5 | M3: 6 | N3: 7 | O3: 8 | P3: 9 | Q3: 10 | R3: 11 | S3: 12 | T3: Total
A4: 1 | B4: 1 | C4: 7.83 | D4: 9.92 | E4: 0 | F4: 0 | G4: 55.24 | H4: 61.57 | I4: 53.35 | J4: 86.13 | K4: 73.56 | L4: 81.81 | M4: 82.25 | N4: 93.26 | O4: 98.05 | P4: 87.99 | Q4: 97.96 | R4: 104.51 | S4: 106.34 | T4: =SUM(C4:S4) -> 1099.77
A5: 2 | B5: 1 | C5: 7.55 | D5: 6.58 | E5: 0 | F5: 0 | G5: 9.91 | H5: 14.96 | I5: 12.09 | J5: 16.71 | K5: 13.18 | L5: 19.79 | M5: 15.68 | N5: 17.64 | O5: 18.62 | P5: 20.04 | Q5: 23.86 | R5: 27.56 | S5: 11.02 | T5: =SUM(C5:S5) -> 235.19
A6: 4 | B6: 1 | C6: 14.46 | D6: 5.88 | E6: 0 | F6: 0 | G6: 9.94 | H6: 38.64 | I6: 29.93 | J6: 20.9 | K6: 26.6 | L6: 40.05 | M6: 33.52 | N6: 31.33 | O6: 42.35 | P6: 27.67 | Q6: 32.5 | R6: 35.06 | S6: 27.8 | T6: =SUM(C6:S6) -> 416.63
A7: 11 | B7: 1 | C7: 535.94 | D7: 371.68 | E7: 0 | F7: 0 | G7: 1986.66 | H7: 2562.15 | I7: 2571.3 | J7: 2502.32 | K7: 2564.43 | L7: 2688.18 | M7: 2758.64 | N7: 2899.2 | O7: 2975.19 | P7: 3194.34 | Q7: 3147.16 | R7: 3171.93 | S7: 3197.78 | T7: =SUM(C7:S7) -> 37126.9
A8: 12 | B8: 1 | C8: 58.87 | D8: 70.2 | E8: 0 | F8: 0 | G8: 350.16 | H8: 493.35 | I8: 476.81 | J8: 500.11 | K8: 480.45 | L8: 470.47 | M8: 513.7 | N8: 517.58 | O8: 535.05 | P8: 520.21 | Q8: 496.92 | R8: 498.43 | S8: 506.05 | T8: =SUM(C8:S8) -> 6488.36
A9: 13 | B9: 1 | C9: 113.13 | D9: 29.79 | E9: 0 | F9: 0 | G9: 173.56 | H9: 215.36 | I9: 186.23 | J9: 209.22 | K9: 213.06 | L9: 233.77 | M9: 213.04 | N9: 249.75 | O9: 246.32 | P9: 255.37 | Q9: 297.42 | R9: 297.13 | S9: 374.25 | T9: =SUM(C9:S9) -> 3307.4
A10: 14 | B10: 1 | C10: 79.76 | D10: 14.42 | E10: 0 | F10: 0 | G10: 185.93 | H10: 198.21 | I10: 186.26 | J10: 180.88 | K10: 193.99 | L10: 188.58 | M10: 227.5 | N10: 234.44 | O10: 208.05 | P10: 237.5 | Q10: 261.56 | R10: 239.54 | S10: 198.13 | T10: =SUM(C10:S10) -> 2834.75
A11: 15 | B11: 1 | C11: 53.78 | D11: 47.79 | E11: 0 | F11: 0 | G11: 204.48 | H11: 313.16 | I11: 269.92 | J11: 304.07 | K11: 317.37 | L11: 301.98 | M11: 299.93 | N11: 322.63 | O11: 324.28 | P11: 338.24 | Q11: 340.05 | R11: 314.22 | S11: 322.33 | T11: =SUM(C11:S11) -> 4074.23
A12: 16 | B12: 1 | C12: 58.36 | D12: 48.47 | E12: 0 | F12: 0 | G12: 414.38 | H12: 473.7 | I12: 470.46 | J12: 416.65 | K12: 472.67 | L12: 487.36 | M12: 438.63 | N12: 501.89 | O12: 501.72 | P12: 520.91 | Q12: 459.6 | R12: 444.27 | S12: 351.28 | T12: =SUM(C12:S12) -> 6060.35
A13: 22 | B13: 1 | C13: 42.13 | D13: 37.53 | E13: 0 | F13: 0 | G13: 138.73 | H13: 181.44 | I13: 198.15 | J13: 188.52 | K13: 197.51 | L13: 205.61 | M13: 191.48 | N13: 195.11 | O13: 233.68 | P13: 249.45 | Q13: 234.08 | R13: 208.71 | S13: 208.63 | T13: =SUM(C13:S13) -> 2710.76
A14: 23 | B14: 1 | C14: 18.9 | D14: 12.14 | E14: 0 | F14: 0 | G14: 46.73 | H14: 58.71 | I14: 59.03 | J14: 66.78 | K14: 68.18 | L14: 65.7 | M14: 64.61 | N14: 76.11 | O14: 61.41 | P14: 75.44 | Q14: 63.63 | R14: 59.54 | S14: 74.23 | T14: =SUM(C14:S14) -> 871.14
A15: 25 | B15: 1 | C15: 0 | D15: 5.52 | E15: 0 | F15: 0 | G15: 7.08 | H15: 7.95 | I15: 10.79 | J15: 10.2 | K15: 9.1 | L15: 8.33 | M15: 12.58 | N15: 6.05 | O15: 2.35 | P15: 0 | Q15: 0 | R15: 0 | S15: 0 | T15: =SUM(C15:S15) -> 79.95
... A502: 4282 | B502: 7 | C502: 0 | D502: 0 | E502: 0 | F502: 0 | G502: 18.95 | H502: 10.11 | I502: 7.49 | J502: 3.4 | K502: 5.98 | L502: 1.55 | M502: 0 | N502: 0 | O502: 0 | P502: 0 | Q502: 0 | R502: 0 | S502: 0 | T502: =SUM(C502:S502) -> 47.48

Sheet 2015
A1: 2014-15 Adjusted Average Daily Membership by District and Grade
A3: DstNum | B3: Type | D3: EC | E3: HK | F3: KG | G3: Full KG | H3: 1 | I3: 2 | J3: 3 | K3: 4 | L3: 5 | M3: 6 | N3: 7 | O3: 8 | P3: 9 | Q3: 10 | R3: 11 | S3: 12 | T3: Total
A4: 1 | B4: 1 | C4: AITKIN PUBLIC SCHOOL DISTRICT | D4: 8.19 | E4: 14.58 | F4: 0 | G4: 56.18 | H4: 93.83 | I4: 92.4 | J4: 79.2 | K4: 97.2 | L4: 100.19 | M4: 102.68 | N4: 79.32 | O4: 91.39 | P4: 85.96 | Q4: 93.5 | R4: 102.92 | S4: 97.36 | T4: 1194.9
A5: 1 | B5: 3 | C5: MINNEAPOLIS PUBLIC SCHOOL DIST. | D5: 456.02 | E5: 335.31 | F5: 0.04 | G5: 2890.71 | H5: 3217.63 | I5: 3247.8 | J5: 3110.92 | K5: 3035.05 | L5: 2934.37 | M5: 2418.62 | N5: 2337.91 | O5: 2457.94 | P5: 2438.33 | Q5: 2316.48 | R5: 1983.94 | S5: 2205.07 | T5: 35386.14
A6: 2 | B6: 1 | C6: HILL CITY PUBLIC SCHOOL DISTRICT | D6: 10.42 | E6: 2.18 | F6: 0 | G6: 11.58 | H6: 19 | I6: 21.31 | J6: 16.99 | K6: 22.55 | L6: 29.81 | M6: 15.68 | N6: 20.18 | O6: 18.65 | P6: 15.62 | Q6: 19.54 | R6: 17.96 | S6: 32.2 | T6: 273.67
A7: 4 | B7: 1 | C7: MCGREGOR PUBLIC SCHOOL DISTRICT | D7: 7.07 | E7: 5.81 | F7: 0 | G7: 33.75 | H7: 33.87 | I7: 44.24 | J7: 31.72 | K7: 27.98 | L7: 31.58 | M7: 41.91 | N7: 32.36 | O7: 23.12 | P7: 24.13 | Q7: 39.33 | R7: 23.5 | S7: 23.69 | T7: 424.06
A8: 6 | B8: 3 | C8: SOUTH ST. PAUL PUBLIC SCHOOL DIST. | D8: 35.21 | E8: 20.33 | F8: 0 | G8: 251.13 | H8: 278.93 | I8: 286.97 | J8: 282.35 | K8: 291.29 | L8: 263.61 | M8: 254.1 | N8: 255.75 | O8: 257.78 | P8: 255.35 | Q8: 236.29 | R8: 243.52 | S8: 255.1 | T8: 3467.71
A9: 11 | B9: 1 | C9: ANOKA-HENNEPIN PUBLIC SCHOOL DIST. | D9: 446.71 | E9: 314.43 | F9: 0 | G9: 2333.73 | H9: 2635.98 | I9: 2723.92 | J9: 2778.03 | K9: 2744.6 | L9: 2806.87 | M9: 2770.49 | N9: 2836.57 | O9: 2979.45 | P9: 2973.87 | Q9: 3025.6 | R9: 2801.88 | S9: 2992.03 | T9: 37164.16
A10: 12 | B10: 1 | C10: CENTENNIAL PUBLIC SCHOOL DISTRICT | D10: 43.64 | E10: 46.35 | F10: 0 | G10: 430.93 | H10: 424.83 | I10: 489.64 | J10: 438.87 | K10: 456.69 | L10: 518.41 | M10: 504.41 | N10: 516.03 | O10: 489.77 | P10: 498.16 | Q10: 535.24 | R10: 474.1 | S10: 526.5 | T10: 6393.57
A11: 13 | B11: 1 | C11: COLUMBIA HEIGHTS PUBLIC SCHOOL DIST | D11: 33.65 | E11: 17.43 | F11: 0 | G11: 210.71 | H11: 287.78 | I11: 259.29 | J11: 260.17 | K11: 268.81 | L11: 269.79 | M11: 221.36 | N11: 242.38 | O11: 243.07 | P11: 234.13 | Q11: 249.61 | R11: 241.49 | S11: 256.84 | T11: 3296.51
A12: 14 | B12: 1 | C12: FRIDLEY PUBLIC SCHOOL DISTRICT | D12: 16.31 | E12: 20.94 | F12: 0 | G12: 198.94 | H12: 249.98 | I12: 221.1 | J12: 237.17 | K12: 204.19 | L12: 233.85 | M12: 230.38 | N12: 239.31 | O12: 233.84 | P12: 225.26 | Q12: 232.52 | R12: 205.32 | S12: 217.12 | T12: 2966.23
A13: 15 | B13: 1 | C13: ST. FRANCIS PUBLIC SCHOOL DISTRICT | D13: 52.82 | E13: 44.5 | F13: 0 | G13: 259.63 | H13: 329.09 | I13: 326.82 | J13: 328.9 | K13: 357.3 | L13: 356.65 | M13: 377 | N13: 360.97 | O13: 356.1 | P13: 342.55 | Q13: 412.11 | R13: 362.05 | S13: 354.66 | T13: 4621.15
A14: 16 | B14: 1 | C14: SPRING LAKE PARK PUBLIC SCHOOLS | D14: 47.4 | E14: 45.05 | F14: 0 | G14: 436.28 | H14: 509.94 | I14: 507.02 | J14: 487.22 | K14: 391.78 | L14: 439.38 | M14: 397.33 | N14: 389.56 | O14: 410.04 | P14: 427.01 | Q14: 374.6 | R14: 354.28 | S14: 310.69 | T14: 5527.58
A15: 22 | B15: 1 | C15: DETROIT LAKES PUBLIC SCHOOL DIST. | D15: 53.54 | E15: 48.54 | F15: 0 | G15: 160.11 | H15: 208.96 | I15: 234.4 | J15: 233.37 | K15: 230.52 | L15: 221.08 | M15: 237.1 | N15: 218.72 | O15: 210.52 | P15: 219.81 | Q15: 223.73 | R15: 210.31 | S15: 226.51 | T15: 2937.22
... A493: 4231 | B493: 7 | C493: MINNESOTA MATH AND SCIENCE ACADEMY | D493: 0 | E493: 0.74 | F493: 0 | G493: 58.18 | H493: 40.32 | I493: 43.73 | J493: 31.83 | K493: 38.99 | L493: 41.91 | M493: 33.44 | N493: 0 | O493: 0 | P493: 0 | Q493: 0 | R493: 0 | S493: 0 | T493: 289.14

Sheet 2014
A1: 2013-14 Adjusted Average Daily Membership by District and Grade
A3: DstNum | B3: Type | D3: EC | E3: HK | F3: KG | G3: Full KG | H3: 1 | I3: 2 | J3: 3 | K3: 4 | L3: 5 | M3: 6 | N3: 7 | O3: 8 | P3: 9 | Q3: 10 | R3: 11 | S3: 12 | T3: Total
A4: 1 | B4: 1 | C4: AITKIN PUBLIC SCHOOL DISTRICT | D4: 8.8 | E4: 14.34 | F4: 0.12 | G4: 78.61 | H4: 91.79 | I4: 83.42 | J4: 96.36 | K4: 101.22 | L4: 104.75 | M4: 78.5 | N4: 92.35 | O4: 87.85 | P4: 102.56 | Q4: 107.56 | R4: 97.5 | S4: 104.23 | T4: 1249.96
A5: 1 | B5: 3 | C5: MINNEAPOLIS PUBLIC SCHOOL DIST. | D5: 469.15 | E5: 312.08 | F5: 362.85 | G5: 2681.36 | H5: 3396.44 | I5: 3212.38 | J5: 3122.37 | K5: 3069.48 | L5: 2695.2 | M5: 2417.22 | N5: 2517.78 | O5: 2418.16 | P5: 2330.24 | Q5: 2173.76 | R5: 1972.48 | S5: 2075 | T5: 35225.95
A6: 2 | B6: 1 | C6: HILL CITY PUBLIC SCHOOL DISTRICT | D6: 7 | E6: 0.65 | F6: 0 | G6: 17.26 | H6: 21.29 | I6: 16.84 | J6: 24.73 | K6: 31.57 | L6: 16.33 | M6: 19 | N6: 21.56 | O6: 14.7 | P6: 18.73 | Q6: 17.68 | R6: 36.78 | S6: 16.11 | T6: 280.23
A7: 4 | B7: 1 | C7: MCGREGOR PUBLIC SCHOOL DISTRICT | D7: 7.4 | E7: 3.85 | F7: 0 | G7: 25.26 | H7: 41.21 | I7: 30.14 | J7: 26.25 | K7: 30.09 | L7: 38.93 | M7: 33.42 | N7: 18.72 | O7: 23.24 | P7: 36.5 | Q7: 25.57 | R7: 25.93 | S7: 25 | T7: 391.51
A8: 6 | B8: 3 | C8: SOUTH ST. PAUL PUBLIC SCHOOL DIST. | D8: 36.23 | E8: 31.07 | F8: 0 | G8: 251.99 | H8: 290.32 | I8: 276.4 | J8: 279.79 | K8: 258.29 | L8: 260.18 | M8: 256.46 | N8: 245.57 | O8: 256.27 | P8: 237.18 | Q8: 247.5 | R8: 225.74 | S8: 265.66 | T8: 3418.65
A9: 11 | B9: 1 | C9: ANOKA-HENNEPIN PUBLIC SCHOOL DIST. | D9: 418.18 | E9: 282.1 | F9: 907.85 | G9: 1371.67 | H9: 2734.7 | I9: 2707.63 | J9: 2767.75 | K9: 2808.53 | L9: 2753.77 | M9: 2738.02 | N9: 2950.81 | O9: 2864.09 | P9: 3028.46 | Q9: 2969.79 | R9: 2878.36 | S9: 3098.18 | T9: 37279.89
A10: 12 | B10: 1 | C10: CENTENNIAL PUBLIC SCHOOL DISTRICT | D10: 41.06 | E10: 20.11 | F10: 369.37 | G10: 0 | H10: 477.77 | I10: 436.88 | J10: 437.66 | K10: 512.33 | L10: 489.74 | M10: 497.12 | N10: 494.35 | O10: 489.81 | P10: 545.49 | Q10: 509.13 | R10: 529.14 | S10: 511.42 | T10: 6361.38
A11: 13 | B11: 1 | C11: COLUMBIA HEIGHTS PUBLIC SCHOOL DIST | D11: 30.12 | E11: 31.85 | F11: 0 | G11: 263.83 | H11: 270.31 | I11: 281.2 | J11: 265.82 | K11: 272.41 | L11: 229.93 | M11: 254.85 | N11: 248.12 | O11: 215.09 | P11: 214.87 | Q11: 238.76 | R11: 205.52 | S11: 241.85 | T11: 3264.53
A12: 14 | B12: 1 | C12: FRIDLEY PUBLIC SCHOOL DISTRICT | D12: 17.54 | E12: 19.72 | F12: 0 | G12: 236.99 | H12: 220.19 | I12: 236.19 | J12: 191.74 | K12: 221.18 | L12: 205.21 | M12: 222.1 | N12: 228.41 | O12: 208.26 | P12: 239.96 | Q12: 219.08 | R12: 203.76 | S12: 229.12 | T12: 2899.45
A13: 15 | B13: 1 | C13: ST. FRANCIS PUBLIC SCHOOL DISTRICT | D13: 51.04 | E13: 48.01 | F13: 0 | G13: 294.88 | H13: 314.39 | I13: 328.07 | J13: 351.79 | K13: 351.19 | L13: 370.41 | M13: 362.11 | N13: 356.82 | O13: 349.07 | P13: 436.02 | Q13: 387.62 | R13: 387.81 | S13: 369.69 | T13: 4758.92
A14: 16 | B14: 1 | C14: SPRING LAKE PARK PUBLIC SCHOOLS | D14: 41.49 | E14: 26.22 | F14: 446.88 | G14: 0 | H14: 491.38 | I14: 497.47 | J14: 418.21 | K14: 439.01 | L14: 393.52 | M14: 395.45 | N14: 416.66 | O14: 431.44 | P14: 395.44 | Q14: 367.25 | R14: 336.79 | S14: 359.98 | T14: 5457.19
A15: 22 | B15: 1 | C15: DETROIT LAKES PUBLIC SCHOOL DIST. | D15: 44.74 | E15: 47.04 | F15: 1.78 | G15: 143.36 | H15: 217.55 | I15: 225.7 | J15: 221.61 | K15: 215.91 | L15: 218 | M15: 219.74 | N15: 214.15 | O15: 214.7 | P15: 215.13 | Q15: 215.91 | R15: 223.74 | S15: 197.14 | T15: 2836.2
... A485: 4218 | B485: 7 | C485: VENTURE ACADEMY | D485: 0 | E485: 0 | F485: 0 | G485: 0 | H485: 0 | I485: 0 | J485: 0 | K485: 0 | L485: 0 | M485: 67.09 | N485: 47.26 | O485: 0 | P485: 0 | Q485: 0 | R485: 0 | S485: 0 | T485: 114.35
C486: STATE TOTALS | D486: =SUM(D4:D485) -> 7805.95 | E486: =SUM(E4:E485) -> 6118.76 | F486: =SUM(F4:F485) -> 22075.31 | G486: =SUM(G4:G485) -> 36418.03 | H486: =SUM(H4:H485) -> 65969.84 | I486: =SUM(I4:I485) -> 64531.05 | J486: =SUM(J4:J485) -> 63598.6 | K486: =SUM(K4:K485) -> 63967.19 | ... T486: =SUM(T4:T485) -> 832492.71
