Workbook
Name Adjusted: #REF!
Name Adjusted: #REF!
Name Dnumber: [1]Report!$A$1
Name Extended: #REF!
Name Extended: #REF!
Name Resident: [1]RES!$B$29:$DS$360

Sheet Worksheet
B1: Enter District # in Cell A1
E3: SCHOOL DISTRICT NUMBER | J3: =VLOOKUP($A$1,'2023'!A3:S509,1,FALSE) -> #N/A
D4: NOTE: Resident Average Daily Membership (ADM) by Fiscal Year
D5: Grade Progression Ratios: Historical and Projected
B8: (B) | C8: (C) | D8: (D) | E8: (E) | F8: (F) | G8: (G) | H8: (H) | I8: (I) | J8: (J) | K8: (K) | L8: (L) | M8: (M) | N8: (N) | O8: (O) | P8: (P) | Q8: (Q)
C9: Actual | D9: Ratio | E9: Actual | F9: Ratio | G9: Actual | H9: Ratio | I9: Actual | J9: Ratio | K9: Actual | L9: Ave. Grade | M9: Projected | N9: Projected | O9: Projected | P9: Projected | Q9: Projected
B10: Grade | C10: FY 2021 | D10: 21 to 22 | E10: FY 2022 | F10: 22 to 23 | G10: FY 2023 | H10: 23 to 24 | I10: FY 2024 | J10: 24 to 25 | K10: FY 2025 | L10: Progress Ratio | M10: FY 2026 | N10: FY 2027 | O10: FY 2028 | P10: FY 2029 | Q10: FY 2030
B12: EC | C12: =VLOOKUP($A$1,'2021'!$A$3:$T$550,3,FALSE) -> #N/A | E12: =VLOOKUP($A$1,'2022'!$A$3:$T$550,3,FALSE) -> #N/A | G12: =VLOOKUP($A$1,'2023'!$A$3:$T$550,3,FALSE) -> #N/A | I12: =VLOOKUP($A$1,'2024'!$A$3:$U$550,3,FALSE) -> #N/A | K12: =VLOOKUP($A$1,'2025'!$A$3:$T$728,3,FALSE) -> #N/A | M12: 0 | N12: 0 | O12: 0 | P12: 0 | Q12: 0
B13: PREK | C13: =VLOOKUP($A$1,'2021'!$A$3:$T$550,4,FALSE) -> #N/A | E13: =VLOOKUP($A$1,'2022'!$A$3:$T$550,4,FALSE) -> #N/A | G13: =VLOOKUP($A$1,'2023'!$A$3:$T$550,4,FALSE) -> #N/A | I13: =VLOOKUP($A$1,'2024'!$A$3:$U$550,4,FALSE) -> #N/A | K13: =VLOOKUP($A$1,'2025'!$A$3:$T$728,4,FALSE) -> #N/A | M13: 0 | N13: 0 | O13: 0 | P13: 0 | Q13: 0
B14: HK | C14: =VLOOKUP($A$1,'2021'!$A$3:$S$550,5,FALSE) -> #N/A | E14: =VLOOKUP($A$1,'2022'!$A$3:$T$550,5,FALSE) -> #N/A | G14: =VLOOKUP($A$1,'2023'!$A$3:$T$550,5,FALSE) -> #N/A | I14: =VLOOKUP($A$1,'2024'!$A$3:$U$550,5,FALSE) -> #N/A | K14: =VLOOKUP($A$1,'2025'!$A$3:$T$728,5,FALSE) -> #N/A | M14: 0 | N14: 0 | O14: 0 | P14: 0 | Q14: 0
B15: K 1/2 Day | C15: =VLOOKUP($A$1,'2021'!$A$3:$S$550,6,FALSE) -> #N/A | E15: =VLOOKUP($A$1,'2022'!$A$3:$T$550,6,FALSE) -> #N/A | G15: =VLOOKUP($A$1,'2023'!$A$3:$T$550,6,FALSE) -> #N/A | I15: =VLOOKUP($A$1,'2024'!$A$3:$U$550,7,FALSE) -> #N/A | K15: =VLOOKUP($A$1,'2025'!$A$3:$T$728,7,FALSE) -> #N/A | M15: 0 | N15: 0 | O15: 0 | P15: 0 | Q15: 0
B16: K Full Day | C16: =VLOOKUP($A$1,'2021'!$A$3:$T$550,8,FALSE) -> #N/A | D16: =IF(((C14+C15+C16)=0),0,(E18/(C14+C15+C16))) -> #N/A | E16: =VLOOKUP($A$1,'2022'!$A$3:$T$550,8,FALSE) -> #N/A | F16: =IF(((E14+E15+E16)=0),0,(G18/(E14+E15+E16))) -> #N/A | G16: =VLOOKUP($A$1,'2023'!$A$3:$T$550,8,FALSE) -> #N/A | H16: =IF(((G14+G15+G16)=0),0,(I18/(G14+G15+G16))) -> #N/A | I16: =VLOOKUP($A$1,'2024'!$A$3:$U$550,6,FALSE) -> #N/A | J16: =IF(((I14+I15+I16)=0),0,(K18/(I14+I15+I16))) -> #N/A | K16: =VLOOKUP($A$1,'2025'!$A$3:$T$728,6,FALSE) -> #N/A | L16: =AVERAGE($D16,$F16,$H16,$J16) -> #N/A | M16: 0 | N16: 0 | O16: 0 | P16: 0 | Q16: 0
B18: 1 | C18: =VLOOKUP($A$1,'2021'!$A$3:$S$550,9,FALSE) -> #N/A | D18: =IF(C18=0,0,E19/C18) -> #N/A | E18: =VLOOKUP($A$1,'2022'!$A$3:$T$550,9,FALSE) -> #N/A | F18: =IF(E18=0,0,G19/E18) -> #N/A | G18: =VLOOKUP($A$1,'2023'!$A$3:$T$550,9,FALSE) -> #N/A | H18: =IF(G18=0,0,I19/G18) -> #N/A | I18: =VLOOKUP($A$1,'2024'!$A$3:$T$550,9,FALSE) -> #N/A | J18: =IF(I18=0,0,K19/I18) -> #N/A | K18: =VLOOKUP($A$1,'2025'!$A$3:$T$728,9,FALSE) -> #N/A | L18: =AVERAGE($D18,$F18,$H18,$J18) -> #N/A | M18: =(K14+K15+K16)*$L16 -> #N/A | N18: =(M14+M15+M16)*$L16 -> #N/A | O18: =(N14+N15+N16)*$L16 -> #N/A | P18: =(O14+O15+O16)*$L16 -> #N/A | Q18: =(P14+P15+P16)*$L16 -> #N/A
B19: 2 | C19: =VLOOKUP($A$1,'2021'!$A$3:$S$550,10,FALSE) -> #N/A | D19: =IF(C19=0,0,E20/C19) -> #N/A | E19: =VLOOKUP($A$1,'2022'!$A$3:$T$550,10,FALSE) -> #N/A | F19: =IF(E19=0,0,G20/E19) -> #N/A | G19: =VLOOKUP($A$1,'2023'!$A$3:$T$550,10,FALSE) -> #N/A | H19: =IF(G19=0,0,I20/G19) -> #N/A | I19: =VLOOKUP($A$1,'2024'!$A$3:$T$550,10,FALSE) -> #N/A | J19: =IF(I19=0,0,K20/I19) -> #N/A | K19: =VLOOKUP($A$1,'2025'!$A$3:$T$728,10,FALSE) -> #N/A | L19: =AVERAGE($D19,$F19,$H19,$J19) -> #N/A | M19: =K18*$L18 -> #N/A | N19: =M18*$L18 -> #N/A | O19: =N18*$L18 -> #N/A | P19: =O18*$L18 -> #N/A | Q19: =P18*$L18 -> #N/A
B20: 3 | C20: =VLOOKUP($A$1,'2021'!$A$3:$S$550,11,FALSE) -> #N/A | D20: =IF(C20=0,0,E21/C20) -> #N/A | E20: =VLOOKUP($A$1,'2022'!$A$3:$T$550,11,FALSE) -> #N/A | F20: =IF(E20=0,0,G21/E20) -> #N/A | G20: =VLOOKUP($A$1,'2023'!$A$3:$T$550,11,FALSE) -> #N/A | H20: =IF(G20=0,0,I21/G20) -> #N/A | I20: =VLOOKUP($A$1,'2024'!$A$3:$T$550,11,FALSE) -> #N/A | J20: =IF(I20=0,0,K21/I20) -> #N/A | K20: =VLOOKUP($A$1,'2025'!$A$3:$T$728,11,FALSE) -> #N/A | L20: =AVERAGE($D20,$F20,$H20,$J20) -> #N/A | M20: =K19*$L19 -> #N/A | N20: =M19*$L19 -> #N/A | O20: =N19*$L19 -> #N/A | P20: =O19*$L19 -> #N/A | Q20: =P19*$L19 -> #N/A
B21: 4 | C21: =VLOOKUP($A$1,'2021'!$A$3:$S$550,12,FALSE) -> #N/A | D21: =IF(C21=0,0,E22/C21) -> #N/A | E21: =VLOOKUP($A$1,'2022'!$A$3:$T$550,12,FALSE) -> #N/A | F21: =IF(E21=0,0,G22/E21) -> #N/A | G21: =VLOOKUP($A$1,'2023'!$A$3:$T$550,12,FALSE) -> #N/A | H21: =IF(G21=0,0,I22/G21) -> #N/A | I21: =VLOOKUP($A$1,'2024'!$A$3:$T$550,12,FALSE) -> #N/A | J21: =IF(I21=0,0,K22/I21) -> #N/A | K21: =VLOOKUP($A$1,'2025'!$A$3:$T$728,12,FALSE) -> #N/A | L21: =AVERAGE($D21,$F21,$H21,$J21) -> #N/A | M21: =K20*$L20 -> #N/A | N21: =M20*$L20 -> #N/A | O21: =N20*$L20 -> #N/A | P21: =O20*$L20 -> #N/A | Q21: =P20*$L20 -> #N/A
B22: 5 | C22: =VLOOKUP($A$1,'2021'!$A$3:$S$550,13,FALSE) -> #N/A | D22: =IF(C22=0,0,E23/C22) -> #N/A | E22: =VLOOKUP($A$1,'2022'!$A$3:$T$550,13,FALSE) -> #N/A | F22: =IF(E22=0,0,G23/E22) -> #N/A | G22: =VLOOKUP($A$1,'2023'!$A$3:$T$550,13,FALSE) -> #N/A | H22: =IF(G22=0,0,I23/G22) -> #N/A | I22: =VLOOKUP($A$1,'2024'!$A$3:$T$550,13,FALSE) -> #N/A | J22: =IF(I22=0,0,K23/I22) -> #N/A | K22: =VLOOKUP($A$1,'2025'!$A$3:$T$728,13,FALSE) -> #N/A | L22: =AVERAGE($D22,$F22,$H22,$J22) -> #N/A | M22: =K21*$L21 -> #N/A | N22: =M21*$L21 -> #N/A | O22: =N21*$L21 -> #N/A | P22: =O21*$L21 -> #N/A | Q22: =P21*$L21 -> #N/A
B23: 6 | C23: =VLOOKUP($A$1,'2021'!$A$3:$S$550,14,FALSE) -> #N/A | D23: =IF(C23=0,0,E29/C23) -> #N/A | E23: =VLOOKUP($A$1,'2022'!$A$3:$T$550,14,FALSE) -> #N/A | F23: =IF(E23=0,0,G29/E23) -> #N/A | G23: =VLOOKUP($A$1,'2023'!$A$3:$T$550,14,FALSE) -> #N/A | H23: =IF(G23=0,0,I29/G23) -> #N/A | I23: =VLOOKUP($A$1,'2024'!$A$3:$T$550,14,FALSE) -> #N/A | J23: =IF(I23=0,0,K29/I23) -> #N/A | K23: =VLOOKUP($A$1,'2025'!$A$3:$T$728,14,FALSE) -> #N/A | L23: =AVERAGE($D23,$F23,$H23,$J23) -> #N/A | M23: =K22*$L22 -> #N/A | N23: =M22*$L22 -> #N/A | O23: =N22*$L22 -> #N/A | P23: =O22*$L22 -> #N/A | Q23: =P22*$L22 -> #N/A
B25: 1-3 Total | C25: =SUM(C18:C20) -> #N/A | E25: =SUM(E18:E20) -> #N/A | G25: =SUM(G18:G20) -> #N/A | I25: =SUM(I18:I20) -> #N/A | K25: =SUM(K18:K20) -> #N/A | M25: =SUM(M18:M20) -> #N/A | N25: =SUM(N18:N20) -> #N/A | O25: =SUM(O18:O20) -> #N/A | P25: =SUM(P18:P20) -> #N/A | Q25: =SUM(Q18:Q20) -> #N/A
B26: 4-6 Total | C26: =SUM(C21:C23) -> #N/A | E26: =SUM(E21:E23) -> #N/A | G26: =SUM(G21:G23) -> #N/A | I26: =SUM(I21:I23) -> #N/A | K26: =SUM(K21:K23) -> #N/A | M26: =SUM(M21:M23) -> #N/A | N26: =SUM(N21:N23) -> #N/A | O26: =SUM(O21:O23) -> #N/A | P26: =SUM(P21:P23) -> #N/A | Q26: =SUM(Q21:Q23) -> #N/A
B27: 1-6 Total | C27: =SUM(C18:C23) -> #N/A | E27: =SUM(E18:E23) -> #N/A | G27: =SUM(G18:G23) -> #N/A | I27: =SUM(I18:I23) -> #N/A | K27: =SUM(K18:K23) -> #N/A | M27: =SUM(M18:M23) -> #N/A | N27: =SUM(N18:N23) -> #N/A | O27: =SUM(O18:O23) -> #N/A | P27: =SUM(P18:P23) -> #N/A | Q27: =SUM(Q18:Q23) -> #N/A
B29: 7 | C29: =VLOOKUP($A$1,'2021'!$A$3:$S$550,15,FALSE) -> #N/A | D29: =IF(C29=0,0,E30/C29) -> #N/A | E29: =VLOOKUP($A$1,'2022'!$A$3:$T$550,15,FALSE) -> #N/A | F29: =IF(E29=0,0,G30/E29) -> #N/A | G29: =VLOOKUP($A$1,'2023'!$A$3:$T$550,15,FALSE) -> #N/A | H29: =IF(G29=0,0,I30/G29) -> #N/A | I29: =VLOOKUP($A$1,'2024'!$A$3:$T$550,15,FALSE) -> #N/A | J29: =IF(I29=0,0,K30/I29) -> #N/A | K29: =VLOOKUP($A$1,'2025'!$A$3:$T$728,15,FALSE) -> #N/A | L29: =AVERAGE($D29,$F29,$H29,$J29) -> #N/A | M29: =K23*$L23 -> #N/A | N29: =M23*$L23 -> #N/A | O29: =N23*$L23 -> #N/A | P29: =O23*$L23 -> #N/A | Q29: =P23*$L23 -> #N/A
B30: 8 | C30: =VLOOKUP($A$1,'2021'!$A$3:$S$550,16,FALSE) -> #N/A | D30: =IF(C30=0,0,E31/C30) -> #N/A | E30: =VLOOKUP($A$1,'2022'!$A$3:$T$550,16,FALSE) -> #N/A | F30: =IF(E30=0,0,G31/E30) -> #N/A | G30: =VLOOKUP($A$1,'2023'!$A$3:$T$550,16,FALSE) -> #N/A | H30: =IF(G30=0,0,I31/G30) -> #N/A | I30: =VLOOKUP($A$1,'2024'!$A$3:$T$550,16,FALSE) -> #N/A | J30: =IF(I30=0,0,K31/I30) -> #N/A | K30: =VLOOKUP($A$1,'2025'!$A$3:$T$728,16,FALSE) -> #N/A | L30: =AVERAGE($D30,$F30,$H30,$J30) -> #N/A | M30: =K29*$L29 -> #N/A | N30: =M29*$L29 -> #N/A | O30: =N29*$L29 -> #N/A | P30: =O29*$L29 -> #N/A | Q30: =P29*$L29 -> #N/A
B31: 9 | C31: =VLOOKUP($A$1,'2021'!$A$3:$S$550,17,FALSE) -> #N/A | D31: =IF(C31=0,0,E32/C31) -> #N/A | E31: =VLOOKUP($A$1,'2022'!$A$3:$T$550,17,FALSE) -> #N/A | F31: =IF(E31=0,0,G32/E31) -> #N/A | G31: =VLOOKUP($A$1,'2023'!$A$3:$T$550,17,FALSE) -> #N/A | H31: =IF(G31=0,0,I32/G31) -> #N/A | I31: =VLOOKUP($A$1,'2024'!$A$3:$T$550,17,FALSE) -> #N/A | J31: =IF(I31=0,0,K32/I31) -> #N/A | K31: =VLOOKUP($A$1,'2025'!$A$3:$T$728,17,FALSE) -> #N/A | L31: =AVERAGE($D31,$F31,$H31,$J31) -> #N/A | M31: =K30*$L30 -> #N/A | N31: =M30*$L30 -> #N/A | O31: =N30*$L30 -> #N/A | P31: =O30*$L30 -> #N/A | Q31: =P30*$L30 -> #N/A
B32: 10 | C32: =VLOOKUP($A$1,'2021'!$A$3:$S$550,18,FALSE) -> #N/A | D32: =IF(C32=0,0,E33/C32) -> #N/A | E32: =VLOOKUP($A$1,'2022'!$A$3:$T$550,18,FALSE) -> #N/A | F32: =IF(E32=0,0,G33/E32) -> #N/A | G32: =VLOOKUP($A$1,'2023'!$A$3:$T$550,18,FALSE) -> #N/A | H32: =IF(G32=0,0,I33/G32) -> #N/A | I32: =VLOOKUP($A$1,'2024'!$A$3:$T$550,18,FALSE) -> #N/A | J32: =IF(I32=0,0,K33/I32) -> #N/A | K32: =VLOOKUP($A$1,'2025'!$A$3:$T$728,18,FALSE) -> #N/A | L32: =AVERAGE($D32,$F32,$H32,$J32) -> #N/A | M32: =K31*$L31 -> #N/A | N32: =M31*$L31 -> #N/A | O32: =N31*$L31 -> #N/A | P32: =O31*$L31 -> #N/A | Q32: =P31*$L31 -> #N/A
B33: 11 | C33: =VLOOKUP($A$1,'2021'!$A$3:$S$550,19,FALSE) -> #N/A | D33: =IF(C33=0,0,E34/C33) -> #N/A | E33: =VLOOKUP($A$1,'2022'!$A$3:$T$550,19,FALSE) -> #N/A | F33: =IF(E33=0,0,G34/E33) -> #N/A | G33: =VLOOKUP($A$1,'2023'!$A$3:$T$550,19,FALSE) -> #N/A | H33: =IF(G33=0,0,I34/G33) -> #N/A | I33: =VLOOKUP($A$1,'2024'!$A$3:$T$550,19,FALSE) -> #N/A | J33: =IF(I33=0,0,K34/I33) -> #N/A | K33: =VLOOKUP($A$1,'2025'!$A$3:$T$728,19,FALSE) -> #N/A | L33: =AVERAGE($D33,$F33,$H33,$J33) -> #N/A | M33: =K32*$L32 -> #N/A | N33: =M32*$L32 -> #N/A | O33: =N32*$L32 -> #N/A | P33: =O32*$L32 -> #N/A | Q33: =P32*$L32 -> #N/A
B34: 12 | C34: =VLOOKUP($A$1,'2021'!$A$3:$T$550,20,FALSE) -> #N/A | E34: =VLOOKUP($A$1,'2022'!$A$3:$T$550,20,FALSE) -> #N/A | G34: =VLOOKUP($A$1,'2023'!$A$3:$T$550,20,FALSE) -> #N/A | I34: =VLOOKUP($A$1,'2024'!$A$3:$T$550,20,FALSE) -> #N/A | K34: =VLOOKUP($A$1,'2025'!$A$3:$T$728,20,FALSE) -> #N/A | M34: =K33*$L33 -> #N/A | N34: =M33*$L33 -> #N/A | O34: =N33*$L33 -> #N/A | P34: =O33*$L33 -> #N/A | Q34: =P33*$L33 -> #N/A
B36: 7-12 Total | C36: =SUM(C29:C34) -> #N/A | E36: =SUM(E29:E34) -> #N/A | G36: =SUM(G29:G34) -> #N/A | I36: =SUM(I29:I34) -> #N/A | K36: =SUM(K29:K34) -> #N/A | M36: =SUM(M29:M34) -> #N/A | N36: =SUM(N29:N34) -> #N/A | O36: =SUM(O29:O34) -> #N/A | P36: =SUM(P29:P34) -> #N/A | Q36: =SUM(Q29:Q34) -> #N/A
B38: EC-12 Total | C38: =SUM(C12+C13+C14+C15+C16+C27+C36) -> #N/A | D38: =AVERAGE(D16:D33) -> #N/A | E38: =SUM(E12+E13+E14+E15+E16+E27+E36) -> #N/A | F38: =AVERAGE(F16:F33) -> #N/A | G38: =SUM(G12+G13+G14+G15+G16+G27+G36) -> #N/A | H38: =AVERAGE(H16:H33) -> #N/A | I38: =SUM(I12+I13+I14+I15+I16+I27+I36) -> #N/A | J38: =AVERAGE(J16:J33) -> #N/A | K38: =SUM(K12+K13+K14+K15+K16+K27+K36) -> #N/A | L38: =AVERAGE(L16:L33) -> #N/A | M38: =SUM(M12+M13+M14+M15+M16+M27+M36) -> #N/A | N38: =SUM(N12+N13+N14+N15+N16+N27+N36) -> #N/A | O38: =SUM(O12+O13+O14+O15+O16+O27+O36) -> #N/A | P38: =SUM(P12+P13+P14+P15+P16+P27+P36) -> #N/A | Q38: =SUM(Q12+Q13+Q14+Q15+Q16+Q27+Q36) -> #N/A
B39: Change | C39: N/A | E39: =SUM(E38-C38) -> #N/A | G39: =SUM(G38-E38) -> #N/A | I39: =SUM(I38-G38) -> #N/A | K39: =SUM(K38-I38) -> #N/A | M39: =SUM(M38-K38) -> #N/A | N39: =SUM(N38-M38) -> #N/A | O39: =SUM(O38-N38) -> #N/A | P39: =SUM(P38-O38) -> #N/A | Q39: =SUM(Q38-P38) -> #N/A
A42: Instructions
A44: 1 | B44: Enter your District # into Cell A1
A45: 2 | B45: Enter your EC, K projections for FY2025 thru FY2029
A46: 3 | B46: Review for Accurancy and Reasonableness
A47: 4 | B47: Columns M-Q use the progression ratios, but can be edited for ADM estimates

Sheet 2025
A1: Resident Average Daily Membership by District and Grade
A3: District No: | B3: District Type: | C3: EC | D3: PK | E3: HK | F3: K-Full | G3: K-Half | H3: K-L | I3: 1 | J3: 2 | K3: 3 | L3: 4 | M3: 5 | N3: 6 | O3: 7 | P3: 8 | Q3: 9 | R3: 10 | S3: 11 | T3: 12 | U3: Total
A4: 1 | B4: 1 | C4: 6.17 | D4: 21.96 | F4: 57.96 | G4: 0 | I4: 51.02 | J4: 75.11 | K4: 59.05 | L4: 59.59 | M4: 52.82 | N4: 61.16 | O4: 89.78 | P4: 68.99 | Q4: 83.98 | R4: 88.61 | S4: 88.32 | T4: 93.82 | U4: =SUM(C4:T4) -> 958.34
A5: 1 | B5: 3 | C5: 496.9 | D5: 471.79 | F5: 3815.59 | G5: 0 | I5: 3718.26 | J5: 3830.95 | K5: 3891.2 | L5: 3707.94 | M5: 3807.21 | N5: 3500.85 | O5: 3540 | P5: 3513.57 | Q5: 3593.89 | R5: 3554.93 | S5: 3482.96 | T5: 3704.72 | U5: =SUM(C5:T5) -> 48630.76
A6: 2 | B6: 1 | C6: 3.86 | D6: 4.2 | F6: 14.66 | G6: 0 | I6: 16 | J6: 12.77 | K6: 10.31 | L6: 13.22 | M6: 23.02 | N6: 19.68 | O6: 21 | P6: 16.6 | Q6: 19.29 | R6: 21.93 | S6: 14.51 | T6: 23.4 | U6: =SUM(C6:T6) -> 234.45
A7: 4 | B7: 1 | C7: 6.98 | D7: 14.89 | F7: 25.8 | G7: 0 | I7: 35.29 | J7: 22.17 | K7: 28.89 | L7: 22.52 | M7: 38.95 | N7: 40.55 | O7: 30.59 | P7: 29.79 | Q7: 41.67 | R7: 42.72 | S7: 39.59 | T7: 40.38 | U7: =SUM(C7:T7) -> 460.78
A8: 6 | B8: 3 | C8: 47.01 | D8: 70.18 | F8: 215.98 | G8: 0 | I8: 182.37 | J8: 201.27 | K8: 207.21 | L8: 213.81 | M8: 214.52 | N8: 211.05 | O8: 199.63 | P8: 201.05 | Q8: 244.67 | R8: 257.4 | S8: 237.78 | T8: 266.18 | U8: =SUM(C8:T8) -> 2970.11
A9: 11 | B9: 1 | C9: 625.84 | D9: 124.73 | F9: 2914.13 | G9: 0 | I9: 2972.49 | J9: 3070.32 | K9: 3265.86 | L9: 3201.51 | M9: 3289.83 | N9: 3358.54 | O9: 3241.09 | P9: 3275.13 | Q9: 3418.32 | R9: 3538.78 | S9: 3394.14 | T9: 3535.58 | U9: =SUM(C9:T9) -> 43226.29
A10: 12 | B10: 1 | C10: 50.31 | D10: 8.39 | F10: 430.81 | G10: 0 | I10: 390.42 | J10: 405.85 | K10: 454.2 | L10: 402.63 | M10: 459.06 | N10: 437.92 | O10: 474.21 | P10: 448.03 | Q10: 443.26 | R10: 434.48 | S10: 412.62 | T10: 446.22 | U10: =SUM(C10:T10) -> 5698.41
A11: 13 | B11: 1 | C11: 63.09 | D11: 83.4 | F11: 262.91 | G11: 0 | I11: 281.82 | J11: 293.78 | K11: 273.92 | L11: 263.77 | M11: 289.52 | N11: 239.94 | O11: 267.33 | P11: 294.47 | Q11: 285.9 | R11: 275.02 | S11: 343.5 | T11: 318.77 | U11: =SUM(C11:T11) -> 3837.14
A12: 14 | B12: 1 | C12: 28.38 | D12: 51.74 | F12: 211.81 | G12: 0 | I12: 203.25 | J12: 210.53 | K12: 184.71 | L12: 198.82 | M12: 192.32 | N12: 198.25 | O12: 197.06 | P12: 169.5 | Q12: 210.34 | R12: 202.21 | S12: 178.52 | T12: 180.63 | U12: =SUM(C12:T12) -> 2618.07
A13: 15 | B13: 1 | C13: 54.47 | D13: 27 | F13: 341.09 | G13: 0 | I13: 333.4 | J13: 357.59 | K13: 385.45 | L13: 358.65 | M13: 403.61 | N13: 382.43 | O13: 382.44 | P13: 408.25 | Q13: 390.68 | R13: 386.81 | S13: 367.35 | T13: 402.37 | U13: =SUM(C13:T13) -> 4981.59
A14: 16 | B14: 1 | C14: 53.88 | D14: 43.12 | F14: 366.95 | G14: 0 | I14: 363.94 | J14: 389.55 | K14: 427.47 | L14: 386.58 | M14: 400.21 | N14: 388 | O14: 385.76 | P14: 435.09 | Q14: 433.12 | R14: 433.02 | S14: 452.72 | T14: 452.28 | U14: =SUM(C14:T14) -> 5411.69
A15: 22 | B15: 1 | C15: 32.62 | D15: 12.47 | F15: 178.2 | G15: 0 | I15: 182.27 | J15: 188.57 | K15: 189.74 | L15: 188.28 | M15: 178.26 | N15: 209.49 | O15: 185.3 | P15: 211.4 | Q15: 204.6 | R15: 210.59 | S15: 204.52 | T15: 238.48 | U15: =SUM(C15:T15) -> 2614.79
... A332: 2910 | B332: 1 | C332: 14.55 | D332: 17.33 | F332: 42.77 | G332: 0 | I332: 52.72 | J332: 56.58 | K332: 51.1 | L332: 49.78 | M332: 42.71 | N332: 46.58 | O332: 36.32 | P332: 43.6 | Q332: 51.19 | R332: 36.23 | S332: 56.6 | T332: 52.56 | U332: =SUM(C332:T332) -> 650.62

Sheet 2024
A1: Resident Average Daily Membership by District and Grade
A3: District No: | B3: District Type: | C3: EC | D3: PK | E3: HK | F3: K-Full | G3: K-Half | H3: K-L | I3: 1 | J3: 2 | K3: 3 | L3: 4 | M3: 5 | N3: 6 | O3: 7 | P3: 8 | Q3: 9 | R3: 10 | S3: 11 | T3: 12 | U3: Total
A4: 1 | B4: 1 | C4: 8.17 | D4: 0 | F4: 55.52 | G4: 0 | I4: 68.52 | J4: 53 | K4: 60.41 | L4: 56.64 | M4: 62.04 | N4: 87.52 | O4: 72.65 | P4: 87.61 | Q4: 89.98 | R4: 95.07 | S4: 98.4 | T4: 79.66 | U4: =SUM(C4:T4) -> 975.19
A5: 1 | B5: 3 | C5: 633.83 | D5: 277.75 | F5: 3629.49 | G5: 2.18 | I5: 3716.38 | J5: 3896.1 | K5: 3612.76 | L5: 3708.56 | M5: 3672.85 | N5: 3413.46 | O5: 3446.7 | P5: 3511.69 | Q5: 3553.02 | R5: 3649.59 | S5: 3397.2 | T5: 3572.33 | U5: =SUM(C5:T5) -> 47693.89
A6: 2 | B6: 1 | C6: 5.54 | D6: 3.6 | F6: 23.15 | G6: 0 | I6: 13.41 | J6: 10.79 | K6: 13.97 | L6: 23.91 | M6: 18.79 | N6: 18.51 | O6: 18.98 | P6: 17.82 | Q6: 20.82 | R6: 15.03 | S6: 22.21 | T6: 19.84 | U6: =SUM(C6:T6) -> 246.37
A7: 4 | B7: 1 | C7: 3.67 | D7: 6 | F7: 40.13 | G7: 0 | I7: 25.04 | J7: 29.03 | K7: 22.84 | L7: 38.29 | M7: 39.49 | N7: 27.02 | O7: 28.85 | P7: 46.17 | Q7: 45.21 | R7: 43.9 | S7: 45.19 | T7: 35.9 | U7: =SUM(C7:T7) -> 476.73
A8: 6 | B8: 3 | C8: 50.08 | D8: 67.67 | F8: 175.62 | G8: 1 | I8: 202.6 | J8: 199.13 | K8: 214.8 | L8: 213.73 | M8: 213.27 | N8: 197.9 | O8: 189.14 | P8: 234.34 | Q8: 244.93 | R8: 235.66 | S8: 246.39 | T8: 256.22 | U8: =SUM(C8:T8) -> 2942.48
A9: 11 | B9: 1 | C9: 580.93 | D9: 93.95 | F9: 2893.74 | G9: 3.88 | I9: 3005.67 | J9: 3172.78 | K9: 3108.14 | L9: 3205.89 | M9: 3256.01 | N9: 3149.64 | O9: 3197.12 | P9: 3314.84 | Q9: 3485 | R9: 3514.3 | S9: 3372.07 | T9: 3468.64 | U9: =SUM(C9:T9) -> 42822.6
A10: 12 | B10: 1 | C10: 71.25 | D10: 2.39 | F10: 378.98 | G10: 0 | I10: 404.66 | J10: 449.79 | K10: 398.06 | L10: 465 | M10: 429.19 | N10: 474.6 | O10: 449.31 | P10: 434.19 | Q10: 437 | R10: 437.33 | S10: 432.82 | T10: 366.66 | U10: =SUM(C10:T10) -> 5631.23
A11: 13 | B11: 1 | C11: 73.02 | D11: 74.62 | F11: 261.32 | G11: 1.89 | I11: 301.62 | J11: 266.64 | K11: 256.27 | L11: 303.19 | M11: 229.79 | N11: 255.46 | O11: 291.95 | P11: 284.43 | Q11: 265.81 | R11: 331.37 | S11: 315.16 | T11: 297.09 | U11: =SUM(C11:T11) -> 3809.63
A12: 14 | B12: 1 | C12: 28.39 | D12: 55.3 | F12: 200.31 | G12: 0.38 | I12: 199.95 | J12: 190.35 | K12: 195.33 | L12: 184.28 | M12: 190.36 | N12: 180.78 | O12: 166.19 | P12: 188.33 | Q12: 208.67 | R12: 189.32 | S12: 183.53 | T12: 171.63 | U12: =SUM(C12:T12) -> 2533.1
A13: 15 | B13: 1 | C13: 54.4 | D13: 0.6 | F13: 331.89 | G13: 0 | I13: 352.56 | J13: 376.42 | K13: 358.02 | L13: 392.1 | M13: 370.07 | N13: 387.03 | O13: 395.95 | P13: 385.99 | Q13: 384.3 | R13: 407.03 | S13: 395.54 | T13: 375.62 | U13: =SUM(C13:T13) -> 4967.52
A14: 16 | B14: 1 | C14: 57.84 | D14: 26.27 | F14: 351.1 | G14: 0 | I14: 369.83 | J14: 407.16 | K14: 385.27 | L14: 397.82 | M14: 385.19 | N14: 382.18 | O14: 446.72 | P14: 428.67 | Q14: 424.91 | R14: 472.47 | S14: 447.14 | T14: 464.87 | U14: =SUM(C14:T14) -> 5447.44
A15: 22 | B15: 1 | C15: 38.64 | D15: 6.6 | F15: 181.97 | G15: 1 | I15: 193.85 | J15: 189.13 | K15: 186.67 | L15: 184.7 | M15: 208.72 | N15: 191.77 | O15: 214.6 | P15: 197.38 | Q15: 219.9 | R15: 209.35 | S15: 243.38 | T15: 213.41 | U15: =SUM(C15:T15) -> 2681.07
... A332: 2910 | B332: 1 | C332: 16.11 | D332: 17.14 | F332: 50.61 | G332: 0 | I332: 51.02 | J332: 54.27 | K332: 47.35 | L332: 43.11 | M332: 47.27 | N332: 36.08 | O332: 41.04 | P332: 47.2 | Q332: 35.91 | R332: 58.85 | S332: 56.83 | T332: 38.46 | U332: =SUM(C332:T332) -> 641.25

Sheet 2023
A1: 2022-23 Resident Average Daily Membership by District and Grade
A3: District No: | B3: District Type: | C3: EC | D3: PK | E3: HK | F3: K-Full | G3: K-Half | H3: K-L | I3: 1 | J3: 2 | K3: 3 | L3: 4 | M3: 5 | N3: 6 | O3: 7 | P3: 8 | Q3: 9 | R3: 10 | S3: 11 | T3: 12 | U3: Total
A4: 1 | B4: 1 | C4: 7.55 | D4: 1.78 | E4: 11.05 | F4: 0 | G4: 0 | H4: 56.91 | I4: 53.61 | J4: 60.75 | K4: 52.54 | L4: 64.15 | M4: 88.25 | N4: 71.45 | O4: 87.26 | P4: 82.75 | Q4: 92.47 | R4: 98.3 | S4: 71.06 | T4: 94.14 | U4: =SUM(C4:T4) -> 994.02
A5: 2 | B5: 1 | C5: 4.39 | D5: 2.6 | E5: 3.14 | F5: 0 | G5: 0 | H5: 8.77 | I5: 10.52 | J5: 13.32 | K5: 18.24 | L5: 14.38 | M5: 15.76 | N5: 15.92 | O5: 18.42 | P5: 17.2 | Q5: 15.25 | R5: 25.03 | S5: 23.03 | T5: 20.86 | U5: =SUM(C5:T5) -> 226.83
A6: 4 | B6: 1 | C6: 4.33 | D6: 6.28 | E6: 4.35 | F6: 0 | G6: 0 | H6: 19.78 | I6: 29.51 | J6: 17.2 | K6: 39.89 | L6: 39.81 | M6: 24.79 | N6: 28.99 | O6: 46.39 | P6: 40.82 | Q6: 41.66 | R6: 46.53 | S6: 35.75 | T6: 38.7 | U6: =SUM(C6:T6) -> 464.78
A7: 11 | B7: 1 | C7: 500.39 | D7: 79.41 | E7: 474.82 | F7: 3.37 | G7: 0 | H7: 2466.23 | I7: 3105.57 | J7: 3046.06 | K7: 3180.75 | L7: 3176.22 | M7: 3063.3 | N7: 3159.14 | O7: 3247.68 | P7: 3327.19 | Q7: 3464.11 | R7: 3407.18 | S7: 3347.81 | T7: 3431.49 | U7: =SUM(C7:T7) -> 42480.72
A8: 12 | B8: 1 | C8: 63.46 | D8: 1.12 | E8: 70.72 | F8: 0 | G8: 0 | H8: 332.8 | I8: 449.88 | J8: 384.75 | K8: 464.43 | L8: 435.91 | M8: 469.63 | N8: 448.96 | O8: 422.75 | P8: 440.05 | Q8: 451.37 | R8: 462.64 | S8: 398.86 | T8: 377.02 | U8: =SUM(C8:T8) -> 5674.35
A9: 13 | B9: 1 | C9: 46.7 | D9: 86.66 | E9: 43.78 | F9: 0 | G9: 0 | H9: 256.07 | I9: 261.72 | J9: 242.21 | K9: 305.52 | L9: 219.88 | M9: 251.1 | N9: 277.09 | O9: 276.03 | P9: 267.42 | Q9: 323.89 | R9: 318.59 | S9: 279.44 | T9: 343.53 | U9: =SUM(C9:T9) -> 3799.63
A10: 14 | B10: 1 | C10: 24.45 | D10: 49.56 | E10: 31.86 | F10: 0 | G10: 0 | H10: 170.15 | I10: 202.82 | J10: 203.54 | K10: 190.12 | L10: 188.87 | M10: 169.96 | N10: 169.78 | O10: 181.84 | P10: 208.47 | Q10: 192.58 | R10: 186 | S10: 163.39 | T10: 147.56 | U10: =SUM(C10:T10) -> 2480.95
A11: 15 | B11: 1 | C11: 50.09 | D11: 0.5 | E11: 73.47 | F11: 1 | G11: 0 | H11: 277.02 | I11: 367.04 | J11: 352 | K11: 380.83 | L11: 360.49 | M11: 382.32 | N11: 392.06 | O11: 382.85 | P11: 382.78 | Q11: 412.29 | R11: 425.07 | S11: 372.21 | T11: 396.84 | U11: =SUM(C11:T11) -> 5008.86
A12: 16 | B12: 1 | C12: 61.84 | D12: 24.91 | E12: 49.32 | F12: 0 | G12: 0 | H12: 318.02 | I12: 414.04 | J12: 389.74 | K12: 390.91 | L12: 402.37 | M12: 375.38 | N12: 445.05 | O12: 433.56 | P12: 420.43 | Q12: 482.49 | R12: 462.95 | S12: 447.53 | T12: 429.06 | U12: =SUM(C12:T12) -> 5547.6
A13: 22 | B13: 1 | C13: 39.74 | D13: 4.94 | E13: 38.09 | F13: 0 | G13: 0 | H13: 156.6 | I13: 192.59 | J13: 179.93 | K13: 175.43 | L13: 206.09 | M13: 191.32 | N13: 210.74 | O13: 193.66 | P13: 195 | Q13: 209.44 | R13: 248.38 | S13: 217.47 | T13: 224.42 | U13: =SUM(C13:T13) -> 2683.84
A14: 23 | B14: 1 | C14: 20.33 | D14: 1.16 | E14: 22.24 | F14: 0 | G14: 0 | H14: 46.82 | I14: 77.61 | J14: 70.99 | K14: 72.65 | L14: 63.11 | M14: 82.22 | N14: 74.56 | O14: 91.5 | P14: 72.23 | Q14: 88.34 | R14: 85.43 | S14: 82.1 | T14: 80.96 | U14: =SUM(C14:T14) -> 1032.25
A15: 25 | B15: 1 | C15: 0 | D15: 0 | E15: 0.24 | F15: 0 | G15: 0 | H15: 5.9 | I15: 7.88 | J15: 9.84 | K15: 8.82 | L15: 10.1 | M15: 9.33 | N15: 6.28 | O15: 11.32 | P15: 5.25 | Q15: 0 | R15: 0 | S15: 0 | T15: 0 | U15: =SUM(C15:T15) -> 74.96
... A328: 2910 | B328: 1 | C328: 13.78 | D328: 22.66 | E328: 2.02 | F328: 0 | G328: 0 | H328: 49.27 | I328: 46.63 | J328: 47.35 | K328: 42.97 | L328: 44.79 | M328: 34.66 | N328: 37.93 | O328: 45.29 | P328: 32.01 | Q328: 60.18 | R328: 60.71 | S328: 44.45 | T328: 45.36 | U328: =SUM(C328:T328) -> 630.06

Sheet 2022
A1: 2021-22 Resident Average Daily Membership by District and Grade
A3: District No: | B3: District Type: | C3: EC | D3: PK | E3: HK | F3: K-Full | G3: K-Half | H3: K-L | I3: 1 | J3: 2 | K3: 3 | L3: 4 | M3: 5 | N3: 6 | O3: 7 | P3: 8 | Q3: 9 | R3: 10 | S3: 11 | T3: 12 | U3: Total
A4: 1 | B4: 1 | C4: 6.39 | D4: 0 | E4: 7.3 | F4: 0 | G4: 0 | H4: 42.82 | I4: 63.84 | J4: 57.46 | K4: 58.77 | L4: 92.71 | M4: 70.66 | N4: 89.05 | O4: 81.02 | P4: 91.21 | Q4: 97.15 | R4: 75.86 | S4: 91.01 | T4: 95.77 | U4: =SUM(C4:T4) -> 1021.02
A5: 2 | B5: 1 | C5: 3.14 | D5: 3.23 | E5: 2.07 | F5: 0 | G5: 0 | H5: 6.71 | I5: 12.21 | J5: 16.38 | K5: 15.93 | L5: 14.79 | M5: 14.76 | N5: 19.21 | O5: 14.38 | P5: 16.95 | Q5: 23.17 | R5: 23.68 | S5: 20.97 | T5: 30.6 | U5: =SUM(C5:T5) -> 238.18
A6: 4 | B6: 1 | C6: 5.14 | D6: 7.41 | E6: 6.81 | F6: 0 | G6: 0 | H6: 20.02 | I6: 16.64 | J6: 40.18 | K6: 36.93 | L6: 26.8 | M6: 32.33 | N6: 42.65 | O6: 43.25 | P6: 38.8 | Q6: 51.19 | R6: 34.48 | S6: 38.22 | T6: 38.51 | U6: =SUM(C6:T6) -> 479.36
A7: 11 | B7: 1 | C7: 490.16 | D7: 84.92 | E7: 451.54 | F7: 4.29 | G7: 0 | H7: 2555.77 | I7: 2935.34 | J7: 3080.96 | K7: 3060.72 | L7: 2965.38 | M7: 3060.95 | N7: 3178.96 | O7: 3238.64 | P7: 3314.68 | Q7: 3359.38 | R7: 3396.3 | S7: 3186.42 | T7: 3590.05 | U7: =SUM(C7:T7) -> 41954.46
A8: 12 | B8: 1 | C8: 62.66 | D8: 1.75 | E8: 63.71 | F8: 0 | G8: 0 | H8: 366.8 | I8: 371.59 | J8: 441.15 | K8: 421.49 | L8: 455.2 | M8: 432.26 | N8: 412.09 | O8: 435.9 | P8: 442.91 | Q8: 459.14 | R8: 426.08 | S8: 409.21 | T8: 419.92 | U8: =SUM(C8:T8) -> 5621.86
A9: 13 | B9: 1 | C9: 55.55 | D9: 80.39 | E9: 35.33 | F9: 1 | G9: 0 | H9: 218.19 | I9: 249.2 | J9: 299.32 | K9: 234.4 | L9: 249.84 | M9: 260.35 | N9: 294.31 | O9: 263.44 | P9: 315.49 | Q9: 273.52 | R9: 280.04 | S9: 304.38 | T9: 291.9 | U9: =SUM(C9:T9) -> 3706.65
A10: 14 | B10: 1 | C10: 23.99 | D10: 49.67 | E10: 25.6 | F10: 0 | G10: 0 | H10: 171.77 | I10: 207.52 | J10: 193.99 | K10: 189.19 | L10: 178.86 | M10: 163.33 | N10: 187.63 | O10: 200.01 | P10: 200.69 | Q10: 181.33 | R10: 170.17 | S10: 157.22 | T10: 185.75 | U10: =SUM(C10:T10) -> 2486.72
A11: 15 | B11: 1 | C11: 51.31 | D11: 0 | E11: 71.33 | F11: 1 | G11: 0 | H11: 296.45 | I11: 342.51 | J11: 383.58 | K11: 354.17 | L11: 380.15 | M11: 389.3 | N11: 378.79 | O11: 374.45 | P11: 396.74 | Q11: 408.2 | R11: 407.29 | S11: 380.84 | T11: 424.22 | U11: =SUM(C11:T11) -> 5040.33
A12: 16 | B12: 1 | C12: 51.99 | D12: 25.39 | E12: 49.98 | F12: 0.02 | G12: 0 | H12: 360.06 | I12: 405.81 | J12: 394.41 | K12: 409.24 | L12: 369.07 | M12: 451.18 | N12: 442.73 | O12: 423.35 | P12: 486.16 | Q12: 467.52 | R12: 493.29 | S12: 412.75 | T12: 496.68 | U12: =SUM(C12:T12) -> 5739.63
A13: 22 | B13: 1 | C13: 40.57 | D13: 4.19 | E13: 41.82 | F13: 1 | G13: 0 | H13: 159.05 | I13: 175.06 | J13: 181.43 | K13: 205.05 | L13: 191.35 | M13: 201.27 | N13: 198.66 | O13: 190.8 | P13: 196.12 | Q13: 261.51 | R13: 232.25 | S13: 232.9 | T13: 184.56 | U13: =SUM(C13:T13) -> 2697.59
A14: 23 | B14: 1 | C14: 13.29 | D14: 0.6 | E14: 16.54 | F14: 1.09 | G14: 0 | H14: 56.48 | I14: 64.7 | J14: 76.47 | K14: 61.31 | L14: 80.77 | M14: 71.57 | N14: 90.03 | O14: 67.83 | P14: 87.86 | Q14: 84.66 | R14: 88.81 | S14: 89.37 | T14: 76.68 | U14: =SUM(C14:T14) -> 1028.06
A15: 25 | B15: 1 | C15: 0 | D15: 0 | E15: 2 | F15: 0 | G15: 0 | H15: 8.52 | I15: 8.38 | J15: 10.55 | K15: 10.05 | L15: 10.32 | M15: 5.84 | N15: 8.7 | O15: 9.02 | P15: 8.1 | Q15: 0 | R15: 0 | S15: 0 | T15: 0 | U15: =SUM(C15:T15) -> 81.48
... A328: 2910 | B328: 1 | C328: 5.59 | D328: 26.02 | E328: 8.57 | F328: 1 | G328: 0 | H328: 42.15 | I328: 45.59 | J328: 46.09 | K328: 44.37 | L328: 40.39 | M328: 40.76 | N328: 45.27 | O328: 32.83 | P328: 62.15 | Q328: 57.78 | R328: 43.05 | S328: 53.75 | T328: 47.86 | U328: =SUM(C328:T328) -> 643.22

Sheet 2021
A1: 2020-21 Resident Average Daily Membership by District and Grade
A3: District Number | B3: District Type | C3: EC | D3: PK | E3: HK | F3: K-Half | G3: K-L | H3: K-Full | I3: 1 | J3: 2 | K3: 3 | L3: 4 | M3: 5 | N3: 6 | O3: 7 | P3: 8 | Q3: 9 | R3: 10 | S3: 11 | T3: 12 | U3: Total
A4: 1 | B4: 1 | C4: 7.53 | D4: 0.6 | E4: 7.92 | F4: 0 | G4: 0 | H4: 52.24 | I4: 61.09 | J4: 53.62 | K4: 89.64 | L4: 70.62 | M4: 88.67 | N4: 82.42 | O4: 88.52 | P4: 99.03 | Q4: 80.7 | R4: 94.96 | S4: 100.08 | T4: 103.06 | U4: =SUM(C4:T4) -> 1080.7
A5: 2 | B5: 1 | C5: 4.47 | D5: 1.73 | E5: 4 | F5: 0 | G5: 0 | H5: 8.49 | I5: 11.96 | J5: 15.89 | K5: 13.62 | L5: 13.98 | M5: 19.74 | N5: 14.97 | O5: 18.67 | P5: 20.95 | Q5: 23.6 | R5: 23.05 | S5: 31.99 | T5: 14.76 | U5: =SUM(C5:T5) -> 241.87
A6: 4 | B6: 1 | C6: 7.65 | D6: 6.81 | E6: 6.88 | F6: 0 | G6: 0 | H6: 11.92 | I6: 42.48 | J6: 34.36 | K6: 26.95 | L6: 30 | M6: 46.95 | N6: 42.2 | O6: 40.71 | P6: 51.2 | Q6: 41.89 | R6: 38.8 | S6: 42 | T6: 34.93 | U6: =SUM(C6:T6) -> 505.73
A7: 11 | B7: 1 | C7: 484.36 | D7: 81.68 | E7: 416.73 | F7: 2.07 | G7: 0 | H7: 2369.59 | I7: 2987.65 | J7: 2985.73 | K7: 2920.08 | L7: 3002.91 | M7: 3100.1 | N7: 3178.49 | O7: 3262.96 | P7: 3269.53 | Q7: 3400.21 | R7: 3289.74 | S7: 3377.27 | T7: 3419 | U7: =SUM(C7:T7) -> 41548.1
A8: 12 | B8: 1 | C8: 56.28 | D8: 0.92 | E8: 64.68 | F8: 0 | G8: 0 | H8: 305.32 | I8: 427.47 | J8: 405.01 | K8: 436.13 | L8: 418.26 | M8: 390.41 | N8: 426.17 | O8: 432.25 | P8: 459.66 | Q8: 440.94 | R8: 437.3 | S8: 432 | T8: 453.18 | U8: =SUM(C8:T8) -> 5585.98
A9: 13 | B9: 1 | C9: 46.45 | D9: 59.18 | E9: 28.68 | F9: 0 | G9: 0 | H9: 223.74 | I9: 287.81 | J9: 238.35 | K9: 272.54 | L9: 285.43 | M9: 295.96 | N9: 280.1 | O9: 311.12 | P9: 290.97 | Q9: 273.51 | R9: 320.79 | S9: 279.32 | T9: 307.6 | U9: =SUM(C9:T9) -> 3801.55
A10: 14 | B10: 1 | C10: 25.18 | D10: 40.09 | E10: 18.12 | F10: 0.23 | G10: 0 | H10: 183.58 | I10: 189.01 | J10: 184.99 | K10: 176.15 | L10: 162.86 | M10: 177.12 | N10: 199.49 | O10: 195.22 | P10: 170.17 | Q10: 157.3 | R10: 180.26 | S10: 182.07 | T10: 170.23 | U10: =SUM(C10:T10) -> 2412.07
A11: 15 | B11: 1 | C11: 53.37 | D11: 0 | E11: 46.39 | F11: 1 | G11: 0 | H11: 260.78 | I11: 367.73 | J11: 331.64 | K11: 361.58 | L11: 381.11 | M11: 362.2 | N11: 352.05 | O11: 392.21 | P11: 398.96 | Q11: 401.27 | R11: 393.71 | S11: 398.4 | T11: 370.16 | U11: =SUM(C11:T11) -> 4872.56
A12: 16 | B12: 1 | C12: 39.54 | D12: 21.43 | E12: 45.42 | F12: 0.62 | G12: 0 | H12: 362.81 | I12: 408.81 | J12: 423.93 | K12: 372.02 | L12: 472.33 | M12: 453.67 | N12: 431.69 | O12: 493.25 | P12: 505.92 | Q12: 493.36 | R12: 439.11 | S12: 442.57 | T12: 464.94 | U12: =SUM(C12:T12) -> 5871.42
A13: 22 | B13: 1 | C13: 41.02 | D13: 4.69 | E13: 38.53 | F13: 0 | G13: 0 | H13: 139.01 | I13: 181.77 | J13: 195.73 | K13: 187.64 | L13: 192.8 | M13: 196.57 | N13: 199.55 | O13: 198.73 | P13: 238.28 | Q13: 227.69 | R13: 234.14 | S13: 204.81 | T13: 193.03 | U13: =SUM(C13:T13) -> 2673.99
A14: 23 | B14: 1 | C14: 19.16 | D14: 0 | E14: 14.13 | F14: 0.66 | G14: 0 | H14: 55.86 | I14: 73.92 | J14: 62.42 | K14: 78.78 | L14: 70.92 | M14: 88.15 | N14: 62.23 | O14: 86.95 | P14: 84.29 | Q14: 86.99 | R14: 88.53 | S14: 74.41 | T14: 92.64 | U14: =SUM(C14:T14) -> 1040.04
A15: 25 | B15: 1 | C15: 0 | D15: 0 | E15: 6.52 | F15: 0 | G15: 0 | H15: 5.33 | I15: 10.18 | J15: 11.02 | K15: 9.4 | L15: 9.1 | M15: 10.63 | N15: 10.97 | O15: 9.6 | P15: 3.35 | Q15: 0 | R15: 0 | S15: 0 | T15: 0 | U15: =SUM(C15:T15) -> 86.1
... A329: 2909 | B329: 1 | C329: 20.28 | D329: 37.53 | E329: 23.24 | F329: 0 | G329: 0 | H329: 131.98 | I329: 172.15 | J329: 176.47 | K329: 161.11 | L329: 170.67 | M329: 180.95 | N329: 177.08 | O329: 225.71 | P329: 192.7 | Q329: 215.67 | R329: 205.26 | S329: 168.56 | T329: 197 | U329: =SUM(C329:T329) -> 2456.36

Sheet 2020
A1: 2019-20 Resident Average Daily Membership by District and Grade
A3: District Number | B3: District Type | C3: EC | D3: PK | E3: HK | F3: K-Half | G3: K-L | H3: K-Full | I3: 1 | J3: 2 | K3: 3 | L3: 4 | M3: 5 | N3: 6 | O3: 7 | P3: 8 | Q3: 9 | R3: 10 | S3: 11 | T3: 12 | U3: Total
A4: 1 | B4: 1 | C4: 9.11 | D4: 0.58 | E4: 14.35 | F4: 0 | G4: 0 | H4: 44.28 | I4: 58.27 | J4: 95.07 | K4: 72.66 | L4: 89.49 | M4: 81.98 | N4: 90.31 | O4: 101.68 | P4: 85.31 | Q4: 93.23 | R4: 108.27 | S4: 102.56 | T4: 82.95 | U4: =SUM(C4:T4) -> 1130.1
A5: 2 | B5: 1 | C5: 8.21 | D5: 1.56 | E5: 1.59 | F5: 0 | G5: 0 | H5: 10.72 | I5: 15.13 | J5: 17.04 | K5: 16 | L5: 20.29 | M5: 17.18 | N5: 18.35 | O5: 22.9 | P5: 20.02 | Q5: 20.9 | R5: 29.84 | S5: 17.21 | T5: 24.67 | U5: =SUM(C5:T5) -> 261.61
A6: 4 | B6: 1 | C6: 8.73 | D6: 6.38 | E6: 11.05 | F6: 0 | G6: 0 | H6: 28.66 | I6: 36.63 | J6: 27.66 | K6: 29.4 | L6: 44.08 | M6: 45.32 | N6: 41.23 | O6: 47.67 | P6: 38.99 | Q6: 40.45 | R6: 43.53 | S6: 41.32 | T6: 34.76 | U6: =SUM(C6:T6) -> 525.86
A7: 11 | B7: 1 | C7: 572.13 | D7: 84.87 | E7: 494.2 | F7: 8.66 | G7: 0 | H7: 2572.98 | I7: 3034.46 | J7: 2960.4 | K7: 3085.55 | L7: 3125.42 | M7: 3162.09 | N7: 3263.11 | O7: 3286.71 | P7: 3305.03 | Q7: 3261.83 | R7: 3440.88 | S7: 3137.75 | T7: 3326.6 | U7: =SUM(C7:T7) -> 42122.67
A8: 12 | B8: 1 | C8: 63.8 | D8: 0.64 | E8: 48.13 | F8: 0 | G8: 0 | H8: 379.78 | I8: 408.13 | J8: 424.55 | K8: 420.31 | L8: 400.9 | M8: 433.76 | N8: 436.81 | O8: 464.45 | P8: 431.11 | Q8: 434.92 | R8: 455.03 | S8: 441.4 | T8: 470.07 | U8: =SUM(C8:T8) -> 5713.79
A9: 13 | B9: 1 | C9: 46.56 | D9: 72.53 | E9: 40.29 | F9: 0 | G9: 0 | H9: 255.25 | I9: 248.37 | J9: 273.06 | K9: 299.41 | L9: 293.68 | M9: 289.59 | N9: 325.72 | O9: 296.16 | P9: 277.98 | Q9: 321.34 | R9: 299.62 | S9: 252.36 | T9: 301.86 | U9: =SUM(C9:T9) -> 3893.78
A10: 14 | B10: 1 | C10: 24.25 | D10: 59.94 | E10: 20.6 | F10: 0 | G10: 0 | H10: 187.97 | I10: 194.08 | J10: 187.17 | K10: 171.98 | L10: 182.74 | M10: 197.63 | N10: 196.63 | O10: 161.76 | P10: 165.11 | Q10: 179.08 | R10: 198.36 | S10: 167.08 | T10: 174.03 | U10: =SUM(C10:T10) -> 2468.41
A11: 15 | B11: 1 | C11: 55.19 | D11: 0.66 | E11: 64.01 | F11: 0 | G11: 0 | H11: 303.07 | I11: 332.98 | J11: 365.55 | K11: 371.09 | L11: 365.67 | M11: 363.87 | N11: 390.91 | O11: 384.64 | P11: 385.73 | Q11: 403.11 | R11: 441.37 | S11: 377.67 | T11: 399.18 | U11: =SUM(C11:T11) -> 5004.7
A12: 16 | B12: 1 | C12: 40.56 | D12: 22.8 | E12: 53.81 | F12: 0.86 | G12: 0 | H12: 362.88 | I12: 439.4 | J12: 368 | K12: 465.39 | L12: 440.02 | M12: 450.26 | N12: 494.95 | O12: 493.37 | P12: 497.43 | Q12: 431 | R12: 465.75 | S12: 403.88 | T12: 439.4 | U12: =SUM(C12:T12) -> 5869.76
A13: 22 | B13: 1 | C13: 47.14 | D13: 3.24 | E13: 48.05 | F13: 0.79 | G13: 0 | H13: 145.47 | I13: 209.51 | J13: 211.54 | K13: 199.71 | L13: 212.87 | M13: 205.7 | N13: 210 | O13: 246.37 | P13: 232.06 | Q13: 242.69 | R13: 220.67 | S13: 217.78 | T13: 190.3 | U13: =SUM(C13:T13) -> 2843.89
A14: 23 | B14: 1 | C14: 12.06 | D14: 0 | E14: 15.48 | F14: 2 | G14: 0 | H14: 59.47 | I14: 60.8 | J14: 80.46 | K14: 70.81 | L14: 87.24 | M14: 65.52 | N14: 85.69 | O14: 85.53 | P14: 85.86 | Q14: 93.22 | R14: 77.84 | S14: 98.5 | T14: 76.75 | U14: =SUM(C14:T14) -> 1057.23
A15: 25 | B15: 1 | C15: 0 | D15: 0 | E15: 2.14 | F15: 0 | G15: 0 | H15: 7.98 | I15: 13.02 | J15: 12.2 | K15: 12.44 | L15: 11.92 | M15: 11.13 | N15: 8.35 | O15: 3.54 | P15: 5.08 | Q15: 0 | R15: 0 | S15: 0 | T15: 0 | U15: =SUM(C15:T15) -> 87.8
... A332: 2908 | B332: 1 | C332: 12.96 | D332: 1.8 | E332: 4.62 | F332: 0 | G332: 0 | H332: 38.62 | I332: 38.03 | J332: 52.76 | K332: 44.12 | L332: 49.55 | M332: 35.17 | N332: 44.2 | O332: 42.35 | P332: 46.67 | Q332: 48.78 | R332: 43.02 | S332: 32.04 | T332: 43.88 | U332: =SUM(C332:T332) -> 578.57

Sheet 2019
A1: 2018-19 Resident Average Daily Membership by District and Grade
A3: District Number | B3: District Type | C3: EC | D3: PK | E3: HK | F3: K-Half | G3: K-L | H3: K-Full | I3: 1 | J3: 2 | K3: 3 | L3: 4 | M3: 5 | N3: 6 | O3: 7 | P3: 8 | Q3: 9 | R3: 10 | S3: 11 | T3: 12 | U3: Total
A4: 1 | B4: 1 | C4: 12.21 | D4: 0 | E4: 12.8 | F4: 0 | G4: 0 | H4: 48.77 | I4: 97.11 | J4: 75.27 | K4: 94.38 | L4: 80.54 | M4: 89.76 | N4: 98.68 | O4: 82.86 | P4: 99.8 | Q4: 108.97 | R4: 107.37 | S4: 74.14 | T4: 91.1 | U4: =SUM(C4:T4) -> 1173.76
A5: 2 | B5: 1 | C5: 12.1 | D5: 0.78 | E5: 5.73 | F5: 0 | G5: 0 | H5: 10.23 | I5: 18 | J5: 16.11 | K5: 20.81 | L5: 14.01 | M5: 20.34 | N5: 19.92 | O5: 19 | P5: 23.2 | Q5: 30.04 | R5: 18.57 | S5: 25.88 | T5: 19.57 | U5: =SUM(C5:T5) -> 274.29
A6: 4 | B6: 1 | C6: 9.36 | D6: 5.97 | E6: 16.08 | F6: 0 | G6: 0 | H6: 22.36 | I6: 28.84 | J6: 27.38 | K6: 43.39 | L6: 44.7 | M6: 41.04 | N6: 50.5 | O6: 34.54 | P6: 39.73 | Q6: 42.17 | R6: 46.25 | S6: 32.76 | T6: 28.28 | U6: =SUM(C6:T6) -> 513.35
A7: 11 | B7: 1 | C7: 527.42 | D7: 77.97 | E7: 437.3 | F7: 15.27 | G7: 0 | H7: 2520.14 | I7: 2938.26 | J7: 3020.35 | K7: 3087.08 | L7: 3087.56 | M7: 3164.69 | N7: 3248.51 | O7: 3261.94 | P7: 3167.98 | Q7: 3384.75 | R7: 3197 | S7: 3116.31 | T7: 3480.37 | U7: =SUM(C7:T7) -> 41732.9
A8: 12 | B8: 1 | C8: 54.48 | D8: 1.18 | E8: 56.94 | F8: 0.24 | G8: 0 | H8: 343.33 | I8: 406.44 | J8: 412.45 | K8: 395.24 | L8: 420.63 | M8: 432.34 | N8: 454.83 | O8: 432.03 | P8: 418.69 | Q8: 473.37 | R8: 459.74 | S8: 474.59 | T8: 448.46 | U8: =SUM(C8:T8) -> 5684.98
A9: 13 | B9: 1 | C9: 51.29 | D9: 64.49 | E9: 24.96 | F9: 0 | G9: 0 | H9: 225.62 | I9: 266.8 | J9: 302.5 | K9: 295.28 | L9: 291.95 | M9: 346.63 | N9: 291.23 | O9: 278.72 | P9: 307.51 | Q9: 298.11 | R9: 269.57 | S9: 279.94 | T9: 306.21 | U9: =SUM(C9:T9) -> 3900.81
A10: 14 | B10: 1 | C10: 25.26 | D10: 47.64 | E10: 18.57 | F10: 0.89 | G10: 0 | H10: 173.69 | I10: 190.97 | J10: 189.41 | K10: 192.66 | L10: 201.45 | M10: 207.83 | N10: 165.47 | O10: 169.69 | P10: 170.26 | Q10: 198.26 | R10: 186.09 | S10: 164.95 | T10: 179.43 | U10: =SUM(C10:T10) -> 2482.52
A11: 15 | B11: 1 | C11: 60.03 | D11: 1.08 | E11: 59.5 | F11: 1 | G11: 0 | H11: 264.23 | I11: 380.46 | J11: 373.12 | K11: 381.22 | L11: 365.23 | M11: 391.52 | N11: 390.12 | O11: 388.34 | P11: 391.51 | Q11: 431.42 | R11: 427.73 | S11: 388.33 | T11: 397.46 | U11: =SUM(C11:T11) -> 5092.3
A12: 16 | B12: 1 | C12: 49.24 | D12: 25 | E12: 71.03 | F12: 0 | G12: 0 | H12: 361.77 | I12: 352.51 | J12: 460.01 | K12: 442.19 | L12: 452.53 | M12: 487.99 | N12: 480.25 | O12: 494.58 | P12: 426.77 | Q12: 460.64 | R12: 408.19 | S12: 416.98 | T12: 400.64 | U12: =SUM(C12:T12) -> 5790.32
A13: 22 | B13: 1 | C13: 67.84 | D13: 4.77 | E13: 45.86 | F13: 0 | G13: 0 | H13: 164.86 | I13: 204.34 | J13: 206.4 | K13: 215.11 | L13: 206.74 | M13: 200.7 | N13: 240.76 | O13: 235.23 | P13: 225.9 | Q13: 226.95 | R13: 227.07 | S13: 205.22 | T13: 184.18 | U13: =SUM(C13:T13) -> 2861.93
A14: 23 | B14: 1 | C14: 12.2 | D14: 0.53 | E14: 17.34 | F14: 0 | G14: 0 | H14: 49.73 | I14: 80.72 | J14: 69.88 | K14: 91.89 | L14: 68.76 | M14: 95.43 | N14: 89.01 | O14: 83.94 | P14: 93.38 | Q14: 81.2 | R14: 98.59 | S14: 81.02 | T14: 79.48 | U14: =SUM(C14:T14) -> 1093.1
A15: 25 | B15: 1 | C15: 0 | D15: 0 | E15: 3 | F15: 0 | G15: 0 | H15: 10.3 | I15: 12.21 | J15: 10.83 | K15: 10.8 | L15: 10.52 | M15: 9.95 | N15: 3.78 | O15: 6.6 | P15: 6.91 | Q15: 0 | R15: 0 | S15: 0 | T15: 0 | U15: =SUM(C15:T15) -> 84.9
... A332: 2908 | B332: 1 | C332: 10.2 | D332: 1.2 | E332: 6.76 | F332: 0 | G332: 0 | H332: 31.49 | I332: 54.24 | J332: 44.61 | K332: 53.48 | L332: 32.99 | M332: 49 | N332: 40.68 | O332: 47.77 | P332: 51.71 | Q332: 40 | R332: 32 | S332: 43 | T332: 31.35 | U332: =SUM(C332:T332) -> 570.48

Sheet 2018
A1: 2017-18 Resident Average Daily Membership by District and Grade
A3: District Number | B3: District Type | C3: EC | D3: PK | E3: HK | F3: K-Half | G3: K-L | H3: K-Full | I3: 1 | J3: 2 | K3: 3 | L3: 4 | M3: 5 | N3: 6 | O3: 7 | P3: 8 | Q3: 9 | R3: 10 | S3: 11 | T3: 12 | U3: Total
A4: 1 | B4: 1 | C4: 9.48 | D4: 0.52 | E4: 18.46 | F4: 0 | G4: 0 | H4: 74.21 | I4: 76.88 | J4: 89.71 | K4: 78.28 | L4: 92.31 | M4: 94.73 | N4: 81.82 | O4: 100.3 | P4: 109.69 | Q4: 102.33 | R4: 73.22 | S4: 90.34 | T4: 82.26 | U4: =SUM(C4:T4) -> 1174.54
A5: 2 | B5: 1 | C5: 11.27 | D5: 1.2 | E5: 5.24 | F5: 0 | G5: 0 | H5: 15.54 | I5: 17.74 | J5: 20.84 | K5: 16.02 | L5: 23.15 | M5: 20 | N5: 18.71 | O5: 21.53 | P5: 30.9 | Q5: 19.3 | R5: 25.07 | S5: 20.03 | T5: 17.45 | U5: =SUM(C5:T5) -> 283.99
A6: 4 | B6: 1 | C6: 9.66 | D6: 7.53 | E6: 9 | F6: 0 | G6: 0 | H6: 19.04 | I6: 25.76 | J6: 40.81 | K6: 42.43 | L6: 37.6 | M6: 47.43 | N6: 32.59 | O6: 38.57 | P6: 36.73 | Q6: 47.32 | R6: 33.76 | S6: 31.53 | T6: 26.78 | U6: =SUM(C6:T6) -> 486.54
A7: 11 | B7: 1 | C7: 527.2 | D7: 85.55 | E7: 389.22 | F7: 26.76 | G7: 0 | H7: 2504.42 | I7: 2927.46 | J7: 3010.08 | K7: 3052.95 | L7: 3093.22 | M7: 3187.57 | N7: 3217.63 | O7: 3106.17 | P7: 3266.06 | Q7: 3155.9 | R7: 3163.35 | S7: 3259.02 | T7: 3340.32 | U7: =SUM(C7:T7) -> 41312.88
A8: 12 | B8: 1 | C8: 51.35 | D8: 0.6 | E8: 37.26 | F8: 0 | G8: 0 | H8: 361.07 | I8: 398.2 | J8: 395.92 | K8: 412.2 | L8: 421.99 | M8: 453.2 | N8: 429.61 | O8: 429.13 | P8: 467.51 | Q8: 456.33 | R8: 486.64 | S8: 436.36 | T8: 454.93 | U8: =SUM(C8:T8) -> 5692.3
A9: 13 | B9: 1 | C9: 44.16 | D9: 62 | E9: 40.12 | F9: 0 | G9: 0 | H9: 223.92 | I9: 294.13 | J9: 309.16 | K9: 306.32 | L9: 345.69 | M9: 302.51 | N9: 292.8 | O9: 328.43 | P9: 295.24 | Q9: 283.75 | R9: 315.5 | S9: 289.42 | T9: 282.9 | U9: =SUM(C9:T9) -> 4016.05
A10: 14 | B10: 1 | C10: 20.96 | D10: 46.12 | E10: 18.35 | F10: 0 | G10: 0 | H10: 187.68 | I10: 193.47 | J10: 199.48 | K10: 210.67 | L10: 215.09 | M10: 184.75 | N10: 177.39 | O10: 165.56 | P10: 194.63 | Q10: 173.15 | R10: 177.73 | S10: 175.89 | T10: 152.1 | U10: =SUM(C10:T10) -> 2493.02
A11: 15 | B11: 1 | C11: 57.95 | D11: 0.22 | E11: 59.95 | F11: 4.72 | G11: 0 | H11: 298.27 | I11: 377.33 | J11: 372.06 | K11: 369.52 | L11: 381.65 | M11: 405.78 | N11: 386.73 | O11: 398.35 | P11: 417.02 | Q11: 427 | R11: 427.88 | S11: 398.43 | T11: 388.12 | U11: =SUM(C11:T11) -> 5170.98
A12: 16 | B12: 1 | C12: 51.91 | D12: 25.28 | E12: 40.65 | F12: 0 | G12: 0 | H12: 309.37 | I12: 442.42 | J12: 431.76 | K12: 445.83 | L12: 499.62 | M12: 461.84 | N12: 493.08 | O12: 432.29 | P12: 471 | Q12: 414.41 | R12: 427.04 | S12: 393.12 | T12: 447.51 | U12: =SUM(C12:T12) -> 5787.13
A13: 22 | B13: 1 | C13: 56.64 | D13: 4.71 | E13: 43.15 | F13: 0 | G13: 0 | H13: 162.15 | I13: 213.86 | J13: 214.69 | K13: 201.66 | L13: 206.38 | M13: 237.15 | N13: 244.54 | O13: 235.84 | P13: 220.65 | Q13: 230.14 | R13: 219 | S13: 196.93 | T13: 195.91 | U13: =SUM(C13:T13) -> 2883.4
A14: 23 | B14: 1 | C14: 11.31 | D14: 0 | E14: 19.42 | F14: 1.19 | G14: 0 | H14: 60.71 | I14: 67.56 | J14: 93.16 | K14: 71.14 | L14: 93.32 | M14: 80.95 | N14: 88.93 | O14: 95.19 | P14: 82.48 | Q14: 96.85 | R14: 84.56 | S14: 83.51 | T14: 84.49 | U14: =SUM(C14:T14) -> 1114.77
A15: 25 | B15: 1 | C15: 0 | D15: 0 | E15: 4.74 | F15: 0 | G15: 0 | H15: 7.26 | I15: 10.51 | J15: 11.16 | K15: 9.05 | L15: 5.59 | M15: 2.24 | N15: 6.22 | O15: 6.2 | P15: 3.87 | Q15: 0 | R15: 0 | S15: 0 | T15: 0 | U15: =SUM(C15:T15) -> 66.84
... A332: 2908 | B332: 1 | C332: 6.54 | D332: 0.6 | E332: 9.56 | F332: 0 | G332: 0 | H332: 45.17 | I332: 43.01 | J332: 52.39 | K332: 33.85 | L332: 46.6 | M332: 38.69 | N332: 48.07 | O332: 49.19 | P332: 37.79 | Q332: 30.36 | R332: 43.16 | S332: 35.13 | T332: 34.69 | U332: =SUM(C332:T332) -> 554.8

Sheet 2017
A1: 2016-17 Resident Average Daily Membership by District and Grade
A3: District Number | B3: District Type | C3: EC | D3: PK | E3: HK | F3: K-Half | G3: K-L | H3: K-Full | I3: 1 | J3: 2 | K3: 3 | L3: 4 | M3: 5 | N3: 6 | O3: 7 | P3: 8 | Q3: 9 | R3: 10 | S3: 11 | T3: 12 | U3: Total
A4: 1 | B4: 1 | C4: 11.66 | D4: 0.45 | E4: 10.74 | F4: 0 | G4: 0 | H4: 61.41 | I4: 84.51 | J4: 72.42 | K4: 91.13 | L4: 94.05 | M4: 77.31 | N4: 98.34 | O4: 109.83 | P4: 105.52 | Q4: 75.07 | R4: 95.96 | S4: 83.46 | T4: 94.11 | U4: =C4+D4+E4+F4+G4+H4+I4+J4+K4+L4+M4+N4+O4+P4+Q4+R4+S4+T4 -> 1165.97
A5: 2 | B5: 1 | C5: 6.71 | D5: 0 | E5: 6.88 | F5: 0 | G5: 0 | H5: 11.69 | I5: 20.31 | J5: 13.87 | K5: 19.58 | L5: 19.84 | M5: 16.83 | N5: 22 | O5: 30.52 | P5: 19.35 | Q5: 24.24 | R5: 20.34 | S5: 17.52 | T5: 18.99 | U5: =C5+D5+E5+F5+G5+H5+I5+J5+K5+L5+M5+N5+O5+P5+Q5+R5+S5+T5 -> 268.67
A6: 4 | B6: 1 | C6: 14.23 | D6: 4.95 | E6: 5 | F6: 0 | G6: 0 | H6: 21.01 | I6: 41.58 | J6: 44.44 | K6: 37.52 | L6: 45.76 | M6: 35.39 | N6: 37.95 | O6: 37.63 | P6: 47.89 | Q6: 37.64 | R6: 31.9 | S6: 27.13 | T6: 41.14 | U6: =C6+D6+E6+F6+G6+H6+I6+J6+K6+L6+M6+N6+O6+P6+Q6+R6+S6+T6 -> 511.16
A7: 11 | B7: 1 | C7: 473.67 | D7: 71.23 | E7: 373.25 | F7: 29.68 | G7: 0 | H7: 2480.45 | I7: 2950.23 | J7: 3044.46 | K7: 3056.95 | L7: 3179.53 | M7: 3127.44 | N7: 3088.99 | O7: 3212.4 | P7: 3089.25 | Q7: 3119 | R7: 3314.48 | S7: 3067.19 | T7: 3421.63 | U7: =C7+D7+E7+F7+G7+H7+I7+J7+K7+L7+M7+N7+O7+P7+Q7+R7+S7+T7 -> 41099.83
A8: 12 | B8: 1 | C8: 42.08 | D8: 0.34 | E8: 53.46 | F8: 2 | G8: 0 | H8: 333.73 | I8: 385.7 | J8: 390.73 | K8: 402.92 | L8: 444.71 | M8: 410.04 | N8: 427.87 | O8: 468.06 | P8: 455.51 | Q8: 480.57 | R8: 446.53 | S8: 435.7 | T8: 488.25 | U8: =C8+D8+E8+F8+G8+H8+I8+J8+K8+L8+M8+N8+O8+P8+Q8+R8+S8+T8 -> 5668.2
A9: 13 | B9: 1 | C9: 42.99 | D9: 54.06 | E9: 26.9 | F9: 2 | G9: 0 | H9: 243.91 | I9: 293.24 | J9: 281.45 | K9: 334.8 | L9: 305.19 | M9: 298.33 | N9: 324.44 | O9: 297.31 | P9: 262.25 | Q9: 300.1 | R9: 291.02 | S9: 264.99 | T9: 266.48 | U9: =C9+D9+E9+F9+G9+H9+I9+J9+K9+L9+M9+N9+O9+P9+Q9+R9+S9+T9 -> 3889.46
A10: 14 | B10: 1 | C10: 17.49 | D10: 35.17 | E10: 13.93 | F10: 0 | G10: 0 | H10: 165.35 | I10: 188.58 | J10: 200.15 | K10: 204.8 | L10: 187.52 | M10: 182.38 | N10: 168.69 | O10: 185.81 | P10: 172.9 | Q10: 183.78 | R10: 184.75 | S10: 141.91 | T10: 194.04 | U10: =C10+D10+E10+F10+G10+H10+I10+J10+K10+L10+M10+N10+O10+P10+Q10+R10+S10+T10 -> 2427.25
A11: 15 | B11: 1 | C11: 54.15 | D11: 0 | E11: 49.44 | F11: 1.34 | G11: 0 | H11: 319.41 | I11: 378.14 | J11: 368.65 | K11: 389.03 | L11: 404.94 | M11: 397.31 | N11: 411.38 | O11: 421.73 | P11: 428.82 | Q11: 429.53 | R11: 424.36 | S11: 397.22 | T11: 409.92 | U11: =C11+D11+E11+F11+G11+H11+I11+J11+K11+L11+M11+N11+O11+P11+Q11+R11+S11+T11 -> 5285.37
A12: 16 | B12: 1 | C12: 43 | D12: 1.61 | E12: 58.55 | F12: 0 | G12: 0 | H12: 398.15 | I12: 423.25 | J12: 442.28 | K12: 498.27 | L12: 445.06 | M12: 480.61 | N12: 420.87 | O12: 453.1 | P12: 406.04 | Q12: 420.89 | R12: 400.86 | S12: 430.7 | T12: 381.89 | U12: =C12+D12+E12+F12+G12+H12+I12+J12+K12+L12+M12+N12+O12+P12+Q12+R12+S12+T12 -> 5705.13
A13: 22 | B13: 1 | C13: 52.22 | D13: 4.72 | E13: 55.32 | F13: 0 | G13: 0 | H13: 168.02 | I13: 214.97 | J13: 198.91 | K13: 203.58 | L13: 237.7 | M13: 234.14 | N13: 232.42 | O13: 223.8 | P13: 223.83 | Q13: 223.5 | R13: 198.86 | S13: 206.81 | T13: 187.97 | U13: =C13+D13+E13+F13+G13+H13+I13+J13+K13+L13+M13+N13+O13+P13+Q13+R13+S13+T13 -> 2866.77
A14: 23 | B14: 1 | C14: 12.38 | D14: 0.6 | E14: 9.5 | F14: 1 | G14: 0 | H14: 54.99 | I14: 89.18 | J14: 63.83 | K14: 92.9 | L14: 81.23 | M14: 89.87 | N14: 96.47 | O14: 81.37 | P14: 97.2 | Q14: 84.16 | R14: 84.24 | S14: 82.92 | T14: 79.84 | U14: =C14+D14+E14+F14+G14+H14+I14+J14+K14+L14+M14+N14+O14+P14+Q14+R14+S14+T14 -> 1101.68
A15: 25 | B15: 1 | C15: 0 | D15: 0 | E15: 0.78 | F15: 0 | G15: 0 | H15: 8.8 | I15: 10.51 | J15: 8.92 | K15: 6 | L15: 4.66 | M15: 5.41 | N15: 4.88 | O15: 5.1 | P15: 7.33 | Q15: 0 | R15: 0 | S15: 0 | T15: 0 | U15: =C15+D15+E15+F15+G15+H15+I15+J15+K15+L15+M15+N15+O15+P15+Q15+R15+S15+T15 -> 62.39
... A333: 2908 | B333: 1 | C333: 9.71 | D333: 0 | E333: 7.05 | F333: 0 | G333: 0 | H333: 34.22 | I333: 51.88 | J333: 33.36 | K333: 51.45 | L333: 39.22 | M333: 47.37 | N333: 46.53 | O333: 36.72 | P333: 33.01 | Q333: 42.4 | R333: 33.13 | S333: 35.61 | T333: 35.49 | U333: =C333+D333+E333+F333+G333+H333+I333+J333+K333+L333+M333+N333+O333+P333+Q333+R333+S333+T333 -> 537.15
