Workbook

Sheet Worksheet
B1: Enter District # in Cell A1
E3: SCHOOL DISTRICT NUMBER | J3: =VLOOKUP($A$1,'2023'!A3:S525,1,FALSE) -> #N/A
D4: NOTE: Adjusted Average Daily Membership (ADM) by Fiscal Year
D5: Grade Progression Ratios: Historical and Projected
B8: (B) | C8: (C) | D8: (D) | E8: (E) | F8: (F) | G8: (G) | H8: (H) | I8: (I) | J8: (J) | K8: (K) | L8: (L) | M8: (M) | N8: (N) | O8: (O) | P8: (P) | Q8: (Q)
C9: Actual | D9: Ratio | E9: Actual | F9: Ratio | G9: Actual | H9: Ratio | I9: Actual | J9: Ratio | K9: Actual | L9: Ave. Grade | M9: Projected | N9: Projected | O9: Projected | P9: Projected | Q9: Projected
B10: Grade | C10: FY 2021 | D10: 21 to 22 | E10: FY 2022 | F10: 22 to 23 | G10: FY 2023 | H10: 23 to 24 | I10: FY 2024 | J10: 24 to 25 | K10: FY 2025 | L10: Progress Ratio | M10: FY 2026 | N10: FY 2027 | O10: FY 2028 | P10: FY 2029 | Q10: FY 2030
B12: EC | C12: =VLOOKUP($A$1,'2021'!$A$3:$T$525,3,FALSE) -> #N/A | E12: =VLOOKUP($A$1,'2022'!$A$3:$T$525,3,FALSE) -> #N/A | G12: =VLOOKUP($A$1,'2023'!$A$3:$T$525,3,FALSE) -> #N/A | I12: =VLOOKUP($A$1,'2024'!$A$3:$U$525,3,FALSE) -> #N/A | K12: =VLOOKUP($A$1,'2025'!$A$3:$V$521,3,FALSE) -> #N/A | M12: 0 | N12: 0 | O12: 0 | P12: 0 | Q12: 0
B13: PREK | C13: =VLOOKUP($A$1,'2021'!$A$3:$T$525,4,FALSE) -> #N/A | E13: =VLOOKUP($A$1,'2022'!$A$3:$T$525,4,FALSE) -> #N/A | G13: =VLOOKUP($A$1,'2023'!$A$3:$T$525,4,FALSE) -> #N/A | I13: =VLOOKUP($A$1,'2024'!$A$3:$U$525,4,FALSE) -> #N/A | K13: =VLOOKUP($A$1,'2025'!$A$3:$V$521,4,FALSE) -> #N/A | M13: 0 | N13: 0 | O13: 0 | P13: 0 | Q13: 0
B14: HK | C14: =VLOOKUP($A$1,'2021'!$A$3:$T$525,5,FALSE) -> #N/A | E14: =VLOOKUP($A$1,'2022'!$A$3:$T$525,5,FALSE) -> #N/A | G14: =VLOOKUP($A$1,'2023'!$A$3:$T$525,5,FALSE) -> #N/A | I14: =VLOOKUP($A$1,'2024'!$A$3:$U$525,5,FALSE) -> #N/A | K14: =VLOOKUP($A$1,'2025'!$A$3:$V$521,5,FALSE) -> #N/A | M14: 0 | N14: 0 | O14: 0 | P14: 0 | Q14: 0
B15: K 1/2 Day | C15: =VLOOKUP($A$1,'2021'!$A$3:$S$525,6,FALSE) -> #N/A | E15: =VLOOKUP($A$1,'2022'!$A$3:$T$525,6,FALSE) -> #N/A | G15: =VLOOKUP($A$1,'2023'!$A$3:$T$525,6,FALSE) -> #N/A | I15: =VLOOKUP($A$1,'2024'!$A$3:$U$525,7,FALSE) -> #N/A | K15: =VLOOKUP($A$1,'2025'!$A$3:$V$521,5,FALSE) -> #N/A | M15: 0 | N15: 0 | O15: 0 | P15: 0 | Q15: 0
B16: K Full Day | C16: =VLOOKUP($A$1,'2021'!$A$3:$S$525,8,FALSE) -> #N/A | D16: =IF(((C14+C15+C16)=0),0,(E18/(C14+C15+C16))) -> #N/A | E16: =VLOOKUP($A$1,'2022'!$A$3:$S$525,8,FALSE) -> #N/A | F16: =IF(((E14+E15+E16)=0),0,(G18/(E14+E15+E16))) -> #N/A | G16: =VLOOKUP($A$1,'2023'!$A$3:$S$525,8,FALSE) -> #N/A | H16: =IF(((G14+G15+G16)=0),0,(I18/(G14+G15+G16))) -> #N/A | I16: =VLOOKUP($A$1,'2024'!$A$3:$U$525,6,FALSE) -> #N/A | J16: =IF(((I14+I15+I16)=0),0,(K18/(I14+I15+I16))) -> #N/A | K16: =VLOOKUP($A$1,'2025'!$A$3:$U$521,6,FALSE) -> #N/A | L16: =AVERAGE($D16,$F16,$H16,$J16) -> #N/A | M16: 0 | N16: 0 | O16: 0 | P16: 0 | Q16: 0
B18: 1 | C18: =VLOOKUP($A$1,'2021'!$A$3:$S$525,9,FALSE) -> #N/A | D18: =IF(C18=0,0,E19/C18) -> #N/A | E18: =VLOOKUP($A$1,'2022'!$A$3:$T$525,9,FALSE) -> #N/A | F18: =IF(E18=0,0,G19/E18) -> #N/A | G18: =VLOOKUP($A$1,'2023'!$A$3:$T$525,9,FALSE) -> #N/A | H18: =IF(G18=0,0,I19/G18) -> #N/A | I18: =VLOOKUP($A$1,'2024'!$A$3:$U$525,9,FALSE) -> #N/A | J18: =IF(I18=0,0,K19/I18) -> #N/A | K18: =VLOOKUP($A$1,'2025'!$A$3:$V$521,9,FALSE) -> #N/A | L18: =AVERAGE($D18,$F18,$H18,$J18) -> #N/A | M18: =(K14+K15+K16)*$L16 -> #N/A | N18: =(M14+M15+M16)*$L16 -> #N/A | O18: =(N14+N15+N16)*$L16 -> #N/A | P18: =(O14+O15+O16)*$L16 -> #N/A | Q18: =(P14+P15+P16)*$L16 -> #N/A
B19: 2 | C19: =VLOOKUP($A$1,'2021'!$A$3:$S$525,10,FALSE) -> #N/A | D19: =IF(C19=0,0,E20/C19) -> #N/A | E19: =VLOOKUP($A$1,'2022'!$A$3:$T$525,10,FALSE) -> #N/A | F19: =IF(E19=0,0,G20/E19) -> #N/A | G19: =VLOOKUP($A$1,'2023'!$A$3:$T$525,10,FALSE) -> #N/A | H19: =IF(G19=0,0,I20/G19) -> #N/A | I19: =VLOOKUP($A$1,'2024'!$A$3:$U$525,10,FALSE) -> #N/A | J19: =IF(I19=0,0,K20/I19) -> #N/A | K19: =VLOOKUP($A$1,'2025'!$A$3:$V$521,10,FALSE) -> #N/A | L19: =AVERAGE($D19,$F19,$H19,$J19) -> #N/A | M19: =K18*$L18 -> #N/A | N19: =M18*$L18 -> #N/A | O19: =N18*$L18 -> #N/A | P19: =O18*$L18 -> #N/A | Q19: =P18*$L18 -> #N/A
B20: 3 | C20: =VLOOKUP($A$1,'2021'!$A$3:$S$525,11,FALSE) -> #N/A | D20: =IF(C20=0,0,E21/C20) -> #N/A | E20: =VLOOKUP($A$1,'2022'!$A$3:$T$525,11,FALSE) -> #N/A | F20: =IF(E20=0,0,G21/E20) -> #N/A | G20: =VLOOKUP($A$1,'2023'!$A$3:$T$525,11,FALSE) -> #N/A | H20: =IF(G20=0,0,I21/G20) -> #N/A | I20: =VLOOKUP($A$1,'2024'!$A$3:$U$525,11,FALSE) -> #N/A | J20: =IF(I20=0,0,K21/I20) -> #N/A | K20: =VLOOKUP($A$1,'2025'!$A$3:$V$521,11,FALSE) -> #N/A | L20: =AVERAGE($D20,$F20,$H20,$J20) -> #N/A | M20: =K19*$L19 -> #N/A | N20: =M19*$L19 -> #N/A | O20: =N19*$L19 -> #N/A | P20: =O19*$L19 -> #N/A | Q20: =P19*$L19 -> #N/A
B21: 4 | C21: =VLOOKUP($A$1,'2021'!$A$3:$S$525,12,FALSE) -> #N/A | D21: =IF(C21=0,0,E22/C21) -> #N/A | E21: =VLOOKUP($A$1,'2022'!$A$3:$T$525,12,FALSE) -> #N/A | F21: =IF(E21=0,0,G22/E21) -> #N/A | G21: =VLOOKUP($A$1,'2023'!$A$3:$T$525,12,FALSE) -> #N/A | H21: =IF(G21=0,0,I22/G21) -> #N/A | I21: =VLOOKUP($A$1,'2024'!$A$3:$U$525,12,FALSE) -> #N/A | J21: =IF(I21=0,0,K22/I21) -> #N/A | K21: =VLOOKUP($A$1,'2025'!$A$3:$V$521,12,FALSE) -> #N/A | L21: =AVERAGE($D21,$F21,$H21,$J21) -> #N/A | M21: =K20*$L20 -> #N/A | N21: =M20*$L20 -> #N/A | O21: =N20*$L20 -> #N/A | P21: =O20*$L20 -> #N/A | Q21: =P20*$L20 -> #N/A
B22: 5 | C22: =VLOOKUP($A$1,'2021'!$A$3:$S$525,13,FALSE) -> #N/A | D22: =IF(C22=0,0,E23/C22) -> #N/A | E22: =VLOOKUP($A$1,'2022'!$A$3:$T$525,13,FALSE) -> #N/A | F22: =IF(E22=0,0,G23/E22) -> #N/A | G22: =VLOOKUP($A$1,'2023'!$A$3:$T$525,13,FALSE) -> #N/A | H22: =IF(G22=0,0,I23/G22) -> #N/A | I22: =VLOOKUP($A$1,'2024'!$A$3:$U$525,13,FALSE) -> #N/A | J22: =IF(I22=0,0,K23/I22) -> #N/A | K22: =VLOOKUP($A$1,'2025'!$A$3:$V$521,13,FALSE) -> #N/A | L22: =AVERAGE($D22,$F22,$H22,$J22) -> #N/A | M22: =K21*$L21 -> #N/A | N22: =M21*$L21 -> #N/A | O22: =N21*$L21 -> #N/A | P22: =O21*$L21 -> #N/A | Q22: =P21*$L21 -> #N/A
B23: 6 | C23: =VLOOKUP($A$1,'2021'!$A$3:$S$525,14,FALSE) -> #N/A | D23: =IF(C23=0,0,E29/C23) -> #N/A | E23: =VLOOKUP($A$1,'2022'!$A$3:$T$525,14,FALSE) -> #N/A | F23: =IF(E23=0,0,G29/E23) -> #N/A | G23: =VLOOKUP($A$1,'2023'!$A$3:$T$525,14,FALSE) -> #N/A | H23: =IF(G23=0,0,I29/G23) -> #N/A | I23: =VLOOKUP($A$1,'2024'!$A$3:$U$525,14,FALSE) -> #N/A | J23: =IF(I23=0,0,K29/I23) -> #N/A | K23: =VLOOKUP($A$1,'2025'!$A$3:$V$521,14,FALSE) -> #N/A | L23: =AVERAGE($D23,$F23,$H23,$J23) -> #N/A | M23: =K22*$L22 -> #N/A | N23: =M22*$L22 -> #N/A | O23: =N22*$L22 -> #N/A | P23: =O22*$L22 -> #N/A | Q23: =P22*$L22 -> #N/A
B25: 1-3 Total | C25: =SUM(C18:C20) -> #N/A | E25: =SUM(E18:E20) -> #N/A | G25: =SUM(G18:G20) -> #N/A | I25: =SUM(I18:I20) -> #N/A | K25: =SUM(K18:K20) -> #N/A | M25: =SUM(M18:M20) -> #N/A | N25: =SUM(N18:N20) -> #N/A | O25: =SUM(O18:O20) -> #N/A | P25: =SUM(P18:P20) -> #N/A | Q25: =SUM(Q18:Q20) -> #N/A
B26: 4-6 Total | C26: =SUM(C21:C23) -> #N/A | E26: =SUM(E21:E23) -> #N/A | G26: =SUM(G21:G23) -> #N/A | I26: =SUM(I21:I23) -> #N/A | K26: =SUM(K21:K23) -> #N/A | M26: =SUM(M21:M23) -> #N/A | N26: =SUM(N21:N23) -> #N/A | O26: =SUM(O21:O23) -> #N/A | P26: =SUM(P21:P23) -> #N/A | Q26: =SUM(Q21:Q23) -> #N/A
B27: 1-6 Total | C27: =SUM(C18:C23) -> #N/A | E27: =SUM(E18:E23) -> #N/A | G27: =SUM(G18:G23) -> #N/A | I27: =SUM(I18:I23) -> #N/A | K27: =SUM(K18:K23) -> #N/A | M27: =SUM(M18:M23) -> #N/A | N27: =SUM(N18:N23) -> #N/A | O27: =SUM(O18:O23) -> #N/A | P27: =SUM(P18:P23) -> #N/A | Q27: =SUM(Q18:Q23) -> #N/A
B29: 7 | C29: =VLOOKUP($A$1,'2021'!$A$3:$S$525,15,FALSE) -> #N/A | D29: =IF(C29=0,0,E30/C29) -> #N/A | E29: =VLOOKUP($A$1,'2022'!$A$3:$T$525,15,FALSE) -> #N/A | F29: =IF(E29=0,0,G30/E29) -> #N/A | G29: =VLOOKUP($A$1,'2023'!$A$3:$T$525,15,FALSE) -> #N/A | H29: =IF(G29=0,0,I30/G29) -> #N/A | I29: =VLOOKUP($A$1,'2024'!$A$3:$U$525,15,FALSE) -> #N/A | J29: =IF(I29=0,0,K30/I29) -> #N/A | K29: =VLOOKUP($A$1,'2025'!$A$3:$V$521,15,FALSE) -> #N/A | L29: =AVERAGE($D29,$F29,$H29,$J29) -> #N/A | M29: =K23*$L23 -> #N/A | N29: =M23*$L23 -> #N/A | O29: =N23*$L23 -> #N/A | P29: =O23*$L23 -> #N/A | Q29: =P23*$L23 -> #N/A
B30: 8 | C30: =VLOOKUP($A$1,'2021'!$A$3:$S$525,16,FALSE) -> #N/A | D30: =IF(C30=0,0,E31/C30) -> #N/A | E30: =VLOOKUP($A$1,'2022'!$A$3:$T$525,16,FALSE) -> #N/A | F30: =IF(E30=0,0,G31/E30) -> #N/A | G30: =VLOOKUP($A$1,'2023'!$A$3:$T$525,16,FALSE) -> #N/A | H30: =IF(G30=0,0,I31/G30) -> #N/A | I30: =VLOOKUP($A$1,'2024'!$A$3:$U$525,16,FALSE) -> #N/A | J30: =IF(I30=0,0,K31/I30) -> #N/A | K30: =VLOOKUP($A$1,'2025'!$A$3:$V$521,16,FALSE) -> #N/A | L30: =AVERAGE($D30,$F30,$H30,$J30) -> #N/A | M30: =K29*$L29 -> #N/A | N30: =M29*$L29 -> #N/A | O30: =N29*$L29 -> #N/A | P30: =O29*$L29 -> #N/A | Q30: =P29*$L29 -> #N/A
B31: 9 | C31: =VLOOKUP($A$1,'2021'!$A$3:$S$525,17,FALSE) -> #N/A | D31: =IF(C31=0,0,E32/C31) -> #N/A | E31: =VLOOKUP($A$1,'2022'!$A$3:$T$525,17,FALSE) -> #N/A | F31: =IF(E31=0,0,G32/E31) -> #N/A | G31: =VLOOKUP($A$1,'2023'!$A$3:$T$525,17,FALSE) -> #N/A | H31: =IF(G31=0,0,I32/G31) -> #N/A | I31: =VLOOKUP($A$1,'2024'!$A$3:$U$525,17,FALSE) -> #N/A | J31: =IF(I31=0,0,K32/I31) -> #N/A | K31: =VLOOKUP($A$1,'2025'!$A$3:$V$521,17,FALSE) -> #N/A | L31: =AVERAGE($D31,$F31,$H31,$J31) -> #N/A | M31: =K30*$L30 -> #N/A | N31: =M30*$L30 -> #N/A | O31: =N30*$L30 -> #N/A | P31: =O30*$L30 -> #N/A | Q31: =P30*$L30 -> #N/A
B32: 10 | C32: =VLOOKUP($A$1,'2021'!$A$3:$S$525,18,FALSE) -> #N/A | D32: =IF(C32=0,0,E33/C32) -> #N/A | E32: =VLOOKUP($A$1,'2022'!$A$3:$T$525,18,FALSE) -> #N/A | F32: =IF(E32=0,0,G33/E32) -> #N/A | G32: =VLOOKUP($A$1,'2023'!$A$3:$T$525,18,FALSE) -> #N/A | H32: =IF(G32=0,0,I33/G32) -> #N/A | I32: =VLOOKUP($A$1,'2024'!$A$3:$U$525,18,FALSE) -> #N/A | J32: =IF(I32=0,0,K33/I32) -> #N/A | K32: =VLOOKUP($A$1,'2025'!$A$3:$V$521,18,FALSE) -> #N/A | L32: =AVERAGE($D32,$F32,$H32,$J32) -> #N/A | M32: =K31*$L31 -> #N/A | N32: =M31*$L31 -> #N/A | O32: =N31*$L31 -> #N/A | P32: =O31*$L31 -> #N/A | Q32: =P31*$L31 -> #N/A
B33: 11 | C33: =VLOOKUP($A$1,'2021'!$A$3:$S$525,19,FALSE) -> #N/A | D33: =IF(C33=0,0,E34/C33) -> #N/A | E33: =VLOOKUP($A$1,'2022'!$A$3:$T$525,19,FALSE) -> #N/A | F33: =IF(E33=0,0,G34/E33) -> #N/A | G33: =VLOOKUP($A$1,'2023'!$A$3:$T$525,19,FALSE) -> #N/A | H33: =IF(G33=0,0,I34/G33) -> #N/A | I33: =VLOOKUP($A$1,'2024'!$A$3:$U$525,19,FALSE) -> #N/A | J33: =IF(I33=0,0,K34/I33) -> #N/A | K33: =VLOOKUP($A$1,'2025'!$A$3:$V$521,19,FALSE) -> #N/A | L33: =AVERAGE($D33,$F33,$H33,$J33) -> #N/A | M33: =K32*$L32 -> #N/A | N33: =M32*$L32 -> #N/A | O33: =N32*$L32 -> #N/A | P33: =O32*$L32 -> #N/A | Q33: =P32*$L32 -> #N/A
B34: 12 | C34: =VLOOKUP($A$1,'2021'!$A$3:$T$525,20,FALSE) -> #N/A | E34: =VLOOKUP($A$1,'2022'!$A$3:$T$525,20,FALSE) -> #N/A | G34: =VLOOKUP($A$1,'2023'!$A$3:$T$525,20,FALSE) -> #N/A | I34: =VLOOKUP($A$1,'2024'!$A$3:$U$525,20,FALSE) -> #N/A | K34: =VLOOKUP($A$1,'2025'!$A$3:$V$521,20,FALSE) -> #N/A | M34: =K33*$L33 -> #N/A | N34: =M33*$L33 -> #N/A | O34: =N33*$L33 -> #N/A | P34: =O33*$L33 -> #N/A | Q34: =P33*$L33 -> #N/A
B36: 7-12 Total | C36: =SUM(C29:C34) -> #N/A | E36: =SUM(E29:E34) -> #N/A | G36: =SUM(G29:G34) -> #N/A | I36: =SUM(I29:I34) -> #N/A | K36: =SUM(K29:K34) -> #N/A | M36: =SUM(M29:M34) -> #N/A | N36: =SUM(N29:N34) -> #N/A | O36: =SUM(O29:O34) -> #N/A | P36: =SUM(P29:P34) -> #N/A | Q36: =SUM(Q29:Q34) -> #N/A
B38: EC-12 Total | C38: =SUM(C12+C13+C14+C15+C16+C27+C36) -> #N/A | D38: =AVERAGE(D16:D33) -> #N/A | E38: =SUM(E12+E13+E14+E15+E16+E27+E36) -> #N/A | F38: =AVERAGE(F16:F33) -> #N/A | G38: =SUM(G12+G13+G14+G15+G16+G27+G36) -> #N/A | H38: =AVERAGE(H16:H33) -> #N/A | I38: =SUM(I12+I13+I14+I15+I16+I27+I36) -> #N/A | J38: =AVERAGE(J16:J33) -> #N/A | K38: =SUM(K12+K13+K14+K15+K16+K27+K36) -> #N/A | L38: =AVERAGE(L16:L33) -> #N/A | M38: =SUM(M12+M13+M14+M15+M16+M27+M36) -> #N/A | N38: =SUM(N12+N13+N14+N15+N16+N27+N36) -> #N/A | O38: =SUM(O12+O13+O14+O15+O16+O27+O36) -> #N/A | P38: =SUM(P12+P13+P14+P15+P16+P27+P36) -> #N/A | Q38: =SUM(Q12+Q13+Q14+Q15+Q16+Q27+Q36) -> #N/A
B39: Change | C39: N/A | E39: =SUM(E38-C38) -> #N/A | G39: =SUM(G38-E38) -> #N/A | I39: =SUM(I38-G38) -> #N/A | K39: =SUM(K38-I38) -> #N/A | M39: =SUM(M38-K38) -> #N/A | N39: =SUM(N38-M38) -> #N/A | O39: =SUM(O38-N38) -> #N/A | P39: =SUM(P38-O38) -> #N/A | Q39: =SUM(Q38-P38) -> #N/A
A42: Instructions
A44: 1 | B44: Enter your District # into Cell A1
A45: 2 | B45: Enter your EC, K projections for FY2025 thru FY2029
A46: 3 | B46: Review for Accurancy and Reasonableness
A47: 4 | B47: Columns M-Q use the progression ratios, but can be edited for ADM estimates

Sheet 2025
A1: FY 25 End of Year Final Adjusted ADM by grade for each District and Charter
A2: District No: | B2: District Type: | C2: EC | D2: PK | E2: HK | F2: K-Full | G2: K-Half | H2: K-L | I2: 1 | J2: 2 | K2: 3 | L2: 4 | M2: 5 | N2: 6 | O2: 7 | P2: 8 | Q2: 9 | R2: 10 | S2: 11 | T2: 12 | U2: Total
A3: 1 | B3: 1 | C3: 6.2 | D3: 24.62 | F3: 58.5 | G3: 0 | I3: 51.43 | J3: 80.16 | K3: 57.05 | L3: 65.09 | M3: 53.29 | N3: 61.88 | O3: 90.55 | P3: 71.39 | Q3: 79.98 | R3: 85.08 | S3: 93.61 | T3: 90.77 | U3: =SUM(C3:T3) -> 969.6
A4: 1 | B4: 3 | C4: 463.91 | D4: 332.45 | F4: 2466.68 | G4: 0 | I4: 2359.82 | J4: 2419.81 | K4: 2415.8 | L4: 2255.7 | M4: 2274.1 | N4: 1906.19 | O4: 1877.09 | P4: 1877.96 | Q4: 2068.92 | R4: 2100.16 | S4: 2064.91 | T4: 2226.03 | U4: =SUM(C4:T4) -> 29109.53
A5: 2 | B5: 1 | C5: 5.49 | D5: 7.78 | F5: 19.11 | G5: 0 | I5: 24.55 | J5: 17.25 | K5: 16.66 | L5: 13.46 | M5: 25.5 | N5: 17 | O5: 23.51 | P5: 16.7 | Q5: 17.31 | R5: 18.42 | S5: 16.48 | T5: 16.07 | U5: =SUM(C5:T5) -> 255.29
A6: 4 | B6: 1 | C6: 7.15 | D6: 14.78 | F6: 23.8 | G6: 0 | I6: 31.11 | J6: 19.46 | K6: 24.89 | L6: 21.5 | M6: 36.95 | N6: 33.68 | O6: 26.11 | P6: 23.2 | Q6: 39.49 | R6: 33.85 | S6: 30.48 | T6: 36.53 | U6: =SUM(C6:T6) -> 402.98
A7: 6 | B7: 3 | C7: 51.6 | D7: 85.05 | F7: 210.43 | G7: 0 | I7: 166.97 | J7: 190.17 | K7: 185.88 | L7: 199.07 | M7: 204.83 | N7: 188.23 | O7: 182.48 | P7: 175.01 | Q7: 230.8 | R7: 232.67 | S7: 220.03 | T7: 281.26 | U7: =SUM(C7:T7) -> 2804.48
A8: 11 | B8: 1 | C8: 625.43 | D8: 74.88 | F8: 2397.22 | G8: 0 | I8: 2505.44 | J8: 2577.16 | K8: 2761.25 | L8: 2688.86 | M8: 2761.15 | N8: 2894.43 | O8: 2758.39 | P8: 2807.32 | Q8: 3096.39 | R8: 3169.69 | S8: 3048.54 | T8: 3231.91 | U8: =SUM(C8:T8) -> 37398.06
A9: 12 | B9: 1 | C9: 51.72 | D9: 4.79 | F9: 472.44 | G9: 0 | I9: 453.15 | J9: 461.73 | K9: 511.62 | L9: 474.44 | M9: 534.15 | N9: 523.58 | O9: 542.1 | P9: 536.19 | Q9: 522.88 | R9: 534.88 | S9: 504.38 | T9: 499.28 | U9: =SUM(C9:T9) -> 6627.33
A10: 13 | B10: 1 | C10: 61.82 | D10: 77.34 | F10: 225.67 | G10: 0 | I10: 219.47 | J10: 244.13 | K10: 236.85 | L10: 217.97 | M10: 245 | N10: 233.95 | O10: 249.94 | P10: 259.84 | Q10: 316.63 | R10: 270.44 | S10: 343.22 | T10: 408.5 | U10: =SUM(C10:T10) -> 3610.77
A11: 14 | B11: 1 | C11: 27.07 | D11: 75.89 | F11: 183.18 | G11: 0 | I11: 190.7 | J11: 188.03 | K11: 171.94 | L11: 185.29 | M11: 176.23 | N11: 187.17 | O11: 180.26 | P11: 194.81 | Q11: 216.52 | R11: 240.33 | S11: 215.01 | T11: 207.31 | U11: =SUM(C11:T11) -> 2639.74
A12: 15 | B12: 1 | C12: 50.95 | D12: 28.68 | F12: 277.66 | G12: 0 | I12: 265.95 | J12: 297.86 | K12: 329.61 | L12: 282.83 | M12: 336.44 | N12: 300.69 | O12: 324.91 | P12: 345.17 | Q12: 314.3 | R12: 323.99 | S12: 306.24 | T12: 319.99 | U12: =SUM(C12:T12) -> 4105.27
A13: 16 | B13: 1 | C13: 52.07 | D13: 39.62 | F13: 427.07 | G13: 0 | I13: 424.86 | J13: 467.42 | K13: 465.38 | L13: 426.91 | M13: 430.98 | N13: 429.99 | O13: 407.3 | P13: 432.56 | Q13: 493.38 | R13: 489.39 | S13: 510.57 | T13: 436.3 | U13: =SUM(C13:T13) -> 5933.8
A14: 22 | B14: 1 | C14: 34.2 | D14: 11.27 | F14: 173.85 | G14: 0 | I14: 187.24 | J14: 182.5 | K14: 191.13 | L14: 195.19 | M14: 192.33 | N14: 212.1 | O14: 200.16 | P14: 208.55 | Q14: 212.18 | R14: 210.53 | S14: 203.22 | T14: 256.72 | U14: =SUM(C14:T14) -> 2671.17
... A506: 4302 | B506: 7 | C506: 0 | D506: 0 | F506: 16.43 | G506: 0 | I506: 16.17 | J506: 8.34 | K506: 9.17 | L506: 9.72 | M506: 11.02 | N506: 6 | O506: 0 | P506: 0 | Q506: 0 | R506: 0 | S506: 0 | T506: 0 | U506: =SUM(C506:T506) -> 76.85

Sheet 2024
A1: FY 24 End of Year Final Adjusted ADM by grade for each District and Charter
A2: District No: | B2: District Type: | C2: EC | D2: PK | E2: HK | F2: K-Full | G2: K-Half | H2: K-L | I2: 1 | J2: 2 | K2: 3 | L2: 4 | M2: 5 | N2: 6 | O2: 7 | P2: 8 | Q2: 9 | R2: 10 | S2: 11 | T2: 12 | U2: Total
A3: 1 | B3: 1 | C3: 7.4 | D3: 0 | E3: 0 | F3: 55.61 | G3: 0 | H3: 0 | I3: 75.34 | J3: 52.3 | K3: 65.63 | L3: 56.21 | M3: 61.94 | N3: 87.86 | O3: 75.84 | P3: 83.93 | Q3: 83.41 | R3: 101.09 | S3: 91.39 | T3: 85.25 | U3: =SUM(C3:T3) -> 983.2
A4: 2 | B4: 1 | C4: 5.82 | D4: 5.4 | E4: 0 | F4: 19.61 | G4: 0 | H4: 0 | I4: 14.97 | J4: 14.71 | K4: 10.72 | L4: 23.96 | M4: 13.71 | N4: 21.14 | O4: 15.53 | P4: 16.15 | Q4: 18.67 | R4: 16.44 | S4: 18.93 | T4: 17.28 | U4: =SUM(C4:T4) -> 233.04
A5: 4 | B5: 1 | C5: 4.37 | D5: 6.38 | E5: 0 | F5: 37.13 | G5: 0 | H5: 0 | I5: 22.04 | J5: 24.03 | K5: 21.84 | L5: 35.75 | M5: 30.86 | N5: 23.63 | O5: 22.78 | P5: 43.44 | Q5: 37.09 | R5: 37.01 | S5: 39.36 | T5: 26.76 | U5: =SUM(C5:T5) -> 412.47
A6: 11 | B6: 1 | C6: 579.41 | D6: 59.76 | E6: 0 | F6: 2457.17 | G6: 0 | H6: 0 | I6: 2558.51 | J6: 2716.76 | K6: 2637.72 | L6: 2742.3 | M6: 2801.89 | N6: 2703.25 | O6: 2772.01 | P6: 2881.54 | Q6: 3162.85 | R6: 3205.22 | S6: 3148.91 | T6: 3197.95 | U6: =SUM(C6:T6) -> 37625.25
A7: 12 | B7: 1 | C7: 71.88 | D7: 1.38 | E7: 0 | F7: 440.64 | G7: 0 | H7: 0 | I7: 462.45 | J7: 504.35 | K7: 465.09 | L7: 531.28 | M7: 500.09 | N7: 538.92 | O7: 519.94 | P7: 496.83 | Q7: 532.89 | R7: 520.77 | S7: 480.18 | T7: 411.74 | U7: =SUM(C7:T7) -> 6478.43
A8: 13 | B8: 1 | C8: 75.23 | D8: 67.76 | E8: 0 | F8: 224.39 | G8: 0 | H8: 0 | I8: 258.71 | J8: 233.49 | K8: 216.38 | L8: 247.51 | M8: 215.01 | N8: 243.25 | O8: 256.07 | P8: 253.68 | Q8: 277.49 | R8: 329.66 | S8: 329.91 | T8: 373.45 | U8: =SUM(C8:T8) -> 3601.99
A9: 14 | B9: 1 | C9: 29.9 | D9: 73.11 | E9: 0 | F9: 196.39 | G9: 0 | H9: 0 | I9: 179.73 | J9: 173.14 | K9: 172.53 | L9: 181.03 | M9: 163.35 | N9: 164.29 | O9: 180.84 | P9: 175.44 | Q9: 229.8 | R9: 233.78 | S9: 237.96 | T9: 193.52 | U9: =SUM(C9:T9) -> 2584.81
A10: 15 | B10: 1 | C10: 49.57 | D10: 0 | E10: 0 | F10: 263.15 | G10: 0 | H10: 0 | I10: 291.13 | J10: 326.15 | K10: 287.46 | L10: 323.45 | M10: 302.97 | N10: 325.84 | O10: 337.63 | P10: 318.45 | Q10: 320.61 | R10: 338.84 | S10: 316.01 | T10: 305.49 | U10: =SUM(C10:T10) -> 4106.75
A11: 16 | B11: 1 | C11: 54.86 | D11: 19.41 | E11: 0 | F11: 411.56 | G11: 0 | H11: 0 | I11: 466.19 | J11: 456.45 | K11: 448.42 | L11: 451.88 | M11: 425.11 | N11: 412.34 | O11: 436.21 | P11: 452.98 | Q11: 487.7 | R11: 534.79 | S11: 480.24 | T11: 462.8 | U11: =SUM(C11:T11) -> 6000.94
A12: 22 | B12: 1 | C12: 42.37 | D12: 0 | E12: 0 | F12: 191.25 | G12: 0 | H12: 0 | I12: 187.93 | J12: 190.24 | K12: 196.67 | L12: 192.19 | M12: 212.86 | N12: 196.6 | O12: 210.82 | P12: 204.56 | Q12: 212.55 | R12: 210.66 | S12: 250.68 | T12: 238.94 | U12: =SUM(C12:T12) -> 2738.32
A13: 23 | B13: 1 | C13: 8.7 | D13: 0 | E13: 0 | F13: 51.41 | G13: 0 | H13: 0 | I13: 62.23 | J13: 59.49 | K13: 57.65 | L13: 61.87 | M13: 58.5 | N13: 68.21 | O13: 71.41 | P13: 59.11 | Q13: 67.48 | R13: 72.1 | S13: 51.72 | T13: 56.23 | U13: =SUM(C13:T13) -> 806.11
A14: 25 | B14: 1 | C14: 0 | D14: 0 | E14: 0 | F14: 6 | G14: 0 | H14: 0 | I14: 5.5 | J14: 8 | K14: 7.62 | L14: 5 | M14: 7.89 | N14: 1.3 | O14: 2.98 | P14: 3.91 | Q14: 0 | R14: 0 | S14: 0 | T14: 0 | U14: =SUM(C14:T14) -> 48.2
... A508: 4301 | B508: 7 | C508: 0 | D508: 0 | E508: 0 | F508: 15.22 | G508: 0 | H508: 0 | I508: 8.3 | J508: 13.67 | K508: 9.16 | L508: 7.48 | M508: 6.82 | N508: 0 | O508: 0 | P508: 0 | Q508: 0 | R508: 0 | S508: 0 | T508: 0 | U508: =SUM(C508:T508) -> 60.65
T509: =SUM(U3:U508) -> 818881.64

Sheet 2023
A1: 2022-23 Adjusted Average Daily Membership by District and Grade
A3: District No: | B3: District Type: | C3: EC | D3: PK | E3: HK | F3: K-Full | G3: K-Half | H3: K-L | I3: 1 | J3: 2 | K3: 3 | L3: 4 | M3: 5 | N3: 6 | O3: 7 | P3: 8 | Q3: 9 | R3: 10 | S3: 11 | T3: 12 | U3: Total
A4: 1 | B4: 1 | C4: 8.68 | D4: 0 | E4: 12.05 | F4: 0 | G4: 0 | H4: 64.81 | I4: 54.61 | J4: 66.35 | K4: 54.37 | L4: 62.96 | M4: 85.54 | N4: 75.71 | O4: 83.67 | P4: 78.06 | Q4: 102.69 | R4: 93.68 | S4: 78.91 | T4: 95.68 | U4: =SUM(C4:T4) -> 1017.77
A5: 2 | B5: 1 | C5: 6.06 | D5: 5.6 | E5: 3.14 | F5: 0 | G5: 0 | H5: 12.77 | I5: 16.3 | J5: 14.92 | K5: 19.46 | L5: 13.14 | M5: 18.7 | N5: 14.69 | O5: 17.78 | P5: 17.98 | Q5: 16.61 | R5: 19.16 | S5: 22.28 | T5: 21.55 | U5: =SUM(C5:T5) -> 240.14
A6: 4 | B6: 1 | C6: 4.25 | D6: 6.44 | E6: 3 | F6: 0 | G6: 0 | H6: 16.4 | I6: 27.16 | J6: 17.46 | K6: 37.71 | L6: 34.44 | M6: 23.28 | N6: 25.99 | O6: 43.31 | P6: 36.42 | Q6: 37.25 | R6: 42.4 | S6: 25.81 | T6: 35.03 | U6: =SUM(C6:T6) -> 416.35
A7: 11 | B7: 1 | C7: 497.23 | D7: 58.02 | E7: 436.98 | F7: 0 | G7: 0 | H7: 2110.5 | I7: 2686.55 | J7: 2625.56 | K7: 2751.07 | L7: 2738.52 | M7: 2637.7 | N7: 2748.37 | O7: 2838.04 | P7: 2901.39 | Q7: 3169.56 | R7: 3207.97 | S7: 3117.16 | T7: 3216.26 | U7: =SUM(C7:T7) -> 37740.88
A8: 12 | B8: 1 | C8: 67.22 | D8: 0 | E8: 80.18 | F8: 0 | G8: 0 | H8: 380.31 | I8: 501.31 | J8: 451.83 | K8: 516.73 | L8: 503.54 | M8: 522.45 | N8: 504.4 | O8: 494.41 | P8: 525.34 | Q8: 533.68 | R8: 534.02 | S8: 459.07 | T8: 395.88 | U8: =SUM(C8:T8) -> 6470.37
A9: 13 | B9: 1 | C9: 46.26 | D9: 72.61 | E9: 37.32 | F9: 0 | G9: 0 | H9: 194.19 | I9: 224.93 | J9: 206.63 | K9: 233.66 | L9: 192.34 | M9: 228.18 | N9: 235.11 | O9: 234.11 | P9: 236.89 | Q9: 332.78 | R9: 314.98 | S9: 282.74 | T9: 372.66 | U9: =SUM(C9:T9) -> 3445.39
A10: 14 | B10: 1 | C10: 27.63 | D10: 74.28 | E10: 35.75 | F10: 0 | G10: 0 | H10: 153.57 | I10: 182.31 | J10: 186.34 | K10: 189.67 | L10: 185.45 | M10: 150.52 | N10: 192.05 | O10: 183.67 | P10: 231.33 | Q10: 229.55 | R10: 251.68 | S10: 220.64 | T10: 192.6 | U10: =SUM(C10:T10) -> 2687.04
A11: 15 | B11: 1 | C11: 48.71 | D11: 0 | E11: 62.36 | F11: 0 | G11: 0 | H11: 231.38 | I11: 322.26 | J11: 280.79 | K11: 328.44 | L11: 297.19 | M11: 326.19 | N11: 334.67 | O11: 313.69 | P11: 322.76 | Q11: 343.18 | R11: 345.34 | S11: 302.8 | T11: 338.08 | U11: =SUM(C11:T11) -> 4197.84
A12: 16 | B12: 1 | C12: 60.44 | D12: 19.59 | E12: 51.79 | F12: 0 | G12: 0 | H12: 399.36 | I12: 468.95 | J12: 442.76 | K12: 452.38 | L12: 456.13 | M12: 398.25 | N12: 445.9 | O12: 456.71 | P12: 428.29 | Q12: 541.18 | R12: 503.29 | S12: 471.04 | T12: 403.12 | U12: =SUM(C12:T12) -> 5999.18
A13: 22 | B13: 1 | C13: 44.78 | D13: 0 | E13: 42.88 | F13: 0 | G13: 0 | H13: 144.36 | I13: 194.15 | J13: 183.8 | K13: 184.22 | L13: 209.69 | M13: 194.42 | N13: 210.75 | O13: 201.62 | P13: 183.14 | Q13: 209.13 | R13: 253.32 | S13: 240.94 | T13: 233.77 | U13: =SUM(C13:T13) -> 2730.97
A14: 23 | B14: 1 | C14: 17.02 | D14: 0 | E14: 18.3 | F14: 0 | G14: 0 | H14: 43.75 | I14: 59.56 | J14: 56.77 | K14: 59.35 | L14: 58.51 | M14: 66.61 | N14: 72.96 | O14: 65.73 | P14: 68.56 | Q14: 72.54 | R14: 57.12 | S14: 59.43 | T14: 52.49 | U14: =SUM(C14:T14) -> 828.7
A15: 25 | B15: 1 | C15: 0 | D15: 0 | E15: 0.24 | F15: 0 | G15: 0 | H15: 6.56 | I15: 6.88 | J15: 9.84 | K15: 6.82 | L15: 10.1 | M15: 6.46 | N15: 4.28 | O15: 9.52 | P15: 5.99 | Q15: 0 | R15: 0 | S15: 0 | T15: 0 | U15: =SUM(C15:T15) -> 66.69
... A509: 4298 | B509: 7 | C509: 0 | D509: 0 | E509: 0.19 | F509: 0 | G509: 0 | H509: 8.81 | I509: 13.6 | J509: 10.22 | K509: 8.47 | L509: 9.2 | M509: 8.05 | N509: 0 | O509: 0 | P509: 0 | Q509: 0 | R509: 0 | S509: 0 | T509: 0 | U509: =SUM(C509:T509) -> 58.54

Sheet 2022
A1: 2021-22 Adjusted Average Daily Membership by District and Grade
A3: District No: | B3: District Type: | C3: EC | D3: PK | E3: HK | F3: K-Full | G3: K-Half | H3: K-L | I3: 1 | J3: 2 | K3: 3 | L3: 4 | M3: 5 | N3: 6 | O3: 7 | P3: 8 | Q3: 9 | R3: 10 | S3: 11 | T3: 12 | U3: Total
A4: 1 | B4: 1 | C4: 7.37 | D4: 0 | E4: 6.29 | F4: 0 | G4: 0 | H4: 45.2 | I4: 70.46 | J4: 58.15 | K4: 58.24 | L4: 89.37 | M4: 75.04 | N4: 80.09 | O4: 78.7 | P4: 99.98 | Q4: 95.98 | R4: 81.77 | S4: 92.38 | T4: 97.77 | U4: =SUM(C4:T4) -> 1036.79
A5: 2 | B5: 1 | C5: 4.14 | D5: 5.63 | E5: 3.21 | F5: 0 | G5: 0 | H5: 7.71 | I5: 13.46 | J5: 18.72 | K5: 13.63 | L5: 17.68 | M5: 12.76 | N5: 18.97 | O5: 13.33 | P5: 18.01 | Q5: 19.75 | R5: 20.26 | S5: 25.98 | T5: 25.92 | U5: =SUM(C5:T5) -> 239.16
A6: 4 | B6: 1 | C6: 4.98 | D6: 6.84 | E6: 6.81 | F6: 0 | G6: 0 | H6: 18.85 | I6: 16.24 | J6: 38.94 | K6: 34.02 | L6: 25.6 | M6: 28.12 | N6: 40.09 | O6: 39.21 | P6: 34.77 | Q6: 45.12 | R6: 23.36 | S6: 33.22 | T6: 36.31 | U6: =SUM(C6:T6) -> 432.48
A7: 11 | B7: 1 | C7: 487.79 | D7: 59.3 | E7: 413.22 | F7: 0 | G7: 0 | H7: 2198.29 | I7: 2511.35 | J7: 2658.35 | K7: 2650.92 | L7: 2561.42 | M7: 2616.7 | N7: 2788.44 | O7: 2842.4 | P7: 2936.11 | Q7: 3202.61 | R7: 3196.35 | S7: 3044.66 | T7: 3332.67 | U7: =SUM(C7:T7) -> 37500.58
A8: 12 | B8: 1 | C8: 68.92 | D8: 1.69 | E8: 67.63 | F8: 0 | G8: 0 | H8: 416.43 | I8: 430.71 | J8: 497.85 | K8: 490.88 | L8: 512.23 | M8: 485.65 | N8: 484.15 | O8: 523.77 | P8: 529.35 | Q8: 538.18 | R8: 500.21 | S8: 454.12 | T8: 481.42 | U8: =SUM(C8:T8) -> 6483.19
A9: 13 | B9: 1 | C9: 58.08 | D9: 74.34 | E9: 29.22 | F9: 0 | G9: 0 | H9: 187.31 | I9: 199.39 | J9: 225.88 | K9: 183.75 | L9: 210.69 | M9: 208.72 | N9: 234.29 | O9: 222.7 | P9: 262.36 | Q9: 290.82 | R9: 268.15 | S9: 307.21 | T9: 379.34 | U9: =SUM(C9:T9) -> 3342.25
A10: 14 | B10: 1 | C10: 24.52 | D10: 68.78 | E10: 19.91 | F10: 0 | G10: 0 | H10: 162.08 | I10: 202.76 | J10: 185.81 | K10: 185.23 | L10: 169.49 | M10: 189.86 | N10: 183.24 | O10: 221.48 | P10: 233.26 | Q10: 236.11 | R10: 246.51 | S10: 225.49 | T10: 214.75 | U10: =SUM(C10:T10) -> 2769.28
A11: 15 | B11: 1 | C11: 51.52 | D11: 0 | E11: 68.64 | F11: 0 | G11: 0 | H11: 247.84 | I11: 273.35 | J11: 329.58 | K11: 290.23 | L11: 322.31 | M11: 334.2 | N11: 314.57 | O11: 323.55 | P11: 326.88 | Q11: 339.57 | R11: 340.48 | S11: 320.1 | T11: 337.65 | U11: =SUM(C11:T11) -> 4220.47
A12: 16 | B12: 1 | C12: 47.92 | D12: 18.42 | E12: 59.56 | F12: 0 | G12: 0 | H12: 400.1 | I12: 457.18 | J12: 455.92 | K12: 461.81 | L12: 401.16 | M12: 454.55 | N12: 473.59 | O12: 425.33 | P12: 495.17 | Q12: 514.21 | R12: 527.97 | S12: 433.19 | T12: 433.71 | U12: =SUM(C12:T12) -> 6059.79
A13: 22 | B13: 1 | C13: 43.76 | D13: 0 | E13: 40.6 | F13: 0 | G13: 0 | H13: 156.35 | I13: 180.34 | J13: 186.06 | K13: 207.57 | L13: 195.09 | M13: 210.2 | N13: 204.15 | O13: 181.06 | P13: 194.09 | Q13: 257.93 | R13: 251.26 | S13: 234.38 | T13: 199.75 | U13: =SUM(C13:T13) -> 2742.59
A14: 23 | B14: 1 | C14: 12.33 | D14: 0 | E14: 16.42 | F14: 0 | G14: 0 | H14: 51.32 | I14: 53.34 | J14: 61.58 | K14: 57.33 | L14: 66.03 | M14: 70.46 | N14: 70.1 | O14: 67.89 | P14: 74.33 | Q14: 58.66 | R14: 76.37 | S14: 60.35 | T14: 56.7 | U14: =SUM(C14:T14) -> 853.21
A15: 25 | B15: 1 | C15: 0 | D15: 0 | E15: 2 | F15: 0 | G15: 0 | H15: 8.66 | I15: 8.38 | J15: 8.91 | K15: 10.23 | L15: 9.64 | M15: 4.16 | N15: 8.66 | O15: 10.33 | P15: 4.18 | Q15: 0 | R15: 0 | S15: 0 | T15: 0 | U15: =SUM(C15:T15) -> 75.15
... A508: 4290 | B508: 7 | C508: 0 | D508: 0 | E508: 0 | F508: 0 | G508: 0 | H508: 0 | I508: 0 | J508: 0 | K508: 0 | L508: 0 | M508: 0 | N508: 0 | O508: 0 | P508: 0 | Q508: 29.68 | R508: 19.79 | S508: 30.82 | T508: 23.64 | U508: =SUM(C508:T508) -> 103.93

Sheet 2021
A1: 2020-21 Adjusted Average Daily Membership by District and Grade
A3: District Number | B3: District Type | C3: EC | D3: PK | E3: HK | F3: K-Half | G3: K-L | H3: K-Full | I3: 1 | J3: 2 | K3: 3 | L3: 4 | M3: 5 | N3: 6 | O3: 7 | P3: 8 | Q3: 9 | R3: 10 | S3: 11 | T3: 12 | U3: Total
A4: 1 | B4: 1 | C4: 7.83 | D4: 0 | E4: 9.92 | F4: 0 | G4: 0 | H4: 55.24 | I4: 61.57 | J4: 53.35 | K4: 86.13 | L4: 73.56 | M4: 81.81 | N4: 82.25 | O4: 93.26 | P4: 98.05 | Q4: 87.99 | R4: 97.96 | S4: 104.51 | T4: 106.34 | U4: =SUM(C4:T4) -> 1099.77
A5: 2 | B5: 1 | C5: 5.22 | D5: 2.33 | E5: 6.58 | F5: 0 | G5: 0 | H5: 9.91 | I5: 14.96 | J5: 12.09 | K5: 16.71 | L5: 13.18 | M5: 19.79 | N5: 15.68 | O5: 17.64 | P5: 18.62 | Q5: 20.04 | R5: 23.86 | S5: 27.56 | T5: 11.02 | U5: =SUM(C5:T5) -> 235.19
A6: 4 | B6: 1 | C6: 7.65 | D6: 6.81 | E6: 5.88 | F6: 0 | G6: 0 | H6: 9.94 | I6: 38.64 | J6: 29.93 | K6: 20.9 | L6: 26.6 | M6: 40.05 | N6: 33.52 | O6: 31.33 | P6: 42.35 | Q6: 27.67 | R6: 32.5 | S6: 35.06 | T6: 27.8 | U6: =SUM(C6:T6) -> 416.63
A7: 11 | B7: 1 | C7: 476.87 | D7: 59.07 | E7: 371.68 | F7: 0 | G7: 0 | H7: 1986.66 | I7: 2562.15 | J7: 2571.3 | K7: 2502.32 | L7: 2564.43 | M7: 2688.18 | N7: 2758.64 | O7: 2899.2 | P7: 2975.19 | Q7: 3194.34 | R7: 3147.16 | S7: 3171.93 | T7: 3197.78 | U7: =SUM(C7:T7) -> 37126.9
A8: 12 | B8: 1 | C8: 58.87 | D8: 0 | E8: 70.2 | F8: 0 | G8: 0 | H8: 350.16 | I8: 493.35 | J8: 476.81 | K8: 500.11 | L8: 480.45 | M8: 470.47 | N8: 513.7 | O8: 517.58 | P8: 535.05 | Q8: 520.21 | R8: 496.92 | S8: 498.43 | T8: 506.05 | U8: =SUM(C8:T8) -> 6488.36
A9: 13 | B9: 1 | C9: 46.35 | D9: 66.78 | E9: 29.79 | F9: 0 | G9: 0 | H9: 173.56 | I9: 215.36 | J9: 186.23 | K9: 209.22 | L9: 213.06 | M9: 233.77 | N9: 213.04 | O9: 249.75 | P9: 246.32 | Q9: 255.37 | R9: 297.42 | S9: 297.13 | T9: 374.25 | U9: =SUM(C9:T9) -> 3307.4
A10: 14 | B10: 1 | C10: 23.28 | D10: 56.48 | E10: 14.42 | F10: 0 | G10: 0 | H10: 185.93 | I10: 198.21 | J10: 186.26 | K10: 180.88 | L10: 193.99 | M10: 188.58 | N10: 227.5 | O10: 234.44 | P10: 208.05 | Q10: 237.5 | R10: 261.56 | S10: 239.54 | T10: 198.13 | U10: =SUM(C10:T10) -> 2834.75
A11: 15 | B11: 1 | C11: 53.78 | D11: 0 | E11: 47.79 | F11: 0 | G11: 0 | H11: 204.48 | I11: 313.16 | J11: 269.92 | K11: 304.07 | L11: 317.37 | M11: 301.98 | N11: 299.93 | O11: 322.63 | P11: 324.28 | Q11: 338.24 | R11: 340.05 | S11: 314.22 | T11: 322.33 | U11: =SUM(C11:T11) -> 4074.23
A12: 16 | B12: 1 | C12: 42.15 | D12: 16.21 | E12: 48.47 | F12: 0 | G12: 0 | H12: 414.38 | I12: 473.7 | J12: 470.46 | K12: 416.65 | L12: 472.67 | M12: 487.36 | N12: 438.63 | O12: 501.89 | P12: 501.72 | Q12: 520.91 | R12: 459.6 | S12: 444.27 | T12: 351.28 | U12: =SUM(C12:T12) -> 6060.35
A13: 22 | B13: 1 | C13: 42.13 | D13: 0 | E13: 37.53 | F13: 0 | G13: 0 | H13: 138.73 | I13: 181.44 | J13: 198.15 | K13: 188.52 | L13: 197.51 | M13: 205.61 | N13: 191.48 | O13: 195.11 | P13: 233.68 | Q13: 249.45 | R13: 234.08 | S13: 208.71 | T13: 208.63 | U13: =SUM(C13:T13) -> 2710.76
A14: 23 | B14: 1 | C14: 18.9 | D14: 0 | E14: 12.14 | F14: 0 | G14: 0 | H14: 46.73 | I14: 58.71 | J14: 59.03 | K14: 66.78 | L14: 68.18 | M14: 65.7 | N14: 64.61 | O14: 76.11 | P14: 61.41 | Q14: 75.44 | R14: 63.63 | S14: 59.54 | T14: 74.23 | U14: =SUM(C14:T14) -> 871.14
A15: 25 | B15: 1 | C15: 0 | D15: 0 | E15: 5.52 | F15: 0 | G15: 0 | H15: 7.08 | I15: 7.95 | J15: 10.79 | K15: 10.2 | L15: 9.1 | M15: 8.33 | N15: 12.58 | O15: 6.05 | P15: 2.35 | Q15: 0 | R15: 0 | S15: 0 | T15: 0 | U15: =SUM(C15:T15) -> 79.95
... A502: 4282 | B502: 7 | C502: 0 | D502: 0 | E502: 0 | F502: 0 | G502: 0 | H502: 18.95 | I502: 10.11 | J502: 7.49 | K502: 3.4 | L502: 5.98 | M502: 1.55 | N502: 0 | O502: 0 | P502: 0 | Q502: 0 | R502: 0 | S502: 0 | T502: 0 | U502: =SUM(C502:T502) -> 47.48

Sheet 2020
A1: 2019-20 Adjusted Average Daily Membership by District and Grade
A3: District Number | B3: District Type | C3: EC | D3: PK | E3: HK | F3: K-Half | G3: K-L | H3: K-Full | I3: 1 | J3: 2 | K3: 3 | L3: 4 | M3: 5 | N3: 6 | O3: 7 | P3: 8 | Q3: 9 | R3: 10 | S3: 11 | T3: 12 | U3: Total
A4: 1 | B4: 1 | C4: 8.96 | D4: 0 | E4: 13.14 | F4: 0 | G4: 0 | H4: 47.83 | I4: 61.13 | J4: 96.93 | K4: 77.4 | L4: 86.23 | M4: 82.16 | N4: 100.27 | O4: 98.89 | P4: 93.16 | Q4: 96.43 | R4: 107.15 | S4: 103.28 | T4: 76.28 | U4: =SUM(C4:T4) -> 1149.24
A5: 2 | B5: 1 | C5: 10.46 | D5: 3.93 | E5: 1.59 | F5: 0 | G5: 0 | H5: 14.18 | I5: 13.25 | J5: 18.61 | K5: 16 | L5: 21.49 | M5: 15.01 | N5: 17.66 | O5: 19.4 | P5: 17.41 | Q5: 23.04 | R5: 31.46 | S5: 14.3 | T5: 19.13 | U5: =SUM(C5:T5) -> 256.92
A6: 4 | B6: 1 | C6: 8.73 | D6: 6.38 | E6: 10.36 | F6: 0 | G6: 0 | H6: 26.66 | I6: 35.12 | J6: 22.91 | K6: 27.16 | L6: 39.9 | M6: 42.25 | N6: 33.48 | O6: 40.89 | P6: 27.28 | Q6: 37.22 | R6: 38.1 | S6: 36.51 | T6: 35.38 | U6: =SUM(C6:T6) -> 468.33
A7: 11 | B7: 1 | C7: 568.9 | D7: 58.1 | E7: 466.5 | F7: 0 | G7: 0 | H7: 2215.71 | I7: 2664.58 | J7: 2604.13 | K7: 2686.33 | L7: 2750.81 | M7: 2796.22 | N7: 2929.24 | O7: 3022.85 | P7: 3050.82 | Q7: 3168.71 | R7: 3250.53 | S7: 2991.84 | T7: 3132.32 | U7: =SUM(C7:T7) -> 38357.59
A8: 12 | B8: 1 | C8: 65.78 | D8: 0 | E8: 56.81 | F8: 0 | G8: 0 | H8: 440.45 | I8: 478.36 | J8: 496.75 | K8: 486.58 | L8: 472.25 | M8: 531.93 | N8: 527.81 | O8: 542.71 | P8: 517.15 | Q8: 504.49 | R8: 526.06 | S8: 505.82 | T8: 501.36 | U8: =SUM(C8:T8) -> 6654.31
A9: 13 | B9: 1 | C9: 45.44 | D9: 75.08 | E9: 30.6 | F9: 0 | G9: 0 | H9: 201.59 | I9: 199.19 | J9: 214.6 | K9: 224.87 | L9: 242.66 | M9: 217.92 | N9: 270.86 | O9: 245.89 | P9: 233.77 | Q9: 311.74 | R9: 308.77 | S9: 221.93 | T9: 336.76 | U9: =SUM(C9:T9) -> 3381.67
A10: 14 | B10: 1 | C10: 24.08 | D10: 74.1 | E10: 26.37 | F10: 0 | G10: 0 | H10: 185.23 | I10: 200.9 | J10: 188.53 | K10: 199.64 | L10: 213.79 | M10: 215.01 | N10: 236.34 | O10: 194.97 | P10: 205.58 | Q10: 252.5 | R10: 267.44 | S10: 226.64 | T10: 205.1 | U10: =SUM(C10:T10) -> 2916.22
A11: 15 | B11: 1 | C11: 54.91 | D11: 0 | E11: 56.67 | F11: 0 | G11: 0 | H11: 258.69 | I11: 269.75 | J11: 313.27 | K11: 319.63 | L11: 313.93 | M11: 309.82 | N11: 330.74 | O11: 327.33 | P11: 329.07 | Q11: 343.06 | R11: 364.32 | S11: 337.16 | T11: 334.18 | U11: =SUM(C11:T11) -> 4262.53
A12: 16 | B12: 1 | C12: 40 | D12: 20.34 | E12: 55.64 | F12: 0 | G12: 0 | H12: 423.04 | I12: 497.03 | J12: 420.92 | K12: 483.05 | L12: 499.2 | M12: 454.29 | N12: 498.25 | O12: 490.21 | P12: 490.23 | Q12: 452.58 | R12: 487.45 | S12: 376.27 | T12: 372.59 | U12: =SUM(C12:T12) -> 6061.09
A13: 22 | B13: 1 | C13: 51.81 | D13: 0 | E13: 50.45 | F13: 0 | G13: 0 | H13: 150.55 | I13: 212.58 | J13: 214.31 | K13: 208.18 | L13: 223.54 | M13: 206.3 | N13: 210.27 | O13: 251 | P13: 248.62 | Q13: 248.39 | R13: 226.37 | S13: 241.45 | T13: 206.37 | U13: =SUM(C13:T13) -> 2950.19
A14: 23 | B14: 1 | C14: 10.21 | D14: 0 | E14: 13.28 | F14: 0 | G14: 0 | H14: 40.89 | I14: 57.73 | J14: 65.42 | K14: 69.81 | L14: 62.15 | M14: 62.84 | N14: 76.98 | O14: 65.08 | P14: 74.92 | Q14: 67.52 | R14: 65.75 | S14: 75.52 | T14: 61.12 | U14: =SUM(C14:T14) -> 869.22
A15: 25 | B15: 1 | C15: 0 | D15: 0 | E15: 2.14 | F15: 0 | G15: 0 | H15: 5.98 | I15: 12.44 | J15: 11.2 | K15: 9.44 | L15: 9.5 | M15: 11.13 | N15: 5.36 | O15: 3.01 | P15: 1.77 | Q15: 0 | R15: 0 | S15: 0 | T15: 0 | U15: =SUM(C15:T15) -> 71.97
... A501: 4275 | B501: 7 | C501: 0 | D501: 0 | E501: 1.12 | F501: 0.7 | G501: 0 | H501: 32.11 | I501: 12.14 | J501: 14.55 | K501: 16 | L501: 14.31 | M501: 5.93 | N501: 6.25 | O501: 0 | P501: 0 | Q501: 0 | R501: 0 | S501: 0 | T501: 0 | U501: =SUM(C501:T501) -> 103.11

Sheet 2019
A1: 2018-19 Adjusted Average Daily Membership by District and Grade
A3: District Number | B3: District Type | C3: EC | D3: PK | E3: HK | F3: K-Half | G3: K-L | H3: K-Full | I3: 1 | J3: 2 | K3: 3 | L3: 4 | M3: 5 | N3: 6 | O3: 7 | P3: 8 | Q3: 9 | R3: 10 | S3: 11 | T3: 12 | U3: Total
A4: 1 | B4: 1 | C4: 11.05 | D4: 0 | E4: 12.8 | F4: 0 | G4: 0 | H4: 50.69 | I4: 97 | J4: 79.29 | K4: 87.86 | L4: 83.39 | M4: 98.32 | N4: 95.4 | O4: 86.88 | P4: 99.83 | Q4: 107.16 | R4: 110.45 | S4: 72.24 | T4: 85.33 | U4: =SUM(C4:T4) -> 1177.69
A5: 2 | B5: 1 | C5: 12.1 | D5: 1.98 | E5: 4.53 | F5: 0 | G5: 0 | H5: 10.23 | I5: 19 | J5: 17.11 | K5: 21.22 | L5: 15.01 | M5: 18.83 | N5: 18 | O5: 14.83 | P5: 23.68 | Q5: 31.8 | R5: 16.09 | S5: 21.7 | T5: 18.56 | U5: =SUM(C5:T5) -> 264.67
A6: 4 | B6: 1 | C6: 9.33 | D6: 5.97 | E6: 15.87 | F6: 0 | G6: 0 | H6: 20.29 | I6: 24.59 | J6: 26.44 | K6: 42.54 | L6: 39.24 | M6: 37.63 | N6: 42.43 | O6: 28.97 | P6: 36.7 | Q6: 36.85 | R6: 41.21 | S6: 32.46 | T6: 23.78 | U6: =SUM(C6:T6) -> 464.3
A7: 11 | B7: 1 | C7: 523.01 | D7: 61.68 | E7: 402.74 | F7: 0 | G7: 0 | H7: 2186.21 | I7: 2576.41 | J7: 2638.48 | K7: 2709.5 | L7: 2718.91 | M7: 2826.59 | N7: 2970.55 | O7: 3022.11 | P7: 3008.17 | Q7: 3216.32 | R7: 3021.01 | S7: 2963.73 | T7: 3276.29 | U7: =SUM(C7:T7) -> 38121.71
A8: 12 | B8: 1 | C8: 56.05 | D8: 0 | E8: 67.41 | F8: 0 | G8: 0 | H8: 400.02 | I8: 475.45 | J8: 478.48 | K8: 466.68 | L8: 522.62 | M8: 499.05 | N8: 537.38 | O8: 509.71 | P8: 486.34 | Q8: 533.49 | R8: 533.84 | S8: 503.18 | T8: 506.23 | U8: =SUM(C8:T8) -> 6575.93
A9: 13 | B9: 1 | C9: 51.43 | D9: 71.73 | E9: 18.51 | F9: 0 | G9: 0 | H9: 187.61 | I9: 219.72 | J9: 236.59 | K9: 245.28 | L9: 225.39 | M9: 296.66 | N9: 244.84 | O9: 247.85 | P9: 257.1 | Q9: 320.26 | R9: 247.77 | S9: 275.06 | T9: 312.15 | U9: =SUM(C9:T9) -> 3457.95
A10: 14 | B10: 1 | C10: 26.5 | D10: 66.55 | E10: 21.62 | F10: 0 | G10: 0 | H10: 170.51 | I10: 187.39 | J10: 192.8 | K10: 211.4 | L10: 226.1 | M10: 226.71 | N10: 200.87 | O10: 209.64 | P10: 240.08 | Q10: 255.98 | R10: 240.35 | S10: 224.57 | T10: 198.32 | U10: =SUM(C10:T10) -> 2899.39
A11: 15 | B11: 1 | C11: 57.2 | D11: 0 | E11: 52.77 | F11: 0 | G11: 0 | H11: 220.21 | I11: 323.69 | J11: 317.76 | K11: 310.97 | L11: 314.29 | M11: 332.16 | N11: 335.51 | O11: 329.8 | P11: 341.81 | Q11: 367.51 | R11: 380.18 | S11: 330.6 | T11: 341.75 | U11: =SUM(C11:T11) -> 4356.21
A12: 16 | B12: 1 | C12: 47.96 | D12: 20.38 | E12: 67.14 | F12: 0 | G12: 0 | H12: 416.13 | I12: 411.63 | J12: 475.99 | K12: 502.23 | L12: 471.85 | M12: 496.34 | N12: 490.38 | O12: 485.03 | P12: 423.8 | Q12: 498.41 | R12: 426.99 | S12: 397.74 | T12: 344.6 | U12: =SUM(C12:T12) -> 5976.6
A13: 22 | B13: 1 | C13: 72 | D13: 0 | E13: 46.74 | F13: 0 | G13: 0 | H13: 170.82 | I13: 206.18 | J13: 212.2 | K13: 227.05 | L13: 212.31 | M13: 207.73 | N13: 246.59 | O13: 250.35 | P13: 233.33 | Q13: 232.12 | R13: 246.82 | S13: 222.1 | T13: 207.91 | U13: =SUM(C13:T13) -> 2994.25
A14: 23 | B14: 1 | C14: 10.11 | D14: 0 | E14: 18.03 | F14: 0 | G14: 0 | H14: 47 | I14: 69.73 | J14: 70.12 | K14: 64.03 | L14: 61.32 | M14: 80.72 | N14: 67.58 | O14: 76.81 | P14: 72.21 | Q14: 68 | R14: 77.58 | S14: 69.64 | T14: 59.46 | U14: =SUM(C14:T14) -> 912.34
A15: 25 | B15: 1 | C15: 0 | D15: 0 | E15: 3 | F15: 0 | G15: 0 | H15: 9.82 | I15: 11.19 | J15: 7.51 | K15: 9.86 | L15: 10.26 | M15: 5.01 | N15: 3.61 | O15: 0.52 | P15: 2.75 | Q15: 0 | R15: 0 | S15: 0 | T15: 0 | U15: =SUM(C15:T15) -> 63.53
... A496: 4265 | B496: 7 | C496: 0 | D496: 0 | E496: 0 | F496: 0 | G496: 0 | H496: 10.58 | I496: 0 | J496: 0 | K496: 0 | L496: 0 | M496: 0 | N496: 0 | O496: 0 | P496: 0 | Q496: 0 | R496: 0 | S496: 0 | T496: 0 | U496: =SUM(C496:T496) -> 10.58

Sheet 2018
A1: 2017-18 Adjusted Average Daily Membership by District and Grade
A3: District Number | B3: District Type | C3: EC | D3: PK | E3: HK | F3: K-Half | G3: K-L | H3: K-Full | I3: 1 | J3: 2 | K3: 3 | L3: 4 | M3: 5 | N3: 6 | O3: 7 | P3: 8 | Q3: 9 | R3: 10 | S3: 11 | T3: 12 | U3: Total
A4: 1 | B4: 1 | C4: 8.63 | D4: 0 | E4: 18.23 | F4: 0 | G4: 0 | H4: 76.84 | I4: 77.77 | J4: 88.14 | K4: 77.87 | L4: 97.77 | M4: 95.95 | N4: 82.43 | O4: 101.22 | P4: 106.29 | Q4: 104.78 | R4: 69.38 | S4: 85.36 | T4: 85.79 | U4: =SUM(C4:T4) -> 1176.45
A5: 2 | B5: 1 | C5: 11.27 | D5: 2.63 | E5: 4.78 | F5: 0 | G5: 0 | H5: 14.11 | I5: 18.74 | J5: 18.84 | K5: 16.18 | L5: 23.15 | M5: 17 | N5: 15.39 | O5: 22.05 | P5: 34.3 | Q5: 17.21 | R5: 21.6 | S5: 19.21 | T5: 20.3 | U5: =SUM(C5:T5) -> 276.76
A6: 4 | B6: 1 | C6: 9.5 | D6: 8.52 | E6: 8 | F6: 0 | G6: 0 | H6: 17.86 | I6: 26.28 | J6: 40.6 | K6: 40.73 | L6: 36.24 | M6: 40.77 | N6: 30.68 | O6: 37.32 | P6: 34.05 | Q6: 44.18 | R6: 32.2 | S6: 25.15 | T6: 22 | U6: =SUM(C6:T6) -> 454.08
A7: 11 | B7: 1 | C7: 526.61 | D7: 59.57 | E7: 357.19 | F7: 0 | G7: 0 | H7: 2203.89 | I7: 2609.76 | J7: 2661.66 | K7: 2720.97 | L7: 2769.76 | M7: 2900.89 | N7: 2980.96 | O7: 2938.16 | P7: 3105.24 | Q7: 3029.63 | R7: 3015.56 | S7: 3083.64 | T7: 3184.05 | U7: =SUM(C7:T7) -> 38147.54
A8: 12 | B8: 1 | C8: 55.66 | D8: 0 | E8: 43.44 | F8: 0 | G8: 0 | H8: 416.77 | I8: 467 | J8: 455.07 | K8: 519.65 | L8: 487.78 | M8: 527.53 | N8: 502.7 | O8: 495.35 | P8: 531.89 | Q8: 532.16 | R8: 530.86 | S8: 497.08 | T8: 497.23 | U8: =SUM(C8:T8) -> 6560.17
A9: 13 | B9: 1 | C9: 43.73 | D9: 65.45 | E9: 35.59 | F9: 0 | G9: 0 | H9: 174.13 | I9: 226.03 | J9: 241.6 | K9: 231.95 | L9: 284.36 | M9: 259.75 | N9: 260.88 | O9: 269.45 | P9: 271.22 | Q9: 244.6 | R9: 280.64 | S9: 255.58 | T9: 281.66 | U9: =SUM(C9:T9) -> 3426.62
A10: 14 | B10: 1 | C10: 24.54 | D10: 57.35 | E10: 22.21 | F10: 0 | G10: 0 | H10: 177.14 | I10: 200.25 | J10: 227.38 | K10: 225.52 | L10: 257.98 | M10: 199.69 | N10: 227.39 | O10: 234.64 | P10: 258.94 | Q10: 247.9 | R10: 251.84 | S10: 231.99 | T10: 209.45 | U10: =SUM(C10:T10) -> 3054.21
A11: 15 | B11: 1 | C11: 54.85 | D11: 0 | E11: 51.83 | F11: 0 | G11: 0 | H11: 258.48 | I11: 316.14 | J11: 314.09 | K11: 315.8 | L11: 330.79 | M11: 334.84 | N11: 331.51 | O11: 346.97 | P11: 350.67 | Q11: 375.19 | R11: 365.04 | S11: 350.24 | T11: 316.61 | U11: =SUM(C11:T11) -> 4413.05
A12: 16 | B12: 1 | C12: 47.01 | D12: 18.63 | E12: 44.03 | F12: 0 | G12: 0 | H12: 363.92 | I12: 465.06 | J12: 484.11 | K12: 446.97 | L12: 486.28 | M12: 475.41 | N12: 484.23 | O12: 422.37 | P12: 446.2 | Q12: 427.99 | R12: 424.94 | S12: 388.21 | T12: 358.59 | U12: =SUM(C12:T12) -> 5783.95
A13: 22 | B13: 1 | C13: 61.03 | D13: 0 | E13: 42.39 | F13: 0 | G13: 0 | H13: 166.5 | I13: 216.57 | J13: 226.22 | K13: 206.97 | L13: 215.5 | M13: 242.36 | N13: 254.48 | O13: 244.99 | P13: 219.86 | Q13: 242.81 | R13: 232.42 | S13: 212.71 | T13: 216.84 | U13: =SUM(C13:T13) -> 3001.65
A14: 23 | B14: 1 | C14: 8.88 | D14: 0 | E14: 19.71 | F14: 0 | G14: 0 | H14: 52.4 | I14: 66.56 | J14: 65.23 | K14: 62 | L14: 76.23 | M14: 59.5 | N14: 79.55 | O14: 74.16 | P14: 68.07 | Q14: 81.65 | R14: 76.62 | S14: 63.25 | T14: 61.83 | U14: =SUM(C14:T14) -> 915.64
A15: 25 | B15: 1 | C15: 0 | D15: 0 | E15: 4.74 | F15: 0 | G15: 0 | H15: 6.26 | I15: 8.63 | J15: 11.16 | K15: 10.05 | L15: 4.59 | M15: 3.68 | N15: 3.57 | O15: 6.2 | P15: 2.79 | Q15: 0 | R15: 0 | S15: 0 | T15: 0 | U15: =SUM(C15:T15) -> 61.67
... A496: 4254 | B496: 7 | C496: 0 | D496: 0 | E496: 1.36 | F496: 0 | G496: 0 | H496: 20.3 | I496: 25.49 | J496: 22.26 | K496: 39.19 | L496: 20.07 | M496: 20.21 | N496: 11.07 | O496: 0 | P496: 0 | Q496: 0 | R496: 0 | S496: 0 | T496: 0 | U496: =SUM(C496:T496) -> 159.95

Sheet 2017
A1: 2016-17 Adjusted Average Daily Membership by District and Grade
A3: District Number | B3: District Type | C3: EC | D3: PK | E3: HK | F3: K-Half | G3: K-L | H3: K-Full | I3: 1 | J3: 2 | K3: 3 | L3: 4 | M3: 5 | N3: 6 | O3: 7 | P3: 8 | Q3: 9 | R3: 10 | S3: 11 | T3: 12 | U3: Total
A4: 1 | B4: 1 | C4: 12.68 | D4: 0 | E4: 11.91 | F4: 0 | G4: 0 | H4: 61.56 | I4: 85.95 | J4: 71.92 | K4: 99.19 | L4: 93.96 | M4: 80.14 | N4: 100.98 | O4: 107.83 | P4: 108.46 | Q4: 68.29 | R4: 90.17 | S4: 82.61 | T4: 94.95 | U4: =C4+D4+E4+F4+G4+H4+I4+J4+K4+L4+M4+N4+O4+P4+Q4+R4+S4+T4 -> 1170.6
A5: 2 | B5: 1 | C5: 6.71 | D5: 0 | E5: 6.88 | F5: 0 | G5: 0 | H5: 12.12 | I5: 18.6 | J5: 14.84 | K5: 20.49 | L5: 18.13 | M5: 14.08 | N5: 23.94 | O5: 33.52 | P5: 19.4 | Q5: 20.25 | R5: 20.46 | S5: 20.68 | T5: 18.32 | U5: =C5+D5+E5+F5+G5+H5+I5+J5+K5+L5+M5+N5+O5+P5+Q5+R5+S5+T5 -> 268.42
A6: 4 | B6: 1 | C6: 13.35 | D6: 5.4 | E6: 6 | F6: 0 | G6: 0 | H6: 20.12 | I6: 43.12 | J6: 40.75 | K6: 34.67 | L6: 42.61 | M6: 34.12 | N6: 34.54 | O6: 31.41 | P6: 42.6 | Q6: 31.88 | R6: 23.84 | S6: 23.15 | T6: 35.21 | U6: =C6+D6+E6+F6+G6+H6+I6+J6+K6+L6+M6+N6+O6+P6+Q6+R6+S6+T6 -> 462.77
A7: 11 | B7: 1 | C7: 470.69 | D7: 49.34 | E7: 351.44 | F7: 0 | G7: 0 | H7: 2256.05 | I7: 2638.26 | J7: 2744.84 | K7: 2770.55 | L7: 2884.01 | M7: 2886.71 | N7: 2919.91 | O7: 3039.74 | P7: 2921.04 | Q7: 3005.32 | R7: 3158.54 | S7: 2941.78 | T7: 3182.4 | U7: =C7+D7+E7+F7+G7+H7+I7+J7+K7+L7+M7+N7+O7+P7+Q7+R7+S7+T7 -> 38220.62
A8: 12 | B8: 1 | C8: 43.31 | D8: 0 | E8: 57.79 | F8: 0 | G8: 0 | H8: 400.69 | I8: 444.82 | J8: 497.95 | K8: 459.72 | L8: 518.08 | M8: 478.58 | N8: 485.15 | O8: 532.06 | P8: 521.22 | Q8: 540.84 | R8: 506.15 | S8: 486.27 | T8: 526.31 | U8: =C8+D8+E8+F8+G8+H8+I8+J8+K8+L8+M8+N8+O8+P8+Q8+R8+S8+T8 -> 6498.94
A9: 13 | B9: 1 | C9: 44.01 | D9: 62.25 | E9: 30.75 | F9: 0 | G9: 0 | H9: 196.55 | I9: 235.47 | J9: 231.93 | K9: 278.75 | L9: 253.36 | M9: 256.54 | N9: 272.84 | O9: 271.32 | P9: 202.91 | Q9: 276.32 | R9: 248.41 | S9: 231.87 | T9: 266.57 | U9: =C9+D9+E9+F9+G9+H9+I9+J9+K9+L9+M9+N9+O9+P9+Q9+R9+S9+T9 -> 3359.85
A10: 14 | B10: 1 | C10: 19.95 | D10: 39.75 | E10: 15.26 | F10: 0 | G10: 0 | H10: 177.05 | I10: 217.31 | J10: 216.22 | K10: 247.54 | L10: 221.09 | M10: 235.83 | N10: 236.05 | O10: 262.12 | P10: 243.8 | Q10: 256.2 | R10: 260.18 | S10: 224.37 | T10: 223.2 | U10: =C10+D10+E10+F10+G10+H10+I10+J10+K10+L10+M10+N10+O10+P10+Q10+R10+S10+T10 -> 3095.92
A11: 15 | B11: 1 | C11: 54.61 | D11: 0 | E11: 48.71 | F11: 0 | G11: 0 | H11: 270.95 | I11: 323.81 | J11: 313.86 | K11: 335.38 | L11: 334.17 | M11: 336.13 | N11: 358.85 | O11: 346.17 | P11: 373.51 | Q11: 370.9 | R11: 373.17 | S11: 333.47 | T11: 345.33 | U11: =C11+D11+E11+F11+G11+H11+I11+J11+K11+L11+M11+N11+O11+P11+Q11+R11+S11+T11 -> 4519.02
A12: 16 | B12: 1 | C12: 39.95 | D12: 0 | E12: 58.36 | F12: 0 | G12: 0 | H12: 429.05 | I12: 476.7 | J12: 443.16 | K12: 489.88 | L12: 455.94 | M12: 472.97 | N12: 411.26 | O12: 429.53 | P12: 400.3 | Q12: 414.5 | R12: 411.55 | S12: 386.93 | T12: 325.81 | U12: =C12+D12+E12+F12+G12+H12+I12+J12+K12+L12+M12+N12+O12+P12+Q12+R12+S12+T12 -> 5645.89
A13: 22 | B13: 1 | C13: 55.27 | D13: 0 | E13: 52.92 | F13: 0 | G13: 0 | H13: 173.78 | I13: 226.49 | J13: 212.82 | K13: 214.73 | L13: 244.27 | M13: 248.66 | N13: 245.19 | O13: 225.52 | P13: 239.08 | Q13: 236.13 | R13: 214.54 | S13: 219.97 | T13: 205.85 | U13: =C13+D13+E13+F13+G13+H13+I13+J13+K13+L13+M13+N13+O13+P13+Q13+R13+S13+T13 -> 3015.22
A14: 23 | B14: 1 | C14: 10.49 | D14: 0 | E14: 11.75 | F14: 0 | G14: 0 | H14: 54.06 | I14: 65.59 | J14: 56.68 | K14: 75.88 | L14: 62.37 | M14: 78.04 | N14: 71.19 | O14: 65.12 | P14: 78.33 | Q14: 72.63 | R14: 63.63 | S14: 65.13 | T14: 55.81 | U14: =C14+D14+E14+F14+G14+H14+I14+J14+K14+L14+M14+N14+O14+P14+Q14+R14+S14+T14 -> 886.7
A15: 25 | B15: 1 | C15: 0 | D15: 0 | E15: 0.78 | F15: 0 | G15: 0 | H15: 7.77 | I15: 11.51 | J15: 9.9 | K15: 5.44 | L15: 5.66 | M15: 4.43 | N15: 4.88 | O15: 3.98 | P15: 4.33 | Q15: 0 | R15: 0 | S15: 0 | T15: 0 | U15: =C15+D15+E15+F15+G15+H15+I15+J15+K15+L15+M15+N15+O15+P15+Q15+R15+S15+T15 -> 58.68
... A500: 4250 | B500: 7 | C500: 0 | D500: 0 | E500: 4.48 | F500: 0 | G500: 0 | H500: 76.22 | I500: 71.87 | J500: 59.02 | K500: 53.24 | L500: 86.58 | M500: 67.09 | N500: 59.67 | O500: 0 | P500: 0 | Q500: 0 | R500: 0 | S500: 0 | T500: 0 | U500: =C500+D500+E500+F500+G500+H500+I500+J500+K500+L500+M500+N500+O500+P500+Q500+R500+S500+T500 -> 478.17

Sheet 2016
A1: 2015-16 Adjusted Average Daily Membership by District and Grade
A3: DstNum | B3: Type | C3: Name | D3: EC | E3: HK | F3: KG.5 | G3: KG1 | H3: 1 | I3: 2 | J3: 3 | K3: 4 | L3: 5 | M3: 6 | N3: 7 | O3: 8 | P3: 9 | Q3: 10 | R3: 11 | S3: 12 | T3: Total
A4: 1 | B4: 1 | C4: AITKIN PUBLIC SCHOOL DISTRICT | D4: 8.6 | E4: 15.29 | F4: 0 | G4: 70.49 | H4: 67.67 | I4: 93.85 | J4: 90.61 | K4: 81.27 | L4: 100.16 | M4: 104.92 | N4: 105.24 | O4: 80.56 | P4: 90.38 | Q4: 85.99 | R4: 91.65 | S4: 105.81 | T4: =SUM(D4:S4) -> 1192.49
A5: 2 | B5: 1 | C5: HILL CITY PUBLIC SCHOOL DISTRICT | D5: 7.09 | E5: 5.05 | F5: 0 | G5: 10.86 | H5: 11.01 | I5: 21.73 | J5: 18.14 | K5: 15 | L5: 27.79 | M5: 29.19 | N5: 19.67 | O5: 21.28 | P5: 18.91 | Q5: 19.27 | R5: 19.59 | S5: 17.71 | T5: =SUM(D5:S5) -> 262.29
A6: 4 | B6: 1 | C6: MCGREGOR PUBLIC SCHOOL DISTRICT | D6: 6.78 | E6: 11.31 | F6: 0 | G6: 30.96 | H6: 40.28 | I6: 33.02 | J6: 41.61 | K6: 33.93 | L6: 30.82 | M6: 34.43 | N6: 43.97 | O6: 30.29 | P6: 22.74 | Q6: 24.26 | R6: 35.91 | S6: 21.14 | T6: =SUM(D6:S6) -> 441.45
A7: 11 | B7: 1 | C7: ANOKA-HENNEPIN PUBLIC SCHOOL DIST. | D7: 462.82 | E7: 322.21 | F7: 0 | G7: 2216.01 | H7: 2690.95 | I7: 2690.56 | J7: 2785.21 | K7: 2830.89 | L7: 2788.92 | M7: 2929.14 | N7: 2859.6 | O7: 2856.24 | P7: 3136.9 | Q7: 2984.72 | R7: 2891 | S7: 2863.28 | T7: =SUM(D7:S7) -> 37308.45
A8: 12 | B8: 1 | C8: CENTENNIAL PUBLIC SCHOOL DISTRICT | D8: 48.02 | E8: 53.9 | F8: 0 | G8: 380.16 | H8: 489.22 | I8: 440.11 | J8: 498.39 | K8: 459.41 | L8: 455.49 | M8: 528.87 | N8: 511.1 | O8: 526.22 | P8: 507.16 | Q8: 493.16 | R8: 517.75 | S8: 479.5 | T8: =SUM(D8:S8) -> 6388.46
A9: 13 | B9: 1 | C9: COLUMBIA HEIGHTS PUBLIC SCHOOL DIST | D9: 37.01 | E9: 25.36 | F9: 0 | G9: 228.26 | H9: 236.49 | I9: 279.8 | J9: 253.06 | K9: 261.25 | L9: 268.4 | M9: 263.88 | N9: 208.59 | O9: 245.5 | P9: 236.45 | Q9: 236.23 | R9: 224.94 | S9: 264.07 | T9: =SUM(D9:S9) -> 3269.29
A10: 14 | B10: 1 | C10: FRIDLEY PUBLIC SCHOOL DISTRICT | D10: 17.42 | E10: 18.6 | F10: 0 | G10: 201.48 | H10: 207.49 | I10: 246.93 | J10: 228.78 | K10: 231.26 | L10: 215.2 | M10: 265.85 | N10: 243.27 | O10: 235.8 | P10: 249.48 | Q10: 239.52 | R10: 217.65 | S10: 204.04 | T10: =SUM(D10:S10) -> 3022.77
A11: 15 | B11: 1 | C11: ST. FRANCIS PUBLIC SCHOOL DISTRICT | D11: 55.93 | E11: 56.65 | F11: 0 | G11: 275.67 | H11: 303.31 | I11: 337.83 | J11: 333.95 | K11: 327.97 | L11: 359.39 | M11: 346.64 | N11: 378.49 | O11: 357.95 | P11: 365.74 | Q11: 339.82 | R11: 365.73 | S11: 340.09 | T11: =SUM(D11:S11) -> 4545.16
A12: 16 | B12: 1 | C12: SPRING LAKE PARK PUBLIC SCHOOLS | D12: 46.84 | E12: 60.38 | F12: 0 | G12: 424.75 | H12: 459.73 | I12: 499.75 | J12: 485.74 | K12: 466.77 | L12: 405.42 | M12: 430.98 | N12: 405.82 | O12: 405.52 | P12: 414.96 | Q12: 418.83 | R12: 347.3 | S12: 344.31 | T12: =SUM(D12:S12) -> 5617.1
A13: 22 | B13: 1 | C13: DETROIT LAKES PUBLIC SCHOOL DIST. | D13: 65.23 | E13: 41.5 | F13: 0 | G13: 182.05 | H13: 214.22 | I13: 207.58 | J13: 240.69 | K13: 245.05 | L13: 234.8 | M13: 224.73 | N13: 241.89 | O13: 214.86 | P13: 217.23 | Q13: 231.52 | R13: 213.52 | S13: 208.14 | T13: =SUM(D13:S13) -> 2983.01
A14: 23 | B14: 1 | C14: FRAZEE-VERGAS PUBLIC SCHOOL DIST. | D14: 11 | E14: 17.25 | F14: 0 | G14: 53.49 | H14: 49.61 | I14: 76.37 | J14: 57.01 | K14: 74.76 | L14: 71.89 | M14: 63.83 | N14: 75.39 | O14: 74.22 | P14: 65.11 | Q14: 72.26 | R14: 61.97 | S14: 71.66 | T14: =SUM(D14:S14) -> 895.82
A15: 25 | B15: 1 | C15: PINE POINT PUBLIC SCHOOL DISTRICT | D15: 0 | E15: 2.73 | F15: 0 | G15: 11.94 | H15: 9.48 | I15: 6.97 | J15: 8.44 | K15: 4.19 | L15: 6.48 | M15: 5.13 | N15: 3.76 | O15: 4.24 | P15: 0 | Q15: 0 | R15: 0 | S15: 0 | T15: =SUM(D15:S15) -> 63.36
... A496: 4239 | B496: 7 | C496: TESFA INTERNATIONAL SCHOOL | D496: 0 | E496: 1.72 | F496: 0 | G496: 30.83 | H496: 17.91 | I496: 19.07 | J496: 19.7 | K496: 10.94 | L496: 16.4 | M496: 14.6 | N496: 0 | O496: 0 | P496: 0 | Q496: 0 | R496: 0 | S496: 0 | T496: =SUM(D496:S496) -> 131.17

Sheet 2015
A1: 2014-15 Adjusted Average Daily Membership by District and Grade
A3: DstNum | B3: Type | D3: EC | E3: HK | F3: KG.5 | G3: KG1 | H3: 1 | I3: 2 | J3: 3 | K3: 4 | L3: 5 | M3: 6 | N3: 7 | O3: 8 | P3: 9 | Q3: 10 | R3: 11 | S3: 12 | T3: Total
A4: 1 | B4: 1 | C4: AITKIN PUBLIC SCHOOL DISTRICT | D4: 8.19 | E4: 14.58 | F4: 0 | G4: 56.18 | H4: 93.83 | I4: 92.4 | J4: 79.2 | K4: 97.2 | L4: 100.19 | M4: 102.68 | N4: 79.32 | O4: 91.39 | P4: 85.96 | Q4: 93.5 | R4: 102.92 | S4: 97.36 | T4: 1194.9
A5: 2 | B5: 1 | C5: HILL CITY PUBLIC SCHOOL DISTRICT | D5: 10.42 | E5: 2.18 | F5: 0 | G5: 11.58 | H5: 19 | I5: 21.31 | J5: 16.99 | K5: 22.55 | L5: 29.81 | M5: 15.68 | N5: 20.18 | O5: 18.65 | P5: 15.62 | Q5: 19.54 | R5: 17.96 | S5: 32.2 | T5: 273.67
A6: 4 | B6: 1 | C6: MCGREGOR PUBLIC SCHOOL DISTRICT | D6: 7.07 | E6: 5.81 | F6: 0 | G6: 33.75 | H6: 33.87 | I6: 44.24 | J6: 31.72 | K6: 27.98 | L6: 31.58 | M6: 41.91 | N6: 32.36 | O6: 23.12 | P6: 24.13 | Q6: 39.33 | R6: 23.5 | S6: 23.69 | T6: 424.06
A7: 11 | B7: 1 | C7: ANOKA-HENNEPIN PUBLIC SCHOOL DIST. | D7: 446.71 | E7: 314.43 | F7: 0 | G7: 2333.73 | H7: 2635.98 | I7: 2723.92 | J7: 2778.03 | K7: 2744.6 | L7: 2806.87 | M7: 2770.49 | N7: 2836.57 | O7: 2979.45 | P7: 2973.87 | Q7: 3025.6 | R7: 2801.88 | S7: 2992.03 | T7: 37164.16
A8: 12 | B8: 1 | C8: CENTENNIAL PUBLIC SCHOOL DISTRICT | D8: 43.64 | E8: 46.35 | F8: 0 | G8: 430.93 | H8: 424.83 | I8: 489.64 | J8: 438.87 | K8: 456.69 | L8: 518.41 | M8: 504.41 | N8: 516.03 | O8: 489.77 | P8: 498.16 | Q8: 535.24 | R8: 474.1 | S8: 526.5 | T8: 6393.57
A9: 13 | B9: 1 | C9: COLUMBIA HEIGHTS PUBLIC SCHOOL DIST | D9: 33.65 | E9: 17.43 | F9: 0 | G9: 210.71 | H9: 287.78 | I9: 259.29 | J9: 260.17 | K9: 268.81 | L9: 269.79 | M9: 221.36 | N9: 242.38 | O9: 243.07 | P9: 234.13 | Q9: 249.61 | R9: 241.49 | S9: 256.84 | T9: 3296.51
A10: 14 | B10: 1 | C10: FRIDLEY PUBLIC SCHOOL DISTRICT | D10: 16.31 | E10: 20.94 | F10: 0 | G10: 198.94 | H10: 249.98 | I10: 221.1 | J10: 237.17 | K10: 204.19 | L10: 233.85 | M10: 230.38 | N10: 239.31 | O10: 233.84 | P10: 225.26 | Q10: 232.52 | R10: 205.32 | S10: 217.12 | T10: 2966.23
A11: 15 | B11: 1 | C11: ST. FRANCIS PUBLIC SCHOOL DISTRICT | D11: 52.82 | E11: 44.5 | F11: 0 | G11: 259.63 | H11: 329.09 | I11: 326.82 | J11: 328.9 | K11: 357.3 | L11: 356.65 | M11: 377 | N11: 360.97 | O11: 356.1 | P11: 342.55 | Q11: 412.11 | R11: 362.05 | S11: 354.66 | T11: 4621.15
A12: 16 | B12: 1 | C12: SPRING LAKE PARK PUBLIC SCHOOLS | D12: 47.4 | E12: 45.05 | F12: 0 | G12: 436.28 | H12: 509.94 | I12: 507.02 | J12: 487.22 | K12: 391.78 | L12: 439.38 | M12: 397.33 | N12: 389.56 | O12: 410.04 | P12: 427.01 | Q12: 374.6 | R12: 354.28 | S12: 310.69 | T12: 5527.58
A13: 22 | B13: 1 | C13: DETROIT LAKES PUBLIC SCHOOL DIST. | D13: 53.54 | E13: 48.54 | F13: 0 | G13: 160.11 | H13: 208.96 | I13: 234.4 | J13: 233.37 | K13: 230.52 | L13: 221.08 | M13: 237.1 | N13: 218.72 | O13: 210.52 | P13: 219.81 | Q13: 223.73 | R13: 210.31 | S13: 226.51 | T13: 2937.22
A14: 23 | B14: 1 | C14: FRAZEE-VERGAS PUBLIC SCHOOL DIST. | D14: 14 | E14: 6.29 | F14: 0 | G14: 45.71 | H14: 75.94 | I14: 61.74 | J14: 73.83 | K14: 74.58 | L14: 65.41 | M14: 73.68 | N14: 74.35 | O14: 64.93 | P14: 72.49 | Q14: 55.84 | R14: 77.53 | S14: 58.57 | T14: 894.89
A15: 25 | B15: 1 | C15: PINE POINT PUBLIC SCHOOL DISTRICT | D15: 0 | E15: 0.47 | F15: 0 | G15: 12.39 | H15: 5.53 | I15: 9.6 | J15: 6.34 | K15: 7.48 | L15: 6.48 | M15: 5.69 | N15: 3.78 | O15: 5.6 | P15: 0 | Q15: 0 | R15: 0 | S15: 0 | T15: 63.36
... A488: 4231 | B488: 7 | C488: MINNESOTA MATH AND SCIENCE ACADEMY | D488: 0 | E488: 0.74 | F488: 0 | G488: 58.18 | H488: 40.32 | I488: 43.73 | J488: 31.83 | K488: 38.99 | L488: 41.91 | M488: 33.44 | N488: 0 | O488: 0 | P488: 0 | Q488: 0 | R488: 0 | S488: 0 | T488: 289.14

Sheet 2014
A1: 2013-14 Adjusted Average Daily Membership by District and Grade
A3: DstNum | B3: Type | D3: EC | E3: HK | F3: KG.5 | G3: KG1 | H3: 1 | I3: 2 | J3: 3 | K3: 4 | L3: 5 | M3: 6 | N3: 7 | O3: 8 | P3: 9 | Q3: 10 | R3: 11 | S3: 12 | T3: Total
A4: 1 | B4: 1 | C4: AITKIN PUBLIC SCHOOL DISTRICT | D4: 8.8 | E4: 14.34 | F4: 0.12 | G4: 78.61 | H4: 91.79 | I4: 83.42 | J4: 96.36 | K4: 101.22 | L4: 104.75 | M4: 78.5 | N4: 92.35 | O4: 87.85 | P4: 102.56 | Q4: 107.56 | R4: 97.5 | S4: 104.23 | T4: 1249.96
A5: 2 | B5: 1 | C5: HILL CITY PUBLIC SCHOOL DISTRICT | D5: 7 | E5: 0.65 | F5: 0 | G5: 17.26 | H5: 21.29 | I5: 16.84 | J5: 24.73 | K5: 31.57 | L5: 16.33 | M5: 19 | N5: 21.56 | O5: 14.7 | P5: 18.73 | Q5: 17.68 | R5: 36.78 | S5: 16.11 | T5: 280.23
A6: 4 | B6: 1 | C6: MCGREGOR PUBLIC SCHOOL DISTRICT | D6: 7.4 | E6: 3.85 | F6: 0 | G6: 25.26 | H6: 41.21 | I6: 30.14 | J6: 26.25 | K6: 30.09 | L6: 38.93 | M6: 33.42 | N6: 18.72 | O6: 23.24 | P6: 36.5 | Q6: 25.57 | R6: 25.93 | S6: 25 | T6: 391.51
A7: 11 | B7: 1 | C7: ANOKA-HENNEPIN PUBLIC SCHOOL DIST. | D7: 418.18 | E7: 282.1 | F7: 907.85 | G7: 1371.67 | H7: 2734.7 | I7: 2707.63 | J7: 2767.75 | K7: 2808.53 | L7: 2753.77 | M7: 2738.02 | N7: 2950.81 | O7: 2864.09 | P7: 3028.46 | Q7: 2969.79 | R7: 2878.36 | S7: 3098.18 | T7: 37279.89
A8: 12 | B8: 1 | C8: CENTENNIAL PUBLIC SCHOOL DISTRICT | D8: 41.06 | E8: 20.11 | F8: 369.37 | G8: 0 | H8: 477.77 | I8: 436.88 | J8: 437.66 | K8: 512.33 | L8: 489.74 | M8: 497.12 | N8: 494.35 | O8: 489.81 | P8: 545.49 | Q8: 509.13 | R8: 529.14 | S8: 511.42 | T8: 6361.38
A9: 13 | B9: 1 | C9: COLUMBIA HEIGHTS PUBLIC SCHOOL DIST | D9: 30.12 | E9: 31.85 | F9: 0 | G9: 263.83 | H9: 270.31 | I9: 281.2 | J9: 265.82 | K9: 272.41 | L9: 229.93 | M9: 254.85 | N9: 248.12 | O9: 215.09 | P9: 214.87 | Q9: 238.76 | R9: 205.52 | S9: 241.85 | T9: 3264.53
A10: 14 | B10: 1 | C10: FRIDLEY PUBLIC SCHOOL DISTRICT | D10: 17.54 | E10: 19.72 | F10: 0 | G10: 236.99 | H10: 220.19 | I10: 236.19 | J10: 191.74 | K10: 221.18 | L10: 205.21 | M10: 222.1 | N10: 228.41 | O10: 208.26 | P10: 239.96 | Q10: 219.08 | R10: 203.76 | S10: 229.12 | T10: 2899.45
A11: 15 | B11: 1 | C11: ST. FRANCIS PUBLIC SCHOOL DISTRICT | D11: 51.04 | E11: 48.01 | F11: 0 | G11: 294.88 | H11: 314.39 | I11: 328.07 | J11: 351.79 | K11: 351.19 | L11: 370.41 | M11: 362.11 | N11: 356.82 | O11: 349.07 | P11: 436.02 | Q11: 387.62 | R11: 387.81 | S11: 369.69 | T11: 4758.92
A12: 16 | B12: 1 | C12: SPRING LAKE PARK PUBLIC SCHOOLS | D12: 41.49 | E12: 26.22 | F12: 446.88 | G12: 0 | H12: 491.38 | I12: 497.47 | J12: 418.21 | K12: 439.01 | L12: 393.52 | M12: 395.45 | N12: 416.66 | O12: 431.44 | P12: 395.44 | Q12: 367.25 | R12: 336.79 | S12: 359.98 | T12: 5457.19
A13: 22 | B13: 1 | C13: DETROIT LAKES PUBLIC SCHOOL DIST. | D13: 44.74 | E13: 47.04 | F13: 1.78 | G13: 143.36 | H13: 217.55 | I13: 225.7 | J13: 221.61 | K13: 215.91 | L13: 218 | M13: 219.74 | N13: 214.15 | O13: 214.7 | P13: 215.13 | Q13: 215.91 | R13: 223.74 | S13: 197.14 | T13: 2836.2
A14: 23 | B14: 1 | C14: FRAZEE-VERGAS PUBLIC SCHOOL DIST. | D14: 10.51 | E14: 8.59 | F14: 0 | G14: 66.49 | H14: 68.66 | I14: 72.47 | J14: 73.22 | K14: 62.41 | L14: 70.35 | M14: 73.13 | N14: 67.33 | O14: 72.22 | P14: 54.27 | Q14: 83.81 | R14: 60.86 | S14: 67.49 | T14: 911.81
A15: 25 | B15: 1 | C15: PINE POINT PUBLIC SCHOOL DISTRICT | D15: 0 | E15: 0.23 | F15: 0 | G15: 6.19 | H15: 9.64 | I15: 7.34 | J15: 7.85 | K15: 6.1 | L15: 8.96 | M15: 4.24 | N15: 6.21 | O15: 5.32 | P15: 0 | Q15: 0 | R15: 0 | S15: 0 | T15: 62.08
... A481: 4218 | B481: 7 | C481: VENTURE ACADEMY | D481: 0 | E481: 0 | F481: 0 | G481: 0 | H481: 0 | I481: 0 | J481: 0 | K481: 0 | L481: 0 | M481: 67.09 | N481: 47.26 | O481: 0 | P481: 0 | Q481: 0 | R481: 0 | S481: 0 | T481: 114.35

Sheet 2013
A1: 2012-13 Adjusted Average Daily Membership by District and Grade
A3: DstNum | B3: Type | D3: EC | E3: HK | F3: KG | G3: 1 | H3: 2 | I3: 3 | J3: 4 | K3: 5 | L3: 6 | M3: 7 | N3: 8 | O3: 9 | P3: 10 | Q3: 11 | R3: 12 | S3: Total
A4: 1 | B4: 1 | C4: AITKIN PUBLIC SCHOOL DISTRICT | D4: 8.88 | E4: 13.12 | F4: 81.18 | G4: 85 | H4: 94.08 | I4: 105.33 | J4: 105.8 | K4: 74.55 | L4: 94.16 | M4: 85.22 | N4: 104 | O4: 112.28 | P4: 94.94 | Q4: 97.31 | R4: 100.88 | S4: =SUM(D4:R4) -> 1256.73
A5: 2 | B5: 1 | C5: HILL CITY PUBLIC SCHOOL DISTRICT | D5: 7 | E5: 0.07 | F5: 13.94 | G5: 16.61 | H5: 24.35 | I5: 27.15 | J5: 16.19 | K5: 18.92 | L5: 20 | M5: 17 | N5: 22 | O5: 17.6 | P5: 36.72 | Q5: 15.86 | R5: 18.64 | S5: =SUM(D5:R5) -> 272.05
A6: 4 | B6: 1 | C6: MCGREGOR PUBLIC SCHOOL DISTRICT | D6: 5.96 | E6: 3.92 | F6: 34.89 | G6: 28.22 | H6: 27.78 | I6: 29.89 | J6: 38.6 | K6: 37.22 | L6: 21.9 | M6: 26.42 | N6: 35.62 | O6: 24.05 | P6: 26.72 | Q6: 26.55 | R6: 34.63 | S6: =SUM(D6:R6) -> 402.37
A7: 11 | B7: 1 | C7: ANOKA-HENNEPIN PUBLIC SCHOOL DIST. | D7: 459.89 | E7: 278.68 | F7: 2322.94 | G7: 2699.63 | H7: 2685.71 | I7: 2763.13 | J7: 2776.11 | K7: 2681.48 | L7: 2869.91 | M7: 2828.87 | N7: 2972.14 | O7: 3005.89 | P7: 3065.82 | Q7: 2975.57 | R7: 3160.71 | S7: =SUM(D7:R7) -> 37546.48
A8: 12 | B8: 1 | C8: CENTENNIAL PUBLIC SCHOOL DISTRICT | D8: 39.5 | E8: 21.77 | F8: 412.51 | G8: 433.29 | H8: 418.87 | I8: 490.96 | J8: 482.83 | K8: 477.34 | L8: 487.19 | M8: 480.07 | N8: 548.33 | O8: 509.31 | P8: 535.32 | Q8: 513.82 | R8: 547.46 | S8: =SUM(D8:R8) -> 6398.57
A9: 13 | B9: 1 | C9: COLUMBIA HEIGHTS PUBLIC SCHOOL DIST | D9: 33.83 | E9: 22.21 | F9: 251.4 | G9: 253.95 | H9: 262.04 | I9: 252.44 | J9: 230.85 | K9: 224.21 | L9: 242.24 | M9: 211.28 | N9: 215.53 | O9: 232.45 | P9: 208.04 | Q9: 199.22 | R9: 209.45 | S9: =SUM(D9:R9) -> 3049.14
A10: 14 | B10: 1 | C10: FRIDLEY PUBLIC SCHOOL DISTRICT | D10: 21.09 | E10: 21.15 | F10: 212.48 | G10: 234.16 | H10: 214.89 | I10: 230 | J10: 201.93 | K10: 213.23 | L10: 211.77 | M10: 211.78 | N10: 241.17 | O10: 211.96 | P10: 231.14 | Q10: 232.39 | R10: 214.28 | S10: =SUM(D10:R10) -> 2903.42
A11: 15 | B11: 1 | C11: ST. FRANCIS PUBLIC SCHOOL DISTRICT | D11: 52.74 | E11: 39 | F11: 280.91 | G11: 332.44 | H11: 355.05 | I11: 352.74 | J11: 371.37 | K11: 370.87 | L11: 362.69 | M11: 362.08 | N11: 428.28 | O11: 413.9 | P11: 431.17 | Q11: 403.06 | R11: 346.92 | S11: =SUM(D11:R11) -> 4903.22
A12: 16 | B12: 1 | C12: SPRING LAKE PARK PUBLIC SCHOOLS | D12: 46.95 | E12: 26.31 | F12: 427.68 | G12: 482.67 | H12: 433.59 | I12: 469.32 | J12: 377.67 | K12: 383.33 | L12: 414.35 | M12: 424.85 | N12: 364.32 | O12: 398.19 | P12: 341.55 | Q12: 364.24 | R12: 348.66 | S12: =SUM(D12:R12) -> 5303.68
A13: 22 | B13: 1 | C13: DETROIT LAKES PUBLIC SCHOOL DIST. | D13: 41.62 | E13: 54.75 | F13: 165.98 | G13: 229.93 | H13: 225.88 | I13: 216.6 | J13: 219.8 | K13: 216.32 | L13: 207.65 | M13: 210.01 | N13: 202.21 | O13: 218.13 | P13: 226.49 | Q13: 211.33 | R13: 215.13 | S13: =SUM(D13:R13) -> 2861.83
A14: 23 | B14: 1 | C14: FRAZEE-VERGAS PUBLIC SCHOOL DIST. | D14: 7.63 | E14: 11.82 | F14: 59.82 | G14: 68.19 | H14: 71.65 | I14: 62.27 | J14: 69.46 | K14: 70.73 | L14: 71.04 | M14: 71.24 | N14: 52.04 | O14: 90.28 | P14: 70.42 | Q14: 71.11 | R14: 51.83 | S14: =SUM(D14:R14) -> 899.53
A15: 25 | B15: 1 | C15: PINE POINT PUBLIC SCHOOL DISTRICT | D15: 0 | E15: 0 | F15: 10.04 | G15: 9.8 | H15: 8.82 | I15: 5.46 | J15: 6.61 | K15: 5.69 | L15: 7.19 | M15: 4.97 | N15: 1.09 | O15: 0 | P15: 0 | Q15: 0 | R15: 0 | S15: =SUM(D15:R15) -> 59.67
... A483: 4209 | B483: 7 | C483: THE MASTERY SCHOOL | D483: 0 | E483: 1.87 | F483: 52.66 | G483: 38.85 | H483: 48.78 | I483: 0 | J483: 0 | K483: 0 | L483: 0 | M483: 0 | N483: 0 | O483: 0 | P483: 0 | Q483: 0 | R483: 0 | S483: =SUM(D483:R483) -> 142.16

Sheet 2012
A1: 2011-12 Adjusted Average Daily Membership by District and Grade
A3: DstNum | B3: Type | D3: EC | E3: HK | F3: KG | G3: 1 | H3: 2 | I3: 3 | J3: 4 | K3: 5 | L3: 6 | M3: 7 | N3: 8 | O3: 9 | P3: 10 | Q3: 11 | R3: 12 | S3: Total
A4: 1 | B4: 1 | C4: AITKIN PUBLIC SCHOOL DISTRICT | D4: 13.41 | E4: 15.55 | F4: 67.82 | G4: 94.06 | H4: 108.91 | I4: 107.07 | J4: 71.58 | K4: 92.01 | L4: 86.02 | M4: 97.82 | N4: 112.74 | O4: 87.82 | P4: 101.1 | Q4: 102.5 | R4: 101.22 | S4: =SUM(D4:R4) -> 1259.63
A5: 2 | B5: 1 | C5: HILL CITY PUBLIC SCHOOL DISTRICT | D5: 7.5 | E5: 0.11 | F5: 17.07 | G5: 24.75 | H5: 25.07 | I5: 15 | J5: 19.6 | K5: 19 | L5: 15.73 | M5: 21.99 | N5: 18.72 | O5: 35.89 | P5: 18.59 | Q5: 18.64 | R5: 19.11 | S5: =SUM(D5:R5) -> 276.77
A6: 4 | B6: 1 | C6: MCGREGOR PUBLIC SCHOOL DISTRICT | D6: 2.51 | E6: 7.92 | F6: 20.58 | G6: 26.29 | H6: 30.62 | I6: 34.36 | J6: 36.21 | K6: 18.63 | L6: 24.8 | M6: 31.86 | N6: 23.28 | O6: 28.82 | P6: 25.29 | Q6: 34.9 | R6: 37.95 | S6: =SUM(D6:R6) -> 384.02
A7: 11 | B7: 1 | C7: ANOKA-HENNEPIN PUBLIC SCHOOL DIST. | D7: 354.85 | E7: 236.85 | F7: 2304.34 | G7: 2646.49 | H7: 2759.28 | I7: 2745.85 | J7: 2686.49 | K7: 2851.82 | L7: 2781.75 | M7: 2949.85 | N7: 2955.85 | O7: 3098.23 | P7: 3161.23 | Q7: 3020.3 | R7: 3170.42 | S7: =SUM(D7:R7) -> 37723.6
A8: 12 | B8: 1 | C8: CENTENNIAL PUBLIC SCHOOL DISTRICT | D8: 36.88 | E8: 23.7 | F8: 380.1 | G8: 411.16 | H8: 491.7 | I8: 477.2 | J8: 460.97 | K8: 475.17 | L8: 468.51 | M8: 542.78 | N8: 506.72 | O8: 550.23 | P8: 532.69 | Q8: 531.99 | R8: 553.86 | S8: =SUM(D8:R8) -> 6443.66
A9: 13 | B9: 1 | C9: COLUMBIA HEIGHTS PUBLIC SCHOOL DIST | D9: 33.24 | E9: 21.81 | F9: 250.88 | G9: 263.26 | H9: 255.45 | I9: 221.63 | J9: 224.9 | K9: 238.4 | L9: 200.22 | M9: 204.92 | N9: 207.82 | O9: 231.15 | P9: 222.75 | Q9: 214.03 | R9: 235.22 | S9: =SUM(D9:R9) -> 3025.68
A10: 14 | B10: 1 | C10: FRIDLEY PUBLIC SCHOOL DISTRICT | D10: 22.59 | E10: 27.6 | F10: 213.04 | G10: 227.32 | H10: 237.04 | I10: 204.98 | J10: 215.37 | K10: 189.5 | L10: 194.92 | M10: 243.14 | N10: 213.69 | O10: 231.64 | P10: 247.82 | Q10: 217.14 | R10: 227.46 | S10: =SUM(D10:R10) -> 2913.25
A11: 15 | B11: 1 | C11: ST. FRANCIS PUBLIC SCHOOL DISTRICT | D11: 48.39 | E11: 30.03 | F11: 292.98 | G11: 352.49 | H11: 353.65 | I11: 374.1 | J11: 385.68 | K11: 367.15 | L11: 373.49 | M11: 425.89 | N11: 401.31 | O11: 441.63 | P11: 439.37 | Q11: 389.63 | R11: 357.46 | S11: =SUM(D11:R11) -> 5033.25
A12: 16 | B12: 1 | C12: SPRING LAKE PARK PUBLIC SCHOOLS | D12: 51.2 | E12: 23.62 | F12: 431.65 | G12: 438.41 | H12: 464.91 | I12: 384.29 | J12: 371.16 | K12: 404.45 | L12: 418.03 | M12: 354.27 | N12: 371.11 | O12: 347.78 | P12: 368.09 | Q12: 344.29 | R12: 355.17 | S12: =SUM(D12:R12) -> 5128.43
A13: 22 | B13: 1 | C13: DETROIT LAKES PUBLIC SCHOOL DIST. | D13: 46.17 | E13: 61.61 | F13: 171.69 | G13: 223.19 | H13: 205.37 | I13: 215.74 | J13: 209.44 | K13: 198.91 | L13: 208.25 | M13: 192.42 | N13: 204.85 | O13: 233.18 | P13: 207.48 | Q13: 218.07 | R13: 216.57 | S13: =SUM(D13:R13) -> 2812.94
A14: 23 | B14: 1 | C14: FRAZEE-VERGAS PUBLIC SCHOOL DIST. | D14: 7.11 | E14: 9.47 | F14: 60.7 | G14: 69.51 | H14: 73.18 | I14: 71.8 | J14: 73.27 | K14: 72.52 | L14: 70.65 | M14: 53.81 | N14: 86.25 | O14: 71.76 | P14: 75.58 | Q14: 57.12 | R14: 49.6 | S14: =SUM(D14:R14) -> 902.33
A15: 25 | B15: 1 | C15: PINE POINT PUBLIC SCHOOL DISTRICT | D15: 0 | E15: 1 | F15: 10.33 | G15: 9.61 | H15: 10.03 | I15: 8.41 | J15: 4.98 | K15: 6.45 | L15: 5.2 | M15: 2.24 | N15: 2.35 | O15: 0 | P15: 0 | Q15: 0 | R15: 0 | S15: =SUM(D15:R15) -> 60.6
... A484: 4204 | B484: 7 | C484: ROCHESTER STEM ACADEMY | D484: 0 | E484: 0 | F484: 0 | G484: 0 | H484: 0 | I484: 0 | J484: 0 | K484: 0 | L484: 0 | M484: 0 | N484: 0 | O484: 32.58 | P484: 29.46 | Q484: 0 | R484: 0 | S484: =SUM(D484:R484) -> 62.04

Sheet 2011
A1: 2010-11 Adjusted Average Daily Membership by District and Grade
A3: Dst | B3: Type | D3: EC | E3: HK | F3: KG | G3: 1 | H3: 2 | I3: 3 | J3: 4 | K3: 5 | L3: 6 | M3: 7 | N3: 8 | O3: 9 | P3: 10 | Q3: 11 | R3: 12 | S3: Total
A4: 1 | B4: 1 | C4: AITKIN PUBLIC SCHOOL DISTRICT | D4: 13.03 | E4: 2.28 | F4: 87.97 | G4: 109.24 | H4: 103.2 | I4: 73.57 | J4: 93.44 | K4: 89.67 | L4: 99.37 | M4: 117.88 | N4: 87.61 | O4: 105.97 | P4: 98.31 | Q4: 109.22 | R4: 98.67 | S4: =SUM(D4:R4) -> 1289.43
A5: 2 | B5: 1 | C5: HILL CITY PUBLIC SCHOOL DISTRICT | D5: 6.54 | E5: 7.88 | F5: 18.69 | G5: 24.85 | H5: 15.25 | I5: 18.47 | J5: 17.96 | K5: 19.25 | L5: 23 | M5: 18.63 | N5: 33.66 | O5: 18.98 | P5: 20.98 | Q5: 19 | R5: 35.53 | S5: =SUM(D5:R5) -> 298.67
A6: 4 | B6: 1 | C6: MCGREGOR PUBLIC SCHOOL DISTRICT | D6: 4.17 | E6: 7.14 | F6: 19.04 | G6: 28.48 | H6: 30.31 | I6: 33.01 | J6: 20.8 | K6: 26.62 | L6: 33.55 | M6: 22.91 | N6: 28.54 | O6: 20.55 | P6: 35.2 | Q6: 34.86 | R6: 36.72 | S6: =SUM(D6:R6) -> 381.9
A7: 11 | B7: 1 | C7: ANOKA-HENNEPIN PUBLIC SCHOOL DIST. | D7: 358.45 | E7: 208.64 | F7: 2317.12 | G7: 2734.84 | H7: 2714.03 | I7: 2664.71 | J7: 2824.88 | K7: 2745.73 | L7: 2866.25 | M7: 2934.19 | N7: 2981.2 | O7: 3191.08 | P7: 3146.45 | Q7: 3097.57 | R7: 3273.07 | S7: =SUM(D7:R7) -> 38058.21
A8: 12 | B8: 1 | C8: CENTENNIAL PUBLIC SCHOOL DISTRICT | D8: 44.45 | E8: 20.35 | F8: 347.35 | G8: 474.38 | H8: 455.41 | I8: 456.09 | J8: 469.4 | K8: 454.72 | L8: 533.41 | M8: 513.15 | N8: 547.14 | O8: 532.2 | P8: 551.07 | Q8: 568.14 | R8: 560.56 | S8: =SUM(D8:R8) -> 6527.82
A9: 13 | B9: 1 | C9: COLUMBIA HEIGHTS PUBLIC SCHOOL DIST | D9: 31.45 | E9: 19.28 | F9: 238.78 | G9: 262.95 | H9: 216.29 | I9: 215.03 | J9: 235.71 | K9: 205.78 | L9: 222.59 | M9: 208.17 | N9: 204 | O9: 229.31 | P9: 231.78 | Q9: 231.71 | R9: 248.47 | S9: =SUM(D9:R9) -> 3001.3
A10: 14 | B10: 1 | C10: FRIDLEY PUBLIC SCHOOL DISTRICT | D10: 24.55 | E10: 20.58 | F10: 228.87 | G10: 240.87 | H10: 207.06 | I10: 222.96 | J10: 199.97 | K10: 175.29 | L10: 221.12 | M10: 199.75 | N10: 207.42 | O10: 246.42 | P10: 218.1 | Q10: 236.91 | R10: 219.5 | S10: =SUM(D10:R10) -> 2869.37
A11: 15 | B11: 1 | C11: ST. FRANCIS PUBLIC SCHOOL DISTRICT | D11: 51.21 | E11: 20.68 | F11: 300.82 | G11: 356.04 | H11: 373.81 | I11: 382.3 | J11: 362.66 | K11: 371.23 | L11: 420.79 | M11: 405.41 | N11: 418.87 | O11: 453.7 | P11: 419.38 | Q11: 402.66 | R11: 376.88 | S11: =SUM(D11:R11) -> 5116.44
A12: 16 | B12: 1 | C12: SPRING LAKE PARK PUBLIC SCHOOLS | D12: 44.08 | E12: 20.13 | F12: 362.54 | G12: 445.93 | H12: 370.88 | I12: 368.6 | J12: 385.78 | K12: 388.09 | L12: 352.01 | M12: 369.57 | N12: 324.77 | O12: 355.27 | P12: 355.32 | Q12: 351.44 | R12: 359.41 | S12: =SUM(D12:R12) -> 4853.82
A13: 22 | B13: 1 | C13: DETROIT LAKES PUBLIC SCHOOL DIST. | D13: 44.89 | E13: 53.74 | F13: 174.87 | G13: 209.5 | H13: 208.11 | I13: 212.26 | J13: 201.11 | K13: 198.75 | L13: 196.3 | M13: 198.8 | N13: 218.19 | O13: 206.36 | P13: 213.31 | Q13: 214.43 | R13: 220.89 | S13: =SUM(D13:R13) -> 2771.51
A14: 23 | B14: 1 | C14: FRAZEE-VERGAS PUBLIC SCHOOL DIST. | D14: 9.37 | E14: 9.73 | F14: 60.12 | G14: 65.61 | H14: 75.32 | I14: 71.42 | J14: 67.71 | K14: 69.16 | L14: 57.7 | M14: 84.01 | N14: 70.06 | O14: 79.19 | P14: 59.13 | Q14: 53.28 | R14: 67.44 | S14: =SUM(D14:R14) -> 899.25
A15: 25 | B15: 1 | C15: PINE POINT PUBLIC SCHOOL DISTRICT | D15: 0 | E15: 2.66 | F15: 10.81 | G15: 7.44 | H15: 9.35 | I15: 4.41 | J15: 6.93 | K15: 2.92 | L15: 3.43 | M15: 4.5 | N15: 6.79 | O15: 0 | P15: 0 | Q15: 0 | R15: 0 | S15: =SUM(D15:R15) -> 59.24
... A485: 4197 | B485: 7 | C485: ACADEMY OF NORTHERN MINNEAPOLIS | D485: 0 | E485: 3.15 | F485: 40.97 | G485: 21.81 | H485: 16.93 | I485: 14.82 | J485: 16.46 | K485: 11.02 | L485: 0 | M485: 0 | N485: 0 | O485: 0 | P485: 0 | Q485: 0 | R485: 0 | S485: =SUM(D485:R485) -> 125.16

Sheet 2010
A1: 2009-10 Adjusted Average Daily Membership by District and Grade
A3: DST_NUM | B3: DST_TYE | C3: District Name | D3: EC | E3: HK | F3: K | G3: 01 | H3: 02 | I3: 03 | J3: 04 | K3: 05 | L3: 06 | M3: 07 | N3: 08 | O3: 09 | P3: 10 | Q3: 11 | R3: 12 | S3: TOTAL
A4: 1 | B4: 1 | C4: AITKIN PUBLIC SCHOOL DISTRICT | D4: 10.44 | E4: 11.71 | F4: 94.02 | G4: 106.61 | H4: 74.22 | I4: 94.35 | J4: 88.47 | K4: 95.57 | L4: 107.49 | M4: 86.76 | N4: 102.9 | O4: 98.3 | P4: 102.96 | Q4: 100.93 | R4: 90.85 | S4: 1265.58
A5: 2 | B5: 1 | C5: HILL CITY PUBLIC SCHOOL DISTRICT | D5: 5.97 | E5: 5.89 | F5: 19.07 | G5: 14.99 | H5: 19.96 | I5: 14.58 | J5: 14.95 | K5: 22.41 | L5: 20.28 | M5: 33.37 | N5: 17.45 | O5: 21.4 | P5: 19.62 | Q5: 33.94 | R5: 26.37 | S5: 290.25
A6: 4 | B6: 1 | C6: MCGREGOR PUBLIC SCHOOL DISTRICT | D6: 5.02 | E6: 7 | F6: 22.15 | G6: 30.91 | H6: 29.41 | I6: 19.34 | J6: 23.62 | K6: 31.77 | L6: 22.26 | M6: 30.8 | N6: 19.38 | O6: 35.39 | P6: 41.21 | Q6: 37.65 | R6: 23.71 | S6: 379.62
A7: 11 | B7: 1 | C7: ANOKA-HENNEPIN PUBLIC SCHOOL DIST. | D7: 332.6 | E7: 142.89 | F7: 2410.96 | G7: 2717.27 | H7: 2672.24 | I7: 2844.28 | J7: 2746.57 | K7: 2870.06 | L7: 2877.54 | M7: 2996.03 | N7: 3088.37 | O7: 3217.09 | P7: 3282.06 | Q7: 3176.97 | R7: 3434.06 | S7: 38808.99
A8: 12 | B8: 1 | C8: CENTENNIAL PUBLIC SCHOOL DISTRICT | D8: 39.78 | E8: 22.41 | F8: 423.51 | G8: 449.97 | H8: 451.52 | I8: 467.41 | J8: 462.49 | K8: 519.19 | L8: 516.15 | M8: 544.37 | N8: 531.65 | O8: 552.46 | P8: 587.19 | Q8: 572.74 | R8: 557.82 | S8: 6698.66
A9: 13 | B9: 1 | C9: COLUMBIA HEIGHTS PUBLIC SCHOOL DIST | D9: 27.98 | E9: 26.57 | F9: 257.94 | G9: 219.93 | H9: 218.4 | I9: 238.68 | J9: 198.85 | K9: 230.62 | L9: 204.01 | M9: 203.74 | N9: 195.85 | O9: 219.29 | P9: 238.55 | Q9: 253.77 | R9: 212.88 | S9: 2947.06
A10: 14 | B10: 1 | C10: FRIDLEY PUBLIC SCHOOL DISTRICT | D10: 18.88 | E10: 15.21 | F10: 229.77 | G10: 193.84 | H10: 207.81 | I10: 194.41 | J10: 169.53 | K10: 192.84 | L10: 187.14 | M10: 210.74 | N10: 216.68 | O10: 222.88 | P10: 247.03 | Q10: 239.29 | R10: 236.6 | S10: 2782.65
A11: 15 | B11: 1 | C11: ST. FRANCIS PUBLIC SCHOOL DISTRICT | D11: 49.77 | E11: 16.85 | F11: 310.16 | G11: 375.45 | H11: 396.65 | I11: 377.56 | J11: 369.11 | K11: 415.39 | L11: 402.07 | M11: 428.83 | N11: 445.46 | O11: 446.68 | P11: 444.7 | Q11: 402.38 | R11: 405.71 | S11: 5286.77
A12: 16 | B12: 1 | C12: SPRING LAKE PARK PUBLIC SCHOOLS | D12: 42.35 | E12: 28.96 | F12: 383.48 | G12: 370.27 | H12: 356.6 | I12: 372.77 | J12: 372.02 | K12: 344.63 | L12: 355.04 | M12: 316.87 | N12: 329.15 | O12: 348.43 | P12: 381.9 | Q12: 348.31 | R12: 360.9 | S12: 4711.68
A13: 22 | B13: 1 | C13: DETROIT LAKES PUBLIC SCHOOL DIST. | D13: 46.83 | E13: 42.49 | F13: 164.86 | G13: 215.36 | H13: 209.9 | I13: 199.95 | J13: 192.49 | K13: 192.66 | L13: 205.52 | M13: 218.58 | N13: 196.39 | O13: 217.46 | P13: 222.32 | Q13: 229.86 | R13: 209.02 | S13: 2763.69
A14: 23 | B14: 1 | C14: FRAZEE-VERGAS PUBLIC SCHOOL DIST. | D14: 13.64 | E14: 11.25 | F14: 57.44 | G14: 73.81 | H14: 61.4 | I14: 71.78 | J14: 72.26 | K14: 60.37 | L14: 79.77 | M14: 68.37 | N14: 76.39 | O14: 62.38 | P14: 62.97 | Q14: 71.06 | R14: 62.14 | S14: 905.03
A15: 25 | B15: 1 | C15: PINE POINT PUBLIC SCHOOL DISTRICT | D15: 0 | E15: 2.54 | F15: 8.72 | G15: 11.37 | H15: 4.82 | I15: 6.92 | J15: 5.84 | K15: 4.82 | L15: 6.2 | M15: 5.74 | N15: 4.13 | O15: 0 | P15: 0 | Q15: 0 | R15: 0 | S15: 61.1
... A491: 4196 | B491: 7 | C491: RICHARD ALLEN MATH-SCIENCE ACADEMY | D491: 0 | E491: 0 | F491: 0 | G491: 0 | H491: 0 | I491: 0 | J491: 0 | K491: 0 | L491: 12.58 | M491: 13.9 | N491: 19.47 | O491: 0 | P491: 0 | Q491: 0 | R491: 0 | S491: 45.95
C492: STATE TOTALS | D492: 7429.17 | E492: 5217.66 | F492: 56093.35 | G492: 62062.77 | H492: 60341.48 | I492: 61294.84 | J492: 60596.16 | K492: 60213.36 | L492: 60114.91 | M492: 61350.62 | N492: 61091.04 | O492: 64596.22 | P492: 65092.76 | Q492: 64748.96 | R492: 67288.66 | S492: 817531.96

Sheet 2009
A1: 2008-2009 Adjusted Average Daily Membership by District by Grade
A3: DST_NUM | B3: DST_TYE | C3: DST_NAM | D3: ADJ_ADM_EC | E3: ADJ_ADM_HK | F3: ADJ_ADM_KG | G3: ADJ_ADM_01 | H3: ADJ_ADM_02 | I3: ADJ_ADM_03 | J3: ADM_ADJ_04 | K3: ADJ_ADM_05 | L3: ADJ_ADM_06 | M3: ADJ_ADM_07 | N3: ADJ_ADM_08 | O3: ADJ_ADM_09 | P3: ADJ_ADM_10 | Q3: ADJ_ADM_11 | R3: ADJ_ADM_12 | S3: TOTAL
A4: 1 | B4: 1 | C4: AITKIN PUBLIC SCHOOL DISTRICT | D4: 10.04 | E4: 10.08 | F4: 86.47 | G4: 74.83 | H4: 92.59 | I4: 85.78 | J4: 97 | K4: 103.32 | L4: 86.1 | M4: 100.67 | N4: 101.78 | O4: 109.6 | P4: 97.47 | Q4: 96.67 | R4: 108.31 | S4: 1260.71
A5: 2 | B5: 1 | C5: HILL CITY PUBLIC SCHOOL DISTRICT | D5: 4.72 | E5: 2.62 | F5: 12.17 | G5: 20.68 | H5: 14 | I5: 17.28 | J5: 21.85 | K5: 19.74 | L5: 33.85 | M5: 15 | N5: 21 | O5: 24.5 | P5: 36.25 | Q5: 30.23 | R5: 20.44 | S5: 294.33
A6: 4 | B6: 1 | C6: MCGREGOR PUBLIC SCHOOL DISTRICT | D6: 6.2 | E6: 4.66 | F6: 21.48 | G6: 28.14 | H6: 18.99 | I6: 23.78 | J6: 29.95 | K6: 19.13 | L6: 30.4 | M6: 23.41 | N6: 37.27 | O6: 42.14 | P6: 36.2 | Q6: 25.46 | R6: 41.65 | S6: 388.86
A7: 11 | B7: 1 | C7: ANOKA-HENNEPIN PUBLIC SCHOOL DIST. | D7: 333.02 | E7: 132.1 | F7: 2405.66 | G7: 2653.04 | H7: 2830.67 | I7: 2748.69 | J7: 2851.3 | K7: 2833.81 | L7: 2986.43 | M7: 3084.11 | N7: 3092.5 | O7: 3323.95 | P7: 3340.22 | Q7: 3197.42 | R7: 3412.46 | S7: 39225.38
A8: 12 | B8: 1 | C8: CENTENNIAL PUBLIC SCHOOL DISTRICT | D8: 36.01 | E8: 19.23 | F8: 394.97 | G8: 443.52 | H8: 455.55 | I8: 450.46 | J8: 499.16 | K8: 496.64 | L8: 538.91 | M8: 524.05 | N8: 555.94 | O8: 579.62 | P8: 594.61 | Q8: 583.34 | R8: 586.7 | S8: 6758.71
A9: 13 | B9: 1 | C9: COLUMBIA HEIGHTS PUBLIC SCHOOL DIST | D9: 27.66 | E9: 18.49 | F9: 204.72 | G9: 233.37 | H9: 248.96 | I9: 211.24 | J9: 231.53 | K9: 213.39 | L9: 195.33 | M9: 192.15 | N9: 210.32 | O9: 238.54 | P9: 248.1 | Q9: 212.43 | R9: 210.39 | S9: 2896.62
A10: 14 | B10: 1 | C10: FRIDLEY PUBLIC SCHOOL DISTRICT | D10: 17.8 | E10: 15.8 | F10: 184.4 | G10: 213.8 | H10: 198.52 | I10: 162.5 | J10: 194.59 | K10: 169.47 | L10: 189.05 | M10: 203.47 | N10: 199.39 | O10: 239.35 | P10: 245.19 | Q10: 240.08 | R10: 215.32 | S10: 2688.73
A11: 15 | B11: 1 | C11: ST. FRANCIS PUBLIC SCHOOL DISTRICT | D11: 46.22 | E11: 19.83 | F11: 341.09 | G11: 416.77 | H11: 388.78 | I11: 388.84 | J11: 435.14 | K11: 410.67 | L11: 433.62 | M11: 453.79 | N11: 438.52 | O11: 456.25 | P11: 434.81 | Q11: 457.85 | R11: 355.94 | S11: 5478.12
A12: 16 | B12: 1 | C12: SPRING LAKE PARK PUBLIC SCHOOLS | D12: 40.43 | E12: 15.57 | F12: 328.87 | G12: 349.31 | H12: 354.71 | I12: 376 | J12: 330.71 | K12: 340.16 | L12: 313.53 | M12: 319.35 | N12: 335.55 | O12: 392.7 | P12: 366.04 | Q12: 343.35 | R12: 369.9 | S12: 4576.18
A13: 22 | B13: 1 | C13: DETROIT LAKES PUBLIC SCHOOL DIST. | D13: 40.3 | E13: 54.31 | F13: 159.75 | G13: 195.98 | H13: 205.6 | I13: 191.19 | J13: 190.8 | K13: 201.35 | L13: 213.05 | M13: 196.3 | N13: 201.03 | O13: 211.06 | P13: 217.66 | Q13: 219.13 | R13: 219.14 | S13: 2716.65
A14: 23 | B14: 1 | C14: FRAZEE-VERGAS PUBLIC SCHOOL DIST. | D14: 12.54 | E14: 14.84 | F14: 71.47 | G14: 63.57 | H14: 67.93 | I14: 76.5 | J14: 61.24 | K14: 78.94 | L14: 69.15 | M14: 79.37 | N14: 64.4 | O14: 67.22 | P14: 74.31 | Q14: 69.06 | R14: 72.03 | S14: 942.57
A15: 25 | B15: 1 | C15: PINE POINT PUBLIC SCHOOL DISTRICT | D15: 0 | E15: 2.45 | F15: 12.29 | G15: 7.56 | H15: 10 | I15: 7.28 | J15: 6.18 | K15: 7.36 | L15: 6.46 | M15: 5.84 | N15: 4.84 | O15: 0 | P15: 0 | Q15: 0 | R15: 0 | S15: 70.26
... A493: 4192 | B493: 7 | C493: BEST ACADEMY | D493: 0 | E493: 0 | F493: 22.06 | G493: 31.77 | H493: 44.8 | I493: 37.24 | J493: 22.28 | K493: 33.41 | L493: 24.04 | M493: 32.13 | N493: 0 | O493: 0 | P493: 0 | Q493: 0 | R493: 0 | S493: 247.73
C494: STATE TOTALS | D494: 7193.23 | E494: 4915.37 | F494: 55144.23 | G494: 60366.32 | H494: 61118.22 | I494: 60332.57 | J494: 59808.61 | K494: 59686.91 | L494: 60207.76 | M494: 60820.44 | N494: 61941.6 | O494: 65599.46 | P494: 66683.91 | Q494: 65625.57 | R494: 67298.04 | S494: 816742.24

Sheet 2008
A1: 2007-2008 Adjusted Average Daily Membership by District by Grade
A3: DST_NUM | B3: DST_TYE | C3: DST_NAM | D3: ADJ_ADM_EC | E3: ADJ_ADM_HK | F3: ADJ_ADM_KG | G3: ADJ_ADM_01 | H3: ADJ_ADM_02 | I3: ADJ_ADM_03 | J3: ADM_ADJ_04 | K3: ADJ_ADM_05 | L3: ADJ_ADM_06 | M3: ADJ_ADM_07 | N3: ADJ_ADM_08 | O3: ADJ_ADM_09 | P3: ADJ_ADM_10 | Q3: ADJ_ADM_11 | R3: ADJ_ADM_12 | S3: TOTAL
A4: 1 | B4: 1 | C4: AITKIN PUBLIC SCHOOL DISTRICT | D4: 10.3 | E4: 11.03 | F4: 66.6 | G4: 98.4 | H4: 84.32 | I4: 98.87 | J4: 107.26 | K4: 87.92 | L4: 100.48 | M4: 103.32 | N4: 106.39 | O4: 100.37 | P4: 91.84 | Q4: 109.68 | R4: 110.68 | S4: 1287.46
A5: 2 | B5: 1 | C5: HILL CITY PUBLIC SCHOOL DISTRICT | D5: 2.52 | E5: 7.03 | F5: 12.7 | G5: 15 | H5: 17.51 | I5: 20 | J5: 22 | K5: 33.5 | L5: 18.16 | M5: 22.6 | N5: 25.6 | O5: 34 | P5: 30.27 | Q5: 21.48 | R5: 31.04 | S5: 313.41
A6: 4 | B6: 1 | C6: MCGREGOR PUBLIC SCHOOL DISTRICT | D6: 5.67 | E6: 2.88 | F6: 19.03 | G6: 16.25 | H6: 21.35 | I6: 28.93 | J6: 19.96 | K6: 27.26 | L6: 22.17 | M6: 32.49 | N6: 34.4 | O6: 34.2 | P6: 31.28 | Q6: 42.28 | R6: 38.69 | S6: 376.84
A7: 11 | B7: 1 | C7: ANOKA-HENNEPIN PUBLIC SCHOOL DIST. | D7: 324.85 | E7: 136.87 | F7: 2333.48 | G7: 2788.03 | H7: 2758.31 | I7: 2869.04 | J7: 2834.3 | K7: 2975.82 | L7: 3046.39 | M7: 3099.23 | N7: 3248.15 | O7: 3395.7 | P7: 3359.84 | Q7: 3220.02 | R7: 3534.42 | S7: 39924.45
A8: 12 | B8: 1 | C8: CENTENNIAL PUBLIC SCHOOL DISTRICT | D8: 35.8 | E8: 25 | F8: 392.68 | G8: 455.09 | H8: 449.78 | I8: 500.4 | J8: 498.52 | K8: 530.14 | L8: 506.25 | M8: 548.94 | N8: 575.26 | O8: 594.05 | P8: 589.34 | Q8: 572.79 | R8: 591.53 | S8: 6865.57
A9: 13 | B9: 1 | C9: COLUMBIA HEIGHTS PUBLIC SCHOOL DIST | D9: 22.39 | E9: 21.69 | F9: 220.46 | G9: 260.54 | H9: 233.65 | I9: 231.26 | J9: 213.31 | K9: 211.43 | L9: 197.9 | M9: 210.19 | N9: 215.84 | O9: 244.46 | P9: 230.83 | Q9: 225.73 | R9: 223.2 | S9: 2962.88
A10: 14 | B10: 1 | C10: FRIDLEY PUBLIC SCHOOL DISTRICT | D10: 17.38 | E10: 19.27 | F10: 196.79 | G10: 199.64 | H10: 167.04 | I10: 200.18 | J10: 164.2 | K10: 174.4 | L10: 191.42 | M10: 196.21 | N10: 226.74 | O10: 254.63 | P10: 253.12 | Q10: 215.36 | R10: 218.15 | S10: 2694.53
A11: 15 | B11: 1 | C11: ST. FRANCIS PUBLIC SCHOOL DISTRICT | D11: 49.16 | E11: 19.18 | F11: 382.92 | G11: 394.86 | H11: 400.79 | I11: 432.32 | J11: 424.79 | K11: 436.76 | L11: 446.13 | M11: 443.2 | N11: 449.96 | O11: 453.14 | P11: 489.16 | Q11: 413.6 | R11: 409.63 | S11: 5645.6
A12: 16 | B12: 1 | C12: SPRING LAKE PARK PUBLIC SCHOOLS | D12: 30.93 | E12: 13.28 | F12: 316.34 | G12: 343.81 | H12: 375.29 | I12: 330.38 | J12: 333.64 | K12: 309.85 | L12: 310.27 | M12: 341.48 | N12: 358.04 | O12: 391.27 | P12: 374.54 | Q12: 359.68 | R12: 414.16 | S12: 4602.96
A13: 22 | B13: 1 | C13: DETROIT LAKES PUBLIC SCHOOL DIST. | D13: 38.95 | E13: 40.39 | F13: 155.61 | G13: 198.72 | H13: 180.32 | I13: 182.55 | J13: 192.06 | K13: 202.58 | L13: 192.65 | M13: 190.82 | N13: 197.26 | O13: 208.81 | P13: 217.42 | Q13: 246.11 | R13: 199.84 | S13: 2644.09
A14: 23 | B14: 1 | C14: FRAZEE-VERGAS PUBLIC SCHOOL DIST. | D14: 10.88 | E14: 12.87 | F14: 53.81 | G14: 63.44 | H14: 71.48 | I14: 56.41 | J14: 75 | K14: 68.46 | L14: 82.32 | M14: 67.5 | N14: 65.8 | O14: 78.99 | P14: 71.19 | Q14: 78.79 | R14: 79.63 | S14: 936.57
A15: 25 | B15: 1 | C15: PINE POINT PUBLIC SCHOOL DISTRICT | D15: 0 | E15: 2.74 | F15: 5.25 | G15: 10.18 | H15: 8.15 | I15: 8.5 | J15: 6.49 | K15: 8.06 | L15: 5.26 | M15: 6.67 | N15: 3.59 | O15: 0 | P15: 0 | Q15: 0 | R15: 0 | S15: 64.89
... A245: 813 | B245: 1 | C245: LAKE CITY PUBLIC SCHOOL DISTRICT | D245: 17.33 | E245: 10.98 | F245: 75.6 | G245: 99.75 | H245: 93.12 | I245: 98.58 | J245: 86.53 | K245: 89.55 | L245: 84.34 | M245: 97.26 | N245: 100.24 | O245: 113.55 | P245: 111.65 | Q245: 102.39 | R245: 112.82 | S245: 1293.69
A246: 815 | B246: 2 | C246: PRINSBURG | D246: 0 | E246: 0 | F246: 0 | G246: 0 | H246: 0 | I246: 0 | J246: 0 | K246: 0 | L246: 0 | M246: 0 | N246: 0 | O246: 0 | P246: 0 | R246: 0 | S246: 0
A247: 818 | B247: 1 | C247: VERNDALE PUBLIC SCHOOL DISTRICT | D247: 3.67 | E247: 6.65 | F247: 26.74 | G247: 30.48 | H247: 32.85 | I247: 29.39 | J247: 27.39 | K247: 36.83 | L247: 39.43 | M247: 28.12 | N247: 30.73 | O247: 47.67 | P247: 31.45 | Q247: 36.45 | R247: 29.05 | S247: 436.9
A248: 820 | B248: 1 | C248: SEBEKA PUBLIC SCHOOL DISTRICT | D248: 4.23 | E248: 3.2 | F248: 25.8 | G248: 29.44 | H248: 33.5 | I248: 38.23 | J248: 40.31 | K248: 40.45 | L248: 50.92 | M248: 42.45 | N248: 48.2 | O248: 44.5 | P248: 44.42 | Q248: 45.55 | R248: 44.89 | S248: 536.09
A249: 821 | B249: 1 | C249: MENAHGA PUBLIC SCHOOL DISTRICT | D249: 5.03 | E249: 7.73 | F249: 63.41 | G249: 67.4 | H249: 46.77 | I249: 59.76 | J249: 55.7 | K249: 50.12 | L249: 53.84 | M249: 53.78 | N249: 47.54 | O249: 56.58 | P249: 64.5 | Q249: 63.12 | R249: 51.8 | S249: 747.08
A250: 829 | B250: 1 | C250: WASECA PUBLIC SCHOOL DISTRICT | D250: 24.94 | E250: 19.3 | F250: 114.26 | G250: 129.69 | H250: 111.53 | I250: 105.54 | J250: 109.82 | K250: 141.06 | L250: 133.89 | M250: 153.38 | N250: 154.5 | O250: 161.61 | P250: 170.69 | Q250: 160.63 | R250: 159.98 | S250: 1850.82
A251: 831 | B251: 1 | C251: FOREST LAKE PUBLIC SCHOOL DISTRICT | D251: 50.17 | E251: 48.67 | F251: 419.61 | G251: 487.99 | H251: 492.61 | I251: 516.72 | J251: 505.57 | K251: 545.43 | L251: 494.83 | M251: 592.66 | N251: 569.26 | O251: 537.52 | P251: 625.38 | Q251: 627.17 | R251: 599.32 | S251: 7112.91
A252: 832 | B252: 1 | C252: MAHTOMEDI PUBLIC SCHOOL DISTRICT | D252: 13.46 | E252: 18.16 | F252: 149.37 | G252: 163.06 | H252: 192.49 | I252: 204.02 | J252: 181.02 | K252: 201.81 | L252: 261.58 | M252: 257.89 | N252: 280.33 | O252: 312.38 | P252: 294.76 | Q252: 304.08 | R252: 278.99 | S252: 3113.4
A253: 833 | B253: 1 | C253: SOUTH WASHINGTON COUNTY SCHOOL DIST | D253: 94.55 | E253: 46.12 | F253: 1108.31 | G253: 1301.48 | H253: 1277.59 | I253: 1304.87 | J253: 1363 | K253: 1300.33 | L253: 1348.72 | M253: 1296.91 | N253: 1310.66 | O253: 1259.18 | P253: 1239.59 | Q253: 1269.2 | R253: 1246.43 | S253: 16766.94
A254: 834 | B254: 1 | C254: STILLWATER AREA PUBLIC SCHOOL DIST. | D254: 70.74 | E254: 23.71 | F254: 511.05 | G254: 682.71 | H254: 637.2 | I254: 651.55 | J254: 625.24 | K254: 666.39 | L254: 672.63 | M254: 653.35 | N254: 693.66 | O254: 756.66 | P254: 756.08 | Q254: 725.63 | R254: 788.44 | S254: 8915.04
A255: 836 | B255: 1 | C255: BUTTERFIELD PUBLIC SCHOOL DISTRICT | D255: 1.13 | E255: 3.84 | F255: 13.41 | G255: 17.68 | H255: 16.41 | I255: 15.62 | J255: 23.13 | K255: 16.98 | L255: 17.71 | M255: 11.43 | N255: 15.61 | O255: 16.07 | P255: 17.97 | Q255: 13.37 | R255: 20.67 | S255: 221.03
A256: 837 | B256: 1 | C256: MADELIA PUBLIC SCHOOL DISTRICT | D256: 10.72 | E256: 7.16 | F256: 27.8 | G256: 46.8 | H256: 55.11 | I256: 27.02 | J256: 40.1 | K256: 51.61 | L256: 34.71 | M256: 49.72 | N256: 50.45 | O256: 43.96 | P256: 43.94 | Q256: 36.66 | R256: 34.04 | S256: 559.8
A257: 840 | B257: 1 | C257: ST. JAMES PUBLIC SCHOOL DISTRICT | D257: 17.59 | E257: 6.19 | F257: 63.43 | G257: 89.28 | H257: 81 | I257: 86.7 | J257: 75.36 | K257: 103.57 | L257: 76.91 | M257: 94.19 | N257: 89.68 | O257: 102.62 | P257: 99.95 | Q257: 98.82 | R257: 86.04 | S257: 1171.33
A258: 846 | B258: 1 | C258: BRECKENRIDGE PUBLIC SCHOOL DISTRICT | D258: 5.92 | E258: 6.2 | F258: 48.97 | G258: 63.04 | H258: 57.54 | I258: 50.63 | J258: 71.26 | K258: 61.61 | L258: 54.48 | M258: 56.82 | N258: 79.77 | O258: 86.75 | P258: 69.19 | Q258: 63.6 | R258: 67.84 | S258: 843.62
... A484: 4181 | B484: 7 | C484: COMMUNITY SCHOOL OF EXCELLENCE | D484: 0 | E484: 4.85 | F484: 54.39 | G484: 28.16 | H484: 23.82 | I484: 18.45 | J484: 15.99 | K484: 17.76 | L484: 17.04 | M484: 0 | N484: 0 | O484: 0 | P484: 0 | Q484: 0 | R484: 0 | S484: 180.46
D485: =SUM(D4:D484) -> 6406.09 | E485: =SUM(E4:E484) -> 4589.45 | F485: =SUM(F4:F484) -> 50578.01 | G485: =SUM(G4:G484) -> 58062.64 | H485: =SUM(H4:H484) -> 57052.41 | I485: =SUM(I4:I484) -> 56785.59 | J485: =SUM(J4:J484) -> 56550.5 | K485: =SUM(K4:K484) -> 56952.08 | ... S485: =SUM(S4:S484) -> 781971.11

Sheet 2007
A1: 2006-2007 Adjusted Average Daily Membership by District by Grade
A3: DST_NUM | B3: DST_TYE | C3: DST_NAM | D3: ADJ_ADM_EC | E3: ADJ_ADM_HK | F3: ADJ_ADM_KG | G3: ADJ_ADM_01 | H3: ADJ_ADM_02 | I3: ADJ_ADM_03 | J3: ADM_ADJ_04 | K3: ADJ_ADM_05 | L3: ADJ_ADM_06 | M3: ADJ_ADM_07 | N3: ADJ_ADM_08 | O3: ADJ_ADM_09 | P3: ADJ_ADM_10 | Q3: ADJ_ADM_11 | R3: ADJ_ADM_12 | S3: TOTAL
A4: 1 | B4: 1 | C4: AITKIN PUBLIC SCHOOL DISTRICT | D4: 11.59 | E4: 6.93 | F4: 87.58 | G4: 82.93 | H4: 98.28 | I4: 110.45 | J4: 85.9 | K4: 98.67 | L4: 100.62 | M4: 99.25 | N4: 102.33 | O4: 92.83 | P4: 112.28 | Q4: 122.44 | R4: 103.04 | S4: 1315.12
A5: 2 | B5: 1 | C5: HILL CITY PUBLIC SCHOOL DISTRICT | D5: 3.38 | E5: 6.78 | F5: 10.68 | G5: 18.16 | H5: 19.78 | I5: 20.95 | J5: 32.9 | K5: 18.81 | L5: 22.41 | M5: 23.96 | N5: 31.52 | O5: 32.53 | P5: 23.17 | Q5: 31.23 | R5: 18 | S5: 314.26
A6: 4 | B6: 1 | C6: MCGREGOR PUBLIC SCHOOL DISTRICT | D6: 1.72 | E6: 4.01 | F6: 14.71 | G6: 20.75 | H6: 27.33 | I6: 19.85 | J6: 36.23 | K6: 26.08 | L6: 34.85 | M6: 39.56 | N6: 30.78 | O6: 37.36 | P6: 48.15 | Q6: 41.92 | R6: 31.77 | S6: 415.07
A7: 11 | B7: 1 | C7: ANOKA-HENNEPIN PUBLIC SCHOOL DIST. | D7: 332.68 | E7: 143.88 | F7: 2430.11 | G7: 2724.44 | H7: 2876.83 | I7: 2808.62 | J7: 2957 | K7: 3011.71 | L7: 3054.48 | M7: 3255.7 | N7: 3291.56 | O7: 3408.8 | P7: 3405.88 | Q7: 3414.99 | R7: 3323.47 | S7: 40440.15
A8: 12 | B8: 1 | C8: CENTENNIAL PUBLIC SCHOOL DISTRICT | D8: 40.27 | E8: 17.96 | F8: 401.48 | G8: 448.73 | H8: 500.34 | I8: 485.67 | J8: 516.21 | K8: 501.61 | L8: 544.18 | M8: 576.95 | N8: 598.74 | O8: 588.98 | P8: 580.02 | Q8: 586.26 | R8: 567.03 | S8: 6954.43
A9: 13 | B9: 1 | C9: COLUMBIA HEIGHTS PUBLIC SCHOOL DIST | D9: 23.6 | E9: 20.93 | F9: 247.86 | G9: 237.49 | H9: 234.58 | I9: 213.42 | J9: 222.36 | K9: 242.59 | L9: 209.47 | M9: 223.56 | N9: 238.39 | O9: 229.13 | P9: 238.13 | Q9: 231.06 | R9: 193.16 | S9: 3005.73
A10: 14 | B10: 1 | C10: FRIDLEY PUBLIC SCHOOL DISTRICT | D10: 19.49 | E10: 0.05 | F10: 202.4 | G10: 167.86 | H10: 191.68 | I10: 163.29 | J10: 161.22 | K10: 160.05 | L10: 186.17 | M10: 215.4 | N10: 220.38 | O10: 244.04 | P10: 232.31 | Q10: 223.31 | R10: 198.74 | S10: 2586.39
A11: 15 | B11: 1 | C11: ST. FRANCIS PUBLIC SCHOOL DISTRICT | D11: 43.99 | E11: 14.29 | F11: 366.25 | G11: 406.36 | H11: 434.21 | I11: 444.69 | J11: 439.38 | K11: 444.77 | L11: 454.35 | M11: 462.57 | N11: 432.94 | O11: 530.81 | P11: 464.52 | Q11: 483.32 | R11: 382.33 | S11: 5804.78
A12: 16 | B12: 1 | C12: SPRING LAKE PARK PUBLIC SCHOOLS | D12: 26.11 | E12: 15.14 | F12: 312.14 | G12: 369.06 | H12: 335.67 | I12: 322.69 | J12: 295.83 | K12: 307.93 | L12: 337.3 | M12: 353.12 | N12: 366.28 | O12: 359.34 | P12: 370.16 | Q12: 393.24 | R12: 396.08 | S12: 4560.09
A13: 22 | B13: 1 | C13: DETROIT LAKES PUBLIC SCHOOL DIST. | D13: 35.91 | E13: 38.45 | F13: 166.4 | G13: 182.89 | H13: 181.07 | I13: 182.35 | J13: 199.95 | K13: 177.3 | L13: 193.85 | M13: 198.33 | N13: 205.29 | O13: 223.29 | P13: 250.66 | Q13: 222.6 | R13: 219.8 | S13: 2678.14
A14: 23 | B14: 1 | C14: FRAZEE-VERGAS PUBLIC SCHOOL DIST. | D14: 9.91 | E14: 8.14 | F14: 47.26 | G14: 76.64 | H14: 65.85 | I14: 82.5 | J14: 71.72 | K14: 87.43 | L14: 71.09 | M14: 73.49 | N14: 79.84 | O14: 82.44 | P14: 84.59 | Q14: 93.58 | R14: 84.82 | S14: 1019.3
A15: 25 | B15: 1 | C15: PINE POINT PUBLIC SCHOOL DISTRICT | D15: 0 | E15: 5 | F15: 6.23 | G15: 8.17 | H15: 9.74 | I15: 5.73 | J15: 9 | K15: 5.76 | L15: 6.19 | M15: 3.95 | N15: 4.05 | O15: 0 | P15: 0 | Q15: 0 | R15: 0 | S15: 63.82
... A471: 4163 | B471: 7 | C471: LEARNING FOR LEADERSHIP CHARTER | D471: 0 | E471: 2 | F471: 15.42 | G471: 14.61 | H471: 11.34 | I471: 7.17 | J471: 10.07 | K471: 9.76 | L471: 11.39 | M471: 10.54 | N471: 7.54 | O471: 22.77 | P471: 13.11 | Q471: 6.17 | R471: 5.81 | S471: 147.7

Sheet 2006
A1: 2005-2006 Adjusted Average Daily Membership by District by Grade
A3: DST_NUM | B3: DST_TYE | C3: DST_NAM | D3: ADJ_ADM_EC | E3: ADJ_ADM_HK | F3: ADJ_ADM_KG | G3: ADJ_ADM_01 | H3: ADJ_ADM_02 | I3: ADJ_ADM_03 | J3: ADJ_ADM_04 | K3: ADJ_ADM_05 | L3: ADJ_ADM_06 | M3: ADJ_ADM_07 | N3: ADJ_ADM_08 | O3: ADJ_ADM_09 | P3: ADJ_ADM_10 | Q3: ADJ_ADM_11 | R3: ADJ_ADM_12 | S3: Total
A4: 1 | B4: 1 | C4: AITKIN | D4: 6.61 | E4: 4.36 | F4: 78.85 | G4: 94.61 | H4: 106.31 | I4: 85.46 | J4: 97.77 | K4: 100.56 | L4: 98.37 | M4: 101.31 | N4: 95.15 | O4: 110.66 | P4: 123.64 | Q4: 99.87 | R4: 89.53 | S4: =SUM(D4:R4) -> 1293.06
A5: 2 | B5: 1 | C5: HILL CITY | D5: 6.68 | E5: 3.44 | F5: 16.45 | G5: 20.78 | H5: 20.21 | I5: 34.73 | J5: 17.6 | K5: 19.76 | L5: 27.14 | M5: 28.6 | N5: 32.81 | O5: 26.72 | P5: 31.31 | Q5: 20.56 | R5: 31.72 | S5: =SUM(D5:R5) -> 338.51
A6: 4 | B6: 1 | C6: MCGREGOR | D6: 2.66 | E6: 4.77 | F6: 19.41 | G6: 27.47 | H6: 19.28 | I6: 36.31 | J6: 28.71 | K6: 38.6 | L6: 40.94 | M6: 31.38 | N6: 36.87 | O6: 48.8 | P6: 42.02 | Q6: 32.46 | R6: 40.24 | S6: =SUM(D6:R6) -> 449.92
A7: 11 | B7: 1 | C7: ANOKA-HENNEPIN | D7: 336.72 | E7: 121.69 | F7: 2457.89 | G7: 2857 | H7: 2803.59 | I7: 2903.7 | J7: 2995.25 | K7: 3070.39 | L7: 3180.92 | M7: 3290.77 | N7: 3300.45 | O7: 3421.95 | P7: 3554.03 | Q7: 3248.07 | R7: 3214.78 | S7: =SUM(D7:R7) -> 40757.2
A8: 12 | B8: 1 | C8: CENTENNIAL | D8: 38.57 | E8: 19.8 | F8: 374.68 | G8: 509.6 | H8: 463.44 | I8: 506.7 | J8: 486.87 | K8: 525.73 | L8: 565.03 | M8: 584.07 | N8: 587.26 | O8: 574.63 | P8: 581.88 | Q8: 554.16 | R8: 576.77 | S8: =SUM(D8:R8) -> 6949.19
A9: 13 | B9: 1 | C9: COLUMBIA HEIGHTS | D9: 22.55 | E9: 15.87 | F9: 216.37 | G9: 235.18 | H9: 200.14 | I9: 211.83 | J9: 235.84 | K9: 206.03 | L9: 204.34 | M9: 234.97 | N9: 221.04 | O9: 261.14 | P9: 249.66 | Q9: 204.97 | R9: 247.57 | S9: =SUM(D9:R9) -> 2967.5
A10: 14 | B10: 1 | C10: FRIDLEY | D10: 16.08 | E10: 0.62 | F10: 159.71 | G10: 188.2 | H10: 152.49 | I10: 155.23 | J10: 162.06 | K10: 145.49 | L10: 199.28 | M10: 203.47 | N10: 206.3 | O10: 231.05 | P10: 214.63 | Q10: 196.87 | R10: 222.29 | S10: =SUM(D10:R10) -> 2453.77
A11: 15 | B11: 1 | C11: ST. FRANCIS | D11: 37.78 | E11: 23.89 | F11: 358.25 | G11: 438.78 | H11: 463.05 | I11: 451.51 | J11: 448.17 | K11: 454.04 | L11: 449.88 | M11: 438.29 | N11: 492.01 | O11: 507.52 | P11: 531.16 | Q11: 435.41 | R11: 378.92 | S11: =SUM(D11:R11) -> 5908.66
A12: 16 | B12: 1 | C12: SPRING LAKE PARK | D12: 25.47 | E12: 12.5 | F12: 333.27 | G12: 334.55 | H12: 337.73 | I12: 318.47 | J12: 297.34 | K12: 322.44 | L12: 343.42 | M12: 359.75 | N12: 339.22 | O12: 392.34 | P12: 376.66 | Q12: 370.12 | R12: 386.26 | S12: =SUM(D12:R12) -> 4549.54
A13: 22 | B13: 1 | C13: DETROIT LAKES | D13: 28.75 | E13: 27.9 | F13: 153.33 | G13: 179.9 | H13: 171.01 | I13: 181.2 | J13: 166.89 | K13: 175.88 | L13: 197.02 | M13: 211.36 | N13: 198.51 | O13: 236.56 | P13: 230.49 | Q13: 235.23 | R13: 209.19 | S13: =SUM(D13:R13) -> 2603.22
A14: 23 | B14: 1 | C14: FRAZEE-VERGAS | D14: 11.63 | E14: 9.46 | F14: 71.37 | G14: 68.01 | H14: 84.18 | I14: 78.95 | J14: 90.11 | K14: 82.92 | L14: 70.49 | M14: 91.16 | N14: 86.31 | O14: 88.24 | P14: 93.11 | Q14: 101.69 | R14: 75.83 | S14: =SUM(D14:R14) -> 1103.46
A15: 25 | B15: 1 | C15: PINE POINT | D15: 0 | E15: 2 | F15: 11.03 | G15: 11.58 | H15: 6.71 | I15: 9.16 | J15: 5.67 | K15: 5.97 | L15: 3.91 | M15: 6.17 | N15: 3.74 | O15: 0 | P15: 0 | Q15: 0 | R15: 0 | S15: =SUM(D15:R15) -> 65.94
... A469: 4155 | B469: 7 | C469: NAYTAUWAUSH COMMUNITY SCHOOL | D469: 0 | E469: 0 | F469: 10.12 | G469: 13.29 | H469: 9.06 | I469: 8.57 | J469: 17.58 | K469: 9.24 | L469: 7.94 | M469: 0 | N469: 0 | O469: 0 | P469: 0 | Q469: 0 | R469: 0 | S469: =SUM(D469:R469) -> 75.8
