Workbook
Name _PAV2: 'Data Entry'!$L$83
Name _QL912: 'BSA55'!$G$165
Name AccommRCL05: 'Data Entry'!$L$134
Name AccommRCL10: 'Data Entry'!$L$133
Name AccommTransCheck: 'Data Entry'!$C$130
Name ActAuditExpend: 'Data Entry'!$C$55
Name ActDisabilityRM: 'Data Entry'!$L$64
Name ActivTripLvlFactor: 'BSA55'!$E$86
Name AdjacentWays: Instructions!$C$33
Name AdjBaseSuppLvl: 'BSA55'!$H$69
Name AdjFYTRCL: 'BSA55'!$C$104
Name AdjTNTBaseLimit: 'Truth in Tax'!$I$7
Name AdjWaysLevy: 'Page 5'!$E$28
Name AllFundAuditBudg6330: 'Page 2'!$O$9
Name AmtOUBudgSSA: 'Truth in Tax'!$I$21
Name AnnualExpforBusPass: 'Data Entry'!$L$63
Name AnnualExpforBusToken: 'Data Entry'!$L$62
Name AOIFTFundFactor: 'BSA55'!$F$47
Name AOIFTGrBAddOnWgtdADM: 'BSA55'!$H$35
Name AOIFTRegEdWgtdADM: 'BSA55'!$H$12
Name AOIFTStudCnt912CY: 'Data Entry'!$I$20
Name AOIFTStudCntDD.ED.MIID.SLD.SLI.OHI: 'Data Entry'!$H$38
Name AOIFTStudCntEDP: 'Data Entry'!$H$39
Name AOIFTStudCntELL: 'Data Entry'!$H$30
Name AOIFTStudCntFRPL: 'Data Entry'!$H$43
Name AOIFTStudCntG: 'Data Entry'!$H$42
Name AOIFTStudCntHI: 'Data Entry'!$H$31
Name AOIFTStudCntK3: 'Data Entry'!$H$29
Name AOIFTStudCntK3R: 'Data Entry'!$H$28
Name AOIFTStudCntK8CY: 'Data Entry'!$H$20
Name AOIFTStudCntMDR.AR.SIDR: 'Data Entry'!$H$32
Name AOIFTStudCntMDSC.ASC.SIDSC: 'Data Entry'!$H$33
Name AOIFTStudCntMDSSI: 'Data Entry'!$H$34
Name AOIFTStudCntMOID: 'Data Entry'!$H$40
Name AOIFTStudCntOIR: 'Data Entry'!$H$35
Name AOIFTStudCntOISC: 'Data Entry'!$H$36
Name AOIFTStudCntP.SD: 'Data Entry'!$H$37
Name AOIFTStudCntPSDCY: 'Data Entry'!$G$20
Name AOIFTStudCntVI: 'Data Entry'!$H$41
Name AOIPTFundFactor: 'BSA55'!$H$47
Name AOIPTGrBAddOnWgtdADM: 'BSA55'!$I$35
Name AOIPTRegEdWgtdADM: 'BSA55'!$I$12
Name AOIPTStudCnt912CY: 'Data Entry'!$I$21
Name AOIPTStudCntDD.ED.MIID.SLD.SLI.OHI: 'Data Entry'!$I$38
Name AOIPTStudCntEDP: 'Data Entry'!$I$39
Name AOIPTStudCntELL: 'Data Entry'!$I$30
Name AOIPTStudCntFRPL: 'Data Entry'!$I$43
Name AOIPTStudCntG: 'Data Entry'!$I$42
Name AOIPTStudCntHI: 'Data Entry'!$I$31
Name AOIPTStudCntK3: 'Data Entry'!$I$29
Name AOIPTStudCntK3R: 'Data Entry'!$I$28
Name AOIPTStudCntK8CY: 'Data Entry'!$H$21
Name AOIPTStudCntMDR.AR.SIDR: 'Data Entry'!$I$32
Name AOIPTStudCntMDSC.ASC.SIDSC: 'Data Entry'!$I$33
Name AOIPTStudCntMDSSI: 'Data Entry'!$I$34
Name AOIPTStudCntMOID: 'Data Entry'!$I$40
Name AOIPTStudCntOIR: 'Data Entry'!$I$35
Name AOIPTStudCntOISC: 'Data Entry'!$I$36
Name AOIPTStudCntP.SD: 'Data Entry'!$I$37
Name AOIPTStudCntPSDCY: 'Data Entry'!$G$21

Sheet Cover
B1: District Name | C1: Prescott Unified | G1: County | H1: Yavapai | R1: CTD number | S1: 130201000
R2: =0/0 -> #DIV/0!
D3: FY | E3: 2025 | K3: Revenues and property taxation
A4: State of Arizona | K4: 1. | L4: =_xlfn.CONCAT("Total budgeted revenues for fiscal year ",V39," $ ") -> Total budgeted revenues for fiscal year 2024 $ | O4: 45000000
A5: School District Annual Expenditure Budget | K5: 2. | L5: =_xlfn.CONCAT("Estimated revenues by source for fiscal year ",E3," (excluding property taxes)") -> Estimated revenues by source for fiscal year 2025 (excluding property taxes)
A6: Districtwide Budget | L6: Local | M6: 1000 $ | N6: 3700000 | O6: =IF(OR('District Contacts'!G6="",'District Contacts'!G8="",'District Contacts'!G9="",'District Contacts'!G12="",'District Contacts'!G13="",'District Contacts'!G14="",'District Contacts'!G15="",'District Contacts'!E24="",'District Contacts'!E25="",'District Contacts'!E26=""),"Please ensure District Contacts Tab is complete"," ")
L7: Intermediate | M7: 2000 $ | N7: 0
C8: Adopted | L8: State | M8: 3000 $ | N8: 12700000 | O8: =IF(OR('Page 7'!J10>'Page 7'!H10,'Page 7'!J17>'Page 7'!H17),"Please correct error on Page 7","")
C9: Version | L9: Federal | M9: 4000 $ | N9: 6200000 | O9: =IF('District Contacts'!D33="","Please enter a SIS Vendor on the District Contacts Tab","")
A10: By the Governing Board | L10: TOTAL | M10: $ | N10: =SUM(N6:N9) -> 22600000
K11: 3. | L11: District tax rates for prior and budget fiscal years (A.R.S. §15-903.D.4)
A12: =_xlfn.CONCAT("We hereby certify that the Budget for the Fiscal Year ",E3," was") -> We hereby certify that the Budget for the Fiscal Year 2025 was | N12: =_xlfn.CONCAT("Prior FY ",V39) -> Prior FY 2024 | Q12: =_xlfn.CONCAT("Est. Budget FY ",E3) -> Est. Budget FY 2025
C13: Proposed | E13: 45468 | G13: =IF(AND(OR(ISNUMBER(SEARCH("Proposed*",C8)),ISNUMBER(SEARCH("Adopted*",C8)),ISNUMBER(SEARCH("Revised*",C8))),E13=""),"Please enter a Proposed Date","") | L13: Primary Tax Rate: | N13: 2.3541 | Q13: 2.2812 | S13: =IF('Page 7'!J10>'Page 7'!H10,"Please correct error on Page 7","")
C14: Adopted | E14: 45482 | G14: =IF(AND(OR(ISNUMBER(SEARCH("Adopted*",C8)),ISNUMBER(SEARCH("Revised*",C8))),E14=""),"Please enter an Adopted Date","") | L14: Secondary Tax Rates:
C15: Revised | G15: =IF(AND(ISNUMBER(SEARCH("Revised*",C8)),E15=""),"Please enter a Revised Date","") | L15: M&O Override | N15: 0 | Q15: 0
E16: Date | L16: Special Program Override | N16: 0 | Q16: 0
L17: Capital Override | N17: 0 | Q17: 0
L18: Class A Bonds | N18: 0 | Q18: 0
L19: Class B Bonds | N19: 0.0609 | Q19: 0.0688
L20: CTED | N20: 0 | Q20: 0
L21: Desegregation | N21: 0 | Q21: 0
L22: Total Secondary Tax Rate | N22: =SUM(N15:N21) -> 0.0609 | Q22: =SUM(Q15:Q21) -> 0.0688
K23: Total budgeted expenditures and aggregate school district budget limit (A.R.S. §15-905.H)
Q24: Budgeted Expenditures | S24: Budget Limit
K25: 1. | L25: Maintenance and Operation Fund (from pages 1, line 30 and 7, line 11) | P25: $ | Q25: =ROUND(F001TotalExp,0) -> 32686373 | R25: $ | S25: =ROUND(GBLBudgFY,0) -> 32686373 | T25: =IF(Q25>S25,"GBL Exceeded","")
C26: Signed | F26: Signed | K26: 2. | L26: Unrestricted Capital Fund (from pages 4, line 10 and 8, line 12) | P26: $ | Q26: =ROUND(F610TotalBudgFY,0) -> 2449329 | R26: $ | S26: =ROUND(UCBLBudgFY,0) -> 2449329 | T26: =IF(Q26>S26,"UCBL Exceeded","")
K27: 3. | L27: Federal projects other than Impact Aid (from budget, page 6, Federal Projects, minus 378 (lines 18 and 20) | R27: $ | S27: =TotFedProjFundBudgFY-F378BudgFY -> 4680539
C28: =_xlfn.CONCAT("The FY ",E3," budget file for the version described above will be uploaded via") -> The FY 2025 budget file for the version described above will be uploaded via | K28: 4. | L28: Total aggregate school district budget limit (sum of lines 1 through 3) | R28: $ | S28: =SUM(S25+S26+S27) -> 39816241
C29: the School Finance Budget System on ADE’s website by | F29: 45483 | H29: .
F30: Type the Date as MM/DD/YYYY | K30: Average teacher salaries (A.R.S. §15-903.E)
F31: =IF(F29="","Please enter upload by date",IF(F29>=MAX(E13,E14,E15),"","Revise upload date for current submission")) | K31: 1. | L31: =_xlfn.CONCAT("Average salary of all teachers employed in FY ",E3," (budget year)") -> Average salary of all teachers employed in FY 2025 (budget year) | P31: =IF(U32<>"","",IF(OR(S31=0,S32=0),"Average salary information is not complete","")) | R31: $ | S31: 61250 | T31: =IF(U32<>"","",IF(OR(S31=0,S32=0),1/ERROR,""))
K32: 2. | L32: =_xlfn.CONCAT("Average salary of all teachers employed in FY ",V39," (prior year)") -> Average salary of all teachers employed in FY 2024 (prior year) | R32: $ | S32: 59466 | T32: FALSE | V32: Check this box if your district has no teachers (transporting districts and some CTEDs).
B33: Superintendent signature | F33: Business Manager signature | K33: 3. | L33: Increase in average teacher salary from the prior year | R33: $ | S33: =BudgetYearSalary-PriorYearSalary -> 1784
K34: 4. | L34: Percentage increase | S34: =IF(PriorYearSalary>0,SalaryIncrease/PriorYearSalary,0) -> 0.03
B35: Clark Tenney | F35: Brian Moore | K35: For FY25 teacher average salary, end-of-the-year FTE and teacher contract base amount were used, which includes estimated classroom site fund pay. Additional revenue sources for teachers, e.g. clubs, coaching, department chair, extra revenue sources for teachers, etc., are not included in the average salaries.
B36: Superintendent name (typed name) | F36: Business Manager name (typed name)
B38: District contact employee: | D38: Brian Moore
V39: =E3-1 -> 2024
B40: Telephone: | C40: 928-445-5400 | F40: Email: | G40: brian.moore@prescottschools.com | V40: =E3-2 -> 2023

Sheet District Contacts
A1: District name | B1: =DistrictName -> Prescott Unified | D1: County | E1: =Cover!H1 -> Yavapai | G1: CTD number | H1: =CTD -> 130201000 | J1: Version | K1: =Cover!C8 -> Adopted | M1: Dr. | N1: Mr. | O1: Miss | P1: Mrs. | Q1: Ms.
M2: CPA | N2: Ed.D | O2: II | P2: III | Q2: IV | R2: J.D. | S2: Jr. | T2: Ph.D. | U2: Sr.
A3: District contact information | M3: AZ Dept of Juvenile Corrections (AZDJC) | N3: Infinite Visions
M4: BocaVox (Maestro) | N4: Munis
C5: Prefix | D5: First name | E5: Last name | G5: Email address | H5: Telephone number | I5: Extension | M5: Edupoint (Synergy) | N5: PowerSchool BusinessPlus
A6: Superintendent | D6: Clark | E6: Tenney | G6: clark.tenney@prescottschools.com | H6: 928-445-5400 | I6: 70126 | M6: Edupoint (Edupoint) | N6: Other, please add at right
A7: Executive Assistant to Superintendent | D7: Sarah | E7: Torres | G7: sarah.torres@prescottschools.com | H7: 928-445-5400 | I7: 70104 | J7: =IF(AND(G9="",G10=""),"The Superintendent and Business Manager email addresses are used to distribute important budget information. If your district does not have a Business Manager, please fill in an alternate contact to receive budget updates. ","") | M7: Hane Solutions (SchoolDex)
A8: Chief Financial Officer | D8: Brian | E8: Moore | G8: brian.moore@prescottschools.com | H8: 928-445-5400 | I8: 70103 | M8: InfiniteCampus (InfiniteCampus)
A9: Business Manager 1 | D9: Brian | E9: Moore | G9: brian.moore@prescottschools.com | H9: 928-445-5400 | I9: 70103 | M9: JupiterEd (JupiterEd)
A10: Business Manager 2 | M10: MediaNet Solutions (e-IEP PRO)
A11: Business Consultant | M11: Mesa Distance Learning Program (MDLP)
A12: School District Employee Report (SDER) Coordinator | D12: Andy | E12: Binder | G12: andy.binder@prescottschools.com | H12: 928-445-5400 | I12: 70118 | M12: Pearson (Connexus)
A13: SPED Data Reporting Coordinator | D13: Caldwell | E13: Maya | G13: maya.caldwell@prescottschools.com | H13: 928-717-3236 | I13: 71120 | M13: PowerSchool (PowerSchool)
A14: AzEDS/ADM Data Coordinator | D14: Sheryl | E14: Blosel | G14: sheryl.blosel@prescottschools.com | H14: 928-445-5400 | I14: 70133 | M14: Strongmind (Strongmind)
A15: Transportation Data Reporting Coordinator | D15: Kim | E15: Barker | G15: kim.barker@prescottschools.com | H15: 928-717-3229 | I15: 71100 | M15: Tyler Technologies (Schoolmaster)
A16: CTE Coordinator | D16: Boehle | E16: Tiffany | G16: tiffany.boehle@prescottschools.com | H16: 928-445-3233 | I16: 72160 | M16: Tyler Technologies (Tyler SIS v10)
A17: Poverty Coordinator | D17: Judy | E17: Stencel | G17: judy.stencel@prescottschools.com | H17: 928-445-5400 | I17: 70130 | M17: FOCUS School Software LLC
A18: Assessments Coordinator | D18: Kayla | E18: Rangel | G18: kayla.rangel@prescottschools.com | H18: 928-445-5400 | I18: 70113
A19: Curriculum Coordinator | D19: Kelsey | E19: Secor | G19: kelsey.secor@prescottschools.com | H19: 928-445-5400 | I19: 70115
A20: Information Technology (IT) Director | D20: Michael | E20: Napier | G20: michael.napier@prescottschools.com | H20: 928-445-3233 | I20: 70138
A21: Bookstore Manager | D21: Shelby | E21: Mosser | G21: shelby.mosser@prescottschools.com | H21: 928-445-3233 | I21: 72115
A22: Governing Board Member | D22: Andy | E22: Fraher | G22: andy.fraher@prescottschools.com | H22: 928-445-5400
A23: Governing Board Member | D23: Kara | E23: Woods | G23: kara.woods@prescottschools.com | H23: 928-445-5400
A24: Governing Board Member | D24: Jane | E24: Robertson | G24: Jane.Robertson@prescottschools.com | H24: 928-445-5400
A25: Governing Board Member | D25: Stan | E25: Goligoski | G25: stan.goligoski@prescottschools.com | H25: 928-445-5400
A26: Governing Board Member | D26: Linda | E26: Conn | G26: linda.conn@prescottschools.com | H26: 928-445-5400
A27: Governing Board Member
A28: Governing Board Member
A29: Governing Board Member
A30: Governing Board Member
D32: SELECT from Dropdown
A33: Student Information Systems (SIS) Vendor | D33: PowerSchool (PowerSchool)
A35: Accounting Information System | D35: Infinite Visions
A37: Bookstore Cash Receipting System | D37: Intouch Receipting
A39: District's website home page address | D39: www.prescottschools.com

Sheet Page 1
A1: District name | B1: =DistrictName -> Prescott Unified | F1: County | G1: =Cover!H1 -> Yavapai | I1: CTD number | J1: =CTD -> 130201000 | L1: Version | M1: =Cover!C8 -> Adopted
A2: Fund 001 (M&O) | D2: Maintenance and Operation (M&O) Fund
G3: Employee | H3: Purchased | K3: Totals
D4: FTE | F4: Salaries | G4: Benefits | H4: Services | I4: Supplies | J4: Other | K4: Prior | L4: Budget | M4: %
A5: Expenditures | D5: Prior | E5: Budget | H5: 6300, 6400, | K5: FY | L5: FY | M5: Increase/
D6: FY | E6: FY | F6: 6100 | G6: 6200 | H6: 6500 | I6: 6600 | J6: 6800 | K6: =PriorFiscalYear -> 2024 | L6: =Cover!E3 -> 2025 | M6: Decrease
A7: 100 Regular education
A8: 1000 Instruction | C8: 1. | D8: =[1]!F001P100F1000Personnel -> 162.36 | E8: 164 | F8: =7456468*1.03+119840+35307+624523+27000+182317 -> 8669149 | G8: =3317109+124905+8000+36460 -> 3486474 | H8: 581648 | I8: 150930 | J8: 17160 | K8: =[1]!F001P100F1000 -> 13150145 | L8: =SUM(F8:J8) -> 12905361 | M8: =IF(K8=L8,0,IF(K8>0,(L8-K8)/K8,"")) -> -0.019 | N8: 1.
A9: 2000 Support services
A10: 2100 Students | C10: 2. | D10: =[1]!F001P100F2100Personnel -> 20.74 | E10: 22.1 | F10: =952710*1.03 -> 981291 | G10: 391656 | H10: 8502 | I10: 11536 | J10: 28633 | K10: =[1]!F001P100F2100 -> 1551990 | L10: =SUM(F10:J10) -> 1421618 | M10: =IF(K10=L10,0,IF(K10>0,(L10-K10)/K10,"")) -> -0.084 | N10: 2.
A11: 2200 Instructional staff | C11: 3. | D11: =[1]!F001P100F2200Personnel -> 17.55 | E11: 18.8 | F11: =845895*1.03 -> 871272 | G11: 337723 | H11: 153978 | I11: 14058 | J11: 0 | K11: =[1]!F001P100F2200 -> 1423896 | L11: =SUM(F11:J11) -> 1377031 | M11: =IF(K11=L11,0,IF(K11>0,(L11-K11)/K11,"")) -> -0.033 | N11: 3.
A12: 2300 General administration | C12: 4. | D12: =[1]!F001P100F2300Personnel -> 5 | E12: 4 | F12: =417720*1.03 -> 430252 | G12: 212530 | H12: 174773 | I12: 4056 | J12: 17234 | K12: =[1]!F001P100F2300 -> 826182 | L12: =SUM(F12:J12) -> 838845 | M12: =IF(K12=L12,0,IF(K12>0,(L12-K12)/K12,"")) -> 0.015 | N12: 4.
A13: 2400 School administration | C13: 5. | D13: =[1]!F001P100F2400Personnel -> 17 | E13: 18.7 | F13: 1261895 | G13: 433500 | H13: 4256 | I13: 4079 | J13: 537 | K13: =[1]!F001P100F2400 -> 1704855 | L13: =SUM(F13:J13) -> 1704267 | M13: =IF(K13=L13,0,IF(K13>0,(L13-K13)/K13,"")) -> 0 | N13: 5.
A14: 2500 Central services | C14: 6. | D14: =[1]!F001P100F2500Personnel -> 9.9 | E14: 9.75 | F14: =546728*1.03 -> 563130 | G14: 184131 | H14: 179420 | I14: 91948 | J14: 38225 | K14: =[1]!F001P100F2500 -> 1090379 | L14: =SUM(F14:J14) -> 1056854 | M14: =IF(K14=L14,0,IF(K14>0,(L14-K14)/K14,"")) -> -0.031 | N14: 6.
A15: 2600 Operation & maintenance of plant | C15: 7. | D15: =[1]!F001P100F2600Personnel -> 15.5 | E15: 15.5 | F15: =579557*1.03 -> 596944 | G15: 237756 | H15: 2879542 | I15: 1146212 | J15: 1083 | K15: =[1]!F001P100F2600 -> 4923229 | L15: =SUM(F15:J15) -> 4861537 | M15: =IF(K15=L15,0,IF(K15>0,(L15-K15)/K15,"")) -> -0.013 | N15: 7.
A16: 2900 Other | C16: 8. | D16: =[1]!F001P100F2900Personnel -> 0 | E16: 0 | F16: 0 | G16: 0 | H16: 0 | I16: 0 | J16: 0 | K16: =[1]!F001P100F2900 -> 0 | L16: =SUM(F16:J16) -> 0 | M16: =IF(K16=L16,0,IF(K16>0,(L16-K16)/K16,"")) -> 0 | N16: 8.
A17: 3000 Operation of noninstructional services | C17: 9. | D17: =[1]!F001P100F3000Personnel -> 2 | E17: 3.79 | F17: =60767*1.03 -> 62590 | G17: 23523 | H17: 32 | I17: 6091 | J17: 0 | K17: =[1]!F001P100F3000 -> 102915 | L17: =SUM(F17:J17) -> 92236 | M17: =IF(K17=L17,0,IF(K17>0,(L17-K17)/K17,"")) -> -0.104 | N17: 9.
A18: 610 School-sponsored cocurricular activities | C18: 10. | D18: =[1]!F001P610Personnel -> 0 | E18: 0 | F18: 9672 | G18: 1969 | H18: 0 | I18: 0 | J18: 0 | K18: =[1]!F001P610 -> 20474 | L18: =SUM(F18:J18) -> 11641 | M18: =IF(K18=L18,0,IF(K18>0,(L18-K18)/K18,"")) -> -0.431 | N18: 10.
A19: 620 School-sponsored athletics | C19: 11. | D19: =[1]!F001P620Personnel -> 1 | E19: 1 | F19: =204950*1.03 -> 211099 | G19: 127123 | H19: 0 | I19: 0 | J19: 0 | K19: =[1]!F001P620 -> 351475 | L19: =SUM(F19:J19) -> 338222 | M19: =IF(K19=L19,0,IF(K19>0,(L19-K19)/K19,"")) -> -0.038 | N19: 11.
A20: 630 Other instructional programs | C20: 12. | D20: =[1]!F001P630Personnel -> 0 | E20: 0 | F20: 0 | G20: 0 | H20: 0 | I20: 0 | J20: 0 | K20: =[1]!F001P630 -> 0 | L20: =SUM(F20:J20) -> 0 | M20: =IF(K20=L20,0,IF(K20>0,(L20-K20)/K20,"")) -> 0 | N20: 12.
A21: 700, 800, 900 Other programs | C21: 13. | D21: =[1]!F001P700800900Personnel -> 0 | E21: 0 | F21: 0 | G21: 0 | H21: 113286 | I21: 0 | J21: 0 | K21: =[1]!F001P700800900 -> 119905 | L21: =SUM(F21:J21) -> 113286 | M21: =IF(K21=L21,0,IF(K21>0,(L21-K21)/K21,"")) -> -0.055 | N21: 13.
A22: Regular education subsection subtotal (lines 1-13) | C22: 14. | D22: =SUM(D8:D21) -> 251.05 | E22: =E8+SUM(E10:E21) -> 257.64 | F22: =F8+SUM(F10:F21) -> 13657294 | G22: =G8+SUM(G10:G21) -> 5436385 | H22: =H8+SUM(H10:H21) -> 4095437 | I22: =I8+SUM(I10:I21) -> 1428910 | J22: =J8+SUM(J10:J21) -> 102872 | K22: =SUM(K8:K21) -> 25265445 | L22: =SUM(L8:L21) -> 24720898 | M22: =IF(K22=L22,0,IF(K22>0,(L22-K22)/K22,"")) -> -0.022 | N22: 14.
A23: 200 and 300 Special education
A24: 1000 Instruction | C24: 15. | D24: =[1]!F001P200F1000Personnel -> 50.87 | E24: 67 | F24: =2353814*1.015 -> 2389121 | G24: 977249 | H24: 0 | I24: 2116 | J24: 0 | K24: =[1]!F001P200F1000 -> 3258371 | L24: =SUM(F24:J24) -> 3368486 | M24: =IF(K24=L24,0,IF(K24>0,(L24-K24)/K24,"")) -> 0.034 | N24: 15.
A25: 2000 Support services
A26: 2100 Students | C26: 16. | D26: =[1]!F001P200F2100Personnel -> 25.46 | E26: 26 | F26: =1438751*1.03 -> 1481914 | G26: 506805 | H26: 220620 | I26: 3297 | J26: 2015 | K26: =[1]!F001P200F2100 -> 2318819 | L26: =SUM(F26:J26) -> 2214651 | M26: =IF(K26=L26,0,IF(K26>0,(L26-K26)/K26,"")) -> -0.045 | N26: 16.
A27: 2200 Instructional staff | C27: 17. | D27: =[1]!F001P200F2200Personnel -> 3.5 | E27: 4.9 | F27: =239434*1.03 -> 246617 | G27: 71379 | H27: 3579 | I27: 3768 | J27: 275 | K27: =[1]!F001P200F2200 -> 335431 | L27: =SUM(F27:J27) -> 325618 | M27: =IF(K27=L27,0,IF(K27>0,(L27-K27)/K27,"")) -> -0.029 | N27: 17.
A28: 2300 General administration | C28: 18. | D28: =[1]!F001P200F2300Personnel -> 0 | E28: 0 | F28: 0 | G28: 0 | H28: 0 | I28: 0 | J28: 0 | K28: =[1]!F001P200F2300 -> 0 | L28: =SUM(F28:J28) -> 0 | M28: =IF(K28=L28,0,IF(K28>0,(L28-K28)/K28,"")) -> 0 | N28: 18.
A29: 2400 School administration | C29: 19. | D29: =[1]!F001P200F2400Personnel -> 0 | E29: 0 | F29: 600 | G29: 117 | H29: 0 | I29: 0 | J29: 0 | K29: =[1]!F001P200F2400 -> 759 | L29: =SUM(F29:J29) -> 717 | M29: =IF(K29=L29,0,IF(K29>0,(L29-K29)/K29,"")) -> -0.055 | N29: 19.
A30: 2500 Central services | C30: 20. | D30: =[1]!F001P200F2500Personnel -> 0 | E30: 0 | F30: 0 | G30: 0 | H30: 1909 | I30: 1391 | J30: 0 | K30: =[1]!F001P200F2500 -> 3493 | L30: =SUM(F30:J30) -> 3300 | M30: =IF(K30=L30,0,IF(K30>0,(L30-K30)/K30,"")) -> -0.055 | N30: 20.
A31: 2600 Operation & maintenance of plant | C31: 21. | D31: =[1]!F001P200F2600Personnel -> 0 | E31: 0 | F31: 0 | G31: 0 | H31: 285 | I31: 0 | J31: 0 | K31: =[1]!F001P200F2600 -> 302 | L31: =SUM(F31:J31) -> 285 | M31: =IF(K31=L31,0,IF(K31>0,(L31-K31)/K31,"")) -> -0.056 | N31: 21.
A32: 2900 Other | C32: 22. | D32: =[1]!F001P200F2900Personnel -> 0 | E32: 0 | F32: 0 | G32: 0 | H32: 0 | I32: 0 | J32: 0 | K32: =[1]!F001P200F2900 -> 0 | L32: =SUM(F32:J32) -> 0 | M32: =IF(K32=L32,0,IF(K32>0,(L32-K32)/K32,"")) -> 0 | N32: 22.
A33: 3000 Operation of noninstructional services | C33: 23. | D33: =[1]!F001P200F3000Personnel -> 0 | E33: 0 | F33: 0 | G33: 0 | H33: 0 | I33: 0 | J33: 0 | K33: =[1]!F001P200F3000 -> 0 | L33: =SUM(F33:J33) -> 0 | M33: =IF(K33=L33,0,IF(K33>0,(L33-K33)/K33,"")) -> 0 | N33: 23.
A34: Subtotal (lines 15-23) | C34: 24. | D34: =SUM(D24:D33) -> 79.83 | E34: =E24+SUM(E26:E33) -> 97.9 | F34: =F24+SUM(F26:F33) -> 4118252 | G34: =G24+SUM(G26:G33) -> 1555550 | H34: =H24+SUM(H26:H33) -> 226393 | I34: =I24+SUM(I26:I33) -> 10572 | J34: =J24+SUM(J26:J33) -> 2290 | K34: =SUM(K24:K33) -> 5917175 | L34: =SUM(L24:L33) -> 5913057 | M34: =IF(K34=L34,0,IF(K34>0,(L34-K34)/K34,"")) -> -0.001 | N34: 24.
A35: 400 Pupil transportation | C35: 25. | D35: =[1]!F001P400Personnel -> 0 | E35: 0 | F35: =813528*1.03 -> 837934 | G35: 400007 | H35: 281444 | I35: 389462 | J35: 0 | K35: =[1]!F001P400 -> 1915996 | L35: =SUM(F35:J35) -> 1908847 | M35: =IF(K35=L35,0,IF(K35>0,(L35-K35)/K35,"")) -> -0.004 | N35: 25.
A36: 510 Desegregation (from districtwide desegregation
A37: Budget, page 2, line 44) | C37: 26. | D37: =[2]!DesegFTEPY -> 0 | E37: =[2]!DesegFTEBY -> 0 | F37: =[2]!DesegTotalMOO6100 -> 0 | G37: =[2]!DesegTotalMOO6200 -> 0 | H37: =[2]!DesegTotalMOO630064006500 -> 0 | I37: =[2]!DesegTotalMOO6600 -> 0 | J37: =[2]!DesegTotalMOO6800 -> 0 | K37: =[2]!DesegTotalMOPY -> 0 | L37: =[2]!DesegTotalMOBY -> 0 | M37: =[2]!DesegTotalMOPercent -> 0 | N37: 26.
A38: 530 Dropout prevention programs | C38: 27. | D38: =[1]!F001P530Personnel -> 0 | K38: =[1]!F001P530 -> 0 | L38: =SUM(F38:J38) -> 0 | M38: =IF(K38=L38,0,IF(K38>0,(L38-K38)/K38,"")) -> 0 | N38: 27.
A39: 540 Joint career and technical education and vocational
A40: Education center | C40: 28. | D40: =[1]!F001P540Personnel -> 0 | E40: 0 | F40: 0 | G40: 0 | H40: 0 | I40: 0 | J40: 0 | K40: =[1]!F001P540 -> 0 | L40: =SUM(F40:J40) -> 0 | M40: =IF(K40=L40,0,IF(K40>0,(L40-K40)/K40,"")) -> 0 | N40: 28.
...

Sheet Page 2
A1: District name | C1: =DistrictName -> Prescott Unified | H1: County | I1: =Cover!H1 -> Yavapai | N1: CTD number | O1: =CTD -> 130201000 | Q1: Version | R1: =Cover!C8 -> Adopted
A4: Special education programs by type (M&O Fund Programs 200 and 300)
A6: (A.R.S. §§ 15-761 and 15-903) | F6: Prior FY | G6: Budget FY
A7: 1. | B7: Total all disability classifications | F7: =[1]!F001P200Subtotal -> 5330000 | G7: 5330000 | H7: 1. | K7: Expenditures budgeted for audit services
A8: 2. | B8: Gifted education | F8: =[1]!SPEDGiftedEdBudgFY -> 45000 | G8: 45000 | H8: 2. | K8: M&O Fund - Nonfederal | N8: 6350 | O8: 55000
A9: 3. | B9: Remedial education | F9: =[1]!SPEDRemedialEdBudgFY -> 0 | H9: 3. | K9: All funds - Federal | N9: 6330
A10: 4. | B10: ELL incremental costs | F10: =[1]!SPEDELLIncCostBudgFY -> 50000 | G10: 50000 | H10: 4.
A11: 5. | B11: ELL compensatory instruction | F11: =[1]!SPEDELLCompInstrBudgFY -> 0 | H11: 5.
A12: 6. | B12: Vocational and technical education (non-CTED) | F12: =[1]!SPEDVocTechEdBudgFY -> 5000 | G12: 5000 | H12: 6. | K12: =_xlfn.CONCAT("FY ",Cover!E3," performance pay (A.R.S. Section 15-920)") -> FY 2025 performance pay (A.R.S. Section 15-920)
A13: 7. | B13: Career education (non-CTED) | F13: =[1]!SPEDCareerEdBudgFY -> 0 | H13: 7. | K13: Amount budgeted in M&O Fund for a performance pay component | R13: 15000
A14: 8. | B14: Career technical education (CTED) | F14: =[1]!JTEDBudgFY -> 487175 | G14: =518364-35307 -> 483057 | H14: 8. | I14: =IF(SUM(G7:G14)=SUM('Page 1'!L34:L34),"","Invalid. The amount should equal the total budgeted amount reported on line 24, page 1.")
A15: 9. | B15: Total (lines 1 through 8. Must equal | K15: Do not report budgeted amounts for the Performance Pay Component of the Classroom Site Fund on this line.
B16: total of line 24, page 1) | F16: =SUM(F7:F14) -> 5917175 | G16: =SUM(G7:G14) -> 5913057 | H16: 9.
A18: 10. | B18: IEP required pupil transportation costs | K18: Expenditures budgeted in the M&O Fund for food service
B19: coded within Program 400 | F19: {=[1]!IEPTransportCosts} -> 320000 | G19: 320000 | H19: 10. | K19: Amount budgeted in M&O for Food Service (Fund 001, Function 3100) | R19: 50000
K20: (This amount will be used to determine district compliance with state matching
K21: requirements pursuant to Code of Federal Regulations (CFR) Title 7, §210.17(a)]
A22: Proposed ratios for special education
A23: (A.R.S. §§15-903.E.1 and 15-764.A.5) | F23: Teacher-Pupil 1 to | G23: =SPEDTeacher -> 111
F24: Staff-Pupil 1 to | G24: =SPEDStaff -> 85

Sheet Page 3
A1: District name | B1: =DistrictName -> Prescott Unified | F1: County | G1: =Cover!H1 -> Yavapai | J1: CTD number | K1: =Cover!S1 -> 130201000 | M1: Version | N1: =Cover!C8 -> Adopted
A2: Fund 010 (CSF) | D2: Classroom Site Fund (CSF) and CSF Budget Limit (A.R.S. §§ 15-977 and 15-978)
I3: Debt service | J3: Totals | L3: %
A4: Expenditures | D4: Salaries | E4: Employee benefits | F4: Purchased services | G4: Supplies | H4: Property | I4: and miscellaneous | J4: Prior FY | K4: Budget FY | L4: Increase/
D5: 6100 | E5: 6200 | F5: 6300, 6400, 6500 | G5: 6600 | H5: 6700 | I5: 6800 | J5: =PriorFiscalYear -> 2024 | K5: =Cover!E3 -> 2025 | L5: Decrease
A6: 1000 Instruction | C6: 1. | D6: 3233050 | E6: =+D6*0.2068+1 -> 668596 | F6: 0 | G6: 0 | H6: 0 | I6: 0 | J6: {=[1]!F010F1000} -> 3744008 | K6: =SUM(D6:I6) -> 3901646 | L6: =IF(J6=K6,0,IF(J6>0,(K6-J6)/J6,"")) -> 0.042 | M6: 1.
A7: 2100 Support services - students | C7: 2. | D7: 105916 | E7: =+D7*0.2068 -> 21903 | F7: 0 | G7: 0 | H7: 0 | I7: 0 | J7: {=[1]!F010F2100} -> 134223 | K7: =SUM(D7:I7) -> 127819 | L7: =IF(J7=K7,0,IF(J7>0,(K7-J7)/J7,"")) -> -0.048 | M7: 2.
A8: 2200 Support services - instructional staff | C8: 3. | D8: 131480 | E8: =+D8*0.2068 -> 27190 | F8: 0 | G8: 0 | I8: 0 | J8: {=[1]!F010F2200} -> 131771 | K8: =SUM(D8:I8) -> 158670 | L8: =IF(J8=K8,0,IF(J8>0,(K8-J8)/J8,"")) -> 0.204 | M8: 3.
A9: 2300 Support services - general administration | C9: 4. | F9: 0 | J9: {=[1]!F010F2310} -> 0 | K9: =SUM(D9:I9) -> 0 | L9: =IF(J9=K9,0,IF(J9>0,(K9-J9)/J9,"")) -> 0 | M9: 4.
A10: 2500 Central services | C10: 5. | I10: 0 | J10: {=[1]!F010F2510} -> 0 | K10: =SUM(D10:I10) -> 0 | L10: =IF(J10=K10,0,IF(J10>0,(K10-J10)/J10,"")) -> 0 | M10: 5.
A11: 3300 Community services Ooerations | C11: 6. | D11: 0 | E11: 0 | F11: 0 | J11: {=[1]!F010F3300} -> 0 | K11: =SUM(D11:I11) -> 0 | L11: =IF(J11=K11,0,IF(J11>0,(K11-J11)/J11,"")) -> 0 | M11: 6.
A12: 4000 Facilities acquisition and construction | C12: 7. | H12: 0 | J12: {=[1]!F010F4000} -> 0 | K12: =SUM(D12:I12) -> 0 | M12: 7.
A13: 5000 Debt service | C13: 8. | J13: {=[1]!F010F5000} -> 0 | K13: =SUM(D13:I13) -> 0 | M13: 8.
A14: Total Expenditures (lines 1-8) | C14: 9. | D14: =SUM(D6:D13) -> 3470446 | E14: =SUM(E6:E13) -> 717689 | F14: =SUM(F6:F13) -> 0 | G14: =SUM(G6:G13) -> 0 | H14: =SUM(H6:H13) -> 0 | I14: =SUM(I6:I13) -> 0 | J14: {=[1]!F010TotalExp} -> 4010002 | K14: =SUM(D14:I14) -> 4188135 | L14: =IF(J14=K14,0,IF(J14>0,(K14-J14)/J14,"")) -> 0.044 | M14: 9.
L16: =IF(ROUND(F010TotalExp,0)<ROUND(CSFBLBudgFY,0),CONCATENATE("The district has budgeted an amount in Fund 010 which is less than the Classroom Site Fund Budget Limit as calculated below by ",TEXT(CSFBLBudgFY-F010TotalExp,"$#,###"),"."),IF(ROUND(F010TotalExp,0)>ROUND(CSFBLBudgFY,0),CONCATENATE("The district has budgeted greater in Fund 010 than the Classroom Site Fund Budget Limit as calculated below by ",TEXT(-CSFBLBudgFY+F010TotalExp,"$#,###"),"."),IF(ROUND(F010TotalExp,0)=ROUND(CSFBLBudgFY,0),CONCATENATE("The district has budgeted an amount in Fund 010 equal to the Classroom Site Fund Budget Limit as calculated below.")))) -> The district has budgeted an amount in Fund 010 equal to the Classroom Site Fund Budget Limit as calculated below.
A30: Classroom Site Fund Budget Limit Calculation
A31: =_xlfn.CONCAT("FY ",PriorFiscalYear," Classroom Site Fund Budget Limit (from FY ",PriorFiscalYear," latest revised Budget, page 3, line 16)") -> FY 2024 Classroom Site Fund Budget Limit (from FY 2024 latest revised Budget, page 3, line 16) | C31: 10. | D31: {='[1]Page 3'!CSFBLBudgFY} -> 4010002
A32: =_xlfn.CONCAT("FY ",PriorFiscalYear," Actual expenditures (For budget adoption use actual expenditures to date plus estimated expenditures through fiscal year-end.)") -> FY 2024 Actual expenditures (For budget adoption use actual expenditures to date plus estimated expenditures through fiscal year-end.) | C32: 11. | D32: 3425997 | E32: =IF(AND(CSFBLCurrFY<>0,CSFActualCurrFY=""),"Please enter prior year CSF actual expenditures on line 11.","")
A33: Unexpended Budget Balance (line 10 minus 11) | C33: 12. | D33: =D31-D32 -> 584005
A34: =_xlfn.CONCAT("Interest earned in the Classroom Site Fund in FY ",PriorFiscalYear) -> Interest earned in the Classroom Site Fund in FY 2024 | C34: 13. | D34: 44882
A35: =_xlfn.CONCAT("FY ",Cover!E3," Classroom Site Fund allocation (provided by ADE, based on $792)") -> FY 2025 Classroom Site Fund allocation (provided by ADE, based on $792) | C35: 14. | D35: =4494*792 -> 3559248
A36: =_xlfn.CONCAT("Adjustments to FY ",Cover!E3," Classroom Site Fund Budget Limit (1)") -> Adjustments to FY 2025 Classroom Site Fund Budget Limit (1) | C36: 15. | D36: 0
A38: =_xlfn.CONCAT("FY ",Cover!E3," Classroom Site Fund Budget Limit (Sum of lines 10 through 15) (2)") -> FY 2025 Classroom Site Fund Budget Limit (Sum of lines 10 through 15) (2) | C38: 16. | D38: =SUM(D33:D36) -> 4188135
A40: (1) This line may be used to recapture lost CSF budget capacity that resulted from underbudgeting in prior fiscal years.
A41: (2) The amounts budgeted on line 7 cannot exceed the respective amounts on this line.

Sheet Page 4
A1: District name | B1: =DistrictName -> Prescott Unified | G1: County | H1: =Cover!H1 -> Yavapai | K1: CTD number | L1: =Cover!S1 -> 130201000 | M1: Version | N1: =Cover!C8 -> Adopted
A3: Fund 610 (UCO) | D3: Unrestricted Capital Outlay (UCO) Fund
D4: Rentals | E4: Library books, textbooks, | F4: Short-term noninstructional software subscription | G4: Property (2) | H4: Redemption of principal (3) | I4: Interest (4) | K4: Totals
E5: & instructional | J5: All other | K5: Prior | L5: Budget | M5: %
A6: Expenditures | E6: aids (2) | J6: object codes | K6: FY | L6: FY | M6: Increase/
D7: 6440 | E7: 6641-6643 | F7: 6655 | G7: 6700 | H7: 6831, 6832, 6833 | I7: 6841, 6842, 6843, 6850 | J7: (excluding 6900) | K7: =PriorFiscalYear -> 2024 | L7: =Cover!E3 -> 2025 | M7: Decrease
A8: Unrestricted Capital Outlay Override (1) | C8: 1. | D8: 0 | E8: 0 | F8: 0 | G8: 0 | H8: 0 | I8: 0 | J8: 0 | K8: =[1]!F610Override -> 0 | L8: =SUM(D8:J8) -> 0 | M8: =IF(K8=L8,0,IF(K8>0,(L8-K8)/K8,"")) -> 0 | N8: 1.
A9: Unrestricted Capital Outlay Fund 610 (6)
A10: 1000 Instruction | C10: 2. | D10: 0 | E10: 500000 | G10: =450000-35000 -> 415000 | J10: 0 | K10: =[1]!F610F1000 -> 1150000 | L10: =SUM(D10:J10) -> 915000 | M10: =IF(K10=L10,0,IF(K10>0,(L10-K10)/K10,"")) -> -0.204 | N10: 2.
A11: 2000 Support services
A12: 2100, 2200 Students and instructional staff | C12: 3. | D12: 0 | E12: 50000 | F12: 300000 | G12: 100000 | J12: 0 | K12: =[1]!F610F21002200 -> 450000 | L12: =SUM(D12:J12) -> 450000 | M12: =IF(K12=L12,0,IF(K12>0,(L12-K12)/K12,"")) -> 0 | N12: 3.
A13: 2300, 2400, 2500, 2900 Administration | C13: 4. | D13: 0 | F13: 40000 | G13: 100000 | I13: 0 | J13: 0 | K13: =[1]!F610F2300240025002900 -> 135000 | L13: =SUM(D13:J13) -> 140000 | M13: =IF(K13=L13,0,IF(K13>0,(L13-K13)/K13,"")) -> 0.037 | N13: 4.
A14: 2600 Operation & maintenance of plant | C14: 5. | D14: 0 | F14: 40000 | G14: 350000 | J14: 0 | K14: =[1]!F610F2600 -> 425000 | L14: =SUM(D14:J14) -> 390000 | M14: =IF(K14=L14,0,IF(K14>0,(L14-K14)/K14,"")) -> -0.082 | N14: 5.
A15: 2700 Student transportation | C15: 6. | D15: 0 | F15: 20000 | G15: 20000 | J15: 0 | K15: =[1]!F610F2700 -> 265000 | L15: =SUM(D15:J15) -> 40000 | M15: =IF(K15=L15,0,IF(K15>0,(L15-K15)/K15,"")) -> -0.849 | N15: 6.
A16: 3000 Operation of noninstructional services (5) | C16: 7. | D16: 0 | F16: 0 | J16: 0 | K16: =[1]!F610F3000 -> 0 | L16: =SUM(D16:J16) -> 0 | M16: =IF(K16=L16,0,IF(K16>0,(L16-K16)/K16,"")) -> 0 | N16: 7.
A17: 4000 Facilities acquisition and construction | C17: 8. | D17: 0 | F17: 0 | G17: 300000 | J17: 0 | K17: =[1]!F610F4000 -> 470442 | L17: =SUM(D17:J17) -> 300000 | M17: =IF(K17=L17,0,IF(K17>0,(L17-K17)/K17,"")) -> -0.362 | N17: 8.
A18: 5000 Debt service | C18: 9. | H18: 214329 | I18: 0 | K18: =[1]!F610F5000 -> 270000 | L18: =SUM(D18:J18) -> 214329 | M18: =IF(K18=L18,0,IF(K18>0,(L18-K18)/K18,"")) -> -0.206 | N18: 9.
A19: Total unrestricted capital outlay fund (lines 2-9) | C19: 10. | D19: =D10+SUM(D12:D18) -> 0 | E19: =E10+SUM(E12:E18) -> 550000 | F19: =F10+SUM(F12:F18) -> 400000 | G19: =G10+SUM(G12:G18) -> 1285000 | H19: =H10+SUM(H12:H18) -> 214329 | I19: =I10+SUM(I12:I18) -> 0 | J19: =J10+SUM(J12:J18) -> 0 | K19: =SUM(K10:K18) -> 3165442 | L19: =SUM(L10:L18) -> 2449329 | M19: =IF(K19=L19,0,IF(K19>0,(L19-K19)/K19,"")) -> -0.226 | N19: 10.
F21: =IF(ROUND('Page 4'!L19,0)<ROUND('Page 8'!K32,0),CONCATENATE("The district has budgeted an amount in the UCO Fund which is less than the Unrestricted Capital Budget Limit as calculated on Page 8 of 8 by ",TEXT('Page 8'!K32-'Page 4'!L19,"$#,###"),"."),IF(ROUND('Page 4'!L19,0)>ROUND('Page 8'!K32,0),CONCATENATE("The district has budgeted greater in the UCO Fund than the Unrestricted Capital Budget Limit as calculated on Page 8 of 8 by ",TEXT(-'Page 8'!K32+'Page 4'!L19,"$#,###"),"."),IF(ROUND('Page 4'!L19,0)=ROUND('Page 8'!K32,0),CONCATENATE("The district has budgeted an amount in the UCO Fund equal to the Unrestricted Capital Budget Limit as calculated on Page 8 of 8.")))) -> The district has budgeted an amount in the UCO Fund equal to the Unrestricted Capital Budget Limit as calculated on Page 8 of 8.
A23: (1) Amounts in the Unrestricted Capital Outlay Override line 1 above must be included in the appropriate individual line items for Fund 610 and in the budget year total column. | E23: (5) | F23: Expenditures budgeted in Unrestricted Capital Outlay (UCO) Fund for food service
F25: Enter the amount budgeted in UCO for food service [amount will be used to determine district
F26: compliance with state matching requirements pursuant to CFR Title 7, §210.17(a)] | K26: 0
A27: (2) Detail by object code:
B28: Unrestricted Capital Outlay
A30: 6641 Library Books | B30: 0 | E30: (6) | F30: Expenditures, if any, budgeted in the Unrestricted Capital Outlay Fund on lines 2-9 for the K-3 Reading Program as described in A.R.S. §15-211.
A31: 6642 Textbooks | B31: 500000 | K31: 0
A32: 6643 Instructional Aids | B32: 150000
A33: 673X Furniture and Equipment | B33: 400000
A34: 673X Vehicles | B34: 100000
A35: 673X Tech Hardware & Software | B35: 450000
A37: (3) Includes principal on Capital Equity Fund loans of | D37: 0 | E37: , principal on leases of | G37: 0 | H37: , and principal on bonds of | J37: 0 | K37: .
A39: (4) Includes interest on Capital Equity Fund loans of | D39: 0 | E39: , interest on leases of | G39: 0 | H39: , and interest on bonds of | J39: 0 | K39: .

Sheet Page 5
A1: District name | B1: =DistrictName -> Prescott Unified | G1: County | H1: =Cover!H1 -> Yavapai | J1: CTD number | K1: =Cover!S1 -> 130201000 | M1: Version | N1: =Cover!C8 -> Adopted
A3: Other funds—required capital expenditure detail [(A.R.S. §15-904.(B)]
D5: Unrestricted Capital Outlay | F5: Bond Building | H5: New School Facilities | J5: Adjacent Ways
A6: Expenditures | D6: Fund 610 | F6: Fund 630 | H6: Fund 695 | J6: Fund 620 (2)
D7: Prior FY | E7: Budget FY | F7: Prior FY | G7: Budget FY | H7: Prior FY | I7: Budget FY | J7: Prior FY | K7: Budget FY
A8: Total Fund Expenditures | C8: 1. | D8: =F610TotalCurrFY -> 3165442 | E8: =F610TotalBudgFY -> 2449329 | F8: =[1]!F630TotalBudgFY -> 0 | G8: =[1]!F695BudgFYO6150 -> 0 | H8: =[1]!F695TotalBudgFY -> 0 | I8: =[1]!F695BudgFYO6150 -> 0 | J8: =[1]!F620TotalBudgFY -> 42000 | K8: 42000 | L8: 1.
A9: Select Object Codes Detail (1)
A10: 6150 Classified Salaries | C10: 2. | D10: =[1]!F610BudgFYO6150 -> 0 | E10: 0 | F10: =[1]!F630BudgFYO6150 -> 0 | G10: =[1]!F695BudgFYO6150 -> 0 | H10: =[1]!F695BudgFYO6150 -> 0 | I10: =[1]!F695BudgFYO6150 -> 0 | J10: =[1]!F620BudgFYO6150 -> 0 | K10: =[1]!F695BudgFYO6150 -> 0 | L10: 2.
A11: 6200 Employee Benefits | C11: 3. | D11: =[1]!F610BudgFYO6200 -> 0 | E11: 0 | F11: =[1]!F630BudgFYO6200 -> 0 | G11: =[1]!F695BudgFYO6150 -> 0 | H11: =[1]!F695BudgFYO6200 -> 0 | I11: =[1]!F695BudgFYO6150 -> 0 | J11: =[1]!F620BudgFYO6200 -> 0 | K11: =[1]!F695BudgFYO6150 -> 0 | L11: 3.
A12: 6450 Construction Services | C12: 4. | D12: =[1]!F610BudgFYO6450 -> 300000 | E12: 300000 | F12: =[1]!F630BudgFYO6450 -> 0 | G12: =[1]!F695BudgFYO6150 -> 0 | H12: =[1]!F695BudgFYO6450 -> 0 | I12: =[1]!F695BudgFYO6150 -> 0 | J12: =[1]!F620BudgFYO6450 -> 0 | K12: =[1]!F695BudgFYO6150 -> 0 | L12: 4.
A13: 6710 Land and Improvements | C13: 5. | D13: =[1]!F610BudgFYO6710 -> 0 | E13: 0 | F13: =[1]!F630BudgFYO6710 -> 0 | G13: =[1]!F695BudgFYO6150 -> 0 | H13: =[1]!F695BudgFYO6710 -> 0 | I13: =[1]!F695BudgFYO6150 -> 0 | J13: =[1]!F620BudgFYO6710 -> 0 | K13: =[1]!F695BudgFYO6150 -> 0 | L13: 5.
A14: 6720 Buildings and Improvements | C14: 6. | D14: =[1]!F610BudgFYO6720 -> 0 | E14: 0 | F14: =[1]!F630BudgFYO6720 -> 0 | G14: =[1]!F695BudgFYO6150 -> 0 | H14: =[1]!F695BudgFYO6720 -> 0 | I14: =[1]!F695BudgFYO6150 -> 0 | J14: =[1]!F620BudgFYO6720 -> 0 | K14: =[1]!F695BudgFYO6150 -> 0 | L14: 6.
A15: 673X Furniture and Equipment | C15: 7. | D15: =[1]!F610BudgFYO6731 -> 435000 | E15: =F610O6731 -> 400000 | F15: =[1]!F630BudgFYO6731 -> 0 | G15: =[1]!F695BudgFYO6150 -> 0 | H15: =[1]!F695BudgFYO6731 -> 0 | I15: =[1]!F695BudgFYO6150 -> 0 | J15: =[1]!F620BudgFYO6731 -> 0 | K15: =[1]!F695BudgFYO6150 -> 0 | L15: 7.
A16: 673X Vehicles | C16: 8. | D16: =[1]!F610BudgFYO6734 -> 100000 | E16: =F610O6734 -> 100000 | F16: =[1]!F630BudgFYO6734 -> 0 | G16: =[1]!F695BudgFYO6150 -> 0 | H16: =[1]!F695BudgFYO6734 -> 0 | I16: =[1]!F695BudgFYO6150 -> 0 | J16: =[1]!F620BudgFYO6734 -> 0 | K16: =[1]!F695BudgFYO6150 -> 0 | L16: 8.
A17: 673X Technology Hardware & Software | C17: 9. | D17: =[1]!F610BudgFYO6737 -> 300000 | E17: =F610O6737 -> 450000 | F17: =[1]!F630BudgFYO6737 -> 0 | G17: =[1]!F695BudgFYO6150 -> 0 | H17: =[1]!F695BudgFYO6737 -> 0 | I17: =[1]!F695BudgFYO6150 -> 0 | J17: =[1]!F620BudgFYO6737 -> 0 | K17: =[1]!F695BudgFYO6150 -> 0 | L17: 9.
A18: 6831, 6832, 6833 Redemption of Principal | C18: 10. | D18: =[1]!F610BudgFYO6831 -> 270000 | E18: 145000 | F18: =[1]!F630BudgFYO6831 -> 0 | G18: =[1]!F695BudgFYO6150 -> 0 | H18: =[1]!F695BudgFYO6831 -> 0 | I18: =[1]!F695BudgFYO6150 -> 0 | J18: =[1]!F620BudgFYO6831 -> 0 | K18: =[1]!F695BudgFYO6150 -> 0 | L18: 10.
A19: 6841, 6842, 6843, 6850, 6860 Interest and Debt-Issuance Costs | C19: 11. | D19: =[1]!F610BudgFYO6841 -> 0 | E19: 0 | F19: =[1]!F630BudgFYO6841 -> 0 | G19: =[1]!F695BudgFYO6150 -> 0 | H19: =[1]!F695BudgFYO6841 -> 0 | I19: =[1]!F695BudgFYO6150 -> 0 | J19: =[1]!F620BudgFYO6841 -> 0 | K19: =[1]!F695BudgFYO6150 -> 0 | L19: 11.
A20: Total (lines 2-11) | C20: 12. | D20: =SUM(D10:D19) -> 1405000 | E20: =SUM(E10:E19) -> 1395000 | F20: =SUM(F10:F19) -> 0 | G20: =SUM(G10:G19) -> 0 | H20: =SUM(H10:H19) -> 0 | I20: =SUM(I10:I19) -> 0 | J20: =SUM(J10:J19) -> 0 | K20: =SUM(K10:K19) -> 0 | L20: 12.
A21: Total amounts reported on lines 2-11 above for:
A22: Renovation | C22: 13. | D22: =[1]!F610BudgFYRenovation -> 435000 | E22: 300000 | F22: =[1]!F630BudgFYRenovation -> 0 | G22: =[1]!F630BudgFYO6737 -> 0 | J22: =[1]!F620BudgFYRenovation -> 0 | K22: =[1]!F630BudgFYO6737 -> 0 | L22: 13.
A23: New Construction | C23: 14. | D23: =[1]!F610BudgFYNewConstruction -> 0 | E23: 0 | F23: =[1]!F630BudgFYNewConstruction -> 0 | G23: =[1]!F630BudgFYO6737 -> 0 | H23: =[1]!F695BudgFYNewConstruction -> 0 | I23: =[1]!F630BudgFYO6737 -> 0 | J23: =[1]!F620BudgFYNewConstruction -> 0 | K23: =[1]!F630BudgFYO6737 -> 0 | L23: 14.
A24: Other | C24: 15. | D24: =[1]!F610BudgFYOther -> 970000 | E24: 1095000 | F24: =[1]!F630BudgFYOther -> 0 | G24: =[1]!F630BudgFYO6737 -> 0 | H24: =[1]!F695BudgFYOther -> 0 | I24: =[1]!F630BudgFYO6737 -> 0 | J24: =[1]!F620BudgFYOther -> 0 | K24: =[1]!F630BudgFYO6737 -> 0 | L24: 15.
A25: Total (lines 13-15, must equal line 12) | C25: 16. | D25: =SUM(D22:D24) -> 1405000 | E25: =SUM(E22:E24) -> 1395000 | F25: =SUM(F22:F24) -> 0 | G25: =SUM(G22:G24) -> 0 | H25: =SUM(H23:H24) -> 0 | I25: =SUM(I23:I24) -> 0 | J25: =SUM(J22:J24) -> 0 | K25: =SUM(K22:K24) -> 0 | L25: 16.
E26: =IF(SUM(E22:E24)=E20,"","Check line 12") | G26: =IF(SUM(G22:G24)=G20,"","Check line 12") | I26: =IF(SUM(I23:I24)=I20,"","Check line 12") | K26: =IF(SUM(K22:K24)=K20,"","Check line 12")
A27: (1) Lines 2-11 may not include all budgeted expenditures of the fund. Total budgeted expenditures for each fund should be included on Line 1.
A28: =_xlfn.CONCAT("(2) Amount budgeted on line 1 for the Adjacent Ways Fund that will result in a tax levy in FY ",Cover!E3) -> (2) Amount budgeted on line 1 for the Adjacent Ways Fund that will result in a tax levy in FY 2025
A29: =IF((E28>0),"Districts that are levying any amount for adjacent ways must fill in the Truth in Taxation Worksheet and follow the requirements of A.R.S. Sec. 15-905.01. The amount reported in footnote 2 above pulls to the Truth in Taxation Worksheet, Line 12.","")

Sheet Page 6
C1: District name | D1: =DistrictName -> Prescott Unified | I1: County | J1: =Cover!H1 -> Yavapai | O1: CTD number | P1: =Cover!S1 -> 130201000 | S1: Version | T1: =Cover!C8 -> Adopted
B3: Special projects | M3: Other funds expenditures
S4: Prior FY | T4: Budget FY
F5: FTE | I5: Total all functions | M5: 1. | O5: 050 County, City, and Town Grants | S5: =[1]!F050BudgFY -> 6600 | T5: 6814 | U5: 1.
A6: Federal projects FTE & expenditures | F6: Prior FY | G6: Budget FY | I6: Prior FY | J6: Budget FY | M6: 2. | O6: 071 English Language Learner (1) | S6: =F071CurrFY -> 25100 | T6: =F071BudgFY -> 16453 | U6: 2.
A7: 1. | C7: 100-130 ESEA Title I - Helping Disadvantaged Children | F7: =[1]!F100130Personnel -> 11.37 | G7: 11.37 | I7: =[1]!F100130BudgFY -> 783863 | J7: 617994 | K7: 1. | M7: 3. | O7: 072 Compensatory Instruction (1) | S7: =F072CurrFY -> 0 | T7: =F072BudgFY -> 0 | U7: 3.
A8: 2. | C8: 140-150 ESEA Title II - Prof. Dev. and Technology | F8: =[1]!F140150Personnel -> 0.9 | G8: 0.9 | I8: =[1]!F140150BudgFY -> 191780 | J8: 192883 | K8: 2. | M8: 4. | O8: 500 School Plant (2) | S8: =[1]!F500BudgFY -> 1700000 | T8: 1383381 | U8: 4.
A9: 3. | C9: 160 ESEA Title IV - 21st Century Schools | F9: =[1]!F160Personnel -> 0.68 | G9: 0.68 | I9: =[1]!F160BudgFY -> 193000 | J9: 440000 | K9: 3. | M9: 5. | O9: 510 Food Service | S9: =[1]!F510BudgFY -> 2000000 | T9: 1500000 | U9: 5.
A10: 4. | C10: 170-180 ESEA Title V - Promote Informed Parent Choice | F10: =[1]!F170180Personnel -> 0 | G10: 0 | I10: =[1]!F170180BudgFY -> 0 | J10: 0 | K10: 4. | M10: 6. | O10: 515 Civic Center | S10: =[1]!F515BudgFY -> 400000 | T10: 275000 | U10: 6.
A11: 5. | C11: 190 ESEA Title III - Limited Eng. & Immigrant Students | F11: =[1]!F190Personnel -> 0.46 | G11: 0.46 | I11: =[1]!F190BudgFY -> 19000 | J11: 15035 | K11: 5. | M11: 7. | O11: 520 Community School | S11: =[1]!F520BudgFY -> 0 | U11: 7.
A12: 6. | C12: 200 ESEA Title VII - Indian Education | F12: =[1]!F200Personnel -> 0.2 | G12: 0.2 | I12: =[1]!F200BudgFY -> 14300 | J12: 14000 | K12: 6. | M12: 8. | O12: 525 Auxiliary Operations | S12: =[1]!F525BudgFY -> 1250000 | T12: 1488107 | U12: 8.
A13: 7. | C13: 210 ESEA Title VI - Flexibility and Accountability | F13: =[1]!F210Personnel -> 0 | G13: 0 | I13: =[1]!F210BudgFY -> 0 | K13: 7. | M13: 9. | O13: 526 Extracurricular Activities Fees Tax Credit | S13: =[1]!F526BudgFY -> 1300000 | T13: 1250346 | U13: 9.
A14: 8. | C14: 220 IDEA Part B | F14: =[1]!F220Personnel -> 16.02 | G14: 16.02 | I14: =[1]!F220BudgFY -> 1186341 | J14: 1112503 | K14: 8. | M14: 10. | O14: 530 Gifts and Donations | S14: =[1]!F530BudgFY -> 1350000 | T14: 1496229 | U14: 10.
A15: 9. | C15: 230 Johnson-O'Malley | F15: =[1]!F230Personnel -> 0.14 | G15: 0.14 | I15: =[1]!F230BudgFY -> 19000 | J15: 23624 | K15: 9. | M15: 11. | O15: 535 Career & Technical Education Projects | S15: =[1]!F535BudgFY -> 0 | T15: 0 | U15: 11.
A16: 10. | C16: 240 Workforce Investment Act | F16: =[1]!F240Personnel -> 0 | G16: 0 | I16: =[1]!F240BudgFY -> 0 | K16: 10. | M16: 12. | O16: 540 Fingerprint | S16: =[1]!F540BudgFY -> 20 | T16: 20 | U16: 12.
A17: 11. | C17: 250 AEA - Adult Education | F17: =[1]!F250Personnel -> 0 | G17: 0 | I17: =[1]!F250BudgFY -> 0 | K17: 11. | M17: 13. | O17: 545 School Opening | S17: =[1]!F545BudgFY -> 0 | T17: 0 | U17: 13.
A18: 12. | C18: 260-270 Vocational Education - Basic Grants | F18: =[1]!F260270Personnel -> 0.5 | G18: 0.5 | I18: =[1]!F260270BudgFY -> 165000 | J18: 60000 | K18: 12. | M18: 14. | O18: 550 Insurance Proceeds | S18: =[1]!F550BudgFY -> 134000 | T18: 138213 | U18: 14.
A19: 13. | C19: 280 ESEA Title X - Homeless Education | F19: =[1]!F280Personnel -> 0.23 | G19: 0.23 | I19: =[1]!F280BudgFY -> 67000 | J19: 60000 | K19: 13. | M19: 15. | O19: 555 Textbooks | S19: =[1]!F555BudgFY -> 40 | T19: 40 | U19: 15.
A20: 14. | C20: 290 Medicaid Reimbursement | F20: =[1]!F290Personnel -> 0 | G20: 0 | I20: =[1]!F290BudgFY -> 731644 | J20: 700000 | K20: 14. | M20: 16. | O20: 565 Litigation Recovery | S20: =[1]!F565BudgFY -> 0 | T20: 0 | U20: 16.
A21: 15. | C21: 349 National Forest Fees | G21: 1 | J21: 580000 | K21: 15. | M21: 17. | O21: 570 Indirect Costs | S21: =[1]!F570BudgFY -> 650000 | T21: 680264 | U21: 17.
A22: 16. | C22: 353 Taylor Grazing Fees | G22: 0 | J22: 0 | K22: 16. | M22: 18. | O22: 575 Unemployment Insurance | S22: =[1]!F575BudgFY -> 0 | T22: 0 | U22: 18.
A23: 17. | C23: 374 E-Rate | F23: =[1]!F374Personnel -> 0 | G23: 0 | I23: =[1]!F374BudgFY -> 14300 | J23: 14500 | K23: 17. | M23: 19. | O23: 580 Teacherage | S23: =[1]!F580BudgFY -> 0 | T23: 0 | U23: 19.
A24: 18. | C24: 378 Impact Aid | F24: =[1]!F378Personnel -> 0 | G24: 0 | I24: =[1]!F378BudgFY -> 0 | J24: 0 | K24: 18. | M24: 20. | O24: 585 Insurance Refund | S24: =[1]!F585BudgFY -> 0 | T24: 0 | U24: 20.
A25: 19. | C25: 300-399 Other Federal Projects | F25: =[1]!F300399OtherPersonnel -> 17.85 | G25: 0 | I25: =[1]!F300399OtherBudgFY -> 3527174 | J25: 850000 | K25: 19. | M25: 21. | O25: 590 Grants and Gifts to Teachers | S25: =[1]!F590BudgFY -> 12000 | T25: 11740 | U25: 21.
A26: 20. | C26: 699 Federal Impact Aid (Construction) | G26: 0 | K26: 20. | M26: 22. | O26: 595 Advertisement | S26: =[1]!F595BudgFY -> 0 | T26: 0 | U26: 22.
A27: 21. | C27: Total Federal Project Funds (lines 1-20) | F27: =SUM(F7:F25) -> 48.35 | G27: =SUM(G7:H25) -> 32 | I27: =SUM(I7:I25) -> 6912402 | J27: =SUM(J7:J25) -> 4680539 | K27: 21. | M27: 23. | O27: 596 Career Technical Education | S27: =[1]!F596BudgFY -> 750000 | T27: 855901 | U27: 23.
A28: State projects FTE & expenditures | M28: 24. | O28: 597 Arizona Industry Credentials Incentive | S28: =[1]!F597BudgFY -> 0 | T28: 0 | U28: 24
A29: 22. | C29: 400 Vocational Education | F29: =[1]!F400Personnel -> 0.11 | G29: 0.11 | I29: =[1]!F400BudgFY -> 20000 | J29: 12000 | K29: 22. | M29: 25. | O29: 639 Impact Aid Revenue Bond Building | S29: =[1]!F639BudgFY -> 0 | T29: 0 | U29: 25.
A30: 23. | C30: 410 Early Childhood Block Grant | F30: =[1]!F410Personnel -> 0 | G30: 0 | I30: =[1]!F410BudgFY -> 0 | J30: 0 | K30: 23. | M30: 26. | O30: 650 Gifts and Donations-Capital | S30: =[1]!F650BudgFY -> 0 | T30: 0 | U30: 26.
A31: 24. | C31: 420 Ext. School Yr. - Pupils with Disabilities | F31: =[1]!F420Personnel -> 0 | G31: 0 | I31: =[1]!F420BudgFY -> 0 | J31: 0 | K31: 24. | M31: 27. | O31: 660 Condemnation | S31: =[1]!F660BudgFY -> 0 | T31: 0 | U31: 27.
A32: 25. | C32: 425 Adult Basic Education | F32: =[1]!F425Personnel -> 0 | G32: 0 | I32: =[1]!F425BudgFY -> 0 | J32: 0 | K32: 25. | M32: 28. | O32: 665 Energy and Water Savings | S32: =[1]!F665BudgFY -> 17500 | T32: 17983 | U32: 28.
A33: 26. | C33: 430 Chemical Abuse Prevention Programs | F33: =[1]!F430Personnel -> 0 | G33: 0 | I33: =[1]!F430BudgFY -> 0 | J33: 0 | K33: 26. | M33: 29. | O33: 686 Emergency Deficiencies Correction | S33: =[1]!F686BudgFY -> 0 | T33: 0 | U33: 29.
A34: 27. | C34: 435 Academic Contests | F34: =[1]!F435Personnel -> 0 | G34: 0 | I34: =[1]!F435BudgFY -> 0 | J34: 0 | K34: 27. | M34: 30. | O34: 691 Building Renewal Grant | S34: =[1]!F691BudgFY -> 9500000 | T34: 12000000 | U34: 30.
A35: 28. | C35: 450 Gifted Education | F35: =[1]!F450Personnel -> 0 | G35: 0 | I35: =[1]!F450BudgFY -> 0 | J35: 0 | K35: 28. | M35: 31. | O35: 700 Debt Service | S35: =[1]!F700BudgFY -> 1300000 | T35: 1300000 | U35: 31.
A36: 29. | C36: 456 College Credit Exam Incentives | F36: {=[1]!F456Personnel} -> 0 | G36: 0 | I36: {=[1]!F456BudgFY} -> 60000 | J36: 60000 | K36: 29. | M36: 32. | O36: 720 Impact Aid Revenue Bond Debt Service | S36: =[1]!F720BudgFY -> 0 | T36: 0 | U36: 32.
A37: 30. | C37: 460 Environmental Special Plate | F37: =[1]!F460Personnel -> 0 | G37: 0 | I37: =[1]!F460BudgFY -> 0 | J37: 0 | K37: 30. | M37: 33. | O37: 850 Student Activities | S37: =[1]!F850BudgFY -> 200000 | T37: 163881 | U37: 33.
A38: 31. | C38: Other State Projects | F38: =[1]!F465499Personnel -> 11.56 | G38: 11 | I38: =[1]!F465499BudgFY -> 770000 | J38: 600000 | K38: 31. | M38: 34. | O38: Other __533, 855________________________________ | S38: =[1]!OtherFundsBudgFY -> 25000 | T38: 24165 | U38: 34.
A39: 32. | C39: Total State Project Funds (lines 22-31) | F39: =SUM(F29:F38) -> 11.67 | G39: =SUM(G29:H38) -> 11 | I39: =SUM(I29:I38) -> 850000 | J39: =SUM(J29:J38) -> 672000 | K39: 32. | O39: Internal Service Funds 950-989
A40: 33. | C40: Total Special Projects (lines 21 and 32) | F40: =F27+F39 -> 60.02 | G40: =G27+G39 -> 43 | I40: =I27+I39 -> 7762402 | J40: =J27+J39 -> 5352539 | K40: 33. | M40: 1. | O40: 9___ Self-Insurance | S40: =[1]!F9__SelfInsBudgFY -> 0 | T40: 0 | U40: 1.
M41: 2. | O41: 955 Intergovernmental Agreements | S41: =[1]!F955BudgFY -> 100000 | T41: 90605 | U41: 2.
...

Sheet Page 7
C1: District name | D1: =DistrictName -> Prescott Unified | F1: County | G1: =Cover!H1 -> Yavapai | L1: CTD number | M1: =Cover!S1 -> 130201000
L2: Version | M2: =Cover!C8 -> Adopted
A3: =_xlfn.CONCAT("Calculation of FY ",Cover!E3," General Budget Limit") -> Calculation of FY 2025 General Budget Limit
A4: (A.R.S. §15-947.C)
J6: A. | M6: B.
J7: Maintenance | M7: Unrestricted
J8: and Operation | M8: Capital Outlay
A9: *1. | B9: =_xlfn.CONCAT("FY ",Cover!E3," Revenue Control Limit (RCL) ") -> FY 2025 Revenue Control Limit (RCL) | N9: =IF((H10-J10)>=0,"","The RCL amount allocated to the M and O Fund exceeds the calculated RCL amount.")
B10: (from BSA55 tab, page 3; includes FRPL and DAA onetime supplements) | G10: $ | H10: =RCL -> 27481466 | I10: $ | J10: 27481466 | L10: $ | M10: =IF((H10-J10)<0,"Error",H10-J10) -> 0
A14: *2. | B14: (a) | C14: =_xlfn.CONCAT("FY ",Cover!E3," District Additional Assistance (DAA) (from BSA55 tab, page 4)") -> FY 2025 District Additional Assistance (DAA) (from BSA55 tab, page 4) | G14: $ | H14: =PreAdjDAA -> 2181294
B15: (b) | C15: DAA Adjustment (from BSA55 tab, page 4) | G15: $ | H15: =TotalDAAAdj -> 0 | N15: =IF((H17-J17)>=0,"","The DAA amount allocated to the M and O Fund exceeds the calculated DAA amount.")
B17: (c) | C17: Total DAA (line 2.a plus 2.b) | G17: $ | H17: =H14+H15 -> 2181294 | J17: 732455 | M17: =IF((H17-J17)<0,"Error",H17-J17) -> 1448839
A18: *3. | B18: =_xlfn.CONCAT("FY ",Cover!E3," Override Authorization (A.R.S. Sections 15-481 and 15-482 or 15-949 if small school adjustment phase down applies, see Calculations page, ",AA18) -> FY 2025 Override Authorization (A.R.S. Sections 15-481 and 15-482 or 15-949 if small school adjustment phase down applies, see Calculations page, Calculation of Maximum Override for a District No Longer Eligible for a Small School Adjustment, line 6 and Calculation of Small School Adjustment Phase Down Limit, line 6) | AA18: Calculation of Maximum Override for a District No Longer Eligible for a Small School Adjustment, line 6 and Calculation of Small School Adjustment Phase Down Limit, line 6)
B19: (a) | C19: Maintenance and Operation
B20: (b) | C20: Unrestricted Capital Outlay
B21: (c) | C21: Special Program
A22: *4. | B22: Small school adjustment for districts with a student count of 125 or less in K-8 or 100 or less in 9-12 (A.R.S. §15-949) (Up to $50,000 if no election is chosen for phase down, see Calculations page, calculation of small school adjustment phase down limit, line 6) | O22: =IF(AND('Data Entry'!J22>0,OR(AND(UnweightedStudCntK8PY>0,UnweightedStudCntK8PY<=125),AND(UnweightedStudCnt912PY>0,UnweightedStudCnt912PY<=100)),(AND(SSA_MO=0,SSA_UCO=0))),_xlfn.CONCAT("Reported FY ",TwoYearsPrior," ADM for K-8 and/or 9-12 is eligible for a small school adjustment. Amounts cannot be added or increased on line 4 after budget adoption."),"")
A24: *5. | B24: Tuition revenue (A.R.S. §§15-823 and 15-824)
B25: (Do not include full-day kindergarten or summer school tuition)
B26: (a) | C26: Individuals and other private sources | J26: 35000
B27: (b) | C27: Other Arizona districts | J27: 189952
B28: (c) | C28: Out-of-State districts and other governments
B29: (d) | C29: Certificates of educational convenience (A.R.S. §§15-825, 15-825.01, and 15-825.02)
A30: *6. | B30: State Assistance (A.R.S. §15-976) and Special Ed. Voucher Payments Received (A.R.S. §15-1204)
A31: *7. | B31: Increase Authorized by County School Superintendent for Accommodation Schools
B32: [not to exceed amount on Calculations page, Calculation of M&O Fund Budget Balance Carryforward, line 15(e)] (A.R.S. §15-974.B)
A33: 8. | B33: Budget Increase for:
B34: (a) | C34: Desegregation expenditures (A.R.S. §15-910.G-K)
A35: * | B35: (b) | C35: Budget Balance Carryforward (from Calculations page, Calculation of M&O Fund Budget Balance Carryforward, line 13) (A.R.S. §15-943.01) | J35: =Calculations!R104 -> 4000000
B36: (c) | C36: Dropout prevention programs (Laws 1992, Ch. 305, §32 and Laws 2000, Ch. 398, §2)
B37: (d) | C37: Registered warrant or tax anticipation note interest expense incurred in | N37: =IF(AND(OR(J38>0,M38>0),T37<>"X"),_xlfn.CONCAT("Districts with amounts on this line should have a FY ",TwoYearsPrior," Request Letter on file with ADE. Use the check box in T39 after verifying that ADE has the letter."),"")
C38: =_xlfn.CONCAT("FY ",TwoYearsPrior," (A.R.S. Section 15-910.M, as amended by Laws 2022, Ch. 285, §3)") -> FY 2023 (A.R.S. Section 15-910.M, as amended by Laws 2022, Ch. 285, §3)
A39: * | B39: (e) | C39: Joint Career and Technical Education and Vocational Education Center (A.R.S. §15-910.01)
A40: * | B40: (f) | C40: =_xlfn.CONCAT("FY ",PriorFiscalYear," Performance pay unexpended budget carryforward (from Calculation page,") -> FY 2024 Performance pay unexpended budget carryforward (from Calculation page,
C41: Calculation of M&O Fund Budget Balance Carryforward, line 10.f) (A.R.S. §15-920) | J41: =Calculations!R100 -> 0
B42: (g) | C42: Excessive property tax assessed valuation judgments (A.R.S. §§42-16213 and 42-16214)
A43: * | B43: (h) | C43: Transportation revenues for attendance of nonresident pupils (A.R.S. §§15-923 and 15-947)
A44: *9. | B44: Adjustment to the General Budget Limit (A.R.S. §§15-272, 15-905.M, 15-910.02, and 15-915) Include year(s) and descriptions, as applicable.
B45: (a) | C45: Prior year over expenditures/resolutions:
B47: (b) | C47: Decrease for transfer from M&O to Energy and Water Savings Fund
...

Sheet Page 8
A1: District name | E1: =DistrictName -> Prescott Unified | F1: County | G1: =Cover!H1 -> Yavapai | J1: CTD number | K1: =Cover!S1 -> 130201000
J2: Version | K2: =Cover!C8 -> Adopted
A3: =_xlfn.CONCAT("Calculation of FY ",Cover!E3," Unrestricted Capital Budget Limit (A.R.S. Section 15-947.D)") -> Calculation of FY 2025 Unrestricted Capital Budget Limit (A.R.S. Section 15-947.D)
A6: Unrestricted Capital Budget Limit
B7: 1. | C7: =_xlfn.CONCAT("FY ",PriorFiscalYear," Unrestricted Capital Budget Limit (UCBL)") -> FY 2024 Unrestricted Capital Budget Limit (UCBL)
C8: =_xlfn.CONCAT(" (from FY ",PriorFiscalYear," latest revised Budget, page 8, line 12)") -> (from FY 2024 latest revised Budget, page 8, line 12) | J8: $ | K8: =[1]!UCBLBudgFY -> 3165442
B9: 2. | C9: Total UCBL adjustment for prior years as notified by ADE on BUDG75 report (For budget
C10: adoption, use zero.) | J10: $ | K10: 0
B11: 3. | C11: =_xlfn.CONCAT("Adjusted amount available for FY ",PriorFiscalYear," Capital expenditures (line 1 + 2)") -> Adjusted amount available for FY 2024 Capital expenditures (line 1 + 2) | J11: $ | K11: =K8+K10 -> 3165442
B12: 4. | C12: =_xlfn.CONCAT("Amount budgeted in Fund 610 in FY ",Cover!V39) -> Amount budgeted in Fund 610 in FY 2024
C13: =_xlfn.CONCAT("(from FY ",PriorFiscalYear," latest revised Budget, page 4, line 10)") -> (from FY 2024 latest revised Budget, page 4, line 10) | J13: $ | K13: =[1]!F610TotalBudgFY -> 3165442
B14: 5. | C14: Lesser of line 3 or the sum of line 4 and any positive adjustment on line 2 | J14: $ | K14: =IF(K10>0,MIN(K13+K10,K11),MIN(K11,K13)) -> 3165442
B15: 6. | C15: =_xlfn.CONCAT("FY ",PriorFiscalYear," Fund 610 actual expenditures (For budget adoption use actual expenditures") -> FY 2024 Fund 610 actual expenditures (For budget adoption use actual expenditures
C16: to date plus estimated expenditures through fiscal year-end.) | J16: $ | K16: 2175634
B17: 7. | C17: Unexpended budget balance in Fund 610 (line 5 minus 6) If negative, use zero in
C18: calculation, but show negative amount here in parentheses. | G18: =IF((K14-K16)<0,K14-K16,"") | H18: =IF(G18<0,"OVEREXPENDED"," ") | J18: $ | K18: =IF(K14-K16>0,K14-K16,0) -> 989808
B19: 8. | C19: =_xlfn.CONCAT("Interest earned in Fund 610 in FY ",PriorFiscalYear) -> Interest earned in Fund 610 in FY 2024 | J19: $ | K19: 10682
B20: 9. | C20: Monies deposited in Fund 610 from Division of School Facilities for donated land (A.R.S. §41-5741.F) | J20: $ | K20: 0
B22: 10. | C22: =_xlfn.CONCAT("Adjustment to UCBL for FY ",Cover!E3," (A.R.S. Section 15-905.M) Include year(s) and descriptions, as applicable.") -> Adjustment to UCBL for FY 2025 (A.R.S. Section 15-905.M) Include year(s) and descriptions, as applicable.
C23: (a) | D23: Prior year over expenditures/resolutions:
J24: $ | K24: 0
C27: (b) | D27: ADM/Transportation audit adjustment | J27: $ | K27: 0
C28: (c) | D28: Other: | J28: $ | K28: 0
B30: 11. | C30: Amount to be used for capital expenditures (from page 7, line 12) | J30: $ | K30: =TotAmtCapExped -> 1448839
B32: 12. | C32: =_xlfn.CONCAT("FY ",Cover!E3," Unrestricted Capital Budget Limit (lines 7 through 11) (1)") -> FY 2025 Unrestricted Capital Budget Limit (lines 7 through 11) (1) | J32: $ | K32: =SUM(K18:K30) -> 2449329
A35: (1) | B35: The amount budgeted on page 4, line 10 cannot exceed this amount.

Sheet Supplement
A1: District name | B1: =DistrictName -> Prescott Unified | F1: County | G1: =Cover!H1 -> Yavapai | J1: CTD number | K1: =Cover!S1 -> 130201000 | M1: Version | N1: =Cover!C8 -> Adopted
A2: Supplement to school district annual expenditure budget for districts that budget for English language learners (A.R.S. §§15-756.04 and 15-756.11)
G3: Employee | H3: Purchased | L3: Totals
A4: English Language Learners Supplement | D4: FTE | F4: Salaries | G4: benefits | H4: services | I4: Supplies | J4: Property | K4: Other | L4: Prior | M4: Budget | N4: %
D5: Prior | E5: Budget | H5: 6300, 6400, | L5: FY | M5: FY | N5: Increase/
A6: Expenditures | D6: FY | E6: FY | F6: 6100 | G6: 6200 | H6: 6500 | I6: 6600 | J6: 6700 | K6: 6800 | L6: =PriorFiscalYear -> 2024 | M6: =Cover!E3 -> 2025 | N6: Decrease
A7: English Language Learner Fund 071 (A.R.S. §15-756.04)
A8: 1000 Instruction | C8: 1. | D8: =[1]!F071F1000Personnel -> 0.2 | E8: 0.2 | F8: 13711 | G8: =16453.29-F8 -> 2742 | K8: 0 | L8: =[1]!F071F1000 -> 25100 | M8: =SUM(F8:K8) -> 16453 | N8: =IF(L8=M8,0,IF(L8>0,(M8-L8)/L8,"")) -> -0.345 | O8: 1.
A9: 2000 Support Services
A10: 2100 Students | C10: 2. | D10: =[1]!F071F2100Personnel -> 0 | F10: 0 | G10: 0 | H10: 0 | I10: 0 | K10: 0 | L10: =[1]!F071F2100 -> 0 | M10: =SUM(F10:K10) -> 0 | N10: =IF(L10=M10,0,IF(L10>0,(M10-L10)/L10,"")) -> 0 | O10: 2.
