Workbook
Name Act: #REF!
Name Act: #REF!
Name Assignment: [1]values!$B$3:$B$22
Name District: '[2]PI-1524-SIG-TAX'!$E$6
Name Position: [1]values!$A$3:$A$15

Sheet 01 Tran Cov Sheet
A6: Transmission Cover Sheet
A7: School Information
A8: School Name: | F8: Fiscal Year: | H8: 2026-2027
A9: Site Number: | C9: =IFERROR(VLOOKUP(C8,'Drop-Down'!$A$4:$B$17,2,FALSE),"") | F9: Date:
A10: Prepared By: | F10: Title:
A11: Phone Number: | F11: Email:
A12: School Leader: | F12: Financial Officer:
A13: Phone Number: | F13: Phone Number:
A16: Transmittal Type (Check One):
A18: Original Budget | F18: Budget Revision(s)
A19: Semi-Annual Expenditures | F19: Prior Year Carryover
A20: Annual Expenditures | F20: Other
A24: Indicate the reason for the submission of the attached document(s) (including any carryover amounts) and a summary of how the funds will be expended or a brief explanation of budget revisions. Additional Information (schedules, explanations, etc.) for this submission should also be emailed to Tangela Anderson at anderst6@milwaukee.k12.wi.us and cc Bridget Schock at schockbx@milwaukee.k12.wi.us.
A40: For MPS Office of Finance Use Only
A41: Received By: | G41: Date:
A42: Approved By: | G42: Date:
A43: Notes:

Sheet 02 Optional Sev
A6: Optional Services Calculation Spreadsheet
A7: School Information
A8: School Name: | C8: =IF('01 Tran Cov Sheet'!C8:E8="","",'01 Tran Cov Sheet'!C8:E8) | F8: Fiscal Year: | H8: =IF('01 Tran Cov Sheet'!H8:K8="","",'01 Tran Cov Sheet'!H8:K8) -> 2026-2027
A9: Site Number: | C9: =IF('01 Tran Cov Sheet'!C9:E9="","",'01 Tran Cov Sheet'!C9:E9) | F9: Date: | H9: =SUM('01 Tran Cov Sheet'!H9:K9) -> 0
A10: Prepared By: | C10: =IF('01 Tran Cov Sheet'!C10:E10="","",'01 Tran Cov Sheet'!C10:E10) | F10: Title: | H10: =IF('01 Tran Cov Sheet'!H10:K10="","",'01 Tran Cov Sheet'!H10:K10)
A11: Phone Number: | C11: =IF('01 Tran Cov Sheet'!C11:E11="","",'01 Tran Cov Sheet'!C11:E11) | F11: Email: | H11: =IF('01 Tran Cov Sheet'!H11:K11="","",'01 Tran Cov Sheet'!H11:K11)
A12: School Leader: | C12: =IF('01 Tran Cov Sheet'!C12:E12="","",'01 Tran Cov Sheet'!C12:E12) | F12: Financial Officer: | H12: =IF('01 Tran Cov Sheet'!H12:K12="","",'01 Tran Cov Sheet'!H12:K12)
A13: Phone Number: | C13: =IF('01 Tran Cov Sheet'!C13:E13="","",'01 Tran Cov Sheet'!C13:E13) | F13: Phone Number: | H13: =IF('01 Tran Cov Sheet'!H13:K13="","",'01 Tran Cov Sheet'!H13:K13)
A14: Instructions:
A15: Use this form to calculate the MPS Optional Services totals, which will be used in the FY27 Non-Instrumentality Charter School Budget form. A portion of the total amount of the instructional services section is deducted from each of the four contract payments: 40% from the first payment, 20% from the second payment, 30% from the third payment, and 10% from the forth payment. At the end of the fiscal year, MPS will summarize your school's actual usage and contract payment deductions and will issue an invoice to your school for excess expenditures. If your school did not incur expenditures equal to your requested MPS Optional Services amount, you must submit a refund request to MPS Contracted Schools, Tangela Anderson at anderst6@milwaukee.k12.wi.us and cc Bridget Schock at schockbx@milwaukee.k12.wi.us. The due date to request instructional optional services is Wednesday, March 11, 2026.
A23: Instructional Optional Services - Special Education
A24: Position | D24: No. of | E24: Position | F24: FTE Billing | H24: FY27 MPS | J24: =LEFT(H24,5) -> FY27
D25: Hours | E25: FTEs | F25: Increments | H25: Annual Rate | J25: Amount
A26: Occupational Therapist | E26: =D26/40 -> 0 | F26: 0.05 | H26: 8216 | J26: =(E26/F26)*H26 -> 0
A27: Physical Therapist | E27: =D27/40 -> 0 | F27: 0.05 | H27: 8736 | J27: =(E27/F27)*H27 -> 0
A28: Psychologist | E28: =D28/40 -> 0 | F28: 0.1 | H28: 15600 | J28: =(E28/F28)*H28 -> 0
A29: Special Education Supervisor | E29: =D29/40 -> 0 | F29: 0.1 | H29: 11911 | J29: =(E29/F29)*H29 -> 0
A30: Speech Pathologist | E30: =D30/40 -> 0 | F30: 0.1 | H30: 17056 | J30: =(E30/F30)*H30 -> 0
A31: Social Worker | E31: =D31/40 -> 0 | F31: 0.1 | H31: 15600 | J31: =(E31/F31)*H31 -> 0
A32: Special Education Teacher | E32: =D32/40 -> 0 | F32: 0.1 | H32: 10216 | J32: =(E32/F32)*H32 -> 0
A33: Social Worker Assistant | E33: =D33/40 -> 0 | F33: 0.1 | H33: 4294 | J33: =(E33/F33)*H33 -> 0
A34: School Registered Nurse | E34: =D34/40 -> 0 | F34: 0.5 | H34: 54242 | J34: =(E34/F34)*H34 -> 0
A35: School Nurse Associate | E35: =D35/40 -> 0 | F35: 0.38 | H35: 25878 | J35: =(E35/F35)*H35 -> 0
A36: Total Instructional Optional Services - Special Education | J36: =SUM(J26:K35) -> 0
A38: NOTE: Non-Instructional Optional Services can be purchased at any time during the school year using an "Optional Services Request Form." Schools are encouraged to make optional services requests as soon as possible to ensure that services are available. Please reference the Optional Services Guide for offerings and prices.
A41: Non-Instructional Optional Services - Other Services
A42: Service Provider | D42: Type of Service | H42: FY27 | J42: =J24 -> FY27
H43: Annual Rate | J43: Amount
J44: =H44 -> 0
J45: =H45 -> 0
J46: =H46 -> 0
J47: =H47 -> 0
J48: =H48 -> 0
A49: Total Non-Instructional Optional Services - Other Services | J49: =SUM(J44:K48) -> 0
A51: Non-Instructional Optional Services - Special Education Transportation
A52: Service Provider | D52: Type of Service | H52: =H42 -> FY27 | J52: =J42 -> FY27
H53: Annual Rate | J53: Amount
J54: =H54 -> 0
J55: =H55 -> 0
J56: =H56 -> 0
...

Sheet 03 FY27 Budget
B1: FY27 NON-INSTRUMENTALITY CHARTER SCHOOL BUDGET | O1: FY27 NON-INSTRUMENTALITY CHARTER SCHOOL
B2: Appendix F - Original Budget Form - 7/1/26 thru 6/30/27 | O2: Appendix G - Revised Budget & Semi-annual Report Form - 7/1/26 thru 6/30/27
A4: School Name | B4: ='01 Tran Cov Sheet'!C8 -> 0 | G4: Date Submitted | I4: ='01 Tran Cov Sheet'!H9 -> 0
A5: Contact Person | B5: ='01 Tran Cov Sheet'!C10 -> 0 | G5: E-mail Address | I5: ='01 Tran Cov Sheet'!H11 -> 0
A6: Phone Number | B6: ='01 Tran Cov Sheet'!C11 -> 0
A7: Items highlighted in yellow are calculated by a formula | C7: FTE's - Original Budget | E7: <<< sometimes not the same as the contracted FTE's | T7: FTE's - Average or Revised
C8: WI Estimated FTE Allocation | D8: 12797 | T8: WI FTE Allocation | V8: 12797
C9: Other Allocated Funds Per FTE | T9: Other Allocated Funds Per FTE
C10: FTE's x Alloc $'s = | D10: =+D8*D7+D9*D7 -> 0 | E10: <<< Col D Total | T10: FTE's x Alloc $'s = | V10: =+V8*V7+V9*V7 -> 0 | X10: <<< Col D + Col Q Totals
T11: Approved FY26 Carryover | V11: =O261 -> 0 | X11: <<< Col O Total | Z11: <<< will be calculated once Col A is completed
T12: Other Revisions | V12: =S261 -> 0 | X12: <<< Col S Total
C13: Special Education - Reimbursable @ 20% | D13: =+$B$263*0.2 -> 0 | E13: <<< Col G Total (will be calculated once Col B is completed) | G13: <<< will be calculated once Col A is completed | T13: Special Education - Reimbursable @ 20% | V13: =+$B$263*0.2+T261 -> 0 | X13: <<< Col G + Col T Total | Z13: <<< will be calculated once Col A is completed
C14: Total Funding From MPS | D14: =SUM(D10:D13) -> 0 | E14: <<< Col I Total | T14: Total Funding From MPS | V14: =SUM(V10:V13) -> 0 | X14: <<< Col V Total
A16: A | B16: B | C16: C | D16: D | E16: E | G16: G | I16: I | K16: K | M16: M | O16: O | Q16: Q | S16: S | T16: T | V16: V | X16: X | Z16: Z
B17: MPS FY27 Eligible Spec Ed | C17: MPS + Other Sources FTE Bud/ Rev Bud Positions | D17: MPS FY27 Contract Funding | G17: FY27 Reimbursable - state defined - Spec Ed costs | I17: MPS FY27 Total Original Budget (D+G) | K17: Other Sources FY27 Budget | M17: Total MPS & Other Sources FY27 Budget (I+K) | O17: MPS Approved Carryover from FY26 | Q17: MPS FY27 Allocation Per Pupil or FTE Count Changes | S17: MPS FY27 Other Revisions | T17: FY27 Reimbursable - state defined - Spec Ed costs @ 20% | X17: MPS FY27 Actual Expenses 7/1/26 - 12/31/26 | Z17: MPS FY27 Available Balance (V-X )
A18: Description | E18: % | V18: MPS FY27 Revised Budget (I+O+Q+S+T)
B19: $'s from Spec Ed Claim Form & MPS Opt'l Serv Form | D19: Include IDEA if opt out of MPS Opt Serv | G19: automatically calculates @ 20%
A21: Instruction/Instructional Support Costs
A22: Salaries (non-MPS Staff)
A23: Teacher(s) Non-Special Education | I23: =D23+G23 -> 0 | M23: =+I23+K23 -> 0 | V23: =+I23+SUM(O23:T23) -> 0 | Z23: =V23-X23 -> 0
A24: Teacher(s) Spec Ed - 100% reimbursable | D24: =ROUND((B24*0.8),0) -> 0 | G24: =B24-D24 -> 0 | I24: =D24+G24 -> 0 | M24: =+I24+K24 -> 0 | V24: =+I24+SUM(O24:T24) -> 0 | Z24: =V24-X24 -> 0
A25: Substitutes | I25: =D25+G25 -> 0 | M25: =+I25+K25 -> 0 | V25: =+I25+SUM(O25:T25) -> 0 | Z25: =V25-X25 -> 0
A26: Aides Non-Special Education | I26: =D26+G26 -> 0 | M26: =+I26+K26 -> 0 | V26: =+I26+SUM(O26:T26) -> 0 | Z26: =V26-X26 -> 0
A27: Aides Spec Ed - 100% reimbursable | D27: =ROUND((B27*0.8),0) -> 0 | G27: =B27-D27 -> 0 | I27: =D27+G27 -> 0 | M27: =+I27+K27 -> 0 | V27: =+I27+SUM(O27:T27) -> 0 | Z27: =V27-X27 -> 0
A28: Nurse - 71% - non-reimbursable | D28: =ROUND((+B29/0.29*0.71),0) -> 0 | I28: =D28+G28 -> 0 | M28: =+I28+K28 -> 0 | V28: =+I28+SUM(O28:T28) -> 0 | Z28: =V28-X28 -> 0
A29: Nurse - 29% Spec Ed reimbursable | D29: =ROUND((B29*0.8),0) -> 0 | G29: =B29-D29 -> 0 | I29: =D29+G29 -> 0 | M29: =+I29+K29 -> 0 | V29: =+I29+SUM(O29:T29) -> 0 | Z29: =V29-X29 -> 0
A30: Social Worker - 41% - non-reimbursable | D30: =ROUND((+B31/0.59*0.41),0) -> 0 | I30: =D30+G30 -> 0 | M30: =+I30+K30 -> 0 | V30: =+I30+SUM(O30:T30) -> 0 | Z30: =V30-X30 -> 0
A31: Social Worker - 59% Spec Ed reimbursable | D31: =ROUND((B31*0.8),0) -> 0 | G31: =B31-D31 -> 0 | I31: =D31+G31 -> 0 | M31: =+I31+K31 -> 0 | V31: =+I31+SUM(O31:T31) -> 0 | Z31: =V31-X31 -> 0
A32: Psychologist - 16% - non-reimbursable | D32: =ROUND((+B33/0.84*0.16),0) -> 0 | I32: =D32+G32 -> 0 | M32: =+I32+K32 -> 0 | V32: =+I32+SUM(O32:T32) -> 0 | Z32: =V32-X32 -> 0
A33: Psychologist - 84% Spec Ed reimbursable | D33: =ROUND((B33*0.8),0) -> 0 | G33: =B33-D33 -> 0 | I33: =D33+G33 -> 0 | M33: =+I33+K33 -> 0 | V33: =+I33+SUM(O33:T33) -> 0 | Z33: =V33-X33 -> 0
A34: Counselor - 90% - non-reimbursable | D34: =ROUND((+B35/0.1*0.9),0) -> 0 | I34: =D34+G34 -> 0 | M34: =+I34+K34 -> 0 | V34: =+I34+SUM(O34:T34) -> 0 | Z34: =V34-X34 -> 0
A35: Counselor - 10% Special Ed reimbursable | D35: =ROUND((B35*0.8),0) -> 0 | G35: =B35-D35 -> 0 | I35: =D35+G35 -> 0 | M35: =+I35+K35 -> 0 | V35: =+I35+SUM(O35:T35) -> 0 | Z35: =V35-X35 -> 0
A36: Spec Ed Supervisor - 100% reimbursable | D36: =ROUND((B36*0.8),0) -> 0 | G36: =B36-D36 -> 0 | I36: =D36+G36 -> 0 | M36: =+I36+K36 -> 0 | V36: =+I36+SUM(O36:T36) -> 0 | Z36: =V36-X36 -> 0
A37: Part-time Wages | I37: =D37+G37 -> 0 | M37: =+I37+K37 -> 0 | V37: =+I37+SUM(O37:T37) -> 0 | Z37: =V37-X37 -> 0
A38: Special Education Salaries --Total Aidable | B38: =SUM(B23:B37) -> 0 | C38: ­ | D38: ­ | G38: ­ | I38: ­ | K38: ­ | M38: ­ | O38: ­ | Q38: ­ | S38: ­ | T38: ­ | V38: ­ | X38: ­ | Z38: ­
A39: Other-Specify | I39: =D39+G39 -> 0 | M39: =+I39+K39 -> 0 | V39: =+I39+SUM(O39:T39) -> 0 | Z39: =V39-X39 -> 0
I40: =D40+G40 -> 0 | M40: =+I40+K40 -> 0 | V40: =+I40+SUM(O40:T40) -> 0 | Z40: =V40-X40 -> 0
I41: =D41+G41 -> 0 | M41: =+I41+K41 -> 0 | V41: =+I41+SUM(O41:T41) -> 0 | Z41: =V41-X41 -> 0
I42: =D42+G42 -> 0 | M42: =+I42+K42 -> 0 | V42: =+I42+SUM(O42:T42) -> 0 | Z42: =V42-X42 -> 0
I43: =D43+G43 -> 0 | M43: =+I43+K43 -> 0 | V43: =+I43+SUM(O43:T43) -> 0 | Z43: =V43-X43 -> 0
...

Sheet 04
A7: FY27 SPECIAL EDUCATION COST CLAIM AND REIMBURSEMENTS PROCESS
D15: Cc…
A50: Visit MPS Homepage for Non-instrumentality Charter Schools to retrieve a copy of the "FY27 Budget - 2026-2027 State Special Education Categorical Aid Claim Form with instructions" to complete.
A51: E-mail special education claim forms in excel format to Tangela Anderson at anderst6@milwaukee.k12.wi.us.
A52: Note: If forms are not received on time, no 2027 payment will be made until the following year.

Sheet Drop-Down
A1: Tab 2 | B1: Tab 2
A2: School Name | B2: Site Number
A4: Carmen - Northwest | B4: 673 | C4: 0.01 | D4: 673
A5: Carmen - South | B5: 678 | C5: 0.01 | D5: 678
A6: Carmen - South East | B6: 451 | C6: 0.01 | D6: 451
A7: Carmen - South Middle | B7: 213 | C7: 0.01 | D7: 213
A8: Milw. College Prep - 38th St Campus | B8: 661 | C8: 0.01 | D8: 661
A9: Milw. College Prep - Lloyd St Campus | B9: 667 | C9: 0.01 | D9: 667
A10: Milw. College Prep - 36th St Campus | B10: 634 | C10: 0.01 | D10: 123 | E10: dpi#
A11: Milw. College Prep - North Ave Campus | B11: 674 | C11: 0.01 | D11: 121 | E11: dpi#
A12: Highland Community School | B12: 428 | C12: 0.02 | D12: 428
A13: Hmong American Peace Academy | B13: 676 | C13: 0.01 | D13: 668
A14: La Causa | B14: 672 | C14: 0.03 | D14: 497
A15: Urban Learning Collaborative (MESA) | B15: 615 | C15: 0.03 | D15: 615
A16: Milwaukee Excellence | B16: 671 | C16: 0.03 | D16: 672
A17: Next Door Foundation | B17: 493 | C17: 0.03 | D17: 493
