Workbook
Name Act: values!$C$3:$C$6
Name Assignment: values!$B$3:$B$22
Name District: '[1]PI-1524-SIG-TAX'!$E$6
Name Position: values!$A$3:$A$15

Sheet Instructions
A1: 2r and Non-Instrumentality Charter School
A2: PI 1505 Special Education Annual Report Instructions
A3: Public School Districts, Cooperative Educational Service Agencies, County Children with Disabilities Education Boards, and 2r and Non-Instrumentality Charter Schools are eligible to receive state special education categorical aid as cited in 115.88 Wis. Stats. State Special Education Categorical Aid is paid based on prior year information filed in the PI 1505 Special Education Annual Report. The following set of worksheets constitute the PI 1505 SE Annual Report for 2r Charter Schools.
A10: Categorical Aid Claim Worksheet Instructions:
A12: General Instructions
A13: 1. | B13: All staff members must be appropriately "DPI" licensed to be eligible for state special education categorical aid. A listing of the appropriate licenses is available at the following website, "Valid Staff Reporting and License Codes". You can also see the position assignment abbreviations on this form.
B15: https://dpi.wi.gov/sfs/aid/special-ed/sped-sap/eligibility
A17: 2. | B17: Costs on this claim form must be budgeted costs.
A19: 3. | B19: All Special Education costs should be included on this claim. This includes costs claimed for categorical aid, IDEA costs and other local costs not claimed from either of these sources.
A22: 4. | B22: If staff or cost is claimed partially on the IDEA grant and the remaining for categorical aid, the actual costs should be split between Part 1 and Part 2.
A24: 5. | B24: If FTE in special education is less than 1.00, the salary and benefits should be prorated accordingly.
A26: 6. | B26: If claiming social worker, guidance counselor, nurse, or psychologist costs, additional information must be provided on the appropriate worksheet. See below for more information.
A29: Part A
A30: 7. | B30: Only list costs that are being claimed for Special Education State Categorical Aid in Part A.
A32: 8. | B32: List Full Name of staff person
A34: 9. | B34: List the Employee File Number (EFN) for staff person. The social security number should only be provided if an EFN number is not available. EFNs can be looked up at https://dpi.wi.gov/licensing/license-lookup
A36: 10. | B36: List the Special Education portion of the staff person's FTE. If full time appointment, FTE is 1.0.
A38: 11. | B38: Select the Special Education Position from the dropdown menu.
A40: 12. | B40: Select the Special Education Assignment. The assignment abbreviations can be found on the licensing document from number 1 above or on the grid at the bottom of this page.
A42: 13. | B42: List the Special Education grade level assignment of the staff person.
A44: 14. | B44: The WUFAR function will automatically populate after the Special Education Assignment is selected.
A46: 15. | B46: Enter the salary and benefits or portion of salary and benefits of the staff person being claimed for State Categorical Aid.
A48: 16. | B48: Contracted service individuals must hold valid DPI licensures and transportation cost are eligible for state special education categorical aid. https://docs.google.com/document/d/1VRCWKux8j2neY9LXpjBq64IUl2o9CcmWsluJD67DRJ8/edit?tab=t.0#heading=h.wevaptx6vyue
A50: Part B
A51: 17. | B51: Only list costs that have been claimed on the IDEA grant or other federal grant.
A53: 18. | B53: List only the staff person name and the portion of their salary and benefits that were claimed on the federal grant.
A55: 19. | B55: For non-salary and benefit costs claimed on a federal grant, list the total under the categories provided in lines 12-15.
A57: Part C
A58: 20. | B58: Only list Special Education costs that are not eligible for State Categorical Aid and have not been claimed on the IDEA grant or other federal grant.
A60: 21. | B60: Repeat the above steps for all areas that are not grayed out.
A63: Social Worker, Guidance Counselor, Nurse, and Psychologist Worksheet Instructions:
A65: In the past, the locally-funded salary and benefit expenses of appropriately licensed guidance counselors, nurses, psychologists, and social workers have been eligible for state special education categorical aid based on actual time spent on special education activities. A recent law change, Wisconsin Act 221, has changed the process for determining the amount of time that can be claimed for categorical aid. Include total cost for these positions, not just the cost for time spent on special education activities. DPI will then confirm the aidable cost claimed on the "Categorical Aid Claim Worksheet" based on the percentages listed below.
A74: Social Worker | C74: 0.59
A75: Guidance Counselor | C75: 0.1
A76: Nurse | C76: 0.29
A77: Psychologist | C77: 0.84
A79: The amount identified in yellow as the maximum amount allowed for each position should be the amount reported on the "Categorical Aid Claim" worksheet.
A82: Additional information on Wisconsin Act 221 can be found at the following website.
A83: http://www.dpi.wi.gov
B85: Questions may be directed to:
...

Sheet Categorical Aid Claim
C1: Wisconsin Department of Public Instruction
C2: 2r or Non-Instrumentality Charter School Cost Claim
C3: PI-1505-SE-2r CHARTER SCHOOL | F3: FY27 BUDGET
D5: 2026 - 2027 State Special Education Categorical Aid Claim and Special Education Report
B7: Charter School Name: | K7: LEA Contact:
B8: Charter School Address: | K8: Position:
B9: 4 Digit School Code: | F9: Telephone Number: | J9: Email Address:
K10: Submit to Tangela Anderson by March 11, 2026 with the FY27 Budget Report (Appendix F).
B11: CLAIM INFORMATION
B12: All Special Education Costs for this 2r Charter School:
B14: Part A: Costs that are claimed for State Categorical Aid (costs should only appear once on this form):
D15: Employee File Number | E15: Special | F15: Special Education | G15: =+E15 -> Special | H15: Spec Ed | I15: WUFAR | J15: State Aidable | K15: =+J15 -> State Aidable | L15: State Aidable | M15: Total
C16: Full Name of | E16: Education | F16: Position * | G16: =+E16 -> Education | H16: Assignment | I16: Function | J16: (Object 100) | K16: (Object 200) | L16: (Object 310) | M16: =+J15 -> State Aidable
C17: Special Education Staff Person | E17: Position FTE | F17: (select from drop down) | G17: Assignment | H17: Grade-Level | I17: (will auto-fill) | J17: Salary | K17: Employee Benefits | L17: Contracted Services | M17: Cost Per Person
B18: 1 | E18: 0 | I18: =VLOOKUP(G18,values!$C$28:$D$48,2) -> #N/A | J18: 0 | K18: 0 | L18: 0 | M18: =+J18+K18+L18 -> 0
B19: =+B18+1 -> 2 | E19: 0 | I19: =VLOOKUP(G19,values!$C$28:$D$48,2) -> #N/A | J19: 0 | K19: 0 | L19: 0 | M19: =+J19+K19+L19 -> 0
B20: =+B19+1 -> 3 | E20: 0 | I20: =VLOOKUP(G20,values!$C$28:$D$48,2) -> #N/A | J20: 0 | K20: 0 | L20: 0 | M20: =+J20+K20+L20 -> 0
B21: =+B20+1 -> 4 | E21: 0 | I21: =VLOOKUP(G21,values!$C$28:$D$48,2) -> #N/A | J21: 0 | K21: 0 | L21: 0 | M21: =+J21+K21+L21 -> 0
B22: =+B21+1 -> 5 | E22: 0 | I22: =VLOOKUP(G22,values!$C$28:$D$48,2) -> #N/A | J22: 0 | K22: 0 | L22: 0 | M22: =+J22+K22+L22 -> 0
B23: =+B22+1 -> 6 | E23: 0 | I23: =VLOOKUP(G23,values!$C$28:$D$48,2) -> #N/A | J23: 0 | K23: 0 | L23: 0 | M23: =+J23+K23+L23 -> 0
B24: =+B23+1 -> 7 | E24: 0 | I24: =VLOOKUP(G24,values!$C$28:$D$48,2) -> #N/A | J24: 0 | K24: 0 | L24: 0 | M24: =+J24+K24+L24 -> 0
B25: =+B24+1 -> 8 | E25: 0 | I25: =VLOOKUP(G25,values!$C$28:$D$48,2) -> #N/A | J25: 0 | K25: 0 | L25: 0 | M25: =+J25+K25+L25 -> 0
B26: =+B25+1 -> 9 | E26: 0 | I26: =VLOOKUP(G26,values!$C$28:$D$48,2) -> #N/A | J26: 0 | K26: 0 | L26: 0 | M26: =+J26+K26+L26 -> 0
B27: =+B26+1 -> 10 | E27: 0 | I27: =VLOOKUP(G27,values!$C$28:$D$48,2) -> #N/A | J27: 0 | K27: 0 | L27: 0 | M27: =+J27+K27+L27 -> 0
B28: =+B27+1 -> 11 | E28: 0 | I28: =VLOOKUP(G28,values!$C$28:$D$48,2) -> #N/A | J28: 0 | K28: 0 | L28: 0 | M28: =+J28+K28+L28 -> 0
B29: =+B28+1 -> 12 | E29: 0 | I29: =VLOOKUP(G29,values!$C$28:$D$48,2) -> #N/A | J29: 0 | K29: 0 | L29: 0 | M29: =+J29+K29+L29 -> 0
B30: =+B29+1 -> 13 | E30: 0 | I30: =VLOOKUP(G30,values!$C$28:$D$48,2) -> #N/A | J30: 0 | K30: 0 | L30: 0 | M30: =+J30+K30+L30 -> 0
... B36: =+B35+1 -> 19 | E36: 0 | I36: =VLOOKUP(G36,values!$C$28:$D$48,2) -> #N/A | J36: 0 | K36: 0 | L36: 0 | M36: =+J36+K36+L36 -> 0
B37: =+B36+1 -> 20 | C37: Special Education Transportation | L37: 0 | M37: =+J37+K37+L37 -> 0
C38: TOTAL Costs Eligible for State Categorical Aid | J38: =SUM(J18:J37) -> 0 | K38: =SUM(K18:K37) -> 0 | L38: =SUM(L18:L37) -> 0 | M38: =SUM(M18:M37) -> 0
B40: Part B: Special Education Costs that were claimed on the IDEA or other Federal grant:
J41: IDEA | K41: =+J41 -> IDEA | L41: IDEA | M41: Total
C42: Full Name of | J42: (Object 100) | K42: (Object 200) | M42: =+J41 -> IDEA
C43: Special Education Staff Person | J43: Salary | K43: Employee Benefits | L43: All other costs | M43: Cost Per Line
B44: 1 | J44: 0 | K44: 0 | L44: 0 | M44: =+J44+K44+L44 -> 0
B45: =+B44+1 -> 2 | J45: 0 | K45: 0 | L45: 0 | M45: =+J45+K45+L45 -> 0
B46: =+B45+1 -> 3 | J46: 0 | K46: 0 | L46: 0 | M46: =+J46+K46+L46 -> 0
B47: =+B46+1 -> 4 | J47: 0 | K47: 0 | L47: 0 | M47: =+J47+K47+L47 -> 0
B48: =+B47+1 -> 5 | J48: 0 | K48: 0 | L48: 0 | M48: =+J48+K48+L48 -> 0
B49: =+B48+1 -> 6 | J49: 0 | K49: 0 | L49: 0 | M49: =+J49+K49+L49 -> 0
...

Sheet Social Worker
A1: 2026-2027 Budget - Social Worker Total Salary and Benefit Costs
A3: Charter School Name:
A5: Only report social worker staff member total salary and benefit cost with a position #50 license. Include total cost for these positions, not just the cost for time spent on special education activities. DPI will then use these numbers to confirm the aidable cost identified on the "Categorical Aid Claim" worksheet.
D9: Special | E9: Salary | F9: Benefits | G9: Salary | H9: Benefits
C10: Full Name of Staff Member | D10: Education | E10: Funded by | F10: =+E10 -> Funded by | G10: Funded by | H10: Funded by | I10: Total Salary &
C11: As Identified on "Categorical Aid Claim" | D11: Assignment | E11: Local Money | F11: Local Money | G11: Grant Money | H11: Grant Money | I11: Benefits Paid
B12: 1 | D12: Social Worker | E12: 0 | F12: 0 | G12: 0 | H12: 0 | I12: =SUM(E12:H12) -> 0
B13: =+B12+1 -> 2 | D13: Social Worker | E13: 0 | F13: 0 | G13: 0 | H13: 0 | I13: =SUM(E13:H13) -> 0
B14: =+B13+1 -> 3 | D14: Social Worker | E14: 0 | F14: 0 | G14: 0 | H14: 0 | I14: =SUM(E14:H14) -> 0
B15: =+B14+1 -> 4 | D15: Social Worker | E15: 0 | F15: 0 | G15: 0 | H15: 0 | I15: =SUM(E15:H15) -> 0
B16: =+B15+1 -> 5 | D16: Social Worker | E16: 0 | F16: 0 | G16: 0 | H16: 0 | I16: =SUM(E16:H16) -> 0
B17: =+B16+1 -> 6 | D17: Social Worker | E17: 0 | F17: 0 | G17: 0 | H17: 0 | I17: =SUM(E17:H17) -> 0
B18: =+B17+1 -> 7 | D18: Social Worker | E18: 0 | F18: 0 | G18: 0 | H18: 0 | I18: =SUM(E18:H18) -> 0
B19: =+B18+1 -> 8 | D19: Social Worker | E19: 0 | F19: 0 | G19: 0 | H19: 0 | I19: =SUM(E19:H19) -> 0
B20: =+B19+1 -> 9 | D20: Social Worker | E20: 0 | F20: 0 | G20: 0 | H20: 0 | I20: =SUM(E20:H20) -> 0
B21: =+B20+1 -> 10 | D21: Social Worker | E21: 0 | F21: 0 | G21: 0 | H21: 0 | I21: =SUM(E21:H21) -> 0
C22: TOTAL Salary and Benefits | E22: =SUM(E12:E21) -> 0 | F22: =SUM(F12:F21) -> 0 | G22: =SUM(G12:G21) -> 0 | H22: =SUM(H12:H21) -> 0 | I22: =SUM(I12:I21) -> 0
H23: Salary | I23: Benefits | J23: Total | K23: You may find this useful: These formulas calculate the individual's actual amount to transfer to the salary and benefit columns on the Aid Claim Form. Copy the formula if there is > 1 employee - but remember to change the gross salary & benefit cell formulas.
C24: Total SW Exp: | D24: =I22 -> 0 | F24: Total SW Exp: | G24: =D24 -> 0 | H24: =+E12 -> 0 | I24: =+F12 -> 0 | J24: =+H24+I24 -> 0
C25: * percentage | D25: =Instructions!C74 -> 0.59 | F25: Minus Grant Funds: | G25: =SUM(G22:H22) -> 0 | H25: =D25 -> 0.59 | I25: =D25 -> 0.59 | J25: =D25 -> 0.59
C26: Maximum Aidable Cost Possible | D26: =D24*D25 -> 0 | F26: Total Local Exp. | G26: =G24-G25 -> 0 | H26: =+H24*H25 -> 0 | I26: =+I24*I25 -> 0 | J26: =+J24*J25 -> 0
J27: =+H26+I26 -> 0
B29: Maximum Amount to be Claimed for Social Worker Positions on Categorical Aid Claim Worksheet: | G29: =IF(G26>D26,D26,G26) -> 0
B55: 12
B56: 13
B57: 14
B58: 15

Sheet Guidance Counselor
A1: 2026-2027 Budget - Guidance Counselor Total Salary and Benefit Costs
A3: Charter School Name:
A5: Only report guidance counselor staff member total salary and benefit expense with a subject #964, #966, or Position #54 License. Include total cost for these positions, not just the cost for time spent on special education activities. DPI will then use these numbers to confirm the aidable cost identified on the "Categorical Aid Claim" worksheet.
D9: Special | E9: Salary | F9: Benefits | G9: Salary | H9: Benefits
C10: Full Name of Staff Member | D10: Education | E10: Funded by | F10: =+E10 -> Funded by | G10: Funded by | H10: Funded by | I10: Total Salary &
C11: As Identified on "Categorical Aid Claim" | D11: Assignment | E11: Local Money | F11: Local Money | G11: Grant Money | H11: Grant Money | I11: Benefits Paid
B12: 1 | D12: Guidance Counselor | E12: 0 | F12: 0 | G12: 0 | H12: 0 | I12: =SUM(E12:H12) -> 0
B13: =+B12+1 -> 2 | D13: Guidance Counselor | E13: 0 | F13: 0 | G13: 0 | H13: 0 | I13: =SUM(E13:H13) -> 0
B14: =+B13+1 -> 3 | D14: Guidance Counselor | E14: 0 | F14: 0 | G14: 0 | H14: 0 | I14: =SUM(E14:H14) -> 0
B15: =+B14+1 -> 4 | D15: Guidance Counselor | E15: 0 | F15: 0 | G15: 0 | H15: 0 | I15: =SUM(E15:H15) -> 0
B16: =+B15+1 -> 5 | D16: Guidance Counselor | E16: 0 | F16: 0 | G16: 0 | H16: 0 | I16: =SUM(E16:H16) -> 0
B17: =+B16+1 -> 6 | D17: Guidance Counselor | E17: 0 | F17: 0 | G17: 0 | H17: 0 | I17: =SUM(E17:H17) -> 0
B18: =+B17+1 -> 7 | D18: Guidance Counselor | E18: 0 | F18: 0 | G18: 0 | H18: 0 | I18: =SUM(E18:H18) -> 0
B19: =+B18+1 -> 8 | D19: Guidance Counselor | E19: 0 | F19: 0 | G19: 0 | H19: 0 | I19: =SUM(E19:H19) -> 0
B20: =+B19+1 -> 9 | D20: Guidance Counselor | E20: 0 | F20: 0 | G20: 0 | H20: 0 | I20: =SUM(E20:H20) -> 0
B21: =+B20+1 -> 10 | D21: Guidance Counselor | E21: 0 | F21: 0 | G21: 0 | H21: 0 | I21: =SUM(E21:H21) -> 0
C22: TOTAL Salary and Benefits | E22: =SUM(E12:E21) -> 0 | F22: =SUM(F12:F21) -> 0 | G22: =SUM(G12:G21) -> 0 | H22: =SUM(H12:H21) -> 0 | I22: =SUM(I12:I21) -> 0
H23: Salary | I23: Benefits | J23: Total | K23: You may find this useful: These formulas calculate the individual's actual amount to transfer to the salary and benefit columns on the Aid Claim Form. Copy the formula if there is > 1 employee - but remember to change the gross salary & benefit cell formulas.
C24: Total GC Exp: | D24: =I22 -> 0 | F24: Total GC Exp: | G24: =D24 -> 0 | H24: =+E12 -> 0 | I24: =+F12 -> 0 | J24: =+H24+I24 -> 0
C25: * percentage | D25: =Instructions!C75 -> 0.1 | F25: Minus Grant Funds: | G25: =SUM(G22:H22) -> 0 | H25: =D25 -> 0.1 | I25: =D25 -> 0.1 | J25: =D25 -> 0.1
C26: Maximum Aidable Cost Possible | D26: =D24*D25 -> 0 | F26: Total Local Exp. | G26: =G24-G25 -> 0 | H26: =+H24*H25 -> 0 | I26: =+I24*I25 -> 0 | J26: =+J24*J25 -> 0
J27: =+H26+I26 -> 0
B29: Maximum Amount to be Claimed for Guidance Counselor Positions on Categorical Aid Claim Worksheet: | G29: =IF(G26>D26,D26,G26) -> 0
B55: 12
B56: 13
B57: 14
B58: 15

Sheet Nurse
A1: 2026-2027 Budget - Nurse Total Salary and Benefit Costs
A3: Charter School Name:
A5: Only report nurse staff member total salary and benefit expense with an RN's license. Include total cost for these positions, not just the cost for time spent on special education activities. DPI will then use these numbers to confirm the aidable cost identified on the "Categorical Aid Claim" worksheet.
D8: Special | E8: Salary | F8: Benefits | G8: Salary | H8: Benefits
C9: Full Name of Staff Member | D9: Education | E9: Funded by | F9: =+E9 -> Funded by | G9: Funded by | H9: Funded by | I9: Total Salary &
C10: As Identified on "Categorical Aid Claim" | D10: Assignment | E10: Local Money | F10: Local Money | G10: Grant Money | H10: Grant Money | I10: Benefits Paid
B11: 1 | D11: Nurse | E11: 0 | F11: 0 | G11: 0 | H11: 0 | I11: =SUM(E11:H11) -> 0
B12: =+B11+1 -> 2 | D12: Nurse | E12: 0 | F12: 0 | G12: 0 | H12: 0 | I12: =SUM(E12:H12) -> 0
B13: =+B12+1 -> 3 | D13: Nurse | E13: 0 | F13: 0 | G13: 0 | H13: 0 | I13: =SUM(E13:H13) -> 0
B14: =+B13+1 -> 4 | D14: Nurse | E14: 0 | F14: 0 | G14: 0 | H14: 0 | I14: =SUM(E14:H14) -> 0
B15: =+B14+1 -> 5 | D15: Nurse | E15: 0 | F15: 0 | G15: 0 | H15: 0 | I15: =SUM(E15:H15) -> 0
B16: =+B15+1 -> 6 | D16: Nurse | E16: 0 | F16: 0 | G16: 0 | H16: 0 | I16: =SUM(E16:H16) -> 0
B17: =+B16+1 -> 7 | D17: Nurse | E17: 0 | F17: 0 | G17: 0 | H17: 0 | I17: =SUM(E17:H17) -> 0
B18: =+B17+1 -> 8 | D18: Nurse | E18: 0 | F18: 0 | G18: 0 | H18: 0 | I18: =SUM(E18:H18) -> 0
B19: =+B18+1 -> 9 | D19: Nurse | E19: 0 | F19: 0 | G19: 0 | H19: 0 | I19: =SUM(E19:H19) -> 0
B20: =+B19+1 -> 10 | D20: Nurse | E20: 0 | F20: 0 | G20: 0 | H20: 0 | I20: =SUM(E20:H20) -> 0
C21: TOTAL Salary and Benefits | E21: =SUM(E11:E20) -> 0 | F21: =SUM(F11:F20) -> 0 | G21: =SUM(G11:G20) -> 0 | H21: =SUM(H11:H20) -> 0 | I21: =SUM(I11:I20) -> 0
H22: Salary | I22: Benefits | J22: Total | K22: You may find this useful: These formulas calculate the individual's actual amount to transfer to the salary and benefit columns on the Aid Claim Form. Copy the formula if there is > 1 employee - but remember to change the gross salary & benefit cell formulas.
C23: Total Nurse Exp: | D23: =I21 -> 0 | F23: Total Nurse Exp: | G23: =D23 -> 0 | H23: =+E11 -> 0 | I23: =+F11 -> 0 | J23: =+H23+I23 -> 0
C24: * percentage | D24: =Instructions!C76 -> 0.29 | F24: Minus Grant Funds: | G24: =SUM(G21:H21) -> 0 | H24: =D24 -> 0.29 | I24: =D24 -> 0.29 | J24: =D24 -> 0.29
C25: Maximum Aidable Cost Possible | D25: =D23*D24 -> 0 | F25: Total Local Exp. | G25: =G23-G24 -> 0 | H25: =+H23*H24 -> 0 | I25: =+I23*I24 -> 0 | J25: =+J23*J24 -> 0
J26: =+H25+I25 -> 0
C28: Maximum Amount to be Claimed for Nurse Positions on Categorical Aid Claim Worksheet: | G28: =IF(G25>D25,D25,G25) -> 0

Sheet Psychologist
A1: 2026-2027 Budget - Psychologist Total Salary and Benefit Costs
A3: Charter School Name:
A5: Only report psychologist staff member total salary and benefit expense with a position #55, #58, #61, or #62 license. Include total cost for these positions, not just the cost for time spent on special education activities. DPI will then use these numbers to confirm the aidable cost identified on the "Categorical Aid Claim" worksheet.
D9: Special | E9: Salary | F9: Benefits | G9: Salary | H9: Benefits
C10: Full Name of Staff Member | D10: Education | E10: Funded by | F10: =+E10 -> Funded by | G10: Funded by | H10: Funded by | I10: Total Salary &
C11: As Identified on "Categorical Aid Claim" | D11: Assignment | E11: Local Money | F11: Local Money | G11: Grant Money | H11: Grant Money | I11: Benefits Paid
B12: 1 | D12: Psychologist | E12: 0 | F12: 0 | G12: 0 | H12: 0 | I12: =SUM(E12:H12) -> 0
B13: =+B12+1 -> 2 | D13: Psychologist | E13: 0 | F13: 0 | G13: 0 | H13: 0 | I13: =SUM(E13:H13) -> 0
B14: =+B13+1 -> 3 | D14: Psychologist | E14: 0 | F14: 0 | G14: 0 | H14: 0 | I14: =SUM(E14:H14) -> 0
B15: =+B14+1 -> 4 | D15: Psychologist | E15: 0 | F15: 0 | G15: 0 | H15: 0 | I15: =SUM(E15:H15) -> 0
B16: =+B15+1 -> 5 | D16: Psychologist | E16: 0 | F16: 0 | G16: 0 | H16: 0 | I16: =SUM(E16:H16) -> 0
B17: =+B16+1 -> 6 | D17: Psychologist | E17: 0 | F17: 0 | G17: 0 | H17: 0 | I17: =SUM(E17:H17) -> 0
B18: =+B17+1 -> 7 | D18: Psychologist | E18: 0 | F18: 0 | G18: 0 | H18: 0 | I18: =SUM(E18:H18) -> 0
B19: =+B18+1 -> 8 | D19: Psychologist | E19: 0 | F19: 0 | G19: 0 | H19: 0 | I19: =SUM(E19:H19) -> 0
B20: =+B19+1 -> 9 | D20: Psychologist | E20: 0 | F20: 0 | G20: 0 | H20: 0 | I20: =SUM(E20:H20) -> 0
B21: =+B20+1 -> 10 | D21: Psychologist | E21: 0 | F21: 0 | G21: 0 | H21: 0 | I21: =SUM(E21:H21) -> 0
C22: TOTAL Salary and Benefits | E22: =SUM(E12:E21) -> 0 | F22: =SUM(F12:F21) -> 0 | G22: =SUM(G12:G21) -> 0 | H22: =SUM(H12:H21) -> 0 | I22: =SUM(I12:I21) -> 0
H23: Salary | I23: Benefits | J23: Total | K23: You may find this useful: These formulas calculate the individual's actual amount to transfer to the salary and benefit columns on the Aid Claim Form. Copy the formula if there is > 1 employee - but remember to change the gross salary & benefit cell formulas.
C24: Total Psych Exp: | D24: =I22 -> 0 | F24: Total Psych Exp: | G24: =D24 -> 0 | H24: =+E12 -> 0 | I24: =+F12 -> 0 | J24: =+H24+I24 -> 0
C25: * percentage | D25: =Instructions!C77 -> 0.84 | F25: Minus Grant Funds | G25: =SUM(G22:H22) -> 0 | H25: =D25 -> 0.84 | I25: =D25 -> 0.84 | J25: =D25 -> 0.84
C26: Maximum Aidable Cost Possible | D26: =D24*D25 -> 0 | F26: Total Local Exp. | G26: =G24-G25 -> 0 | H26: =+H24*H25 -> 0 | I26: =+I24*I25 -> 0 | J26: =+J24*J25 -> 0
J27: =+H26+I26 -> 0
B29: Maximum Amount to be Claimed for Psychologist Positions on Categorical Aid Claim Worksheet: | G29: =IF(G26>D26,D26,G26) -> 0

Sheet values
A2: Position | B2: Assignment | C2: Wisc Act 221
A3: Teacher | B3: EC | C3: Social Worker
A4: Program Coordinator | B4: H | C4: Guidance Counselor
A5: Long-Term Sub Teacher | B5: HB | C5: Nurse
A6: Short-Term Sub Teacher | B6: SL | C6: Psychologist
A7: Aide | B7: V
A8: Substitute Aide | B8: EBD
A9: School Social Worker | B9: CD
A10: School Guidance Counselor | B10: OHI
A11: School Nurse | B11: OI
A12: School Psychologist | B12: LD
A13: Occupational Therapist | B13: CC
A14: Physical Therapist | B14: Asst
A15: Director | B15: Sub
B16: SW
B17: Guid
B18: Nursing
B19: Psych
B20: OT
B21: PT
B22: LS
C27: Assignment | D27: function
B28: Aide-Asst | C28: Asst | D28: 159100
B29: Teacher-CC | C29: CC | D29: 158000
B30: Teacher-CD | C30: CD | D30: 158000
B31: Teacher-EBD | C31: EBD | D31: 158000
B32: Teacher-EC | C32: EC | D32: 152000
B33: School Guidance Counselor | C33: Guid | D33: 213000
B34: Teacher-H | C34: H | D34: 156100
B35: Teacher-HB | C35: HB | D35: 156200
B36: Teacher-LD | C36: LD | D36: 158000
B37: Director | C37: LS | D37: 223300
B38: Program Coordinator | C38: LS | D38: 223300
B39: School Nurse | C39: Nursing | D39: 214000
... B48: Teacher-V | C48: V | D48: 156700
