Workbook

Sheet Summary
A1: Curriculum Request Summary Sheet | F1: 2026-2027
A2: Name | E2: Date: | J2: Select
A3: Grade | J3: Yes
A4: Parent
A5: Consultant | C5: Choose Consultant
A6: Filled | B6: Qty | C6: Product # | D6: Title | E6: Grade | F6: Vendor | G6: Subject | H6: Cost | I6: Total
B7: =Art!A25 -> 0 | C7: =Art!B25 -> HL-ART | D7: Kindergarten art materials | E7: =Art!D25 -> K only | F7: =Art!E25 -> 0 | G7: =Art!F25 -> Art | H7: =Art!G25 -> 0 | I7: =Art!H25 -> 0
B8: ='High School'!A4 -> 0 | C8: ='High School'!B4 -> 9781264320219 | D8: ='High School'!C4 -> CUS Glencoe Health Student Edition | E8: ='High School'!D4 -> 9 | F8: ='High School'!E4 -> McGraw Hill | G8: ='High School'!F4 -> Health
B9: ='High School'!A5 -> 0 | C9: ='High School'!B5 -> 9781264320233 | D9: ='High School'!C5 -> CUS Glencoe Health Teacher Edition | E9: ='High School'!D5 -> 9 | F9: ='High School'!E5 -> McGraw Hill | G9: ='High School'!F5 -> Health
B10: ='High School'!A8 -> 0 | C10: ='High School'!B8 -> 003999 | D10: ='High School'!C8 -> Art of Problem Solving Algebra | E10: ='High School'!D8 -> 0 | F10: ='High School'!E8 -> Rainbow Resource | G10: ='High School'!F8 -> Math
B11: ='High School'!A9 -> 0 | C11: ='High School'!B9 -> 002304 | D11: ='High School'!C9 -> Art of Problem Solving Algebra Solutions Manual | E11: ='High School'!D9 -> 0 | F11: ='High School'!E9 -> Rainbow Resource | G11: ='High School'!F9 -> Math
B12: ='High School'!A11 -> 0 | C12: ='High School'!B11 -> 004640 | D12: ='High School'!C11 -> Art of Problem Solving Geometry | E12: ='High School'!D11 -> 0 | F12: ='High School'!E11 -> Rainbow Resource | G12: ='High School'!F11 -> Math
B13: ='High School'!A12 -> 0 | C13: ='High School'!B12 -> 004638 | D13: ='High School'!C12 -> Art of Problem Solving Geometry Solutions Manual | E13: ='High School'!D12 -> 0 | F13: ='High School'!E12 -> Rainbow Resource | G13: ='High School'!F12 -> Math
B14: ='High School'!A14 -> 0 | C14: ='High School'!B14 -> 052330 | D14: ='High School'!C14 -> Envisions Algebra Set | E14: ='High School'!D14 -> 0 | F14: ='High School'!E14 -> Rainbow Resource | G14: ='High School'!F14 -> Math
B15: ='High School'!A16 -> 0 | C15: ='High School'!B16 -> Digital Access | D15: ='High School'!C16 -> ALEKS Pre Algebra | E15: ='High School'!D16 -> 0 | F15: ='High School'!E16 -> ALEKS | G15: ='High School'!F16 -> Math
B16: ='High School'!A17 -> 0 | C16: ='High School'!B17 -> Digital Access | D16: ='High School'!C17 -> ALEKS Algebra | E16: ='High School'!D17 -> 0 | F16: ='High School'!E17 -> ALEKS | G16: ='High School'!F17 -> Math
B17: ='High School'!A18 -> 0 | C17: ='High School'!B18 -> Digital Access | D17: ='High School'!C18 -> ALEKS Geometry | E17: ='High School'!D18 -> 0 | F17: ='High School'!E18 -> ALEKS | G17: ='High School'!F18 -> Math
B18: ='High School'!A19 -> 0 | C18: ='High School'!B19 -> Digital Access | D18: ='High School'!C19 -> ALEKS Algebra 2 | E18: ='High School'!D19 -> 0 | F18: ='High School'!E19 -> ALEKS | G18: ='High School'!F19 -> Math
B19: ='High School'!A21 -> 0 | C19: ='High School'!B21 -> 0 | D19: ='High School'!C21 -> Teaching Textbooks Algebra 1 Textbook and Answer Key | E19: ='High School'!D21 -> 0 | F19: ='High School'!E21 -> Teaching Textbooks | G19: ='High School'!F21 -> Math
B20: ='High School'!A22 -> 0 | C20: ='High School'!B22 -> Digital Access | D20: ='High School'!C22 -> Teaching Textbooks Algebra 1 Online Access | E20: ='High School'!D22 -> 0 | F20: ='High School'!E22 -> Teaching Textbooks | G20: ='High School'!F22 -> Math
B21: ='High School'!A24 -> 0 | C21: ='High School'!B24 -> 0 | D21: ='High School'!C24 -> Teaching Textbooks Algebra 2 Textbook and Answer Key | E21: ='High School'!D24 -> 0 | F21: ='High School'!E24 -> Teaching Textbooks | G21: ='High School'!F24 -> Math
B22: ='High School'!A25 -> 0 | C22: ='High School'!B25 -> Digital Access | D22: ='High School'!C25 -> Teaching Textbooks Algebra 2 Online Access | E22: ='High School'!D25 -> 0 | F22: ='High School'!E25 -> Teaching Textbooks | G22: ='High School'!F25 -> Math
B23: ='High School'!A27 -> 0 | C23: ='High School'!B27 -> 0 | D23: ='High School'!C27 -> Teaching Textbooks Geometry Textbook and Answer Key | E23: ='High School'!D27 -> 0 | F23: ='High School'!E27 -> Teaching Textbooks | G23: ='High School'!F27 -> Math
B24: ='High School'!A28 -> 0 | C24: ='High School'!B28 -> Digital Access | D24: ='High School'!C28 -> Teaching Textbooks Geometry Online Access | E24: ='High School'!D28 -> 0 | F24: ='High School'!E28 -> Teaching Textbooks | G24: ='High School'!F28 -> Math
B25: ='High School'!A31 -> 0 | C25: ='High School'!B31 -> IHP | D25: ='High School'!C31 -> I - American History I Package INCLUDES: Books Consumables- History Parent Guide (IHB-PGB), History Student Guide (IHB-PGB) *MUST ORDER REQUIRED RESOURCES SEPERATELY | E25: ='High School'!D31 -> 9 | F25: ='High School'!E31 -> Bookshark | G25: ='High School'!F31 -> History
B26: ='High School'!A32 -> 0 | C26: ='High School'!B32 -> IHB-PG | D26: ='High School'!C32 -> I - American History Parent Guide (extra) | E26: ='High School'!D32 -> 9 | F26: ='High School'!E32 -> Bookshark | G26: ='High School'!F32 -> History
B27: ='High School'!A33 -> 0 | C27: ='High School'!B33 -> IHB-SG | D27: ='High School'!C33 -> I - American History Student Guide (extra) | E27: ='High School'!D33 -> 9 | F27: ='High School'!E33 -> Bookshark | G27: ='High School'!F33 -> History
B28: ='High School'!A34 -> 0 | C28: ='High School'!B34 -> STOCK | D28: ='High School'!C34 -> I - BOOKS ONLY - American History | E28: ='High School'!D34 -> 9 | F28: ='High School'!E34 -> 0 | G28: ='High School'!F34 -> History
B29: ='High School'!A37 -> 0 | C29: ='High School'!B37 -> 9781423646365 | D29: ='High School'!C37 -> Washington Journey Student Textbook | E29: ='High School'!D37 -> 7 | F29: ='High School'!E37 -> Gibbs Smith | G29: ='High School'!F37 -> Social Studies
B30: ='High School'!A38 -> 0 | C30: ='High School'!B38 -> PDF | D30: ='High School'!C38 -> Washington Journey Teacher's Guide (PDF) | E30: ='High School'!D38 -> 7 | F30: ='High School'!E38 -> Gibbs Smith | G30: ='High School'!F38 -> Social Studies
B31: ='High School'!A41 -> 0 | C31: ='High School'!B41 -> ILLA | D31: ='High School'!C41 -> I - Literature & Language Arts I Package INCLUDES: Books Consumables- American Historical Literature & Language Arts I Student Guide (ILB-SG) and Parent Guide (ILB-PG) *MUST ORDER REQUIRED RESOURCES SEPERATELY | E31: ='High School'!D41 -> 0 | F31: ='High School'!E41 -> Bookshark | G31: ='High School'!F41 -> LA
B32: ='High School'!A42 -> 0 | C32: ='High School'!B42 -> ILB-SG | D32: ='High School'!C42 -> I - American Historical Literature & Language Arts Student Guide (extra) | E32: ='High School'!D42 -> 0 | F32: ='High School'!E42 -> Bookshark | G32: ='High School'!F42 -> LA
B33: ='High School'!A43 -> 0 | C33: ='High School'!B43 -> ILB-PG | D33: ='High School'!C43 -> I - American Historical Literature & Language Arts Parent Guide (extra) | E33: ='High School'!D43 -> 0 | F33: ='High School'!E43 -> Bookshark | G33: ='High School'!F43 -> LA
B34: ='High School'!A44 -> 0 | C34: ='High School'!B44 -> STOCK | D34: ='High School'!C44 -> I - BOOKS ONLY- American Historical Literature | E34: ='High School'!D44 -> 0 | F34: ='High School'!E44 -> 0 | G34: ='High School'!F44 -> LA
B35: ='High School'!A45 -> 0 | C35: ='High School'!B45 -> B-140-35 | D35: ='High School'!C45 -> Wordly Wise 8 book & Answer Key | E35: ='High School'!D45 -> 0 | F35: ='High School'!E45 -> Bookshark | G35: ='High School'!F45 -> LA
B36: ='High School'!A46 -> 0 | C36: ='High School'!B46 -> 140-11 | D36: ='High School'!C46 -> Thinking Analogies B1 | E36: ='High School'!D46 -> 0 | F36: ='High School'!E46 -> Bookshark | G36: ='High School'!F46 -> LA
B37: ='High School'!A48 -> 0 | C37: ='High School'!B48 -> JLLA | D37: ='High School'!C48 -> J-Literature & Language Arts Package *Includes Books Consumables- Classical Literature & Language Arts J Student Guide (JLB-SG) Classical Literature & Language Arts J Parent Guide (JLB-PG) *MUST ORDER REQUIRED RESOURCES SEPERATELY | E37: ='High School'!D48 -> 0 | F37: ='High School'!E48 -> Bookshark | G37: ='High School'!F48 -> LA
B38: ='High School'!A49 -> 0 | C38: ='High School'!B49 -> JLB-SG | D38: ='High School'!C49 -> Classical Literature & Language Arts J Student Guide (JLB-SG) extra | E38: ='High School'!D49 -> 0 | F38: ='High School'!E49 -> Bookshark | G38: ='High School'!F49 -> LA
B39: ='High School'!A50 -> 0 | C39: ='High School'!B50 -> JLB-PG | D39: ='High School'!C50 -> Classical Literature & Language Arts J Parent Guide (JLB-PG) extra | E39: ='High School'!D50 -> 0 | F39: ='High School'!E50 -> Bookshark | G39: ='High School'!F50 -> LA
B40: ='High School'!A51 -> 0 | C40: ='High School'!B51 -> STOCK | D40: ='High School'!C51 -> J - BOOKS ONLY Literature & Language Arts | E40: ='High School'!D51 -> 0 | F40: ='High School'!E51 -> 0 | G40: ='High School'!F51 -> LA
...

Sheet Math
C1: Math
A2: Quantity | B2: Product # | C2: Title | D2: Grade | E2: Vendor | F2: Subject | G2: Cost | H2: TOTAL
B4: MM1CLR | C4: Math Mammoth Light Blue Series Grade 1 Set | D4: 1 | E4: Rainbow Resource | F4: Math | G4: 56.5 | H4: =SUM(Math!$A4*Math!$G4) -> 0
B5: MM2CLR | C5: Math Mammoth Light Blue Series Grade 2 Set | D5: 2 | E5: Rainbow Resource | F5: Math | G5: 60.5 | H5: =SUM(Math!$A5*Math!$G5) -> 0
B6: 24MM3C | C6: Math Mammoth Light Blue Series Grade 3 Set | D6: 3 | E6: Rainbow Resource | F6: Math | G6: 61.95 | H6: =SUM(Math!$A6*Math!$G6) -> 0
B7: MM4CLR | C7: Math Mammoth Light Blue Series Grade 4 Set | D7: 4 | E7: Rainbow Resource | F7: Math | G7: 68.5 | H7: =SUM(Math!$A7*Math!$G7) -> 0
B8: MM5CLR | C8: Math Mammoth Light Blue Series Grade 5 Set | D8: 5 | E8: Rainbow Resource | F8: Math | G8: 74.25 | H8: =SUM(Math!$A8*Math!$G8) -> 0
B9: MM6CLR | C9: Math Mammoth Light Blue Series Grade 6 Set | D9: 6 | E9: Rainbow Resource | F9: Math | G9: 70.75 | H9: =SUM(Math!$A9*Math!$G9) -> 0
B10: MM7CLR | C10: Math Mammoth Light Blue Series Grade 7 Set | D10: 7 | E10: Rainbow Resource | F10: Math | G10: 90.5 | H10: =SUM(Math!$A10*Math!$G10) -> 0
C12: Dimensions Math- Blackline Masters (Use the link to Download- By Grade Level) | D12: K-5 | E12: Singapore Math
B14: DMTKA | C14: Dimensions Math Textbook KA | D14: K | E14: Singapore Math | F14: Math | G14: 14 | H14: =SUM(Math!$A14*Math!$G14) -> 0
B15: DMWKA | C15: Dimensions Math Workbook KA | D15: K | E15: Singapore Math | F15: Math | G15: 14 | H15: =SUM(Math!$A15*Math!$G15) -> 0
B16: DMTGKA | C16: Dimensions Math Teacher's Guide KA | D16: K | E16: Singapore Math | F16: Math | G16: 32 | H16: =SUM(Math!$A16*Math!$G16) -> 0
B17: DMTKB | C17: Dimensions Math Textbook KB | D17: K | E17: Singapore Math | F17: Math | G17: 14 | H17: =SUM(Math!$A17*Math!$G17) -> 0
B18: DMWKB | C18: Dimensions Math Workbook KB | D18: K | E18: Singapore Math | F18: Math | G18: 14 | H18: =SUM(Math!$A18*Math!$G18) -> 0
B19: DMTGKB | C19: Dimensions Math Teacher's Guide KB | D19: K | E19: Singapore Math | F19: Math | G19: 32 | H19: =SUM(Math!$A19*Math!$G19) -> 0
B20: DMTSTK | C20: Dimensions Math Tests K | D20: K | E20: Singapore Math | F20: Math | G20: 14 | H20: =SUM(Math!$A20*Math!$G20) -> 0
C21: Blackline Masters from Singapore- Download by title (free)-Use the link to the right. | D21: K | E21: Singapore Math | F21: Math
B23: DMT1A | C23: Dimensions Math Textbook 1A | D23: 1 | E23: Singapore Math | F23: Math | G23: 14 | H23: =SUM(Math!$A23*Math!$G23) -> 0
B24: DMW1A | C24: Dimensions Math Workbook 1A | D24: 1 | E24: Singapore Math | F24: Math | G24: 14 | H24: =SUM(Math!$A24*Math!$G24) -> 0
B25: DMHIG1A | C25: Dimensions Math Home Instructor's Guide 1A | D25: 1 | E25: Singapore Math | F25: Math | G25: 22 | H25: =SUM(Math!$A25*Math!$G25) -> 0
B26: DMTST1A | C26: Dimensions Math Tests 1A | D26: 1 | E26: Singapore Math | F26: Math | G26: 14 | H26: =SUM(Math!$A26*Math!$G26) -> 0
B27: DMT1B | C27: Dimensions Math Textbook 1B | D27: 1 | E27: Singapore Math | F27: Math | G27: 14 | H27: =SUM(Math!$A27*Math!$G27) -> 0
B28: DMW1B | C28: Dimensions Math Workbook 1B | D28: 1 | E28: Singapore Math | F28: Math | G28: 14 | H28: =SUM(Math!$A28*Math!$G28) -> 0
B29: DMHIG1B | C29: Dimensions Math Home Instructor's Guide 1B | D29: 1 | E29: Singapore Math | F29: Math | G29: 22 | H29: =SUM(Math!$A29*Math!$G29) -> 0
B30: DMTST1B | C30: Dimensions Math Tests 1B | D30: 1 | E30: Singapore Math | F30: Math | G30: 14 | H30: =SUM(Math!$A30*Math!$G30) -> 0
C31: Home Instructor's Printouts Library Singapore: Use link to Download by title (free) | E31: Singapore Math | F31: Math
B33: DMT2A | C33: Dimensions Math Textbook 2A | D33: 2 | E33: Singapore Math | F33: Math | G33: 14 | H33: =SUM(Math!$A33*Math!$G33) -> 0
B34: DMW2A | C34: Dimensions Math Workbook 2A | D34: 2 | E34: Singapore Math | F34: Math | G34: 14 | H34: =SUM(Math!$A34*Math!$G34) -> 0
B35: DMHIG2A | C35: Dimensions Math Home Instructor's Guide 2A | D35: 2 | E35: Singapore Math | F35: Math | G35: 22 | H35: =SUM(Math!$A35*Math!$G35) -> 0
B36: DMTST2A | C36: Dimensions Math Tests 2A | D36: 2 | E36: Singapore Math | F36: Math | G36: 14 | H36: =SUM(Math!$A36*Math!$G36) -> 0
B37: DMT2B | C37: Dimensions Math Textbook 2B | D37: 2 | E37: Singapore Math | F37: Math | G37: 14 | H37: =SUM(Math!$A37*Math!$G37) -> 0
B38: DMW2B | C38: Dimensions Math Workbook 2B | D38: 2 | E38: Singapore Math | F38: Math | G38: 14 | H38: =SUM(Math!$A38*Math!$G38) -> 0
B39: DMHIG2B | C39: Dimensions Math Home Instructor's Guide 2B | D39: 2 | E39: Singapore Math | F39: Math | G39: 22 | H39: =SUM(Math!$A39*Math!$G39) -> 0
B40: DMTST2B | C40: Dimensions Math Tests 2B | D40: 2 | E40: Singapore Math | F40: Math | G40: 14 | H40: =SUM(Math!$A40*Math!$G40) -> 0
B42: DMT3A | C42: Dimensions Math Textbook 3A | D42: 3 | E42: Singapore Math | F42: Math | G42: 14 | H42: =SUM(Math!$A42*Math!$G42) -> 0
B43: DMW3A | C43: Dimensions Math Workbook 3A | D43: 3 | E43: Singapore Math | F43: Math | G43: 14 | H43: =SUM(Math!$A43*Math!$G43) -> 0
B44: DMHIG3A | C44: Dimensions Math Home Instructor's Guide 3A | D44: 3 | E44: Singapore Math | F44: Math | G44: 22 | H44: =SUM(Math!$A44*Math!$G44) -> 0
B45: DMTST3A | C45: Dimensions Math Tests 3A | D45: 3 | E45: Singapore Math | F45: Math | G45: 14 | H45: =SUM(Math!$A45*Math!$G45) -> 0
... B67: DMTST5B | C67: Dimensions Math Tests 5B | D67: 5 | E67: Singapore Math | F67: Math | G67: 14 | H67: =SUM(Math!$A67*Math!$G67) -> 0
...

Sheet Art
C1: Art
A2: Quantity | B2: Product # | C2: Title | D2: Grade | E2: Vendor | F2: Subject | G2: Cost | H2: TOTAL
B4: 010814 | C4: Artistic Pursuits Early Elementary K-3 Book One | D4: K-1 | E4: Rainbow Resource | F4: Art | G4: 52.6 | H4: =SUM((A4)*(G4)) -> 0
B5: APK1AB | C5: Artistic Pursuits Grade K-3 Book 1 Art Supply Bundle | D5: K-1 | E5: Rainbow Resource | F5: Art | G5: 92.5 | H5: =SUM((A5)*(G5)) -> 0
B7: 025852 | C7: Artistic Pursuits Early Elementary K-3 Book Two | D7: 2 | E7: Rainbow Resource | F7: Art | G7: 52.6 | H7: =SUM((A7)*(G7)) -> 0
B8: APK2AB | C8: Artistic Pursuits Grade K-3 Book 2 Art Supply Bundle | D8: 2 | E8: Rainbow Resource | F8: Art | G8: 104.5 | H8: =SUM((A8)*(G8)) -> 0
B10: 013318 | C10: Artistic Pursuits Early Elementary K-3 Book Three | D10: 3 | E10: Rainbow Resource | F10: Art | G10: 52.6 | H10: =SUM((A10)*(G10)) -> 0
B11: APK3AB | C11: Artistic Pursuits Grade K-3 Book 3 Art Supply Bundle | D11: 3 | E11: Rainbow Resource | F11: Art | G11: 96.5 | H11: =SUM((A11)*(G11)) -> 0
B13: 004841 | C13: Artistic Pursuits Elementary 4-5 Book One | D13: 4 | E13: Rainbow Resource | F13: Art | G13: 52.6 | H13: =SUM((A13)*(G13)) -> 0
B14: AP41AB | C14: Artistic Pursuits Grades 4-5 Book 1 Art Supply Bundle | D14: 4 | E14: Rainbow Resource | F14: Art | G14: 39.95 | H14: =SUM((A14)*(G14)) -> 0
B16: 004842 | C16: Artistic Pursuits Elementary 4-5 Book Two | D16: 5 | E16: Rainbow Resource | F16: Art | G16: 52.6 | H16: =SUM((A16)*(G16)) -> 0
B17: AP42AB | C17: Artistic Pursuits Grades 4-5 Book 2 Art Supply Bundle | D17: 5 | E17: Rainbow Resource | F17: Art | G17: 75.95 | H17: =SUM((A17)*(G17)) -> 0
B19: 004843 | C19: Artistic Pursuits Middle School 6-8 Book One | D19: 6-7 | E19: Rainbow Resource | F19: Art | G19: 52.6 | H19: =SUM((A19)*(G19)) -> 0
B20: APM1AB | C20: Artistic Pursuits Middle School Book 1 Art Supply Bundle | D20: 6-7 | E20: Rainbow Resource | F20: Art | G20: 44.75 | H20: =SUM((A20)*(G20)) -> 0
... B23: APM2AB | C23: Artistic Pursuits Middle School Book 2 Art Supply Bundle | D23: 7-8 | E23: Rainbow Resource | F23: Art | G23: 92.95 | H23: =SUM((A23)*(G23)) -> 0
B25: HL-ART | C25: Kindergarten art materials | D25: K only | F25: Art | H25: =SUM((A25)*(G25)) -> 0
B27: 048015 | C27: Atelier Online Art Level 1 | D27: PreK-1 | E27: Rainbow Resource | F27: Art | G27: 149 | H27: =SUM((A27)*(G27)) -> 0
B28: 048021 | C28: Atelier Online Art Level 2 | D28: K-3 | E28: Rainbow Resource | F28: Art | G28: 149 | H28: =SUM((A28)*(G28)) -> 0
B29: 048039 | C29: Atelier Online Art Level 3 | D29: 1-5 | E29: Rainbow Resource | F29: Art | G29: 149 | H29: =SUM((A29)*(G29)) -> 0
B30: 048062 | C30: Atelier Online Art Level 4 | D30: 2-5 | E30: Rainbow Resource | F30: Art | G30: 149 | H30: =SUM((A30)*(G30)) -> 0
B31: 048063 | C31: Atelier Online Art Level 5 | D31: 3-8 | E31: Rainbow Resource | F31: Art | G31: 149 | H31: =SUM((A31)*(G31)) -> 0
B32: 048095 | C32: Atelier Online Art Level 6 | D32: 4-10 | E32: Rainbow Resource | F32: Art | G32: 149 | H32: =SUM((A32)*(G32)) -> 0
B33: 048106 | C33: Atelier Online Art Level 7 | D33: 5-11 | E33: Rainbow Resource | F33: Art | G33: 149 | H33: =SUM((A33)*(G33)) -> 0
B34: 048126 | C34: Atelier Online Art Level 8 | D34: 7-12 | E34: Rainbow Resource | F34: Art | G34: 149 | H34: =SUM((A34)*(G34)) -> 0
C35: Atelier Basic Art Supply Kit | D35: All | E35: Arts Attack | F35: Art | G35: 74
B37: 013884 | C37: Artistic Pursuits K-3 Volume 1 (Visual Vocabulary) | D37: K-3 | E37: Rainbow Resource | F37: Art | G37: 54.45 | H37: =SUM((A37)*(G37)) -> 0
B38: APK3V1 | C38: Artistic Pursuits K-3 Volume 1 (Supply Starter Bundle) | D38: K-3 | E38: Rainbow Resource | F38: Art | G38: 64.95 | H38: =SUM((A38)*(G38)) -> 0
B40: 013923 | C40: Artistic Pursuits K-3 Volume 2 (Art of The Ancients) | D40: K-3 | E40: Rainbow Resource | F40: Art | G40: 54.45 | H40: =SUM((A40)*(G40)) -> 0
B41: APK3V2 | C41: Artistic Pursuits K-3 Volume 2 (Art Supply Bundle) | D41: K-3 | E41: Rainbow Resource | F41: Art | G41: 45.5 | H41: =SUM((A41)*(G41)) -> 0
B43: 013959 | C43: Artistic Pursuits K-3 Volume 3 (Art of the Middle Ages) | D43: K-3 | E43: Rainbow Resource | F43: Art | G43: 54.45 | H43: =SUM((A43)*(G43)) -> 0
B44: APK3V3 | C44: Artistic Pursuits K-3 Volume 3 (Art Supply Bundle) | D44: K-3 | E44: Rainbow Resource | F44: Art | G44: 51.3 | H44: =SUM((A44)*(G44)) -> 0
B46: 013960 | C46: Artistic Pursuits K-3 Volume 4 (Artists that Shaped the Italian Renaissance) | D46: K-3 | E46: Rainbow Resource | F46: Art | G46: 54.45 | H46: =SUM((A46)*(G46)) -> 0
B47: APK3V4 | C47: Artistic Pursuits K-3 Volume 4 (Art Supply Bundle) | D47: K-3 | E47: Rainbow Resource | F47: Art | G47: 48.95 | H47: =SUM((A47)*(G47)) -> 0
B49: 034550 | C49: Artistic Pursuits K-3 Volume 5 (Renaissance to Realism) | D49: K-3 | E49: Rainbow Resource | F49: Art | G49: 54.45 | H49: =SUM((A49)*(G49)) -> 0
B50: APK3V5 | C50: Artistic Pursuits K-3 Volume 5 (Art Supply Bundle) | D50: K-3 | E50: Rainbow Resource | F50: Art | G50: 38.5 | H50: =SUM((A50)*(G50)) -> 0
B52: 034573 | C52: Artistic Pursuits K-3 Volume 6 (Art of the Impressionists) | D52: K-3 | E52: Rainbow Resource | F52: Art | G52: 54.45 | H52: =SUM((A52)*(G52)) -> 0
B53: APK3V6 | C53: Artistic Pursuits K-3 Volume 6 (Art Supply Kit) | D53: K-3 | E53: Rainbow Resource | F53: Art | G53: 59.95 | H53: =SUM((A53)*(G53)) -> 0
... B59: APK3V8 | C59: Artistic Pursuits K-3 Volume 8 (Supply Bundle) | D59: K-3 | E59: Rainbow Resource | F59: Art | G59: 37.75 | H59: =SUM((A59)*(G59)) -> 0
B61: 003464 | C61: Draw-Write-Now Book 1 | E61: Rainbow Resource | F61: Art | G61: 12.95 | H61: =SUM((A61)*(G61)) -> 0
B62: 003466 | C62: Draw-Write-Now Book 2 | E62: Rainbow Resource | F62: Art | G62: 12.95 | H62: =SUM((A62)*(G62)) -> 0
...

Sheet Social Studies
C1: Social Studies
A2: Quantity | B2: Product # | C2: Title | D2: Grade | E2: Vendor | F2: Subject | G2: Cost | H2: TOTAL
B4: 9781423646365 | C4: Washington Journey Student Textbook | D4: 7 | E4: Gibbs Smith | F4: Social Studies | G4: 52.95
C5: Washington Journey Teacher's Guide | D5: 7 | E5: Gibbs Smith | F5: Social Studies | G5: 259.75
C7: Studies Weekly K: My World | D7: K | E7: Studies Weekly | F7: Social Studies
C8: Studies Weekly 1: The World Around Me | D8: 1 | E8: Studies Weekly | F8: Social Studies
C9: Studies Weekly 2: Connecting Communities | D9: 2 | E9: Studies Weekly | F9: Social Studies
C10: Studies Weekly 3: Our Community | D10: 3 | E10: Studies Weekly | F10: Social Studies
C11: Studies Weekly 4: Washington Our State | D11: 4 | E11: Studies Weekly | F11: Social Studies
C12: Studies Weekly 5: Our Nation | D12: 5 | E12: Studies Weekly | F12: Social Studies
C13: Studies Weekly 6: World History | D13: 6 | E13: Studies Weekly | F13: Social Studies
B15: 076288 | C15: History Quest: Early Times and Usborne Encyclopedia of World History | D15: 1-6 | E15: Rainbow Resource | F15: History | G15: 28.85 | H15: =SUM('Social Studies'!$A15*G15) -> 0
B16: 076428 | C16: History Quest: Early Times Study Guide | D16: 1-6 | E16: Rainbow Resource | F16: History | G16: 48.95 | H16: =SUM('Social Studies'!$A16*G16) -> 0
B17: 078562 | C17: History Quest: Middle Times and Usborne Encyclopedia of World History | D17: 1-6 | E17: Rainbow Resource | F17: History | G17: 28.85 | H17: =SUM('Social Studies'!$A17*G17) -> 0
B18: 078563 | C18: History Quest: Middle Times Study Guide | D18: 1-6 | E18: Rainbow Resource | F18: History | G18: 48.95 | H18: =SUM('Social Studies'!$A18*G18) -> 0
B19: H27 | C19: History Quest: United States | D19: 3-6 | E19: Pandia Press | F19: History
B20: H28 | C20: History Quest: United States Study Guide | D20: 3-6 | E20: Pandia Press | F20: History
B22: 000979 | C22: Usborne Encyclopedia of World History (Any additional books required are the responsibility of the parent) | D22: U | E22: Rainbow Resource | F22: History | G22: 18.99 | H22: =SUM('Social Studies'!$A22*G22) -> 0
B24: 019099 | C24: History Pockets- Colonial America | D24: 4-6 | E24: Rainbow Resource | F24: History | G24: 12.75 | H24: =SUM('Social Studies'!$A24*G24) -> 0
B25: 016040 | C25: History Pockets-American Revolution | D25: 4-6 | E25: Rainbow Resource | F25: History | G25: 12.75 | H25: =SUM('Social Studies'!$A25*G25) -> 0
B26: 019095 | C26: History Pockets-Ancient Civilizations (Ancient Greece, Ancient China, Ancient Egypt) | D26: 1-3 | E26: Rainbow Resource | F26: History | G26: 12.75 | H26: =SUM('Social Studies'!$A26*G26) -> 0
B27: 019096 | C27: History Pockets-Ancient Egypt | D27: 4-6 | E27: Rainbow Resource | F27: History | G27: 12.75 | H27: =SUM('Social Studies'!$A27*G27) -> 0
B28: 019098 | C28: History Pockets-Ancient Greece | D28: 4-6 | E28: Rainbow Resource | F28: History | G28: 12.75 | H28: =SUM('Social Studies'!$A28*G28) -> 0
B29: 016060 | C29: History Pockets-Ancient Rome | D29: 4-6 | E29: Rainbow Resource | F29: History | G29: 12.75 | H29: =SUM('Social Studies'!$A29*G29) -> 0
B30: 016036 | C30: History Pockets-Civil War | D30: 4-6 | E30: Rainbow Resource | F30: History | G30: 12.75 | H30: =SUM('Social Studies'!$A30*G30) -> 0
B31: 019100 | C31: History Pockets-Explorers of North America | D31: 4-6 | E31: Rainbow Resource | F31: History | G31: 12.75 | H31: =SUM('Social Studies'!$A31*G31) -> 0
B32: 019101 | C32: History Pockets-Life in Plymouth Colony (The Thanksgiving Story, Your Life as a Settler in Colonial America, The New Americans) | D32: 1-3 | E32: Rainbow Resource | F32: History | G32: 12.75 | H32: =SUM('Social Studies'!$A32*G32) -> 0
B33: 019102 | C33: History Pockets-Moving West | D33: 4-6 | E33: Rainbow Resource | F33: History | G33: 12.75 | H33: =SUM('Social Studies'!$A33*G33) -> 0
B34: 019103 | C34: History Pockets-Native Americans (The Very First Americans) | D34: 1-3 | E34: Rainbow Resource | F34: History | G34: 12.75 | H34: =SUM('Social Studies'!$A34*G34) -> 0
... B36: 031793 | C36: U.S. Facts and Fun Grades 4-6 | D36: 4-6 | E36: Rainbow Resource | F36: History | G36: 14.75 | H36: =SUM('Social Studies'!$A36*G36) -> 0
B38: 010992 | C38: Story of the World Vol. 1: Ancient Times | E38: Rainbow Resource | F38: History | G38: 12.5 | H38: =SUM('Social Studies'!$A38*G38) -> 0
B39: 010993 | C39: Story of the World Vol.1 Activity Book | E39: Rainbow Resource | F39: History | G39: 24.95 | H39: =SUM('Social Studies'!$A39*G39) -> 0
B40: 025448 | C40: Story of the World Vol. 1 Audiobook CDs | E40: Rainbow Resource | F40: History | G40: 26.95 | H40: =SUM('Social Studies'!$A40*G40) -> 0
B41: 029952 | C41: Story of the World Vol.1 Tests | E41: Rainbow Resource | F41: History | G41: 9.95 | H41: =SUM('Social Studies'!$A41*G41) -> 0
B43: 040707 | C43: Story of the World Vol. 2: Middle Ages | E43: Rainbow Resource | F43: History | G43: 12.5 | H43: =SUM('Social Studies'!$A43*G43) -> 0
B44: 041241 | C44: Story of the World Vol. 2 Activity Book | E44: Rainbow Resource | F44: History | G44: 25.95 | H44: =SUM('Social Studies'!$A44*G44) -> 0
B45: 041242 | C45: Story of the World Vol. 2 Audiobook CDs | E45: Rainbow Resource | F45: History | G45: 28.75 | H45: =SUM('Social Studies'!$A45*G45) -> 0
B46: 041243 | C46: Story of the World Vol. 2 Tests | E46: Rainbow Resource | F46: History | G46: 9.95 | H46: =SUM('Social Studies'!$A46*G46) -> 0
B48: 005652 | C48: Story of the World Vol. 3: Early Modern Times | E48: Rainbow Resource | F48: History | G48: 13.75 | H48: =SUM('Social Studies'!$A48*G48) -> 0
B49: 029797 | C49: Story of the World Vol. 3 Activity Book | E49: Rainbow Resource | F49: History | G49: 26.95 | H49: =SUM('Social Studies'!$A49*G49) -> 0
...

Sheet Science
C1: Science
A2: Quantity | B2: Product # | C2: Title | D2: Grade | E2: Vendor | F2: Subject | G2: Cost | H2: TOTAL
C3: Bookshark Science Link
C4: Moving Beyond the Page Science Link
C5: SCIENCE UNLOCKED- WONDER GRADE 1-4 | E5: Home Science Tools
B7: Set 1 | C7: 1st Grade- Brick by Brick, Keys to Life, See You Around, Super Seeds | D7: 1 | E7: Home Science Tools | F7: Science | G7: 239.99 | H7: 0
C8: 2nd Student Workbooks- Brick by Brick, Keys to Life, See You Around, Super Seeds | F8: Science
B9: Set 2 | C9: 2nd Grade- Go With the Flow, Not So Solid Ground, Parts in Place, Squishy Science | D9: 2 | E9: Home Science Tools | F9: Science
C10: 2nd Student Workbooks- Go With the Flow, Not So Solid Ground, Parts in Place, Squishy Science | F10: Science
B11: Set 3 | C11: 3rd Grade- Blast Off, Brrr to Burrow, Penguin Parenting, Weather Watch | D11: 3 | E11: Home Science Tools | F11: Science
C12: 2nd Student Workbooks- Blast Off, Brrr to Burrow, Penguin Parenting, Weather Watch | F12: Science
B13: Set 4 | C13: 4th Grade- A-Maze-ing Mirrors, Hot and Cold, That's a Sound Idea, The Sun Blocker | D13: 4 | E13: Home Science Tools | F13: Science | G13: 239.99 | H13: 0
C14: 2nd Student Workbooks- A-Maze-ing Mirrors, Hot and Cold, That's a Sound Idea, The Sun Blocker | F14: Science
C15: Optional 4th grade add-ons
B16: SU-FROMHTT | C16: From Here to There (4th) | D16: 4 | E16: Home Science Tools | F16: Science | G16: 34.99
C17: 2nd Student Workbook-From Here to There | D17: 4 | F17: Science
B18: SU-SCCOHMY | C18: Slingshots, Crossbows, and Catapults (4th) | D18: 4 | E18: Home Science Tools | F18: Science | G18: 49.99
C19: 2nd Student Workbook-Slingshots, Crossbows, and Catapults | D19: 4 | F19: Science
C20: Wonder- Biology
B21: SU-SPRSEED | C21: Wonder- Super Seeds (1st) | D21: 1 | E21: Home Science Tools | F21: Science | G21: 39.99 | H21: =SUM((A21)*(G21)) -> 0
C22: 2nd Student Workbook-Super Seeds | F22: Science
B23: SU-PNGPRNT | C23: Wonder- Penguin Parenting (3rd) | D23: 3 | E23: Home Science Tools | F23: Science | G23: 32.99 | H23: 0
C24: 2nd Student Workbook-Penguin Parenting | F24: Science
B25: SU-KEYSLF | C25: Wonder- Keys to Life (1st) | D25: 1 | E25: Home Science Tools | F25: Science | G25: 39.99 | H25: =SUM((A25)*(G25)) -> 0
C26: 2nd Student Workbook-Keys to Life | F26: Science
B27: SU-BRRBUR | C27: Wonder- From Brrr to Burrow (3rd) | D27: 3 | E27: Home Science Tools | F27: Science | G27: 39.99 | H27: =SUM((A27)*(G27)) -> 0
C28: 2nd Student Workbook-From Brrr to Burrow | F28: Science
C29: Wonder- Physics
B30: SU-SUNBLK | C30: Wonder- The Sun Blocker (4th) | D30: 4 | E30: Home Science Tools | F30: Science | G30: 39.99 | H30: =SUM((A30)*(G30)) -> 0
C31: 2nd Student Workbook-The Sun Blocker | F31: Science
B32: SU-SDIDEA | C32: Wonder- That's a Sound Idea (4th) | D32: 4 | E32: Home Science Tools | F32: Science | G32: 34.99 | H32: =SUM((A32)*(G32)) -> 0
C33: 2nd Student Workbook-That's a Sound Idea | F33: Science
B34: SU-BLSTOF | C34: Wonder- Blast Off (3rd) | D34: 3 | E34: Home Science Tools | F34: Science | G34: 44.99 | H34: =SUM((A34)*(G34)) -> 0
C35: 2nd Student Workbook-Blast Off | F35: Science
B36: SU-AMZMIR | C36: Wonder- A-Maze-ing Mirrors (4th) | D36: 4 | E36: Home Science Tools | F36: Science | G36: 52.99 | H36: =SUM((A36)*(G36)) -> 0
C37: 2nd Student Workbook- A-Maze-ing Mirrors | F37: Science
C38: Wonder- Chemistry | H38: =SUM((A38)*(G38)) -> 0
B39: SU-SQSHSCI | C39: Wonder- Squishy Science (2nd) | D39: 2 | E39: Home Science Tools | F39: Science | G39: 39.99 | H39: =SUM((A39)*(G39)) -> 0
C40: 2nd Student Workbook-Squishy Science | F40: Science
B41: SU-PARTIN | C41: Wonder- Parts In Place (2nd) | D41: 2 | E41: Home Science Tools | F41: Science | G41: 44.99 | H41: =SUM((A41)*(G41)) -> 0
...

Sheet Spelling
C1: Spelling
A2: Quantity | B2: Product # | C2: Title | D2: Grade | E2: Vendor | F2: Subject | G2: Cost | H2: TOTAL
B4: 030381 | C4: *Letter Tiles-required one time per household. Includes items for all levels of spelling. | D4: all | E4: Rainbow Resource | F4: LA - Spelling | G4: 25.95 | H4: =SUM((A4)*(G4)) -> 0
B6: 030356 | C6: All About Spelling Level 1 Materials Teacher and Student | D6: 1 | E6: Rainbow Resource | F6: LA - Spelling | G6: 64.95 | H6: =SUM((A6)*(G6)) -> 0
B7: 030359 | C7: Extra All About Spelling Level 1 Student Materials (2nd student) | D7: 1 | E7: Rainbow Resource | F7: LA - Spelling | G7: 45.95 | H7: =SUM((A7)*(G7)) -> 0
B8: 030366 | C8: All About Spelling Level 2 Materials Teacher and Student | D8: 2 | E8: Rainbow Resource | F8: LA - Spelling | G8: 69.95 | H8: =SUM((A8)*(G8)) -> 0
B9: 030369 | C9: Extra All About Spelling Level 2 Student Materials (2nd student) | D9: 2 | E9: Rainbow Resource | F9: LA - Spelling | G9: 49.95 | H9: =SUM((A9)*(G9)) -> 0
B10: 021167 | C10: All About Spelling Level 3 Materials Teacher and Student | D10: 3 | E10: Rainbow Resource | F10: LA - Spelling | G10: 47.95 | H10: =SUM((A10)*(G10)) -> 0
B11: 021257 | C11: Extra All About Spelling Level 3 Student Materials (2nd student) | D11: 3 | E11: Rainbow Resource | F11: LA - Spelling | G11: 27.95 | H11: =SUM((A11)*(G11)) -> 0
B12: 035638 | C12: All About Spelling Level 4 Materials Teacher and Student | D12: 4 | E12: Rainbow Resource | F12: LA - Spelling | G12: 49.95 | H12: =SUM((A12)*(G12)) -> 0
B13: 035637 | C13: Extra All About Spelling Level 4 Student Materials (2nd student) | D13: 4 | E13: Rainbow Resource | F13: LA - Spelling | G13: 27.95 | H13: =SUM((A13)*(G13)) -> 0
B14: 016582 | C14: All About Spelling Level 5 Materials Teacher and Student | D14: 5 | E14: Rainbow Resource | F14: LA - Spelling | G14: 49.95 | H14: =SUM((A14)*(G14)) -> 0
B15: 047973 | C15: Extra All About Spelling Level 5 Student Materials (2nd student) | D15: 5 | E15: Rainbow Resource | F15: LA - Spelling | G15: 27.95 | H15: =SUM((A15)*(G15)) -> 0
B16: 016648 | C16: All About Spelling Level 6 Materials Teacher and Student | D16: 6 | E16: Rainbow Resource | F16: LA - Spelling | G16: 49.95 | H16: =SUM((A16)*(G16)) -> 0
... B57: 2061 | C57: Extra SpellingYou See: Modern Milestones Student Pack (2nd student) | D57: G | E57: Math U See | F57: LA - Spelling | G57: 52 | H57: =SUM((A57)*(G57)) -> 0
G59: TOTAL | H59: =SUM(H3:H58) -> 0

Sheet Writing
C1: Writing
A2: Quantity | B2: Product # | C2: Title | D2: Grade | E2: Vendor | F2: Subject | G2: Cost | H2: TOTAL
C3: BUILDING WRITERS
B4: 053054 | C4: Building Writers A (Handwriting without Tears) | D4: K | E4: Rainbow Resource | F4: Writing | G4: 11.95 | H4: =SUM((A4)*(G4)) -> 0
B5: 053209 | C5: Writing Journal A | D5: K | E5: Rainbow Resource | F5: Writing | G5: 5.5 | H5: =SUM((A5)*(G5)) -> 0
B7: 053055 | C7: Building Writers B (Handwriting Without Tears) | D7: 1 | E7: Rainbow Resource | F7: Writing | G7: 11.95 | H7: =SUM((A7)*(G7)) -> 0
B8: 053211 | C8: Writing Journal B | D8: 1 | E8: Rainbow Resource | F8: Writing | G8: 5.5 | H8: =SUM((A8)*(G8)) -> 0
B10: 053056 | C10: Building Writers C (Handwriting Without Tears) | D10: 2 | E10: Rainbow Resource | F10: Writing | G10: 11.95 | H10: =SUM((A10)*(G10)) -> 0
B11: 053212 | C11: Writing Journal C | D11: 2 | E11: Rainbow Resource | F11: Writing | G11: 5.5 | H11: =SUM((A11)*(G11)) -> 0
B13: 053057 | C13: Building Writers D (Handwriting Without Tears) | D13: 3 | E13: Rainbow Resource | F13: Writing | G13: 11.95 | H13: =SUM((A13)*(G13)) -> 0
B14: 053213 | C14: Writing Journal D | D14: 3 | E14: Rainbow Resource | F14: Writing | G14: 5.5 | H14: =SUM((A14)*(G14)) -> 0
B16: 053068 | C16: Building Writers E (Handwriting Without Tears) | D16: 4 | E16: Rainbow Resource | F16: Writing | G16: 11.95 | H16: =SUM((A16)*(G16)) -> 0
B17: 053214 | C17: Writing Journal E | D17: 4 | E17: Rainbow Resource | F17: Writing | G17: 5.5 | H17: =SUM((A17)*(G17)) -> 0
B19: 053079 | C19: Building Writers F (Handwriting Without Tears) | D19: 5 | E19: Rainbow Resource | F19: Writing | G19: 11.95 | H19: =SUM((A19)*(G19)) -> 0
B20: 053215 | C20: Writing Journal F | D20: 5 | E20: Rainbow Resource | F20: Writing | G20: 5.5 | H20: =SUM((A20)*(G20)) -> 0
... B27: LWOT5S | C27: 5th Grade Student Bundle: CDC + BW-F-WJ-F (Includes Handwriting) | D27: 5 | E27: Rainbow Resource | F27: Writing | G27: 29.95 | H27: =SUM((A27)*(G27)) -> 0
C29: DAILY 6-TRAIT WRITING
B30: 076874 | C30: Daily 6-Trait Writing Grade 1 + Student Practice Book | D30: 1 | E30: Rainbow Resource | F30: Writing
B31: 076875 | C31: Daily 6-Trait Writing Grade 2 + Student Practice Book | D31: 2 | E31: Rainbow Resource | F31: Writing
B32: 076876 | C32: Daily 6-Trait Writing Grade 3 + Student Practice Book | D32: 3 | E32: Rainbow Resource | F32: Writing
B33: 076877 | C33: Daily 6-Trait Writing Grade 4 + Student Practice Book | D33: 4 | E33: Rainbow Resource | F33: Writing
B34: 076878 | C34: Daily 6-Trait Writing Grade 5 + Student Practice Book | D34: 5 | E34: Rainbow Resource | F34: Writing
B35: 076879 | C35: Daily 6-Trait Writing Grade 6 + Student Practice Book | D35: 6 | E35: Rainbow Resource | F35: Writing
C37: ESSENTIALS IN WRITING
C38: Level 1 Writing and Assessments: Digital and Print | D38: 1 | E38: Essentials in Writing | F38: Writing | G38: 129
B39: Print Only | C39: Additional Writing Textbooks (extra student only) | D39: 1 | E39: Essentials in Writing | F39: Writing | G39: 39
B40: Print Only | C40: Additional Assessment Booklet (extra student only) | D40: 1 | E40: Essentials in Writing | F40: Writing | G40: 29
C42: Level 2 Writing and Assessments: Digital and Print | D42: 2 | E42: Essentials in Writing | F42: Writing | G42: 129
B43: Print Only | C43: Additional Writing Textbooks (extra student only) | D43: 2 | E43: Essentials in Writing | F43: Writing | G43: 39
B44: Print Only | C44: Additional Assessment Booklet (extra student only) | D44: 2 | E44: Essentials in Writing | F44: Writing | G44: 29
C46: Level 3 Writing and Assessments: Digital and Print | D46: 3 | E46: Essentials in Writing | F46: Writing | G46: 129
B47: Print Only | C47: Additional Writing Textbooks (extra student only) | D47: 3 | E47: Essentials in Writing | F47: Writing | G47: 39
B48: Print Only | C48: Additional Assessment Booklet (extra student only) | D48: 3 | E48: Essentials in Writing | F48: Writing | G48: 29
C50: Level 4 Writing and Assessments: Digital and Print | D50: 4 | E50: Essentials in Writing | F50: Writing | G50: 129
B51: Print Only | C51: Additional Writing Textbooks (extra student only) | D51: 4 | E51: Essentials in Writing | F51: Writing | G51: 39
B52: Print Only | C52: Additional Assessment Booklet (extra student only) | D52: 4 | E52: Essentials in Writing | F52: Writing | G52: 29
C54: Level 5 Writing and Assessments: Digital and Print | D54: 5 | E54: Essentials in Writing | F54: Writing | G54: 129
B55: Print Only | C55: Additional Writing Textbooks (extra student only) | D55: 5 | E55: Essentials in Writing | F55: Writing | G55: 39
B56: Print Only | C56: Additional Assessment Booklet (extra student only) | D56: 5 | E56: Essentials in Writing | F56: Writing | G56: 29
C58: Level 6 Writing and Assessments: Digital and Print | D58: 6 | E58: Essentials in Writing | F58: Writing | G58: 129
...

Sheet Handwriting
C1: Handwriting
A2: Quantity | B2: Product # | C2: Title | D2: Grade | E2: Vendor | F2: Subject | G2: Cost | H2: TOTAL
B4: 007454 | C4: Letters and Numbers for Me Workbook | D4: K | E4: Rainbow Resource | F4: LA - Handwriting | G4: 14.95 | H4: =SUM((A4)*(G4)) -> 0
B5: 007450 | C5: Letters and Numbers for Me Teacher's Guide | D5: K | E5: Rainbow Resource | F5: LA - Handwriting | G5: 28.95 | H5: =SUM((A5)*(G5)) -> 0
B7: 007472 | C7: My Printing Book | D7: 1 | E7: Rainbow Resource | F7: LA - Handwriting | G7: 14.95 | H7: =SUM((A7)*(G7)) -> 0
B8: 007357 | C8: My Printing Book Teacher's Guide | D8: 1 | E8: Rainbow Resource | F8: LA - Handwriting | G8: 28.95 | H8: =SUM((A8)*(G8)) -> 0
B10: 007486 | C10: Printing Power (2nd grade) | D10: 2 | E10: Rainbow Resource | F10: LA - Handwriting | G10: 14.95 | H10: =SUM((A10)*(G10)) -> 0
B11: 007362 | C11: Printing Power Teacher's Guide (2nd grade) | D11: 2 | E11: Rainbow Resource | F11: LA - Handwriting | G11: 28.95 | H11: =SUM((A11)*(G11)) -> 0
B12: 023420 | C12: Cursive Kick Off | D12: 2 | E12: Rainbow Resource | F12: LA - Handwriting | G12: 14.95 | H12: =SUM((A12)*(G12)) -> 0
B14: 007396 | C14: Cursive Handwriting (3rd grade) | D14: 3 | E14: Rainbow Resource | F14: LA - Handwriting | G14: 14.95 | H14: =SUM((A14)*(G14)) -> 0
B15: 007371 | C15: Cursive Handwriting Teacher's Guide (3rd grade) | D15: 3 | E15: Rainbow Resource | F15: LA - Handwriting | G15: 28.95 | H15: =SUM((A15)*(G15)) -> 0
B17: 007409 | C17: Cursive Success | D17: 4 | E17: Rainbow Resource | F17: LA - Handwriting | G17: 14.95 | H17: =SUM((A17)*(G17)) -> 0
B18: 007372 | C18: Cursive Success Teacher's Guide | D18: 4 | E18: Rainbow Resource | F18: LA - Handwriting | G18: 28.95 | H18: =SUM((A18)*(G18)) -> 0
B20: 035575 | C20: Can-Do Cursive | D20: 5 | E20: Rainbow Resource | F20: LA - Handwriting | G20: 14.95 | H20: =SUM((A20)*(G20)) -> 0
... B28: 036216 | C28: Spectrum Handwriting- Cursive | D28: K-5 | E28: Rainbow Resource | F28: LA - Handwriting | G28: 5.95 | H28: =SUM((A28)*(G28)) -> 0
B30: PHM2CS | C30: Logic of English Rhythm of Handwriting Manuscript | E30: Logic of English | F30: LA - Handwriting | G30: 59.36 | H30: =SUM((A30)*(G30)) -> 0
B31: PHC2CS | C31: Logic of English Rhythm of Handwriting Cursive | E31: Logic of English | F31: LA - Handwriting | G31: 59.36 | H31: =SUM((A31)*(G31)) -> 0
G32: TOTAL | H32: =SUBTOTAL(109,H3:H31) -> 0

Sheet Reading Instruction
C1: Reading Instruction
A2: Quantity | B2: Product # | C2: Title | D2: Grade | E2: Vendor | F2: Subject | G2: Cost | H2: TOTAL
B4: 030381 | C4: *Letter Tiles-required one time per household. Includes items for all levels of reading. | D4: all | E4: Rainbow Resource | F4: LA - Reading | G4: 25.95 | H4: =SUM((A4)*(G4)) -> 0
B6: 031688 | C6: All About Reading Pre Reading | D6: pre-k | E6: Rainbow Resource | F6: LA - Reading | G6: 119.95 | H6: =SUM((A6)*(G6)) -> 0
B8: 066253 | C8: All About Reading Level 1 Set (Includes Student Pack) | D8: k | E8: Rainbow Resource | F8: LA - Reading | G8: 159.95 | H8: =SUM((A8)*(G8)) -> 0
B9: 066254 | C9: EXTRA All About Reading Level 1 Student Packet EXTRA | D9: k | E9: Rainbow Resource | F9: LA - Reading | G9: 67.95 | H9: =SUM((A9)*(G9)) -> 0
B11: 055128 | C11: All About Reading Level 2 Set(Includes Student Pack) | D11: 1 | E11: Rainbow Resource | F11: LA - Reading | G11: 159.95 | H11: =SUM((A11)*(G11)) -> 0
B12: 055129 | C12: EXTRA All About Reading Level 2 Student Packet EXTRA | D12: 1 | E12: Rainbow Resource | F12: LA - Reading | G12: 67.95 | H12: =SUM((A12)*(G12)) -> 0
B14: 011236 | C14: All About Reading Level 3 Set (Includes student pack) | D14: 2 | E14: Rainbow Resource | F14: LA - Reading | G14: 159.95 | H14: =SUM((A14)*(G14)) -> 0
B15: 011260 | C15: EXTRA All About Reading Level 3 Student Packet EXTRA | D15: 2 | E15: Rainbow Resource | F15: LA - Reading | G15: 67.95 | H15: =SUM((A15)*(G15)) -> 0
B17: 007398 | C17: All About Reading Level 4 Set (Includes student pack) | D17: 3 | E17: Rainbow Resource | F17: LA - Reading | G17: 159.95 | H17: =SUM((A17)*(G17)) -> 0
B18: 007290 | C18: EXTRA All About Reading Level 4 Student Packet EXTRA | D18: 3 | E18: Rainbow Resource | F18: LA - Reading | G18: 67.95 | H18: =SUM((A18)*(G18)) -> 0
B20: PFASSM2 | C20: Logic of English Foundations A set w/manuscript | E20: Logic of English | F20: LA - Reading | G20: 179.89 | H20: =SUM((A20)*(G20)) -> 0
B21: stock | C21: Second Student LOE A manuscipt workbook
B22: PFASSM2 | C22: Logic of English Foundations A set w/cursive | E22: Logic of English | F22: LA - Reading | G22: 179.89 | H22: =SUM((A22)*(G22)) -> 0
B23: stock | C23: Second Student LOE A cursive workbook
B24: digital | C24: Foundations Online Supplement | E24: Logic of English | F24: LA - Reading | G24: 39.99 | H24: =SUM((A24)*(G24)) -> 0
B26: PFBSM2 | C26: Logic of English Foundations B set w/manuscript | E26: Logic of English | F26: LA - Reading | G26: 95.36 | H26: =SUM((A26)*(G26)) -> 0
B27: stock | C27: Second Student LOE B manuscript workbook
B28: PFBSM2 | C28: Logic of English Foundations B set w/cursive | E28: Logic of English | F28: LA - Reading | G28: 95.36 | H28: =SUM((A28)*(G28)) -> 0
B29: stock | C29: Second Student LOE B Cursive workbook
B30: digital | C30: Foundations Online Supplement | E30: Logic of English | F30: LA - Reading | G30: 39.99 | H30: =SUM((A30)*(G30)) -> 0
B32: PFCS2 | C32: Logic of English Foundations C set | E32: Logic of English | F32: LA - Reading | G32: 116.95 | H32: =SUM((A32)*(G32)) -> 0
B33: stock | C33: Second Student LOE C workbook
B34: digital | C34: Foundations Online Supplement | E34: Logic of English | F34: LA - Reading | G34: 39.99 | H34: =SUM((A34)*(G34)) -> 0
B36: PFDS | C36: Logic of English Foundations D set *needs literature set | E36: Logic of English | F36: LA - Reading | G36: 97.16 | H36: =SUM((A36)*(G36)) -> 0
B37: stock | C37: Second Student LOE D workbook
B38: PCLFD | C38: Foundations D Children's Literature Set: Polar Opposites Little Bear Should I Share My Ice Cream The Big Blue Book of Beginner Books A Fish Out of Water Ling & Ting Henry and Mudge Mr. Putter & Tabby Pour the Tea Frog and Toad Together Dodsworth in New York Upstairs Mouse, Downstairs Mole | E38: Logic of English | F38: LA - Reading | G38: 80.9 | H38: =SUM((A38)*(G38)) -> 0
B39: digital | C39: Foundations Online Supplement | E39: Logic of English | F39: LA - Reading | G39: 39.99 | H39: =SUM((A39)*(G39)) -> 0
B41: PERS2P | C41: Logic of English Essential Reader Set- NEEDED FOR ESSENTIAL LEVELS | E41: Logic of English | F41: LA
B42: stock | C42: Essential Reader Workbook only
B44: PE2S2MP | C44: Logic of English Essentials 1-7 w/spelling set - manuscript | E44: Logic of English | F44: LA | G44: 202.37 | H44: =SUM((A44)*(G44)) -> 0
B45: PE2S2MP | C45: Logic of English Essentials 1-7 w/spelling set - cursive | E45: Logic of English | F45: LA | G45: 202.37 | H45: =SUM((A45)*(G45)) -> 0
B46: stock | C46: Essential 1-7 Workbook Only
B47: digital | C47: Essentials Online Supplement | E47: Logic of English | F47: LA
G48: 53.97 | H48: =SUM((A41)*(G48)) -> 0
B49: PE2S2P | C49: Logic of English Essentials 8-15 Set | E49: Logic of English | F49: LA | G49: 75.57 | H49: =SUM((A49)*(G49)) -> 0
B50: stock | C50: Essential 8-15 Workbook Only
B51: digital | C51: Essentials Online Supplement | E51: Logic of English | F51: LA
B53: PE2S3P | C53: Logic of English Essentials 16-22 Set | E53: Logic of English | F53: LA | G53: 75.57 | H53: =SUM((A53)*(G53)) -> 0
...

Sheet Vocabulary
C1: Vocabulary
A2: Quantity | B2: Product # | C2: Title | D2: Grade | E2: Vendor | F2: Subject | G2: Cost | H2: TOTAL
B4: 032569 | C4: Evan-Moor Vocabulary Fundamentals Grade 1 | D4: 1 | E4: Rainbow Resource | F4: LA - Vocabulary | G4: 17.15 | H4: =SUM((A4)*(G4)) -> 0
B5: 032570 | C5: Evan-Moor Vocabulary Fundamentals Grade 2 | D5: 2 | E5: Rainbow Resource | F5: LA - Vocabulary | G5: 17.15 | H5: =SUM((A5)*(G5)) -> 0
B6: 032603 | C6: Evan-Moor Vocabulary Fundamentals Grade 3 | D6: 3 | E6: Rainbow Resource | F6: LA - Vocabulary | G6: 17.15 | H6: =SUM((A6)*(G6)) -> 0
B7: 032609 | C7: Evan-Moor Vocabulary Fundamentals Grade 4 | D7: 4 | E7: Rainbow Resource | F7: LA - Vocabulary | G7: 17.15 | H7: =SUM((A7)*(G7)) -> 0
B8: 032631 | C8: Evan-Moor Vocabulary Fundamentals Grade 6 | D8: 6 | E8: Rainbow Resource | F8: LA - Vocabulary | G8: 18.5 | H8: =SUM((A8)*(G8)) -> 0
B10: 001943 | C10: Spectrum Vocabulary Grade 3 | D10: 3 | E10: Rainbow Resource | F10: LA - Vocabulary | G10: 8.25 | H10: =SUM((A10)*(G10)) -> 0
B11: 001947 | C11: Spectrum Vocabulary Grade 4 | D11: 4 | E11: Rainbow Resource | F11: LA - Vocabulary | G11: 8.25 | H11: =SUM((A11)*(G11)) -> 0
B12: 001950 | C12: Spectrum Vocabulary Grade 5 | D12: 5 | E12: Rainbow Resource | F12: LA - Vocabulary | G12: 8.25 | H12: =SUM((A12)*(G12)) -> 0
B13: 001955 | C13: Spectrum Vocabulary Grade 6 | D13: 6 | E13: Rainbow Resource | F13: LA - Vocabulary | G13: 8.25 | H13: =SUM((A13)*(G13)) -> 0
B15: 068840 | C15: Wordly Wise 3000 Student Book 3 4th Edition | D15: 3 | E15: Rainbow Resource | F15: LA - Vocabulary | G15: 12.95 | H15: =SUM((A15)*(G15)) -> 0
B16: 068828 | C16: Wordly Wise 3000 4th Edition Key Book | D16: 3 | E16: Rainbow Resource | F16: LA - Vocabulary | G16: 6.95 | H16: =SUM((A16)*(G16)) -> 0
B17: 068841 | C17: Wordly Wise 3000 Student Book 4 | D17: 4 | E17: Rainbow Resource | F17: LA - Vocabulary | G17: 12.95 | H17: =SUM((A17)*(G17)) -> 0
B18: 068829 | C18: Wordly Wise 3000 Book 4 Answer Key | D18: 4 | E18: Rainbow Resource | F18: LA - Vocabulary | G18: 6.95 | H18: =SUM((A18)*(G18)) -> 0
B19: 051001 | C19: Wordly Wise 3000 Student Book 5 | D19: 5 | E19: Rainbow Resource | F19: LA - Vocabulary | G19: 12.95 | H19: =SUM((A19)*(G19)) -> 0
B20: 068830 | C20: Wordly Wise 3000 Book 5 Answer Key | D20: 5 | E20: Rainbow Resource | F20: LA - Vocabulary | G20: 6.95 | H20: =SUM((A20)*(G20)) -> 0
B21: 068843 | C21: Wordly Wise 3000 4th Edition Student Book 6 | D21: 6 | E21: Rainbow Resource | F21: LA - Vocabulary | G21: 12.95 | H21: =SUM((A21)*(G21)) -> 0
B22: 068831 | C22: Wordly Wise 3000 4th Edition Key Book 6 | D22: 6 | E22: Rainbow Resource | F22: LA - Vocabulary | G22: 6.95 | H22: =SUM((A22)*(G22)) -> 0
B23: 068844 | C23: Wordly Wise 3000 Student Book 7 | D23: 7 | E23: Rainbow Resource | F23: LA - Vocabulary | G23: 12.95 | H23: =SUM((A23)*(G23)) -> 0
B24: 068832 | C24: Wordly Wise 3000 4th Edition Key Book 7 | D24: 7 | E24: Rainbow Resource | F24: LA - Vocabulary | G24: 6.95 | H24: =SUM((A24)*(G24)) -> 0
B25: 068845 | C25: Wordly Wise 3000 Student Book 8 | D25: 8 | E25: Rainbow Resource | F25: LA - Vocabulary | G25: 12.95 | H25: =SUM((A25)*(G25)) -> 0
B26: 068833 | C26: Wordly Wise 3000 4th Edition Key Book 8 | D26: 8 | E26: Rainbow Resource | F26: LA - Vocabulary | G26: 6.95 | H26: =SUM((A26)*(G26)) -> 0
B27: 068846 | C27: Wordly Wise 3000 4th Edition Student Book 9 | D27: 9 | E27: Rainbow Resource | F27: LA - Vocabulary | G27: 12.95 | H27: =SUM((A27)*(G27)) -> 0
B28: 068834 | C28: Wordly Wise 3000 4th Edition Key Book 9 | D28: 9 | E28: Rainbow Resource | F28: LA - Vocabulary | G28: 6.95 | H28: =SUM((A28)*(G28)) -> 0
G29: TOTAL | H29: =SUBTOTAL(109,H3:H28) -> 0

Sheet Grammar
C1: Grammar
A2: Quantity | B2: Product # | C2: Title | D2: Grade | E2: Vendor | F2: Subject | G2: Cost | H2: TOTAL
B4: 028764 | C4: Language Fundamentals Grade 1 | D4: 1 | E4: Rainbow Resource | F4: LA - Multiple | G4: 20.5 | H4: =SUM((A4)*(G4)) -> 0
B5: 028812 | C5: Language Fundamentals Grade 2 | D5: 2 | E5: Rainbow Resource | F5: LA - Multiple | G5: 20.5 | H5: =SUM((A5)*(G5)) -> 0
B6: 028840 | C6: Language Fundamentals Grade 3 | D6: 3 | E6: Rainbow Resource | F6: LA - Multiple | G6: 20.5 | H6: =SUM((A6)*(G6)) -> 0
B7: 028852 | C7: Language Fundamentals Grade 4 | D7: 4 | E7: Rainbow Resource | F7: LA - Multiple | G7: 20.5 | H7: =SUM((A7)*(G7)) -> 0
B8: 028855 | C8: Language Fundamentals Grade 5 | D8: 5 | E8: Rainbow Resource | F8: LA - Multiple | G8: 20.5 | H8: =SUM((A8)*(G8)) -> 0
B9: 028858 | C9: Language Fundamentals Grade 6 | D9: 6 | E9: Rainbow Resource | F9: LA - Multiple | G9: 20.5 | H9: =SUM((A9)*(G9)) -> 0
B11: 015552 | C11: Evan-Moor Grammar & Punctuation Grade 1 | D11: 1 | E11: Rainbow Resource | F11: LA - Grammar | G11: 15.95 | H11: =SUM((A11)*(G11)) -> 0
B12: 015553 | C12: Evan-Moor Grammar & Punctuation Grade 2 | D12: 2 | E12: Rainbow Resource | F12: LA - Grammar | G12: 15.95 | H12: =SUM((A12)*(G12)) -> 0
B13: 015554 | C13: Evan-Moor Grammar & Punctuation Grade 3 | D13: 3 | E13: Rainbow Resource | F13: LA - Grammar | G13: 15.95 | H13: =SUM((A13)*(G13)) -> 0
B14: 015555 | C14: Evan-Moor Grammar & Punctuation Grade 4 | D14: 4 | E14: Rainbow Resource | F14: LA - Grammar | G14: 15.95 | H14: =SUM((A14)*(G14)) -> 0
B15: 015557 | C15: Evan-Moor Grammar & Punctuation Grade 5 | D15: 5 | E15: Rainbow Resource | F15: LA - Grammar | G15: 15.95 | H15: =SUM((A15)*(G15)) -> 0
B16: 015558 | C16: Evan-Moor Grammar & Punctuation Grade 6 | D16: 6 | E16: Rainbow Resource | F16: LA - Grammar | G16: 15.95 | H16: =SUM((A16)*(G16)) -> 0
... B42: 034511 | C42: Grammar Ace Student Book (2nd student) | D42: 4-7 | E42: Rainbow Resource | F42: LA - Grammar | G42: 12 | H42: =SUM((A42)*(G42)) -> 0
B44: 040162 | C44: Blue Book of Grammar & Punctuation | D44: 7-12 | E44: Rainbow Resource | F44: LA - Grammar | G44: 14.5
G45: TOTAL | H45: =SUM(H3:H41) -> 0

Sheet Literature
C1: Literature
A2: Quantity | B2: Product # | C2: Title | D2: Grade | E2: Vendor | F2: Subject | G2: Cost | H2: TOTAL
B4: 014017 | C4: Literature Pockets-Nursery Rhymes Grade K-1 | D4: K-1 | E4: Rainbow Resource | F4: LA - Literature
B5: 029149 | C5: Literature Pockets-Folktales & Fairy Tales Grade K-1 | D5: K-1 | E5: Rainbow Resource | F5: LA - Literature | G5: 12.5 | H5: =SUM((A7)*(G5)) -> 0
B6: 029094 | C6: Literature Pockets-Folktales & Fairy Tales Grade 2-3 | D6: 2-3 | E6: Rainbow Resource | F6: LA - Literature | G6: 11.85 | H6: =SUM((A6)*(G6)) -> 0
B7: 029313 | C7: Literature Pockets-Aesop's Fables Grade 2-3 | D7: 2-3 | E7: Rainbow Resource | F7: LA - Literature | G7: 12.5 | H7: =SUM((A8)*(G7)) -> 0
B8: 029319 | C8: Literature Pockets-Greek & Roman Myths Grade 4-6 | D8: 4-6 | E8: Rainbow Resource | F8: LA - Literature | G8: 12.5 | H8: =SUM((A4)*(G8)) -> 0
B10: 030783 | C10: Five in a Row Vol. 1 (2nd Edition) | D10: K-3 | E10: Rainbow Resource | F10: LA - Literature | G10: 49 | H10: =SUM((A10)*(G10)) -> 0
B11: FIR1CS | C11: Volume 1 Literature Package (Charter) | D11: K-3 | E11: Rainbow Resource | F11: LA - Literature | G11: 189.95 | H11: =SUM((A11)*(G11)) -> 0
B12: 030790 | C12: Five in a Row Vol. 2 (2nd Edition) | D12: K-3 | E12: Rainbow Resource | F12: LA - Literature | G12: 49 | H12: =SUM((A12)*(G12)) -> 0
B13: FIRV2L | C13: Volume 2 Literature Package* | D13: K-3 | E13: Rainbow Resource | F13: LA - Literature | G13: 145.95 | H13: =SUM((A13)*(G13)) -> 0
B14: 030791 | C14: Five in a Row Vol. 3 (2nd Edition) | D14: K-3 | E14: Rainbow Resource | F14: LA - Literature | G14: 49 | H14: =SUM((A14)*(G14)) -> 0
B15: FIARV3 | C15: Volume 3 Literature Package | D15: K-3 | E15: Rainbow Resource | F15: LA - Literature | G15: 107.95 | H15: =SUM((A15)*(G15)) -> 0
B16: 001913 | C16: Five in a Row Vol. 4 (2nd Edition) | D16: 3-5 | E16: Rainbow Resource | F16: LA - Literature | G16: 49 | H16: =SUM((A16)*(G16)) -> 0
B17: FIRV4L | C17: Volume 4 Literature Package | D17: 3-5 | E17: Rainbow Resource | F17: LA - Literature | G17: 58.5 | H17: =SUM((A17)*(G17)) -> 0
B18: 081759 | C18: Five in a Row Vol. 5 | D18: 4-6 | E18: Rainbow Resource | F18: LA - Literature | G18: 49 | H18: =SUM((A18)*(G18)) -> 0
B19: FIR2V5 | C19: Volume 5 Literature Package | D19: 4-6 | E19: Rainbow Resource | F19: LA - Literature | G19: 31.5 | H19: 0
C21: StoryTime Treasures (1st semester) (Little Bear, Make Way for Ducklings, Caps for Sale, Frog and Toad Are Friends, Student and Teacher Guide) | D21: 1 | E21: Memoria Press | F21: LA - Literature | G21: 68.91 | H21: =SUM((A21)*(G21)) -> 0
C22: More StoryTime Treasures (2nd Semester) (Guides, Billy Blaze, Blaze and the Forest Fire, Keep the Lights Burning Abbie, The Story About Ping, Stone Soup, The Little House, Miss Rumphius, Student and Teacher Guides) | D22: 1 | E22: Memoria Press | F22: LA - Literature | G22: 99.88 | H22: =SUM((A22)*(G22)) -> 0
C23: Second Grade Literature Guides and Novels (Prairie School, Animal Folk Tales, The Courage of Sarah Noble, Little House in the Big Woods, Tale of Tom, Tale of Peter Rabbit, Tale of Johnny Town-Mouse, Tale of Benjamin Bunny, Student and Teacher Guides) | D23: 2 | E23: Memoria Press | F23: LA - Literature | G23: 181.38 | H23: =SUM((A23)*(G23)) -> 0
C24: Third Grade Literature Guides and Novels (Farmer Boy, Charlotte's Web, A Bear Called Paddington, Mr. Popper's Penguins, Student and Teacher Guides) | D24: 3 | E24: Memoria Press | F24: LA - Literature | G24: 154.56 | H24: =SUM((A24)*(G24)) -> 0
C25: Fourth Grade Literature Guides and Novels (The Cricket in Times Square, My Side of the Mountain, Blue Fairy Book, Homer Price, Student and Teacher Guides) | D25: 4 | E25: Memoria Press | F25: LA - Literature | G25: 149.47 | H25: =SUM((A25)*(G25)) -> 0
C26: Fifth Grade Literature Guides and Novels (The Lion the Witch and the Wardrobe, Heidi, Lassie Come-Home, Student and Teacher Guides) | D26: 5 | E26: Memoria Press | F26: LA - Literature | G26: 112.67 | H26: =SUM((A26)*(G26)) -> 0
C27: Sixth Grade Literature Guides and Novels (King Arthur and His Knights of the Round Table, Adam of the Road, The Adventures of Robin Hood, The Door in the Wall, Student and Teacher Guides) | D27: 6 | E27: Memoria Press | F27: LA - Literature | G27: 146.56 | H27: =SUM((A27)*(G27)) -> 0
C28: Seventh Grade Literature Guides and Novels (Anne of Green Gables, The Trojan War, The Twenty-One Balloons, The Hobbit, Student and Teacher Guides) | D28: 7 | E28: Memoria Press | F28: LA - Literature | G28: 158.72 | H28: =SUM((A28)*(G28)) -> 0
C29: Eighth Grade Literature Guides and Novels (The Wind in the Willows, The Adventures of Tom Sawyer, Treasure Island, As You Like It, Student and Teacher Guides) | D29: 8 | E29: Memoria Press | F29: LA - Literature | G29: 167.8 | H29: =SUM((A29)*(G29)) -> 0
C32: GRADE 3-4 *Choose 4 per semester
B34: CCP2325 | C34: A Wish in the Dark CCP Guide | D34: 3-4 | E34: Classroom Complete Press | F34: LA - Literature | G34: 12.95
B35: stock | C35: A Wish in the Dark by Christina Soontornvat | D35: 3-4
B37: cc2301 | C37: Because of Winn Dixie CCP Guide | D37: 3-4 | E37: Classroom Complete Press | F37: LA - Literature | G37: 12.95
B38: stock | C38: Because of Winn Dixie by Kate DiCamillo | D38: 3-4
B40: cc2321 | C40: The BFG CCP Guide | D40: 3-4 | E40: Classroom Complete Press | F40: LA - Literature | G40: 12.95
B41: stock810 | C41: The BFG by Roald Dahl | D41: 3-4
B43: 006254 | C43: The Castle in the Attic Novel Units Teacher Guide | D43: 3-5 | E43: Rainbow Resource | F43: LA - Literature | G43: 10.45
B44: 006247 | C44: The Castle in the Attic Novel Units Student Guide | D44: 3-5 | E44: Rainbow Resource | F44: LA - Literature | G44: 10.9
B45: stock | C45: The Castle in the Attic by Elizabeth Winthrop
B47: 046853 | C47: Charlie and the Chocolate Factory CCP Guide | D47: 3-4 | E47: Rainbow Resource | F47: LA - Literature | G47: 8.5
B48: stock50 | C48: Charlie and the Chocolate Factory by Roald Dahl | D48: 3-4
B50: cc2306 | C50: Charlotte's Web CCP Guide | D50: 3-4 | E50: classroom Complete Press | F50: LA - Literature | G50: 12.95
B51: stockB | C51: Charlotte's Web by E.B. White | D51: 3-4
...

Sheet Moving Beyond the Page
C1: Moving Beyond the Page
A2: Quantity | B2: Product # | C2: Title | D2: Grade | E2: Vendor | F2: Subject | G2: Cost | H2: TOTAL
B4: 1625 | C4: 4-5 Full Year Curriculum w/books | D4: Age 4-5 | E4: Moving Beyond the Page | G4: 473.83 | H4: =SUM((A4)*(G4)) -> 0
B5: 1627 | C5: 4-5 Curriculum and Materials Kit (no books) | D5: Age 4-5 | E5: Moving Beyond the Page | G5: 190.38 | H5: =SUM((A5)*(G5)) -> 0
B6: 1639 | C6: 4-5 Consumables Package (2nd student materials) | D6: Age 4-5 | E6: Moving Beyond the Page | G6: 166.99 | H6: =SUM((A6)*(G6)) -> 0
B8: 1 | C8: 5-7 Full Year LA,S,SS Curriculum w/books | D8: Age 5-7 | E8: Moving Beyond the Page | G8: 531.77 | H8: =SUM((A8)*(G8)) -> 0
B9: 461 | C9: 5-7 Consumables Package (2nd student materials) (5-7 Materials Kit, Attribute Blocks, Boiling Point Thermometer, Laminated Calendar) | D9: Age 5-7 | E9: Moving Beyond the Page | G9: 108.77 | H9: =SUM((A9)*(G9)) -> 0
B10: 2172 | C10: 5-7 Full Year Math Package w/books | D10: Age 5-7 | E10: Moving Beyond the Page | G10: 272.35 | H10: =SUM((A10)*(G10)) -> 0
B11: 2203 | C11: 5-7 Math Consumables Package (2nd student materials) (Student workbooks, interactive notebook) | D11: Age 5-7 | E11: Moving Beyond the Page | G11: 41.65 | H11: =SUM((A11)*(G11)) -> 0
H12: =SUM((A12)*(G12)) -> 0
B14: 2 | C14: Concept 1: Environment Package (Boiling Point Thermometer, Crinkleroot's Guide to Knowing Animal Habitats, Me on the Map, Oh Say Can You Say What's the Weather Today, On the Town, The Salamander Room, Up in the Garden and Down in the Dirt, Whatever the Weather, Student Activity Book, Parent Manual) | D14: Age 5-7 | E14: Moving Beyond the Page | G14: 153.91 | H14: =SUM((A14)*(G14)) -> 0
B15: 9 | C15: Concept 2: Similarities and Differences Package (Attribute Blocks, Bar Magnets, A Life Like Mine, My Five Senses, Over and Under the Pond, Shapesville, The Magic School Bus Explores the Senses, Student Activity Book, Parent Manual) | D15: Age 5-7 | E15: Moving Beyond the Page | G15: 145.93 | H15: =SUM((A15)*(G15)) -> 0
B16: 6 | C16: Concept 3: Patterns Package (Attribute Blocks, Laminated Calendar, Bear Hugs, Busy Bugs, Pattern, Student Activity Book, Parent Manual) | D16: Age 5-7 | E16: Moving Beyond the Page | G16: 97.91 | H16: =SUM((A16)*(G16)) -> 0
B17: 12 | C17: Concept 4: Change Package (Changes Happen All Around You, Push and Pull, Seed to Plant, Telling Time, The House on Maple Street, The Raft, The Usborne Time Traveler, What Do You Do With a Problem?) | D17: Age 5-7 | E17: Moving Beyond the Page | G17: 157.87 | H17: =SUM((A17)*(G17)) -> 0
B19: 18 | C19: 6-8 Full Year LA,S,SS Curriculum w/books | D19: Age 6-8 | E19: Moving Beyond the Page | G19: 634.45 | H19: =SUM((A19)*(G19)) -> 0
B20: 460 | C20: 6-8 LA,S,SS Consumables Package (2nd student) (student workbooks) | D20: Age 6-8 | E20: Moving Beyond the Page | G20: 125.77 | H20: =SUM((A20)*(G20)) -> 0
B21: 2210 | C21: 6-8 Full Year Math Package w/books | D21: Age 6-8 | E21: Moving Beyond the Page | G21: 280.42 | H21: =SUM((A21)*(G21)) -> 0
B22: 2224 | C22: 6-8 Math Consumables Package (2nd student) (student workbooks, interactive notebook) | D22: Age 6-8 | E22: Moving Beyond the Page | G22: 41.65 | H22: =SUM((A22)*(G22)) -> 0
H23: =SUM((A23)*(G23)) -> 0
