Workbook
Name Constant: [9]Lists!$M$9:$Q$269
Name CurrDistName: [1]results_menu!$G$9
Name CurrDistName: [1]results_menu!$G$9
Name CurrDistName: #REF!
Name CurrDistName: #REF!
Name CurrentDistrict: [1]results_menu!$G$8
Name CurrentDistrict: [1]results_menu!$G$8
Name CurrentDistrict: #REF!
Name CurrentDistrict: #REF!
Name Edward: #REF!
Name Frank: [2]FY2005!$A$17:$BF$298
Name FY05data: [7]FY2005!$A$17:$BF$298
Name FY05data: #REF!
Name FY05data: [2]FY2005!$A$17:$BF$298
Name FY05data: #REF!
Name FY05data: #REF!
Name FY06data: [7]FY2006!$A$17:$BH$297
Name FY06data: #REF!
Name FY06data: [2]FY2006!$A$17:$BH$297
Name FY06data: #REF!
Name FY06data: #REF!
Name FY07data: [7]FY2007!$A$17:$BF$277
Name FY07data: #REF!
Name FY07data: [2]FY2007!$A$17:$BF$277
Name FY07data: #REF!
Name FY07data: #REF!
Name Jones: [2]Lists!$M$9:$Q$269
Name lists: [7]Lists!$M$9:$Q$269
Name lists: #REF!
Name lists: [2]Lists!$M$9:$Q$269
Name lists: #REF!
Name lists: #REF!
Name listsLEA: [3]Lists!$M$9:$X$310
Name listsLEA: [3]Lists!$M$9:$X$310
Name listsLEA: #REF!
Name listsLEA: #REF!
Name names: [8]Lists!$M$9:$Q$269
Name names: [4]Lists!$M$9:$Q$269
Name names: #REF!
Name names: #REF!
Name TEST: [10]Lists!$M$9:$Q$269
Name TEST: [5]Lists!$M$9:$Q$269
Name TEST: #REF!
Name TEST: #REF!
Name Tomorrow: [6]Lists!$M$9:$Q$269
Name XXXX: [11]Lists!$M$9:$Q$269
Name xxxx: #REF!
Name XXXXX: [11]Lists!$M$9:$Q$269
Name XXXXX: [6]Lists!$M$9:$Q$269
Name XXXXX: #REF!
Name XXXXX: #REF!

Sheet Func Sort
A1: Westminster School District
A2: FY27 Comparative Budget Report
A3: General Fund (1001)
B5: Fund | C5: Loc | D5: Level | E5: Prgm | F5: Rev | G5: Func | H5: Type | I5: Acct | J5: Local | K5: Account | L5: FY25 Budget | M5: FY25 Actual | N5: FY26 Budget | O5: FY27 Budget
K7: Revenue
B8: 1001 | C8: 106 | D8: 11 | E8: 11 | F8: 5 | G8: 0 | H8: 4 | I8: 1510 | J8: 0 | K8: Bank Interest - Mascoma Gen Fund | L8: 0 | M8: 25032.12 | N8: 0 | O8: 15000
B9: 1001 | C9: 106 | D9: 11 | E9: 11 | F9: 5 | G9: 0 | H9: 4 | I9: 5230 | J9: 0 | K9: Prior Year Revenue | L9: 150000 | M9: =150000+131343.14 -> 281343.14 | N9: 100000 | O9: 100000
B10: 1001 | C10: 106 | D10: 51 | E10: 11 | F10: 7 | G10: 0 | H10: 4 | I10: 3110 | J10: 0 | K10: ED Spending Grant | L10: 2350406 | M10: 2457723.9 | N10: 5208124 | O10: 5030255
B11: 1001 | C11: 106 | D11: 51 | E11: 11 | F11: 7 | G11: 0 | H11: 4 | I11: 3110 | J11: 0 | K11: ED Spending Tax | L11: 2865594 | M11: 2758276.1 | N11: 0 | O11: 0
K12: TOTAL REVENUE | L12: 5366000 | M12: =SUM(M8:M11) -> 5522375.3 | N12: 5308124 | O12: 5145255
K14: EXPENDITURES
B15: Fund | C15: Loc | D15: Level | E15: Prgm | F15: Rev | G15: Func | H15: Type | I15: Acct | J15: Local | K15: Description | L15: Budget | M15: Actual | N15: Actual | O15: Actual
K17: Elementary
K18: Pre-Kindergarten
B19: 1001 | C19: 106 | D19: 1 | E19: 11 | F19: 0 | G19: 1101 | H19: 5 | I19: 5620 | J19: 0 | K19: Tuition To Private VT | L19: 81564 | M19: 70466.85 | N19: 78000 | O19: 74495
K20: Total Regular Ed | L20: 81564 | M20: 70466.85 | N20: 78000 | O20: 74495
K22: Direct Instruction
B23: 1001 | C23: 106 | D23: 11 | E23: 11 | F23: 0 | G23: 1101 | H23: 5 | I23: 1110 | J23: 0 | K23: Teacher Salaries | L23: 1115304 | M23: 1154327.1 | N23: 1055759 | O23: 1078482
B24: 1001 | C24: 106 | D24: 11 | E24: 11 | F24: 0 | G24: 1101 | H24: 5 | I24: 1910 | J24: 0 | K24: Stipends | L24: 1500 | M24: 0 | N24: 1500 | O24: 0
B25: 1001 | C25: 106 | D25: 11 | E25: 11 | F25: 0 | G25: 1101 | H25: 5 | I25: 1210 | J25: 0 | K25: Paraeducator Salaries | L25: 55336 | M25: 31580.37 | N25: 58226 | O25: 58473
B26: 1001 | C26: 106 | D26: 11 | E26: 11 | F26: 0 | G26: 1101 | H26: 5 | I26: 1310 | J26: 0 | K26: Substitute | L26: 25000 | M26: 13680 | N26: 25000 | O26: 25000
B27: 1001 | C27: 106 | D27: 11 | E27: 11 | F27: 0 | G27: 1101 | H27: 5 | I27: 2110 | J27: 0 | K27: Health Insurance | L27: 332514 | M27: 279952.33 | N27: 307273 | O27: 300425
B28: 1001 | C28: 106 | D28: 11 | E28: 11 | F28: 0 | G28: 1101 | H28: 5 | I28: 2180 | J28: 0 | K28: HSA | L28: 0 | M28: 0 | N28: 0 | O28: 1900
B29: 1001 | C29: 106 | D29: 11 | E29: 11 | F29: 0 | G29: 1101 | H29: 5 | I29: 2190 | J29: 0 | K29: HRA | L29: 0 | M29: 0 | N29: 0 | O29: 41300
B30: 1001 | C30: 106 | D30: 11 | E30: 11 | F30: 0 | G30: 1101 | H30: 5 | I30: 2200 | J30: 0 | K30: FICA | L30: 89984 | M30: 85339.08 | N30: 85218 | O30: 86976
B31: 1001 | C31: 106 | D31: 11 | E31: 11 | F31: 0 | G31: 1101 | H31: 5 | I31: 2290 | J31: 0 | K31: Childcare Tax | L31: 3882 | M31: 3329.69 | N31: 3678 | O31: 3750
B32: 1001 | C32: 106 | D32: 11 | E32: 11 | F32: 0 | G32: 1101 | H32: 5 | I32: 2320 | J32: 0 | K32: VSTRS - OPEB | L32: 16000 | M32: 56365.95 | N32: 16000 | O32: 23268
B33: 1001 | C33: 106 | D33: 11 | E33: 11 | F33: 0 | G33: 1101 | H33: 5 | I33: 2340 | J33: 0 | K33: VMERS | L33: 3874 | M33: 2202.64 | N33: 4222 | O33: 4239
B34: 1001 | C34: 106 | D34: 11 | E34: 11 | F34: 0 | G34: 1101 | H34: 5 | I34: 2350 | J34: 0 | K34: Retirement Incentive - Local | L34: 7500 | M34: 0 | N34: 7500 | O34: 7500
... B49: 1001 | C49: 106 | D49: 11 | E49: 11 | F49: 0 | G49: 1101 | H49: 5 | I49: 8110 | J49: 0 | K49: Dues & Fees | L49: 2250 | M49: 517.88 | N49: 500 | O49: 500
K50: Total Direct Instruction | L50: 1855253 | M50: 1742358.7 | N50: 1656088 | O50: 1730228
K52: Special Education
B53: 1001 | C53: 106 | D53: 11 | E53: 21 | F53: 0 | G53: 1201 | H53: 5 | I53: 3210 | J53: 0 | K53: Professional Educational Services | L53: 8000 | M53: 0 | N53: 8000 | O53: 0
B54: 1001 | C54: 106 | D54: 11 | E54: 21 | F54: 0 | G54: 1201 | H54: 5 | I54: 5940 | J54: 0 | K54: Special Ed Excess Cost | L54: 20000 | M54: 0 | N54: 20000 | O54: 0
K55: Total Special Ed | L55: 28000 | M55: 0 | N55: 28000 | O55: 0
K57: Co-Curricular
B58: 1001 | C58: 106 | D58: 11 | E58: 11 | F58: 0 | G58: 1501 | H58: 5 | I58: 6110 | J58: 0 | K58: General Supplies | L58: 2000 | M58: 908.01 | N58: 2000 | O58: 2000
B59: 1001 | C59: 106 | D59: 11 | E59: 11 | F59: 0 | G59: 1501 | H59: 5 | I59: 8110 | J59: 0 | K59: Dues & Fees | L59: 15000 | M59: 13935.94 | N59: 15000 | O59: 15000
K60: Total Co-Curricular | L60: 17000 | M60: 14843.95 | N60: 17000 | O60: 17000
K62: Guidance
...

Sheet Func Summary
A1: FY27 Westminster Proposed Budget
A2: General Fund Budget Summary
A4: Revenue
A5: Description | B5: FY25 Budget | C5: FY25 Actual | D5: FY26 Budget | E5: FY27 Budget | F5: Difference
A7: Bank Interest | B7: 0 | C7: 25032.12 | D7: 0 | E7: 15000 | F7: 15000
A8: Prior Year Revenue | B8: 150000 | C8: 281343.14 | D8: 100000 | E8: 100000 | F8: 0
A9: ED Spending Grant | B9: 2350406 | C9: 2457723.9 | D9: 5208124 | E9: 5030255 | F9: -177869
A10: ED Spending Tax | B10: 2865594 | C10: 2758276.1 | D10: 0 | E10: 0 | F10: 0
A11: TOTAL REVENUE | B11: 5366000 | C11: 5522375.3 | D11: 5308124 | E11: 5145255 | F11: -162869
A13: Expenditures
A14: Description | B14: FY25 Budget | C14: FY25 Actual | D14: FY26 Budget | E14: FY27 Budget | F14: Difference
A16: Pre-Kindergarten | B16: 81564 | C16: 70466.85 | D16: 78000 | E16: 74495 | F16: -3505
A17: Direct Instruction | B17: 1855253 | C17: 1742358.7 | D17: 1656088 | E17: 1730228 | F17: 74140
A18: Special Education | B18: 28000 | C18: 0 | D18: 28000 | E18: 0 | F18: -28000
A19: Co-Curricular | B19: 17000 | C19: 14843.95 | D19: 17000 | E19: 17000 | F19: 0
A20: Guidance | B20: 119212 | C20: 120716.51 | D20: 126748 | E20: 131358 | F20: 4610
A21: Health Services | B21: 102523 | C21: 91974.57 | D21: 103614 | E21: 108300 | F21: 4686
A22: Instruction and Curriculum | B22: 10500 | C22: 2567.05 | D22: 3000 | E22: 3000 | F22: 0
A23: Library / Media Services | B23: 122334 | C23: 115777.26 | D23: 127775 | E23: 133454 | F23: 5679
A24: Technology for Instuction | B24: 5750 | C24: 4400 | D24: 5750 | E24: 4800 | F24: -950
A25: Board of Education | B25: 20534 | C25: 29038.17 | D25: 15534 | E25: 45476 | F25: 29942
A26: Office of the Principal | B26: 237269 | C26: 222287.53 | D26: 232293 | E26: 243629 | F26: 11336
A27: Fiscal Services | B27: 0 | C27: 2263.78 | D27: 0 | E27: 0 | F27: 0
... A35: TOTAL EXPENDITURES | B35: 5366000 | C35: 5411386.7 | D35: 5308124 | E35: 5145255 | F35: -162869

Sheet Obj Sort
A1: Westminster School District
A2: FY27 Comparative Budget Report
A3: General Fund (1001)
B5: Fund | C5: Loc | D5: Level | E5: Prgm | F5: Rev | G5: Func | H5: Type | I5: Acct | J5: Local | K5: Account | L5: FY25 Budget | M5: FY26 Budget | N5: FY27 Budget
B7: 1001 | C7: 106 | D7: 11 | E7: 11 | F7: 0 | G7: 1101 | H7: 5 | I7: 1110 | J7: 0 | K7: Teacher Salaries | L7: 1115304 | M7: 1055759 | N7: 1078482
B8: 1001 | C8: 106 | D8: 11 | E8: 11 | F8: 0 | G8: 2120 | H8: 5 | I8: 1110 | J8: 0 | K8: Teacher Salaries | L8: 79123 | M8: 82628 | N8: 84280
B9: 1001 | C9: 106 | D9: 11 | E9: 11 | F9: 0 | G9: 2131 | H9: 5 | I9: 1110 | J9: 0 | K9: Teacher Salaries | L9: 68173 | M9: 70392 | N9: 73016
B10: 1001 | C10: 106 | D10: 11 | E10: 11 | F10: 0 | G10: 2220 | H10: 5 | I10: 1110 | J10: 0 | K10: Teacher Salaries | L10: 75543 | M10: 76792 | N10: 79416
B11: 1001 | C11: 106 | D11: 11 | E11: 12 | F11: 0 | G11: 3300 | H11: 5 | I11: 1110 | J11: 0 | K11: TEACHER SALARIES | L11: 0 | M11: 0 | N11: 8379
B12: 1001 | C12: 106 | D12: 11 | E12: 11 | F12: 0 | G12: 1101 | H12: 5 | I12: 1210 | J12: 0 | K12: Paraeducator Salaries | L12: 55336 | M12: 58226 | N12: 58473
B13: 1001 | C13: 106 | D13: 11 | E13: 12 | F13: 0 | G13: 3300 | H13: 5 | I13: 1210 | J13: 0 | K13: PARAEDUCATOR SALARIES | L13: 0 | M13: 0 | N13: 4992
B14: 1001 | C14: 106 | D14: 11 | E14: 11 | F14: 0 | G14: 1101 | H14: 5 | I14: 1310 | J14: 0 | K14: Substitute | L14: 25000 | M14: 25000 | N14: 25000
B15: 1001 | C15: 106 | D15: 11 | E15: 11 | F15: 0 | G15: 2410 | H15: 5 | I15: 1410 | J15: 0 | K15: Administration Salaries | L15: 103210 | M15: 105274 | N15: 111633
B16: 1001 | C16: 106 | D16: 11 | E16: 11 | F16: 0 | G16: 2410 | H16: 5 | I16: 1610 | J16: 0 | K16: Clerical Salaries | L16: 44943 | M16: 47940 | N16: 50104
B17: 1001 | C17: 106 | D17: 11 | E17: 11 | F17: 0 | G17: 2610 | H17: 5 | I17: 1810 | J17: 0 | K17: Non-Technical Generalist Salaries | L17: 147050 | M17: 167244 | N17: 192468
B18: 1001 | C18: 106 | D18: 11 | E18: 11 | F18: 0 | G18: 1101 | H18: 5 | I18: 1910 | J18: 0 | K18: Stipends | L18: 1500 | M18: 1500 | N18: 0
B19: 1001 | C19: 106 | D19: 11 | E19: 21 | F19: 0 | G19: 2311 | H19: 5 | I19: 1910 | J19: 0 | K19: Other Salaries | L19: 4200 | M19: 4200 | N19: 4600
K20: Wages | L20: =SUM(L7:L19) -> 1719382 | M20: =SUM(M7:M19) -> 1694955 | N20: =SUM(N7:N19) -> 1770843
B22: 1001 | C22: 106 | D22: 11 | E22: 11 | F22: 0 | G22: 1101 | H22: 5 | I22: 2110 | J22: 0 | K22: Health Insurance | L22: 332514 | M22: 307273 | N22: 300425
B23: 1001 | C23: 106 | D23: 11 | E23: 11 | F23: 0 | G23: 2120 | H23: 5 | I23: 2110 | J23: 0 | K23: Health Insurance | L23: 32808 | M23: 36546 | N23: 35117
B24: 1001 | C24: 106 | D24: 11 | E24: 11 | F24: 0 | G24: 2131 | H24: 5 | I24: 2110 | J24: 0 | K24: Health Insurance | L24: 23823 | M24: 22511 | N24: 19695
B25: 1001 | C25: 106 | D25: 11 | E25: 11 | F25: 0 | G25: 2220 | H25: 5 | I25: 2110 | J25: 0 | K25: Health Insurance | L25: 32808 | M25: 36546 | N25: 35117
B26: 1001 | C26: 106 | D26: 11 | E26: 11 | F26: 0 | G26: 2410 | H26: 5 | I26: 2110 | J26: 0 | K26: Health Insurance | L26: 32808 | M26: 34822 | N26: 33247
B27: 1001 | C27: 106 | D27: 11 | E27: 11 | F27: 0 | G27: 2610 | H27: 5 | I27: 2110 | J27: 0 | K27: Health Insurance | L27: 57061 | M27: 58037 | N27: 47794
B28: 1001 | C28: 106 | D28: 11 | E28: 11 | F28: 0 | G28: 1101 | H28: 5 | I28: 2180 | J28: 0 | K28: HSA | L28: 0 | M28: 0 | N28: 1900
B29: 1001 | C29: 106 | D29: 11 | E29: 11 | F29: 0 | G29: 2131 | H29: 5 | I29: 2180 | J29: 0 | K29: HSA | L29: 0 | M29: 0 | N29: 4000
B30: 1001 | C30: 106 | D30: 11 | E30: 11 | F30: 0 | G30: 2410 | H30: 5 | I30: 2180 | J30: 0 | K30: HSA | L30: 0 | M30: 0 | N30: 4000
B31: 1001 | C31: 106 | D31: 11 | E31: 11 | F31: 0 | G31: 1101 | H31: 5 | I31: 2190 | J31: 0 | K31: HRA | L31: 0 | M31: 0 | N31: 41300
B32: 1001 | C32: 106 | D32: 11 | E32: 11 | F32: 0 | G32: 2120 | H32: 5 | I32: 2190 | J32: 0 | K32: HRA | L32: 0 | M32: 0 | N32: 4000
B33: 1001 | C33: 106 | D33: 11 | E33: 11 | F33: 0 | G33: 2220 | H33: 5 | I33: 2190 | J33: 0 | K33: HRA | L33: 0 | M33: 0 | N33: 4000
... B92: 1001 | C92: 106 | D92: 11 | E92: 11 | F92: 0 | G92: 2610 | H92: 5 | I92: 2940 | J92: 0 | K92: Long Term Disablity | L92: 452 | M92: 505 | N92: 489
K93: Benefits | L93: =SUM(L22:L92) -> 728440 | M93: =SUM(M22:M92) -> 713936 | N93: =SUM(N22:N92) -> 786096
B95: 1001 | C95: 106 | D95: 11 | E95: 11 | F95: 0 | G95: 1101 | H95: 5 | I95: 3210 | J95: 0 | K95: Professional Educational Services | L95: 121200 | M95: 10000 | N95: 0
B96: 1001 | C96: 106 | D96: 11 | E96: 21 | F96: 0 | G96: 1201 | H96: 5 | I96: 3210 | J96: 0 | K96: Professional Educational Services | L96: 8000 | M96: 8000 | N96: 0
B97: 1001 | C97: 106 | D97: 11 | E97: 11 | F97: 0 | G97: 2212 | H97: 5 | I97: 3210 | J97: 0 | K97: Professional Educational Services | L97: 2000 | M97: 2000 | N97: 2000
B98: 1001 | C98: 106 | D98: 11 | E98: 21 | F98: 0 | G98: 2311 | H98: 5 | I98: 3410 | J98: 0 | K98: Other Professional Services | L98: 16000 | M98: 11000 | N98: 18584
K99: Contracted Services | L99: =SUM(L95:L98) -> 147200 | M99: =SUM(M95:M98) -> 31000 | N99: =SUM(N95:N98) -> 20584
B101: 1001 | C101: 106 | D101: 11 | E101: 11 | F101: 0 | G101: 2610 | H101: 5 | I101: 4110 | J101: 0 | K101: Utility Services - Water | L101: 2500 | M101: 2750 | N101: 2750
B102: 1001 | C102: 106 | D102: 11 | E102: 11 | F102: 0 | G102: 2610 | H102: 5 | I102: 4210 | J102: 0 | K102: Cleaning Services - West | L102: 0 | M102: 0 | N102: 0
B103: 1001 | C103: 106 | D103: 11 | E103: 11 | F103: 0 | G103: 2610 | H103: 5 | I103: 4220 | J103: 0 | K103: Snow Removal | L103: 11500 | M103: 11500 | N103: 14000
...

Sheet Categories
A1: Westminster School District
A2: Statistics FY2025 - FY2027
A4: District Enrollment
A5: Location | B5: 2024-2025 | C5: 2025-2026* | D5: 2026-2027 | E5: Difference | F5: % Difference
A6: Westminster Elementary | B6: 131 | C6: 123 | D6: 0 | E6: =D6-C6 -> -123 | F6: =E6/C6 -> -1
A7: *Counts as of 12/09/25
A9: Expenditures by Account Category
A10: Category | B10: 2024-2025 | C10: 2025-2026 | D10: 2026-2027 | E10: $ Difference | F10: % Difference
A11: Wages | B11: ='Obj Sort'!L20 -> 1719382 | C11: ='Obj Sort'!M20 -> 1694955 | D11: ='Obj Sort'!N20 -> 1770843 | E11: =D11-C11 -> 75888 | F11: =E11/C11 -> 0.04477287
A12: Benefits | B12: ='Obj Sort'!L93 -> 728440 | C12: ='Obj Sort'!M93 -> 713936 | D12: ='Obj Sort'!N93 -> 786096 | E12: =D12-C12 -> 72160 | F12: =E12/C12 -> 0.10107349
A13: Contracted Services | B13: ='Obj Sort'!L99 -> 147200 | C13: ='Obj Sort'!M99 -> 31000 | D13: ='Obj Sort'!N99 -> 20584 | E13: =D13-C13 -> -10416 | F13: =E13/C13 -> -0.336
A14: Maintenance & Repair | B14: ='Obj Sort'!L112 -> 91050 | C14: ='Obj Sort'!M112 -> 79750 | D14: ='Obj Sort'!N112 -> 93350 | E14: =D14-C14 -> 13600 | F14: =E14/C14 -> 0.17053292
A15: Communications/Insurance/Travel | B15: ='Obj Sort'!L122 -> 24914 | C15: ='Obj Sort'!M122 -> 25068 | D15: ='Obj Sort'!N122 -> 63415 | E15: =D15-C15 -> 38347 | F15: =E15/C15 -> 1.5297192
A16: Tuition | B16: ='Obj Sort'!L128 -> 1145564 | C16: ='Obj Sort'!M128 -> 1142000 | D16: ='Obj Sort'!N128 -> 852694 | E16: =D16-C16 -> -289306 | F16: =E16/C16 -> -0.25333275
A17: Assessments | B17: ='Obj Sort'!L134 -> 1176337 | C17: ='Obj Sort'!M134 -> 1294346 | D17: ='Obj Sort'!N134 -> 1395405 | E17: =D17-C17 -> 101059 | F17: =E17/C17 -> 0.078077268
A18: Books & Supplies | B18: ='Obj Sort'!L146 -> 96169 | C18: ='Obj Sort'!M146 -> 89669 | D18: ='Obj Sort'!N146 -> 86619 | E18: =D18-C18 -> -3050 | F18: =E18/C18 -> -0.034013985
A19: Energy | B19: ='Obj Sort'!L153 -> 90850 | C19: ='Obj Sort'!M153 -> 94250 | D19: ='Obj Sort'!N153 -> 51250 | E19: =D19-C19 -> -43000 | F19: =E19/C19 -> -0.45623342
A20: Equipment/Furniture/Software | B20: ='Obj Sort'!L161 -> 6950 | C20: ='Obj Sort'!M161 -> 9050 | D20: ='Obj Sort'!N161 -> 2875 | E20: =D20-C20 -> -6175 | F20: =E20/C20 -> -0.68232044
A21: Dues & Fees | B21: ='Obj Sort'!L170 -> 22950 | C21: ='Obj Sort'!M170 -> 19100 | D21: ='Obj Sort'!N170 -> 22124 | E21: =D21-C21 -> 3024 | F21: =E21/C21 -> 0.15832461
A22: Debt Service | B22: ='Obj Sort'!L174 -> 96194 | C22: ='Obj Sort'!M174 -> 95000 | D22: ='Obj Sort'!N174 -> 0 | E22: =D22-C22 -> -95000 | F22: =E22/C22 -> -1
A23: Fund Transfers | B23: ='Obj Sort'!L177 -> 20000 | C23: ='Obj Sort'!M177 -> 20000 | D23: ='Obj Sort'!N177 -> 0 | E23: =D23-C23 -> -20000 | F23: =E23/C23 -> -1
A24: Totals | B24: =SUM(B11:B23) -> 5366000 | C24: =SUM(C11:C23) -> 5308124 | D24: =SUM(D11:D23) -> 5145255 | E24: =SUM(E11:E23) -> -162869 | F24: =E24/C24 -> -0.030682968
E25: .
A26: Education Funding Formula Statistics
A27: Statistic | B27: 2024-2025 | C27: 2025-2026 | D27: 2026-2027 | E27: Difference | F27: % Difference
A28: Total Budget | B28: 5366000 | C28: 5308124 | D28: 5145255 | E28: =D28-C28 -> -162869 | F28: =E28/C28 -> -0.030682968
A29: CLA | B29: 0.7683 | C29: 0.9453 | D29: 0.8867 | E29: =D29-C29 -> -0.0586 | F29: =E29/C29 -> -0.061990902
A30: Long Term Weighted Averave (LTW) | B30: 391.39 | C30: 346.85 | D30: 328.4 | E30: =D30-C30 -> -18.45 | F30: =E30/C30 -> -0.053193023
A31: Education Spending per Pupil | B31: 13326.86 | C31: 15015.49 | D31: 15317.463 | E31: =D31-C31 -> 301.97346 | F31: =E31/C31 -> 0.020110796
A32: Homestead Tax Rate | B32: 1.6469 | C32: 1.7479 | D32: 1.8428 | E32: =D32-C32 -> 0.0949 | F32: =E32/C32 -> 0.054293724
A33: * Projected subject to Vermont Legislature changes.
A35: Assessment Comparisons
A36: Assessments Type | B36: 2024-2025 | C36: 2025-2026 | D36: 2026-2027 | E36: $ Difference | F36: % Difference
A37: Tech | F37: #DIV/0!
A38: Early Childhood | B38: ='Obj Sort'!L130 -> 53894 | C38: ='Obj Sort'!M130 -> 99911 | D38: ='Obj Sort'!N130 -> 68576 | E38: =D38-C38 -> -31335 | F38: =E38/C38 -> -0.31362913
A39: Central Office | B39: ='Obj Sort'!L131 -> 675238 | C39: ='Obj Sort'!M131 -> 682614 | D39: ='Obj Sort'!N131 -> 562952 | E39: =D39-C39 -> -119662 | F39: =E39/C39 -> -0.17529966
A40: Food Program | B40: ='Obj Sort'!L132 -> 42579 | C40: ='Obj Sort'!M132 -> 39083 | D40: ='Obj Sort'!N132 -> 73950 | E40: =D40-C40 -> 34867 | F40: =E40/C40 -> 0.89212701
A41: Special Ed | B41: ='Obj Sort'!L133 -> 404626 | C41: ='Obj Sort'!M133 -> 472738 | D41: ='Obj Sort'!N133 -> 689927 | E41: =D41-C41 -> 217189 | F41: =E41/C41 -> 0.45942784
A42: Totals | B42: =SUM(B38:B41) -> 1176337 | C42: =SUM(C38:C41) -> 1294346 | D42: =SUM(D38:D41) -> 1395405 | E42: =SUM(E38:E41) -> 101059 | F42: =E42/C42 -> 0.078077268
