Workbook
Name _1: '0100'!$A$11
Name _1: '0571'!$A$11
Name _1: '1461'!$A$11
Name _1: '1571'!$A$11
Name _1: '2521'!$A$11
Name _1: '2531'!$A$11
Name _1: '2791'!$A$11
Name _1: '2801'!$A$11
Name _1: '2911'!$A$11
Name _1: '2941'!$A$11
Name _1: '3083'!$A$11
Name _1: '3345'!$A$11
Name _1: '3362'!$A$11
Name _1: '3381'!$A$11
Name _1: '3382'!$A$11
Name _1: '3391'!$A$11
Name _1: '3394'!$A$11
Name _1: '3395'!$A$11
Name _1: '3396'!$A$11
Name _1: '3398'!$A$11
Name _1: '3400'!$A$11
Name _1: '3401'!$A$11
Name _1: '3413'!$A$11
Name _1: '3421'!$A$11
Name _1: '3431'!$A$11
Name _1: '3441'!$A$11
Name _1: '3924'!$A$11
Name _1: '3941'!$A$11
Name _1: '3961'!$A$11
Name _1: '3971'!$A$11
Name _1: '4001'!$A$11
Name _1: '4002'!$A$11
Name _1: '4012'!$A$11
Name _1: '4013'!$A$11
Name _1: '4020'!$A$11
Name _1: '4030'!$A$11
Name _1: '4031'!$A$11
Name _1: '4041'!$A$11
Name _1: '4050'!$A$11
Name _1: '4051'!$A$11
Name _1: '4061'!$A$11
Name _1: '4080'!$A$11
Name _1: '4081'!$A$11
Name _1: '4090'!$A$11
Name _1: '4091'!$A$11
Name _1: '4100'!$A$11
Name _1: '4102'!$A$11
Name _1: '4103'!$A$11
Name _1: '4111'!$A$11
Name _1: '4131'!$A$11
Name _1: '0040'!$A$11
Name _1.__2009_10_FEFP_State_and_Local_Funding: '0100'!$A$5
Name _1.__2009_10_FEFP_State_and_Local_Funding: '0571'!$A$5
Name _1.__2009_10_FEFP_State_and_Local_Funding: '1461'!$A$5
Name _1.__2009_10_FEFP_State_and_Local_Funding: '1571'!$A$5
Name _1.__2009_10_FEFP_State_and_Local_Funding: '2521'!$A$5
Name _1.__2009_10_FEFP_State_and_Local_Funding: '2531'!$A$5
Name _1.__2009_10_FEFP_State_and_Local_Funding: '2791'!$A$5
Name _1.__2009_10_FEFP_State_and_Local_Funding: '2801'!$A$5
Name _1.__2009_10_FEFP_State_and_Local_Funding: '2911'!$A$5

Sheet Net Payment
B1: January 2026 - FY 2025 Charter School FTE Payment
B2: =Based_on_the_Second_Calculation_of_the_FEFP_2010_11 -> Based on the 2025-26 Second Calculation Worksheet
B4: School # | C4: School Name | D4: Description | E4: FTE | F4: Adjustments | G4: Net | I4: NOTES TO ALL CHARTER SCHOOLS
A5: 1 | B5: 0040 | C5: Palm Beach Preparatory Middle School | D5: FTE January 2026 | E5: ='0040'!$J$124 -> 24538.63 | G5: =SUBTOTAL(109,E5:F7) -> 24538.63
D6: PY Final FEFP
I7: Please go to the bottom of the page.
A8: 2 | B8: 0571 | C8: Palmetto Park | D8: =D5 -> FTE January 2026 | E8: ='0571'!$J$124 -> 43342.64 | G8: =SUBTOTAL(109,E8:F8) -> 43342.64
A10: 3 | B10: 0100 | C10: The Learning Center High School | D10: =D5 -> FTE January 2026 | E10: ='0100'!$J$124 -> 28707.39 | G10: =SUBTOTAL(109,E10:F12) -> 28707.39
D11: PY Final FEFP
A14: 4 | B14: 1461 | C14: Inlet Grove Community High School | D14: FTE January 2026 | E14: ='1461'!$J$124 -> 659372.2 | G14: =SUBTOTAL(109,E14:F52) -> 581081.73
D15: PY Final FEFP | I15: Please go to the bottom of the page.
D16: Sep Teacher Supplies Retract
D17: PY Digital C/R
D18: PY Dig C/R A/R
D19: PY Class Size Cat.
D20: Class Size Cat.
D21: Transportation | F21: -59325.28
D22: School Police | F22: -14222.22
D23: AT&T | F23: -264.72
D24: Avaya Maintenance | F24: -94.48
D25: LAN & Internet | F25: -90
C26: Ends June 2022 | D26: SWA Fees
D27: FY21 TSIA
D30: WPB-248085
D31: WPB-248086
D32: WPB-248087
D33: WPB-249234
D36: WPB-297918
D37: WPB-303998
D39: WPB-303276 | F39: -450
D40: WPB-310033 | F40: -0.02
D41: WPB-310034 | F41: -281.25
D42: WPB-310035 | F42: -37.5
D43: WPB-310036 | F43: -281.25
D44: WPB-310037 | F44: -300
D45: WPB-310038 | F45: -187.5
D46: WPB-310039 | F46: -618.75
D47: WPB-310040 | F47: -300
D48: WPB-310041 | F48: -600
D49: WPB-310042 | F49: -37.5
...

Sheet Annual Rev & Fees
E4: 0.75 | F4: Admin | G4: Fee % | I4: Annual | M4: Current | Q4: Sec 1 Rev/Fee per FTE | U4: Net Rev Per Sec 1 FTE
D5: H/P | E5: ESE | F5: Fee % | G5: W/O TSIA | I5: Revenue | J5: Rev - TSIA | K5: Admin Fee | L5: Net Revenue | M5: Mth's Pmt | O5: Sec 1 FTE | Q5: Rev | R5: Fee | S5: Net Rev | U5: H/P | V5: 75% ESE | W5: Other
A6: 1 | B6: 0040 | C6: Palm Beach Preparatory Middle School | D6: 0 | F6: =-K6/I6 -> 0.04761597 | G6: =-K6/J6 -> 0.05000001 | I6: ='0040'!$J$107 -> 309791.44 | J6: ='0040'!$J$109 -> 295020.34 | K6: ='0040'!$J$114 -> -14751.02 | L6: ='0040'!$J$116 -> 295040.42 | M6: ='0040'!$J$124 -> 24538.63 | O6: {='0040'!E28:F28} -> 35.4 | P6: 0 | Q6: =I6/O6 -> 8751.1706 | R6: =K6/O6 -> -416.69548 | S6: =L6/O6 -> 8334.4751 | U6: =IF(D6="H",S6,0) -> 0 | V6: =ROUND(IF(E6=1,S6,0),2) -> 0 | W6: =IF(AND(U6=0,V6=0),S6,) -> 8334.4751 | Y6: 24304.65 | Z6: =Y6-M6 -> -233.98
A7: 2 | B7: 0571 | C7: Palmetto Park | F7: =-K7/I7 -> 0.047517962 | G7: =-K7/J7 -> 0.050000008 | I7: ='0571'!$J$107 -> 409544.5 | J7: ='0571'!$J$109 -> 389214.34 | K7: ='0571'!$J$114 -> -19460.72 | L7: ='0571'!$J$116 -> 390083.78 | M7: ='0571'!$J$124 -> 43342.64 | O7: {='0571'!E28:F28} -> 52 | P7: 0 | Q7: =I7/O7 -> 7875.8558 | R7: =K7/O7 -> -374.24462 | S7: =L7/O7 -> 7501.6112 | U7: =IF(D7="H",S7,0) -> 0 | V7: =ROUND(IF(E7=1,S7,0),2) -> 0 | W7: =IF(AND(U7=0,V7=0),S7,) -> 7501.6112 | Y7: 43342.64 | Z7: =Y7-M7 -> 0
A8: 3 | B8: 0100 | C8: The Learning Center Highschool | D8: 0 | E8: 1 | F8: =-K8/I8 -> 0.012176839 | G8: =-K8/J8 -> 0.012720495 | I8: ='0100'!$J$107 -> 323090.41 | J8: ='0100'!$J$109 -> 309282 | K8: ='0100'!$J$114 -> -3934.22 | L8: ='0100'!$J$116 -> 319156.19 | M8: ='0100'!$J$124 -> 28707.39 | O8: {='0100'!E28:F28} -> 11.46 | P8: 0 | Q8: =I8/O8 -> 28192.88 | R8: =K8/O8 -> -343.30017 | S8: =L8/O8 -> 27849.58 | U8: =IF(D8="H",S8,0) -> 0 | V8: =ROUND(IF(E8=1,S8,0),2) -> 27849.58 | W8: =IF(AND(U8=0,V8=0),S8,) -> 0 | Y8: 26847.15 | Z8: =Y8-M8 -> -1860.24
A9: 4 | B9: 1461 | C9: Inlet Grove Community High School | D9: H | F9: =-K9/I9 -> 0.0055905695 | G9: =-K9/J9 -> 0.0058034939 | I9: ='1461'!$J$107 -> 7633887.7 | J9: ='1461'!$J$109 -> 7353808 | K9: ='1461'!$J$114 -> -42677.78 | L9: ='1461'!$J$116 -> 7591209.9 | M9: ='1461'!$J$124 -> 659372.2 | O9: {='1461'!E28:F28} -> 861.55 | P9: 0 | Q9: =I9/O9 -> 8860.6438 | R9: =K9/O9 -> -49.536045 | S9: =L9/O9 -> 8811.1078 | U9: =IF(D9="H",S9,0) -> 8811.1078 | V9: =ROUND(IF(E9=1,S9,0),2) -> 0 | W9: =IF(AND(U9=0,V9=0),S9,) -> 0 | Y9: 529634.37 | Z9: =Y9-M9 -> -129737.83
A10: 5 | B10: 1571 | C10: South Tech Charter Academy | D10: H | F10: =-K10/I10 -> 0.0043592807 | G10: =-K10/J10 -> 0.0045569295 | I10: ='1571'!$J$107 -> 10272240 | J10: ='1571'!$J$109 -> 9826700.1 | K10: ='1571'!$J$114 -> -44779.58 | L10: ='1571'!$J$116 -> 10227461 | M10: ='1571'!$J$124 -> 860836.4 | O10: {='1571'!E28:F28} -> 1097.23 | P10: 0 | Q10: =I10/O10 -> 9361.9756 | R10: =K10/O10 -> -40.81148 | S10: =L10/O10 -> 9321.1641 | U10: =IF(D10="H",S10,0) -> 9321.1641 | V10: =ROUND(IF(E10=1,S10,0),2) -> 0 | W10: =IF(AND(U10=0,V10=0),S10,) -> 0 | Y10: 860856.7 | Z10: =Y10-M10 -> 20.3
A11: 6 | B11: 2521 | C11: Ed Venture | D11: 0 | E11: 1 | F11: =-K11/I11 -> 0.020656297 | G11: =-K11/J11 -> 0.021465409 | I11: ='2521'!$J$107 -> 1352435.5 | J11: ='2521'!$J$109 -> 1301457.2 | K11: ='2521'!$J$114 -> -27936.31 | L11: ='2521'!$J$116 -> 1324499.2 | M11: ='2521'!$J$124 -> 109705.05 | O11: {='2521'!E28:F28} -> 72.7 | P11: 0 | Q11: =I11/O11 -> 18602.964 | R11: =K11/O11 -> -384.26836 | S11: =L11/O11 -> 18218.696 | U11: =IF(D11="H",S11,0) -> 0 | V11: =ROUND(IF(E11=1,S11,0),2) -> 18218.7 | W11: =IF(AND(U11=0,V11=0),S11,) -> 0 | Y11: 109895.2 | Z11: =Y11-M11 -> 190.15
A12: 7 | B12: 2531 | C12: Bodwell Academy | D12: 0 | E12: 1 | F12: =-K12/I12 -> 0.010666195 | G12: =-K12/J12 -> 0.011179931 | I12: ='2531'!$J$107 -> 1642055 | J12: ='2531'!$J$109 -> 1566599.9 | K12: ='2531'!$J$114 -> -17514.48 | L12: ='2531'!$J$116 -> 1624540.6 | M12: ='2531'!$J$124 -> 136859.32 | O12: {='2531'!E28:F28} -> 50.91 | P12: 0 | Q12: =I12/O12 -> 32254.077 | R12: =K12/O12 -> -344.02829 | S12: =L12/O12 -> 31910.049 | U12: =IF(D12="H",S12,0) -> 0 | V12: =ROUND(IF(E12=1,S12,0),2) -> 31910.05 | W12: =IF(AND(U12=0,V12=0),S12,) -> 0 | Y12: 136643.49 | Z12: =Y12-M12 -> -215.83
A13: 8 | B13: 2791 | C13: The Learning Center @ The Els Center of Excl | D13: 0 | E13: 1 | F13: =-K13/I13 -> 0.0096116056 | G13: =-K13/J13 -> 0.010124226 | I13: ='2791'!$J$107 -> 5484663.3 | J13: ='2791'!$J$109 -> 5206958.3 | K13: ='2791'!$J$114 -> -52716.42 | L13: ='2791'!$J$116 -> 5431946.8 | M13: ='2791'!$J$124 -> 455853.95 | O13: {='2791'!E28:F28} -> 164.59 | P13: 0 | Q13: =I13/O13 -> 33323.186 | R13: =K13/O13 -> -320.28932 | S13: =L13/O13 -> 33002.897 | U13: =IF(D13="H",S13,0) -> 0 | V13: =ROUND(IF(E13=1,S13,0),2) -> 33002.9 | W13: =IF(AND(U13=0,V13=0),S13,) -> 0 | Y13: 454340.22 | Z13: =Y13-M13 -> -1513.73
A14: 9 | B14: 2801 | C14: Palm Beach Maritime Academy Elementary | D14: 0 | F14: =-K14/I14 -> 0.020465192 | G14: =-K14/J14 -> 0.021478402 | I14: ='2801'!$J$107 -> 5392643.7 | J14: ='2801'!$J$109 -> 5138254.2 | K14: ='2801'!$J$114 -> -110361.49 | L14: ='2801'!$J$116 -> 5282282.2 | M14: ='2801'!$J$124 -> 441316.79 | O14: {='2801'!E28:F28} -> 581.98 | P14: 0 | Q14: =I14/O14 -> 9266.0293 | R14: =K14/O14 -> -189.63107 | S14: =L14/O14 -> 9076.3982 | U14: =IF(D14="H",S14,0) -> 0 | V14: =ROUND(IF(E14=1,S14,0),2) -> 0 | W14: =IF(AND(U14=0,V14=0),S14,) -> 9076.3982 | Y14: 441316.79 | Z14: =Y14-M14 -> 0
A15: 10 | B15: 2911 | C15: Western Academy Charter School | D15: H | F15: =-K15/I15 -> 0.0067351885 | G15: =-K15/J15 -> 0.007076139 | I15: ='2911'!$J$107 -> 6180564.9 | J15: ='2911'!$J$109 -> 5882766 | K15: ='2911'!$J$114 -> -41627.27 | L15: ='2911'!$J$116 -> 6138937.7 | M15: ='2911'!$J$124 -> 511868.9 | O15: {='2911'!E28:F28} -> 706.6 | P15: 0 | Q15: =I15/O15 -> 8746.9076 | R15: =K15/O15 -> -58.912072 | S15: =L15/O15 -> 8687.9956 | U15: =IF(D15="H",S15,0) -> 8687.9956 | V15: =ROUND(IF(E15=1,S15,0),2) -> 0 | W15: =IF(AND(U15=0,V15=0),S15,) -> 0 | Y15: 511868.89 | Z15: =Y15-M15 -> -0.01
A16: 11 | B16: 2941 | C16: Palm Beach School for Autism | D16: 0 | E16: 1 | F16: =-K16/I16 -> 0.007884612 | G16: =-K16/J16 -> 0.0082717555 | I16: ='2941'!$J$107 -> 10711142 | J16: ='2941'!$J$109 -> 10209828 | K16: ='2941'!$J$114 -> -84453.2 | L16: ='2941'!$J$116 -> 10626689 | M16: ='2941'!$J$124 -> 892467.27 | O16: {='2941'!E28:F28} -> 376.88 | P16: 0 | Q16: =I16/O16 -> 28420.564 | R16: =K16/O16 -> -224.08512 | S16: =L16/O16 -> 28196.479 | U16: =IF(D16="H",S16,0) -> 0 | V16: =ROUND(IF(E16=1,S16,0),2) -> 28196.48 | W16: =IF(AND(U16=0,V16=0),S16,) -> 0 | Y16: 890760.92 | Z16: =Y16-M16 -> -1706.35
A17: 12 | B17: 3083 | C17: The Learning Academy @ The Els Center of Excl | D17: 0 | E17: 1 | F17: =-K17/I17 -> 0.0083213262 | G17: =-K17/J17 -> 0.0087641392 | I17: ='3083'!$J$107 -> 6081104 | J17: ='3083'!$J$109 -> 5773852.8 | K17: ='3083'!$J$114 -> -50602.85 | L17: ='3083'!$J$116 -> 6030501.1 | M17: ='3083'!$J$124 -> 505938.1 | O17: {='3083'!E28:F28} -> 163.28 | P17: 0 | Q17: =I17/O17 -> 37243.41 | R17: =K17/O17 -> -309.91456 | S17: =L17/O17 -> 36933.495 | U17: =IF(D17="H",S17,0) -> 0 | V17: =ROUND(IF(E17=1,S17,0),2) -> 36933.5 | W17: =IF(AND(U17=0,V17=0),S17,) -> 0 | Y17: 504744.96 | Z17: =Y17-M17 -> -1193.14
A18: 13 | B18: 3345 | C18: Career Academy of the Palm Beaches | D18: 0 | E18: 1 | F18: =-K18/I18 -> 0.028053142 | G18: =-K18/J18 -> 0.028861653 | I18: ='3345'!$J$107 -> 1147188.5 | J18: ='3345'!$J$109 -> 1115051.9 | K18: ='3345'!$J$114 -> -32182.24 | L18: ='3345'!$J$116 -> 1115006.2 | M18: ='3345'!$J$124 -> 93541.68 | O18: {='3345'!E28:F28} -> 78.47 | P18: 0 | Q18: =I18/O18 -> 14619.453 | R18: =K18/O18 -> -410.12158 | S18: =L18/O18 -> 14209.331 | U18: =IF(D18="H",S18,0) -> 0 | V18: =ROUND(IF(E18=1,S18,0),2) -> 14209.33 | W18: =IF(AND(U18=0,V18=0),S18,) -> 0 | Y18: 93532.75 | Z18: =Y18-M18 -> -8.93
A19: 14 | B19: 3362 | C19: Somerset Avenir | F19: =-K19/I19 -> 0.049522167 | G19: =-K19/J19 -> 0.050000003 | I19: ='3362'!$J$107 -> 1444891.1 | J19: ='3362'!$J$109 -> 1431082.7 | K19: ='3362'!$J$114 -> -71554.14 | L19: ='3362'!$J$116 -> 1373337 | M19: ='3362'!$J$124 -> 152593 | O19: {='3362'!E28:F28} -> 165 | P19: 0 | Q19: =I19/O19 -> 8756.9159 | R19: =K19/O19 -> -433.66145 | S19: =L19/O19 -> 8323.2545 | U19: =IF(D19="H",S19,0) -> 0 | V19: =ROUND(IF(E19=1,S19,0),2) -> 0 | W19: =IF(AND(U19=0,V19=0),S19,) -> 8323.2545 | Y19: 152593 | Z19: =Y19-M19 -> 0
A20: 15 | B20: 3381 | C20: Imagine Schools - Chancellor Campus | D20: H | F20: =-K20/I20 -> 0.0045369923 | G20: =-K20/J20 -> 0.004765627 | I20: ='3381'!$J$107 -> 9211450.5 | J20: ='3381'!$J$109 -> 8769523.9 | K20: ='3381'!$J$114 -> -41792.28 | L20: ='3381'!$J$116 -> 9169658.2 | M20: ='3381'!$J$124 -> 765891.07 | O20: {='3381'!E28:F28} -> 1049.18 | P20: 0 | Q20: =I20/O20 -> 8779.6665 | R20: =K20/O20 -> -39.833279 | S20: =L20/O20 -> 8739.8332 | U20: =IF(D20="H",S20,0) -> 8739.8332 | V20: =ROUND(IF(E20=1,S20,0),2) -> 0 | W20: =IF(AND(U20=0,V20=0),S20,) -> 0 | Y20: 765891.06 | Z20: =Y20-M20 -> -0.0099999999
A21: 16 | B21: 3382 | C21: Glades Academy | D21: 0 | F21: =-K21/I21 -> 0.044631321 | G21: =-K21/J21 -> 0.046769185 | I21: ='3382'!$J$107 -> 2507032.9 | J21: ='3382'!$J$109 -> 2392434 | K21: ='3382'!$J$114 -> -111892.19 | L21: ='3382'!$J$116 -> 2395140.7 | M21: ='3382'!$J$124 -> 198960.42 | O21: {='3382'!E28:F28} -> 267.27 | P21: 0 | Q21: =I21/O21 -> 9380.1508 | R21: =K21/O21 -> -418.64852 | S21: =L21/O21 -> 8961.5023 | U21: =IF(D21="H",S21,0) -> 0 | V21: =ROUND(IF(E21=1,S21,0),2) -> 0 | W21: =IF(AND(U21=0,V21=0),S21,) -> 8961.5023 | Y21: 198960.42 | Z21: =Y21-M21 -> 0
A22: 17 | B22: 3391 | C22: Seagull Academy for Independent Living | D22: 0 | Z22: =Y22-M22 -> 0
A23: 18 | B23: 3394 | C23: Montessori Academy of Early Enrichment | D23: 0 | F23: =-K23/I23 -> 0.047532241 | G23: =-K23/J23 -> 0.049999998 | I23: ='3394'!$J$107 -> 1723775.7 | J23: ='3394'!$J$109 -> 1638698.5 | K23: ='3394'!$J$114 -> -81934.92 | L23: ='3394'!$J$116 -> 1641840.7 | M23: ='3394'!$J$124 -> 136608.8 | O23: {='3394'!E28:F28} -> 190.99 | P23: 0 | Q23: =I23/O23 -> 9025.476 | R23: =K23/O23 -> -429.0011 | S23: =L23/O23 -> 8596.4749 | U23: =IF(D23="H",S23,0) -> 0 | V23: =ROUND(IF(E23=1,S23,0),2) -> 0 | W23: =IF(AND(U23=0,V23=0),S23,) -> 8596.4749 | Y23: 136608.8 | Z23: =Y23-M23 -> 0
A24: 19 | B24: 3395 | C24: Somerset Academy Charter School | D24: 0 | F24: =-K24/I24 -> 0.023175347 | G24: =-K24/J24 -> 0.024371222 | I24: ='3395'!$J$107 -> 4505788.9 | J24: ='3395'!$J$109 -> 4284693.7 | K24: ='3395'!$J$114 -> -104423.22 | L24: ='3395'!$J$116 -> 4401365.7 | M24: ='3395'!$J$124 -> 366702.22 | O24: {='3395'!E28:F28} -> 512.9 | P24: 0 | Q24: =I24/O24 -> 8784.9266 | R24: =K24/O24 -> -203.59372 | S24: =L24/O24 -> 8581.3329 | U24: =IF(D24="H",S24,0) -> 0 | V24: =ROUND(IF(E24=1,S24,0),2) -> 0 | W24: =IF(AND(U24=0,V24=0),S24,) -> 8581.3329 | Y24: 366702.21 | Z24: =Y24-M24 -> -0.01
A25: 20 | B25: 3396 | C25: G-Star School of the Arts | D25: H | F25: =-K25/I25 -> 0.0068510949 | G25: =-K25/J25 -> 0.0071729839 | I25: ='3396'!$J$107 -> 6268716.2 | J25: ='3396'!$J$109 -> 5987406.5 | K25: ='3396'!$J$114 -> -42947.57 | L25: ='3396'!$J$116 -> 6225768.7 | M25: ='3396'!$J$124 -> 524600.61 | O25: {='3396'!E28:F28} -> 697.06 | P25: 0 | Q25: =I25/O25 -> 8993.0798 | R25: =K25/O25 -> -61.612444 | S25: =L25/O25 -> 8931.4674 | U25: =IF(D25="H",S25,0) -> 8931.4674 | V25: =ROUND(IF(E25=1,S25,0),2) -> 0 | W25: =IF(AND(U25=0,V25=0),S25,) -> 0 | Y25: 524600.61 | Z25: =Y25-M25 -> 0
A26: 21 | B26: 3398 | C26: Everglades Preparatory Academy | D26: 0 | F26: =-K26/I26 -> 0.047725557 | G26: =-K26/J26 -> 0.050000004 | I26: ='3398'!$J$107 -> 979196.12 | J26: ='3398'!$J$109 -> 934653.52 | K26: ='3398'!$J$114 -> -46732.68 | L26: ='3398'!$J$116 -> 932463.44 | M26: ='3398'!$J$124 -> 78174.02 | O26: {='3398'!E28:F28} -> 114.65 | P26: 0 | Q26: =I26/O26 -> 8540.7424 | R26: =K26/O26 -> -407.61169 | S26: =L26/O26 -> 8133.1307 | U26: =IF(D26="H",S26,0) -> 0 | V26: =ROUND(IF(E26=1,S26,0),2) -> 0 | W26: =IF(AND(U26=0,V26=0),S26,) -> 8133.1307 | Y26: 78174.02 | Z26: =Y26-M26 -> 0
A27: 22 | B27: 3400 | C27: Believers Academy | D27: 0 | E27: 1 | F27: =-K27/I27 -> 0.03255963 | G27: =-K27/J27 -> 0.033587842 | I27: ='3400'!$J$107 -> 1222713.8 | J27: ='3400'!$J$109 -> 1185283.3 | K27: ='3400'!$J$114 -> -39811.11 | L27: ='3400'!$J$116 -> 1182902.7 | M27: ='3400'!$J$124 -> 100047.91 | O27: {='3400'!E28:F28} -> 100.2 | P27: 0 | Q27: =I27/O27 -> 12202.733 | R27: =K27/O27 -> -397.31647 | S27: =L27/O27 -> 11805.416 | U27: =IF(D27="H",S27,0) -> 0 | V27: =ROUND(IF(E27=1,S27,0),2) -> 11805.42 | W27: =IF(AND(U27=0,V27=0),S27,) -> 0 | Y27: 100055.2 | Z27: =Y27-M27 -> 7.29
A28: 23 | B28: 3401 | C28: Quantum High School | D28: 0 | E28: 0 | F28: =-K28/I28 -> 0.02736568 | G28: =-K28/J28 -> 0.028645416 | I28: ='3401'!$J$107 -> 3757815.6 | J28: ='3401'!$J$109 -> 3589935 | K28: ='3401'!$J$114 -> -102835.18 | L28: ='3401'!$J$116 -> 3654980.4 | M28: ='3401'!$J$124 -> 307696.18 | O28: {='3401'!E28:F28} -> 436.37 | P28: 0 | Q28: =I28/O28 -> 8611.5352 | R28: =K28/O28 -> -235.66052 | S28: =L28/O28 -> 8375.8747 | U28: =IF(D28="H",S28,0) -> 0 | V28: =ROUND(IF(E28=1,S28,0),2) -> 0 | W28: =IF(AND(U28=0,V28=0),S28,) -> 8375.8747 | Y28: 307696.18 | Z28: =Y28-M28 -> 0
A29: 24 | B29: 3413 | C29: Somerset Academy Boca | D29: H | F29: =-K29/I29 -> 0.0121997 | G29: =-K29/J29 -> 0.012820184 | I29: ='3413'!$J$107 -> 3482978.1 | J29: ='3413'!$J$109 -> 3314405.7 | K29: ='3413'!$J$114 -> -42491.29 | L29: ='3413'!$J$116 -> 3440486.9 | M29: ='3413'!$J$124 -> 287180.12 | O29: {='3413'!E28:F28} -> 390.01 | P29: 0 | Q29: =I29/O29 -> 8930.4842 | R29: =K29/O29 -> -108.94923 | S29: =L29/O29 -> 8821.535 | U29: =IF(D29="H",S29,0) -> 8821.535 | V29: =ROUND(IF(E29=1,S29,0),2) -> 0 | W29: =IF(AND(U29=0,V29=0),S29,) -> 0 | Y29: 287180.12 | Z29: =Y29-M29 -> 0
A30: 25 | B30: 3421 | C30: Worthington High School | D30: 0 | F30: =-K30/I30 -> 0.022767187 | G30: =-K30/J30 -> 0.023794114 | I30: ='3421'!$J$107 -> 4350611.8 | J30: ='3421'!$J$109 -> 4162844.2 | K30: ='3421'!$J$114 -> -99051.19 | L30: ='3421'!$J$116 -> 4251560.6 | M30: ='3421'!$J$124 -> 365620.49 | O30: {='3421'!E28:F28} -> 525.34 | P30: 0 | Q30: =I30/O30 -> 8281.5163 | R30: =K30/O30 -> -188.54683 | S30: =L30/O30 -> 8092.9695 | U30: =IF(D30="H",S30,0) -> 0 | V30: =ROUND(IF(E30=1,S30,0),2) -> 0 | W30: =IF(AND(U30=0,V30=0),S30,) -> 8092.9695 | Y30: 365620.49 | Z30: =Y30-M30 -> 0
A31: 26 | B31: 3431 | C31: Renaissance Charter School at WPB | D31: H | F31: =-K31/I31 -> 0.0047489121 | G31: =-K31/J31 -> 0.0049941071 | I31: ='3431'!$J$107 -> 8774279 | J31: ='3431'!$J$109 -> 8343489.4 | K31: ='3431'!$J$114 -> -41668.28 | L31: ='3431'!$J$116 -> 8732610.7 | M31: ='3431'!$J$124 -> 725549.97 | O31: {='3431'!E28:F28} -> 1001.18 | P31: 0 | Q31: =I31/O31 -> 8763.9376 | R31: =K31/O31 -> -41.619169 | S31: =L31/O31 -> 8722.3184 | U31: =IF(D31="H",S31,0) -> 8722.3184 | V31: =ROUND(IF(E31=1,S31,0),2) -> 0 | W31: =IF(AND(U31=0,V31=0),S31,) -> 0 | Y31: 725549.97 | Z31: =Y31-M31 -> 0
A32: 27 | B32: 3441 | C32: South Tech Preparatory Academy (MS) | D32: H | F32: =-K32/I32 -> 0.009050964 | G32: =-K32/J32 -> 0.0094847869 | I32: ='3441'!$J$107 -> 4650627.3 | J32: ='3441'!$J$109 -> 4437913.1 | K32: ='3441'!$J$114 -> -42092.66 | L32: ='3441'!$J$116 -> 4608534.6 | M32: ='3441'!$J$124 -> 387823.98 | O32: {='3441'!E28:F28} -> 527.16 | P32: 0 | Q32: =I32/O32 -> 8822.0413 | R32: =K32/O32 -> -79.847978 | S32: =L32/O32 -> 8742.1933 | U32: =IF(D32="H",S32,0) -> 8742.1933 | V32: =ROUND(IF(E32=1,S32,0),2) -> 0 | W32: =IF(AND(U32=0,V32=0),S32,) -> 0 | Y32: 387823.98 | Z32: =Y32-M32 -> 0
A33: 28 | B33: 3924 | C33: Palm Beach Maritime Academy Secondary | D33: 0 | F33: =-K33/I33 -> 0.027426497 | G33: =-K33/J33 -> 0.028774659 | I33: ='3924'!$J$107 -> 3785270.9 | J33: ='3924'!$J$109 -> 3607921.8 | K33: ='3924'!$J$114 -> -103816.72 | L33: ='3924'!$J$116 -> 3681454.1 | M33: ='3924'!$J$124 -> 306743.77 | O33: {='3924'!E28:F28} -> 434.41 | P33: 0 | Q33: =I33/O33 -> 8713.5905 | R33: =K33/O33 -> -238.98326 | S33: =L33/O33 -> 8474.6073 | U33: =IF(D33="H",S33,0) -> 0 | V33: =ROUND(IF(E33=1,S33,0),2) -> 0 | W33: =IF(AND(U33=0,V33=0),S33,) -> 8474.6073 | Y33: 306743.77 | Z33: =Y33-M33 -> 0
A34: 29 | B34: 3941 | C34: Ben Gamla Charter School | D34: H | F34: =-K34/I34 -> 0.019034573 | G34: =-K34/J34 -> 0.020000003 | I34: ='3941'!$J$107 -> 2062736.6 | J34: ='3941'!$J$109 -> 1963165.3 | K34: ='3941'!$J$114 -> -39263.31 | L34: ='3941'!$J$116 -> 2023473.3 | M34: ='3941'!$J$124 -> 168880.64 | O34: {='3941'!E28:F28} -> 229.15 | P34: 0 | Q34: =I34/O34 -> 9001.687 | R34: =K34/O34 -> -171.34327 | S34: =L34/O34 -> 8830.3437 | U34: =IF(D34="H",S34,0) -> 8830.3437 | V34: =ROUND(IF(E34=1,S34,0),2) -> 0 | W34: =IF(AND(U34=0,V34=0),S34,) -> 0 | Y34: 168880.64 | Z34: =Y34-M34 -> 0
A35: 30 | B35: 3961 | C35: Gardens School of Technology Arts | D35: 0 | Z35: =Y35-M35 -> 0
A36: 31 | B36: 3971 | C36: Palm Beach Preparatory Charter Academy | D36: 0 | F36: =-K36/I36 -> 0.017562878 | G36: =-K36/J36 -> 0.018390197 | I36: ='3971'!$J$107 -> 5581873.8 | J36: ='3971'!$J$109 -> 5330762.5 | K36: ='3971'!$J$114 -> -98033.77 | L36: ='3971'!$J$116 -> 5483840.1 | M36: ='3971'!$J$124 -> 468192.65 | O36: {='3971'!E28:F28} -> 679.71 | P36: 0 | Q36: =I36/O36 -> 8212.1402 | R36: =K36/O36 -> -144.22882 | S36: =L36/O36 -> 8067.9114 | U36: =IF(D36="H",S36,0) -> 0 | V36: =ROUND(IF(E36=1,S36,0),2) -> 0 | W36: =IF(AND(U36=0,V36=0),S36,) -> 8067.9114 | Y36: 468192.65 | Z36: =Y36-M36 -> 0
A37: 32 | B37: 4001 | C37: Renaissance Charter School at Wellington | D37: 0 | F37: =-K37/I37 -> 0.017480009 | G37: =-K37/J37 -> 0.018366957 | I37: ='4001'!$J$107 -> 6014491.7 | J37: ='4001'!$J$109 -> 5724049.3 | K37: ='4001'!$J$114 -> -105133.37 | L37: ='4001'!$J$116 -> 5909358.3 | M37: ='4001'!$J$124 -> 492923.41 | O37: {='4001'!E28:F28} -> 680.57 | P37: 0 | Q37: =I37/O37 -> 8837.4328 | R37: =K37/O37 -> -154.47841 | S37: =L37/O37 -> 8682.9544 | U37: =IF(D37="H",S37,0) -> 0 | V37: =ROUND(IF(E37=1,S37,0),2) -> 0 | W37: =IF(AND(U37=0,V37=0),S37,) -> 8682.9544 | Y37: 492923.41 | Z37: =Y37-M37 -> 0
A38: 33 | B38: 4002 | C38: Renaissance Charter School at Summit | D38: 0 | F38: =-K38/I38 -> 0.012149422 | G38: =-K38/J38 -> 0.012779488 | I38: ='4002'!$J$107 -> 8623130.4 | J38: ='4002'!$J$109 -> 8197985.2 | K38: ='4002'!$J$114 -> -104766.05 | L38: ='4002'!$J$116 -> 8518364.3 | M38: ='4002'!$J$124 -> 708965.29 | O38: {='4002'!E28:F28} -> 978.13 | P38: 0 | Q38: =I38/O38 -> 8815.9349 | R38: =K38/O38 -> -107.10851 | S38: =L38/O38 -> 8708.8264 | U38: =IF(D38="H",S38,0) -> 0 | V38: =ROUND(IF(E38=1,S38,0),2) -> 0 | W38: =IF(AND(U38=0,V38=0),S38,) -> 8708.8264 | Y38: 708965.29 | Z38: =Y38-M38 -> 0
A39: 34 | B39: 4012 | C39: Somerset Academy Canyons Middle School | D39: H | F39: =-K39/I39 -> 0.0079986037 | G39: =-K39/J39 -> 0.0084002557 | I39: ='4012'!$J$107 -> 5016465.6 | J39: ='4012'!$J$109 -> 4776607 | K39: ='4012'!$J$114 -> -40124.72 | L39: ='4012'!$J$116 -> 4976340.8 | M39: ='4012'!$J$124 -> 416469.55 | O39: {='4012'!E28:F28} -> 595.22 | P39: 0 | Q39: =I39/O39 -> 8427.9183 | R39: =K39/O39 -> -67.411579 | S39: =L39/O39 -> 8360.5068 | U39: =IF(D39="H",S39,0) -> 8360.5068 | V39: =ROUND(IF(E39=1,S39,0),2) -> 0 | W39: =IF(AND(U39=0,V39=0),S39,) -> 0 | Y39: 416469.55 | Z39: =Y39-M39 -> 0
A40: 35 | B40: 4013 | C40: Somerset Academy Canyons High School | D40: H | F40: =-K40/I40 -> 0.0047270072 | G40: =-K40/J40 -> 0.0049408582 | I40: ='4013'!$J$107 -> 9263540 | J40: ='4013'!$J$109 -> 8862593.9 | K40: ='4013'!$J$114 -> -43788.82 | L40: ='4013'!$J$116 -> 9219751.2 | M40: ='4013'!$J$124 -> 786596.81 | O40: {='4013'!E28:F28} -> 1011.97 | P40: 0 | Q40: =I40/O40 -> 9153.967 | R40: =K40/O40 -> -43.270868 | S40: =L40/O40 -> 9110.6962 | U40: =IF(D40="H",S40,0) -> 9110.6962 | V40: =ROUND(IF(E40=1,S40,0),2) -> 0 | W40: =IF(AND(U40=0,V40=0),S40,) -> 0 | Y40: 786596.81 | Z40: =Y40-M40 -> 0
A41: 36 | B41: 4020 | C41: Franklin Academy - Boynton Beach | D41: 0 | F41: =-K41/I41 -> 0.0096160608 | G41: =-K41/J41 -> 0.010104194 | I41: ='4020'!$J$107 -> 10909116 | J41: ='4020'!$J$109 -> 10382096 | K41: ='4020'!$J$114 -> -104902.72 | L41: ='4020'!$J$116 -> 10804213 | M41: ='4020'!$J$124 -> 899763.33 | O41: {='4020'!E28:F28} -> 1237.11 | P41: 0 | Q41: =I41/O41 -> 8818.2262 | R41: =K41/O41 -> -84.796599 | S41: =L41/O41 -> 8733.4296 | U41: =IF(D41="H",S41,0) -> 0 | V41: =ROUND(IF(E41=1,S41,0),2) -> 0 | W41: =IF(AND(U41=0,V41=0),S41,) -> 8733.4296 | Y41: 899763.33 | Z41: =Y41-M41 -> 0
A42: 37 | B42: 4030 | C42: Olympus International Academy | D42: 0 | F42: =-K42/I42 -> 0.03908382 | G42: =-K42/J42 -> 0.041129244 | I42: ='4030'!$J$107 -> 2717266.1 | J42: ='4030'!$J$109 -> 2582132.1 | K42: ='4030'!$J$114 -> -106201.14 | L42: ='4030'!$J$116 -> 2611065 | M42: ='4030'!$J$124 -> 217485.59 | O42: {='4030'!E28:F28} -> 303.92 | P42: 0 | Q42: =I42/O42 -> 8940.7283 | R42: =K42/O42 -> -349.43781 | S42: =L42/O42 -> 8591.2905 | U42: =IF(D42="H",S42,0) -> 0 | V42: =ROUND(IF(E42=1,S42,0),2) -> 0 | W42: =IF(AND(U42=0,V42=0),S42,) -> 8591.2905 | Y42: 217485.59 | Z42: =Y42-M42 -> 0
A43: 38 | B43: 4031 | C43: Somerset Academy Wellington | D43: 0 | F43: =-K43/I43 -> 0.026289051 | G43: =-K43/J43 -> 0.027657315 | I43: ='4031'!$J$107 -> 3959687.6 | J43: ='4031'!$J$109 -> 3763793.8 | K43: ='4031'!$J$114 -> -104096.43 | L43: ='4031'!$J$116 -> 3855591.1 | M43: ='4031'!$J$124 -> 319995.16 | O43: {='4031'!E28:F28} -> 451.96 | P43: 0 | Q43: =I43/O43 -> 8761.146 | R43: =K43/O43 -> -230.32222 | S43: =L43/O43 -> 8530.8238 | U43: =IF(D43="H",S43,0) -> 0 | V43: =ROUND(IF(E43=1,S43,0),2) -> 0 | W43: =IF(AND(U43=0,V43=0),S43,) -> 8530.8238 | Y43: 319995.16 | Z43: =Y43-M43 -> 0
...

Sheet Charter Schools
B1: Palm Beach County Charter Schools
B3: Sorted by School Number | E3: Sorted by School Name
B4: Dept # | C4: Charter School Name | E4: Dept # | F4: Charter School Name
A5: 1 | B5: 0040 | C5: PALM BEACH PREPARATORY ACADEMY MS | E5: 3400 | F5: Believers Academy
A6: 2 | B6: 0571 | C6: PALMETTO PARK | E6: 3941 | F6: Ben Gamla Charter School | I6: 3391 Seagull Academy for Independent Living and 2531 Potentials Charter School merged in FY 25 and changed their name to Bodwell Academy
A7: 3 | B7: 0100 | C7: THE LEARNING CENTER HS | E7: 4102 | F7: BridgePrep Academy of PB
A8: 4 | B8: 1461 | C8: Inlet Grove Community High School | E8: 4100 | F8: Connections Education Center of the Palm Beaches
A9: 5 | B9: 1571 | C9: South Tech Charter Academy | E9: 2521 | F9: Ed Venture | I9: 3961 Garden School of Technology is closing for FY 26.
A10: 6 | B10: 2521 | C10: Ed Venture | E10: 3398 | F10: Everglades Preparatory Academy | I10: 4080 University Prep is closed for FY 26
A11: 7 | B11: 2531 | C11: Bodwell Academy (formerly - Potentials Charter School) | E11: 4081 | F11: Florida Futures Academy - North Campus
A12: 8 | B12: 2791 | C12: The Learning Center at The Els Center of Excellence | E12: 4020 | F12: Franklin Academy - Boynton Beach
A13: 9 | B13: 2801 | C13: Palm Beach Maritime Academy Elementary | E13: 4061 | F13: Franklin Academy - Palm Beach Gardens | I13: New Schools
A14: 10 | B14: 2911 | C14: Western Academy Charter School | E14: 3961 | F14: Gardens School of Technology Arts | I14: 0040 | J14: PALM BEACH PREPARATORY ACADEMY MS
A15: 11 | B15: 2941 | C15: Palm Beach School for Autism | E15: 3382 | F15: Glades Academy | I15: 0100 | J15: THE LEARNING CENTER HS
A16: 12 | B16: 3083 | C16: The Learning Academy at The Els Center of Excellence | E16: 3396 | F16: G-Star School of the Arts for Motion Pictures and Television | I16: 3362 | J16: Somserset Avenir
A17: 13 | B17: 3345 | C17: Career Academy of the Palm Beaches | E17: 3345 | F17: Career Academy of the Palm Beaches | I17: 0571
A18: 14 | B18: 3362 | C18: Somerset Avenir | E18: 3381 | F18: Imagine Schools - Chancellor Campus
A19: 15 | B19: 3381 | C19: Imagine Schools - Chancellor Campus | E19: 1461 | F19: Inlet Grove Community High School
A20: 16 | B20: 3382 | C20: Glades Academy | E20: 3394 | F20: Montessori Academy of Early Enrichment
A21: 17 | B21: 3391 | C21: Seagull Academy for Independent Living | E21: 4030 | F21: Olympus International Academy
A22: 18 | B22: 3394 | C22: Montessori Academy of Early Enrichment | E22: 2801 | F22: Palm Beach Maritime Academy Elementary
A23: 19 | B23: 3395 | C23: Somerset Academy JFK Charter School | E23: 3924 | F23: Palm Beach Maritime Academy Secondary
A24: 20 | B24: 3396 | C24: G-Star School of the Arts for Motion Pictures and Television | E24: 3971 | F24: Palm Beach Preparatory Charter Academy
A25: 21 | B25: 3398 | C25: Everglades Preparatory Academy | E25: 0040 | F25: PALM BEACH PREPARATORY ACADEMY MS
A26: 22 | B26: 3400 | C26: Believers Academy | E26: 2941 | F26: Palm Beach School for Autism
A27: 23 | B27: 3401 | C27: Quantum High School | E27: 2531 | F27: Potentials Charter School
A28: 24 | B28: 3413 | C28: Somerset Academy Boca | E28: 3401 | F28: Quantum High School
A29: 25 | B29: 3421 | C29: Worthington High School | E29: 4051 | F29: Renaissance Charter School at Central Palm
A30: 26 | B30: 3431 | C30: Renaissance Charter School at WPB | E30: 4050 | F30: Renaissance Charter School at Cypress
... A34: 30 | B34: 3961 | C34: Gardens School of Technology Arts | E34: 3391 | F34: Seagull Academy for Independent Living
A35: 31 | B35: 3971 | C35: Palm Beach Preparatory Charter Academy | E35: 4111 | F35: SLAM HS Palm Beach
A36: 32 | B36: 4001 | C36: Renaissance Charter School at Wellington | E36: 3362 | F36: Somerset Avenir
A37: 33 | B37: 4002 | C37: Renaissance Charter School at Summit | E37: 3413 | F37: Somerset Academy Boca
A38: 34 | B38: 4012 | C38: Somerset Academy Canyons Middle School | E38: 4041 | F38: Somerset Academy Boca Middle School
A39: 35 | B39: 4013 | C39: Somerset Academy Canyons High School | E39: 4013 | F39: Somerset Academy Canyons High School
A40: 36 | B40: 4020 | C40: Franklin Academy - Boynton Beach | E40: 4012 | F40: Somerset Academy Canyons Middle School
A41: 37 | B41: 4030 | C41: Olympus International Academy | E41: 3395 | F41: Somerset Academy JFK Charter School
A42: 38 | B42: 4031 | C42: Somerset Academy Wellington | E42: 4091 | F42: Somerset Academy Lakes
A43: 39 | B43: 4041 | C43: Somerset Academy Boca Middle School | E43: 4031 | F43: Somerset Academy Wellington
A44: 40 | B44: 4050 | C44: Renaissance Charter School at Cypress | E44: 4131 | F44: Somerset Academy Wellington HS
...

Sheet Cumulative Payments
A1: Cumulative Payments
D4: Net Revenue | E4: July | F4: August | G4: Sept | H4: Oct | I4: Nov | J4: Dec | K4: Jan | L4: Feb | M4: March | N4: April | O4: May | P4: June | Q4: Total | R4: Payments excluding current month
A5: 1 | B5: 0040 | C5: Palm Beach Preparatory Middle School | D5: 295040.42 | E5: 24451.48 | F5: 24870.66 | G5: 24870.66 | H5: 24538.62 | I5: 24538.63 | J5: 24538.62 | K5: 24538.63 | Q5: =SUM(E5:P5) -> 172347.3 | R5: 0
A6: 2 | B6: 0571 | C6: Palmetto Park | D6: 390083.78 | H6: 43342.64 | I6: 43342.64 | J6: 43342.64 | K6: 43342.64
A7: 3 | B7: 0100 | C7: The Learning Center Highschool | D7: 307339.19 | E7: 22293.06 | F7: 22269.68 | G7: 22269.68 | H7: 26670.77 | I7: 26670.78 | J7: 26737.89 | K7: 28707.39 | Q7: =SUM(E7:P7) -> 175619.25 | R7: 0
A8: 4 | B8: 1461 | C8: Inlet Grove Community High School | D8: 7591209.9 | E8: 485398.34 | F8: 492757.49 | G8: 662254.39 | H8: 675822.09 | I8: 659372.2 | J8: 659372.2 | K8: 659372.2 | Q8: =SUM(E8:P8) -> 4294348.9 | R8: 0
A9: 5 | B9: 1571 | C9: South Tech Charter Academy | D9: 10227461 | E9: 795164.86 | F9: 808415.92 | G9: 876352.53 | H9: 860836.4 | I9: 860836.4 | J9: 860836.4 | K9: 860836.4 | Q9: =SUM(E9:P9) -> 5923278.9 | R9: 0
A10: 6 | B10: 2521 | C10: Ed Venture | D10: 1324499.2 | E10: 112200.54 | F10: 112562.16 | G10: 112694.4 | H10: 109553.39 | I10: 109553.39 | J10: 109705.04 | K10: 109705.05 | Q10: =SUM(E10:P10) -> 775973.97 | R10: 0
A11: 7 | B11: 2531 | C11: Bodwell Academy | D11: 1625637.1 | E11: 128465.38 | F11: 132295.12 | G11: 132295.12 | H11: 136643.49 | I11: 136643.49 | J11: 137042.07 | K11: 136859.32 | Q11: =SUM(E11:P11) -> 940243.99 | R11: 0
A12: 8 | B12: 2791 | C12: The Learning Center @ The Els Center of Excl | D12: 5431946.8 | E12: 440248.86 | F12: 446019.94 | G12: 446019.95 | H12: 454340.22 | I12: 454340.22 | J12: 455853.95 | K12: 455853.95 | Q12: =SUM(E12:P12) -> 3152677.1 | R12: 0
A13: 9 | B13: 2801 | C13: Palm Beach Maritime Academy Elementary | D13: 5282282.2 | E13: 433777.9 | F13: 438326.62 | G13: 438326.62 | H13: 441316.79 | I13: 441316.79 | J13: 441316.79 | K13: 441316.79 | Q13: =SUM(E13:P13) -> 3075698.3 | R13: 0
A14: 10 | B14: 2911 | C14: Western Academy Charter School | D14: 6138937.7 | E14: 505265.93 | F14: 513425.85 | G14: 513425.85 | H14: 511868.89 | I14: 511868.89 | J14: 511868.89 | K14: 511868.9 | Q14: =SUM(E14:P14) -> 3579593.2 | R14: 0
A15: 11 | B15: 2941 | C15: Palm Beach School for Autism | D15: 10626280 | E15: 858865.25 | F15: 869504.11 | G15: 869504.11 | H15: 890806.34 | I15: 890806.34 | J15: 892399.18 | K15: 892467.27 | Q15: =SUM(E15:P15) -> 6164352.6 | R15: 0
A16: 12 | B16: 3083 | C16: The Learning Academy @ The Els Center of Excl | D16: 6033817.6 | E16: 484859.99 | F16: 497059.68 | G16: 497059.68 | H16: 504701.18 | I16: 504701.18 | J16: 506490.84 | K16: 505938.1 | Q16: =SUM(E16:P16) -> 3500810.6 | R16: 0
A17: 13 | B17: 3345 | C17: Career Academy of the Palm Beaches | D17: 1115006.2 | E17: 90419.86 | F17: 91364.55 | G17: 91364.55 | H17: 93532.75 | I17: 93532.75 | J17: 93541.68 | K17: 93541.68 | Q17: =SUM(E17:P17) -> 647297.82 | R17: 0
A18: 14 | B18: 3362 | C18: Somerset Avenir | D18: 1373337 | H18: 152593 | I18: 152593 | J18: 152593 | K18: 152593 | Q18: =SUM(E18:P18) -> 610372
A19: 15 | B19: 3381 | C19: Imagine Schools - Chancellor Campus | D19: 9169658.2 | E19: 750894 | F19: 762872.3 | G19: 762872.3 | H19: 765891.06 | I19: 765891.07 | J19: 765891.06 | K19: 765891.07 | Q19: =SUM(E19:P19) -> 5340202.9 | R19: 0
A20: 16 | B20: 3382 | C20: Glades Academy | D20: 2395140.7 | E20: 199480.37 | F20: 202508.28 | G20: 202508.28 | H20: 198960.42 | I20: 198960.42 | J20: 198960.42 | K20: 198960.42 | Q20: =SUM(E20:P20) -> 1400338.6 | R20: 0
A21: 17 | B21: 3391 | C21: Seagull Academy for Independent Living | F21: 0 | Q21: =SUM(E21:P21) -> 0 | R21: 0
A22: 18 | B22: 3394 | C22: Montessori Academy of Early Enrichment | D22: 1641840.7 | E22: 136646.84 | F22: 137857.37 | G22: 137857.37 | H22: 136608.8 | I22: 136608.8 | J22: 136608.79 | K22: 136608.8 | Q22: =SUM(E22:P22) -> 958796.77 | R22: 0
A23: 19 | B23: 3395 | C23: Somerset Academy Charter School | D23: 4401365.7 | E23: 363962.87 | F23: 368541.43 | G23: 368541.43 | H23: 366702.21 | I23: 366702.21 | J23: 366702.21 | K23: 366702.22 | Q23: =SUM(E23:P23) -> 2567854.6 | R23: 0
A24: 20 | B24: 3396 | C24: G-Star School of the Arts | D24: 6225768.7 | E24: 481353.82 | F24: 489623.72 | G24: 533385.66 | H24: 524600.61 | I24: 524600.61 | J24: 524600.6 | K24: 524600.61 | Q24: =SUM(E24:P24) -> 3602765.6 | R24: 0
A25: 21 | B25: 3398 | C25: Everglades Preparatory Academy | D25: 932463.44 | E25: 75370.15 | F25: 76763.56 | G25: 76763.56 | H25: 78174.02 | I25: 78174.02 | J25: 78174.02 | K25: 78174.02 | Q25: =SUM(E25:P25) -> 541593.35 | R25: 0
A26: 22 | B26: 3400 | C26: Believers Academy | D26: 1182902.7 | E26: 93540.76 | F26: 94458.1 | G26: 94458.1 | H26: 100055.2 | I26: 100055.2 | J26: 100047.91 | K26: 100047.91 | Q26: =SUM(E26:P26) -> 682663.18 | R26: 0
A27: 23 | B27: 3401 | C27: Quantum High School | D27: 3654980.4 | E27: 291401.55 | F27: 296284.6 | G27: 298028.7 | H27: 307696.18 | I27: 307696.18 | J27: 307696.17 | K27: 307696.18 | Q27: =SUM(E27:P27) -> 2116499.6 | R27: 0
A28: 24 | B28: 3413 | C28: Somerset Academy Boca | D28: 3440486.9 | E28: 282765.64 | F28: 286550.08 | G28: 286550.08 | H28: 287180.12 | I28: 287180.12 | J28: 287180.12 | K28: 287180.12 | Q28: =SUM(E28:P28) -> 2004586.3 | R28: 0
A29: 25 | B29: 3421 | C29: Worthington High School | D29: 4251560.6 | E29: 318686.65 | F29: 320269.78 | G29: 322019.77 | H29: 365620.49 | I29: 365620.49 | J29: 365620.49 | K29: 365620.49 | Q29: =SUM(E29:P29) -> 2423458.2 | R29: 0
A30: 26 | B30: 3431 | C30: Renaissance Charter School at WPB | D30: 8732610.7 | E30: 727291.13 | F30: 737684.93 | G30: 737684.93 | H30: 725549.97 | I30: 725549.97 | J30: 725549.97 | K30: 725549.97 | Q30: =SUM(E30:P30) -> 5104860.9 | R30: 0
A31: 27 | B31: 3441 | C31: South Tech Preparatory Academy (MS) | D31: 4608534.6 | E31: 365051.77 | F31: 372113.82 | G31: 380953.21 | H31: 387823.98 | I31: 387823.98 | J31: 387823.98 | K31: 387823.98 | Q31: =SUM(E31:P31) -> 2669414.7 | R31: 0
A32: 28 | B32: 3924 | C32: Palm Beach Maritime Academy Secondary | D32: 3681454.1 | E32: 303122.37 | F32: 308213.52 | G32: 309424.3 | H32: 306743.77 | I32: 306743.77 | J32: 306743.77 | K32: 306743.77 | Q32: =SUM(E32:P32) -> 2147735.3 | R32: 0
A33: 29 | B33: 3941 | C33: Ben Gamla Charter School | D33: 2023473.3 | E33: 166503.7 | F33: 168521.9 | G33: 168521.9 | H33: 168880.64 | I33: 168880.64 | J33: 168880.64 | K33: 168880.64 | Q33: =SUM(E33:P33) -> 1179070.1 | R33: 0
A34: 30 | B34: 3961 | C34: Gardens School of Technology Arts | F34: 0 | Q34: =SUM(E34:P34) -> 0 | R34: 0
A35: 31 | B35: 3971 | C35: Palm Beach Perparatory Charter Academy | D35: 5483840.1 | E35: 418200.93 | F35: 425546.45 | G35: 426358.86 | H35: 468192.65 | I35: 468192.65 | J35: 468192.64 | K35: 468192.65 | Q35: =SUM(E35:P35) -> 3142876.8 | R35: 0
A36: 32 | B36: 4001 | C36: Renaissance Charter School at Wellington | D36: 5909358.3 | E36: 486040.8 | F36: 493503.39 | G36: 493503.4 | H36: 492923.41 | I36: 492923.41 | J36: 492923.41 | K36: 492923.41 | Q36: =SUM(E36:P36) -> 3444741.2 | R36: 0
A37: 33 | B37: 4002 | C37: Renaissance Charter School at Summit | D37: 8518364.3 | E37: 707326.89 | F37: 715174.9 | G37: 715174.91 | H37: 708965.29 | I37: 708965.29 | J37: 708965.29 | K37: 708965.29 | Q37: =SUM(E37:P37) -> 4973537.9 | R37: 0
A38: 34 | B38: 4012 | C38: Somerset Academy Canyons Middle School | D38: 4976340.8 | E38: 401311.12 | F38: 409405.4 | G38: 417398.36 | H38: 416469.55 | I38: 416469.55 | J38: 416469.55 | K38: 416469.55 | Q38: =SUM(E38:P38) -> 2893993.1 | R38: 0
A39: 35 | B39: 4013 | C39: Somerset Academy Canyons High School | D39: 9219751.2 | E39: 667648.91 | F39: 677472.72 | G39: 795258.27 | H39: 786596.81 | I39: 786596.81 | J39: 786596.81 | K39: 786596.81 | Q39: =SUM(E39:P39) -> 5286767.1 | R39: 0
A40: 36 | B40: 4020 | C40: Franklin Academy - Boynton Beach | D40: 10804213 | E40: 892802.19 | F40: 906770.45 | G40: 906770.45 | H40: 899763.33 | I40: 899763.33 | J40: 899763.33 | K40: 899763.33 | Q40: =SUM(E40:P40) -> 6305396.4 | R40: 0
A41: 37 | B41: 4030 | C41: Olympus International Academy | D41: 2611065 | E41: 216879.02 | F41: 218407.85 | G41: 218407.85 | H41: 217485.59 | I41: 217485.59 | J41: 217485.59 | K41: 217485.59 | Q41: =SUM(E41:P41) -> 1523637.1 | R41: 0
A42: 38 | B42: 4031 | C42: Somerset Academy Wellington | D42: 3855591.1 | E42: 322483.34 | F42: 326575.68 | G42: 326575.68 | H42: 319995.16 | I42: 319995.16 | J42: 319995.16 | K42: 319995.16 | Q42: =SUM(E42:P42) -> 2255615.3 | R42: 0
...

Sheet Consolidated
B1: (Insert district number in cell A1, enter, then strike F9. Your district data then pulls from Calculation Detail Sheets)
A2: Revenue Estimate Worksheet: All Charter Schools (Consolidated Tab)
A3: ='[2]1461'!A3 -> Based on the FLDOE 2025-26 FEFP Calculation
A4: School District: | C4: Palm Beach | F4: January 2026
A7: 1A. 2025-26 FEFP State and Local Funding
B8: Base Student Allocation: | C8: ='[2]1461'!C8 -> 5372.6 | G8: District Cost Differential: | H8: ='[2]1461'!H8 -> 1.0355
G9: Small District Factor: | H9: ='[2]1461'!H9 -> 1
I10: ='[2]1461'!I10 -> 2025-26
C11: ='[2]1461'!C11 -> Oct 2024 | D11: ='[2]1461'!D11 -> Feb 2025 | E11: Total | F11: Program | H11: Weighted FTE | I11: Base Funding
A12: Program | C12: ='[2]1461'!C12 -> FTE | D12: ='[2]1461'!D12 -> FTE | E12: FTE | F12: Cost Factor | H12: (2) x (3) | I12: (WFTE x BSA x CWF x SDF)
A13: (1) | E13: (2) | F13: (3) | H13: (4) | I13: (5)
A14: 101 Basic K-3 | C14: =SUM('0040:4131'!C12) -> 2123.9 | D14: =SUM('0040:4131'!D12) -> 2080.34 | E14: =SUM('0040:4131'!E12) -> 4204.24 | F14: ='1461'!G12:G12 -> 1.108 | H14: =SUM('0040:4131'!I12) -> 4658.2979 | I14: =SUM('0040:4131'!J12) -> 25915636
A15: 111 Basic K-3 with ESE Services | C15: =SUM('0040:4131'!C13) -> 288.15 | D15: =SUM('0040:4131'!D13) -> 304.76 | E15: =SUM('0040:4131'!E13) -> 592.91 | F15: ='1461'!G13:G13 -> 1.108 | H15: =SUM('0040:4131'!I13) -> 656.9442 | I15: =SUM('0040:4131'!J13) -> 3654795.6
A16: 102 Basic 4-8 | C16: =SUM('0040:4131'!C14) -> 3325.73 | D16: =SUM('0040:4131'!D14) -> 3337.89 | E16: =SUM('0040:4131'!E14) -> 6663.62 | F16: ='1461'!G14:G14 -> 1 | H16: =SUM('0040:4131'!I14) -> 6663.62 | I16: =SUM('0040:4131'!J14) -> 37071899
A17: 112 Basic 4-8 with ESE Services | C17: =SUM('0040:4131'!C15) -> 579.96 | D17: =SUM('0040:4131'!D15) -> 587.27 | E17: =SUM('0040:4131'!E15) -> 1167.23 | F17: ='1461'!G15:G15 -> 1 | H17: =SUM('0040:4131'!I15) -> 1167.23 | I17: =SUM('0040:4131'!J15) -> 6493682.5
A18: 103 Basic 9-12 | C18: =SUM('0040:4131'!C16) -> 2266.59 | D18: =SUM('0040:4131'!D16) -> 2312.99 | E18: =SUM('0040:4131'!E16) -> 4579.58 | F18: ='1461'!G16:G16 -> 0.972 | H18: =SUM('0040:4131'!I16) -> 4451.3517 | I18: =SUM('0040:4131'!J16) -> 24764326
A19: 113 Basic 9-12 with ESE Services | C19: =SUM('0040:4131'!C17) -> 626.39 | D19: =SUM('0040:4131'!D17) -> 635.27 | E19: =SUM('0040:4131'!E17) -> 1261.66 | F19: ='1461'!G17:G17 -> 0.972 | H19: =SUM('0040:4131'!I17) -> 1226.3335 | I19: =SUM('0040:4131'!J17) -> 6822494.6
A20: 254 ESE Level 4 (Grade Level PK-3) | C20: =SUM('0040:4131'!C18) -> 87.99 | D20: =SUM('0040:4131'!D18) -> 85.67 | E20: =SUM('0040:4131'!E18) -> 173.66 | F20: ='1461'!G18:G18 -> 3.609 | H20: =SUM('0040:4131'!I18) -> 626.739 | I20: =SUM('0040:4131'!J18) -> 3486754.2
A21: 254 ESE Level 4 (Grade Level 4-8) | C21: =SUM('0040:4131'!C19) -> 78.01 | D21: =SUM('0040:4131'!D19) -> 76.29 | E21: =SUM('0040:4131'!E19) -> 154.3 | F21: ='1461'!G19:G19 -> 3.609 | H21: =SUM('0040:4131'!I19) -> 556.8687 | I21: =SUM('0040:4131'!J19) -> 3098042.9
A22: 254 ESE Level 4 (Grade Level 9-12) | C22: =SUM('0040:4131'!C20) -> 61.08 | D22: =SUM('0040:4131'!D20) -> 62.11 | E22: =SUM('0040:4131'!E20) -> 123.19 | F22: ='1461'!G20:G20 -> 3.609 | H22: =SUM('0040:4131'!I20) -> 444.5928 | I22: =SUM('0040:4131'!J20) -> 2473415.3
A23: 255 ESE Level 5 (Grade Level PK-3) | C23: =SUM('0040:4131'!C21) -> 50.51 | D23: =SUM('0040:4131'!D21) -> 55.54 | E23: =SUM('0040:4131'!E21) -> 106.05 | F23: ='1461'!G21:G21 -> 6.064 | H23: =SUM('0040:4131'!I21) -> 643.0872 | I23: =SUM('0040:4131'!J21) -> 3577704.6
A24: 255 ESE Level 5 (Grade Level 4-8) | C24: =SUM('0040:4131'!C22) -> 50.48 | D24: =SUM('0040:4131'!D22) -> 55.47 | E24: =SUM('0040:4131'!E22) -> 105.95 | F24: ='1461'!G22:G22 -> 6.064 | H24: =SUM('0040:4131'!I22) -> 642.4808 | I24: =SUM('0040:4131'!J22) -> 3574331
A25: 255 ESE Level 5 (Grade Level 9-12) | C25: =SUM('0040:4131'!C23) -> 40.94 | D25: =SUM('0040:4131'!D23) -> 43.53 | E25: =SUM('0040:4131'!E23) -> 84.47 | F25: ='1461'!G23:G23 -> 6.064 | H25: =SUM('0040:4131'!I23) -> 512.2261 | I25: =SUM('0040:4131'!J23) -> 2849681.5
... A29: 300 Career Education (Grades 9-12) | C29: =SUM('0040:4131'!C27) -> 286.93 | D29: =SUM('0040:4131'!D27) -> 293.68 | E29: =SUM('0040:4131'!E27) -> 580.61 | F29: ='1461'!G27:G27 -> 1.081 | H29: =SUM('0040:4131'!I27) -> 627.6394 | I29: =SUM('0040:4131'!J27) -> 3491763.4
A30: Totals non-virtual schools | C30: =SUM(C14:C29) -> 10908.24 | D30: =SUM(D14:D29) -> 10940.79 | E30: =SUM(E14:E29) -> 21849.03 | H30: =SUM('0040:4131'!I28) -> 25267.48 | I30: =SUM('0040:4131'!J28) -> 1.4057126e+08
A31: Virtual schools ($5,476.28/FTE) | C31: =SUM('0040:4131'!C29) -> 0 | D31: =SUM('0040:4131'!D29) -> 0 | E31: =IF(D$30=0,C31*2,C31+D31) -> 0 | F31: ='1461'!G29:G29 -> 0 | H31: =ROUND(E31*F31,4) -> 0 | I31: =[2]Virtual!E28 -> 0
A32: Totals all schools | C32: =SUM(C30:C31) -> 10908.24 | D32: =SUM(D30:D31) -> 10940.79 | E32: =SUM(E30:E31) -> 21849.03 | I32: =SUM('0040:4131'!J30) -> 0
A34: Letters in Parentheses Refer to Notes at Bottom of Worksheet:
I36: 2018-19
C37: =C11 -> Oct 2024 | D37: =D11 -> Feb 2025 | E37: Total | I37: Base Funding
A38: Additional FTE (a) | C38: FTE | D38: FTE | E38: FTE | I38: (WFTE x BSA x DCD)
A39: Advanced Placement | C39: =SUM('[2]1461:4111'!C38) -> 0 | D39: =SUM('[2]1461:4111'!D38) -> 0 | E39: =SUM('[2]1461:4111'!E38) -> 0 | I39: =SUM('[2]1461:4111'!I38) -> 0
A40: International Baccalaureate | C40: =SUM('[2]1461:4111'!C39) -> 0 | D40: =SUM('[2]1461:4111'!D39) -> 0 | E40: =SUM('[2]1461:4111'!E39) -> 0 | I40: =SUM('[2]1461:4111'!I39) -> 0
A41: Advanced International Certificate | C41: =SUM('[2]1461:4111'!C40) -> 0 | D41: =SUM('[2]1461:4111'!D40) -> 0 | E41: =SUM('[2]1461:4111'!E40) -> 0 | I41: =SUM('[2]1461:4111'!I40) -> 0
A42: Industry Certified Career Education | C42: =SUM('[2]1461:4111'!C41) -> 0 | D42: =SUM('[2]1461:4111'!D41) -> 0 | E42: =SUM('[2]1461:4111'!E41) -> 0 | I42: =SUM('[2]1461:4111'!I41) -> 0
A43: Early High School Graduation | C43: =SUM('[2]1461:4111'!C42) -> #REF! | D43: =SUM('[2]1461:4111'!D42) -> 0 | E43: =SUM('[2]1461:4111'!E42) -> 0 | I43: =SUM('[2]1461:4111'!I42) -> 0
A44: Small District ESE Supplement | C44: =SUM('[2]1461:4111'!C43) -> 0 | D44: =SUM('[2]1461:4111'!D43) -> 0 | E44: =SUM('[2]1461:4111'!E43) -> 0 | I44: =SUM('[2]1461:4111'!I43) -> 0
B45: Total Additional FTE | C45: =SUM(C39:C44) -> #REF! | D45: =SUM(D39:D44) -> 0 | E45: =SUM(E39:E44) -> 0 | H45: Additional Base Funds | I45: =SUM(I39:I44) -> 0
B47: Total Funded Weighted FTE | E47: =H30+E45 -> 25267.48 | H47: Total Base Funding | I47: =SUM(I45,I32) -> 0
A50: 1B. Classroom Teacher & Other Instructional Personnel Salary Increase
...

Sheet 0040
A1: 50 | B1: (Insert district number in cell A1, enter, then strike F9. Your district data then pulls from Calculation Detail Sheets) | R1: 50 | S1: (Insert district number in cell A1, enter, then strike F9. Your district data then pulls from Calculation Detail Sheets)
A2: Revenue Estimate Worksheet: Palm Beach Preparatory Middle School 0040 | R2: =Revenue_Estimate_Worksheet_for___________Charter_School -> Revenue Estimate Worksheet: Palm Beach Preparatory Middle School 0040
A3: Based on the 2025-26 Second Calculation Worksheet | R3: Based on the 2025-26 FEFP Second Calculation
A4: School District: | D4: Palm Beach | H4: 46023 | R4: School District: | T4: Palm Beach
A5: 1A. 2025-26 FEFP State and Local Funding | R5: 1A. 2025-26 FEFP State and Local Funding
A6: Base Student Allocation | E6: 5372.6 | G6: Comparable Wage Factor: | I6: =INDEX('[1]Detail 2025-26 FEFP Second'!$C$1:$C$65536,MATCH('0040'!$A$1,'[1]Detail 2025-26 FEFP Second'!$A$1:$A$65536,0)) -> 1.0355 | R6: Base Student Allocation | T6: =E6 -> 5372.6 | V6: Comparable Wage Factor: | X6: 1.0355
G7: Small District Factor | I7: =INDEX('[1]Detail 2025-26 FEFP Second'!$D$1:$D$65536,MATCH('0040'!$A$1,'[1]Detail 2025-26 FEFP Second'!$A$1:$A$65536,0)) -> 1 | V7: Small District Factor | X7: 1
J8: 2025-26 | Y8: 2025-26
C9: Oct 2024 | D9: Feb 2025 | G9: Program | I9: Weighted FTE | J9: Base Funding | V9: Program | X9: Weighted FTE | Y9: Base Funding
A10: Program | C10: FTE | D10: FTE | E10: Total FTE | G10: Cost Factor | I10: (2) x (3) | J10: (WFTE x BSA x CWF x SDF) | R10: Program | T10: Number of FTE | V10: Cost Factor | X10: (2) x (3) | Y10: (WFTE x BSA x CWF x SDF)
A11: (1) | E11: (2) | G11: (3) | I11: (4) | J11: (5) | R11: (1) | T11: (2) | V11: (3) | X11: (4) | Y11: (5)
A12: 101 Basic K-3 | E12: =IF($D$28=0,C12*2,C12+D12) -> 0 | G12: 1.108 | I12: =ROUND(E12*G12,4) -> 0 | J12: =ROUND(ROUND(ROUND(I12*$E$6,4)*($I$6),2)*(MAX($I$7,1)),2) -> 0 | R12: 101 Basic K-3 | T12: =IF($I$111=1,E12,0) -> 0 | V12: 1 | X12: =ROUND(T12*V12,4) -> 0 | Y12: =ROUND(ROUND(ROUND(X12*$E$6,4)*($I$6),2)*(MAX($I$7,1)),2) -> 0
A13: 111 Basic K-3 with ESE Services | E13: =IF($D$28=0,C13*2,C13+D13) -> 0 | G13: 1.108 | I13: =ROUND(E13*G13,4) -> 0 | J13: =ROUND(ROUND(ROUND(I13*$E$6,4)*($I$6),2)*(MAX($I$7,1)),2) -> 0 | R13: 111 Basic K-3 with ESE Services | T13: =IF($I$111=1,E13,0) -> 0 | V13: 1 | X13: =ROUND(T13*V13,4) -> 0 | Y13: =ROUND(ROUND(ROUND(X13*$E$6,4)*($I$6),2)*(MAX($I$7,1)),2) -> 0
A14: 102 Basic 4-8 | C14: 10.53 | D14: 8.42 | E14: =IF($D$28=0,C14*2,C14+D14) -> 18.95 | G14: 1 | I14: =ROUND(E14*G14,4) -> 18.95 | J14: =ROUND(ROUND(ROUND(I14*$E$6,4)*($I$6),2)*(MAX($I$7,1)),2) -> 105425.05 | R14: 102 Basic 4-8 | T14: =IF($I$111=1,E14,0) -> 0 | V14: 1 | X14: =ROUND(T14*V14,4) -> 0 | Y14: =ROUND(ROUND(ROUND(X14*$E$6,4)*($I$6),2)*(MAX($I$7,1)),2) -> 0
A15: 112 Basic 4-8 with ESE Services | C15: 5.1 | D15: 7.08 | E15: =IF($D$28=0,C15*2,C15+D15) -> 12.18 | G15: 1 | I15: =ROUND(E15*G15,4) -> 12.18 | J15: =ROUND(ROUND(ROUND(I15*$E$6,4)*($I$6),2)*(MAX($I$7,1)),2) -> 67761.33 | R15: 112 Basic 4-8 with ESE Services | T15: =IF($I$111=1,E15,0) -> 0 | V15: 1 | X15: =ROUND(T15*V15,4) -> 0 | Y15: =ROUND(ROUND(ROUND(X15*$E$6,4)*($I$6),2)*(MAX($I$7,1)),2) -> 0
A16: 103 Basic 9-12 | E16: =IF($D$28=0,C16*2,C16+D16) -> 0 | G16: 0.972 | I16: =ROUND(E16*G16,4) -> 0 | J16: =ROUND(ROUND(ROUND(I16*$E$6,4)*($I$6),2)*(MAX($I$7,1)),2) -> 0 | R16: 103 Basic 9-12 | T16: =IF($I$111=1,E16,0) -> 0 | V16: 1 | X16: =ROUND(T16*V16,4) -> 0 | Y16: =ROUND(ROUND(ROUND(X16*$E$6,4)*($I$6),2)*(MAX($I$7,1)),2) -> 0
A17: 113 Basic 9-12 with ESE Services | E17: =IF($D$28=0,C17*2,C17+D17) -> 0 | G17: 0.972 | I17: =ROUND(E17*G17,4) -> 0 | J17: =ROUND(ROUND(ROUND(I17*$E$6,4)*($I$6),2)*(MAX($I$7,1)),2) -> 0 | R17: 113 Basic 9-12 with ESE Services | T17: =IF($I$111=1,E17,0) -> 0 | V17: 1 | X17: =ROUND(T17*V17,4) -> 0 | Y17: =ROUND(ROUND(ROUND(X17*$E$6,4)*($I$6),2)*(MAX($I$7,1)),2) -> 0
A18: 254 ESE Level 4 (Grade Level PK-3) | E18: =IF($D$28=0,C18*2,C18+D18) -> 0 | G18: 3.609 | I18: =ROUND(E18*G18,4) -> 0 | J18: =ROUND(ROUND(ROUND(I18*$E$6,4)*($I$6),2)*(MAX($I$7,1)),2) -> 0 | R18: 254 ESE Level 4 (Grade Level PK-3) | T18: =IF($I$111=1,E18,0) -> 0 | V18: 1 | X18: =ROUND(T18*V18,4) -> 0 | Y18: =ROUND(ROUND(ROUND(X18*$E$6,4)*($I$6),2)*(MAX($I$7,1)),2) -> 0
A19: 254 ESE Level 4 (Grade Level 4-8) | E19: =IF($D$28=0,C19*2,C19+D19) -> 0 | G19: 3.609 | I19: =ROUND(E19*G19,4) -> 0 | J19: =ROUND(ROUND(ROUND(I19*$E$6,4)*($I$6),2)*(MAX($I$7,1)),2) -> 0 | R19: 254 ESE Level 4 (Grade Level 4-8) | T19: =IF($I$111=1,E19,0) -> 0 | V19: 1 | X19: =ROUND(T19*V19,4) -> 0 | Y19: =ROUND(ROUND(ROUND(X19*$E$6,4)*($I$6),2)*(MAX($I$7,1)),2) -> 0
A20: 254 ESE Level 4 (Grade Level 9-12) | E20: =IF($D$28=0,C20*2,C20+D20) -> 0 | G20: 3.609 | I20: =ROUND(E20*G20,4) -> 0 | J20: =ROUND(ROUND(ROUND(I20*$E$6,4)*($I$6),2)*(MAX($I$7,1)),2) -> 0 | R20: 254 ESE Level 4 (Grade Level 9-12) | T20: =IF($I$111=1,E20,0) -> 0 | V20: 1 | X20: =ROUND(T20*V20,4) -> 0 | Y20: =ROUND(ROUND(ROUND(X20*$E$6,4)*($I$6),2)*(MAX($I$7,1)),2) -> 0
A21: 255 ESE Level 5 (Grade Level PK-3) | E21: =IF($D$28=0,C21*2,C21+D21) -> 0 | G21: 6.064 | I21: =ROUND(E21*G21,4) -> 0 | J21: =ROUND(ROUND(ROUND(I21*$E$6,4)*($I$6),2)*(MAX($I$7,1)),2) -> 0 | R21: 255 ESE Level 5 (Grade Level PK-3) | T21: =IF($I$111=1,E21,0) -> 0 | V21: 1 | X21: =ROUND(T21*V21,4) -> 0 | Y21: =ROUND(ROUND(ROUND(X21*$E$6,4)*($I$6),2)*(MAX($I$7,1)),2) -> 0
A22: 255 ESE Level 5 (Grade Level 4-8) | E22: =IF($D$28=0,C22*2,C22+D22) -> 0 | G22: 6.064 | I22: =ROUND(E22*G22,4) -> 0 | J22: =ROUND(ROUND(ROUND(I22*$E$6,4)*($I$6),2)*(MAX($I$7,1)),2) -> 0 | R22: 255 ESE Level 5 (Grade Level 4-8) | T22: =IF($I$111=1,E22,0) -> 0 | V22: 1 | X22: =ROUND(T22*V22,4) -> 0 | Y22: =ROUND(ROUND(ROUND(X22*$E$6,4)*($I$6),2)*(MAX($I$7,1)),2) -> 0
A23: 255 ESE Level 5 (Grade Level 9-12) | E23: =IF($D$28=0,C23*2,C23+D23) -> 0 | G23: 6.064 | I23: =ROUND(E23*G23,4) -> 0 | J23: =ROUND(ROUND(ROUND(I23*$E$6,4)*($I$6),2)*(MAX($I$7,1)),2) -> 0 | R23: 255 ESE Level 5 (Grade Level 9-12) | T23: =IF($I$111=1,E23,0) -> 0 | V23: 1 | X23: =ROUND(T23*V23,4) -> 0 | Y23: =ROUND(ROUND(ROUND(X23*$E$6,4)*($I$6),2)*(MAX($I$7,1)),2) -> 0
A24: 130 ESOL (Grade Level PK-3) | E24: =IF($D$28=0,C24*2,C24+D24) -> 0 | G24: 1.165 | I24: =ROUND(E24*G24,4) -> 0 | J24: =ROUND(ROUND(ROUND(I24*$E$6,4)*($I$6),2)*(MAX($I$7,1)),2) -> 0 | R24: 130 ESOL (Grade Level PK-3) | T24: =IF($I$111=1,E24,0) -> 0 | V24: 1 | X24: =ROUND(T24*V24,4) -> 0 | Y24: =ROUND(ROUND(ROUND(X24*$E$6,4)*($I$6),2)*(MAX($I$7,1)),2) -> 0
A25: 130 ESOL (Grade Level 4-8) | C25: 2.57 | D25: 1.7 | E25: =IF($D$28=0,C25*2,C25+D25) -> 4.27 | G25: 1.165 | I25: =ROUND(E25*G25,4) -> 4.9746 | J25: =ROUND(ROUND(ROUND(I25*$E$6,4)*($I$6),2)*(MAX($I$7,1)),2) -> 27675.33 | R25: 130 ESOL (Grade Level 4-8) | T25: =IF($I$111=1,E25,0) -> 0 | V25: 1 | X25: =ROUND(T25*V25,4) -> 0 | Y25: =ROUND(ROUND(ROUND(X25*$E$6,4)*($I$6),2)*(MAX($I$7,1)),2) -> 0
A26: 130 ESOL (Grade Level 9-12) | E26: =IF($D$28=0,C26*2,C26+D26) -> 0 | G26: 1.165 | I26: =ROUND(E26*G26,4) -> 0 | J26: =ROUND(ROUND(ROUND(I26*$E$6,4)*($I$6),2)*(MAX($I$7,1)),2) -> 0 | R26: 130 ESOL (Grade Level 9-12) | T26: =IF($I$111=1,E26,0) -> 0 | V26: 1 | X26: =ROUND(T26*V26,4) -> 0 | Y26: =ROUND(ROUND(ROUND(X26*$E$6,4)*($I$6),2)*(MAX($I$7,1)),2) -> 0
A27: 300 Career Education (Grades 9-12) | C27: 0 | E27: =IF($D$28=0,C27*2,C27+D27) -> 0 | G27: 1.081 | I27: =ROUND(E27*G27,4) -> 0 | J27: =ROUND(ROUND(ROUND(I27*$E$6,4)*($I$6),2)*(MAX($I$7,1)),2) -> 0 | R27: 300 Career Education (Grades 9-12) | T27: =IF($I$111=1,E27,0) -> 0 | V27: 1 | X27: =ROUND(T27*V27,4) -> 0 | Y27: =ROUND(ROUND(ROUND(X27*$E$6,4)*($I$6),2)*(MAX($I$7,1)),2) -> 0
A28: Totals | C28: =SUM(C12:C27) -> 18.2 | D28: =SUM(D12:D27) -> 17.2 | E28: =SUM(E12:E27) -> 35.4 | I28: =SUM(I12:I27) -> 36.1046 | J28: =SUM(J12:J27) -> 200861.71 | R28: Totals | T28: =SUM(T12:T27) -> 0 | X28: =SUM(X12:X27) -> 0 | Y28: =SUM(Y12:Y27) -> 0
A29: Letters in Parentheses Refer to Notes at Bottom of Worksheet: | R29: Letters in Parentheses Refer to Notes at Bottom of Worksheet:
A30: Additional FTE | E30: Number of FTE Charter schools should contact their school district sponsor regarding eligible FTE. Please note that “Number of FTE” is NOT equivalent to number of students enrolled in these courses or programs. | J30: 2025-26 Base Funding (WFTE x BSA x CWF x SDF) | R30: Additional FTE | T30: Number of FTE Charter schools should contact their school district sponsor regarding eligible FTE. Please note that “Number of FTE” is NOT equivalent to number of students enrolled in these courses or programs. Please refer to footnote (a) below. | Y30: 2025-26 Base Funding (WFTE x BSA x CWF x SDF)
A31: Small District ESE Supplement | J31: =ROUND(ROUND(ROUND(I31*$E$6,4)*($I$6),0)*(MAX($I$7,1)),0) -> 0 | R31: Small District ESE Supplement | T31: =IF('[1]All charter school calculator'!X109=1,'[1]All charter school calculator'!X31,0) -> #REF! | Y31: =J31 -> 0
A32: Total Additional FTE | G32: =SUM(I31:I31) -> 0 | H32: Additional Base Funds | J32: =SUM(J31:J31) -> 0 | R32: Total Additional FTE | V32: 0 | W32: Additional Base Funds | Y32: =SUM(Y31:Y31) -> 0
A33: Total Funded Weighted FTE | G33: =G32+I28 -> 36.1046 | H33: Total Base Funding | J33: =SUM(J32,J28) -> 200861.71 | R33: Total Funded Weighted FTE | V33: =V32+X28 -> 0 | W33: Total Base Funding | Y33: =SUM(Y32,Y28) -> 0
A35: 1B. Classroom Teacher and Other Instructional Personnel Salary Increase Maintenance and Growth Portions of the Salary Increase funds are part of the total Conference Base Funding and are not treated as a separate allocation. Amounts are split out here for informative purposes and for the purposes of providing a total that may be used for calculating the adminstrative fee. | R35: 1B. Classroom Teacher and Other Instructional Personnel Salary Increase Maintenance and Growth Portions of the Salary Increase funds are part of the total Conference Base Funding and are not treated as a separate allocation. Amounts are split out here for informative purposes and for the purposes of providing a total that may be used for calculating the adminstrative fee.
A36: Maintenance Portion (6.67% of Conference Base Funding) | F36: (a) | G36: 204869.52 | H36: X | I36: 0.0667 | J36: =ROUND(G36*I36,2) -> 13664.8 | R36: Maintenance Portion (6.67% of Conference Base Funding) | V36: =Y28 -> 0 | W36: X | X36: 0.0667 | Y36: =ROUND(V36*X36,2) -> 0
A37: Growth Portion (0.54% of Conference Base Funding) | F37: (a) | G37: 204869.52 | H37: X | I37: 0.0054 | J37: =ROUND(G37*I37,2) -> 1106.3 | R37: Growth Portion (0.54% of Conference Base Funding) | V37: =Y28 -> 0 | W37: X | X37: 0.0054 | Y37: =ROUND(V37*X37,2) -> 0
A38: Total Salary Increase Allocation | J38: =SUM(J36:J37) -> 14771.1 | R38: Total Salary Increase Allocation | Y38: =Y36+Y37 -> 0
A40: 2. ESE Guaranteed Allocation: | C40: Oct 2024 FTE | D40: Feb 2025 FTE | E40: Total FTE | G40: Grade Level | H40: Matrix Level | I40: Guarantee Per Student | R40: 2. ESE Guaranteed Allocation: | T40: FTE | V40: Grade Level | W40: Matrix Level | X40: Guarantee Per Student
A41: Additional Funding from the ESE Guaranteed Allocation. Enter the FTE from 111,112 and 113 by grade and matrix level. Students who do not have a matrix level should be considered 251. This total should equal all FTE from programs 111, 112 and 113 above, less any 113 gifted FTE. | E41: =IF($D$50=0,C41*2,C41+D41) -> 0 | G41: PK-3 | H41: 251 | I41: =INDEX('[1]111-112-113 ADDITIONAL FUND'!D$1:D$65536,MATCH($A$1,'[1]111-112-113 ADDITIONAL FUND'!A$1:A$65536)) -> 1047 | J41: =ROUND(E41*I41,2) -> 0 | R41: Additional Funding from the ESE Guaranteed Allocation. Enter the FTE from 111,112, & 113 by grade and matrix level. Students who do not have a matrix level should be considered 251. This total should equal all FTE from programs 111, 112 & 113 above. | V41: PK-3 | W41: 251 | X41: =I41 -> 1047 | Y41: =ROUND(T41*X41,2) -> 0
E42: =IF($D$50=0,C42*2,C42+D42) -> 0 | G42: PK-3 | H42: 252 | I42: =INDEX('[1]111-112-113 ADDITIONAL FUND'!E$1:E$65536,MATCH($A$1,'[1]111-112-113 ADDITIONAL FUND'!A$1:A$65536)) -> 3380 | J42: =ROUND(E42*I42,2) -> 0 | V42: PK-3 | W42: 252 | X42: =I42 -> 3380 | Y42: =ROUND(T42*X42,2) -> 0
...

Sheet 0571
A1: 50 | B1: (Insert district number in cell A1, enter, then strike F9. Your district data then pulls from Calculation Detail Sheets) | R1: 50 | S1: (Insert district number in cell A1, enter, then strike F9. Your district data then pulls from Calculation Detail Sheets)
A2: Revenue Estimate Worksheet: Palmetto Park - 0571 | R2: =Revenue_Estimate_Worksheet_for___________Charter_School -> Revenue Estimate Worksheet: Palmetto Park - 0571
A3: Based on the 2025-26 Second Calculation Worksheet | R3: Based on the 2025-26 FEFP Second Calculation
A4: School District: | D4: Palm Beach | H4: ='0040'!H4 -> 46023 | R4: School District: | T4: Palm Beach
A5: 1A. 2025-26 FEFP State and Local Funding | R5: 1A. 2025-26 FEFP State and Local Funding
A6: Base Student Allocation | E6: 5372.6 | G6: Comparable Wage Factor: | I6: =INDEX('[1]Detail 2025-26 FEFP Second'!$C$1:$C$65536,MATCH('0571'!$A$1,'[1]Detail 2025-26 FEFP Second'!$A$1:$A$65536,0)) -> 1.0355 | R6: Base Student Allocation | T6: =E6 -> 5372.6 | V6: Comparable Wage Factor: | X6: 1.0355
G7: Small District Factor | I7: =INDEX('[1]Detail 2025-26 FEFP Second'!$D$1:$D$65536,MATCH('0571'!$A$1,'[1]Detail 2025-26 FEFP Second'!$A$1:$A$65536,0)) -> 1 | V7: Small District Factor | X7: 1
J8: 2025-26 | Y8: 2025-26
C9: Oct 2024 | D9: Feb 2025 | G9: Program | I9: Weighted FTE | J9: Base Funding | V9: Program | X9: Weighted FTE | Y9: Base Funding
A10: Program | C10: FTE | D10: FTE | E10: Total FTE | G10: Cost Factor | I10: (2) x (3) | J10: (WFTE x BSA x CWF x SDF) | R10: Program | T10: Number of FTE | V10: Cost Factor | X10: (2) x (3) | Y10: (WFTE x BSA x CWF x SDF)
A11: (1) | E11: (2) | G11: (3) | I11: (4) | J11: (5) | R11: (1) | T11: (2) | V11: (3) | X11: (4) | Y11: (5)
A12: 101 Basic K-3 | C12: 0 | D12: 0 | E12: =IF($D$28=0,C12*2,C12+D12) -> 0 | G12: 1.108 | I12: =ROUND(E12*G12,4) -> 0 | J12: =ROUND(ROUND(ROUND(I12*$E$6,4)*($I$6),2)*(MAX($I$7,1)),2) -> 0 | R12: 101 Basic K-3 | T12: =IF($I$111=1,E12,0) -> 0 | V12: 1 | X12: =ROUND(T12*V12,4) -> 0 | Y12: =ROUND(ROUND(ROUND(X12*$E$6,4)*($I$6),2)*(MAX($I$7,1)),2) -> 0
A13: 111 Basic K-3 with ESE Services | C13: 0 | D13: 0 | E13: =IF($D$28=0,C13*2,C13+D13) -> 0 | G13: 1.108 | I13: =ROUND(E13*G13,4) -> 0 | J13: =ROUND(ROUND(ROUND(I13*$E$6,4)*($I$6),2)*(MAX($I$7,1)),2) -> 0 | R13: 111 Basic K-3 with ESE Services | T13: =IF($I$111=1,E13,0) -> 0 | V13: 1 | X13: =ROUND(T13*V13,4) -> 0 | Y13: =ROUND(ROUND(ROUND(X13*$E$6,4)*($I$6),2)*(MAX($I$7,1)),2) -> 0
