Workbook
Name _1: '0100'!$A$11
Name _1: '1461'!$A$11
Name _1: '1571'!$A$11
Name _1: '2521'!$A$11
Name _1: '2531'!$A$11
Name _1: '2791'!$A$11
Name _1: '2801'!$A$11
Name _1: '2911'!$A$11
Name _1: '2941'!$A$11
Name _1: '3083'!$A$11
Name _1: '3345'!$A$11
Name _1: '3381'!$A$11
Name _1: '3382'!$A$11
Name _1: '3391'!$A$11
Name _1: '3394'!$A$11
Name _1: '3395'!$A$11
Name _1: '3396'!$A$11
Name _1: '3398'!$A$11
Name _1: '3400'!$A$11
Name _1: '3401'!$A$11
Name _1: '3413'!$A$11
Name _1: '3421'!$A$11
Name _1: '3431'!$A$11
Name _1: '3441'!$A$11
Name _1: '3924'!$A$11
Name _1: '3941'!$A$11
Name _1: '3961'!$A$11
Name _1: '3971'!$A$11
Name _1: '4001'!$A$11
Name _1: '4002'!$A$11
Name _1: '4012'!$A$11
Name _1: '4013'!$A$11
Name _1: '4020'!$A$11
Name _1: '4030'!$A$11
Name _1: '4031'!$A$11
Name _1: '4041'!$A$11
Name _1: '4050'!$A$11
Name _1: '4051'!$A$11
Name _1: '4061'!$A$11
Name _1: '4080'!$A$11
Name _1: '4081'!$A$11
Name _1: '4090'!$A$11
Name _1: '4091'!$A$11
Name _1: '4100'!$A$11
Name _1: '4102'!$A$11
Name _1: '4103'!$A$11
Name _1: '4111'!$A$11
Name _1: '4131'!$A$11
Name _1: '0040'!$A$11
Name _1.__2009_10_FEFP_State_and_Local_Funding: '0100'!$A$5
Name _1.__2009_10_FEFP_State_and_Local_Funding: '1461'!$A$5
Name _1.__2009_10_FEFP_State_and_Local_Funding: '1571'!$A$5
Name _1.__2009_10_FEFP_State_and_Local_Funding: '2521'!$A$5
Name _1.__2009_10_FEFP_State_and_Local_Funding: '2531'!$A$5
Name _1.__2009_10_FEFP_State_and_Local_Funding: '2791'!$A$5
Name _1.__2009_10_FEFP_State_and_Local_Funding: '2801'!$A$5
Name _1.__2009_10_FEFP_State_and_Local_Funding: '2911'!$A$5
Name _1.__2009_10_FEFP_State_and_Local_Funding: '2941'!$A$5
Name _1.__2009_10_FEFP_State_and_Local_Funding: '3083'!$A$5
Name _1.__2009_10_FEFP_State_and_Local_Funding: '3345'!$A$5

Sheet Net Payment
B1: September 2025 - FY 2025 Charter School FTE Payment
B2: =Based_on_the_Second_Calculation_of_the_FEFP_2010_11 -> Based on the 2025-26 FEFP Second Calculation
B4: School # | C4: School Name | D4: Description | E4: FTE | F4: Adjustments | G4: Net | I4: NOTES TO ALL CHARTER SCHOOLS
A5: 1 | B5: 0040 | C5: Palm Beach Preparatory Middle School | D5: FTE September 2025 | E5: ='0040'!$J$124 -> 24870.66 | G5: =SUBTOTAL(109,E5:F7) -> 24870.66
I7: Please go to the bottom of the page.
A8: 2 | B8: 0100 | C8: The Learning Center High School | D8: =D5 -> FTE September 2025 | E8: ='0100'!$J$124 -> 22269.68 | G8: =SUBTOTAL(109,E8:F10) -> 22269.68
A12: 3 | B12: 1461 | C12: Inlet Grove Community High School | D12: FTE September 2025 | E12: ='1461'!$J$124 -> 530655.23 | G12: =SUBTOTAL(109,E12:F36) -> 530204.63
D13: PY Final FEFP | I13: Please go to the bottom of the page.
D14: Sep Teacher Supplies Retract
D15: PY Digital C/R
D16: PY Dig C/R A/R
D17: PY Class Size Cat.
D18: Class Size Cat.
D19: Transportation
D20: School Police | F20: 0
D21: AT&T | F21: -266.12
D22: Avaya Maintenance | F22: -94.48
D23: LAN & Internet | F23: -90
C24: Ends June 2022 | D24: SWA Fees
D25: FY21 TSIA
D28: WPB-248085
D29: WPB-248086
D30: WPB-248087
D31: WPB-249234
D34: WPB-297918
D35: WPB-303998
D36: WPB-303999
A37: =1+A12 -> 4 | B37: 1571 | C37: South Tech Charter Academy | D37: =$D$12 -> FTE September 2025 | E37: ='1571'!$J$124 -> 876352.53 | G37: =SUBTOTAL(109,E37:F52) -> 876012.41
D38: PY Final FEFP
D39: Sep Teacher Supplies Retract
D40: FY21 CSTAG Training
D41: PY Digital C/R | L41: 44630
D42: PY Dig C/R A/R | L42: =L41-60 -> 44570
D43: PY Class Size Cat.
D44: Class Size Cat.
D45: School Police | F45: 0
D46: AT&T | F46: -155.64
D47: Avaya Maintenance | F47: -94.48
D48: LAN & Internet | F48: -90
D49: FEFP Adj
...

Sheet Annual Rev & Fees
E4: 0.75 | F4: Admin | G4: Fee % | I4: Annual | M4: Current | Q4: Sec 1 Rev/Fee per FTE | U4: Net Rev Per Sec 1 FTE
D5: H/P | E5: ESE | F5: Fee % | G5: W/O TSIA | I5: Revenue | J5: Rev - TSIA | K5: Admin Fee | L5: Net Revenue | M5: Mth's Pmt | O5: Sec 1 FTE | Q5: Rev | R5: Fee | S5: Net Rev | U5: H/P | V5: 75% ESE | W5: Other
A6: 1 | B6: 0040 | C6: Palm Beach Preparatory Middle School | D6: 0 | F6: =-K6/I6 -> 0.047639928 | G6: =-K6/J6 -> 0.050000003 | I6: ='0040'!$J$107 -> 312937.08 | J6: ='0040'!$J$109 -> 298165.98 | K6: ='0040'!$J$114 -> -14908.3 | L6: ='0040'!$J$116 -> 298028.78 | M6: ='0040'!$J$124 -> 24870.66 | O6: {='0040'!E28:F28} -> 36 | P6: 0 | Q6: =I6/O6 -> 8692.6967 | R6: =K6/O6 -> -414.11944 | S6: =L6/O6 -> 8278.5772 | U6: =IF(D6="H",S6,0) -> 0 | V6: =ROUND(IF(E6=1,S6,0),2) -> 0 | W6: =IF(AND(U6=0,V6=0),S6,) -> 8278.5772
A7: 2 | B7: 0100 | C7: The Learning Center Highschool | D7: 0 | F7: =-K7/I7 -> 0.01559039 | G7: =-K7/J7 -> 0.016425827 | I7: ='0100'!$J$107 -> 271492.24 | J7: ='0100'!$J$109 -> 257683.83 | K7: ='0100'!$J$114 -> -4232.67 | L7: ='0100'!$J$116 -> 267259.57 | M7: ='0100'!$J$124 -> 22269.68 | O7: {='0100'!E28:F28} -> 11 | P7: 0 | Q7: =I7/O7 -> 24681.113 | R7: =K7/O7 -> -384.78818 | S7: =L7/O7 -> 24296.325 | U7: =IF(D7="H",S7,0) -> 0 | V7: =ROUND(IF(E7=1,S7,0),2) -> 0 | W7: =IF(AND(U7=0,V7=0),S7,) -> 24296.325
A8: 3 | B8: 1461 | C8: Inlet Grove Community High School | D8: ='[2]1461'!G$135 -> H | E8: ='[2]1461'!H$133 | F8: =-K8/I8 -> 0.0068327612 | G8: =-K8/J8 -> 0.0071491898 | I8: ='1461'!$J$107 -> 6327945.4 | J8: ='1461'!$J$109 -> 6047865.8 | K8: ='1461'!$J$114 -> -43237.34 | L8: ='1461'!$J$116 -> 6284708.1 | M8: ='1461'!$J$124 -> 530655.23 | O8: {='1461'!E28:F28} -> 699.38 | P8: 0 | Q8: =I8/O8 -> 9047.9359 | R8: =K8/O8 -> -61.822386 | S8: =L8/O8 -> 8986.1136 | U8: =IF(D8="H",S8,0) -> 8986.1136 | V8: =ROUND(IF(E8=1,S8,0),2) -> 0 | W8: =IF(AND(U8=0,V8=0),S8,) -> 0
A9: 4 | B9: 1571 | C9: South Tech Charter Academy | D9: ='[2]1571'!G$135 -> H | E9: ='[2]1571'!H$133 | F9: =-K9/I9 -> 0.0042938 | G9: =-K9/J9 -> 0.0044857535 | I9: ='1571'!$J$107 -> 10411812 | J9: ='1571'!$J$109 -> 9966272 | K9: ='1571'!$J$114 -> -44706.24 | L9: ='1571'!$J$116 -> 10367106 | M9: ='1571'!$J$124 -> 876352.53 | O9: {='1571'!E28:F28} -> 1114.64 | P9: 0 | Q9: =I9/O9 -> 9340.9642 | R9: =K9/O9 -> -40.108232 | S9: =L9/O9 -> 9300.856 | U9: =IF(D9="H",S9,0) -> 9300.856 | V9: =ROUND(IF(E9=1,S9,0),2) -> 0 | W9: =IF(AND(U9=0,V9=0),S9,) -> 0
A10: 5 | B10: 2521 | C10: Ed Venture | D10: ='[2]2521'!G$135 -> 0 | E10: ='[2]2521'!H$133 -> 1 | F10: =-K10/I10 -> 0.021425931 | G10: =-K10/J10 -> 0.022246978 | I10: ='2521'!$J$107 -> 1381302.4 | J10: ='2521'!$J$109 -> 1330324 | K10: ='2521'!$J$114 -> -29595.69 | L10: ='2521'!$J$116 -> 1351706.7 | M10: ='2521'!$J$124 -> 112694.4 | O10: {='2521'!E28:F28} -> 74.16 | P10: 0 | Q10: =I10/O10 -> 18625.976 | R10: =K10/O10 -> -399.07888 | S10: =L10/O10 -> 18226.897 | U10: =IF(D10="H",S10,0) -> 0 | V10: =ROUND(IF(E10=1,S10,0),2) -> 18226.9 | W10: =IF(AND(U10=0,V10=0),S10,) -> 0
A11: 6 | B11: 2531 | C11: Bodwell Academy | D11: ='[2]2531'!G$135 -> 0 | E11: ='[2]2531'!H$133 -> 1 | F11: =-K11/I11 -> 0.012186498 | G11: =-K11/J11 -> 0.012788368 | I11: ='2531'!$J$107 -> 1603249.7 | J11: ='2531'!$J$109 -> 1527794.6 | K11: ='2531'!$J$114 -> -19538 | L11: ='2531'!$J$116 -> 1583711.7 | M11: ='2531'!$J$124 -> 132295.12 | O11: {='2531'!E28:F28} -> 49 | P11: 0 | Q11: =I11/O11 -> 32719.382 | R11: =K11/O11 -> -398.73469 | S11: =L11/O11 -> 32320.648 | U11: =IF(D11="H",S11,0) -> 0 | V11: =ROUND(IF(E11=1,S11,0),2) -> 32320.65 | W11: =IF(AND(U11=0,V11=0),S11,) -> 0
A12: 7 | B12: 2791 | C12: The Learning Center @ The Els Center of Excl | D12: ='[2]2791'!G$135 -> 0 | E12: ='[2]2791'!H$133 -> 1 | F12: =-K12/I12 -> 0.011658701 | G12: =-K12/J12 -> 0.012289603 | I12: ='2791'!$J$107 -> 5409536.4 | J12: ='2791'!$J$109 -> 5131831.4 | K12: ='2791'!$J$114 -> -63068.17 | L12: ='2791'!$J$116 -> 5346468.2 | M12: ='2791'!$J$124 -> 446019.95 | O12: {='2791'!E28:F28} -> 164 | P12: 0 | Q12: =I12/O12 -> 32984.978 | R12: =K12/O12 -> -384.56201 | S12: =L12/O12 -> 32600.416 | U12: =IF(D12="H",S12,0) -> 0 | V12: =ROUND(IF(E12=1,S12,0),2) -> 32600.42 | W12: =IF(AND(U12=0,V12=0),S12,) -> 0
A13: 8 | B13: 2801 | C13: Palm Beach Maritime Academy Elementary | D13: ='[2]2801'!G$135 -> 0 | E13: ='[2]2801'!H$133 | F13: =-K13/I13 -> 0.020565412 | G13: =-K13/J13 -> 0.021588947 | I13: ='2801'!$J$107 -> 5365719 | J13: ='2801'!$J$109 -> 5111329.4 | K13: ='2801'!$J$114 -> -110348.22 | L13: ='2801'!$J$116 -> 5255370.8 | M13: ='2801'!$J$124 -> 438326.62 | O13: {='2801'!E28:F28} -> 579 | P13: 0 | Q13: =I13/O13 -> 9267.2176 | R13: =K13/O13 -> -190.58415 | S13: =L13/O13 -> 9076.6334 | U13: =IF(D13="H",S13,0) -> 0 | V13: =ROUND(IF(E13=1,S13,0),2) -> 0 | W13: =IF(AND(U13=0,V13=0),S13,) -> 9076.6334
A14: 9 | B14: 2911 | C14: Western Academy Charter School | D14: ='[2]2911'!G$135 -> H | E14: ='[2]2911'!H$133 | F14: =-K14/I14 -> 0.0067156205 | G14: =-K14/J14 -> 0.007054774 | I14: ='2911'!$J$107 -> 6194550.5 | J14: ='2911'!$J$109 -> 5896751.6 | K14: ='2911'!$J$114 -> -41600.25 | L14: ='2911'!$J$116 -> 6152950.2 | M14: ='2911'!$J$124 -> 513425.85 | O14: {='2911'!E28:F28} -> 708.74 | P14: 0 | Q14: =I14/O14 -> 8740.2298 | R14: =K14/O14 -> -58.696066 | S14: =L14/O14 -> 8681.5338 | U14: =IF(D14="H",S14,0) -> 8681.5338 | V14: =ROUND(IF(E14=1,S14,0),2) -> 0 | W14: =IF(AND(U14=0,V14=0),S14,) -> 0
A15: 10 | B15: 2941 | C15: Palm Beach School for Autism | D15: ='[2]2941'!G$135 -> 0 | E15: ='[2]2941'!H$133 -> 1 | F15: =-K15/I15 -> 0.0091323391 | G15: =-K15/J15 -> 0.0095893263 | I15: ='2941'!$J$107 -> 10519478 | J15: ='2941'!$J$109 -> 10018164 | K15: ='2941'!$J$114 -> -96067.44 | L15: ='2941'!$J$116 -> 10423410 | M15: ='2941'!$J$124 -> 869504.11 | O15: {='2941'!E28:F28} -> 381 | P15: 0 | Q15: =I15/O15 -> 27610.178 | R15: =K15/O15 -> -252.14551 | S15: =L15/O15 -> 27358.033 | U15: =IF(D15="H",S15,0) -> 0 | V15: =ROUND(IF(E15=1,S15,0),2) -> 27358.03 | W15: =IF(AND(U15=0,V15=0),S15,) -> 0
A16: 11 | B16: 3083 | C16: The Learning Academy @ The Els Center of Excl | D16: ='[2]3083'!G$135 -> 0 | E16: ='[2]3083'!H$133 -> 1 | F16: =-K16/I16 -> 0.010278151 | G16: =-K16/J16 -> 0.010831494 | I16: ='3083'!$J$107 -> 6014332.6 | J16: ='3083'!$J$109 -> 5707081.5 | K16: ='3083'!$J$114 -> -61816.22 | L16: ='3083'!$J$116 -> 5952516.4 | M16: ='3083'!$J$124 -> 497059.68 | O16: {='3083'!E28:F28} -> 161 | P16: 0 | Q16: =I16/O16 -> 37356.103 | R16: =K16/O16 -> -383.95168 | S16: =L16/O16 -> 36972.152 | U16: =IF(D16="H",S16,0) -> 0 | V16: =ROUND(IF(E16=1,S16,0),2) -> 36972.15 | W16: =IF(AND(U16=0,V16=0),S16,) -> 0
A17: 12 | B17: 3345 | C17: Career Academy of the Palm Beaches | D17: ='[2]3345'!G$135 -> 0 | E17: ='[2]3345'!H$133 -> 1 | F17: =-K17/I17 -> 0.028075491 | G17: =-K17/J17 -> 0.028899512 | I17: ='3345'!$J$107 -> 1127073.1 | J17: ='3345'!$J$109 -> 1094936.5 | K17: ='3345'!$J$114 -> -31643.13 | L17: ='3345'!$J$116 -> 1095430 | M17: ='3345'!$J$124 -> 91364.55 | O17: {='3345'!E28:F28} -> 77 | P17: 0 | Q17: =I17/O17 -> 14637.313 | R17: =K17/O17 -> -410.94974 | S17: =L17/O17 -> 14226.363 | U17: =IF(D17="H",S17,0) -> 0 | V17: =ROUND(IF(E17=1,S17,0),2) -> 14226.36 | W17: =IF(AND(U17=0,V17=0),S17,) -> 0
A18: 13 | B18: 3381 | C18: Imagine Schools - Chancellor Campus | D18: ='[2]3381'!G$135 -> H | E18: ='[2]3381'!H$133 | F18: =-K18/I18 -> 0.0045457595 | G18: =-K18/J18 -> 0.004775549 | I18: ='3381'!$J$107 -> 9184238.6 | J18: ='3381'!$J$109 -> 8742312.1 | K18: ='3381'!$J$114 -> -41749.34 | L18: ='3381'!$J$116 -> 9142489.3 | M18: ='3381'!$J$124 -> 762872.3 | O18: {='3381'!E28:F28} -> 1047 | P18: 0 | Q18: =I18/O18 -> 8771.9567 | R18: =K18/O18 -> -39.875205 | S18: =L18/O18 -> 8732.0815 | U18: =IF(D18="H",S18,0) -> 8732.0815 | V18: =ROUND(IF(E18=1,S18,0),2) -> 0 | W18: =IF(AND(U18=0,V18=0),S18,) -> 0
A19: 14 | B19: 3382 | C19: Glades Academy | D19: ='[2]3382'!G$135 -> 0 | E19: ='[2]3382'!H$133 | F19: =-K19/I19 -> 0.04404348 | G19: =-K19/J19 -> 0.04612546 | I19: ='3382'!$J$107 -> 2538893.1 | J19: ='3382'!$J$109 -> 2424294.3 | K19: ='3382'!$J$114 -> -111821.69 | L19: ='3382'!$J$116 -> 2427071.4 | M19: ='3382'!$J$124 -> 202508.28 | O19: {='3382'!E28:F28} -> 271 | P19: 0 | Q19: =I19/O19 -> 9368.6093 | R19: =K19/O19 -> -412.62616 | S19: =L19/O19 -> 8955.9832 | U19: =IF(D19="H",S19,0) -> 0 | V19: =ROUND(IF(E19=1,S19,0),2) -> 0 | W19: =IF(AND(U19=0,V19=0),S19,) -> 8955.9832
A20: 15 | B20: 3391 | C20: Seagull Academy for Independent Living | D20: ='[2]3391'!G$135 -> 0 | E20: ='[2]3391'!H$133 -> 1
A21: 16 | B21: 3394 | C21: Montessori Academy of Early Enrichment | D21: ='[2]3394'!G$135 -> 0 | E21: ='[2]3394'!H$133 | F21: =-K21/I21 -> 0.047549064 | G21: =-K21/J21 -> 0.050000003 | I21: ='3394'!$J$107 -> 1735604.3 | J21: ='3394'!$J$109 -> 1650527.1 | K21: ='3394'!$J$114 -> -82526.36 | L21: ='3394'!$J$116 -> 1653077.9 | M21: ='3394'!$J$124 -> 137857.37 | O21: {='3394'!E28:F28} -> 192 | P21: 0 | Q21: =I21/O21 -> 9039.6057 | R21: =K21/O21 -> -429.82479 | S21: =L21/O21 -> 8609.7809 | U21: =IF(D21="H",S21,0) -> 0 | V21: =ROUND(IF(E21=1,S21,0),2) -> 0 | W21: =IF(AND(U21=0,V21=0),S21,) -> 8609.7809
A22: 17 | B22: 3395 | C22: Somerset Academy Charter School | D22: ='[2]3395'!G$135 -> 0 | E22: ='[2]3395'!H$133 | F22: =-K22/I22 -> 0.023084302 | G22: =-K22/J22 -> 0.024270903 | I22: ='3395'!$J$107 -> 4522313.1 | J22: ='3395'!$J$109 -> 4301217.9 | K22: ='3395'!$J$114 -> -104394.44 | L22: ='3395'!$J$116 -> 4417918.6 | M22: ='3395'!$J$124 -> 368541.43 | O22: {='3395'!E28:F28} -> 515.02 | P22: 0 | Q22: =I22/O22 -> 8780.8494 | R22: =K22/O22 -> -202.69978 | S22: =L22/O22 -> 8578.1497 | U22: =IF(D22="H",S22,0) -> 0 | V22: =ROUND(IF(E22=1,S22,0),2) -> 0 | W22: =IF(AND(U22=0,V22=0),S22,) -> 8578.1497
A23: 18 | B23: 3396 | C23: G-Star School of the Arts | D23: ='[2]3396'!G$135 -> H | E23: ='[2]3396'!H$133 | F23: =-K23/I23 -> 0.0067598708 | G23: =-K23/J23 -> 0.0070733363 | I23: ='3396'!$J$107 -> 6347744.1 | J23: ='3396'!$J$109 -> 6066434.3 | K23: ='3396'!$J$114 -> -42909.93 | L23: ='3396'!$J$116 -> 6304834.2 | M23: ='3396'!$J$124 -> 533385.66 | O23: {='3396'!E28:F28} -> 706.88 | P23: 0 | Q23: =I23/O23 -> 8979.9458 | R23: =K23/O23 -> -60.703274 | S23: =L23/O23 -> 8919.2425 | U23: =IF(D23="H",S23,0) -> 8919.2425 | V23: =ROUND(IF(E23=1,S23,0),2) -> 0 | W23: =IF(AND(U23=0,V23=0),S23,) -> 0
A24: 19 | B24: 3398 | C24: Everglades Preparatory Academy | D24: ='[2]3398'!G$135 -> 0 | E24: ='[2]3398'!H$133 | F24: =-K24/I24 -> 0.047694081 | G24: =-K24/J24 -> 0.049999995 | I24: ='3398'!$J$107 -> 965833.89 | J24: ='3398'!$J$109 -> 921291.29 | K24: ='3398'!$J$114 -> -46064.56 | L24: ='3398'!$J$116 -> 919769.33 | M24: ='3398'!$J$124 -> 76763.56 | O24: {='3398'!E28:F28} -> 113.18 | P24: 0 | Q24: =I24/O24 -> 8533.6092 | R24: =K24/O24 -> -407.00265 | S24: =L24/O24 -> 8126.6066 | U24: =IF(D24="H",S24,0) -> 0 | V24: =ROUND(IF(E24=1,S24,0),2) -> 0 | W24: =IF(AND(U24=0,V24=0),S24,) -> 8126.6066
A25: 20 | B25: 3400 | C25: Believers Academy | D25: ='[2]3400'!G$135 -> 0 | E25: ='[2]3400'!H$133 -> 1 | F25: =-K25/I25 -> 0.032480878 | G25: =-K25/J25 -> 0.033553774 | I25: ='3400'!$J$107 -> 1170602 | J25: ='3400'!$J$109 -> 1133171.5 | K25: ='3400'!$J$114 -> -38022.18 | L25: ='3400'!$J$116 -> 1132579.8 | M25: ='3400'!$J$124 -> 94458.1 | O25: {='3400'!E28:F28} -> 95.86 | P25: 0 | Q25: =I25/O25 -> 12211.579 | R25: =K25/O25 -> -396.64281 | S25: =L25/O25 -> 11814.936 | U25: =IF(D25="H",S25,0) -> 0 | V25: =ROUND(IF(E25=1,S25,0),2) -> 11814.94 | W25: =IF(AND(U25=0,V25=0),S25,) -> 0
A26: 21 | B26: 3401 | C26: Quantum High School | D26: ='[2]3401'!G$135 -> 0 | E26: ='[2]3401'!H$133 -> 0 | F26: =-K26/I26 -> 0.028021824 | G26: =-K26/J26 -> 0.029364782 | I26: ='3401'!$J$107 -> 3670836.7 | J26: ='3401'!$J$109 -> 3502956.1 | K26: ='3401'!$J$114 -> -102863.54 | L26: ='3401'!$J$116 -> 3567973.1 | M26: ='3401'!$J$124 -> 298028.7 | O26: {='3401'!E28:F28} -> 425.68 | P26: 0 | Q26: =I26/O26 -> 8623.4652 | R26: =K26/O26 -> -241.64523 | S26: =L26/O26 -> 8381.8199 | U26: =IF(D26="H",S26,0) -> 0 | V26: =ROUND(IF(E26=1,S26,0),2) -> 0 | W26: =IF(AND(U26=0,V26=0),S26,) -> 8381.8199
A27: 22 | B27: 3413 | C27: Somerset Academy Boca | D27: ='[2]3413'!G$135 -> H | E27: ='[2]3413'!H$133 | F27: =-K27/I27 -> 0.012198363 | G27: =-K27/J27 -> 0.012819855 | I27: ='3413'!$J$107 -> 3477233.1 | J27: ='3413'!$J$109 -> 3308660.7 | K27: ='3413'!$J$114 -> -42416.55 | L27: ='3413'!$J$116 -> 3434816.5 | M27: ='3413'!$J$124 -> 286550.08 | O27: {='3413'!E28:F28} -> 390.02 | P27: 0 | Q27: =I27/O27 -> 8915.5251 | R27: =K27/O27 -> -108.75481 | S27: =L27/O27 -> 8806.7703 | U27: =IF(D27="H",S27,0) -> 8806.7703 | V27: =ROUND(IF(E27=1,S27,0),2) -> 0 | W27: =IF(AND(U27=0,V27=0),S27,) -> 0
A28: 23 | B28: 3421 | C28: Worthington High School | D28: ='[2]3421'!G$135 -> 0 | E28: ='[2]3421'!H$133 | F28: =-K28/I28 -> 0.02484854 | G28: =-K28/J28 -> 0.02608623 | I28: ='3421'!$J$107 -> 3957492 | J28: ='3421'!$J$109 -> 3769724.5 | K28: ='3421'!$J$114 -> -98337.9 | L28: ='3421'!$J$116 -> 3859154.1 | M28: ='3421'!$J$124 -> 322019.77 | O28: {='3421'!E28:F28} -> 479.18 | P28: 0 | Q28: =I28/O28 -> 8258.884 | R28: =K28/O28 -> -205.22121 | S28: =L28/O28 -> 8053.6628 | U28: =IF(D28="H",S28,0) -> 0 | V28: =ROUND(IF(E28=1,S28,0),2) -> 0 | W28: =IF(AND(U28=0,V28=0),S28,) -> 8053.6628
A29: 24 | B29: 3431 | C29: Renaissance Charter School at WPB | D29: ='[2]3431'!G$135 -> H | E29: ='[2]3431'!H$133 | F29: =-K29/I29 -> 0.0046924041 | G29: =-K29/J29 -> 0.0049315506 | I29: ='3431'!$J$107 -> 8883510.3 | J29: ='3431'!$J$109 -> 8452720.8 | K29: ='3431'!$J$114 -> -41685.02 | L29: ='3431'!$J$116 -> 8841825.3 | M29: ='3431'!$J$124 -> 737684.93 | O29: {='3431'!E28:F28} -> 1013.88 | P29: 0 | Q29: =I29/O29 -> 8761.8952 | R29: =K29/O29 -> -41.114353 | S29: =L29/O29 -> 8720.7809 | U29: =IF(D29="H",S29,0) -> 8720.7809 | V29: =ROUND(IF(E29=1,S29,0),2) -> 0 | W29: =IF(AND(U29=0,V29=0),S29,) -> 0
A30: 25 | B30: 3441 | C30: South Tech Preparatory Academy (MS) | D30: ='[2]3441'!G$135 -> 0 | E30: ='[2]3441'!H$133 | F30: =-K30/I30 -> 0.022608827 | G30: =-K30/J30 -> 0.02369219 | I30: ='3441'!$J$107 -> 4651871.1 | J30: ='3441'!$J$109 -> 4439156.9 | K30: ='3441'!$J$114 -> -105173.35 | L30: ='3441'!$J$116 -> 4546697.7 | M30: ='3441'!$J$124 -> 380953.21 | O30: {='3441'!E28:F28} -> 527.6 | P30: 0 | Q30: =I30/O30 -> 8817.0414 | R30: =K30/O30 -> -199.34297 | S30: =L30/O30 -> 8617.6985 | U30: =IF(D30="H",S30,0) -> 0 | V30: =ROUND(IF(E30=1,S30,0),2) -> 0 | W30: =IF(AND(U30=0,V30=0),S30,) -> 8617.6985
A31: 26 | B31: 3924 | C31: Palm Beach Maritime Academy Secondary | D31: ='[2]3924'!G$135 -> 0 | E31: ='[2]3924'!H$133 | F31: =-K31/I31 -> 0.02725872 | G31: =-K31/J31 -> 0.028589727 | I31: ='3924'!$J$107 -> 3809418.8 | J31: ='3924'!$J$109 -> 3632069.7 | K31: ='3924'!$J$114 -> -103839.88 | L31: ='3924'!$J$116 -> 3705578.9 | M31: ='3924'!$J$124 -> 309424.3 | O31: {='3924'!E28:F28} -> 437.22 | P31: 0 | Q31: =I31/O31 -> 8712.8191 | R31: =K31/O31 -> -237.5003 | S31: =L31/O31 -> 8475.3188 | U31: =IF(D31="H",S31,0) -> 0 | V31: =ROUND(IF(E31=1,S31,0),2) -> 0 | W31: =IF(AND(U31=0,V31=0),S31,) -> 8475.3188
A32: 27 | B32: 3941 | C32: Ben Gamla Charter School | D32: ='[2]3941'!G$135 -> H | E32: ='[2]3941'!H$133 | F32: =-K32/I32 -> 0.019033025 | G32: =-K32/J32 -> 0.019999998 | I32: ='3941'!$J$107 -> 2059442 | J32: ='3941'!$J$109 -> 1959870.6 | K32: ='3941'!$J$114 -> -39197.41 | L32: ='3941'!$J$116 -> 2020244.6 | M32: ='3941'!$J$124 -> 168521.9 | O32: {='3941'!E28:F28} -> 229 | P32: 0 | Q32: =I32/O32 -> 8993.1964 | R32: =K32/O32 -> -171.16773 | S32: =L32/O32 -> 8822.0286 | U32: =IF(D32="H",S32,0) -> 8822.0286 | V32: =ROUND(IF(E32=1,S32,0),2) -> 0 | W32: =IF(AND(U32=0,V32=0),S32,) -> 0
A33: 28 | B33: 3961 | C33: Gardens School of Technology Arts | D33: ='[2]3961'!G$135 -> 0 | E33: ='[2]3961'!H$133
A34: 29 | B34: 3971 | C34: Palm Beach Preparatory Charter Academy | D34: ='[2]3971'!G$135 -> 0 | E34: ='[2]3971'!H$133 | F34: =-K34/I34 -> 0.018851811 | G34: =-K34/J34 -> 0.019807314 | I34: ='3971'!$J$107 -> 5205468.5 | J34: ='3971'!$J$109 -> 4954357.2 | K34: ='3971'!$J$114 -> -98132.51 | L34: ='3971'!$J$116 -> 5107336 | M34: ='3971'!$J$124 -> 426358.86 | O34: {='3971'!E28:F28} -> 631.08 | P34: 0 | Q34: =I34/O34 -> 8248.5081 | R34: =K34/O34 -> -155.49932 | S34: =L34/O34 -> 8093.0088 | U34: =IF(D34="H",S34,0) -> 0 | V34: =ROUND(IF(E34=1,S34,0),2) -> 0 | W34: =IF(AND(U34=0,V34=0),S34,) -> 8093.0088
A35: 30 | B35: 4001 | C35: Renaissance Charter School at Wellington | D35: ='[2]4001'!G$135 -> 0 | E35: ='[2]4001'!H$133 | F35: =-K35/I35 -> 0.017444106 | G35: =-K35/J35 -> 0.018328446 | I35: ='4001'!$J$107 -> 6019584.4 | J35: ='4001'!$J$109 -> 5729142 | K35: ='4001'!$J$114 -> -105006.27 | L35: ='4001'!$J$116 -> 5914578.1 | M35: ='4001'!$J$124 -> 493503.4 | O35: {='4001'!E28:F28} -> 682 | P35: 0 | Q35: =I35/O35 -> 8826.3701 | R35: =K35/O35 -> -153.96814 | S35: =L35/O35 -> 8672.402 | U35: =IF(D35="H",S35,0) -> 0 | V35: =ROUND(IF(E35=1,S35,0),2) -> 0 | W35: =IF(AND(U35=0,V35=0),S35,) -> 8672.402
A36: 31 | B36: 4002 | C36: Renaissance Charter School at Summit | D36: ='[2]4002'!G$135 -> 0 | E36: ='[2]4002'!H$133 | F36: =-K36/I36 -> 0.012079019 | G36: =-K36/J36 -> 0.012701187 | I36: ='4002'!$J$107 -> 8679085.7 | J36: ='4002'!$J$109 -> 8253940.4 | K36: ='4002'!$J$114 -> -104834.84 | L36: ='4002'!$J$116 -> 8574250.8 | M36: ='4002'!$J$124 -> 715174.91 | O36: {='4002'!E28:F28} -> 984.16 | P36: 0 | Q36: =I36/O36 -> 8818.7751 | R36: =K36/O36 -> -106.52215 | S36: =L36/O36 -> 8712.2529 | U36: =IF(D36="H",S36,0) -> 0 | V36: =ROUND(IF(E36=1,S36,0),2) -> 0 | W36: =IF(AND(U36=0,V36=0),S36,) -> 8712.2529
A37: 32 | B37: 4012 | C37: Somerset Academy Canyons Middle School | D37: ='[2]4012'!G$135 -> H | E37: ='[2]4012'!H$133 | F37: =-K37/I37 -> 0.0079866595 | G37: =-K37/J37 -> 0.0083870105 | I37: ='4012'!$J$107 -> 5024831.7 | J37: ='4012'!$J$109 -> 4784973.1 | K37: ='4012'!$J$114 -> -40131.62 | L37: ='4012'!$J$116 -> 4984700.1 | M37: ='4012'!$J$124 -> 417398.36 | O37: {='4012'!E28:F28} -> 596.16 | P37: 0 | Q37: =I37/O37 -> 8428.663 | R37: =K37/O37 -> -67.316861 | S37: =L37/O37 -> 8361.3461 | U37: =IF(D37="H",S37,0) -> 8361.3461 | V37: =ROUND(IF(E37=1,S37,0),2) -> 0 | W37: =IF(AND(U37=0,V37=0),S37,) -> 0
A38: 33 | B38: 4013 | C38: Somerset Academy Canyons High School | D38: ='[2]4013'!G$135 -> H | E38: ='[2]4013'!H$133 | F38: =-K38/I38 -> 0.0046854078 | G38: =-K38/J38 -> 0.0048955292 | I38: ='4013'!$J$107 -> 9341472.9 | J38: ='4013'!$J$109 -> 8940526.8 | K38: ='4013'!$J$114 -> -43768.61 | L38: ='4013'!$J$116 -> 9297704.3 | M38: ='4013'!$J$124 -> 795258.27 | O38: {='4013'!E28:F28} -> 1021.34 | P38: 0 | Q38: =I38/O38 -> 9146.2911 | R38: =K38/O38 -> -42.854103 | S38: =L38/O38 -> 9103.437 | U38: =IF(D38="H",S38,0) -> 9103.437 | V38: =ROUND(IF(E38=1,S38,0),2) -> 0 | W38: =IF(AND(U38=0,V38=0),S38,) -> 0
A39: 34 | B39: 4020 | C39: Franklin Academy - Boynton Beach | D39: ='[2]4020'!G$135 -> 0 | E39: ='[2]4020'!H$133 | F39: =-K39/I39 -> 0.0095543749 | G39: =-K39/J39 -> 0.010036452 | I39: ='4020'!$J$107 -> 10972109 | J39: ='4020'!$J$109 -> 10445089 | K39: ='4020'!$J$114 -> -104831.64 | L39: ='4020'!$J$116 -> 10867277 | M39: ='4020'!$J$124 -> 906770.45 | O39: {='4020'!E28:F28} -> 1245.46 | P39: 0 | Q39: =I39/O39 -> 8809.6838 | R39: =K39/O39 -> -84.171021 | S39: =L39/O39 -> 8725.5128 | U39: =IF(D39="H",S39,0) -> 0 | V39: =ROUND(IF(E39=1,S39,0),2) -> 0 | W39: =IF(AND(U39=0,V39=0),S39,) -> 8725.5128
A40: 35 | B40: 4030 | C40: Olympus International Academy | D40: ='[2]4030'!G$135 -> 0 | E40: ='[2]4030'!H$133 | F40: =-K40/I40 -> 0.03907743 | G40: =-K40/J40 -> 0.041115716 | I40: ='4030'!$J$107 -> 2725886 | J40: ='4030'!$J$109 -> 2590751.9 | K40: ='4030'!$J$114 -> -106520.62 | L40: ='4030'!$J$116 -> 2619365.4 | M40: ='4030'!$J$124 -> 218407.85 | O40: {='4030'!E28:F28} -> 304.02 | P40: 0 | Q40: =I40/O40 -> 8966.1404 | R40: =K40/O40 -> -350.37373 | S40: =L40/O40 -> 8615.7667 | U40: =IF(D40="H",S40,0) -> 0 | V40: =ROUND(IF(E40=1,S40,0),2) -> 0 | W40: =IF(AND(U40=0,V40=0),S40,) -> 8615.7667
A41: 36 | B41: 4031 | C41: Somerset Academy Wellington | D41: ='[2]4031'!G$135 -> 0 | E41: ='[2]4031'!H$133 | F41: =-K41/I41 -> 0.025954394 | G41: =-K41/J41 -> 0.027284236 | I41: ='4031'!$J$107 -> 4019129.9 | J41: ='4031'!$J$109 -> 3823236.2 | K41: ='4031'!$J$114 -> -104314.08 | L41: ='4031'!$J$116 -> 3914815.9 | M41: ='4031'!$J$124 -> 326575.68 | O41: {='4031'!E28:F28} -> 458.14 | P41: 0 | Q41: =I41/O41 -> 8772.7112 | R41: =K41/O41 -> -227.6904 | S41: =L41/O41 -> 8545.0208 | U41: =IF(D41="H",S41,0) -> 0 | V41: =ROUND(IF(E41=1,S41,0),2) -> 0 | W41: =IF(AND(U41=0,V41=0),S41,) -> 8545.0208
A42: 37 | B42: 4041 | C42: Somerset Academy Boca Middle School | D42: ='[2]4041'!G$135 -> H | E42: ='[2]4041'!H$133 | F42: =-K42/I42 -> 0.019036233 | G42: =-K42/J42 -> 0.020000004 | I42: ='4041'!$J$107 -> 791018.89 | J42: ='4041'!$J$109 -> 752900.84 | K42: ='4041'!$J$114 -> -15058.02 | L42: ='4041'!$J$116 -> 775960.87 | M42: ='4041'!$J$124 -> 64770.19 | O42: {='4041'!E28:F28} -> 94.7 | P42: 0 | Q42: =I42/O42 -> 8352.8922 | R42: =K42/O42 -> -159.0076 | S42: =L42/O42 -> 8193.8846 | U42: =IF(D42="H",S42,0) -> 8193.8846 | V42: =ROUND(IF(E42=1,S42,0),2) -> 0 | W42: =IF(AND(U42=0,V42=0),S42,) -> 0
A43: 38 | B43: 4050 | C43: Renaissance Charter School at Cypress | D43: ='[2]4050'!G$135 -> 0 | E43: ='[2]4050'!H$133 | F43: =-K43/I43 -> 0.016343925 | G43: =-K43/J43 -> 0.017184966 | I43: ='4050'!$J$107 -> 6331350.5 | J43: ='4050'!$J$109 -> 6021491.2 | K43: ='4050'!$J$114 -> -103479.12 | L43: ='4050'!$J$116 -> 6227871.4 | M43: ='4050'!$J$124 -> 519597.92 | O43: {='4050'!E28:F28} -> 727.38 | P43: 0 | Q43: =I43/O43 -> 8704.3231 | R43: =K43/O43 -> -142.26281 | S43: =L43/O43 -> 8562.0603 | U43: =IF(D43="H",S43,0) -> 0 | V43: =ROUND(IF(E43=1,S43,0),2) -> 0 | W43: =IF(AND(U43=0,V43=0),S43,) -> 8562.0603
...

Sheet Charter Schools
B1: Palm Beach County Charter Schools
B3: Sorted by School Number | E3: Sorted by School Name
B4: Dept # | C4: Charter School Name | E4: Dept # | F4: Charter School Name
A5: 1 | B5: 0040 | C5: PALM BEACH PREPARATORY ACADEMY MS | E5: 3400 | F5: Believers Academy
A6: 2 | B6: 0100 | C6: THE LEARNING CENTER HS | E6: 3941 | F6: Ben Gamla Charter School | I6: 3391 Seagull Academy for Independent Living and 2531 Potentials Charter School merged in FY 25 and changed their name to Bodwell Academy
A7: 3 | B7: 1461 | C7: Inlet Grove Community High School | E7: 4102 | F7: BridgePrep Academy of PB
A8: 4 | B8: 1571 | C8: South Tech Charter Academy | E8: 4100 | F8: Connections Education Center of the Palm Beaches
A9: 5 | B9: 2521 | C9: Ed Venture | E9: 2521 | F9: Ed Venture | I9: 3961 Garden School of Technology is closing for FY 26.
A10: 6 | B10: 2531 | C10: Bodwell Academy (formerly - Potentials Charter School) | E10: 3398 | F10: Everglades Preparatory Academy | I10: 4080 University Prep is closed for FY 26
A11: 7 | B11: 2791 | C11: The Learning Center at The Els Center of Excellence | E11: 4081 | F11: Florida Futures Academy - North Campus
A12: 8 | B12: 2801 | C12: Palm Beach Maritime Academy Elementary | E12: 4020 | F12: Franklin Academy - Boynton Beach
A13: 9 | B13: 2911 | C13: Western Academy Charter School | E13: 4061 | F13: Franklin Academy - Palm Beach Gardens | I13: New Schools
A14: 10 | B14: 2941 | C14: Palm Beach School for Autism | E14: 3961 | F14: Gardens School of Technology Arts | I14: 0040 | J14: PALM BEACH PREPARATORY ACADEMY MS
A15: 11 | B15: 3083 | C15: The Learning Academy at The Els Center of Excellence | E15: 3382 | F15: Glades Academy | I15: 0100 | J15: THE LEARNING CENTER HS
A16: 12 | B16: 3345 | C16: Career Academy of the Palm Beaches | E16: 3396 | F16: G-Star School of the Arts for Motion Pictures and Television | I16: 3362 | J16: Somserset Avenir
A17: 13 | B17: 3362 | C17: Somerset Avenir | E17: 3345 | F17: Career Academy of the Palm Beaches
A18: 14 | B18: 3381 | C18: Imagine Schools - Chancellor Campus | E18: 3381 | F18: Imagine Schools - Chancellor Campus
A19: 15 | B19: 3382 | C19: Glades Academy | E19: 1461 | F19: Inlet Grove Community High School
A20: 16 | B20: 3391 | C20: Seagull Academy for Independent Living | E20: 3394 | F20: Montessori Academy of Early Enrichment
A21: 17 | B21: 3394 | C21: Montessori Academy of Early Enrichment | E21: 4030 | F21: Olympus International Academy
A22: 18 | B22: 3395 | C22: Somerset Academy JFK Charter School | E22: 2801 | F22: Palm Beach Maritime Academy Elementary
A23: 19 | B23: 3396 | C23: G-Star School of the Arts for Motion Pictures and Television | E23: 3924 | F23: Palm Beach Maritime Academy Secondary
A24: 20 | B24: 3398 | C24: Everglades Preparatory Academy | E24: 3971 | F24: Palm Beach Preparatory Charter Academy
A25: 21 | B25: 3400 | C25: Believers Academy | E25: 0040 | F25: PALM BEACH PREPARATORY ACADEMY MS
A26: 22 | B26: 3401 | C26: Quantum High School | E26: 2941 | F26: Palm Beach School for Autism
A27: 23 | B27: 3413 | C27: Somerset Academy Boca | E27: 2531 | F27: Potentials Charter School
A28: 24 | B28: 3421 | C28: Worthington High School | E28: 3401 | F28: Quantum High School
A29: 25 | B29: 3431 | C29: Renaissance Charter School at WPB | E29: 4051 | F29: Renaissance Charter School at Central Palm
... A34: 30 | B34: 3971 | C34: Palm Beach Preparatory Charter Academy | E34: 3391 | F34: Seagull Academy for Independent Living
A35: 31 | B35: 4001 | C35: Renaissance Charter School at Wellington | E35: 4111 | F35: SLAM HS Palm Beach
A36: 32 | B36: 4002 | C36: Renaissance Charter School at Summit | E36: 3362 | F36: Somerset Avenir
A37: 33 | B37: 4012 | C37: Somerset Academy Canyons Middle School | E37: 3413 | F37: Somerset Academy Boca
A38: 34 | B38: 4013 | C38: Somerset Academy Canyons High School | E38: 4041 | F38: Somerset Academy Boca Middle School
A39: 35 | B39: 4020 | C39: Franklin Academy - Boynton Beach | E39: 4013 | F39: Somerset Academy Canyons High School
A40: 36 | B40: 4030 | C40: Olympus International Academy | E40: 4012 | F40: Somerset Academy Canyons Middle School
A41: 37 | B41: 4031 | C41: Somerset Academy Wellington | E41: 3395 | F41: Somerset Academy JFK Charter School
A42: 38 | B42: 4041 | C42: Somerset Academy Boca Middle School | E42: 4091 | F42: Somerset Academy Lakes
A43: 39 | B43: 4050 | C43: Renaissance Charter School at Cypress | E43: 4031 | F43: Somerset Academy Wellington
A44: 40 | B44: 4051 | C44: Renaissance Charter School at Central Palm | E44: 4131 | F44: Somerset Academy Wellington HS
A45: 41 | B45: 4061 | C45: Franklin Academy - Palm Beach Gardens | E45: 1571 | F45: South Tech Charter Academy
...

Sheet Consolidated
B1: (Insert district number in cell A1, enter, then strike F9. Your district data then pulls from Calculation Detail Sheets)
A2: Revenue Estimate Worksheet: All Charter Schools (Consolidated Tab)
A3: ='[2]1461'!A3 -> Based on the FLDOE 2025-26 FEFP Calculation
A4: School District: | C4: Palm Beach | F4: September 2025
A7: 1A. 2025-26 FEFP State and Local Funding
B8: Base Student Allocation: | C8: ='[2]1461'!C8 -> 5372.6 | G8: District Cost Differential: | H8: ='[2]1461'!H8 -> 1.0355
G9: Small District Factor: | H9: ='[2]1461'!H9 -> 1
I10: ='[2]1461'!I10 -> 2025-26
C11: ='[2]1461'!C11 -> Oct 2024 | D11: ='[2]1461'!D11 -> Feb 2025 | E11: Total | F11: Program | H11: Weighted FTE | I11: Base Funding
A12: Program | C12: ='[2]1461'!C12 -> FTE | D12: ='[2]1461'!D12 -> FTE | E12: FTE | F12: Cost Factor | H12: (2) x (3) | I12: (WFTE x BSA x CWF x SDF)
A13: (1) | E13: (2) | F13: (3) | H13: (4) | I13: (5)
A14: 101 Basic K-3 | C14: =SUM('0040:4131'!C12) -> 2060.02 | D14: =SUM('0040:4131'!D12) -> 0 | E14: =SUM('0040:4131'!E12) -> 4120.04 | F14: ='1461'!G12:G12 -> 1.108 | H14: =SUM('0040:4131'!I12) -> 4565.0043 | I14: =SUM('0040:4131'!J12) -> 25396613
A15: 111 Basic K-3 with ESE Services | C15: =SUM('0040:4131'!C13) -> 288 | D15: =SUM('0040:4131'!D13) -> 0 | E15: =SUM('0040:4131'!E13) -> 576 | F15: ='1461'!G13:G13 -> 1.108 | H15: =SUM('0040:4131'!I13) -> 638.208 | I15: =SUM('0040:4131'!J13) -> 3550560
A16: 102 Basic 4-8 | C16: =SUM('0040:4131'!C14) -> 3225.28 | D16: =SUM('0040:4131'!D14) -> 0 | E16: =SUM('0040:4131'!E14) -> 6450.56 | F16: ='1461'!G14:G14 -> 1 | H16: =SUM('0040:4131'!I14) -> 6450.56 | I16: =SUM('0040:4131'!J14) -> 35886577
A17: 112 Basic 4-8 with ESE Services | C17: =SUM('0040:4131'!C15) -> 580.06 | D17: =SUM('0040:4131'!D15) -> 0 | E17: =SUM('0040:4131'!E15) -> 1160.12 | F17: ='1461'!G15:G15 -> 1 | H17: =SUM('0040:4131'!I15) -> 1160.12 | I17: =SUM('0040:4131'!J15) -> 6454127.3
A18: 103 Basic 9-12 | C18: =SUM('0040:4131'!C16) -> 2242.3 | D18: =SUM('0040:4131'!D16) -> 0 | E18: =SUM('0040:4131'!E16) -> 4484.6 | F18: ='1461'!G16:G16 -> 0.972 | H18: =SUM('0040:4131'!I16) -> 4359.0313 | I18: =SUM('0040:4131'!J16) -> 24250718
A19: 113 Basic 9-12 with ESE Services | C19: =SUM('0040:4131'!C17) -> 626.99 | D19: =SUM('0040:4131'!D17) -> 0 | E19: =SUM('0040:4131'!E17) -> 1253.98 | F19: ='1461'!G17:G17 -> 0.972 | H19: =SUM('0040:4131'!I17) -> 1218.8686 | I19: =SUM('0040:4131'!J17) -> 6780965
A20: 254 ESE Level 4 (Grade Level PK-3) | C20: =SUM('0040:4131'!C18) -> 91.5 | D20: =SUM('0040:4131'!D18) -> 0 | E20: =SUM('0040:4131'!E18) -> 183 | F20: ='1461'!G18:G18 -> 3.609 | H20: =SUM('0040:4131'!I18) -> 660.447 | I20: =SUM('0040:4131'!J18) -> 3674282.8
A21: 254 ESE Level 4 (Grade Level 4-8) | C21: =SUM('0040:4131'!C19) -> 79 | D21: =SUM('0040:4131'!D19) -> 0 | E21: =SUM('0040:4131'!E19) -> 158 | F21: ='1461'!G19:G19 -> 3.609 | H21: =SUM('0040:4131'!I19) -> 570.222 | I21: =SUM('0040:4131'!J19) -> 3172331.6
A22: 254 ESE Level 4 (Grade Level 9-12) | C22: =SUM('0040:4131'!C20) -> 57.93 | D22: =SUM('0040:4131'!D20) -> 0 | E22: =SUM('0040:4131'!E20) -> 115.86 | F22: ='1461'!G20:G20 -> 3.609 | H22: =SUM('0040:4131'!I20) -> 418.1387 | I22: =SUM('0040:4131'!J20) -> 2326242.5
A23: 255 ESE Level 5 (Grade Level PK-3) | C23: =SUM('0040:4131'!C21) -> 50.5 | D23: =SUM('0040:4131'!D21) -> 0 | E23: =SUM('0040:4131'!E21) -> 101 | F23: ='1461'!G21:G21 -> 6.064 | H23: =SUM('0040:4131'!I21) -> 612.464 | I23: =SUM('0040:4131'!J21) -> 3407337.7
A24: 255 ESE Level 5 (Grade Level 4-8) | C24: =SUM('0040:4131'!C22) -> 50.5 | D24: =SUM('0040:4131'!D22) -> 0 | E24: =SUM('0040:4131'!E22) -> 101 | F24: ='1461'!G22:G22 -> 6.064 | H24: =SUM('0040:4131'!I22) -> 612.464 | I24: =SUM('0040:4131'!J22) -> 3407337.7
A25: 255 ESE Level 5 (Grade Level 9-12) | C25: =SUM('0040:4131'!C23) -> 40 | D25: =SUM('0040:4131'!D23) -> 0 | E25: =SUM('0040:4131'!E23) -> 80 | F25: ='1461'!G23:G23 -> 6.064 | H25: =SUM('0040:4131'!I23) -> 485.12 | I25: =SUM('0040:4131'!J23) -> 2698881.3
... A29: 300 Career Education (Grades 9-12) | C29: =SUM('0040:4131'!C27) -> 287.03 | D29: =SUM('0040:4131'!D27) -> 0 | E29: =SUM('0040:4131'!E27) -> 574.06 | F29: ='1461'!G27:G27 -> 1.081 | H29: =SUM('0040:4131'!I27) -> 620.5587 | I29: =SUM('0040:4131'!J27) -> 3452371.2
A30: Totals non-virtual schools | C30: =SUM(C14:C29) -> 10719.78 | D30: =SUM(D14:D29) -> 0 | E30: =SUM(E14:E29) -> 21439.56 | H30: =SUM('0040:4131'!I28) -> 24795.968 | I30: =SUM('0040:4131'!J28) -> 1.3794808e+08
A31: Virtual schools ($5,476.28/FTE) | C31: =SUM('0040:4131'!C29) -> 0 | D31: =SUM('0040:4131'!D29) -> 0 | E31: =IF(D$30=0,C31*2,C31+D31) -> 0 | F31: ='1461'!G29:G29 -> 0 | H31: =ROUND(E31*F31,4) -> 0 | I31: =[2]Virtual!E28 -> 0
A32: Totals all schools | C32: =SUM(C30:C31) -> 10719.78 | D32: =SUM(D30:D31) -> 0 | E32: =SUM(E30:E31) -> 21439.56 | I32: =SUM('0040:4131'!J30) -> 0
A34: Letters in Parentheses Refer to Notes at Bottom of Worksheet:
I36: 2018-19
C37: =C11 -> Oct 2024 | D37: =D11 -> Feb 2025 | E37: Total | I37: Base Funding
A38: Additional FTE (a) | C38: FTE | D38: FTE | E38: FTE | I38: (WFTE x BSA x DCD)
A39: Advanced Placement | C39: =SUM('[2]1461:4111'!C38) -> 0 | D39: =SUM('[2]1461:4111'!D38) -> 0 | E39: =SUM('[2]1461:4111'!E38) -> 0 | I39: =SUM('[2]1461:4111'!I38) -> 0
A40: International Baccalaureate | C40: =SUM('[2]1461:4111'!C39) -> 0 | D40: =SUM('[2]1461:4111'!D39) -> 0 | E40: =SUM('[2]1461:4111'!E39) -> 0 | I40: =SUM('[2]1461:4111'!I39) -> 0
A41: Advanced International Certificate | C41: =SUM('[2]1461:4111'!C40) -> 0 | D41: =SUM('[2]1461:4111'!D40) -> 0 | E41: =SUM('[2]1461:4111'!E40) -> 0 | I41: =SUM('[2]1461:4111'!I40) -> 0
A42: Industry Certified Career Education | C42: =SUM('[2]1461:4111'!C41) -> 0 | D42: =SUM('[2]1461:4111'!D41) -> 0 | E42: =SUM('[2]1461:4111'!E41) -> 0 | I42: =SUM('[2]1461:4111'!I41) -> 0
A43: Early High School Graduation | C43: =SUM('[2]1461:4111'!C42) -> 0 | D43: =SUM('[2]1461:4111'!D42) -> 0 | E43: =SUM('[2]1461:4111'!E42) -> 0 | I43: =SUM('[2]1461:4111'!I42) -> 0
A44: Small District ESE Supplement | C44: =SUM('[2]1461:4111'!C43) -> 0 | D44: =SUM('[2]1461:4111'!D43) -> 0 | E44: =SUM('[2]1461:4111'!E43) -> 0 | I44: =SUM('[2]1461:4111'!I43) -> 0
B45: Total Additional FTE | C45: =SUM(C39:C44) -> 0 | D45: =SUM(D39:D44) -> 0 | E45: =SUM(E39:E44) -> 0 | H45: Additional Base Funds | I45: =SUM(I39:I44) -> 0
B47: Total Funded Weighted FTE | E47: =H30+E45 -> 24795.968 | H47: Total Base Funding | I47: =SUM(I45,I32) -> 0
A50: 1B. Classroom Teacher & Other Instructional Personnel Salary Increase
...

Sheet Cumulative Payments
A1: Cumulative Payments
D4: Net Revenue | E4: July | F4: August | G4: Sept | H4: Oct | I4: Nov | J4: Dec | K4: Jan | L4: Feb | M4: March | N4: April | O4: May | P4: June | Q4: Total | R4: Payments excluding current month
A5: 1 | B5: 0040 | C5: Palm Beach Preparatory Middle School | D5: 298028.78 | E5: 24451.48 | F5: 24870.66 | G5: 24870.66 | Q5: =SUM(E5:P5) -> 74192.8 | R5: 0
A6: 2 | B6: 0100 | C6: The Learning Center Highschool | D6: 267259.57 | E6: 22293.06 | F6: 22269.68 | G6: 22269.68 | Q6: =SUM(E6:P6) -> 66832.42 | R6: 0
A7: 3 | B7: 1461 | C7: Inlet Grove Community High School | D7: 6284708.1 | E7: 485398.34 | F7: 492757.49 | G7: 530655.23 | Q7: =SUM(E7:P7) -> 1508811.1 | R7: 0
A8: 4 | B8: 1571 | C8: South Tech Charter Academy | D8: 10367106 | E8: 795164.86 | F8: 808415.92 | G8: 876352.53 | Q8: =SUM(E8:P8) -> 2479933.3 | R8: 0
A9: 5 | B9: 2521 | C9: Ed Venture | D9: 1351706.7 | E9: 112200.54 | F9: 112562.16 | G9: 112694.4 | Q9: =SUM(E9:P9) -> 337457.1 | R9: 0
A10: 6 | B10: 2531 | C10: Bodwell Academy | D10: 1583711.7 | E10: 128465.38 | F10: 132295.12 | G10: 132295.12 | Q10: =SUM(E10:P10) -> 393055.62 | R10: 0
A11: 7 | B11: 2791 | C11: The Learning Center @ The Els Center of Excl | D11: 5346468.2 | E11: 440248.86 | F11: 446019.94 | G11: 446019.95 | Q11: =SUM(E11:P11) -> 1332288.8 | R11: 0
A12: 8 | B12: 2801 | C12: Palm Beach Maritime Academy Elementary | D12: 5255370.8 | E12: 433777.9 | F12: 438326.62 | G12: 438326.62 | Q12: =SUM(E12:P12) -> 1310431.1 | R12: 0
A13: 9 | B13: 2911 | C13: Western Academy Charter School | D13: 6152950.2 | E13: 505265.93 | F13: 513425.85 | G13: 513425.85 | Q13: =SUM(E13:P13) -> 1532117.6 | R13: 0
A14: 10 | B14: 2941 | C14: Palm Beach School for Autism | D14: 10423410 | E14: 858865.25 | F14: 869504.11 | G14: 869504.11 | Q14: =SUM(E14:P14) -> 2597873.5 | R14: 0
A15: 11 | B15: 3083 | C15: The Learning Academy @ The Els Center of Excl | D15: 5952516.4 | E15: 484859.99 | F15: 497059.68 | G15: 497059.68 | Q15: =SUM(E15:P15) -> 1478979.3 | R15: 0
A16: 12 | B16: 3345 | C16: Career Academy of the Palm Beaches | D16: 1095430 | E16: 90419.86 | F16: 91364.55 | G16: 91364.55 | Q16: =SUM(E16:P16) -> 273148.96 | R16: 0
... A18: 14 | B18: 3382 | C18: Glades Academy | D18: 2427071.4 | E18: 199480.37 | F18: 202508.28 | G18: 202508.28 | Q18: =SUM(E18:P18) -> 604496.93 | R18: 0
A19: 15 | B19: 3391 | C19: Seagull Academy for Independent Living | F19: 0 | Q19: =SUM(E19:P19) -> 0 | R19: 0
A20: 16 | B20: 3394 | C20: Montessori Academy of Early Enrichment | D20: 1653077.9 | E20: 136646.84 | F20: 137857.37 | G20: 137857.37 | Q20: =SUM(E20:P20) -> 412361.58 | R20: 0
A21: 17 | B21: 3395 | C21: Somerset Academy Charter School | D21: 4417918.6 | E21: 363962.87 | F21: 368541.43 | G21: 368541.43 | Q21: =SUM(E21:P21) -> 1101045.7 | R21: 0
A22: 18 | B22: 3396 | C22: G-Star School of the Arts | D22: 6304834.2 | E22: 481353.82 | F22: 489623.72 | G22: 533385.66 | Q22: =SUM(E22:P22) -> 1504363.2 | R22: 0
A23: 19 | B23: 3398 | C23: Everglades Preparatory Academy | D23: 919769.33 | E23: 75370.15 | F23: 76763.56 | G23: 76763.56 | Q23: =SUM(E23:P23) -> 228897.27 | R23: 0
A24: 20 | B24: 3400 | C24: Believers Academy | D24: 1132579.8 | E24: 93540.76 | F24: 94458.1 | G24: 94458.1 | Q24: =SUM(E24:P24) -> 282456.96 | R24: 0
A25: 21 | B25: 3401 | C25: Quantum High School | D25: 3567973.1 | E25: 291401.55 | F25: 296284.6 | G25: 298028.7 | Q25: =SUM(E25:P25) -> 885714.85 | R25: 0
A26: 22 | B26: 3413 | C26: Somerset Academy Boca | D26: 3434816.5 | E26: 282765.64 | F26: 286550.08 | G26: 286550.08 | Q26: =SUM(E26:P26) -> 855865.8 | R26: 0
A27: 23 | B27: 3421 | C27: Worthington High School | D27: 3859154.1 | E27: 318686.65 | F27: 320269.78 | G27: 322019.77 | Q27: =SUM(E27:P27) -> 960976.2 | R27: 0
A28: 24 | B28: 3431 | C28: Renaissance Charter School at WPB | D28: 8841825.3 | E28: 727291.13 | F28: 737684.93 | G28: 737684.93 | Q28: =SUM(E28:P28) -> 2202661 | R28: 0
A29: 25 | B29: 3441 | C29: South Tech Preparatory Academy (MS) | D29: 4546697.7 | E29: 365051.77 | F29: 372113.82 | G29: 380953.21 | Q29: =SUM(E29:P29) -> 1118118.8 | R29: 0
A30: 26 | B30: 3924 | C30: Palm Beach Maritime Academy Secondary | D30: 3705578.9 | E30: 303122.37 | F30: 308213.52 | G30: 309424.3 | Q30: =SUM(E30:P30) -> 920760.19 | R30: 0
A31: 27 | B31: 3941 | C31: Ben Gamla Charter School | D31: 2020244.6 | E31: 166503.7 | F31: 168521.9 | G31: 168521.9 | Q31: =SUM(E31:P31) -> 503547.5 | R31: 0
A32: 28 | B32: 3961 | C32: Gardens School of Technology Arts | F32: 0 | Q32: =SUM(E32:P32) -> 0 | R32: 0
A33: 29 | B33: 3971 | C33: Palm Beach Perparatory Charter Academy | D33: 5107336 | E33: 418200.93 | F33: 425546.45 | G33: 426358.86 | Q33: =SUM(E33:P33) -> 1270106.2 | R33: 0
A34: 30 | B34: 4001 | C34: Renaissance Charter School at Wellington | D34: 5914578.1 | E34: 486040.8 | F34: 493503.39 | G34: 493503.4 | Q34: =SUM(E34:P34) -> 1473047.6 | R34: 0
A35: 31 | B35: 4002 | C35: Renaissance Charter School at Summit | D35: 8574250.8 | E35: 707326.89 | F35: 715174.9 | G35: 715174.91 | Q35: =SUM(E35:P35) -> 2137676.7 | R35: 0
A36: 32 | B36: 4012 | C36: Somerset Academy Canyons Middle School | D36: 4984700.1 | E36: 401311.12 | F36: 409405.4 | G36: 417398.36 | Q36: =SUM(E36:P36) -> 1228114.9 | R36: 0
A37: 33 | B37: 4013 | C37: Somerset Academy Canyons High School | D37: 9297704.3 | E37: 667648.91 | F37: 677472.72 | G37: 795258.27 | Q37: =SUM(E37:P37) -> 2140379.9 | R37: 0
A38: 34 | B38: 4020 | C38: Franklin Academy - Boynton Beach | D38: 10867277 | E38: 892802.19 | F38: 906770.45 | G38: 906770.45 | Q38: =SUM(E38:P38) -> 2706343.1 | R38: 0
A39: 35 | B39: 4030 | C39: Olympus International Academy | D39: 2619365.4 | E39: 216879.02 | F39: 218407.85 | G39: 218407.85 | Q39: =SUM(E39:P39) -> 653694.72 | R39: 0
A40: 36 | B40: 4031 | C40: Somerset Academy Wellington | D40: 3914815.9 | E40: 322483.34 | F40: 326575.68 | G40: 326575.68 | Q40: =SUM(E40:P40) -> 975634.7 | R40: 0
A41: 37 | B41: 4041 | C41: Somerset Academy Boca Middle School | D41: 775960.87 | E41: 63488.77 | F41: 64770.19 | G41: 64770.19 | Q41: =SUM(E41:P41) -> 193029.15 | R41: 0
A42: 38 | B42: 4050 | C42: Renaissance Charter School at Cypress | D42: 6227871.4 | E42: 512294.34 | F42: 519597.92 | G42: 519597.92 | Q42: =SUM(E42:P42) -> 1551490.2 | R42: 0
A43: 39 | B43: 4051 | C43: Renaissance Charter School at Central Palm | D43: 6573895.2 | E43: 541173.16 | F43: 548429.27 | G43: 548429.27 | Q43: =SUM(E43:P43) -> 1638031.7 | R43: 0
...

Sheet 0040
A1: 50 | B1: (Insert district number in cell A1, enter, then strike F9. Your district data then pulls from Calculation Detail Sheets) | R1: 50 | S1: (Insert district number in cell A1, enter, then strike F9. Your district data then pulls from Calculation Detail Sheets)
A2: Revenue Estimate Worksheet: Palm Beach Preparatory Middle School 0040 | R2: =Revenue_Estimate_Worksheet_for___________Charter_School -> Revenue Estimate Worksheet: Palm Beach Preparatory Middle School 0040
A3: Based on the 2025-26 FEFP Second Calculation | R3: Based on the 2025-26 FEFP Second Calculation
A4: School District: | D4: Palm Beach | H4: September 2025 | R4: School District: | T4: Palm Beach
A5: 1A. 2025-26 FEFP State and Local Funding | R5: 1A. 2025-26 FEFP State and Local Funding
A6: Base Student Allocation | E6: 5372.6 | G6: Comparable Wage Factor: | I6: =INDEX('[1]Detail 2025-26 FEFP Second'!$C$1:$C$65536,MATCH('0040'!$A$1,'[1]Detail 2025-26 FEFP Second'!$A$1:$A$65536,0)) -> 1.0355 | R6: Base Student Allocation | T6: =E6 -> 5372.6 | V6: Comparable Wage Factor: | X6: 1.0355
G7: Small District Factor | I7: =INDEX('[1]Detail 2025-26 FEFP Second'!$D$1:$D$65536,MATCH('0040'!$A$1,'[1]Detail 2025-26 FEFP Second'!$A$1:$A$65536,0)) -> 1 | V7: Small District Factor | X7: 1
J8: 2025-26 | Y8: 2025-26
C9: Oct 2024 | D9: Feb 2025 | G9: Program | I9: Weighted FTE | J9: Base Funding | V9: Program | X9: Weighted FTE | Y9: Base Funding
A10: Program | C10: FTE | D10: FTE | E10: Total FTE | G10: Cost Factor | I10: (2) x (3) | J10: (WFTE x BSA x CWF x SDF) | R10: Program | T10: Number of FTE | V10: Cost Factor | X10: (2) x (3) | Y10: (WFTE x BSA x CWF x SDF)
A11: (1) | E11: (2) | G11: (3) | I11: (4) | J11: (5) | R11: (1) | T11: (2) | V11: (3) | X11: (4) | Y11: (5)
A12: 101 Basic K-3 | C12: 0 | D12: 0 | E12: =IF($D$28=0,C12*2,C12+D12) -> 0 | G12: 1.108 | I12: =ROUND(E12*G12,4) -> 0 | J12: =ROUND(ROUND(ROUND(I12*$E$6,4)*($I$6),2)*(MAX($I$7,1)),2) -> 0 | R12: 101 Basic K-3 | T12: =IF($I$111=1,E12,0) -> 0 | V12: 1 | X12: =ROUND(T12*V12,4) -> 0 | Y12: =ROUND(ROUND(ROUND(X12*$E$6,4)*($I$6),2)*(MAX($I$7,1)),2) -> 0
A13: 111 Basic K-3 with ESE Services | C13: 0 | D13: 0 | E13: =IF($D$28=0,C13*2,C13+D13) -> 0 | G13: 1.108 | I13: =ROUND(E13*G13,4) -> 0 | J13: =ROUND(ROUND(ROUND(I13*$E$6,4)*($I$6),2)*(MAX($I$7,1)),2) -> 0 | R13: 111 Basic K-3 with ESE Services | T13: =IF($I$111=1,E13,0) -> 0 | V13: 1 | X13: =ROUND(T13*V13,4) -> 0 | Y13: =ROUND(ROUND(ROUND(X13*$E$6,4)*($I$6),2)*(MAX($I$7,1)),2) -> 0
A14: 102 Basic 4-8 | C14: 10.5 | D14: 0 | E14: =IF($D$28=0,C14*2,C14+D14) -> 21 | G14: 1 | I14: =ROUND(E14*G14,4) -> 21 | J14: =ROUND(ROUND(ROUND(I14*$E$6,4)*($I$6),2)*(MAX($I$7,1)),2) -> 116829.87 | R14: 102 Basic 4-8 | T14: =IF($I$111=1,E14,0) -> 0 | V14: 1 | X14: =ROUND(T14*V14,4) -> 0 | Y14: =ROUND(ROUND(ROUND(X14*$E$6,4)*($I$6),2)*(MAX($I$7,1)),2) -> 0
A15: 112 Basic 4-8 with ESE Services | C15: 5 | D15: 0 | E15: =IF($D$28=0,C15*2,C15+D15) -> 10 | G15: 1 | I15: =ROUND(E15*G15,4) -> 10 | J15: =ROUND(ROUND(ROUND(I15*$E$6,4)*($I$6),2)*(MAX($I$7,1)),2) -> 55633.27 | R15: 112 Basic 4-8 with ESE Services | T15: =IF($I$111=1,E15,0) -> 0 | V15: 1 | X15: =ROUND(T15*V15,4) -> 0 | Y15: =ROUND(ROUND(ROUND(X15*$E$6,4)*($I$6),2)*(MAX($I$7,1)),2) -> 0
A16: 103 Basic 9-12 | C16: 0 | D16: 0 | E16: =IF($D$28=0,C16*2,C16+D16) -> 0 | G16: 0.972 | I16: =ROUND(E16*G16,4) -> 0 | J16: =ROUND(ROUND(ROUND(I16*$E$6,4)*($I$6),2)*(MAX($I$7,1)),2) -> 0 | R16: 103 Basic 9-12 | T16: =IF($I$111=1,E16,0) -> 0 | V16: 1 | X16: =ROUND(T16*V16,4) -> 0 | Y16: =ROUND(ROUND(ROUND(X16*$E$6,4)*($I$6),2)*(MAX($I$7,1)),2) -> 0
A17: 113 Basic 9-12 with ESE Services | C17: 0 | D17: 0 | E17: =IF($D$28=0,C17*2,C17+D17) -> 0 | G17: 0.972 | I17: =ROUND(E17*G17,4) -> 0 | J17: =ROUND(ROUND(ROUND(I17*$E$6,4)*($I$6),2)*(MAX($I$7,1)),2) -> 0 | R17: 113 Basic 9-12 with ESE Services | T17: =IF($I$111=1,E17,0) -> 0 | V17: 1 | X17: =ROUND(T17*V17,4) -> 0 | Y17: =ROUND(ROUND(ROUND(X17*$E$6,4)*($I$6),2)*(MAX($I$7,1)),2) -> 0
A18: 254 ESE Level 4 (Grade Level PK-3) | C18: 0 | D18: 0 | E18: =IF($D$28=0,C18*2,C18+D18) -> 0 | G18: 3.609 | I18: =ROUND(E18*G18,4) -> 0 | J18: =ROUND(ROUND(ROUND(I18*$E$6,4)*($I$6),2)*(MAX($I$7,1)),2) -> 0 | R18: 254 ESE Level 4 (Grade Level PK-3) | T18: =IF($I$111=1,E18,0) -> 0 | V18: 1 | X18: =ROUND(T18*V18,4) -> 0 | Y18: =ROUND(ROUND(ROUND(X18*$E$6,4)*($I$6),2)*(MAX($I$7,1)),2) -> 0
A19: 254 ESE Level 4 (Grade Level 4-8) | C19: 0 | D19: 0 | E19: =IF($D$28=0,C19*2,C19+D19) -> 0 | G19: 3.609 | I19: =ROUND(E19*G19,4) -> 0 | J19: =ROUND(ROUND(ROUND(I19*$E$6,4)*($I$6),2)*(MAX($I$7,1)),2) -> 0 | R19: 254 ESE Level 4 (Grade Level 4-8) | T19: =IF($I$111=1,E19,0) -> 0 | V19: 1 | X19: =ROUND(T19*V19,4) -> 0 | Y19: =ROUND(ROUND(ROUND(X19*$E$6,4)*($I$6),2)*(MAX($I$7,1)),2) -> 0
A20: 254 ESE Level 4 (Grade Level 9-12) | C20: 0 | D20: 0 | E20: =IF($D$28=0,C20*2,C20+D20) -> 0 | G20: 3.609 | I20: =ROUND(E20*G20,4) -> 0 | J20: =ROUND(ROUND(ROUND(I20*$E$6,4)*($I$6),2)*(MAX($I$7,1)),2) -> 0 | R20: 254 ESE Level 4 (Grade Level 9-12) | T20: =IF($I$111=1,E20,0) -> 0 | V20: 1 | X20: =ROUND(T20*V20,4) -> 0 | Y20: =ROUND(ROUND(ROUND(X20*$E$6,4)*($I$6),2)*(MAX($I$7,1)),2) -> 0
A21: 255 ESE Level 5 (Grade Level PK-3) | C21: 0 | D21: 0 | E21: =IF($D$28=0,C21*2,C21+D21) -> 0 | G21: 6.064 | I21: =ROUND(E21*G21,4) -> 0 | J21: =ROUND(ROUND(ROUND(I21*$E$6,4)*($I$6),2)*(MAX($I$7,1)),2) -> 0 | R21: 255 ESE Level 5 (Grade Level PK-3) | T21: =IF($I$111=1,E21,0) -> 0 | V21: 1 | X21: =ROUND(T21*V21,4) -> 0 | Y21: =ROUND(ROUND(ROUND(X21*$E$6,4)*($I$6),2)*(MAX($I$7,1)),2) -> 0
A22: 255 ESE Level 5 (Grade Level 4-8) | C22: 0 | D22: 0 | E22: =IF($D$28=0,C22*2,C22+D22) -> 0 | G22: 6.064 | I22: =ROUND(E22*G22,4) -> 0 | J22: =ROUND(ROUND(ROUND(I22*$E$6,4)*($I$6),2)*(MAX($I$7,1)),2) -> 0 | R22: 255 ESE Level 5 (Grade Level 4-8) | T22: =IF($I$111=1,E22,0) -> 0 | V22: 1 | X22: =ROUND(T22*V22,4) -> 0 | Y22: =ROUND(ROUND(ROUND(X22*$E$6,4)*($I$6),2)*(MAX($I$7,1)),2) -> 0
A23: 255 ESE Level 5 (Grade Level 9-12) | C23: 0 | D23: 0 | E23: =IF($D$28=0,C23*2,C23+D23) -> 0 | G23: 6.064 | I23: =ROUND(E23*G23,4) -> 0 | J23: =ROUND(ROUND(ROUND(I23*$E$6,4)*($I$6),2)*(MAX($I$7,1)),2) -> 0 | R23: 255 ESE Level 5 (Grade Level 9-12) | T23: =IF($I$111=1,E23,0) -> 0 | V23: 1 | X23: =ROUND(T23*V23,4) -> 0 | Y23: =ROUND(ROUND(ROUND(X23*$E$6,4)*($I$6),2)*(MAX($I$7,1)),2) -> 0
... A27: 300 Career Education (Grades 9-12) | C27: 0 | D27: 0 | E27: =IF($D$28=0,C27*2,C27+D27) -> 0 | G27: 1.081 | I27: =ROUND(E27*G27,4) -> 0 | J27: =ROUND(ROUND(ROUND(I27*$E$6,4)*($I$6),2)*(MAX($I$7,1)),2) -> 0 | R27: 300 Career Education (Grades 9-12) | T27: =IF($I$111=1,E27,0) -> 0 | V27: 1 | X27: =ROUND(T27*V27,4) -> 0 | Y27: =ROUND(ROUND(ROUND(X27*$E$6,4)*($I$6),2)*(MAX($I$7,1)),2) -> 0
A28: Totals | C28: =SUM(C12:C27) -> 18 | D28: =SUM(D12:D27) -> 0 | E28: =SUM(E12:E27) -> 36 | I28: =SUM(I12:I27) -> 36.825 | J28: =SUM(J12:J27) -> 204869.52 | R28: Totals | T28: =SUM(T12:T27) -> 0 | X28: =SUM(X12:X27) -> 0 | Y28: =SUM(Y12:Y27) -> 0
A29: Letters in Parentheses Refer to Notes at Bottom of Worksheet: | R29: Letters in Parentheses Refer to Notes at Bottom of Worksheet:
A30: Additional FTE | E30: Number of FTE Charter schools should contact their school district sponsor regarding eligible FTE. Please note that “Number of FTE” is NOT equivalent to number of students enrolled in these courses or programs. | J30: 2025-26 Base Funding (WFTE x BSA x CWF x SDF) | R30: Additional FTE | T30: Number of FTE Charter schools should contact their school district sponsor regarding eligible FTE. Please note that “Number of FTE” is NOT equivalent to number of students enrolled in these courses or programs. Please refer to footnote (a) below. | Y30: 2025-26 Base Funding (WFTE x BSA x CWF x SDF)
A31: Small District ESE Supplement | J31: =ROUND(ROUND(ROUND(I31*$E$6,4)*($I$6),0)*(MAX($I$7,1)),0) -> 0 | R31: Small District ESE Supplement | T31: =IF('[1]All charter school calculator'!X109=1,'[1]All charter school calculator'!X31,0) -> 0 | Y31: =J31 -> 0
A32: Total Additional FTE | G32: =SUM(I31:I31) -> 0 | H32: Additional Base Funds | J32: =SUM(J31:J31) -> 0 | R32: Total Additional FTE | V32: =SUM(T31:V31) -> 0 | W32: Additional Base Funds | Y32: =SUM(Y31:Y31) -> 0
A33: Total Funded Weighted FTE | G33: =G32+I28 -> 36.825 | H33: Total Base Funding | J33: =SUM(J32,J28) -> 204869.52 | R33: Total Funded Weighted FTE | V33: =V32+X28 -> 0 | W33: Total Base Funding | Y33: =SUM(Y32,Y28) -> 0
A35: 1B. Classroom Teacher and Other Instructional Personnel Salary Increase Maintenance and Growth Portions of the Salary Increase funds are part of the total Conference Base Funding and are not treated as a separate allocation. Amounts are split out here for informative purposes and for the purposes of providing a total that may be used for calculating the adminstrative fee. | R35: 1B. Classroom Teacher and Other Instructional Personnel Salary Increase Maintenance and Growth Portions of the Salary Increase funds are part of the total Conference Base Funding and are not treated as a separate allocation. Amounts are split out here for informative purposes and for the purposes of providing a total that may be used for calculating the adminstrative fee.
A36: Maintenance Portion (6.67% of Conference Base Funding) | F36: (a) | G36: 204869.52 | H36: X | I36: 0.0667 | J36: =ROUND(G36*I36,2) -> 13664.8 | R36: Maintenance Portion (6.67% of Conference Base Funding) | V36: =Y28 -> 0 | W36: X | X36: 0.0667 | Y36: =ROUND(V36*X36,2) -> 0
A37: Growth Portion (0.54% of Conference Base Funding) | F37: (a) | G37: 204869.52 | H37: X | I37: 0.0054 | J37: =ROUND(G37*I37,2) -> 1106.3 | R37: Growth Portion (0.54% of Conference Base Funding) | V37: =Y28 -> 0 | W37: X | X37: 0.0054 | Y37: =ROUND(V37*X37,2) -> 0
A38: Total Salary Increase Allocation | J38: =SUM(J36:J37) -> 14771.1 | R38: Total Salary Increase Allocation | Y38: =Y36+Y37 -> 0
A40: 2. ESE Guaranteed Allocation: | C40: Oct 2024 FTE | D40: Feb 2025 FTE | E40: Total FTE | G40: Grade Level | H40: Matrix Level | I40: Guarantee Per Student | R40: 2. ESE Guaranteed Allocation: | T40: FTE | V40: Grade Level | W40: Matrix Level | X40: Guarantee Per Student
A41: Additional Funding from the ESE Guaranteed Allocation. Enter the FTE from 111,112 and 113 by grade and matrix level. Students who do not have a matrix level should be considered 251. This total should equal all FTE from programs 111, 112 and 113 above, less any 113 gifted FTE. | C41: 0 | D41: 0 | E41: =IF($D$50=0,C41*2,C41+D41) -> 0 | G41: PK-3 | H41: 251 | I41: =INDEX('[1]111-112-113 ADDITIONAL FUND'!D$1:D$65536,MATCH($A$1,'[1]111-112-113 ADDITIONAL FUND'!A$1:A$65536)) -> 1047 | J41: =ROUND(E41*I41,2) -> 0 | R41: Additional Funding from the ESE Guaranteed Allocation. Enter the FTE from 111,112, & 113 by grade and matrix level. Students who do not have a matrix level should be considered 251. This total should equal all FTE from programs 111, 112 & 113 above. | V41: PK-3 | W41: 251 | X41: =I41 -> 1047 | Y41: =ROUND(T41*X41,2) -> 0
C42: 0 | D42: 0 | E42: =IF($D$50=0,C42*2,C42+D42) -> 0 | G42: PK-3 | H42: 252 | I42: =INDEX('[1]111-112-113 ADDITIONAL FUND'!E$1:E$65536,MATCH($A$1,'[1]111-112-113 ADDITIONAL FUND'!A$1:A$65536)) -> 3380 | J42: =ROUND(E42*I42,2) -> 0 | V42: PK-3 | W42: 252 | X42: =I42 -> 3380 | Y42: =ROUND(T42*X42,2) -> 0
C43: 0 | D43: 0 | E43: =IF($D$50=0,C43*2,C43+D43) -> 0 | G43: PK-3 | H43: 253 | I43: =INDEX('[1]111-112-113 ADDITIONAL FUND'!F$1:F$65536,MATCH($A$1,'[1]111-112-113 ADDITIONAL FUND'!A$1:A$65536)) -> 6896 | J43: =ROUND(E43*I43,2) -> 0 | V43: PK-3 | W43: 253 | X43: =I43 -> 6896 | Y43: =ROUND(T43*X43,2) -> 0
C44: 5 | D44: 0 | E44: =IF($D$50=0,C44*2,C44+D44) -> 10 | G44: 4-8 | H44: 251 | I44: =INDEX('[1]111-112-113 ADDITIONAL FUND'!G$1:G$65536,MATCH($A$1,'[1]111-112-113 ADDITIONAL FUND'!A$1:A$65536)) -> 1173 | J44: =ROUND(E44*I44,2) -> 11730 | V44: 4-8 | W44: 251 | X44: =I44 -> 1173 | Y44: =ROUND(T44*X44,2) -> 0
C45: 0 | D45: 0 | E45: =IF($D$50=0,C45*2,C45+D45) -> 0 | G45: 4-8 | H45: 252 | I45: =INDEX('[1]111-112-113 ADDITIONAL FUND'!H$1:H$65536,MATCH($A$1,'[1]111-112-113 ADDITIONAL FUND'!A$1:A$65536)) -> 3506 | J45: =ROUND(E45*I45,2) -> 0 | V45: 4-8 | W45: 252 | X45: =I45 -> 3506 | Y45: =ROUND(T45*X45,2) -> 0
...

Sheet 0100
A1: 50 | B1: (Insert district number in cell A1, enter, then strike F9. Your district data then pulls from Calculation Detail Sheets) | R1: 50 | S1: (Insert district number in cell A1, enter, then strike F9. Your district data then pulls from Calculation Detail Sheets)
A2: Revenue Estimate Worksheet: The Learning Center Highschool 0100 | R2: =Revenue_Estimate_Worksheet_for___________Charter_School -> Revenue Estimate Worksheet: The Learning Center Highschool 0100
A3: Based on the 2025-26 FEFP Second Calculation | R3: Based on the 2025-26 FEFP Second Calculation
A4: School District: | D4: Palm Beach | H4: September 2025 | R4: School District: | T4: Palm Beach
A5: 1A. 2025-26 FEFP State and Local Funding | R5: 1A. 2025-26 FEFP State and Local Funding
A6: Base Student Allocation | E6: 5372.6 | G6: Comparable Wage Factor: | I6: =INDEX('[1]Detail 2025-26 FEFP Second'!$C$1:$C$65536,MATCH('0100'!$A$1,'[1]Detail 2025-26 FEFP Second'!$A$1:$A$65536,0)) -> 1.0355 | R6: Base Student Allocation | T6: =E6 -> 5372.6 | V6: Comparable Wage Factor: | X6: 1.0355
G7: Small District Factor | I7: =INDEX('[1]Detail 2025-26 FEFP Second'!$D$1:$D$65536,MATCH('0100'!$A$1,'[1]Detail 2025-26 FEFP Second'!$A$1:$A$65536,0)) -> 1 | V7: Small District Factor | X7: 1
J8: 2025-26 | Y8: 2025-26
C9: Oct 2024 | D9: Feb 2025 | G9: Program | I9: Weighted FTE | J9: Base Funding | V9: Program | X9: Weighted FTE | Y9: Base Funding
A10: Program | C10: FTE | D10: FTE | E10: Total FTE | G10: Cost Factor | I10: (2) x (3) | J10: (WFTE x BSA x CWF x SDF) | R10: Program | T10: Number of FTE | V10: Cost Factor | X10: (2) x (3) | Y10: (WFTE x BSA x CWF x SDF)
A11: (1) | E11: (2) | G11: (3) | I11: (4) | J11: (5) | R11: (1) | T11: (2) | V11: (3) | X11: (4) | Y11: (5)
A12: 101 Basic K-3 | C12: 0 | D12: 0 | E12: =IF($D$28=0,C12*2,C12+D12) -> 0 | G12: 1.108 | I12: =ROUND(E12*G12,4) -> 0 | J12: =ROUND(ROUND(ROUND(I12*$E$6,4)*($I$6),2)*(MAX($I$7,1)),2) -> 0 | R12: 101 Basic K-3 | T12: =IF($I$111=1,E12,0) -> 0 | V12: 1 | X12: =ROUND(T12*V12,4) -> 0 | Y12: =ROUND(ROUND(ROUND(X12*$E$6,4)*($I$6),2)*(MAX($I$7,1)),2) -> 0
A13: 111 Basic K-3 with ESE Services | C13: 0 | D13: 0 | E13: =IF($D$28=0,C13*2,C13+D13) -> 0 | G13: 1.108 | I13: =ROUND(E13*G13,4) -> 0 | J13: =ROUND(ROUND(ROUND(I13*$E$6,4)*($I$6),2)*(MAX($I$7,1)),2) -> 0 | R13: 111 Basic K-3 with ESE Services | T13: =IF($I$111=1,E13,0) -> 0 | V13: 1 | X13: =ROUND(T13*V13,4) -> 0 | Y13: =ROUND(ROUND(ROUND(X13*$E$6,4)*($I$6),2)*(MAX($I$7,1)),2) -> 0
A14: 102 Basic 4-8 | C14: 0 | D14: 0 | E14: =IF($D$28=0,C14*2,C14+D14) -> 0 | G14: 1 | I14: =ROUND(E14*G14,4) -> 0 | J14: =ROUND(ROUND(ROUND(I14*$E$6,4)*($I$6),2)*(MAX($I$7,1)),2) -> 0 | R14: 102 Basic 4-8 | T14: =IF($I$111=1,E14,0) -> 0 | V14: 1 | X14: =ROUND(T14*V14,4) -> 0 | Y14: =ROUND(ROUND(ROUND(X14*$E$6,4)*($I$6),2)*(MAX($I$7,1)),2) -> 0
A15: 112 Basic 4-8 with ESE Services | C15: 0 | D15: 0 | E15: =IF($D$28=0,C15*2,C15+D15) -> 0 | G15: 1 | I15: =ROUND(E15*G15,4) -> 0 | J15: =ROUND(ROUND(ROUND(I15*$E$6,4)*($I$6),2)*(MAX($I$7,1)),2) -> 0 | R15: 112 Basic 4-8 with ESE Services | T15: =IF($I$111=1,E15,0) -> 0 | V15: 1 | X15: =ROUND(T15*V15,4) -> 0 | Y15: =ROUND(ROUND(ROUND(X15*$E$6,4)*($I$6),2)*(MAX($I$7,1)),2) -> 0
A16: 103 Basic 9-12 | C16: 0 | D16: 0 | E16: =IF($D$28=0,C16*2,C16+D16) -> 0 | G16: 0.972 | I16: =ROUND(E16*G16,4) -> 0 | J16: =ROUND(ROUND(ROUND(I16*$E$6,4)*($I$6),2)*(MAX($I$7,1)),2) -> 0 | R16: 103 Basic 9-12 | T16: =IF($I$111=1,E16,0) -> 0 | V16: 1 | X16: =ROUND(T16*V16,4) -> 0 | Y16: =ROUND(ROUND(ROUND(X16*$E$6,4)*($I$6),2)*(MAX($I$7,1)),2) -> 0
A17: 113 Basic 9-12 with ESE Services | C17: 1 | D17: 0 | E17: =IF($D$28=0,C17*2,C17+D17) -> 2 | G17: 0.972 | I17: =ROUND(E17*G17,4) -> 1.944 | J17: =ROUND(ROUND(ROUND(I17*$E$6,4)*($I$6),2)*(MAX($I$7,1)),2) -> 10815.11 | R17: 113 Basic 9-12 with ESE Services | T17: =IF($I$111=1,E17,0) -> 2 | V17: 1 | X17: =ROUND(T17*V17,4) -> 2 | Y17: =ROUND(ROUND(ROUND(X17*$E$6,4)*($I$6),2)*(MAX($I$7,1)),2) -> 11126.65
A18: 254 ESE Level 4 (Grade Level PK-3) | C18: 3.5 | D18: 0 | E18: =IF($D$28=0,C18*2,C18+D18) -> 7 | G18: 3.609 | I18: =ROUND(E18*G18,4) -> 25.263 | J18: =ROUND(ROUND(ROUND(I18*$E$6,4)*($I$6),2)*(MAX($I$7,1)),2) -> 140546.34 | R18: 254 ESE Level 4 (Grade Level PK-3) | T18: =IF($I$111=1,E18,0) -> 7 | V18: 1 | X18: =ROUND(T18*V18,4) -> 7 | Y18: =ROUND(ROUND(ROUND(X18*$E$6,4)*($I$6),2)*(MAX($I$7,1)),2) -> 38943.29
