Workbook
Name schools: 'Mileage Chart'!$A$3:$A$20

Sheet Travel Reimbursement
B1: MANOR INDEPENDENT SCHOOL DISTRICT
B2: MONTHLY MILEAGE REPORT
B3: **Handwritten submissions will not be ACCEPTED**
A5: Employee Name | C5: Budget Code
A6: Mailing Address | C6: Campus/Dept.
A9: Travel reimbursement claims should be submitted to the Business Office within 10 business days of the following month.
A10: Any travel other than to a MISD campus, must include documentable mileage. (GoogleMaps)
A11: DATE | B11: PURPOSE | C11: FROM | D11: TO | E11: MILES TRAVELED
E12: =IF(ISBLANK(C12),"",HLOOKUP(C12,'Mileage Chart'!$A$2:$S$21,MATCH(D12,'Mileage Chart'!$A$2:$A$21,0),0))
E13: =IF(ISBLANK(C13),"",HLOOKUP(C13,'Mileage Chart'!$A$2:$S$21,MATCH(D13,'Mileage Chart'!$A$2:$A$21,0),0))
E14: =IF(ISBLANK(C14),"",HLOOKUP(C14,'Mileage Chart'!$A$2:$S$21,MATCH(D14,'Mileage Chart'!$A$2:$A$21,0),0))
E15: =IF(ISBLANK(C15),"",HLOOKUP(C15,'Mileage Chart'!$A$2:$S$21,MATCH(D15,'Mileage Chart'!$A$2:$A$21,0),0))
E16: =IF(ISBLANK(C16),"",HLOOKUP(C16,'Mileage Chart'!$A$2:$S$21,MATCH(D16,'Mileage Chart'!$A$2:$A$21,0),0))
E17: =IF(ISBLANK(C17),"",HLOOKUP(C17,'Mileage Chart'!$A$2:$S$21,MATCH(D17,'Mileage Chart'!$A$2:$A$21,0),0))
E18: =IF(ISBLANK(C18),"",HLOOKUP(C18,'Mileage Chart'!$A$2:$S$21,MATCH(D18,'Mileage Chart'!$A$2:$A$21,0),0))
E19: =IF(ISBLANK(C19),"",HLOOKUP(C19,'Mileage Chart'!$A$2:$S$21,MATCH(D19,'Mileage Chart'!$A$2:$A$21,0),0))
E20: =IF(ISBLANK(C20),"",HLOOKUP(C20,'Mileage Chart'!$A$2:$S$21,MATCH(D20,'Mileage Chart'!$A$2:$A$21,0),0))
E21: =IF(ISBLANK(C21),"",HLOOKUP(C21,'Mileage Chart'!$A$2:$S$21,MATCH(D21,'Mileage Chart'!$A$2:$A$21,0),0))
E22: =IF(ISBLANK(C22),"",HLOOKUP(C22,'Mileage Chart'!$A$2:$S$21,MATCH(D22,'Mileage Chart'!$A$2:$A$21,0),0))
E23: =IF(ISBLANK(C23),"",HLOOKUP(C23,'Mileage Chart'!$A$2:$S$21,MATCH(D23,'Mileage Chart'!$A$2:$A$21,0),0))
... E41: =IF(ISBLANK(C41),"",HLOOKUP(C41,'Mileage Chart'!$A$2:$S$21,MATCH(D41,'Mileage Chart'!$A$2:$A$21,0),0))
D42: TOTAL MILES | E42: =SUM(E12:E41) -> 0
D43: (For travel after 01/01/2026) REIMBURSEMENT RATE | E43: 0.725
D44: REIMBURSEMENT AMOUNT | E44: =+E42*E43 -> 0
A46: I certify that the above expenses are true and correct and incurred by me in the performance of my official duties.
A50: Employee Signature / Date | D50: Supervisor Approval / Date
E52: 45903

Sheet Mileage Chart
B1: STARTING LOCATION | U1: Address
B2: Blake Manor ES | C2: Bluebonnet Trail ES | D2: Decker ES | E2: Lagos ES | F2: Oak Meadows ES | G2: Pioneer Crossing ES | H2: Presidential Meadows ES | I2: ShadowGlen ES | J2: Manor Rise Academy | K2: Decker MS | L2: Manor MS | M2: Manor New Tech MS | N2: Manor HS | O2: Manor SrHS/Manor ECHS | P2: MEA/MAP/Whole Child/Wellness/Truancy | Q2: Manor New Tech HS | R2: Central Administration | S2: MISD Police Department | T2: MISD Transportation
A3: Blake Manor ES | B3: 0 | C3: 7.2 | D3: 8 | E3: 3.2 | F3: 10.4 | G3: 9.9 | H3: 5.2 | I3: 5.3 | J3: 4.5 | K3: 8.4 | L3: 4.8 | M3: 4.2 | N3: 4.4 | O3: 6.7 | P3: 6.6 | Q3: 4.2 | R3: 4.1 | S3: 3.8 | T3: 10.1 | U3: 18010 Blake Manor Rd., Manor, TX 78653
A4: Bluebonnet Trail ES | B4: 7.1 | C4: 0 | D4: 3.4 | E4: 5 | F4: 5.9 | G4: 3.6 | H4: 6.1 | I4: 5.6 | J4: 5.5 | K4: 3.9 | L4: 4.6 | M4: 3.4 | N4: 4.1 | O4: 7.6 | P4: 3.8 | Q4: 3.4 | R4: 3.3 | S4: 4.4 | T4: 2.8 | U4: 11316 Farmhaven Road, Austin, TX 78754
A5: Decker ES | B5: 8.2 | C5: 3.4 | D5: 0 | E5: 6.3 | F5: 2.6 | G5: 6.1 | H5: 7.2 | I5: 6.8 | J5: 6.6 | K5: 0.6 | L5: 5.6 | M5: 4.5 | N5: 5.2 | O5: 8.7 | P5: 3.9 | Q5: 4.5 | R5: 4.4 | S5: 5.5 | T5: 6.2 | U5: 8500 Decker Lane, Austin, TX 78724
A6: Lagos ES | B6: 3.2 | C6: 5 | D6: 5.8 | E6: 0 | F6: 8.3 | G6: 7.7 | H6: 3.5 | I6: 3.1 | J6: 2.7 | K6: 6.2 | L6: 2.6 | M6: 1.9 | N6: 2.1 | O6: 4.9 | P6: 3 | Q6: 1.9 | R6: 1.9 | S6: 1.5 | T6: 6.6 | U6: 11817 Murchison St, Manor, TX 78653
A7: Oak Meadows ES | B7: 10.5 | C7: 5.9 | D7: 2.6 | E7: 8.3 | F7: 0 | G7: 8.5 | H7: 9.7 | I7: 9.2 | J7: 9 | K7: 2.6 | L7: 8.1 | M7: 6.9 | N7: 7.7 | O7: 11.2 | P7: 6.3 | Q7: 6.9 | R7: 6.9 | S7: 8 | T7: 8.6 | U7: 5600 Decker Lane, Austin, TX 78724
A8: Pioneer Crossing ES | B8: 9.8 | C8: 3.9 | D8: 6.1 | E8: 7.7 | F8: 8.6 | G8: 0 | H8: 8.8 | I8: 8.4 | J8: 8.2 | K8: 6.5 | L8: 7.3 | M8: 6.1 | N8: 6.8 | O8: 10.3 | P8: 6.4 | Q8: 6.1 | R8: 6.1 | S8: 7.1 | T8: 4.2 | U8: 11300 Samsung Blvd, Austin, TX 78754
A9: Presidential Meadows ES | B9: 5 | C9: 6.1 | D9: 6.9 | E9: 2.9 | F9: 9.4 | G9: 8.8 | H9: 0 | I9: 2.4 | J9: 1.3 | K9: 7.3 | L9: 3.2 | M9: 3.3 | N9: 2.8 | O9: 3 | P9: 4.6 | Q9: 3.3 | R9: 3.1 | S9: 2.2 | T9: 7.4 | U9: 13252 George Bush Street, Manor, TX 78653
A10: ShadowGlen ES | B10: 5.2 | C10: 6 | D10: 6.8 | E10: 3.1 | F10: 8.9 | G10: 8.7 | H10: 2.4 | I10: 0 | J10: 1.1 | K10: 7.1 | L10: 2.4 | M10: 3.1 | N10: 1.9 | O10: 2.3 | P10: 4.6 | Q10: 3.2 | R10: 2.9 | S10: 2.1 | T10: 6.4 | U10: 1200 Shadowglen Trace, Manor, TX 78653
A11: Manor Rise Academy | B11: 4.4 | C11: 5.5 | D11: 6.3 | E11: 2.4 | F11: 8.8 | G11: 8.2 | H11: 1.3 | I11: 1.1 | J11: 0 | K11: 6.8 | L11: 2.6 | M11: 2.7 | N11: 2.2 | O11: 2.1 | P11: 4 | Q11: 2.7 | R11: 2.5 | S11: 1.7 | T11: 6.6 | U11: 13300 FM973, Manor, TX 78653
A12: Decker MS | B12: 8.6 | C12: 3.8 | D12: 0.6 | E12: 6.7 | F12: 2.6 | G12: 6.5 | H12: 7.7 | I12: 7.2 | J12: 7 | K12: 0 | L12: 6.1 | M12: 4.9 | N12: 5.7 | O12: 9.2 | P12: 4.4 | Q12: 4.9 | R12: 4.9 | S12: 5.9 | T12: 12.1 | U12: 8104 Decker Lane, Austin, TX 78724
A13: Manor MS | B13: 4.6 | C13: 4.7 | D13: 5.4 | E13: 2.5 | F13: 7.8 | G13: 7.3 | H13: 3.1 | I13: 2.4 | J13: 2.4 | K13: 5.8 | L13: 0 | M13: 1.7 | N13: 0.7 | O13: 4.6 | P13: 2.9 | Q13: 1.7 | R13: 1.5 | S13: 1.3 | T13: 6.4 | U13: 12900 Gregg Manor Road, Manor, TX 78653
A14: Manor New Tech MS | B14: 4 | C14: 3.4 | D14: 4.2 | E14: 1.9 | F14: 6.6 | G14: 6.1 | H14: 4.3 | I14: 3.1 | J14: 3.6 | K14: 4.6 | L14: 2.7 | M14: 0 | N14: 1.6 | O14: 5.8 | P14: 1.4 | Q14: 0 | R14: 0 | S14: 1.5 | T14: 7.9 | U14: 12116 Joyce Turner Dr., Manor, TX 78653
... A21: MISD Transportation | B21: 8.8 | C21: 2.8 | D21: 5.9 | E21: 6.6 | F21: 8.6 | G21: 4 | H21: 7.7 | I21: 7.5 | J21: 7.2 | K21: 6.6 | L21: 5.1 | M21: 5 | N21: 5.3 | O21: 8 | P21: 5.5 | Q21: 5.1 | R21: 5.1 | S21: 6 | T21: 0 | U21: 13601 Cameron Rd Manor, TX 78653
A22: =SUBTOTAL(103,A3:A21) -> 19
A24: Revised 09/03/2025
