Workbook
Name Items: #REF!

Sheet Servings to Pounds
F1: COMMODITY CHICKEN PROCESSING
F2: July 1, 2026 - June 30, 2027
E3: State
H5: White | I5: Dark | J5: Total
A6: School District | F6: 25 / 26 Carry Over | H6: 0 | I6: 0 | J6: =H6+I6 -> 0 | K6: If White Equals 70% | L6: =K12 -> 0
F7: 26 / 27 Diversion | H7: 0 | I7: 0 | J7: =H7+I7 -> 0 | K7: Then Dark Must = | L7: =L8-L6 -> 0
A8: Address | F8: 26 / 27 Additional Diversion | H8: 0 | I8: 0 | J8: =H8+I8 -> 0 | K8: TTL to Allocate | L8: =L6/0.7 -> 0
A9: City/State/Zip | F9: Total Pounds | H9: =SUM(H6:H8) -> 0 | I9: =SUM(I6:I8) -> 0 | J9: =H9+I9 -> 0
A11: Contact Name | E11: WBSCM Ship to BP # 5005665 Destination Gainesville GA
E12: Total White Meat Pounds to Process | J12: =K12/K14 -> #DIV/0! | K12: =K42+(K68*0.7) -> 0
A13: Phone# | E13: Total Dark Meat Pounds to Process (Needs to equal cell L7) | J13: =K13/K14 -> #DIV/0! | K13: =K56+(K68*0.3) -> 0
E14: Total 100103 Large Bird Pounds | K14: =K12+K13 -> 0
A15: Ship to: | E15: 2026-2027 Large Bird Entitlement Value per lb. | K15: 1.57
A16: Check One | B16: Fee For Service NOI | E16: Total Estimated Entitlement Dollars | K16: =K14*K15 -> 0
A18: INSTRUCTIONS: | B18: 1) Enter in the Total Servings Needed per menu serving and 2) Enter the number of times per year on the menu.
E19: A | F19: B | G19: C | H19: D | I19: E | J19: F | K19: G
A20: Code | B20: Description | C20: Serving Size | D20: Cs. Wt. | E20: Servings per menu | F20: Times on menu / year | G20: Total Servings needed/year | H20: Servings per Case | I20: Total Finished Cases | J20: Lbs. of DF per case | K20: Total Donated Food Pounds | L20: Donated Food Value per case
A21: 24 Karat Whole Muscle Breast Items
A22: 792401 | B22: WG Whole Muscle Breaded Breast Chunks | C22: 4.00oz | D22: 32 | G22: =E22*F22 -> 0 | H22: 128 | I22: =G22/H22 -> 0 | J22: 31.68 | K22: =I22*J22 -> 0 | L22: =J22*K15 -> 49.74
A23: 792402 | B23: WG Whole Muscle Spicy Breast Chunks | C23: 4.00oz | D23: 32 | G23: =E23*F23 -> 0 | H23: 128 | I23: 0 | J23: 31.68 | K23: =I23*J23 -> 0 | L23: =J23*K15 -> 49.74
A24: 792404 | B24: WG Whole Muscle Dill Breast Chunks | C24: 4.00 oz | D24: 32 | G24: =E24*F24 -> 0 | H24: 128 | I24: 0 | J24: 30.14 | K24: =I24*J24 -> 0 | L24: =J24*K15 -> 47.32
A25: 792405 | B25: WG Whole Muscle Cheezy HOTZ Breast Chunks | C25: 5.00oz | D25: 32 | G25: =E25*F25 -> 0 | H25: 102 | I25: 0 | J25: 21.14 | K25: =I25*J25 -> 0 | L25: =J25*K15 -> 33.19
A26: 792408 | B26: Whole Muscle Grilled Breast Chunks | C26: 3.56 oz | D26: 32 | G26: =E26*F26 -> 0 | H26: 144 | I26: 0 | J26: 37.54 | K26: =I26*J26 -> 0 | L26: =J26*K15 -> 58.94
A27: 792409 | B27: WG Whole Muscle Spicy Dill Breast Chunk | C27: 4.00 oz | D27: 32 | G27: =E27*F27 -> 0 | H27: 128 | I27: 0 | J27: 28.95 | K27: =I27*J27 -> 0 | L27: =J27*K15 -> 45.45
A28: 792421 | B28: WG Whole Muscle Breast Fillets | C28: 4.00 oz | D28: 32 | G28: =E28*F28 -> 0 | H28: 128 | I28: 0 | J28: 31.68 | K28: =I28*J28 -> 0 | L28: =J28*K15 -> 49.74
A29: 792422 | B29: WG Whole Muscle Breast Fillets w/foil bags | C29: 4.00 oz | D29: 32 | G29: =E29*F29 -> 0 | H29: 128 | I29: 0 | J29: 31.68 | K29: =I29*J29 -> 0 | L29: =J29*K15 -> 49.74
A30: 792426 | B30: WG Whole Muscle Breakfast Breast Fillet | C30: 2.00 oz | D30: 32 | G30: =E30*F30 -> 0 | H30: 256 | I30: 0 | J30: 32.97 | K30: =I30*J30 -> 0 | L30: =J30*K15 -> 51.76
A31: 792429 | B31: WG Whole Muscle Dill Breast Fillet | C31: 4.00 oz | D31: 32 | G31: =E31*F31 -> 0 | H31: 128 | I31: 0 | J31: 31.07 | K31: =I31*J31 -> 0 | L31: =J31*K15 -> 48.78
A32: 792431 | B32: WG Whole Muscle Spicy Breast Fillet | C32: 4.00 oz | D32: 32 | G32: =E32*F32 -> 0 | H32: 128 | I32: 0 | J32: 31.68 | K32: =I32*J32 -> 0 | L32: =J32*K15 -> 49.74
A33: 792432 | B33: WG Whole Muscle Spicy Breast Fillet w/foil bags | C33: 4.00 oz | D33: 32 | G33: =E33*F33 -> 0 | H33: 128 | I33: 0 | J33: 31.68 | K33: =I33*J33 -> 0 | L33: =J33*K15 -> 49.74
A34: 792435 | B34: WG Whole Muscle SWICY Sweet Heat Breast Fillet | C34: 4.00 oz | D34: 32 | G34: =E34*F34 -> 0 | H34: 128 | I34: 0 | J34: 28.56 | K34: =I34*J34 -> 0 | L34: =J34*K15 -> 44.84
A35: 792441 | B35: WG Whole Muscle Tenders | C35: 4.65oz | D35: 32 | G35: =E35*F35 -> 0 | H35: 110 | I35: 0 | J35: 31.68 | K35: =I35*J35 -> 0 | L35: =J35*K15 -> 49.74
A36: 792442 | B36: WG Whole Muscle Tenders w/boxes | C36: 4.65oz | D36: 32 | G36: =E36*F36 -> 0 | H36: 110 | I36: 0 | J36: 31.68 | K36: =I36*J36 -> 0 | L36: =J36*K15 -> 49.74
A37: 792451 | B37: WG Whole Muscle Spicy Tenders | C37: 4.65oz | D37: 32 | G37: =E37*F37 -> 0 | H37: 110 | I37: 0 | J37: 31.68 | K37: =I37*J37 -> 0 | L37: =J37*K15 -> 49.74
A38: 792452 | B38: WG Whole Muscle Spicy Tenders w/boxes | C38: 4.65oz | D38: 32 | G38: =E38*F38 -> 0 | H38: 110 | I38: 0 | J38: 31.68 | K38: =I38*J38 -> 0 | L38: =J38*K15 -> 49.74
A39: 792480 | B39: Whole Muscle Grilled Breast Fillet | C39: 3.00oz | D39: 32 | G39: =E39*F39 -> 0 | H39: 170 | I39: 0 | J39: 41.98 | K39: =I39*J39 -> 0 | L39: =J39*K15 -> 65.91
A40: 772441 | B40: HALAL - WG Whole Muscle Tenders | C40: 4.65oz | D40: 32 | G40: =E40*F40 -> 0 | H40: 110 | I40: 0 | J40: 31.68 | K40: =I40*J40 -> 0 | L40: =J40*K15 -> 49.74
A41: 772451 | B41: HALAL - WG Whole Muscle Spicy Tenders | C41: 4.65oz | D41: 32 | G41: =E41*F41 -> 0 | H41: 110 | I41: 0 | J41: 31.68 | K41: =I41*J41 -> 0 | L41: =J41*K15 -> 49.74
I42: Total White | K42: =SUM(K22:K41) -> 0
A43: 18 Karat Dark Meat Items
...

Sheet Delivery Schedule
A1: Gold Creek Foods | F1: YEARLY DELIVERY REQUEST / PLANNER | W1: Total Pounds (Carry Over + Allocations | X1: Dark Pounds(Carry Over + Allocations | Y1: White Pounds (Carry Over + Allocations
A2: 2026-2027 School Year | F2: Requested Delivery Date to Warehouse/Distributor | W2: =X2+Y2 -> 0 | X2: ='Servings to Pounds'!I9 -> 0 | Y2: ='Servings to Pounds'!H9 -> 0
A3: Code | B3: Description | C3: Case Price | D3: Pound Price | E3: Draw Down Pounds | F3: July | G3: August | H3: September | I3: October | J3: November | K3: December | L3: January | M3: February | N3: March | O3: April | P3: May | Q3: June | R3: Total Cases | T3: TTL from Servings to Pounds Calculator
B4: ProcessorLink Order # | W4: TTL Draw Down Planned | X4: Dark Draw Down Planned | Y4: White Draw Down Planned
B5: Invoice #
A6: 792401 | B6: ='Servings to Pounds'!B22 -> WG Whole Muscle Breaded Breast Chunks | D6: =C6/32 -> 0 | E6: ='Servings to Pounds'!J22 -> 31.68 | R6: =SUM(F6:Q6) -> 0 | T6: ='Servings to Pounds'!I22 -> 0 | W6: =X6+Y6 -> 0 | Y6: =E6*R6 -> 0
A7: 792402 | B7: ='Servings to Pounds'!B23 -> WG Whole Muscle Spicy Breast Chunks | D7: =C7/32 -> 0 | E7: ='Servings to Pounds'!J23 -> 31.68 | R7: =SUM(F7:Q7) -> 0 | T7: ='Servings to Pounds'!I23 -> 0 | W7: =X7+Y7 -> 0 | Y7: =E7*R7 -> 0
A8: 792404 | B8: ='Servings to Pounds'!B24 -> WG Whole Muscle Dill Breast Chunks | D8: =C8/32 -> 0 | E8: ='Servings to Pounds'!J24 -> 30.14 | R8: =SUM(F8:Q8) -> 0 | T8: ='Servings to Pounds'!I24 -> 0 | W8: =X8+Y8 -> 0 | Y8: =E8*R8 -> 0
A9: 792405 | B9: ='Servings to Pounds'!B25 -> WG Whole Muscle Cheezy HOTZ Breast Chunks | D9: =C9/32 -> 0 | E9: ='Servings to Pounds'!J25 -> 21.14 | R9: =SUM(F9:Q9) -> 0 | T9: ='Servings to Pounds'!I25 -> 0 | W9: =X9+Y9 -> 0 | Y9: =E9*R9 -> 0
A10: 792408 | B10: ='Servings to Pounds'!B26 -> Whole Muscle Grilled Breast Chunks | D10: =C10/32 -> 0 | E10: ='Servings to Pounds'!J26 -> 37.54 | R10: =SUM(F10:Q10) -> 0 | T10: ='Servings to Pounds'!I26 -> 0 | W10: =X10+Y10 -> 0 | Y10: =E10*R10 -> 0
A11: 792409 | B11: WG Whole Muscle Spicy Dill Breast Chunk | D11: =C11/32 -> 0 | E11: ='Servings to Pounds'!J27 -> 28.95 | R11: =SUM(F11:Q11) -> 0 | T11: ='Servings to Pounds'!I27 -> 0 | W11: =X11+Y11 -> 0 | Y11: =E11*R11 -> 0
A12: 792421 | B12: ='Servings to Pounds'!B28 -> WG Whole Muscle Breast Fillets | D12: =C12/32 -> 0 | E12: ='Servings to Pounds'!J28 -> 31.68 | R12: =SUM(F12:Q12) -> 0 | T12: ='Servings to Pounds'!I28 -> 0 | W12: =X12+Y12 -> 0 | Y12: =E12*R12 -> 0
A13: 792422 | B13: ='Servings to Pounds'!B29 -> WG Whole Muscle Breast Fillets w/foil bags | D13: =C13/32 -> 0 | E13: ='Servings to Pounds'!J29 -> 31.68 | R13: =SUM(F13:Q13) -> 0 | T13: ='Servings to Pounds'!I29 -> 0 | W13: =X13+Y13 -> 0 | Y13: =E13*R13 -> 0
A14: 792426 | B14: ='Servings to Pounds'!B30 -> WG Whole Muscle Breakfast Breast Fillet | D14: =C14/32 -> 0 | E14: ='Servings to Pounds'!J30 -> 32.97 | R14: =SUM(F14:Q14) -> 0 | T14: ='Servings to Pounds'!I30 -> 0 | W14: =X14+Y14 -> 0 | Y14: =E14*R14 -> 0
A15: 792429 | B15: ='Servings to Pounds'!B31 -> WG Whole Muscle Dill Breast Fillet | D15: =C15/32 -> 0 | R15: =SUM(F15:Q15) -> 0 | T15: ='Servings to Pounds'!I31 -> 0 | W15: =X15+Y15 -> 0 | Y15: =E15*R15 -> 0
A16: 792431 | B16: ='Servings to Pounds'!B32 -> WG Whole Muscle Spicy Breast Fillet | D16: =C16/32 -> 0 | E16: ='Servings to Pounds'!J32 -> 31.68 | R16: =SUM(F16:Q16) -> 0 | T16: ='Servings to Pounds'!I32 -> 0 | W16: =X16+Y16 -> 0 | Y16: =E16*R16 -> 0
A17: 792432 | B17: ='Servings to Pounds'!B33 -> WG Whole Muscle Spicy Breast Fillet w/foil bags | D17: =C17/32 -> 0 | E17: ='Servings to Pounds'!J33 -> 31.68 | R17: =SUM(F17:Q17) -> 0 | T17: ='Servings to Pounds'!I33 -> 0 | W17: =X17+Y17 -> 0 | Y17: =E17*R17 -> 0
A18: 792435 | B18: WG Whole Muscle SWICY Sweet Heat Breast Fillet | D18: =C18/32 -> 0 | E18: ='Servings to Pounds'!J34 -> 28.56 | R18: =SUM(F18:Q18) -> 0 | T18: ='Servings to Pounds'!I34 -> 0 | W18: =X18+Y18 -> 0 | Y18: =E18*R18 -> 0
A19: 792441 | B19: ='Servings to Pounds'!B35 -> WG Whole Muscle Tenders | D19: =C19/32 -> 0 | E19: ='Servings to Pounds'!J35 -> 31.68 | R19: =SUM(F19:Q19) -> 0 | T19: ='Servings to Pounds'!I35 -> 0 | W19: =X19+Y19 -> 0 | Y19: =E19*R19 -> 0
A20: 792442 | B20: ='Servings to Pounds'!B36 -> WG Whole Muscle Tenders w/boxes | D20: =C20/32 -> 0 | E20: ='Servings to Pounds'!J36 -> 31.68 | R20: =SUM(F20:Q20) -> 0 | T20: ='Servings to Pounds'!I36 -> 0 | W20: =X20+Y20 -> 0 | Y20: =E20*R20 -> 0
A21: 792451 | B21: ='Servings to Pounds'!B37 -> WG Whole Muscle Spicy Tenders | D21: =C21/32 -> 0 | E21: ='Servings to Pounds'!J37 -> 31.68 | R21: =SUM(F21:Q21) -> 0 | T21: ='Servings to Pounds'!I37 -> 0 | W21: =X21+Y21 -> 0 | Y21: =E21*R21 -> 0
A22: 792452 | B22: ='Servings to Pounds'!B38 -> WG Whole Muscle Spicy Tenders w/boxes | D22: =C22/32 -> 0 | E22: ='Servings to Pounds'!J38 -> 31.68 | R22: =SUM(F22:Q22) -> 0 | T22: ='Servings to Pounds'!I38 -> 0 | W22: =X22+Y22 -> 0 | Y22: =E22*R22 -> 0
A23: 792480 | B23: ='Servings to Pounds'!B39 -> Whole Muscle Grilled Breast Fillet | D23: =C23/32 -> 0 | E23: ='Servings to Pounds'!J39 -> 41.98 | R23: =SUM(F23:Q23) -> 0 | T23: ='Servings to Pounds'!I39 -> 0 | W23: =X23+Y23 -> 0 | Y23: =E23*R23 -> 0
A24: 772441 | B24: ='Servings to Pounds'!B40 -> HALAL - WG Whole Muscle Tenders | D24: =C24/32 -> 0 | E24: ='Servings to Pounds'!#REF! -> #REF! | R24: =SUM(F24:Q24) -> 0 | T24: ='Servings to Pounds'!I40 -> 0 | W24: =X24+Y24 -> #REF! | Y24: =E24*R24 -> #REF!
A25: 772451 | B25: ='Servings to Pounds'!B41 -> HALAL - WG Whole Muscle Spicy Tenders | D25: =C25/32 -> 0 | E25: ='Servings to Pounds'!#REF! -> #REF! | R25: =SUM(F25:Q25) -> 0 | T25: ='Servings to Pounds'!I41 -> 0 | W25: =X25+Y25 -> #REF! | Y25: =E25*R25 -> #REF!
A27: 791828 | B27: ='Servings to Pounds'!B44 -> Chicken Sausage Patty | D27: =C27/32 -> 0 | E27: ='Servings to Pounds'!J44 -> 63.16 | R27: =SUM(F27:Q27) -> 0 | T27: ='Servings to Pounds'!I44 -> 0 | W27: =X27+Y27 -> 0 | X27: =E27*R27 -> 0
A28: 791863 | B28: ='Servings to Pounds'!B45 -> WG Southern Gravy Crunchers | D28: =C28/32 -> 0 | E28: ='Servings to Pounds'!J45 -> 41.06 | R28: =SUM(F28:Q28) -> 0 | T28: ='Servings to Pounds'!I45 -> 0 | W28: =X28+Y28 -> 0 | X28: =E28*R28 -> 0
A29: 791868 | B29: ='Servings to Pounds'!B46 -> WG Sausage Cruncher Stix | D29: =C29/32 -> 0 | E29: ='Servings to Pounds'!J46 -> 43.03 | R29: =SUM(F29:Q29) -> 0 | T29: ='Servings to Pounds'!I46 -> 0 | W29: =X29+Y29 -> 0 | X29: =E29*R29 -> 0
A30: 791880 | B30: ='Servings to Pounds'!B47 -> WG Breaded Drumsticks & Thighs | D30: =C30/32 -> 0 | E30: ='Servings to Pounds'!J47 -> 38.71 | R30: =SUM(F30:Q30) -> 0 | T30: ='Servings to Pounds'!I47 -> 0 | W30: =X30+Y30 -> 0 | X30: =E30*R30 -> 0
A31: 791885 | B31: ='Servings to Pounds'!B48 -> WG Breaded Drumsticks | D31: =C31/32 -> 0 | E31: ='Servings to Pounds'!J48 -> 38.71 | R31: =SUM(F31:Q31) -> 0 | T31: ='Servings to Pounds'!I48 -> 0 | W31: =X31+Y31 -> 0 | X31: =E31*R31 -> 0
A32: 791890 | B32: ='Servings to Pounds'!B49 -> Roasted Drumsticks & Thighs | D32: =C32/32 -> 0 | E32: ='Servings to Pounds'!J49 -> 47.58 | R32: =SUM(F32:Q32) -> 0 | T32: ='Servings to Pounds'!I49 -> 0 | W32: =X32+Y32 -> 0 | X32: =E32*R32 -> 0
A33: 791895 | B33: ='Servings to Pounds'!B50 -> Roasted Drumsticks | D33: =C33/32 -> 0 | E33: ='Servings to Pounds'!J50 -> 47.58 | R33: =SUM(F33:Q33) -> 0 | T33: ='Servings to Pounds'!I50 -> 0 | W33: =X33+Y33 -> 0 | X33: =E33*R33 -> 0
A34: 791893 | B34: ='Servings to Pounds'!B51 -> WG Large Dark Meat Popcorn | D34: =C34/32 -> 0 | E34: ='Servings to Pounds'!J51 -> 46.55 | R34: =SUM(F34:Q34) -> 0 | T34: ='Servings to Pounds'!I51 -> 0 | W34: =X34+Y34 -> 0 | X34: =E34*R34 -> 0
A35: 791871 | B35: WG Breaded Dark Popcorn/Korean BBQ Sauce | D35: =C35/44 -> 0 | E35: ='Servings to Pounds'!J51 -> 46.55 | R35: =SUM(F35:Q35) -> 0 | W35: =X35+Y35 -> 0 | X35: =E35*R35 -> 0
A36: 791872 | B36: WG Breaded Dark Popcorn/Hunan Orange Sauce | D36: =C36/44 -> 0 | E36: ='Servings to Pounds'!J51 -> 46.55 | R36: =SUM(F36:Q36) -> 0 | W36: =X36+Y36 -> 0 | X36: =E36*R36 -> 0
A37: 791873 | B37: WG Breaded Dark Popcorn/Sweet Thai Chili Sauce | D37: =C37/44 -> 0 | E37: ='Servings to Pounds'!J51 -> 46.55 | R37: =SUM(F37:Q37) -> 0 | W37: =X37+Y37 -> 0 | X37: =E37*R37 -> 0
A38: 791874 | B38: WG Breaded Dark Popcorn/General Tso's Sauce | D38: =C38/44 -> 0 | E38: ='Servings to Pounds'!J51 -> 46.55 | R38: =SUM(F38:Q38) -> 0 | W38: =X38+Y38 -> 0 | X38: =E38*R38 -> 0
A39: 791896 | B39: ='Servings to Pounds'!B53 -> Unbreaded Dark Meat Chicken Strips | D39: =C39/32 -> 0 | E39: ='Servings to Pounds'!J53 -> 58.38 | R39: =SUM(F39:Q39) -> 0 | T39: ='Servings to Pounds'!I53 -> 0 | W39: =X39+Y39 -> 0 | X39: =E39*R39 -> 0
A40: 791876 | B40: Unbreaded Strips/Korean BBQ Sauce | D40: =C40/44 -> 0 | E40: ='Servings to Pounds'!J53 -> 58.38 | R40: =SUM(F40:Q40) -> 0 | W40: =X40+Y40 -> 0 | X40: =E40*R40 -> 0
A41: 791877 | B41: Unbreaded Strips/Hunan Orange Sauce | D41: =C41/44 -> 0 | E41: ='Servings to Pounds'!J53 -> 58.38 | R41: =SUM(F41:Q41) -> 0 | W41: =X41+Y41 -> 0 | X41: =E41*R41 -> 0
...
