Workbook
Name Items: #REF!

Sheet Servings to Pounds
F1: COMMODITY CHICKEN PROCESSING
F2: July 1, 2026 - June 30, 2027
E3: State
H5: White | I5: Dark | J5: Total
A6: School District | F6: 25 / 26 Carry Over | H6: 0 | I6: 0 | J6: =H6+I6 -> 0 | K6: If White Equals 70% | L6: =K12 -> 0
F7: 26 / 27 Diversion | H7: 0 | I7: 0 | J7: =H7+I7 -> 0 | K7: Then Dark Must = | L7: =L8-L6 -> 0
A8: Address | F8: 26 / 27 Additional Diversion | H8: 0 | I8: 0 | J8: =H8+I8 -> 0 | K8: TTL to Allocate | L8: =L6/0.7 -> 0
A9: City/State/Zip | F9: Total Pounds | H9: =SUM(H6:H8) -> 0 | I9: =SUM(I6:I8) -> 0 | J9: =H9+I9 -> 0
A11: Contact Name | E11: WBSCM Ship to BP # 5005665 Destination Gainesville GA
E12: Total White Meat Pounds to Process | J12: =K12/K14 -> #DIV/0! | K12: =K42+(K68*0.7) -> 0
A13: Phone# | E13: Total Dark Meat Pounds to Process (Needs to equal cell L7) | J13: =K13/K14 -> #DIV/0! | K13: =K56+(K68*0.3) -> 0
E14: Total 100103 Large Bird Pounds | K14: =K12+K13 -> 0
A15: Ship to: | E15: 2026-2027 Large Bird Entitlement Value per lb. | K15: 1.57
A16: Check One | B16: Fee For Service NOI | E16: Total Estimated Entitlement Dollars | K16: =K14*K15 -> 0
A18: INSTRUCTIONS: | B18: 1) Enter in the Total Servings Needed per menu serving and 2) Enter the number of times per year on the menu.
E19: A | F19: B | G19: C | H19: D | I19: E | J19: F | K19: G
A20: Code | B20: Description | C20: Serving Size | D20: Cs. Wt. | E20: Servings per menu | F20: Times on menu / year | G20: Total Servings needed/year | H20: Servings per Case | I20: Total Finished Cases | J20: Lbs. of DF per case | K20: Total Donated Food Pounds | L20: Donated Food Value per case
A21: 24 Karat Whole Muscle Breast Items
A22: 792401 | B22: WG Whole Muscle Breaded Breast Chunks | C22: 4.00oz | D22: 32 | G22: =E22*F22 -> 0 | H22: 128 | I22: =G22/H22 -> 0 | J22: 31.68 | K22: =I22*J22 -> 0 | L22: =J22*K15 -> 49.74
A23: 792402 | B23: WG Whole Muscle Spicy Breast Chunks | C23: 4.00oz | D23: 32 | G23: =E23*F23 -> 0 | H23: 128 | I23: 0 | J23: 31.68 | K23: =I23*J23 -> 0 | L23: =J23*K15 -> 49.74
A24: 792404 | B24: WG Whole Muscle Dill Breast Chunks | C24: 4.00 oz | D24: 32 | G24: =E24*F24 -> 0 | H24: 128 | I24: 0 | J24: 30.14 | K24: =I24*J24 -> 0 | L24: =J24*K15 -> 47.32
A25: 792405 | B25: WG Whole Muscle Cheezy HOTZ Breast Chunks | C25: 5.00oz | D25: 32 | G25: =E25*F25 -> 0 | H25: 102 | I25: 0 | J25: 21.14 | K25: =I25*J25 -> 0 | L25: =J25*K15 -> 33.19
A26: 792408 | B26: Whole Muscle Grilled Breast Chunks | C26: 3.56 oz | D26: 32 | G26: =E26*F26 -> 0 | H26: 144 | I26: 0 | J26: 37.54 | K26: =I26*J26 -> 0 | L26: =J26*K15 -> 58.94
A27: 792409 | B27: WG Whole Muscle Spicy Dill Breast Chunk | C27: 4.00 oz | D27: 32 | G27: =E27*F27 -> 0 | H27: 128 | I27: 0 | J27: 28.95 | K27: =I27*J27 -> 0 | L27: =J27*K15 -> 45.45
A28: 792421 | B28: WG Whole Muscle Breast Fillets | C28: 4.00 oz | D28: 32 | G28: =E28*F28 -> 0 | H28: 128 | I28: 0 | J28: 31.68 | K28: =I28*J28 -> 0 | L28: =J28*K15 -> 49.74
A29: 792422 | B29: WG Whole Muscle Breast Fillets w/foil bags | C29: 4.00 oz | D29: 32 | G29: =E29*F29 -> 0 | H29: 128 | I29: 0 | J29: 31.68 | K29: =I29*J29 -> 0 | L29: =J29*K15 -> 49.74
A30: 792426 | B30: WG Whole Muscle Breakfast Breast Fillet | C30: 2.00 oz | D30: 32 | G30: =E30*F30 -> 0 | H30: 256 | I30: 0 | J30: 32.97 | K30: =I30*J30 -> 0 | L30: =J30*K15 -> 51.76
A31: 792429 | B31: WG Whole Muscle Dill Breast Fillet | C31: 4.00 oz | D31: 32 | G31: =E31*F31 -> 0 | H31: 128 | I31: 0 | J31: 31.07 | K31: =I31*J31 -> 0 | L31: =J31*K15 -> 48.78
A32: 792431 | B32: WG Whole Muscle Spicy Breast Fillet | C32: 4.00 oz | D32: 32 | G32: =E32*F32 -> 0 | H32: 128 | I32: 0 | J32: 31.68 | K32: =I32*J32 -> 0 | L32: =J32*K15 -> 49.74
A33: 792432 | B33: WG Whole Muscle Spicy Breast Fillet w/foil bags | C33: 4.00 oz | D33: 32 | G33: =E33*F33 -> 0 | H33: 128 | I33: 0 | J33: 31.68 | K33: =I33*J33 -> 0 | L33: =J33*K15 -> 49.74
A34: 792435 | B34: WG Whole Muscle SWICY Sweet Heat Breast Fillet | C34: 4.00 oz | D34: 32 | G34: =E34*F34 -> 0 | H34: 128 | I34: 0 | J34: 28.56 | K34: =I34*J34 -> 0 | L34: =J34*K15 -> 44.84
A35: 792441 | B35: WG Whole Muscle Tenders | C35: 4.65oz | D35: 32 | G35: =E35*F35 -> 0 | H35: 110 | I35: 0 | J35: 31.68 | K35: =I35*J35 -> 0 | L35: =J35*K15 -> 49.74
A36: 792442 | B36: WG Whole Muscle Tenders w/boxes | C36: 4.65oz | D36: 32 | G36: =E36*F36 -> 0 | H36: 110 | I36: 0 | J36: 31.68 | K36: =I36*J36 -> 0 | L36: =J36*K15 -> 49.74
A37: 792451 | B37: WG Whole Muscle Spicy Tenders | C37: 4.65oz | D37: 32 | G37: =E37*F37 -> 0 | H37: 110 | I37: 0 | J37: 31.68 | K37: =I37*J37 -> 0 | L37: =J37*K15 -> 49.74
A38: 792452 | B38: WG Whole Muscle Spicy Tenders w/boxes | C38: 4.65oz | D38: 32 | G38: =E38*F38 -> 0 | H38: 110 | I38: 0 | J38: 31.68 | K38: =I38*J38 -> 0 | L38: =J38*K15 -> 49.74
A39: 792480 | B39: Whole Muscle Grilled Breast Fillet | C39: 3.00oz | D39: 32 | G39: =E39*F39 -> 0 | H39: 170 | I39: 0 | J39: 41.98 | K39: =I39*J39 -> 0 | L39: =J39*K15 -> 65.91
A40: 772441 | B40: HALAL - WG Whole Muscle Tenders | C40: 4.65oz | D40: 32 | G40: =E40*F40 -> 0 | H40: 110 | I40: 0 | J40: 31.68 | K40: =I40*J40 -> 0 | L40: =J40*K15 -> 49.74
A41: 772451 | B41: HALAL - WG Whole Muscle Spicy Tenders | C41: 4.65oz | D41: 32 | G41: =E41*F41 -> 0 | H41: 110 | I41: 0 | J41: 31.68 | K41: =I41*J41 -> 0 | L41: =J41*K15 -> 49.74
I42: Total White | K42: =SUM(K22:K41) -> 0
A43: 18 Karat Dark Meat Items
A44: 791828 | B44: Chicken Sausage Patty | C44: 1.50 oz | D44: 32 | G44: =E44*F44 -> 0 | H44: 341 | I44: 0 | J44: 63.16 | K44: =I44*J44 -> 0 | L44: =J44*K15 -> 99.16
A45: 791863 | B45: WG Southern Gravy Crunchers | C45: 4.80 oz | D45: 32 | G45: =E45*F45 -> 0 | H45: 107 | I45: 0 | J45: 41.06 | K45: =I45*J45 -> 0 | L45: =J45*K15 -> 64.46
A46: 791868 | B46: WG Sausage Cruncher Stix | C46: 3.20 oz | D46: 32 | G46: =E46*F46 -> 0 | H46: 160 | I46: 0 | J46: 43.03 | K46: =I46*J46 -> 0 | L46: =J46*K15 -> 67.56
A47: 791880 | B47: WG Breaded Drumsticks & Thighs | C47: 1 Thigh/1 Drum | D47: 32 | G47: =E47*F47 -> 0 | H47: 112 | I47: 0 | J47: 38.71 | K47: =I47*J47 -> 0 | L47: =J47*K15 -> 60.77
A48: 791885 | B48: WG Breaded Drumsticks | C48: 1 Drum | D48: 32 | G48: =E48*F48 -> 0 | H48: 86 | I48: 0 | J48: 38.71 | K48: =I48*J48 -> 0 | L48: =J48*K15 -> 60.77
A49: 791890 | B49: Roasted Drumsticks & Thighs | C49: 1 Thigh/1 Drum | D49: 32 | G49: =E49*F49 -> 0 | H49: 138 | I49: 0 | J49: 47.58 | K49: =I49*J49 -> 0 | L49: =J49*K15 -> 74.7
A50: 791895 | B50: Roasted Drumsticks | C50: 1 Drum | D50: 32 | G50: =E50*F50 -> 0 | H50: 138 | I50: 0 | J50: 47.58 | K50: =I50*J50 -> 0 | L50: =J50*K15 -> 74.7
A51: 791893 | B51: WG Large Dark Meat Popcorn | C51: 4.50 oz | D51: 32 | G51: =E51*F51 -> 0 | H51: 113 | I51: 0 | J51: 46.55 | K51: =I51*J51 -> 0 | L51: =J51*K15 -> 73.08
A52: % Sauce | B52: NONE 791871 Korean BBQ 791872 Hunan Orange 791873 Sweet Thai Chili 791874 General Tso's
A53: 791896 | B53: Unbreaded Dark Meat Chicken Strips | C53: 2.14 oz | D53: 32 | G53: =E53*F53 -> 0 | H53: 239 | I53: =G53/H53 -> 0 | J53: 58.38 | K53: =I53*J53 -> 0 | L53: =J53*K15 -> 91.66
A54: % Sauce | B54: NONE 791876 Korean BBQ 791877 Hunan Orange 791878 Sweet Thai Chili 791879 Teriyaki
A55: If Sauces are chosen, please indicate percentage of the finished cases allocated to each sauce. 44 pound master case includes 12 lbs of JTM sauce - draw down will be the same.
I56: Total Dark | K56: =SUM(K44:K53) -> 0
A57: 14 Karat Natural Proportion White/Dark Chicken Items
A58: 791401 | B58: WG Breaded Chicken Nuggets | C58: 3.05 oz | D58: 32 | G58: =E58*F58 -> 0 | H58: 167 | I58: =G58/H58 -> 0 | J58: 24.56 | K58: =I58*J58 -> 0 | L58: =J58*K15 -> 38.56
A59: 791421 | B59: WG Breaded Chicken Patties | C59: 3.00 oz | D59: 32 | G59: =E59*F59 -> 0 | H59: 170 | I59: =G59/H59 -> 0 | J59: 24.32 | K59: =I59*J59 -> 0 | L59: =J59*K15 -> 38.18
A60: 791426 | B60: WG Breaded Breakfast Patties | C60: 1.90 oz | D60: 32 | G60: =E60*F60 -> 0 | H60: 270 | I60: =G60/H60 -> 0 | J60: 25.55 | K60: =I60*J60 -> 0 | L60: =J60*K15 -> 40.11
A61: 791431 | B61: WG Hot & Spicy Patty | C61: 3.00 oz | D61: 32 | G61: =E61*F61 -> 0 | H61: 170 | I61: =G61/H61 -> 0 | J61: 24.32 | K61: =I61*J61 -> 0 | L61: =J61*K15 -> 38.18
A62: 791441 | B62: WG Breaded Chicken Tenders | C62: 3.00 oz | D62: 32 | G62: =E62*F62 -> 0 | H62: 170 | I62: =G62/H62 -> 0 | J62: 24.49 | K62: =I62*J62 -> 0 | L62: =J62*K15 -> 38.45
A63: 791461 | B63: WG Breaded Popcorn Chicken | C63: 3.00 oz | D63: 32 | G63: =E63*F63 -> 0 | H63: 170 | I63: =G63/H63 -> 0 | J63: 24.73 | K63: =I63*J63 -> 0 | L63: =J63*K15 -> 38.83
A64: 791493 | B64: WG Breaded Large Popcorn | C64: 4.50 oz | D64: 32 | G64: =E64*F64 -> 0 | H64: 113 | I64: =G64/H64 -> 0 | J64: 32.44 | K64: =I64*J64 -> 0 | L64: =J64*K15 -> 50.93
A65: 791499 | B65: Shredded Chicken | C65: 3.00 oz | D65: 32 | G65: =E65*F65 -> 0 | H65: 170 | I65: =G65/H65 -> 0 | J65: 39 | K65: =I65*J65 -> 0 | L65: =J65*K15 -> 61.23
A67: 771421 | B67: HALAL - WG Breaded Halal Chicken Patties | C67: 3.00 oz | D67: 32 | G67: =E67*F67 -> 0 | H67: 170 | I67: =G67/H67 -> 0 | J67: 24.32 | K67: =I67*J67 -> 0 | L67: =J67*K15 -> 38.18
H68: Total Natural Proportion | K68: =SUM(K58:K67) -> 0 | L68: Total Est $ used
C69: Total Cases Ordered | I69: =SUM(I22:I67) -> 0

Sheet Delivery Schedule
A1: Gold Creek Foods | F1: YEARLY DELIVERY REQUEST / PLANNER | W1: Total Pounds (Carry Over + Allocations | X1: Dark Pounds(Carry Over + Allocations | Y1: White Pounds (Carry Over + Allocations
A2: 2026-2027 School Year | F2: Requested Delivery Date to Warehouse/Distributor | W2: =X2+Y2 -> 0 | X2: ='Servings to Pounds'!I9 -> 0 | Y2: ='Servings to Pounds'!H9 -> 0
A3: Code | B3: Description | C3: Case Price | D3: Pound Price | E3: Draw Down Pounds | F3: July | G3: August | H3: September | I3: October | J3: November | K3: December | L3: January | M3: February | N3: March | O3: April | P3: May | Q3: June | R3: Total Cases | T3: TTL from Servings to Pounds Calculator
B4: ProcessorLink Order # | W4: TTL Draw Down Planned | X4: Dark Draw Down Planned | Y4: White Draw Down Planned
B5: Invoice #
A6: 792401 | B6: ='Servings to Pounds'!B22 -> WG Whole Muscle Breaded Breast Chunks | D6: =C6/32 -> 0 | E6: ='Servings to Pounds'!J22 -> 31.68 | R6: =SUM(F6:Q6) -> 0 | T6: ='Servings to Pounds'!I22 -> 0 | W6: =X6+Y6 -> 0 | Y6: =E6*R6 -> 0
A7: 792402 | B7: ='Servings to Pounds'!B23 -> WG Whole Muscle Spicy Breast Chunks | D7: =C7/32 -> 0 | E7: ='Servings to Pounds'!J23 -> 31.68 | R7: =SUM(F7:Q7) -> 0 | T7: ='Servings to Pounds'!I23 -> 0 | W7: =X7+Y7 -> 0 | Y7: =E7*R7 -> 0
A8: 792404 | B8: ='Servings to Pounds'!B24 -> WG Whole Muscle Dill Breast Chunks | D8: =C8/32 -> 0 | E8: ='Servings to Pounds'!J24 -> 30.14 | R8: =SUM(F8:Q8) -> 0 | T8: ='Servings to Pounds'!I24 -> 0 | W8: =X8+Y8 -> 0 | Y8: =E8*R8 -> 0
A9: 792405 | B9: ='Servings to Pounds'!B25 -> WG Whole Muscle Cheezy HOTZ Breast Chunks | D9: =C9/32 -> 0 | E9: ='Servings to Pounds'!J25 -> 21.14 | R9: =SUM(F9:Q9) -> 0 | T9: ='Servings to Pounds'!I25 -> 0 | W9: =X9+Y9 -> 0 | Y9: =E9*R9 -> 0
A10: 792408 | B10: ='Servings to Pounds'!B26 -> Whole Muscle Grilled Breast Chunks | D10: =C10/32 -> 0 | E10: ='Servings to Pounds'!J26 -> 37.54 | R10: =SUM(F10:Q10) -> 0 | T10: ='Servings to Pounds'!I26 -> 0 | W10: =X10+Y10 -> 0 | Y10: =E10*R10 -> 0
A11: 792409 | B11: WG Whole Muscle Spicy Dill Breast Chunk | D11: =C11/32 -> 0 | E11: ='Servings to Pounds'!J27 -> 28.95 | R11: =SUM(F11:Q11) -> 0 | T11: ='Servings to Pounds'!I27 -> 0 | W11: =X11+Y11 -> 0 | Y11: =E11*R11 -> 0
A12: 792421 | B12: ='Servings to Pounds'!B28 -> WG Whole Muscle Breast Fillets | D12: =C12/32 -> 0 | E12: ='Servings to Pounds'!J28 -> 31.68 | R12: =SUM(F12:Q12) -> 0 | T12: ='Servings to Pounds'!I28 -> 0 | W12: =X12+Y12 -> 0 | Y12: =E12*R12 -> 0
A13: 792422 | B13: ='Servings to Pounds'!B29 -> WG Whole Muscle Breast Fillets w/foil bags | D13: =C13/32 -> 0 | E13: ='Servings to Pounds'!J29 -> 31.68 | R13: =SUM(F13:Q13) -> 0 | T13: ='Servings to Pounds'!I29 -> 0 | W13: =X13+Y13 -> 0 | Y13: =E13*R13 -> 0
A14: 792426 | B14: ='Servings to Pounds'!B30 -> WG Whole Muscle Breakfast Breast Fillet | D14: =C14/32 -> 0 | E14: ='Servings to Pounds'!J30 -> 32.97 | R14: =SUM(F14:Q14) -> 0 | T14: ='Servings to Pounds'!I30 -> 0 | W14: =X14+Y14 -> 0 | Y14: =E14*R14 -> 0
A15: 792429 | B15: ='Servings to Pounds'!B31 -> WG Whole Muscle Dill Breast Fillet | D15: =C15/32 -> 0 | R15: =SUM(F15:Q15) -> 0 | T15: ='Servings to Pounds'!I31 -> 0 | W15: =X15+Y15 -> 0 | Y15: =E15*R15 -> 0
A16: 792431 | B16: ='Servings to Pounds'!B32 -> WG Whole Muscle Spicy Breast Fillet | D16: =C16/32 -> 0 | E16: ='Servings to Pounds'!J32 -> 31.68 | R16: =SUM(F16:Q16) -> 0 | T16: ='Servings to Pounds'!I32 -> 0 | W16: =X16+Y16 -> 0 | Y16: =E16*R16 -> 0
A17: 792432 | B17: ='Servings to Pounds'!B33 -> WG Whole Muscle Spicy Breast Fillet w/foil bags | D17: =C17/32 -> 0 | E17: ='Servings to Pounds'!J33 -> 31.68 | R17: =SUM(F17:Q17) -> 0 | T17: ='Servings to Pounds'!I33 -> 0 | W17: =X17+Y17 -> 0 | Y17: =E17*R17 -> 0
A18: 792435 | B18: WG Whole Muscle SWICY Sweet Heat Breast Fillet | D18: =C18/32 -> 0 | E18: ='Servings to Pounds'!J34 -> 28.56 | R18: =SUM(F18:Q18) -> 0 | T18: ='Servings to Pounds'!I34 -> 0 | W18: =X18+Y18 -> 0 | Y18: =E18*R18 -> 0
A19: 792441 | B19: ='Servings to Pounds'!B35 -> WG Whole Muscle Tenders | D19: =C19/32 -> 0 | E19: ='Servings to Pounds'!J35 -> 31.68 | R19: =SUM(F19:Q19) -> 0 | T19: ='Servings to Pounds'!I35 -> 0 | W19: =X19+Y19 -> 0 | Y19: =E19*R19 -> 0
A20: 792442 | B20: ='Servings to Pounds'!B36 -> WG Whole Muscle Tenders w/boxes | D20: =C20/32 -> 0 | E20: ='Servings to Pounds'!J36 -> 31.68 | R20: =SUM(F20:Q20) -> 0 | T20: ='Servings to Pounds'!I36 -> 0 | W20: =X20+Y20 -> 0 | Y20: =E20*R20 -> 0
A21: 792451 | B21: ='Servings to Pounds'!B37 -> WG Whole Muscle Spicy Tenders | D21: =C21/32 -> 0 | E21: ='Servings to Pounds'!J37 -> 31.68 | R21: =SUM(F21:Q21) -> 0 | T21: ='Servings to Pounds'!I37 -> 0 | W21: =X21+Y21 -> 0 | Y21: =E21*R21 -> 0
A22: 792452 | B22: ='Servings to Pounds'!B38 -> WG Whole Muscle Spicy Tenders w/boxes | D22: =C22/32 -> 0 | E22: ='Servings to Pounds'!J38 -> 31.68 | R22: =SUM(F22:Q22) -> 0 | T22: ='Servings to Pounds'!I38 -> 0 | W22: =X22+Y22 -> 0 | Y22: =E22*R22 -> 0
A23: 792480 | B23: ='Servings to Pounds'!B39 -> Whole Muscle Grilled Breast Fillet | D23: =C23/32 -> 0 | E23: ='Servings to Pounds'!J39 -> 41.98 | R23: =SUM(F23:Q23) -> 0 | T23: ='Servings to Pounds'!I39 -> 0 | W23: =X23+Y23 -> 0 | Y23: =E23*R23 -> 0
A24: 772441 | B24: ='Servings to Pounds'!B40 -> HALAL - WG Whole Muscle Tenders | D24: =C24/32 -> 0 | E24: ='Servings to Pounds'!#REF! -> #REF! | R24: =SUM(F24:Q24) -> 0 | T24: ='Servings to Pounds'!I40 -> 0 | W24: =X24+Y24 -> #REF! | Y24: =E24*R24 -> #REF!
A25: 772451 | B25: ='Servings to Pounds'!B41 -> HALAL - WG Whole Muscle Spicy Tenders | D25: =C25/32 -> 0 | E25: ='Servings to Pounds'!#REF! -> #REF! | R25: =SUM(F25:Q25) -> 0 | T25: ='Servings to Pounds'!I41 -> 0 | W25: =X25+Y25 -> #REF! | Y25: =E25*R25 -> #REF!
A27: 791828 | B27: ='Servings to Pounds'!B44 -> Chicken Sausage Patty | D27: =C27/32 -> 0 | E27: ='Servings to Pounds'!J44 -> 63.16 | R27: =SUM(F27:Q27) -> 0 | T27: ='Servings to Pounds'!I44 -> 0 | W27: =X27+Y27 -> 0 | X27: =E27*R27 -> 0
A28: 791863 | B28: ='Servings to Pounds'!B45 -> WG Southern Gravy Crunchers | D28: =C28/32 -> 0 | E28: ='Servings to Pounds'!J45 -> 41.06 | R28: =SUM(F28:Q28) -> 0 | T28: ='Servings to Pounds'!I45 -> 0 | W28: =X28+Y28 -> 0 | X28: =E28*R28 -> 0
A29: 791868 | B29: ='Servings to Pounds'!B46 -> WG Sausage Cruncher Stix | D29: =C29/32 -> 0 | E29: ='Servings to Pounds'!J46 -> 43.03 | R29: =SUM(F29:Q29) -> 0 | T29: ='Servings to Pounds'!I46 -> 0 | W29: =X29+Y29 -> 0 | X29: =E29*R29 -> 0
A30: 791880 | B30: ='Servings to Pounds'!B47 -> WG Breaded Drumsticks & Thighs | D30: =C30/32 -> 0 | E30: ='Servings to Pounds'!J47 -> 38.71 | R30: =SUM(F30:Q30) -> 0 | T30: ='Servings to Pounds'!I47 -> 0 | W30: =X30+Y30 -> 0 | X30: =E30*R30 -> 0
A31: 791885 | B31: ='Servings to Pounds'!B48 -> WG Breaded Drumsticks | D31: =C31/32 -> 0 | E31: ='Servings to Pounds'!J48 -> 38.71 | R31: =SUM(F31:Q31) -> 0 | T31: ='Servings to Pounds'!I48 -> 0 | W31: =X31+Y31 -> 0 | X31: =E31*R31 -> 0
A32: 791890 | B32: ='Servings to Pounds'!B49 -> Roasted Drumsticks & Thighs | D32: =C32/32 -> 0 | E32: ='Servings to Pounds'!J49 -> 47.58 | R32: =SUM(F32:Q32) -> 0 | T32: ='Servings to Pounds'!I49 -> 0 | W32: =X32+Y32 -> 0 | X32: =E32*R32 -> 0
A33: 791895 | B33: ='Servings to Pounds'!B50 -> Roasted Drumsticks | D33: =C33/32 -> 0 | E33: ='Servings to Pounds'!J50 -> 47.58 | R33: =SUM(F33:Q33) -> 0 | T33: ='Servings to Pounds'!I50 -> 0 | W33: =X33+Y33 -> 0 | X33: =E33*R33 -> 0
A34: 791893 | B34: ='Servings to Pounds'!B51 -> WG Large Dark Meat Popcorn | D34: =C34/32 -> 0 | E34: ='Servings to Pounds'!J51 -> 46.55 | R34: =SUM(F34:Q34) -> 0 | T34: ='Servings to Pounds'!I51 -> 0 | W34: =X34+Y34 -> 0 | X34: =E34*R34 -> 0
A35: 791871 | B35: WG Breaded Dark Popcorn/Korean BBQ Sauce | D35: =C35/44 -> 0 | E35: ='Servings to Pounds'!J51 -> 46.55 | R35: =SUM(F35:Q35) -> 0 | W35: =X35+Y35 -> 0 | X35: =E35*R35 -> 0
A36: 791872 | B36: WG Breaded Dark Popcorn/Hunan Orange Sauce | D36: =C36/44 -> 0 | E36: ='Servings to Pounds'!J51 -> 46.55 | R36: =SUM(F36:Q36) -> 0 | W36: =X36+Y36 -> 0 | X36: =E36*R36 -> 0
A37: 791873 | B37: WG Breaded Dark Popcorn/Sweet Thai Chili Sauce | D37: =C37/44 -> 0 | E37: ='Servings to Pounds'!J51 -> 46.55 | R37: =SUM(F37:Q37) -> 0 | W37: =X37+Y37 -> 0 | X37: =E37*R37 -> 0
A38: 791874 | B38: WG Breaded Dark Popcorn/General Tso's Sauce | D38: =C38/44 -> 0 | E38: ='Servings to Pounds'!J51 -> 46.55 | R38: =SUM(F38:Q38) -> 0 | W38: =X38+Y38 -> 0 | X38: =E38*R38 -> 0
A39: 791896 | B39: ='Servings to Pounds'!B53 -> Unbreaded Dark Meat Chicken Strips | D39: =C39/32 -> 0 | E39: ='Servings to Pounds'!J53 -> 58.38 | R39: =SUM(F39:Q39) -> 0 | T39: ='Servings to Pounds'!I53 -> 0 | W39: =X39+Y39 -> 0 | X39: =E39*R39 -> 0
A40: 791876 | B40: Unbreaded Strips/Korean BBQ Sauce | D40: =C40/44 -> 0 | E40: ='Servings to Pounds'!J53 -> 58.38 | R40: =SUM(F40:Q40) -> 0 | W40: =X40+Y40 -> 0 | X40: =E40*R40 -> 0
A41: 791877 | B41: Unbreaded Strips/Hunan Orange Sauce | D41: =C41/44 -> 0 | E41: ='Servings to Pounds'!J53 -> 58.38 | R41: =SUM(F41:Q41) -> 0 | W41: =X41+Y41 -> 0 | X41: =E41*R41 -> 0
A42: 791878 | B42: Unbreaded Strips/Sweet Thai Chili Sauce | D42: =C42/44 -> 0 | E42: ='Servings to Pounds'!J53 -> 58.38 | R42: =SUM(F42:Q42) -> 0 | W42: =X42+Y42 -> 0 | X42: =E42*R42 -> 0
A43: 791879 | B43: Unbreaded Strips/Teriyaki Sauce | D43: =C43/44 -> 0 | E43: ='Servings to Pounds'!J53 -> 58.38 | R43: =SUM(F43:Q43) -> 0 | W43: =X43+Y43 -> 0 | X43: =E43*R43 -> 0
A44: 1
A45: 791401 | B45: ='Servings to Pounds'!B58 -> WG Breaded Chicken Nuggets | D45: =C45/32 -> 0 | E45: ='Servings to Pounds'!J58 -> 24.56 | R45: =SUM(F45:Q45) -> 0 | T45: ='Servings to Pounds'!I58 -> 0 | W45: =X45+Y45 -> 0 | X45: =(E45*R45)*0.3 -> 0 | Y45: =(E45*R45)*0.7 -> 0
A46: 791421 | B46: ='Servings to Pounds'!B59 -> WG Breaded Chicken Patties | D46: =C46/32 -> 0 | E46: ='Servings to Pounds'!J59 -> 24.32 | R46: =SUM(F46:Q46) -> 0 | T46: ='Servings to Pounds'!I59 -> 0 | W46: =X46+Y46 -> 0 | X46: =(E46*R46)*0.3 -> 0 | Y46: =(E46*R46)*0.7 -> 0
A47: 791426 | B47: ='Servings to Pounds'!B60 -> WG Breaded Breakfast Patties | D47: =C47/32 -> 0 | E47: ='Servings to Pounds'!J60 -> 25.55 | R47: =SUM(F47:Q47) -> 0 | T47: ='Servings to Pounds'!I60 -> 0 | W47: =X47+Y47 -> 0 | X47: =(E47*R47)*0.3 -> 0 | Y47: =(E47*R47)*0.7 -> 0
A48: 791431 | B48: ='Servings to Pounds'!B61 -> WG Hot & Spicy Patty | D48: =C48/32 -> 0 | E48: ='Servings to Pounds'!J61 -> 24.32 | R48: =SUM(F48:Q48) -> 0 | T48: ='Servings to Pounds'!I61 -> 0 | W48: =X48+Y48 -> 0 | X48: =(E48*R48)*0.3 -> 0 | Y48: =(E48*R48)*0.7 -> 0
A49: 791441 | B49: ='Servings to Pounds'!B62 -> WG Breaded Chicken Tenders | D49: =C49/32 -> 0 | E49: ='Servings to Pounds'!J62 -> 24.49 | R49: =SUM(F49:Q49) -> 0 | T49: ='Servings to Pounds'!I62 -> 0 | W49: =X49+Y49 -> 0 | X49: =(E49*R49)*0.3 -> 0 | Y49: =(E49*R49)*0.7 -> 0
A50: 791461 | B50: ='Servings to Pounds'!B63 -> WG Breaded Popcorn Chicken | D50: =C50/32 -> 0 | E50: ='Servings to Pounds'!J63 -> 24.73 | R50: =SUM(F50:Q50) -> 0 | T50: ='Servings to Pounds'!I63 -> 0 | W50: =X50+Y50 -> 0 | X50: =(E50*R50)*0.3 -> 0 | Y50: =(E50*R50)*0.7 -> 0
A51: 791493 | B51: WG Breaded Large Popcorn | D51: =C51/32 -> 0 | E51: ='Servings to Pounds'!J64 -> 32.44 | R51: =SUM(F51:Q51) -> 0 | T51: ='Servings to Pounds'!I64 -> 0 | W51: =X51+Y51 -> 0 | X51: =(E51*R51)*0.3 -> 0 | Y51: =(E51*R51)*0.7 -> 0
A52: 791499 | B52: ='Servings to Pounds'!B65 -> Shredded Chicken | D52: =C52/32 -> 0 | E52: ='Servings to Pounds'!J65 -> 39 | R52: =SUM(F52:Q52) -> 0 | T52: ='Servings to Pounds'!I65 -> 0 | W52: =X52+Y52 -> 0 | X52: =(E52*R52)*0.3 -> 0 | Y52: =(E52*R52)*0.7 -> 0
A54: 771421 | B54: ='Servings to Pounds'!B67 -> HALAL - WG Breaded Halal Chicken Patties | D54: =C54/32 -> 0 | E54: ='Servings to Pounds'!J67 -> 24.32 | R54: =SUM(F54:Q54) -> 0 | T54: ='Servings to Pounds'!I67 -> 0 | W54: =X54+Y54 -> 0 | X54: =(E54*R54)*0.3 -> 0 | Y54: =(E54*R54)*0.7 -> 0
B56: Total Cases to be shipped | F56: =SUM(F6:F54) -> 0 | G56: =SUM(G6:G54) -> 0 | H56: =SUM(H6:H54) -> 0 | I56: =SUM(I6:I54) -> 0 | J56: =SUM(J6:J54) -> 0 | K56: =SUM(K6:K54) -> 0 | L56: =SUM(L6:L54) -> 0 | M56: =SUM(M6:M54) -> 0 | ... R56: =SUM(R6:R54) -> 0 | T56: ='Servings to Pounds'!I69 -> 0 | V56: Grand Total Planned Usage | W56: =SUM(W6:W52) -> #REF! | X56: =SUM(X6:X52) -> 0 | Y56: =SUM(Y6:Y52) -> #REF!
B57: Total Fee for Service Price per order | F57: =(F6*C6)+(F7*C7)+(F8*C8)+(F9*C9)+(F10*C10)+(F11*C11)+(F12*C12)+(F13*C13)+(F14*C14)+(F15*C15)+(F16*C16)+(F17*C17)+(F18*C18)+(F19*C19)+(F20*C20)+(F21*C21)+(F22*C22)+(F23*C23)+(F24*C24)+(F25*C25)+(F27*C27)+(F28*C28)+(F29*C29)+(F30*C30)+(F31*C31)+(F32*C32)+(F33*C33)+(F34*C34)+(F35*C35)+(F36*C36)+(F37*C37)+(F38*C38)+(F39*C39)+(F40*C40)+(F41*C41)+(F42*C42)+(F43*C43)+(F45*C45)+(F46*C46)+(F47*C47)+(F48*C48)+(F49*C49)+(F50*C50)+(F51*C51)+(F52*C52)+(F54*C54) -> 0 | G57: =(G6*C6)+(G7*C7)+(G8*C8)+(G9*C9)+(G10*C10)+(G11*C11)+(G12*C12)+(G13*C13)+(G14*C14)+(G15*C15)+(G16*C16)+(G17*C17)+(G18*C18)+(G19*C19)+(G20*C20)+(G21*C21)+(G22*C22)+(G23*C23)+(G24*C24)+(G25*C25)+(G27*C27)+(G28*C28)+(G29*C29)+(G30*C30)+(G31*C31)+(G32*C32)+(G33*C33)+(G34*C34)+(G35*C35)+(G36*C36)+(G37*C37)+(G38*C38)+(G39*C39)+(G40*C40)+(G41*C41)+(G42*C42)+(G43*C43)+(G45*C45)+(G46*C46)+(G47*C47)+(G48*C48)+(G49*C49)+(G50*C50)+(G51*C51)+(G52*C52)+(G54*C54) -> 0 | H57: =(H6*C6)+(H7*C7)+(H8*C8)+(H9*C9)+(H10*C10)+(H11*C11)+(H12*C12)+(H13*C13)+(H14*C14)+(H15*C15)+(H16*C16)+(H17*C17)+(H18*C18)+(H19*C19)+(H20*C20)+(H21*C21)+(H22*C22)+(H23*C23)+(H24*C24)+(H25*C25)+(H27*C27)+(H28*C28)+(H29*C29)+(H30*C30)+(H31*C31)+(H32*C32)+(H33*C33)+(H34*C34)+(H35*C35)+(H36*C36)+(H37*C37)+(H38*C38)+(H39*C39)+(H40*C40)+(H41*C41)+(H42*C42)+(H43*C43)+(H45*C45)+(H46*C46)+(H47*C47)+(H48*C48)+(H49*C49)+(H50*C50)+(H51*C51)+(H52*C52)+(H54*C54) -> 0 | I57: =(I6*C6)+(I7*C7)+(I8*C8)+(I9*C9)+(I10*C10)+(I11*C11)+(I12*C12)+(I13*C13)+(I14*C14)+(I15*C15)+(I16*C16)+(I17*C17)+(I18*C18)+(I19*C19)+(I20*C20)+(I21*C21)+(I22*C22)+(I23*C23)+(I24*C24)+(I25*C25)+(I27*C27)+(I28*C28)+(I29*C29)+(I30*C30)+(I31*C31)+(I32*C32)+(I33*C33)+(I34*C34)+(I35*C35)+(I36*C36)+(I37*C37)+(I38*C38)+(I39*C39)+(I40*C40)+(I41*C41)+(I42*C42)+(I43*C43)+(I45*C45)+(I46*C46)+(I47*C47)+(I48*C48)+(I49*C49)+(I50*C50)+(I51*C51)+(I52*C52)+(I54*C54) -> 0 | J57: =(J6*C6)+(J7*C7)+(J8*C8)+(J9*C9)+(J10*C10)+(J11*C11)+(J12*C12)+(J13*C13)+(J14*C14)+(J15*C15)+(J16*C16)+(J17*C17)+(J18*C18)+(J19*C19)+(J20*C20)+(J21*C21)+(J22*C22)+(J23*C23)+(J24*C24)+(J25*C25)+(J27*C27)+(J28*C28)+(J29*C29)+(J30*C30)+(J31*C31)+(J32*C32)+(J33*C33)+(J34*C34)+(J35*C35)+(J36*C36)+(J37*C37)+(J38*C38)+(J39*C39)+(J40*C40)+(J41*C41)+(J42*C42)+(J43*C43)+(J45*C45)+(J46*C46)+(J47*C47)+(J48*C48)+(J49*C49)+(J50*C50)+(J51*C51)+(J52*C52)+(J54*C54) -> 0 | K57: =(K6*C6)+(K7*C7)+(K8*C8)+(K9*C9)+(K10*C10)+(K11*C11)+(K12*C12)+(K13*C13)+(K14*C14)+(K15*C15)+(K16*C16)+(K17*C17)+(K18*C18)+(K19*C19)+(K20*C20)+(K21*C21)+(K22*C22)+(K23*C23)+(K24*C24)+(K25*C25)+(K27*C27)+(K28*C28)+(K29*C29)+(K30*C30)+(K31*C31)+(K32*C32)+(K33*C33)+(K34*C34)+(K35*C35)+(K36*C36)+(K37*C37)+(K38*C38)+(K39*C39)+(K40*C40)+(K41*C41)+(K42*C42)+(K43*C43)+(K45*C45)+(K46*C46)+(K47*C47)+(K48*C48)+(K49*C49)+(K50*C50)+(K51*C51)+(K52*C52)+(K54*C54) -> 0 | L57: =(L6*C6)+(L7*C7)+(L8*C8)+(L9*C9)+(L10*C10)+(L11*C11)+(L12*C12)+(L13*C13)+(L14*C14)+(L15*C15)+(L16*C16)+(L17*C17)+(L18*C18)+(L19*C19)+(L20*C20)+(L21*C21)+(L22*C22)+(L23*C23)+(L24*C24)+(L25*C25)+(L27*C27)+(L28*C28)+(L29*C29)+(L30*C30)+(L31*C31)+(L32*C32)+(L33*C33)+(L34*C34)+(L35*C35)+(L36*C36)+(L37*C37)+(L38*C38)+(L39*C39)+(L40*C40)+(L41*C41)+(L42*C42)+(L43*C43)+(L45*C45)+(L46*C46)+(L47*C47)+(L48*C48)+(L49*C49)+(L50*C50)+(L51*C51)+(L52*C52)+(L54*C54) -> 0 | M57: =(M6*C6)+(M7*C7)+(M8*C8)+(M9*C9)+(M10*C10)+(M11*C11)+(M12*C12)+(M13*C13)+(M14*C14)+(M15*C15)+(M16*C16)+(M17*C17)+(M18*C18)+(M19*C19)+(M20*C20)+(M21*C21)+(M22*C22)+(M23*C23)+(M24*C24)+(M25*C25)+(M27*C27)+(M28*C28)+(M29*C29)+(M30*C30)+(M31*C31)+(M32*C32)+(M33*C33)+(M34*C34)+(M35*C35)+(M36*C36)+(M37*C37)+(M38*C38)+(M39*C39)+(M40*C40)+(M41*C41)+(M42*C42)+(M43*C43)+(M45*C45)+(M46*C46)+(M47*C47)+(M48*C48)+(M49*C49)+(M50*C50)+(M51*C51)+(M52*C52)+(M54*C54) -> 0 | N57: =(N6*C6)+(N7*C7)+(N8*C8)+(N9*C9)+(N10*C10)+(N11*C11)+(N12*C12)+(N13*C13)+(N14*C14)+(N15*C15)+(N16*C16)+(N17*C17)+(N18*C18)+(N19*C19)+(N20*C20)+(N21*C21)+(N22*C22)+(N23*C23)+(N24*C24)+(N25*C25)+(N27*C27)+(N28*C28)+(N29*C29)+(N30*C30)+(N31*C31)+(N32*C32)+(N33*C33)+(N34*C34)+(N35*C35)+(N36*C36)+(N37*C37)+(N38*C38)+(N39*C39)+(N40*C40)+(N41*C41)+(N42*C42)+(N43*C43)+(N45*C45)+(N46*C46)+(N47*C47)+(N48*C48)+(N49*C49)+(N50*C50)+(N51*C51)+(N52*C52)+(N54*C54) -> 0 | O57: =(O6*C6)+(O7*C7)+(O8*C8)+(O9*C9)+(O10*C10)+(O11*C11)+(O12*C12)+(O13*C13)+(O14*C14)+(O15*C15)+(O16*C16)+(O17*C17)+(O18*C18)+(O19*C19)+(O20*C20)+(O21*C21)+(O22*C22)+(O23*C23)+(O24*C24)+(O25*C25)+(O27*C27)+(O28*C28)+(O29*C29)+(O30*C30)+(O31*C31)+(O32*C32)+(O33*C33)+(O34*C34)+(O35*C35)+(O36*C36)+(O37*C37)+(O38*C38)+(O39*C39)+(O40*C40)+(O41*C41)+(O42*C42)+(O43*C43)+(O45*C45)+(O46*C46)+(O47*C47)+(O48*C48)+(O49*C49)+(O50*C50)+(O51*C51)+(O52*C52)+(O54*C54) -> 0 | P57: =(P6*C6)+(P7*C7)+(P8*C8)+(P9*C9)+(P10*C10)+(P11*C11)+(P12*C12)+(P13*C13)+(P14*C14)+(P15*C15)+(P16*C16)+(P17*C17)+(P18*C18)+(P19*C19)+(P20*C20)+(P21*C21)+(P22*C22)+(P23*C23)+(P24*C24)+(P25*C25)+(P27*C27)+(P28*C28)+(P29*C29)+(P30*C30)+(P31*C31)+(P32*C32)+(P33*C33)+(P34*C34)+(P35*C35)+(P36*C36)+(P37*C37)+(P38*C38)+(P39*C39)+(P40*C40)+(P41*C41)+(P42*C42)+(P43*C43)+(P45*C45)+(P46*C46)+(P47*C47)+(P48*C48)+(P49*C49)+(P50*C50)+(P51*C51)+(P52*C52)+(P54*C54) -> 0 | Q57: =(Q6*C6)+(Q7*C7)+(Q8*C8)+(Q9*C9)+(Q10*C10)+(Q11*C11)+(Q12*C12)+(Q13*C13)+(Q14*C14)+(Q15*C15)+(Q16*C16)+(Q17*C17)+(Q18*C18)+(Q19*C19)+(Q20*C20)+(Q21*C21)+(Q22*C22)+(Q23*C23)+(Q24*C24)+(Q25*C25)+(Q27*C27)+(Q28*C28)+(Q29*C29)+(Q30*C30)+(Q31*C31)+(Q32*C32)+(Q33*C33)+(Q34*C34)+(Q35*C35)+(Q36*C36)+(Q37*C37)+(Q38*C38)+(Q39*C39)+(Q40*C40)+(Q41*C41)+(Q42*C42)+(Q43*C43)+(Q45*C45)+(Q46*C46)+(Q47*C47)+(Q48*C48)+(Q49*C49)+(Q50*C50)+(Q51*C51)+(Q52*C52)+(Q54*C54) -> 0 | R57: =SUM(F57:Q57) -> 0
A58: Broker: | F58: School | G58: ='Servings to Pounds'!B6 -> 0 | J58: RA # | M58: Ship to: | N58: ='Servings to Pounds'!B15 -> 0 | V58: Balance after Planned Usage | W58: =W2-W56 -> #REF! | X58: =X2-X56 -> 0 | Y58: =Y2-Y56 -> #REF!
A59: Contact: | F59: Address | G59: ='Servings to Pounds'!B8 -> 0 | M59: Contact:
A60: Email: | F60: City, St, Zip | G60: ='Servings to Pounds'!B9 -> 0 | M60: E-Mail:
A61: Phone: | F61: Phone: | G61: ='Servings to Pounds'!B13 -> 0 | J61: PO # | M61: Address:
A62: Gold Creek Contact: | F62: FS Director: | G62: ='Servings to Pounds'!B11 -> 0 | M62: City, State, Zip
F63: E-mail: | M63: Phone: | P63: Fax:
F64: Signature | J64: Date: | M64: Delivery Purchase Order Request | O64: Yes / No
