Workbook

Sheet Summary Model Revisions
A10: =CONCATENATE("Pupil Center Funding Plan | FY",'1.1 Assumption Control YR1'!D5) -> Pupil Center Funding Plan | FY2024
A11: NDE PCFP model summary of modification and enhancements
H15: GFO Adjustments
G16: 44883 | H16: Modified PCFP General fund appropriations for FY 24 and 25 to be 50% of the base biennium total.
G17: 44883 | H17: Modified CPI using 2020 to 2021 annual CPI data points
G18: 44883 | H18: Modified tab 1.1 - Inflationary Growth Adjustments to be calculated using prior year enrollment.
G19: 44883 | H19: Modified tab 1.2 so district online (Distance Ed) counts are represented in the district summary.
G20: 44883 | H20: Added note for Special Transportation in the auxiliary services tab.
G21: 44883 | H21: Corrected Tabs 2.9 and 6.9 formula comparing PCFP current allocation to the FY 2020 Baseline.
G22: 44883 | H22: Added validation points on tabs 3.1b and 7.1b to identify discrepancies between the per pupil FY 2020 baseline and the total funding FY 2020 baseline. How to address baseline discrepancies identified is pending LCB legal analysis.
G23: 44896 | H23: Updated tab 1.2, cell A40, to Carson City.
G24: 44896 | H24: Formula updated in cell G42 on tabs 2.4 & 6.4, to calculate the attendance area amount for the Montello attendance area in Elko County.
G25: 44896 | H25: In NEBS: Moved the transfer to Education Stabilization Account from FY25 to the Work Program year.
G26: 44909 | H26: Reset all model inputs (weighted multipliers and Statewide base per pupil amount) to the prior year inputs not the outputs.
G27: 44910 | H27: Updated the weighted enrollment using 10/1/2022 data
... G32: 44914 | H32: Revised Tabs 3.1a and 7.1a, Column E, to include 2020 baseline district funding on the FY2020 per pupil funding multiplied by the projected enrollment for those districts.
H33: LCB Adjustments
G34: 45027 | H34: Adjust weighted multipliers to .45 EL, .35 At-risk, and .12 GATE (Tab 1.1/5.1)
G35: 45027 | H35: Set NCEI to 1.000 for all Districts (Tab 1.1/5.1)
G36: 45027 | H36: Corrected Attendance area adjustment (Tab 6.4) Sierra Nevada Academy
G37: 45027 | H37: Added Dept. of Agriculture - Agriculture Fines revenues (Tab 1.3/5.3)
G38: 45027 | H38: Added RGL for Forfeiture of Property change from RGL 4152 to RGL 4411? and Transfer from Unclaimed Property change from RGL 4621 to RGL 4412? Both GLs are present on Tabs 1.3/5.3
G39: 45027 | H39: Added BAL FWD FROM PREVIOUS YEAR (Excess Revenue From Education Stabilization Account Above 15%) (Tab 1.3/5.3)
G40: 45027 | H40: Updated Auxiliary services (Tab 2.1/6.1)
G41: 45027 | H41: Updated Local Special Education (Tab 2.2/6.2)
G42: 45027 | H42: Added an column to account for Special Education transfers from district to charters (Tab 2.2/6.2)
G43: 45029 | H43: Adjust GL 2501 two account for the BAL FWD of (Excess Revenue From Education Stabilization Account Above 15%) (Tab 1.3/5.3)
G44: 45029 | H44: Added Rooted and Southern Nevada Trade Charter Schools (all tabs)
G45: 45029 | H45: Tab 2.9/5.9 and 3.1a/7.1a corrections
... G50: 45051 | H50: Corrected the YR 2 attendance area adjustment for Esmeralda County, Dyer (Tab 2.4, Cell D51) so it matches the YR 1 calculation.

Sheet Table of Contents
A1: Nevada Department of Education
A2: =CONCATENATE("Pupil Center Funding Plan | FY",'1.1 Assumption Control YR1'!D5) -> Pupil Center Funding Plan | FY2024
A3: Table of Contents
A5: Section References | L5: Cell References
B6: Pupil Centered Funding Plan Inputs | M6: Plan Inputs
B7: Pupil Centered Funding Plan Calculations | M7: Calculated Assumptions
B8: Pupil Centered Funding Plan Results | M8: Cross Referenced or Linked Cell
B9: Pupil Centered Funding Plan Summary | M9: Funds Available for Allocation
B10: Pupil Centered Funding Plan Adjustments | M10: Funds Allocated by the Active Schedule
M11: Funds Available for Subsequent Allocations
A12: Table of Contents
B13: 1.0 | C13: Year 1 Pupil Centered Funding Plan Inputs (Red Tabs)
C14: 1.1 | D14: ='1.1 Assumption Control YR1'!A3 -> Assumptions Controls (Year 1)
C15: 1.2 | D15: ='1.2 Budgeted Enrollment YR1'!A3 -> Budgeted Enrollment Projections (Year 1)
C16: 1.3 | D16: ='1.3 Budgeted Revenues YR1'!A3 -> Budgeted Revenue Projections (Year 1)
C17: 1.4 | D17: ='1.4 FY 2020 Revenue Received'!A3 -> FY 2020 Baseline Revenue Received (All Years)
B19: 2.0 | C19: Pupil Centered Funding Plan Calculations (Green Tabs)
C20: 2.1 | D20: ='2.1 Auxiliary Services YR1'!A3 -> Auxiliary Services Calculations (Transportation and Food Service) (Year 1)
C21: 2.2 | D21: ='2.2 Spec Ed Local YR1'!A3 -> Local Special Education Funding Calculations (Year 1)
C22: 2.3 | D22: ='2.3 Statewide Base Funding YR1'!A3 -> Statewide Base Per Pupil Funding Calculations for School Districts and Charter Schools (Year 1)
C23: 2.4 | D23: ='2.4 District Size Adj. YR1'!A3 -> District Size Adjustment by Attendance Area Calculations (Year 1)
C24: 2.5 | D24: ='2.5 NCEI Adj. YR1'!B3 -> Nevada Cost of Education Index (NCEI) Calculations for School Districts and Charter Schools (Year 1)
C25: 2.6 | D25: ='2.6 Adj. Base Summary YR1'!A3 -> Adjusted Base Funding Summary for School Districts and Charter Schools (Year 1)
C26: 2.7 | D26: ='2.7 Weighted Funding YR1'!A3 -> Weighted Funding Calculations for School Districts and Charter Schools (Year 1)
C27: 2.8 | D27: ='2.8 Alloc of Residual Rev. YR1'!A3 -> Allocation of Residual Revenue (Year 1)
C28: 2.9 | D28: ='2.9 PCFP Funding Comparison YR1'!A3 -> Comparison of PCFP allocations with FY 2020 Baseline (Year 1)
B30: 3.0 | C30: Pupil Centered Funding Plan Results (Blue Tabs)
C31: 3.1a | D31: ='3.1a Initial Allocations YR1'!A3 -> Initial Results, Allocation of K12 Education Funding, Prior to Proportional FY 2020 Baseline Reductions (Year 1)
C32: 3.1b | D32: ='3.1b Allocation Adj. YR1 '!A3 -> Final Results, Allocation of K12 Education Funding, After Proportional FY 2020 Baseline Reductions (Year 1)
B34: 4.0 | C34: ='4.0 PCFP Allocation Summary'!A3 -> Pupil-Centered Funding Plan Allocation Summary for Year 1 and Year 2
B36: 5.0 | C36: Year 2 Pupil Centered Funding Plan Inputs (Red Tabs)
C37: 5.1 | D37: ='5.1 Assumption Control YR2'!A3 -> Assumption Control (Year 2)
C38: 5.2 | D38: ='5.2 Budgeted Enrollment YR2'!A3 -> Budgeted Enrollment Projections (Year 2)
C39: 5.3 | D39: ='5.3 Budgeted Revenues YR2'!A3 -> Budgeted Revenue Projections (Year 2)
B41: 6.0 | C41: Pupil Centered Funding Plan Calculations (Green Tabs)
C42: 6.1 | D42: Auxiliary Services Allocations (Transportation and Food Service) (Year 1)
C43: 6.2 | D43: Special Education, Local Funding for Special Education (Year 1)
C44: 6.3 | D44: Statewide Base Per Pupil Funding for School Districts and Charter Schools (Year 1)
C45: 6.4 | D45: District Size Adjustment by Attendance Area (Year 1)
C46: 6.5 | D46: Nevada Cost of Education Index (NCEI) for School Districts and Charter Schools (Year 1)
...

Sheet 1.1 Assumption Control YR1
A1: Nevada Department of Education
A2: =CONCATENATE("Pupil Center Funding Plan | FY",'1.1 Assumption Control YR1'!D5) -> Pupil Center Funding Plan | FY2024
A3: Assumptions Controls (Year 1) | G3: for NDE use only; not part of the PCFP model
B4: Notes
A5: Modeled Fiscal Year | D5: 2024 | G5: =CONCATENATE("Pupil Center Funding Plan Prior Year Outputs | FY ", D5-1) -> Pupil Center Funding Plan Prior Year Outputs | FY 2023 | K5: =CONCATENATE("Pupil Center Funding Plan Current Year Outputs | FY ",D5) -> Pupil Center Funding Plan Current Year Outputs | FY 2024
G6: Prior Year Data Inputs | H6: Source | I6: Total | K6: Modeled Year Data Outputs | L6: Source | M6: Totals | N6: Increase/(Decrease) | O6: % of Growth
A7: Pre-PCFP Revenue Inputs and Assumptions | D7: Inputs | E7: Projections | G7: Prior Year Weighted Multiplier: English Learner | H7: PY Data Input | I7: 0.23127957 | K7: Prior Year Weighted Multiplier: English Learner | L7: Tab 1.1 | M7: =D41 -> 0.45 | N7: =M7-I7 -> 0.21872043 | O7: =IF(I7=0,"",(M7-'1.1 Assumption Control YR1'!I7)/'1.1 Assumption Control YR1'!I7) -> 0.94569718
A8: 1) Revenue Growth
A9: =CONCATENATE("Prior Year Revenue | FY ",D5-1) -> Prior Year Revenue | FY 2023 | E9: =I13 -> 4463364280 | G9: Prior Year Weighted Multiplier: At-Risk | H9: PY Data Input | I9: 0.034080543 | K9: Prior Year Weighted Multiplier: At-Risk | L9: Tab 1.1 | M9: =D42 -> 0.35 | N9: =M9-I9 -> 0.31591946 | O9: =IF(I9=0,"",(M9-'1.1 Assumption Control YR1'!I9)/'1.1 Assumption Control YR1'!I9) -> 9.2697894
A10: =CONCATENATE("Projected Revenue | FY ",D5) -> Projected Revenue | FY 2024 | E10: ='1.3 Budgeted Revenues YR1'!C35 -> 5.4769218e+09
A11: Estimated Increase/(Decrease) | E11: =E10-E9 -> 1.0135575e+09 | G11: Prior Year Weighted Multiplier: Gifted and Talented | H11: PY Data Input | I11: 0.12 | K11: Prior Year Weighted Multiplier: Gifted and Talented | L11: Tab 1.1 | M11: =D43 -> 0.12 | N11: =M11-I11 -> 0 | O11: =IF(I11=0,"",(M11-'1.1 Assumption Control YR1'!I11)/'1.1 Assumption Control YR1'!I11) -> 0
A12: Percentage of Increase/-Decrease | E12: =(E10-E9)/E9 -> 0.22708376
G13: K-12 PCFP Revenue from Prior year: | H13: PY Data Input | I13: 4463364280 | K13: K-12 PCFP Revenue identified for current year: | L13: Tab 1.3 | M13: ='1.3 Budgeted Revenues YR1'!C35 -> 5.4769218e+09 | N13: =M13-'1.1 Assumption Control YR1'!I13 -> 1.0135575e+09 | O13: =IF(I13=0,"",(M13-'1.1 Assumption Control YR1'!I13)/'1.1 Assumption Control YR1'!I13) -> 0.22708376
A14: 2) Inflation Growth
A15: =CONCATENATE("Consumer Price Index | Most Recent Available") -> Consumer Price Index | Most Recent Available | B15: [2] | D15: 287.494 | G15: K-12 Statewide Base Per Pupil from prior year: | H15: PY Data Output [1] | I15: 7074 | K15: K-12 Statewide Base Per Pupil identified for current year: | L15: Tab 1.1 | M15: =E55 -> 8981 | N15: =M15-'1.1 Assumption Control YR1'!I15 -> 1907 | O15: =(M15-'1.1 Assumption Control YR1'!I15)/'1.1 Assumption Control YR1'!I15 -> 0.26957874
A16: =CONCATENATE("Consumer Price Index | One Year Prior") -> Consumer Price Index | One Year Prior | D16: 275.057
A17: =CONCATENATE("Calculated Inflation Factor") -> Calculated Inflation Factor | D17: =((D15-D16)/D16) -> 0.045216082 | G17: Prior Year State English Learner Funding Leg Approved | H17: PY Actual Allocated | I17: 85618566 | K17: State English Learner Funding identified for current year: | L17: Tab 2.7 | M17: ='2.7 Weighted Funding YR1'!E37 -> 2.128955e+08 | N17: =M17-'1.1 Assumption Control YR1'!I17 -> 1.2727694e+08 | O17: =(M17-'1.1 Assumption Control YR1'!I17)/'1.1 Assumption Control YR1'!I17 -> 1.4865577
A18: Federal CPI - Inflationary Value Per Pupil | D18: =(D21*D17) -> 319.85857 | E18: =ROUND(I23*D18,2) -> 1.5201484e+08
G19: Prior Year State At-Risk Student Funding Leg Approved | H19: PY Actual Allocated | I19: 60744420 | K19: State At-Risk Funding identified for current year: | L19: Tab 2.7 | M19: ='2.7 Weighted Funding YR1'!I37 -> 1.9905264e+08 | N19: =M19-'1.1 Assumption Control YR1'!I19 -> 1.3830822e+08 | O19: =(M19-'1.1 Assumption Control YR1'!I19)/'1.1 Assumption Control YR1'!I19 -> 2.2768876
A20: 3) Inflationary Growth Adjustment | E20: Inflation Growth Amount
A21: =CONCATENATE("Statewide Base Per Pupil Funding from the preceding Fiscal Year | FY",D5-1) -> Statewide Base Per Pupil Funding from the preceding Fiscal Year | FY2023 | D21: =ROUND('1.1 Assumption Control YR1'!I15,2) -> 7074 | E21: =ROUND(I23*D21,0) -> 3361963962 | G21: Prior Year State Gifted and Talented Funding Leg Approved | H21: PY Actual Allocated | I21: 6795110.1 | K21: State Gifted and Talented Funding identified for current year: | L21: Tab 2.7 | M21: ='2.7 Weighted Funding YR1'!M37 -> 8011770 | N21: =M21-'1.1 Assumption Control YR1'!I21 -> 1216659.9 | O21: =(M21-'1.1 Assumption Control YR1'!I21)/'1.1 Assumption Control YR1'!I21 -> 0.17904932
A22: Inflationary Value Per Pupil | D22: =D18 -> 319.85857 | E22: =ROUND(I23*D22,2) -> 1.5201484e+08
A23: =CONCATENATE("Statewide Base Funding including Inflation for | FY",D5) -> Statewide Base Funding including Inflation for | FY2024 | D23: =(D21+D22) -> 7393.8586 | E23: =ROUND(I23*D23,2) -> 3.5139788e+09 | G23: Actual Total Enrollment from prior year: | H23: [6] | I23: 475256.43 | K23: Total Enrollment for current year: | L23: Tab 1.2 | M23: ='1.2 Budgeted Enrollment YR1'!G28 -> 471282.97 | N23: =M23-'1.1 Assumption Control YR1'!I23 -> -3973.4607 | O23: =(M23-'1.1 Assumption Control YR1'!I23)/'1.1 Assumption Control YR1'!I23 -> -0.008360667
A24: =CONCATENATE("Inflation Adjustment For | FY ",D5) -> Inflation Adjustment For | FY 2024 | E24: =E23-E21 -> 1.5201484e+08
A25: =CONCATENATE("Statewide Base Inflationary Growth % For | FY ",D5) -> Statewide Base Inflationary Growth % For | FY 2024 | E25: =E24/E21 -> 0.045216083 | G25: Total English Learner Enrollment from prior year: | I25: 51597 | K25: English Learner Enrollment for current year: | L25: Tab 1.2 | M25: ='1.2 Budgeted Enrollment YR1'!H28 -> 52678 | N25: =M25-'1.1 Assumption Control YR1'!I25 -> 1081 | O25: =(M25-'1.1 Assumption Control YR1'!I25)/'1.1 Assumption Control YR1'!I25 -> 0.02095083
A27: 4) Statewide Base Funding including residual funding for | FY2024 | G27: Total At-Risk Enrollment from prior year: | H27: [4] | I27: 247286 | K27: At-Risk Enrollment for current year: | L27: Tab 1.2 | M27: ='1.2 Budgeted Enrollment YR1'!I28 -> 63325 | N27: =M27-'1.1 Assumption Control YR1'!I27 -> -183961 | O27: =(M27-'1.1 Assumption Control YR1'!I27)/'1.1 Assumption Control YR1'!I27 -> -0.74392
A28: =CONCATENATE("Statewide Base Funding including Inflation for | FY",D5) -> Statewide Base Funding including Inflation for | FY2024 | D28: =D23 -> 7393.8586
A29: Allocation of residual revenue to the Statewide Base | B29: Tab 2.8 | D29: ='2.8 Alloc of Residual Rev. YR1'!H6 -> 1587 | E29: Per Pupil Change from FY23 | G29: Total Gifted and Talented Enrollment from prior year: | I29: 7838 | K29: Gifted and Talented Enrollment for current year: | L29: Tab 1.2 | M29: ='1.2 Budgeted Enrollment YR1'!J28 -> 7434 | N29: =M29-'1.1 Assumption Control YR1'!I29 -> -404 | O29: =(M29-'1.1 Assumption Control YR1'!I29)/'1.1 Assumption Control YR1'!I29 -> -0.051543761
A30: =CONCATENATE("Modified Statewide Base Funding for | FY",D5) -> Modified Statewide Base Funding for | FY2024 | D30: =ROUND(D28+D29,0) -> 8981 | E30: =(D30-D21)/D21 -> 0.26957874
G31: Total Distant Education Enrollment from prior year: | I31: 4481.0088 | K31: Distant Education Enrollment for current year: | L31: Tab 1.2 | M31: ='1.2 Budgeted Enrollment YR1'!K28 -> 4300.2357 | N31: =M31-'1.1 Assumption Control YR1'!I31 -> -180.77305 | O31: =(M31-'1.1 Assumption Control YR1'!I31)/'1.1 Assumption Control YR1'!I31 -> -0.040342043
A32: 5) Enrollment Growth | E32: Enrollment Growth Amount
A33: =CONCATENATE("Prior Year Enrollment | FY ",D5-1) -> Prior Year Enrollment | FY 2023 | D33: =I23 -> 475256.43 | E33: =D33*D30 -> 4.268278e+09 | N33: Tab 3.1b
A34: =CONCATENATE("Projected Enrollment | FY ",D5) -> Projected Enrollment | FY 2024 | D34: =M23 -> 471282.97 | E34: =D34*D30 -> 4.2325923e+09 | G34: =CONCATENATE("District Prior Year Inputs | FY",D5-1) -> District Prior Year Inputs | FY2023 | H34: =CONCATENATE("NCEI | FY ",D5-1) -> NCEI | FY 2023 | I34: PCFP Funding Status | K34: =CONCATENATE("District Current Year Outputs | FY",D5) -> District Current Year Outputs | FY2024 | L34: [5] | M34: =CONCATENATE("NCEI | FY ",D5) -> NCEI | FY 2024 | N34: PCFP Funding Status
A35: Enrollment Growth | E35: =E34-E33 -> -35685651 | G35: ='2.5 NCEI Adj. YR1'!B7 -> Carson City | H35: 1 | I35: FY 2020 Baseline | K35: ='3.1b Allocation Adj. YR1 '!B11 -> Carson City | M35: 1 | N35: ='3.1b Allocation Adj. YR1 '!E11 -> PCFP
A36: =CONCATENATE("Enrollment Change For | FY ",D5) -> Enrollment Change For | FY 2024 | E36: =D34-D33 -> -3973.4607 | G36: ='2.5 NCEI Adj. YR1'!B8 -> Churchill | H36: 1.027 | I36: PCFP | K36: ='3.1b Allocation Adj. YR1 '!B12 -> Churchill | M36: 1 | N36: ='3.1b Allocation Adj. YR1 '!E12 -> PCFP
A37: =CONCATENATE("Enrollment Growth % For | FY ",D5) -> Enrollment Growth % For | FY 2024 | E37: =E35/E33 -> -0.008360667 | G37: ='2.5 NCEI Adj. YR1'!B9 -> Clark | H37: 1.031 | I37: PCFP | K37: ='3.1b Allocation Adj. YR1 '!B13 -> Clark | M37: 1 | N37: ='3.1b Allocation Adj. YR1 '!E13 -> PCFP
G38: ='2.5 NCEI Adj. YR1'!B10 -> Douglas | H38: 1 | I38: FY 2020 Baseline | K38: ='3.1b Allocation Adj. YR1 '!B14 -> Douglas | M38: 1 | N38: ='3.1b Allocation Adj. YR1 '!E14 -> PCFP
G39: ='2.5 NCEI Adj. YR1'!B11 -> Elko | H39: 1.027 | I39: FY 2020 Baseline | K39: ='3.1b Allocation Adj. YR1 '!B15 -> Elko | M39: 1 | N39: ='3.1b Allocation Adj. YR1 '!E15 -> PCFP
A40: 6) Weighted Multiplier Determination | B40: [3] | D40: Weighted Multiplier | E40: Per Pupil Amount | F40: FY23 Amount | G40: ='2.5 NCEI Adj. YR1'!B12 -> Esmeralda | H40: 1.027 | I40: FY 2020 Baseline | K40: ='3.1b Allocation Adj. YR1 '!B16 -> Esmeralda | M40: 1 | N40: ='3.1b Allocation Adj. YR1 '!E16 -> FY 2020 Baseline
A41: State English Learner Funding | D41: 0.45 | E41: =D30*D41 -> 4041.45 | F41: 1649 | G41: ='2.5 NCEI Adj. YR1'!B13 -> Eureka | H41: 1.027 | I41: FY 2020 Baseline | K41: ='3.1b Allocation Adj. YR1 '!B17 -> Eureka | M41: 1 | N41: ='3.1b Allocation Adj. YR1 '!E17 -> FY 2020 Baseline
...

Sheet 1.2 Budgeted Enrollment YR1
A1: Nevada Department of Education | G1: NOTES:
A2: =CONCATENATE("Pupil Center Funding Plan | FY",'1.1 Assumption Control YR1'!D5) -> Pupil Center Funding Plan | FY2024 | E2: =E4-E3 -> 0.77362891 | G2: Data Sources: | H2: Total Enrollment is based on the audited FY 2022 4th quarter Average Daily Enrollment with an estimated grow of .10 for FY 2023, FY 2024 and FY 2025.
A3: Budgeted Enrollment Projections (Year 1) | E3: =G12 -> 5165.4764 | G3: Data Sources: | H3: Weighted Enrollment based on validated October 1, 2022 count day data
E4: 5166.25 | G4: Data Sources: | H4: Unduplicated weighted enrollment sorted order of precedence is IEP, EL, At-Risk and GATE
E5: =(E4-E3)/E3 -> 0.00014976913 | G5: Data Sources: | H5: Virtual Schools-NDE used the total enrollment to account for students attending a virtual school based on audited FY 2022 4th quarter Average Daily Enrollment.
G6: Initial Weights: | H6: ='1.1 Assumption Control YR1'!D41 -> 0.45 | I6: ='1.1 Assumption Control YR1'!D42 -> 0.35 | J6: ='1.1 Assumption Control YR1'!D43 -> 0.12
A7: STATEWIDE PROJECTED ENROLLMENT SUMMARY | G7: Revised Initial Weights: | H7: ='1.1 Assumption Control YR1'!D41 -> 0.45 | I7: ='1.1 Assumption Control YR1'!D42 -> 0.35 | J7: ='1.1 Assumption Control YR1'!D43 -> 0.12
A8: County | B8: District # | C8: DOHQ# | D8: Attendance Area | E8: District Name | F8: Addresses | G8: Enrollment (projected) | H8: English Learner, Not Also Special Education (actual count day data) | I8: At-Risk, Not Also Special Education or English Learner (actual count day data) | J8: GATE, Not Also Special Education or English Learner or At-Risk (actual count day data) | K8: Enrollment FT in Distance Ed, (projected) | M8: English Learners Percent of Total Enrollment | N8: At-risk Percent of Total Enrollment | O8: Gifted and Talented Percent of Total Enrollment | Y8: District | Z8: Attendance Areas
A9: Carson City | B9: 13 | C9: 13 | E9: Carson City | G9: 7200.2985 | H9: 719 | I9: 289 | J9: 385 | K9: =SUM(K102:K112) -> 0 | M9: =H9/G9 -> 0.099856972 | N9: =I9/G9 -> 0.040137225 | O9: =J9/G9 -> 0.053470006 | Y9: Carson City | Z9: Carson City
A10: Churchill | B10: 1 | C10: 1 | E10: Churchill | G10: 3191.1266 | H10: 111 | I10: 177 | J10: 0 | K10: =SUM(K113:K118) -> 0 | M10: =H10/G10 -> 0.034783953 | N10: =I10/G10 -> 0.055466304 | O10: =J10/G10 -> 0 | Y10: Churchill | Z10: Fallon
A11: Clark | B11: 2 | C11: 2 | E11: Clark | G11: =294042.070354314-SUM(G49,G81,G87)+87.7402162741354 -> 293209.81 | H11: =37616+16 -> 37632 | I11: =52655+19 -> 52674 | J11: 4545 | K11: =SUM(K119:K481) -> 0 | M11: =H11/G11 -> 0.12834496 | N11: =I11/G11 -> 0.1796461 | O11: =J11/G11 -> 0.015500846 | Y11: Clark | Z11: Blue Diamond
A12: Douglas | B12: 3 | C12: 3 | E12: Douglas | G12: 5165.4764 | H12: 169 | I12: 171 | J12: 46 | K12: =SUM(K482:K496) -> 57.434181 | M12: =H12/G12 -> 0.032717215 | N12: =I12/G12 -> 0.033104401 | O12: =J12/G12 -> 0.0089052774 | Z12: Boulder City
A13: Elko | B13: 4 | C13: 4 | E13: Elko | G13: 9808.5958 | H13: 677 | I13: 631 | J13: 97 | K13: =SUM(K497:K529) -> 113.67944 | M13: =H13/G13 -> 0.069021093 | N13: =I13/G13 -> 0.064331329 | O13: =J13/G13 -> 0.0098892851 | Z13: Goodsprings
A14: Esmeralda | B14: 5 | C14: 5 | E14: Esmeralda | G14: 77.315222 | H14: 7 | I14: 8 | J14: 0 | K14: =SUM(K530:K533) -> 15.263707 | M14: =H14/G14 -> 0.090538445 | N14: =I14/G14 -> 0.10347251 | O14: =J14/G14 -> 0 | Z14: Indian Springs
A15: Eureka | B15: 6 | C15: 6 | E15: Eureka | G15: 323.70253 | H15: 3 | I15: 4 | J15: 0 | K15: =SUM(K534:K536) -> 0 | M15: =H15/G15 -> 0.0092677681 | N15: =I15/G15 -> 0.012357024 | O15: =J15/G15 -> 0 | Z15: Las Vegas (includes N.Las Vegas, Henderson)
A16: Humboldt | B16: 7 | C16: 7 | E16: Humboldt | G16: 3182.6226 | H16: 203 | I16: 81 | J16: 0 | K16: =SUM(K537:K549) -> 0 | M16: =H16/G16 -> 0.063783875 | N16: =I16/G16 -> 0.025450709 | O16: =J16/G16 -> 0 | Z16: Laughlin
A17: Lander | B17: 8 | C17: 8 | E17: Lander | G17: 1002.8726 | H17: 33 | I17: 98 | J17: 0 | K17: =SUM(K550:K553) -> 0 | M17: =H17/G17 -> 0.032905475 | N17: =I17/G17 -> 0.097719291 | O17: =J17/G17 -> 0 | Z17: Lundy
A18: Lincoln | B18: 9 | C18: 9 | E18: Lincoln | G18: 883.01945 | H18: 6 | I18: 43 | J18: 0 | K18: =SUM(K554:K562) -> 0 | M18: =H18/G18 -> 0.0067948673 | N18: =I18/G18 -> 0.048696549 | O18: =J18/G18 -> 0 | Z18: Mesquite
A19: Lyon | B19: 10 | C19: 10 | E19: Lyon | G19: 9036.0335 | H19: 485 | I19: 526 | J19: 0 | K19: =SUM(K563:K581) -> 0 | M19: =H19/G19 -> 0.053673993 | N19: =I19/G19 -> 0.058211383 | O19: =J19/G19 -> 0 | Z19: Moapa Valley
A20: Mineral | B20: 11 | C20: 11 | E20: Mineral | G20: 567.43327 | H20: 34 | I20: 52 | J20: 0 | K20: =SUM(K582:K585) -> 0 | M20: =H20/G20 -> 0.05991894 | N20: =I20/G20 -> 0.091640731 | O20: =J20/G20 -> 0 | Z20: Sandy Valley
A21: Nye | B21: 12 | C21: 12 | E21: Nye | G21: 5588.9235 | H21: 324 | I21: 449 | J21: 0 | K21: =SUM(K586:K611) -> 0 | M21: =H21/G21 -> 0.057971808 | N21: =I21/G21 -> 0.080337475 | O21: =J21/G21 -> 0 | Z21: Searchlight
A22: Pershing | B22: 14 | C22: 14 | E22: Pershing | G22: 660.1604 | H22: 23 | I22: 39 | J22: 0 | K22: =SUM(K612:K616) -> 0 | M22: =H22/G22 -> 0.034840018 | N22: =I22/G22 -> 0.059076552 | O22: =J22/G22 -> 0 | Y22: Douglas | Z22: Gardnerville/Minden
A23: Storey | B23: 15 | C23: 15 | E23: Storey | G23: 413.05445 | H23: 1 | I23: 12 | J23: 5 | K23: =SUM(K617:K620) -> 0 | M23: =H23/G23 -> 0.0024209883 | N23: =I23/G23 -> 0.02905186 | O23: =J23/G23 -> 0.012104942 | Z23: Jacobsen
A24: Washoe | B24: 16 | C24: 16 | E24: Washoe | G24: 60547.59 | H24: 6726 | I24: 4912 | J24: 1259 | K24: =SUM(K621:K722) -> 621.88193 | M24: =H24/G24 -> 0.11108617 | N24: =I24/G24 -> 0.081126267 | O24: =J24/G24 -> 0.020793561 | Z24: Zephyr Cove
A25: White Pine | B25: 17 | C25: 17 | E25: White Pine | G25: 1259.3903 | H25: 15 | I25: 109 | J25: 0 | K25: =SUM(K723:K732) -> 0 | M25: =H25/G25 -> 0.011910526 | N25: =I25/G25 -> 0.08654982 | O25: =J25/G25 -> 0 | Y25: Elko | Z25: Carlin
A26: Statewide | B26: 18 | C26: All | E26: Charter Schools (Combined) | G26: =G92 -> 69003.496 | H26: =H92 -> 5510 | I26: =I92 -> 3050 | J26: =J92 -> 1097 | K26: =K92 -> 3491.9765 | M26: =H26/G26 -> 0.079851027 | N26: =I26/G26 -> 0.044200659 | O26: =J26/G26 -> 0.015897745 | Z26: Elko
A27: Washoe | B27: 19 | C27: All | E27: University Schools | G27: =G98 -> 162.04408 | H27: =H98 -> 0 | I27: =I98 -> 0 | J27: =J98 -> 0 | K27: =K98 -> 0 | M27: =H27/G27 -> 0 | N27: =I27/G27 -> 0 | O27: =J27/G27 -> 0 | Z27: Elko
G28: =SUM(G9:G27) -> 471282.97 | H28: =SUM(H9:H27) -> 52678 | I28: =SUM(I9:I27) -> 63325 | J28: =SUM(J9:J27) -> 7434 | K28: =SUM(K9:K27) -> 4300.2357 | M28: =H28/G28 -> 0.11177574 | N28: =I28/G28 -> 0.13436726 | O28: =J28/G28 -> 0.015773963 | Z28: Independence
M29: cross check: SD enrollment | O29: =(G28-G27-G26)-G733 -> 0 | Z29: Jackpot
A30: CHARTER SCHOOL PROJECTED ENROLLMENT SUMMARY | M30: cross check: Charter enrollment | O30: =G26-G92 -> 0 | Z30: Montello
A31: =A8 -> County | B31: =B8 -> District # | C31: =C8 -> DOHQ# | D31: =D8 -> Attendance Area | E31: Charter Name | F31: Address | M31: cross check: DE enrollment | O31: =K26-K92 -> 0 | Z31: Mound Valley
A32: Clark | B32: 2 | C32: 2 | D32: Las Vegas | E32: 100 Academy Of Excellence | F32: 2341 Comstock Dr, North Las Vegas, NV 89032 | G32: 317.31241 | H32: 30 | I32: 161 | J32: 0 | K32: 0 | AA32: Owyhee
A33: Washoe | B33: 16 | C33: 16 | D33: Reno | E33: Academy For Career Education | F33: 2800 Vassar St, Reno, NV 89502 | G33: 233.16667 | H33: 22 | I33: 2 | J33: 0 | K33: 0 | AA33: Ruby Valley
A34: Washoe | B34: 18 | C34: 16 | D34: Reno | E34: Alpine Academy | F34: 605 Boxington Way Ste 112, Sparks, NV 89434 | G34: 147.81508 | H34: 0 | I34: 5 | J34: 0 | K34: 0 | AA34: Spring Creek
A35: Clark | B35: 18 | C35: 2 | D35: Las Vegas | E35: Amplus (Formerly American Preparatory Academy) | F35: 6000 W Oakey Blvd, Las Vegas, NV 89146 | G35: 2267.7087 | H35: 174 | I35: 39 | J35: 40 | K35: 0 | AA35: Wells
A36: Washoe | B36: 16 | C36: 16 | D36: Reno | E36: Bailey Charter School | F36: 210 Gentry Way, Reno, NV 89502 | G36: 175.32944 | H36: 75 | I36: 37 | J36: 0 | K36: 0 | AA36: West Wendover
A37: Clark | B37: 18 | C37: 2 | D37: Las Vegas | E37: Battle Born Academy | G37: 132.1709 | H37: 56 | I37: 0 | J37: 0 | Z37: Esmerelda | AA37: Dyer
A38: Clark | B38: 18 | C38: 2 | D38: Las Vegas | E38: Beacon Academy | F38: 7360 West Flamingo Road Las Vegas, NV 89147 | G38: 601.20871 | H38: 56 | I38: 168 | J38: 0 | K38: 0 | AA38: Goldfield
A39: Clark | B39: 18 | C39: 2 | D39: Las Vegas | E39: Cactus Park | G39: 108.52961 | H39: 22 | I39: 0 | J39: 0 | AA39: Silver Peak
A40: Carson City | B40: 13 | C40: 13 | D40: Carson City | E40: Carson Montessori | F40: 2263 Mouton Dr, Carson City, NV 89706 | G40: 286.27617 | H40: 9 | I40: 3 | J40: 0 | K40: 0 | Z40: Eureka | AA40: Crescent Valley
...

Sheet 1.3 Budgeted Revenues YR1
A1: Nevada Department of Education
A2: =CONCATENATE("Pupil Center Funding Plan | FY",'1.1 Assumption Control YR1'!D5) -> Pupil Center Funding Plan | FY2024
A3: Budgeted Revenue Projections (Year 1) | D3: Yes
D4: No
A5: 2501 | B5: GENERAL FUND APPROPRIATION | C5: =ROUND(F10,2) -> 1137995964 | F5: FY 22 | G5: FY 23 | H5: Biennium total
E6: Total General Fund | F6: =1396939483 -> 1396939483 | G6: 1223780931 | H6: =SUM(F6:G6) -> 2620720414
A7: RGL | B7: Pupil Centered Funding Plan Revenue Sources | C7: Amount | D7: % of Total
A8: 2501 | B8: GENERAL FUND APPROPRIATION | C8: =C5 -> 1137995964 | D8: =C8/$C$35 -> 0.20778021 | F8: FY24 | G8: FY25
A9: 3064 | B9: NET PROCEEDS OF MINERALS (NPM) - STATE | C9: 37525000 | D9: =C9/$C$35 -> 0.0068514763 | F9: 0.5 | G9: 0.5 | H9: =SUM(F9:G9) -> 1
A10: 3074 | B10: GOLD AND SILVER TAX | C10: 65747000 | D10: =C10/$C$35 -> 0.012004371 | F10: =(H6*F9)+2635757-175000000 -> 1137995964 | G10: =(H6*G9)+2635757+175000000 -> 1487995964 | H10: =SUM(F10:G10) -> 2625991928 | X10: =G10-F10 -> 350000000
A11: 3324 | B11: GOVERNMENTAL SERVICES TAX | C11: 130140000 | D11: =C11/$C$35 -> 0.023761522 | E11: Adj Base Per Pupil Funding After Red | F11: ='1.1 Assumption Control YR1'!E56 -> 8966 | G11: ='5.1 Assumption Control YR2'!E56 -> 9414 | H11: =(G11-F11)/G11 -> 0.047588698
A12: 3325 | B12: RECREATIONAL MARIJUANA RETAIL TAX | C12: 76037000 | D12: =C12/$C$35 -> 0.013883163 | O12: NEBS Adjustments | T12: FY2023 | U12: FY 23 to FY 24 Increase/(Decrease)
A13: 3328 | B13: LOCAL SCHOOL SUPPORT TAX | C13: 2347428000 | D13: =C13/$C$35 -> 0.42860353 | S13: =B8 -> GENERAL FUND APPROPRIATION | T13: 1223780931 | U13: =C8-T13 -> -85784967
A14: 3329 | B14: ANNUAL SLOT TAX | C14: 25788000 | D14: =C14/$C$35 -> 0.0047084842 | I14: CY 2020 Collections by Taxation | M14: =A9 -> 3064 | N14: =B9 -> NET PROCEEDS OF MINERALS (NPM) - STATE | O14: =C9 -> 37525000 | P14: 0 | Q14: =O14-P14 -> 37525000 | S14: =B9 -> NET PROCEEDS OF MINERALS (NPM) - STATE | T14: 0 | U14: =C9-T14 -> 37525000
A15: 3335 | B15: ROOM TAX REVENUE | C15: 249739000 | D15: =C15/$C$35 -> 0.045598423 | F15: FY 2023 December 2022 Revised Consensus Forecast | I15: Carson | K15: =J15/$J$32 -> 0 | M15: =A10 -> 3074 | N15: =B10 -> GOLD AND SILVER TAX | O15: =C10 -> 65747000 | P15: 80996000 | Q15: =O15-P15 -> -15249000 | S15: =B10 -> GOLD AND SILVER TAX | T15: 0 | U15: =C10-T15 -> 65747000
A16: 3340 | B16: PROPERTY TAX | C16: 1012450000 | D16: =C16/$C$35 -> 0.18485749 | F16: Net Proceeds of Minerals | I16: Churchill | J16: 361927 | K16: =J16/$J$32 -> 0.013311351 | M16: =A11 -> 3324 | N16: =B11 -> GOVERNMENTAL SERVICES TAX | O16: =C11 -> 130140000 | P16: 111836528 | Q16: =O16-P16 -> 18303472 | S16: =B11 -> GOVERNMENTAL SERVICES TAX | T16: 125635000 | U16: =C11-T16 -> 4505000
A17: 3536 | B17: FEDERAL MINERAL LEASING ACT REVENUE | C17: 7500000 | D17: =C17/$C$35 -> 0.0013693823 | F17: Carson | G17: =$G$34*H17 -> 0 | H17: 0 | I17: Clark | J17: 59211 | K17: =J17/$J$32 -> 0.0021777275 | M17: =A12 -> 3325 | N17: =B12 -> RECREATIONAL MARIJUANA RETAIL TAX | O17: =C12 -> 76037000 | P17: 80621005 | Q17: =O17-P17 -> -4584005 | S17: =B12 -> RECREATIONAL MARIJUANA RETAIL TAX | T17: 94934000 | U17: =C12-T17 -> -18897000
A18: 3736 | B18: GEOTHERMAL TAX | C18: 0 | D18: =C18/$C$35 -> 0 | F18: Churchill | G18: =$G$34*H18 -> 232149.82 | H18: 0.013311343 | I18: Douglas | J18: 0 | K18: =J18/$J$32 -> 0 | M18: =A13 -> 3328 | N18: =B13 -> LOCAL SCHOOL SUPPORT TAX | O18: =C13 -> 2347428000 | P18: 1670352246 | Q18: =O18-P18 -> 677075754 | S18: =B13 -> LOCAL SCHOOL SUPPORT TAX | T18: 1787026000 | U18: =C13-T18 -> 560402000
A19: 3867 | B19: FRANCHISE FEES | C19: 3500000 | D19: =C19/$C$35 -> 0.00063904509 | F19: Clark | G19: =$G$34*H19 -> 37979.738 | H19: 0.0021777373 | I19: Elko | J19: 4200376 | K19: =J19/$J$32 -> 0.15448606 | M19: =A14 -> 3329 | N19: =B14 -> ANNUAL SLOT TAX | O19: =C14 -> 25788000 | P19: 24791641 | Q19: =O19-P19 -> 996359 | S19: =B14 -> ANNUAL SLOT TAX | T19: 25322000 | U19: =C14-T19 -> 466000
A20: 3868 | B20: NET PROCEEDS OF MINERALS (NPM) - (Received in current year for expenditure in future year) | C20: 19602000 | D20: =C20/$C$35 -> 0.0035790177 | F20: Douglas | G20: =$G$34*H20 -> 0 | H20: 0 | I20: Esmeralda | J20: 84858 | K20: =J20/$J$32 -> 0.0031210012 | M20: =A15 -> 3335 | N20: =B15 -> ROOM TAX REVENUE | O20: =C15 -> 249739000 | P20: 149148018 | Q20: =O20-P20 -> 100590982 | S20: =B15 -> ROOM TAX REVENUE | T20: 173735000 | U20: =C15-T20 -> 76004000
A21: 3869 | B21: NET PROCEEDS OF MINERALS (NPM) - (Received in prior year for expenditure in current year) | C21: 0 | D21: =C21/$C$35 -> 0 | F21: Elko | G21: =$G$34*H21 -> 2694237.2 | H21: 0.15448608 | I21: Eureka | J21: 8457316 | K21: =J21/$J$32 -> 0.3110525 | M21: =A16 -> 3340 | N21: =B16 -> PROPERTY TAX | O21: =C16 -> 1012450000 | P21: 758197324 | Q21: =O21-P21 -> 254252676 | S21: =B16 -> PROPERTY TAX | T21: 918578000 | U21: =C16-T21 -> 93872000
A22: 4152 | B22: PROCEEDS FROM SALE OF FORFEITED PROPERTY | C22: 740000 | D22: =C22/$C$35 -> 0.00013511239 | F22: Esmeralda | G22: =$G$34*H22 -> 54430.089 | H22: 0.0031209913 | I22: Humboldt | J22: 5084355 | K22: =J22/$J$32 -> 0.18699802 | M22: =A17 -> 3536 | N22: =B17 -> FEDERAL MINERAL LEASING ACT REVENUE | O22: =C17 -> 7500000 | P22: 5563018 | Q22: =O22-P22 -> 1936982 | S22: =B17 -> FEDERAL MINERAL LEASING ACT REVENUE | T22: 5000000 | U22: =C17-T22 -> 2500000
A23: 4157 | B23: FINES | C23: 50000 | D23: =C23/$C$35 -> 9.1292156e-06 | F23: Eureka | G23: =$G$34*H23 -> 5424755.7 | H23: 0.31105251 | I23: Lander | J23: 6170385 | K23: =J23/$J$32 -> 0.22694123 | M23: =A18 -> 3736 | N23: =B18 -> GEOTHERMAL TAX | O23: =C18 -> 0 | P23: 13141 | Q23: =O23-P23 -> -13141 | S23: =B18 -> GEOTHERMAL TAX | T23: 0 | U23: =C18-T23 -> 0
A24: 4326 | B24: TREASURER'S INTEREST DISTRIBUTION | C24: 18569000 | D24: =C24/$C$35 -> 0.0033904081 | F24: Humboldt | G24: =$G$34*H24 -> 3261245.8 | H24: 0.18699804 | I24: Lincoln | J24: 0 | K24: =J24/$J$32 -> 0 | M24: =A19 -> 3867 | N24: =B19 -> FRANCHISE FEES | O24: =C19 -> 3500000 | P24: 3188560 | Q24: =O24-P24 -> 311440 | S24: =B19 -> FRANCHISE FEES | T24: 3366900 | U24: =C19-T24 -> 133100
A25: 4621 | B25: TRANS FROM UNCLAIMED PROPERTY | C25: 34000 | D25: =C25/$C$35 -> 6.2078666e-06 | F25: Lander | G25: =$G$34*H25 -> 3957854.9 | H25: 0.22694122 | I25: Lyon | J25: 11131 | K25: =J25/$J$32 -> 0.0004093882 | M25: =A20 -> 3868 | N25: =B20 -> NET PROCEEDS OF MINERALS (NPM) - (Received in current year for expenditure in future year) | O25: =C20 -> 19602000 | P25: 0 | Q25: =O25-P25 -> 19602000 | S25: =B20 -> NET PROCEEDS OF MINERALS (NPM) - (Received in current year for expenditure in future year) | T25: 0 | U25: =C20-T25 -> 19602000
A26: 4770 | B26: BOAT REGISTRATION FEES (NRS 488.075) | C26: 900000 | D26: =C26/$C$35 -> 0.00016432588 | F26: Lincoln | G26: =$G$34*H26 -> 0 | H26: 0 | I26: Mineral | J26: 208458 | K26: =J26/$J$32 -> 0.0076668984 | M26: =A21 -> 3869 | N26: =B21 -> NET PROCEEDS OF MINERALS (NPM) - (Received in prior year for expenditure in current year) | O26: =C21 -> 0 | P26: 28936000 | Q26: =O26-P26 -> -28936000 | S26: =B21 -> NET PROCEEDS OF MINERALS (NPM) - (Received in prior year for expenditure in current year) | T26: 28936000 | U26: =C21-T26 -> -28936000
A27: 4771 | B27: TRANSFER FROM CANNABIS COMPLIANCE BOARD | C27: 40504000 | D27: =C27/$C$35 -> 0.007395395 | F27: Lyon | G27: =$G$34*H27 -> 7139.696 | H27: 0.00040938624 | I27: Nye | J27: 1298606 | K27: =J27/$J$32 -> 0.047761565 | M27: =A22 -> 4152 | N27: =B22 -> PROCEEDS FROM SALE OF FORFEITED PROPERTY | O27: =C22 -> 740000 | P27: 106803 | Q27: =O27-P27 -> 633197 | S27: =B22 -> PROCEEDS FROM SALE OF FORFEITED PROPERTY | U27: =C22-T27 -> 740000
A28: 4251 | B28: GIFTS AND DONATIONS OF UNCLAIMED PROPERTY PROCEEDS | C28: 900 | D28: =C28/$C$35 -> 1.6432588e-07 | F28: Mineral | G28: =$G$34*H28 -> 133710.49 | H28: 0.0076668857 | I28: Pershing | J28: 136620 | K28: =J28/$J$32 -> 0.0050247612 | M28: =A23 -> 4157 | N28: =B23 -> FINES | O28: =C23 -> 50000 | P28: 38914 | Q28: =O28-P28 -> 11086 | S28: =B23 -> FINES | U28: =C23-T28 -> 50000
A29: 4869 | B29: TRANSFER FROM PERMANENT FUNDS | C29: 13447000 | D29: =C29/$C$35 -> 0.0024552112 | F29: Nye | G29: =$G$34*H29 -> 832961.94 | H29: 0.047761579 | I29: Storey | J29: 6350 | K29: =J29/$J$32 -> 0.00023354731 | M29: =A24 -> 4326 | N29: =B24 -> TREASURER'S INTEREST DISTRIBUTION | O29: =C24 -> 18569000 | P29: 9205972 | Q29: =O29-P29 -> 9363028 | S29: =B24 -> TREASURER'S INTEREST DISTRIBUTION | T29: 603000 | U29: =C24-T29 -> 17966000
A30: 2511 | B30: BAL FWD FROM PREVIOUS YEAR (PROCEEDS OF MINERALS (NPM) - (Received in prior year for expenditure in current year) | C30: 17440000 | D30: =C30/$C$35 -> 0.0031842704 | F30: Pershing | G30: =$G$34*H30 -> 87631.543 | H30: 0.0050247444 | I30: Washoe | J30: 8509 | K30: =J30/$J$32 -> 0.00031295339 | M30: =A25 -> 4621 | N30: =B25 -> TRANS FROM UNCLAIMED PROPERTY | O30: =C25 -> 34000 | P30: 111501 | Q30: =O30-P30 -> -77501 | S30: =B25 -> TRANS FROM UNCLAIMED PROPERTY | T30: 148000 | U30: =C25-T30 -> -114000
A31: 2511 | B31: BAL FWD FROM PREVIOUS YEAR (Excess Revenue From Education Stabilization Account Above 15%) | C31: 2.9137595e+08 | D31: =C31/$C$35 -> 0.053200677 | F31: Storey | G31: =$G$34*H31 -> 4073.1086 | H31: 0.0002335498 | I31: White Pine | J31: 1101250 | K31: =J31/$J$32 -> 0.040502988 | M31: =A26 -> 4770 | N31: =B26 -> BOAT REGISTRATION FEES (NRS 488.075) | O31: =C26 -> 900000 | P31: 246664 | Q31: =O31-P31 -> 653336 | S31: =B26 -> BOAT REGISTRATION FEES (NRS 488.075) | T31: 729000 | U31: =C26-T31 -> 171000
B32: DEPARTMENT OF AGRICULTURE - AGRICULTURE FINES | C32: 11000 | D32: =C32/$C$35 -> 2.0084274e-06 | F32: Washoe | G32: =$G$34*H32 -> 5458.1373 | H32: 0.00031296659 | J32: =SUM(J15:J31) -> 27189352 | K32: =SUM(K15:K31) -> 1 | M32: =A27 -> 4771 | N32: =B27 -> TRANSFER FROM CANNABIS COMPLIANCE BOARD | O32: =C27 -> 40504000 | P32: 50626795 | Q32: =O32-P32 -> -10122795 | S32: =B27 -> TRANSFER FROM CANNABIS COMPLIANCE BOARD | T32: 63631649 | U32: =C27-T32 -> -23127649
A33: 85 | B33: LESS RESERVE - (NPM RECEIVED IN CURRENT YEAR FOR EXPENDITURE IN FOLLOWING FISCAL YEAR) | C33: =-C20 -> -19602000 | D33: =C33/$C$35 -> -0.0035790177 | F33: White Pine | G33: =$G$34*H33 -> 706371.86 | H33: 0.040502974 | M33: =A29 -> 4869 | N33: =B29 -> TRANSFER FROM PERMANENT FUNDS | O33: =C29 -> 13447000 | P33: 11297403 | Q33: =O33-P33 -> 2149597 | S33: =B29 -> TRANSFER FROM PERMANENT FUNDS | T33: 11577000 | U33: =C29-T33 -> 1870000
B34: FOR NDE USE: DEMONSTRATE IMPACT OF ADDING GENERAL FUND OR OTHER REVENUE | D34: =SUM(D8:D33) -> 1 | E34: =SUM(C9:C29)-'SEF-FY23FY24FY25 Forecast-May23'!H37 -> 0 | F34: Total NPM | G34: 17440000 | H34: =SUM(H17:H33) -> 1 | O34: =C32 -> 11000 | P34: 0 | Q34: =O34-P34 -> 11000 | S34: =B32 -> DEPARTMENT OF AGRICULTURE - AGRICULTURE FINES | U34: =SUM(U13:U33) -> 724693484
B35: Total K-12 Education Revenue Sources to be Distributed Through the Pupil-Centered Funding Plan | C35: =SUM(C8:C34) -> 5.4769218e+09 | G35: =G34-C30 -> 0 | O35: =C33 -> -19602000 | S35: =B33 -> LESS RESERVE - (NPM RECEIVED IN CURRENT YEAR FOR EXPENDITURE IN FOLLOWING FISCAL YEAR)
G36: =G34-SUM(G17:G33) -> 0
C37: =C33 -> -19602000
B38: NEBS Total | C38: =C35-C37 -> 5.4965238e+09
A39: Notes | B39: GFO/LCB Fiscal consensus revenue forecast updated on 5/4/2023

Sheet 1.4 FY 2020 Revenue Received
A1: Nevada Department of Education
A2: =CONCATENATE("Pupil Center Funding Plan | FY",'1.1 Assumption Control YR1'!D5) -> Pupil Center Funding Plan | FY2024
A3: FY 2020 Baseline Revenue Received (All Years)
B4: Updated 5.13.2022
B5: Yes | C5: Original FY 2020 Baseline Revenues Received | H5: Prior Year adjusted Baseline | J5: FY 2020 | S5: FY 2020 Funding Levels
B6: No | C6: *State DSA Basic Support Payments | D6: State Categorical Grant Awards | E6: Local Revenue Received | F6: SFY 2020 Baseline Total Revenue Received | H6: Baseline Amount that Districts and Charter Schools May Not Go Below Unless Revenues Decline | J6: Validated Enrollment | M6: Local Funding in the Special Education Fund in FY 2020 | N6: Total Spec Ed | O6: Fed Funding in Spec Ed | P6: State Funding in Spec Ed | Q6: Opening Balance | S6: New NV Funding Plan | T6: Zoom | U6: Victory | V6: GATE | W6: Transportation | X6: Nutrition | Y6: Special Ed | Z6: FY 2020 Hold Harmless Base Funding | AA6: Total FY 2020 Categorical
A7: School District
B8: ='1.2 Budgeted Enrollment YR1'!E9 -> Carson City | C8: 23163558 | D8: 8067997.7 | E8: =41602579.09+42.03 -> 41602621 | F8: =SUM(C8:E8) -> 72834176 | H8: =ROUND(F8,0) -> 72834176 | J8: 7703.8062 | K8: =H8/J8 -> 9454.3105 | M8: =N8-O8-P8-Q8 -> 7600000 | N8: 13006228 | O8: 0 | P8: 4557321.2 | Q8: 848907 | S8: 1347600 | T8: 766881.57 | U8: 0 | V8: 356707.26 | W8: 2354421 | X8: 529286 | Y8: 7600000 | Z8: =H8-SUM(S8:Y8) -> 59879280 | AA8: =SUM(S8:Y8) -> 12954896
B9: ='1.2 Budgeted Enrollment YR1'!E10 -> Churchill | C9: 13799604 | D9: 2479095 | E9: =13113626.76+553.45 -> 13114180 | F9: =SUM(C9:E9) -> 29392879 | H9: =ROUND(F9,0) -> 29392879 | J9: 3244.6133 | K9: =H9/J9 -> 9058.9774 | M9: =N9-O9-P9-Q9 -> 1875000 | N9: 4785473.3 | O9: 101363.2 | P9: 2695486.1 | Q9: 113624 | S9: 277200 | T9: 167408.02 | U9: 0 | V9: 0 | W9: 1719375.4 | X9: 0 | Y9: 1875000 | Z9: =H9-SUM(S9:Y9) -> 25353896 | AA9: =SUM(S9:Y9) -> 4038983.4
B10: ='1.2 Budgeted Enrollment YR1'!E11 -> Clark | C10: 6.9706731e+08 | D10: 310613563 | E10: =1576378125.14+391078+37424.56 -> 1.5768066e+09 | F10: =SUM(C10:E10) -> 2.5844875e+09 | H10: =ROUND(F10,0) -> 2584487500 | J10: 314756.71 | K10: =H10/J10 -> 8211.0639 | M10: =N10-O10-P10-Q10 -> 3.5261075e+08 | N10: 4.8928622e+08 | O10: 0 | P10: 1.3667547e+08 | Q10: 0 | S10: 55891200 | T10: 37981010 | U10: 19984494 | V10: 5330981.4 | W10: 144286074 | X10: 0 | Y10: 3.5261075e+08 | Z10: =H10-SUM(S10:Y10) -> 1.968403e+09 | AA10: =SUM(S10:Y10) -> 6.1608451e+08
B11: ='1.2 Budgeted Enrollment YR1'!E12 -> Douglas | C11: 11724050 | D11: 3976882.3 | E11: =41044805.39+287.23 -> 41045093 | F11: =SUM(C11:E11) -> 56746025 | H11: =ROUND(F11,0) -> 56746025 | J11: 5629.409 | K11: =H11/J11 -> 10080.281 | M11: =N11-O11-P11-Q11 -> 3811985 | N11: 8515833.8 | O11: 0 | P11: 3846567.8 | Q11: 857281 | S11: 315600 | T11: 216032.76 | U11: 0 | V11: 129711.73 | W11: 3465564.2 | X11: 0 | Y11: 3811985 | Z11: =H11-SUM(S11:Y11) -> 48807131 | AA11: =SUM(S11:Y11) -> 7938893.7
B12: ='1.2 Budgeted Enrollment YR1'!E13 -> Elko | C12: 30944297 | D12: 9534792.8 | E12: =61828665.02+25638+553.45 -> 61854856 | F12: =SUM(C12:E12) -> 1.0233395e+08 | H12: =ROUND(F12,0) -> 102333946 | J12: 9933.4222 | K12: =H12/J12 -> 10301.983 | M12: =N12-O12-P12-Q12 -> 5900591 | N12: 10893479 | O12: 235674 | P12: 4757214.1 | Q12: 0 | S12: 891600 | T12: 694639.1 | U12: 1180226.4 | V12: 129711.73 | W12: 4285094.2 | X12: 347096 | Y12: 5900591 | Z12: =H12-SUM(S12:Y12) -> 88904988 | AA12: =SUM(S12:Y12) -> 13428958
B13: ='1.2 Budgeted Enrollment YR1'!E14 -> Esmeralda | C13: 1232448.6 | D13: 326258.95 | E13: 1061220.1 | F13: =SUM(C13:E13) -> 2619927.7 | H13: =ROUND(F13,0) -> 2619928 | J13: 70.707004 | K13: =H13/J13 -> 37053.302 | M13: =N13-O13-P13-Q13 -> 44620 | N13: 119422.1 | O13: 0 | P13: 56338.1 | Q13: 18464 | S13: 16800 | T13: 9030.31 | U13: 0 | V13: 0 | W13: 328549.58 | X13: 49284 | Y13: 44620 | Z13: =H13-SUM(S13:Y13) -> 2171644.1 | AA13: =SUM(S13:Y13) -> 448283.89
B14: ='1.2 Budgeted Enrollment YR1'!E15 -> Eureka | C14: 0 | D14: 258515.6 | E14: =11785534.3+645 -> 11786179 | F14: =SUM(C14:E14) -> 12044695 | H14: =ROUND(F14,0) -> 12044695 | J14: 306.2 | K14: =H14/J14 -> 39336.039 | M14: =N14-O14-P14-Q14 -> 200000 | N14: 1180484.9 | O14: 0 | P14: 265947.92 | Q14: 714537 | S14: 2400 | T14: 9030.31 | U14: 0 | V14: 0 | W14: 434259 | X14: 399223 | Y14: 200000 | Z14: =H14-SUM(S14:Y14) -> 10999783 | AA14: =SUM(S14:Y14) -> 1044912.3
B15: ='1.2 Budgeted Enrollment YR1'!E16 -> Humboldt | C15: 9181114.8 | D15: 3833355 | E15: 25089021 | F15: =SUM(C15:E15) -> 38103491 | H15: =ROUND(F15,0) -> 38103491 | J15: 3383.7676 | K15: =H15/J15 -> 11260.67 | M15: =N15-O15-P15-Q15 -> 2391487 | N15: 4380732.5 | O15: 48309 | P15: 1940936.4 | Q15: 0 | S15: 493200 | T15: 245207.6 | U15: 118143.48 | V15: 0 | W15: 1619978 | X15: 56472 | Y15: 2391487 | Z15: =H15-SUM(S15:Y15) -> 33179003 | AA15: =SUM(S15:Y15) -> 4924488.1
B16: ='1.2 Budgeted Enrollment YR1'!E17 -> Lander | C16: 0 | D16: 808131 | E16: 11020089 | F16: =SUM(C16:E16) -> 11828220 | H16: =ROUND(F16,0) -> 11828220 | J16: 982.91822 | K16: =H16/J16 -> 12033.778 | M16: =N16-O16-P16-Q16 -> 738065 | N16: 1420791.4 | O16: 0 | P16: 682726.4 | Q16: 0 | S16: 58800 | T16: 47235.46 | U16: 0 | V16: 0 | W16: 582580.2 | X16: 100000 | Y16: 738065 | Z16: =H16-SUM(S16:Y16) -> 10301539 | AA16: =SUM(S16:Y16) -> 1526680.7
B17: ='1.2 Budgeted Enrollment YR1'!E18 -> Lincoln | C17: 9513169.6 | D17: 625488.98 | E17: =2581625.93+1453 -> 2583078.9 | F17: =SUM(C17:E17) -> 12721737 | H17: =ROUND(F17,0) -> 12721737 | J17: 855.15767 | K17: =H17/J17 -> 14876.481 | M17: =N17-O17-P17-Q17 -> 330000 | N17: 1618199.6 | O17: 0 | P17: 1128642.6 | Q17: 159557 | S17: 91200 | T17: 9030.3083 | U17: 0 | V17: 0 | W17: 773153 | X17: 70000 | Y17: 330000 | Z17: =H17-SUM(S17:Y17) -> 11448354 | AA17: =SUM(S17:Y17) -> 1273383.3
B18: ='1.2 Budgeted Enrollment YR1'!E19 -> Lyon | C18: 51994511 | D18: 6738013 | E18: =25619715.89+23883 -> 25643599 | F18: =SUM(C18:E18) -> 84376123 | H18: =ROUND(F18,0) -> 84376123 | J18: 8845.8019 | K18: =H18/J18 -> 9538.55 | M18: =N18-O18-P18-Q18 -> 8240000 | N18: 12444130 | O18: 0 | P18: 4161770.4 | Q18: 42360 | S18: 1347600 | T18: 368158.72 | U18: 0 | V18: 16213.97 | W18: 4568463 | X18: 0 | Y18: 8240000 | Z18: =H18-SUM(S18:Y18) -> 69835687 | AA18: =SUM(S18:Y18) -> 14540436
B19: ='1.2 Budgeted Enrollment YR1'!E20 -> Mineral | C19: 4442494.8 | D19: 929460.39 | E19: 2149304.6 | F19: =SUM(C19:E19) -> 7521259.8 | H19: =ROUND(F19,0) -> 7521260 | J19: 541.8206 | K19: =H19/J19 -> 13881.458 | M19: =N19-O19-P19-Q19 -> 217168.59 | N19: 849544.25 | O19: 0 | P19: 500655.66 | Q19: 131720 | S19: 134400 | T19: 57655.05 | U19: 0 | V19: 0 | W19: 310614.5 | X19: 88000 | Y19: 217168.59 | Z19: =H19-SUM(S19:Y19) -> 6713421.9 | AA19: =SUM(S19:Y19) -> 807838.14
B20: ='1.2 Budgeted Enrollment YR1'!E21 -> Nye | C20: 26567417 | D20: 4905757.9 | E20: 26135526 | F20: =SUM(C20:E20) -> 57608701 | H20: =ROUND(F20,0) -> 57608701 | J20: 5385.5136 | K20: =H20/J20 -> 10696.974 | M20: =N20-O20-P20-Q20 -> 7622343 | N20: 11000387 | O20: 0 | P20: 3378043.5 | Q20: 0 | S20: 1071600 | T20: 331342.85 | U20: 132117.44 | V20: 0 | W20: 3846650 | X20: 0 | Y20: 7622343 | Z20: =H20-SUM(S20:Y20) -> 44604648 | AA20: =SUM(S20:Y20) -> 13004053
B21: ='1.2 Budgeted Enrollment YR1'!E22 -> Pershing | C21: 5035247.7 | D21: 755926 | E21: 3270236 | F21: =SUM(C21:E21) -> 9061409.7 | H21: =ROUND(F21,0) -> 9061410 | J21: 665.11447 | K21: =H21/J21 -> 13623.835 | M21: =N21-O21-P21-Q21 -> 460000 | N21: 1356388.6 | O21: 0 | P21: 887321.67 | Q21: 9066.94 | S21: 118800 | T21: 29869.48 | U21: 0 | V21: 0 | W21: 723395 | X21: 60899 | Y21: 460000 | Z21: =H21-SUM(S21:Y21) -> 7668446.5 | AA21: =SUM(S21:Y21) -> 1392963.5
B22: ='1.2 Budgeted Enrollment YR1'!E23 -> Storey | C22: 0 | D22: 587849.32 | E22: 10795374 | F22: =SUM(C22:E22) -> 11383223 | H22: =ROUND(F22,0) -> 11383223 | J22: 437.81518 | K22: =H22/J22 -> 26000.065 | M22: =N22-O22-P22-Q22 -> 55048 | N22: 512430.77 | O22: 0 | P22: 457382.77 | Q22: 0 | S22: 27600 | T22: 0 | U22: 0 | V22: 0 | W22: 547375 | X22: 23002 | Y22: 55048 | Z22: =H22-SUM(S22:Y22) -> 10730198 | AA22: =SUM(S22:Y22) -> 653025
B23: ='1.2 Budgeted Enrollment YR1'!E24 -> Washoe | C23: 1.3230033e+08 | D23: 57557883 | E23: =343835701.88+182563+10424.44 -> 3.4402869e+08 | F23: =SUM(C23:E23) -> 5.338869e+08 | H23: =ROUND(F23,0) -> 533886901 | J23: 63659.882 | K23: =H23/J23 -> 8386.5518 | M23: =N23-O23-P23-Q23 -> 46056936 | N23: 78631046 | O23: 0 | P23: 32574110 | Q23: 0 | S23: 4376400 | T23: 6917574 | U23: 2957398.1 | V23: 1839858.5 | W23: 24043224 | X23: 0 | Y23: 46056936 | Z23: =H23-SUM(S23:Y23) -> 4.4769551e+08 | AA23: =SUM(S23:Y23) -> 86191390
B24: ='1.2 Budgeted Enrollment YR1'!E25 -> White Pine | C24: 5674979.1 | D24: 1389507 | E24: 8166087.3 | F24: =SUM(C24:E24) -> 15230573 | H24: =ROUND(F24,0) -> 15230573 | J24: 1248.6202 | K24: =H24/J24 -> 12197.923 | M24: =N24-O24-P24-Q24 -> 520823.63 | N24: 1750699.7 | O24: 0 | P24: 1194585.1 | Q24: 35291 | S24: 258000 | T24: 23617.73 | U24: 0 | V24: 0 | W24: 1054977 | X24: 89088.22 | Y24: 520823.63 | Z24: =H24-SUM(S24:Y24) -> 13284066 | AA24: =SUM(S24:Y24) -> 1946506.6
B25: ='1.2 Budgeted Enrollment YR1'!E26 -> Charter Schools (Combined) | C25: =C90 -> 4.194844e+08 | D25: =D90 -> 14322124 | E25: =E90 -> 0 | F25: =SUM(C25:E25) -> 4.3380653e+08 | H25: =ROUND(F25,0) -> 433806526 | J25: =J90 -> 57012.474 | K25: =H25/J25 -> 7608.9756 | M25: =N25-O25-P25-Q25 -> 6459882.3 | N25: =N90 -> 19726472 | O25: =O90 -> 0 | P25: =P90 -> 13241555 | Q25: =Q90 -> 25034 | S25: =S90 -> 3217200 | T25: =T90 -> 2076276.3 | U25: =U90 -> 627557.84 | V25: =V90 -> 471058.39 | W25: 0 | X25: 0 | Y25: 6459882.3 | Z25: =H25-SUM(S25:Y25) -> 4.2095455e+08 | AA25: =SUM(S25:Y25) -> 12851975
B26: ='1.2 Budgeted Enrollment YR1'!E27 -> University Schools | C26: =C95 -> 1160008.2 | D26: =D95 -> 1398.37 | E26: =E95 -> 0 | F26: =SUM(C26:E26) -> 1161406.6 | H26: =ROUND(F26,0) -> 1161407 | J26: =J95 -> 143.64573 | K26: =H26/J26 -> 8085.2179 | M26: =N26-O26-P26-Q26 -> 0 | N26: =N89 -> 0 | O26: =O89 -> 0 | P26: =P89 -> 0 | Q26: =Q89 -> 0 | S26: =S95 -> 0 | T26: =T95 -> 0 | U26: =U95 -> 0 | V26: =V95 -> 0 | W26: =W95 -> 0 | X26: =X95 -> 0 | Y26: =Y95 -> 0 | Z26: =H26-SUM(S26:Y26) -> 1161407 | AA26: =SUM(S26:Y26) -> 0
B27: Total | C27: =SUM(C8:C26) -> 1.4432849e+09 | D27: =SUM(D8:D26) -> 4.27712e+08 | E27: =SUM(E8:E26) -> 2.2061518e+09 | F27: =SUM(F8:F26) -> 4.0771487e+09 | H27: =ROUND(SUM(H8:H26),0) -> 4077148721 | J27: =SUM(J8:J26) -> 484807.4 | M27: =SUM(M8:M25) -> 4.451347e+08 | N27: =SUM(N8:N25) -> 6.6147797e+08 | O27: =SUM(O8:O25) -> 385346.2 | P27: =SUM(P8:P25) -> 2.1300208e+08 | Q27: =SUM(Q8:Q25) -> 2955841.9 | S27: =SUM(S8:S26) -> 69937200 | T27: =SUM(T8:T26) -> 49950000 | U27: =SUM(U8:U26) -> 24999937 | V27: =SUM(V8:V26) -> 8274243 | W27: =SUM(W8:W26) -> 1.9494375e+08 | X27: =SUM(X8:X26) -> 1812350.2 | Y27: =SUM(Y8:Y26) -> 4.451347e+08 | Z27: =SUM(Z8:Z26) -> 3.2820965e+09 | AA27: =SUM(AA8:AA26) -> 7.9505218e+08
A29: Charter Schools
B30: ='1.2 Budgeted Enrollment YR1'!E32 -> 100 Academy Of Excellence | C30: 3526521.8 | D30: 0 | E30: 0 | F30: =SUM(C30:E30) -> 3526521.8 | H30: =F30 -> 3526521.8 | J30: 480.71397 | M30: =N30-O30-P30-Q30 -> 130870 | N30: 130870 | O30: 0 | P30: 0 | Q30: 0 | Y30: 130870 | Z30: =H30-SUM(S30:Y30) -> 3395651.8
B31: ='1.2 Budgeted Enrollment YR1'!E33 -> Academy For Career Education | C31: 1427555.6 | D31: 0 | E31: 0 | F31: =SUM(C31:E31) -> 1427555.6 | H31: =F31 -> 1427555.6 | J31: 190.83798 | M31: =N31-O31-P31-Q31 -> 95859 | N31: 95859 | O31: 0 | P31: 0 | Q31: 0 | Y31: 95859 | Z31: =H31-SUM(S31:Y31) -> 1331696.6
B32: ='1.2 Budgeted Enrollment YR1'!E34 -> Alpine Academy | C32: 811375.39 | D32: 135507.74 | E32: 0 | F32: =SUM(C32:E32) -> 946883.13 | H32: =F32 -> 946883.13 | J32: 103.98956 | M32: =N32-O32-P32-Q32 -> 0 | N32: 121015.27 | O32: 0 | P32: 121015.27 | Q32: 0 | Y32: 0 | Z32: =H32-SUM(S32:Y32) -> 946883.13
B33: ='1.2 Budgeted Enrollment YR1'!E35 -> Amplus (Formerly American Preparatory Academy) | C33: 11594140 | D33: 219852.96 | E33: 0 | F33: =SUM(C33:E33) -> 11813993 | H33: =F33 -> 11813993 | J33: 1600.97 | M33: =N33-O33-P33-Q33 -> 0 | N33: 293894.24 | O33: 0 | P33: 293894.24 | Q33: 0 | Y33: 0 | Z33: =H33-SUM(S33:Y33) -> 11813993
B34: ='1.2 Budgeted Enrollment YR1'!E36 -> Bailey Charter School | C34: 1985978.5 | D34: 0 | E34: 0 | F34: =SUM(C34:E34) -> 1985978.5 | H34: =F34 -> 1985978.5 | J34: 265.87595 | M34: =N34-O34-P34-Q34 -> 68241 | N34: 68241 | O34: 0 | P34: 0 | Q34: 0 | Y34: 68241 | Z34: =H34-SUM(S34:Y34) -> 1917737.5
B35: ='1.2 Budgeted Enrollment YR1'!E37 -> Battle Born Academy | AA35: Opened after FY 2020
B36: ='1.2 Budgeted Enrollment YR1'!E38 -> Beacon Academy | C36: 2804179.8 | D36: 362605.73 | E36: 0 | F36: =SUM(C36:E36) -> 3166785.6 | H36: =F36 -> 3166785.6 | J36: 371.1025 | M36: =N36-O36-P36-Q36 -> 11926.44 | N36: 288532.78 | O36: 0 | P36: 276606.34 | Q36: 0 | S36: 138000 | T36: 69319.098 | Y36: 11926.44 | Z36: =H36-SUM(S36:Y36) -> 2947540
B37: ='1.2 Budgeted Enrollment YR1'!E39 -> Cactus Park | AA37: Opened after FY 2020
B38: ='1.2 Budgeted Enrollment YR1'!E40 -> Carson Montessori | C38: 2359224.2 | D38: 0 | E38: 0 | F38: =SUM(C38:E38) -> 2359224.2 | H38: =F38 -> 2359224.2 | J38: 278.55616 | M38: =N38-O38-P38-Q38 -> 118188 | N38: 118188 | O38: 0 | P38: 0 | Q38: 0 | Y38: 118188 | Z38: =H38-SUM(S38:Y38) -> 2241036.2
B39: ='1.2 Budgeted Enrollment YR1'!E41 -> CIVICA Nevada Career & Collegiate Academy | C39: 0 | D39: 0 | E39: 0 | F39: =SUM(C39:E39) -> 0 | H39: =F39 -> 0 | J39: 0 | M39: =N39-O39-P39-Q39 -> 0 | Y39: 0 | Z39: =H39-SUM(S39:Y39) -> 0 | AA39: Opened after FY 2020
B40: ='1.2 Budgeted Enrollment YR1'!E42 -> Coral Academy of Science Las Vegas | C40: 27034848 | D40: 558411.72 | E40: 0 | F40: =SUM(C40:E40) -> 27593259 | H40: =F40 -> 27593259 | J40: 3731.6205 | M40: =N40-O40-P40-Q40 -> 626261 | N40: 1290116.2 | O40: 0 | P40: 663855.22 | Q40: 0 | S40: 24000 | Y40: 626261 | Z40: =H40-SUM(S40:Y40) -> 26942998
B41: ='1.2 Budgeted Enrollment YR1'!E43 -> Coral Academy Washoe | C41: 10660287 | D41: 289969.99 | E41: 0 | F41: =SUM(C41:E41) -> 10950257 | H41: =F41 -> 10950257 | J41: 1424.9016 | M41: =N41-O41-P41-Q41 -> 230063.83 | N41: 230063.83 | O41: 0 | P41: 0 | Q41: 0 | Y41: 230063.83 | Z41: =H41-SUM(S41:Y41) -> 10720193
...

Sheet 2.1 Auxiliary Services YR1
A1: Nevada Department of Education
A2: =CONCATENATE("Pupil Center Funding Plan | FY",'1.1 Assumption Control YR1'!D5) -> Pupil Center Funding Plan | FY2024
A3: Auxiliary Services Calculations (Transportation and Food Service) (Year 1)
F4: Include Inflation for | H4: Include Inflation for
C5: Available | D5: Allocated | E5: Remaining | F5: Base Transportation? | H5: Food Services?
B6: PCFM Resources: | C6: ='1.3 Budgeted Revenues YR1'!C35 -> 5.4769218e+09 | D6: =I31 -> 1.9525548e+08 | E6: =C6-D6 -> 5.2816663e+09 | F6: No | H6: No | I6: Yes
F7: ='1.1 Assumption Control YR1'!E25 -> 0.045216083 | H7: =F7 -> 0.045216083 | I7: No
B8: Updated 5.13.2022 | C8: District Enrollment | D8: Transportation | G8: Food Services | I8: Total Auxiliary Services
D9: Prior Year Actual | E9: Inflation Adjustment | F9: Special Transport | G9: Prior Year Actual | H9: Inflation Adjustment | I9: Combined Total | J9: Per Pupil | L9: PCFP does not allocate Auxiliary Services on a per pupil basis.
B10: Calculation or Source of Data | C10: Tab 1.2 | D10: 4 year Average | E10: = D x Cell F7 | G10: 4 Year Average | H10: = G x Cell H7 | I10: = D + E + F | J10: = H / C | L10: Per pupil funding amount provided as FYI only.
A11: School District
B12: ='1.2 Budgeted Enrollment YR1'!E9 -> Carson City | C12: ='1.2 Budgeted Enrollment YR1'!G9 -> 7200.2985 | D12: =G40 -> 2586477.4 | E12: =IF($F$6="Yes",(D12*$F$7),0) -> 0 | G12: =G61 -> 416802.75 | H12: =IF($H$6="Yes",(G12*$H$7),0) -> 0 | I12: =SUM(D12:E12)+F12+SUM(G12:H12) -> 3003280.1 | J12: =IF(C12=0,0,I12/C12) -> 417.10495
B13: ='1.2 Budgeted Enrollment YR1'!E10 -> Churchill | C13: ='1.2 Budgeted Enrollment YR1'!G10 -> 3191.1266 | D13: =G41 -> 1654639.5 | E13: =IF($F$6="Yes",(D13*$F$7),0) -> 0 | G13: =G62 -> 12500.122 | H13: =IF($H$6="Yes",(G13*$H$7),0) -> 0 | I13: =SUM(D13:E13)+F13+SUM(G13:H13) -> 1667139.6 | J13: =IF(C13=0,0,I13/C13) -> 522.42979
B14: ='1.2 Budgeted Enrollment YR1'!E11 -> Clark | C14: ='1.2 Budgeted Enrollment YR1'!G11 -> 293209.81 | D14: =G42 -> 1.4091185e+08 | E14: =IF($F$6="Yes",(D14*$F$7),0) -> 0 | G14: =G63 -> 0 | H14: =IF($H$6="Yes",(G14*$H$7),0) -> 0 | I14: =SUM(D14:E14)+F14+SUM(G14:H14) -> 1.4091185e+08 | J14: =IF(C14=0,0,I14/C14) -> 480.58367
B15: ='1.2 Budgeted Enrollment YR1'!E12 -> Douglas | C15: ='1.2 Budgeted Enrollment YR1'!G12 -> 5165.4764 | D15: =G43 -> 3889783.5 | E15: =IF($F$6="Yes",(D15*$F$7),0) -> 0 | G15: =G64 -> 0 | H15: =IF($H$6="Yes",(G15*$H$7),0) -> 0 | I15: =SUM(D15:E15)+F15+SUM(G15:H15) -> 3889783.5 | J15: =IF(C15=0,0,I15/C15) -> 753.03482
B16: ='1.2 Budgeted Enrollment YR1'!E13 -> Elko | C16: ='1.2 Budgeted Enrollment YR1'!G13 -> 9808.5958 | D16: =G44 -> 4707742.3 | E16: =IF($F$6="Yes",(D16*$F$7),0) -> 0 | G16: =G65 -> 384179.53 | H16: =IF($H$6="Yes",(G16*$H$7),0) -> 0 | I16: =SUM(D16:E16)+F16+SUM(G16:H16) -> 5091921.8 | J16: =IF(C16=0,0,I16/C16) -> 519.12852
B17: ='1.2 Budgeted Enrollment YR1'!E14 -> Esmeralda | C17: ='1.2 Budgeted Enrollment YR1'!G14 -> 77.315222 | D17: =G45 -> 362615.88 | E17: =IF($F$6="Yes",(D17*$F$7),0) -> 0 | G17: =G66 -> 60581.75 | H17: =IF($H$6="Yes",(G17*$H$7),0) -> 0 | I17: =SUM(D17:E17)+F17+SUM(G17:H17) -> 423197.63 | J17: =IF(C17=0,0,I17/C17) -> 5473.6651
B18: ='1.2 Budgeted Enrollment YR1'!E15 -> Eureka | C18: ='1.2 Budgeted Enrollment YR1'!G15 -> 323.70253 | D18: =G46 -> 748499.52 | E18: =IF($F$6="Yes",(D18*$F$7),0) -> 0 | G18: =G67 -> 253810.09 | H18: =IF($H$6="Yes",(G18*$H$7),0) -> 0 | I18: =SUM(D18:E18)+F18+SUM(G18:H18) -> 1002309.6 | J18: =IF(C18=0,0,I18/C18) -> 3096.391
B19: ='1.2 Budgeted Enrollment YR1'!E16 -> Humboldt | C19: ='1.2 Budgeted Enrollment YR1'!G16 -> 3182.6226 | D19: =G47 -> 2017965.7 | E19: =IF($F$6="Yes",(D19*$F$7),0) -> 0 | G19: =G68 -> 19090.5 | H19: =IF($H$6="Yes",(G19*$H$7),0) -> 0 | I19: =SUM(D19:E19)+F19+SUM(G19:H19) -> 2037056.2 | J19: =IF(C19=0,0,I19/C19) -> 640.05586
B20: ='1.2 Budgeted Enrollment YR1'!E17 -> Lander | C20: ='1.2 Budgeted Enrollment YR1'!G17 -> 1002.8726 | D20: =G48 -> 413952.86 | E20: =IF($F$6="Yes",(D20*$F$7),0) -> 0 | G20: =G69 -> 25000 | H20: =IF($H$6="Yes",(G20*$H$7),0) -> 0 | I20: =SUM(D20:E20)+F20+SUM(G20:H20) -> 438952.86 | J20: =IF(C20=0,0,I20/C20) -> 437.69553
B21: ='1.2 Budgeted Enrollment YR1'!E18 -> Lincoln | C21: ='1.2 Budgeted Enrollment YR1'!G18 -> 883.01945 | D21: =G49 -> 623019.91 | E21: =IF($F$6="Yes",(D21*$F$7),0) -> 0 | G21: =G70 -> 60319.5 | H21: =IF($H$6="Yes",(G21*$H$7),0) -> 0 | I21: =SUM(D21:E21)+F21+SUM(G21:H21) -> 683339.41 | J21: =IF(C21=0,0,I21/C21) -> 773.86677
B22: ='1.2 Budgeted Enrollment YR1'!E19 -> Lyon | C22: ='1.2 Budgeted Enrollment YR1'!G19 -> 9036.0335 | D22: =G50 -> 5015867.7 | E22: =IF($F$6="Yes",(D22*$F$7),0) -> 0 | G22: =G71 -> 0 | H22: =IF($H$6="Yes",(G22*$H$7),0) -> 0 | I22: =SUM(D22:E22)+F22+SUM(G22:H22) -> 5015867.7 | J22: =IF(C22=0,0,I22/C22) -> 555.09618
B23: ='1.2 Budgeted Enrollment YR1'!E20 -> Mineral | C23: ='1.2 Budgeted Enrollment YR1'!G20 -> 567.43327 | D23: =G51 -> 316048.27 | E23: =IF($F$6="Yes",(D23*$F$7),0) -> 0 | G23: =G72 -> 159025 | H23: =IF($H$6="Yes",(G23*$H$7),0) -> 0 | I23: =SUM(D23:E23)+F23+SUM(G23:H23) -> 475073.27 | J23: =IF(C23=0,0,I23/C23) -> 837.23196
... B28: ='1.2 Budgeted Enrollment YR1'!E25 -> White Pine | C28: ='1.2 Budgeted Enrollment YR1'!G25 -> 1259.3903 | D28: =G56 -> 1218748 | E28: =IF($F$6="Yes",(D28*$F$7),0) -> 0 | G28: =G77 -> 48795.178 | H28: =IF($H$6="Yes",(G28*$H$7),0) -> 0 | I28: =SUM(D28:E28)+F28+SUM(G28:H28) -> 1267543.2 | J28: =IF(C28=0,0,I28/C28) -> 1006.4737
B29: ='1.2 Budgeted Enrollment YR1'!E26 -> Charter Schools (Combined) | C29: 0 | D29: 0 | E29: =IF($F$6="Yes",(D29*$F$7),0) -> 0 | G29: 0 | H29: =IF($H$6="Yes",(G29*$H$7),0) -> 0 | I29: =SUM(D29:E29)+F29+SUM(G29:H29) -> 0 | J29: =IF(C29=0,0,I29/C29) -> 0
B30: ='1.2 Budgeted Enrollment YR1'!E27 -> University Schools | C30: 0 | D30: 0 | E30: =IF($F$6="Yes",(D30*$F$7),0) -> 0 | G30: 0 | H30: =IF($H$6="Yes",(G30*$H$7),0) -> 0 | I30: =SUM(D30:E30)+F30+SUM(G30:H30) -> 0 | J30: =IF(C30=0,0,I30/C30) -> 0
B31: Total School Districts | C31: =SUM(C12:C30) -> 402117.43 | D31: =SUM(D12:D30) -> 1.9376783e+08 | E31: =SUM(E12:E30) -> 0 | F31: =SUM(F12:F30) -> 0 | G31: =SUM(G12:G30) -> 1487652.7 | H31: =SUM(H12:H30) -> 0 | I31: =SUM(I12:I30) -> 1.9525548e+08 | J31: =I31/C31 -> 485.56831
D32: =D31-G57 -> 0 | G32: =G31-G78 -> 0
B33: Data Source: FY 2019; FY 2020, FY 2021 and FY 2022 - 387 reports
B34: Amounts are not adjusted for inflation or enrollment growth
B37: for NDE purposes only; not part of the PCFP model
B38: Transportation Four Year Average: | C38: 2019 | D38: 2020 | E38: 2021 | F38: 2022 | G38: Average for
B39: Data Source: | C39: 2019 NRS 387 Report | D39: 2020 NRS 387 Report | E39: 2021 NRS 387 Report | F39: 2022 NRS 387 Report | G39: 24 and 25
B40: Carson | C40: 2591616.8 | D40: 2354421 | E40: 2176089 | F40: 3223782.8 | G40: =SUM(C40:F40)/4 -> 2586477.4
B41: Churchill | C41: 1954425.5 | D41: 1719375.5 | E41: 1423239.5 | F41: 1521517.5 | G41: =SUM(C41:F41)/4 -> 1654639.5
B42: Clark | C42: 1.6060617e+08 | D42: 144286074 | E42: 1.3306263e+08 | F42: 1.2569251e+08 | G42: =SUM(C42:F42)/4 -> 1.4091185e+08
B43: Douglas | C43: 3931543 | D43: 3465564.2 | E43: 3955235 | F43: 4206792 | G43: =SUM(C43:F43)/4 -> 3889783.5
B44: Elko | C44: 4886649 | D44: 4285094.2 | E44: 4009665.7 | F44: 5649560.1 | G44: =SUM(C44:F44)/4 -> 4707742.3
B45: Esmeralda | C45: 324260 | D45: 328549.58 | E45: 462905.84 | F45: 334748.11 | G45: =SUM(C45:F45)/4 -> 362615.88
B46: Eureka | C46: 537295 | D46: 434259 | E46: 1026559.4 | F46: 995884.64 | G46: =SUM(C46:F46)/4 -> 748499.52
...

Sheet 2.2 Spec Ed Local YR1
A1: Nevada Department of Education
A2: =CONCATENATE("Pupil Center Funding Plan | FY",'1.1 Assumption Control YR1'!D5) -> Pupil Center Funding Plan | FY2024
A3: Local Special Education Funding Calculations (Year 1)
C5: Available | D5: Allocated | E5: Remaining
B6: PCFM Resources: | C6: ='2.1 Auxiliary Services YR1'!E6 -> 5.2816663e+09 | D6: =J28 -> 4.853467e+08 | E6: =C6-D6 -> 4.7963196e+09
